Workbook

Sheet S1 MSAC
A1: Supplementary table 1: S1- Calculated monosaccharide average compositions (MSAC) per technical (1 or 2) or biological replicate (A, B or C).
A2: The MSAC represents the normalized number of sugar residues and modifications per glycan molecule (hexose, N-acetylhexosamine, sialylation, sulphation, fucosylation). The intensities of corresponding structures were multiplied by the monosaccharide compositions and summed over the entire sample. N: N-acetylhexosamine, H: hexose, F: fucose, S: N-acetylneuraminic acid, Su: sulphate residue
A3: Sample | B3: H | C3: N | D3: F | E3: S | F3: Su
A4: C10_1 | B4: 3.01 | C4: 3.03 | D4: 0.09 | E4: 1.12 | F4: 0.0209
A5: C10_2 | B5: 2.803 | C5: 2.83 | D5: 0.085 | E5: 1.006 | F5: 0.0186834
A6: CaCo2_1 | B6: 1.89 | C6: 2.16 | D6: 0.62 | E6: 1 | F6: 0
A7: CaCo2_2 | B7: 1.881 | C7: 2.164 | D7: 0.63 | E7: 0.938 | F7: 0
A8: Co115_1 | B8: 1.85 | C8: 1.86 | D8: 0 | E8: 1.83 | F8: 0.03
A9: Co115_2 | B9: 1.791 | C9: 1.806 | D9: 0 | E9: 1.8691 | F9: 0.025
A10: Colo205Vu_1 | B10: 1.61 | C10: 1.61 | D10: 0.03 | E10: 1.9 | F10: 0
A11: Colo205Vu_2 | B11: 1.43 | C11: 1.43 | D11: 0.02 | E11: 1.9 | F11: 0
A12: Colo320Vu_1 | B12: 1 | C12: 1 | D12: 0 | E12: 1.90925 | F12: 0
A13: Colo320Vu_2 | B13: 1 | C13: 1 | D13: 0 | E13: 1.90464 | F13: 0
A14: DLD1_1 | B14: 2.29 | C14: 2.33 | D14: 0 | E14: 1.69 | F14: 0.107
A15: DLD1_2 | B15: 2.299 | C15: 2.349 | D15: 0 | E15: 1.66 | F15: 0.1346
... A69: Fetuin_02 | B69: 1.1726724 | C69: 1.1726724 | D69: 0 | E69: 1.6181225 | F69: 0

Sheet S2 Fetuin_standard
A1: Supplementary table 1: S2 - O-linked glycans present in fetuin standard, retention times (min), peak areas, relative abundances with standard deviation and relative standard deviation (CV), and calculations of monosaccharide average compositions for each technical (1-3) replicate.
P3: Replicate 1 | Y3: Replicate 2 | AH3: Replicate 3
A4: [M-H]- | B4: Δ[M-H]- | C4: [M-2H]2- | D4: Δ[M-2H]2- | E4: [M-3H]3- | F4: Δ[M-3H]3- | G4: H | H4: N | I4: F | J4: S | K4: Su | L4: [M-H]-th. | M4: [M-2H]2- th. | N4: [M-3H]3- th. | O4: Composition | P4: RT(min) | Q4: Peak area | R4: S/N | S4: Rel.peak area(%) 1 | T4: H | U4: N | V4: F | W4: S | X4: Su | Y4: RT(min) | Z4: Peak area | AA4: S/N | AB4: Rel.peak area(%) 1 | AC4: H | AD4: N | AE4: F | AF4: S | AG4: Su | AH4: RT(min) | AI4: Peak area | AJ4: S/N | AK4: Rel.peak area(%) 1 | AL4: H | AM4: N | AN4: F | AO4: S | AP4: Su | AQ4: RT avg (min) | AR4: Rel.peak area avg. (%) | AS4: SD | AT4: CV
A5: 675.26 | B5: =IF(A5, A5-L5,"") -> 0.01347 | D5: =IF(C5, C5-M5,"") | F5: =IF(E5, E5-N5,"") | G5: 1 | H5: 1 | J5: 1 | L5: 675.24653 | M5: 337.11963 | N5: 224.41066 | O5: H1N1S1 | P5: 23 | Q5: 7440599552 | R5: 5922.5 | S5: ='S2 Fetuin_standard'!$Q5/'S2 Fetuin_standard'!$Q$8*100 -> 45.690442 | T5: =$S5*G5 -> 45.690442 | U5: =$S5*H5 -> 45.690442 | V5: =$S5*I5 -> 0 | W5: =$S5*J5 -> 45.690442 | X5: =$S5*K5 -> 0 | Y5: 23.8 | Z5: 28539244544 | AA5: 533.5 | AB5: ='S2 Fetuin_standard'!$Z5/'S2 Fetuin_standard'!$Z$8*100 -> 46.740914 | AC5: =$AB5*G5 -> 46.740914 | AD5: =$AB5*H5 -> 46.740914 | AE5: =$AB5*I5 -> 0 | AF5: =$AB5*J5 -> 46.740914 | AG5: =$AB5*K5 -> 0 | AH5: 23.1 | AI5: 1797697024 | AJ5: 3983.8 | AK5: ='S2 Fetuin_standard'!$AI5/'S2 Fetuin_standard'!$AI$8*100 -> 38.18775 | AL5: =$AK5*G5 -> 38.18775 | AM5: =$AK5*H5 -> 38.18775 | AN5: =$AK5*I5 -> 0 | AO5: =$AK5*J5 -> 38.18775 | AP5: =$AK5*K5 -> 0 | AQ5: =AVERAGE('S2 Fetuin_standard'!$P5,'S2 Fetuin_standard'!$Y5) -> 23.4 | AR5: =AVERAGE('S2 Fetuin_standard'!$S5,'S2 Fetuin_standard'!$AB5,'S2 Fetuin_standard'!$AK5) -> 43.539702 | AS5: =STDEV('S2 Fetuin_standard'!$S5,'S2 Fetuin_standard'!$AB5,'S2 Fetuin_standard'!$AK5) -> 4.6645915 | AT5: ='S2 Fetuin_standard'!$AS5/'S2 Fetuin_standard'!$AR5*100 -> 10.713421
A6: 966.35 | B6: =IF(A6, A6-L6,"") -> 0.00807 | C6: 482.7 | D6: =IF(C6, C6-M6,"") -> 0.03267 | F6: =IF(E6, E6-N6,"") | G6: 1 | H6: 1 | J6: 2 | L6: 966.34193 | M6: 482.66733 | N6: 321.44246 | O6: H1N1S2 | P6: 27.5 | Q6: 6095092224 | R6: 5322.1 | S6: ='S2 Fetuin_standard'!$Q6/'S2 Fetuin_standard'!$Q$8*100 -> 37.428094 | T6: =$S6*G6 -> 37.428094 | U6: =$S6*H6 -> 37.428094 | V6: =$S6*I6 -> 0 | W6: =$S6*J6 -> 74.856188 | X6: =$S6*K6 -> 0 | Y6: 28.8 | Z6: 23521222656 | AA6: 607.8 | AB6: ='S2 Fetuin_standard'!$Z6/'S2 Fetuin_standard'!$Z$8*100 -> 38.522514 | AC6: =$AB6*G6 -> 38.522514 | AD6: =$AB6*H6 -> 38.522514 | AE6: =$AB6*I6 -> 0 | AF6: =$AB6*J6 -> 77.045027 | AG6: =$AB6*K6 -> 0 | AH6: 27.8 | AI6: 2096966656 | AJ6: 4317.7 | AK6: ='S2 Fetuin_standard'!$AI6/'S2 Fetuin_standard'!$AI$8*100 -> 44.545014 | AL6: =$AK6*G6 -> 44.545014 | AM6: =$AK6*H6 -> 44.545014 | AN6: =$AK6*I6 -> 0 | AO6: =$AK6*J6 -> 89.090027 | AP6: =$AK6*K6 -> 0 | AQ6: =AVERAGE('S2 Fetuin_standard'!$P6,'S2 Fetuin_standard'!$Y6) -> 28.15 | AR6: =AVERAGE('S2 Fetuin_standard'!$S6,'S2 Fetuin_standard'!$AB6,'S2 Fetuin_standard'!$AK6) -> 40.165207 | AS6: =STDEV('S2 Fetuin_standard'!$S6,'S2 Fetuin_standard'!$AB6,'S2 Fetuin_standard'!$AK6) -> 3.8322929 | AT6: ='S2 Fetuin_standard'!$AS6/'S2 Fetuin_standard'!$AR6*100 -> 9.5413249
A7: 1331.43 | B7: =IF(A7, A7-L7,"") -> -0.04413 | C7: 665.25 | D7: =IF(C7, C7-M7,"") -> 0.01657 | F7: =IF(E7, E7-N7,"") | G7: 2 | H7: 2 | J7: 2 | L7: 1331.4741 | M7: 665.23343 | N7: 443.1532 | O7: H2N2S2 | P7: 57.2 | Q7: 2749113600 | R7: 4277.2 | S7: ='S2 Fetuin_standard'!$Q7/'S2 Fetuin_standard'!$Q$8*100 -> 16.881464 | T7: =$S7*G7 -> 33.762929 | U7: =$S7*H7 -> 33.762929 | V7: =$S7*I7 -> 0 | W7: =$S7*J7 -> 33.762929 | X7: =$S7*K7 -> 0 | Y7: 58.7 | Z7: 8997912576 | AA7: 553.2 | AB7: ='S2 Fetuin_standard'!$Z7/'S2 Fetuin_standard'!$Z$8*100 -> 14.736573 | AC7: =$AB7*G7 -> 29.473146 | AD7: =$AB7*H7 -> 29.473146 | AE7: =$AB7*I7 -> 0 | AF7: =$AB7*J7 -> 29.473146 | AG7: =$AB7*K7 -> 0 | AH7: 57.4 | AI7: 812859072 | AJ7: 2526 | AK7: ='S2 Fetuin_standard'!$AI7/'S2 Fetuin_standard'!$AI$8*100 -> 17.267236 | AL7: =$AK7*G7 -> 34.534472 | AM7: =$AK7*H7 -> 34.534472 | AN7: =$AK7*I7 -> 0 | AO7: =$AK7*J7 -> 34.534472 | AP7: =$AK7*K7 -> 0 | AQ7: =AVERAGE('S2 Fetuin_standard'!$P7,'S2 Fetuin_standard'!$Y7) -> 57.95 | AR7: =AVERAGE('S2 Fetuin_standard'!$S7,'S2 Fetuin_standard'!$AB7,'S2 Fetuin_standard'!$AK7) -> 16.295091 | AS7: =STDEV('S2 Fetuin_standard'!$S7,'S2 Fetuin_standard'!$AB7,'S2 Fetuin_standard'!$AK7) -> 1.3634293 | AT7: ='S2 Fetuin_standard'!$AS7/'S2 Fetuin_standard'!$AR7*100 -> 8.3671168
Q8: =SUM(Q5:Q7) -> 16284805376 | S8: =SUM(S5:S7) -> 100 | T8: =SUM(T5:T7)/100 -> 1.1688146 | U8: =SUM(U5:U7)/100 -> 1.1688146 | V8: =SUM(V5:V7)/100 -> 0 | W8: =SUM(W5:W7)/100 -> 1.5430956 | X8: =SUM(X5:X7)/100 -> 0 | Z8: =SUM(Z5:Z7) -> 61058379776 | AB8: =SUM(AB5:AB7) -> 100 | AC8: =SUM(AC5:AC7)/100 -> 1.1473657 | AD8: =SUM(AD5:AD7)/100 -> 1.1473657 | AE8: =SUM(AE5:AE7)/100 -> 0 | AF8: =SUM(AF5:AF7)/100 -> 1.5325909 | AG8: =SUM(AG5:AG7)/100 -> 0 | AI8: =SUM(AI5:AI7) -> 4707522752 | AK8: =SUM(AK5:AK7) -> 100 | AL8: =SUM(AL5:AL7)/100 -> 1.1726724 | AM8: =SUM(AM5:AM7)/100 -> 1.1726724 | AN8: =SUM(AN5:AN7)/100 -> 0 | AO8: =SUM(AO5:AO7)/100 -> 1.6181225 | AP8: =SUM(AP5:AP7)/100 -> 0 | AR8: =SUM(AR5:AR7) -> 100

Sheet S3 C10
A1: Supplementary table 1: S3 - O-linked glycans present in C10 cell line, retention times (min), peak areas, relative abundances with standard deviation and relative standard deviation (CV), and calculations of monosaccharide average compositions for each technical (1-2) replicate.
P3: Technical replicate 1. | Y3: Technical replicate 2.
A4: [M-H]- | B4: Δ[M-H]- | C4: [M-2H]2- | D4: Δ[M-2H]2- | E4: [M-3H]3- | F4: Δ[M-3H]3- | G4: H | H4: N | I4: F | J4: S | K4: Su | L4: [M-H]-th. | M4: [M-2H]2- th. | N4: [M-3H]3- th. | O4: Composition | P4: RT(min) | Q4: Peak area | R4: S/N | S4: Rel.peak area(%) 1 | T4: H | U4: N | V4: F | W4: S | X4: Su | Y4: RT(min) | Z4: Peak area | AA4: S/N | AB4: Rel.peak area(%) 1 | AC4: H | AD4: N | AE4: F | AF4: S | AG4: Su | AH4: RT avg (min) | AI4: Rel.peak area avg. (%) | AJ4: SD | AK4: CV
A5: 675.27 | B5: =IF(A5, A5-L5,"") -> 0.02 | D5: =IF(C5, C5-M5,"") | F5: =IF(E5, E5-N5,"") | G5: 1 | H5: 1 | J5: 1 | L5: 675.25 | M5: 337.12 | N5: 224.41 | O5: H1N1S1 | P5: 15.8 | Q5: 57967852 | R5: 8.8 | S5: ='S3 C10'!$Q5/'S3 C10'!$Q$36*100 -> 1.4201248 | T5: =$S5*G5 -> 1.4201248 | U5: =$S5*H5 -> 1.4201248 | V5: =$S5*I5 -> 0 | W5: =$S5*J5 -> 1.4201248 | X5: =$S5*K5 -> 0 | Y5: 14.9 | Z5: 198372688 | AA5: 26.3 | AB5: ='S3 C10'!$Z5/'S3 C10'!$Z$36*100 -> 1.2190359 | AC5: =$AB5*G5 -> 1.2190359 | AD5: =$AB5*H5 -> 1.2190359 | AE5: =$AB5*I5 -> 0 | AF5: =$AB5*J5 -> 1.2190359 | AG5: =$AB5*K5 -> 0 | AH5: =AVERAGE('S3 C10'!$P5,'S3 C10'!$Y5) -> 15.35 | AI5: =AVERAGEA(S5,AB5) -> 1.3195804 | AJ5: =STDEV('S3 C10'!$S5,'S3 C10'!$AB5) -> 0.1421913 | AK5: ='S3 C10'!$AJ5/'S3 C10'!$AI5*100 -> 10.775494
A6: 966.35 | B6: =IF(A6, A6-L6,"") -> 0.01 | C6: 482.64 | D6: =IF(C6, C6-M6,"") -> -0.03 | F6: =IF(E6, E6-N6,"") | G6: 1 | H6: 1 | J6: 2 | L6: 966.34 | M6: 482.67 | N6: 321.44 | O6: H1N1S2 | P6: 28.8 | Q6: 96040792 | R6: 12.9 | S6: ='S3 C10'!$Q6/'S3 C10'!$Q$36*100 -> 2.3528543 | T6: =$S6*G6 -> 2.3528543 | U6: =$S6*H6 -> 2.3528543 | V6: =$S6*I6 -> 0 | W6: =$S6*J6 -> 4.7057086 | X6: =$S6*K6 -> 0 | Y6: 27.7 | Z6: 404597152 | AA6: 56.6 | AB6: ='S3 C10'!$Z6/'S3 C10'!$Z$36*100 -> 2.4863224 | AC6: =$AB6*G6 -> 2.4863224 | AD6: =$AB6*H6 -> 2.4863224 | AE6: =$AB6*I6 -> 0 | AF6: =$AB6*J6 -> 4.9726448 | AG6: =$AB6*K6 -> 0 | AH6: =AVERAGE('S3 C10'!$P6,'S3 C10'!$Y6) -> 28.25 | AI6: =AVERAGEA(S6,AB6) -> 2.4195883 | AJ6: =STDEV('S3 C10'!$S6,'S3 C10'!$AB6) -> 0.094376212 | AK6: ='S3 C10'!$AJ6/'S3 C10'!$AI6*100 -> 3.900507
A7: 1098.41 | B7: =IF(A7, A7-L7,"") -> -0.01063 | D7: =IF(C7, C7-M7,"") | F7: =IF(E7, E7-N7,"") | G7: 2 | H7: 3 | I7: 1 | L7: 1098.4206 | M7: 548.70668 | N7: 365.4687 | O7: H2N3F1 | P7: 31.4 | Q7: 19652410 | R7: 6.3 | S7: ='S3 C10'!$Q7/'S3 C10'!$Q$36*100 -> 0.48145435 | T7: =$S7*G7 -> 0.9629087 | U7: =$S7*H7 -> 1.4443631 | V7: =$S7*I7 -> 0.48145435 | W7: =$S7*J7 -> 0 | X7: =$S7*K7 -> 0 | Y7: 31.3 | Z7: 134951392 | AA7: 30.7 | AB7: ='S3 C10'!$Z7/'S3 C10'!$Z$36*100 -> 0.82930062 | AC7: =$AB7*G7 -> 1.6586012 | AD7: =$AB7*H7 -> 2.4879019 | AE7: =$AB7*I7 -> 0.82930062 | AF7: =$AB7*J7 -> 0 | AG7: =$AB7*K7 -> 0 | AH7: =AVERAGE('S3 C10'!$P7,'S3 C10'!$Y7) -> 31.35 | AI7: =AVERAGEA(S7,AB7) -> 0.65537749 | AJ7: =STDEV('S3 C10'!$S7,'S3 C10'!$AB7) -> 0.24596446 | AK7: ='S3 C10'!$AJ7/'S3 C10'!$AI7*100 -> 37.530196
A8: 749.31 | B8: =IF(A8, A8-L8,"") -> 0.03 | D8: =IF(C8, C8-M8,"") | F8: =IF(E8, E8-N8,"") | G8: 2 | H8: 2 | L8: 749.28 | M8: 374.14 | N8: 249.09 | O8: H2N2 | P8: 32.1 | Q8: 313634208 | R8: 69.9 | S8: ='S3 C10'!$Q8/'S3 C10'!$Q$36*100 -> 7.6835642 | T8: =$S8*G8 -> 15.367128 | U8: =$S8*H8 -> 15.367128 | V8: =$S8*I8 -> 0 | W8: =$S8*J8 -> 0 | X8: =$S8*K8 -> 0 | Y8: 31.9 | Z8: 1327806464 | AA8: 235.4 | AB8: ='S3 C10'!$Z8/'S3 C10'!$Z$36*100 -> 8.15961 | AC8: =$AB8*G8 -> 16.31922 | AD8: =$AB8*H8 -> 16.31922 | AE8: =$AB8*I8 -> 0 | AF8: =$AB8*J8 -> 0 | AG8: =$AB8*K8 -> 0 | AH8: =AVERAGE('S3 C10'!$P8,'S3 C10'!$Y8) -> 32 | AI8: =AVERAGEA(S8,AB8) -> 7.9215871 | AJ8: =STDEV('S3 C10'!$S8,'S3 C10'!$AB8) -> 0.33661521 | AK8: ='S3 C10'!$AJ8/'S3 C10'!$AI8*100 -> 4.2493405
A9: 1397.43 | B9: =IF(A9, A9-L9,"") -> -0.02 | C9: 698.23 | D9: =IF(C9, C9-M9,"") -> 0.01 | F9: =IF(E9, E9-N9,"") | G9: 3 | H9: 4 | K9: 1 | L9: 1397.45 | M9: 698.22 | N9: 465.15 | O9: H3N4Su1 | P9: 44.9 | Q9: 85365792 | R9: 18.8 | S9: ='S3 C10'!$Q9/'S3 C10'!$Q$36*100 -> 2.0913329 | T9: =$S9*G9 -> 6.2739988 | U9: =$S9*H9 -> 8.3653317 | V9: =$S9*I9 -> 0 | W9: =$S9*J9 -> 0 | X9: =$S9*K9 -> 2.0913329 | Y9: 44.9 | Z9: 304032736 | AA9: 62 | AB9: ='S3 C10'!$Z9/'S3 C10'!$Z$36*100 -> 1.868336 | AC9: =$AB9*G9 -> 5.6050079 | AD9: =$AB9*H9 -> 7.4733438 | AE9: =$AB9*I9 -> 0 | AF9: =$AB9*J9 -> 0 | AG9: =$AB9*K9 -> 1.868336 | AH9: =AVERAGE('S3 C10'!$P9,'S3 C10'!$Y9) -> 44.9 | AI9: =AVERAGEA(S9,AB9) -> 1.9798344 | AJ9: =STDEV('S3 C10'!$S9,'S3 C10'!$AB9) -> 0.15768267 | AK9: ='S3 C10'!$AJ9/'S3 C10'!$AI9*100 -> 7.9644371
A10: 1260.44 | B10: =IF(A10, A10-L10,"") -> -0.03 | D10: =IF(C10, C10-M10,"") | F10: =IF(E10, E10-N10,"") | G10: 3 | H10: 3 | I10: 1 | L10: 1260.47 | M10: 629.73 | N10: 419.49 | O10: H3N3F1 | P10: 45.7 | Q10: 77047456 | R10: 11.1 | S10: ='S3 C10'!$Q10/'S3 C10'!$Q$36*100 -> 1.8875463 | T10: =$S10*G10 -> 5.6626388 | U10: =$S10*H10 -> 5.6626388 | V10: =$S10*I10 -> 1.8875463 | W10: =$S10*J10 -> 0 | X10: =$S10*K10 -> 0 | Y10: 45.8 | Z10: 294561440 | AA10: 49.8 | AB10: ='S3 C10'!$Z10/'S3 C10'!$Z$36*100 -> 1.8101331 | AC10: =$AB10*G10 -> 5.4303994 | AD10: =$AB10*H10 -> 5.4303994 | AE10: =$AB10*I10 -> 1.8101331 | AF10: =$AB10*J10 -> 0 | AG10: =$AB10*K10 -> 0 | AH10: =AVERAGE('S3 C10'!$P10,'S3 C10'!$Y10) -> 45.75 | AI10: =AVERAGEA(S10,AB10) -> 1.8488397 | AJ10: =STDEV('S3 C10'!$S10,'S3 C10'!$AB10) -> 0.054739347 | AK10: ='S3 C10'!$AJ10/'S3 C10'!$AI10*100 -> 2.9607406
A11: 1114.43 | B11: =IF(A11, A11-L11,"") -> 0.01 | D11: =IF(C11, C11-M11,"") | F11: =IF(E11, E11-N11,"") | G11: 3 | H11: 3 | L11: 1114.42 | M11: 556.7 | N11: 370.8 | O11: H3N3 | P11: 48.9 | Q11: 84531768 | R11: 13.9 | S11: ='S3 C10'!$Q11/'S3 C10'!$Q$36*100 -> 2.0709006 | T11: =$S11*G11 -> 6.2127018 | U11: =$S11*H11 -> 6.2127018 | V11: =$S11*I11 -> 0 | W11: =$S11*J11 -> 0 | X11: =$S11*K11 -> 0 | Y11: 49 | Z11: 179059776 | AA11: 40.7 | AB11: ='S3 C10'!$Z11/'S3 C10'!$Z$36*100 -> 1.1003546 | AC11: =$AB11*G11 -> 3.3010638 | AD11: =$AB11*H11 -> 3.3010638 | AE11: =$AB11*I11 -> 0 | AF11: =$AB11*J11 -> 0 | AG11: =$AB11*K11 -> 0 | AH11: =AVERAGE('S3 C10'!$P11,'S3 C10'!$Y11) -> 48.95 | AI11: =AVERAGEA(S11,AB11) -> 1.5856276 | AJ11: =STDEV('S3 C10'!$S11,'S3 C10'!$AB11) -> 0.68627966 | AK11: ='S3 C10'!$AJ11/'S3 C10'!$AI11*100 -> 43.281264
A12: 1551.48 | B12: =IF(A12, A12-L12,"") -> -0.09 | C12: 775.3 | D12: =IF(C12, C12-M12,"") -> 0.02 | F12: =IF(E12, E12-N12,"") | G12: 3 | H12: 3 | I12: 1 | J12: 1 | L12: 1551.57 | M12: 775.28 | N12: 516.52 | O12: H3N3F1S1 | P12: 51.4 | Q12: 46329408 | R12: 16.3 | S12: ='S3 C10'!$Q12/'S3 C10'!$Q$36*100 -> 1.1350005 | T12: =$S12*G12 -> 3.4050015 | U12: =$S12*H12 -> 3.4050015 | V12: =$S12*I12 -> 1.1350005 | W12: =$S12*J12 -> 1.1350005 | X12: =$S12*K12 -> 0 | Y12: 51.1 | Z12: 246547280 | AA12: 63.5 | AB12: ='S3 C10'!$Z12/'S3 C10'!$Z$36*100 -> 1.5150775 | AC12: =$AB12*G12 -> 4.5452324 | AD12: =$AB12*H12 -> 4.5452324 | AE12: =$AB12*I12 -> 1.5150775 | AF12: =$AB12*J12 -> 1.5150775 | AG12: =$AB12*K12 -> 0 | AH12: =AVERAGE('S3 C10'!$P12,'S3 C10'!$Y12) -> 51.25 | AI12: =AVERAGEA(S12,AB12) -> 1.325039 | AJ12: =STDEV('S3 C10'!$S12,'S3 C10'!$AB12) -> 0.268755 | AK12: ='S3 C10'!$AJ12/'S3 C10'!$AI12*100 -> 20.2828
A13: 1040.4 | B13: =IF(A13, A13-L13,"") -> 0.02 | D13: =IF(C13, C13-M13,"") | F13: =IF(E13, E13-N13,"") | G13: 2 | H13: 2 | J13: 1 | L13: 1040.38 | M13: 519.69 | N13: 346.12 | O13: H2N2S1 | P13: 51.5 | Q13: 892848768 | R13: 134.1 | S13: ='S3 C10'!$Q13/'S3 C10'!$Q$36*100 -> 21.873446 | T13: =$S13*G13 -> 43.746892 | U13: =$S13*H13 -> 43.746892 | V13: =$S13*I13 -> 0 | W13: =$S13*J13 -> 21.873446 | X13: =$S13*K13 -> 0 | Y13: 51.1 | Z13: 4937603584 | AA13: 995.8 | AB13: ='S3 C10'!$Z13/'S3 C10'!$Z$36*100 -> 30.342464 | AC13: =$AB13*G13 -> 60.684928 | AD13: =$AB13*H13 -> 60.684928 | AE13: =$AB13*I13 -> 0 | AF13: =$AB13*J13 -> 30.342464 | AG13: =$AB13*K13 -> 0 | AH13: =AVERAGE('S3 C10'!$P13,'S3 C10'!$Y13) -> 51.3 | AI13: =AVERAGEA(S13,AB13) -> 26.107955 | AJ13: =STDEV('S3 C10'!$S13,'S3 C10'!$AB13) -> 5.9885001 | AK13: ='S3 C10'!$AJ13/'S3 C10'!$AI13*100 -> 22.937454
A14: 1040.38 | B14: =IF(A14, A14-L14,"") -> 0 | D14: =IF(C14, C14-M14,"") | F14: =IF(E14, E14-N14,"") | G14: 2 | H14: 2 | J14: 1 | L14: 1040.38 | M14: 519.69 | N14: 346.12 | O14: H2N2S1 | P14: 55.5 | Q14: 54721396 | R14: 7.4 | S14: ='S3 C10'!$Q14/'S3 C10'!$Q$36*100 -> 1.3405915 | T14: =$S14*G14 -> 2.681183 | U14: =$S14*H14 -> 2.681183 | V14: =$S14*I14 -> 0 | W14: =$S14*J14 -> 1.3405915 | X14: =$S14*K14 -> 0 | Y14: 55.1 | Z14: 689678912 | AA14: 47.1 | AB14: ='S3 C10'!$Z14/'S3 C10'!$Z$36*100 -> 4.2382012 | AC14: =$AB14*G14 -> 8.4764024 | AD14: =$AB14*H14 -> 8.4764024 | AE14: =$AB14*I14 -> 0 | AF14: =$AB14*J14 -> 4.2382012 | AG14: =$AB14*K14 -> 0 | AH14: =AVERAGE('S3 C10'!$P14,'S3 C10'!$Y14) -> 55.3 | AI14: =AVERAGEA(S14,AB14) -> 2.7893964 | AJ14: =STDEV('S3 C10'!$S14,'S3 C10'!$AB14) -> 2.0489195 | AK14: ='S3 C10'!$AJ14/'S3 C10'!$AI14*100 -> 73.453866
A15: 1114.41 | B15: =IF(A15, A15-L15,"") -> -0.01 | D15: =IF(C15, C15-M15,"") | F15: =IF(E15, E15-N15,"") | G15: 3 | H15: 3 | L15: 1114.42 | M15: 556.7 | N15: 370.8 | O15: H3N3 | P15: 56.2 | Q15: 113388344 | R15: 15.4 | S15: ='S3 C10'!$Q15/'S3 C10'!$Q$36*100 -> 2.7778431 | T15: =$S15*G15 -> 8.3335293 | U15: =$S15*H15 -> 8.3335293 | V15: =$S15*I15 -> 0 | W15: =$S15*J15 -> 0 | X15: =$S15*K15 -> 0 | Y15: 56.3 | Z15: 568815936 | AA15: 81.4 | AB15: ='S3 C10'!$Z15/'S3 C10'!$Z$36*100 -> 3.4954764 | AC15: =$AB15*G15 -> 10.486429 | AD15: =$AB15*H15 -> 10.486429 | AE15: =$AB15*I15 -> 0 | AF15: =$AB15*J15 -> 0 | AG15: =$AB15*K15 -> 0 | AH15: =AVERAGE('S3 C10'!$P15,'S3 C10'!$Y15) -> 56.25 | AI15: =AVERAGEA(S15,AB15) -> 3.1366598 | AJ15: =STDEV('S3 C10'!$S15,'S3 C10'!$AB15) -> 0.50744339 | AK15: ='S3 C10'!$AJ15/'S3 C10'!$AI15*100 -> 16.177827
A16: 1331.42 | B16: =IF(A16, A16-L16,"") -> -0.05 | C16: 665.26 | D16: =IF(C16, C16-M16,"") -> 0.03 | F16: =IF(E16, E16-N16,"") | G16: 2 | H16: 2 | J16: 2 | L16: 1331.47 | M16: 665.23 | N16: 443.15 | O16: H2N2S2 | P16: 58 | Q16: 111929432 | R16: 21.4 | S16: ='S3 C10'!$Q16/'S3 C10'!$Q$36*100 -> 2.742102 | T16: =$S16*G16 -> 5.4842039 | U16: =$S16*H16 -> 5.4842039 | V16: =$S16*I16 -> 0 | W16: =$S16*J16 -> 5.4842039 | X16: =$S16*K16 -> 0 | Y16: 57.4 | Z16: 338361952 | AA16: 51.8 | AB16: ='S3 C10'!$Z16/'S3 C10'!$Z$36*100 -> 2.0792952 | AC16: =$AB16*G16 -> 4.1585903 | AD16: =$AB16*H16 -> 4.1585903 | AE16: =$AB16*I16 -> 0 | AF16: =$AB16*J16 -> 4.1585903 | AG16: =$AB16*K16 -> 0 | AH16: =AVERAGE('S3 C10'!$P16,'S3 C10'!$Y16) -> 57.7 | AI16: =AVERAGEA(S16,AB16) -> 2.4106986 | AJ16: =STDEV('S3 C10'!$S16,'S3 C10'!$AB16) -> 0.46867518 | AK16: ='S3 C10'!$AJ16/'S3 C10'!$AI16*100 -> 19.441468
A17: 1405.44 | B17: =IF(A17, A17-L17,"") -> -0.07 | C17: 702.33 | D17: =IF(C17, C17-M17,"") -> 0.08 | F17: =IF(E17, E17-N17,"") | G17: 3 | H17: 3 | J17: 1 | L17: 1405.51 | M17: 702.25 | N17: 467.83 | O17: H3N3S1 | P17: 60 | Q17: 60463384 | R17: 12.8 | S17: ='S3 C10'!$Q17/'S3 C10'!$Q$36*100 -> 1.4812616 | T17: =$S17*G17 -> 4.4437847 | U17: =$S17*H17 -> 4.4437847 | V17: =$S17*I17 -> 0 | W17: =$S17*J17 -> 1.4812616 | X17: =$S17*K17 -> 0 | Y17: 59.8 | Z17: 165442624 | AA17: 39.8 | AB17: ='S3 C10'!$Z17/'S3 C10'!$Z$36*100 -> 1.0166747 | AC17: =$AB17*G17 -> 3.0500242 | AD17: =$AB17*H17 -> 3.0500242 | AE17: =$AB17*I17 -> 0 | AF17: =$AB17*J17 -> 1.0166747 | AG17: =$AB17*K17 -> 0 | AH17: =AVERAGE('S3 C10'!$P17,'S3 C10'!$Y17) -> 59.9 | AI17: =AVERAGEA(S17,AB17) -> 1.2489681 | AJ17: =STDEV('S3 C10'!$S17,'S3 C10'!$AB17) -> 0.32851249 | AK17: ='S3 C10'!$AJ17/'S3 C10'!$AI17*100 -> 26.302711
A18: 1405.45 | B18: =IF(A18, A18-L18,"") -> -0.06 | C18: 702.28 | D18: =IF(C18, C18-M18,"") -> 0.03 | F18: =IF(E18, E18-N18,"") | G18: 3 | H18: 3 | J18: 1 | L18: 1405.51 | M18: 702.25 | N18: 467.83 | O18: H3N3S1 | P18: 61 | Q18: 72854920 | R18: 15.4 | S18: ='S3 C10'!$Q18/'S3 C10'!$Q$36*100 -> 1.7848355 | T18: =$S18*G18 -> 5.3545064 | U18: =$S18*H18 -> 5.3545064 | V18: =$S18*I18 -> 0 | W18: =$S18*J18 -> 1.7848355 | X18: =$S18*K18 -> 0 | Y18: 61 | Z18: 107273352 | AA18: 17.5 | AB18: ='S3 C10'!$Z18/'S3 C10'!$Z$36*100 -> 0.65921408 | AC18: =$AB18*G18 -> 1.9776422 | AD18: =$AB18*H18 -> 1.9776422 | AE18: =$AB18*I18 -> 0 | AF18: =$AB18*J18 -> 0.65921408 | AG18: =$AB18*K18 -> 0 | AH18: =AVERAGE('S3 C10'!$P18,'S3 C10'!$Y18) -> 61 | AI18: =AVERAGEA(S18,AB18) -> 1.2220248 | AJ18: =STDEV('S3 C10'!$S18,'S3 C10'!$AB18) -> 0.79593451 | AK18: ='S3 C10'!$AJ18/'S3 C10'!$AI18*100 -> 65.132437
A19: 1405.49 | B19: =IF(A19, A19-L19,"") -> -0.02 | C19: 702.35 | D19: =IF(C19, C19-M19,"") -> 0.1 | F19: =IF(E19, E19-N19,"") | G19: 3 | H19: 3 | J19: 1 | L19: 1405.51 | M19: 702.25 | N19: 467.83 | O19: H3N3S1 | P19: 62.8 | Q19: 69353736 | R19: 10.1 | S19: ='S3 C10'!$Q19/'S3 C10'!$Q$36*100 -> 1.6990617 | T19: =$S19*G19 -> 5.0971852 | U19: =$S19*H19 -> 5.0971852 | V19: =$S19*I19 -> 0 | W19: =$S19*J19 -> 1.6990617 | X19: =$S19*K19 -> 0 | Y19: 62.7 | Z19: 259717360 | AA19: 40.9 | AB19: ='S3 C10'!$Z19/'S3 C10'!$Z$36*100 -> 1.59601 | AC19: =$AB19*G19 -> 4.7880299 | AD19: =$AB19*H19 -> 4.7880299 | AE19: =$AB19*I19 -> 0 | AF19: =$AB19*J19 -> 1.59601 | AG19: =$AB19*K19 -> 0 | AH19: =AVERAGE('S3 C10'!$P19,'S3 C10'!$Y19) -> 62.75 | AI19: =AVERAGEA(S19,AB19) -> 1.6475359 | AJ19: =STDEV('S3 C10'!$S19,'S3 C10'!$AB19) -> 0.0728686 | AK19: ='S3 C10'!$AJ19/'S3 C10'!$AI19*100 -> 4.422884
B20: =IF(A20, A20-L20,"") | C20: 957.87 | D20: =IF(C20, C20-M20,"") -> 0.02 | F20: =IF(E20, E20-N20,"") | G20: 4 | H20: 4 | I20: 1 | J20: 1 | L20: 1916.7 | M20: 957.85 | N20: 638.23 | O20: H4N4F1S1 | P20: 62.9 | Q20: 50890956 | R20: 10.5 | S20: ='S3 C10'!$Q20/'S3 C10'!$Q$36*100 -> 1.2467515 | T20: =$S20*G20 -> 4.9870061 | U20: =$S20*H20 -> 4.9870061 | V20: =$S20*I20 -> 1.2467515 | W20: =$S20*J20 -> 1.2467515 | X20: =$S20*K20 -> 0 | Y20: 62.9 | Z20: 148857264 | AA20: 23.8 | AB20: ='S3 C10'!$Z20/'S3 C10'!$Z$36*100 -> 0.91475471 | AC20: =$AB20*G20 -> 3.6590188 | AD20: =$AB20*H20 -> 3.6590188 | AE20: =$AB20*I20 -> 0.91475471 | AF20: =$AB20*J20 -> 0.91475471 | AG20: =$AB20*K20 -> 0 | AH20: =AVERAGE('S3 C10'!$P20,'S3 C10'!$Y20) -> 62.9 | AI20: =AVERAGEA(S20,AB20) -> 1.0807531 | AJ20: =STDEV('S3 C10'!$S20,'S3 C10'!$AB20) -> 0.2347572 | AK20: ='S3 C10'!$AJ20/'S3 C10'!$AI20*100 -> 21.721631
B21: =IF(A21, A21-L21,"") | C21: 957.86 | D21: =IF(C21, C21-M21,"") -> 0.01 | F21: =IF(E21, E21-N21,"") | G21: 4 | H21: 4 | I21: 1 | J21: 1 | L21: 1916.7 | M21: 957.85 | N21: 638.23 | O21: H4N4F1S1 | P21: 64.7 | Q21: 86015432 | R21: 11.5 | S21: ='S3 C10'!$Q21/'S3 C10'!$Q$36*100 -> 2.1072481 | T21: =$S21*G21 -> 8.4289925 | U21: =$S21*H21 -> 8.4289925 | V21: =$S21*I21 -> 2.1072481 | W21: =$S21*J21 -> 2.1072481 | X21: =$S21*K21 -> 0 | Y21: 64.8 | Z21: 190225728 | AA21: 35.6 | AB21: ='S3 C10'!$Z21/'S3 C10'!$Z$36*100 -> 1.1689714 | AC21: =$AB21*G21 -> 4.6758855 | AD21: =$AB21*H21 -> 4.6758855 | AE21: =$AB21*I21 -> 1.1689714 | AF21: =$AB21*J21 -> 1.1689714 | AG21: =$AB21*K21 -> 0 | AH21: =AVERAGE('S3 C10'!$P21,'S3 C10'!$Y21) -> 64.75 | AI21: =AVERAGEA(S21,AB21) -> 1.6381097 | AJ21: =STDEV('S3 C10'!$S21,'S3 C10'!$AB21) -> 0.66346185 | AK21: ='S3 C10'!$AJ21/'S3 C10'!$AI21*100 -> 40.501673
A22: 1405.45 | B22: =IF(A22, A22-L22,"") -> -0.06 | C22: 702.26 | D22: =IF(C22, C22-M22,"") -> 0.01 | F22: =IF(E22, E22-N22,"") | G22: 3 | H22: 3 | J22: 1 | L22: 1405.51 | M22: 702.25 | N22: 467.83 | O22: H3N3S1 | P22: 68.9 | Q22: 341680608 | R22: 61.4 | S22: ='S3 C10'!$Q22/'S3 C10'!$Q$36*100 -> 8.3706586 | T22: =$S22*G22 -> 25.111976 | U22: =$S22*H22 -> 25.111976 | V22: =$S22*I22 -> 0 | W22: =$S22*J22 -> 8.3706586 | X22: =$S22*K22 -> 0 | Y22: 68.5 | Z22: 1474112000 | AA22: 310.2 | AB22: ='S3 C10'!$Z22/'S3 C10'!$Z$36*100 -> 9.0586839 | AC22: =$AB22*G22 -> 27.176052 | AD22: =$AB22*H22 -> 27.176052 | AE22: =$AB22*I22 -> 0 | AF22: =$AB22*J22 -> 9.0586839 | AG22: =$AB22*K22 -> 0 | AH22: =AVERAGE('S3 C10'!$P22,'S3 C10'!$Y22) -> 68.7 | AI22: =AVERAGEA(S22,AB22) -> 8.7146713 | AJ22: =STDEV('S3 C10'!$S22,'S3 C10'!$AB22) -> 0.48650732 | AK22: ='S3 C10'!$AJ22/'S3 C10'!$AI22*100 -> 5.5826239
A23: 1696.5 | B23: =IF(A23, A23-L23,"") -> -0.11 | C23: 847.82 | D23: =IF(C23, C23-M23,"") -> 0.02 | F23: =IF(E23, E23-N23,"") | G23: 3 | H23: 3 | J23: 2 | L23: 1696.61 | M23: 847.8 | N23: 564.86 | O23: H3N3S2 | P23: 70 | Q23: 266310896 | R23: 48.6 | S23: ='S3 C10'!$Q23/'S3 C10'!$Q$36*100 -> 6.5242146 | T23: =$S23*G23 -> 19.572644 | U23: =$S23*H23 -> 19.572644 | V23: =$S23*I23 -> 0 | W23: =$S23*J23 -> 13.048429 | X23: =$S23*K23 -> 0 | Y23: 69.4 | Z23: 871281536 | AA23: 211.5 | AB23: ='S3 C10'!$Z23/'S3 C10'!$Z$36*100 -> 5.354182 | AC23: =$AB23*G23 -> 16.062546 | AD23: =$AB23*H23 -> 16.062546 | AE23: =$AB23*I23 -> 0 | AF23: =$AB23*J23 -> 10.708364 | AG23: =$AB23*K23 -> 0 | AH23: =AVERAGE('S3 C10'!$P23,'S3 C10'!$Y23) -> 69.7 | AI23: =AVERAGEA(S23,AB23) -> 5.9391983 | AJ23: =STDEV('S3 C10'!$S23,'S3 C10'!$AB23) -> 0.82733793 | AK23: ='S3 C10'!$AJ23/'S3 C10'!$AI23*100 -> 13.930128
A24: 1405.45 | B24: =IF(A24, A24-L24,"") -> -0.06 | C24: 702.31 | D24: =IF(C24, C24-M24,"") -> 0.06 | F24: =IF(E24, E24-N24,"") | G24: 3 | H24: 3 | J24: 1 | L24: 1405.51 | M24: 702.25 | N24: 467.83 | O24: H3N3S1 | P24: 70 | Q24: 36289016 | R24: 9.8 | S24: ='S3 C10'!$Q24/'S3 C10'!$Q$36*100 -> 0.88902606 | T24: =$S24*G24 -> 2.6670782 | U24: =$S24*H24 -> 2.6670782 | V24: =$S24*I24 -> 0 | W24: =$S24*J24 -> 0.88902606 | X24: =$S24*K24 -> 0 | Y24: 70 | Z24: 130788088 | AA24: 25.8 | AB24: ='S3 C10'!$Z24/'S3 C10'!$Z$36*100 -> 0.80371637 | AC24: =$AB24*G24 -> 2.4111491 | AD24: =$AB24*H24 -> 2.4111491 | AE24: =$AB24*I24 -> 0 | AF24: =$AB24*J24 -> 0.80371637 | AG24: =$AB24*K24 -> 0 | AH24: =AVERAGE('S3 C10'!$P24,'S3 C10'!$Y24) -> 70 | AI24: =AVERAGEA(S24,AB24) -> 0.84637122 | AJ24: =STDEV('S3 C10'!$S24,'S3 C10'!$AB24) -> 0.060323061 | AK24: ='S3 C10'!$AJ24/'S3 C10'!$AI24*100 -> 7.1272581
B25: =IF(A25, A25-L25,"") | C25: 1140.42 | D25: =IF(C25, C25-M25,"") -> 0.01 | F25: =IF(E25, E25-N25,"") | G25: 5 | H25: 5 | I25: 1 | J25: 1 | L25: 2281.83 | M25: 1140.41 | N25: 759.94 | O25: H5N5F1S1 | P25: 72.3 | Q25: 67821568 | R25: 14 | S25: ='S3 C10'!$Q25/'S3 C10'!$Q$36*100 -> 1.6615259 | T25: =$S25*G25 -> 8.3076297 | U25: =$S25*H25 -> 8.3076297 | V25: =$S25*I25 -> 1.6615259 | W25: =$S25*J25 -> 1.6615259 | X25: =$S25*K25 -> 0 | Y25: 72.3 | Z25: 257827232 | AA25: 58.8 | AB25: ='S3 C10'!$Z25/'S3 C10'!$Z$36*100 -> 1.5843948 | AC25: =$AB25*G25 -> 7.921974 | AD25: =$AB25*H25 -> 7.921974 | AE25: =$AB25*I25 -> 1.5843948 | AF25: =$AB25*J25 -> 1.5843948 | AG25: =$AB25*K25 -> 0 | AH25: =AVERAGE('S3 C10'!$P25,'S3 C10'!$Y25) -> 72.3 | AI25: =AVERAGEA(S25,AB25) -> 1.6229604 | AJ25: =STDEV('S3 C10'!$S25,'S3 C10'!$AB25) -> 0.054539951 | AK25: ='S3 C10'!$AJ25/'S3 C10'!$AI25*100 -> 3.3605226
B26: =IF(A26, A26-L26,"") | C26: 1175.92 | D26: =IF(C26, C26-M26,"") -> 0.01 | F26: =IF(E26, E26-N26,"") | G26: 4 | H26: 4 | J26: 3 | L26: 2352.83 | M26: 1175.91 | N26: 783.61 | O26: H4N4S3 | P26: 72.9 | Q26: 44430508 | R26: 9.6 | S26: ='S3 C10'!$Q26/'S3 C10'!$Q$36*100 -> 1.0884803 | T26: =$S26*G26 -> 4.3539213 | U26: =$S26*H26 -> 4.3539213 | V26: =$S26*I26 -> 0 | W26: =$S26*J26 -> 3.2654409 | X26: =$S26*K26 -> 0 | Y26: 72.1 | Z26: 96931040 | AA26: 13.4 | AB26: ='S3 C10'!$Z26/'S3 C10'!$Z$36*100 -> 0.59565871 | AC26: =$AB26*G26 -> 2.3826348 | AD26: =$AB26*H26 -> 2.3826348 | AE26: =$AB26*I26 -> 0 | AF26: =$AB26*J26 -> 1.7869761 | AG26: =$AB26*K26 -> 0 | AH26: =AVERAGE('S3 C10'!$P26,'S3 C10'!$Y26) -> 72.5 | AI26: =AVERAGEA(S26,AB26) -> 0.84206951 | AJ26: =STDEV('S3 C10'!$S26,'S3 C10'!$AB26) -> 0.3484775 | AK26: ='S3 C10'!$AJ26/'S3 C10'!$AI26*100 -> 41.38346
B27: =IF(A27, A27-L27,"") | C27: 1140.39 | D27: =IF(C27, C27-M27,"") -> -0.02 | F27: =IF(E27, E27-N27,"") | G27: 5 | H27: 5 | I27: 1 | J27: 1 | L27: 2281.83 | M27: 1140.41 | N27: 759.94 | O27: H5N5F1S1 | P27: 75.9 | Q27: 34515916 | R27: 10.5 | S27: ='S3 C10'!$Q27/'S3 C10'!$Q$36*100 -> 0.84558779 | T27: =$S27*G27 -> 4.2279389 | U27: =$S27*H27 -> 4.2279389 | V27: =$S27*I27 -> 0.84558779 | W27: =$S27*J27 -> 0.84558779 | X27: =$S27*K27 -> 0 | Y27: 75.7 | Z27: 113180312 | AA27: 20.7 | AB27: ='S3 C10'!$Z27/'S3 C10'!$Z$36*100 -> 0.69551341 | AC27: =$AB27*G27 -> 3.4775671 | AD27: =$AB27*H27 -> 3.4775671 | AE27: =$AB27*I27 -> 0.69551341 | AF27: =$AB27*J27 -> 0.69551341 | AG27: =$AB27*K27 -> 0 | AH27: =AVERAGE('S3 C10'!$P27,'S3 C10'!$Y27) -> 75.8 | AI27: =AVERAGEA(S27,AB27) -> 0.7705506 | AJ27: =STDEV('S3 C10'!$S27,'S3 C10'!$AB27) -> 0.10611861 | AK27: ='S3 C10'!$AJ27/'S3 C10'!$AI27*100 -> 13.77179
B28: =IF(A28, A28-L28,"") | C28: 1030.39 | D28: =IF(C28, C28-M28,"") -> 0.02 | F28: =IF(E28, E28-N28,"") | G28: 4 | H28: 4 | J28: 2 | L28: 2061.74 | M28: 1030.37 | N28: 686.57 | O28: H4N4S2 | P28: 80.3 | Q28: 110896520 | R28: 36.1 | S28: ='S3 C10'!$Q28/'S3 C10'!$Q$36*100 -> 2.7167972 | T28: =$S28*G28 -> 10.867189 | U28: =$S28*H28 -> 10.867189 | V28: =$S28*I28 -> 0 | W28: =$S28*J28 -> 5.4335944 | X28: =$S28*K28 -> 0 | Y28: 79.5 | Z28: 525433504 | AA28: 74 | AB28: ='S3 C10'!$Z28/'S3 C10'!$Z$36*100 -> 3.2288836 | AC28: =$AB28*G28 -> 12.915534 | AD28: =$AB28*H28 -> 12.915534 | AE28: =$AB28*I28 -> 0 | AF28: =$AB28*J28 -> 6.4577671 | AG28: =$AB28*K28 -> 0 | AH28: =AVERAGE('S3 C10'!$P28,'S3 C10'!$Y28) -> 79.9 | AI28: =AVERAGEA(S28,AB28) -> 2.9728404 | AJ28: =STDEV('S3 C10'!$S28,'S3 C10'!$AB28) -> 0.36209976 | AK28: ='S3 C10'!$AJ28/'S3 C10'!$AI28*100 -> 12.180262
B29: =IF(A29, A29-L29,"") | C29: 1030.41 | D29: =IF(C29, C29-M29,"") -> 0.04 | F29: =IF(E29, E29-N29,"") | G29: 4 | H29: 4 | J29: 2 | L29: 2061.74 | M29: 1030.37 | N29: 686.57 | O29: H4N4S2 | P29: 74.4 | Q29: 189470880 | R29: 22.8 | S29: ='S3 C10'!$Q29/'S3 C10'!$Q$36*100 -> 4.6417503 | T29: =$S29*G29 -> 18.567001 | U29: =$S29*H29 -> 18.567001 | V29: =$S29*I29 -> 0 | W29: =$S29*J29 -> 9.2835006 | X29: =$S29*K29 -> 0 | Y29: 74.9 | Z29: 70243896 | AA29: 15 | AB29: ='S3 C10'!$Z29/'S3 C10'!$Z$36*100 -> 0.4316614 | AC29: =$AB29*G29 -> 1.7266456 | AD29: =$AB29*H29 -> 1.7266456 | AE29: =$AB29*I29 -> 0 | AF29: =$AB29*J29 -> 0.8633228 | AG29: =$AB29*K29 -> 0 | AH29: =AVERAGE('S3 C10'!$P29,'S3 C10'!$Y29) -> 74.65 | AI29: =AVERAGEA(S29,AB29) -> 2.5367058 | AJ29: =STDEV('S3 C10'!$S29,'S3 C10'!$AB29) -> 2.9769824 | AK29: ='S3 C10'!$AJ29/'S3 C10'!$AI29*100 -> 117.35623
B30: =IF(A30, A30-L30,"") | C30: 1030.39 | D30: =IF(C30, C30-M30,"") -> 0.02 | F30: =IF(E30, E30-N30,"") | G30: 4 | H30: 4 | J30: 2 | L30: 2061.74 | M30: 1030.37 | N30: 686.57 | O30: H4N4S2 | P30: 75.9 | Q30: 125341368 | R30: 17 | S30: ='S3 C10'!$Q30/'S3 C10'!$Q$36*100 -> 3.0706741 | T30: =$S30*G30 -> 12.282697 | U30: =$S30*H30 -> 12.282697 | V30: =$S30*I30 -> 0 | W30: =$S30*J30 -> 6.1413483 | X30: =$S30*K30 -> 0 | Y30: 76.4 | Z30: 35792964 | AA30: 10.1 | AB30: ='S3 C10'!$Z30/'S3 C10'!$Z$36*100 -> 0.21995421 | AC30: =$AB30*G30 -> 0.87981686 | AD30: =$AB30*H30 -> 0.87981686 | AE30: =$AB30*I30 -> 0 | AF30: =$AB30*J30 -> 0.43990843 | AG30: =$AB30*K30 -> 0 | AH30: =AVERAGE('S3 C10'!$P30,'S3 C10'!$Y30) -> 76.15 | AI30: =AVERAGEA(S30,AB30) -> 1.6453142 | AJ30: =STDEV('S3 C10'!$S30,'S3 C10'!$AB30) -> 2.0157634 | AK30: ='S3 C10'!$AJ30/'S3 C10'!$AI30*100 -> 122.51541
B31: =IF(A31, A31-L31,"") | C31: 1030.41 | D31: =IF(C31, C31-M31,"") -> 0.04 | F31: =IF(E31, E31-N31,"") | G31: 4 | H31: 4 | J31: 2 | L31: 2061.74 | M31: 1030.37 | N31: 686.57 | O31: H4N4S2 | P31: 78.2 | Q31: 78607392 | R31: 14.8 | S31: ='S3 C10'!$Q31/'S3 C10'!$Q$36*100 -> 1.9257623 | T31: =$S31*G31 -> 7.7030493 | U31: =$S31*H31 -> 7.7030493 | V31: =$S31*I31 -> 0 | W31: =$S31*J31 -> 3.8515247 | X31: =$S31*K31 -> 0 | Y31: 79.8 | Z31: 44339708 | AA31: 18 | AB31: ='S3 C10'!$Z31/'S3 C10'!$Z$36*100 -> 0.2724755 | AC31: =$AB31*G31 -> 1.089902 | AD31: =$AB31*H31 -> 1.089902 | AE31: =$AB31*I31 -> 0 | AF31: =$AB31*J31 -> 0.54495099 | AG31: =$AB31*K31 -> 0 | AH31: =AVERAGE('S3 C10'!$P31,'S3 C10'!$Y31) -> 79 | AI31: =AVERAGEA(S31,AB31) -> 1.0991189 | AJ31: =STDEV('S3 C10'!$S31,'S3 C10'!$AB31) -> 1.1690503 | AK31: ='S3 C10'!$AJ31/'S3 C10'!$AI31*100 -> 106.3625
B32: =IF(A32, A32-L32,"") | C32: 884.86 | D32: =IF(C32, C32-M32,"") -> 0.04 | F32: =IF(E32, E32-N32,"") | G32: 4 | H32: 4 | J32: 1 | L32: 1770.64 | M32: 884.82 | N32: 589.54 | O32: H4N4S1 | P32: 80.7 | Q32: 144120416 | R32: 39.4 | S32: ='S3 C10'!$Q32/'S3 C10'!$Q$36*100 -> 3.5307324 | T32: =$S32*G32 -> 14.12293 | U32: =$S32*H32 -> 14.12293 | V32: =$S32*I32 -> 0 | W32: =$S32*J32 -> 3.5307324 | X32: =$S32*K32 -> 0 | Y32: 79.9 | Z32: 740419584 | AA32: 205.8 | AB32: ='S3 C10'!$Z32/'S3 C10'!$Z$36*100 -> 4.5500118 | AC32: =$AB32*G32 -> 18.200047 | AD32: =$AB32*H32 -> 18.200047 | AE32: =$AB32*I32 -> 0 | AF32: =$AB32*J32 -> 4.5500118 | AG32: =$AB32*K32 -> 0 | AH32: =AVERAGE('S3 C10'!$P32,'S3 C10'!$Y32) -> 80.3 | AI32: =AVERAGEA(S32,AB32) -> 4.0403721 | AJ32: =STDEV('S3 C10'!$S32,'S3 C10'!$AB32) -> 0.72073933 | AK32: ='S3 C10'!$AJ32/'S3 C10'!$AI32*100 -> 17.838439
B33: =IF(A33, A33-L33,"") | C33: 1212.89 | D33: =IF(C33, C33-M33,"") -> -0.04 | F33: =IF(E33, E33-N33,"") | G33: 5 | H33: 5 | J33: 2 | L33: 2426.87 | M33: 1212.93 | N33: 808.29 | O33: H5N5S2 | P33: 82.2 | Q33: 114851344 | R33: 20.2 | S33: ='S3 C10'!$Q33/'S3 C10'!$Q$36*100 -> 2.8136844 | T33: =$S33*G33 -> 14.068422 | U33: =$S33*H33 -> 14.068422 | V33: =$S33*I33 -> 0 | W33: =$S33*J33 -> 5.6273688 | X33: =$S33*K33 -> 0 | Y33: 80.9 | Z33: 421779776 | AA33: 71.9 | AB33: ='S3 C10'!$Z33/'S3 C10'!$Z$36*100 -> 2.5919127 | AC33: =$AB33*G33 -> 12.959564 | AD33: =$AB33*H33 -> 12.959564 | AE33: =$AB33*I33 -> 0 | AF33: =$AB33*J33 -> 5.1838255 | AG33: =$AB33*K33 -> 0 | AH33: =AVERAGE('S3 C10'!$P33,'S3 C10'!$Y33) -> 81.55 | AI33: =AVERAGEA(S33,AB33) -> 2.7027986 | AJ33: =STDEV('S3 C10'!$S33,'S3 C10'!$AB33) -> 0.15681625 | AK33: ='S3 C10'!$AJ33/'S3 C10'!$AI33*100 -> 5.8019953
B34: =IF(A34, A34-L34,"") | C34: 1067.39 | D34: =IF(C34, C34-M34,"") -> 0.01 | F34: =IF(E34, E34-N34,"") | G34: 5 | H34: 5 | J34: 1 | L34: 2135.78 | M34: 1067.38 | N34: 711.25 | O34: H5N5S1 | P34: 81.3 | Q34: 109571816 | R34: 20.8 | S34: ='S3 C10'!$Q34/'S3 C10'!$Q$36*100 -> 2.6843439 | T34: =$S34*G34 -> 13.42172 | U34: =$S34*H34 -> 13.42172 | V34: =$S34*I34 -> 0 | W34: =$S34*J34 -> 2.6843439 | X34: =$S34*K34 -> 0 | Y34: 80.4 | Z34: 387846656 | AA34: 77.5 | AB34: ='S3 C10'!$Z34/'S3 C10'!$Z$36*100 -> 2.3833876 | AC34: =$AB34*G34 -> 11.916938 | AD34: =$AB34*H34 -> 11.916938 | AE34: =$AB34*I34 -> 0 | AF34: =$AB34*J34 -> 2.3833876 | AG34: =$AB34*K34 -> 0 | AH34: =AVERAGE('S3 C10'!$P34,'S3 C10'!$Y34) -> 80.85 | AI34: =AVERAGEA(S34,AB34) -> 2.5338658 | AJ34: =STDEV('S3 C10'!$S34,'S3 C10'!$AB34) -> 0.21280827 | AK34: ='S3 C10'!$AJ34/'S3 C10'!$AI34*100 -> 8.3985613
B35: =IF(A35, A35-L35,"") | C35: 1067.39 | D35: =IF(C35, C35-M35,"") -> 0.01 | F35: =IF(E35, E35-N35,"") | G35: 5 | H35: 5 | J35: 1 | L35: 2135.78 | M35: 1067.38 | N35: 711.25 | O35: H5N5S1 | P35: 82.7 | Q35: 124940088 | R35: 33.3 | S35: ='S3 C10'!$Q35/'S3 C10'!$Q$36*100 -> 3.0608434 | T35: =$S35*G35 -> 15.304217 | U35: =$S35*H35 -> 15.304217 | V35: =$S35*I35 -> 0 | W35: =$S35*J35 -> 3.0608434 | X35: =$S35*K35 -> 0 | Y35: 81.5 | Z35: 607033856 | AA35: 145.7 | AB35: ='S3 C10'!$Z35/'S3 C10'!$Z$36*100 -> 3.7303324 | AC35: =$AB35*G35 -> 18.651662 | AD35: =$AB35*H35 -> 18.651662 | AE35: =$AB35*I35 -> 0 | AF35: =$AB35*J35 -> 3.7303324 | AG35: =$AB35*K35 -> 0 | AH35: =AVERAGE('S3 C10'!$P35,'S3 C10'!$Y35) -> 82.1 | AI35: =AVERAGEA(S35,AB35) -> 3.3955879 | AJ35: =STDEV('S3 C10'!$S35,'S3 C10'!$AB35) -> 0.47340025 | AK35: ='S3 C10'!$AJ35/'S3 C10'!$AI35*100 -> 13.941629
Q36: =SUM(Q5:Q35) -> 4081884390 | S36: =SUM(S5:S35) -> 100 | T36: =SUM(T5:T35)/100 -> 3.0079305 | U36: =SUM(U5:U35)/100 -> 3.0336584 | V36: =SUM(V5:V35)/100 -> 0.093651145 | W36: =SUM(W5:W35)/100 -> 1.1197216 | X36: =SUM(X5:X35)/100 -> 0.020913329 | Z36: =SUM(Z5:Z35) -> 16272915792 | AB36: =SUM(AB5:AB35) -> 100 | AC36: =SUM(AC5:AC35)/100 -> 2.8029387 | AD36: =SUM(AD5:AD35)/100 -> 2.829915 | AE36: =SUM(AE5:AE35)/100 -> 0.085181455 | AF36: =SUM(AF5:AF35)/100 -> 1.0059279 | AG36: =SUM(AG5:AG35)/100 -> 0.01868336 | AI36: =SUM(AI5:AI35) -> 100

Sheet S4 COLO205 
A1: Supplementary table 1: S4 - O-linked glycans present in COLO205 cell line, retention times (min), peak areas, relative abundances with standard deviation and relative standard deviation (CV), and calculations of monosaccharide average compositions for each technical (1-2) replicate.
P3: Technical replicate 1. | Y3: Technical replicate 2.
A4: [M-H]- | B4: Δ[M-H]- | C4: [M-2H]2- | D4: Δ[M-2H]2- | E4: [M-3H]3- | F4: Δ[M-3H]3- | G4: H | H4: N | I4: F | J4: S | K4: Su | L4: [M-H]-th. | M4: [M-2H]2- th. | N4: [M-3H]3- th. | O4: Composition | P4: RT(min) | Q4: Peak area | R4: S/N | S4: Rel.peak area(%) 1 | T4: H | U4: N | V4: F | W4: S | X4: Su | Y4: RT(min) | Z4: Peak area | AA4: S/N | AB4: Rel.peak area(%) 1 | AC4: H | AD4: N | AE4: F | AF4: S | AG4: Su | AH4: RT avg (min) | AI4: Rel.peak area avg. (%) | AJ4: SD | AK4: CV
A5: 675.27 | B5: =IF(A5, A5-L5,"") -> 0.02 | D5: =IF(C5, C5-M5,"") | F5: =IF(E5, E5-N5,"") | G5: 1 | H5: 1 | J5: 1 | L5: 675.25 | M5: 337.12 | N5: 224.41 | O5: H1N1S1 | P5: 21.2 | Q5: 1461365632 | R5: 62.8 | S5: ='S4 COLO205 '!$Q5/'S4 COLO205 '!$Q$12*100 -> 12.479934 | T5: =$S5*'S4 COLO205 '!$G5 -> 12.479934 | U5: =$S5*'S4 COLO205 '!$H5 -> 12.479934 | V5: =$S5*'S4 COLO205 '!$I5 -> 0 | W5: =$S5*'S4 COLO205 '!$J5 -> 12.479934 | X5: =$S5*'S4 COLO205 '!$K5 -> 0 | Y5: 22.1 | Z5: 2490236160 | AA5: 74 | AB5: ='S4 COLO205 '!$Z5/'S4 COLO205 '!$Z$12*100 -> 11.959009 | AC5: =$AB5*'S4 COLO205 '!$G5 -> 11.959009 | AD5: =$AB5*'S4 COLO205 '!$H5 -> 11.959009 | AE5: =$AB5*'S4 COLO205 '!$I5 -> 0 | AF5: =$AB5*'S4 COLO205 '!$J5 -> 11.959009 | AG5: =$AB5*'S4 COLO205 '!$K5 -> 0 | AH5: =AVERAGE('S4 COLO205 '!$P5,'S4 COLO205 '!$Y5) -> 21.65 | AI5: =AVERAGE('S4 COLO205 '!$S5,'S4 COLO205 '!$AB5) -> 12.219472 | AJ5: =STDEV('S4 COLO205 '!$S5,'S4 COLO205 '!$AB5) -> 0.36834998 | AK5: =AJ5/AI5 -> 0.03014451
A6: 966.38 | B6: =IF(A6, A6-L6,"") -> 0.04 | C6: 482.66 | D6: =IF(C6, C6-M6,"") -> -0.01 | F6: =IF(E6, E6-N6,"") | G6: 1 | H6: 1 | J6: 2 | L6: 966.34 | M6: 482.67 | N6: 321.44 | O6: H1N1S2 | P6: 25.4 | Q6: 4765867520 | R6: 125.7 | S6: ='S4 COLO205 '!$Q6/'S4 COLO205 '!$Q$12*100 -> 40.700091 | T6: =$S6*'S4 COLO205 '!$G6 -> 40.700091 | U6: =$S6*'S4 COLO205 '!$H6 -> 40.700091 | V6: =$S6*'S4 COLO205 '!$I6 -> 0 | W6: =$S6*'S4 COLO205 '!$J6 -> 81.400182 | X6: =$S6*'S4 COLO205 '!$K6 -> 0 | Y6: 26.4 | Z6: 11628931072 | AA6: 197.7 | AB6: ='S4 COLO205 '!$Z6/'S4 COLO205 '!$Z$12*100 -> 55.846306 | AC6: =$AB6*'S4 COLO205 '!$G6 -> 55.846306 | AD6: =$AB6*'S4 COLO205 '!$H6 -> 55.846306 | AE6: =$AB6*'S4 COLO205 '!$I6 -> 0 | AF6: =$AB6*'S4 COLO205 '!$J6 -> 111.69261 | AG6: =$AB6*'S4 COLO205 '!$K6 -> 0 | AH6: =AVERAGE('S4 COLO205 '!$P6,'S4 COLO205 '!$Y6) -> 25.9 | AI6: =AVERAGE('S4 COLO205 '!$S6,'S4 COLO205 '!$AB6) -> 48.273198 | AJ6: =STDEV('S4 COLO205 '!$S6,'S4 COLO205 '!$AB6) -> 10.709991 | AK6: =AJ6/AI6 -> 0.22186206
A7: 1040.37 | B7: =IF(A7, A7-L7,"") -> -0.01 | D7: =IF(C7, C7-M7,"") | F7: =IF(E7, E7-N7,"") | G7: 2 | H7: 2 | J7: 1 | L7: 1040.38 | M7: 519.69 | N7: 346.12 | O7: H2N2S1 | P7: 42.8 | Q7: 468693152 | R7: 26.7 | S7: ='S4 COLO205 '!$Q7/'S4 COLO205 '!$Q$12*100 -> 4.0025984 | T7: =$S7*'S4 COLO205 '!$G7 -> 8.0051969 | U7: =$S7*'S4 COLO205 '!$H7 -> 8.0051969 | V7: =$S7*'S4 COLO205 '!$I7 -> 0 | W7: =$S7*'S4 COLO205 '!$J7 -> 4.0025984 | X7: =$S7*'S4 COLO205 '!$K7 -> 0 | Y7: 43.8 | Z7: 616919104 | AA7: 24.5 | AB7: ='S4 COLO205 '!$Z7/'S4 COLO205 '!$Z$12*100 -> 2.9626672 | AC7: =$AB7*'S4 COLO205 '!$G7 -> 5.9253344 | AD7: =$AB7*'S4 COLO205 '!$H7 -> 5.9253344 | AE7: =$AB7*'S4 COLO205 '!$I7 -> 0 | AF7: =$AB7*'S4 COLO205 '!$J7 -> 2.9626672 | AG7: =$AB7*'S4 COLO205 '!$K7 -> 0 | AH7: =AVERAGE('S4 COLO205 '!$P7,'S4 COLO205 '!$Y7) -> 43.3 | AI7: =AVERAGE('S4 COLO205 '!$S7,'S4 COLO205 '!$AB7) -> 3.4826328 | AJ7: =STDEV('S4 COLO205 '!$S7,'S4 COLO205 '!$AB7) -> 0.73534242 | AK7: =AJ7/AI7 -> 0.21114555
A8: 1477.49 | B8: =IF(A8, A8-L8,"") -> -0.04 | C8: 738.28 | D8: =IF(C8, C8-M8,"") -> 0.02 | F8: =IF(E8, E8-N8,"") | G8: 2 | H8: 2 | I8: 1 | J8: 2 | L8: 1477.53 | M8: 738.26 | N8: 491.84 | O8: H2N2F1S2 | P8: 45.3 | Q8: 326302752 | R8: 18.5 | S8: ='S4 COLO205 '!$Q8/'S4 COLO205 '!$Q$12*100 -> 2.7865969 | T8: =$S8*'S4 COLO205 '!$G8 -> 5.5731938 | U8: =$S8*'S4 COLO205 '!$H8 -> 5.5731938 | V8: =$S8*'S4 COLO205 '!$I8 -> 2.7865969 | W8: =$S8*'S4 COLO205 '!$J8 -> 5.5731938 | X8: =$S8*'S4 COLO205 '!$K8 -> 0 | Y8: 46.3 | Z8: 480154336 | AA8: 26.2 | AB8: ='S4 COLO205 '!$Z8/'S4 COLO205 '!$Z$12*100 -> 2.3058737 | AC8: =$AB8*'S4 COLO205 '!$G8 -> 4.6117473 | AD8: =$AB8*'S4 COLO205 '!$H8 -> 4.6117473 | AE8: =$AB8*'S4 COLO205 '!$I8 -> 2.3058737 | AF8: =$AB8*'S4 COLO205 '!$J8 -> 4.6117473 | AG8: =$AB8*'S4 COLO205 '!$K8 -> 0 | AH8: =AVERAGE('S4 COLO205 '!$P8,'S4 COLO205 '!$Y8) -> 45.8 | AI8: =AVERAGE('S4 COLO205 '!$S8,'S4 COLO205 '!$AB8) -> 2.5462353 | AJ8: =STDEV('S4 COLO205 '!$S8,'S4 COLO205 '!$AB8) -> 0.33992267 | AK8: =AJ8/AI8 -> 0.1335001
A9: 1331.45 | B9: =IF(A9, A9-L9,"") -> -0.02 | C9: 665.27 | D9: =IF(C9, C9-M9,"") -> 0.04 | F9: =IF(E9, E9-N9,"") | G9: 2 | H9: 2 | J9: 2 | L9: 1331.47 | M9: 665.23 | N9: 443.15 | O9: H2N2S2 | P9: 54.8 | Q9: 3758904576 | R9: 168 | S9: ='S4 COLO205 '!$Q9/'S4 COLO205 '!$Q$12*100 -> 32.100716 | T9: =$S9*'S4 COLO205 '!$G9 -> 64.201431 | U9: =$S9*'S4 COLO205 '!$H9 -> 64.201431 | V9: =$S9*'S4 COLO205 '!$I9 -> 0 | W9: =$S9*'S4 COLO205 '!$J9 -> 64.201431 | X9: =$S9*'S4 COLO205 '!$K9 -> 0 | Y9: 56 | Z9: 4352674816 | AA9: 127 | AB9: ='S4 COLO205 '!$Z9/'S4 COLO205 '!$Z$12*100 -> 20.903109 | AC9: =$AB9*'S4 COLO205 '!$G9 -> 41.806217 | AD9: =$AB9*'S4 COLO205 '!$H9 -> 41.806217 | AE9: =$AB9*'S4 COLO205 '!$I9 -> 0 | AF9: =$AB9*'S4 COLO205 '!$J9 -> 41.806217 | AG9: =$AB9*'S4 COLO205 '!$K9 -> 0 | AH9: =AVERAGE('S4 COLO205 '!$P9,'S4 COLO205 '!$Y9) -> 55.4 | AI9: =AVERAGE('S4 COLO205 '!$S9,'S4 COLO205 '!$AB9) -> 26.501912 | AJ9: =STDEV('S4 COLO205 '!$S9,'S4 COLO205 '!$AB9) -> 7.9179039 | AK9: =AJ9/AI9 -> 0.29876727
B10: =IF(A10, A10-L10,"") | C10: 1175.91 | D10: =IF(C10, C10-M10,"") -> 0 | E10: 783.93 | F10: =IF(E10, E10-N10,"") -> 0.32 | G10: 4 | H10: 4 | J10: 3 | L10: 2352.83 | M10: 1175.91 | N10: 783.61 | O10: H4N4S3 | P10: 75.9 | Q10: 719985472 | R10: 32.4 | S10: ='S4 COLO205 '!$Q10/'S4 COLO205 '!$Q$12*100 -> 6.1486128 | T10: =$S10*'S4 COLO205 '!$G10 -> 24.594451 | U10: =$S10*'S4 COLO205 '!$H10 -> 24.594451 | V10: =$S10*'S4 COLO205 '!$I10 -> 0 | W10: =$S10*'S4 COLO205 '!$J10 -> 18.445838 | X10: =$S10*'S4 COLO205 '!$K10 -> 0 | Y10: 76.8 | Z10: 974631360 | AA10: 29 | AB10: ='S4 COLO205 '!$Z10/'S4 COLO205 '!$Z$12*100 -> 4.68053 | AC10: =$AB10*'S4 COLO205 '!$G10 -> 18.72212 | AD10: =$AB10*'S4 COLO205 '!$H10 -> 18.72212 | AE10: =$AB10*'S4 COLO205 '!$I10 -> 0 | AF10: =$AB10*'S4 COLO205 '!$J10 -> 14.04159 | AG10: =$AB10*'S4 COLO205 '!$K10 -> 0 | AH10: =AVERAGE('S4 COLO205 '!$P10,'S4 COLO205 '!$Y10) -> 76.35 | AI10: =AVERAGE('S4 COLO205 '!$S10,'S4 COLO205 '!$AB10) -> 5.4145714 | AJ10: =STDEV('S4 COLO205 '!$S10,'S4 COLO205 '!$AB10) -> 1.0380913 | AK10: =AJ10/AI10 -> 0.19172179
B11: =IF(A11, A11-L11,"") | C11: 1321.37 | D11: =IF(C11, C11-M11,"") -> -0.09 | F11: =IF(E11, E11-N11,"") | G11: 3 | H11: 3 | J11: 2 | L11: 2643.93 | M11: 1321.46 | N11: 880.64 | O11: H4N4S4 | P11: 76.9 | Q11: 208602944 | R11: 11.6 | S11: ='S4 COLO205 '!$Q11/'S4 COLO205 '!$Q$12*100 -> 1.7814509 | T11: =$S11*'S4 COLO205 '!$G11 -> 5.3443526 | U11: =$S11*'S4 COLO205 '!$H11 -> 5.3443526 | V11: =$S11*'S4 COLO205 '!$I11 -> 0 | W11: =$S11*'S4 COLO205 '!$J11 -> 3.5629017 | X11: =$S11*'S4 COLO205 '!$K11 -> 0 | Y11: 77.6 | Z11: 279551328 | AA11: 12.7 | AB11: ='S4 COLO205 '!$Z11/'S4 COLO205 '!$Z$12*100 -> 1.3425059 | AC11: =$AB11*'S4 COLO205 '!$G11 -> 4.0275178 | AD11: =$AB11*'S4 COLO205 '!$H11 -> 4.0275178 | AE11: =$AB11*'S4 COLO205 '!$I11 -> 0 | AF11: =$AB11*'S4 COLO205 '!$J11 -> 2.6850119 | AG11: =$AB11*'S4 COLO205 '!$K11 -> 0 | AH11: =AVERAGE('S4 COLO205 '!$P11,'S4 COLO205 '!$Y11) -> 77.25 | AI11: =AVERAGE('S4 COLO205 '!$S11,'S4 COLO205 '!$AB11) -> 1.5619784 | AJ11: =STDEV('S4 COLO205 '!$S11,'S4 COLO205 '!$AB11) -> 0.31038094 | AK11: =AJ11/AI11 -> 0.19871013
Q12: =SUM(Q5:Q11) -> 11709722048 | S12: =SUM(S5:S11) -> 100 | T12: =SUM(T5:T11)/100 -> 1.6089865 | U12: =SUM(U5:U11)/100 -> 1.6089865 | V12: =SUM(V5:V11)/100 -> 0.027865969 | W12: =SUM(W5:W11)/100 -> 1.8966608 | X12: =SUM(X5:X11)/100 -> 0 | Z12: =SUM(Z5:Z11) -> 20823098176 | AB12: =SUM(AB5:AB11) -> 100 | AC12: =SUM(AC5:AC11)/100 -> 1.4289825 | AD12: =SUM(AD5:AD11)/100 -> 1.4289825 | AE12: =SUM(AE5:AE11)/100 -> 0.023058737 | AF12: =SUM(AF5:AF11)/100 -> 1.8975885 | AG12: =SUM(AG5:AG11)/100 -> 0 | AI12: =SUM(AI5:AI11) -> 100

Sheet S5 HT29
A1: Supplementary table 1: S5 - O-linked glycans present in HT29 cell line, retention times (min), peak areas, relative abundances with standard deviation and relative standard deviation (CV), and calculations of monosaccharide average compositions for each biological (A,B,C) replicate.
P3: Biological replicate A | Y3: Biological replicate B | AH3: Biological replicate C
A4: [M-H]- | B4: Δ[M-H]- | C4: [M-2H]2- | D4: Δ[M-2H]2- | E4: [M-3H]3- | F4: Δ[M-3H]3- | G4: H | H4: N | I4: F | J4: S | K4: Su | L4: [M-H]-th. | M4: [M-2H]2- th. | N4: [M-3H]3- th. | O4: Composition | P4: RT(min) | Q4: Peak area | R4: S/N | S4: Rel.peak area(%) 1 | T4: H | U4: N | V4: F | W4: S | X4: Su | Y4: RT(min) | Z4: Peak area | AA4: S/N | AB4: Rel.peak area(%) 1 | AC4: H | AD4: N | AE4: F | AF4: S | AG4: Su | AH4: RT(min) | AI4: Peak area | AJ4: S/N | AK4: Rel.peak area(%) 1 | AL4: H | AM4: N | AN4: F | AO4: S | AP4: Su | AQ4: RT avg (min) | AR4: Rel.peak area avg. (%) | AS4: SD | AT4: CV
A5: 675.26 | B5: =IF(A5, A5-L5,"") -> 0.01 | D5: =IF(C5, C5-M5,"") | F5: =IF(E5, E5-N5,"") | G5: 1 | H5: 1 | J5: 1 | L5: 675.25 | M5: 337.12 | N5: 224.41 | O5: H1N1S1 | P5: 22.7 | Q5: 660368192 | R5: 66 | S5: ='S5 HT29'!$Q5/'S5 HT29'!$Q$22*100 -> 7.1433164 | T5: =$S5*G5 -> 7.1433164 | U5: =$S5*H5 -> 7.1433164 | V5: =$S5*I5 -> 0 | W5: =$S5*J5 -> 7.1433164 | X5: =$S5*K5 -> 0 | Y5: 22.9 | Z5: 386722656 | AA5: 40.3 | AB5: ='S5 HT29'!$Z5/'S5 HT29'!$Z$22*100 -> 6.1847157 | AC5: =$AB5*G5 -> 6.1847157 | AD5: =$AB5*H5 -> 6.1847157 | AE5: =$AB5*I5 -> 0 | AF5: =$AB5*J5 -> 6.1847157 | AG5: =$AB5*K5 -> 0 | AH5: 23.5 | AI5: 1103907840 | AJ5: 68.5 | AK5: ='S5 HT29'!$AI5/'S5 HT29'!$AI$22*100 -> 5.7372028 | AL5: =$AK5*G5 -> 5.7372028 | AM5: =$AK5*H5 -> 5.7372028 | AN5: =$AK5*I5 -> 0 | AO5: =$AK5*J5 -> 5.7372028 | AP5: =$AK5*K5 -> 0 | AQ5: =AVERAGE('S5 HT29'!$P5,'S5 HT29'!$Y5,'S5 HT29'!$AH5) -> 23.033333 | AR5: =AVERAGE('S5 HT29'!$S5,'S5 HT29'!$AB5,'S5 HT29'!$AK5) -> 6.3550783 | AS5: =STDEV('S5 HT29'!$S5,'S5 HT29'!$AB5,'S5 HT29'!$AK5) -> 0.71837064 | AT5: ='S5 HT29'!$AS5/'S5 HT29'!$AR5 -> 0.11303883
A6: 966.36 | B6: =IF(A6, A6-L6,"") -> 0.02 | C6: 482.68 | D6: =IF(C6, C6-M6,"") -> 0.01 | F6: =IF(E6, E6-N6,"") | G6: 1 | H6: 1 | J6: 2 | L6: 966.34 | M6: 482.67 | N6: 321.44 | O6: H1N1S2 | P6: 27.3 | Q6: 2221179136 | R6: 126.3 | S6: ='S5 HT29'!$Q6/'S5 HT29'!$Q$22*100 -> 24.026877 | T6: =$S6*G6 -> 24.026877 | U6: =$S6*H6 -> 24.026877 | V6: =$S6*I6 -> 0 | W6: =$S6*J6 -> 48.053754 | X6: =$S6*K6 -> 0 | Y6: 27.5 | Z6: 1320461056 | AA6: 74.5 | AB6: ='S5 HT29'!$Z6/'S5 HT29'!$Z$22*100 -> 21.117657 | AC6: =$AB6*G6 -> 21.117657 | AD6: =$AB6*H6 -> 21.117657 | AE6: =$AB6*I6 -> 0 | AF6: =$AB6*J6 -> 42.235313 | AG6: =$AB6*K6 -> 0 | AH6: 28.2 | AI6: 3675916288 | AJ6: 139.7 | AK6: ='S5 HT29'!$AI6/'S5 HT29'!$AI$22*100 -> 19.104382 | AL6: =$AK6*G6 -> 19.104382 | AM6: =$AK6*H6 -> 19.104382 | AN6: =$AK6*I6 -> 0 | AO6: =$AK6*J6 -> 38.208765 | AP6: =$AK6*K6 -> 0 | AQ6: =AVERAGE('S5 HT29'!$P6,'S5 HT29'!$Y6,'S5 HT29'!$AH6) -> 27.666667 | AR6: =AVERAGE('S5 HT29'!$S6,'S5 HT29'!$AB6,'S5 HT29'!$AK6) -> 21.416305 | AS6: =STDEV('S5 HT29'!$S6,'S5 HT29'!$AB6,'S5 HT29'!$AK6) -> 2.4747993 | AT6: ='S5 HT29'!$AS6/'S5 HT29'!$AR6 -> 0.11555678
A7: 1186.4 | B7: =IF(A7, A7-L7,"") -> -0.04 | D7: =IF(C7, C7-M7,"") | F7: =IF(E7, E7-N7,"") | G7: 2 | H7: 2 | I7: 1 | J7: 1 | L7: 1186.44 | M7: 592.71 | N7: 394.81 | O7: H2N2F1S1 | P7: 37.2 | Q7: 112357296 | R7: 10.6 | S7: ='S5 HT29'!$Q7/'S5 HT29'!$Q$22*100 -> 1.2153882 | T7: =$S7*G7 -> 2.4307764 | U7: =$S7*H7 -> 2.4307764 | V7: =$S7*I7 -> 1.2153882 | W7: =$S7*J7 -> 1.2153882 | X7: =$S7*K7 -> 0 | Y7: 37.5 | Z7: 61497748 | AA7: 6 | AB7: ='S5 HT29'!$Z7/'S5 HT29'!$Z$22*100 -> 0.98351126 | AC7: =$AB7*G7 -> 1.9670225 | AD7: =$AB7*H7 -> 1.9670225 | AE7: =$AB7*I7 -> 0.98351126 | AF7: =$AB7*J7 -> 0.98351126 | AG7: =$AB7*K7 -> 0 | AH7: 38.1 | AI7: 232508096 | AJ7: 14.6 | AK7: ='S5 HT29'!$AI7/'S5 HT29'!$AI$22*100 -> 1.2083854 | AL7: =$AK7*G7 -> 2.4167708 | AM7: =$AK7*H7 -> 2.4167708 | AN7: =$AK7*I7 -> 1.2083854 | AO7: =$AK7*J7 -> 1.2083854 | AP7: =$AK7*K7 -> 0 | AQ7: =AVERAGE('S5 HT29'!$P7,'S5 HT29'!$Y7,'S5 HT29'!$AH7) -> 37.6 | AR7: =AVERAGE('S5 HT29'!$S7,'S5 HT29'!$AB7,'S5 HT29'!$AK7) -> 1.1357616 | AS7: =STDEV('S5 HT29'!$S7,'S5 HT29'!$AB7,'S5 HT29'!$AK7) -> 0.13189916 | AT7: ='S5 HT29'!$AS7/'S5 HT29'!$AR7 -> 0.11613279
A8: 1040.34 | B8: =IF(A8, A8-L8,"") -> -0.04 | D8: =IF(C8, C8-M8,"") | F8: =IF(E8, E8-N8,"") | G8: 2 | H8: 2 | J8: 1 | L8: 1040.38 | M8: 519.69 | N8: 346.12 | O8: H2N2S1 | P8: 43.4 | Q8: 147368720 | R8: 15.5 | S8: ='S5 HT29'!$Q8/'S5 HT29'!$Q$22*100 -> 1.5941128 | T8: =$S8*G8 -> 3.1882256 | U8: =$S8*H8 -> 3.1882256 | V8: =$S8*I8 -> 0 | W8: =$S8*J8 -> 1.5941128 | X8: =$S8*K8 -> 0 | Y8: 43.9 | Z8: 78967120 | AA8: 8.7 | AB8: ='S5 HT29'!$Z8/'S5 HT29'!$Z$22*100 -> 1.2628926 | AC8: =$AB8*G8 -> 2.5257852 | AD8: =$AB8*H8 -> 2.5257852 | AE8: =$AB8*I8 -> 0 | AF8: =$AB8*J8 -> 1.2628926 | AG8: =$AB8*K8 -> 0 | AH8: 44.4 | AI8: 353555168 | AJ8: 17.9 | AK8: ='S5 HT29'!$AI8/'S5 HT29'!$AI$22*100 -> 1.8374883 | AL8: =$AK8*G8 -> 3.6749766 | AM8: =$AK8*H8 -> 3.6749766 | AN8: =$AK8*I8 -> 0 | AO8: =$AK8*J8 -> 1.8374883 | AP8: =$AK8*K8 -> 0 | AQ8: =AVERAGE('S5 HT29'!$P8,'S5 HT29'!$Y8,'S5 HT29'!$AH8) -> 43.9 | AR8: =AVERAGE('S5 HT29'!$S8,'S5 HT29'!$AB8,'S5 HT29'!$AK8) -> 1.5648312 | AS8: =STDEV('S5 HT29'!$S8,'S5 HT29'!$AB8,'S5 HT29'!$AK8) -> 0.28841481 | AT8: ='S5 HT29'!$AS8/'S5 HT29'!$AR8 -> 0.18431049
A9: 1477.48 | B9: =IF(A9, A9-L9,"") -> -0.05 | C9: 738.29 | D9: =IF(C9, C9-M9,"") -> 0.03 | F9: =IF(E9, E9-N9,"") | G9: 2 | H9: 2 | I9: 1 | J9: 2 | L9: 1477.53 | M9: 738.26 | N9: 491.84 | O9: H2N2F1S2 | P9: 46.3 | Q9: 314811872 | R9: 41.8 | S9: ='S5 HT29'!$Q9/'S5 HT29'!$Q$22*100 -> 3.4053742 | T9: =$S9*G9 -> 6.8107484 | U9: =$S9*H9 -> 6.8107484 | V9: =$S9*I9 -> 3.4053742 | W9: =$S9*J9 -> 6.8107484 | X9: =$S9*K9 -> 0 | Y9: 46.8 | Z9: 199165968 | AA9: 26.5 | AB9: ='S5 HT29'!$Z9/'S5 HT29'!$Z$22*100 -> 3.1851894 | AC9: =$AB9*G9 -> 6.3703787 | AD9: =$AB9*H9 -> 6.3703787 | AE9: =$AB9*I9 -> 3.1851894 | AF9: =$AB9*J9 -> 6.3703787 | AG9: =$AB9*K9 -> 0 | AH9: 47.3 | AI9: 591918272 | AJ9: 45.4 | AK9: ='S5 HT29'!$AI9/'S5 HT29'!$AI$22*100 -> 3.0763032 | AL9: =$AK9*G9 -> 6.1526064 | AM9: =$AK9*H9 -> 6.1526064 | AN9: =$AK9*I9 -> 3.0763032 | AO9: =$AK9*J9 -> 6.1526064 | AP9: =$AK9*K9 -> 0 | AQ9: =AVERAGE('S5 HT29'!$P9,'S5 HT29'!$Y9,'S5 HT29'!$AH9) -> 46.8 | AR9: =AVERAGE('S5 HT29'!$S9,'S5 HT29'!$AB9,'S5 HT29'!$AK9) -> 3.2222889 | AS9: =STDEV('S5 HT29'!$S9,'S5 HT29'!$AB9,'S5 HT29'!$AK9) -> 0.16764312 | AT9: ='S5 HT29'!$AS9/'S5 HT29'!$AR9 -> 0.052026099
G10: 2 | H10: 1 | I10: 2 | J10: 1 | K10: 2 | L10: 1289.33 | M10: 644.16 | N10: 429.1 | O10: H2N1F2S1Su2 | P10: 50.5 | Q10: 63870932 | R10: 6.4 | S10: ='S5 HT29'!$Q10/'S5 HT29'!$Q$22*100 -> 0.69090286 | T10: =$S10*G10 -> 1.3818057 | U10: =$S10*H10 -> 0.69090286 | V10: =$S10*I10 -> 1.3818057 | W10: =$S10*J10 -> 0.69090286 | X10: =$S10*K10 -> 1.3818057 | Y10: 51 | AA10: 3 | AB10: ='S5 HT29'!$Z10/'S5 HT29'!$Z$22*100 -> 0 | AC10: =$AB10*G10 -> 0 | AD10: =$AB10*H10 -> 0 | AE10: =$AB10*I10 -> 0 | AF10: =$AB10*J10 -> 0 | AG10: =$AB10*K10 -> 0 | AH10: 51.4 | AI10: 137885408 | AJ10: 9.9 | AK10: ='S5 HT29'!$AI10/'S5 HT29'!$AI$22*100 -> 0.71661467 | AL10: =$AK10*G10 -> 1.4332293 | AM10: =$AK10*H10 -> 0.71661467 | AN10: =$AK10*I10 -> 1.4332293 | AO10: =$AK10*J10 -> 0.71661467 | AP10: =$AK10*K10 -> 1.4332293 | AQ10: =AVERAGE('S5 HT29'!$P10,'S5 HT29'!$Y10,'S5 HT29'!$AH10) -> 50.966667 | AR10: =AVERAGE('S5 HT29'!$S10,'S5 HT29'!$AB10,'S5 HT29'!$AK10) -> 0.46917251 | AS10: =STDEV('S5 HT29'!$S10,'S5 HT29'!$AB10,'S5 HT29'!$AK10) -> 0.40651864 | AT10: ='S5 HT29'!$AS10/'S5 HT29'!$AR10 -> 0.86645879
A11: 1411.35 | B11: =IF(A11, A11-L11,"") -> -0.08 | C11: 705.15 | D11: =IF(C11, C11-M11,"") -> -0.06 | F11: =IF(E11, E11-N11,"") | G11: 2 | H11: 2 | J11: 2 | K11: 1 | L11: 1411.43 | M11: 705.21 | N11: 469.81 | O11: H2N2S2Su1 | P11: 51.3 | Q11: 76096176 | R11: 7.6 | S11: ='S5 HT29'!$Q11/'S5 HT29'!$Q$22*100 -> 0.82314543 | T11: =$S11*G11 -> 1.6462909 | U11: =$S11*H11 -> 1.6462909 | V11: =$S11*I11 -> 0 | W11: =$S11*J11 -> 1.6462909 | X11: =$S11*K11 -> 0.82314543 | Y11: 51.7 | Z11: 85470304 | AA11: 11 | AB11: ='S5 HT29'!$Z11/'S5 HT29'!$Z$22*100 -> 1.3668957 | AC11: =$AB11*G11 -> 2.7337914 | AD11: =$AB11*H11 -> 2.7337914 | AE11: =$AB11*I11 -> 0 | AF11: =$AB11*J11 -> 2.7337914 | AG11: =$AB11*K11 -> 1.3668957 | AH11: 52.2 | AJ11: 5.9 | AK11: ='S5 HT29'!$AI11/'S5 HT29'!$AI$22*100 -> 0 | AL11: =$AK11*G11 -> 0 | AM11: =$AK11*H11 -> 0 | AN11: =$AK11*I11 -> 0 | AO11: =$AK11*J11 -> 0 | AP11: =$AK11*K11 -> 0 | AQ11: =AVERAGE('S5 HT29'!$P11,'S5 HT29'!$Y11,'S5 HT29'!$AH11) -> 51.733333 | AR11: =AVERAGE('S5 HT29'!$S11,'S5 HT29'!$AB11,'S5 HT29'!$AK11) -> 0.73001371 | AS11: =STDEV('S5 HT29'!$S11,'S5 HT29'!$AB11,'S5 HT29'!$AK11) -> 0.68819045 | AT11: ='S5 HT29'!$AS11/'S5 HT29'!$AR11 -> 0.94270894
A12: 1331.45 | B12: =IF(A12, A12-L12,"") -> -0.02 | C12: 665.27 | D12: =IF(C12, C12-M12,"") -> 0.04 | F12: =IF(E12, E12-N12,"") | G12: 2 | H12: 2 | J12: 2 | L12: 1331.47 | M12: 665.23 | N12: 443.15 | O12: H2N2S2 | P12: 56.3 | Q12: 4110843136 | R12: 335.9 | S12: ='S5 HT29'!$Q12/'S5 HT29'!$Q$22*100 -> 44.467698 | T12: =$S12*G12 -> 88.935395 | U12: =$S12*H12 -> 88.935395 | V12: =$S12*I12 -> 0 | W12: =$S12*J12 -> 88.935395 | X12: =$S12*K12 -> 0 | Y12: 56.6 | Z12: 3074579456 | AA12: 270.1 | AB12: ='S5 HT29'!$Z12/'S5 HT29'!$Z$22*100 -> 49.170638 | AC12: =$AB12*G12 -> 98.341277 | AD12: =$AB12*H12 -> 98.341277 | AE12: =$AB12*I12 -> 0 | AF12: =$AB12*J12 -> 98.341277 | AG12: =$AB12*K12 -> 0 | AH12: 57 | AI12: 9078560768 | AJ12: 422.9 | AK12: ='S5 HT29'!$AI12/'S5 HT29'!$AI$22*100 -> 47.182874 | AL12: =$AK12*G12 -> 94.365748 | AM12: =$AK12*H12 -> 94.365748 | AN12: =$AK12*I12 -> 0 | AO12: =$AK12*J12 -> 94.365748 | AP12: =$AK12*K12 -> 0 | AQ12: =AVERAGE('S5 HT29'!$P12,'S5 HT29'!$Y12,'S5 HT29'!$AH12) -> 56.633333 | AR12: =AVERAGE('S5 HT29'!$S12,'S5 HT29'!$AB12,'S5 HT29'!$AK12) -> 46.940403 | AS12: =STDEV('S5 HT29'!$S12,'S5 HT29'!$AB12,'S5 HT29'!$AK12) -> 2.3608276 | AT12: ='S5 HT29'!$AS12/'S5 HT29'!$AR12 -> 0.050294148
A13: 1696.57 | B13: =IF(A13, A13-L13,"") -> -0.04 | C13: 847.82 | D13: =IF(C13, C13-M13,"") -> 0.02 | F13: =IF(E13, E13-N13,"") | G13: 3 | H13: 3 | J13: 2 | L13: 1696.61 | M13: 847.8 | N13: 564.86 | O13: H3N3S2 | P13: 61.6 | Q13: 386424384 | R13: 45.7 | S13: ='S5 HT29'!$Q13/'S5 HT29'!$Q$22*100 -> 4.1800191 | T13: =$S13*G13 -> 12.540057 | U13: =$S13*H13 -> 12.540057 | V13: =$S13*I13 -> 0 | W13: =$S13*J13 -> 8.3600381 | X13: =$S13*K13 -> 0 | Y13: 62.1 | Z13: 185214208 | AA13: 18.2 | AB13: ='S5 HT29'!$Z13/'S5 HT29'!$Z$22*100 -> 2.9620639 | AC13: =$AB13*G13 -> 8.8861917 | AD13: =$AB13*H13 -> 8.8861917 | AE13: =$AB13*I13 -> 0 | AF13: =$AB13*J13 -> 5.9241278 | AG13: =$AB13*K13 -> 0 | AH13: 62.6 | AI13: 762324672 | AJ13: 58.7 | AK13: ='S5 HT29'!$AI13/'S5 HT29'!$AI$22*100 -> 3.9619352 | AL13: =$AK13*G13 -> 11.885805 | AM13: =$AK13*H13 -> 11.885805 | AN13: =$AK13*I13 -> 0 | AO13: =$AK13*J13 -> 7.9238703 | AP13: =$AK13*K13 -> 0 | AQ13: =AVERAGE('S5 HT29'!$P13,'S5 HT29'!$Y13,'S5 HT29'!$AH13) -> 62.1 | AR13: =AVERAGE('S5 HT29'!$S13,'S5 HT29'!$AB13,'S5 HT29'!$AK13) -> 3.7013394 | AS13: =STDEV('S5 HT29'!$S13,'S5 HT29'!$AB13,'S5 HT29'!$AK13) -> 0.64945078 | AT13: ='S5 HT29'!$AS13/'S5 HT29'!$AR13 -> 0.17546372
B14: =IF(A14, A14-L14,"") | C14: 1029.33 | D14: =IF(C14, C14-M14,"") -> 0.03 | F14: =IF(E14, E14-N14,"") | G14: 3 | H14: 4 | J14: 2 | K14: 2 | L14: 2059.6 | M14: 1029.3 | N14: 685.86 | O14: H3N4S2Su2 | P14: 61.7 | Q14: 112960432 | R14: 10.2 | S14: ='S5 HT29'!$Q14/'S5 HT29'!$Q$22*100 -> 1.2219124 | T14: =$S14*G14 -> 3.6657373 | U14: =$S14*H14 -> 4.8876497 | V14: =$S14*I14 -> 0 | W14: =$S14*J14 -> 2.4438249 | X14: =$S14*K14 -> 2.4438249 | Y14: 62 | AA14: 2.7 | AB14: ='S5 HT29'!$Z14/'S5 HT29'!$Z$22*100 -> 0 | AC14: =$AB14*G14 -> 0 | AD14: =$AB14*H14 -> 0 | AE14: =$AB14*I14 -> 0 | AF14: =$AB14*J14 -> 0 | AG14: =$AB14*K14 -> 0 | AH14: 62.4 | AI14: 243164160 | AJ14: 16.2 | AK14: ='S5 HT29'!$AI14/'S5 HT29'!$AI$22*100 -> 1.2637668 | AL14: =$AK14*G14 -> 3.7913005 | AM14: =$AK14*H14 -> 5.0550673 | AN14: =$AK14*I14 -> 0 | AO14: =$AK14*J14 -> 2.5275337 | AP14: =$AK14*K14 -> 2.5275337 | AQ14: =AVERAGE('S5 HT29'!$P14,'S5 HT29'!$Y14,'S5 HT29'!$AH14) -> 62.033333 | AR14: =AVERAGE('S5 HT29'!$S14,'S5 HT29'!$AB14,'S5 HT29'!$AK14) -> 0.82855975 | AS14: =STDEV('S5 HT29'!$S14,'S5 HT29'!$AB14,'S5 HT29'!$AK14) -> 0.7178589 | AT14: ='S5 HT29'!$AS14/'S5 HT29'!$AR14 -> 0.86639364
B15: =IF(A15, A15-L15,"") | C15: 993.37 | D15: =IF(C15, C15-M15,"") -> 0.02277 | F15: =IF(E15, E15-N15,"") | G15: 3 | H15: 3 | J15: 3 | L15: 1987.7017 | M15: 993.34723 | N15: 661.89573 | O15: H3N3S3 | P15: 63.1 | Q15: 144737584 | R15: 12.4 | S15: ='S5 HT29'!$Q15/'S5 HT29'!$Q$22*100 -> 1.5656514 | T15: =$S15*G15 -> 4.6969541 | U15: =$S15*H15 -> 4.6969541 | V15: =$S15*I15 -> 0 | W15: =$S15*J15 -> 4.6969541 | X15: =$S15*K15 -> 0 | Y15: 63.7 | Z15: 69466776 | AA15: 7 | AB15: ='S5 HT29'!$Z15/'S5 HT29'!$Z$22*100 -> 1.110957 | AC15: =$AB15*G15 -> 3.3328711 | AD15: =$AB15*H15 -> 3.3328711 | AE15: =$AB15*I15 -> 0 | AF15: =$AB15*J15 -> 3.3328711 | AG15: =$AB15*K15 -> 0 | AH15: 64 | AI15: 93021360 | AJ15: 8.4 | AK15: ='S5 HT29'!$AI15/'S5 HT29'!$AI$22*100 -> 0.48344834 | AL15: =$AK15*G15 -> 1.450345 | AM15: =$AK15*H15 -> 1.450345 | AN15: =$AK15*I15 -> 0 | AO15: =$AK15*J15 -> 1.450345 | AP15: =$AK15*K15 -> 0 | AQ15: =AVERAGE('S5 HT29'!$P15,'S5 HT29'!$Y15,'S5 HT29'!$AH15) -> 63.6 | AR15: =AVERAGE('S5 HT29'!$S15,'S5 HT29'!$AB15,'S5 HT29'!$AK15) -> 1.0533522 | AS15: =STDEV('S5 HT29'!$S15,'S5 HT29'!$AB15,'S5 HT29'!$AK15) -> 0.54339633 | AT15: ='S5 HT29'!$AS15/'S5 HT29'!$AR15 -> 0.51587333
B16: =IF(A16, A16-L16,"") | C16: 1029.27 | D16: =IF(C16, C16-M16,"") -> -0.03 | F16: =IF(E16, E16-N16,"") | G16: 3 | H16: 4 | J16: 2 | K16: 2 | L16: 2059.6 | M16: 1029.3 | N16: 685.86 | O16: H3N4S2Su2 | P16: 66.9 | Q16: 126099688 | R16: 8.4 | S16: ='S5 HT29'!$Q16/'S5 HT29'!$Q$22*100 -> 1.364042 | T16: =$S16*G16 -> 4.0921261 | U16: =$S16*H16 -> 5.4561681 | V16: =$S16*I16 -> 0 | W16: =$S16*J16 -> 2.728084 | X16: =$S16*K16 -> 2.728084 | Y16: 67.6 | AA16: 4 | AB16: ='S5 HT29'!$Z16/'S5 HT29'!$Z$22*100 -> 0 | AC16: =$AB16*G16 -> 0 | AD16: =$AB16*H16 -> 0 | AE16: =$AB16*I16 -> 0 | AF16: =$AB16*J16 -> 0 | AG16: =$AB16*K16 -> 0 | AH16: 68.2 | AI16: 226788896 | AJ16: 15.3 | AK16: ='S5 HT29'!$AI16/'S5 HT29'!$AI$22*100 -> 1.1786617 | AL16: =$AK16*G16 -> 3.5359851 | AM16: =$AK16*H16 -> 4.7146468 | AN16: =$AK16*I16 -> 0 | AO16: =$AK16*J16 -> 2.3573234 | AP16: =$AK16*K16 -> 2.3573234 | AQ16: =AVERAGE('S5 HT29'!$P16,'S5 HT29'!$Y16,'S5 HT29'!$AH16) -> 67.566667 | AR16: =AVERAGE('S5 HT29'!$S16,'S5 HT29'!$AB16,'S5 HT29'!$AK16) -> 0.84756791 | AS16: =STDEV('S5 HT29'!$S16,'S5 HT29'!$AB16,'S5 HT29'!$AK16) -> 0.73984457 | AT16: ='S5 HT29'!$AS16/'S5 HT29'!$AR16 -> 0.872903
B17: =IF(A17, A17-L17,"") | C17: 847.77 | D17: =IF(C17, C17-M17,"") -> -0.03 | F17: =IF(E17, E17-N17,"") | G17: 3 | H17: 3 | J17: 2 | L17: 1696.61 | M17: 847.8 | N17: 564.86 | O17: H3N3S2 | P17: 67.2 | Q17: 250088208 | R17: 27.7 | S17: ='S5 HT29'!$Q17/'S5 HT29'!$Q$22*100 -> 2.7052472 | T17: =$S17*G17 -> 8.1157415 | U17: =$S17*H17 -> 8.1157415 | V17: =$S17*I17 -> 0 | W17: =$S17*J17 -> 5.4104944 | X17: =$S17*K17 -> 0 | Y17: 67.6 | Z17: 116354016 | AA17: 12.5 | AB17: ='S5 HT29'!$Z17/'S5 HT29'!$Z$22*100 -> 1.8608077 | AC17: =$AB17*G17 -> 5.5824232 | AD17: =$AB17*H17 -> 5.5824232 | AE17: =$AB17*I17 -> 0 | AF17: =$AB17*J17 -> 3.7216155 | AG17: =$AB17*K17 -> 0 | AH17: 68.1 | AI17: 464080096 | AJ17: 34.2 | AK17: ='S5 HT29'!$AI17/'S5 HT29'!$AI$22*100 -> 2.4119057 | AL17: =$AK17*G17 -> 7.2357172 | AM17: =$AK17*H17 -> 7.2357172 | AN17: =$AK17*I17 -> 0 | AO17: =$AK17*J17 -> 4.8238115 | AP17: =$AK17*K17 -> 0 | AQ17: =AVERAGE('S5 HT29'!$P17,'S5 HT29'!$Y17,'S5 HT29'!$AH17) -> 67.633333 | AR17: =AVERAGE('S5 HT29'!$S17,'S5 HT29'!$AB17,'S5 HT29'!$AK17) -> 2.3259869 | AS17: =STDEV('S5 HT29'!$S17,'S5 HT29'!$AB17,'S5 HT29'!$AK17) -> 0.42872606 | AT17: ='S5 HT29'!$AS17/'S5 HT29'!$AR17 -> 0.18432007
B18: =IF(A18, A18-L18,"") | C18: 1175.92 | D18: =IF(C18, C18-M18,"") -> 0.01 | E18: 783.65 | F18: =IF(E18, E18-N18,"") -> 0.04 | G18: 4 | H18: 4 | J18: 3 | L18: 2352.83 | M18: 1175.91 | N18: 783.61 | O18: H4N4S3 | P18: 71.7 | Q18: 278610048 | R18: 27.6 | S18: ='S5 HT29'!$Q18/'S5 HT29'!$Q$22*100 -> 3.0137728 | T18: =$S18*G18 -> 12.055091 | U18: =$S18*H18 -> 12.055091 | V18: =$S18*I18 -> 0 | W18: =$S18*J18 -> 9.0413185 | X18: =$S18*K18 -> 0 | Y18: 72.4 | Z18: 207747056 | AA18: 13 | AB18: ='S5 HT29'!$Z18/'S5 HT29'!$Z$22*100 -> 3.3224236 | AC18: =$AB18*G18 -> 13.289694 | AD18: =$AB18*H18 -> 13.289694 | AE18: =$AB18*I18 -> 0 | AF18: =$AB18*J18 -> 9.9672708 | AG18: =$AB18*K18 -> 0 | AH18: 72.8 | AI18: 739000512 | AJ18: 56.4 | AK18: ='S5 HT29'!$AI18/'S5 HT29'!$AI$22*100 -> 3.8407154 | AL18: =$AK18*G18 -> 15.362862 | AM18: =$AK18*H18 -> 15.362862 | AN18: =$AK18*I18 -> 0 | AO18: =$AK18*J18 -> 11.522146 | AP18: =$AK18*K18 -> 0 | AQ18: =AVERAGE('S5 HT29'!$P18,'S5 HT29'!$Y18,'S5 HT29'!$AH18) -> 72.3 | AR18: =AVERAGE('S5 HT29'!$S18,'S5 HT29'!$AB18,'S5 HT29'!$AK18) -> 3.3923039 | AS18: =STDEV('S5 HT29'!$S18,'S5 HT29'!$AB18,'S5 HT29'!$AK18) -> 0.41787671 | AT18: ='S5 HT29'!$AS18/'S5 HT29'!$AR18 -> 0.12318375
B19: =IF(A19, A19-L19,"") | C19: 1175.92 | D19: =IF(C19, C19-M19,"") -> 0.01 | E19: 783.37 | F19: =IF(E19, E19-N19,"") -> -0.24 | G19: 4 | H19: 4 | J19: 3 | L19: 2352.83 | M19: 1175.91 | N19: 783.61 | O19: H4N4S3 | P19: 76.2 | Q19: 63116852 | R19: 8.6 | S19: ='S5 HT29'!$Q19/'S5 HT29'!$Q$22*100 -> 0.68274585 | T19: =$S19*G19 -> 2.7309834 | U19: =$S19*H19 -> 2.7309834 | V19: =$S19*I19 -> 0 | W19: =$S19*J19 -> 2.0482375 | X19: =$S19*K19 -> 0 | Y19: 77.1 | Z19: 103889168 | AA19: 10.5 | AB19: ='S5 HT29'!$Z19/'S5 HT29'!$Z$22*100 -> 1.6614619 | AC19: =$AB19*G19 -> 6.6458477 | AD19: =$AB19*H19 -> 6.6458477 | AE19: =$AB19*I19 -> 0 | AF19: =$AB19*J19 -> 4.9843858 | AG19: =$AB19*K19 -> 0 | AH19: 77.4 | AI19: 508974080 | AJ19: 35.7 | AK19: ='S5 HT29'!$AI19/'S5 HT29'!$AI$22*100 -> 2.6452276 | AL19: =$AK19*G19 -> 10.580911 | AM19: =$AK19*H19 -> 10.580911 | AN19: =$AK19*I19 -> 0 | AO19: =$AK19*J19 -> 7.9356829 | AP19: =$AK19*K19 -> 0 | AQ19: =AVERAGE('S5 HT29'!$P19,'S5 HT29'!$Y19,'S5 HT29'!$AH19) -> 76.9 | AR19: =AVERAGE('S5 HT29'!$S19,'S5 HT29'!$AB19,'S5 HT29'!$AK19) -> 1.6631451 | AS19: =STDEV('S5 HT29'!$S19,'S5 HT29'!$AB19,'S5 HT29'!$AK19) -> 0.98124198 | AT19: ='S5 HT29'!$AS19/'S5 HT29'!$AR19 -> 0.58999179
B20: =IF(A20, A20-L20,"") | C20: 1321.37 | D20: =IF(C20, C20-M20,"") -> -0.09 | F20: =IF(E20, E20-N20,"") | G20: 4 | H20: 4 | J20: 4 | L20: 2643.93 | M20: 1321.46 | N20: 880.64 | O20: H4N4S4 | P20: 77.2 | R20: 5 | S20: ='S5 HT29'!$Q20/'S5 HT29'!$Q$22*100 -> 0 | T20: =$S20*G20 -> 0 | U20: =$S20*H20 -> 0 | V20: =$S20*I20 -> 0 | W20: =$S20*J20 -> 0 | X20: =$S20*K20 -> 0 | Y20: 78.2 | Z20: 64625120 | AA20: 8.7 | AB20: ='S5 HT29'!$Z20/'S5 HT29'!$Z$22*100 -> 1.0335262 | AC20: =$AB20*G20 -> 4.1341048 | AD20: =$AB20*H20 -> 4.1341048 | AE20: =$AB20*I20 -> 0 | AF20: =$AB20*J20 -> 4.1341048 | AG20: =$AB20*K20 -> 0 | AH20: 78.5 | AI20: 171077296 | AJ20: 10.5 | AK20: ='S5 HT29'!$AI20/'S5 HT29'!$AI$22*100 -> 0.88911874 | AL20: =$AK20*G20 -> 3.556475 | AM20: =$AK20*H20 -> 3.556475 | AN20: =$AK20*I20 -> 0 | AO20: =$AK20*J20 -> 3.556475 | AP20: =$AK20*K20 -> 0 | AQ20: =AVERAGE('S5 HT29'!$P20,'S5 HT29'!$Y20,'S5 HT29'!$AH20) -> 77.966667 | AR20: =AVERAGE('S5 HT29'!$S20,'S5 HT29'!$AB20,'S5 HT29'!$AK20) -> 0.64088164 | AS20: =STDEV('S5 HT29'!$S20,'S5 HT29'!$AB20,'S5 HT29'!$AK20) -> 0.55969665 | AT20: ='S5 HT29'!$AS20/'S5 HT29'!$AR20 -> 0.87332295
B21: =IF(A21, A21-L21,"") | C21: 1175.9 | D21: =IF(C21, C21-M21,"") -> -0.01 | E21: 783.67 | F21: =IF(E21, E21-N21,"") -> 0.06 | G21: 4 | H21: 4 | J21: 3 | L21: 2352.83 | M21: 1175.91 | N21: 783.61 | O21: H4N4S3 | P21: 77.4 | Q21: 175627680 | R21: 18.2 | S21: ='S5 HT29'!$Q21/'S5 HT29'!$Q$22*100 -> 1.8997948 | T21: =$S21*G21 -> 7.5991793 | U21: =$S21*H21 -> 7.5991793 | V21: =$S21*I21 -> 0 | W21: =$S21*J21 -> 5.6993845 | X21: =$S21*K21 -> 0 | Y21: 78.3 | Z21: 298716192 | AA21: 12.7 | AB21: ='S5 HT29'!$Z21/'S5 HT29'!$Z$22*100 -> 4.7772601 | AC21: =$AB21*G21 -> 19.10904 | AD21: =$AB21*H21 -> 19.10904 | AE21: =$AB21*I21 -> 0 | AF21: =$AB21*J21 -> 14.33178 | AG21: =$AB21*K21 -> 0 | AH21: 78.8 | AI21: 858537408 | AJ21: 35.1 | AK21: ='S5 HT29'!$AI21/'S5 HT29'!$AI$22*100 -> 4.4619696 | AL21: =$AK21*G21 -> 17.847879 | AM21: =$AK21*H21 -> 17.847879 | AN21: =$AK21*I21 -> 0 | AO21: =$AK21*J21 -> 13.385909 | AP21: =$AK21*K21 -> 0 | AQ21: =AVERAGE('S5 HT29'!$P21,'S5 HT29'!$Y21,'S5 HT29'!$AH21) -> 78.166667 | AR21: =AVERAGE('S5 HT29'!$S21,'S5 HT29'!$AB21,'S5 HT29'!$AK21) -> 3.7130082 | AS21: =STDEV('S5 HT29'!$S21,'S5 HT29'!$AB21,'S5 HT29'!$AK21) -> 1.5781822 | AT21: ='S5 HT29'!$AS21/'S5 HT29'!$AR21 -> 0.4250414
Q22: =SUM(Q5:Q21) -> 9244560336 | S22: =SUM(S5:S21) -> 100 | T22: =SUM(T5:T21)/100 -> 1.9105931 | U22: =SUM(U5:U21)/100 -> 1.9295436 | V22: =SUM(V5:V21)/100 -> 0.060025681 | W22: =SUM(W5:W21)/100 -> 1.9651824 | X22: =SUM(X5:X21)/100 -> 0.073768601 | Z22: =SUM(Z5:Z21) -> 6252876844 | AB22: =SUM(AB5:AB21) -> 100 | AC22: =SUM(AC5:AC21)/100 -> 2.002208 | AD22: =SUM(AD5:AD21)/100 -> 2.002208 | AE22: =SUM(AE5:AE21)/100 -> 0.041687006 | AF22: =SUM(AF5:AF21)/100 -> 2.0450804 | AG22: =SUM(AG5:AG21)/100 -> 0.013668957 | AI22: =SUM(AI5:AI21) -> 19241220320 | AK22: =SUM(AK5:AK21) -> 100 | AL22: =SUM(AL5:AL21)/100 -> 2.081322 | AM22: =SUM(AM5:AM21)/100 -> 2.0985801 | AN22: =SUM(AN5:AN21)/100 -> 0.057179179 | AO22: =SUM(AO5:AO21)/100 -> 2.0370991 | AP22: =SUM(AP5:AP21)/100 -> 0.063180864 | AR22: =SUM(AR5:AR21) -> 100

Sheet S6 HT29_Vumc 
A1: Supplementary table 1: S6 - O-linked glycans present in HT29_Vumc cell line, retention times (min), peak areas, relative abundances with standard deviation and relative standard deviation (CV), and calculations of monosaccharide average compositions for each technical (1-2) replicate.
P3: Technical replicate 1. | Y3: Technical replicate 2.
A4: [M-H]- | B4: Δ[M-H]- | C4: [M-2H]2- | D4: Δ[M-2H]2- | E4: [M-3H]3- | F4: Δ[M-3H]3- | G4: H | H4: N | I4: F | J4: S | K4: Su | L4: [M-H]-th. | M4: [M-2H]2- th. | N4: [M-3H]3- th. | O4: Composition | P4: RT(min) | Q4: Peak area | R4: S/N | S4: Rel.peak area(%) 1 | T4: H | U4: N | V4: F | W4: S | X4: Su | Y4: RT(min) | Z4: Peak area | AA4: S/N | AB4: Rel.peak area(%) 1 | AC4: H | AD4: N | AE4: F | AF4: S | AG4: Su | AH4: RT avg (min) | AI4: Rel.peak area avg. (%) | AJ4: SD | AK4: CV
A5: 675.28 | B5: =IF(A5, A5-L5,"") -> 0.03 | D5: =IF(C5, C5-M5,"") | F5: =IF(E5, E5-N5,"") | G5: 1 | H5: 1 | J5: 1 | L5: 675.25 | M5: 337.12 | N5: 224.41 | O5: H1N1S1 | P5: 22.5 | Q5: 652454720 | R5: 49 | S5: ='S6 HT29_Vumc '!$Q5/'S6 HT29_Vumc '!$Q$17*100 -> 6.7276205 | T5: =$S5*G5 -> 6.7276205 | U5: =$S5*H5 -> 6.7276205 | V5: =$S5*I5 -> 0 | W5: =$S5*J5 -> 6.7276205 | X5: =$S5*K5 -> 0 | Y5: 22.9 | Z5: 89113104 | AA5: 48.5 | AB5: ='S6 HT29_Vumc '!$Z5/'S6 HT29_Vumc '!$Z$17*100 -> 1.9874349 | AC5: =$AB5*G5 -> 1.9874349 | AD5: =$AB5*H5 -> 1.9874349 | AE5: =$AB5*I5 -> 0 | AF5: =$AB5*J5 -> 1.9874349 | AG5: =$AB5*K5 -> 0 | AH5: =AVERAGE('S6 HT29_Vumc '!$P5,'S6 HT29_Vumc '!$Y5) -> 22.7 | AI5: =AVERAGE('S6 HT29_Vumc '!$S5,'S6 HT29_Vumc '!$AB5) -> 4.3575277 | AJ5: =STDEV('S6 HT29_Vumc '!$S5,'S6 HT29_Vumc '!$AB5) -> 3.3518173 | AK5: ='S6 HT29_Vumc '!$AJ5/'S6 HT29_Vumc '!$AI5 -> 0.76920161
A6: 966.38 | B6: =IF(A6, A6-L6,"") -> 0.04 | C6: 482.68 | D6: =IF(C6, C6-M6,"") -> 0.01 | F6: =IF(E6, E6-N6,"") | G6: 1 | H6: 1 | J6: 2 | L6: 966.34 | M6: 482.67 | N6: 321.44 | O6: H1N1S2 | P6: 26.9 | Q6: 2270920704 | R6: 129.8 | S6: ='S6 HT29_Vumc '!$Q6/'S6 HT29_Vumc '!$Q$17*100 -> 23.41602 | T6: =$S6*G6 -> 23.41602 | U6: =$S6*H6 -> 23.41602 | V6: =$S6*I6 -> 0 | W6: =$S6*J6 -> 46.832039 | X6: =$S6*K6 -> 0 | Y6: 27.3 | Z6: 1305768704 | AA6: 439.6 | AB6: ='S6 HT29_Vumc '!$Z6/'S6 HT29_Vumc '!$Z$17*100 -> 29.121759 | AC6: =$AB6*G6 -> 29.121759 | AD6: =$AB6*H6 -> 29.121759 | AE6: =$AB6*I6 -> 0 | AF6: =$AB6*J6 -> 58.243518 | AG6: =$AB6*K6 -> 0 | AH6: =AVERAGE('S6 HT29_Vumc '!$P6,'S6 HT29_Vumc '!$Y6) -> 27.1 | AI6: =AVERAGE('S6 HT29_Vumc '!$S6,'S6 HT29_Vumc '!$AB6) -> 26.268889 | AJ6: =STDEV('S6 HT29_Vumc '!$S6,'S6 HT29_Vumc '!$AB6) -> 4.0345669 | AK6: ='S6 HT29_Vumc '!$AJ6/'S6 HT29_Vumc '!$AI6 -> 0.15358727
A7: 1186.43 | B7: =IF(A7, A7-L7,"") -> -0.01 | D7: =IF(C7, C7-M7,"") | F7: =IF(E7, E7-N7,"") | G7: 2 | H7: 2 | I7: 1 | J7: 1 | L7: 1186.44 | M7: 592.71 | N7: 394.81 | O7: H2N2F1S1 | P7: 36.9 | Q7: 83398696 | R7: 7.5 | S7: ='S6 HT29_Vumc '!$Q7/'S6 HT29_Vumc '!$Q$17*100 -> 0.85994439 | T7: =$S7*G7 -> 1.7198888 | U7: =$S7*H7 -> 1.7198888 | V7: =$S7*I7 -> 0.85994439 | W7: =$S7*J7 -> 0.85994439 | X7: =$S7*K7 -> 0 | Y7: 37.5 | Z7: 42387680 | AA7: 10.9 | AB7: ='S6 HT29_Vumc '!$Z7/'S6 HT29_Vumc '!$Z$17*100 -> 0.94534644 | AC7: =$AB7*G7 -> 1.8906929 | AD7: =$AB7*H7 -> 1.8906929 | AE7: =$AB7*I7 -> 0.94534644 | AF7: =$AB7*J7 -> 0.94534644 | AG7: =$AB7*K7 -> 0 | AH7: =AVERAGE('S6 HT29_Vumc '!$P7,'S6 HT29_Vumc '!$Y7) -> 37.2 | AI7: =AVERAGE('S6 HT29_Vumc '!$S7,'S6 HT29_Vumc '!$AB7) -> 0.90264542 | AJ7: =STDEV('S6 HT29_Vumc '!$S7,'S6 HT29_Vumc '!$AB7) -> 0.060388374 | AK7: ='S6 HT29_Vumc '!$AJ7/'S6 HT29_Vumc '!$AI7 -> 0.066901546
A8: 1040.38 | B8: =IF(A8, A8-L8,"") -> 0 | D8: =IF(C8, C8-M8,"") | F8: =IF(E8, E8-N8,"") | G8: 2 | H8: 2 | J8: 1 | L8: 1040.38 | M8: 519.69 | N8: 346.12 | O8: H2N2S1 | P8: 43.1 | Q8: 361357856 | R8: 24.8 | S8: ='S6 HT29_Vumc '!$Q8/'S6 HT29_Vumc '!$Q$17*100 -> 3.7260494 | T8: =$S8*G8 -> 7.4520988 | U8: =$S8*H8 -> 7.4520988 | V8: =$S8*I8 -> 0 | W8: =$S8*J8 -> 3.7260494 | X8: =$S8*K8 -> 0 | Y8: 43.9 | Z8: 178760608 | AA8: 64.5 | AB8: ='S6 HT29_Vumc '!$Z8/'S6 HT29_Vumc '!$Z$17*100 -> 3.9867883 | AC8: =$AB8*G8 -> 7.9735765 | AD8: =$AB8*H8 -> 7.9735765 | AE8: =$AB8*I8 -> 0 | AF8: =$AB8*J8 -> 3.9867883 | AG8: =$AB8*K8 -> 0 | AH8: =AVERAGE('S6 HT29_Vumc '!$P8,'S6 HT29_Vumc '!$Y8) -> 43.5 | AI8: =AVERAGE('S6 HT29_Vumc '!$S8,'S6 HT29_Vumc '!$AB8) -> 3.8564188 | AJ8: =STDEV('S6 HT29_Vumc '!$S8,'S6 HT29_Vumc '!$AB8) -> 0.18437023 | AK8: ='S6 HT29_Vumc '!$AJ8/'S6 HT29_Vumc '!$AI8 -> 0.047808664
A9: 1477.48 | B9: =IF(A9, A9-L9,"") -> -0.05 | C9: 738.29 | D9: =IF(C9, C9-M9,"") -> 0.03 | F9: =IF(E9, E9-N9,"") | G9: 2 | H9: 2 | I9: 1 | J9: 2 | L9: 1477.53 | M9: 738.26 | N9: 491.84 | O9: H2N2F1S2 | P9: 46 | Q9: 313731776 | R9: 24 | S9: ='S6 HT29_Vumc '!$Q9/'S6 HT29_Vumc '!$Q$17*100 -> 3.2349652 | T9: =$S9*G9 -> 6.4699304 | U9: =$S9*H9 -> 6.4699304 | V9: =$S9*I9 -> 3.2349652 | W9: =$S9*J9 -> 6.4699304 | X9: =$S9*K9 -> 0 | Y9: 46.6 | Z9: 125538144 | AA9: 33.6 | AB9: ='S6 HT29_Vumc '!$Z9/'S6 HT29_Vumc '!$Z$17*100 -> 2.7998003 | AC9: =$AB9*G9 -> 5.5996005 | AD9: =$AB9*H9 -> 5.5996005 | AE9: =$AB9*I9 -> 2.7998003 | AF9: =$AB9*J9 -> 5.5996005 | AG9: =$AB9*K9 -> 0 | AH9: =AVERAGE('S6 HT29_Vumc '!$P9,'S6 HT29_Vumc '!$Y9) -> 46.3 | AI9: =AVERAGE('S6 HT29_Vumc '!$S9,'S6 HT29_Vumc '!$AB9) -> 3.0173827 | AJ9: =STDEV('S6 HT29_Vumc '!$S9,'S6 HT29_Vumc '!$AB9) -> 0.30770807 | AK9: ='S6 HT29_Vumc '!$AJ9/'S6 HT29_Vumc '!$AI9 -> 0.10197847
A10: 1040.41 | B10: =IF(A10, A10-L10,"") -> 0.03 | D10: =IF(C10, C10-M10,"") | F10: =IF(E10, E10-N10,"") | G10: 2 | H10: 2 | J10: 1 | L10: 1040.38 | M10: 519.69 | N10: 346.12 | O10: H2N2S1 | P10: 50.2 | Q10: 264325168 | R10: 16.2 | S10: ='S6 HT29_Vumc '!$Q10/'S6 HT29_Vumc '!$Q$17*100 -> 2.7255216 | T10: =$S10*G10 -> 5.4510431 | U10: =$S10*H10 -> 5.4510431 | V10: =$S10*I10 -> 0 | W10: =$S10*J10 -> 2.7255216 | X10: =$S10*K10 -> 0 | Y10: 51 | Z10: 35980776 | AA10: 10.1 | AB10: ='S6 HT29_Vumc '!$Z10/'S6 HT29_Vumc '!$Z$17*100 -> 0.80245719 | AC10: =$AB10*G10 -> 1.6049144 | AD10: =$AB10*H10 -> 1.6049144 | AE10: =$AB10*I10 -> 0 | AF10: =$AB10*J10 -> 0.80245719 | AG10: =$AB10*K10 -> 0 | AH10: =AVERAGE('S6 HT29_Vumc '!$P10,'S6 HT29_Vumc '!$Y10) -> 50.6 | AI10: =AVERAGE('S6 HT29_Vumc '!$S10,'S6 HT29_Vumc '!$AB10) -> 1.7639894 | AJ10: =STDEV('S6 HT29_Vumc '!$S10,'S6 HT29_Vumc '!$AB10) -> 1.3598119 | AK10: ='S6 HT29_Vumc '!$AJ10/'S6 HT29_Vumc '!$AI10 -> 0.77087304
B11: =IF(A11, A11-L11,"") | C11: 705.25 | D11: =IF(C11, C11-M11,"") -> 0.04 | F11: =IF(E11, E11-N11,"") | G11: 2 | H11: 2 | J11: 2 | K11: 1 | L11: 1411.43 | M11: 705.21 | N11: 469.81 | O11: H2N2S2Su1 | P11: 50.7 | Q11: 80889280 | R11: 9.9 | S11: ='S6 HT29_Vumc '!$Q11/'S6 HT29_Vumc '!$Q$17*100 -> 0.83406918 | T11: =$S11*G11 -> 1.6681384 | U11: =$S11*H11 -> 1.6681384 | V11: =$S11*I11 -> 0 | W11: =$S11*J11 -> 1.6681384 | X11: =$S11*K11 -> 0.83406918 | Y11: 51 | Z11: 36885080 | AA11: 12 | AB11: ='S6 HT29_Vumc '!$Z11/'S6 HT29_Vumc '!$Z$17*100 -> 0.82262533 | AC11: =$AB11*G11 -> 1.6452507 | AD11: =$AB11*H11 -> 1.6452507 | AE11: =$AB11*I11 -> 0 | AF11: =$AB11*J11 -> 1.6452507 | AG11: =$AB11*K11 -> 0.82262533 | AH11: =AVERAGE('S6 HT29_Vumc '!$P11,'S6 HT29_Vumc '!$Y11) -> 50.85 | AI11: =AVERAGE('S6 HT29_Vumc '!$S11,'S6 HT29_Vumc '!$AB11) -> 0.82834726 | AJ11: =STDEV('S6 HT29_Vumc '!$S11,'S6 HT29_Vumc '!$AB11) -> 0.0080920266 | AK11: ='S6 HT29_Vumc '!$AJ11/'S6 HT29_Vumc '!$AI11 -> 0.009768882
A12: 1331.45 | B12: =IF(A12, A12-L12,"") -> -0.02 | C12: 665.22 | D12: =IF(C12, C12-M12,"") -> -0.01 | F12: =IF(E12, E12-N12,"") | G12: 2 | H12: 2 | J12: 2 | L12: 1331.47 | M12: 665.23 | N12: 443.15 | O12: H2N2S2 | P12: 55.7 | Q12: 4712167424 | R12: 339.6 | S12: ='S6 HT29_Vumc '!$Q12/'S6 HT29_Vumc '!$Q$17*100 -> 48.588313 | T12: =$S12*G12 -> 97.176625 | U12: =$S12*H12 -> 97.176625 | V12: =$S12*I12 -> 0 | W12: =$S12*J12 -> 97.176625 | X12: =$S12*K12 -> 0 | Y12: 56.5 | Z12: 2308610560 | AA12: 883 | AB12: ='S6 HT29_Vumc '!$Z12/'S6 HT29_Vumc '!$Z$17*100 -> 51.487526 | AC12: =$AB12*G12 -> 102.97505 | AD12: =$AB12*H12 -> 102.97505 | AE12: =$AB12*I12 -> 0 | AF12: =$AB12*J12 -> 102.97505 | AG12: =$AB12*K12 -> 0 | AH12: =AVERAGE('S6 HT29_Vumc '!$P12,'S6 HT29_Vumc '!$Y12) -> 56.1 | AI12: =AVERAGE('S6 HT29_Vumc '!$S12,'S6 HT29_Vumc '!$AB12) -> 50.037919 | AJ12: =STDEV('S6 HT29_Vumc '!$S12,'S6 HT29_Vumc '!$AB12) -> 2.0500535 | AK12: ='S6 HT29_Vumc '!$AJ12/'S6 HT29_Vumc '!$AI12 -> 0.040969998
B13: =IF(A13, A13-L13,"") | C13: 847.81 | D13: =IF(C13, C13-M13,"") -> 0.01 | F13: =IF(E13, E13-N13,"") | G13: 3 | H13: 3 | J13: 2 | L13: 1696.61 | M13: 847.8 | N13: 564.86 | O13: H3N3S2 | P13: 61.3 | Q13: 296007968 | R13: 25.5 | S13: ='S6 HT29_Vumc '!$Q13/'S6 HT29_Vumc '!$Q$17*100 -> 3.0522107 | T13: =$S13*G13 -> 9.156632 | U13: =$S13*H13 -> 9.156632 | V13: =$S13*I13 -> 0 | W13: =$S13*J13 -> 6.1044214 | X13: =$S13*K13 -> 0 | Y13: 62 | Z13: 152640992 | AA13: 46.6 | AB13: ='S6 HT29_Vumc '!$Z13/'S6 HT29_Vumc '!$Z$17*100 -> 3.4042585 | AC13: =$AB13*G13 -> 10.212775 | AD13: =$AB13*H13 -> 10.212775 | AE13: =$AB13*I13 -> 0 | AF13: =$AB13*J13 -> 6.808517 | AG13: =$AB13*K13 -> 0 | AH13: =AVERAGE('S6 HT29_Vumc '!$P13,'S6 HT29_Vumc '!$Y13) -> 61.65 | AI13: =AVERAGE('S6 HT29_Vumc '!$S13,'S6 HT29_Vumc '!$AB13) -> 3.2282346 | AJ13: =STDEV('S6 HT29_Vumc '!$S13,'S6 HT29_Vumc '!$AB13) -> 0.24893539 | AK13: ='S6 HT29_Vumc '!$AJ13/'S6 HT29_Vumc '!$AI13 -> 0.077111927
B14: =IF(A14, A14-L14,"") | C14: 847.8 | D14: =IF(C14, C14-M14,"") -> 0 | F14: =IF(E14, E14-N14,"") | G14: 3 | H14: 3 | J14: 2 | L14: 1696.61 | M14: 847.8 | N14: 564.86 | O14: H3N3S2 | P14: 66.9 | Q14: 230141568 | R14: 20.1 | S14: ='S6 HT29_Vumc '!$Q14/'S6 HT29_Vumc '!$Q$17*100 -> 2.3730461 | T14: =$S14*G14 -> 7.1191383 | U14: =$S14*H14 -> 7.1191383 | V14: =$S14*I14 -> 0 | W14: =$S14*J14 -> 4.7460922 | X14: =$S14*K14 -> 0 | Y14: 67.6 | Z14: 111136680 | AA14: 23.4 | AB14: ='S6 HT29_Vumc '!$Z14/'S6 HT29_Vumc '!$Z$17*100 -> 2.4786132 | AC14: =$AB14*G14 -> 7.4358397 | AD14: =$AB14*H14 -> 7.4358397 | AE14: =$AB14*I14 -> 0 | AF14: =$AB14*J14 -> 4.9572265 | AG14: =$AB14*K14 -> 0 | AH14: =AVERAGE('S6 HT29_Vumc '!$P14,'S6 HT29_Vumc '!$Y14) -> 67.25 | AI14: =AVERAGE('S6 HT29_Vumc '!$S14,'S6 HT29_Vumc '!$AB14) -> 2.4258297 | AJ14: =STDEV('S6 HT29_Vumc '!$S14,'S6 HT29_Vumc '!$AB14) -> 0.074647254 | AK14: ='S6 HT29_Vumc '!$AJ14/'S6 HT29_Vumc '!$AI14 -> 0.030771845
B15: =IF(A15, A15-L15,"") | C15: 1175.88 | D15: =IF(C15, C15-M15,"") -> -0.03 | F15: =IF(E15, E15-N15,"") | G15: 4 | H15: 4 | J15: 3 | L15: 2352.83 | M15: 1175.91 | N15: 783.61 | O15: H4N4S3 | P15: 71.4 | Q15: 247686208 | R15: 20 | S15: ='S6 HT29_Vumc '!$Q15/'S6 HT29_Vumc '!$Q$17*100 -> 2.5539532 | T15: =$S15*G15 -> 10.215813 | U15: =$S15*H15 -> 10.215813 | V15: =$S15*I15 -> 0 | W15: =$S15*J15 -> 7.6618595 | X15: =$S15*K15 -> 0 | Y15: 72.1 | Z15: 50489612 | AA15: 13.6 | AB15: ='S6 HT29_Vumc '!$Z15/'S6 HT29_Vumc '!$Z$17*100 -> 1.1260389 | AC15: =$AB15*G15 -> 4.5041555 | AD15: =$AB15*H15 -> 4.5041555 | AE15: =$AB15*I15 -> 0 | AF15: =$AB15*J15 -> 3.3781166 | AG15: =$AB15*K15 -> 0 | AH15: =AVERAGE('S6 HT29_Vumc '!$P15,'S6 HT29_Vumc '!$Y15) -> 71.75 | AI15: =AVERAGE('S6 HT29_Vumc '!$S15,'S6 HT29_Vumc '!$AB15) -> 1.839996 | AJ15: =STDEV('S6 HT29_Vumc '!$S15,'S6 HT29_Vumc '!$AB15) -> 1.0096879 | AK15: ='S6 HT29_Vumc '!$AJ15/'S6 HT29_Vumc '!$AI15 -> 0.5487446
B16: =IF(A16, A16-L16,"") | C16: 1175.9 | D16: =IF(C16, C16-M16,"") -> -0.01 | F16: =IF(E16, E16-N16,"") | G16: 4 | H16: 4 | J16: 3 | L16: 2352.83 | M16: 1175.91 | N16: 783.61 | O16: H4N4S3 | P16: 77.1 | Q16: 185068576 | R16: 15.5 | S16: ='S6 HT29_Vumc '!$Q16/'S6 HT29_Vumc '!$Q$17*100 -> 1.9082874 | T16: =$S16*G16 -> 7.6331497 | U16: =$S16*H16 -> 7.6331497 | V16: =$S16*I16 -> 0 | W16: =$S16*J16 -> 5.7248623 | X16: =$S16*K16 -> 0 | Y16: 77.8 | Z16: 46513040 | AA16: 12 | AB16: ='S6 HT29_Vumc '!$Z16/'S6 HT29_Vumc '!$Z$17*100 -> 1.0373518 | AC16: =$AB16*G16 -> 4.1494073 | AD16: =$AB16*H16 -> 4.1494073 | AE16: =$AB16*I16 -> 0 | AF16: =$AB16*J16 -> 3.1120555 | AG16: =$AB16*K16 -> 0 | AH16: =AVERAGE('S6 HT29_Vumc '!$P16,'S6 HT29_Vumc '!$Y16) -> 77.45 | AI16: =AVERAGE('S6 HT29_Vumc '!$S16,'S6 HT29_Vumc '!$AB16) -> 1.4728196 | AJ16: =STDEV('S6 HT29_Vumc '!$S16,'S6 HT29_Vumc '!$AB16) -> 0.61584447 | AK16: ='S6 HT29_Vumc '!$AJ16/'S6 HT29_Vumc '!$AI16 -> 0.41813978
Q17: =SUM(Q5:Q16) -> 9698149944 | S17: =SUM(S5:S16) -> 100 | T17: =SUM(T5:T16)/100 -> 1.842061 | U17: =SUM(U5:U16)/100 -> 1.842061 | V17: =SUM(V5:V16)/100 -> 0.040949096 | W17: =SUM(W5:W16)/100 -> 1.904231 | X17: =SUM(X5:X16)/100 -> 0.0083406918 | Z17: =SUM(Z5:Z16) -> 4483824980 | AB17: =SUM(AB5:AB16) -> 100 | AC17: =SUM(AC5:AC16)/100 -> 1.7910046 | AD17: =SUM(AD5:AD16)/100 -> 1.7910046 | AE17: =SUM(AE5:AE16)/100 -> 0.037451467 | AF17: =SUM(AF5:AF16)/100 -> 1.9444136 | AG17: =SUM(AG5:AG16)/100 -> 0.0082262533 | AI17: =SUM(AI5:AI16) -> 100

Sheet S7 WiDr
A1: Supplementary table 1: S7 - O-linked glycans present in WiDr cell line, retention times (min), peak areas, relative abundances with standard deviation and relative standard deviation (CV), and calculations of monosaccharide average compositions for each technical (1-2) replicate.
P3: Technical replicate 1. | Y3: Technical replicate 2.
A4: [M-H]- | B4: Δ[M-H]- | C4: [M-2H]2- | D4: Δ[M-2H]2- | E4: [M-3H]3- | F4: Δ[M-3H]3- | G4: H | H4: N | I4: F | J4: S | K4: Su | L4: [M-H]-th. | M4: [M-2H]2- th. | N4: [M-3H]3- th. | O4: Composition | P4: RT(min) | Q4: Peak area | R4: S/N | S4: Rel.peak area(%) 1 | T4: H | U4: N | V4: F | W4: S | X4: Su | Y4: RT(min) | Z4: Peak area | AA4: S/N | AB4: Rel.peak area(%) 1 | AC4: H | AD4: N | AE4: F | AF4: S | AG4: Su | AH4: RT avg (min) | AI4: Rel.peak area avg. (%) | AJ4: SD | AK4: CV
A5: 675.27 | B5: =IF(A5, A5-L5,"") -> 0.02347 | D5: =IF(C5, C5-M5,"") | F5: =IF(E5, E5-N5,"") | G5: 1 | H5: 1 | J5: 1 | L5: 675.24653 | M5: 337.11963 | N5: 224.41066 | O5: H1N1S1 | P5: 24.1 | Q5: 367958208 | R5: 58.4 | S5: ='S7 WiDr'!$Q5/'S7 WiDr'!$Q$21*100 -> 5.6239358 | T5: =$S5*G5 -> 5.6239358 | U5: =$S5*H5 -> 5.6239358 | V5: =$S5*I5 -> 0 | W5: =$S5*J5 -> 5.6239358 | X5: =$S5*K5 -> 0 | Y5: 22.7 | Z5: 946886592 | AA5: 195.1 | AB5: ='S7 WiDr'!$Z5/'S7 WiDr'!$Z$21*100 -> 8.9921184 | AC5: =$AB5*G5 -> 8.9921184 | AD5: =$AB5*H5 -> 8.9921184 | AE5: =$AB5*I5 -> 0 | AF5: =$AB5*J5 -> 8.9921184 | AG5: =$AB5*K5 -> 0 | AH5: =AVERAGE('S7 WiDr'!$P5,'S7 WiDr'!$Y5) -> 23.4 | AI5: =AVERAGE('S7 WiDr'!$S5,'S7 WiDr'!$AB5) -> 7.3080271 | AJ5: =STDEV('S7 WiDr'!$S5,'S7 WiDr'!$AB5) -> 2.3816647 | AK5: =AJ5/AI5 -> 0.32589708
A6: 966.37 | B6: =IF(A6, A6-L6,"") -> 0.02807 | C6: 482.69 | D6: =IF(C6, C6-M6,"") -> 0.02267 | F6: =IF(E6, E6-N6,"") | G6: 1 | H6: 1 | J6: 2 | L6: 966.34193 | M6: 482.66733 | N6: 321.44246 | O6: H1N1S2 | P6: 28.7 | Q6: 1132478592 | R6: 109 | S6: ='S7 WiDr'!$Q6/'S7 WiDr'!$Q$21*100 -> 17.308995 | T6: =$S6*G6 -> 17.308995 | U6: =$S6*H6 -> 17.308995 | V6: =$S6*I6 -> 0 | W6: =$S6*J6 -> 34.617991 | X6: =$S6*K6 -> 0 | Y6: 27.1 | Z6: 2051849088 | AA6: 327.3 | AB6: ='S7 WiDr'!$Z6/'S7 WiDr'!$Z$21*100 -> 19.485406 | AC6: =$AB6*G6 -> 19.485406 | AD6: =$AB6*H6 -> 19.485406 | AE6: =$AB6*I6 -> 0 | AF6: =$AB6*J6 -> 38.970812 | AG6: =$AB6*K6 -> 0 | AH6: =AVERAGE('S7 WiDr'!$P6,'S7 WiDr'!$Y6) -> 27.9 | AI6: =AVERAGE('S7 WiDr'!$S6,'S7 WiDr'!$AB6) -> 18.397201 | AJ6: =STDEV('S7 WiDr'!$S6,'S7 WiDr'!$AB6) -> 1.5389548 | AK6: =AJ6/AI6 -> 0.083651574
A7: 1186.44 | B7: =IF(A7, A7-L7,"") -> 0.00337 | D7: =IF(C7, C7-M7,"") | F7: =IF(E7, E7-N7,"") | G7: 2 | H7: 2 | I7: 1 | J7: 1 | L7: 1186.4366 | M7: 592.71468 | N7: 394.80736 | O7: H2N2F1S1 | P7: 38.3 | Q7: 102453816 | R7: 15.9 | S7: ='S7 WiDr'!$Q7/'S7 WiDr'!$Q$21*100 -> 1.5659216 | T7: =$S7*G7 -> 3.1318431 | U7: =$S7*H7 -> 3.1318431 | V7: =$S7*I7 -> 1.5659216 | W7: =$S7*J7 -> 1.5659216 | X7: =$S7*K7 -> 0 | Y7: 37.5 | Z7: 138642080 | AA7: 26.7 | AB7: ='S7 WiDr'!$Z7/'S7 WiDr'!$Z$21*100 -> 1.316616 | AC7: =$AB7*G7 -> 2.6332319 | AD7: =$AB7*H7 -> 2.6332319 | AE7: =$AB7*I7 -> 1.316616 | AF7: =$AB7*J7 -> 1.316616 | AG7: =$AB7*K7 -> 0 | AH7: =AVERAGE('S7 WiDr'!$P7,'S7 WiDr'!$Y7) -> 37.9 | AI7: =AVERAGE('S7 WiDr'!$S7,'S7 WiDr'!$AB7) -> 1.4412688 | AJ7: =STDEV('S7 WiDr'!$S7,'S7 WiDr'!$AB7) -> 0.17628568 | AK7: =AJ7/AI7 -> 0.12231284
A8: 1040.37 | B8: =IF(A8, A8-L8,"") -> -0.00873 | D8: =IF(C8, C8-M8,"") | F8: =IF(E8, E8-N8,"") | G8: 2 | H8: 2 | J8: 1 | L8: 1040.3787 | M8: 519.68573 | N8: 346.1214 | O8: H2N2S1 | P8: 44.5 | Q8: 124278448 | R8: 20.9 | S8: ='S7 WiDr'!$Q8/'S7 WiDr'!$Q$21*100 -> 1.8994929 | T8: =$S8*G8 -> 3.7989859 | U8: =$S8*H8 -> 3.7989859 | V8: =$S8*I8 -> 0 | W8: =$S8*J8 -> 1.8994929 | X8: =$S8*K8 -> 0 | Y8: 43.8 | Z8: 276194592 | AA8: 74.8 | AB8: ='S7 WiDr'!$Z8/'S7 WiDr'!$Z$21*100 -> 2.6228848 | AC8: =$AB8*G8 -> 5.2457696 | AD8: =$AB8*H8 -> 5.2457696 | AE8: =$AB8*I8 -> 0 | AF8: =$AB8*J8 -> 2.6228848 | AG8: =$AB8*K8 -> 0 | AH8: =AVERAGE('S7 WiDr'!$P8,'S7 WiDr'!$Y8) -> 44.15 | AI8: =AVERAGE('S7 WiDr'!$S8,'S7 WiDr'!$AB8) -> 2.2611889 | AJ8: =STDEV('S7 WiDr'!$S8,'S7 WiDr'!$AB8) -> 0.5115153 | AK8: =AJ8/AI8 -> 0.2262152
A9: 1477.5 | B9: =IF(A9, A9-L9,"") -> -0.03203 | C9: 738.28 | D9: =IF(C9, C9-M9,"") -> 0.01762 | F9: =IF(E9, E9-N9,"") | G9: 2 | H9: 2 | I9: 1 | J9: 2 | L9: 1477.532 | M9: 738.26238 | N9: 491.83916 | O9: H2N2F1S2 | P9: 47.4 | Q9: 169979472 | R9: 29.4 | S9: ='S7 WiDr'!$Q9/'S7 WiDr'!$Q$21*100 -> 2.5979952 | T9: =$S9*G9 -> 5.1959903 | U9: =$S9*H9 -> 5.1959903 | V9: =$S9*I9 -> 2.5979952 | W9: =$S9*J9 -> 5.1959903 | X9: =$S9*K9 -> 0 | Y9: 46.6 | Z9: 292068672 | AA9: 100.3 | AB9: ='S7 WiDr'!$Z9/'S7 WiDr'!$Z$21*100 -> 2.7736332 | AC9: =$AB9*G9 -> 5.5472664 | AD9: =$AB9*H9 -> 5.5472664 | AE9: =$AB9*I9 -> 2.7736332 | AF9: =$AB9*J9 -> 5.5472664 | AG9: =$AB9*K9 -> 0 | AH9: =AVERAGE('S7 WiDr'!$P9,'S7 WiDr'!$Y9) -> 47 | AI9: =AVERAGE('S7 WiDr'!$S9,'S7 WiDr'!$AB9) -> 2.6858142 | AJ9: =STDEV('S7 WiDr'!$S9,'S7 WiDr'!$AB9) -> 0.12419483 | AK9: =AJ9/AI9 -> 0.046241037
A10: 1040.41 | B10: =IF(A10, A10-L10,"") -> 0.03127 | D10: =IF(C10, C10-M10,"") | F10: =IF(E10, E10-N10,"") | G10: 2 | H10: 2 | J10: 1 | L10: 1040.3787 | M10: 519.68573 | N10: 346.1214 | O10: H2N2S1 | P10: 51.6 | Q10: 58033520 | R10: 10.7 | S10: ='S7 WiDr'!$Q10/'S7 WiDr'!$Q$21*100 -> 0.88699419 | T10: =$S10*G10 -> 1.7739884 | U10: =$S10*H10 -> 1.7739884 | V10: =$S10*I10 -> 0 | W10: =$S10*J10 -> 0.88699419 | X10: =$S10*K10 -> 0 | Y10: 51 | Z10: 130008648 | AA10: 27.4 | AB10: ='S7 WiDr'!$Z10/'S7 WiDr'!$Z$21*100 -> 1.2346285 | AC10: =$AB10*G10 -> 2.469257 | AD10: =$AB10*H10 -> 2.469257 | AE10: =$AB10*I10 -> 0 | AF10: =$AB10*J10 -> 1.2346285 | AG10: =$AB10*K10 -> 0 | AH10: =AVERAGE('S7 WiDr'!$P10,'S7 WiDr'!$Y10) -> 51.3 | AI10: =AVERAGE('S7 WiDr'!$S10,'S7 WiDr'!$AB10) -> 1.0608113 | AJ10: =STDEV('S7 WiDr'!$S10,'S7 WiDr'!$AB10) -> 0.24581456 | AK10: =AJ10/AI10 -> 0.23172317
A11: 1411.47 | B11: =IF(A11, A11-L11,"") -> 0.03907 | C11: 705.29 | D11: =IF(C11, C11-M11,"") -> 0.07817 | F11: =IF(E11, E11-N11,"") | G11: 2 | H11: 2 | J11: 2 | K11: 1 | L11: 1411.4309 | M11: 705.21183 | N11: 469.80546 | O11: H2N2S2Su1 | P11: 52.4 | Q11: 41576856 | R11: 7.6 | S11: ='S7 WiDr'!$Q11/'S7 WiDr'!$Q$21*100 -> 0.63546774 | T11: =$S11*G11 -> 1.2709355 | U11: =$S11*H11 -> 1.2709355 | V11: =$S11*I11 -> 0 | W11: =$S11*J11 -> 1.2709355 | X11: =$S11*K11 -> 0.63546774 | Y11: 51.2 | Z11: 55846492 | AA11: 20.8 | AB11: ='S7 WiDr'!$Z11/'S7 WiDr'!$Z$21*100 -> 0.53034679 | AC11: =$AB11*G11 -> 1.0606936 | AD11: =$AB11*H11 -> 1.0606936 | AE11: =$AB11*I11 -> 0 | AF11: =$AB11*J11 -> 1.0606936 | AG11: =$AB11*K11 -> 0.53034679 | AH11: =AVERAGE('S7 WiDr'!$P11,'S7 WiDr'!$Y11) -> 51.8 | AI11: =AVERAGE('S7 WiDr'!$S11,'S7 WiDr'!$AB11) -> 0.58290727 | AJ11: =STDEV('S7 WiDr'!$S11,'S7 WiDr'!$AB11) -> 0.074331735 | AK11: =AJ11/AI11 -> 0.12751897
A12: 1331.45 | B12: =IF(A12, A12-L12,"") -> -0.02413 | C12: 665.22 | D12: =IF(C12, C12-M12,"") -> -0.01343 | F12: =IF(E12, E12-N12,"") | G12: 2 | H12: 2 | J12: 2 | L12: 1331.4741 | M12: 665.23343 | N12: 443.1532 | O12: H2N2S2 | P12: 57.3 | Q12: 3120934400 | R12: 425.1 | S12: ='S7 WiDr'!$Q12/'S7 WiDr'!$Q$21*100 -> 47.700892 | T12: =$S12*G12 -> 95.401785 | U12: =$S12*H12 -> 95.401785 | V12: =$S12*I12 -> 0 | W12: =$S12*J12 -> 95.401785 | X12: =$S12*K12 -> 0 | Y12: 56.3 | Z12: 4601874432 | AA12: 695.5 | AB12: ='S7 WiDr'!$Z12/'S7 WiDr'!$Z$21*100 -> 43.701748 | AC12: =$AB12*G12 -> 87.403497 | AD12: =$AB12*H12 -> 87.403497 | AE12: =$AB12*I12 -> 0 | AF12: =$AB12*J12 -> 87.403497 | AG12: =$AB12*K12 -> 0 | AH12: =AVERAGE('S7 WiDr'!$P12,'S7 WiDr'!$Y12) -> 56.8 | AI12: =AVERAGE('S7 WiDr'!$S12,'S7 WiDr'!$AB12) -> 45.70132 | AJ12: =STDEV('S7 WiDr'!$S12,'S7 WiDr'!$AB12) -> 2.8278218 | AK12: =AJ12/AI12 -> 0.06187615
A13: 1696.57 | B13: =IF(A13, A13-L13,"") -> -0.03633 | C13: 847.82 | D13: =IF(C13, C13-M13,"") -> 0.02047 | F13: =IF(E13, E13-N13,"") | G13: 3 | H13: 3 | J13: 2 | L13: 1696.6063 | M13: 847.79953 | N13: 564.86393 | O13: H3N3S2 | P13: 62.6 | Q13: 300519040 | R13: 51 | S13: ='S7 WiDr'!$Q13/'S7 WiDr'!$Q$21*100 -> 4.5931841 | T13: =$S13*G13 -> 13.779552 | U13: =$S13*H13 -> 13.779552 | V13: =$S13*I13 -> 0 | W13: =$S13*J13 -> 9.1863683 | X13: =$S13*K13 -> 0 | Y13: 61.9 | Z13: 532929056 | AA13: 131.5 | AB13: ='S7 WiDr'!$Z13/'S7 WiDr'!$Z$21*100 -> 5.0609663 | AC13: =$AB13*G13 -> 15.182899 | AD13: =$AB13*H13 -> 15.182899 | AE13: =$AB13*I13 -> 0 | AF13: =$AB13*J13 -> 10.121933 | AG13: =$AB13*K13 -> 0 | AH13: =AVERAGE('S7 WiDr'!$P13,'S7 WiDr'!$Y13) -> 62.25 | AI13: =AVERAGE('S7 WiDr'!$S13,'S7 WiDr'!$AB13) -> 4.8270752 | AJ13: =STDEV('S7 WiDr'!$S13,'S7 WiDr'!$AB13) -> 0.33077196 | AK13: =AJ13/AI13 -> 0.068524302
B14: =IF(A14, A14-L14,"") | C14: 993.39 | D14: =IF(C14, C14-M14,"") -> 0.04277 | F14: =IF(E14, E14-N14,"") | G14: 3 | H14: 3 | J14: 3 | L14: 1987.7017 | M14: 993.34723 | N14: 661.89573 | O14: H3N3S3 | P14: 64.3 | Q14: 87333200 | R14: 11.4 | S14: ='S7 WiDr'!$Q14/'S7 WiDr'!$Q$21*100 -> 1.3348155 | T14: =$S14*G14 -> 4.0044465 | U14: =$S14*H14 -> 4.0044465 | V14: =$S14*I14 -> 0 | W14: =$S14*J14 -> 4.0044465 | X14: =$S14*K14 -> 0 | Y14: 63.2 | Z14: 45929552 | AA14: 8.7 | AB14: ='S7 WiDr'!$Z14/'S7 WiDr'!$Z$21*100 -> 0.43617047 | AC14: =$AB14*G14 -> 1.3085114 | AD14: =$AB14*H14 -> 1.3085114 | AE14: =$AB14*I14 -> 0 | AF14: =$AB14*J14 -> 1.3085114 | AG14: =$AB14*K14 -> 0 | AH14: =AVERAGE('S7 WiDr'!$P14,'S7 WiDr'!$Y14) -> 63.75 | AI14: =AVERAGE('S7 WiDr'!$S14,'S7 WiDr'!$AB14) -> 0.88549298 | AJ14: =STDEV('S7 WiDr'!$S14,'S7 WiDr'!$AB14) -> 0.63543799 | AK14: =AJ14/AI14 -> 0.71760929
B15: =IF(A15, A15-L15,"") | C15: 847.78 | D15: =IF(C15, C15-M15,"") -> -0.01953 | F15: =IF(E15, E15-N15,"") | G15: 3 | H15: 3 | J15: 2 | L15: 1696.6063 | M15: 847.79953 | N15: 564.86393 | O15: H3N3S2 | P15: 68.2 | Q15: 151898608 | R15: 20.4 | S15: ='S7 WiDr'!$Q15/'S7 WiDr'!$Q$21*100 -> 2.3216442 | T15: =$S15*G15 -> 6.9649325 | U15: =$S15*H15 -> 6.9649325 | V15: =$S15*I15 -> 0 | W15: =$S15*J15 -> 4.6432883 | X15: =$S15*K15 -> 0 | Y15: 67.4 | Z15: 346019488 | AA15: 68.3 | AB15: ='S7 WiDr'!$Z15/'S7 WiDr'!$Z$21*100 -> 3.2859777 | AC15: =$AB15*G15 -> 9.857933 | AD15: =$AB15*H15 -> 9.857933 | AE15: =$AB15*I15 -> 0 | AF15: =$AB15*J15 -> 6.5719553 | AG15: =$AB15*K15 -> 0 | AH15: =AVERAGE('S7 WiDr'!$P15,'S7 WiDr'!$Y15) -> 67.8 | AI15: =AVERAGE('S7 WiDr'!$S15,'S7 WiDr'!$AB15) -> 2.8038109 | AJ15: =STDEV('S7 WiDr'!$S15,'S7 WiDr'!$AB15) -> 0.68188676 | AK15: =AJ15/AI15 -> 0.24319998
B16: =IF(A16, A16-L16,"") | C16: 1175.87 | D16: =IF(C16, C16-M16,"") -> -0.04333 | E16: 783.61 | F16: =IF(E16, E16-N16,"") -> 0.0035366667 | G16: 4 | H16: 4 | J16: 3 | L16: 2352.8339 | M16: 1175.9133 | N16: 783.60646 | O16: H4N4S3 | P16: 72.8 | Q16: 274923328 | R16: 36.7 | S16: ='S7 WiDr'!$Q16/'S7 WiDr'!$Q$21*100 -> 4.2019749 | T16: =$S16*G16 -> 16.8079 | U16: =$S16*H16 -> 16.8079 | V16: =$S16*I16 -> 0 | W16: =$S16*J16 -> 12.605925 | X16: =$S16*K16 -> 0 | Y16: 71.9 | Z16: 379939840 | AA16: 85.4 | AB16: ='S7 WiDr'!$Z16/'S7 WiDr'!$Z$21*100 -> 3.6081026 | AC16: =$AB16*G16 -> 14.432411 | AD16: =$AB16*H16 -> 14.432411 | AE16: =$AB16*I16 -> 0 | AF16: =$AB16*J16 -> 10.824308 | AG16: =$AB16*K16 -> 0 | AH16: =AVERAGE('S7 WiDr'!$P16,'S7 WiDr'!$Y16) -> 72.35 | AI16: =AVERAGE('S7 WiDr'!$S16,'S7 WiDr'!$AB16) -> 3.9050388 | AJ16: =STDEV('S7 WiDr'!$S16,'S7 WiDr'!$AB16) -> 0.41993111 | AK16: =AJ16/AI16 -> 0.10753571
B17: =IF(A17, A17-L17,"") | C17: 1321.46 | D17: =IF(C17, C17-M17,"") -> -0.00103 | F17: =IF(E17, E17-N17,"") | G17: 4 | H17: 4 | J17: 4 | L17: 2643.9293 | M17: 1321.461 | N17: 880.63826 | O17: H4N4S4 | P17: 75.2 | Q17: 52803056 | R17: 7 | S17: ='S7 WiDr'!$Q17/'S7 WiDr'!$Q$21*100 -> 0.80705089 | T17: =$S17*G17 -> 3.2282036 | U17: =$S17*H17 -> 3.2282036 | V17: =$S17*I17 -> 0 | W17: =$S17*J17 -> 3.2282036 | X17: =$S17*K17 -> 0 | Y17: 73.8 | Z17: 89034528 | AA17: 10.6 | AB17: ='S7 WiDr'!$Z17/'S7 WiDr'!$Z$21*100 -> 0.84551732 | AC17: =$AB17*G17 -> 3.3820693 | AD17: =$AB17*H17 -> 3.3820693 | AE17: =$AB17*I17 -> 0 | AF17: =$AB17*J17 -> 3.3820693 | AG17: =$AB17*K17 -> 0 | AH17: =AVERAGE('S7 WiDr'!$P17,'S7 WiDr'!$Y17) -> 74.5 | AI17: =AVERAGE('S7 WiDr'!$S17,'S7 WiDr'!$AB17) -> 0.82628411 | AJ17: =STDEV('S7 WiDr'!$S17,'S7 WiDr'!$AB17) -> 0.027199874 | AK17: =AJ17/AI17 -> 0.032918307
B18: =IF(A18, A18-L18,"") | C18: 1175.86 | D18: =IF(C18, C18-M18,"") -> -0.05333 | E18: 783.62 | F18: =IF(E18, E18-N18,"") -> 0.013536667 | G18: 4 | H18: 4 | J18: 3 | L18: 2352.8339 | M18: 1175.9133 | N18: 783.60646 | O18: H4N4S3 | P18: 77.4 | Q18: 148099936 | R18: 14.8 | S18: ='S7 WiDr'!$Q18/'S7 WiDr'!$Q$21*100 -> 2.2635846 | T18: =$S18*G18 -> 9.0543385 | U18: =$S18*H18 -> 9.0543385 | V18: =$S18*I18 -> 0 | W18: =$S18*J18 -> 6.7907538 | X18: =$S18*K18 -> 0 | Y18: 76.6 | Z18: 189240992 | AA18: 38.7 | AB18: ='S7 WiDr'!$Z18/'S7 WiDr'!$Z$21*100 -> 1.797129 | AC18: =$AB18*G18 -> 7.1885162 | AD18: =$AB18*H18 -> 7.1885162 | AE18: =$AB18*I18 -> 0 | AF18: =$AB18*J18 -> 5.3913871 | AG18: =$AB18*K18 -> 0 | AH18: =AVERAGE('S7 WiDr'!$P18,'S7 WiDr'!$Y18) -> 77 | AI18: =AVERAGE('S7 WiDr'!$S18,'S7 WiDr'!$AB18) -> 2.0303568 | AJ18: =STDEV('S7 WiDr'!$S18,'S7 WiDr'!$AB18) -> 0.32983389 | AK18: =AJ18/AI18 -> 0.1624512
B19: =IF(A19, A19-L19,"") | C19: 1321.38 | D19: =IF(C19, C19-M19,"") -> -0.08103 | F19: =IF(E19, E19-N19,"") | G19: 4 | H19: 4 | J19: 4 | L19: 2643.9293 | M19: 1321.461 | N19: 880.63826 | O19: H4N4S4 | P19: 78.5 | Q19: 108541040 | R19: 15.4 | S19: ='S7 WiDr'!$Q19/'S7 WiDr'!$Q$21*100 -> 1.6589597 | T19: =$S19*G19 -> 6.6358389 | U19: =$S19*H19 -> 6.6358389 | V19: =$S19*I19 -> 0 | W19: =$S19*J19 -> 6.6358389 | X19: =$S19*K19 -> 0 | Y19: 77.5 | Z19: 95036168 | AA19: 24.2 | AB19: ='S7 WiDr'!$Z19/'S7 WiDr'!$Z$21*100 -> 0.90251196 | AC19: =$AB19*G19 -> 3.6100478 | AD19: =$AB19*H19 -> 3.6100478 | AE19: =$AB19*I19 -> 0 | AF19: =$AB19*J19 -> 3.6100478 | AG19: =$AB19*K19 -> 0 | AH19: =AVERAGE('S7 WiDr'!$P19,'S7 WiDr'!$Y19) -> 78 | AI19: =AVERAGE('S7 WiDr'!$S19,'S7 WiDr'!$AB19) -> 1.2807358 | AJ19: =STDEV('S7 WiDr'!$S19,'S7 WiDr'!$AB19) -> 0.53488934 | AK19: =AJ19/AI19 -> 0.41764221
B20: =IF(A20, A20-L20,"") | C20: 1175.92 | D20: =IF(C20, C20-M20,"") -> 0.00667 | E20: 783.65 | F20: =IF(E20, E20-N20,"") -> 0.043536667 | G20: 4 | H20: 4 | J20: 3 | L20: 2352.8339 | M20: 1175.9133 | N20: 783.60646 | O20: H4N4S3 | P20: 78.7 | Q20: 300905504 | R20: 29.4 | S20: ='S7 WiDr'!$Q20/'S7 WiDr'!$Q$21*100 -> 4.5990909 | T20: =$S20*G20 -> 18.396364 | U20: =$S20*H20 -> 18.396364 | V20: =$S20*I20 -> 0 | W20: =$S20*J20 -> 13.797273 | X20: =$S20*K20 -> 0 | Y20: 77.8 | Z20: 358683584 | AA20: 51.3 | AB20: ='S7 WiDr'!$Z20/'S7 WiDr'!$Z$21*100 -> 3.4062424 | AC20: =$AB20*G20 -> 13.62497 | AD20: =$AB20*H20 -> 13.62497 | AE20: =$AB20*I20 -> 0 | AF20: =$AB20*J20 -> 10.218727 | AG20: =$AB20*K20 -> 0 | AH20: =AVERAGE('S7 WiDr'!$P20,'S7 WiDr'!$Y20) -> 78.25 | AI20: =AVERAGE('S7 WiDr'!$S20,'S7 WiDr'!$AB20) -> 4.0026666 | AJ20: =STDEV('S7 WiDr'!$S20,'S7 WiDr'!$AB20) -> 0.84347128 | AK20: =AJ20/AI20 -> 0.21072734
Q21: =SUM(Q5:Q20) -> 6542717024 | S21: =SUM(S5:S20) -> 100 | T21: =SUM(T5:T20)/100 -> 2.1237803 | U21: =SUM(U5:U20)/100 -> 2.1237803 | V21: =SUM(V5:V20)/100 -> 0.041639167 | W21: =SUM(W5:W20)/100 -> 2.0735514 | X21: =SUM(X5:X20)/100 -> 0.0063546774 | Z21: =SUM(Z5:Z20) -> 10530183804 | AB21: =SUM(AB5:AB20) -> 100 | AC21: =SUM(AC5:AC20)/100 -> 2.014246 | AD21: =SUM(AD5:AD20)/100 -> 2.014246 | AE21: =SUM(AE5:AE20)/100 -> 0.040902491 | AF21: =SUM(AF5:AF20)/100 -> 1.9857746 | AG21: =SUM(AG5:AG20)/100 -> 0.0053034679

Sheet S8 KM12
A1: Supplementary table 1: S8 - O-linked glycans present in KM-12 cell line, retention times (min), peak areas, relative abundances with standard deviation and relative standard deviation (CV), and calculations of monosaccharide average compositions for each technical (1-2) replicate.
P3: Technical replicate 1. | Y3: Technical replicate 2.
A4: [M-H]- | B4: Δ[M-H]- | C4: [M-2H]2- | D4: Δ[M-2H]2- | E4: [M-3H]3- | F4: Δ[M-3H]3- | G4: H | H4: N | I4: F | J4: S | K4: Su | L4: [M-H]-th. | M4: [M-2H]2- th. | N4: [M-3H]3- th. | O4: Composition | P4: RT(min) | Q4: Peak area | R4: S/N | S4: Rel.peak area(%) 1 | T4: H | U4: N | V4: F | W4: S | X4: Su | Y4: RT(min) | Z4: Peak area | AA4: S/N | AB4: Rel.peak area(%) 1 | AC4: H | AD4: N | AE4: F | AF4: S | AG4: Su | AH4: RT avg (min) | AI4: Rel.peak area avg. (%) | AJ4: SD | AK4: CV
A5: 675.26 | B5: =IF(A5, A5-L5,"") -> 0.01347 | D5: =IF(C5, C5-M5,"") | F5: =IF(E5, E5-N5,"") | G5: 1 | H5: 1 | J5: 1 | L5: 675.24653 | M5: 337.11963 | N5: 224.41066 | O5: H1N1S1 | P5: 23.8 | Q5: 117920112 | R5: 61 | S5: ='S8 KM12'!$Q5/'S8 KM12'!$Q$22*100 -> 2.7072323 | T5: =$S5*G5 -> 2.7072323 | U5: =$S5*H5 -> 2.7072323 | V5: =$S5*I5 -> 0 | W5: =$S5*J5 -> 2.7072323 | X5: =$S5*K5 -> 0 | Y5: 22.8 | Z5: 226069616 | AA5: 17.7 | AB5: ='S8 KM12'!$Z5/'S8 KM12'!$Z$22*100 -> 2.2266808 | AC5: =$AB5*G5 -> 2.2266808 | AD5: =$AB5*H5 -> 2.2266808 | AE5: =$AB5*I5 -> 0 | AF5: =$AB5*J5 -> 2.2266808 | AG5: =$AB5*K5 -> 0 | AH5: =AVERAGE('S8 KM12'!$P5,'S8 KM12'!$Y5) -> 23.3 | AI5: =AVERAGE('S8 KM12'!$S5,'S8 KM12'!$AB5) -> 2.4669566 | AJ5: =STDEV('S8 KM12'!$S5,'S8 KM12'!$AB5) -> 0.33980123 | AK5: =AJ5/AI5 -> 0.13774106
A6: 966.35 | B6: =IF(A6, A6-L6,"") -> 0.00807 | C6: 482.7 | D6: =IF(C6, C6-M6,"") -> 0.03267 | F6: =IF(E6, E6-N6,"") | G6: 1 | H6: 1 | J6: 2 | L6: 966.34193 | M6: 482.66733 | N6: 321.44246 | O6: H1N1S2 | P6: 28.3 | Q6: 394561760 | R6: 170.2 | S6: ='S8 KM12'!$Q6/'S8 KM12'!$Q$22*100 -> 9.0584239 | T6: =$S6*G6 -> 9.0584239 | U6: =$S6*H6 -> 9.0584239 | V6: =$S6*I6 -> 0 | W6: =$S6*J6 -> 18.116848 | X6: =$S6*K6 -> 0 | Y6: 27.3 | Z6: 767821952 | AA6: 52.8 | AB6: ='S8 KM12'!$Z6/'S8 KM12'!$Z$22*100 -> 7.56269 | AC6: =$AB6*G6 -> 7.56269 | AD6: =$AB6*H6 -> 7.56269 | AE6: =$AB6*I6 -> 0 | AF6: =$AB6*J6 -> 15.12538 | AG6: =$AB6*K6 -> 0 | AH6: =AVERAGE('S8 KM12'!$P6,'S8 KM12'!$Y6) -> 27.8 | AI6: =AVERAGE('S8 KM12'!$S6,'S8 KM12'!$AB6) -> 8.310557 | AJ6: =STDEV('S8 KM12'!$S6,'S8 KM12'!$AB6) -> 1.0576436 | AK6: =AJ6/AI6 -> 0.12726506
A7: 749.32 | B7: =IF(A7, A7-L7,"") -> 0.03667 | D7: =IF(C7, C7-M7,"") | F7: =IF(E7, E7-N7,"") | G7: 2 | H7: 2 | L7: 749.28333 | M7: 374.13803 | N7: 249.0896 | O7: H2N2 | P7: 32.2 | Q7: 113292128 | R7: 104.2 | S7: ='S8 KM12'!$Q7/'S8 KM12'!$Q$22*100 -> 2.6009822 | T7: =$S7*G7 -> 5.2019644 | U7: =$S7*H7 -> 5.2019644 | V7: =$S7*I7 -> 0 | W7: =$S7*J7 -> 0 | X7: =$S7*K7 -> 0 | Y7: 31.6 | Z7: 245113648 | AA7: 26.9 | AB7: ='S8 KM12'!$Z7/'S8 KM12'!$Z$22*100 -> 2.4142557 | AC7: =$AB7*G7 -> 4.8285115 | AD7: =$AB7*H7 -> 4.8285115 | AE7: =$AB7*I7 -> 0 | AF7: =$AB7*J7 -> 0 | AG7: =$AB7*K7 -> 0 | AH7: =AVERAGE('S8 KM12'!$P7,'S8 KM12'!$Y7) -> 31.9 | AI7: =AVERAGE('S8 KM12'!$S7,'S8 KM12'!$AB7) -> 2.507619 | AJ7: =STDEV('S8 KM12'!$S7,'S8 KM12'!$AB7) -> 0.13203556 | AK7: =AJ7/AI7 -> 0.052653759
A8: 895.37 | B8: =IF(A8, A8-L8,"") -> 0.03 | D8: =IF(C8, C8-M8,"") | F8: =IF(E8, E8-N8,"") | G8: 2 | H8: 2 | I8: 1 | L8: 895.34 | M8: 447.17 | N8: 297.78 | O8: H2N2F1 | P8: 46.2 | Q8: 25831362 | R8: 18.3 | S8: ='S8 KM12'!$Q8/'S8 KM12'!$Q$22*100 -> 0.59304132 | T8: =$S8*G8 -> 1.1860826 | U8: =$S8*H8 -> 1.1860826 | V8: =$S8*I8 -> 0.59304132 | W8: =$S8*J8 -> 0 | X8: =$S8*K8 -> 0 | Y8: 45.6 | Z8: 85182976 | AA8: 9.3 | AB8: ='S8 KM12'!$Z8/'S8 KM12'!$Z$22*100 -> 0.8390128 | AC8: =$AB8*G8 -> 1.6780256 | AD8: =$AB8*H8 -> 1.6780256 | AE8: =$AB8*I8 -> 0.8390128 | AF8: =$AB8*J8 -> 0 | AG8: =$AB8*K8 -> 0 | AH8: =AVERAGE('S8 KM12'!$P8,'S8 KM12'!$Y8) -> 45.9 | AI8: =AVERAGE('S8 KM12'!$S8,'S8 KM12'!$AB8) -> 0.71602706 | AJ8: =STDEV('S8 KM12'!$S8,'S8 KM12'!$AB8) -> 0.1739281 | AK8: =AJ8/AI8 -> 0.24290716
A9: 1040.4 | B9: =IF(A9, A9-L9,"") -> 0.02127 | D9: =IF(C9, C9-M9,"") | F9: =IF(E9, E9-N9,"") | G9: 2 | H9: 2 | J9: 1 | L9: 1040.3787 | M9: 519.68573 | N9: 346.1214 | O9: H2N2S1 | P9: 46 | Q9: 67009884 | R9: 14.4 | S9: ='S8 KM12'!$Q9/'S8 KM12'!$Q$22*100 -> 1.5384257 | T9: =$S9*G9 -> 3.0768513 | U9: =$S9*H9 -> 3.0768513 | V9: =$S9*I9 -> 0 | W9: =$S9*J9 -> 1.5384257 | X9: =$S9*K9 -> 0 | Y9: 45.3 | Z9: 112092944 | AA9: 6.3 | AB9: ='S8 KM12'!$Z9/'S8 KM12'!$Z$22*100 -> 1.1040635 | AC9: =$AB9*G9 -> 2.208127 | AD9: =$AB9*H9 -> 2.208127 | AE9: =$AB9*I9 -> 0 | AF9: =$AB9*J9 -> 1.1040635 | AG9: =$AB9*K9 -> 0 | AH9: =AVERAGE('S8 KM12'!$P9,'S8 KM12'!$Y9) -> 45.65 | AI9: =AVERAGE('S8 KM12'!$S9,'S8 KM12'!$AB9) -> 1.3212446 | AJ9: =STDEV('S8 KM12'!$S9,'S8 KM12'!$AB9) -> 0.30714043 | AK9: =AJ9/AI9 -> 0.23246296
A10: 1040.39 | B10: =IF(A10, A10-L10,"") -> 0.01127 | D10: =IF(C10, C10-M10,"") | F10: =IF(E10, E10-N10,"") | G10: 2 | H10: 2 | J10: 1 | L10: 1040.3787 | M10: 519.68573 | N10: 346.1214 | O10: H2N2S1 | P10: 51.2 | Q10: 1779436928 | R10: 958.8 | S10: ='S8 KM12'!$Q10/'S8 KM12'!$Q$22*100 -> 40.852651 | T10: =$S10*G10 -> 81.705303 | U10: =$S10*H10 -> 81.705303 | V10: =$S10*I10 -> 0 | W10: =$S10*J10 -> 40.852651 | X10: =$S10*K10 -> 0 | Y10: 50.6 | Z10: 4504331264 | AA10: 393.3 | AB10: ='S8 KM12'!$Z10/'S8 KM12'!$Z$22*100 -> 44.365573 | AC10: =$AB10*G10 -> 88.731147 | AD10: =$AB10*H10 -> 88.731147 | AE10: =$AB10*I10 -> 0 | AF10: =$AB10*J10 -> 44.365573 | AG10: =$AB10*K10 -> 0 | AH10: =AVERAGE('S8 KM12'!$P10,'S8 KM12'!$Y10) -> 50.9 | AI10: =AVERAGE('S8 KM12'!$S10,'S8 KM12'!$AB10) -> 42.609112 | AJ10: =STDEV('S8 KM12'!$S10,'S8 KM12'!$AB10) -> 2.4840111 | AK10: =AJ10/AI10 -> 0.058297649
A11: 1040.4 | B11: =IF(A11, A11-L11,"") -> 0.02127 | D11: =IF(C11, C11-M11,"") | F11: =IF(E11, E11-N11,"") | G11: 2 | H11: 2 | J11: 1 | L11: 1040.3787 | M11: 519.68573 | N11: 346.1214 | O11: H2N2S1 | P11: 55.2 | Q11: 89782984 | R11: 26.3 | S11: ='S8 KM12'!$Q11/'S8 KM12'!$Q$22*100 -> 2.0612548 | T11: =$S11*G11 -> 4.1225096 | U11: =$S11*H11 -> 4.1225096 | V11: =$S11*I11 -> 0 | W11: =$S11*J11 -> 2.0612548 | X11: =$S11*K11 -> 0 | Y11: 54.6 | Z11: 253706400 | AA11: 9 | AB11: ='S8 KM12'!$Z11/'S8 KM12'!$Z$22*100 -> 2.4988903 | AC11: =$AB11*G11 -> 4.9977807 | AD11: =$AB11*H11 -> 4.9977807 | AE11: =$AB11*I11 -> 0 | AF11: =$AB11*J11 -> 2.4988903 | AG11: =$AB11*K11 -> 0 | AH11: =AVERAGE('S8 KM12'!$P11,'S8 KM12'!$Y11) -> 54.9 | AI11: =AVERAGE('S8 KM12'!$S11,'S8 KM12'!$AB11) -> 2.2800726 | AJ11: =STDEV('S8 KM12'!$S11,'S8 KM12'!$AB11) -> 0.30945505 | AK11: =AJ11/AI11 -> 0.13572158
A12: 1331.43 | B12: =IF(A12, A12-L12,"") -> -0.04413 | C12: 665.25 | D12: =IF(C12, C12-M12,"") -> 0.01657 | F12: =IF(E12, E12-N12,"") | G12: 2 | H12: 2 | J12: 2 | L12: 1331.4741 | M12: 665.23343 | N12: 443.1532 | O12: H2N2S2 | P12: 57.3 | Q12: 136263648 | R12: 78.5 | S12: ='S8 KM12'!$Q12/'S8 KM12'!$Q$22*100 -> 3.1283667 | T12: =$S12*G12 -> 6.2567335 | U12: =$S12*H12 -> 6.2567335 | V12: =$S12*I12 -> 0 | W12: =$S12*J12 -> 6.2567335 | X12: =$S12*K12 -> 0 | Y12: 56.6 | Z12: 335612512 | AA12: 27.6 | AB12: ='S8 KM12'!$Z12/'S8 KM12'!$Z$22*100 -> 3.3056276 | AC12: =$AB12*G12 -> 6.6112551 | AD12: =$AB12*H12 -> 6.6112551 | AE12: =$AB12*I12 -> 0 | AF12: =$AB12*J12 -> 6.6112551 | AG12: =$AB12*K12 -> 0 | AH12: =AVERAGE('S8 KM12'!$P12,'S8 KM12'!$Y12) -> 56.95 | AI12: =AVERAGE('S8 KM12'!$S12,'S8 KM12'!$AB12) -> 3.2169971 | AJ12: =STDEV('S8 KM12'!$S12,'S8 KM12'!$AB12) -> 0.12534233 | AK12: =AJ12/AI12 -> 0.038962524
A13: 1405.47 | B13: =IF(A13, A13-L13,"") -> -0.04093 | C13: 702.25 | D13: =IF(C13, C13-M13,"") -> -0.00183 | F13: =IF(E13, E13-N13,"") | G13: 3 | H13: 3 | J13: 1 | L13: 1405.5109 | M13: 702.25183 | N13: 467.83213 | O13: H3N3S1 | P13: 62.7 | Q13: 294574688 | R13: 184.9 | S13: ='S8 KM12'!$Q13/'S8 KM12'!$Q$22*100 -> 6.7629017 | T13: =$S13*G13 -> 20.288705 | U13: =$S13*H13 -> 20.288705 | V13: =$S13*I13 -> 0 | W13: =$S13*J13 -> 6.7629017 | X13: =$S13*K13 -> 0 | Y13: 62.1 | Z13: 548647744 | AA13: 55.7 | AB13: ='S8 KM12'!$Z13/'S8 KM12'!$Z$22*100 -> 5.4039258 | AC13: =$AB13*G13 -> 16.211777 | AD13: =$AB13*H13 -> 16.211777 | AE13: =$AB13*I13 -> 0 | AF13: =$AB13*J13 -> 5.4039258 | AG13: =$AB13*K13 -> 0 | AH13: =AVERAGE('S8 KM12'!$P13,'S8 KM12'!$Y13) -> 62.4 | AI13: =AVERAGE('S8 KM12'!$S13,'S8 KM12'!$AB13) -> 6.0834137 | AJ13: =STDEV('S8 KM12'!$S13,'S8 KM12'!$AB13) -> 0.96094109 | AK13: =AJ13/AI13 -> 0.15796083
A14: 1186.44 | B14: =IF(A14, A14-L14,"") -> 0 | D14: =IF(C14, C14-M14,"") | F14: =IF(E14, E14-N14,"") | G14: 2 | H14: 2 | I14: 1 | J14: 1 | L14: 1186.44 | M14: 592.71 | N14: 394.81 | O14: H2N2F1S1 | P14: 64 | Q14: 89049312 | R14: 37.1 | S14: ='S8 KM12'!$Q14/'S8 KM12'!$Q$22*100 -> 2.044411 | T14: =$S14*G14 -> 4.0888221 | U14: =$S14*H14 -> 4.0888221 | V14: =$S14*I14 -> 2.044411 | W14: =$S14*J14 -> 2.044411 | X14: =$S14*K14 -> 0 | Y14: 63.4 | Z14: 179357856 | AA14: 19.4 | AB14: ='S8 KM12'!$Z14/'S8 KM12'!$Z$22*100 -> 1.7665917 | AC14: =$AB14*G14 -> 3.5331834 | AD14: =$AB14*H14 -> 3.5331834 | AE14: =$AB14*I14 -> 1.7665917 | AF14: =$AB14*J14 -> 1.7665917 | AG14: =$AB14*K14 -> 0 | AH14: =AVERAGE('S8 KM12'!$P14,'S8 KM12'!$Y14) -> 63.7 | AI14: =AVERAGE('S8 KM12'!$S14,'S8 KM12'!$AB14) -> 1.9055014 | AJ14: =STDEV('S8 KM12'!$S14,'S8 KM12'!$AB14) -> 0.19644795 | AK14: =AJ14/AI14 -> 0.10309515
A15: 1696.55 | B15: =IF(A15, A15-L15,"") -> -0.05633 | C15: 847.81 | D15: =IF(C15, C15-M15,"") -> 0.01047 | F15: =IF(E15, E15-N15,"") | G15: 3 | H15: 3 | J15: 2 | L15: 1696.6063 | M15: 847.79953 | N15: 564.86393 | O15: H3N3S2 | P15: 67.1 | Q15: 195505872 | R15: 63.1 | S15: ='S8 KM12'!$Q15/'S8 KM12'!$Q$22*100 -> 4.488461 | T15: =$S15*G15 -> 13.465383 | U15: =$S15*H15 -> 13.465383 | V15: =$S15*I15 -> 0 | W15: =$S15*J15 -> 8.976922 | X15: =$S15*K15 -> 0 | Y15: 66.5 | Z15: 526653600 | AA15: 40.7 | AB15: ='S8 KM12'!$Z15/'S8 KM12'!$Z$22*100 -> 5.1872937 | AC15: =$AB15*G15 -> 15.561881 | AD15: =$AB15*H15 -> 15.561881 | AE15: =$AB15*I15 -> 0 | AF15: =$AB15*J15 -> 10.374587 | AG15: =$AB15*K15 -> 0 | AH15: =AVERAGE('S8 KM12'!$P15,'S8 KM12'!$Y15) -> 66.8 | AI15: =AVERAGE('S8 KM12'!$S15,'S8 KM12'!$AB15) -> 4.8378773 | AJ15: =STDEV('S8 KM12'!$S15,'S8 KM12'!$AB15) -> 0.49414932 | AK15: =AJ15/AI15 -> 0.10214176
A16: 1405.44 | B16: =IF(A16, A16-L16,"") -> -0.07093 | C16: 702.29 | D16: =IF(C16, C16-M16,"") -> 0.03817 | F16: =IF(E16, E16-N16,"") | G16: 3 | H16: 3 | J16: 1 | L16: 1405.5109 | M16: 702.25183 | N16: 467.83213 | O16: H3N3S1 | P16: 68.7 | Q16: 243154672 | R16: 132.7 | S16: ='S8 KM12'!$Q16/'S8 KM12'!$Q$22*100 -> 5.5823912 | T16: =$S16*G16 -> 16.747174 | U16: =$S16*H16 -> 16.747174 | V16: =$S16*I16 -> 0 | W16: =$S16*J16 -> 5.5823912 | X16: =$S16*K16 -> 0 | Y16: 68.1 | Z16: 606682560 | AA16: 46.9 | AB16: ='S8 KM12'!$Z16/'S8 KM12'!$Z$22*100 -> 5.9755418 | AC16: =$AB16*G16 -> 17.926625 | AD16: =$AB16*H16 -> 17.926625 | AE16: =$AB16*I16 -> 0 | AF16: =$AB16*J16 -> 5.9755418 | AG16: =$AB16*K16 -> 0 | AH16: =AVERAGE('S8 KM12'!$P16,'S8 KM12'!$Y16) -> 68.4 | AI16: =AVERAGE('S8 KM12'!$S16,'S8 KM12'!$AB16) -> 5.7789665 | AJ16: =STDEV('S8 KM12'!$S16,'S8 KM12'!$AB16) -> 0.27799945 | AK16: =AJ16/AI16 -> 0.048105393
A17: 1696.52 | B17: =IF(A17, A17-L17,"") -> -0.08633 | C17: 847.81 | D17: =IF(C17, C17-M17,"") -> 0.01047 | F17: =IF(E17, E17-N17,"") | G17: 3 | H17: 3 | J17: 2 | L17: 1696.6063 | M17: 847.79953 | N17: 564.86393 | O17: H3N3S2 | P17: 69.7 | Q17: 215715392 | R17: 86.5 | S17: ='S8 KM12'!$Q17/'S8 KM12'!$Q$22*100 -> 4.952435 | T17: =$S17*G17 -> 14.857305 | U17: =$S17*H17 -> 14.857305 | V17: =$S17*I17 -> 0 | W17: =$S17*J17 -> 9.90487 | X17: =$S17*K17 -> 0 | Y17: 69 | Z17: 607758400 | AA17: 55.9 | AB17: ='S8 KM12'!$Z17/'S8 KM12'!$Z$22*100 -> 5.9861383 | AC17: =$AB17*G17 -> 17.958415 | AD17: =$AB17*H17 -> 17.958415 | AE17: =$AB17*I17 -> 0 | AF17: =$AB17*J17 -> 11.972277 | AG17: =$AB17*K17 -> 0 | AH17: =AVERAGE('S8 KM12'!$P17,'S8 KM12'!$Y17) -> 69.35 | AI17: =AVERAGE('S8 KM12'!$S17,'S8 KM12'!$AB17) -> 5.4692866 | AJ17: =STDEV('S8 KM12'!$S17,'S8 KM12'!$AB17) -> 0.73093863 | AK17: =AJ17/AI17 -> 0.13364424
B18: =IF(A18, A18-L18,"") | C18: 1175.87 | D18: =IF(C18, C18-M18,"") -> -0.04333 | F18: =IF(E18, E18-N18,"") | G18: 4 | H18: 4 | J18: 3 | L18: 2352.8339 | M18: 1175.9133 | N18: 783.60646 | O18: H4N4S3 | P18: 72.4 | Q18: 224132608 | R18: 87.2 | S18: ='S8 KM12'!$Q18/'S8 KM12'!$Q$22*100 -> 5.145679 | T18: =$S18*G18 -> 20.582716 | U18: =$S18*H18 -> 20.582716 | V18: =$S18*I18 -> 0 | W18: =$S18*J18 -> 15.437037 | X18: =$S18*K18 -> 0 | Y18: 71.7 | Z18: 328773536 | AA18: 41.4 | AB18: ='S8 KM12'!$Z18/'S8 KM12'!$Z$22*100 -> 3.2382668 | AC18: =$AB18*G18 -> 12.953067 | AD18: =$AB18*H18 -> 12.953067 | AE18: =$AB18*I18 -> 0 | AF18: =$AB18*J18 -> 9.7148004 | AG18: =$AB18*K18 -> 0 | AH18: =AVERAGE('S8 KM12'!$P18,'S8 KM12'!$Y18) -> 72.05 | AI18: =AVERAGE('S8 KM12'!$S18,'S8 KM12'!$AB18) -> 4.1919729 | AJ18: =STDEV('S8 KM12'!$S18,'S8 KM12'!$AB18) -> 1.3487441 | AK18: =AJ18/AI18 -> 0.32174447
B19: =IF(A19, A19-L19,"") | C19: 1030.36 | D19: =IF(C19, C19-M19,"") -> -0.00563 | F19: =IF(E19, E19-N19,"") | G19: 4 | H19: 4 | J19: 2 | L19: 2061.7385 | M19: 1030.3656 | N19: 686.57466 | O19: H4N4S2 | P19: 74.6 | Q19: 24425136 | R19: 20.9 | S19: ='S8 KM12'!$Q19/'S8 KM12'!$Q$22*100 -> 0.56075692 | T19: =$S19*G19 -> 2.2430277 | U19: =$S19*H19 -> 2.2430277 | V19: =$S19*I19 -> 0 | W19: =$S19*J19 -> 1.1215138 | X19: =$S19*K19 -> 0 | Y19: 73.8 | Z19: 132136192 | AA19: 13.2 | AB19: ='S8 KM12'!$Z19/'S8 KM12'!$Z$22*100 -> 1.3014802 | AC19: =$AB19*G19 -> 5.2059208 | AD19: =$AB19*H19 -> 5.2059208 | AE19: =$AB19*I19 -> 0 | AF19: =$AB19*J19 -> 2.6029604 | AG19: =$AB19*K19 -> 0 | AH19: =AVERAGE('S8 KM12'!$P19,'S8 KM12'!$Y19) -> 74.2 | AI19: =AVERAGE('S8 KM12'!$S19,'S8 KM12'!$AB19) -> 0.93111856 | AJ19: =STDEV('S8 KM12'!$S19,'S8 KM12'!$AB19) -> 0.52377045 | AK19: =AJ19/AI19 -> 0.56251747
B20: =IF(A20, A20-L20,"") | C20: 1030.36 | D20: =IF(C20, C20-M20,"") -> -0.00563 | F20: =IF(E20, E20-N20,"") | G20: 4 | H20: 4 | J20: 2 | L20: 2061.7385 | M20: 1030.3656 | N20: 686.57466 | O20: H4N4S2 | P20: 76.8 | Q20: 65794028 | R20: 31.5 | S20: ='S8 KM12'!$Q20/'S8 KM12'!$Q$22*100 -> 1.5105118 | T20: =$S20*G20 -> 6.0420472 | U20: =$S20*H20 -> 6.0420472 | V20: =$S20*I20 -> 0 | W20: =$S20*J20 -> 3.0210236 | X20: =$S20*K20 -> 0 | Y20: 76.1 | Z20: 124010904 | AA20: 13.9 | AB20: ='S8 KM12'!$Z20/'S8 KM12'!$Z$22*100 -> 1.2214499 | AC20: =$AB20*G20 -> 4.8857995 | AD20: =$AB20*H20 -> 4.8857995 | AE20: =$AB20*I20 -> 0 | AF20: =$AB20*J20 -> 2.4428998 | AG20: =$AB20*K20 -> 0 | AH20: =AVERAGE('S8 KM12'!$P20,'S8 KM12'!$Y20) -> 76.45 | AI20: =AVERAGE('S8 KM12'!$S20,'S8 KM12'!$AB20) -> 1.3659808 | AJ20: =STDEV('S8 KM12'!$S20,'S8 KM12'!$AB20) -> 0.20439765 | AK20: =AJ20/AI20 -> 0.14963434
B21: =IF(A21, A21-L21,"") | C21: 1175.89 | D21: =IF(C21, C21-M21,"") -> -0.02333 | F21: =IF(E21, E21-N21,"") | G21: 4 | H21: 4 | J21: 3 | L21: 2352.8339 | M21: 1175.9133 | N21: 783.60646 | O21: H4N4S3 | P21: 78.1 | Q21: 279293536 | R21: 111.4 | S21: ='S8 KM12'!$Q21/'S8 KM12'!$Q$22*100 -> 6.4120741 | T21: =$S21*G21 -> 25.648296 | U21: =$S21*H21 -> 25.648296 | V21: =$S21*I21 -> 0 | W21: =$S21*J21 -> 19.236222 | X21: =$S21*K21 -> 0 | Y21: 77.3 | Z21: 568810304 | AA21: 61.5 | AB21: ='S8 KM12'!$Z21/'S8 KM12'!$Z$22*100 -> 5.6025176 | AC21: =$AB21*G21 -> 22.410071 | AD21: =$AB21*H21 -> 22.410071 | AE21: =$AB21*I21 -> 0 | AF21: =$AB21*J21 -> 16.807553 | AG21: =$AB21*K21 -> 0 | AH21: =AVERAGE('S8 KM12'!$P21,'S8 KM12'!$Y21) -> 77.7 | AI21: =AVERAGE('S8 KM12'!$S21,'S8 KM12'!$AB21) -> 6.0072959 | AJ21: =STDEV('S8 KM12'!$S21,'S8 KM12'!$AB21) -> 0.57244287 | AK21: =AJ21/AI21 -> 0.095291272
Q22: =SUM(Q5:Q21) -> 4355744050 | S22: =SUM(S5:S21) -> 100 | T22: =SUM(T5:T21)/100 -> 2.3727858 | U22: =SUM(U5:U21)/100 -> 2.3727858 | V22: =SUM(V5:V21)/100 -> 0.026374524 | W22: =SUM(W5:W21)/100 -> 1.4362044 | X22: =SUM(X5:X21)/100 -> 0 | Z22: =SUM(Z5:Z21) -> 10152762408 | AB22: =SUM(AB5:AB21) -> 100 | AC22: =SUM(AC5:AC21)/100 -> 2.3549096 | AD22: =SUM(AD5:AD21)/100 -> 2.3549096 | AE22: =SUM(AE5:AE21)/100 -> 0.026056045 | AF22: =SUM(AF5:AF21)/100 -> 1.3899298 | AG22: =SUM(AG5:AG21)/100 -> 0 | AI22: =SUM(AI5:AI21) -> 100

Sheet S9 T84 
M1: Supplementary table 1: S9 - O-linked glycans present in T84 cell line, retention times (min), peak areas, relative abundances with standard deviation and relative standard deviation (CV), and calculations of monosaccharide average compositions for each technical (1-2) replicate.
P3: Technical replicate 1. | Y3: Technical replicate 2.
A4: [M-H]- | B4: Δ[M-H]- | C4: [M-2H]2- | D4: Δ[M-2H]2- | E4: [M-3H]3- | F4: Δ[M-3H]3- | G4: H | H4: N | I4: F | J4: S | K4: Su | L4: [M-H]-th. | M4: [M-2H]2- th. | N4: [M-3H]3- th. | O4: Composition | P4: RT(min) | Q4: Peak area | R4: S/N | S4: Rel.peak area(%) 1 | T4: H | U4: N | V4: F | W4: S | X4: Su | Y4: RT(min) | Z4: Peak area | AA4: S/N | AB4: Rel.peak area(%) 1 | AC4: H | AD4: N | AE4: F | AF4: S | AG4: Su | AH4: RT avg (min) | AI4: Rel.peak area avg. (%) | AJ4: SD | AK4: CV
A5: 675.28 | B5: =IF(A5, A5-L5,"") -> 0.03347 | D5: =IF(C5, C5-M5,"") | F5: =IF(E5, E5-N5,"") | G5: 1 | H5: 1 | J5: 1 | L5: 675.24653 | M5: 337.11963 | N5: 224.41066 | O5: H1N1S1 | P5: 15 | Q5: 35910408 | R5: 23.1 | S5: ='S9 T84 '!$Q5/'S9 T84 '!$Q$56*100 -> 0.29810747 | T5: =$S5*G5 -> 0.29810747 | U5: =$S5*H5 -> 0.29810747 | V5: =$S5*I5 -> 0 | W5: =$S5*J5 -> 0.29810747 | X5: =$S5*K5 -> 0 | Y5: 14.7 | Z5: 106643144 | AA5: 6.1 | AB5: ='S9 T84 '!$Z5/'S9 T84 '!$Z$56*100 -> 0.6920661 | AC5: =$AB5*G5 -> 0.6920661 | AD5: =$AB5*H5 -> 0.6920661 | AE5: =$AB5*I5 -> 0 | AF5: =$AB5*J5 -> 0.6920661 | AG5: =$AB5*K5 -> 0 | AH5: =AVERAGE('S9 T84 '!$P5,'S9 T84 '!$Y5) -> 14.85 | AI5: =AVERAGE('S9 T84 '!$S5,'S9 T84 '!$AB5) -> 0.49508679 | AJ5: =STDEV('S9 T84 '!$S5,'S9 T84 '!$AB5) -> 0.27857081 | AK5: ='S9 T84 '!$AJ5/'S9 T84 '!$AI5 -> 0.56267067
A6: 675.24 | B6: =IF(A6, A6-L6,"") -> -0.00653 | D6: =IF(C6, C6-M6,"") | F6: =IF(E6, E6-N6,"") | G6: 1 | H6: 1 | J6: 1 | L6: 675.24653 | M6: 337.11963 | N6: 224.41066 | O6: H1N1S1 | P6: 23.2 | Q6: 256674096 | R6: 143.3 | S6: ='S9 T84 '!$Q6/'S9 T84 '!$Q$56*100 -> 2.1307602 | T6: =$S6*G6 -> 2.1307602 | U6: =$S6*H6 -> 2.1307602 | V6: =$S6*I6 -> 0 | W6: =$S6*J6 -> 2.1307602 | X6: =$S6*K6 -> 0 | Y6: 23 | Z6: 294875712 | AA6: 24.8 | AB6: ='S9 T84 '!$Z6/'S9 T84 '!$Z$56*100 -> 1.9136109 | AC6: =$AB6*G6 -> 1.9136109 | AD6: =$AB6*H6 -> 1.9136109 | AE6: =$AB6*I6 -> 0 | AF6: =$AB6*J6 -> 1.9136109 | AG6: =$AB6*K6 -> 0 | AH6: =AVERAGE('S9 T84 '!$P6,'S9 T84 '!$Y6) -> 23.1 | AI6: =AVERAGE('S9 T84 '!$S6,'S9 T84 '!$AB6) -> 2.0221855 | AJ6: =STDEV('S9 T84 '!$S6,'S9 T84 '!$AB6) -> 0.1535477 | AK6: ='S9 T84 '!$AJ6/'S9 T84 '!$AI6 -> 0.075931561
A7: 895.35 | B7: =IF(A7, A7-L7,"") -> 0.00877 | D7: =IF(C7, C7-M7,"") | F7: =IF(E7, E7-N7,"") | G7: 2 | H7: 2 | I7: 1 | L7: 895.34123 | M7: 447.16698 | N7: 297.77556 | O7: H2N2F1 | P7: 23.7 | Q7: 65478296 | R7: 37.1 | S7: ='S9 T84 '!$Q7/'S9 T84 '!$Q$56*100 -> 0.54356301 | T7: =$S7*G7 -> 1.087126 | U7: =$S7*H7 -> 1.087126 | V7: =$S7*I7 -> 0.54356301 | W7: =$S7*J7 -> 0 | X7: =$S7*K7 -> 0 | Y7: 23.6 | Z7: 66199676 | AA7: 6.2 | AB7: ='S9 T84 '!$Z7/'S9 T84 '!$Z$56*100 -> 0.42960616 | AC7: =$AB7*G7 -> 0.85921232 | AD7: =$AB7*H7 -> 0.85921232 | AE7: =$AB7*I7 -> 0.42960616 | AF7: =$AB7*J7 -> 0 | AG7: =$AB7*K7 -> 0 | AH7: =AVERAGE('S9 T84 '!$P7,'S9 T84 '!$Y7) -> 23.65 | AI7: =AVERAGE('S9 T84 '!$S7,'S9 T84 '!$AB7) -> 0.48658458 | AJ7: =STDEV('S9 T84 '!$S7,'S9 T84 '!$AB7) -> 0.080579661 | AK7: ='S9 T84 '!$AJ7/'S9 T84 '!$AI7 -> 0.16560258
A8: 895.33 | B8: =IF(A8, A8-L8,"") -> -0.01123 | D8: =IF(C8, C8-M8,"") | F8: =IF(E8, E8-N8,"") | G8: 2 | H8: 2 | I8: 1 | L8: 895.34123 | M8: 447.16698 | N8: 297.77556 | O8: H2N2F1 | P8: 24.8 | Q8: 68200528 | R8: 46.4 | S8: ='S9 T84 '!$Q8/'S9 T84 '!$Q$56*100 -> 0.56616141 | T8: =$S8*G8 -> 1.1323228 | U8: =$S8*H8 -> 1.1323228 | V8: =$S8*I8 -> 0.56616141 | W8: =$S8*J8 -> 0 | X8: =$S8*K8 -> 0 | Y8: 24.7 | Z8: 83392944 | AA8: 7.7 | AB8: ='S9 T84 '!$Z8/'S9 T84 '!$Z$56*100 -> 0.54118274 | AC8: =$AB8*G8 -> 1.0823655 | AD8: =$AB8*H8 -> 1.0823655 | AE8: =$AB8*I8 -> 0.54118274 | AF8: =$AB8*J8 -> 0 | AG8: =$AB8*K8 -> 0 | AH8: =AVERAGE('S9 T84 '!$P8,'S9 T84 '!$Y8) -> 24.75 | AI8: =AVERAGE('S9 T84 '!$S8,'S9 T84 '!$AB8) -> 0.55367208 | AJ8: =STDEV('S9 T84 '!$S8,'S9 T84 '!$AB8) -> 0.017662582 | AK8: ='S9 T84 '!$AJ8/'S9 T84 '!$AI8 -> 0.031900799
A9: 966.35 | B9: =IF(A9, A9-L9,"") -> 0.00807 | C9: 482.67 | D9: =IF(C9, C9-M9,"") -> 0.00267 | F9: =IF(E9, E9-N9,"") | G9: 1 | H9: 1 | J9: 2 | L9: 966.34193 | M9: 482.66733 | N9: 321.44246 | O9: H1N1S2 | P9: 27.7 | Q9: 1511444224 | R9: 781.2 | S9: ='S9 T84 '!$Q9/'S9 T84 '!$Q$56*100 -> 12.547137 | T9: =$S9*G9 -> 12.547137 | U9: =$S9*H9 -> 12.547137 | V9: =$S9*I9 -> 0 | W9: =$S9*J9 -> 25.094275 | X9: =$S9*K9 -> 0 | Y9: 27.5 | Z9: 2073024640 | AA9: 141.2 | AB9: ='S9 T84 '!$Z9/'S9 T84 '!$Z$56*100 -> 13.452999 | AC9: =$AB9*G9 -> 13.452999 | AD9: =$AB9*H9 -> 13.452999 | AE9: =$AB9*I9 -> 0 | AF9: =$AB9*J9 -> 26.905997 | AG9: =$AB9*K9 -> 0 | AH9: =AVERAGE('S9 T84 '!$P9,'S9 T84 '!$Y9) -> 27.6 | AI9: =AVERAGE('S9 T84 '!$S9,'S9 T84 '!$AB9) -> 13.000068 | AJ9: =STDEV('S9 T84 '!$S9,'S9 T84 '!$AB9) -> 0.64054071 | AK9: ='S9 T84 '!$AJ9/'S9 T84 '!$AI9 -> 0.049272105
A10: 1186.4 | B10: =IF(A10, A10-L10,"") -> -0.03663 | D10: =IF(C10, C10-M10,"") | F10: =IF(E10, E10-N10,"") | G10: 2 | H10: 2 | I10: 1 | J10: 1 | L10: 1186.4366 | M10: 592.71468 | N10: 394.80736 | O10: H2N2F1S1 | P10: 30.2 | Q10: 112861576 | R10: 41.3 | S10: ='S9 T84 '!$Q10/'S9 T84 '!$Q$56*100 -> 0.93691164 | T10: =$S10*G10 -> 1.8738233 | U10: =$S10*H10 -> 1.8738233 | V10: =$S10*I10 -> 0.93691164 | W10: =$S10*J10 -> 0.93691164 | X10: =$S10*K10 -> 0 | Y10: 30.2 | Z10: 103356984 | AA10: 9.2 | AB10: ='S9 T84 '!$Z10/'S9 T84 '!$Z$56*100 -> 0.6707404 | AC10: =$AB10*G10 -> 1.3414808 | AD10: =$AB10*H10 -> 1.3414808 | AE10: =$AB10*I10 -> 0.6707404 | AF10: =$AB10*J10 -> 0.6707404 | AG10: =$AB10*K10 -> 0 | AH10: =AVERAGE('S9 T84 '!$P10,'S9 T84 '!$Y10) -> 30.2 | AI10: =AVERAGE('S9 T84 '!$S10,'S9 T84 '!$AB10) -> 0.80382602 | AJ10: =STDEV('S9 T84 '!$S10,'S9 T84 '!$AB10) -> 0.18821149 | AK10: ='S9 T84 '!$AJ10/'S9 T84 '!$AI10 -> 0.23414456
A11: 749.33 | B11: =IF(A11, A11-L11,"") -> 0.04667 | D11: =IF(C11, C11-M11,"") | F11: =IF(E11, E11-N11,"") | G11: 2 | H11: 2 | L11: 749.28333 | M11: 374.13803 | N11: 249.0896 | O11: H2N2 | P11: 31.6 | Q11: 60638744 | R11: 40.7 | S11: ='S9 T84 '!$Q11/'S9 T84 '!$Q$56*100 -> 0.50338784 | T11: =$S11*G11 -> 1.0067757 | U11: =$S11*H11 -> 1.0067757 | V11: =$S11*I11 -> 0 | W11: =$S11*J11 -> 0 | X11: =$S11*K11 -> 0 | Y11: 31.7 | Z11: 143596272 | AA11: 17.7 | AB11: ='S9 T84 '!$Z11/'S9 T84 '!$Z$56*100 -> 0.9318753 | AC11: =$AB11*G11 -> 1.8637506 | AD11: =$AB11*H11 -> 1.8637506 | AE11: =$AB11*I11 -> 0 | AF11: =$AB11*J11 -> 0 | AG11: =$AB11*K11 -> 0 | AH11: =AVERAGE('S9 T84 '!$P11,'S9 T84 '!$Y11) -> 31.65 | AI11: =AVERAGE('S9 T84 '!$S11,'S9 T84 '!$AB11) -> 0.71763157 | AJ11: =STDEV('S9 T84 '!$S11,'S9 T84 '!$AB11) -> 0.30298639 | AK11: ='S9 T84 '!$AJ11/'S9 T84 '!$AI11 -> 0.42220326
A12: 975.3 | B12: =IF(A12, A12-L12,"") -> 0.00197 | D12: =IF(C12, C12-M12,"") | F12: =IF(E12, E12-N12,"") | G12: 2 | H12: 2 | I12: 1 | K12: 1 | L12: 975.29803 | M12: 487.14538 | N12: 324.42783 | O12: H2N2F1Su1 | P12: 31.9 | Q12: 76926640 | R12: 45.3 | S12: ='S9 T84 '!$Q12/'S9 T84 '!$Q$56*100 -> 0.63860055 | T12: =$S12*G12 -> 1.2772011 | U12: =$S12*H12 -> 1.2772011 | V12: =$S12*I12 -> 0.63860055 | W12: =$S12*J12 -> 0 | X12: =$S12*K12 -> 0.63860055 | Y12: 31.8 | Z12: 106197384 | AA12: 12.4 | AB12: ='S9 T84 '!$Z12/'S9 T84 '!$Z$56*100 -> 0.68917332 | AC12: =$AB12*G12 -> 1.3783466 | AD12: =$AB12*H12 -> 1.3783466 | AE12: =$AB12*I12 -> 0.68917332 | AF12: =$AB12*J12 -> 0 | AG12: =$AB12*K12 -> 0.68917332 | AH12: =AVERAGE('S9 T84 '!$P12,'S9 T84 '!$Y12) -> 31.85 | AI12: =AVERAGE('S9 T84 '!$S12,'S9 T84 '!$AB12) -> 0.66388693 | AJ12: =STDEV('S9 T84 '!$S12,'S9 T84 '!$AB12) -> 0.035760345 | AK12: ='S9 T84 '!$AJ12/'S9 T84 '!$AI12 -> 0.053865114
A13: 1227.42 | B13: =IF(A13, A13-L13,"") -> -0.04323 | D13: =IF(C13, C13-M13,"") | F13: =IF(E13, E13-N13,"") | G13: 1 | H13: 3 | I13: 1 | J13: 1 | L13: 1227.4632 | M13: 613.22798 | N13: 408.4829 | O13: H1N3F1S1 | P13: 34.4 | Q13: 75854920 | R13: 45.5 | S13: ='S9 T84 '!$Q13/'S9 T84 '!$Q$56*100 -> 0.62970375 | T13: =$S13*G13 -> 0.62970375 | U13: =$S13*H13 -> 1.8891113 | V13: =$S13*I13 -> 0.62970375 | W13: =$S13*J13 -> 0.62970375 | X13: =$S13*K13 -> 0 | Y13: 34.5 | Z13: 75355832 | AA13: 11.6 | AB13: ='S9 T84 '!$Z13/'S9 T84 '!$Z$56*100 -> 0.4890255 | AC13: =$AB13*G13 -> 0.4890255 | AD13: =$AB13*H13 -> 1.4670765 | AE13: =$AB13*I13 -> 0.4890255 | AF13: =$AB13*J13 -> 0.4890255 | AG13: =$AB13*K13 -> 0 | AH13: =AVERAGE('S9 T84 '!$P13,'S9 T84 '!$Y13) -> 34.45 | AI13: =AVERAGE('S9 T84 '!$S13,'S9 T84 '!$AB13) -> 0.55936462 | AJ13: =STDEV('S9 T84 '!$S13,'S9 T84 '!$AB13) -> 0.099474546 | AK13: ='S9 T84 '!$AJ13/'S9 T84 '!$AI13 -> 0.17783489
A14: 1406.44 | B14: =IF(A14, A14-L14,"") -> -0.09133 | C14: 702.76 | D14: =IF(C14, C14-M14,"") -> -0.00203 | F14: =IF(E14, E14-N14,"") | G14: 3 | H14: 3 | I14: 2 | L14: 1406.5313 | M14: 702.76203 | N14: 468.17226 | O14: H3N3F2 | P14: 34.7 | Q14: 75299128 | R14: 29.7 | S14: ='S9 T84 '!$Q14/'S9 T84 '!$Q$56*100 -> 0.62508989 | T14: =$S14*G14 -> 1.8752697 | U14: =$S14*H14 -> 1.8752697 | V14: =$S14*I14 -> 1.2501798 | W14: =$S14*J14 -> 0 | X14: =$S14*K14 -> 0 | Y14: 34.6 | Z14: 69228624 | AA14: 6.4 | AB14: ='S9 T84 '!$Z14/'S9 T84 '!$Z$56*100 -> 0.44926267 | AC14: =$AB14*G14 -> 1.347788 | AD14: =$AB14*H14 -> 1.347788 | AE14: =$AB14*I14 -> 0.89852534 | AF14: =$AB14*J14 -> 0 | AG14: =$AB14*K14 -> 0 | AH14: =AVERAGE('S9 T84 '!$P14,'S9 T84 '!$Y14) -> 34.65 | AI14: =AVERAGE('S9 T84 '!$S14,'S9 T84 '!$AB14) -> 0.53717628 | AJ14: =STDEV('S9 T84 '!$S14,'S9 T84 '!$AB14) -> 0.12432862 | AK14: ='S9 T84 '!$AJ14/'S9 T84 '!$AI14 -> 0.23144845
A15: 878.36 | B15: =IF(A15, A15-L15,"") -> 0.03407 | D15: =IF(C15, C15-M15,"") | F15: =IF(E15, E15-N15,"") | G15: 1 | H15: 2 | J15: 1 | L15: 878.32593 | M15: 438.65933 | N15: 292.1038 | O15: H1N2S1 | P15: 34.7 | Q15: 54255576 | R15: 36.4 | S15: ='S9 T84 '!$Q15/'S9 T84 '!$Q$56*100 -> 0.45039847 | T15: =$S15*G15 -> 0.45039847 | U15: =$S15*H15 -> 0.90079693 | V15: =$S15*I15 -> 0 | W15: =$S15*J15 -> 0.45039847 | X15: =$S15*K15 -> 0 | Y15: 34.8 | Z15: 67909472 | AA15: 6.5 | AB15: ='S9 T84 '!$Z15/'S9 T84 '!$Z$56*100 -> 0.44070197 | AC15: =$AB15*G15 -> 0.44070197 | AD15: =$AB15*H15 -> 0.88140393 | AE15: =$AB15*I15 -> 0 | AF15: =$AB15*J15 -> 0.44070197 | AG15: =$AB15*K15 -> 0 | AH15: =AVERAGE('S9 T84 '!$P15,'S9 T84 '!$Y15) -> 34.75 | AI15: =AVERAGE('S9 T84 '!$S15,'S9 T84 '!$AB15) -> 0.44555022 | AJ15: =STDEV('S9 T84 '!$S15,'S9 T84 '!$AB15) -> 0.006856461 | AK15: ='S9 T84 '!$AJ15/'S9 T84 '!$AI15 -> 0.01538875
A16: 1486.43 | B16: =IF(A16, A16-L16,"") -> -0.05813 | C16: 742.76 | D16: =IF(C16, C16-M16,"") -> 0.01957 | F16: =IF(E16, E16-N16,"") | G16: 3 | H16: 3 | I16: 2 | K16: 1 | L16: 1486.4881 | M16: 742.74043 | N16: 494.82453 | O16: H3N3F2Su1 | P16: 36.1 | Q16: 157786400 | R16: 82.6 | S16: ='S9 T84 '!$Q16/'S9 T84 '!$Q$56*100 -> 1.3098516 | T16: =$S16*G16 -> 3.9295548 | U16: =$S16*H16 -> 3.9295548 | V16: =$S16*I16 -> 2.6197032 | W16: =$S16*J16 -> 0 | X16: =$S16*K16 -> 1.3098516 | Y16: 36.1 | Z16: 122305928 | AA16: 11.7 | AB16: ='S9 T84 '!$Z16/'S9 T84 '!$Z$56*100 -> 0.79371053 | AC16: =$AB16*G16 -> 2.3811316 | AD16: =$AB16*H16 -> 2.3811316 | AE16: =$AB16*I16 -> 1.5874211 | AF16: =$AB16*J16 -> 0 | AG16: =$AB16*K16 -> 0.79371053 | AH16: =AVERAGE('S9 T84 '!$P16,'S9 T84 '!$Y16) -> 36.1 | AI16: =AVERAGE('S9 T84 '!$S16,'S9 T84 '!$AB16) -> 1.0517811 | AJ16: =STDEV('S9 T84 '!$S16,'S9 T84 '!$AB16) -> 0.36496685 | AK16: ='S9 T84 '!$AJ16/'S9 T84 '!$AI16 -> 0.34699888
A17: 1266.35 | B17: =IF(A17, A17-L17,"") -> -0.04343 | C17: 632.76 | D17: =IF(C17, C17-M17,"") -> 0.06692 | F17: =IF(E17, E17-N17,"") | G17: 2 | H17: 2 | I17: 1 | J17: 1 | K17: 1 | L17: 1266.3934 | M17: 632.69308 | N17: 421.45963 | O17: H2N2F1S1Su1 | P17: 37.5 | Q17: 135770128 | R17: 101.3 | S17: ='S9 T84 '!$Q17/'S9 T84 '!$Q$56*100 -> 1.1270852 | T17: =$S17*G17 -> 2.2541704 | U17: =$S17*H17 -> 2.2541704 | V17: =$S17*I17 -> 1.1270852 | W17: =$S17*J17 -> 1.1270852 | X17: =$S17*K17 -> 1.1270852 | Y17: 37.5 | Z17: 83049440 | AA17: 11.7 | AB17: ='S9 T84 '!$Z17/'S9 T84 '!$Z$56*100 -> 0.53895356 | AC17: =$AB17*G17 -> 1.0779071 | AD17: =$AB17*H17 -> 1.0779071 | AE17: =$AB17*I17 -> 0.53895356 | AF17: =$AB17*J17 -> 0.53895356 | AG17: =$AB17*K17 -> 0.53895356 | AH17: =AVERAGE('S9 T84 '!$P17,'S9 T84 '!$Y17) -> 37.5 | AI17: =AVERAGE('S9 T84 '!$S17,'S9 T84 '!$AB17) -> 0.83301939 | AJ17: =STDEV('S9 T84 '!$S17,'S9 T84 '!$AB17) -> 0.41587188 | AK17: ='S9 T84 '!$AJ17/'S9 T84 '!$AI17 -> 0.49923434
A18: 1186.43 | B18: =IF(A18, A18-L18,"") -> -0.00663 | D18: =IF(C18, C18-M18,"") | F18: =IF(E18, E18-N18,"") | G18: 2 | H18: 2 | I18: 1 | J18: 1 | L18: 1186.4366 | M18: 592.71468 | N18: 394.80736 | O18: H2N2F1S1 | P18: 37.6 | Q18: 927251648 | R18: 372.9 | S18: ='S9 T84 '!$Q18/'S9 T84 '!$Q$56*100 -> 7.6975078 | T18: =$S18*G18 -> 15.395016 | U18: =$S18*H18 -> 15.395016 | V18: =$S18*I18 -> 7.6975078 | W18: =$S18*J18 -> 7.6975078 | X18: =$S18*K18 -> 0 | Y18: 37.5 | Z18: 993872768 | AA18: 94.3 | AB18: ='S9 T84 '!$Z18/'S9 T84 '!$Z$56*100 -> 6.4497878 | AC18: =$AB18*G18 -> 12.899576 | AD18: =$AB18*H18 -> 12.899576 | AE18: =$AB18*I18 -> 6.4497878 | AF18: =$AB18*J18 -> 6.4497878 | AG18: =$AB18*K18 -> 0 | AH18: =AVERAGE('S9 T84 '!$P18,'S9 T84 '!$Y18) -> 37.55 | AI18: =AVERAGE('S9 T84 '!$S18,'S9 T84 '!$AB18) -> 7.0736478 | AJ18: =STDEV('S9 T84 '!$S18,'S9 T84 '!$AB18) -> 0.88227129 | AK18: ='S9 T84 '!$AJ18/'S9 T84 '!$AI18 -> 0.12472649
A19: 1260.44 | B19: =IF(A19, A19-L19,"") -> -0.03343 | D19: =IF(C19, C19-M19,"") | F19: =IF(E19, E19-N19,"") | G19: 3 | H19: 3 | I19: 1 | L19: 1260.4734 | M19: 629.73308 | N19: 419.4863 | O19: H3N3F1 | P19: 39.8 | Q19: 90525264 | R19: 29.1 | S19: ='S9 T84 '!$Q19/'S9 T84 '!$Q$56*100 -> 0.75148848 | T19: =$S19*G19 -> 2.2544654 | U19: =$S19*H19 -> 2.2544654 | V19: =$S19*I19 -> 0.75148848 | W19: =$S19*J19 -> 0 | X19: =$S19*K19 -> 0 | Y19: 39.7 | Z19: 131460952 | AA19: 17 | AB19: ='S9 T84 '!$Z19/'S9 T84 '!$Z$56*100 -> 0.85312252 | AC19: =$AB19*G19 -> 2.5593676 | AD19: =$AB19*H19 -> 2.5593676 | AE19: =$AB19*I19 -> 0.85312252 | AF19: =$AB19*J19 -> 0 | AG19: =$AB19*K19 -> 0 | AH19: =AVERAGE('S9 T84 '!$P19,'S9 T84 '!$Y19) -> 39.75 | AI19: =AVERAGE('S9 T84 '!$S19,'S9 T84 '!$AB19) -> 0.8023055 | AJ19: =STDEV('S9 T84 '!$S19,'S9 T84 '!$AB19) -> 0.071866124 | AK19: ='S9 T84 '!$AJ19/'S9 T84 '!$AI19 -> 0.089574512
A20: 1697.56 | B20: =IF(A20, A20-L20,"") -> -0.06673 | C20: 848.31 | D20: =IF(C20, C20-M20,"") -> 0.00027 | F20: =IF(E20, E20-N20,"") | G20: 3 | H20: 3 | I20: 2 | J20: 1 | L20: 1697.6267 | M20: 848.30973 | N20: 565.20406 | O20: H3N3F2S1 | P20: 40.8 | Q20: 157086992 | R20: 76.4 | S20: ='S9 T84 '!$Q20/'S9 T84 '!$Q$56*100 -> 1.3040455 | T20: =$S20*G20 -> 3.9121365 | U20: =$S20*H20 -> 3.9121365 | V20: =$S20*I20 -> 2.608091 | W20: =$S20*J20 -> 1.3040455 | X20: =$S20*K20 -> 0 | Y20: 40.9 | Z20: 207804912 | AA20: 26.3 | AB20: ='S9 T84 '!$Z20/'S9 T84 '!$Z$56*100 -> 1.3485605 | AC20: =$AB20*G20 -> 4.0456816 | AD20: =$AB20*H20 -> 4.0456816 | AE20: =$AB20*I20 -> 2.6971211 | AF20: =$AB20*J20 -> 1.3485605 | AG20: =$AB20*K20 -> 0 | AH20: =AVERAGE('S9 T84 '!$P20,'S9 T84 '!$Y20) -> 40.85 | AI20: =AVERAGE('S9 T84 '!$S20,'S9 T84 '!$AB20) -> 1.326303 | AJ20: =STDEV('S9 T84 '!$S20,'S9 T84 '!$AB20) -> 0.03147687 | AK20: ='S9 T84 '!$AJ20/'S9 T84 '!$AI20 -> 0.023732789
A21: 1186.41 | B21: =IF(A21, A21-L21,"") -> -0.02663 | D21: =IF(C21, C21-M21,"") | F21: =IF(E21, E21-N21,"") | G21: 2 | H21: 2 | I21: 1 | J21: 1 | L21: 1186.4366 | M21: 592.71468 | N21: 394.80736 | O21: H2N2F1S1 | P21: 41.1 | Q21: 331034112 | R21: 124.3 | S21: ='S9 T84 '!$Q21/'S9 T84 '!$Q$56*100 -> 2.7480541 | T21: =$S21*G21 -> 5.4961081 | U21: =$S21*H21 -> 5.4961081 | V21: =$S21*I21 -> 2.7480541 | W21: =$S21*J21 -> 2.7480541 | X21: =$S21*K21 -> 0 | Y21: 41 | Z21: 401123776 | AA21: 39 | AB21: ='S9 T84 '!$Z21/'S9 T84 '!$Z$56*100 -> 2.6031131 | AC21: =$AB21*G21 -> 5.2062262 | AD21: =$AB21*H21 -> 5.2062262 | AE21: =$AB21*I21 -> 2.6031131 | AF21: =$AB21*J21 -> 2.6031131 | AG21: =$AB21*K21 -> 0 | AH21: =AVERAGE('S9 T84 '!$P21,'S9 T84 '!$Y21) -> 41.05 | AI21: =AVERAGE('S9 T84 '!$S21,'S9 T84 '!$AB21) -> 2.6755836 | AJ21: =STDEV('S9 T84 '!$S21,'S9 T84 '!$AB21) -> 0.10248874 | AK21: ='S9 T84 '!$AJ21/'S9 T84 '!$AI21 -> 0.038305189
A22: 1266.35 | B22: =IF(A22, A22-L22,"") -> -0.04343 | C22: 632.69 | D22: =IF(C22, C22-M22,"") -> -0.00308 | F22: =IF(E22, E22-N22,"") | G22: 2 | H22: 2 | I22: 1 | J22: 1 | K22: 1 | L22: 1266.3934 | M22: 632.69308 | N22: 421.45963 | O22: H2N2F1S1Su1 | P22: 42.3 | Q22: 454750784 | R22: 299.2 | S22: ='S9 T84 '!$Q22/'S9 T84 '!$Q$56*100 -> 3.7750785 | T22: =$S22*G22 -> 7.5501569 | U22: =$S22*H22 -> 7.5501569 | V22: =$S22*I22 -> 3.7750785 | W22: =$S22*J22 -> 3.7750785 | X22: =$S22*K22 -> 3.7750785 | Y22: 42.3 | Z22: 606138176 | AA22: 47.6 | AB22: ='S9 T84 '!$Z22/'S9 T84 '!$Z$56*100 -> 3.9335645 | AC22: =$AB22*G22 -> 7.8671289 | AD22: =$AB22*H22 -> 7.8671289 | AE22: =$AB22*I22 -> 3.9335645 | AF22: =$AB22*J22 -> 3.9335645 | AG22: =$AB22*K22 -> 3.9335645 | AH22: =AVERAGE('S9 T84 '!$P22,'S9 T84 '!$Y22) -> 42.3 | AI22: =AVERAGE('S9 T84 '!$S22,'S9 T84 '!$AB22) -> 3.8543215 | AJ22: =STDEV('S9 T84 '!$S22,'S9 T84 '!$AB22) -> 0.11206654 | AK22: ='S9 T84 '!$AJ22/'S9 T84 '!$AI22 -> 0.029075556
B23: =IF(A23, A23-L23,"") | C23: 885.35 | D23: =IF(C23, C23-M23,"") -> 0.02187 | F23: =IF(E23, E23-N23,"") | G23: 4 | H23: 4 | I23: 2 | L23: 1771.6635 | M23: 885.32813 | N23: 589.883 | O23: H4N4F2 | P23: 43.3 | Q23: 28205914 | R23: 15.9 | S23: ='S9 T84 '!$Q23/'S9 T84 '!$Q$56*100 -> 0.23414921 | T23: =$S23*G23 -> 0.93659685 | U23: =$S23*H23 -> 0.93659685 | V23: =$S23*I23 -> 0.46829843 | W23: =$S23*J23 -> 0 | X23: =$S23*K23 -> 0 | Y23: 43.3 | Z23: 39376576 | AA23: 6.2 | AB23: ='S9 T84 '!$Z23/'S9 T84 '!$Z$56*100 -> 0.25553629 | AC23: =$AB23*G23 -> 1.0221452 | AD23: =$AB23*H23 -> 1.0221452 | AE23: =$AB23*I23 -> 0.51107258 | AF23: =$AB23*J23 -> 0 | AG23: =$AB23*K23 -> 0 | AH23: =AVERAGE('S9 T84 '!$P23,'S9 T84 '!$Y23) -> 43.3 | AI23: =AVERAGE('S9 T84 '!$S23,'S9 T84 '!$AB23) -> 0.24484275 | AJ23: =STDEV('S9 T84 '!$S23,'S9 T84 '!$AB23) -> 0.015122947 | AK23: ='S9 T84 '!$AJ23/'S9 T84 '!$AI23 -> 0.061765956
A24: 1040.41 | B24: =IF(A24, A24-L24,"") -> 0.03127 | D24: =IF(C24, C24-M24,"") | F24: =IF(E24, E24-N24,"") | G24: 2 | H24: 2 | J24: 1 | L24: 1040.3787 | M24: 519.68573 | N24: 346.1214 | O24: H2N2S1 | P24: 43.8 | Q24: 594244992 | R24: 337.2 | S24: ='S9 T84 '!$Q24/'S9 T84 '!$Q$56*100 -> 4.9330788 | T24: =$S24*G24 -> 9.8661577 | U24: =$S24*H24 -> 9.8661577 | V24: =$S24*I24 -> 0 | W24: =$S24*J24 -> 4.9330788 | X24: =$S24*K24 -> 0 | Y24: 43.8 | Z24: 852927808 | AA24: 70.8 | AB24: ='S9 T84 '!$Z24/'S9 T84 '!$Z$56*100 -> 5.5351183 | AC24: =$AB24*G24 -> 11.070237 | AD24: =$AB24*H24 -> 11.070237 | AE24: =$AB24*I24 -> 0 | AF24: =$AB24*J24 -> 5.5351183 | AG24: =$AB24*K24 -> 0 | AH24: =AVERAGE('S9 T84 '!$P24,'S9 T84 '!$Y24) -> 43.8 | AI24: =AVERAGE('S9 T84 '!$S24,'S9 T84 '!$AB24) -> 5.2340986 | AJ24: =STDEV('S9 T84 '!$S24,'S9 T84 '!$AB24) -> 0.42570621 | AK24: ='S9 T84 '!$AJ24/'S9 T84 '!$AI24 -> 0.081333242
A25: 1397.45 | B25: =IF(A25, A25-L25,"") -> -0.00173 | C25: 698.26 | D25: =IF(C25, C25-M25,"") -> 0.03777 | F25: =IF(E25, E25-N25,"") | G25: 3 | H25: 4 | K25: 1 | L25: 1397.4517 | M25: 698.22223 | N25: 465.14573 | O25: H3N4Su1 | P25: 44.5 | Q25: 100867440 | R25: 71.5 | S25: ='S9 T84 '!$Q25/'S9 T84 '!$Q$56*100 -> 0.83734325 | T25: =$S25*G25 -> 2.5120298 | U25: =$S25*H25 -> 3.349373 | V25: =$S25*I25 -> 0 | W25: =$S25*J25 -> 0 | X25: =$S25*K25 -> 0.83734325 | Y25: 44.7 | Z25: 91519784 | AA25: 10.3 | AB25: ='S9 T84 '!$Z25/'S9 T84 '!$Z$56*100 -> 0.59392229 | AC25: =$AB25*G25 -> 1.7817669 | AD25: =$AB25*H25 -> 2.3756891 | AE25: =$AB25*I25 -> 0 | AF25: =$AB25*J25 -> 0 | AG25: =$AB25*K25 -> 0.59392229 | AH25: =AVERAGE('S9 T84 '!$P25,'S9 T84 '!$Y25) -> 44.6 | AI25: =AVERAGE('S9 T84 '!$S25,'S9 T84 '!$AB25) -> 0.71563277 | AJ25: =STDEV('S9 T84 '!$S25,'S9 T84 '!$AB25) -> 0.17212461 | AK25: ='S9 T84 '!$AJ25/'S9 T84 '!$AI25 -> 0.24052087
A26: 1340.42 | B26: =IF(A26, A26-L26,"") -> -0.01023 | D26: =IF(C26, C26-M26,"") | F26: =IF(E26, E26-N26,"") | G26: 3 | H26: 3 | I26: 1 | K26: 1 | L26: 1340.4302 | M26: 669.71148 | N26: 446.13856 | O26: H3N3F1Su1 | P26: 44.7 | Q26: 73481208 | R26: 20.9 | S26: ='S9 T84 '!$Q26/'S9 T84 '!$Q$56*100 -> 0.60999856 | T26: =$S26*G26 -> 1.8299957 | U26: =$S26*H26 -> 1.8299957 | V26: =$S26*I26 -> 0.60999856 | W26: =$S26*J26 -> 0 | X26: =$S26*K26 -> 0.60999856 | Y26: 44.7 | Z26: 60928496 | AA26: 7.4 | AB26: ='S9 T84 '!$Z26/'S9 T84 '!$Z$56*100 -> 0.39539857 | AC26: =$AB26*G26 -> 1.1861957 | AD26: =$AB26*H26 -> 1.1861957 | AE26: =$AB26*I26 -> 0.39539857 | AF26: =$AB26*J26 -> 0 | AG26: =$AB26*K26 -> 0.39539857 | AH26: =AVERAGE('S9 T84 '!$P26,'S9 T84 '!$Y26) -> 44.7 | AI26: =AVERAGE('S9 T84 '!$S26,'S9 T84 '!$AB26) -> 0.50269857 | AJ26: =STDEV('S9 T84 '!$S26,'S9 T84 '!$AB26) -> 0.15174511 | AK26: ='S9 T84 '!$AJ26/'S9 T84 '!$AI26 -> 0.30186104
A27: 1477.49 | B27: =IF(A27, A27-L27,"") -> -0.04203 | C27: 738.28 | D27: =IF(C27, C27-M27,"") -> 0.01762 | F27: =IF(E27, E27-N27,"") | G27: 2 | H27: 2 | I27: 1 | J27: 2 | L27: 1477.532 | M27: 738.26238 | N27: 491.83916 | O27: H2N2F1S2 | P27: 45 | Q27: 173400160 | R27: 108.7 | S27: ='S9 T84 '!$Q27/'S9 T84 '!$Q$56*100 -> 1.439468 | T27: =$S27*G27 -> 2.878936 | U27: =$S27*H27 -> 2.878936 | V27: =$S27*I27 -> 1.439468 | W27: =$S27*J27 -> 2.878936 | X27: =$S27*K27 -> 0 | Y27: 44.9 | Z27: 175615328 | AA27: 19.3 | AB27: ='S9 T84 '!$Z27/'S9 T84 '!$Z$56*100 -> 1.1396646 | AC27: =$AB27*G27 -> 2.2793292 | AD27: =$AB27*H27 -> 2.2793292 | AE27: =$AB27*I27 -> 1.1396646 | AF27: =$AB27*J27 -> 2.2793292 | AG27: =$AB27*K27 -> 0 | AH27: =AVERAGE('S9 T84 '!$P27,'S9 T84 '!$Y27) -> 44.95 | AI27: =AVERAGE('S9 T84 '!$S27,'S9 T84 '!$AB27) -> 1.2895663 | AJ27: =STDEV('S9 T84 '!$S27,'S9 T84 '!$AB27) -> 0.21199304 | AK27: ='S9 T84 '!$AJ27/'S9 T84 '!$AI27 -> 0.16439095
A28: 1348.39 | B28: =IF(A28, A28-L28,"") -> -0.09943 | D28: =IF(C28, C28-M28,"") | F28: =IF(E28, E28-N28,"") | G28: 3 | H28: 2 | I28: 1 | J28: 1 | L28: 1348.4894 | M28: 673.74108 | N28: 448.82496 | O28: H3N2F1S1 | P28: 45.3 | Q28: 64395532 | R28: 18.3 | S28: ='S9 T84 '!$Q28/'S9 T84 '!$Q$56*100 -> 0.53457453 | T28: =$S28*G28 -> 1.6037236 | U28: =$S28*H28 -> 1.0691491 | V28: =$S28*I28 -> 0.53457453 | W28: =$S28*J28 -> 0.53457453 | X28: =$S28*K28 -> 0 | Y28: 45.4 | Z28: 54425280 | AA28: 7.7 | AB28: ='S9 T84 '!$Z28/'S9 T84 '!$Z$56*100 -> 0.35319562 | AC28: =$AB28*G28 -> 1.0595869 | AD28: =$AB28*H28 -> 0.70639124 | AE28: =$AB28*I28 -> 0.35319562 | AF28: =$AB28*J28 -> 0.35319562 | AG28: =$AB28*K28 -> 0 | AH28: =AVERAGE('S9 T84 '!$P28,'S9 T84 '!$Y28) -> 45.35 | AI28: =AVERAGE('S9 T84 '!$S28,'S9 T84 '!$AB28) -> 0.44388507 | AJ28: =STDEV('S9 T84 '!$S28,'S9 T84 '!$AB28) -> 0.12825426 | AK28: ='S9 T84 '!$AJ28/'S9 T84 '!$AI28 -> 0.28893573
A29: 1697.6 | B29: =IF(A29, A29-L29,"") -> -0.02673 | C29: 848.32 | D29: =IF(C29, C29-M29,"") -> 0.01027 | F29: =IF(E29, E29-N29,"") | G29: 3 | H29: 3 | I29: 2 | J29: 1 | L29: 1697.6267 | M29: 848.30973 | N29: 565.20406 | O29: H3N3F2S1 | P29: 46.1 | Q29: 55502848 | R29: 35.5 | S29: ='S9 T84 '!$Q29/'S9 T84 '!$Q$56*100 -> 0.4607526 | T29: =$S29*G29 -> 1.3822578 | U29: =$S29*H29 -> 1.3822578 | V29: =$S29*I29 -> 0.9215052 | W29: =$S29*J29 -> 0.4607526 | X29: =$S29*K29 -> 0 | Y29: 46.2 | Z29: 114720128 | AA29: 10.5 | AB29: ='S9 T84 '!$Z29/'S9 T84 '!$Z$56*100 -> 0.7444821 | AC29: =$AB29*G29 -> 2.2334463 | AD29: =$AB29*H29 -> 2.2334463 | AE29: =$AB29*I29 -> 1.4889642 | AF29: =$AB29*J29 -> 0.7444821 | AG29: =$AB29*K29 -> 0 | AH29: =AVERAGE('S9 T84 '!$P29,'S9 T84 '!$Y29) -> 46.15 | AI29: =AVERAGE('S9 T84 '!$S29,'S9 T84 '!$AB29) -> 0.60261735 | AJ29: =STDEV('S9 T84 '!$S29,'S9 T84 '!$AB29) -> 0.20062705 | AK29: ='S9 T84 '!$AJ29/'S9 T84 '!$AI29 -> 0.33292611
B30: =IF(A30, A30-L30,"") | C30: 892.32 | D30: =IF(C30, C30-M30,"") -> 0 | F30: =IF(E30, E30-N30,"") | G30: 3 | H30: 2 | I30: 2 | J30: 2 | L30: 1785.64 | M30: 892.32 | N30: 594.54 | O30: H3N2F2S2 | P30: 46.1 | Q30: 73503904 | R30: 70.7 | S30: ='S9 T84 '!$Q30/'S9 T84 '!$Q$56*100 -> 0.61018697 | T30: =$S30*G30 -> 1.8305609 | U30: =$S30*H30 -> 1.2203739 | V30: =$S30*I30 -> 1.2203739 | W30: =$S30*J30 -> 1.2203739 | X30: =$S30*K30 -> 0 | Y30: 46.1 | Z30: 119730536 | AA30: 14.7 | AB30: ='S9 T84 '!$Z30/'S9 T84 '!$Z$56*100 -> 0.77699739 | AC30: =$AB30*G30 -> 2.3309922 | AD30: =$AB30*H30 -> 1.5539948 | AE30: =$AB30*I30 -> 1.5539948 | AF30: =$AB30*J30 -> 1.5539948 | AG30: =$AB30*K30 -> 0 | AH30: =AVERAGE('S9 T84 '!$P30,'S9 T84 '!$Y30) -> 46.1 | AI30: =AVERAGE('S9 T84 '!$S30,'S9 T84 '!$AB30) -> 0.69359218 | AJ30: =STDEV('S9 T84 '!$S30,'S9 T84 '!$AB30) -> 0.11795278 | AK30: ='S9 T84 '!$AJ30/'S9 T84 '!$AI30 -> 0.17006071
A31: 1477.48 | B31: =IF(A31, A31-L31,"") -> -0.05203 | C31: 738.3 | D31: =IF(C31, C31-M31,"") -> 0.03762 | F31: =IF(E31, E31-N31,"") | G31: 2 | H31: 2 | I31: 1 | J31: 2 | L31: 1477.532 | M31: 738.26238 | N31: 491.83916 | O31: H2N2F1S2 | P31: 46.6 | Q31: 1677432576 | R31: 1068.2 | S31: ='S9 T84 '!$Q31/'S9 T84 '!$Q$56*100 -> 13.925077 | T31: =$S31*G31 -> 27.850154 | U31: =$S31*H31 -> 27.850154 | V31: =$S31*I31 -> 13.925077 | W31: =$S31*J31 -> 27.850154 | X31: =$S31*K31 -> 0 | Y31: 46.6 | Z31: 2035172992 | AA31: 263.4 | AB31: ='S9 T84 '!$Z31/'S9 T84 '!$Z$56*100 -> 13.207358 | AC31: =$AB31*G31 -> 26.414717 | AD31: =$AB31*H31 -> 26.414717 | AE31: =$AB31*I31 -> 13.207358 | AF31: =$AB31*J31 -> 26.414717 | AG31: =$AB31*K31 -> 0 | AH31: =AVERAGE('S9 T84 '!$P31,'S9 T84 '!$Y31) -> 46.6 | AI31: =AVERAGE('S9 T84 '!$S31,'S9 T84 '!$AB31) -> 13.566218 | AJ31: =STDEV('S9 T84 '!$S31,'S9 T84 '!$AB31) -> 0.50750347 | AK31: ='S9 T84 '!$AJ31/'S9 T84 '!$AI31 -> 0.037409356
A32: 1625.55 | B32: =IF(A32, A32-L32,"") -> -0.05563 | C32: 812.28 | D32: =IF(C32, C32-M32,"") -> -0.01918 | F32: =IF(E32, E32-N32,"") | G32: 4 | H32: 4 | I32: 1 | L32: 1625.6056 | M32: 812.29918 | N32: 541.19703 | O32: H4N4F1 | P32: 46.6 | Q32: 77230208 | R32: 52.3 | S32: ='S9 T84 '!$Q32/'S9 T84 '!$Q$56*100 -> 0.6411206 | T32: =$S32*G32 -> 2.5644824 | U32: =$S32*H32 -> 2.5644824 | V32: =$S32*I32 -> 0.6411206 | W32: =$S32*J32 -> 0 | X32: =$S32*K32 -> 0 | Y32: 46.7 | Z32: 144300384 | AA32: 19 | AB32: ='S9 T84 '!$Z32/'S9 T84 '!$Z$56*100 -> 0.93644467 | AC32: =$AB32*G32 -> 3.7457787 | AD32: =$AB32*H32 -> 3.7457787 | AE32: =$AB32*I32 -> 0.93644467 | AF32: =$AB32*J32 -> 0 | AG32: =$AB32*K32 -> 0 | AH32: =AVERAGE('S9 T84 '!$P32,'S9 T84 '!$Y32) -> 46.65 | AI32: =AVERAGE('S9 T84 '!$S32,'S9 T84 '!$AB32) -> 0.78878263 | AJ32: =STDEV('S9 T84 '!$S32,'S9 T84 '!$AB32) -> 0.20882565 | AK32: ='S9 T84 '!$AJ32/'S9 T84 '!$AI32 -> 0.26474423
B33: =IF(A33, A33-L33,"") | C33: 888.3 | D33: =IF(C33, C33-M33,"") -> 0.01187 | F33: =IF(E33, E33-N33,"") | G33: 3 | H33: 3 | I33: 2 | J33: 1 | K33: 1 | L33: 1777.5835 | M33: 888.28813 | N33: 591.85633 | O33: H3N3F2S1Su1 | P33: 47.5 | Q33: 344363872 | R33: 153.5 | S33: ='S9 T84 '!$Q33/'S9 T84 '!$Q$56*100 -> 2.85871 | T33: =$S33*G33 -> 8.5761301 | U33: =$S33*H33 -> 8.5761301 | V33: =$S33*I33 -> 5.7174201 | W33: =$S33*J33 -> 2.85871 | X33: =$S33*K33 -> 2.85871 | Y33: 47.4 | Z33: 463824320 | AA33: 40.8 | AB33: ='S9 T84 '!$Z33/'S9 T84 '!$Z$56*100 -> 3.0100115 | AC33: =$AB33*G33 -> 9.0300344 | AD33: =$AB33*H33 -> 9.0300344 | AE33: =$AB33*I33 -> 6.020023 | AF33: =$AB33*J33 -> 3.0100115 | AG33: =$AB33*K33 -> 3.0100115 | AH33: =AVERAGE('S9 T84 '!$P33,'S9 T84 '!$Y33) -> 47.45 | AI33: =AVERAGE('S9 T84 '!$S33,'S9 T84 '!$AB33) -> 2.9343608 | AJ33: =STDEV('S9 T84 '!$S33,'S9 T84 '!$AB33) -> 0.10698627 | AK33: ='S9 T84 '!$AJ33/'S9 T84 '!$AI33 -> 0.036459821
A34: 1114.43 | B34: =IF(A34, A34-L34,"") -> 0.01447 | D34: =IF(C34, C34-M34,"") | F34: =IF(E34, E34-N34,"") | G34: 3 | H34: 3 | L34: 1114.4155 | M34: 556.70413 | N34: 370.80033 | O34: H3N3 | P34: 47.7 | Q34: 219174832 | R34: 127.7 | S34: ='S9 T84 '!$Q34/'S9 T84 '!$Q$56*100 -> 1.8194629 | T34: =$S34*G34 -> 5.4583887 | U34: =$S34*H34 -> 5.4583887 | V34: =$S34*I34 -> 0 | W34: =$S34*J34 -> 0 | X34: =$S34*K34 -> 0 | Y34: 47.9 | Z34: 293600480 | AA34: 36.2 | AB34: ='S9 T84 '!$Z34/'S9 T84 '!$Z$56*100 -> 1.9053352 | AC34: =$AB34*G34 -> 5.7160057 | AD34: =$AB34*H34 -> 5.7160057 | AE34: =$AB34*I34 -> 0 | AF34: =$AB34*J34 -> 0 | AG34: =$AB34*K34 -> 0 | AH34: =AVERAGE('S9 T84 '!$P34,'S9 T84 '!$Y34) -> 47.8 | AI34: =AVERAGE('S9 T84 '!$S34,'S9 T84 '!$AB34) -> 1.8623991 | AJ34: =STDEV('S9 T84 '!$S34,'S9 T84 '!$AB34) -> 0.060720893 | AK34: ='S9 T84 '!$AJ34/'S9 T84 '!$AI34 -> 0.032603589
B35: =IF(A35, A35-L35,"") | C35: 993.88 | D35: =IF(C35, C35-M35,"") -> 0.02257 | F35: =IF(E35, E35-N35,"") | G35: 3 | H35: 3 | I35: 2 | J35: 2 | L35: 1988.7221 | M35: 993.85743 | N35: 662.23586 | O35: H3N3F2S2 | P35: 48.5 | Q35: 892742784 | R35: 592.1 | S35: ='S9 T84 '!$Q35/'S9 T84 '!$Q$56*100 -> 7.4110352 | T35: =$S35*G35 -> 22.233105 | U35: =$S35*H35 -> 22.233105 | V35: =$S35*I35 -> 14.82207 | W35: =$S35*J35 -> 14.82207 | X35: =$S35*K35 -> 0 | Y35: 48.6 | Z35: 1179210496 | AA35: 125.4 | AB35: ='S9 T84 '!$Z35/'S9 T84 '!$Z$56*100 -> 7.6525464 | AC35: =$AB35*G35 -> 22.957639 | AD35: =$AB35*H35 -> 22.957639 | AE35: =$AB35*I35 -> 15.305093 | AF35: =$AB35*J35 -> 15.305093 | AG35: =$AB35*K35 -> 0 | AH35: =AVERAGE('S9 T84 '!$P35,'S9 T84 '!$Y35) -> 48.55 | AI35: =AVERAGE('S9 T84 '!$S35,'S9 T84 '!$AB35) -> 7.5317908 | AJ35: =STDEV('S9 T84 '!$S35,'S9 T84 '!$AB35) -> 0.17077423 | AK35: ='S9 T84 '!$AJ35/'S9 T84 '!$AI35 -> 0.022673788
A36: 1551.52 | B36: =IF(A36, A36-L36,"") -> -0.04883 | C36: 775.3 | D36: =IF(C36, C36-M36,"") -> 0.01922 | F36: =IF(E36, E36-N36,"") | G36: 3 | H36: 3 | I36: 1 | J36: 1 | L36: 1551.5688 | M36: 775.28078 | N36: 516.5181 | O36: H3N3F1S1 | P36: 49.4 | Q36: 112625400 | R36: 45 | S36: ='S9 T84 '!$Q36/'S9 T84 '!$Q$56*100 -> 0.93495105 | T36: =$S36*G36 -> 2.8048531 | U36: =$S36*H36 -> 2.8048531 | V36: =$S36*I36 -> 0.93495105 | W36: =$S36*J36 -> 0.93495105 | X36: =$S36*K36 -> 0 | Y36: 49.4 | Z36: 155916624 | AA36: 15.1 | AB36: ='S9 T84 '!$Z36/'S9 T84 '!$Z$56*100 -> 1.0118288 | AC36: =$AB36*G36 -> 3.0354865 | AD36: =$AB36*H36 -> 3.0354865 | AE36: =$AB36*I36 -> 1.0118288 | AF36: =$AB36*J36 -> 1.0118288 | AG36: =$AB36*K36 -> 0 | AH36: =AVERAGE('S9 T84 '!$P36,'S9 T84 '!$Y36) -> 49.4 | AI36: =AVERAGE('S9 T84 '!$S36,'S9 T84 '!$AB36) -> 0.97338995 | AJ36: =STDEV('S9 T84 '!$S36,'S9 T84 '!$AB36) -> 0.054360816 | AK36: ='S9 T84 '!$AJ36/'S9 T84 '!$AI36 -> 0.055846905
A37: 1332.45 | B37: =IF(A37, A37-L37,"") -> -0.04453 | D37: =IF(C37, C37-M37,"") | F37: =IF(E37, E37-N37,"") | G37: 2 | H37: 2 | I37: 2 | J37: 1 | L37: 1332.4945 | M37: 665.74363 | N37: 443.49333 | O37: H2N2F2S1 | P37: 49.7 | Q37: 155523376 | R37: 48 | S37: ='S9 T84 '!$Q37/'S9 T84 '!$Q$56*100 -> 1.2910653 | T37: =$S37*G37 -> 2.5821305 | U37: =$S37*H37 -> 2.5821305 | V37: =$S37*I37 -> 2.5821305 | W37: =$S37*J37 -> 1.2910653 | X37: =$S37*K37 -> 0 | Y37: 49.9 | Z37: 183601568 | AA37: 20.7 | AB37: ='S9 T84 '!$Z37/'S9 T84 '!$Z$56*100 -> 1.1914917 | AC37: =$AB37*G37 -> 2.3829834 | AD37: =$AB37*H37 -> 2.3829834 | AE37: =$AB37*I37 -> 2.3829834 | AF37: =$AB37*J37 -> 1.1914917 | AG37: =$AB37*K37 -> 0 | AH37: =AVERAGE('S9 T84 '!$P37,'S9 T84 '!$Y37) -> 49.8 | AI37: =AVERAGE('S9 T84 '!$S37,'S9 T84 '!$AB37) -> 1.2412785 | AJ37: =STDEV('S9 T84 '!$S37,'S9 T84 '!$AB37) -> 0.070409151 | AK37: ='S9 T84 '!$AJ37/'S9 T84 '!$AI37 -> 0.05672309
B38: =IF(A38, A38-L38,"") | C38: 993.86 | D38: =IF(C38, C38-M38,"") -> 0.00257 | F38: =IF(E38, E38-N38,"") | G38: 3 | H38: 3 | I38: 2 | J38: 2 | L38: 1988.7221 | M38: 993.85743 | N38: 662.23586 | O38: H3N3F2S2 | P38: 49.9 | Q38: 70786664 | R38: 34.4 | S38: ='S9 T84 '!$Q38/'S9 T84 '!$Q$56*100 -> 0.58763002 | T38: =$S38*G38 -> 1.76289 | U38: =$S38*H38 -> 1.76289 | V38: =$S38*I38 -> 1.17526 | W38: =$S38*J38 -> 1.17526 | X38: =$S38*K38 -> 0 | Y38: 50 | Z38: 180135904 | AA38: 17.3 | AB38: ='S9 T84 '!$Z38/'S9 T84 '!$Z$56*100 -> 1.1690011 | AC38: =$AB38*G38 -> 3.5070033 | AD38: =$AB38*H38 -> 3.5070033 | AE38: =$AB38*I38 -> 2.3380022 | AF38: =$AB38*J38 -> 2.3380022 | AG38: =$AB38*K38 -> 0 | AH38: =AVERAGE('S9 T84 '!$P38,'S9 T84 '!$Y38) -> 49.95 | AI38: =AVERAGE('S9 T84 '!$S38,'S9 T84 '!$AB38) -> 0.87831556 | AJ38: =STDEV('S9 T84 '!$S38,'S9 T84 '!$AB38) -> 0.41109143 | AK38: ='S9 T84 '!$AJ38/'S9 T84 '!$AI38 -> 0.46804526
A39: 1551.51 | B39: =IF(A39, A39-L39,"") -> -0.05883 | C39: 775.29 | D39: =IF(C39, C39-M39,"") -> 0.00922 | F39: =IF(E39, E39-N39,"") | G39: 3 | H39: 3 | I39: 1 | J39: 1 | L39: 1551.5688 | M39: 775.28078 | N39: 516.5181 | O39: H3N3F1S1 | P39: 51.5 | Q39: 379473920 | R39: 161.1 | S39: ='S9 T84 '!$Q39/'S9 T84 '!$Q$56*100 -> 3.1501734 | T39: =$S39*G39 -> 9.4505202 | U39: =$S39*H39 -> 9.4505202 | V39: =$S39*I39 -> 3.1501734 | W39: =$S39*J39 -> 3.1501734 | X39: =$S39*K39 -> 0 | Y39: 51.6 | Z39: 348914272 | AA39: 38 | AB39: ='S9 T84 '!$Z39/'S9 T84 '!$Z$56*100 -> 2.2642969 | AC39: =$AB39*G39 -> 6.7928907 | AD39: =$AB39*H39 -> 6.7928907 | AE39: =$AB39*I39 -> 2.2642969 | AF39: =$AB39*J39 -> 2.2642969 | AG39: =$AB39*K39 -> 0 | AH39: =AVERAGE('S9 T84 '!$P39,'S9 T84 '!$Y39) -> 51.55 | AI39: =AVERAGE('S9 T84 '!$S39,'S9 T84 '!$AB39) -> 2.7072351 | AJ39: =STDEV('S9 T84 '!$S39,'S9 T84 '!$AB39) -> 0.62640928 | AK39: ='S9 T84 '!$AJ39/'S9 T84 '!$AI39 -> 0.23138341
B40: =IF(A40, A40-L40,"") | C40: 876.82 | D40: =IF(C40, C40-M40,"") -> -0.00048 | F40: =IF(E40, E40-N40,"") | G40: 3 | H40: 4 | I40: 1 | J40: 1 | L40: 1754.6482 | M40: 876.82048 | N40: 584.21123 | O40: H3N4F1S1 | P40: 51.9 | Q40: 49257604 | R40: 32.1 | S40: ='S9 T84 '!$Q40/'S9 T84 '!$Q$56*100 -> 0.40890819 | T40: =$S40*G40 -> 1.2267246 | U40: =$S40*H40 -> 1.6356328 | V40: =$S40*I40 -> 0.40890819 | W40: =$S40*J40 -> 0.40890819 | X40: =$S40*K40 -> 0 | Y40: 52 | Z40: 89186032 | AA40: 7.1 | AB40: ='S9 T84 '!$Z40/'S9 T84 '!$Z$56*100 -> 0.57877728 | AC40: =$AB40*G40 -> 1.7363319 | AD40: =$AB40*H40 -> 2.3151091 | AE40: =$AB40*I40 -> 0.57877728 | AF40: =$AB40*J40 -> 0.57877728 | AG40: =$AB40*K40 -> 0 | AH40: =AVERAGE('S9 T84 '!$P40,'S9 T84 '!$Y40) -> 51.95 | AI40: =AVERAGE('S9 T84 '!$S40,'S9 T84 '!$AB40) -> 0.49384274 | AJ40: =STDEV('S9 T84 '!$S40,'S9 T84 '!$AB40) -> 0.12011559 | AK40: ='S9 T84 '!$AJ40/'S9 T84 '!$AI40 -> 0.2432264
A41: 1479.49 | B41: =IF(A41, A41-L41,"") -> -0.05773 | C41: 739.28 | D41: =IF(C41, C41-M41,"") -> 0.00977 | F41: =IF(E41, E41-N41,"") | G41: 4 | H41: 4 | L41: 1479.5477 | M41: 739.27023 | N41: 492.51106 | O41: H4N4 | P41: 52.7 | Q41: 85769240 | R41: 37.9 | S41: ='S9 T84 '!$Q41/'S9 T84 '!$Q$56*100 -> 0.71200671 | T41: =$S41*G41 -> 2.8480268 | U41: =$S41*H41 -> 2.8480268 | V41: =$S41*I41 -> 0 | W41: =$S41*J41 -> 0 | X41: =$S41*K41 -> 0 | Y41: 52.8 | Z41: 122879808 | AA41: 18.4 | AB41: ='S9 T84 '!$Z41/'S9 T84 '!$Z$56*100 -> 0.79743475 | AC41: =$AB41*G41 -> 3.189739 | AD41: =$AB41*H41 -> 3.189739 | AE41: =$AB41*I41 -> 0 | AF41: =$AB41*J41 -> 0 | AG41: =$AB41*K41 -> 0 | AH41: =AVERAGE('S9 T84 '!$P41,'S9 T84 '!$Y41) -> 52.75 | AI41: =AVERAGE('S9 T84 '!$S41,'S9 T84 '!$AB41) -> 0.75472073 | AJ41: =STDEV('S9 T84 '!$S41,'S9 T84 '!$AB41) -> 0.060406748 | AK41: ='S9 T84 '!$AJ41/'S9 T84 '!$AI41 -> 0.080038544
B42: =IF(A42, A42-L42,"") | C42: 1176.4 | D42: =IF(C42, C42-M42,"") -> -0.02353 | F42: =IF(E42, E42-N42,"") | G42: 4 | H42: 4 | I42: 2 | J42: 2 | L42: 2353.8543 | M42: 1176.4235 | N42: 783.9466 | O42: H4N4F2S2 | P42: 52.9 | Q42: 144756672 | R42: 58 | S42: ='S9 T84 '!$Q42/'S9 T84 '!$Q$56*100 -> 1.2016863 | T42: =$S42*G42 -> 4.8067453 | U42: =$S42*H42 -> 4.8067453 | V42: =$S42*I42 -> 2.4033726 | W42: =$S42*J42 -> 2.4033726 | X42: =$S42*K42 -> 0 | Y42: 53 | Z42: 133245848 | AA42: 13.3 | AB42: ='S9 T84 '!$Z42/'S9 T84 '!$Z$56*100 -> 0.8647057 | AC42: =$AB42*G42 -> 3.4588228 | AD42: =$AB42*H42 -> 3.4588228 | AE42: =$AB42*I42 -> 1.7294114 | AF42: =$AB42*J42 -> 1.7294114 | AG42: =$AB42*K42 -> 0 | AH42: =AVERAGE('S9 T84 '!$P42,'S9 T84 '!$Y42) -> 52.95 | AI42: =AVERAGE('S9 T84 '!$S42,'S9 T84 '!$AB42) -> 1.033196 | AJ42: =STDEV('S9 T84 '!$S42,'S9 T84 '!$AB42) -> 0.23828128 | AK42: ='S9 T84 '!$AJ42/'S9 T84 '!$AI42 -> 0.23062544
B43: =IF(A43, A43-L43,"") | C43: 920.85 | D43: =IF(C43, C43-M43,"") -> 0.02152 | F43: =IF(E43, E43-N43,"") | G43: 3 | H43: 3 | I43: 1 | J43: 2 | L43: 1842.6642 | M43: 920.82848 | N43: 613.5499 | O43: H3N3F1S2 | P43: 52.9 | Q43: 590327040 | R43: 309.4 | S43: ='S9 T84 '!$Q43/'S9 T84 '!$Q$56*100 -> 4.9005543 | T43: =$S43*G43 -> 14.701663 | U43: =$S43*H43 -> 14.701663 | V43: =$S43*I43 -> 4.9005543 | W43: =$S43*J43 -> 9.8011085 | X43: =$S43*K43 -> 0 | Y43: 53 | Z43: 638398528 | AA43: 69.7 | AB43: ='S9 T84 '!$Z43/'S9 T84 '!$Z$56*100 -> 4.1429197 | AC43: =$AB43*G43 -> 12.428759 | AD43: =$AB43*H43 -> 12.428759 | AE43: =$AB43*I43 -> 4.1429197 | AF43: =$AB43*J43 -> 8.2858393 | AG43: =$AB43*K43 -> 0 | AH43: =AVERAGE('S9 T84 '!$P43,'S9 T84 '!$Y43) -> 52.95 | AI43: =AVERAGE('S9 T84 '!$S43,'S9 T84 '!$AB43) -> 4.521737 | AJ43: =STDEV('S9 T84 '!$S43,'S9 T84 '!$AB43) -> 0.53572856 | AK43: ='S9 T84 '!$AJ43/'S9 T84 '!$AI43 -> 0.11847849
B44: =IF(A44, A44-L44,"") | C44: 957.86 | D44: =IF(C44, C44-M44,"") -> 0.01312 | F44: =IF(E44, E44-N44,"") | G44: 4 | H44: 4 | I44: 1 | J44: 1 | L44: 1916.701 | M44: 957.84688 | N44: 638.22883 | O44: H4N4F1S1 | P44: 53.5 | Q44: 260482848 | R44: 92.8 | S44: ='S9 T84 '!$Q44/'S9 T84 '!$Q$56*100 -> 2.1623782 | T44: =$S44*G44 -> 8.6495128 | U44: =$S44*H44 -> 8.6495128 | V44: =$S44*I44 -> 2.1623782 | W44: =$S44*J44 -> 2.1623782 | X44: =$S44*K44 -> 0 | Y44: 53.7 | Z44: 363853920 | AA44: 34.1 | AB44: ='S9 T84 '!$Z44/'S9 T84 '!$Z$56*100 -> 2.3612485 | AC44: =$AB44*G44 -> 9.444994 | AD44: =$AB44*H44 -> 9.444994 | AE44: =$AB44*I44 -> 2.3612485 | AF44: =$AB44*J44 -> 2.3612485 | AG44: =$AB44*K44 -> 0 | AH44: =AVERAGE('S9 T84 '!$P44,'S9 T84 '!$Y44) -> 53.6 | AI44: =AVERAGE('S9 T84 '!$S44,'S9 T84 '!$AB44) -> 2.2618134 | AJ44: =STDEV('S9 T84 '!$S44,'S9 T84 '!$AB44) -> 0.14062252 | AK44: ='S9 T84 '!$AJ44/'S9 T84 '!$AI44 -> 0.06217247
B45: =IF(A45, A45-L45,"") | C45: 1394.97 | D45: =IF(C45, C45-M45,"") -> -0.03018 | E45: 929.66 | F45: =IF(E45, E45-N45,"") -> -0.0043633333 | G45: 4 | H45: 4 | I45: 3 | J45: 3 | L45: 2791.0076 | M45: 1395.0002 | N45: 929.66436 | O45: H4N4F3S3 | P45: 53.6 | Q45: 125377208 | R45: 45.6 | S45: ='S9 T84 '!$Q45/'S9 T84 '!$Q$56*100 -> 1.0408092 | T45: =$S45*G45 -> 4.1632368 | U45: =$S45*H45 -> 4.1632368 | V45: =$S45*I45 -> 3.1224276 | W45: =$S45*J45 -> 3.1224276 | X45: =$S45*K45 -> 0 | Y45: 53.8 | Z45: 136909392 | AA45: 11.5 | AB45: ='S9 T84 '!$Z45/'S9 T84 '!$Z$56*100 -> 0.88848045 | AC45: =$AB45*G45 -> 3.5539218 | AD45: =$AB45*H45 -> 3.5539218 | AE45: =$AB45*I45 -> 2.6654414 | AF45: =$AB45*J45 -> 2.6654414 | AG45: =$AB45*K45 -> 0 | AH45: =AVERAGE('S9 T84 '!$P45,'S9 T84 '!$Y45) -> 53.7 | AI45: =AVERAGE('S9 T84 '!$S45,'S9 T84 '!$AB45) -> 0.96464482 | AJ45: =STDEV('S9 T84 '!$S45,'S9 T84 '!$AB45) -> 0.10771269 | AK45: ='S9 T84 '!$AJ45/'S9 T84 '!$AI45 -> 0.11166046
B46: =IF(A46, A46-L46,"") | C46: 1176.37 | D46: =IF(C46, C46-M46,"") -> -0.05353 | F46: =IF(E46, E46-N46,"") | G46: 4 | H46: 4 | I46: 2 | J46: 2 | L46: 2353.8543 | M46: 1176.4235 | N46: 783.9466 | O46: H4N4F2S2 | P46: 54.5 | Q46: 112274136 | R46: 46.7 | S46: ='S9 T84 '!$Q46/'S9 T84 '!$Q$56*100 -> 0.93203505 | T46: =$S46*G46 -> 3.7281402 | U46: =$S46*H46 -> 3.7281402 | V46: =$S46*I46 -> 1.8640701 | W46: =$S46*J46 -> 1.8640701 | X46: =$S46*K46 -> 0 | Y46: 54.6 | Z46: 160769872 | AA46: 14.6 | AB46: ='S9 T84 '!$Z46/'S9 T84 '!$Z$56*100 -> 1.0433242 | AC46: =$AB46*G46 -> 4.173297 | AD46: =$AB46*H46 -> 4.173297 | AE46: =$AB46*I46 -> 2.0866485 | AF46: =$AB46*J46 -> 2.0866485 | AG46: =$AB46*K46 -> 0 | AH46: =AVERAGE('S9 T84 '!$P46,'S9 T84 '!$Y46) -> 54.55 | AI46: =AVERAGE('S9 T84 '!$S46,'S9 T84 '!$AB46) -> 0.98767965 | AJ46: =STDEV('S9 T84 '!$S46,'S9 T84 '!$AB46) -> 0.078693343 | AK46: ='S9 T84 '!$AJ46/'S9 T84 '!$AI46 -> 0.079674967
A47: 1040.37 | B47: =IF(A47, A47-L47,"") -> -0.00873 | D47: =IF(C47, C47-M47,"") | F47: =IF(E47, E47-N47,"") | G47: 2 | H47: 2 | J47: 1 | L47: 1040.3787 | M47: 519.68573 | N47: 346.1214 | O47: H2N2S1 | P47: 54.8 | Q47: 45309968 | R47: 28.7 | S47: ='S9 T84 '!$Q47/'S9 T84 '!$Q$56*100 -> 0.37613719 | T47: =$S47*G47 -> 0.75227439 | U47: =$S47*H47 -> 0.75227439 | V47: =$S47*I47 -> 0 | W47: =$S47*J47 -> 0.37613719 | X47: =$S47*K47 -> 0 | Y47: 55 | Z47: 121957728 | AA47: 6.5 | AB47: ='S9 T84 '!$Z47/'S9 T84 '!$Z$56*100 -> 0.79145087 | AC47: =$AB47*G47 -> 1.5829017 | AD47: =$AB47*H47 -> 1.5829017 | AE47: =$AB47*I47 -> 0 | AF47: =$AB47*J47 -> 0.79145087 | AG47: =$AB47*K47 -> 0 | AH47: =AVERAGE('S9 T84 '!$P47,'S9 T84 '!$Y47) -> 54.9 | AI47: =AVERAGE('S9 T84 '!$S47,'S9 T84 '!$AB47) -> 0.58379403 | AJ47: =STDEV('S9 T84 '!$S47,'S9 T84 '!$AB47) -> 0.29367112 | AK47: ='S9 T84 '!$AJ47/'S9 T84 '!$AI47 -> 0.50303891
B48: =IF(A48, A48-L48,"") | C48: 1022.37 | D48: =IF(C48, C48-M48,"") -> 0.00182 | F48: =IF(E48, E48-N48,"") | G48: 3 | H48: 4 | I48: 1 | J48: 2 | L48: 2045.7436 | M48: 1022.3682 | N48: 681.24303 | O48: H3N4F1S2 | P48: 54.9 | Q48: 65087876 | R48: 41.6 | S48: ='S9 T84 '!$Q48/'S9 T84 '!$Q$56*100 -> 0.54032197 | T48: =$S48*G48 -> 1.6209659 | U48: =$S48*H48 -> 2.1612879 | V48: =$S48*I48 -> 0.54032197 | W48: =$S48*J48 -> 1.0806439 | X48: =$S48*K48 -> 0 | Y48: 55 | Z48: 76619400 | AA48: 9.3 | AB48: ='S9 T84 '!$Z48/'S9 T84 '!$Z$56*100 -> 0.49722549 | AC48: =$AB48*G48 -> 1.4916765 | AD48: =$AB48*H48 -> 1.9889019 | AE48: =$AB48*I48 -> 0.49722549 | AF48: =$AB48*J48 -> 0.99445097 | AG48: =$AB48*K48 -> 0 | AH48: =AVERAGE('S9 T84 '!$P48,'S9 T84 '!$Y48) -> 54.95 | AI48: =AVERAGE('S9 T84 '!$S48,'S9 T84 '!$AB48) -> 0.51877373 | AJ48: =STDEV('S9 T84 '!$S48,'S9 T84 '!$AB48) -> 0.030473814 | AK48: ='S9 T84 '!$AJ48/'S9 T84 '!$AI48 -> 0.058742014
A49: 1639.5 | B49: =IF(A49, A49-L49,"") -> 0.03867 | C49: 819.3 | D49: =IF(C49, C49-M49,"") -> 0.07297 | F49: =IF(E49, E49-N49,"") | G49: 4 | H49: 4 | K49: 2 | L49: 1639.4613 | M49: 819.22703 | N49: 545.8156 | O49: H4N4Su2 | P49: 55.8 | Q49: 38684668 | R49: 24.2 | S49: ='S9 T84 '!$Q49/'S9 T84 '!$Q$56*100 -> 0.32113778 | T49: =$S49*G49 -> 1.2845511 | U49: =$S49*H49 -> 1.2845511 | V49: =$S49*I49 -> 0 | W49: =$S49*J49 -> 0 | X49: =$S49*K49 -> 0.64227556 | Y49: 56 | Z49: 94757488 | AA49: 12.2 | AB49: ='S9 T84 '!$Z49/'S9 T84 '!$Z$56*100 -> 0.61493353 | AC49: =$AB49*G49 -> 2.4597341 | AD49: =$AB49*H49 -> 2.4597341 | AE49: =$AB49*I49 -> 0 | AF49: =$AB49*J49 -> 0 | AG49: =$AB49*K49 -> 1.2298671 | AH49: =AVERAGE('S9 T84 '!$P49,'S9 T84 '!$Y49) -> 55.9 | AI49: =AVERAGE('S9 T84 '!$S49,'S9 T84 '!$AB49) -> 0.46803565 | AJ49: =STDEV('S9 T84 '!$S49,'S9 T84 '!$AB49) -> 0.20774497 | AK49: ='S9 T84 '!$AJ49/'S9 T84 '!$AI49 -> 0.44386569
A50: 1331.4 | B50: =IF(A50, A50-L50,"") -> -0.07413 | C50: 665.26 | D50: =IF(C50, C50-M50,"") -> 0.02657 | F50: =IF(E50, E50-N50,"") | G50: 2 | H50: 2 | J50: 2 | L50: 1331.4741 | M50: 665.23343 | N50: 443.1532 | O50: H2N2S2 | P50: 56.8 | Q50: 325259616 | R50: 115.4 | S50: ='S9 T84 '!$Q50/'S9 T84 '!$Q$56*100 -> 2.7001175 | T50: =$S50*G50 -> 5.4002351 | U50: =$S50*H50 -> 5.4002351 | V50: =$S50*I50 -> 0 | W50: =$S50*J50 -> 5.4002351 | X50: =$S50*K50 -> 0 | Y50: 57.1 | Z50: 503874336 | AA50: 41.9 | AB50: ='S9 T84 '!$Z50/'S9 T84 '!$Z$56*100 -> 3.2699181 | AC50: =$AB50*G50 -> 6.5398362 | AD50: =$AB50*H50 -> 6.5398362 | AE50: =$AB50*I50 -> 0 | AF50: =$AB50*J50 -> 6.5398362 | AG50: =$AB50*K50 -> 0 | AH50: =AVERAGE('S9 T84 '!$P50,'S9 T84 '!$Y50) -> 56.95 | AI50: =AVERAGE('S9 T84 '!$S50,'S9 T84 '!$AB50) -> 2.9850178 | AJ50: =STDEV('S9 T84 '!$S50,'S9 T84 '!$AB50) -> 0.40290983 | AK50: ='S9 T84 '!$AJ50/'S9 T84 '!$AI50 -> 0.13497736
A51: 1405.47 | B51: =IF(A51, A51-L51,"") -> -0.04093 | C51: 702.24 | D51: =IF(C51, C51-M51,"") -> -0.01183 | F51: =IF(E51, E51-N51,"") | G51: 3 | H51: 3 | J51: 1 | L51: 1405.5109 | M51: 702.25183 | N51: 467.83213 | O51: H3N3S1 | P51: 56.9 | Q51: 68724784 | R51: 23.1 | S51: ='S9 T84 '!$Q51/'S9 T84 '!$Q$56*100 -> 0.57051348 | T51: =$S51*G51 -> 1.7115404 | U51: =$S51*H51 -> 1.7115404 | V51: =$S51*I51 -> 0 | W51: =$S51*J51 -> 0.57051348 | X51: =$S51*K51 -> 0 | Y51: 57 | Z51: 91257000 | AA51: 16.4 | AB51: ='S9 T84 '!$Z51/'S9 T84 '!$Z$56*100 -> 0.59221694 | AC51: =$AB51*G51 -> 1.7766508 | AD51: =$AB51*H51 -> 1.7766508 | AE51: =$AB51*I51 -> 0 | AF51: =$AB51*J51 -> 0.59221694 | AG51: =$AB51*K51 -> 0 | AH51: =AVERAGE('S9 T84 '!$P51,'S9 T84 '!$Y51) -> 56.95 | AI51: =AVERAGE('S9 T84 '!$S51,'S9 T84 '!$AB51) -> 0.58136521 | AJ51: =STDEV('S9 T84 '!$S51,'S9 T84 '!$AB51) -> 0.015346662 | AK51: ='S9 T84 '!$AJ51/'S9 T84 '!$AI51 -> 0.026397627
B52: =IF(A52, A52-L52,"") | C52: 1103.38 | D52: =IF(C52, C52-M52,"") -> -0.01458 | F52: =IF(E52, E52-N52,"") | G52: 4 | H52: 4 | I52: 1 | J52: 2 | L52: 2207.7964 | M52: 1103.3946 | N52: 735.26063 | O52: H4N4F1S2 | P52: 57.5 | Q52: 162365728 | R52: 69.6 | S52: ='S9 T84 '!$Q52/'S9 T84 '!$Q$56*100 -> 1.3478665 | T52: =$S52*G52 -> 5.3914661 | U52: =$S52*H52 -> 5.3914661 | V52: =$S52*I52 -> 1.3478665 | W52: =$S52*J52 -> 2.6957331 | X52: =$S52*K52 -> 0 | Y52: 57.6 | Z52: 202577712 | AA52: 24.3 | AB52: ='S9 T84 '!$Z52/'S9 T84 '!$Z$56*100 -> 1.3146383 | AC52: =$AB52*G52 -> 5.2585534 | AD52: =$AB52*H52 -> 5.2585534 | AE52: =$AB52*I52 -> 1.3146383 | AF52: =$AB52*J52 -> 2.6292767 | AG52: =$AB52*K52 -> 0 | AH52: =AVERAGE('S9 T84 '!$P52,'S9 T84 '!$Y52) -> 57.55 | AI52: =AVERAGE('S9 T84 '!$S52,'S9 T84 '!$AB52) -> 1.3312524 | AJ52: =STDEV('S9 T84 '!$S52,'S9 T84 '!$AB52) -> 0.023495873 | AK52: ='S9 T84 '!$AJ52/'S9 T84 '!$AI52 -> 0.01764945
B53: =IF(A53, A53-L53,"") | C53: 1103.39 | D53: =IF(C53, C53-M53,"") -> -0.00458 | F53: =IF(E53, E53-N53,"") | G53: 4 | H53: 4 | I53: 1 | J53: 2 | L53: 2207.7964 | M53: 1103.3946 | N53: 735.26063 | O53: H4N4F1S2 | P53: 60.4 | Q53: 53298256 | R53: 31.1 | S53: ='S9 T84 '!$Q53/'S9 T84 '!$Q$56*100 -> 0.44245135 | T53: =$S53*G53 -> 1.7698054 | U53: =$S53*H53 -> 1.7698054 | V53: =$S53*I53 -> 0.44245135 | W53: =$S53*J53 -> 0.8849027 | X53: =$S53*K53 -> 0 | Y53: 60.5 | Z53: 82507920 | AA53: 10.6 | AB53: ='S9 T84 '!$Z53/'S9 T84 '!$Z$56*100 -> 0.53543934 | AC53: =$AB53*G53 -> 2.1417573 | AD53: =$AB53*H53 -> 2.1417573 | AE53: =$AB53*I53 -> 0.53543934 | AF53: =$AB53*J53 -> 1.0708787 | AG53: =$AB53*K53 -> 0 | AH53: =AVERAGE('S9 T84 '!$P53,'S9 T84 '!$Y53) -> 60.45 | AI53: =AVERAGE('S9 T84 '!$S53,'S9 T84 '!$AB53) -> 0.48894534 | AJ53: =STDEV('S9 T84 '!$S53,'S9 T84 '!$AB53) -> 0.065752436 | AK53: ='S9 T84 '!$AJ53/'S9 T84 '!$AI53 -> 0.13447809
B54: =IF(A54, A54-L54,"") | C54: 847.8 | D54: =IF(C54, C54-M54,"") -> 0.00047 | F54: =IF(E54, E54-N54,"") | G54: 3 | H54: 3 | J54: 2 | L54: 1696.6063 | M54: 847.79953 | N54: 564.86393 | O54: H3N3S2 | P54: 62.1 | Q54: 99812048 | R54: 36.2 | S54: ='S9 T84 '!$Q54/'S9 T84 '!$Q$56*100 -> 0.828582 | T54: =$S54*G54 -> 2.485746 | U54: =$S54*H54 -> 2.485746 | V54: =$S54*I54 -> 0 | W54: =$S54*J54 -> 1.657164 | X54: =$S54*K54 -> 0 | Y54: 62.1 | Z54: 199594032 | AA54: 18.2 | AB54: ='S9 T84 '!$Z54/'S9 T84 '!$Z$56*100 -> 1.2952756 | AC54: =$AB54*G54 -> 3.8858268 | AD54: =$AB54*H54 -> 3.8858268 | AE54: =$AB54*I54 -> 0 | AF54: =$AB54*J54 -> 2.5905512 | AG54: =$AB54*K54 -> 0 | AH54: =AVERAGE('S9 T84 '!$P54,'S9 T84 '!$Y54) -> 62.1 | AI54: =AVERAGE('S9 T84 '!$S54,'S9 T84 '!$AB54) -> 1.0619288 | AJ54: =STDEV('S9 T84 '!$S54,'S9 T84 '!$AB54) -> 0.33000222 | AK54: ='S9 T84 '!$AJ54/'S9 T84 '!$AI54 -> 0.31075738
A55: 1405.43 | B55: =IF(A55, A55-L55,"") -> -0.08093 | D55: =IF(C55, C55-M55,"") | F55: =IF(E55, E55-N55,"") | G55: 3 | H55: 3 | J55: 1 | L55: 1405.5109 | M55: 702.25183 | N55: 467.83213 | O55: H3N3S1 | P55: 62.5 | Q55: 78635248 | R55: 17.3 | S55: ='S9 T84 '!$Q55/'S9 T84 '!$Q$56*100 -> 0.65278443 | T55: =$S55*G55 -> 1.9583533 | U55: =$S55*H55 -> 1.9583533 | V55: =$S55*I55 -> 0 | W55: =$S55*J55 -> 0.65278443 | X55: =$S55*K55 -> 0 | Y55: 62.5 | Z55: 161540464 | AA55: 20.8 | AB55: ='S9 T84 '!$Z55/'S9 T84 '!$Z$56*100 -> 1.048325 | AC55: =$AB55*G55 -> 3.1449751 | AD55: =$AB55*H55 -> 3.1449751 | AE55: =$AB55*I55 -> 0 | AF55: =$AB55*J55 -> 1.048325 | AG55: =$AB55*K55 -> 0 | AH55: =AVERAGE('S9 T84 '!$P55,'S9 T84 '!$Y55) -> 62.5 | AI55: =AVERAGE('S9 T84 '!$S55,'S9 T84 '!$AB55) -> 0.85055474 | AJ55: =STDEV('S9 T84 '!$S55,'S9 T84 '!$AB55) -> 0.27968945 | AK55: ='S9 T84 '!$AJ55/'S9 T84 '!$AI55 -> 0.32883181
Q56: =SUM(Q5:Q55) -> 12046128034 | S56: =SUM(S5:S55) -> 100 | T56: =SUM(T5:T55)/100 -> 2.3372213 | U56: =SUM(U5:U55)/100 -> 2.3607375 | V56: =SUM(V5:V55)/100 -> 0.91226901 | W56: =SUM(W5:W55)/100 -> 1.4138241 | X56: =SUM(X5:X55)/100 -> 0.11798943 | Z56: =SUM(Z5:Z55) -> 15409387092 | AB56: =SUM(AB5:AB55) -> 100 | AC56: =SUM(AC5:AC55)/100 -> 2.3371238 | AD56: =SUM(AD5:AD55)/100 -> 2.3567087 | AE56: =SUM(AE5:AE55)/100 -> 0.87201407 | AF56: =SUM(AF5:AF55)/100 -> 1.4195204 | AG56: =SUM(AG5:AG55)/100 -> 0.11184601 | AI56: =SUM(AI5:AI55) -> 100

Sheet S10 LS174T
A1: Supplementary table 1: S10 - O-linked glycans present in LS174T cell line, retention times (min), peak areas, relative abundances with standard deviation and relative standard deviation (CV), and calculations of monosaccharide average compositions for each technical (1-2) replicate.
P3: Technical replicate 1. | Y3: Technical replicate 2.
A4: [M-H]- | B4: Δ[M-H]- | C4: [M-2H]2- | D4: Δ[M-2H]2- | E4: [M-3H]3- | F4: Δ[M-3H]3- | G4: H | H4: N | I4: F | J4: S | K4: Su | L4: [M-H]-th. | M4: [M-2H]2- th. | N4: [M-3H]3- th. | O4: Composition | P4: RT(min) | Q4: Peak area | R4: S/N | S4: Rel.peak area(%) 1 | T4: H | U4: N | V4: F | W4: S | X4: Su | Y4: RT(min) | Z4: Peak area | AA4: S/N | AB4: Rel.peak area(%) 1 | AC4: H | AD4: N | AE4: F | AF4: S | AG4: Su | AH4: RT avg (min) | AI4: Rel.peak area avg. (%) | AJ4: SD | AK4: CV
A5: 675.19 | B5: =IF(A5, A5-L5,"") -> -0.05653 | D5: =IF(C5, C5-M5,"") | F5: =IF(E5, E5-N5,"") | G5: 1 | H5: 1 | J5: 1 | L5: 675.24653 | M5: 337.11963 | N5: 224.41066 | O5: H1N1S1 | P5: 22.7 | Q5: 647200704 | R5: 36.9 | S5: ='S10 LS174T'!$Q5/'S10 LS174T'!$Q$42*100 -> 2.7024909 | T5: =$S5*G5 -> 2.7024909 | U5: =$S5*H5 -> 2.7024909 | V5: =$S5*I5 -> 0 | W5: =$S5*J5 -> 2.7024909 | X5: =$S5*K5 -> 0 | Y5: 22.9 | Z5: 12562289 | AA5: 8.5 | AB5: ='S10 LS174T'!$Z5/'S10 LS174T'!$Z$42*100 -> 0.18605616 | AC5: =$AB5*G5 -> 0.18605616 | AD5: =$AB5*H5 -> 0.18605616 | AE5: =$AB5*I5 -> 0 | AF5: =$AB5*J5 -> 0.18605616 | AG5: =$AB5*K5 -> 0 | AH5: =AVERAGE('S10 LS174T'!$P5,'S10 LS174T'!$Y5) -> 22.8 | AI5: =AVERAGE('S10 LS174T'!$S5,'S10 LS174T'!$AB5) -> 1.4442736 | AJ5: =STDEV('S10 LS174T'!$S5,'S10 LS174T'!$AB5) -> 1.7793881 | AK5: ='S10 LS174T'!$AJ5/'S10 LS174T'!$AI5*100 -> 123.20298
A6: 966.35 | B6: =IF(A6, A6-L6,"") -> 0.00807 | C6: 482.67 | D6: =IF(C6, C6-M6,"") -> 0.00267 | F6: =IF(E6, E6-N6,"") | G6: 1 | H6: 1 | J6: 2 | L6: 966.34193 | M6: 482.66733 | N6: 321.44246 | O6: H1N1S2 | P6: 27.3 | Q6: 2204126464 | R6: 97.1 | S6: ='S10 LS174T'!$Q6/'S10 LS174T'!$Q$42*100 -> 9.2036856 | T6: =$S6*G6 -> 9.2036856 | U6: =$S6*H6 -> 9.2036856 | V6: =$S6*I6 -> 0 | W6: =$S6*J6 -> 18.407371 | X6: =$S6*K6 -> 0 | Y6: 27.8 | Z6: 646371200 | AA6: 299.1 | AB6: ='S10 LS174T'!$Z6/'S10 LS174T'!$Z$42*100 -> 9.5732033 | AC6: =$AB6*G6 -> 9.5732033 | AD6: =$AB6*H6 -> 9.5732033 | AE6: =$AB6*I6 -> 0 | AF6: =$AB6*J6 -> 19.146407 | AG6: =$AB6*K6 -> 0 | AH6: =AVERAGE('S10 LS174T'!$P6,'S10 LS174T'!$Y6) -> 27.55 | AI6: =AVERAGE('S10 LS174T'!$S6,'S10 LS174T'!$AB6) -> 9.3884444 | AJ6: =STDEV('S10 LS174T'!$S6,'S10 LS174T'!$AB6) -> 0.26128844 | AK6: ='S10 LS174T'!$AJ6/'S10 LS174T'!$AI6*100 -> 2.7830856
A7: 1186.41 | B7: =IF(A7, A7-L7,"") -> -0.02663 | D7: =IF(C7, C7-M7,"") | F7: =IF(E7, E7-N7,"") | G7: 2 | H7: 2 | I7: 1 | J7: 1 | L7: 1186.4366 | M7: 592.71468 | N7: 394.80736 | O7: H2N2F1S1 | P7: 29.9 | Q7: 252865264 | R7: 14.2 | S7: ='S10 LS174T'!$Q7/'S10 LS174T'!$Q$42*100 -> 1.0558797 | T7: =$S7*G7 -> 2.1117594 | U7: =$S7*H7 -> 2.1117594 | V7: =$S7*I7 -> 1.0558797 | W7: =$S7*J7 -> 1.0558797 | X7: =$S7*K7 -> 0 | Y7: 30.5 | Z7: 83333776 | AA7: 17.9 | AB7: ='S10 LS174T'!$Z7/'S10 LS174T'!$Z$42*100 -> 1.2342307 | AC7: =$AB7*G7 -> 2.4684614 | AD7: =$AB7*H7 -> 2.4684614 | AE7: =$AB7*I7 -> 1.2342307 | AF7: =$AB7*J7 -> 1.2342307 | AG7: =$AB7*K7 -> 0 | AH7: =AVERAGE('S10 LS174T'!$P7,'S10 LS174T'!$Y7) -> 30.2 | AI7: =AVERAGE('S10 LS174T'!$S7,'S10 LS174T'!$AB7) -> 1.1450552 | AJ7: =STDEV('S10 LS174T'!$S7,'S10 LS174T'!$AB7) -> 0.1261132 | AK7: ='S10 LS174T'!$AJ7/'S10 LS174T'!$AI7*100 -> 11.013722
A8: 749.33 | B8: =IF(A8, A8-L8,"") -> 0.04667 | D8: =IF(C8, C8-M8,"") | F8: =IF(E8, E8-N8,"") | G8: 2 | H8: 2 | L8: 749.28333 | M8: 374.13803 | N8: 249.0896 | O8: H2N2 | P8: 31.3 | Q8: 521900832 | R8: 55.8 | S8: ='S10 LS174T'!$Q8/'S10 LS174T'!$Q$42*100 -> 2.1792811 | T8: =$S8*G8 -> 4.3585622 | U8: =$S8*H8 -> 4.3585622 | V8: =$S8*I8 -> 0 | W8: =$S8*J8 -> 0 | X8: =$S8*K8 -> 0 | Y8: 32 | Z8: 195276768 | AA8: 89.2 | AB8: ='S10 LS174T'!$Z8/'S10 LS174T'!$Z$42*100 -> 2.8921836 | AC8: =$AB8*G8 -> 5.7843672 | AD8: =$AB8*H8 -> 5.7843672 | AE8: =$AB8*I8 -> 0 | AF8: =$AB8*J8 -> 0 | AG8: =$AB8*K8 -> 0 | AH8: =AVERAGE('S10 LS174T'!$P8,'S10 LS174T'!$Y8) -> 31.65 | AI8: =AVERAGE('S10 LS174T'!$S8,'S10 LS174T'!$AB8) -> 2.5357324 | AJ8: =STDEV('S10 LS174T'!$S8,'S10 LS174T'!$AB8) -> 0.50409819 | AK8: ='S10 LS174T'!$AJ8/'S10 LS174T'!$AI8*100 -> 19.879787
A9: 975.27 | B9: =IF(A9, A9-L9,"") -> -0.02803 | D9: =IF(C9, C9-M9,"") | F9: =IF(E9, E9-N9,"") | G9: 2 | H9: 2 | I9: 1 | K9: 1 | L9: 975.29803 | M9: 487.14538 | N9: 324.42783 | O9: H2N2F1Su1 | P9: 31.6 | Q9: 100483064 | R9: 6.4 | S9: ='S10 LS174T'!$Q9/'S10 LS174T'!$Q$42*100 -> 0.41958324 | T9: =$S9*G9 -> 0.83916649 | U9: =$S9*H9 -> 0.83916649 | V9: =$S9*I9 -> 0.41958324 | W9: =$S9*J9 -> 0 | X9: =$S9*K9 -> 0.41958324 | Y9: 32.2 | Z9: 36044544 | AA9: 12.2 | AB9: ='S10 LS174T'!$Z9/'S10 LS174T'!$Z$42*100 -> 0.53384456 | AC9: =$AB9*G9 -> 1.0676891 | AD9: =$AB9*H9 -> 1.0676891 | AE9: =$AB9*I9 -> 0.53384456 | AF9: =$AB9*J9 -> 0 | AG9: =$AB9*K9 -> 0.53384456 | AH9: =AVERAGE('S10 LS174T'!$P9,'S10 LS174T'!$Y9) -> 31.9 | AI9: =AVERAGE('S10 LS174T'!$S9,'S10 LS174T'!$AB9) -> 0.4767139 | AJ9: =STDEV('S10 LS174T'!$S9,'S10 LS174T'!$AB9) -> 0.080794949 | AK9: ='S10 LS174T'!$AJ9/'S10 LS174T'!$AI9*100 -> 16.94831
A10: 993.41 | B10: =IF(A10, A10-L10,"") -> 0.02067 | D10: =IF(C10, C10-M10,"") | F10: =IF(E10, E10-N10,"") | G10: 1 | H10: 4 | L10: 993.38933 | M10: 496.19103 | N10: 330.45826 | O10: H1N4 | P10: 33.9 | Q10: 121095528 | R10: 7.8 | S10: ='S10 LS174T'!$Q10/'S10 LS174T'!$Q$42*100 -> 0.50565391 | T10: =$S10*G10 -> 0.50565391 | U10: =$S10*H10 -> 2.0226156 | V10: =$S10*I10 -> 0 | W10: =$S10*J10 -> 0 | X10: =$S10*K10 -> 0 | Y10: 34.7 | Z10: 47507900 | AA10: 17.5 | AB10: ='S10 LS174T'!$Z10/'S10 LS174T'!$Z$42*100 -> 0.70362476 | AC10: =$AB10*G10 -> 0.70362476 | AD10: =$AB10*H10 -> 2.8144991 | AE10: =$AB10*I10 -> 0 | AF10: =$AB10*J10 -> 0 | AG10: =$AB10*K10 -> 0 | AH10: =AVERAGE('S10 LS174T'!$P10,'S10 LS174T'!$Y10) -> 34.3 | AI10: =AVERAGE('S10 LS174T'!$S10,'S10 LS174T'!$AB10) -> 0.60463934 | AJ10: =STDEV('S10 LS174T'!$S10,'S10 LS174T'!$AB10) -> 0.13998653 | AK10: ='S10 LS174T'!$AJ10/'S10 LS174T'!$AI10*100 -> 23.152072
A11: 878.36 | B11: =IF(A11, A11-L11,"") -> 0.03407 | D11: =IF(C11, C11-M11,"") | F11: =IF(E11, E11-N11,"") | G11: 1 | H11: 2 | J11: 1 | L11: 878.32593 | M11: 438.65933 | N11: 292.1038 | O11: H1N2S1 | P11: 34.4 | Q11: 529742912 | R11: 54 | S11: ='S10 LS174T'!$Q11/'S10 LS174T'!$Q$42*100 -> 2.212027 | T11: =$S11*G11 -> 2.212027 | U11: =$S11*H11 -> 4.424054 | V11: =$S11*I11 -> 0 | W11: =$S11*J11 -> 2.212027 | X11: =$S11*K11 -> 0 | Y11: 35 | Z11: 242539760 | AA11: 126.9 | AB11: ='S10 LS174T'!$Z11/'S10 LS174T'!$Z$42*100 -> 3.5921811 | AC11: =$AB11*G11 -> 3.5921811 | AD11: =$AB11*H11 -> 7.1843622 | AE11: =$AB11*I11 -> 0 | AF11: =$AB11*J11 -> 3.5921811 | AG11: =$AB11*K11 -> 0 | AH11: =AVERAGE('S10 LS174T'!$P11,'S10 LS174T'!$Y11) -> 34.7 | AI11: =AVERAGE('S10 LS174T'!$S11,'S10 LS174T'!$AB11) -> 2.9021041 | AJ11: =STDEV('S10 LS174T'!$S11,'S10 LS174T'!$AB11) -> 0.97591635 | AK11: ='S10 LS174T'!$AJ11/'S10 LS174T'!$AI11*100 -> 33.62789
A12: 749.28 | B12: =IF(A12, A12-L12,"") -> -0.00333 | D12: =IF(C12, C12-M12,"") | F12: =IF(E12, E12-N12,"") | G12: 2 | H12: 2 | L12: 749.28333 | M12: 374.13803 | N12: 249.0896 | O12: H2N2 | P12: 34.9 | Q12: 104388536 | R12: 8.3 | S12: ='S10 LS174T'!$Q12/'S10 LS174T'!$Q$42*100 -> 0.43589117 | T12: =$S12*G12 -> 0.87178234 | U12: =$S12*H12 -> 0.87178234 | V12: =$S12*I12 -> 0 | W12: =$S12*J12 -> 0 | X12: =$S12*K12 -> 0 | Y12: 35.7 | Z12: 57652596 | AA12: 25.8 | AB12: ='S10 LS174T'!$Z12/'S10 LS174T'!$Z$42*100 -> 0.85387471 | AC12: =$AB12*G12 -> 1.7077494 | AD12: =$AB12*H12 -> 1.7077494 | AE12: =$AB12*I12 -> 0 | AF12: =$AB12*J12 -> 0 | AG12: =$AB12*K12 -> 0 | AH12: =AVERAGE('S10 LS174T'!$P12,'S10 LS174T'!$Y12) -> 35.3 | AI12: =AVERAGE('S10 LS174T'!$S12,'S10 LS174T'!$AB12) -> 0.64488294 | AJ12: =STDEV('S10 LS174T'!$S12,'S10 LS174T'!$AB12) -> 0.29555899 | AK12: ='S10 LS174T'!$AJ12/'S10 LS174T'!$AI12*100 -> 45.831418
A13: 1486.47 | B13: =IF(A13, A13-L13,"") -> -0.01813 | C13: 742.71 | D13: =IF(C13, C13-M13,"") -> -0.03043 | F13: =IF(E13, E13-N13,"") | G13: 3 | H13: 3 | I13: 2 | K13: 1 | L13: 1486.4881 | M13: 742.74043 | N13: 494.82453 | O13: H3N3F2Su1 | P13: 35.7 | Q13: 157350752 | R13: 14.7 | S13: ='S10 LS174T'!$Q13/'S10 LS174T'!$Q$42*100 -> 0.65704345 | T13: =$S13*G13 -> 1.9711303 | U13: =$S13*H13 -> 1.9711303 | V13: =$S13*I13 -> 1.3140869 | W13: =$S13*J13 -> 0 | X13: =$S13*K13 -> 0.65704345 | Y13: 36.4 | Z13: 57400428 | AA13: 14.2 | AB13: ='S10 LS174T'!$Z13/'S10 LS174T'!$Z$42*100 -> 0.85013993 | AC13: =$AB13*G13 -> 2.5504198 | AD13: =$AB13*H13 -> 2.5504198 | AE13: =$AB13*I13 -> 1.7002799 | AF13: =$AB13*J13 -> 0 | AG13: =$AB13*K13 -> 0.85013993 | AH13: =AVERAGE('S10 LS174T'!$P13,'S10 LS174T'!$Y13) -> 36.05 | AI13: =AVERAGE('S10 LS174T'!$S13,'S10 LS174T'!$AB13) -> 0.75359169 | AJ13: =STDEV('S10 LS174T'!$S13,'S10 LS174T'!$AB13) -> 0.13653983 | AK13: ='S10 LS174T'!$AJ13/'S10 LS174T'!$AI13*100 -> 18.118542
A14: 1186.43 | B14: =IF(A14, A14-L14,"") -> -0.00663 | D14: =IF(C14, C14-M14,"") | F14: =IF(E14, E14-N14,"") | G14: 2 | H14: 2 | I14: 1 | J14: 1 | L14: 1186.4366 | M14: 592.71468 | N14: 394.80736 | O14: H2N2F1S1 | P14: 37.1 | Q14: 4248845312 | R14: 257.2 | S14: ='S10 LS174T'!$Q14/'S10 LS174T'!$Q$42*100 -> 17.741739 | T14: =$S14*G14 -> 35.483478 | U14: =$S14*H14 -> 35.483478 | V14: =$S14*I14 -> 17.741739 | W14: =$S14*J14 -> 17.741739 | X14: =$S14*K14 -> 0 | Y14: 37.8 | Z14: 1307467520 | AA14: 280.7 | AB14: ='S10 LS174T'!$Z14/'S10 LS174T'!$Z$42*100 -> 19.364496 | AC14: =$AB14*G14 -> 38.728991 | AD14: =$AB14*H14 -> 38.728991 | AE14: =$AB14*I14 -> 19.364496 | AF14: =$AB14*J14 -> 19.364496 | AG14: =$AB14*K14 -> 0 | AH14: =AVERAGE('S10 LS174T'!$P14,'S10 LS174T'!$Y14) -> 37.45 | AI14: =AVERAGE('S10 LS174T'!$S14,'S10 LS174T'!$AB14) -> 18.553117 | AJ14: =STDEV('S10 LS174T'!$S14,'S10 LS174T'!$AB14) -> 1.1474623 | AK14: ='S10 LS174T'!$AJ14/'S10 LS174T'!$AI14*100 -> 6.1847411
A15: 1040.37 | B15: =IF(A15, A15-L15,"") -> -0.00873 | D15: =IF(C15, C15-M15,"") | F15: =IF(E15, E15-N15,"") | G15: 2 | H15: 2 | J15: 1 | L15: 1040.3787 | M15: 519.68573 | N15: 346.1214 | O15: H2N2S1 | P15: 39 | Q15: 179549184 | R15: 7.4 | S15: ='S10 LS174T'!$Q15/'S10 LS174T'!$Q$42*100 -> 0.74973658 | T15: =$S15*G15 -> 1.4994732 | U15: =$S15*H15 -> 1.4994732 | V15: =$S15*I15 -> 0 | W15: =$S15*J15 -> 0.74973658 | X15: =$S15*K15 -> 0 | Y15: 39.7 | Z15: 103192624 | AA15: 22 | AB15: ='S10 LS174T'!$Z15/'S10 LS174T'!$Z$42*100 -> 1.5283539 | AC15: =$AB15*G15 -> 3.0567079 | AD15: =$AB15*H15 -> 3.0567079 | AE15: =$AB15*I15 -> 0 | AF15: =$AB15*J15 -> 1.5283539 | AG15: =$AB15*K15 -> 0 | AH15: =AVERAGE('S10 LS174T'!$P15,'S10 LS174T'!$Y15) -> 39.35 | AI15: =AVERAGE('S10 LS174T'!$S15,'S10 LS174T'!$AB15) -> 1.1390453 | AJ15: =STDEV('S10 LS174T'!$S15,'S10 LS174T'!$AB15) -> 0.55056561 | AK15: ='S10 LS174T'!$AJ15/'S10 LS174T'!$AI15*100 -> 48.33571
A16: 1697.62 | B16: =IF(A16, A16-L16,"") -> -0.00673 | C16: 848.32 | D16: =IF(C16, C16-M16,"") -> 0.01027 | F16: =IF(E16, E16-N16,"") | G16: 3 | H16: 3 | I16: 2 | J16: 1 | L16: 1697.6267 | M16: 848.30973 | N16: 565.20406 | O16: H3N3F2S1 | P16: 40.4 | Q16: 234487984 | R16: 15.1 | S16: ='S10 LS174T'!$Q16/'S10 LS174T'!$Q$42*100 -> 0.9791424 | T16: =$S16*G16 -> 2.9374272 | U16: =$S16*H16 -> 2.9374272 | V16: =$S16*I16 -> 1.9582848 | W16: =$S16*J16 -> 0.9791424 | X16: =$S16*K16 -> 0 | Y16: 41.2 | Z16: 61026848 | AA16: 20.8 | AB16: ='S10 LS174T'!$Z16/'S10 LS174T'!$Z$42*100 -> 0.90384971 | AC16: =$AB16*G16 -> 2.7115491 | AD16: =$AB16*H16 -> 2.7115491 | AE16: =$AB16*I16 -> 1.8076994 | AF16: =$AB16*J16 -> 0.90384971 | AG16: =$AB16*K16 -> 0 | AH16: =AVERAGE('S10 LS174T'!$P16,'S10 LS174T'!$Y16) -> 40.8 | AI16: =AVERAGE('S10 LS174T'!$S16,'S10 LS174T'!$AB16) -> 0.94149606 | AJ16: =STDEV('S10 LS174T'!$S16,'S10 LS174T'!$AB16) -> 0.053239975 | AK16: ='S10 LS174T'!$AJ16/'S10 LS174T'!$AI16*100 -> 5.6548272
A17: 1186.42 | B17: =IF(A17, A17-L17,"") -> -0.01663 | D17: =IF(C17, C17-M17,"") | F17: =IF(E17, E17-N17,"") | G17: 2 | H17: 2 | I17: 1 | J17: 1 | L17: 1186.4366 | M17: 592.71468 | N17: 394.80736 | O17: H2N2F1S1 | P17: 40.6 | Q17: 393802496 | R17: 17.2 | S17: ='S10 LS174T'!$Q17/'S10 LS174T'!$Q$42*100 -> 1.6443858 | T17: =$S17*G17 -> 3.2887717 | U17: =$S17*H17 -> 3.2887717 | V17: =$S17*I17 -> 1.6443858 | W17: =$S17*J17 -> 1.6443858 | X17: =$S17*K17 -> 0 | Y17: 41.4 | Z17: 139604080 | AA17: 21.1 | AB17: ='S10 LS174T'!$Z17/'S10 LS174T'!$Z$42*100 -> 2.0676327 | AC17: =$AB17*G17 -> 4.1352654 | AD17: =$AB17*H17 -> 4.1352654 | AE17: =$AB17*I17 -> 2.0676327 | AF17: =$AB17*J17 -> 2.0676327 | AG17: =$AB17*K17 -> 0 | AH17: =AVERAGE('S10 LS174T'!$P17,'S10 LS174T'!$Y17) -> 41 | AI17: =AVERAGE('S10 LS174T'!$S17,'S10 LS174T'!$AB17) -> 1.8560093 | AJ17: =STDEV('S10 LS174T'!$S17,'S10 LS174T'!$AB17) -> 0.29928072 | AK17: ='S10 LS174T'!$AJ17/'S10 LS174T'!$AI17*100 -> 16.124958
A18: 1266.34 | B18: =IF(A18, A18-L18,"") -> -0.05343 | C18: 632.68 | D18: =IF(C18, C18-M18,"") -> -0.01308 | F18: =IF(E18, E18-N18,"") | G18: 2 | H18: 2 | I18: 1 | J18: 1 | K18: 1 | L18: 1266.3934 | M18: 632.69308 | N18: 421.45963 | O18: H2N2F1S1Su1 | P18: 41.9 | Q18: 954035712 | R18: 59.4 | S18: ='S10 LS174T'!$Q18/'S10 LS174T'!$Q$42*100 -> 3.98373 | T18: =$S18*G18 -> 7.96746 | U18: =$S18*H18 -> 7.96746 | V18: =$S18*I18 -> 3.98373 | W18: =$S18*J18 -> 3.98373 | X18: =$S18*K18 -> 3.98373 | Y18: 42.5 | Z18: 251797760 | AA18: 77.8 | AB18: ='S10 LS174T'!$Z18/'S10 LS174T'!$Z$42*100 -> 3.7292985 | AC18: =$AB18*G18 -> 7.458597 | AD18: =$AB18*H18 -> 7.458597 | AE18: =$AB18*I18 -> 3.7292985 | AF18: =$AB18*J18 -> 3.7292985 | AG18: =$AB18*K18 -> 3.7292985 | AH18: =AVERAGE('S10 LS174T'!$P18,'S10 LS174T'!$Y18) -> 42.2 | AI18: =AVERAGE('S10 LS174T'!$S18,'S10 LS174T'!$AB18) -> 3.8565143 | AJ18: =STDEV('S10 LS174T'!$S18,'S10 LS174T'!$AB18) -> 0.17991026 | AK18: ='S10 LS174T'!$AJ18/'S10 LS174T'!$AI18*100 -> 4.6651003
A19: 1040.4 | B19: =IF(A19, A19-L19,"") -> 0.02127 | D19: =IF(C19, C19-M19,"") | F19: =IF(E19, E19-N19,"") | G19: 2 | H19: 2 | J19: 1 | L19: 1040.3787 | M19: 519.68573 | N19: 346.1214 | O19: H2N2S1 | P19: 43.2 | Q19: 2912502272 | R19: 198.2 | S19: ='S10 LS174T'!$Q19/'S10 LS174T'!$Q$42*100 -> 12.161623 | T19: =$S19*G19 -> 24.323246 | U19: =$S19*H19 -> 24.323246 | V19: =$S19*I19 -> 0 | W19: =$S19*J19 -> 12.161623 | X19: =$S19*K19 -> 0 | Y19: 44 | Z19: 833698944 | AA19: 380.6 | AB19: ='S10 LS174T'!$Z19/'S10 LS174T'!$Z$42*100 -> 12.347656 | AC19: =$AB19*G19 -> 24.695313 | AD19: =$AB19*H19 -> 24.695313 | AE19: =$AB19*I19 -> 0 | AF19: =$AB19*J19 -> 12.347656 | AG19: =$AB19*K19 -> 0 | AH19: =AVERAGE('S10 LS174T'!$P19,'S10 LS174T'!$Y19) -> 43.6 | AI19: =AVERAGE('S10 LS174T'!$S19,'S10 LS174T'!$AB19) -> 12.25464 | AJ19: =STDEV('S10 LS174T'!$S19,'S10 LS174T'!$AB19) -> 0.1315454 | AK19: ='S10 LS174T'!$AJ19/'S10 LS174T'!$AI19*100 -> 1.0734334
A20: 1155.4 | B20: =IF(A20, A20-L20,"") -> -0.04213 | D20: =IF(C20, C20-M20,"") | F20: =IF(E20, E20-N20,"") | G20: 2 | H20: 4 | L20: 1155.4421 | M20: 577.21743 | N20: 384.47586 | O20: H2N4 | P20: 43.7 | Q20: 93142144 | R20: 7.4 | S20: ='S10 LS174T'!$Q20/'S10 LS174T'!$Q$42*100 -> 0.38893005 | T20: =$S20*G20 -> 0.7778601 | U20: =$S20*H20 -> 1.5557202 | V20: =$S20*I20 -> 0 | W20: =$S20*J20 -> 0 | X20: =$S20*K20 -> 0 | Y20: 44.7 | Z20: 39294820 | AA20: 7.5 | AB20: ='S10 LS174T'!$Z20/'S10 LS174T'!$Z$42*100 -> 0.58198339 | AC20: =$AB20*G20 -> 1.1639668 | AD20: =$AB20*H20 -> 2.3279335 | AE20: =$AB20*I20 -> 0 | AF20: =$AB20*J20 -> 0 | AG20: =$AB20*K20 -> 0 | AH20: =AVERAGE('S10 LS174T'!$P20,'S10 LS174T'!$Y20) -> 44.2 | AI20: =AVERAGE('S10 LS174T'!$S20,'S10 LS174T'!$AB20) -> 0.48545672 | AJ20: =STDEV('S10 LS174T'!$S20,'S10 LS174T'!$AB20) -> 0.13650932 | AK20: ='S10 LS174T'!$AJ20/'S10 LS174T'!$AI20*100 -> 28.119773
A21: 1477.45 | B21: =IF(A21, A21-L21,"") -> -0.08203 | C21: 738.24 | D21: =IF(C21, C21-M21,"") -> -0.02238 | F21: =IF(E21, E21-N21,"") | G21: 2 | H21: 2 | I21: 1 | J21: 2 | L21: 1477.532 | M21: 738.26238 | N21: 491.83916 | O21: H2N2F1S2 | P21: 44.5 | Q21: 233824064 | R21: 16.5 | S21: ='S10 LS174T'!$Q21/'S10 LS174T'!$Q$42*100 -> 0.9763701 | T21: =$S21*G21 -> 1.9527402 | U21: =$S21*H21 -> 1.9527402 | V21: =$S21*I21 -> 0.9763701 | W21: =$S21*J21 -> 1.9527402 | X21: =$S21*K21 -> 0 | Y21: 45.2 | Z21: 84507000 | AA21: 24.6 | AB21: ='S10 LS174T'!$Z21/'S10 LS174T'!$Z$42*100 -> 1.251607 | AC21: =$AB21*G21 -> 2.5032139 | AD21: =$AB21*H21 -> 2.5032139 | AE21: =$AB21*I21 -> 1.251607 | AF21: =$AB21*J21 -> 2.5032139 | AG21: =$AB21*K21 -> 0 | AH21: =AVERAGE('S10 LS174T'!$P21,'S10 LS174T'!$Y21) -> 44.85 | AI21: =AVERAGE('S10 LS174T'!$S21,'S10 LS174T'!$AB21) -> 1.1139885 | AJ21: =STDEV('S10 LS174T'!$S21,'S10 LS174T'!$AB21) -> 0.19462185 | AK21: ='S10 LS174T'!$AJ21/'S10 LS174T'!$AI21*100 -> 17.470723
A22: 1317.43 | B22: =IF(A22, A22-L22,"") -> -0.06493 | D22: =IF(C22, C22-M22,"") | F22: =IF(E22, E22-N22,"") | G22: 3 | H22: 4 | L22: 1317.4949 | M22: 658.24383 | N22: 438.49346 | O22: H3N4 | P22: 45.3 | Q22: 87869944 | R22: 10.7 | S22: ='S10 LS174T'!$Q22/'S10 LS174T'!$Q$42*100 -> 0.36691513 | T22: =$S22*G22 -> 1.1007454 | U22: =$S22*H22 -> 1.4676605 | V22: =$S22*I22 -> 0 | W22: =$S22*J22 -> 0 | X22: =$S22*K22 -> 0 | Y22: 46.2 | Z22: 30895916 | AA22: 9.1 | AB22: ='S10 LS174T'!$Z22/'S10 LS174T'!$Z$42*100 -> 0.45758982 | AC22: =$AB22*G22 -> 1.3727695 | AD22: =$AB22*H22 -> 1.8303593 | AE22: =$AB22*I22 -> 0 | AF22: =$AB22*J22 -> 0 | AG22: =$AB22*K22 -> 0 | AH22: =AVERAGE('S10 LS174T'!$P22,'S10 LS174T'!$Y22) -> 45.75 | AI22: =AVERAGE('S10 LS174T'!$S22,'S10 LS174T'!$AB22) -> 0.41225248 | AJ22: =STDEV('S10 LS174T'!$S22,'S10 LS174T'!$AB22) -> 0.064116694 | AK22: ='S10 LS174T'!$AJ22/'S10 LS174T'!$AI22*100 -> 15.552774
A23: 1625.62 | B23: =IF(A23, A23-L23,"") -> 0.01437 | C23: 812.32 | D23: =IF(C23, C23-M23,"") -> 0.02082 | F23: =IF(E23, E23-N23,"") | G23: 4 | H23: 4 | I23: 1 | L23: 1625.6056 | M23: 812.29918 | N23: 541.19703 | O23: H4N4F1 | P23: 46.2 | Q23: 299763552 | R23: 20.3 | S23: ='S10 LS174T'!$Q23/'S10 LS174T'!$Q$42*100 -> 1.2517111 | T23: =$S23*G23 -> 5.0068443 | U23: =$S23*H23 -> 5.0068443 | V23: =$S23*I23 -> 1.2517111 | W23: =$S23*J23 -> 0 | X23: =$S23*K23 -> 0 | Y23: 47.1 | Z23: 96983392 | AA23: 29.8 | AB23: ='S10 LS174T'!$Z23/'S10 LS174T'!$Z$42*100 -> 1.4363909 | AC23: =$AB23*G23 -> 5.7455637 | AD23: =$AB23*H23 -> 5.7455637 | AE23: =$AB23*I23 -> 1.4363909 | AF23: =$AB23*J23 -> 0 | AG23: =$AB23*K23 -> 0 | AH23: =AVERAGE('S10 LS174T'!$P23,'S10 LS174T'!$Y23) -> 46.65 | AI23: =AVERAGE('S10 LS174T'!$S23,'S10 LS174T'!$AB23) -> 1.344051 | AJ23: =STDEV('S10 LS174T'!$S23,'S10 LS174T'!$AB23) -> 0.13058838 | AK23: ='S10 LS174T'!$AJ23/'S10 LS174T'!$AI23*100 -> 9.7160286
A24: 1477.53 | B24: =IF(A24, A24-L24,"") -> -0.00203 | C24: 738.28 | D24: =IF(C24, C24-M24,"") -> 0.01762 | F24: =IF(E24, E24-N24,"") | G24: 2 | H24: 2 | I24: 1 | J24: 2 | L24: 1477.532 | M24: 738.26238 | N24: 491.83916 | O24: H2N2F1S2 | P24: 46.2 | Q24: 3846554112 | R24: 288.7 | S24: ='S10 LS174T'!$Q24/'S10 LS174T'!$Q$42*100 -> 16.061907 | T24: =$S24*G24 -> 32.123814 | U24: =$S24*H24 -> 32.123814 | V24: =$S24*I24 -> 16.061907 | W24: =$S24*J24 -> 32.123814 | X24: =$S24*K24 -> 0 | Y24: 46.9 | Z24: 990849280 | AA24: 364.1 | AB24: ='S10 LS174T'!$Z24/'S10 LS174T'!$Z$42*100 -> 14.675161 | AC24: =$AB24*G24 -> 29.350322 | AD24: =$AB24*H24 -> 29.350322 | AE24: =$AB24*I24 -> 14.675161 | AF24: =$AB24*J24 -> 29.350322 | AG24: =$AB24*K24 -> 0 | AH24: =AVERAGE('S10 LS174T'!$P24,'S10 LS174T'!$Y24) -> 46.55 | AI24: =AVERAGE('S10 LS174T'!$S24,'S10 LS174T'!$AB24) -> 15.368534 | AJ24: =STDEV('S10 LS174T'!$S24,'S10 LS174T'!$AB24) -> 0.98057749 | AK24: ='S10 LS174T'!$AJ24/'S10 LS174T'!$AI24*100 -> 6.380423
A25: 1114.41 | B25: =IF(A25, A25-L25,"") -> -0.00553 | D25: =IF(C25, C25-M25,"") | F25: =IF(E25, E25-N25,"") | G25: 3 | H25: 3 | L25: 1114.4155 | M25: 556.70413 | N25: 370.80033 | O25: H3N3 | P25: 47.1 | Q25: 336589152 | R25: 25.5 | S25: ='S10 LS174T'!$Q25/'S10 LS174T'!$Q$42*100 -> 1.4054823 | T25: =$S25*G25 -> 4.2164469 | U25: =$S25*H25 -> 4.2164469 | V25: =$S25*I25 -> 0 | W25: =$S25*J25 -> 0 | X25: =$S25*K25 -> 0 | Y25: 48.2 | Z25: 125263248 | AA25: 26.5 | AB25: ='S10 LS174T'!$Z25/'S10 LS174T'!$Z$42*100 -> 1.8552351 | AC25: =$AB25*G25 -> 5.5657053 | AD25: =$AB25*H25 -> 5.5657053 | AE25: =$AB25*I25 -> 0 | AF25: =$AB25*J25 -> 0 | AG25: =$AB25*K25 -> 0 | AH25: =AVERAGE('S10 LS174T'!$P25,'S10 LS174T'!$Y25) -> 47.65 | AI25: =AVERAGE('S10 LS174T'!$S25,'S10 LS174T'!$AB25) -> 1.6303587 | AJ25: =STDEV('S10 LS174T'!$S25,'S10 LS174T'!$AB25) -> 0.31802325 | AK25: ='S10 LS174T'!$AJ25/'S10 LS174T'!$AI25*100 -> 19.506336
B26: =IF(A26, A26-L26,"") | C26: 993.87 | D26: =IF(C26, C26-M26,"") -> 0.01257 | F26: =IF(E26, E26-N26,"") | G26: 3 | H26: 3 | I26: 2 | J26: 2 | L26: 1988.7221 | M26: 993.85743 | N26: 662.23586 | O26: H3N3F2S2 | P26: 48.1 | Q26: 548120704 | R26: 39.7 | S26: ='S10 LS174T'!$Q26/'S10 LS174T'!$Q$42*100 -> 2.2887664 | T26: =$S26*G26 -> 6.8662993 | U26: =$S26*H26 -> 6.8662993 | V26: =$S26*I26 -> 4.5775328 | W26: =$S26*J26 -> 4.5775328 | X26: =$S26*K26 -> 0 | Y26: 48.9 | Z26: 91065248 | AA26: 28.4 | AB26: ='S10 LS174T'!$Z26/'S10 LS174T'!$Z$42*100 -> 1.3487391 | AC26: =$AB26*G26 -> 4.0462174 | AD26: =$AB26*H26 -> 4.0462174 | AE26: =$AB26*I26 -> 2.6974783 | AF26: =$AB26*J26 -> 2.6974783 | AG26: =$AB26*K26 -> 0 | AH26: =AVERAGE('S10 LS174T'!$P26,'S10 LS174T'!$Y26) -> 48.5 | AI26: =AVERAGE('S10 LS174T'!$S26,'S10 LS174T'!$AB26) -> 1.8187528 | AJ26: =STDEV('S10 LS174T'!$S26,'S10 LS174T'!$AB26) -> 0.66469967 | AK26: ='S10 LS174T'!$AJ26/'S10 LS174T'!$AI26*100 -> 36.547005
A27: 1551.47 | B27: =IF(A27, A27-L27,"") -> -0.09883 | C27: 775.28 | D27: =IF(C27, C27-M27,"") -> -0.00078 | F27: =IF(E27, E27-N27,"") | G27: 3 | H27: 3 | I27: 1 | J27: 1 | L27: 1551.5688 | M27: 775.28078 | N27: 516.5181 | O27: H3N3F1S1 | P27: 48.8 | Q27: 178309936 | R27: 7.5 | S27: ='S10 LS174T'!$Q27/'S10 LS174T'!$Q$42*100 -> 0.7445619 | T27: =$S27*G27 -> 2.2336857 | U27: =$S27*H27 -> 2.2336857 | V27: =$S27*I27 -> 0.7445619 | W27: =$S27*J27 -> 0.7445619 | X27: =$S27*K27 -> 0 | Y27: 49.7 | Z27: 27869322 | AA27: 9.8 | AB27: ='S10 LS174T'!$Z27/'S10 LS174T'!$Z$42*100 -> 0.41276388 | AC27: =$AB27*G27 -> 1.2382916 | AD27: =$AB27*H27 -> 1.2382916 | AE27: =$AB27*I27 -> 0.41276388 | AF27: =$AB27*J27 -> 0.41276388 | AG27: =$AB27*K27 -> 0 | AH27: =AVERAGE('S10 LS174T'!$P27,'S10 LS174T'!$Y27) -> 49.25 | AI27: =AVERAGE('S10 LS174T'!$S27,'S10 LS174T'!$AB27) -> 0.57866289 | AJ27: =STDEV('S10 LS174T'!$S27,'S10 LS174T'!$AB27) -> 0.23461663 | AK27: ='S10 LS174T'!$AJ27/'S10 LS174T'!$AI27*100 -> 40.544613
A28: 1332.46 | B28: =IF(A28, A28-L28,"") -> -0.03453 | D28: =IF(C28, C28-M28,"") | F28: =IF(E28, E28-N28,"") | G28: 2 | H28: 2 | I28: 2 | J28: 1 | L28: 1332.4945 | M28: 665.74363 | N28: 443.49333 | O28: H2N2F2S1 | P28: 49.4 | Q28: 357357888 | R28: 27.1 | S28: ='S10 LS174T'!$Q28/'S10 LS174T'!$Q$42*100 -> 1.4922055 | T28: =$S28*G28 -> 2.984411 | U28: =$S28*H28 -> 2.984411 | V28: =$S28*I28 -> 2.984411 | W28: =$S28*J28 -> 1.4922055 | X28: =$S28*K28 -> 0 | Y28: 50.1 | Z28: 97606760 | AA28: 15.1 | AB28: ='S10 LS174T'!$Z28/'S10 LS174T'!$Z$42*100 -> 1.4456234 | AC28: =$AB28*G28 -> 2.8912469 | AD28: =$AB28*H28 -> 2.8912469 | AE28: =$AB28*I28 -> 2.8912469 | AF28: =$AB28*J28 -> 1.4456234 | AG28: =$AB28*K28 -> 0 | AH28: =AVERAGE('S10 LS174T'!$P28,'S10 LS174T'!$Y28) -> 49.75 | AI28: =AVERAGE('S10 LS174T'!$S28,'S10 LS174T'!$AB28) -> 1.4689145 | AJ28: =STDEV('S10 LS174T'!$S28,'S10 LS174T'!$AB28) -> 0.032938501 | AK28: ='S10 LS174T'!$AJ28/'S10 LS174T'!$AI28*100 -> 2.2423702
B29: =IF(A29, A29-L29,"") | C29: 812.33 | D29: =IF(C29, C29-M29,"") -> 0.03 | F29: =IF(E29, E29-N29,"") | G29: 4 | H29: 4 | I29: 1 | L29: 1625.61 | M29: 812.3 | N29: 541.2 | O29: H4N4F1 | P29: 49.8 | Q29: 59420928 | R29: 6 | S29: ='S10 LS174T'!$Q29/'S10 LS174T'!$Q$42*100 -> 0.24812167 | T29: =$S29*G29 -> 0.99248668 | U29: =$S29*H29 -> 0.99248668 | V29: =$S29*I29 -> 0.24812167 | W29: =$S29*J29 -> 0 | X29: =$S29*K29 -> 0 | Y29: 51.1 | Z29: 50637600 | AA29: 19.7 | AB29: ='S10 LS174T'!$Z29/'S10 LS174T'!$Z$42*100 -> 0.74997778 | AC29: =$AB29*G29 -> 2.9999111 | AD29: =$AB29*H29 -> 2.9999111 | AE29: =$AB29*I29 -> 0.74997778 | AF29: =$AB29*J29 -> 0 | AG29: =$AB29*K29 -> 0 | AH29: =AVERAGE('S10 LS174T'!$P29,'S10 LS174T'!$Y29) -> 50.45 | AI29: =AVERAGE('S10 LS174T'!$S29,'S10 LS174T'!$AB29) -> 0.49904973 | AJ29: =STDEV('S10 LS174T'!$S29,'S10 LS174T'!$AB29) -> 0.35486586 | AK29: ='S10 LS174T'!$AJ29/'S10 LS174T'!$AI29*100 -> 71.108317
B30: =IF(A30, A30-L30,"") | C30: 1095.4 | D30: =IF(C30, C30-M30,"") -> 0.00287 | F30: =IF(E30, E30-N30,"") | G30: 3 | H30: 4 | I30: 2 | J30: 2 | L30: 2191.8015 | M30: 1095.3971 | N30: 729.929 | O30: H3N4F2S2 | P30: 50.2 | Q30: 282593216 | R30: 15.4 | S30: ='S10 LS174T'!$Q30/'S10 LS174T'!$Q$42*100 -> 1.1800136 | T30: =$S30*G30 -> 3.5400407 | U30: =$S30*H30 -> 4.7200542 | V30: =$S30*I30 -> 2.3600271 | W30: =$S30*J30 -> 2.3600271 | X30: =$S30*K30 -> 0 | Y30: 50.3 | Z30: 30115098 | AA30: 9.8 | AB30: ='S10 LS174T'!$Z30/'S10 LS174T'!$Z$42*100 -> 0.44602537 | AC30: =$AB30*G30 -> 1.3380761 | AD30: =$AB30*H30 -> 1.7841015 | AE30: =$AB30*I30 -> 0.89205074 | AF30: =$AB30*J30 -> 0.89205074 | AG30: =$AB30*K30 -> 0 | AH30: =AVERAGE('S10 LS174T'!$P30,'S10 LS174T'!$Y30) -> 50.25 | AI30: =AVERAGE('S10 LS174T'!$S30,'S10 LS174T'!$AB30) -> 0.81301947 | AJ30: =STDEV('S10 LS174T'!$S30,'S10 LS174T'!$AB30) -> 0.51900803 | AK30: ='S10 LS174T'!$AJ30/'S10 LS174T'!$AI30*100 -> 63.837097
A31: 1040.38 | B31: =IF(A31, A31-L31,"") -> 0.00127 | D31: =IF(C31, C31-M31,"") | F31: =IF(E31, E31-N31,"") | G31: 2 | H31: 2 | J31: 1 | L31: 1040.3787 | M31: 519.68573 | N31: 346.1214 | O31: H2N2S1 | P31: 50.5 | Q31: 539853056 | R31: 28.1 | S31: ='S10 LS174T'!$Q31/'S10 LS174T'!$Q$42*100 -> 2.2542435 | T31: =$S31*G31 -> 4.508487 | U31: =$S31*H31 -> 4.508487 | V31: =$S31*I31 -> 0 | W31: =$S31*J31 -> 2.2542435 | X31: =$S31*K31 -> 0 | Y31: 51.4 | Z31: 134534848 | AA31: 50.7 | AB31: ='S10 LS174T'!$Z31/'S10 LS174T'!$Z$42*100 -> 1.9925539 | AC31: =$AB31*G31 -> 3.9851078 | AD31: =$AB31*H31 -> 3.9851078 | AE31: =$AB31*I31 -> 0 | AF31: =$AB31*J31 -> 1.9925539 | AG31: =$AB31*K31 -> 0 | AH31: =AVERAGE('S10 LS174T'!$P31,'S10 LS174T'!$Y31) -> 50.95 | AI31: =AVERAGE('S10 LS174T'!$S31,'S10 LS174T'!$AB31) -> 2.1233987 | AJ31: =STDEV('S10 LS174T'!$S31,'S10 LS174T'!$AB31) -> 0.18504252 | AK31: ='S10 LS174T'!$AJ31/'S10 LS174T'!$AI31*100 -> 8.7144499
A32: 1551.54 | B32: =IF(A32, A32-L32,"") -> -0.02883 | C32: 775.27 | D32: =IF(C32, C32-M32,"") -> -0.01078 | F32: =IF(E32, E32-N32,"") | G32: 3 | H32: 3 | I32: 1 | J32: 1 | L32: 1551.5688 | M32: 775.28078 | N32: 516.5181 | O32: H3N3F1S1 | P32: 51 | Q32: 276567360 | R32: 17.4 | S32: ='S10 LS174T'!$Q32/'S10 LS174T'!$Q$42*100 -> 1.1548516 | T32: =$S32*G32 -> 3.4645549 | U32: =$S32*H32 -> 3.4645549 | V32: =$S32*I32 -> 1.1548516 | W32: =$S32*J32 -> 1.1548516 | X32: =$S32*K32 -> 0 | Y32: 51.9 | Z32: 63569980 | AA32: 20.3 | AB32: ='S10 LS174T'!$Z32/'S10 LS174T'!$Z$42*100 -> 0.94151525 | AC32: =$AB32*G32 -> 2.8245457 | AD32: =$AB32*H32 -> 2.8245457 | AE32: =$AB32*I32 -> 0.94151525 | AF32: =$AB32*J32 -> 0.94151525 | AG32: =$AB32*K32 -> 0 | AH32: =AVERAGE('S10 LS174T'!$P32,'S10 LS174T'!$Y32) -> 51.45 | AI32: =AVERAGE('S10 LS174T'!$S32,'S10 LS174T'!$AB32) -> 1.0481834 | AJ32: =STDEV('S10 LS174T'!$S32,'S10 LS174T'!$AB32) -> 0.1508516 | AK32: ='S10 LS174T'!$AJ32/'S10 LS174T'!$AI32*100 -> 14.391718
B33: =IF(A33, A33-L33,"") | C33: 876.82 | D33: =IF(C33, C33-M33,"") -> -0.00048 | F33: =IF(E33, E33-N33,"") | G33: 3 | H33: 4 | I33: 1 | J33: 1 | L33: 1754.6482 | M33: 876.82048 | N33: 584.21123 | O33: H3N4F1S1 | P33: 51.5 | Q33: 188920400 | R33: 11.3 | S33: ='S10 LS174T'!$Q33/'S10 LS174T'!$Q$42*100 -> 0.78886761 | T33: =$S33*G33 -> 2.3666028 | U33: =$S33*H33 -> 3.1554704 | V33: =$S33*I33 -> 0.78886761 | W33: =$S33*J33 -> 0.78886761 | X33: =$S33*K33 -> 0 | Y33: 52.4 | Z33: 61002980 | AA33: 15.3 | AB33: ='S10 LS174T'!$Z33/'S10 LS174T'!$Z$42*100 -> 0.90349621 | AC33: =$AB33*G33 -> 2.7104886 | AD33: =$AB33*H33 -> 3.6139848 | AE33: =$AB33*I33 -> 0.90349621 | AF33: =$AB33*J33 -> 0.90349621 | AG33: =$AB33*K33 -> 0 | AH33: =AVERAGE('S10 LS174T'!$P33,'S10 LS174T'!$Y33) -> 51.95 | AI33: =AVERAGE('S10 LS174T'!$S33,'S10 LS174T'!$AB33) -> 0.84618191 | AJ33: =STDEV('S10 LS174T'!$S33,'S10 LS174T'!$AB33) -> 0.081054661 | AK33: ='S10 LS174T'!$AJ33/'S10 LS174T'!$AI33*100 -> 9.5788696
A34: 1479.51 | B34: =IF(A34, A34-L34,"") -> -0.03773 | C34: 739.3 | D34: =IF(C34, C34-M34,"") -> 0.02977 | F34: =IF(E34, E34-N34,"") | G34: 4 | H34: 4 | L34: 1479.5477 | M34: 739.27023 | N34: 492.51106 | O34: H4N4 | P34: 52.1 | Q34: 225828976 | R34: 13.5 | S34: ='S10 LS174T'!$Q34/'S10 LS174T'!$Q$42*100 -> 0.94298532 | T34: =$S34*G34 -> 3.7719413 | U34: =$S34*H34 -> 3.7719413 | V34: =$S34*I34 -> 0 | W34: =$S34*J34 -> 0 | X34: =$S34*K34 -> 0 | Y34: 53.1 | Z34: 49568132 | AA34: 16.9 | AB34: ='S10 LS174T'!$Z34/'S10 LS174T'!$Z$42*100 -> 0.73413822 | AC34: =$AB34*G34 -> 2.9365529 | AD34: =$AB34*H34 -> 2.9365529 | AE34: =$AB34*I34 -> 0 | AF34: =$AB34*J34 -> 0 | AG34: =$AB34*K34 -> 0 | AH34: =AVERAGE('S10 LS174T'!$P34,'S10 LS174T'!$Y34) -> 52.6 | AI34: =AVERAGE('S10 LS174T'!$S34,'S10 LS174T'!$AB34) -> 0.83856177 | AJ34: =STDEV('S10 LS174T'!$S34,'S10 LS174T'!$AB34) -> 0.1476772 | AK34: ='S10 LS174T'!$AJ34/'S10 LS174T'!$AI34*100 -> 17.610772
B35: =IF(A35, A35-L35,"") | C35: 920.84 | D35: =IF(C35, C35-M35,"") -> 0.01152 | F35: =IF(E35, E35-N35,"") | G35: 3 | H35: 3 | I35: 1 | J35: 2 | L35: 1842.6642 | M35: 920.82848 | N35: 613.5499 | O35: H3N3F1S2 | P35: 52.5 | Q35: 443954944 | R35: 27.9 | S35: ='S10 LS174T'!$Q35/'S10 LS174T'!$Q$42*100 -> 1.8538055 | T35: =$S35*G35 -> 5.5614165 | U35: =$S35*H35 -> 5.5614165 | V35: =$S35*I35 -> 1.8538055 | W35: =$S35*J35 -> 3.707611 | X35: =$S35*K35 -> 0 | Y35: 53.3 | Z35: 107489296 | AA35: 32.7 | AB35: ='S10 LS174T'!$Z35/'S10 LS174T'!$Z$42*100 -> 1.5919906 | AC35: =$AB35*G35 -> 4.7759718 | AD35: =$AB35*H35 -> 4.7759718 | AE35: =$AB35*I35 -> 1.5919906 | AF35: =$AB35*J35 -> 3.1839812 | AG35: =$AB35*K35 -> 0 | AH35: =AVERAGE('S10 LS174T'!$P35,'S10 LS174T'!$Y35) -> 52.9 | AI35: =AVERAGE('S10 LS174T'!$S35,'S10 LS174T'!$AB35) -> 1.722898 | AJ35: =STDEV('S10 LS174T'!$S35,'S10 LS174T'!$AB35) -> 0.18513108 | AK35: ='S10 LS174T'!$AJ35/'S10 LS174T'!$AI35*100 -> 10.74533
B36: =IF(A36, A36-L36,"") | C36: 957.85 | D36: =IF(C36, C36-M36,"") -> 0.00312 | F36: =IF(E36, E36-N36,"") | G36: 4 | H36: 4 | I36: 1 | J36: 1 | L36: 1916.701 | M36: 957.84688 | N36: 638.22883 | O36: H4N4F1S1 | P36: 53 | Q36: 409270240 | R36: 22.4 | S36: ='S10 LS174T'!$Q36/'S10 LS174T'!$Q$42*100 -> 1.7089739 | T36: =$S36*G36 -> 6.8358956 | U36: =$S36*H36 -> 6.8358956 | V36: =$S36*I36 -> 1.7089739 | W36: =$S36*J36 -> 1.7089739 | X36: =$S36*K36 -> 0 | Y36: 54 | Z36: 55381700 | AA36: 20.8 | AB36: ='S10 LS174T'!$Z36/'S10 LS174T'!$Z$42*100 -> 0.82024117 | AC36: =$AB36*G36 -> 3.2809647 | AD36: =$AB36*H36 -> 3.2809647 | AE36: =$AB36*I36 -> 0.82024117 | AF36: =$AB36*J36 -> 0.82024117 | AG36: =$AB36*K36 -> 0 | AH36: =AVERAGE('S10 LS174T'!$P36,'S10 LS174T'!$Y36) -> 53.5 | AI36: =AVERAGE('S10 LS174T'!$S36,'S10 LS174T'!$AB36) -> 1.2646075 | AJ36: =STDEV('S10 LS174T'!$S36,'S10 LS174T'!$AB36) -> 0.62842894 | AK36: ='S10 LS174T'!$AJ36/'S10 LS174T'!$AI36*100 -> 49.693595
B37: =IF(A37, A37-L37,"") | C37: 1176.41 | D37: =IF(C37, C37-M37,"") -> -0.01353 | F37: =IF(E37, E37-N37,"") | G37: 4 | H37: 4 | I37: 2 | J37: 2 | L37: 2353.8543 | M37: 1176.4235 | N37: 783.9466 | O37: H4N4F2S2 | P37: 54.1 | Q37: 84090968 | R37: 8.6 | S37: ='S10 LS174T'!$Q37/'S10 LS174T'!$Q$42*100 -> 0.3511354 | T37: =$S37*G37 -> 1.4045416 | U37: =$S37*H37 -> 1.4045416 | V37: =$S37*I37 -> 0.7022708 | W37: =$S37*J37 -> 0.7022708 | X37: =$S37*K37 -> 0 | Y37: 54.9 | Z37: 21945900 | AA37: 7 | AB37: ='S10 LS174T'!$Z37/'S10 LS174T'!$Z$42*100 -> 0.32503391 | AC37: =$AB37*G37 -> 1.3001357 | AD37: =$AB37*H37 -> 1.3001357 | AE37: =$AB37*I37 -> 0.65006783 | AF37: =$AB37*J37 -> 0.65006783 | AG37: =$AB37*K37 -> 0 | AH37: =AVERAGE('S10 LS174T'!$P37,'S10 LS174T'!$Y37) -> 54.5 | AI37: =AVERAGE('S10 LS174T'!$S37,'S10 LS174T'!$AB37) -> 0.33808466 | AJ37: =STDEV('S10 LS174T'!$S37,'S10 LS174T'!$AB37) -> 0.018456539 | AK37: ='S10 LS174T'!$AJ37/'S10 LS174T'!$AI37*100 -> 5.459147
B38: =IF(A38, A38-L38,"") | C38: 1022.4 | D38: =IF(C38, C38-M38,"") -> 0.03182 | F38: =IF(E38, E38-N38,"") | G38: 3 | H38: 4 | I38: 1 | J38: 2 | L38: 2045.7436 | M38: 1022.3682 | N38: 681.24303 | O38: H3N4F1S2 | P38: 54.5 | Q38: 80174208 | R38: 6.7 | S38: ='S10 LS174T'!$Q38/'S10 LS174T'!$Q$42*100 -> 0.33478034 | T38: =$S38*G38 -> 1.004341 | U38: =$S38*H38 -> 1.3391214 | V38: =$S38*I38 -> 0.33478034 | W38: =$S38*J38 -> 0.66956068 | X38: =$S38*K38 -> 0 | Y38: 55.3 | Z38: 51894536 | AA38: 11.2 | AB38: ='S10 LS174T'!$Z38/'S10 LS174T'!$Z$42*100 -> 0.76859387 | AC38: =$AB38*G38 -> 2.3057816 | AD38: =$AB38*H38 -> 3.0743755 | AE38: =$AB38*I38 -> 0.76859387 | AF38: =$AB38*J38 -> 1.5371877 | AG38: =$AB38*K38 -> 0 | AH38: =AVERAGE('S10 LS174T'!$P38,'S10 LS174T'!$Y38) -> 54.9 | AI38: =AVERAGE('S10 LS174T'!$S38,'S10 LS174T'!$AB38) -> 0.5516871 | AJ38: =STDEV('S10 LS174T'!$S38,'S10 LS174T'!$AB38) -> 0.30675249 | AK38: ='S10 LS174T'!$AJ38/'S10 LS174T'!$AI38*100 -> 55.602621
B39: =IF(A39, A39-L39,"") | C39: 1030.9 | D39: =IF(C39, C39-M39,"") -> 0.02417 | F39: =IF(E39, E39-N39,"") | G39: 4 | H39: 4 | I39: 2 | J39: 1 | L39: 2062.7589 | M39: 1030.8758 | N39: 686.9148 | O39: H4N4F2S1 | P39: 55.1 | Q39: 334621152 | R39: 24.5 | S39: ='S10 LS174T'!$Q39/'S10 LS174T'!$Q$42*100 -> 1.3972646 | T39: =$S39*G39 -> 5.5890584 | U39: =$S39*H39 -> 5.5890584 | V39: =$S39*I39 -> 2.7945292 | W39: =$S39*J39 -> 1.3972646 | X39: =$S39*K39 -> 0 | Y39: 56 | Z39: 45176196 | AA39: 14.3 | AB39: ='S10 LS174T'!$Z39/'S10 LS174T'!$Z$42*100 -> 0.66909062 | AC39: =$AB39*G39 -> 2.6763625 | AD39: =$AB39*H39 -> 2.6763625 | AE39: =$AB39*I39 -> 1.3381812 | AF39: =$AB39*J39 -> 0.66909062 | AG39: =$AB39*K39 -> 0 | AH39: =AVERAGE('S10 LS174T'!$P39,'S10 LS174T'!$Y39) -> 55.55 | AI39: =AVERAGE('S10 LS174T'!$S39,'S10 LS174T'!$AB39) -> 1.0331776 | AJ39: =STDEV('S10 LS174T'!$S39,'S10 LS174T'!$AB39) -> 0.51489676 | AK39: ='S10 LS174T'!$AJ39/'S10 LS174T'!$AI39*100 -> 49.836229
A40: 1331.45 | B40: =IF(A40, A40-L40,"") -> -0.02413 | C40: 665.22 | D40: =IF(C40, C40-M40,"") -> -0.01343 | F40: =IF(E40, E40-N40,"") | G40: 2 | H40: 2 | J40: 2 | L40: 1331.4741 | M40: 665.23343 | N40: 443.1532 | O40: H2N2S2 | P40: 56.5 | Q40: 1269553536 | R40: 49.2 | S40: ='S10 LS174T'!$Q40/'S10 LS174T'!$Q$42*100 -> 5.3012256 | T40: =$S40*G40 -> 10.602451 | U40: =$S40*H40 -> 10.602451 | V40: =$S40*I40 -> 0 | W40: =$S40*J40 -> 10.602451 | X40: =$S40*K40 -> 0 | Y40: 57.2 | Z40: 386325472 | AA40: 138.5 | AB40: ='S10 LS174T'!$Z40/'S10 LS174T'!$Z$42*100 -> 5.7217467 | AC40: =$AB40*G40 -> 11.443493 | AD40: =$AB40*H40 -> 11.443493 | AE40: =$AB40*I40 -> 0 | AF40: =$AB40*J40 -> 11.443493 | AG40: =$AB40*K40 -> 0 | AH40: =AVERAGE('S10 LS174T'!$P40,'S10 LS174T'!$Y40) -> 56.85 | AI40: =AVERAGE('S10 LS174T'!$S40,'S10 LS174T'!$AB40) -> 5.5114861 | AJ40: =STDEV('S10 LS174T'!$S40,'S10 LS174T'!$AB40) -> 0.29735332 | AK40: ='S10 LS174T'!$AJ40/'S10 LS174T'!$AI40*100 -> 5.3951568
B41: =IF(A41, A41-L41,"") | C41: 1022.36 | D41: =IF(C41, C41-M41,"") -> -0.00818 | F41: =IF(E41, E41-N41,"") | G41: 3 | H41: 4 | I41: 1 | J41: 2 | L41: 2045.7436 | M41: 1022.3682 | N41: 681.24303 | O41: H3N4F1S2 | P41: 56.7 | Q41: 209544928 | R41: 18.3 | S41: ='S10 LS174T'!$Q41/'S10 LS174T'!$Q$42*100 -> 0.87498865 | T41: =$S41*G41 -> 2.6249659 | U41: =$S41*H41 -> 3.4999546 | V41: =$S41*I41 -> 0.87498865 | W41: =$S41*J41 -> 1.7499773 | X41: =$S41*K41 -> 0 | Y41: 57.5 | Z41: 34426272 | AA41: 12.6 | AB41: ='S10 LS174T'!$Z41/'S10 LS174T'!$Z$42*100 -> 0.50987683 | AC41: =$AB41*G41 -> 1.5296305 | AD41: =$AB41*H41 -> 2.0395073 | AE41: =$AB41*I41 -> 0.50987683 | AF41: =$AB41*J41 -> 1.0197537 | AG41: =$AB41*K41 -> 0 | AH41: =AVERAGE('S10 LS174T'!$P41,'S10 LS174T'!$Y41) -> 57.1 | AI41: =AVERAGE('S10 LS174T'!$S41,'S10 LS174T'!$AB41) -> 0.69243274 | AJ41: =STDEV('S10 LS174T'!$S41,'S10 LS174T'!$AB41) -> 0.25817304 | AK41: ='S10 LS174T'!$AJ41/'S10 LS174T'!$AI41*100 -> 37.284927
Q42: =SUM(Q5:Q41) -> 23948302424 | S42: =SUM(S5:S41) -> 100 | T42: =SUM(T5:T41)/100 -> 2.0980575 | U42: =SUM(U5:U41)/100 -> 2.1785816 | V42: =SUM(V5:V41)/100 -> 0.675354 | W42: =SUM(W5:W41)/100 -> 1.2962508 | X42: =SUM(X5:X41)/100 -> 0.050603567 | Z42: =SUM(Z5:Z41) -> 6751880033 | AB42: =SUM(AB5:AB41) -> 100 | AC42: =SUM(AC5:AC41)/100 -> 2.064045 | AD42: =SUM(AD5:AD41)/100 -> 2.163571 | AE42: =SUM(AE5:AE41)/100 -> 0.62968121 | AF42: =SUM(AF5:AF41)/100 -> 1.24563 | AG42: =SUM(AG5:AG41)/100 -> 0.05113283 | AI42: =SUM(AI5:AI41) -> 100

Sheet S11 LS180
B1: Supplementary table 1: S11 - O-linked glycans present in LS180 cell line, retention times (min), peak areas, relative abundances with standard deviation and relative standard deviation (CV), and calculations of monosaccharide average compositions for each technical (1-2) replicate.
P3: Technical replicate 1. | Y3: Technical replicate 2.
A4: [M-H]- | B4: Δ[M-H]- | C4: [M-2H]2- | D4: Δ[M-2H]2- | E4: [M-3H]3- | F4: Δ[M-3H]3- | G4: H | H4: N | I4: F | J4: S | K4: Su | L4: [M-H]-th. | M4: [M-2H]2- th. | N4: [M-3H]3- th. | O4: Composition | P4: RT(min) | Q4: Peak area | R4: S/N | S4: Rel.peak area(%) 1 | T4: H | U4: N | V4: F | W4: S | X4: Su | Y4: RT(min) | Z4: Peak area | AA4: S/N | AB4: Rel.peak area(%) 1 | AC4: H | AD4: N | AE4: F | AF4: S | AG4: Su | AH4: RT avg (min) | AI4: Rel.peak area avg. (%) | AJ4: SD | AK4: CV
A5: 675.28 | B5: 0.03347 | G5: 1 | H5: 1 | J5: 1 | L5: 675.24653 | M5: 337.11963 | N5: 224.41066 | O5: H1N1S1 | P5: 22.6 | Q5: 70750904 | R5: 18.1 | S5: 0.64357206 | T5: 0.64357206 | U5: 0.64357206 | V5: 0 | W5: 0.64357206 | X5: 0 | Y5: 22.5 | Z5: 936531840 | AA5: 30 | AB5: 2.4387653 | AC5: 2.4387653 | AD5: 2.4387653 | AE5: 0 | AF5: 2.4387653 | AG5: 0 | AH5: 22.55 | AI5: 1.5411687 | AJ5: 1.2693933 | AK5: 0.82365631
A6: 966.36 | B6: 0.01807 | C6: 482.69 | D6: 0.02267 | G6: 1 | H6: 1 | J6: 2 | L6: 966.34193 | M6: 482.66733 | N6: 321.44246 | O6: H1N1S2 | P6: 27.2 | Q6: 1061521984 | R6: 322.4 | S6: 9.6559316 | T6: 9.6559316 | U6: 9.6559316 | V6: 0 | W6: 19.311863 | X6: 0 | Y6: 26.7 | Z6: 3049288704 | AA6: 75 | AB6: 7.9404662 | AC6: 7.9404662 | AD6: 7.9404662 | AE6: 0 | AF6: 15.880932 | AG6: 0 | AH6: 26.95 | AI6: 8.7981989 | AJ6: 1.2130172 | AK6: 0.13787109
A7: 749.31 | B7: 0.02667 | G7: 2 | H7: 2 | L7: 749.28333 | M7: 374.13803 | N7: 249.0896 | O7: H2N2 | P7: 31.8 | Q7: 111933528 | R7: 47.4 | S7: 1.0181819 | T7: 2.0363638 | U7: 2.0363638 | V7: 0 | W7: 0 | X7: 0 | Y7: 31.2 | Z7: 297418752 | AA7: 16.1 | AB7: 0.77448998 | AC7: 1.54898 | AD7: 1.54898 | AE7: 0 | AF7: 0 | AG7: 0 | AH7: 31.5 | AI7: 0.89633595 | AJ7: 0.17231622 | AK7: 0.19224513
A8: 1227.45 | B8: -0.01323 | G8: 1 | H8: 3 | I8: 1 | J8: 1 | L8: 1227.4632 | M8: 613.22798 | N8: 408.4829 | O8: H1N3F1S1 | P8: 34.4 | Q8: 87677096 | R8: 17 | S8: 0.79753793 | T8: 0.79753793 | U8: 2.3926138 | V8: 0.79753793 | W8: 0.79753793 | X8: 0 | Y8: 33.5 | Z8: 337134752 | AA8: 15.3 | AB8: 0.87791199 | AC8: 0.87791199 | AD8: 2.633736 | AE8: 0.87791199 | AF8: 0.87791199 | AG8: 0 | AH8: 33.95 | AI8: 0.83772496 | AJ8: 0.056833041 | AK8: 0.067842124
A9: 878.36 | B9: 0.03407 | G9: 1 | H9: 2 | J9: 1 | L9: 878.32593 | M9: 438.65933 | N9: 292.1038 | O9: H1N2S1 | P9: 34.7 | Q9: 127058576 | R9: 66.7 | S9: 1.155764 | T9: 1.155764 | U9: 2.3115281 | V9: 0 | W9: 1.155764 | X9: 0 | Y9: 33.9 | Z9: 288051584 | AA9: 11.7 | AB9: 0.75009751 | AC9: 0.75009751 | AD9: 1.500195 | AE9: 0 | AF9: 0.75009751 | AG9: 0 | AH9: 34.3 | AI9: 0.95293077 | AJ9: 0.28684954 | AK9: 0.30101824
A10: 1486.41 | B10: -0.07813 | C10: 742.76 | D10: 0.01957 | G10: 3 | H10: 3 | I10: 2 | K10: 1 | L10: 1486.4881 | M10: 742.74043 | N10: 494.82453 | O10: H3N3F2Su1 | P10: 36.2 | Q10: 63903336 | R10: 19.5 | S10: 0.58128447 | T10: 1.7438534 | U10: 1.7438534 | V10: 1.1625689 | W10: 0 | X10: 0.58128447 | Y10: 35.2 | Z10: 187988512 | AA10: 10.4 | AB10: 0.48952938 | AC10: 1.4685882 | AD10: 1.4685882 | AE10: 0.97905877 | AF10: 0 | AG10: 0.48952938 | AH10: 35.7 | AI10: 0.53540693 | AJ10: 0.064880642 | AK10: 0.12118006
A11: 1186.38 | B11: -0.05663 | G11: 2 | H11: 2 | I11: 1 | J11: 1 | L11: 1186.4366 | M11: 592.71468 | N11: 394.80736 | O11: H2N2F1S1 | P11: 37.6 | Q11: 841095936 | R11: 209.6 | S11: 7.6508683 | T11: 15.301737 | U11: 15.301737 | V11: 7.6508683 | W11: 7.6508683 | X11: 0 | Y11: 36.8 | Z11: 2284565760 | AA11: 74 | AB11: 5.9490979 | AC11: 11.898196 | AD11: 11.898196 | AE11: 5.9490979 | AF11: 5.9490979 | AG11: 0 | AH11: 37.2 | AI11: 6.7999831 | AJ11: 1.2033333 | AK11: 0.17696122
A12: 1697.59 | B12: -0.03673 | C12: 848.33 | D12: 0.02027 | G12: 3 | H12: 3 | I12: 2 | J12: 1 | L12: 1697.6267 | M12: 848.30973 | N12: 565.20406 | O12: H3N3F2S1 | P12: 41.1 | Q12: 106242528 | R12: 45.7 | S12: 0.96641483 | T12: 2.8992445 | U12: 2.8992445 | V12: 1.9328297 | W12: 0.96641483 | X12: 0 | Y12: 40 | Z12: 457041728 | AA12: 18.8 | AB12: 1.1901544 | AC12: 3.5704632 | AD12: 3.5704632 | AE12: 2.3803088 | AF12: 1.1901544 | AG12: 0 | AH12: 40.55 | AI12: 1.0782846 | AJ12: 0.15820777 | AK12: 0.14672172
