Workbook

Sheet S1 MSAC
A1: Supplementary table 1: S1- Calculated monosaccharide average compositions (MSAC) per technical (1 or 2) or biological replicate (A, B or C).
A2: The MSAC represents the normalized number of sugar residues and modifications per glycan molecule (hexose, N-acetylhexosamine, sialylation, sulphation, fucosylation). The intensities of corresponding structures were multiplied by the monosaccharide compositions and summed over the entire sample. N: N-acetylhexosamine, H: hexose, F: fucose, S: N-acetylneuraminic acid, Su: sulphate residue
A3: Sample | B3: H | C3: N | D3: F | E3: S | F3: Su
A4: C10_1 | B4: 3.01 | C4: 3.03 | D4: 0.09 | E4: 1.12 | F4: 0.0209
A5: C10_2 | B5: 2.803 | C5: 2.83 | D5: 0.085 | E5: 1.006 | F5: 0.0186834
A6: CaCo2_1 | B6: 1.89 | C6: 2.16 | D6: 0.62 | E6: 1 | F6: 0
A7: CaCo2_2 | B7: 1.881 | C7: 2.164 | D7: 0.63 | E7: 0.938 | F7: 0
A8: Co115_1 | B8: 1.85 | C8: 1.86 | D8: 0 | E8: 1.83 | F8: 0.03
A9: Co115_2 | B9: 1.791 | C9: 1.806 | D9: 0 | E9: 1.8691 | F9: 0.025
A10: Colo205Vu_1 | B10: 1.61 | C10: 1.61 | D10: 0.03 | E10: 1.9 | F10: 0
A11: Colo205Vu_2 | B11: 1.43 | C11: 1.43 | D11: 0.02 | E11: 1.9 | F11: 0
A12: Colo320Vu_1 | B12: 1 | C12: 1 | D12: 0 | E12: 1.90925 | F12: 0
A13: Colo320Vu_2 | B13: 1 | C13: 1 | D13: 0 | E13: 1.90464 | F13: 0
A14: DLD1_1 | B14: 2.29 | C14: 2.33 | D14: 0 | E14: 1.69 | F14: 0.107
A15: DLD1_2 | B15: 2.299 | C15: 2.349 | D15: 0 | E15: 1.66 | F15: 0.1346
... A69: Fetuin_02 | B69: 1.1726724 | C69: 1.1726724 | D69: 0 | E69: 1.6181225 | F69: 0

Sheet S2 Fetuin_standard
A1: Supplementary table 1: S2 - O-linked glycans present in fetuin standard, retention times (min), peak areas, relative abundances with standard deviation and relative standard deviation (CV), and calculations of monosaccharide average compositions for each technical (1-3) replicate.
P3: Replicate 1 | Y3: Replicate 2 | AH3: Replicate 3
A4: [M-H]- | B4: Δ[M-H]- | C4: [M-2H]2- | D4: Δ[M-2H]2- | E4: [M-3H]3- | F4: Δ[M-3H]3- | G4: H | H4: N | I4: F | J4: S | K4: Su | L4: [M-H]-th. | M4: [M-2H]2- th. | N4: [M-3H]3- th. | O4: Composition | P4: RT(min) | Q4: Peak area | R4: S/N | S4: Rel.peak area(%) 1 | T4: H | U4: N | V4: F | W4: S | X4: Su | Y4: RT(min) | Z4: Peak area | AA4: S/N | AB4: Rel.peak area(%) 1 | AC4: H | AD4: N | AE4: F | AF4: S | AG4: Su | AH4: RT(min) | AI4: Peak area | AJ4: S/N | AK4: Rel.peak area(%) 1 | AL4: H | AM4: N | AN4: F | AO4: S | AP4: Su | AQ4: RT avg (min) | AR4: Rel.peak area avg. (%) | AS4: SD | AT4: CV
A5: 675.26 | B5: =IF(A5, A5-L5,"") -> 0.01347 | D5: =IF(C5, C5-M5,"") | F5: =IF(E5, E5-N5,"") | G5: 1 | H5: 1 | J5: 1 | L5: 675.24653 | M5: 337.11963 | N5: 224.41066 | O5: H1N1S1 | P5: 23 | Q5: 7440599552 | R5: 5922.5 | S5: ='S2 Fetuin_standard'!$Q5/'S2 Fetuin_standard'!$Q$8*100 -> 45.690442 | T5: =$S5*G5 -> 45.690442 | U5: =$S5*H5 -> 45.690442 | V5: =$S5*I5 -> 0 | W5: =$S5*J5 -> 45.690442 | X5: =$S5*K5 -> 0 | Y5: 23.8 | Z5: 28539244544 | AA5: 533.5 | AB5: ='S2 Fetuin_standard'!$Z5/'S2 Fetuin_standard'!$Z$8*100 -> 46.740914 | AC5: =$AB5*G5 -> 46.740914 | AD5: =$AB5*H5 -> 46.740914 | AE5: =$AB5*I5 -> 0 | AF5: =$AB5*J5 -> 46.740914 | AG5: =$AB5*K5 -> 0 | AH5: 23.1 | AI5: 1797697024 | AJ5: 3983.8 | AK5: ='S2 Fetuin_standard'!$AI5/'S2 Fetuin_standard'!$AI$8*100 -> 38.18775 | AL5: =$AK5*G5 -> 38.18775 | AM5: =$AK5*H5 -> 38.18775 | AN5: =$AK5*I5 -> 0 | AO5: =$AK5*J5 -> 38.18775 | AP5: =$AK5*K5 -> 0 | AQ5: =AVERAGE('S2 Fetuin_standard'!$P5,'S2 Fetuin_standard'!$Y5) -> 23.4 | AR5: =AVERAGE('S2 Fetuin_standard'!$S5,'S2 Fetuin_standard'!$AB5,'S2 Fetuin_standard'!$AK5) -> 43.539702 | AS5: =STDEV('S2 Fetuin_standard'!$S5,'S2 Fetuin_standard'!$AB5,'S2 Fetuin_standard'!$AK5) -> 4.6645915 | AT5: ='S2 Fetuin_standard'!$AS5/'S2 Fetuin_standard'!$AR5*100 -> 10.713421
A6: 966.35 | B6: =IF(A6, A6-L6,"") -> 0.00807 | C6: 482.7 | D6: =IF(C6, C6-M6,"") -> 0.03267 | F6: =IF(E6, E6-N6,"") | G6: 1 | H6: 1 | J6: 2 | L6: 966.34193 | M6: 482.66733 | N6: 321.44246 | O6: H1N1S2 | P6: 27.5 | Q6: 6095092224 | R6: 5322.1 | S6: ='S2 Fetuin_standard'!$Q6/'S2 Fetuin_standard'!$Q$8*100 -> 37.428094 | T6: =$S6*G6 -> 37.428094 | U6: =$S6*H6 -> 37.428094 | V6: =$S6*I6 -> 0 | W6: =$S6*J6 -> 74.856188 | X6: =$S6*K6 -> 0 | Y6: 28.8 | Z6: 23521222656 | AA6: 607.8 | AB6: ='S2 Fetuin_standard'!$Z6/'S2 Fetuin_standard'!$Z$8*100 -> 38.522514 | AC6: =$AB6*G6 -> 38.522514 | AD6: =$AB6*H6 -> 38.522514 | AE6: =$AB6*I6 -> 0 | AF6: =$AB6*J6 -> 77.045027 | AG6: =$AB6*K6 -> 0 | AH6: 27.8 | AI6: 2096966656 | AJ6: 4317.7 | AK6: ='S2 Fetuin_standard'!$AI6/'S2 Fetuin_standard'!$AI$8*100 -> 44.545014 | AL6: =$AK6*G6 -> 44.545014 | AM6: =$AK6*H6 -> 44.545014 | AN6: =$AK6*I6 -> 0 | AO6: =$AK6*J6 -> 89.090027 | AP6: =$AK6*K6 -> 0 | AQ6: =AVERAGE('S2 Fetuin_standard'!$P6,'S2 Fetuin_standard'!$Y6) -> 28.15 | AR6: =AVERAGE('S2 Fetuin_standard'!$S6,'S2 Fetuin_standard'!$AB6,'S2 Fetuin_standard'!$AK6) -> 40.165207 | AS6: =STDEV('S2 Fetuin_standard'!$S6,'S2 Fetuin_standard'!$AB6,'S2 Fetuin_standard'!$AK6) -> 3.8322929 | AT6: ='S2 Fetuin_standard'!$AS6/'S2 Fetuin_standard'!$AR6*100 -> 9.5413249
A7: 1331.43 | B7: =IF(A7, A7-L7,"") -> -0.04413 | C7: 665.25 | D7: =IF(C7, C7-M7,"") -> 0.01657 | F7: =IF(E7, E7-N7,"") | G7: 2 | H7: 2 | J7: 2 | L7: 1331.4741 | M7: 665.23343 | N7: 443.1532 | O7: H2N2S2 | P7: 57.2 | Q7: 2749113600 | R7: 4277.2 | S7: ='S2 Fetuin_standard'!$Q7/'S2 Fetuin_standard'!$Q$8*100 -> 16.881464 | T7: =$S7*G7 -> 33.762929 | U7: =$S7*H7 -> 33.762929 | V7: =$S7*I7 -> 0 | W7: =$S7*J7 -> 33.762929 | X7: =$S7*K7 -> 0 | Y7: 58.7 | Z7: 8997912576 | AA7: 553.2 | AB7: ='S2 Fetuin_standard'!$Z7/'S2 Fetuin_standard'!$Z$8*100 -> 14.736573 | AC7: =$AB7*G7 -> 29.473146 | AD7: =$AB7*H7 -> 29.473146 | AE7: =$AB7*I7 -> 0 | AF7: =$AB7*J7 -> 29.473146 | AG7: =$AB7*K7 -> 0 | AH7: 57.4 | AI7: 812859072 | AJ7: 2526 | AK7: ='S2 Fetuin_standard'!$AI7/'S2 Fetuin_standard'!$AI$8*100 -> 17.267236 | AL7: =$AK7*G7 -> 34.534472 | AM7: =$AK7*H7 -> 34.534472 | AN7: =$AK7*I7 -> 0 | AO7: =$AK7*J7 -> 34.534472 | AP7: =$AK7*K7 -> 0 | AQ7: =AVERAGE('S2 Fetuin_standard'!$P7,'S2 Fetuin_standard'!$Y7) -> 57.95 | AR7: =AVERAGE('S2 Fetuin_standard'!$S7,'S2 Fetuin_standard'!$AB7,'S2 Fetuin_standard'!$AK7) -> 16.295091 | AS7: =STDEV('S2 Fetuin_standard'!$S7,'S2 Fetuin_standard'!$AB7,'S2 Fetuin_standard'!$AK7) -> 1.3634293 | AT7: ='S2 Fetuin_standard'!$AS7/'S2 Fetuin_standard'!$AR7*100 -> 8.3671168
Q8: =SUM(Q5:Q7) -> 16284805376 | S8: =SUM(S5:S7) -> 100 | T8: =SUM(T5:T7)/100 -> 1.1688146 | U8: =SUM(U5:U7)/100 -> 1.1688146 | V8: =SUM(V5:V7)/100 -> 0 | W8: =SUM(W5:W7)/100 -> 1.5430956 | X8: =SUM(X5:X7)/100 -> 0 | Z8: =SUM(Z5:Z7) -> 61058379776 | AB8: =SUM(AB5:AB7) -> 100 | AC8: =SUM(AC5:AC7)/100 -> 1.1473657 | AD8: =SUM(AD5:AD7)/100 -> 1.1473657 | AE8: =SUM(AE5:AE7)/100 -> 0 | AF8: =SUM(AF5:AF7)/100 -> 1.5325909 | AG8: =SUM(AG5:AG7)/100 -> 0 | AI8: =SUM(AI5:AI7) -> 4707522752 | AK8: =SUM(AK5:AK7) -> 100 | AL8: =SUM(AL5:AL7)/100 -> 1.1726724 | AM8: =SUM(AM5:AM7)/100 -> 1.1726724 | AN8: =SUM(AN5:AN7)/100 -> 0 | AO8: =SUM(AO5:AO7)/100 -> 1.6181225 | AP8: =SUM(AP5:AP7)/100 -> 0 | AR8: =SUM(AR5:AR7) -> 100

Sheet S3 C10
A1: Supplementary table 1: S3 - O-linked glycans present in C10 cell line, retention times (min), peak areas, relative abundances with standard deviation and relative standard deviation (CV), and calculations of monosaccharide average compositions for each technical (1-2) replicate.
P3: Technical replicate 1. | Y3: Technical replicate 2.
A4: [M-H]- | B4: Δ[M-H]- | C4: [M-2H]2- | D4: Δ[M-2H]2- | E4: [M-3H]3- | F4: Δ[M-3H]3- | G4: H | H4: N | I4: F | J4: S | K4: Su | L4: [M-H]-th. | M4: [M-2H]2- th. | N4: [M-3H]3- th. | O4: Composition | P4: RT(min) | Q4: Peak area | R4: S/N | S4: Rel.peak area(%) 1 | T4: H | U4: N | V4: F | W4: S | X4: Su | Y4: RT(min) | Z4: Peak area | AA4: S/N | AB4: Rel.peak area(%) 1 | AC4: H | AD4: N | AE4: F | AF4: S | AG4: Su | AH4: RT avg (min) | AI4: Rel.peak area avg. (%) | AJ4: SD | AK4: CV
A5: 675.27 | B5: =IF(A5, A5-L5,"") -> 0.02 | D5: =IF(C5, C5-M5,"") | F5: =IF(E5, E5-N5,"") | G5: 1 | H5: 1 | J5: 1 | L5: 675.25 | M5: 337.12 | N5: 224.41 | O5: H1N1S1 | P5: 15.8 | Q5: 57967852 | R5: 8.8 | S5: ='S3 C10'!$Q5/'S3 C10'!$Q$36*100 -> 1.4201248 | T5: =$S5*G5 -> 1.4201248 | U5: =$S5*H5 -> 1.4201248 | V5: =$S5*I5 -> 0 | W5: =$S5*J5 -> 1.4201248 | X5: =$S5*K5 -> 0 | Y5: 14.9 | Z5: 198372688 | AA5: 26.3 | AB5: ='S3 C10'!$Z5/'S3 C10'!$Z$36*100 -> 1.2190359 | AC5: =$AB5*G5 -> 1.2190359 | AD5: =$AB5*H5 -> 1.2190359 | AE5: =$AB5*I5 -> 0 | AF5: =$AB5*J5 -> 1.2190359 | AG5: =$AB5*K5 -> 0 | AH5: =AVERAGE('S3 C10'!$P5,'S3 C10'!$Y5) -> 15.35 | AI5: =AVERAGEA(S5,AB5) -> 1.3195804 | AJ5: =STDEV('S3 C10'!$S5,'S3 C10'!$AB5) -> 0.1421913 | AK5: ='S3 C10'!$AJ5/'S3 C10'!$AI5*100 -> 10.775494
A6: 966.35 | B6: =IF(A6, A6-L6,"") -> 0.01 | C6: 482.64 | D6: =IF(C6, C6-M6,"") -> -0.03 | F6: =IF(E6, E6-N6,"") | G6: 1 | H6: 1 | J6: 2 | L6: 966.34 | M6: 482.67 | N6: 321.44 | O6: H1N1S2 | P6: 28.8 | Q6: 96040792 | R6: 12.9 | S6: ='S3 C10'!$Q6/'S3 C10'!$Q$36*100 -> 2.3528543 | T6: =$S6*G6 -> 2.3528543 | U6: =$S6*H6 -> 2.3528543 | V6: =$S6*I6 -> 0 | W6: =$S6*J6 -> 4.7057086 | X6: =$S6*K6 -> 0 | Y6: 27.7 | Z6: 404597152 | AA6: 56.6 | AB6: ='S3 C10'!$Z6/'S3 C10'!$Z$36*100 -> 2.4863224 | AC6: =$AB6*G6 -> 2.4863224 | AD6: =$AB6*H6 -> 2.4863224 | AE6: =$AB6*I6 -> 0 | AF6: =$AB6*J6 -> 4.9726448 | AG6: =$AB6*K6 -> 0 | AH6: =AVERAGE('S3 C10'!$P6,'S3 C10'!$Y6) -> 28.25 | AI6: =AVERAGEA(S6,AB6) -> 2.4195883 | AJ6: =STDEV('S3 C10'!$S6,'S3 C10'!$AB6) -> 0.094376212 | AK6: ='S3 C10'!$AJ6/'S3 C10'!$AI6*100 -> 3.900507
A7: 1098.41 | B7: =IF(A7, A7-L7,"") -> -0.01063 | D7: =IF(C7, C7-M7,"") | F7: =IF(E7, E7-N7,"") | G7: 2 | H7: 3 | I7: 1 | L7: 1098.4206 | M7: 548.70668 | N7: 365.4687 | O7: H2N3F1 | P7: 31.4 | Q7: 19652410 | R7: 6.3 | S7: ='S3 C10'!$Q7/'S3 C10'!$Q$36*100 -> 0.48145435 | T7: =$S7*G7 -> 0.9629087 | U7: =$S7*H7 -> 1.4443631 | V7: =$S7*I7 -> 0.48145435 | W7: =$S7*J7 -> 0 | X7: =$S7*K7 -> 0 | Y7: 31.3 | Z7: 134951392 | AA7: 30.7 | AB7: ='S3 C10'!$Z7/'S3 C10'!$Z$36*100 -> 0.82930062 | AC7: =$AB7*G7 -> 1.6586012 | AD7: =$AB7*H7 -> 2.4879019 | AE7: =$AB7*I7 -> 0.82930062 | AF7: =$AB7*J7 -> 0 | AG7: =$AB7*K7 -> 0 | AH7: =AVERAGE('S3 C10'!$P7,'S3 C10'!$Y7) -> 31.35 | AI7: =AVERAGEA(S7,AB7) -> 0.65537749 | AJ7: =STDEV('S3 C10'!$S7,'S3 C10'!$AB7) -> 0.24596446 | AK7: ='S3 C10'!$AJ7/'S3 C10'!$AI7*100 -> 37.530196
A8: 749.31 | B8: =IF(A8, A8-L8,"") -> 0.03 | D8: =IF(C8, C8-M8,"") | F8: =IF(E8, E8-N8,"") | G8: 2 | H8: 2 | L8: 749.28 | M8: 374.14 | N8: 249.09 | O8: H2N2 | P8: 32.1 | Q8: 313634208 | R8: 69.9 | S8: ='S3 C10'!$Q8/'S3 C10'!$Q$36*100 -> 7.6835642 | T8: =$S8*G8 -> 15.367128 | U8: =$S8*H8 -> 15.367128 | V8: =$S8*I8 -> 0 | W8: =$S8*J8 -> 0 | X8: =$S8*K8 -> 0 | Y8: 31.9 | Z8: 1327806464 | AA8: 235.4 | AB8: ='S3 C10'!$Z8/'S3 C10'!$Z$36*100 -> 8.15961 | AC8: =$AB8*G8 -> 16.31922 | AD8: =$AB8*H8 -> 16.31922 | AE8: =$AB8*I8 -> 0 | AF8: =$AB8*J8 -> 0 | AG8: =$AB8*K8 -> 0 | AH8: =AVERAGE('S3 C10'!$P8,'S3 C10'!$Y8) -> 32 | AI8: =AVERAGEA(S8,AB8) -> 7.9215871 | AJ8: =STDEV('S3 C10'!$S8,'S3 C10'!$AB8) -> 0.33661521 | AK8: ='S3 C10'!$AJ8/'S3 C10'!$AI8*100 -> 4.2493405
A9: 1397.43 | B9: =IF(A9, A9-L9,"") -> -0.02 | C9: 698.23 | D9: =IF(C9, C9-M9,"") -> 0.01 | F9: =IF(E9, E9-N9,"") | G9: 3 | H9: 4 | K9: 1 | L9: 1397.45 | M9: 698.22 | N9: 465.15 | O9: H3N4Su1 | P9: 44.9 | Q9: 85365792 | R9: 18.8 | S9: ='S3 C10'!$Q9/'S3 C10'!$Q$36*100 -> 2.0913329 | T9: =$S9*G9 -> 6.2739988 | U9: =$S9*H9 -> 8.3653317 | V9: =$S9*I9 -> 0 | W9: =$S9*J9 -> 0 | X9: =$S9*K9 -> 2.0913329 | Y9: 44.9 | Z9: 304032736 | AA9: 62 | AB9: ='S3 C10'!$Z9/'S3 C10'!$Z$36*100 -> 1.868336 | AC9: =$AB9*G9 -> 5.6050079 | AD9: =$AB9*H9 -> 7.4733438 | AE9: =$AB9*I9 -> 0 | AF9: =$AB9*J9 -> 0 | AG9: =$AB9*K9 -> 1.868336 | AH9: =AVERAGE('S3 C10'!$P9,'S3 C10'!$Y9) -> 44.9 | AI9: =AVERAGEA(S9,AB9) -> 1.9798344 | AJ9: =STDEV('S3 C10'!$S9,'S3 C10'!$AB9) -> 0.15768267 | AK9: ='S3 C10'!$AJ9/'S3 C10'!$AI9*100 -> 7.9644371
A10: 1260.44 | B10: =IF(A10, A10-L10,"") -> -0.03 | D10: =IF(C10, C10-M10,"") | F10: =IF(E10, E10-N10,"") | G10: 3 | H10: 3 | I10: 1 | L10: 1260.47 | M10: 629.73 | N10: 419.49 | O10: H3N3F1 | P10: 45.7 | Q10: 77047456 | R10: 11.1 | S10: ='S3 C10'!$Q10/'S3 C10'!$Q$36*100 -> 1.8875463 | T10: =$S10*G10 -> 5.6626388 | U10: =$S10*H10 -> 5.6626388 | V10: =$S10*I10 -> 1.8875463 | W10: =$S10*J10 -> 0 | X10: =$S10*K10 -> 0 | Y10: 45.8 | Z10: 294561440 | AA10: 49.8 | AB10: ='S3 C10'!$Z10/'S3 C10'!$Z$36*100 -> 1.8101331 | AC10: =$AB10*G10 -> 5.4303994 | AD10: =$AB10*H10 -> 5.4303994 | AE10: =$AB10*I10 -> 1.8101331 | AF10: =$AB10*J10 -> 0 | AG10: =$AB10*K10 -> 0 | AH10: =AVERAGE('S3 C10'!$P10,'S3 C10'!$Y10) -> 45.75 | AI10: =AVERAGEA(S10,AB10) -> 1.8488397 | AJ10: =STDEV('S3 C10'!$S10,'S3 C10'!$AB10) -> 0.054739347 | AK10: ='S3 C10'!$AJ10/'S3 C10'!$AI10*100 -> 2.9607406
A11: 1114.43 | B11: =IF(A11, A11-L11,"") -> 0.01 | D11: =IF(C11, C11-M11,"") | F11: =IF(E11, E11-N11,"") | G11: 3 | H11: 3 | L11: 1114.42 | M11: 556.7 | N11: 370.8 | O11: H3N3 | P11: 48.9 | Q11: 84531768 | R11: 13.9 | S11: ='S3 C10'!$Q11/'S3 C10'!$Q$36*100 -> 2.0709006 | T11: =$S11*G11 -> 6.2127018 | U11: =$S11*H11 -> 6.2127018 | V11: =$S11*I11 -> 0 | W11: =$S11*J11 -> 0 | X11: =$S11*K11 -> 0 | Y11: 49 | Z11: 179059776 | AA11: 40.7 | AB11: ='S3 C10'!$Z11/'S3 C10'!$Z$36*100 -> 1.1003546 | AC11: =$AB11*G11 -> 3.3010638 | AD11: =$AB11*H11 -> 3.3010638 | AE11: =$AB11*I11 -> 0 | AF11: =$AB11*J11 -> 0 | AG11: =$AB11*K11 -> 0 | AH11: =AVERAGE('S3 C10'!$P11,'S3 C10'!$Y11) -> 48.95 | AI11: =AVERAGEA(S11,AB11) -> 1.5856276 | AJ11: =STDEV('S3 C10'!$S11,'S3 C10'!$AB11) -> 0.68627966 | AK11: ='S3 C10'!$AJ11/'S3 C10'!$AI11*100 -> 43.281264
A12: 1551.48 | B12: =IF(A12, A12-L12,"") -> -0.09 | C12: 775.3 | D12: =IF(C12, C12-M12,"") -> 0.02 | F12: =IF(E12, E12-N12,"") | G12: 3 | H12: 3 | I12: 1 | J12: 1 | L12: 1551.57 | M12: 775.28 | N12: 516.52 | O12: H3N3F1S1 | P12: 51.4 | Q12: 46329408 | R12: 16.3 | S12: ='S3 C10'!$Q12/'S3 C10'!$Q$36*100 -> 1.1350005 | T12: =$S12*G12 -> 3.4050015 | U12: =$S12*H12 -> 3.4050015 | V12: =$S12*I12 -> 1.1350005 | W12: =$S12*J12 -> 1.1350005 | X12: =$S12*K12 -> 0 | Y12: 51.1 | Z12: 246547280 | AA12: 63.5 | AB12: ='S3 C10'!$Z12/'S3 C10'!$Z$36*100 -> 1.5150775 | AC12: =$AB12*G12 -> 4.5452324 | AD12: =$AB12*H12 -> 4.5452324 | AE12: =$AB12*I12 -> 1.5150775 | AF12: =$AB12*J12 -> 1.5150775 | AG12: =$AB12*K12 -> 0 | AH12: =AVERAGE('S3 C10'!$P12,'S3 C10'!$Y12) -> 51.25 | AI12: =AVERAGEA(S12,AB12) -> 1.325039 | AJ12: =STDEV('S3 C10'!$S12,'S3 C10'!$AB12) -> 0.268755 | AK12: ='S3 C10'!$AJ12/'S3 C10'!$AI12*100 -> 20.2828
A13: 1040.4 | B13: =IF(A13, A13-L13,"") -> 0.02 | D13: =IF(C13, C13-M13,"") | F13: =IF(E13, E13-N13,"") | G13: 2 | H13: 2 | J13: 1 | L13: 1040.38 | M13: 519.69 | N13: 346.12 | O13: H2N2S1 | P13: 51.5 | Q13: 892848768 | R13: 134.1 | S13: ='S3 C10'!$Q13/'S3 C10'!$Q$36*100 -> 21.873446 | T13: =$S13*G13 -> 43.746892 | U13: =$S13*H13 -> 43.746892 | V13: =$S13*I13 -> 0 | W13: =$S13*J13 -> 21.873446 | X13: =$S13*K13 -> 0 | Y13: 51.1 | Z13: 4937603584 | AA13: 995.8 | AB13: ='S3 C10'!$Z13/'S3 C10'!$Z$36*100 -> 30.342464 | AC13: =$AB13*G13 -> 60.684928 | AD13: =$AB13*H13 -> 60.684928 | AE13: =$AB13*I13 -> 0 | AF13: =$AB13*J13 -> 30.342464 | AG13: =$AB13*K13 -> 0 | AH13: =AVERAGE('S3 C10'!$P13,'S3 C10'!$Y13) -> 51.3 | AI13: =AVERAGEA(S13,AB13) -> 26.107955 | AJ13: =STDEV('S3 C10'!$S13,'S3 C10'!$AB13) -> 5.9885001 | AK13: ='S3 C10'!$AJ13/'S3 C10'!$AI13*100 -> 22.937454
A14: 1040.38 | B14: =IF(A14, A14-L14,"") -> 0 | D14: =IF(C14, C14-M14,"") | F14: =IF(E14, E14-N14,"") | G14: 2 | H14: 2 | J14: 1 | L14: 1040.38 | M14: 519.69 | N14: 346.12 | O14: H2N2S1 | P14: 55.5 | Q14: 54721396 | R14: 7.4 | S14: ='S3 C10'!$Q14/'S3 C10'!$Q$36*100 -> 1.3405915 | T14: =$S14*G14 -> 2.681183 | U14: =$S14*H14 -> 2.681183 | V14: =$S14*I14 -> 0 | W14: =$S14*J14 -> 1.3405915 | X14: =$S14*K14 -> 0 | Y14: 55.1 | Z14: 689678912 | AA14: 47.1 | AB14: ='S3 C10'!$Z14/'S3 C10'!$Z$36*100 -> 4.2382012 | AC14: =$AB14*G14 -> 8.4764024 | AD14: =$AB14*H14 -> 8.4764024 | AE14: =$AB14*I14 -> 0 | AF14: =$AB14*J14 -> 4.2382012 | AG14: =$AB14*K14 -> 0 | AH14: =AVERAGE('S3 C10'!$P14,'S3 C10'!$Y14) -> 55.3 | AI14: =AVERAGEA(S14,AB14) -> 2.7893964 | AJ14: =STDEV('S3 C10'!$S14,'S3 C10'!$AB14) -> 2.0489195 | AK14: ='S3 C10'!$AJ14/'S3 C10'!$AI14*100 -> 73.453866
A15: 1114.41 | B15: =IF(A15, A15-L15,"") -> -0.01 | D15: =IF(C15, C15-M15,"") | F15: =IF(E15, E15-N15,"") | G15: 3 | H15: 3 | L15: 1114.42 | M15: 556.7 | N15: 370.8 | O15: H3N3 | P15: 56.2 | Q15: 113388344 | R15: 15.4 | S15: ='S3 C10'!$Q15/'S3 C10'!$Q$36*100 -> 2.7778431 | T15: =$S15*G15 -> 8.3335293 | U15: =$S15*H15 -> 8.3335293 | V15: =$S15*I15 -> 0 | W15: =$S15*J15 -> 0 | X15: =$S15*K15 -> 0 | Y15: 56.3 | Z15: 568815936 | AA15: 81.4 | AB15: ='S3 C10'!$Z15/'S3 C10'!$Z$36*100 -> 3.4954764 | AC15: =$AB15*G15 -> 10.486429 | AD15: =$AB15*H15 -> 10.486429 | AE15: =$AB15*I15 -> 0 | AF15: =$AB15*J15 -> 0 | AG15: =$AB15*K15 -> 0 | AH15: =AVERAGE('S3 C10'!$P15,'S3 C10'!$Y15) -> 56.25 | AI15: =AVERAGEA(S15,AB15) -> 3.1366598 | AJ15: =STDEV('S3 C10'!$S15,'S3 C10'!$AB15) -> 0.50744339 | AK15: ='S3 C10'!$AJ15/'S3 C10'!$AI15*100 -> 16.177827
A16: 1331.42 | B16: =IF(A16, A16-L16,"") -> -0.05 | C16: 665.26 | D16: =IF(C16, C16-M16,"") -> 0.03 | F16: =IF(E16, E16-N16,"") | G16: 2 | H16: 2 | J16: 2 | L16: 1331.47 | M16: 665.23 | N16: 443.15 | O16: H2N2S2 | P16: 58 | Q16: 111929432 | R16: 21.4 | S16: ='S3 C10'!$Q16/'S3 C10'!$Q$36*100 -> 2.742102 | T16: =$S16*G16 -> 5.4842039 | U16: =$S16*H16 -> 5.4842039 | V16: =$S16*I16 -> 0 | W16: =$S16*J16 -> 5.4842039 | X16: =$S16*K16 -> 0 | Y16: 57.4 | Z16: 338361952 | AA16: 51.8 | AB16: ='S3 C10'!$Z16/'S3 C10'!$Z$36*100 -> 2.0792952 | AC16: =$AB16*G16 -> 4.1585903 | AD16: =$AB16*H16 -> 4.1585903 | AE16: =$AB16*I16 -> 0 | AF16: =$AB16*J16 -> 4.1585903 | AG16: =$AB16*K16 -> 0 | AH16: =AVERAGE('S3 C10'!$P16,'S3 C10'!$Y16) -> 57.7 | AI16: =AVERAGEA(S16,AB16) -> 2.4106986 | AJ16: =STDEV('S3 C10'!$S16,'S3 C10'!$AB16) -> 0.46867518 | AK16: ='S3 C10'!$AJ16/'S3 C10'!$AI16*100 -> 19.441468
A17: 1405.44 | B17: =IF(A17, A17-L17,"") -> -0.07 | C17: 702.33 | D17: =IF(C17, C17-M17,"") -> 0.08 | F17: =IF(E17, E17-N17,"") | G17: 3 | H17: 3 | J17: 1 | L17: 1405.51 | M17: 702.25 | N17: 467.83 | O17: H3N3S1 | P17: 60 | Q17: 60463384 | R17: 12.8 | S17: ='S3 C10'!$Q17/'S3 C10'!$Q$36*100 -> 1.4812616 | T17: =$S17*G17 -> 4.4437847 | U17: =$S17*H17 -> 4.4437847 | V17: =$S17*I17 -> 0 | W17: =$S17*J17 -> 1.4812616 | X17: =$S17*K17 -> 0 | Y17: 59.8 | Z17: 165442624 | AA17: 39.8 | AB17: ='S3 C10'!$Z17/'S3 C10'!$Z$36*100 -> 1.0166747 | AC17: =$AB17*G17 -> 3.0500242 | AD17: =$AB17*H17 -> 3.0500242 | AE17: =$AB17*I17 -> 0 | AF17: =$AB17*J17 -> 1.0166747 | AG17: =$AB17*K17 -> 0 | AH17: =AVERAGE('S3 C10'!$P17,'S3 C10'!$Y17) -> 59.9 | AI17: =AVERAGEA(S17,AB17) -> 1.2489681 | AJ17: =STDEV('S3 C10'!$S17,'S3 C10'!$AB17) -> 0.32851249 | AK17: ='S3 C10'!$AJ17/'S3 C10'!$AI17*100 -> 26.302711
A18: 1405.45 | B18: =IF(A18, A18-L18,"") -> -0.06 | C18: 702.28 | D18: =IF(C18, C18-M18,"") -> 0.03 | F18: =IF(E18, E18-N18,"") | G18: 3 | H18: 3 | J18: 1 | L18: 1405.51 | M18: 702.25 | N18: 467.83 | O18: H3N3S1 | P18: 61 | Q18: 72854920 | R18: 15.4 | S18: ='S3 C10'!$Q18/'S3 C10'!$Q$36*100 -> 1.7848355 | T18: =$S18*G18 -> 5.3545064 | U18: =$S18*H18 -> 5.3545064 | V18: =$S18*I18 -> 0 | W18: =$S18*J18 -> 1.7848355 | X18: =$S18*K18 -> 0 | Y18: 61 | Z18: 107273352 | AA18: 17.5 | AB18: ='S3 C10'!$Z18/'S3 C10'!$Z$36*100 -> 0.65921408 | AC18: =$AB18*G18 -> 1.9776422 | AD18: =$AB18*H18 -> 1.9776422 | AE18: =$AB18*I18 -> 0 | AF18: =$AB18*J18 -> 0.65921408 | AG18: =$AB18*K18 -> 0 | AH18: =AVERAGE('S3 C10'!$P18,'S3 C10'!$Y18) -> 61 | AI18: =AVERAGEA(S18,AB18) -> 1.2220248 | AJ18: =STDEV('S3 C10'!$S18,'S3 C10'!$AB18) -> 0.79593451 | AK18: ='S3 C10'!$AJ18/'S3 C10'!$AI18*100 -> 65.132437
A19: 1405.49 | B19: =IF(A19, A19-L19,"") -> -0.02 | C19: 702.35 | D19: =IF(C19, C19-M19,"") -> 0.1 | F19: =IF(E19, E19-N19,"") | G19: 3 | H19: 3 | J19: 1 | L19: 1405.51 | M19: 702.25 | N19: 467.83 | O19: H3N3S1 | P19: 62.8 | Q19: 69353736 | R19: 10.1 | S19: ='S3 C10'!$Q19/'S3 C10'!$Q$36*100 -> 1.6990617 | T19: =$S19*G19 -> 5.0971852 | U19: =$S19*H19 -> 5.0971852 | V19: =$S19*I19 -> 0 | W19: =$S19*J19 -> 1.6990617 | X19: =$S19*K19 -> 0 | Y19: 62.7 | Z19: 259717360 | AA19: 40.9 | AB19: ='S3 C10'!$Z19/'S3 C10'!$Z$36*100 -> 1.59601 | AC19: =$AB19*G19 -> 4.7880299 | AD19: =$AB19*H19 -> 4.7880299 | AE19: =$AB19*I19 -> 0 | AF19: =$AB19*J19 -> 1.59601 | AG19: =$AB19*K19 -> 0 | AH19: =AVERAGE('S3 C10'!$P19,'S3 C10'!$Y19) -> 62.75 | AI19: =AVERAGEA(S19,AB19) -> 1.6475359 | AJ19: =STDEV('S3 C10'!$S19,'S3 C10'!$AB19) -> 0.0728686 | AK19: ='S3 C10'!$AJ19/'S3 C10'!$AI19*100 -> 4.422884
B20: =IF(A20, A20-L20,"") | C20: 957.87 | D20: =IF(C20, C20-M20,"") -> 0.02 | F20: =IF(E20, E20-N20,"") | G20: 4 | H20: 4 | I20: 1 | J20: 1 | L20: 1916.7 | M20: 957.85 | N20: 638.23 | O20: H4N4F1S1 | P20: 62.9 | Q20: 50890956 | R20: 10.5 | S20: ='S3 C10'!$Q20/'S3 C10'!$Q$36*100 -> 1.2467515 | T20: =$S20*G20 -> 4.9870061 | U20: =$S20*H20 -> 4.9870061 | V20: =$S20*I20 -> 1.2467515 | W20: =$S20*J20 -> 1.2467515 | X20: =$S20*K20 -> 0 | Y20: 62.9 | Z20: 148857264 | AA20: 23.8 | AB20: ='S3 C10'!$Z20/'S3 C10'!$Z$36*100 -> 0.91475471 | AC20: =$AB20*G20 -> 3.6590188 | AD20: =$AB20*H20 -> 3.6590188 | AE20: =$AB20*I20 -> 0.91475471 | AF20: =$AB20*J20 -> 0.91475471 | AG20: =$AB20*K20 -> 0 | AH20: =AVERAGE('S3 C10'!$P20,'S3 C10'!$Y20) -> 62.9 | AI20: =AVERAGEA(S20,AB20) -> 1.0807531 | AJ20: =STDEV('S3 C10'!$S20,'S3 C10'!$AB20) -> 0.2347572 | AK20: ='S3 C10'!$AJ20/'S3 C10'!$AI20*100 -> 21.721631
B21: =IF(A21, A21-L21,"") | C21: 957.86 | D21: =IF(C21, C21-M21,"") -> 0.01 | F21: =IF(E21, E21-N21,"") | G21: 4 | H21: 4 | I21: 1 | J21: 1 | L21: 1916.7 | M21: 957.85 | N21: 638.23 | O21: H4N4F1S1 | P21: 64.7 | Q21: 86015432 | R21: 11.5 | S21: ='S3 C10'!$Q21/'S3 C10'!$Q$36*100 -> 2.1072481 | T21: =$S21*G21 -> 8.4289925 | U21: =$S21*H21 -> 8.4289925 | V21: =$S21*I21 -> 2.1072481 | W21: =$S21*J21 -> 2.1072481 | X21: =$S21*K21 -> 0 | Y21: 64.8 | Z21: 190225728 | AA21: 35.6 | AB21: ='S3 C10'!$Z21/'S3 C10'!$Z$36*100 -> 1.1689714 | AC21: =$AB21*G21 -> 4.6758855 | AD21: =$AB21*H21 -> 4.6758855 | AE21: =$AB21*I21 -> 1.1689714 | AF21: =$AB21*J21 -> 1.1689714 | AG21: =$AB21*K21 -> 0 | AH21: =AVERAGE('S3 C10'!$P21,'S3 C10'!$Y21) -> 64.75 | AI21: =AVERAGEA(S21,AB21) -> 1.6381097 | AJ21: =STDEV('S3 C10'!$S21,'S3 C10'!$AB21) -> 0.66346185 | AK21: ='S3 C10'!$AJ21/'S3 C10'!$AI21*100 -> 40.501673
A22: 1405.45 | B22: =IF(A22, A22-L22,"") -> -0.06 | C22: 702.26 | D22: =IF(C22, C22-M22,"") -> 0.01 | F22: =IF(E22, E22-N22,"") | G22: 3 | H22: 3 | J22: 1 | L22: 1405.51 | M22: 702.25 | N22: 467.83 | O22: H3N3S1 | P22: 68.9 | Q22: 341680608 | R22: 61.4 | S22: ='S3 C10'!$Q22/'S3 C10'!$Q$36*100 -> 8.3706586 | T22: =$S22*G22 -> 25.111976 | U22: =$S22*H22 -> 25.111976 | V22: =$S22*I22 -> 0 | W22: =$S22*J22 -> 8.3706586 | X22: =$S22*K22 -> 0 | Y22: 68.5 | Z22: 1474112000 | AA22: 310.2 | AB22: ='S3 C10'!$Z22/'S3 C10'!$Z$36*100 -> 9.0586839 | AC22: =$AB22*G22 -> 27.176052 | AD22: =$AB22*H22 -> 27.176052 | AE22: =$AB22*I22 -> 0 | AF22: =$AB22*J22 -> 9.0586839 | AG22: =$AB22*K22 -> 0 | AH22: =AVERAGE('S3 C10'!$P22,'S3 C10'!$Y22) -> 68.7 | AI22: =AVERAGEA(S22,AB22) -> 8.7146713 | AJ22: =STDEV('S3 C10'!$S22,'S3 C10'!$AB22) -> 0.48650732 | AK22: ='S3 C10'!$AJ22/'S3 C10'!$AI22*100 -> 5.5826239
A23: 1696.5 | B23: =IF(A23, A23-L23,"") -> -0.11 | C23: 847.82 | D23: =IF(C23, C23-M23,"") -> 0.02 | F23: =IF(E23, E23-N23,"") | G23: 3 | H23: 3 | J23: 2 | L23: 1696.61 | M23: 847.8 | N23: 564.86 | O23: H3N3S2 | P23: 70 | Q23: 266310896 | R23: 48.6 | S23: ='S3 C10'!$Q23/'S3 C10'!$Q$36*100 -> 6.5242146 | T23: =$S23*G23 -> 19.572644 | U23: =$S23*H23 -> 19.572644 | V23: =$S23*I23 -> 0 | W23: =$S23*J23 -> 13.048429 | X23: =$S23*K23 -> 0 | Y23: 69.4 | Z23: 871281536 | AA23: 211.5 | AB23: ='S3 C10'!$Z23/'S3 C10'!$Z$36*100 -> 5.354182 | AC23: =$AB23*G23 -> 16.062546 | AD23: =$AB23*H23 -> 16.062546 | AE23: =$AB23*I23 -> 0 | AF23: =$AB23*J23 -> 10.708364 | AG23: =$AB23*K23 -> 0 | AH23: =AVERAGE('S3 C10'!$P23,'S3 C10'!$Y23) -> 69.7 | AI23: =AVERAGEA(S23,AB23) -> 5.9391983 | AJ23: =STDEV('S3 C10'!$S23,'S3 C10'!$AB23) -> 0.82733793 | AK23: ='S3 C10'!$AJ23/'S3 C10'!$AI23*100 -> 13.930128
A24: 1405.45 | B24: =IF(A24, A24-L24,"") -> -0.06 | C24: 702.31 | D24: =IF(C24, C24-M24,"") -> 0.06 | F24: =IF(E24, E24-N24,"") | G24: 3 | H24: 3 | J24: 1 | L24: 1405.51 | M24: 702.25 | N24: 467.83 | O24: H3N3S1 | P24: 70 | Q24: 36289016 | R24: 9.8 | S24: ='S3 C10'!$Q24/'S3 C10'!$Q$36*100 -> 0.88902606 | T24: =$S24*G24 -> 2.6670782 | U24: =$S24*H24 -> 2.6670782 | V24: =$S24*I24 -> 0 | W24: =$S24*J24 -> 0.88902606 | X24: =$S24*K24 -> 0 | Y24: 70 | Z24: 130788088 | AA24: 25.8 | AB24: ='S3 C10'!$Z24/'S3 C10'!$Z$36*100 -> 0.80371637 | AC24: =$AB24*G24 -> 2.4111491 | AD24: =$AB24*H24 -> 2.4111491 | AE24: =$AB24*I24 -> 0 | AF24: =$AB24*J24 -> 0.80371637 | AG24: =$AB24*K24 -> 0 | AH24: =AVERAGE('S3 C10'!$P24,'S3 C10'!$Y24) -> 70 | AI24: =AVERAGEA(S24,AB24) -> 0.84637122 | AJ24: =STDEV('S3 C10'!$S24,'S3 C10'!$AB24) -> 0.060323061 | AK24: ='S3 C10'!$AJ24/'S3 C10'!$AI24*100 -> 7.1272581
B25: =IF(A25, A25-L25,"") | C25: 1140.42 | D25: =IF(C25, C25-M25,"") -> 0.01 | F25: =IF(E25, E25-N25,"") | G25: 5 | H25: 5 | I25: 1 | J25: 1 | L25: 2281.83 | M25: 1140.41 | N25: 759.94 | O25: H5N5F1S1 | P25: 72.3 | Q25: 67821568 | R25: 14 | S25: ='S3 C10'!$Q25/'S3 C10'!$Q$36*100 -> 1.6615259 | T25: =$S25*G25 -> 8.3076297 | U25: =$S25*H25 -> 8.3076297 | V25: =$S25*I25 -> 1.6615259 | W25: =$S25*J25 -> 1.6615259 | X25: =$S25*K25 -> 0 | Y25: 72.3 | Z25: 257827232 | AA25: 58.8 | AB25: ='S3 C10'!$Z25/'S3 C10'!$Z$36*100 -> 1.5843948 | AC25: =$AB25*G25 -> 7.921974 | AD25: =$AB25*H25 -> 7.921974 | AE25: =$AB25*I25 -> 1.5843948 | AF25: =$AB25*J25 -> 1.5843948 | AG25: =$AB25*K25 -> 0 | AH25: =AVERAGE('S3 C10'!$P25,'S3 C10'!$Y25) -> 72.3 | AI25: =AVERAGEA(S25,AB25) -> 1.6229604 | AJ25: =STDEV('S3 C10'!$S25,'S3 C10'!$AB25) -> 0.054539951 | AK25: ='S3 C10'!$AJ25/'S3 C10'!$AI25*100 -> 3.3605226
B26: =IF(A26, A26-L26,"") | C26: 1175.92 | D26: =IF(C26, C26-M26,"") -> 0.01 | F26: =IF(E26, E26-N26,"") | G26: 4 | H26: 4 | J26: 3 | L26: 2352.83 | M26: 1175.91 | N26: 783.61 | O26: H4N4S3 | P26: 72.9 | Q26: 44430508 | R26: 9.6 | S26: ='S3 C10'!$Q26/'S3 C10'!$Q$36*100 -> 1.0884803 | T26: =$S26*G26 -> 4.3539213 | U26: =$S26*H26 -> 4.3539213 | V26: =$S26*I26 -> 0 | W26: =$S26*J26 -> 3.2654409 | X26: =$S26*K26 -> 0 | Y26: 72.1 | Z26: 96931040 | AA26: 13.4 | AB26: ='S3 C10'!$Z26/'S3 C10'!$Z$36*100 -> 0.59565871 | AC26: =$AB26*G26 -> 2.3826348 | AD26: =$AB26*H26 -> 2.3826348 | AE26: =$AB26*I26 -> 0 | AF26: =$AB26*J26 -> 1.7869761 | AG26: =$AB26*K26 -> 0 | AH26: =AVERAGE('S3 C10'!$P26,'S3 C10'!$Y26) -> 72.5 | AI26: =AVERAGEA(S26,AB26) -> 0.84206951 | AJ26: =STDEV('S3 C10'!$S26,'S3 C10'!$AB26) -> 0.3484775 | AK26: ='S3 C10'!$AJ26/'S3 C10'!$AI26*100 -> 41.38346
B27: =IF(A27, A27-L27,"") | C27: 1140.39 | D27: =IF(C27, C27-M27,"") -> -0.02 | F27: =IF(E27, E27-N27,"") | G27: 5 | H27: 5 | I27: 1 | J27: 1 | L27: 2281.83 | M27: 1140.41 | N27: 759.94 | O27: H5N5F1S1 | P27: 75.9 | Q27: 34515916 | R27: 10.5 | S27: ='S3 C10'!$Q27/'S3 C10'!$Q$36*100 -> 0.84558779 | T27: =$S27*G27 -> 4.2279389 | U27: =$S27*H27 -> 4.2279389 | V27: =$S27*I27 -> 0.84558779 | W27: =$S27*J27 -> 0.84558779 | X27: =$S27*K27 -> 0 | Y27: 75.7 | Z27: 113180312 | AA27: 20.7 | AB27: ='S3 C10'!$Z27/'S3 C10'!$Z$36*100 -> 0.69551341 | AC27: =$AB27*G27 -> 3.4775671 | AD27: =$AB27*H27 -> 3.4775671 | AE27: =$AB27*I27 -> 0.69551341 | AF27: =$AB27*J27 -> 0.69551341 | AG27: =$AB27*K27 -> 0 | AH27: =AVERAGE('S3 C10'!$P27,'S3 C10'!$Y27) -> 75.8 | AI27: =AVERAGEA(S27,AB27) -> 0.7705506 | AJ27: =STDEV('S3 C10'!$S27,'S3 C10'!$AB27) -> 0.10611861 | AK27: ='S3 C10'!$AJ27/'S3 C10'!$AI27*100 -> 13.77179
B28: =IF(A28, A28-L28,"") | C28: 1030.39 | D28: =IF(C28, C28-M28,"") -> 0.02 | F28: =IF(E28, E28-N28,"") | G28: 4 | H28: 4 | J28: 2 | L28: 2061.74 | M28: 1030.37 | N28: 686.57 | O28: H4N4S2 | P28: 80.3 | Q28: 110896520 | R28: 36.1 | S28: ='S3 C10'!$Q28/'S3 C10'!$Q$36*100 -> 2.7167972 | T28: =$S28*G28 -> 10.867189 | U28: =$S28*H28 -> 10.867189 | V28: =$S28*I28 -> 0 | W28: =$S28*J28 -> 5.4335944 | X28: =$S28*K28 -> 0 | Y28: 79.5 | Z28: 525433504 | AA28: 74 | AB28: ='S3 C10'!$Z28/'S3 C10'!$Z$36*100 -> 3.2288836 | AC28: =$AB28*G28 -> 12.915534 | AD28: =$AB28*H28 -> 12.915534 | AE28: =$AB28*I28 -> 0 | AF28: =$AB28*J28 -> 6.4577671 | AG28: =$AB28*K28 -> 0 | AH28: =AVERAGE('S3 C10'!$P28,'S3 C10'!$Y28) -> 79.9 | AI28: =AVERAGEA(S28,AB28) -> 2.9728404 | AJ28: =STDEV('S3 C10'!$S28,'S3 C10'!$AB28) -> 0.36209976 | AK28: ='S3 C10'!$AJ28/'S3 C10'!$AI28*100 -> 12.180262
B29: =IF(A29, A29-L29,"") | C29: 1030.41 | D29: =IF(C29, C29-M29,"") -> 0.04 | F29: =IF(E29, E29-N29,"") | G29: 4 | H29: 4 | J29: 2 | L29: 2061.74 | M29: 1030.37 | N29: 686.57 | O29: H4N4S2 | P29: 74.4 | Q29: 189470880 | R29: 22.8 | S29: ='S3 C10'!$Q29/'S3 C10'!$Q$36*100 -> 4.6417503 | T29: =$S29*G29 -> 18.567001 | U29: =$S29*H29 -> 18.567001 | V29: =$S29*I29 -> 0 | W29: =$S29*J29 -> 9.2835006 | X29: =$S29*K29 -> 0 | Y29: 74.9 | Z29: 70243896 | AA29: 15 | AB29: ='S3 C10'!$Z29/'S3 C10'!$Z$36*100 -> 0.4316614 | AC29: =$AB29*G29 -> 1.7266456 | AD29: =$AB29*H29 -> 1.7266456 | AE29: =$AB29*I29 -> 0 | AF29: =$AB29*J29 -> 0.8633228 | AG29: =$AB29*K29 -> 0 | AH29: =AVERAGE('S3 C10'!$P29,'S3 C10'!$Y29) -> 74.65 | AI29: =AVERAGEA(S29,AB29) -> 2.5367058 | AJ29: =STDEV('S3 C10'!$S29,'S3 C10'!$AB29) -> 2.9769824 | AK29: ='S3 C10'!$AJ29/'S3 C10'!$AI29*100 -> 117.35623
B30: =IF(A30, A30-L30,"") | C30: 1030.39 | D30: =IF(C30, C30-M30,"") -> 0.02 | F30: =IF(E30, E30-N30,"") | G30: 4 | H30: 4 | J30: 2 | L30: 2061.74 | M30: 1030.37 | N30: 686.57 | O30: H4N4S2 | P30: 75.9 | Q30: 125341368 | R30: 17 | S30: ='S3 C10'!$Q30/'S3 C10'!$Q$36*100 -> 3.0706741 | T30: =$S30*G30 -> 12.282697 | U30: =$S30*H30 -> 12.282697 | V30: =$S30*I30 -> 0 | W30: =$S30*J30 -> 6.1413483 | X30: =$S30*K30 -> 0 | Y30: 76.4 | Z30: 35792964 | AA30: 10.1 | AB30: ='S3 C10'!$Z30/'S3 C10'!$Z$36*100 -> 0.21995421 | AC30: =$AB30*G30 -> 0.87981686 | AD30: =$AB30*H30 -> 0.87981686 | AE30: =$AB30*I30 -> 0 | AF30: =$AB30*J30 -> 0.43990843 | AG30: =$AB30*K30 -> 0 | AH30: =AVERAGE('S3 C10'!$P30,'S3 C10'!$Y30) -> 76.15 | AI30: =AVERAGEA(S30,AB30) -> 1.6453142 | AJ30: =STDEV('S3 C10'!$S30,'S3 C10'!$AB30) -> 2.0157634 | AK30: ='S3 C10'!$AJ30/'S3 C10'!$AI30*100 -> 122.51541
B31: =IF(A31, A31-L31,"") | C31: 1030.41 | D31: =IF(C31, C31-M31,"") -> 0.04 | F31: =IF(E31, E31-N31,"") | G31: 4 | H31: 4 | J31: 2 | L31: 2061.74 | M31: 1030.37 | N31: 686.57 | O31: H4N4S2 | P31: 78.2 | Q31: 78607392 | R31: 14.8 | S31: ='S3 C10'!$Q31/'S3 C10'!$Q$36*100 -> 1.9257623 | T31: =$S31*G31 -> 7.7030493 | U31: =$S31*H31 -> 7.7030493 | V31: =$S31*I31 -> 0 | W31: =$S31*J31 -> 3.8515247 | X31: =$S31*K31 -> 0 | Y31: 79.8 | Z31: 44339708 | AA31: 18 | AB31: ='S3 C10'!$Z31/'S3 C10'!$Z$36*100 -> 0.2724755 | AC31: =$AB31*G31 -> 1.089902 | AD31: =$AB31*H31 -> 1.089902 | AE31: =$AB31*I31 -> 0 | AF31: =$AB31*J31 -> 0.54495099 | AG31: =$AB31*K31 -> 0 | AH31: =AVERAGE('S3 C10'!$P31,'S3 C10'!$Y31) -> 79 | AI31: =AVERAGEA(S31,AB31) -> 1.0991189 | AJ31: =STDEV('S3 C10'!$S31,'S3 C10'!$AB31) -> 1.1690503 | AK31: ='S3 C10'!$AJ31/'S3 C10'!$AI31*100 -> 106.3625
B32: =IF(A32, A32-L32,"") | C32: 884.86 | D32: =IF(C32, C32-M32,"") -> 0.04 | F32: =IF(E32, E32-N32,"") | G32: 4 | H32: 4 | J32: 1 | L32: 1770.64 | M32: 884.82 | N32: 589.54 | O32: H4N4S1 | P32: 80.7 | Q32: 144120416 | R32: 39.4 | S32: ='S3 C10'!$Q32/'S3 C10'!$Q$36*100 -> 3.5307324 | T32: =$S32*G32 -> 14.12293 | U32: =$S32*H32 -> 14.12293 | V32: =$S32*I32 -> 0 | W32: =$S32*J32 -> 3.5307324 | X32: =$S32*K32 -> 0 | Y32: 79.9 | Z32: 740419584 | AA32: 205.8 | AB32: ='S3 C10'!$Z32/'S3 C10'!$Z$36*100 -> 4.5500118 | AC32: =$AB32*G32 -> 18.200047 | AD32: =$AB32*H32 -> 18.200047 | AE32: =$AB32*I32 -> 0 | AF32: =$AB32*J32 -> 4.5500118 | AG32: =$AB32*K32 -> 0 | AH32: =AVERAGE('S3 C10'!$P32,'S3 C10'!$Y32) -> 80.3 | AI32: =AVERAGEA(S32,AB32) -> 4.0403721 | AJ32: =STDEV('S3 C10'!$S32,'S3 C10'!$AB32) -> 0.72073933 | AK32: ='S3 C10'!$AJ32/'S3 C10'!$AI32*100 -> 17.838439
B33: =IF(A33, A33-L33,"") | C33: 1212.89 | D33: =IF(C33, C33-M33,"") -> -0.04 | F33: =IF(E33, E33-N33,"") | G33: 5 | H33: 5 | J33: 2 | L33: 2426.87 | M33: 1212.93 | N33: 808.29 | O33: H5N5S2 | P33: 82.2 | Q33: 114851344 | R33: 20.2 | S33: ='S3 C10'!$Q33/'S3 C10'!$Q$36*100 -> 2.8136844 | T33: =$S33*G33 -> 14.068422 | U33: =$S33*H33 -> 14.068422 | V33: =$S33*I33 -> 0 | W33: =$S33*J33 -> 5.6273688 | X33: =$S33*K33 -> 0 | Y33: 80.9 | Z33: 421779776 | AA33: 71.9 | AB33: ='S3 C10'!$Z33/'S3 C10'!$Z$36*100 -> 2.5919127 | AC33: =$AB33*G33 -> 12.959564 | AD33: =$AB33*H33 -> 12.959564 | AE33: =$AB33*I33 -> 0 | AF33: =$AB33*J33 -> 5.1838255 | AG33: =$AB33*K33 -> 0 | AH33: =AVERAGE('S3 C10'!$P33,'S3 C10'!$Y33) -> 81.55 | AI33: =AVERAGEA(S33,AB33) -> 2.7027986 | AJ33: =STDEV('S3 C10'!$S33,'S3 C10'!$AB33) -> 0.15681625 | AK33: ='S3 C10'!$AJ33/'S3 C10'!$AI33*100 -> 5.8019953
B34: =IF(A34, A34-L34,"") | C34: 1067.39 | D34: =IF(C34, C34-M34,"") -> 0.01 | F34: =IF(E34, E34-N34,"") | G34: 5 | H34: 5 | J34: 1 | L34: 2135.78 | M34: 1067.38 | N34: 711.25 | O34: H5N5S1 | P34: 81.3 | Q34: 109571816 | R34: 20.8 | S34: ='S3 C10'!$Q34/'S3 C10'!$Q$36*100 -> 2.6843439 | T34: =$S34*G34 -> 13.42172 | U34: =$S34*H34 -> 13.42172 | V34: =$S34*I34 -> 0 | W34: =$S34*J34 -> 2.6843439 | X34: =$S34*K34 -> 0 | Y34: 80.4 | Z34: 387846656 | AA34: 77.5 | AB34: ='S3 C10'!$Z34/'S3 C10'!$Z$36*100 -> 2.3833876 | AC34: =$AB34*G34 -> 11.916938 | AD34: =$AB34*H34 -> 11.916938 | AE34: =$AB34*I34 -> 0 | AF34: =$AB34*J34 -> 2.3833876 | AG34: =$AB34*K34 -> 0 | AH34: =AVERAGE('S3 C10'!$P34,'S3 C10'!$Y34) -> 80.85 | AI34: =AVERAGEA(S34,AB34) -> 2.5338658 | AJ34: =STDEV('S3 C10'!$S34,'S3 C10'!$AB34) -> 0.21280827 | AK34: ='S3 C10'!$AJ34/'S3 C10'!$AI34*100 -> 8.3985613
B35: =IF(A35, A35-L35,"") | C35: 1067.39 | D35: =IF(C35, C35-M35,"") -> 0.01 | F35: =IF(E35, E35-N35,"") | G35: 5 | H35: 5 | J35: 1 | L35: 2135.78 | M35: 1067.38 | N35: 711.25 | O35: H5N5S1 | P35: 82.7 | Q35: 124940088 | R35: 33.3 | S35: ='S3 C10'!$Q35/'S3 C10'!$Q$36*100 -> 3.0608434 | T35: =$S35*G35 -> 15.304217 | U35: =$S35*H35 -> 15.304217 | V35: =$S35*I35 -> 0 | W35: =$S35*J35 -> 3.0608434 | X35: =$S35*K35 -> 0 | Y35: 81.5 | Z35: 607033856 | AA35: 145.7 | AB35: ='S3 C10'!$Z35/'S3 C10'!$Z$36*100 -> 3.7303324 | AC35: =$AB35*G35 -> 18.651662 | AD35: =$AB35*H35 -> 18.651662 | AE35: =$AB35*I35 -> 0 | AF35: =$AB35*J35 -> 3.7303324 | AG35: =$AB35*K35 -> 0 | AH35: =AVERAGE('S3 C10'!$P35,'S3 C10'!$Y35) -> 82.1 | AI35: =AVERAGEA(S35,AB35) -> 3.3955879 | AJ35: =STDEV('S3 C10'!$S35,'S3 C10'!$AB35) -> 0.47340025 | AK35: ='S3 C10'!$AJ35/'S3 C10'!$AI35*100 -> 13.941629
Q36: =SUM(Q5:Q35) -> 4081884390 | S36: =SUM(S5:S35) -> 100 | T36: =SUM(T5:T35)/100 -> 3.0079305 | U36: =SUM(U5:U35)/100 -> 3.0336584 | V36: =SUM(V5:V35)/100 -> 0.093651145 | W36: =SUM(W5:W35)/100 -> 1.1197216 | X36: =SUM(X5:X35)/100 -> 0.020913329 | Z36: =SUM(Z5:Z35) -> 16272915792 | AB36: =SUM(AB5:AB35) -> 100 | AC36: =SUM(AC5:AC35)/100 -> 2.8029387 | AD36: =SUM(AD5:AD35)/100 -> 2.829915 | AE36: =SUM(AE5:AE35)/100 -> 0.085181455 | AF36: =SUM(AF5:AF35)/100 -> 1.0059279 | AG36: =SUM(AG5:AG35)/100 -> 0.01868336 | AI36: =SUM(AI5:AI35) -> 100

Sheet S4 COLO205 
A1: Supplementary table 1: S4 - O-linked glycans present in COLO205 cell line, retention times (min), peak areas, relative abundances with standard deviation and relative standard deviation (CV), and calculations of monosaccharide average compositions for each technical (1-2) replicate.
P3: Technical replicate 1. | Y3: Technical replicate 2.
A4: [M-H]- | B4: Δ[M-H]- | C4: [M-2H]2- | D4: Δ[M-2H]2- | E4: [M-3H]3- | F4: Δ[M-3H]3- | G4: H | H4: N | I4: F | J4: S | K4: Su | L4: [M-H]-th. | M4: [M-2H]2- th. | N4: [M-3H]3- th. | O4: Composition | P4: RT(min) | Q4: Peak area | R4: S/N | S4: Rel.peak area(%) 1 | T4: H | U4: N | V4: F | W4: S | X4: Su | Y4: RT(min) | Z4: Peak area | AA4: S/N | AB4: Rel.peak area(%) 1 | AC4: H | AD4: N | AE4: F | AF4: S | AG4: Su | AH4: RT avg (min) | AI4: Rel.peak area avg. (%) | AJ4: SD | AK4: CV
A5: 675.27 | B5: =IF(A5, A5-L5,"") -> 0.02 | D5: =IF(C5, C5-M5,"") | F5: =IF(E5, E5-N5,"") | G5: 1 | H5: 1 | J5: 1 | L5: 675.25 | M5: 337.12 | N5: 224.41 | O5: H1N1S1 | P5: 21.2 | Q5: 1461365632 | R5: 62.8 | S5: ='S4 COLO205 '!$Q5/'S4 COLO205 '!$Q$12*100 -> 12.479934 | T5: =$S5*'S4 COLO205 '!$G5 -> 12.479934 | U5: =$S5*'S4 COLO205 '!$H5 -> 12.479934 | V5: =$S5*'S4 COLO205 '!$I5 -> 0 | W5: =$S5*'S4 COLO205 '!$J5 -> 12.479934 | X5: =$S5*'S4 COLO205 '!$K5 -> 0 | Y5: 22.1 | Z5: 2490236160 | AA5: 74 | AB5: ='S4 COLO205 '!$Z5/'S4 COLO205 '!$Z$12*100 -> 11.959009 | AC5: =$AB5*'S4 COLO205 '!$G5 -> 11.959009 | AD5: =$AB5*'S4 COLO205 '!$H5 -> 11.959009 | AE5: =$AB5*'S4 COLO205 '!$I5 -> 0 | AF5: =$AB5*'S4 COLO205 '!$J5 -> 11.959009 | AG5: =$AB5*'S4 COLO205 '!$K5 -> 0 | AH5: =AVERAGE('S4 COLO205 '!$P5,'S4 COLO205 '!$Y5) -> 21.65 | AI5: =AVERAGE('S4 COLO205 '!$S5,'S4 COLO205 '!$AB5) -> 12.219472 | AJ5: =STDEV('S4 COLO205 '!$S5,'S4 COLO205 '!$AB5) -> 0.36834998 | AK5: =AJ5/AI5 -> 0.03014451
A6: 966.38 | B6: =IF(A6, A6-L6,"") -> 0.04 | C6: 482.66 | D6: =IF(C6, C6-M6,"") -> -0.01 | F6: =IF(E6, E6-N6,"") | G6: 1 | H6: 1 | J6: 2 | L6: 966.34 | M6: 482.67 | N6: 321.44 | O6: H1N1S2 | P6: 25.4 | Q6: 4765867520 | R6: 125.7 | S6: ='S4 COLO205 '!$Q6/'S4 COLO205 '!$Q$12*100 -> 40.700091 | T6: =$S6*'S4 COLO205 '!$G6 -> 40.700091 | U6: =$S6*'S4 COLO205 '!$H6 -> 40.700091 | V6: =$S6*'S4 COLO205 '!$I6 -> 0 | W6: =$S6*'S4 COLO205 '!$J6 -> 81.400182 | X6: =$S6*'S4 COLO205 '!$K6 -> 0 | Y6: 26.4 | Z6: 11628931072 | AA6: 197.7 | AB6: ='S4 COLO205 '!$Z6/'S4 COLO205 '!$Z$12*100 -> 55.846306 | AC6: =$AB6*'S4 COLO205 '!$G6 -> 55.846306 | AD6: =$AB6*'S4 COLO205 '!$H6 -> 55.846306 | AE6: =$AB6*'S4 COLO205 '!$I6 -> 0 | AF6: =$AB6*'S4 COLO205 '!$J6 -> 111.69261 | AG6: =$AB6*'S4 COLO205 '!$K6 -> 0 | AH6: =AVERAGE('S4 COLO205 '!$P6,'S4 COLO205 '!$Y6) -> 25.9 | AI6: =AVERAGE('S4 COLO205 '!$S6,'S4 COLO205 '!$AB6) -> 48.273198 | AJ6: =STDEV('S4 COLO205 '!$S6,'S4 COLO205 '!$AB6) -> 10.709991 | AK6: =AJ6/AI6 -> 0.22186206
A7: 1040.37 | B7: =IF(A7, A7-L7,"") -> -0.01 | D7: =IF(C7, C7-M7,"") | F7: =IF(E7, E7-N7,"") | G7: 2 | H7: 2 | J7: 1 | L7: 1040.38 | M7: 519.69 | N7: 346.12 | O7: H2N2S1 | P7: 42.8 | Q7: 468693152 | R7: 26.7 | S7: ='S4 COLO205 '!$Q7/'S4 COLO205 '!$Q$12*100 -> 4.0025984 | T7: =$S7*'S4 COLO205 '!$G7 -> 8.0051969 | U7: =$S7*'S4 COLO205 '!$H7 -> 8.0051969 | V7: =$S7*'S4 COLO205 '!$I7 -> 0 | W7: =$S7*'S4 COLO205 '!$J7 -> 4.0025984 | X7: =$S7*'S4 COLO205 '!$K7 -> 0 | Y7: 43.8 | Z7: 616919104 | AA7: 24.5 | AB7: ='S4 COLO205 '!$Z7/'S4 COLO205 '!$Z$12*100 -> 2.9626672 | AC7: =$AB7*'S4 COLO205 '!$G7 -> 5.9253344 | AD7: =$AB7*'S4 COLO205 '!$H7 -> 5.9253344 | AE7: =$AB7*'S4 COLO205 '!$I7 -> 0 | AF7: =$AB7*'S4 COLO205 '!$J7 -> 2.9626672 | AG7: =$AB7*'S4 COLO205 '!$K7 -> 0 | AH7: =AVERAGE('S4 COLO205 '!$P7,'S4 COLO205 '!$Y7) -> 43.3 | AI7: =AVERAGE('S4 COLO205 '!$S7,'S4 COLO205 '!$AB7) -> 3.4826328 | AJ7: =STDEV('S4 COLO205 '!$S7,'S4 COLO205 '!$AB7) -> 0.73534242 | AK7: =AJ7/AI7 -> 0.21114555
A8: 1477.49 | B8: =IF(A8, A8-L8,"") -> -0.04 | C8: 738.28 | D8: =IF(C8, C8-M8,"") -> 0.02 | F8: =IF(E8, E8-N8,"") | G8: 2 | H8: 2 | I8: 1 | J8: 2 | L8: 1477.53 | M8: 738.26 | N8: 491.84 | O8: H2N2F1S2 | P8: 45.3 | Q8: 326302752 | R8: 18.5 | S8: ='S4 COLO205 '!$Q8/'S4 COLO205 '!$Q$12*100 -> 2.7865969 | T8: =$S8*'S4 COLO205 '!$G8 -> 5.5731938 | U8: =$S8*'S4 COLO205 '!$H8 -> 5.5731938 | V8: =$S8*'S4 COLO205 '!$I8 -> 2.7865969 | W8: =$S8*'S4 COLO205 '!$J8 -> 5.5731938 | X8: =$S8*'S4 COLO205 '!$K8 -> 0 | Y8: 46.3 | Z8: 480154336 | AA8: 26.2 | AB8: ='S4 COLO205 '!$Z8/'S4 COLO205 '!$Z$12*100 -> 2.3058737 | AC8: =$AB8*'S4 COLO205 '!$G8 -> 4.6117473 | AD8: =$AB8*'S4 COLO205 '!$H8 -> 4.6117473 | AE8: =$AB8*'S4 COLO205 '!$I8 -> 2.3058737 | AF8: =$AB8*'S4 COLO205 '!$J8 -> 4.6117473 | AG8: =$AB8*'S4 COLO205 '!$K8 -> 0 | AH8: =AVERAGE('S4 COLO205 '!$P8,'S4 COLO205 '!$Y8) -> 45.8 | AI8: =AVERAGE('S4 COLO205 '!$S8,'S4 COLO205 '!$AB8) -> 2.5462353 | AJ8: =STDEV('S4 COLO205 '!$S8,'S4 COLO205 '!$AB8) -> 0.33992267 | AK8: =AJ8/AI8 -> 0.1335001
A9: 1331.45 | B9: =IF(A9, A9-L9,"") -> -0.02 | C9: 665.27 | D9: =IF(C9, C9-M9,"") -> 0.04 | F9: =IF(E9, E9-N9,"") | G9: 2 | H9: 2 | J9: 2 | L9: 1331.47 | M9: 665.23 | N9: 443.15 | O9: H2N2S2 | P9: 54.8 | Q9: 3758904576 | R9: 168 | S9: ='S4 COLO205 '!$Q9/'S4 COLO205 '!$Q$12*100 -> 32.100716 | T9: =$S9*'S4 COLO205 '!$G9 -> 64.201431 | U9: =$S9*'S4 COLO205 '!$H9 -> 64.201431 | V9: =$S9*'S4 COLO205 '!$I9 -> 0 | W9: =$S9*'S4 COLO205 '!$J9 -> 64.201431 | X9: =$S9*'S4 COLO205 '!$K9 -> 0 | Y9: 56 | Z9: 4352674816 | AA9: 127 | AB9: ='S4 COLO205 '!$Z9/'S4 COLO205 '!$Z$12*100 -> 20.903109 | AC9: =$AB9*'S4 COLO205 '!$G9 -> 41.806217 | AD9: =$AB9*'S4 COLO205 '!$H9 -> 41.806217 | AE9: =$AB9*'S4 COLO205 '!$I9 -> 0 | AF9: =$AB9*'S4 COLO205 '!$J9 -> 41.806217 | AG9: =$AB9*'S4 COLO205 '!$K9 -> 0 | AH9: =AVERAGE('S4 COLO205 '!$P9,'S4 COLO205 '!$Y9) -> 55.4 | AI9: =AVERAGE('S4 COLO205 '!$S9,'S4 COLO205 '!$AB9) -> 26.501912 | AJ9: =STDEV('S4 COLO205 '!$S9,'S4 COLO205 '!$AB9) -> 7.9179039 | AK9: =AJ9/AI9 -> 0.29876727
B10: =IF(A10, A10-L10,"") | C10: 1175.91 | D10: =IF(C10, C10-M10,"") -> 0 | E10: 783.93 | F10: =IF(E10, E10-N10,"") -> 0.32 | G10: 4 | H10: 4 | J10: 3 | L10: 2352.83 | M10: 1175.91 | N10: 783.61 | O10: H4N4S3 | P10: 75.9 | Q10: 719985472 | R10: 32.4 | S10: ='S4 COLO205 '!$Q10/'S4 COLO205 '!$Q$12*100 -> 6.1486128 | T10: =$S10*'S4 COLO205 '!$G10 -> 24.594451 | U10: =$S10*'S4 COLO205 '!$H10 -> 24.594451 | V10: =$S10*'S4 COLO205 '!$I10 -> 0 | W10: =$S10*'S4 COLO205 '!$J10 -> 18.445838 | X10: =$S10*'S4 COLO205 '!$K10 -> 0 | Y10: 76.8 | Z10: 974631360 | AA10: 29 | AB10: ='S4 COLO205 '!$Z10/'S4 COLO205 '!$Z$12*100 -> 4.68053 | AC10: =$AB10*'S4 COLO205 '!$G10 -> 18.72212 | AD10: =$AB10*'S4 COLO205 '!$H10 -> 18.72212 | AE10: =$AB10*'S4 COLO205 '!$I10 -> 0 | AF10: =$AB10*'S4 COLO205 '!$J10 -> 14.04159 | AG10: =$AB10*'S4 COLO205 '!$K10 -> 0 | AH10: =AVERAGE('S4 COLO205 '!$P10,'S4 COLO205 '!$Y10) -> 76.35 | AI10: =AVERAGE('S4 COLO205 '!$S10,'S4 COLO205 '!$AB10) -> 5.4145714 | AJ10: =STDEV('S4 COLO205 '!$S10,'S4 COLO205 '!$AB10) -> 1.0380913 | AK10: =AJ10/AI10 -> 0.19172179
B11: =IF(A11, A11-L11,"") | C11: 1321.37 | D11: =IF(C11, C11-M11,"") -> -0.09 | F11: =IF(E11, E11-N11,"") | G11: 3 | H11: 3 | J11: 2 | L11: 2643.93 | M11: 1321.46 | N11: 880.64 | O11: H4N4S4 | P11: 76.9 | Q11: 208602944 | R11: 11.6 | S11: ='S4 COLO205 '!$Q11/'S4 COLO205 '!$Q$12*100 -> 1.7814509 | T11: =$S11*'S4 COLO205 '!$G11 -> 5.3443526 | U11: =$S11*'S4 COLO205 '!$H11 -> 5.3443526 | V11: =$S11*'S4 COLO205 '!$I11 -> 0 | W11: =$S11*'S4 COLO205 '!$J11 -> 3.5629017 | X11: =$S11*'S4 COLO205 '!$K11 -> 0 | Y11: 77.6 | Z11: 279551328 | AA11: 12.7 | AB11: ='S4 COLO205 '!$Z11/'S4 COLO205 '!$Z$12*100 -> 1.3425059 | AC11: =$AB11*'S4 COLO205 '!$G11 -> 4.0275178 | AD11: =$AB11*'S4 COLO205 '!$H11 -> 4.0275178 | AE11: =$AB11*'S4 COLO205 '!$I11 -> 0 | AF11: =$AB11*'S4 COLO205 '!$J11 -> 2.6850119 | AG11: =$AB11*'S4 COLO205 '!$K11 -> 0 | AH11: =AVERAGE('S4 COLO205 '!$P11,'S4 COLO205 '!$Y11) -> 77.25 | AI11: =AVERAGE('S4 COLO205 '!$S11,'S4 COLO205 '!$AB11) -> 1.5619784 | AJ11: =STDEV('S4 COLO205 '!$S11,'S4 COLO205 '!$AB11) -> 0.31038094 | AK11: =AJ11/AI11 -> 0.19871013
Q12: =SUM(Q5:Q11) -> 11709722048 | S12: =SUM(S5:S11) -> 100 | T12: =SUM(T5:T11)/100 -> 1.6089865 | U12: =SUM(U5:U11)/100 -> 1.6089865 | V12: =SUM(V5:V11)/100 -> 0.027865969 | W12: =SUM(W5:W11)/100 -> 1.8966608 | X12: =SUM(X5:X11)/100 -> 0 | Z12: =SUM(Z5:Z11) -> 20823098176 | AB12: =SUM(AB5:AB11) -> 100 | AC12: =SUM(AC5:AC11)/100 -> 1.4289825 | AD12: =SUM(AD5:AD11)/100 -> 1.4289825 | AE12: =SUM(AE5:AE11)/100 -> 0.023058737 | AF12: =SUM(AF5:AF11)/100 -> 1.8975885 | AG12: =SUM(AG5:AG11)/100 -> 0 | AI12: =SUM(AI5:AI11) -> 100

Sheet S5 HT29
A1: Supplementary table 1: S5 - O-linked glycans present in HT29 cell line, retention times (min), peak areas, relative abundances with standard deviation and relative standard deviation (CV), and calculations of monosaccharide average compositions for each biological (A,B,C) replicate.
P3: Biological replicate A | Y3: Biological replicate B | AH3: Biological replicate C
A4: [M-H]- | B4: Δ[M-H]- | C4: [M-2H]2- | D4: Δ[M-2H]2- | E4: [M-3H]3- | F4: Δ[M-3H]3- | G4: H | H4: N | I4: F | J4: S | K4: Su | L4: [M-H]-th. | M4: [M-2H]2- th. | N4: [M-3H]3- th. | O4: Composition | P4: RT(min) | Q4: Peak area | R4: S/N | S4: Rel.peak area(%) 1 | T4: H | U4: N | V4: F | W4: S | X4: Su | Y4: RT(min) | Z4: Peak area | AA4: S/N | AB4: Rel.peak area(%) 1 | AC4: H | AD4: N | AE4: F | AF4: S | AG4: Su | AH4: RT(min) | AI4: Peak area | AJ4: S/N | AK4: Rel.peak area(%) 1 | AL4: H | AM4: N | AN4: F | AO4: S | AP4: Su | AQ4: RT avg (min) | AR4: Rel.peak area avg. (%) | AS4: SD | AT4: CV
A5: 675.26 | B5: =IF(A5, A5-L5,"") -> 0.01 | D5: =IF(C5, C5-M5,"") | F5: =IF(E5, E5-N5,"") | G5: 1 | H5: 1 | J5: 1 | L5: 675.25 | M5: 337.12 | N5: 224.41 | O5: H1N1S1 | P5: 22.7 | Q5: 660368192 | R5: 66 | S5: ='S5 HT29'!$Q5/'S5 HT29'!$Q$22*100 -> 7.1433164 | T5: =$S5*G5 -> 7.1433164 | U5: =$S5*H5 -> 7.1433164 | V5: =$S5*I5 -> 0 | W5: =$S5*J5 -> 7.1433164 | X5: =$S5*K5 -> 0 | Y5: 22.9 | Z5: 386722656 | AA5: 40.3 | AB5: ='S5 HT29'!$Z5/'S5 HT29'!$Z$22*100 -> 6.1847157 | AC5: =$AB5*G5 -> 6.1847157 | AD5: =$AB5*H5 -> 6.1847157 | AE5: =$AB5*I5 -> 0 | AF5: =$AB5*J5 -> 6.1847157 | AG5: =$AB5*K5 -> 0 | AH5: 23.5 | AI5: 1103907840 | AJ5: 68.5 | AK5: ='S5 HT29'!$AI5/'S5 HT29'!$AI$22*100 -> 5.7372028 | AL5: =$AK5*G5 -> 5.7372028 | AM5: =$AK5*H5 -> 5.7372028 | AN5: =$AK5*I5 -> 0 | AO5: =$AK5*J5 -> 5.7372028 | AP5: =$AK5*K5 -> 0 | AQ5: =AVERAGE('S5 HT29'!$P5,'S5 HT29'!$Y5,'S5 HT29'!$AH5) -> 23.033333 | AR5: =AVERAGE('S5 HT29'!$S5,'S5 HT29'!$AB5,'S5 HT29'!$AK5) -> 6.3550783 | AS5: =STDEV('S5 HT29'!$S5,'S5 HT29'!$AB5,'S5 HT29'!$AK5) -> 0.71837064 | AT5: ='S5 HT29'!$AS5/'S5 HT29'!$AR5 -> 0.11303883
A6: 966.36 | B6: =IF(A6, A6-L6,"") -> 0.02 | C6: 482.68 | D6: =IF(C6, C6-M6,"") -> 0.01 | F6: =IF(E6, E6-N6,"") | G6: 1 | H6: 1 | J6: 2 | L6: 966.34 | M6: 482.67 | N6: 321.44 | O6: H1N1S2 | P6: 27.3 | Q6: 2221179136 | R6: 126.3 | S6: ='S5 HT29'!$Q6/'S5 HT29'!$Q$22*100 -> 24.026877 | T6: =$S6*G6 -> 24.026877 | U6: =$S6*H6 -> 24.026877 | V6: =$S6*I6 -> 0 | W6: =$S6*J6 -> 48.053754 | X6: =$S6*K6 -> 0 | Y6: 27.5 | Z6: 1320461056 | AA6: 74.5 | AB6: ='S5 HT29'!$Z6/'S5 HT29'!$Z$22*100 -> 21.117657 | AC6: =$AB6*G6 -> 21.117657 | AD6: =$AB6*H6 -> 21.117657 | AE6: =$AB6*I6 -> 0 | AF6: =$AB6*J6 -> 42.235313 | AG6: =$AB6*K6 -> 0 | AH6: 28.2 | AI6: 3675916288 | AJ6: 139.7 | AK6: ='S5 HT29'!$AI6/'S5 HT29'!$AI$22*100 -> 19.104382 | AL6: =$AK6*G6 -> 19.104382 | AM6: =$AK6*H6 -> 19.104382 | AN6: =$AK6*I6 -> 0 | AO6: =$AK6*J6 -> 38.208765 | AP6: =$AK6*K6 -> 0 | AQ6: =AVERAGE('S5 HT29'!$P6,'S5 HT29'!$Y6,'S5 HT29'!$AH6) -> 27.666667 | AR6: =AVERAGE('S5 HT29'!$S6,'S5 HT29'!$AB6,'S5 HT29'!$AK6) -> 21.416305 | AS6: =STDEV('S5 HT29'!$S6,'S5 HT29'!$AB6,'S5 HT29'!$AK6) -> 2.4747993 | AT6: ='S5 HT29'!$AS6/'S5 HT29'!$AR6 -> 0.11555678
A7: 1186.4 | B7: =IF(A7, A7-L7,"") -> -0.04 | D7: =IF(C7, C7-M7,"") | F7: =IF(E7, E7-N7,"") | G7: 2 | H7: 2 | I7: 1 | J7: 1 | L7: 1186.44 | M7: 592.71 | N7: 394.81 | O7: H2N2F1S1 | P7: 37.2 | Q7: 112357296 | R7: 10.6 | S7: ='S5 HT29'!$Q7/'S5 HT29'!$Q$22*100 -> 1.2153882 | T7: =$S7*G7 -> 2.4307764 | U7: =$S7*H7 -> 2.4307764 | V7: =$S7*I7 -> 1.2153882 | W7: =$S7*J7 -> 1.2153882 | X7: =$S7*K7 -> 0 | Y7: 37.5 | Z7: 61497748 | AA7: 6 | AB7: ='S5 HT29'!$Z7/'S5 HT29'!$Z$22*100 -> 0.98351126 | AC7: =$AB7*G7 -> 1.9670225 | AD7: =$AB7*H7 -> 1.9670225 | AE7: =$AB7*I7 -> 0.98351126 | AF7: =$AB7*J7 -> 0.98351126 | AG7: =$AB7*K7 -> 0 | AH7: 38.1 | AI7: 232508096 | AJ7: 14.6 | AK7: ='S5 HT29'!$AI7/'S5 HT29'!$AI$22*100 -> 1.2083854 | AL7: =$AK7*G7 -> 2.4167708 | AM7: =$AK7*H7 -> 2.4167708 | AN7: =$AK7*I7 -> 1.2083854 | AO7: =$AK7*J7 -> 1.2083854 | AP7: =$AK7*K7 -> 0 | AQ7: =AVERAGE('S5 HT29'!$P7,'S5 HT29'!$Y7,'S5 HT29'!$AH7) -> 37.6 | AR7: =AVERAGE('S5 HT29'!$S7,'S5 HT29'!$AB7,'S5 HT29'!$AK7) -> 1.1357616 | AS7: =STDEV('S5 HT29'!$S7,'S5 HT29'!$AB7,'S5 HT29'!$AK7) -> 0.13189916 | AT7: ='S5 HT29'!$AS7/'S5 HT29'!$AR7 -> 0.11613279
A8: 1040.34 | B8: =IF(A8, A8-L8,"") -> -0.04 | D8: =IF(C8, C8-M8,"") | F8: =IF(E8, E8-N8,"") | G8: 2 | H8: 2 | J8: 1 | L8: 1040.38 | M8: 519.69 | N8: 346.12 | O8: H2N2S1 | P8: 43.4 | Q8: 147368720 | R8: 15.5 | S8: ='S5 HT29'!$Q8/'S5 HT29'!$Q$22*100 -> 1.5941128 | T8: =$S8*G8 -> 3.1882256 | U8: =$S8*H8 -> 3.1882256 | V8: =$S8*I8 -> 0 | W8: =$S8*J8 -> 1.5941128 | X8: =$S8*K8 -> 0 | Y8: 43.9 | Z8: 78967120 | AA8: 8.7 | AB8: ='S5 HT29'!$Z8/'S5 HT29'!$Z$22*100 -> 1.2628926 | AC8: =$AB8*G8 -> 2.5257852 | AD8: =$AB8*H8 -> 2.5257852 | AE8: =$AB8*I8 -> 0 | AF8: =$AB8*J8 -> 1.2628926 | AG8: =$AB8*K8 -> 0 | AH8: 44.4 | AI8: 353555168 | AJ8: 17.9 | AK8: ='S5 HT29'!$AI8/'S5 HT29'!$AI$22*100 -> 1.8374883 | AL8: =$AK8*G8 -> 3.6749766 | AM8: =$AK8*H8 -> 3.6749766 | AN8: =$AK8*I8 -> 0 | AO8: =$AK8*J8 -> 1.8374883 | AP8: =$AK8*K8 -> 0 | AQ8: =AVERAGE('S5 HT29'!$P8,'S5 HT29'!$Y8,'S5 HT29'!$AH8) -> 43.9 | AR8: =AVERAGE('S5 HT29'!$S8,'S5 HT29'!$AB8,'S5 HT29'!$AK8) -> 1.5648312 | AS8: =STDEV('S5 HT29'!$S8,'S5 HT29'!$AB8,'S5 HT29'!$AK8) -> 0.28841481 | AT8: ='S5 HT29'!$AS8/'S5 HT29'!$AR8 -> 0.18431049
A9: 1477.48 | B9: =IF(A9, A9-L9,"") -> -0.05 | C9: 738.29 | D9: =IF(C9, C9-M9,"") -> 0.03 | F9: =IF(E9, E9-N9,"") | G9: 2 | H9: 2 | I9: 1 | J9: 2 | L9: 1477.53 | M9: 738.26 | N9: 491.84 | O9: H2N2F1S2 | P9: 46.3 | Q9: 314811872 | R9: 41.8 | S9: ='S5 HT29'!$Q9/'S5 HT29'!$Q$22*100 -> 3.4053742 | T9: =$S9*G9 -> 6.8107484 | U9: =$S9*H9 -> 6.8107484 | V9: =$S9*I9 -> 3.4053742 | W9: =$S9*J9 -> 6.8107484 | X9: =$S9*K9 -> 0 | Y9: 46.8 | Z9: 199165968 | AA9: 26.5 | AB9: ='S5 HT29'!$Z9/'S5 HT29'!$Z$22*100 -> 3.1851894 | AC9: =$AB9*G9 -> 6.3703787 | AD9: =$AB9*H9 -> 6.3703787 | AE9: =$AB9*I9 -> 3.1851894 | AF9: =$AB9*J9 -> 6.3703787 | AG9: =$AB9*K9 -> 0 | AH9: 47.3 | AI9: 591918272 | AJ9: 45.4 | AK9: ='S5 HT29'!$AI9/'S5 HT29'!$AI$22*100 -> 3.0763032 | AL9: =$AK9*G9 -> 6.1526064 | AM9: =$AK9*H9 -> 6.1526064 | AN9: =$AK9*I9 -> 3.0763032 | AO9: =$AK9*J9 -> 6.1526064 | AP9: =$AK9*K9 -> 0 | AQ9: =AVERAGE('S5 HT29'!$P9,'S5 HT29'!$Y9,'S5 HT29'!$AH9) -> 46.8 | AR9: =AVERAGE('S5 HT29'!$S9,'S5 HT29'!$AB9,'S5 HT29'!$AK9) -> 3.2222889 | AS9: =STDEV('S5 HT29'!$S9,'S5 HT29'!$AB9,'S5 HT29'!$AK9) -> 0.16764312 | AT9: ='S5 HT29'!$AS9/'S5 HT29'!$AR9 -> 0.052026099
G10: 2 | H10: 1 | I10: 2 | J10: 1 | K10: 2 | L10: 1289.33 | M10: 644.16 | N10: 429.1 | O10: H2N1F2S1Su2 | P10: 50.5 | Q10: 63870932 | R10: 6.4 | S10: ='S5 HT29'!$Q10/'S5 HT29'!$Q$22*100 -> 0.69090286 | T10: =$S10*G10 -> 1.3818057 | U10: =$S10*H10 -> 0.69090286 | V10: =$S10*I10 -> 1.3818057 | W10: =$S10*J10 -> 0.69090286 | X10: =$S10*K10 -> 1.3818057 | Y10: 51 | AA10: 3 | AB10: ='S5 HT29'!$Z10/'S5 HT29'!$Z$22*100 -> 0 | AC10: =$AB10*G10 -> 0 | AD10: =$AB10*H10 -> 0 | AE10: =$AB10*I10 -> 0 | AF10: =$AB10*J10 -> 0 | AG10: =$AB10*K10 -> 0 | AH10: 51.4 | AI10: 137885408 | AJ10: 9.9 | AK10: ='S5 HT29'!$AI10/'S5 HT29'!$AI$22*100 -> 0.71661467 | AL10: =$AK10*G10 -> 1.4332293 | AM10: =$AK10*H10 -> 0.71661467 | AN10: =$AK10*I10 -> 1.4332293 | AO10: =$AK10*J10 -> 0.71661467 | AP10: =$AK10*K10 -> 1.4332293 | AQ10: =AVERAGE('S5 HT29'!$P10,'S5 HT29'!$Y10,'S5 HT29'!$AH10) -> 50.966667 | AR10: =AVERAGE('S5 HT29'!$S10,'S5 HT29'!$AB10,'S5 HT29'!$AK10) -> 0.46917251 | AS10: =STDEV('S5 HT29'!$S10,'S5 HT29'!$AB10,'S5 HT29'!$AK10) -> 0.40651864 | AT10: ='S5 HT29'!$AS10/'S5 HT29'!$AR10 -> 0.86645879
A11: 1411.35 | B11: =IF(A11, A11-L11,"") -> -0.08 | C11: 705.15 | D11: =IF(C11, C11-M11,"") -> -0.06 | F11: =IF(E11, E11-N11,"") | G11: 2 | H11: 2 | J11: 2 | K11: 1 | L11: 1411.43 | M11: 705.21 | N11: 469.81 | O11: H2N2S2Su1 | P11: 51.3 | Q11: 76096176 | R11: 7.6 | S11: ='S5 HT29'!$Q11/'S5 HT29'!$Q$22*100 -> 0.82314543 | T11: =$S11*G11 -> 1.6462909 | U11: =$S11*H11 -> 1.6462909 | V11: =$S11*I11 -> 0 | W11: =$S11*J11 -> 1.6462909 | X11: =$S11*K11 -> 0.82314543 | Y11: 51.7 | Z11: 85470304 | AA11: 11 | AB11: ='S5 HT29'!$Z11/'S5 HT29'!$Z$22*100 -> 1.3668957 | AC11: =$AB11*G11 -> 2.7337914 | AD11: =$AB11*H11 -> 2.7337914 | AE11: =$AB11*I11 -> 0 | AF11: =$AB11*J11 -> 2.7337914 | AG11: =$AB11*K11 -> 1.3668957 | AH11: 52.2 | AJ11: 5.9 | AK11: ='S5 HT29'!$AI11/'S5 HT29'!$AI$22*100 -> 0 | AL11: =$AK11*G11 -> 0 | AM11: =$AK11*H11 -> 0 | AN11: =$AK11*I11 -> 0 | AO11: =$AK11*J11 -> 0 | AP11: =$AK11*K11 -> 0 | AQ11: =AVERAGE('S5 HT29'!$P11,'S5 HT29'!$Y11,'S5 HT29'!$AH11) -> 51.733333 | AR11: =AVERAGE('S5 HT29'!$S11,'S5 HT29'!$AB11,'S5 HT29'!$AK11) -> 0.73001371 | AS11: =STDEV('S5 HT29'!$S11,'S5 HT29'!$AB11,'S5 HT29'!$AK11) -> 0.68819045 | AT11: ='S5 HT29'!$AS11/'S5 HT29'!$AR11 -> 0.94270894
A12: 1331.45 | B12: =IF(A12, A12-L12,"") -> -0.02 | C12: 665.27 | D12: =IF(C12, C12-M12,"") -> 0.04 | F12: =IF(E12, E12-N12,"") | G12: 2 | H12: 2 | J12: 2 | L12: 1331.47 | M12: 665.23 | N12: 443.15 | O12: H2N2S2 | P12: 56.3 | Q12: 4110843136 | R12: 335.9 | S12: ='S5 HT29'!$Q12/'S5 HT29'!$Q$22*100 -> 44.467698 | T12: =$S12*G12 -> 88.935395 | U12: =$S12*H12 -> 88.935395 | V12: =$S12*I12 -> 0 | W12: =$S12*J12 -> 88.935395 | X12: =$S12*K12 -> 0 | Y12: 56.6 | Z12: 3074579456 | AA12: 270.1 | AB12: ='S5 HT29'!$Z12/'S5 HT29'!$Z$22*100 -> 49.170638 | AC12: =$AB12*G12 -> 98.341277 | AD12: =$AB12*H12 -> 98.341277 | AE12: =$AB12*I12 -> 0 | AF12: =$AB12*J12 -> 98.341277 | AG12: =$AB12*K12 -> 0 | AH12: 57 | AI12: 9078560768 | AJ12: 422.9 | AK12: ='S5 HT29'!$AI12/'S5 HT29'!$AI$22*100 -> 47.182874 | AL12: =$AK12*G12 -> 94.365748 | AM12: =$AK12*H12 -> 94.365748 | AN12: =$AK12*I12 -> 0 | AO12: =$AK12*J12 -> 94.365748 | AP12: =$AK12*K12 -> 0 | AQ12: =AVERAGE('S5 HT29'!$P12,'S5 HT29'!$Y12,'S5 HT29'!$AH12) -> 56.633333 | AR12: =AVERAGE('S5 HT29'!$S12,'S5 HT29'!$AB12,'S5 HT29'!$AK12) -> 46.940403 | AS12: =STDEV('S5 HT29'!$S12,'S5 HT29'!$AB12,'S5 HT29'!$AK12) -> 2.3608276 | AT12: ='S5 HT29'!$AS12/'S5 HT29'!$AR12 -> 0.050294148
A13: 1696.57 | B13: =IF(A13, A13-L13,"") -> -0.04 | C13: 847.82 | D13: =IF(C13, C13-M13,"") -> 0.02 | F13: =IF(E13, E13-N13,"") | G13: 3 | H13: 3 | J13: 2 | L13: 1696.61 | M13: 847.8 | N13: 564.86 | O13: H3N3S2 | P13: 61.6 | Q13: 386424384 | R13: 45.7 | S13: ='S5 HT29'!$Q13/'S5 HT29'!$Q$22*100 -> 4.1800191 | T13: =$S13*G13 -> 12.540057 | U13: =$S13*H13 -> 12.540057 | V13: =$S13*I13 -> 0 | W13: =$S13*J13 -> 8.3600381 | X13: =$S13*K13 -> 0 | Y13: 62.1 | Z13: 185214208 | AA13: 18.2 | AB13: ='S5 HT29'!$Z13/'S5 HT29'!$Z$22*100 -> 2.9620639 | AC13: =$AB13*G13 -> 8.8861917 | AD13: =$AB13*H13 -> 8.8861917 | AE13: =$AB13*I13 -> 0 | AF13: =$AB13*J13 -> 5.9241278 | AG13: =$AB13*K13 -> 0 | AH13: 62.6 | AI13: 762324672 | AJ13: 58.7 | AK13: ='S5 HT29'!$AI13/'S5 HT29'!$AI$22*100 -> 3.9619352 | AL13: =$AK13*G13 -> 11.885805 | AM13: =$AK13*H13 -> 11.885805 | AN13: =$AK13*I13 -> 0 | AO13: =$AK13*J13 -> 7.9238703 | AP13: =$AK13*K13 -> 0 | AQ13: =AVERAGE('S5 HT29'!$P13,'S5 HT29'!$Y13,'S5 HT29'!$AH13) -> 62.1 | AR13: =AVERAGE('S5 HT29'!$S13,'S5 HT29'!$AB13,'S5 HT29'!$AK13) -> 3.7013394 | AS13: =STDEV('S5 HT29'!$S13,'S5 HT29'!$AB13,'S5 HT29'!$AK13) -> 0.64945078 | AT13: ='S5 HT29'!$AS13/'S5 HT29'!$AR13 -> 0.17546372
B14: =IF(A14, A14-L14,"") | C14: 1029.33 | D14: =IF(C14, C14-M14,"") -> 0.03 | F14: =IF(E14, E14-N14,"") | G14: 3 | H14: 4 | J14: 2 | K14: 2 | L14: 2059.6 | M14: 1029.3 | N14: 685.86 | O14: H3N4S2Su2 | P14: 61.7 | Q14: 112960432 | R14: 10.2 | S14: ='S5 HT29'!$Q14/'S5 HT29'!$Q$22*100 -> 1.2219124 | T14: =$S14*G14 -> 3.6657373 | U14: =$S14*H14 -> 4.8876497 | V14: =$S14*I14 -> 0 | W14: =$S14*J14 -> 2.4438249 | X14: =$S14*K14 -> 2.4438249 | Y14: 62 | AA14: 2.7 | AB14: ='S5 HT29'!$Z14/'S5 HT29'!$Z$22*100 -> 0 | AC14: =$AB14*G14 -> 0 | AD14: =$AB14*H14 -> 0 | AE14: =$AB14*I14 -> 0 | AF14: =$AB14*J14 -> 0 | AG14: =$AB14*K14 -> 0 | AH14: 62.4 | AI14: 243164160 | AJ14: 16.2 | AK14: ='S5 HT29'!$AI14/'S5 HT29'!$AI$22*100 -> 1.2637668 | AL14: =$AK14*G14 -> 3.7913005 | AM14: =$AK14*H14 -> 5.0550673 | AN14: =$AK14*I14 -> 0 | AO14: =$AK14*J14 -> 2.5275337 | AP14: =$AK14*K14 -> 2.5275337 | AQ14: =AVERAGE('S5 HT29'!$P14,'S5 HT29'!$Y14,'S5 HT29'!$AH14) -> 62.033333 | AR14: =AVERAGE('S5 HT29'!$S14,'S5 HT29'!$AB14,'S5 HT29'!$AK14) -> 0.82855975 | AS14: =STDEV('S5 HT29'!$S14,'S5 HT29'!$AB14,'S5 HT29'!$AK14) -> 0.7178589 | AT14: ='S5 HT29'!$AS14/'S5 HT29'!$AR14 -> 0.86639364
B15: =IF(A15, A15-L15,"") | C15: 993.37 | D15: =IF(C15, C15-M15,"") -> 0.02277 | F15: =IF(E15, E15-N15,"") | G15: 3 | H15: 3 | J15: 3 | L15: 1987.7017 | M15: 993.34723 | N15: 661.89573 | O15: H3N3S3 | P15: 63.1 | Q15: 144737584 | R15: 12.4 | S15: ='S5 HT29'!$Q15/'S5 HT29'!$Q$22*100 -> 1.5656514 | T15: =$S15*G15 -> 4.6969541 | U15: =$S15*H15 -> 4.6969541 | V15: =$S15*I15 -> 0 | W15: =$S15*J15 -> 4.6969541 | X15: =$S15*K15 -> 0 | Y15: 63.7 | Z15: 69466776 | AA15: 7 | AB15: ='S5 HT29'!$Z15/'S5 HT29'!$Z$22*100 -> 1.110957 | AC15: =$AB15*G15 -> 3.3328711 | AD15: =$AB15*H15 -> 3.3328711 | AE15: =$AB15*I15 -> 0 | AF15: =$AB15*J15 -> 3.3328711 | AG15: =$AB15*K15 -> 0 | AH15: 64 | AI15: 93021360 | AJ15: 8.4 | AK15: ='S5 HT29'!$AI15/'S5 HT29'!$AI$22*100 -> 0.48344834 | AL15: =$AK15*G15 -> 1.450345 | AM15: =$AK15*H15 -> 1.450345 | AN15: =$AK15*I15 -> 0 | AO15: =$AK15*J15 -> 1.450345 | AP15: =$AK15*K15 -> 0 | AQ15: =AVERAGE('S5 HT29'!$P15,'S5 HT29'!$Y15,'S5 HT29'!$AH15) -> 63.6 | AR15: =AVERAGE('S5 HT29'!$S15,'S5 HT29'!$AB15,'S5 HT29'!$AK15) -> 1.0533522 | AS15: =STDEV('S5 HT29'!$S15,'S5 HT29'!$AB15,'S5 HT29'!$AK15) -> 0.54339633 | AT15: ='S5 HT29'!$AS15/'S5 HT29'!$AR15 -> 0.51587333
B16: =IF(A16, A16-L16,"") | C16: 1029.27 | D16: =IF(C16, C16-M16,"") -> -0.03 | F16: =IF(E16, E16-N16,"") | G16: 3 | H16: 4 | J16: 2 | K16: 2 | L16: 2059.6 | M16: 1029.3 | N16: 685.86 | O16: H3N4S2Su2 | P16: 66.9 | Q16: 126099688 | R16: 8.4 | S16: ='S5 HT29'!$Q16/'S5 HT29'!$Q$22*100 -> 1.364042 | T16: =$S16*G16 -> 4.0921261 | U16: =$S16*H16 -> 5.4561681 | V16: =$S16*I16 -> 0 | W16: =$S16*J16 -> 2.728084 | X16: =$S16*K16 -> 2.728084 | Y16: 67.6 | AA16: 4 | AB16: ='S5 HT29'!$Z16/'S5 HT29'!$Z$22*100 -> 0 | AC16: =$AB16*G16 -> 0 | AD16: =$AB16*H16 -> 0 | AE16: =$AB16*I16 -> 0 | AF16: =$AB16*J16 -> 0 | AG16: =$AB16*K16 -> 0 | AH16: 68.2 | AI16: 226788896 | AJ16: 15.3 | AK16: ='S5 HT29'!$AI16/'S5 HT29'!$AI$22*100 -> 1.1786617 | AL16: =$AK16*G16 -> 3.5359851 | AM16: =$AK16*H16 -> 4.7146468 | AN16: =$AK16*I16 -> 0 | AO16: =$AK16*J16 -> 2.3573234 | AP16: =$AK16*K16 -> 2.3573234 | AQ16: =AVERAGE('S5 HT29'!$P16,'S5 HT29'!$Y16,'S5 HT29'!$AH16) -> 67.566667 | AR16: =AVERAGE('S5 HT29'!$S16,'S5 HT29'!$AB16,'S5 HT29'!$AK16) -> 0.84756791 | AS16: =STDEV('S5 HT29'!$S16,'S5 HT29'!$AB16,'S5 HT29'!$AK16) -> 0.73984457 | AT16: ='S5 HT29'!$AS16/'S5 HT29'!$AR16 -> 0.872903
B17: =IF(A17, A17-L17,"") | C17: 847.77 | D17: =IF(C17, C17-M17,"") -> -0.03 | F17: =IF(E17, E17-N17,"") | G17: 3 | H17: 3 | J17: 2 | L17: 1696.61 | M17: 847.8 | N17: 564.86 | O17: H3N3S2 | P17: 67.2 | Q17: 250088208 | R17: 27.7 | S17: ='S5 HT29'!$Q17/'S5 HT29'!$Q$22*100 -> 2.7052472 | T17: =$S17*G17 -> 8.1157415 | U17: =$S17*H17 -> 8.1157415 | V17: =$S17*I17 -> 0 | W17: =$S17*J17 -> 5.4104944 | X17: =$S17*K17 -> 0 | Y17: 67.6 | Z17: 116354016 | AA17: 12.5 | AB17: ='S5 HT29'!$Z17/'S5 HT29'!$Z$22*100 -> 1.8608077 | AC17: =$AB17*G17 -> 5.5824232 | AD17: =$AB17*H17 -> 5.5824232 | AE17: =$AB17*I17 -> 0 | AF17: =$AB17*J17 -> 3.7216155 | AG17: =$AB17*K17 -> 0 | AH17: 68.1 | AI17: 464080096 | AJ17: 34.2 | AK17: ='S5 HT29'!$AI17/'S5 HT29'!$AI$22*100 -> 2.4119057 | AL17: =$AK17*G17 -> 7.2357172 | AM17: =$AK17*H17 -> 7.2357172 | AN17: =$AK17*I17 -> 0 | AO17: =$AK17*J17 -> 4.8238115 | AP17: =$AK17*K17 -> 0 | AQ17: =AVERAGE('S5 HT29'!$P17,'S5 HT29'!$Y17,'S5 HT29'!$AH17) -> 67.633333 | AR17: =AVERAGE('S5 HT29'!$S17,'S5 HT29'!$AB17,'S5 HT29'!$AK17) -> 2.3259869 | AS17: =STDEV('S5 HT29'!$S17,'S5 HT29'!$AB17,'S5 HT29'!$AK17) -> 0.42872606 | AT17: ='S5 HT29'!$AS17/'S5 HT29'!$AR17 -> 0.18432007
