Workbook

Sheet Supp Table S1
A1: Supplementary Table S1 Information of the parental accessions of F2 populations
F2: Known fruit weight/fruiit shape locia | K2: GWAS_fw6.1 | M2: CSR-like1
A3: F2 population | C3: Accession | D3: Phylogenic group | E3: Fruit weight (g) | F3: FW2.2 | G3: FW3.2 | H3: FW11.3 | I3: LC | J3: FAS | K3: SL4.0CH06_44805731 | L3: SL4.0CH06_45074906 | M3: Haplotype | N3: Major fruit weight QTLb
A4: 18S32 (n=124) | B4: Parent 1 | C4: BGV013161 | D4: SLC_PER | E4: 10.562917 | F4: 3 | G4: 3 | H4: 3 | I4: 1 | J4: 3 | K4: C/C | L4: G/G | M4: I | N4: fw3.3
B5: Parent 2 | C5: BGV007981 | D5: SLC_PER | E5: 6.8433333 | F5: 3 | G5: 3 | H5: 3 | I5: 1 | J5: 3 | K5: C/C | L5: G/G | M5: I
A6: 18S33 (n=127) | B6: Parent 1 | C6: BGV006232 | D6: SLC_ECU | E6: 8.1691667 | F6: 3 | G6: 3 | H6: 3 | I6: 3 | J6: 3 | K6: CTGATAT/CTGATAT | L6: GA/GA | M6: II | N6: unknown
B7: Parent 2 | C7: BGV007931 | D7: SLC_MEX CA NSA | E7: 1.307025 | F7: 3 | G7: 3 | H7: 3 | I7: 3 | J7: 3 | K7: C/C | L7: G/G | M7: III
A8: 18S39 (n=86) | B8: Parent 1 | C8: BGV008225 | D8: SLC_PER | E8: 1.9925125 | F8: 3 | G8: 3 | H8: 3 | I8: 3 | J8: 3 | K8: C/C | L8: G/G | M8: IV | N8: unknown
B9: Parent 2 | C9: BGV006232 | D9: SLC_ECU | E9: 8.1691667 | F9: 3 | G9: 3 | H9: 3 | I9: 3 | J9: 3 | K9: CTGATAT/CTGATAT | L9: GA/GA | M9: II
A10: 18S40 (n=135) | B10: Parent 1 | C10: PI406890 | D10: SLC PER | E10: 4.8966667 | F10: 1 | G10: 1 | H10: 3 | I10: 3 | J10: 3 | K10: C/C | L10: GA/GA | M10: I | N10: fw3.3, fw8.1
B11: Parent 2 | C11: BGV008041 | D11: SLC PER | E11: 10.196472 | F11: 1 | G11: 1 | H11: 3 | I11: 3 | J11: 3 | K11: C/C | L11: G/G | M11: I
A12: 18S133 (n=81) | B12: Parent 1 | C12: BGV006225 | D12: SLC_ECU | E12: 7.9620833 | F12: 3 | G12: 3 | H12: 3 | I12: 3 | J12: 3 | K12: CTGATAT/CTGATAT | L12: GA/GA | M12: II | N12: unknown
B13: Parent 2 | C13: BGV007181 | D13: SP_NECU | E13: 1.8386458 | F13: 3 | G13: 3 | H13: 3 | I13: 3 | J13: 3 | K13: CTGATAT/CTGATAT | L13: G/G | M13: V
A17: a Genotypes of known fruit weight/shape loci in the parental accessions: 1=homozygous derived allele; 3=homozygous wild-type allele
A18: b The major known fruit weight QTLs for 18S32 and 18S40 have been mapped in Pereira et al. (2021)

Sheet Supp Table S2
A1: Supplementary Table S2 Primers used for genotyping, qCPR and transgenic constrcut confirmation
A3: genotyping of known fruit weight gene | B3: Primer sequence (5' -> 3') | C3: Polymorphism | D3: Restriction enzyme | E3: Wild type allele (bp) | F3: Derived allele (bp) | G3: reference
A4: fw2.2 (CNR) | B4: CATATAAAGTGTACTGACCGTCA | C4: SNP | D4: Tsp45I | E4: 168 | F4: 149 | G4: Blanca et al, 2015
A5: Solyc02g090730 | B5: CTGTCCTATTCAAGAGGTAAATGAG
A6: fw3.2 (SlKLUH) | B6: AAAGTCGAATAAATTAGATGAACTTGA | C6: SNP | D6: Hpy188I | E6: 326 | F6: 304 | G6: Chakrabarti et al, 2013
A7: Solyc03g114940 | B7: ATTGGGTCTCTCCTCGCTCT
A8: fw11.3 (CSR) | B8: GTCACCTTCTTCTCACCGTC | C8: Indel | D8: -- | E8: 328 | F8: 232 | G8: Mu et al, 2017
A9: Solyc11g071940 | B9: GCGTATCTAAGATTACCTGTC
B10: CCAGATGTCGTGTTGAAACTG
A11: fas (SlCLV3) | B11: GTCACCTTCTTCTCACCGTC | C11: Inversion | D11: -- | E11: 328 | F11: 232 | G11: Rodríguez et al, 2011
A12: Solyc11g071380 | B12: ATGGTGGGGTTTTCTGTTCA
B13: CAGAAATCAGAGTCCAATTCCA
A14: lc (SlWUSCHEL) | B14: GCCGAACACATCAACATTTC | C14: SNP | D14: HindIII | E14: 260 | F14: 235 | G14: Blanca et al, 2015
A15: Solyc02g083950 | B15: CCTTTTCCTAAAAGATTTGGCATGAAG
A16: ovate (OVATE) | B16: AATGCTTTCCGTTCAACGAC | C16: SNP | D16: DdeI | E16: 122 | F16: 109 | G16: Blanca et al, 2015
A17: Solyc02g085500 | B17: AAGCTGATACCGTGTAGTGTGG
A18: sov1 (OPF20) | B18: ATTGGACACTCTGACACCAC | C18: Indel | D18: -- | E18: 1223 | F18: ~900 | G18: --
A19: Solyc10g076180 | B19: TGTTTGGATATTATACTTGTTTCA
B20: AAGTAGGCAAACCTTATCAACT
A23: dCAPS primers for genotyping mapping populations of fw6.1/fw6.2 | B23: Primer sequence (5' -> 3') | C23: Polymorphism | D23: Restriction enzyme | E23: Wild type allele (bp) | F23: Derived allele (bp) | G23: Physical position
A24: 24EP416 | B24: AGAAGATAAATGTACTAATCATGTCCT | C24: SNP | D24: MnlI | E24: 113 | F24: 85 | G24: SL4.0ch06:43636481
B25: GTTTTAGAAATTATTCAAGACCATAACT
A28: KASP primers for genotyping mapping populations of fw6.1/fw6.2 | B28: Primer sequence (5' -> 3') | C28: Polymorphism | D28: Physical position | E28: KASP primers are ordered based on their physical positions
A29: 18EP962 | B29: GAAGGTGACCAAGTTCATGCTCTTGCAACATCTGAATTATTCTGTTTCA | C29: SNP | D29: SL4.0ch06:39930114
B30: GAAGGTCGGAGTCAACGGATTTGCAACATCTGAATTATTCTGTTTCG
B31: AGCAGAGGAGAAGCTTGATAGAAAGG
A32: 22EP280 | B32: GAAGGTGACCAAGTTCATGCTACAGGTGCCTTTGTTTCCATTTC | C32: SNP | D32: SL4.0ch06:40012446
B33: GAAGGTCGGAGTCAACGGATTACAGGTGCCTTTGTTTCCATTTT
B34: GCCCAGTGTCTGCCAAAATAAGT
A35: 22EP373 | B35: GAAGGTGACCAAGTTCATGCTATCTAGGTTAATGCAACCGTCCTTA | C35: SNP | D35: SL4.0ch06:40416852
B36: GAAGGTCGGAGTCAACGGATTCTAGGTTAATGCAACCGTCCTTG
B37: AAAGTATTCGCACGCTTCGAC
A38: 20EP87 | B38: GAAGGTGACCAAGTTCATGCTGTGCCTCGCTGGTTACTTCTGT | C38: SNP | D38: SL4.0ch06:40673956
B39: GAAGGTCGGAGTCAACGGATTGCCTCGCTGGTTACTTCTGC
B40: GAACCTACTGTTTCTGTGTTATGATGATATC
A41: 22EP37 | B41: GAAGGTGACCAAGTTCATGCTGAAATAGGAGTGAAGCGACCTTAAA | C41: SNP | D41: SL4.0ch06:41451757
B42: GAAGGTCGGAGTCAACGGATTGAAATAGGAGTGAAGCGACCTTAAG
B43: CCAGATTATTGCCTCCTCAAATCT
A44: 19EP704 | B44: GAAGGTGACCAAGTTCATGCTGGCTATAGGATTTGATAAATTGATGGG | C44: SNP | D44: SL4.0ch06:41782118
B45: GAAGGTCGGAGTCAACGGATTTGGCTATAGGATTTGATAAATTGATGGT
B46: AAGGAACACATACAACCCCTTATTCA
A47: 18EP1141 | B47: GAAGGTGACCAAGTTCATGCTGAACAACTTTAGAGTGATTGATGTGTCC | C47: SNP | D47: SL4.0ch06:42150072
B48: GAAGGTCGGAGTCAACGGATTTGAACAACTTTAGAGTGATTGATGTGTCT
B49: AGTTGAAACACCCTAAAGATTTGCTAC
A50: 21EP716 | B50: GAAGGTGACCAAGTTCATGCTAGCAATTCCCTGAGTGATAGATAAAAG | C50: SNP | D50: SL4.0ch06:42238376
B51: GAAGGTCGGAGTCAACGGATTAGCAATTCCCTGAGTGATAGATAAAAA
B52: ACTGTGACTGGTGGCATGATAAA
A53: 20EP567 | B53: GAAGGTGACCAAGTTCATGCTCTAGATCGGTTGAGCAATGGG | C53: SNP | D53: SL4.0ch06:42662777
B54: GAAGGTCGGAGTCAACGGATTCCTAGATCGGTTGAGCAATGGA
B55: ACAGAGATGAACTTAATGCAAGCTGA
A56: 20EP1212 | B56: GAAGGTGACCAAGTTCATGCTCGGACCTCTAAGTTCAGCATCAAA | C56: SNP | D56: SL4.0ch06:42850956
B57: GAAGGTCGGAGTCAACGGATTCGGACCTCTAAGTTCAGCATCAAG
B58: ATCCTGAAGCATGGGTCCCC
A59: 21EP44 | B59: GAAGGTGACCAAGTTCATGCTAACCATGAAAGCACTTCCAACTG | C59: SNP | D59: SL4.0ch06:42939268
B60: GAAGGTCGGAGTCAACGGATTAGAACCATGAAAGCACTTCCAACTA
B61: CCTCTTTCTTGTCCTTTTACAGAAAGAC
A62: 20EP1206 | B62: GAAGGTGACCAAGTTCATGCTTCATCAATCATCCTTTGCCCA | C62: SNP | D62: SL4.0ch06:43155627
B63: GAAGGTCGGAGTCAACGGATTCATCAATCATCCTTTGCCCC
B64: CAGGACAGATCTGCGAGAGA
A65: 21EP47 | B65: GAAGGTGACCAAGTTCATGCTCTCTGGGTAGGCTGTTTACGTCATAT | C65: SNP | D65: SL4.0ch06:43182113
B66: GAAGGTCGGAGTCAACGGATTCTCTGGGTAGGCTGTTTACGTCATAC
B67: GTTACATAGGCGTCATACCCTGAAAC
A68: 21EP56 | B68: GAAGGTGACCAAGTTCATGCTAAGCACAGCTCAATCTCAAAACTG | C68: SNP | D68: SL4.0ch06:43262334
B69: GAAGGTCGGAGTCAACGGATTCAAGCACAGCTCAATCTCAAAACTA
B70: AATTTGGTACATGTTAAAACCTATGCC
A71: 21EP334 | B71: GAAGGTGACCAAGTTCATGCTTGGGTGTCTATTTGTGACTTGGAGT | C71: SNP | D71: SL4.0ch06:43338219
B72: GAAGGTCGGAGTCAACGGATTGGGTGTCTATTTGTGACTTGGAGA
B73: AATGTCATGGATATCACTACTTGAGGA
A74: 19EP701 | B74: GAAGGTGACCAAGTTCATGCTGTAGGAAAGATTAAAACTTGAGTCGAGTT | C74: SNP | D74: SL4.0ch06:43345630
B75: GAAGGTCGGAGTCAACGGATTGTAGGAAAGATTAAAACTTGAGTCGAGTC
B76: CTCATTTGGATGTTGTTGTTTGC
A77: 21EP67 | B77: GAAGGTGACCAAGTTCATGCTCAACGCTCATCACCGACACTTA | C77: SNP | D77: SL4.0ch06:43386979
B78: GAAGGTCGGAGTCAACGGATTAACGCTCATCACCGACACTTG
B79: GTGCAAAGGTATACAATGCTGAGAGAT
A80: 22EP504 | B80: GAAGGTGACCAAGTTCATGCTCTTTCCCGTTCTATTACAGCAAAAA | C80: SNP | D80: SL4.0ch06:43517917
B81: GAAGGTCGGAGTCAACGGATTTACTTTCCCGTTCTATTACAGCAAAAT
B82: GGGCGGTTCTAGCTGATGTC
A83: 20EP1209 | B83: GAAGGTGACCAAGTTCATGCTTTGCCGTAGACCTACAATCAAGC | C83: SNP | D83: SL4.0ch06:43554038
B84: GAAGGTCGGAGTCAACGGATTTGTTGCCGTAGACCTACAATCAAGT
B85: TCGCATTGGTGGATCGTGTT
A86: 18EP327 | B86: GAAGGTGACCAAGTTCATGCTGACTAATTCCACAGATTAAGTGTGGTTAAT | C86: SNP | D86: SL4.0ch06:43668495
B87: GAAGGTCGGAGTCAACGGATTGACTAATTCCACAGATTAAGTGTGGTTAAC
B88: CTAGCCATACTTGTCACACCTGTTC
A89: 19EP161 | B89: GAAGGTGACCAAGTTCATGCTAGAACTTGAATGACAAGTCTATCAGCA | C89: SNP | D89: SL4.0ch06:43835452
B90: GAAGGTCGGAGTCAACGGATTAAGAACTTGAATGACAAGTCTATCAGCT
B91: TTGAGACAGGTTTACAAGATCTCCAT
A92: 19EP626 | B92: GAAGGTGACCAAGTTCATGCTTTGATAGTCGAATAAGTGCCGC | C92: SNP | D92: SL4.0ch06:44282555
B93: GAAGGTCGGAGTCAACGGATTATTGATAGTCGAATAAGTGCCGG
B94: TATGGGATGAAGCATCTCTGGT
A95: 19EP629 | B95: GAAGGTGACCAAGTTCATGCTCTTTCGGTAACTCTTCGTTTCACAT | C95: SNP | D95: SL4.0ch06:44319744
B96: GAAGGTCGGAGTCAACGGATTTTTCGGTAACTCTTCGTTTCACAC
B97: CGTTGCGATGACTCCTGATT
A98: 19EP632 | B98: GAAGGTGACCAAGTTCATGCTTCAGCATTGCGTTTAGCAAGA | C98: SNP | D98: SL4.0ch06:44895609
B99: GAAGGTCGGAGTCAACGGATTCAGCATTGCGTTTAGCAAGC
B100: ATGTGTTGCGGAGCCTCATA
A101: 19EP525 | B101: GAAGGTGACCAAGTTCATGCTATGTTTATGTTAAGGCACTCTCTTCGTA | C101: SNP | D101: SL4.0ch06:45121036
B102: GAAGGTCGGAGTCAACGGATTGTTTATGTTAAGGCACTCTCTTCGTG
B103: GTGGGGTGATCCTATGTTGCC
A104: 19EP635 | B104: GAAGGTGACCAAGTTCATGCTTCTCTCGAGGCTACTAAATGACAGAG | C104: SNP | D104: SL4.0ch06:45583653
B105: GAAGGTCGGAGTCAACGGATTATCTCTCGAGGCTACTAAATGACAGAT
...

Sheet Supp Table S3
A1: Supplementary Table S3 CRISPR/Cas9 edit of CSR-like1
A3: T0 | B3: Sequencea (5' -> 3') | C3: Edit
A4: BGV007931 (WT) | B4: TATCCCACTACCCCCACCACTACCCCCAACTAAGATGGGGATA
A5: 19B36-2 | B5: TATCCCACTACCCCCACCACT------------GATGGGGATA | C5: 12bp del
A6: 19B36-8 | B6: TATCCCACTACCCCCACCACTACCCCC------GATGGGGATA | C6: 6bp del
A8: FLA8059 (WT) | B8: TATCCCACTACCCCCACCACTACCCCCAACTGGGATGGGGATA
A9: 19B26-11 | B9: TATCCCACTACCCCCACCACTACCCCCAA------TGGGGATA | C9: 6bp del
A10: 19B26-10 | B10: TATCCCACTACCCCCACCACTACCCCCAA------TGGGGATA | C10: 6bp del
A11: 19B26-2 | B11: TATCCCACTACCCCCACCACTACCCCCAA------TGGGGATA | C11: 6bp del
A15: a Guide-RNA sequence is in bold. PAM site is highlighted in red.

Sheet Supp Table S4
A1: Supplementary Table S4 GWAS results of fruit weight in the Varitome accessions
A3: GWAS fruit weight QTL | B3: Marker ID | C3: Chromosome | D3: Position | E3: Variant | F3: Reference allele | G3: Alternative allele | H3: LOD (-log10(p-value)) | I3: R2 | J3: Known fruit weight gene
A4: GWAS_fw1.1 | B4: ISL4.0ch01_4180453 | C4: 1 | D4: 4180453 | E4: INDEL | F4: AG | G4: A | H4: 7.31 | I4: 0.067
A5: GWAS_fw1.2 | B5: SL4.0ch01_6073400 | C5: 1 | D5: 6073400 | E5: SNP | F5: C | G5: G | H5: 7.32 | I5: 0.025
A6: GWAS_fw1.3 | B6: SL4.0ch01_20679409 | C6: 1 | D6: 20679409 | E6: SNP | F6: A | G6: G | H6: 7.17 | I6: 0.023
A7: GWAS_fw1.4 | B7: ISL4.0ch01_25323685 | C7: 1 | D7: 25323685 | E7: INDEL | F7: A | G7: AG | H7: 7.15 | I7: 0.015
A8: GWAS_fw1.5 | B8: ISL4.0ch01_34130113 | C8: 1 | D8: 34130113 | E8: INDEL | F8: A | G8: AG | H8: 7.22 | I8: 0.01
B9: SL4.0ch01_35169219 | C9: 1 | D9: 35169219 | E9: SNP | F9: A | G9: G | H9: 7.68 | I9: 0.006
A10: GWAS_fw1.6 | B10: ISL4.0ch01_58920030 | C10: 1 | D10: 58920030 | E10: INDEL | F10: G | G10: GA | H10: 7.91 | I10: 0.019
A11: GWAS_fw2.1 | B11: SL4.0ch02_47625472 | C11: 2 | D11: 47625472 | E11: SNP | F11: C | G11: T | H11: 8.78 | I11: 0.083
A12: GWAS_fw2.2 | B12: ISL4.0ch02_49280039 | C12: 2 | D12: 49280039 | E12: INDEL | F12: C | G12: CGTAAACTTAATGCACAT | H12: 9.54 | I12: 0.099 | J12: fw2.2 (CNR) Solyc02g090730 (SL4.0ch02:50292691..50293481)
A13: GWAS_fw3.1 | B13: ISL4.0ch03_63971059 | C13: 3 | D13: 63971059 | E13: INDEL | F13: CAT | G13: C | H13: 7.5 | I13: 0.071 | J13: fw3.2 (KLUH) Solyc03g114940 (SL4.0ch03:59,217,389..59,219,730)
B14: SL4.0ch03_64020919 | C14: 3 | D14: 64020919 | E14: SNP | F14: A | G14: T | H14: 7.98 | I14: 0.066
A15: GWAS_fw6.1 | B15: ISL4.0ch06_44805731 | C15: 6 | D15: 44805731 | E15: INDEL | F15: C | G15: CTGATAT | H15: 7.66 | I15: 0.032
B16: ISL4.0ch06_45074906 | C16: 6 | D16: 45074906 | E16: INDEL | F16: GA | G16: G | H16: 7.17 | I16: 0.017
A17: GWAS_fw11.1 | B17: SL4.0ch11_53272144 | C17: 11 | D17: 53272144 | E17: SNP | F17: A | G17: G | H17: 7.79 | I17: 0.128 | J17: fw11.3 (CSR) Solyc11g071940 (SL4.0ch11:53,331,611..53,332,357) OR fas (CLV3) Solyc11g071810 (SL4.0ch11:53232733..53239091)
A18: GWAS_fw12.1 | B18: ISL4.0ch12_3319389 | C18: 12 | D18: 3319389 | E18: INDEL | F18: C | G18: CA | H18: 8.38 | I18: 0.059

Sheet Supp Table S5
A1: Supplementary Table S5 Marker association mapping results of fruit weight at GWAS_fw6.1
A3: F2 population | B3: ANOVA | F3: Genetic effect and PVE at the most siginifcant markera
A4: 18S32 | B4: marker | C4: 19EP161 | D4: 19EP632 | E4: 19EP635
B5: location | C5: SL4.0ch06:43835452 | D5: SL4.0ch06:44895609 | E5: SL4.0ch06:45583653
B6: F-value | C6: 1.1053531 | D6: 0.84855487 | E6: 0.74315406
B7: P-value | C7: 0.33484443 | D7: 0.43076606 | E7: 0.47790122
A8: 18S33 | B8: marker | C8: 18EP327 | D8: 19EP626 | E8: 19EP635 | G8: value | H8: t-statistic | I8: P-value | J8: |d/a|
B9: location | C9: SL4.0ch06:43668495 | D9: SL4.0ch06:44282555 | E9: SL4.0ch06:45583653 | F9: Additive (a) | G9: -0.4266 | H9: 3.612842 | I9: 0.00045647786 | J9: 0.23602738
B10: F-value | C10: 8.9496144 | D10: 6.5278624 | E10: 4.3014893 | F10: Dominance (d) | G10: -0.0203 | H10: 0.58663984 | I10: 0.55863681
B11: P-value | C11: 0.00024787984 | D11: 0.0020878165 | E11: 0.015920093 | F11: PVE(%) | G11: 10.524
A12: 18S39 | B12: marker | C12: 19EP701 | D12: 19EP629 | E12: 19EP635 | G12: value | H12: t-statistic | I12: P-value | J12: |d/a|
B13: location | C13: SL4.0ch06:43345630 | D13: SL4.0ch06:44319744 | E13: SL4.0ch06:45583653 | F13: Additive (a) | G13: -0.5161 | H13: 4.2185414 | I13: 6.5037596e-05 | J13: 0.44
B14: F-value | C14: 6.8847367 | D14: 10.567702 | E14: 9.6584939 | F14: Dominance (d) | G14: 0.22927 | H14: 1.3940632 | I14: 0.16720729
B15: P-value | C15: 0.0017220941 | D15: 8.5715177e-05 | E15: 0.00017678354 | F15: PVE(%) | G15: 21.107
A16: 18S40 | B16: marker | C16: 19EP629 | D16: 19EP525 | E16: 19P635 | G16: value | H16: t-statistic | I16: P-value | J16: |d/a|
B17: location | C17: SL4.0ch06:44319744 | D17: SL4.0ch06:45121036 | E17: SL4.0ch06:45583653 | F17: Additive (a) | G17: -0.2678 | H17: 2.7025972 | I17: 0.0078367862 | J17: 0.17852391
B18: F-value | C18: 3.7055811 | D18: 1.7191912 | E18: 2.8820155 | F18: Dominance (d) | G18: -0.0815 | H18: -0.36438877 | I18: 0.71618341
B19: P-value | C19: 0.027326781 | D19: 0.1832913 | E19: 0.059636722 | F19: PVE(%) | G19: 5.597
A20: 18S133 | B20: marker | C20: 18EP1141 | D20: 19EP629 | E20: 19P635 | G20: value | H20: t-statistic | I20: P-value | J20: |d/a|
B21: location | C21: SL4.0ch06:42150072 | D21: SL4.0ch06:44319744 | E21: SL4.0ch06:45583653 | F21: Additive (a) | G21: -0.3081 | H21: 2.7886142 | I21: 0.0067458772 | J21: 0.37349688
B22: F-value | C22: 3.9413098 | D22: 0.65590275 | E22: 1.3377963 | F22: Dominance (d) | G22: -0.0803 | H22: -0.79916587 | I22: 0.42678687
B23: P-value | C23: 0.023690231 | D23: 0.52188584 | E23: 0.26861224 | F23: PVE(%) | G23: 9.746
A26: a The additive effect, dominance effect and PVE (percentage of variance explained) are calculated in the four popualtions where GWAS_fw6.1 was confirmed

Sheet Supp Table S6
A1: Supplementary Table S6 Porgeny test results of selected recombinants for fw6.1 and fw6.2
E3: Markersa
E4: 18EP962 | F4: 22EP280 | G4: 22EP373 | H4: 20EP87 | I4: 22EP37 | J4: 19EP704 | K4: 21EP716 | L4: 20EP567 | M4: 20EP1212 | N4: 21EP44 | O4: 20EP1206 | P4: 21EP47 | Q4: 21EP56 | R4: 21EP334 | S4: 19EP701 | T4: 21EP67 | U4: 22EP504 | V4: 20EP1209 | W4: 24EP416 | X4: 18EP327
A5: Progeny family | B5: Number of plants | C5: Average fruit weightb (g) | D5: P-valuec | E5: SL4.0ch06:39930114 | F5: SL4.0ch06:40012446 | G5: SL4.0ch06:40416852 | H5: SL4.0ch06:40673956 | I5: SL4.0ch06:41451757 | J5: SL4.0ch06:41782118 | K5: SL4.0ch06:42238376 | L5: SL4.0ch06:42662777 | M5: SL4.0ch06:42850956 | N5: SL4.0ch06:42939268 | O5: SL4.0ch06:43155627 | P5: SL4.0ch06:43182113 | Q5: SL4.0ch06:43262334 | R5: SL4.0ch06:43338219 | S5: SL4.0ch06:43345630 | T5: SL4.0ch06:43386979 | U5: SL4.0ch06:43517917 | V5: SL4.0ch06:43554038 | W5: SL4.0ch06:43636481 | X5: SL4.0ch06:43668495
A6: 22S34 | B6: 10 | C6: 6.20±0.58 | D6: 0.12309627 | E6: 1 | F6: 1 | G6: 1 | H6: 1 | I6: 1 | J6: 1 | K6: 1 | L6: 1 | M6: 1 | N6: 1 | O6: 1 | P6: 1 | Q6: 1 | R6: 1 | S6: 1 | T6: 1 | U6: 1 | V6: 1 | W6: 1 | X6: 1
B7: 8 | C7: 6.58±0.35 | E7: 3 | F7: 1 | G7: 1 | H7: 1 | I7: 1 | J7: 1 | K7: 1 | L7: 1 | M7: 1 | N7: 1 | O7: 1 | P7: 1 | Q7: 1 | R7: 1 | S7: 1 | T7: 1 | U7: 1 | V7: 1 | W7: 1 | X7: 1
A8: 22S35 | B8: 10 | C8: 6.79±0.61 | D8: 0.0462451 | E8: 1 | F8: 1 | G8: 1 | H8: 1 | I8: 1 | J8: 1 | K8: 1 | L8: 1 | M8: 1 | N8: 1 | O8: 1 | P8: 1 | Q8: 1 | R8: 1 | S8: 1 | T8: 1 | U8: 1 | V8: 1 | W8: 1 | X8: 1
B9: 10 | C9: 6.27±0.49 | E9: 3 | F9: 3 | G9: 3 | H9: 3 | I9: 1 | J9: 1 | K9: 1 | L9: 1 | M9: 1 | N9: 1 | O9: 1 | P9: 1 | Q9: 1 | R9: 1 | S9: 1 | T9: 1 | U9: 1 | V9: 1 | W9: 1 | X9: 1
A10: 22S36 | B10: 9 | C10: 5.72±0.31 | D10: 0.03162612 | E10: 3 | F10: 3 | G10: 3 | H10: 1 | I10: 1 | J10: 1 | K10: 1 | L10: 1 | M10: 1 | N10: 1 | O10: 1 | P10: 1 | Q10: 1 | R10: 1 | S10: 1 | T10: 1 | U10: 1 | V10: 1 | W10: 1 | X10: 1
B11: 10 | C11: 5.04±0.81 | E11: 3 | F11: 3 | G11: 3 | H11: 3 | I11: 3 | J11: 3 | K11: 1 | L11: 1 | M11: 1 | N11: 1 | O11: 1 | P11: 1 | Q11: 1 | R11: 1 | S11: 1 | T11: 1 | U11: 1 | V11: 1 | W11: 1 | X11: 1
A12: 22S38 | B12: 10 | C12: 6.12±0.38 | D12: 0.53468651 | E12: 1 | F12: 1 | G12: 1 | H12: 1 | I12: 1 | J12: 1 | K12: 1 | L12: 1 | M12: 3 | N12: 3 | O12: 3 | P12: 3 | Q12: 3 | R12: 3 | S12: 3 | T12: 3 | U12: 3 | V12: 3 | W12: 3 | X12: 3
B13: 10 | C13: 6.24±0.51 | E13: 1 | F13: 1 | G13: 1 | H13: 1 | I13: 1 | J13: 3 | K13: 3 | L13: 3 | M13: 3 | N13: 3 | O13: 3 | P13: 3 | Q13: 3 | R13: 3 | S13: 3 | T13: 3 | U13: 3 | V13: 3 | W13: 3 | X13: 3
A14: 22S39 | B14: 8 | C14: 6.21±0.40 | D14: 0.40719738 | E14: 1 | F14: 1 | G14: 1 | H14: 1 | I14: 1 | J14: 1 | K14: 1 | L14: 1 | M14: 3 | N14: 3 | O14: 3 | P14: 3 | Q14: 3 | R14: 3 | S14: 3 | T14: 3 | U14: 3 | V14: 3 | W14: 3 | X14: 3
B15: 8 | C15: 6.04±0.44 | E15: 1 | F15: 1 | G15: 1 | H15: 1 | I15: 1 | J15: 3 | K15: 3 | L15: 3 | M15: 3 | N15: 3 | O15: 3 | P15: 3 | Q15: 3 | R15: 3 | S15: 3 | T15: 3 | U15: 3 | V15: 3 | W15: 3 | X15: 3
A16: 23S91 | B16: 8 | C16: 9.02±0.36 | D16: 0.55054848 | E16: 1 | F16: 1 | G16: 1 | H16: 1 | I16: 1 | J16: 1 | K16: 1 | L16: 1 | M16: 1 | N16: 1 | O16: 1 | P16: 1 | Q16: 1 | R16: 1 | S16: 1 | T16: 1 | U16: 1 | V16: 1 | W16: 1 | X16: 1
B17: 9 | C17: 8.84±0.75 | E17: 1 | F17: 1 | G17: 1 | H17: 1 | I17: 1 | J17: 1 | K17: 1 | L17: 1 | M17: 1 | N17: 1 | O17: 1 | P17: 3 | Q17: 3 | R17: 1 | S17: 1 | T17: 1 | U17: 1 | V17: 1 | W17: 1 | X17: 1
A18: 23S94 | B18: 9 | C18: 10.02±0.39 | D18: 0.000471937 | E18: 1 | F18: 1 | G18: 1 | H18: 1 | I18: 1 | J18: 1 | K18: 1 | L18: 1 | M18: 1 | N18: 1 | O18: 1 | P18: 1 | Q18: 1 | R18: 1 | S18: 1 | T18: 1 | U18: 1 | V18: 1 | W18: 1 | X18: 1
B19: 10 | C19: 9.14±49 | E19: 1 | F19: 1 | G19: 1 | H19: 1 | I19: 1 | J19: 1 | K19: 1 | L19: 1 | M19: 1 | N19: 1 | O19: 1 | P19: 1 | Q19: 1 | R19: 3 | S19: 3 | T19: 3 | U19: 3 | V19: 3 | W19: 1 | X19: 1
A20: 23S95 | B20: 9 | C20: 9.21±0.65 | D20: 0.039609259 | E20: 1 | F20: 1 | G20: 1 | H20: 1 | I20: 1 | J20: 1 | K20: 1 | L20: 1 | M20: 1 | N20: 1 | O20: 1 | P20: 3 | Q20: 3 | R20: 1 | S20: 1 | T20: 1 | U20: 1 | V20: 1 | W20: 1 | X20: 1
B21: 10 | C21: 8.49±0.73 | E21: 1 | F21: 1 | G21: 1 | H21: 1 | I21: 1 | J21: 1 | K21: 1 | L21: 1 | M21: 1 | N21: 1 | O21: 1 | P21: 3 | Q21: 3 | R21: 3 | S21: 3 | T21: 3 | U21: 3 | V21: 3 | W21: 3 | X21: 3
A22: 24S155 | B22: 10 | C22: 7.56±0.68 | D22: 0.0014509 | E22: 1 | F22: 1 | G22: 1 | H22: 1 | I22: 1 | J22: 1 | K22: 1 | L22: 1 | M22: 1 | N22: 1 | O22: 1 | P22: 1 | Q22: 1 | R22: 1 | S22: 1 | T22: 1 | U22: 1 | V22: 1 | W22: 1 | X22: 1
B23: 10 | C23: 6.59±0.50 | E23: 1 | F23: 1 | G23: 1 | H23: 1 | I23: 1 | J23: 1 | K23: 1 | L23: 1 | M23: 1 | N23: 1 | O23: 1 | P23: 1 | Q23: 1 | R23: 3 | S23: 3 | T23: 3 | U23: 3 | V23: 3 | W23: 1 | X23: 1
A26: Yellow shadwed region indicates the finemapped fw6.1 interval. Blue shaded region indicates the finemapped fw6.2 interval.
A28: The p-values are from the Student's t-test
A29: a Marker score: 1 homozygous for derived allele; 3 homozygous for wild type alleles. The segregating region within each progeny testing family is shown in red bold text.
A30: b Average fruit wieghts are given as mean±sd
A31: c The p-values are from the Student's t-test

Sheet Supp Table S7
A1: Supplementary Table S7 All genes in the fw6.2 interval based on ITAG4.0 annotation
A3: Gene | B3: Position | C3: Annotation
A4: Solyc06g073850 | B4: SL4.0ch06:43269222-43269665 | C4: Note=hypothetical protein (AHRD V3.3 *** AT2G27180.1)
A5: Solyc06g073860 | B5: SL4.0ch06:43272638-43276341 | C5: Note=RING/U-box superfamily protein (AHRD V3.3 *-* A0A2U1PQ21_ARTAN)
A6: Solyc06g073870 | B6: SL4.0ch06:43278555-43281402 | C6: Note=DNA-directed RNA polymerase II subunit 4 (AHRD V3.3 *** A0A1U8HA52_CAPAN)
A7: Solyc06g073880 | B7: SL4.0ch06:43282632-43284806 | C7: Note=E3 ubiquitin-protein ligase RHF2A (AHRD V3.3 *** A0A2G3CBJ5_CAPCH)
A8: Solyc06g073890 | B8: SL4.0ch06:43285288-43285659 | C8: Note=E3 ubiquitin-protein ligase RHF2A (AHRD V3.3 *-* A0A2G3CBJ5_CAPCH)
A9: Solyc06g073900 | B9: SL4.0ch06:43286888-43290739 | C9: Note=Succinate dehydrogenase subunit 6, mitochondrial (AHRD V3.3 *** A0A2G2XX03_CAPAN)
A10: Solyc06g073910 | B10: SL4.0ch06:43293045-43295782 | C10: Note=Strictosidine synthase (AHRD V3.3 *** A0A200Q9R0_9MAGN)
A11: Solyc06g073920 | B11: SL4.0ch06:43314344-43320472 | C11: Note=CRABS CLAW-like protein 2a
A12: Solyc06g073930 | B12: SL4.0ch06:43323751-43336989 | C12: Note=Ubiquitin carboxyl-terminal hydrolase 8 (AHRD V3.3 *** A0A1U8HC37_CAPAN)
A13: Solyc06g073940 | B13: SL4.0ch06:43343993-43345887 | C13: Note=protein FAF-like, chloroplastic (AHRD V3.3 *-* A0A2I4H6U5_9ROSI)
A14: Solyc06g073950 | B14: SL4.0ch06:43364702-43370378 | C14: Note=DnaJ domain-containing protein (AHRD V3.3 *** A0A1Q3CPH7_CEPFO)
... A54: Solyc06g074340 | B54: SL4.0ch06:43623371-43624745 | C54: Note=Alpha/beta-Hydrolases superfamily protein (AHRD V3.3 *** B3H6Y0_ARATH)

Sheet Supp Table S8
A1: Supplementary Table S8 Fruit weight and plant height at 55 days after sowing of CSR-like1-WT and CSR-like1-amiRNA plants
A3: Population | B3: 25S158 (BC1F1) | E3: 25S159 (BC1F1) | H3: 25S160 (BC1F1)
A4: Genotype | B4: WT (n=11) | C4: amiRNA (n=9) | D4: P-valueb | E4: WT (n=10) | F4: amiRNA (n=10) | G4: P-value | H4: WT (n=10) | I4: amiRNA (n=10) | J4: P-value
A5: Average red ripe fruit weight (g)a | B5: 12.61±0.93 | C5: 7.68±2.03 | D5: 1.6727725e-06 | E5: 12.85±0.69 | F5: 9.41±0.90 | G5: 3.38182e-07 | H5: 14.52±0.69 | I5: 9.61±0.90 | J5: 6.00959e-11
A6: Genotype | B6: WT (n=3) | C6: amiRNA (n=3) | D6: P-value | E6: WT (n=3) | F6: amiRNA (n=3) | G6: P-value | H6: WT (n=3) | I6: amiRNA (n=3) | J6: P-value
A7: Plant heighta (cm) | B7: 71.43±14.15 | C7: 73.53±8.17 | D7: 0.83455321 | E7: 78.10±11.16 | F7: 84.77±9.11 | G7: 0.46783025 | H7: 70.00±4.77 | I7: 68.83±10.15 | J7: 0.86580084
A9: a Measurements are given as mean±sd
A10: b The p-values are from the Student's t-test

Sheet Supp Table S9
A1: Supplementary Table S9 Genotyping information at CSR-like1 locus and the CSR-like1 haplotyes in the Varitome accessions
A3: a fw11.3 genotype: 1: derived; 2: heterozygous; 3: WT
A4: b Allele genotyping annotation 0: reference; 1: heterozygous; 2: alternate
F5: Position | G5: SL4.0ch06:43343566 | H5: SL4.0ch06:43343741 | I5: SL4.0ch06:43343797 | J5: SL4.0ch06:43343813 | K5: SL4.0ch06:43343878 | L5: SL4.0ch06:43343930 | M5: SL4.0ch06:43344056 | N5: SL4.0ch06:43344127 | O5: SL4.0ch06:43344537 | P5: SL4.0ch06:43344932 | Q5: SL4.0ch06:43345630 | R5: SL4.0ch06:43345639 | S5: SL4.0ch06:43345791 | T5: SL4.0ch06:43345822 | U5: SL4.0ch06:43345950 | V5: SL4.0ch06:43346037 | W5: SL4.0ch06:43346053 | X5: SL4.0ch06:43346064 | Y5: SL4.0ch06:43346067 | Z5: SL4.0ch06:43346071 | AA5: SL4.0ch06:43346085 | AB5: SL4.0ch06:43346104 | AC5: SL4.0ch06:43346115 | AD5: SL4.0ch06:43346175 | AE5: SL4.0ch06:43346185 | AF5: SL4.0ch06:43346240 | AG5: SL4.0ch06:43346349 | AH5: SL4.0ch06:43346433 | AI5: SL4.0ch06:43346843 | AJ5: SL4.0ch06:43346854 | AK5: SL4.0ch06:43346986 | AL5: SL4.0ch06:43346995 | AM5: SL4.0ch06:43347036 | AN5: SL4.0ch06:43347075 | AO5: SL4.0ch06:43347149 | AP5: SL4.0ch06:43347165 | AQ5: SL4.0ch06:43347170 | AR5: SL4.0ch06:43347249 | AS5: SL4.0ch06:43347309 | AT5: SL4.0ch06:43347313 | AU5: SL4.0ch06:43347347 | AV5: SL4.0ch06:43347414 | AW5: SL4.0ch06:43347448 | AX5: SL4.0ch06:43347473 | AY5: SL4.0ch06:43347478 | AZ5: SL4.0ch06:43347480 | BA5: SL4.0ch06:43347553 | BB5: SL4.0ch06:43347617 | BC5: SL4.0ch06:43347640 | BD5: SL4.0ch06:43347762 | BE5: SL4.0ch06:43347853 | BF5: SL4.0ch06:43347911 | BG5: SL4.0ch06:43348113 | BH5: SL4.0ch06:43348125 | BI5: SL4.0ch06:43348127 | BJ5: SL4.0ch06:43348140 | BK5: SL4.0ch06:43348154 | BL5: SL4.0ch06:43348157 | BM5: SL4.0ch06:43348172 | BN5: SL4.0ch06:43348172 | BO5: SL4.0ch06:43348180 | BP5: SL4.0ch06:43348310 | BQ5: SL4.0ch06:43348316 | BR5: SL4.0ch06:43348333 | BS5: SL4.0ch06:43348373 | BT5: SL4.0ch06:43348427 | BU5: SL4.0ch06:43348649 | BV5: SL4.0ch06:43348672 | BW5: SL4.0ch06:43348673 | BX5: SL4.0ch06:43348713 | BY5: SL4.0ch06:43348824 | BZ5: SL4.0ch06:43349090 | CA5: SL4.0ch06:43349139 | CB5: SL4.0ch06:43349150 | CC5: SL4.0ch06:43349185 | CD5: SL4.0ch06:43349194 | CE5: SL4.0ch06:43349202 | CF5: SL4.0ch06:43349222 | CG5: SL4.0ch06:43349286 | CH5: SL4.0ch06:43349341 | CI5: SL4.0ch06:43349448 | CJ5: SL4.0ch06:43349491 | CK5: SL4.0ch06:43349499 | CL5: SL4.0ch06:43349515 | CM5: SL4.0ch06:43349515 | CN5: SL4.0ch06:43349516 | CO5: SL4.0ch06:43349530 | CP5: SL4.0ch06:43349561
F6: Type | G6: SNP | H6: SNP | I6: SNP | J6: SNP | K6: SNP | L6: SNP | M6: SNP | N6: SNP | O6: SNP | P6: SNP | Q6: SNP | R6: SNP | S6: SNP | T6: SNP | U6: SNP | V6: SNP | W6: SNP | X6: SNP | Y6: SNP | Z6: SNP | AA6: SNP | AB6: SNP | AC6: SNP | AD6: SNP | AE6: SNP | AF6: SNP | AG6: INDEL | AH6: INDEL | AI6: SNP | AJ6: INDEL | AK6: SNP | AL6: INDEL | AM6: SNP | AN6: SNP | AO6: SNP | AP6: SNP | AQ6: INDEL | AR6: SNP | AS6: SNP | AT6: SNP | AU6: SNP | AV6: SNP | AW6: SNP | AX6: INDEL | AY6: SNP | AZ6: SNP | BA6: INDEL | BB6: INDEL | BC6: SNP | BD6: SNP | BE6: INDEL | BF6: SNP | BG6: SNP | BH6: SNP | BI6: SNP | BJ6: SNP | BK6: SNP | BL6: SNP | BM6: SNP | BN6: SNP | BO6: SNP | BP6: SNP | BQ6: SNP | BR6: SNP | BS6: SNP | BT6: SNP | BU6: SNP | BV6: SNP | BW6: SNP | BX6: SNP | BY6: SNP | BZ6: SNP | CA6: SNP | CB6: SNP | CC6: INDEL | CD6: SNP | CE6: SNP | CF6: SNP | CG6: SNP | CH6: SNP | CI6: SNP | CJ6: SNP | CK6: SNP | CL6: SNP | CM6: INDEL | CN6: SNP | CO6: SNP | CP6: INDEL
F7: REF | G7: C | H7: T | I7: A | J7: T | K7: T | L7: T | M7: T | N7: C | O7: G | P7: T | Q7: T | R7: T | S7: C | T7: C | U7: T | V7: T | W7: G | X7: C | Y7: T | Z7: T | AA7: G | AB7: T | AC7: C | AD7: A | AE7: T | AF7: C | AG7: T | AH7: GA | AI7: T | AJ7: CAT | AK7: C | AL7: A | AM7: C | AN7: A | AO7: G | AP7: A | AQ7: C | AR7: A | AS7: A | AT7: T | AU7: T | AV7: A | AW7: A | AX7: T | AY7: T | AZ7: G | BA7: AT | BB7: G | BC7: A | BD7: A | BE7: CGGA | BF7: G | BG7: T | BH7: G | BI7: G | BJ7: T | BK7: G | BL7: T | BM7: G | BN7: G | BO7: A | BP7: A | BQ7: C | BR7: T | BS7: G | BT7: T | BU7: C | BV7: T | BW7: T | BX7: G | BY7: A | BZ7: A | CA7: A | CB7: C | CC7: GTA | CD7: C | CE7: C | CF7: C | CG7: G | CH7: C | CI7: G | CJ7: C | CK7: C | CL7: A | CM7: A | CN7: A | CO7: T | CP7: A
F8: ALT | G8: A | H8: C | I8: G | J8: G | K8: C | L8: G | M8: A | N8: G | O8: A | P8: C | Q8: C | R8: C | S8: A | T8: G | U8: C | V8: C | W8: A | X8: T | Y8: C | Z8: C | AA8: A | AB8: A | AC8: T | AD8: T | AE8: A | AF8: T | AG8: TTAGTTTTGA | AH8: G | AI8: C | AJ8: C | AK8: G | AL8: AT | AM8: T | AN8: G | AO8: A | AP8: G | AQ8: CA | AR8: G | AS8: G | AT8: C | AU8: G | AV8: G | AW8: T | AX8: TA | AY8: A | AZ8: A | BA8: A | BB8: GA | BC8: G | BD8: G | BE8: C | BF8: A | BG8: C | BH8: A | BI8: T | BJ8: C | BK8: A | BL8: C | BM8: T | BN8: A | BO8: G | BP8: G | BQ8: G | BR8: A | BS8: A | BT8: A | BU8: T | BV8: C | BW8: C | BX8: T | BY8: G | BZ8: G | CA8: T | CB8: T | CC8: G | CD8: T | CE8: T | CF8: T | CG8: A | CH8: T | CI8: T | CJ8: A | CK8: G | CL8: T | CM8: * | CN8: T | CO8: A | CP8: ATT
A9: Phylogeny | B9: CSR-like1 Haplotype | C9: Weight (g) | D9: pericarp cell size (mm^2) | E9: fw11.3a | F9: Annotationb | G9: Downstr | H9: Downstr | I9: Downstr | J9: Downstr | K9: Downstr | L9: Downstr | M9: UTR | N9: UTR | O9: Missense | P9: Synon | Q9: UTR | R9: UTR | S9: UTR | T9: UTR | U9: Upstr | V9: Upstr | W9: Upstr | X9: Upstr | Y9: Upstr | Z9: Upstr | AA9: Upstr | AB9: Upstr | AC9: Upstr | AD9: Upstr | AE9: Upstr | AF9: Upstr | AG9: Upstr | AH9: Upstr | AI9: Upstr | AJ9: Upstr | AK9: Upstr | AL9: Upstr | AM9: Upstr | AN9: Upstr | AO9: Upstr | AP9: Upstr | AQ9: Upstr | AR9: Upstr | AS9: Upstr | AT9: Upstr | AU9: Upstr | AV9: Upstr | AW9: Upstr | AX9: Upstr | AY9: Upstr | AZ9: Upstr | BA9: Upstr | BB9: Upstr | BC9: Upstr | BD9: Upstr | BE9: Upstr | BF9: Upstr | BG9: Upstr | BH9: Upstr | BI9: Upstr | BJ9: Upstr | BK9: Upstr | BL9: Upstr | BM9: Upstr | BN9: Upstr | BO9: Upstr | BP9: Upstr | BQ9: Upstr | BR9: Upstr | BS9: Upstr | BT9: Upstr | BU9: Upstr | BV9: Upstr | BW9: Upstr | BX9: Upstr | BY9: Upstr | BZ9: Upstr | CA9: Upstr | CB9: Upstr | CC9: Upstr | CD9: Upstr | CE9: Upstr | CF9: Upstr | CG9: Upstr | CH9: Upstr | CI9: Upstr | CJ9: Upstr | CK9: Upstr | CL9: Upstr | CM9: Upstr | CN9: Upstr | CO9: Upstr | CP9: Upstr
A10: SLC_PER | B10: I | C10: 10.34 | D10: 0.090416667 | E10: 3 | F10: BGV004584 | G10: 0 | H10: 0 | I10: 0 | J10: 0 | K10: 0 | L10: 0 | M10: 0 | N10: 0 | O10: 0 | P10: 0 | Q10: 0 | R10: 0 | S10: 0 | T10: 0 | U10: 0 | V10: 0 | W10: 0 | X10: 0 | Y10: 0 | Z10: 0 | AA10: 0 | AB10: 0 | AC10: 0 | AD10: 0 | AE10: 0 | AF10: 0 | AG10: 0 | AH10: 0 | AI10: 2 | AJ10: 0 | AK10: 0 | AL10: 0 | AM10: 0 | AN10: 0 | AO10: 0 | AP10: 0 | AQ10: 0 | AR10: 0 | AS10: 0 | AT10: 0 | AU10: 0 | AV10: 0 | AW10: 0 | AX10: 0 | AY10: 0 | AZ10: 0 | BA10: 0 | BB10: 0 | BC10: 0 | BD10: 0 | BE10: 0 | BF10: 0 | BG10: 0 | BH10: 0 | BI10: 0 | BJ10: 0 | BK10: 0 | BL10: 0 | BM10: 0 | BN10: 0 | BO10: 0 | BP10: 0 | BQ10: 0 | BR10: 0 | BS10: 0 | BT10: 0 | BU10: 0 | BV10: 0 | BW10: 0 | BX10: 0 | BY10: 0 | BZ10: 0 | CA10: 0 | CB10: 0 | CC10: 0 | CD10: 0 | CE10: 0 | CF10: 0 | CG10: 0 | CH10: 0 | CI10: 0 | CJ10: 0 | CK10: 0 | CL10: 0 | CM10: 0 | CN10: 0 | CO10: 0 | CP10: 0
A11: SLC_MEX | B11: I | C11: 6.24 | D11: 0.0466375 | E11: 3 | F11: BGV005895 | G11: 0 | H11: 0 | I11: 0 | J11: 0 | K11: 0 | L11: 0 | M11: 0 | N11: 0 | O11: 0 | P11: 0 | Q11: 0 | R11: 0 | S11: 0 | T11: 0 | U11: 0 | V11: 0 | W11: 0 | X11: 0 | Y11: 0 | Z11: 0 | AA11: 0 | AB11: 0 | AC11: 0 | AD11: 0 | AE11: 0 | AF11: 0 | AG11: 0 | AH11: 0 | AI11: 2 | AJ11: 0 | AK11: 0 | AL11: 0 | AM11: 0 | AN11: 0 | AO11: 0 | AP11: 0 | AQ11: 0 | AR11: 0 | AS11: 0 | AT11: 0 | AU11: 0 | AV11: 0 | AW11: 0 | AX11: 0 | AY11: 0 | AZ11: 0 | BA11: 0 | BB11: 0 | BC11: 0 | BD11: 0 | BE11: 0 | BF11: 0 | BG11: 0 | BH11: 0 | BI11: 0 | BJ11: 0 | BK11: 0 | BL11: 0 | BM11: NA | BN11: NA | BO11: 0 | BP11: 0 | BQ11: 0 | BR11: 0 | BS11: NA | BT11: NA | BU11: 0 | BV11: 0 | BW11: 0 | BX11: 0 | BY11: 0 | BZ11: 0 | CA11: 0 | CB11: 0 | CC11: 0 | CD11: 0 | CE11: 0 | CF11: NA | CG11: NA | CH11: 0 | CI11: 0 | CJ11: 0 | CK11: 0 | CL11: 0 | CM11: 0 | CN11: 0 | CO11: 0 | CP11: NA
A12: SLC_ECU | B12: I | C12: 12.24 | D12: 0.056820833 | E12: 3 | F12: BGV005912 | G12: 0 | H12: 0 | I12: 0 | J12: 0 | K12: 0 | L12: 0 | M12: 0 | N12: 0 | O12: 0 | P12: 0 | Q12: 0 | R12: 0 | S12: 0 | T12: 0 | U12: 0 | V12: 0 | W12: 0 | X12: 0 | Y12: 0 | Z12: 0 | AA12: 0 | AB12: 0 | AC12: 0 | AD12: 0 | AE12: 0 | AF12: 0 | AG12: 0 | AH12: 0 | AI12: 2 | AJ12: 0 | AK12: 0 | AL12: 0 | AM12: 0 | AN12: 0 | AO12: 0 | AP12: 0 | AQ12: 0 | AR12: NA | AS12: 0 | AT12: 0 | AU12: 0 | AV12: 0 | AW12: 0 | AX12: 0 | AY12: 0 | AZ12: 0 | BA12: 0 | BB12: 0 | BC12: 0 | BD12: 0 | BE12: 0 | BF12: 0 | BG12: 0 | BH12: 0 | BI12: 0 | BJ12: 0 | BK12: 0 | BL12: 0 | BM12: 0 | BN12: 0 | BO12: 0 | BP12: 0 | BQ12: 0 | BR12: 0 | BS12: 0 | BT12: 0 | BU12: 0 | BV12: 0 | BW12: 0 | BX12: 0 | BY12: 0 | BZ12: 0 | CA12: 0 | CB12: 0 | CC12: 0 | CD12: 0 | CE12: 0 | CF12: 0 | CG12: 0 | CH12: 0 | CI12: 0 | CJ12: 0 | CK12: 0 | CL12: 0 | CM12: 0 | CN12: 0 | CO12: 0 | CP12: 0
A13: SLC_ADM | B13: I | C13: 6.57 | D13: 0.039204167 | E13: 3 | F13: BGV006148 | G13: 0 | H13: 0 | I13: 0 | J13: 0 | K13: 0 | L13: 0 | M13: 0 | N13: 0 | O13: 0 | P13: 0 | Q13: 0 | R13: 0 | S13: 0 | T13: 0 | U13: 0 | V13: 0 | W13: 0 | X13: 0 | Y13: 0 | Z13: 0 | AA13: 0 | AB13: 0 | AC13: 0 | AD13: 0 | AE13: 0 | AF13: 0 | AG13: 0 | AH13: 0 | AI13: 2 | AJ13: 0 | AK13: 0 | AL13: 0 | AM13: 0 | AN13: 0 | AO13: 0 | AP13: 0 | AQ13: 0 | AR13: 0 | AS13: 0 | AT13: 0 | AU13: 0 | AV13: 0 | AW13: 0 | AX13: 0 | AY13: 0 | AZ13: 0 | BA13: 0 | BB13: 0 | BC13: 0 | BD13: 0 | BE13: 0 | BF13: 0 | BG13: 0 | BH13: 0 | BI13: 0 | BJ13: 0 | BK13: 0 | BL13: 0 | BM13: 0 | BN13: 0 | BO13: 0 | BP13: 0 | BQ13: 0 | BR13: 0 | BS13: 0 | BT13: 0 | BU13: 0 | BV13: 0 | BW13: 0 | BX13: 0 | BY13: 0 | BZ13: 0 | CA13: 0 | CB13: 0 | CC13: 0 | CD13: 0 | CE13: 0 | CF13: 0 | CG13: 0 | CH13: 0 | CI13: 0 | CJ13: 0 | CK13: 0 | CL13: 0 | CM13: 0 | CN13: 0 | CO13: 0 | CP13: 0
A14: SLC_ECU | B14: I | C14: 15.86 | E14: 3 | F14: BGV006175 | G14: 0 | H14: 0 | I14: 0 | J14: 0 | K14: 0 | L14: 0 | M14: 0 | N14: 0 | O14: 0 | P14: 0 | Q14: 0 | R14: 0 | S14: 0 | T14: 0 | U14: 0 | V14: 0 | W14: 0 | X14: 0 | Y14: 0 | Z14: 0 | AA14: 0 | AB14: 0 | AC14: 0 | AD14: 0 | AE14: 0 | AF14: 0 | AG14: 0 | AH14: 0 | AI14: 2 | AJ14: 0 | AK14: 0 | AL14: 0 | AM14: 0 | AN14: 0 | AO14: 0 | AP14: 0 | AQ14: 0 | AR14: 0 | AS14: 0 | AT14: 0 | AU14: 0 | AV14: 0 | AW14: 0 | AX14: 0 | AY14: 0 | AZ14: 0 | BA14: 0 | BB14: 0 | BC14: 0 | BD14: 0 | BE14: 0 | BF14: 0 | BG14: 0 | BH14: 0 | BI14: 0 | BJ14: 0 | BK14: 0 | BL14: 0 | BM14: 0 | BN14: 0 | BO14: 0 | BP14: 0 | BQ14: 0 | BR14: 0 | BS14: 0 | BT14: 0 | BU14: 0 | BV14: 0 | BW14: 0 | BX14: 0 | BY14: 0 | BZ14: 0 | CA14: 0 | CB14: 0 | CC14: 0 | CD14: 0 | CE14: 0 | CF14: 0 | CG14: 0 | CH14: 0 | CI14: 0 | CJ14: 0 | CK14: 0 | CL14: NA | CM14: NA | CN14: NA | CO14: NA | CP14: 0
A15: SP_SECU | B15: VI | C15: 1.23 | D15: 0.022633333 | E15: 3 | F15: BGV006208 | G15: 0 | H15: 1 | I15: 1 | J15: 0 | K15: 0 | L15: 2 | M15: 0 | N15: 0 | O15: 0 | P15: 0 | Q15: 2 | R15: 2 | S15: 2 | T15: 2 | U15: 1 | V15: 0 | W15: 0 | X15: 0 | Y15: 1 | Z15: 0 | AA15: 0 | AB15: 0 | AC15: 1 | AD15: 1 | AE15: 1 | AF15: 1 | AG15: 0 | AH15: 0 | AI15: 2 | AJ15: 0 | AK15: 0 | AL15: 0 | AM15: 0 | AN15: 0 | AO15: 2 | AP15: 2 | AQ15: 0 | AR15: 2 | AS15: 2 | AT15: 2 | AU15: 2 | AV15: 2 | AW15: 1 | AX15: 0 | AY15: 2 | AZ15: 2 | BA15: 0 | BB15: 2 | BC15: 0 | BD15: 0 | BE15: 2 | BF15: 2 | BG15: 2 | BH15: 0 | BI15: 0 | BJ15: 2 | BK15: 2 | BL15: 0 | BM15: 2 | BN15: 0 | BO15: 0 | BP15: 0 | BQ15: 2 | BR15: 2 | BS15: 0 | BT15: 2 | BU15: 0 | BV15: 2 | BW15: 0 | BX15: 0 | BY15: 2 | BZ15: 0 | CA15: 0 | CB15: 0 | CC15: 0 | CD15: 2 | CE15: 0 | CF15: 0 | CG15: 2 | CH15: 0 | CI15: 2 | CJ15: 2 | CK15: 0 | CL15: 0 | CM15: 0 | CN15: 0 | CO15: 0 | CP15: 0
A16: SLC_ECU | B16: II | C16: 8.11 | D16: 0.046016667 | E16: 3 | F16: BGV006225 | G16: 0 | H16: 0 | I16: 0 | J16: 0 | K16: 0 | L16: 0 | M16: 0 | N16: 0 | O16: 0 | P16: 0 | Q16: 0 | R16: 0 | S16: 0 | T16: 0 | U16: 0 | V16: 0 | W16: 0 | X16: 0 | Y16: 0 | Z16: 0 | AA16: 0 | AB16: 0 | AC16: 0 | AD16: 0 | AE16: 0 | AF16: 0 | AG16: 0 | AH16: 0 | AI16: 0 | AJ16: 0 | AK16: 0 | AL16: 0 | AM16: 0 | AN16: 0 | AO16: 0 | AP16: 0 | AQ16: 0 | AR16: 0 | AS16: 0 | AT16: 0 | AU16: 0 | AV16: 0 | AW16: 0 | AX16: 0 | AY16: 0 | AZ16: 0 | BA16: 0 | BB16: 0 | BC16: 0 | BD16: 0 | BE16: 0 | BF16: 0 | BG16: 0 | BH16: 0 | BI16: 0 | BJ16: 0 | BK16: 0 | BL16: 0 | BM16: 0 | BN16: 0 | BO16: 0 | BP16: 0 | BQ16: 0 | BR16: 0 | BS16: 0 | BT16: 0 | BU16: 0 | BV16: 0 | BW16: 0 | BX16: 0 | BY16: 0 | BZ16: 0 | CA16: 0 | CB16: 0 | CC16: 0 | CD16: 0 | CE16: 0 | CF16: 0 | CG16: 0 | CH16: 0 | CI16: 0 | CJ16: 0 | CK16: 0 | CL16: 0 | CM16: 0 | CN16: 0 | CO16: 0 | CP16: 0
A17: SLC_ECU | B17: I | C17: 8.67 | D17: 0.053 | E17: 3 | F17: BGV006229 | G17: 0 | H17: 0 | I17: 0 | J17: 0 | K17: 0 | L17: 0 | M17: 0 | N17: 0 | O17: 0 | P17: 0 | Q17: 0 | R17: 0 | S17: 0 | T17: 0 | U17: 0 | V17: 0 | W17: 0 | X17: 0 | Y17: 0 | Z17: 0 | AA17: 0 | AB17: 0 | AC17: 0 | AD17: 0 | AE17: 0 | AF17: 0 | AG17: 0 | AH17: 0 | AI17: 2 | AJ17: 0 | AK17: 0 | AL17: 0 | AM17: 0 | AN17: 0 | AO17: 0 | AP17: 0 | AQ17: 0 | AR17: 0 | AS17: 0 | AT17: 0 | AU17: 0 | AV17: 0 | AW17: 0 | AX17: 0 | AY17: 0 | AZ17: 0 | BA17: 0 | BB17: 0 | BC17: 0 | BD17: 0 | BE17: 0 | BF17: 0 | BG17: 0 | BH17: 0 | BI17: 0 | BJ17: 0 | BK17: 0 | BL17: 0 | BM17: 0 | BN17: 0 | BO17: 0 | BP17: 0 | BQ17: 0 | BR17: 0 | BS17: 0 | BT17: 0 | BU17: 0 | BV17: 0 | BW17: 0 | BX17: 0 | BY17: 0 | BZ17: 0 | CA17: 0 | CB17: 0 | CC17: 0 | CD17: 0 | CE17: 0 | CF17: 0 | CG17: 0 | CH17: 0 | CI17: 0 | CJ17: 0 | CK17: 0 | CL17: 0 | CM17: 0 | CN17: 0 | CO17: 0 | CP17: 0
A18: SLC_ECU | B18: I | C18: 3.88 | D18: 0.031475 | E18: 3 | F18: BGV006230 | G18: 0 | H18: 0 | I18: 0 | J18: 0 | K18: 0 | L18: 0 | M18: 0 | N18: 0 | O18: 0 | P18: 0 | Q18: 0 | R18: 0 | S18: 0 | T18: 0 | U18: 0 | V18: 0 | W18: 0 | X18: 0 | Y18: 0 | Z18: 0 | AA18: 0 | AB18: 0 | AC18: 0 | AD18: 0 | AE18: 0 | AF18: 0 | AG18: 0 | AH18: 0 | AI18: 2 | AJ18: 0 | AK18: 0 | AL18: 0 | AM18: 0 | AN18: 0 | AO18: 0 | AP18: 0 | AQ18: 0 | AR18: 0 | AS18: 0 | AT18: 0 | AU18: 0 | AV18: 0 | AW18: 0 | AX18: 0 | AY18: 0 | AZ18: 0 | BA18: 0 | BB18: 0 | BC18: 0 | BD18: 0 | BE18: 0 | BF18: 0 | BG18: 0 | BH18: 0 | BI18: 0 | BJ18: 0 | BK18: 0 | BL18: 0 | BM18: 0 | BN18: 0 | BO18: 0 | BP18: 0 | BQ18: 0 | BR18: 0 | BS18: 0 | BT18: 0 | BU18: 0 | BV18: 0 | BW18: 0 | BX18: 0 | BY18: 0 | BZ18: 0 | CA18: 0 | CB18: 0 | CC18: 0 | CD18: 0 | CE18: 0 | CF18: 0 | CG18: 0 | CH18: 0 | CI18: 0 | CJ18: 0 | CK18: 0 | CL18: 0 | CM18: 0 | CN18: 0 | CO18: 0 | CP18: 0
A19: SLC_ECU | B19: II | C19: 8.22 | D19: 0.051563333 | E19: 3 | F19: BGV006231 | G19: 0 | H19: 0 | I19: 0 | J19: 0 | K19: 0 | L19: 0 | M19: 0 | N19: 0 | O19: 0 | P19: 0 | Q19: 0 | R19: 0 | S19: 0 | T19: 0 | U19: 0 | V19: 0 | W19: 0 | X19: 0 | Y19: 0 | Z19: 0 | AA19: 0 | AB19: 0 | AC19: 0 | AD19: 0 | AE19: 0 | AF19: 0 | AG19: 0 | AH19: 0 | AI19: 0 | AJ19: 0 | AK19: 0 | AL19: 0 | AM19: 0 | AN19: 0 | AO19: 0 | AP19: 0 | AQ19: 0 | AR19: 0 | AS19: 0 | AT19: 0 | AU19: 0 | AV19: 0 | AW19: 0 | AX19: 0 | AY19: 0 | AZ19: 0 | BA19: 0 | BB19: 0 | BC19: 0 | BD19: 0 | BE19: 0 | BF19: 0 | BG19: 0 | BH19: 0 | BI19: 0 | BJ19: 0 | BK19: 0 | BL19: 0 | BM19: 0 | BN19: 0 | BO19: 0 | BP19: 0 | BQ19: 0 | BR19: 0 | BS19: 0 | BT19: 0 | BU19: 0 | BV19: 0 | BW19: 0 | BX19: 0 | BY19: 0 | BZ19: 0 | CA19: 0 | CB19: 0 | CC19: 0 | CD19: 0 | CE19: 0 | CF19: 0 | CG19: 0 | CH19: 0 | CI19: 0 | CJ19: 0 | CK19: 0 | CL19: 0 | CM19: 0 | CN19: 0 | CO19: 0 | CP19: 0
A20: SLC_ECU | B20: II | C20: 8.51 | D20: 0.065013333 | E20: 3 | F20: BGV006232 | G20: 0 | H20: 0 | I20: 0 | J20: 0 | K20: 0 | L20: 0 | M20: 0 | N20: 0 | O20: 0 | P20: 0 | Q20: 0 | R20: 0 | S20: 0 | T20: 0 | U20: 0 | V20: 0 | W20: 0 | X20: 0 | Y20: 0 | Z20: 0 | AA20: 0 | AB20: 0 | AC20: 0 | AD20: 0 | AE20: 0 | AF20: 0 | AG20: 0 | AH20: 0 | AI20: 0 | AJ20: 0 | AK20: 0 | AL20: 0 | AM20: 0 | AN20: 0 | AO20: 0 | AP20: 0 | AQ20: 0 | AR20: 0 | AS20: 0 | AT20: 0 | AU20: 0 | AV20: 0 | AW20: 0 | AX20: 0 | AY20: 0 | AZ20: 0 | BA20: 0 | BB20: 0 | BC20: 0 | BD20: 0 | BE20: 0 | BF20: 0 | BG20: 0 | BH20: 0 | BI20: 0 | BJ20: 0 | BK20: 0 | BL20: 0 | BM20: 0 | BN20: 0 | BO20: 0 | BP20: 0 | BQ20: 0 | BR20: 0 | BS20: 0 | BT20: 0 | BU20: 0 | BV20: 0 | BW20: 0 | BX20: 0 | BY20: 0 | BZ20: 0 | CA20: 0 | CB20: 0 | CC20: 0 | CD20: 0 | CE20: 0 | CF20: 0 | CG20: 0 | CH20: 0 | CI20: 0 | CJ20: 0 | CK20: 0 | CL20: 0 | CM20: 0 | CN20: 0 | CO20: 0 | CP20: 0
A21: SLC_ECU | B21: I | C21: 10.12 | D21: 0.06525 | E21: 3 | F21: BGV006234 | G21: 0 | H21: 0 | I21: 0 | J21: 0 | K21: 0 | L21: 0 | M21: 0 | N21: 0 | O21: 0 | P21: 0 | Q21: 0 | R21: 0 | S21: 0 | T21: 0 | U21: 0 | V21: 0 | W21: 0 | X21: 0 | Y21: 0 | Z21: 0 | AA21: 0 | AB21: 0 | AC21: 0 | AD21: 0 | AE21: 0 | AF21: 0 | AG21: 0 | AH21: 0 | AI21: 2 | AJ21: 0 | AK21: 0 | AL21: 0 | AM21: 0 | AN21: 0 | AO21: 0 | AP21: 0 | AQ21: 0 | AR21: 0 | AS21: 0 | AT21: 0 | AU21: 0 | AV21: 0 | AW21: 0 | AX21: 0 | AY21: 0 | AZ21: 0 | BA21: 0 | BB21: 0 | BC21: 0 | BD21: 0 | BE21: 0 | BF21: 0 | BG21: 0 | BH21: 0 | BI21: 0 | BJ21: 0 | BK21: 0 | BL21: 0 | BM21: 0 | BN21: 0 | BO21: 0 | BP21: 0 | BQ21: 0 | BR21: 0 | BS21: 0 | BT21: 0 | BU21: 0 | BV21: 0 | BW21: 0 | BX21: 0 | BY21: 0 | BZ21: 0 | CA21: 0 | CB21: 0 | CC21: 0 | CD21: 0 | CE21: 0 | CF21: 0 | CG21: 0 | CH21: 0 | CI21: 0 | CJ21: 0 | CK21: 0 | CL21: 0 | CM21: 0 | CN21: 0 | CO21: 0 | CP21: 0
A22: SLC_ECU | B22: II | C22: 10.85 | D22: 0.06845 | E22: 3 | F22: BGV006235 | G22: 0 | H22: 0 | I22: 0 | J22: 0 | K22: 0 | L22: 0 | M22: 0 | N22: 0 | O22: 0 | P22: 0 | Q22: 0 | R22: 0 | S22: 0 | T22: 0 | U22: 0 | V22: 0 | W22: 0 | X22: 0 | Y22: 0 | Z22: 0 | AA22: 0 | AB22: 0 | AC22: 0 | AD22: 0 | AE22: 0 | AF22: 0 | AG22: 0 | AH22: 0 | AI22: 0 | AJ22: 0 | AK22: 0 | AL22: 0 | AM22: 0 | AN22: 0 | AO22: 0 | AP22: 0 | AQ22: 0 | AR22: 0 | AS22: 0 | AT22: 0 | AU22: 0 | AV22: 0 | AW22: 0 | AX22: 0 | AY22: 0 | AZ22: 0 | BA22: 0 | BB22: 0 | BC22: 0 | BD22: 0 | BE22: 0 | BF22: 0 | BG22: 0 | BH22: 0 | BI22: 0 | BJ22: 0 | BK22: 0 | BL22: 0 | BM22: 0 | BN22: 0 | BO22: 0 | BP22: 0 | BQ22: 0 | BR22: 0 | BS22: 0 | BT22: 0 | BU22: 0 | BV22: 0 | BW22: 0 | BX22: 0 | BY22: 0 | BZ22: 0 | CA22: 0 | CB22: 0 | CC22: 0 | CD22: 0 | CE22: 0 | CF22: 0 | CG22: 0 | CH22: 0 | CI22: 0 | CJ22: 0 | CK22: 0 | CL22: 0 | CM22: 0 | CN22: 0 | CO22: 0 | CP22: 0
A23: SP_PER | B23: IV | C23: 1.46 | D23: 0.013096875 | E23: 3 | F23: BGV006327 | G23: 0 | H23: 2 | I23: 2 | J23: 0 | K23: 0 | L23: 2 | M23: 0 | N23: 0 | O23: 0 | P23: 0 | Q23: 2 | R23: 0 | S23: 0 | T23: 0 | U23: 2 | V23: 0 | W23: 0 | X23: 0 | Y23: 0 | Z23: 0 | AA23: 0 | AB23: 0 | AC23: 2 | AD23: 1 | AE23: 1 | AF23: 0 | AG23: 0 | AH23: 0 | AI23: 2 | AJ23: 0 | AK23: 0 | AL23: 1 | AM23: 0 | AN23: 0 | AO23: 0 | AP23: 1 | AQ23: 0 | AR23: 2 | AS23: 0 | AT23: 0 | AU23: 0 | AV23: 0 | AW23: 0 | AX23: 0 | AY23: 0 | AZ23: 0 | BA23: 1 | BB23: 0 | BC23: 0 | BD23: 0 | BE23: 0 | BF23: 0 | BG23: 0 | BH23: 0 | BI23: 0 | BJ23: 0 | BK23: 0 | BL23: 0 | BM23: 0 | BN23: 0 | BO23: 0 | BP23: 0 | BQ23: 2 | BR23: 0 | BS23: 0 | BT23: 2 | BU23: NA | BV23: NA | BW23: 0 | BX23: 0 | BY23: 0 | BZ23: 1 | CA23: 0 | CB23: 0 | CC23: 1 | CD23: 0 | CE23: 0 | CF23: 0 | CG23: 0 | CH23: 0 | CI23: 0 | CJ23: 0 | CK23: 0 | CL23: 1 | CM23: 0 | CN23: 0 | CO23: 0 | CP23: 0
A24: SP_PER | B24: IV | C24: 0.91 | D24: 0.014869583 | E24: 3 | F24: BGV006336 | G24: 0 | H24: 2 | I24: 2 | J24: 0 | K24: 0 | L24: 2 | M24: 0 | N24: 0 | O24: 0 | P24: 0 | Q24: 2 | R24: 0 | S24: 2 | T24: 2 | U24: 2 | V24: 0 | W24: 0 | X24: 0 | Y24: 0 | Z24: 0 | AA24: 0 | AB24: 0 | AC24: 2 | AD24: 0 | AE24: 0 | AF24: 0 | AG24: 0 | AH24: 0 | AI24: 2 | AJ24: 0 | AK24: 0 | AL24: NA | AM24: 0 | AN24: 0 | AO24: 0 | AP24: 0 | AQ24: 0 | AR24: 2 | AS24: NA | AT24: NA | AU24: 0 | AV24: 0 | AW24: 0 | AX24: 0 | AY24: 0 | AZ24: 0 | BA24: 2 | BB24: 0 | BC24: 0 | BD24: 0 | BE24: 0 | BF24: 0 | BG24: 0 | BH24: 0 | BI24: 0 | BJ24: 0 | BK24: 0 | BL24: 0 | BM24: 0 | BN24: 0 | BO24: 0 | BP24: 0 | BQ24: 2 | BR24: 0 | BS24: 0 | BT24: NA | BU24: 0 | BV24: 2 | BW24: 0 | BX24: 0 | BY24: 0 | BZ24: 0 | CA24: 0 | CB24: 0 | CC24: 2 | CD24: 0 | CE24: 0 | CF24: 0 | CG24: 0 | CH24: NA | CI24: 0 | CJ24: 0 | CK24: 0 | CL24: NA | CM24: NA | CN24: NA | CO24: NA | CP24: 2
A25: SP_PER | B25: IV | C25: 0.94 | D25: 0.019733333 | E25: 3 | F25: BGV006347 | G25: 0 | H25: 2 | I25: 2 | J25: 0 | K25: 0 | L25: 2 | M25: 0 | N25: 0 | O25: 0 | P25: 0 | Q25: 2 | R25: 0 | S25: 0 | T25: 0 | U25: 2 | V25: 0 | W25: 0 | X25: 0 | Y25: 0 | Z25: 0 | AA25: 0 | AB25: 0 | AC25: 2 | AD25: 0 | AE25: 0 | AF25: 0 | AG25: 0 | AH25: 0 | AI25: 2 | AJ25: 0 | AK25: NA | AL25: 2 | AM25: 0 | AN25: 2 | AO25: 0 | AP25: 0 | AQ25: 0 | AR25: 2 | AS25: 0 | AT25: 0 | AU25: 0 | AV25: 0 | AW25: 0 | AX25: 0 | AY25: 0 | AZ25: 0 | BA25: 0 | BB25: 0 | BC25: 0 | BD25: 0 | BE25: 0 | BF25: 0 | BG25: 2 | BH25: 0 | BI25: 0 | BJ25: 2 | BK25: 0 | BL25: 0 | BM25: 2 | BN25: 0 | BO25: 2 | BP25: 0 | BQ25: 2 | BR25: 0 | BS25: 0 | BT25: 2 | BU25: 2 | BV25: 2 | BW25: 0 | BX25: 0 | BY25: 0 | BZ25: 2 | CA25: 0 | CB25: 0 | CC25: 0 | CD25: 0 | CE25: 0 | CF25: 0 | CG25: 0 | CH25: 0 | CI25: 0 | CJ25: 0 | CK25: 0 | CL25: 2 | CM25: 0 | CN25: 0 | CO25: 0 | CP25: 0
A26: SP_PER | B26: IV | C26: 0.95 | D26: 0.02405 | E26: 3 | F26: BGV006353 | G26: 0 | H26: 2 | I26: 2 | J26: 0 | K26: 0 | L26: 2 | M26: 0 | N26: 0 | O26: 0 | P26: 0 | Q26: 2 | R26: 0 | S26: 0 | T26: 0 | U26: 2 | V26: 0 | W26: 0 | X26: 0 | Y26: 0 | Z26: 0 | AA26: 0 | AB26: 0 | AC26: 2 | AD26: 0 | AE26: 0 | AF26: 0 | AG26: 0 | AH26: 0 | AI26: 2 | AJ26: 0 | AK26: NA | AL26: 2 | AM26: 0 | AN26: 2 | AO26: 0 | AP26: 0 | AQ26: 0 | AR26: 2 | AS26: 0 | AT26: 0 | AU26: 0 | AV26: 0 | AW26: 0 | AX26: 0 | AY26: 0 | AZ26: 0 | BA26: 0 | BB26: 0 | BC26: 0 | BD26: 0 | BE26: 0 | BF26: 0 | BG26: 2 | BH26: 0 | BI26: 0 | BJ26: 2 | BK26: 0 | BL26: 0 | BM26: 2 | BN26: 0 | BO26: 2 | BP26: 0 | BQ26: 2 | BR26: 0 | BS26: 0 | BT26: 2 | BU26: 2 | BV26: 2 | BW26: 0 | BX26: 0 | BY26: 0 | BZ26: 2 | CA26: 0 | CB26: 0 | CC26: 0 | CD26: 0 | CE26: 0 | CF26: 0 | CG26: 0 | CH26: 0 | CI26: 0 | CJ26: 0 | CK26: 0 | CL26: 1 | CM26: 0 | CN26: 0 | CO26: 0 | CP26: 0
A27: SP_PER | B27: IV | C27: 1.59 | D27: 0.014869583 | E27: 3 | F27: BGV006363 | G27: 2 | H27: 2 | I27: 0 | J27: 0 | K27: 2 | L27: 2 | M27: 2 | N27: 0 | O27: 0 | P27: 0 | Q27: 2 | R27: 0 | S27: 0 | T27: 0 | U27: 2 | V27: 0 | W27: 0 | X27: 0 | Y27: 0 | Z27: 0 | AA27: 0 | AB27: 0 | AC27: 2 | AD27: 2 | AE27: 2 | AF27: 2 | AG27: 0 | AH27: 0 | AI27: 2 | AJ27: 2 | AK27: 0 | AL27: 0 | AM27: 0 | AN27: 0 | AO27: 0 | AP27: 2 | AQ27: 0 | AR27: 2 | AS27: 2 | AT27: 0 | AU27: 2 | AV27: 2 | AW27: 0 | AX27: 2 | AY27: 0 | AZ27: 0 | BA27: 0 | BB27: 0 | BC27: 0 | BD27: 0 | BE27: 0 | BF27: 0 | BG27: NA | BH27: 0 | BI27: 0 | BJ27: 2 | BK27: 0 | BL27: 0 | BM27: 2 | BN27: 0 | BO27: 0 | BP27: 0 | BQ27: 2 | BR27: 0 | BS27: 0 | BT27: 2 | BU27: 0 | BV27: 2 | BW27: 0 | BX27: 0 | BY27: 0 | BZ27: 2 | CA27: 0 | CB27: 0 | CC27: 0 | CD27: 0 | CE27: 0 | CF27: 0 | CG27: 0 | CH27: 0 | CI27: 0 | CJ27: 0 | CK27: 0 | CL27: 0 | CM27: 0 | CN27: 0 | CO27: 0 | CP27: 0
A28: SP_PER | B28: IV | C28: 1.36 | D28: 0.032183333 | E28: 3 | F28: BGV006370 | G28: 0 | H28: 2 | I28: 2 | J28: 0 | K28: 0 | L28: 2 | M28: 0 | N28: 0 | O28: 0 | P28: 0 | Q28: 2 | R28: 0 | S28: 0 | T28: 0 | U28: 2 | V28: 0 | W28: 0 | X28: 0 | Y28: 0 | Z28: 0 | AA28: 0 | AB28: 0 | AC28: 2 | AD28: 0 | AE28: 0 | AF28: 0 | AG28: 0 | AH28: 0 | AI28: 2 | AJ28: 0 | AK28: 0 | AL28: 2 | AM28: 0 | AN28: 0 | AO28: 0 | AP28: 0 | AQ28: 0 | AR28: 2 | AS28: 0 | AT28: 0 | AU28: 0 | AV28: 0 | AW28: 0 | AX28: 0 | AY28: 0 | AZ28: 0 | BA28: 2 | BB28: 0 | BC28: 0 | BD28: 0 | BE28: 0 | BF28: 0 | BG28: 2 | BH28: 0 | BI28: 0 | BJ28: 2 | BK28: 0 | BL28: 0 | BM28: 2 | BN28: 0 | BO28: 2 | BP28: 0 | BQ28: 2 | BR28: 0 | BS28: 0 | BT28: 2 | BU28: 2 | BV28: 2 | BW28: 0 | BX28: 0 | BY28: 0 | BZ28: 2 | CA28: 0 | CB28: 0 | CC28: 0 | CD28: 0 | CE28: 0 | CF28: 0 | CG28: 0 | CH28: 0 | CI28: 0 | CJ28: 0 | CK28: 0 | CL28: 2 | CM28: 0 | CN28: 0 | CO28: 0 | CP28: 0
A29: SP_PER | B29: IV | C29: 1.41 | D29: 0.036933333 | E29: 3 | F29: BGV006454 | G29: 0 | H29: 2 | I29: 2 | J29: 0 | K29: 0 | L29: 2 | M29: 2 | N29: 0 | O29: 0 | P29: 0 | Q29: 2 | R29: 0 | S29: 2 | T29: 2 | U29: 2 | V29: 0 | W29: 0 | X29: 0 | Y29: 0 | Z29: 0 | AA29: 0 | AB29: 0 | AC29: 2 | AD29: 0 | AE29: 0 | AF29: 0 | AG29: 0 | AH29: 0 | AI29: 2 | AJ29: 0 | AK29: 0 | AL29: 0 | AM29: 0 | AN29: 0 | AO29: NA | AP29: 0 | AQ29: 0 | AR29: 2 | AS29: NA | AT29: NA | AU29: 0 | AV29: 0 | AW29: 0 | AX29: 0 | AY29: 0 | AZ29: 0 | BA29: 0 | BB29: 0 | BC29: 0 | BD29: 0 | BE29: 0 | BF29: 0 | BG29: 2 | BH29: 0 | BI29: 0 | BJ29: 2 | BK29: 0 | BL29: 0 | BM29: 2 | BN29: 0 | BO29: 2 | BP29: 0 | BQ29: 2 | BR29: 0 | BS29: 0 | BT29: 2 | BU29: 2 | BV29: 2 | BW29: 0 | BX29: 0 | BY29: NA | BZ29: 2 | CA29: 0 | CB29: 0 | CC29: 0 | CD29: 0 | CE29: 0 | CF29: 0 | CG29: 0 | CH29: 0 | CI29: 0 | CJ29: 0 | CK29: 0 | CL29: 2 | CM29: 0 | CN29: 0 | CO29: 0 | CP29: 0
A30: SP_PER | B30: IV | C30: 1.38 | D30: 0.025 | E30: 3 | F30: BGV006457 | G30: 0 | H30: 2 | I30: 2 | J30: 0 | K30: 0 | L30: 2 | M30: 0 | N30: 0 | O30: 0 | P30: 0 | Q30: 2 | R30: 0 | S30: 0 | T30: 0 | U30: 2 | V30: 0 | W30: 0 | X30: 0 | Y30: 0 | Z30: 0 | AA30: 0 | AB30: 0 | AC30: 2 | AD30: 0 | AE30: 0 | AF30: 0 | AG30: 0 | AH30: 0 | AI30: 2 | AJ30: 0 | AK30: 0 | AL30: 2 | AM30: 0 | AN30: 0 | AO30: 0 | AP30: 0 | AQ30: 0 | AR30: 2 | AS30: 0 | AT30: 0 | AU30: 0 | AV30: 0 | AW30: 0 | AX30: 0 | AY30: 0 | AZ30: 0 | BA30: 2 | BB30: 0 | BC30: 0 | BD30: 0 | BE30: 0 | BF30: 0 | BG30: 2 | BH30: 0 | BI30: 0 | BJ30: 2 | BK30: 0 | BL30: 0 | BM30: 2 | BN30: 0 | BO30: 2 | BP30: 0 | BQ30: 2 | BR30: 0 | BS30: 0 | BT30: 2 | BU30: 2 | BV30: 2 | BW30: 0 | BX30: 0 | BY30: 0 | BZ30: 2 | CA30: 0 | CB30: 0 | CC30: 0 | CD30: 0 | CE30: 0 | CF30: 0 | CG30: 0 | CH30: 0 | CI30: 0 | CJ30: 0 | CK30: 0 | CL30: 2 | CM30: 0 | CN30: 2 | CO30: 0 | CP30: 0
A31: SP_PER | B31: IV | C31: 1.06 | E31: 3 | F31: BGV006478 | G31: 2 | H31: 2 | I31: 0 | J31: 0 | K31: 2 | L31: 2 | M31: 2 | N31: 0 | O31: 0 | P31: 0 | Q31: 2 | R31: 0 | S31: 0 | T31: 0 | U31: 2 | V31: 0 | W31: 0 | X31: 0 | Y31: 0 | Z31: 0 | AA31: 0 | AB31: 0 | AC31: 2 | AD31: 0 | AE31: 0 | AF31: 0 | AG31: 0 | AH31: 0 | AI31: 2 | AJ31: 0 | AK31: 0 | AL31: 0 | AM31: 0 | AN31: 0 | AO31: 0 | AP31: 2 | AQ31: 0 | AR31: 2 | AS31: 2 | AT31: 0 | AU31: 2 | AV31: 2 | AW31: 0 | AX31: 2 | AY31: 0 | AZ31: 0 | BA31: 0 | BB31: 0 | BC31: 0 | BD31: 0 | BE31: 0 | BF31: 0 | BG31: 0 | BH31: 0 | BI31: 0 | BJ31: 0 | BK31: 0 | BL31: 0 | BM31: 0 | BN31: 2 | BO31: 0 | BP31: 0 | BQ31: 2 | BR31: 0 | BS31: 0 | BT31: 2 | BU31: 0 | BV31: 2 | BW31: 0 | BX31: 0 | BY31: 0 | BZ31: 0 | CA31: 0 | CB31: 0 | CC31: 0 | CD31: 0 | CE31: 0 | CF31: 0 | CG31: 0 | CH31: 0 | CI31: 0 | CJ31: 0 | CK31: 0 | CL31: 0 | CM31: 0 | CN31: 0 | CO31: 0 | CP31: 0
A32: SLC_ECU | B32: I | C32: 7.86 | D32: 0.0663 | E32: 3 | F32: BGV006753 | G32: 0 | H32: 0 | I32: 0 | J32: 0 | K32: 0 | L32: 0 | M32: 0 | N32: 0 | O32: 0 | P32: 0 | Q32: 0 | R32: 0 | S32: 0 | T32: 0 | U32: 0 | V32: 0 | W32: 0 | X32: 0 | Y32: 0 | Z32: 0 | AA32: 0 | AB32: 0 | AC32: 0 | AD32: 0 | AE32: 0 | AF32: 0 | AG32: 0 | AH32: 0 | AI32: 2 | AJ32: 0 | AK32: 0 | AL32: 0 | AM32: 0 | AN32: 0 | AO32: 0 | AP32: 0 | AQ32: 0 | AR32: 0 | AS32: 0 | AT32: 0 | AU32: 0 | AV32: 0 | AW32: 0 | AX32: 0 | AY32: 0 | AZ32: 0 | BA32: 0 | BB32: 0 | BC32: 0 | BD32: 0 | BE32: 0 | BF32: 0 | BG32: 0 | BH32: 0 | BI32: 0 | BJ32: 0 | BK32: 0 | BL32: 0 | BM32: 0 | BN32: 0 | BO32: 0 | BP32: 0 | BQ32: 0 | BR32: 0 | BS32: 0 | BT32: 0 | BU32: 0 | BV32: 0 | BW32: 0 | BX32: 0 | BY32: 0 | BZ32: 0 | CA32: 0 | CB32: 0 | CC32: 0 | CD32: 0 | CE32: 0 | CF32: 0 | CG32: 0 | CH32: 0 | CI32: 0 | CJ32: 0 | CK32: 0 | CL32: 0 | CM32: 0 | CN32: 0 | CO32: 0 | CP32: 0
A33: SLC_ADM | B33: I | C33: 5.52 | D33: 0.032016667 | E33: 3 | F33: BGV006767 | G33: 0 | H33: 0 | I33: 0 | J33: 0 | K33: 0 | L33: 0 | M33: 0 | N33: 0 | O33: 0 | P33: 0 | Q33: 0 | R33: 0 | S33: 0 | T33: 0 | U33: 0 | V33: 0 | W33: 0 | X33: 0 | Y33: 0 | Z33: 0 | AA33: 0 | AB33: 0 | AC33: 0 | AD33: 0 | AE33: 0 | AF33: 0 | AG33: 0 | AH33: 0 | AI33: 2 | AJ33: 0 | AK33: 0 | AL33: 0 | AM33: 0 | AN33: 0 | AO33: 0 | AP33: 0 | AQ33: 0 | AR33: 0 | AS33: 0 | AT33: 0 | AU33: 0 | AV33: 0 | AW33: 0 | AX33: 0 | AY33: 0 | AZ33: 0 | BA33: 0 | BB33: 0 | BC33: 0 | BD33: 0 | BE33: 0 | BF33: 0 | BG33: 0 | BH33: 0 | BI33: 0 | BJ33: 0 | BK33: 0 | BL33: 0 | BM33: 0 | BN33: 0 | BO33: 0 | BP33: 0 | BQ33: 0 | BR33: 0 | BS33: 0 | BT33: 0 | BU33: 0 | BV33: 0 | BW33: 0 | BX33: 0 | BY33: 0 | BZ33: 0 | CA33: 0 | CB33: 0 | CC33: 0 | CD33: 0 | CE33: 0 | CF33: 0 | CG33: 0 | CH33: 0 | CI33: 0 | CJ33: 0 | CK33: 0 | CL33: 0 | CM33: 0 | CN33: 0 | CO33: 0 | CP33: 0
A34: SLC_ECU | B34: I | C34: 14.84 | D34: 0.079266667 | E34: 3 | F34: BGV006768 | G34: 0 | H34: 0 | I34: 0 | J34: 0 | K34: 0 | L34: 0 | M34: 0 | N34: 0 | O34: 0 | P34: 0 | Q34: 0 | R34: 0 | S34: 0 | T34: 0 | U34: 0 | V34: 0 | W34: 0 | X34: 0 | Y34: 0 | Z34: 0 | AA34: 0 | AB34: 0 | AC34: 0 | AD34: 0 | AE34: 0 | AF34: 0 | AG34: 0 | AH34: 0 | AI34: 2 | AJ34: 0 | AK34: 0 | AL34: 0 | AM34: 0 | AN34: 0 | AO34: 0 | AP34: 0 | AQ34: 0 | AR34: 0 | AS34: 0 | AT34: 0 | AU34: 0 | AV34: 0 | AW34: 0 | AX34: 0 | AY34: 0 | AZ34: 0 | BA34: 0 | BB34: 0 | BC34: 0 | BD34: 0 | BE34: 0 | BF34: 0 | BG34: 0 | BH34: 0 | BI34: 0 | BJ34: 0 | BK34: 0 | BL34: 0 | BM34: 0 | BN34: 0 | BO34: 0 | BP34: 0 | BQ34: 0 | BR34: 0 | BS34: 0 | BT34: 0 | BU34: 0 | BV34: 0 | BW34: 0 | BX34: 0 | BY34: 0 | BZ34: 0 | CA34: 0 | CB34: 0 | CC34: 0 | CD34: 0 | CE34: 0 | CF34: 0 | CG34: 0 | CH34: 0 | CI34: 0 | CJ34: 0 | CK34: 0 | CL34: 0 | CM34: 0 | CN34: 0 | CO34: 0 | CP34: 0
A35: SP_NECU | B35: V | C35: 1.99 | D35: 0.037416667 | E35: 3 | F35: BGV006775 | G35: 0 | H35: 2 | I35: 0 | J35: 0 | K35: 0 | L35: 2 | M35: 0 | N35: 2 | O35: 0 | P35: 0 | Q35: 2 | R35: 0 | S35: 0 | T35: 0 | U35: 2 | V35: 0 | W35: 2 | X35: 0 | Y35: 0 | Z35: 2 | AA35: 0 | AB35: 0 | AC35: 2 | AD35: 0 | AE35: 2 | AF35: 0 | AG35: 2 | AH35: 2 | AI35: 2 | AJ35: 0 | AK35: 2 | AL35: 0 | AM35: 0 | AN35: 0 | AO35: NA | AP35: NA | AQ35: NA | AR35: 2 | AS35: 2 | AT35: 2 | AU35: 2 | AV35: 2 | AW35: 2 | AX35: 0 | AY35: 2 | AZ35: 2 | BA35: 0 | BB35: 0 | BC35: 0 | BD35: 0 | BE35: 2 | BF35: 2 | BG35: 2 | BH35: 0 | BI35: 0 | BJ35: 2 | BK35: 2 | BL35: 0 | BM35: 2 | BN35: 0 | BO35: 0 | BP35: 2 | BQ35: 2 | BR35: 2 | BS35: 0 | BT35: 2 | BU35: 0 | BV35: NA | BW35: 0 | BX35: 0 | BY35: 0 | BZ35: 0 | CA35: 0 | CB35: 0 | CC35: 0 | CD35: 2 | CE35: 0 | CF35: 0 | CG35: 2 | CH35: 0 | CI35: 2 | CJ35: 2 | CK35: 0 | CL35: 0 | CM35: 0 | CN35: 0 | CO35: NA | CP35: 0
A36: SLC_ECU | B36: I | C36: 9.38 | D36: 0.0903875 | E36: 3 | F36: BGV006777 | G36: 0 | H36: 0 | I36: 0 | J36: 0 | K36: 0 | L36: 0 | M36: 0 | N36: 0 | O36: 0 | P36: 0 | Q36: 0 | R36: 0 | S36: 0 | T36: 0 | U36: 0 | V36: 0 | W36: 0 | X36: 0 | Y36: 0 | Z36: 0 | AA36: 0 | AB36: 0 | AC36: 0 | AD36: 0 | AE36: 0 | AF36: 0 | AG36: 0 | AH36: 0 | AI36: 2 | AJ36: 0 | AK36: 0 | AL36: 0 | AM36: 0 | AN36: 0 | AO36: 0 | AP36: 0 | AQ36: 0 | AR36: 0 | AS36: 0 | AT36: 0 | AU36: 0 | AV36: 0 | AW36: 0 | AX36: 0 | AY36: 0 | AZ36: 0 | BA36: 0 | BB36: 0 | BC36: 0 | BD36: 0 | BE36: 0 | BF36: 0 | BG36: 0 | BH36: 0 | BI36: 0 | BJ36: 0 | BK36: 0 | BL36: 0 | BM36: 0 | BN36: 0 | BO36: 0 | BP36: 0 | BQ36: 0 | BR36: 0 | BS36: 0 | BT36: 0 | BU36: 0 | BV36: 0 | BW36: 0 | BX36: 0 | BY36: 0 | BZ36: 0 | CA36: 0 | CB36: 0 | CC36: 0 | CD36: 0 | CE36: 0 | CF36: 0 | CG36: 0 | CH36: 0 | CI36: 0 | CJ36: 0 | CK36: 0 | CL36: 0 | CM36: 0 | CN36: 0 | CO36: 0 | CP36: 0
A37: SLC_ECU | B37: I | C37: 13.37 | D37: 0.129025 | E37: 3 | F37: BGV006779 | G37: 0 | H37: 0 | I37: 0 | J37: 0 | K37: 0 | L37: 0 | M37: 0 | N37: 0 | O37: 0 | P37: 0 | Q37: 0 | R37: 0 | S37: 0 | T37: 0 | U37: 0 | V37: 0 | W37: 0 | X37: 0 | Y37: 0 | Z37: 0 | AA37: 0 | AB37: 0 | AC37: 0 | AD37: 0 | AE37: 0 | AF37: 0 | AG37: 0 | AH37: 0 | AI37: 2 | AJ37: 0 | AK37: 0 | AL37: 0 | AM37: 0 | AN37: 0 | AO37: 0 | AP37: 0 | AQ37: 0 | AR37: 0 | AS37: 0 | AT37: 0 | AU37: 0 | AV37: 0 | AW37: 0 | AX37: 0 | AY37: 0 | AZ37: 0 | BA37: 0 | BB37: 0 | BC37: 0 | BD37: 0 | BE37: 0 | BF37: 0 | BG37: 0 | BH37: 0 | BI37: 0 | BJ37: 0 | BK37: 0 | BL37: 0 | BM37: 0 | BN37: 0 | BO37: 0 | BP37: 0 | BQ37: 0 | BR37: 0 | BS37: 0 | BT37: 0 | BU37: 0 | BV37: 0 | BW37: 0 | BX37: 0 | BY37: 0 | BZ37: 0 | CA37: 0 | CB37: 0 | CC37: 0 | CD37: 0 | CE37: 0 | CF37: 0 | CG37: 0 | CH37: 0 | CI37: 0 | CJ37: 0 | CK37: 0 | CL37: 0 | CM37: 0 | CN37: 0 | CO37: 0 | CP37: 0
A38: SLC_ECU | B38: I | C38: 15.26 | D38: 0.11546667 | E38: 3 | F38: BGV006792 | G38: 0 | H38: 0 | I38: 0 | J38: 0 | K38: 0 | L38: 0 | M38: 0 | N38: 0 | O38: 0 | P38: 0 | Q38: 0 | R38: 0 | S38: 0 | T38: 0 | U38: 0 | V38: 0 | W38: 0 | X38: 0 | Y38: 0 | Z38: 0 | AA38: 0 | AB38: 0 | AC38: 0 | AD38: 0 | AE38: 0 | AF38: 0 | AG38: 0 | AH38: 0 | AI38: 2 | AJ38: 0 | AK38: 0 | AL38: 0 | AM38: 0 | AN38: 0 | AO38: 0 | AP38: 0 | AQ38: 0 | AR38: 0 | AS38: 0 | AT38: 0 | AU38: 0 | AV38: 0 | AW38: 0 | AX38: 0 | AY38: 0 | AZ38: 0 | BA38: 0 | BB38: 0 | BC38: 0 | BD38: 0 | BE38: 0 | BF38: 0 | BG38: 0 | BH38: 0 | BI38: 0 | BJ38: 0 | BK38: 0 | BL38: 0 | BM38: 0 | BN38: 0 | BO38: 0 | BP38: 0 | BQ38: 0 | BR38: 0 | BS38: 0 | BT38: 0 | BU38: 0 | BV38: 0 | BW38: 0 | BX38: 0 | BY38: 0 | BZ38: 0 | CA38: 0 | CB38: 0 | CC38: 0 | CD38: 0 | CE38: 0 | CF38: 0 | CG38: 0 | CH38: 0 | CI38: 0 | CJ38: 0 | CK38: 0 | CL38: 0 | CM38: 0 | CN38: 0 | CO38: 0 | CP38: 0
A39: SLC_ECU | B39: I | C39: 5.74 | D39: 0.064325 | E39: 3 | F39: BGV006806 | G39: 0 | H39: 0 | I39: 0 | J39: 0 | K39: 0 | L39: 0 | M39: 0 | N39: 0 | O39: 0 | P39: 0 | Q39: 0 | R39: 0 | S39: 0 | T39: 0 | U39: 0 | V39: 0 | W39: 0 | X39: 0 | Y39: 0 | Z39: 0 | AA39: 0 | AB39: 0 | AC39: 0 | AD39: 0 | AE39: 0 | AF39: 0 | AG39: 0 | AH39: 0 | AI39: 2 | AJ39: 0 | AK39: 0 | AL39: 0 | AM39: 0 | AN39: 0 | AO39: 0 | AP39: 0 | AQ39: 0 | AR39: 0 | AS39: 0 | AT39: 0 | AU39: 0 | AV39: 0 | AW39: 0 | AX39: 0 | AY39: 0 | AZ39: 0 | BA39: 0 | BB39: 0 | BC39: 0 | BD39: 0 | BE39: 0 | BF39: 0 | BG39: 0 | BH39: 0 | BI39: 0 | BJ39: 0 | BK39: 0 | BL39: 0 | BM39: 0 | BN39: 0 | BO39: 0 | BP39: 0 | BQ39: 0 | BR39: 0 | BS39: 0 | BT39: 0 | BU39: 0 | BV39: 0 | BW39: 0 | BX39: 0 | BY39: 0 | BZ39: 0 | CA39: 0 | CB39: 0 | CC39: 0 | CD39: 0 | CE39: 0 | CF39: 0 | CG39: 0 | CH39: 0 | CI39: 0 | CJ39: 0 | CK39: 0 | CL39: 0 | CM39: 0 | CN39: 0 | CO39: 0 | CP39: 0
A40: SLC_PER | B40: I | C40: 23.58 | D40: 0.10945 | E40: 2 | F40: BGV006825 | G40: 0 | H40: 0 | I40: 0 | J40: 0 | K40: 0 | L40: 0 | M40: 0 | N40: 0 | O40: 0 | P40: 0 | Q40: 0 | R40: 0 | S40: 0 | T40: 0 | U40: 0 | V40: 0 | W40: 0 | X40: 0 | Y40: 0 | Z40: 0 | AA40: 0 | AB40: 0 | AC40: 0 | AD40: 0 | AE40: 0 | AF40: 0 | AG40: 0 | AH40: 0 | AI40: 2 | AJ40: 0 | AK40: 0 | AL40: 0 | AM40: 0 | AN40: 0 | AO40: 0 | AP40: 0 | AQ40: 0 | AR40: 0 | AS40: 0 | AT40: 0 | AU40: 0 | AV40: 0 | AW40: 0 | AX40: 0 | AY40: 0 | AZ40: 0 | BA40: 0 | BB40: 0 | BC40: 0 | BD40: 0 | BE40: 0 | BF40: 0 | BG40: 0 | BH40: 0 | BI40: 0 | BJ40: 0 | BK40: 0 | BL40: 0 | BM40: 0 | BN40: 0 | BO40: 0 | BP40: 0 | BQ40: 0 | BR40: 0 | BS40: 0 | BT40: 0 | BU40: 0 | BV40: 0 | BW40: 0 | BX40: 0 | BY40: 0 | BZ40: 0 | CA40: 0 | CB40: 0 | CC40: 0 | CD40: 0 | CE40: 0 | CF40: 0 | CG40: 0 | CH40: 0 | CI40: 0 | CJ40: 0 | CK40: 0 | CL40: 0 | CM40: 0 | CN40: 0 | CO40: 0 | CP40: 0
A41: SLC_ECU | B41: I | C41: 15.98 | D41: 0.039908333 | E41: 3 | F41: BGV006828 | G41: 0 | H41: 0 | I41: 0 | J41: 0 | K41: 0 | L41: 0 | M41: 0 | N41: 0 | O41: 0 | P41: 0 | Q41: 0 | R41: 0 | S41: 0 | T41: 0 | U41: 0 | V41: 0 | W41: 0 | X41: 0 | Y41: 0 | Z41: 0 | AA41: 0 | AB41: 0 | AC41: 0 | AD41: 0 | AE41: 0 | AF41: 0 | AG41: 0 | AH41: 0 | AI41: 2 | AJ41: 0 | AK41: 0 | AL41: 0 | AM41: 0 | AN41: 0 | AO41: 0 | AP41: 0 | AQ41: 0 | AR41: 0 | AS41: 0 | AT41: 0 | AU41: 0 | AV41: 0 | AW41: 0 | AX41: 0 | AY41: 0 | AZ41: 0 | BA41: 0 | BB41: 0 | BC41: 0 | BD41: 0 | BE41: 0 | BF41: 0 | BG41: 0 | BH41: 0 | BI41: 0 | BJ41: 0 | BK41: 0 | BL41: 0 | BM41: 0 | BN41: 0 | BO41: 0 | BP41: 0 | BQ41: 0 | BR41: 0 | BS41: 0 | BT41: 0 | BU41: 0 | BV41: 0 | BW41: 0 | BX41: 0 | BY41: 0 | BZ41: 0 | CA41: 0 | CB41: 0 | CC41: 0 | CD41: 0 | CE41: 0 | CF41: 0 | CG41: 0 | CH41: 0 | CI41: 0 | CJ41: 0 | CK41: 0 | CL41: 0 | CM41: 0 | CN41: 0 | CO41: 0 | CP41: 0
A42: SLC_ECU | B42: I | C42: 24.27 | D42: 0.079018182 | E42: 3 | F42: BGV006852 | G42: 0 | H42: 0 | I42: 0 | J42: 0 | K42: 0 | L42: 0 | M42: 0 | N42: 0 | O42: 0 | P42: 0 | Q42: 0 | R42: 0 | S42: 0 | T42: 0 | U42: 0 | V42: 0 | W42: 0 | X42: 0 | Y42: 0 | Z42: 0 | AA42: 0 | AB42: 0 | AC42: 0 | AD42: 0 | AE42: 0 | AF42: 0 | AG42: 0 | AH42: 0 | AI42: 2 | AJ42: 0 | AK42: 0 | AL42: 0 | AM42: 0 | AN42: 0 | AO42: 0 | AP42: 0 | AQ42: 0 | AR42: 0 | AS42: 0 | AT42: 0 | AU42: 0 | AV42: 0 | AW42: 0 | AX42: 0 | AY42: 0 | AZ42: 0 | BA42: 0 | BB42: 0 | BC42: 0 | BD42: 0 | BE42: 0 | BF42: 0 | BG42: 0 | BH42: 0 | BI42: 0 | BJ42: 0 | BK42: 0 | BL42: 0 | BM42: 0 | BN42: 0 | BO42: 0 | BP42: 0 | BQ42: 0 | BR42: 0 | BS42: 0 | BT42: 0 | BU42: 0 | BV42: 0 | BW42: 0 | BX42: 0 | BY42: 0 | BZ42: 0 | CA42: 0 | CB42: 0 | CC42: 0 | CD42: 0 | CE42: 0 | CF42: 0 | CG42: 0 | CH42: 0 | CI42: 0 | CJ42: 0 | CK42: 0 | CL42: 0 | CM42: 0 | CN42: 0 | CO42: 0 | CP42: 0
A43: SLC_ECU | B43: I | C43: 4.33 | D43: 0.030722222 | E43: 3 | F43: BGV006859 | G43: 0 | H43: 0 | I43: 0 | J43: 0 | K43: 0 | L43: 0 | M43: 0 | N43: 0 | O43: 0 | P43: 0 | Q43: 0 | R43: 0 | S43: 0 | T43: 0 | U43: 0 | V43: 0 | W43: 0 | X43: 0 | Y43: 0 | Z43: 0 | AA43: 0 | AB43: 0 | AC43: 0 | AD43: 0 | AE43: 0 | AF43: 0 | AG43: 0 | AH43: 0 | AI43: 2 | AJ43: 0 | AK43: 0 | AL43: 0 | AM43: 0 | AN43: 0 | AO43: 0 | AP43: 0 | AQ43: 0 | AR43: 0 | AS43: 0 | AT43: 0 | AU43: 0 | AV43: 0 | AW43: 0 | AX43: 0 | AY43: 0 | AZ43: 0 | BA43: 0 | BB43: 0 | BC43: 0 | BD43: 0 | BE43: 0 | BF43: 0 | BG43: 0 | BH43: 0 | BI43: 0 | BJ43: 0 | BK43: 0 | BL43: 0 | BM43: 0 | BN43: 0 | BO43: 0 | BP43: 0 | BQ43: 0 | BR43: 0 | BS43: 0 | BT43: 0 | BU43: 0 | BV43: 0 | BW43: 0 | BX43: 0 | BY43: 0 | BZ43: 0 | CA43: 0 | CB43: 0 | CC43: 0 | CD43: 0 | CE43: 0 | CF43: 0 | CG43: 0 | CH43: 0 | CI43: 0 | CJ43: 0 | CK43: 0 | CL43: 0 | CM43: 0 | CN43: 0 | CO43: 0 | CP43: 0
A44: SLC_ECU | B44: I | C44: 4.17 | D44: 0.027129167 | E44: 3 | F44: BGV006865 | G44: 0 | H44: 0 | I44: 0 | J44: 0 | K44: 0 | L44: 0 | M44: 0 | N44: 0 | O44: 0 | P44: 0 | Q44: 0 | R44: 0 | S44: 0 | T44: 0 | U44: 0 | V44: 0 | W44: 0 | X44: 0 | Y44: 0 | Z44: 0 | AA44: 0 | AB44: 0 | AC44: 0 | AD44: 0 | AE44: 0 | AF44: 0 | AG44: 0 | AH44: 0 | AI44: 2 | AJ44: 0 | AK44: 0 | AL44: 0 | AM44: 0 | AN44: 0 | AO44: 0 | AP44: 0 | AQ44: 0 | AR44: 0 | AS44: 0 | AT44: 0 | AU44: 0 | AV44: 0 | AW44: 0 | AX44: 0 | AY44: 0 | AZ44: 0 | BA44: 0 | BB44: 0 | BC44: 0 | BD44: 0 | BE44: 0 | BF44: 0 | BG44: 0 | BH44: 0 | BI44: 0 | BJ44: 0 | BK44: 0 | BL44: 0 | BM44: 0 | BN44: 0 | BO44: 0 | BP44: 0 | BQ44: 0 | BR44: 0 | BS44: 0 | BT44: 0 | BU44: 0 | BV44: 0 | BW44: 0 | BX44: 0 | BY44: 0 | BZ44: 0 | CA44: 0 | CB44: 0 | CC44: 0 | CD44: 0 | CE44: 0 | CF44: 0 | CG44: 0 | CH44: 0 | CI44: 0 | CJ44: 0 | CK44: 0 | CL44: 0 | CM44: 0 | CN44: 0 | CO44: 0 | CP44: 0
A45: SLC_ECU | B45: II | C45: 5.06 | D45: 0.040276667 | E45: 3 | F45: BGV006867 | G45: 0 | H45: 0 | I45: 0 | J45: 0 | K45: 0 | L45: 0 | M45: 0 | N45: 0 | O45: 0 | P45: 0 | Q45: 0 | R45: 0 | S45: 0 | T45: 0 | U45: 0 | V45: 0 | W45: 0 | X45: 0 | Y45: 0 | Z45: 0 | AA45: 0 | AB45: 0 | AC45: 0 | AD45: 0 | AE45: 0 | AF45: 0 | AG45: 0 | AH45: 0 | AI45: 0 | AJ45: 0 | AK45: 0 | AL45: 0 | AM45: 0 | AN45: 0 | AO45: 0 | AP45: 0 | AQ45: 0 | AR45: 0 | AS45: 0 | AT45: 0 | AU45: 0 | AV45: 0 | AW45: 0 | AX45: 0 | AY45: 0 | AZ45: 0 | BA45: 0 | BB45: 0 | BC45: 0 | BD45: 0 | BE45: 0 | BF45: 0 | BG45: 0 | BH45: 0 | BI45: 0 | BJ45: 0 | BK45: 0 | BL45: 0 | BM45: 0 | BN45: 0 | BO45: 0 | BP45: 0 | BQ45: 0 | BR45: 0 | BS45: 0 | BT45: 0 | BU45: 0 | BV45: 0 | BW45: 0 | BX45: 0 | BY45: 0 | BZ45: 0 | CA45: 0 | CB45: 0 | CC45: 0 | CD45: 0 | CE45: 0 | CF45: 0 | CG45: 0 | CH45: 0 | CI45: 0 | CJ45: 0 | CK45: 0 | CL45: 0 | CM45: 0 | CN45: 0 | CO45: 0 | CP45: 0
A46: SLC_ECU | B46: I | C46: 8.28 | D46: 0.0306 | E46: 3 | F46: BGV006881 | G46: 0 | H46: 0 | I46: 0 | J46: 0 | K46: 0 | L46: 0 | M46: 0 | N46: 0 | O46: 0 | P46: 0 | Q46: 0 | R46: 0 | S46: 0 | T46: 0 | U46: 0 | V46: 0 | W46: 0 | X46: 0 | Y46: 0 | Z46: 0 | AA46: 0 | AB46: 0 | AC46: 0 | AD46: 0 | AE46: 0 | AF46: 0 | AG46: 0 | AH46: 0 | AI46: 2 | AJ46: 0 | AK46: 0 | AL46: 0 | AM46: 0 | AN46: 0 | AO46: 0 | AP46: 0 | AQ46: 0 | AR46: 0 | AS46: 0 | AT46: 0 | AU46: 0 | AV46: 0 | AW46: 0 | AX46: 0 | AY46: 0 | AZ46: 0 | BA46: 0 | BB46: 0 | BC46: 0 | BD46: 0 | BE46: 0 | BF46: 0 | BG46: 0 | BH46: 0 | BI46: 0 | BJ46: 0 | BK46: 0 | BL46: 0 | BM46: 0 | BN46: 0 | BO46: 0 | BP46: 0 | BQ46: 0 | BR46: 0 | BS46: 0 | BT46: 0 | BU46: 0 | BV46: 0 | BW46: 0 | BX46: 0 | BY46: 0 | BZ46: 0 | CA46: 0 | CB46: 0 | CC46: 0 | CD46: 0 | CE46: 0 | CF46: 0 | CG46: 0 | CH46: 0 | CI46: 0 | CJ46: 0 | CK46: 0 | CL46: 0 | CM46: 0 | CN46: 0 | CO46: 0 | CP46: 0
A47: SLC_ECU | B47: I | C47: 5.53 | D47: 0.034266667 | E47: 3 | F47: BGV006896 | G47: 0 | H47: 0 | I47: 0 | J47: 0 | K47: 0 | L47: 0 | M47: 0 | N47: 0 | O47: 0 | P47: 0 | Q47: 0 | R47: 0 | S47: 0 | T47: 0 | U47: 0 | V47: 0 | W47: 0 | X47: 0 | Y47: 0 | Z47: 0 | AA47: 0 | AB47: 0 | AC47: 0 | AD47: 0 | AE47: 0 | AF47: 0 | AG47: 0 | AH47: 0 | AI47: 2 | AJ47: 0 | AK47: 0 | AL47: 0 | AM47: 0 | AN47: 0 | AO47: 0 | AP47: 0 | AQ47: 0 | AR47: 0 | AS47: 0 | AT47: 0 | AU47: 0 | AV47: 0 | AW47: 0 | AX47: 0 | AY47: 0 | AZ47: 0 | BA47: 0 | BB47: 0 | BC47: 0 | BD47: 0 | BE47: 0 | BF47: 0 | BG47: 0 | BH47: 0 | BI47: 0 | BJ47: 0 | BK47: 0 | BL47: 0 | BM47: 0 | BN47: 0 | BO47: 0 | BP47: 0 | BQ47: 0 | BR47: 0 | BS47: 0 | BT47: 0 | BU47: 0 | BV47: 0 | BW47: 0 | BX47: 0 | BY47: 0 | BZ47: 0 | CA47: 0 | CB47: 0 | CC47: 0 | CD47: 0 | CE47: 0 | CF47: 0 | CG47: 0 | CH47: 0 | CI47: 0 | CJ47: 0 | CK47: 0 | CL47: 0 | CM47: 0 | CN47: 0 | CO47: 0 | CP47: 0
... A59: SLC_ECU | B59: I | C59: 10.34 | D59: 0.063233333 | E59: 3 | F59: BGV007023 | G59: 0 | H59: 0 | I59: 0 | J59: 0 | K59: 0 | L59: 0 | M59: 0 | N59: 0 | O59: 0 | P59: 0 | Q59: 0 | R59: 0 | S59: 0 | T59: 0 | U59: 0 | V59: 0 | W59: 0 | X59: 0 | Y59: 0 | Z59: 0 | AA59: 0 | AB59: 0 | AC59: 0 | AD59: 0 | AE59: 0 | AF59: 0 | AG59: 0 | AH59: 0 | AI59: 2 | AJ59: 0 | AK59: 0 | AL59: 0 | AM59: 0 | AN59: 0 | AO59: 0 | AP59: 0 | AQ59: 0 | AR59: 0 | AS59: 0 | AT59: 0 | AU59: 0 | AV59: 0 | AW59: 0 | AX59: 0 | AY59: 0 | AZ59: 0 | BA59: 0 | BB59: 0 | BC59: 0 | BD59: 0 | BE59: 0 | BF59: 0 | BG59: 0 | BH59: 0 | BI59: 0 | BJ59: 0 | BK59: 2 | BL59: 0 | BM59: 0 | BN59: 0 | BO59: 0 | BP59: 0 | BQ59: 0 | BR59: 0 | BS59: 0 | BT59: 0 | BU59: 0 | BV59: 0 | BW59: 0 | BX59: 0 | BY59: 0 | BZ59: 0 | CA59: 0 | CB59: 0 | CC59: 0 | CD59: 0 | CE59: 0 | CF59: 0 | CG59: 0 | CH59: 0 | CI59: 0 | CJ59: 0 | CK59: 0 | CL59: 0 | CM59: 0 | CN59: 0 | CO59: 0 | CP59: 0
A60: SP_NECU | B60: V | C60: 1.14 | D60: 0.037616667 | E60: 3 | F60: BGV007109 | G60: 0 | H60: 2 | I60: 0 | J60: 0 | K60: 0 | L60: 2 | M60: 0 | N60: 2 | O60: 0 | P60: 0 | Q60: 2 | R60: 0 | S60: 0 | T60: 0 | U60: 2 | V60: 0 | W60: 2 | X60: 0 | Y60: 0 | Z60: 2 | AA60: 0 | AB60: 0 | AC60: 2 | AD60: 0 | AE60: 2 | AF60: 0 | AG60: 2 | AH60: 2 | AI60: 2 | AJ60: 0 | AK60: 2 | AL60: 0 | AM60: 0 | AN60: 0 | AO60: NA | AP60: NA | AQ60: NA | AR60: 2 | AS60: 2 | AT60: 2 | AU60: 2 | AV60: 2 | AW60: 2 | AX60: 0 | AY60: 2 | AZ60: 2 | BA60: 0 | BB60: 0 | BC60: 0 | BD60: 0 | BE60: 2 | BF60: 2 | BG60: 2 | BH60: 0 | BI60: 0 | BJ60: 2 | BK60: 2 | BL60: 0 | BM60: 2 | BN60: 0 | BO60: 0 | BP60: 2 | BQ60: 2 | BR60: 2 | BS60: 0 | BT60: 2 | BU60: 0 | BV60: 2 | BW60: 0 | BX60: 0 | BY60: 0 | BZ60: 0 | CA60: 2 | CB60: 0 | CC60: 0 | CD60: 2 | CE60: 0 | CF60: 0 | CG60: 2 | CH60: 0 | CI60: 2 | CJ60: 2 | CK60: 0 | CL60: 0 | CM60: 0 | CN60: 0 | CO60: NA | CP60: 0
A61: SP_NECU | B61: V | C61: 1.21 | D61: 0.024 | E61: 3 | F61: BGV007111 | G61: 0 | H61: 2 | I61: 0 | J61: 0 | K61: 0 | L61: 2 | M61: 0 | N61: 2 | O61: 0 | P61: 0 | Q61: 2 | R61: 0 | S61: 0 | T61: 0 | U61: 2 | V61: 0 | W61: 2 | X61: 0 | Y61: 0 | Z61: 1 | AA61: 0 | AB61: 0 | AC61: 1 | AD61: 0 | AE61: 1 | AF61: 0 | AG61: 2 | AH61: 2 | AI61: 2 | AJ61: 0 | AK61: 2 | AL61: 0 | AM61: 0 | AN61: 0 | AO61: 2 | AP61: 2 | AQ61: 2 | AR61: NA | AS61: 2 | AT61: 2 | AU61: 2 | AV61: 2 | AW61: 2 | AX61: 0 | AY61: 2 | AZ61: 2 | BA61: 0 | BB61: 0 | BC61: 0 | BD61: 0 | BE61: 2 | BF61: 2 | BG61: 2 | BH61: 0 | BI61: 0 | BJ61: 2 | BK61: 2 | BL61: 0 | BM61: 2 | BN61: 0 | BO61: 0 | BP61: 2 | BQ61: 2 | BR61: 2 | BS61: 0 | BT61: 2 | BU61: 0 | BV61: NA | BW61: 0 | BX61: 0 | BY61: 0 | BZ61: 0 | CA61: 2 | CB61: 0 | CC61: 0 | CD61: 2 | CE61: 0 | CF61: 0 | CG61: 2 | CH61: 0 | CI61: 2 | CJ61: 2 | CK61: 0 | CL61: 0 | CM61: 0 | CN61: 0 | CO61: 0 | CP61: 0
A62: SP_NECU | B62: V | C62: 1.85 | D62: 0.02303 | E62: 3 | F62: BGV007149 | G62: 0 | H62: 2 | I62: 0 | J62: 0 | K62: 0 | L62: 2 | M62: 0 | N62: 2 | O62: 0 | P62: 0 | Q62: 2 | R62: 0 | S62: 0 | T62: 0 | U62: 2 | V62: 0 | W62: 2 | X62: 0 | Y62: 0 | Z62: 2 | AA62: 0 | AB62: 0 | AC62: 2 | AD62: 0 | AE62: 2 | AF62: 0 | AG62: 2 | AH62: 2 | AI62: 2 | AJ62: 0 | AK62: 2 | AL62: 0 | AM62: 0 | AN62: 0 | AO62: NA | AP62: NA | AQ62: NA | AR62: 2 | AS62: 2 | AT62: 2 | AU62: 2 | AV62: 2 | AW62: 2 | AX62: 0 | AY62: 2 | AZ62: 2 | BA62: 0 | BB62: 0 | BC62: 0 | BD62: 0 | BE62: 2 | BF62: 2 | BG62: 2 | BH62: 0 | BI62: 0 | BJ62: 2 | BK62: 2 | BL62: 0 | BM62: 2 | BN62: 0 | BO62: 0 | BP62: 2 | BQ62: 2 | BR62: 2 | BS62: 0 | BT62: 2 | BU62: 0 | BV62: 2 | BW62: 0 | BX62: 0 | BY62: 0 | BZ62: 0 | CA62: 0 | CB62: 0 | CC62: 0 | CD62: 2 | CE62: 0 | CF62: 0 | CG62: 2 | CH62: 0 | CI62: 2 | CJ62: NA | CK62: NA | CL62: NA | CM62: NA | CN62: NA | CO62: 0 | CP62: 0
A63: SP_SECU | B63: VI | C63: 1.51 | D63: 0.024666667 | E63: 3 | F63: BGV007151 | G63: NA | H63: 2 | I63: 0 | J63: 0 | K63: 2 | L63: 2 | M63: 2 | N63: 0 | O63: 0 | P63: 2 | Q63: 2 | R63: 2 | S63: 2 | T63: 2 | U63: 2 | V63: 0 | W63: 0 | X63: 0 | Y63: 2 | Z63: 0 | AA63: 0 | AB63: 0 | AC63: 2 | AD63: 2 | AE63: 2 | AF63: 2 | AG63: 0 | AH63: 0 | AI63: 2 | AJ63: 0 | AK63: 0 | AL63: 0 | AM63: 0 | AN63: 0 | AO63: 2 | AP63: 2 | AQ63: 0 | AR63: 2 | AS63: 2 | AT63: 2 | AU63: 2 | AV63: 2 | AW63: 2 | AX63: 0 | AY63: 2 | AZ63: 2 | BA63: 0 | BB63: 2 | BC63: 0 | BD63: 0 | BE63: 2 | BF63: 2 | BG63: 2 | BH63: 0 | BI63: 0 | BJ63: 2 | BK63: 2 | BL63: 0 | BM63: 2 | BN63: 0 | BO63: 0 | BP63: 0 | BQ63: 2 | BR63: 2 | BS63: 0 | BT63: 2 | BU63: 0 | BV63: 2 | BW63: 0 | BX63: 0 | BY63: 2 | BZ63: 0 | CA63: 0 | CB63: 0 | CC63: 0 | CD63: 2 | CE63: 0 | CF63: 0 | CG63: 2 | CH63: 0 | CI63: 2 | CJ63: 2 | CK63: 0 | CL63: 0 | CM63: 0 | CN63: 0 | CO63: 0 | CP63: 0
A64: SP_NECU | B64: V | C64: 2.04 | D64: 0.033566667 | E64: 3 | F64: BGV007152 | G64: 0 | H64: 2 | I64: 0 | J64: 0 | K64: 0 | L64: 2 | M64: 0 | N64: 2 | O64: 0 | P64: 0 | Q64: 2 | R64: 0 | S64: 0 | T64: 0 | U64: 2 | V64: 0 | W64: 2 | X64: 0 | Y64: 0 | Z64: 2 | AA64: 0 | AB64: 0 | AC64: 2 | AD64: 0 | AE64: 2 | AF64: 0 | AG64: 2 | AH64: 2 | AI64: 2 | AJ64: 0 | AK64: 2 | AL64: 0 | AM64: 0 | AN64: 0 | AO64: 2 | AP64: 2 | AQ64: 2 | AR64: 2 | AS64: 2 | AT64: 2 | AU64: 2 | AV64: 2 | AW64: 2 | AX64: 0 | AY64: 2 | AZ64: 2 | BA64: 0 | BB64: 0 | BC64: 0 | BD64: 0 | BE64: 2 | BF64: 2 | BG64: 2 | BH64: 0 | BI64: 0 | BJ64: 2 | BK64: 2 | BL64: 0 | BM64: 2 | BN64: 0 | BO64: 0 | BP64: 2 | BQ64: 2 | BR64: 2 | BS64: 0 | BT64: 2 | BU64: 0 | BV64: 2 | BW64: 0 | BX64: 0 | BY64: 0 | BZ64: 0 | CA64: 0 | CB64: 0 | CC64: 0 | CD64: 2 | CE64: 0 | CF64: 0 | CG64: 2 | CH64: 0 | CI64: 2 | CJ64: 2 | CK64: 0 | CL64: 0 | CM64: 0 | CN64: 0 | CO64: NA | CP64: 0
A65: SP_NECU | B65: VI | C65: 1.63 | D65: 0.021291667 | E65: 3 | F65: BGV007158 | G65: 0 | H65: 2 | I65: 0 | J65: 2 | K65: 2 | L65: 2 | M65: 2 | N65: 0 | O65: 2 | P65: 0 | Q65: 2 | R65: 0 | S65: 0 | T65: 2 | U65: 2 | V65: 0 | W65: 0 | X65: 2 | Y65: 0 | Z65: 0 | AA65: 2 | AB65: 0 | AC65: 2 | AD65: 2 | AE65: 2 | AF65: 2 | AG65: 0 | AH65: 0 | AI65: 2 | AJ65: 0 | AK65: 0 | AL65: 0 | AM65: 0 | AN65: 0 | AO65: NA | AP65: NA | AQ65: NA | AR65: 2 | AS65: 2 | AT65: 2 | AU65: 2 | AV65: 2 | AW65: 2 | AX65: 0 | AY65: 2 | AZ65: 2 | BA65: 0 | BB65: 0 | BC65: 0 | BD65: 0 | BE65: 2 | BF65: 2 | BG65: 2 | BH65: 0 | BI65: 0 | BJ65: 2 | BK65: 2 | BL65: 0 | BM65: 2 | BN65: 0 | BO65: 0 | BP65: 0 | BQ65: 2 | BR65: 2 | BS65: 0 | BT65: 2 | BU65: NA | BV65: NA | BW65: 0 | BX65: 0 | BY65: 0 | BZ65: 0 | CA65: 0 | CB65: 0 | CC65: 0 | CD65: 2 | CE65: 0 | CF65: 0 | CG65: 2 | CH65: NA | CI65: 0 | CJ65: 0 | CK65: 0 | CL65: 2 | CM65: 0 | CN65: 0 | CO65: 0 | CP65: 0
A66: SP_NECU | B66: V | C66: 1.66 | D66: 0.02295 | E66: 3 | F66: BGV007161 | G66: 0 | H66: 2 | I66: 0 | J66: 0 | K66: 0 | L66: 2 | M66: 0 | N66: 2 | O66: 0 | P66: 0 | Q66: 2 | R66: 0 | S66: 0 | T66: 0 | U66: 2 | V66: 0 | W66: 2 | X66: 0 | Y66: 0 | Z66: 2 | AA66: 0 | AB66: 0 | AC66: 2 | AD66: 0 | AE66: 2 | AF66: 0 | AG66: 2 | AH66: 2 | AI66: 2 | AJ66: 0 | AK66: 2 | AL66: 0 | AM66: 0 | AN66: 0 | AO66: NA | AP66: NA | AQ66: NA | AR66: 2 | AS66: 2 | AT66: 2 | AU66: 2 | AV66: 2 | AW66: 2 | AX66: 0 | AY66: 2 | AZ66: 2 | BA66: 0 | BB66: 0 | BC66: 0 | BD66: 0 | BE66: 2 | BF66: 2 | BG66: 2 | BH66: 0 | BI66: 0 | BJ66: 2 | BK66: 2 | BL66: 0 | BM66: 2 | BN66: 0 | BO66: 0 | BP66: 2 | BQ66: 2 | BR66: 2 | BS66: 0 | BT66: 2 | BU66: 0 | BV66: 2 | BW66: 0 | BX66: 0 | BY66: 0 | BZ66: 0 | CA66: 0 | CB66: 0 | CC66: 0 | CD66: 2 | CE66: 0 | CF66: 0 | CG66: 2 | CH66: 0 | CI66: 2 | CJ66: 2 | CK66: 0 | CL66: 0 | CM66: 0 | CN66: 0 | CO66: 0 | CP66: 0
A67: SP_NECU | B67: V | C67: 1.72 | D67: 0.027483333 | E67: 3 | F67: BGV007169 | G67: 0 | H67: 2 | I67: 0 | J67: 0 | K67: 0 | L67: 2 | M67: 0 | N67: 2 | O67: 0 | P67: 0 | Q67: 2 | R67: 0 | S67: 0 | T67: 0 | U67: 2 | V67: 0 | W67: 2 | X67: 0 | Y67: 0 | Z67: 2 | AA67: 0 | AB67: 0 | AC67: 2 | AD67: 0 | AE67: 2 | AF67: 0 | AG67: 2 | AH67: 2 | AI67: 2 | AJ67: 0 | AK67: 2 | AL67: 0 | AM67: 0 | AN67: 0 | AO67: 2 | AP67: 2 | AQ67: 2 | AR67: 2 | AS67: 2 | AT67: 2 | AU67: 2 | AV67: 2 | AW67: 2 | AX67: 0 | AY67: 2 | AZ67: 2 | BA67: 0 | BB67: 0 | BC67: 0 | BD67: 0 | BE67: 2 | BF67: 2 | BG67: 2 | BH67: 0 | BI67: 0 | BJ67: 2 | BK67: 2 | BL67: 0 | BM67: 2 | BN67: 0 | BO67: 0 | BP67: 2 | BQ67: 2 | BR67: 2 | BS67: 0 | BT67: 2 | BU67: 0 | BV67: 2 | BW67: 0 | BX67: 0 | BY67: 0 | BZ67: 0 | CA67: 0 | CB67: 0 | CC67: 0 | CD67: 2 | CE67: 0 | CF67: 0 | CG67: 2 | CH67: 0 | CI67: 2 | CJ67: 2 | CK67: 0 | CL67: 0 | CM67: 0 | CN67: 0 | CO67: 0 | CP67: 0
A68: SP_NECU | B68: V | C68: 1.92 | D68: 0.015713333 | E68: 3 | F68: BGV007181 | G68: 0 | H68: 2 | I68: 0 | J68: 0 | K68: 0 | L68: 2 | M68: 0 | N68: 2 | O68: 0 | P68: 0 | Q68: 2 | R68: 0 | S68: 0 | T68: 0 | U68: 2 | V68: 0 | W68: 2 | X68: 0 | Y68: 0 | Z68: 2 | AA68: 0 | AB68: 0 | AC68: 2 | AD68: 0 | AE68: 2 | AF68: 0 | AG68: 2 | AH68: 2 | AI68: 2 | AJ68: 0 | AK68: 2 | AL68: 0 | AM68: 0 | AN68: 0 | AO68: 2 | AP68: 2 | AQ68: 2 | AR68: 2 | AS68: 2 | AT68: 2 | AU68: 2 | AV68: 2 | AW68: 2 | AX68: 0 | AY68: 2 | AZ68: 2 | BA68: 0 | BB68: 0 | BC68: 0 | BD68: 0 | BE68: 2 | BF68: 2 | BG68: 2 | BH68: 0 | BI68: 0 | BJ68: 2 | BK68: 2 | BL68: 0 | BM68: 2 | BN68: 0 | BO68: 0 | BP68: 2 | BQ68: 2 | BR68: 2 | BS68: 0 | BT68: 2 | BU68: 0 | BV68: 2 | BW68: 0 | BX68: 0 | BY68: 0 | BZ68: 0 | CA68: 0 | CB68: 0 | CC68: 0 | CD68: 2 | CE68: 0 | CF68: 0 | CG68: 2 | CH68: 0 | CI68: 2 | CJ68: 2 | CK68: 0 | CL68: 0 | CM68: 0 | CN68: 0 | CO68: 0 | CP68: 0
A69: SP_NECU | B69: VI | C69: 1.43 | D69: 0.016216667 | E69: 3 | F69: BGV007194 | G69: 0 | H69: 2 | I69: 0 | J69: 0 | K69: 1 | L69: 2 | M69: 1 | N69: 1 | O69: 0 | P69: 1 | Q69: 2 | R69: 1 | S69: 1 | T69: 1 | U69: 2 | V69: 0 | W69: 1 | X69: 0 | Y69: 1 | Z69: 1 | AA69: 0 | AB69: 0 | AC69: 2 | AD69: 1 | AE69: 2 | AF69: 1 | AG69: 1 | AH69: 1 | AI69: 2 | AJ69: 0 | AK69: 1 | AL69: 0 | AM69: 0 | AN69: 0 | AO69: NA | AP69: NA | AQ69: NA | AR69: 2 | AS69: 2 | AT69: 2 | AU69: 2 | AV69: 2 | AW69: 2 | AX69: 0 | AY69: 2 | AZ69: 2 | BA69: 0 | BB69: 0 | BC69: 0 | BD69: 0 | BE69: 1 | BF69: 1 | BG69: 1 | BH69: 0 | BI69: 0 | BJ69: 1 | BK69: 1 | BL69: 0 | BM69: 1 | BN69: 1 | BO69: 0 | BP69: 1 | BQ69: 2 | BR69: 1 | BS69: 0 | BT69: 2 | BU69: 0 | BV69: 2 | BW69: 0 | BX69: 0 | BY69: 0 | BZ69: 0 | CA69: 0 | CB69: 0 | CC69: 0 | CD69: 1 | CE69: 0 | CF69: 0 | CG69: 1 | CH69: 0 | CI69: 1 | CJ69: 1 | CK69: 0 | CL69: 0 | CM69: 0 | CN69: 0 | CO69: 0 | CP69: 0
A70: SP_PER | B70: V | C70: 1.89 | D70: 0.023054545 | E70: 3 | F70: BGV007198 | G70: 0 | H70: 2 | I70: 0 | J70: 0 | K70: 0 | L70: 2 | M70: 0 | N70: 2 | O70: 0 | P70: 0 | Q70: 2 | R70: 0 | S70: 0 | T70: 0 | U70: 2 | V70: 0 | W70: 2 | X70: 0 | Y70: 0 | Z70: 2 | AA70: 0 | AB70: 0 | AC70: 1 | AD70: 0 | AE70: 1 | AF70: 0 | AG70: 2 | AH70: 1 | AI70: 2 | AJ70: 0 | AK70: 2 | AL70: 0 | AM70: 0 | AN70: NA | AO70: NA | AP70: NA | AQ70: NA | AR70: 2 | AS70: 2 | AT70: 2 | AU70: 2 | AV70: 2 | AW70: 2 | AX70: 0 | AY70: 2 | AZ70: 2 | BA70: 0 | BB70: 0 | BC70: 0 | BD70: 0 | BE70: 2 | BF70: 2 | BG70: 1 | BH70: 0 | BI70: 0 | BJ70: 1 | BK70: 2 | BL70: 0 | BM70: 2 | BN70: 0 | BO70: 0 | BP70: 2 | BQ70: 2 | BR70: 2 | BS70: 0 | BT70: 2 | BU70: NA | BV70: 2 | BW70: 0 | BX70: 0 | BY70: 0 | BZ70: 0 | CA70: 0 | CB70: 0 | CC70: 0 | CD70: 2 | CE70: 0 | CF70: 0 | CG70: 2 | CH70: 0 | CI70: 2 | CJ70: 2 | CK70: 0 | CL70: 0 | CM70: 0 | CN70: 0 | CO70: 0 | CP70: 0
A71: SP_SECU | B71: VI | C71: 1.69 | D71: 0.0181 | E71: 3 | F71: BGV007339 | G71: 0 | H71: 2 | I71: 0 | J71: 0 | K71: 2 | L71: 2 | M71: 2 | N71: 0 | O71: 0 | P71: 2 | Q71: 2 | R71: 2 | S71: 2 | T71: 2 | U71: 2 | V71: 0 | W71: 0 | X71: 0 | Y71: 2 | Z71: 0 | AA71: 0 | AB71: 0 | AC71: 2 | AD71: 2 | AE71: 2 | AF71: 2 | AG71: 0 | AH71: 0 | AI71: 2 | AJ71: 0 | AK71: 0 | AL71: 0 | AM71: NA | AN71: NA | AO71: 2 | AP71: 2 | AQ71: 0 | AR71: 2 | AS71: 2 | AT71: 2 | AU71: 2 | AV71: 2 | AW71: 2 | AX71: 0 | AY71: 2 | AZ71: 2 | BA71: 0 | BB71: 2 | BC71: 0 | BD71: 0 | BE71: 2 | BF71: 2 | BG71: 2 | BH71: 0 | BI71: 0 | BJ71: 2 | BK71: 2 | BL71: 0 | BM71: 2 | BN71: 0 | BO71: NA | BP71: 0 | BQ71: 2 | BR71: 2 | BS71: 0 | BT71: 2 | BU71: 0 | BV71: 2 | BW71: 0 | BX71: 0 | BY71: 2 | BZ71: 0 | CA71: 0 | CB71: 0 | CC71: 0 | CD71: 2 | CE71: 0 | CF71: 0 | CG71: 2 | CH71: 0 | CI71: 2 | CJ71: NA | CK71: NA | CL71: NA | CM71: NA | CN71: NA | CO71: NA | CP71: 0
A72: SP_SECU | B72: VI | C72: 1.45 | D72: 0.014866667 | E72: 3 | F72: BGV007366 | G72: NA | H72: 2 | I72: 0 | J72: 0 | K72: 2 | L72: 2 | M72: 2 | N72: 0 | O72: 0 | P72: 2 | Q72: 2 | R72: 2 | S72: 2 | T72: 2 | U72: 2 | V72: 0 | W72: 0 | X72: 0 | Y72: 2 | Z72: 0 | AA72: 0 | AB72: 0 | AC72: 2 | AD72: 2 | AE72: 2 | AF72: 2 | AG72: 0 | AH72: 0 | AI72: 2 | AJ72: 0 | AK72: 0 | AL72: 0 | AM72: 0 | AN72: 0 | AO72: 2 | AP72: 2 | AQ72: 0 | AR72: 2 | AS72: 2 | AT72: 2 | AU72: 2 | AV72: 2 | AW72: 2 | AX72: 0 | AY72: 2 | AZ72: 2 | BA72: 0 | BB72: 2 | BC72: 0 | BD72: 0 | BE72: 2 | BF72: 2 | BG72: 2 | BH72: 0 | BI72: 0 | BJ72: 2 | BK72: 2 | BL72: 0 | BM72: 2 | BN72: 0 | BO72: 0 | BP72: 0 | BQ72: 2 | BR72: 2 | BS72: 0 | BT72: 2 | BU72: 0 | BV72: 2 | BW72: 0 | BX72: 0 | BY72: NA | BZ72: 0 | CA72: 0 | CB72: 0 | CC72: 0 | CD72: 2 | CE72: 0 | CF72: 0 | CG72: 2 | CH72: 0 | CI72: 2 | CJ72: 2 | CK72: 0 | CL72: 0 | CM72: 0 | CN72: 0 | CO72: 0 | CP72: 0
A73: SLL | B73: II | C73: 42.31 | D73: 0.11505 | E73: 1 | F73: BGV007854 | G73: 0 | H73: 0 | I73: 0 | J73: 0 | K73: 0 | L73: 0 | M73: 0 | N73: 0 | O73: 0 | P73: 0 | Q73: 0 | R73: 0 | S73: 0 | T73: 0 | U73: 0 | V73: 0 | W73: 0 | X73: 0 | Y73: 0 | Z73: 0 | AA73: 0 | AB73: 0 | AC73: 0 | AD73: 0 | AE73: 0 | AF73: 0 | AG73: 0 | AH73: 0 | AI73: 0 | AJ73: 0 | AK73: 0 | AL73: 0 | AM73: 0 | AN73: 0 | AO73: 0 | AP73: 0 | AQ73: 0 | AR73: 0 | AS73: 0 | AT73: 0 | AU73: 0 | AV73: 0 | AW73: 0 | AX73: 0 | AY73: 0 | AZ73: 0 | BA73: 0 | BB73: 0 | BC73: 0 | BD73: 0 | BE73: 0 | BF73: 0 | BG73: 0 | BH73: 0 | BI73: 0 | BJ73: 0 | BK73: 0 | BL73: 0 | BM73: 0 | BN73: 0 | BO73: 0 | BP73: 0 | BQ73: 0 | BR73: 0 | BS73: 0 | BT73: 0 | BU73: NA | BV73: 0 | BW73: 0 | BX73: 0 | BY73: NA | BZ73: 0 | CA73: 0 | CB73: 0 | CC73: 0 | CD73: 0 | CE73: 0 | CF73: 0 | CG73: 0 | CH73: 0 | CI73: 0 | CJ73: 0 | CK73: 0 | CL73: 0 | CM73: 0 | CN73: 0 | CO73: 0 | CP73: 0
A74: SLL | B74: I | C74: 50.06 | D74: 0.12081667 | E74: 1 | F74: BGV007857 | G74: 0 | H74: 0 | I74: 0 | J74: 0 | K74: 0 | L74: 0 | M74: 0 | N74: 0 | O74: 0 | P74: 0 | Q74: 0 | R74: 0 | S74: 0 | T74: 0 | U74: 0 | V74: 0 | W74: 0 | X74: 0 | Y74: 0 | Z74: 0 | AA74: 0 | AB74: 0 | AC74: 0 | AD74: 0 | AE74: 0 | AF74: 0 | AG74: 0 | AH74: 0 | AI74: 2 | AJ74: 0 | AK74: 0 | AL74: 0 | AM74: 0 | AN74: 0 | AO74: 0 | AP74: 0 | AQ74: 0 | AR74: 0 | AS74: 0 | AT74: 0 | AU74: 0 | AV74: 0 | AW74: 0 | AX74: 0 | AY74: 0 | AZ74: 0 | BA74: 0 | BB74: 0 | BC74: 0 | BD74: 0 | BE74: 0 | BF74: 0 | BG74: 0 | BH74: 0 | BI74: 0 | BJ74: 0 | BK74: 0 | BL74: 0 | BM74: 0 | BN74: 0 | BO74: 0 | BP74: 0 | BQ74: 0 | BR74: 0 | BS74: 0 | BT74: 0 | BU74: 0 | BV74: 0 | BW74: 0 | BX74: 0 | BY74: 0 | BZ74: 0 | CA74: 0 | CB74: 0 | CC74: 0 | CD74: 0 | CE74: 0 | CF74: 0 | CG74: 0 | CH74: 0 | CI74: 0 | CJ74: 0 | CK74: 0 | CL74: 0 | CM74: 0 | CN74: 0 | CO74: 0 | CP74: 0
A75: SLL | B75: I | C75: 67.48 | D75: 0.088816667 | E75: 1 | F75: BGV007860 | G75: 0 | H75: 0 | I75: 0 | J75: 0 | K75: 0 | L75: 0 | M75: 0 | N75: 0 | O75: 0 | P75: 0 | Q75: 0 | R75: 0 | S75: 0 | T75: 0 | U75: 0 | V75: 0 | W75: 0 | X75: 0 | Y75: 0 | Z75: 0 | AA75: 0 | AB75: 0 | AC75: 0 | AD75: 0 | AE75: 0 | AF75: 0 | AG75: 0 | AH75: 0 | AI75: 2 | AJ75: 0 | AK75: 0 | AL75: 0 | AM75: 0 | AN75: 0 | AO75: 0 | AP75: 0 | AQ75: 0 | AR75: 0 | AS75: 0 | AT75: 0 | AU75: 0 | AV75: 0 | AW75: 0 | AX75: 0 | AY75: 0 | AZ75: 0 | BA75: 0 | BB75: 0 | BC75: 0 | BD75: 0 | BE75: 0 | BF75: 0 | BG75: 0 | BH75: 0 | BI75: 0 | BJ75: 0 | BK75: 0 | BL75: 0 | BM75: 0 | BN75: 0 | BO75: 0 | BP75: 0 | BQ75: 0 | BR75: 0 | BS75: 0 | BT75: 0 | BU75: 0 | BV75: 0 | BW75: 0 | BX75: 0 | BY75: 0 | BZ75: 0 | CA75: 0 | CB75: 0 | CC75: 0 | CD75: 0 | CE75: 0 | CF75: 0 | CG75: 0 | CH75: 0 | CI75: 0 | CJ75: 0 | CK75: 0 | CL75: 0 | CM75: 0 | CN75: 0 | CO75: 0 | CP75: 0
A76: SLL | B76: I | C76: 34.68 | D76: 0.17073333 | E76: 1 | F76: BGV007862 | G76: 0 | H76: 0 | I76: 0 | J76: 0 | K76: 0 | L76: 0 | M76: 0 | N76: 0 | O76: 0 | P76: 0 | Q76: 0 | R76: 0 | S76: 0 | T76: 0 | U76: 0 | V76: 0 | W76: 0 | X76: 0 | Y76: 0 | Z76: 0 | AA76: 0 | AB76: 0 | AC76: 0 | AD76: 0 | AE76: 0 | AF76: 0 | AG76: 0 | AH76: 0 | AI76: 2 | AJ76: 0 | AK76: 0 | AL76: 0 | AM76: 0 | AN76: 0 | AO76: 0 | AP76: 0 | AQ76: 0 | AR76: 0 | AS76: 0 | AT76: 0 | AU76: 0 | AV76: 0 | AW76: 0 | AX76: 0 | AY76: 0 | AZ76: 0 | BA76: 0 | BB76: 0 | BC76: 0 | BD76: 0 | BE76: 0 | BF76: 0 | BG76: 0 | BH76: 0 | BI76: 0 | BJ76: 0 | BK76: 0 | BL76: 0 | BM76: 0 | BN76: 0 | BO76: 0 | BP76: 0 | BQ76: 0 | BR76: 0 | BS76: 0 | BT76: 0 | BU76: 0 | BV76: 0 | BW76: 0 | BX76: 0 | BY76: 0 | BZ76: 0 | CA76: 0 | CB76: 0 | CC76: 0 | CD76: 0 | CE76: 0 | CF76: 0 | CG76: 0 | CH76: 0 | CI76: 0 | CJ76: 0 | CK76: 0 | CL76: 0 | CM76: 0 | CN76: 0 | CO76: 0 | CP76: 0
A77: SLL | B77: I | C77: 26.54 | D77: 0.11425 | E77: 1 | F77: BGV007863 | G77: 0 | H77: 0 | I77: 0 | J77: 0 | K77: 0 | L77: 0 | M77: 0 | N77: 0 | O77: 0 | P77: 0 | Q77: 0 | R77: 0 | S77: 0 | T77: 0 | U77: 0 | V77: 0 | W77: 0 | X77: 0 | Y77: 0 | Z77: 0 | AA77: 0 | AB77: 0 | AC77: 0 | AD77: 0 | AE77: 0 | AF77: 0 | AG77: 0 | AH77: 0 | AI77: 2 | AJ77: 0 | AK77: NA | AL77: 0 | AM77: 0 | AN77: 0 | AO77: 0 | AP77: 0 | AQ77: 0 | AR77: 0 | AS77: 0 | AT77: 0 | AU77: 0 | AV77: 0 | AW77: 0 | AX77: 0 | AY77: 0 | AZ77: 0 | BA77: 0 | BB77: 0 | BC77: 0 | BD77: 0 | BE77: 0 | BF77: 0 | BG77: 0 | BH77: 0 | BI77: 0 | BJ77: 0 | BK77: 0 | BL77: 0 | BM77: 0 | BN77: 0 | BO77: 0 | BP77: 0 | BQ77: 0 | BR77: 0 | BS77: 0 | BT77: 0 | BU77: 0 | BV77: 0 | BW77: 0 | BX77: 0 | BY77: NA | BZ77: 0 | CA77: 0 | CB77: 0 | CC77: NA | CD77: NA | CE77: NA | CF77: 0 | CG77: 0 | CH77: 0 | CI77: 0 | CJ77: 0 | CK77: 0 | CL77: 0 | CM77: 0 | CN77: 0 | CO77: 0 | CP77: 0
A78: SLL | B78: I | C78: 64.93 | D78: 0.087 | E78: 1 | F78: BGV007864 | G78: 0 | H78: 0 | I78: 0 | J78: 0 | K78: 0 | L78: 0 | M78: 0 | N78: 0 | O78: 0 | P78: 0 | Q78: 0 | R78: 0 | S78: 0 | T78: 0 | U78: 0 | V78: 0 | W78: 0 | X78: 0 | Y78: 0 | Z78: 0 | AA78: 0 | AB78: 0 | AC78: 0 | AD78: 0 | AE78: 0 | AF78: 0 | AG78: 0 | AH78: 0 | AI78: 2 | AJ78: 0 | AK78: 0 | AL78: 0 | AM78: 0 | AN78: 0 | AO78: 0 | AP78: 0 | AQ78: 0 | AR78: 0 | AS78: 0 | AT78: 0 | AU78: 0 | AV78: 0 | AW78: 0 | AX78: 0 | AY78: 0 | AZ78: 0 | BA78: 0 | BB78: 0 | BC78: 0 | BD78: 0 | BE78: 0 | BF78: 0 | BG78: 0 | BH78: 0 | BI78: 0 | BJ78: 0 | BK78: 0 | BL78: 0 | BM78: 0 | BN78: 0 | BO78: 0 | BP78: 0 | BQ78: 0 | BR78: 0 | BS78: 0 | BT78: 0 | BU78: 0 | BV78: 0 | BW78: 0 | BX78: 0 | BY78: 0 | BZ78: 0 | CA78: 0 | CB78: 0 | CC78: 0 | CD78: 0 | CE78: 0 | CF78: 0 | CG78: 0 | CH78: 0 | CI78: 0 | CJ78: 0 | CK78: 0 | CL78: 0 | CM78: 0 | CN78: 0 | CO78: 0 | CP78: 0
A79: SLL | B79: I | C79: 64.29 | D79: 0.10721818 | E79: 1 | F79: BGV007865 | G79: 0 | H79: 0 | I79: 0 | J79: 0 | K79: 0 | L79: 0 | M79: 0 | N79: 0 | O79: 0 | P79: 0 | Q79: 0 | R79: 0 | S79: 0 | T79: 0 | U79: 0 | V79: 0 | W79: 0 | X79: 0 | Y79: 0 | Z79: 0 | AA79: 0 | AB79: 0 | AC79: 0 | AD79: 0 | AE79: 0 | AF79: 0 | AG79: 0 | AH79: 0 | AI79: 2 | AJ79: 0 | AK79: 0 | AL79: 0 | AM79: 0 | AN79: 0 | AO79: 0 | AP79: 0 | AQ79: 0 | AR79: 0 | AS79: 0 | AT79: 0 | AU79: 0 | AV79: 0 | AW79: 0 | AX79: 0 | AY79: 0 | AZ79: 0 | BA79: 0 | BB79: 0 | BC79: 0 | BD79: 0 | BE79: 0 | BF79: 0 | BG79: 0 | BH79: 0 | BI79: 0 | BJ79: 0 | BK79: 0 | BL79: 0 | BM79: 0 | BN79: 0 | BO79: 0 | BP79: 0 | BQ79: 0 | BR79: 0 | BS79: 0 | BT79: 0 | BU79: 0 | BV79: 0 | BW79: 0 | BX79: 0 | BY79: 0 | BZ79: 0 | CA79: 0 | CB79: 0 | CC79: 0 | CD79: 0 | CE79: 0 | CF79: 0 | CG79: 0 | CH79: 0 | CI79: 0 | CJ79: 0 | CK79: 0 | CL79: 0 | CM79: 0 | CN79: 0 | CO79: 0 | CP79: 0
A80: SLL | B80: I | C80: 67.24 | D80: 0.07345 | E80: 1 | F80: BGV007867 | G80: 0 | H80: 0 | I80: 0 | J80: 0 | K80: 0 | L80: 0 | M80: 0 | N80: 0 | O80: 0 | P80: 0 | Q80: 0 | R80: 0 | S80: 0 | T80: 0 | U80: 0 | V80: 0 | W80: 0 | X80: 0 | Y80: 0 | Z80: 0 | AA80: 0 | AB80: 0 | AC80: 0 | AD80: 0 | AE80: 0 | AF80: 0 | AG80: 0 | AH80: 0 | AI80: 2 | AJ80: 0 | AK80: 0 | AL80: 0 | AM80: 0 | AN80: 0 | AO80: 0 | AP80: 0 | AQ80: 0 | AR80: 0 | AS80: 0 | AT80: 0 | AU80: 0 | AV80: 0 | AW80: 0 | AX80: 0 | AY80: 0 | AZ80: 0 | BA80: 0 | BB80: 0 | BC80: 0 | BD80: 0 | BE80: 0 | BF80: 0 | BG80: 0 | BH80: 0 | BI80: 0 | BJ80: 0 | BK80: 0 | BL80: 0 | BM80: 0 | BN80: 0 | BO80: 0 | BP80: 0 | BQ80: 0 | BR80: 0 | BS80: 0 | BT80: 0 | BU80: 0 | BV80: 0 | BW80: 0 | BX80: 0 | BY80: 0 | BZ80: 0 | CA80: 0 | CB80: 0 | CC80: 0 | CD80: 0 | CE80: 0 | CF80: 0 | CG80: 0 | CH80: 0 | CI80: 0 | CJ80: 0 | CK80: 0 | CL80: 0 | CM80: 0 | CN80: 0 | CO80: 0 | CP80: 0
A81: SLL | B81: I | C81: 33.71 | E81: 2 | F81: BGV007870 | G81: 0 | H81: 0 | I81: 0 | J81: 0 | K81: 0 | L81: 0 | M81: 0 | N81: 0 | O81: 0 | P81: 0 | Q81: 0 | R81: 0 | S81: 0 | T81: 0 | U81: 0 | V81: 0 | W81: 0 | X81: 0 | Y81: 0 | Z81: 0 | AA81: 0 | AB81: 0 | AC81: 0 | AD81: 0 | AE81: 0 | AF81: 0 | AG81: 0 | AH81: 0 | AI81: 2 | AJ81: 0 | AK81: 0 | AL81: 0 | AM81: 0 | AN81: 0 | AO81: 0 | AP81: 0 | AQ81: 0 | AR81: 0 | AS81: 0 | AT81: 0 | AU81: 0 | AV81: 0 | AW81: 0 | AX81: 0 | AY81: 0 | AZ81: 0 | BA81: 0 | BB81: 0 | BC81: 0 | BD81: 0 | BE81: 0 | BF81: 0 | BG81: 0 | BH81: 0 | BI81: 0 | BJ81: 0 | BK81: 0 | BL81: 0 | BM81: 0 | BN81: 0 | BO81: 0 | BP81: 0 | BQ81: 0 | BR81: 0 | BS81: 0 | BT81: 0 | BU81: 0 | BV81: 0 | BW81: 0 | BX81: 0 | BY81: 0 | BZ81: 0 | CA81: 0 | CB81: 0 | CC81: 0 | CD81: 0 | CE81: 0 | CF81: 0 | CG81: 0 | CH81: 0 | CI81: 0 | CJ81: 0 | CK81: 0 | CL81: 0 | CM81: 0 | CN81: 0 | CO81: 0 | CP81: 0
A82: SLL | B82: I | C82: 57.03 | D82: 0.069356111 | E82: 1 | F82: BGV007871 | G82: 0 | H82: 0 | I82: 0 | J82: 0 | K82: 0 | L82: 0 | M82: 0 | N82: 0 | O82: 0 | P82: 0 | Q82: 0 | R82: 0 | S82: 0 | T82: 0 | U82: 0 | V82: 0 | W82: 0 | X82: 0 | Y82: 0 | Z82: 0 | AA82: 0 | AB82: 0 | AC82: 0 | AD82: 0 | AE82: 0 | AF82: 0 | AG82: 0 | AH82: 0 | AI82: 2 | AJ82: 0 | AK82: 0 | AL82: 0 | AM82: 0 | AN82: 0 | AO82: 0 | AP82: 0 | AQ82: 0 | AR82: 0 | AS82: 0 | AT82: 0 | AU82: 0 | AV82: 0 | AW82: 0 | AX82: 0 | AY82: 0 | AZ82: 0 | BA82: 0 | BB82: 0 | BC82: 0 | BD82: 0 | BE82: 0 | BF82: 0 | BG82: 0 | BH82: 0 | BI82: 0 | BJ82: 0 | BK82: 0 | BL82: 0 | BM82: 0 | BN82: 0 | BO82: 0 | BP82: 0 | BQ82: 0 | BR82: 0 | BS82: 0 | BT82: 0 | BU82: 0 | BV82: 0 | BW82: 0 | BX82: 0 | BY82: 0 | BZ82: 0 | CA82: 0 | CB82: 0 | CC82: 0 | CD82: 0 | CE82: 0 | CF82: 0 | CG82: 0 | CH82: 0 | CI82: 0 | CJ82: 0 | CK82: 0 | CL82: 0 | CM82: 0 | CN82: 0 | CO82: 0 | CP82: 0
A83: SLL | B83: I | C83: 68.91 | D83: 0.12228333 | E83: 1 | F83: BGV007872 | G83: 0 | H83: 0 | I83: 0 | J83: 0 | K83: 0 | L83: 0 | M83: 0 | N83: 0 | O83: 0 | P83: 0 | Q83: 0 | R83: 0 | S83: 0 | T83: 0 | U83: 0 | V83: 0 | W83: 0 | X83: 0 | Y83: 0 | Z83: 0 | AA83: 0 | AB83: 0 | AC83: 0 | AD83: 0 | AE83: 0 | AF83: 0 | AG83: 0 | AH83: 0 | AI83: 2 | AJ83: 0 | AK83: 0 | AL83: 0 | AM83: 0 | AN83: 0 | AO83: 0 | AP83: 0 | AQ83: 0 | AR83: 0 | AS83: 0 | AT83: 0 | AU83: 0 | AV83: 0 | AW83: 0 | AX83: 0 | AY83: 0 | AZ83: 0 | BA83: 0 | BB83: 0 | BC83: 0 | BD83: 0 | BE83: 0 | BF83: 0 | BG83: 0 | BH83: 0 | BI83: 0 | BJ83: 0 | BK83: 0 | BL83: 0 | BM83: 0 | BN83: 0 | BO83: 0 | BP83: 0 | BQ83: 0 | BR83: 0 | BS83: 0 | BT83: 0 | BU83: 0 | BV83: 0 | BW83: 0 | BX83: 0 | BY83: 0 | BZ83: 0 | CA83: 0 | CB83: 0 | CC83: 0 | CD83: 0 | CE83: 0 | CF83: 0 | CG83: 0 | CH83: 0 | CI83: 0 | CJ83: 0 | CK83: 0 | CL83: 0 | CM83: 0 | CN83: 0 | CO83: 0 | CP83: 0
A84: SLL | B84: I | C84: 74.25 | D84: 0.1054 | E84: 1 | F84: BGV007875 | G84: 0 | H84: 0 | I84: 0 | J84: 0 | K84: 0 | L84: 0 | M84: 0 | N84: 0 | O84: 0 | P84: 0 | Q84: 0 | R84: 0 | S84: 0 | T84: 0 | U84: 0 | V84: 0 | W84: 0 | X84: 0 | Y84: 0 | Z84: 0 | AA84: 0 | AB84: 0 | AC84: 0 | AD84: 0 | AE84: 0 | AF84: 0 | AG84: 0 | AH84: 0 | AI84: 2 | AJ84: 0 | AK84: 0 | AL84: 0 | AM84: 0 | AN84: 0 | AO84: 0 | AP84: 0 | AQ84: 0 | AR84: 0 | AS84: 0 | AT84: 0 | AU84: 0 | AV84: 0 | AW84: 0 | AX84: 0 | AY84: 0 | AZ84: 0 | BA84: 0 | BB84: 0 | BC84: 0 | BD84: 0 | BE84: 0 | BF84: 0 | BG84: 0 | BH84: 0 | BI84: 0 | BJ84: 0 | BK84: 0 | BL84: 0 | BM84: 0 | BN84: 0 | BO84: 0 | BP84: 0 | BQ84: 0 | BR84: 0 | BS84: 0 | BT84: 0 | BU84: NA | BV84: NA | BW84: NA | BX84: NA | BY84: 0 | BZ84: 0 | CA84: 0 | CB84: 0 | CC84: 0 | CD84: 0 | CE84: 0 | CF84: 0 | CG84: 0 | CH84: 0 | CI84: 0 | CJ84: 0 | CK84: 0 | CL84: 0 | CM84: 0 | CN84: 0 | CO84: 0 | CP84: 0
A85: SLL | B85: I | C85: 65.01 | D85: 0.090862727 | E85: 1 | F85: BGV007876 | G85: 0 | H85: 0 | I85: 0 | J85: 0 | K85: 0 | L85: 0 | M85: 0 | N85: 0 | O85: 0 | P85: 0 | Q85: 0 | R85: 0 | S85: 0 | T85: 0 | U85: 0 | V85: 0 | W85: 0 | X85: 0 | Y85: 0 | Z85: 0 | AA85: 0 | AB85: 0 | AC85: 0 | AD85: 0 | AE85: 0 | AF85: 0 | AG85: 0 | AH85: 0 | AI85: 2 | AJ85: 0 | AK85: 0 | AL85: 0 | AM85: 0 | AN85: 0 | AO85: 0 | AP85: 0 | AQ85: 0 | AR85: 0 | AS85: 0 | AT85: 0 | AU85: 0 | AV85: 0 | AW85: 0 | AX85: 0 | AY85: 0 | AZ85: 0 | BA85: 0 | BB85: 0 | BC85: 0 | BD85: 0 | BE85: 0 | BF85: 0 | BG85: 0 | BH85: 0 | BI85: 0 | BJ85: 0 | BK85: 0 | BL85: 0 | BM85: 0 | BN85: 0 | BO85: 0 | BP85: 0 | BQ85: 0 | BR85: 0 | BS85: 0 | BT85: 0 | BU85: 0 | BV85: 0 | BW85: 0 | BX85: 0 | BY85: 0 | BZ85: 0 | CA85: 0 | CB85: 0 | CC85: 0 | CD85: 0 | CE85: 0 | CF85: 0 | CG85: 0 | CH85: 0 | CI85: 0 | CJ85: 0 | CK85: 0 | CL85: 0 | CM85: 0 | CN85: 0 | CO85: 0 | CP85: 0
A86: SLL | B86: I | C86: 71.23 | D86: 0.065405 | E86: 1 | F86: BGV007878 | G86: 0 | H86: 0 | I86: 0 | J86: 0 | K86: 0 | L86: 0 | M86: 0 | N86: 0 | O86: 0 | P86: 0 | Q86: 0 | R86: 0 | S86: 0 | T86: 0 | U86: 0 | V86: 0 | W86: 0 | X86: 0 | Y86: 0 | Z86: 0 | AA86: 0 | AB86: 0 | AC86: 0 | AD86: 0 | AE86: 0 | AF86: 0 | AG86: 0 | AH86: 0 | AI86: 2 | AJ86: 0 | AK86: 0 | AL86: 0 | AM86: 0 | AN86: 0 | AO86: 0 | AP86: 0 | AQ86: 0 | AR86: 0 | AS86: 0 | AT86: 0 | AU86: 0 | AV86: 0 | AW86: 0 | AX86: 0 | AY86: 0 | AZ86: 0 | BA86: 0 | BB86: 0 | BC86: 0 | BD86: 0 | BE86: 0 | BF86: 0 | BG86: 0 | BH86: 0 | BI86: 0 | BJ86: 0 | BK86: 0 | BL86: 0 | BM86: 0 | BN86: 0 | BO86: 0 | BP86: 0 | BQ86: 0 | BR86: 0 | BS86: 0 | BT86: 0 | BU86: 0 | BV86: 0 | BW86: 0 | BX86: 0 | BY86: 0 | BZ86: 0 | CA86: 0 | CB86: 0 | CC86: 0 | CD86: 0 | CE86: 0 | CF86: 0 | CG86: 0 | CH86: 0 | CI86: 0 | CJ86: 0 | CK86: 0 | CL86: 0 | CM86: 0 | CN86: 0 | CO86: 0 | CP86: 0
A87: SLC_MEX | B87: I | C87: 10.59 | D87: 0.062454167 | E87: 3 | F87: BGV007894 | G87: 0 | H87: 0 | I87: 0 | J87: 0 | K87: 0 | L87: 0 | M87: 0 | N87: 0 | O87: 0 | P87: 0 | Q87: 0 | R87: 0 | S87: 0 | T87: 0 | U87: 0 | V87: 0 | W87: 0 | X87: 0 | Y87: 0 | Z87: 0 | AA87: 0 | AB87: 0 | AC87: 0 | AD87: 0 | AE87: 0 | AF87: 0 | AG87: 0 | AH87: 0 | AI87: 2 | AJ87: 0 | AK87: 0 | AL87: 0 | AM87: 0 | AN87: 0 | AO87: 0 | AP87: 0 | AQ87: 0 | AR87: 0 | AS87: 0 | AT87: 0 | AU87: 0 | AV87: 0 | AW87: 0 | AX87: 0 | AY87: 0 | AZ87: 0 | BA87: 0 | BB87: 0 | BC87: 0 | BD87: 0 | BE87: 0 | BF87: 0 | BG87: 0 | BH87: 0 | BI87: 0 | BJ87: 0 | BK87: 0 | BL87: 0 | BM87: 0 | BN87: 0 | BO87: 0 | BP87: 0 | BQ87: 0 | BR87: 0 | BS87: 0 | BT87: 0 | BU87: 0 | BV87: 0 | BW87: 0 | BX87: 0 | BY87: 0 | BZ87: 0 | CA87: 0 | CB87: 0 | CC87: 0 | CD87: 0 | CE87: 0 | CF87: 0 | CG87: 0 | CH87: 0 | CI87: 0 | CJ87: 0 | CK87: 0 | CL87: 0 | CM87: 0 | CN87: 0 | CO87: 0 | CP87: 0
A88: SLL | B88: I | C88: 81.54 | D88: 0.066683333 | E88: 1 | F88: BGV007895 | G88: 0 | H88: 0 | I88: 0 | J88: 0 | K88: 0 | L88: 0 | M88: 0 | N88: 0 | O88: 0 | P88: 0 | Q88: 0 | R88: 0 | S88: 0 | T88: 0 | U88: 0 | V88: 0 | W88: 0 | X88: 0 | Y88: 0 | Z88: 0 | AA88: 0 | AB88: 0 | AC88: 0 | AD88: 0 | AE88: 0 | AF88: 0 | AG88: 0 | AH88: 0 | AI88: 2 | AJ88: 0 | AK88: 0 | AL88: 0 | AM88: 0 | AN88: 0 | AO88: 0 | AP88: 0 | AQ88: 0 | AR88: 0 | AS88: 0 | AT88: 0 | AU88: 0 | AV88: 0 | AW88: 0 | AX88: 0 | AY88: 0 | AZ88: 0 | BA88: 0 | BB88: 0 | BC88: 0 | BD88: 0 | BE88: 0 | BF88: 0 | BG88: 0 | BH88: 0 | BI88: 0 | BJ88: 0 | BK88: 0 | BL88: 0 | BM88: 0 | BN88: 0 | BO88: 0 | BP88: 0 | BQ88: 0 | BR88: 0 | BS88: 0 | BT88: 0 | BU88: 0 | BV88: 0 | BW88: 0 | BX88: 0 | BY88: 0 | BZ88: 0 | CA88: 0 | CB88: 0 | CC88: 0 | CD88: 0 | CE88: 0 | CF88: 0 | CG88: 0 | CH88: 0 | CI88: 0 | CJ88: 0 | CK88: 0 | CL88: 0 | CM88: 0 | CN88: 0 | CO88: 0 | CP88: 0
A89: SLC_MEX | B89: I | C89: 31.18 | D89: 0.05116 | E89: 1 | F89: BGV007899 | G89: 0 | H89: 0 | I89: 0 | J89: 0 | K89: 0 | L89: 0 | M89: 0 | N89: 0 | O89: 0 | P89: 0 | Q89: 0 | R89: 0 | S89: 0 | T89: 0 | U89: 0 | V89: 0 | W89: 0 | X89: 0 | Y89: 0 | Z89: 0 | AA89: 0 | AB89: 0 | AC89: 0 | AD89: 0 | AE89: 0 | AF89: 0 | AG89: 0 | AH89: 0 | AI89: 2 | AJ89: 0 | AK89: 0 | AL89: 0 | AM89: 0 | AN89: 0 | AO89: 0 | AP89: 0 | AQ89: 0 | AR89: 0 | AS89: 0 | AT89: 0 | AU89: 0 | AV89: 0 | AW89: 0 | AX89: 0 | AY89: 0 | AZ89: 0 | BA89: 0 | BB89: 0 | BC89: 0 | BD89: 0 | BE89: 0 | BF89: 0 | BG89: 0 | BH89: 0 | BI89: 0 | BJ89: 0 | BK89: 0 | BL89: 0 | BM89: 0 | BN89: 0 | BO89: 0 | BP89: 0 | BQ89: 0 | BR89: 0 | BS89: 0 | BT89: 0 | BU89: 0 | BV89: 0 | BW89: 0 | BX89: 0 | BY89: 0 | BZ89: 0 | CA89: 0 | CB89: 0 | CC89: 0 | CD89: 0 | CE89: 0 | CF89: 0 | CG89: 0 | CH89: 0 | CI89: 0 | CJ89: 0 | CK89: 0 | CL89: 0 | CM89: 0 | CN89: 0 | CO89: 0 | CP89: 0
A90: SLC_MEX | B90: I | C90: 39.05 | D90: 0.066925 | E90: 1 | F90: BGV007900 | G90: 0 | H90: 0 | I90: 0 | J90: 0 | K90: 0 | L90: 0 | M90: 0 | N90: 0 | O90: 0 | P90: 0 | Q90: 0 | R90: 0 | S90: 0 | T90: 0 | U90: 0 | V90: 0 | W90: 0 | X90: 0 | Y90: 0 | Z90: 0 | AA90: 0 | AB90: 0 | AC90: 0 | AD90: 0 | AE90: 0 | AF90: 0 | AG90: 0 | AH90: 0 | AI90: 2 | AJ90: 0 | AK90: 0 | AL90: 0 | AM90: 0 | AN90: 0 | AO90: 0 | AP90: 0 | AQ90: 0 | AR90: 0 | AS90: 0 | AT90: 0 | AU90: 0 | AV90: 0 | AW90: 0 | AX90: 0 | AY90: 0 | AZ90: 0 | BA90: 0 | BB90: 0 | BC90: 0 | BD90: 0 | BE90: 0 | BF90: 0 | BG90: 0 | BH90: 0 | BI90: 0 | BJ90: 0 | BK90: 0 | BL90: 0 | BM90: 0 | BN90: 0 | BO90: 0 | BP90: 0 | BQ90: 0 | BR90: 0 | BS90: 0 | BT90: 0 | BU90: 0 | BV90: 0 | BW90: 0 | BX90: 0 | BY90: 0 | BZ90: 0 | CA90: 0 | CB90: 0 | CC90: 0 | CD90: 0 | CE90: 0 | CF90: 0 | CG90: 0 | CH90: 0 | CI90: 0 | CJ90: 0 | CK90: 0 | CL90: 0 | CM90: 0 | CN90: 0 | CO90: 0 | CP90: 0
A91: SLC_MEX | B91: I | C91: 3.06 | D91: 0.026116667 | E91: 3 | F91: BGV007901 | G91: 0 | H91: 0 | I91: 0 | J91: 0 | K91: 0 | L91: 0 | M91: 0 | N91: 0 | O91: 0 | P91: 0 | Q91: 0 | R91: 0 | S91: 0 | T91: 0 | U91: 0 | V91: 0 | W91: 0 | X91: 0 | Y91: 0 | Z91: 0 | AA91: 0 | AB91: 0 | AC91: 0 | AD91: 0 | AE91: 0 | AF91: 0 | AG91: 0 | AH91: 0 | AI91: 2 | AJ91: 0 | AK91: 0 | AL91: 0 | AM91: 0 | AN91: 0 | AO91: 0 | AP91: 0 | AQ91: 0 | AR91: 0 | AS91: 0 | AT91: 0 | AU91: 0 | AV91: 0 | AW91: 0 | AX91: 0 | AY91: 0 | AZ91: 0 | BA91: 0 | BB91: 0 | BC91: 0 | BD91: 0 | BE91: 0 | BF91: 0 | BG91: 0 | BH91: 0 | BI91: 0 | BJ91: 0 | BK91: 0 | BL91: 0 | BM91: 0 | BN91: 0 | BO91: 0 | BP91: 0 | BQ91: 0 | BR91: 0 | BS91: 0 | BT91: 0 | BU91: 0 | BV91: 0 | BW91: 0 | BX91: 0 | BY91: 0 | BZ91: 0 | CA91: 0 | CB91: 0 | CC91: 0 | CD91: 0 | CE91: 0 | CF91: 0 | CG91: 0 | CH91: 0 | CI91: 0 | CJ91: 0 | CK91: 0 | CL91: 0 | CM91: 0 | CN91: 0 | CO91: 0 | CP91: 0
A92: SLC_MEX | B92: I | C92: 3.47 | D92: 0.018316667 | E92: 3 | F92: BGV007902 | G92: 0 | H92: 0 | I92: 0 | J92: 0 | K92: 0 | L92: 0 | M92: 0 | N92: 0 | O92: 0 | P92: 0 | Q92: 0 | R92: 0 | S92: 0 | T92: 0 | U92: 0 | V92: 0 | W92: 0 | X92: 0 | Y92: 0 | Z92: 0 | AA92: 0 | AB92: 0 | AC92: 0 | AD92: 0 | AE92: 0 | AF92: 0 | AG92: 0 | AH92: 0 | AI92: 2 | AJ92: 0 | AK92: 0 | AL92: 0 | AM92: 0 | AN92: 0 | AO92: 0 | AP92: 0 | AQ92: 0 | AR92: 0 | AS92: 0 | AT92: 0 | AU92: 0 | AV92: 0 | AW92: 0 | AX92: 0 | AY92: 0 | AZ92: 0 | BA92: 0 | BB92: 0 | BC92: 0 | BD92: 0 | BE92: 0 | BF92: 0 | BG92: 0 | BH92: 0 | BI92: 0 | BJ92: 0 | BK92: 0 | BL92: 0 | BM92: 0 | BN92: 0 | BO92: 0 | BP92: 0 | BQ92: 0 | BR92: 0 | BS92: 0 | BT92: 0 | BU92: 0 | BV92: 0 | BW92: 0 | BX92: 0 | BY92: 0 | BZ92: 0 | CA92: 0 | CB92: 0 | CC92: 0 | CD92: 0 | CE92: 0 | CF92: 0 | CG92: 0 | CH92: 0 | CI92: 0 | CJ92: 0 | CK92: 0 | CL92: 0 | CM92: 0 | CN92: 0 | CO92: 0 | CP92: 0
A93: SLC_MEX | B93: I | C93: 2.51 | D93: 0.0224 | E93: 3 | F93: BGV007908 | G93: 0 | H93: 0 | I93: 0 | J93: 0 | K93: 0 | L93: 0 | M93: 0 | N93: 0 | O93: 0 | P93: 0 | Q93: 0 | R93: 0 | S93: 0 | T93: 0 | U93: 0 | V93: 0 | W93: 0 | X93: 0 | Y93: 0 | Z93: 0 | AA93: 0 | AB93: 0 | AC93: 0 | AD93: 0 | AE93: 0 | AF93: 0 | AG93: 0 | AH93: 0 | AI93: 2 | AJ93: 0 | AK93: 0 | AL93: 0 | AM93: 0 | AN93: 0 | AO93: 0 | AP93: 0 | AQ93: 0 | AR93: 0 | AS93: 0 | AT93: 0 | AU93: 0 | AV93: 0 | AW93: 0 | AX93: 0 | AY93: 0 | AZ93: 0 | BA93: 0 | BB93: 0 | BC93: 0 | BD93: 0 | BE93: 0 | BF93: 0 | BG93: 0 | BH93: 0 | BI93: 0 | BJ93: 0 | BK93: 0 | BL93: 0 | BM93: 0 | BN93: 0 | BO93: 0 | BP93: 0 | BQ93: 0 | BR93: 0 | BS93: 0 | BT93: 0 | BU93: 0 | BV93: 0 | BW93: 0 | BX93: 0 | BY93: 0 | BZ93: 0 | CA93: 0 | CB93: 0 | CC93: 0 | CD93: 0 | CE93: 0 | CF93: 0 | CG93: 0 | CH93: 0 | CI93: 0 | CJ93: 0 | CK93: 0 | CL93: 0 | CM93: 0 | CN93: 0 | CO93: NA | CP93: 0
A94: SLC_MEX | B94: I | C94: 2.69 | D94: 0.026916667 | E94: 3 | F94: BGV007909 | G94: 0 | H94: 0 | I94: 0 | J94: 0 | K94: 0 | L94: 0 | M94: 0 | N94: 0 | O94: 0 | P94: 0 | Q94: 0 | R94: 0 | S94: 0 | T94: 0 | U94: 0 | V94: 0 | W94: 0 | X94: 0 | Y94: 0 | Z94: 0 | AA94: 0 | AB94: 0 | AC94: 0 | AD94: 0 | AE94: 0 | AF94: 0 | AG94: 0 | AH94: 0 | AI94: 2 | AJ94: 0 | AK94: 0 | AL94: 0 | AM94: 0 | AN94: 0 | AO94: 0 | AP94: 0 | AQ94: 0 | AR94: 0 | AS94: 0 | AT94: 0 | AU94: 0 | AV94: 0 | AW94: 0 | AX94: 0 | AY94: 0 | AZ94: 0 | BA94: 0 | BB94: 0 | BC94: 0 | BD94: 0 | BE94: 0 | BF94: 0 | BG94: 0 | BH94: 0 | BI94: 0 | BJ94: 0 | BK94: 0 | BL94: 0 | BM94: 0 | BN94: 0 | BO94: 0 | BP94: 0 | BQ94: 0 | BR94: 0 | BS94: 0 | BT94: 0 | BU94: 0 | BV94: 0 | BW94: 0 | BX94: 0 | BY94: 0 | BZ94: 0 | CA94: 0 | CB94: 0 | CC94: 0 | CD94: 0 | CE94: 0 | CF94: 0 | CG94: 0 | CH94: 0 | CI94: 0 | CJ94: 0 | CK94: 0 | CL94: 0 | CM94: 0 | CN94: 0 | CO94: 0 | CP94: 0
A95: SLC_MEX | B95: I | C95: 2.36 | D95: 0.02425 | E95: 3 | F95: BGV007910 | G95: 0 | H95: 0 | I95: 0 | J95: 0 | K95: 0 | L95: 0 | M95: 0 | N95: 0 | O95: 0 | P95: 0 | Q95: 0 | R95: 0 | S95: 0 | T95: 0 | U95: 0 | V95: 0 | W95: 0 | X95: 0 | Y95: 0 | Z95: 0 | AA95: 0 | AB95: 0 | AC95: 0 | AD95: 0 | AE95: 0 | AF95: 0 | AG95: 0 | AH95: 0 | AI95: 2 | AJ95: 0 | AK95: 0 | AL95: 0 | AM95: 0 | AN95: 0 | AO95: 0 | AP95: 0 | AQ95: 0 | AR95: 0 | AS95: 0 | AT95: 0 | AU95: 0 | AV95: 0 | AW95: 0 | AX95: 0 | AY95: 0 | AZ95: 0 | BA95: 0 | BB95: 0 | BC95: 0 | BD95: 0 | BE95: 0 | BF95: 0 | BG95: 0 | BH95: 0 | BI95: 0 | BJ95: 0 | BK95: 0 | BL95: 0 | BM95: 0 | BN95: 0 | BO95: 0 | BP95: 0 | BQ95: 0 | BR95: 0 | BS95: 0 | BT95: 0 | BU95: 0 | BV95: 0 | BW95: 0 | BX95: 0 | BY95: 0 | BZ95: 0 | CA95: 0 | CB95: 0 | CC95: 0 | CD95: 0 | CE95: 0 | CF95: 0 | CG95: 0 | CH95: 0 | CI95: 0 | CJ95: 0 | CK95: 0 | CL95: 0 | CM95: 0 | CN95: 0 | CO95: 0 | CP95: 0
A96: SLC_MEX | B96: I | C96: 2.92 | D96: 0.029416667 | E96: 3 | F96: BGV007911 | G96: 0 | H96: 0 | I96: 0 | J96: 0 | K96: 0 | L96: 0 | M96: 0 | N96: 0 | O96: 0 | P96: 0 | Q96: 0 | R96: 0 | S96: 0 | T96: 0 | U96: 0 | V96: 0 | W96: 0 | X96: 0 | Y96: 0 | Z96: 0 | AA96: 0 | AB96: 0 | AC96: 0 | AD96: 0 | AE96: 0 | AF96: 0 | AG96: 0 | AH96: 0 | AI96: 2 | AJ96: 0 | AK96: 0 | AL96: 0 | AM96: 0 | AN96: 0 | AO96: 0 | AP96: 0 | AQ96: 0 | AR96: 0 | AS96: 0 | AT96: 0 | AU96: 0 | AV96: 0 | AW96: 0 | AX96: 0 | AY96: 0 | AZ96: 0 | BA96: 0 | BB96: 0 | BC96: 0 | BD96: 0 | BE96: 0 | BF96: 0 | BG96: 0 | BH96: 0 | BI96: 0 | BJ96: 0 | BK96: 0 | BL96: 0 | BM96: 0 | BN96: 0 | BO96: 0 | BP96: 0 | BQ96: 0 | BR96: 0 | BS96: 0 | BT96: 0 | BU96: 0 | BV96: 0 | BW96: 0 | BX96: 0 | BY96: 0 | BZ96: 0 | CA96: 0 | CB96: 0 | CC96: 0 | CD96: 0 | CE96: 0 | CF96: 0 | CG96: 0 | CH96: 0 | CI96: 0 | CJ96: 0 | CK96: 0 | CL96: 0 | CM96: 0 | CN96: 0 | CO96: 0 | CP96: 0
A97: SLC_MEX | B97: I | C97: 2.77 | D97: 0.023133333 | E97: 3 | F97: BGV007918 | G97: 0 | H97: 0 | I97: 0 | J97: 0 | K97: 0 | L97: 0 | M97: 0 | N97: 0 | O97: 0 | P97: 0 | Q97: 0 | R97: 0 | S97: 0 | T97: 0 | U97: 0 | V97: 0 | W97: 0 | X97: 0 | Y97: 0 | Z97: 0 | AA97: 0 | AB97: 0 | AC97: 0 | AD97: 0 | AE97: 0 | AF97: 0 | AG97: 0 | AH97: 0 | AI97: 2 | AJ97: 0 | AK97: 0 | AL97: 0 | AM97: 0 | AN97: 0 | AO97: 0 | AP97: 0 | AQ97: 0 | AR97: 0 | AS97: 0 | AT97: 0 | AU97: 0 | AV97: 0 | AW97: 0 | AX97: 0 | AY97: 0 | AZ97: 0 | BA97: 0 | BB97: 0 | BC97: 0 | BD97: 0 | BE97: 0 | BF97: 0 | BG97: 0 | BH97: 0 | BI97: 0 | BJ97: 0 | BK97: 0 | BL97: 0 | BM97: 0 | BN97: 0 | BO97: 0 | BP97: 0 | BQ97: 0 | BR97: 0 | BS97: 0 | BT97: 0 | BU97: 0 | BV97: 0 | BW97: 0 | BX97: 0 | BY97: 0 | BZ97: 0 | CA97: 0 | CB97: 0 | CC97: 0 | CD97: 0 | CE97: 0 | CF97: 0 | CG97: 0 | CH97: 0 | CI97: 0 | CJ97: 0 | CK97: 0 | CL97: 0 | CM97: 0 | CN97: 0 | CO97: 0 | CP97: 0
A98: SLC_MEX | B98: I | C98: 4.68 | D98: 0.0283 | E98: 1 | F98: BGV007920 | G98: 0 | H98: 0 | I98: 0 | J98: 0 | K98: 0 | L98: 0 | M98: 0 | N98: 0 | O98: 0 | P98: 0 | Q98: 0 | R98: 0 | S98: 0 | T98: 0 | U98: 0 | V98: 0 | W98: 0 | X98: 0 | Y98: 0 | Z98: 0 | AA98: 0 | AB98: 0 | AC98: 0 | AD98: 0 | AE98: 0 | AF98: 0 | AG98: 0 | AH98: 0 | AI98: 2 | AJ98: 0 | AK98: 0 | AL98: 0 | AM98: 0 | AN98: 0 | AO98: 0 | AP98: 0 | AQ98: 0 | AR98: 0 | AS98: 0 | AT98: 0 | AU98: 0 | AV98: 0 | AW98: 0 | AX98: 0 | AY98: 0 | AZ98: 0 | BA98: 0 | BB98: 0 | BC98: 0 | BD98: 0 | BE98: 0 | BF98: 0 | BG98: 0 | BH98: 0 | BI98: 0 | BJ98: 0 | BK98: 0 | BL98: 0 | BM98: 0 | BN98: 0 | BO98: 0 | BP98: 0 | BQ98: 0 | BR98: 0 | BS98: 0 | BT98: 0 | BU98: 0 | BV98: 0 | BW98: 0 | BX98: 0 | BY98: 0 | BZ98: 0 | CA98: 0 | CB98: 0 | CC98: 0 | CD98: 0 | CE98: 0 | CF98: 0 | CG98: 0 | CH98: 0 | CI98: 0 | CJ98: 0 | CK98: 0 | CL98: 0 | CM98: 0 | CN98: 0 | CO98: 0 | CP98: 0
A99: SLC_MEX | B99: I | C99: 2.53 | D99: 0.019666667 | E99: 3 | F99: BGV007921 | G99: 0 | H99: 0 | I99: 0 | J99: 0 | K99: 0 | L99: 0 | M99: 0 | N99: 0 | O99: 0 | P99: 0 | Q99: 0 | R99: 0 | S99: 0 | T99: 0 | U99: 0 | V99: 0 | W99: 0 | X99: 0 | Y99: 0 | Z99: 0 | AA99: 0 | AB99: 0 | AC99: 0 | AD99: 0 | AE99: 0 | AF99: 0 | AG99: 0 | AH99: 0 | AI99: 2 | AJ99: 0 | AK99: 0 | AL99: 0 | AM99: 0 | AN99: 0 | AO99: 0 | AP99: 0 | AQ99: 0 | AR99: 0 | AS99: 0 | AT99: 0 | AU99: 0 | AV99: 0 | AW99: 0 | AX99: 0 | AY99: 0 | AZ99: 0 | BA99: 0 | BB99: 0 | BC99: 0 | BD99: 0 | BE99: 0 | BF99: 0 | BG99: 0 | BH99: 0 | BI99: 0 | BJ99: 0 | BK99: 0 | BL99: 0 | BM99: 0 | BN99: 0 | BO99: 0 | BP99: 0 | BQ99: 0 | BR99: 0 | BS99: 0 | BT99: 0 | BU99: 0 | BV99: 0 | BW99: 0 | BX99: 0 | BY99: 0 | BZ99: 0 | CA99: 0 | CB99: 0 | CC99: 0 | CD99: 0 | CE99: 0 | CF99: 0 | CG99: 0 | CH99: 0 | CI99: 0 | CJ99: 0 | CK99: 0 | CL99: 0 | CM99: 0 | CN99: 0 | CO99: 0 | CP99: 0
A100: SLC_CA | B100: III | C100: 1.45 | D100: 0.016695208 | E100: 3 | F100: BGV007927 | G100: 0 | H100: 0 | I100: 0 | J100: 0 | K100: 0 | L100: 2 | M100: 0 | N100: 0 | O100: 0 | P100: 0 | Q100: 0 | R100: 0 | S100: 0 | T100: 0 | U100: 0 | V100: 0 | W100: 0 | X100: 0 | Y100: 0 | Z100: 0 | AA100: 0 | AB100: 0 | AC100: 2 | AD100: 0 | AE100: 0 | AF100: 0 | AG100: 0 | AH100: 0 | AI100: 2 | AJ100: 0 | AK100: 0 | AL100: 0 | AM100: 0 | AN100: 0 | AO100: 0 | AP100: 0 | AQ100: 0 | AR100: 0 | AS100: 0 | AT100: 0 | AU100: 0 | AV100: 0 | AW100: 0 | AX100: 0 | AY100: 0 | AZ100: 0 | BA100: NA | BB100: 0 | BC100: 2 | BD100: 0 | BE100: 0 | BF100: 0 | BG100: 0 | BH100: 0 | BI100: 0 | BJ100: 0 | BK100: 0 | BL100: 0 | BM100: 0 | BN100: 0 | BO100: 0 | BP100: 0 | BQ100: 0 | BR100: 0 | BS100: 0 | BT100: 2 | BU100: 0 | BV100: NA | BW100: 0 | BX100: 0 | BY100: 0 | BZ100: 0 | CA100: 0 | CB100: NA | CC100: NA | CD100: NA | CE100: 0 | CF100: NA | CG100: 0 | CH100: 0 | CI100: 0 | CJ100: 0 | CK100: 0 | CL100: NA | CM100: NA | CN100: NA | CO100: 0 | CP100: 0
A101: SLC_CA | B101: III | C101: 1.33 | D101: 0.012559567 | E101: 3 | F101: BGV007931 | G101: 0 | H101: 0 | I101: 0 | J101: 0 | K101: 0 | L101: 2 | M101: 0 | N101: 0 | O101: 0 | P101: 0 | Q101: 0 | R101: 0 | S101: 0 | T101: 0 | U101: 0 | V101: 0 | W101: 0 | X101: 0 | Y101: 0 | Z101: 0 | AA101: 0 | AB101: 0 | AC101: 2 | AD101: 0 | AE101: 0 | AF101: 0 | AG101: 0 | AH101: 0 | AI101: 2 | AJ101: 0 | AK101: 0 | AL101: 0 | AM101: 0 | AN101: 0 | AO101: 0 | AP101: 0 | AQ101: 0 | AR101: 0 | AS101: 0 | AT101: 0 | AU101: 0 | AV101: 0 | AW101: 0 | AX101: 0 | AY101: 0 | AZ101: 0 | BA101: 0 | BB101: 0 | BC101: 2 | BD101: 0 | BE101: 0 | BF101: 0 | BG101: 0 | BH101: 0 | BI101: 0 | BJ101: 0 | BK101: 0 | BL101: 0 | BM101: 0 | BN101: 0 | BO101: 0 | BP101: 0 | BQ101: 0 | BR101: 0 | BS101: 0 | BT101: 2 | BU101: 0 | BV101: 2 | BW101: 0 | BX101: 0 | BY101: 0 | BZ101: 0 | CA101: 0 | CB101: 0 | CC101: 0 | CD101: 0 | CE101: 0 | CF101: 0 | CG101: 0 | CH101: 0 | CI101: 0 | CJ101: 0 | CK101: 2 | CL101: 0 | CM101: 0 | CN101: 0 | CO101: 0 | CP101: 0
A102: SLC_CA | B102: I | C102: 2.87 | D102: 0.023483333 | E102: 3 | F102: BGV007933 | G102: 0 | H102: 0 | I102: 0 | J102: 0 | K102: 0 | L102: 0 | M102: 0 | N102: 0 | O102: 0 | P102: 0 | Q102: 0 | R102: 0 | S102: 0 | T102: 0 | U102: 0 | V102: 0 | W102: 0 | X102: 0 | Y102: 0 | Z102: 0 | AA102: 0 | AB102: 0 | AC102: 0 | AD102: 0 | AE102: 0 | AF102: 0 | AG102: 0 | AH102: 0 | AI102: 2 | AJ102: 0 | AK102: 0 | AL102: 0 | AM102: 0 | AN102: 0 | AO102: 0 | AP102: 0 | AQ102: 0 | AR102: 0 | AS102: 0 | AT102: 0 | AU102: 0 | AV102: 0 | AW102: 0 | AX102: 0 | AY102: 0 | AZ102: 0 | BA102: 0 | BB102: 0 | BC102: 0 | BD102: 0 | BE102: 0 | BF102: 0 | BG102: 0 | BH102: 0 | BI102: 0 | BJ102: 0 | BK102: 0 | BL102: 0 | BM102: 0 | BN102: 0 | BO102: 0 | BP102: 0 | BQ102: 0 | BR102: 0 | BS102: 0 | BT102: 0 | BU102: 0 | BV102: 0 | BW102: 0 | BX102: 0 | BY102: 0 | BZ102: 0 | CA102: 0 | CB102: 0 | CC102: 0 | CD102: 0 | CE102: 0 | CF102: 0 | CG102: 0 | CH102: 0 | CI102: 0 | CJ102: 0 | CK102: 0 | CL102: 0 | CM102: 0 | CN102: 0 | CO102: 0 | CP102: 0
A103: SLC_CA | B103: III | C103: 1.99 | D103: 0.015583958 | E103: 3 | F103: BGV007934 | G103: 0 | H103: 0 | I103: 0 | J103: 0 | K103: 0 | L103: 2 | M103: 0 | N103: 0 | O103: 0 | P103: 0 | Q103: 0 | R103: 0 | S103: 0 | T103: 0 | U103: 0 | V103: 0 | W103: 0 | X103: 0 | Y103: 0 | Z103: 0 | AA103: 0 | AB103: 2 | AC103: 0 | AD103: 0 | AE103: 0 | AF103: 0 | AG103: 0 | AH103: 0 | AI103: 2 | AJ103: 0 | AK103: 0 | AL103: 0 | AM103: 2 | AN103: 0 | AO103: 0 | AP103: 0 | AQ103: 0 | AR103: 0 | AS103: 0 | AT103: 0 | AU103: 0 | AV103: 0 | AW103: 0 | AX103: 0 | AY103: 0 | AZ103: 0 | BA103: 0 | BB103: 0 | BC103: 0 | BD103: 0 | BE103: 0 | BF103: 0 | BG103: 0 | BH103: 2 | BI103: 0 | BJ103: 0 | BK103: 0 | BL103: 0 | BM103: 0 | BN103: 0 | BO103: 0 | BP103: 0 | BQ103: 0 | BR103: 0 | BS103: 0 | BT103: 2 | BU103: 0 | BV103: 2 | BW103: 0 | BX103: 2 | BY103: 0 | BZ103: 0 | CA103: 0 | CB103: 0 | CC103: 0 | CD103: 0 | CE103: 0 | CF103: 2 | CG103: 0 | CH103: 0 | CI103: 0 | CJ103: 0 | CK103: 0 | CL103: 0 | CM103: 0 | CN103: 0 | CO103: 0 | CP103: 0
A104: SLC_CA | B104: III | C104: 1.96 | D104: 0.0308 | E104: 3 | F104: BGV007935 | G104: 0 | H104: 0 | I104: 0 | J104: 0 | K104: 0 | L104: 2 | M104: 0 | N104: 0 | O104: 0 | P104: 0 | Q104: 0 | R104: 0 | S104: 0 | T104: 0 | U104: 0 | V104: 0 | W104: 0 | X104: 0 | Y104: 0 | Z104: 0 | AA104: 0 | AB104: 2 | AC104: 0 | AD104: 0 | AE104: 0 | AF104: 0 | AG104: 0 | AH104: 0 | AI104: 2 | AJ104: 0 | AK104: 0 | AL104: 0 | AM104: 2 | AN104: 0 | AO104: 0 | AP104: 0 | AQ104: 0 | AR104: 0 | AS104: 0 | AT104: 0 | AU104: 0 | AV104: 0 | AW104: 0 | AX104: 0 | AY104: 0 | AZ104: 0 | BA104: 0 | BB104: 0 | BC104: 0 | BD104: 0 | BE104: 0 | BF104: 0 | BG104: 0 | BH104: 2 | BI104: 0 | BJ104: 0 | BK104: 0 | BL104: 0 | BM104: 0 | BN104: 0 | BO104: 0 | BP104: 0 | BQ104: 0 | BR104: 0 | BS104: 0 | BT104: 2 | BU104: 0 | BV104: 2 | BW104: 0 | BX104: 2 | BY104: 0 | BZ104: 0 | CA104: 0 | CB104: 0 | CC104: 0 | CD104: 0 | CE104: 0 | CF104: 2 | CG104: 0 | CH104: 0 | CI104: 0 | CJ104: 0 | CK104: 0 | CL104: 0 | CM104: 0 | CN104: 0 | CO104: 0 | CP104: 0
A105: SLL | B105: I | C105: 91.43 | D105: 0.053922083 | E105: 1 | F105: BGV007936 | G105: 0 | H105: 0 | I105: 0 | J105: 0 | K105: 0 | L105: 0 | M105: 0 | N105: 0 | O105: 0 | P105: 0 | Q105: 0 | R105: 0 | S105: 0 | T105: 0 | U105: 0 | V105: 0 | W105: 0 | X105: 0 | Y105: 0 | Z105: 0 | AA105: 0 | AB105: 0 | AC105: 0 | AD105: 0 | AE105: 0 | AF105: 0 | AG105: 0 | AH105: 0 | AI105: 2 | AJ105: 0 | AK105: 0 | AL105: 0 | AM105: 0 | AN105: 0 | AO105: 0 | AP105: 0 | AQ105: 0 | AR105: 0 | AS105: 0 | AT105: 0 | AU105: 0 | AV105: 0 | AW105: 0 | AX105: 0 | AY105: 0 | AZ105: 0 | BA105: 0 | BB105: 0 | BC105: 0 | BD105: 0 | BE105: 0 | BF105: 0 | BG105: 0 | BH105: 0 | BI105: 0 | BJ105: 0 | BK105: 0 | BL105: 0 | BM105: 0 | BN105: 0 | BO105: 0 | BP105: 0 | BQ105: 0 | BR105: 0 | BS105: 0 | BT105: 0 | BU105: 0 | BV105: 0 | BW105: 0 | BX105: 0 | BY105: 0 | BZ105: 0 | CA105: 0 | CB105: 0 | CC105: 0 | CD105: 0 | CE105: 0 | CF105: 0 | CG105: 0 | CH105: 0 | CI105: 0 | CJ105: 0 | CK105: 0 | CL105: 0 | CM105: 0 | CN105: 0 | CO105: 0 | CP105: 0
A106: SLC_PER | B106: I | C106: 7.09 | D106: 0.12065 | E106: 3 | F106: BGV007981 | G106: 0 | H106: 0 | I106: 0 | J106: 0 | K106: 0 | L106: 0 | M106: 0 | N106: 0 | O106: 0 | P106: 0 | Q106: 0 | R106: 0 | S106: 0 | T106: 0 | U106: 0 | V106: 0 | W106: 0 | X106: 0 | Y106: 0 | Z106: 0 | AA106: 0 | AB106: 0 | AC106: 0 | AD106: 0 | AE106: 0 | AF106: 0 | AG106: 0 | AH106: 0 | AI106: 2 | AJ106: 0 | AK106: 0 | AL106: 0 | AM106: 0 | AN106: 0 | AO106: 0 | AP106: 0 | AQ106: 0 | AR106: 0 | AS106: 0 | AT106: 0 | AU106: 0 | AV106: 0 | AW106: 0 | AX106: 0 | AY106: 0 | AZ106: 0 | BA106: 0 | BB106: 0 | BC106: 0 | BD106: 0 | BE106: 0 | BF106: 0 | BG106: 0 | BH106: 0 | BI106: 0 | BJ106: 0 | BK106: 0 | BL106: 0 | BM106: 0 | BN106: 0 | BO106: 0 | BP106: 0 | BQ106: 0 | BR106: 0 | BS106: 0 | BT106: 0 | BU106: 0 | BV106: 0 | BW106: 0 | BX106: 0 | BY106: 0 | BZ106: 0 | CA106: 0 | CB106: 0 | CC106: 0 | CD106: 0 | CE106: 0 | CF106: 0 | CG106: 0 | CH106: 0 | CI106: 0 | CJ106: 0 | CK106: 0 | CL106: 0 | CM106: 0 | CN106: 0 | CO106: 0 | CP106: 0
A107: SLC_PER | B107: I | C107: 6.03 | D107: 0.06515 | E107: 3 | F107: BGV007989 | G107: 0 | H107: 0 | I107: 0 | J107: 0 | K107: 0 | L107: 0 | M107: 0 | N107: 0 | O107: 0 | P107: 0 | Q107: 0 | R107: 0 | S107: 0 | T107: 0 | U107: 0 | V107: 0 | W107: 0 | X107: 0 | Y107: 0 | Z107: 0 | AA107: 0 | AB107: 0 | AC107: 0 | AD107: 0 | AE107: 0 | AF107: 0 | AG107: 0 | AH107: 0 | AI107: 2 | AJ107: 0 | AK107: 0 | AL107: 0 | AM107: 0 | AN107: 0 | AO107: 0 | AP107: 0 | AQ107: 0 | AR107: 0 | AS107: 0 | AT107: 0 | AU107: 0 | AV107: 0 | AW107: 0 | AX107: 0 | AY107: 0 | AZ107: 0 | BA107: 0 | BB107: 0 | BC107: 0 | BD107: 0 | BE107: 0 | BF107: 0 | BG107: 0 | BH107: 0 | BI107: 0 | BJ107: 0 | BK107: 0 | BL107: 0 | BM107: 0 | BN107: 0 | BO107: 0 | BP107: 0 | BQ107: 0 | BR107: 0 | BS107: 0 | BT107: 0 | BU107: 0 | BV107: 0 | BW107: 0 | BX107: 0 | BY107: 0 | BZ107: 0 | CA107: 0 | CB107: 0 | CC107: 0 | CD107: 0 | CE107: 0 | CF107: 0 | CG107: 0 | CH107: 0 | CI107: 0 | CJ107: 0 | CK107: 0 | CL107: 0 | CM107: 0 | CN107: 0 | CO107: 0 | CP107: 0
A108: SLC_PER | B108: I | C108: 9.41 | D108: 0.058091667 | E108: 3 | F108: BGV007990 | G108: 0 | H108: 0 | I108: 0 | J108: 0 | K108: 0 | L108: 0 | M108: 0 | N108: 0 | O108: 0 | P108: 0 | Q108: 0 | R108: 0 | S108: 0 | T108: 0 | U108: 0 | V108: 0 | W108: 0 | X108: 0 | Y108: 0 | Z108: 0 | AA108: 0 | AB108: 0 | AC108: 0 | AD108: 0 | AE108: 0 | AF108: 0 | AG108: 0 | AH108: 0 | AI108: 2 | AJ108: 0 | AK108: 0 | AL108: 0 | AM108: 0 | AN108: 0 | AO108: 0 | AP108: 0 | AQ108: 0 | AR108: 0 | AS108: 0 | AT108: 0 | AU108: 0 | AV108: 0 | AW108: 0 | AX108: 0 | AY108: 0 | AZ108: 0 | BA108: 0 | BB108: 0 | BC108: 0 | BD108: 0 | BE108: 0 | BF108: 0 | BG108: 0 | BH108: 0 | BI108: 0 | BJ108: 0 | BK108: 0 | BL108: 0 | BM108: 0 | BN108: 0 | BO108: 0 | BP108: 0 | BQ108: 0 | BR108: 0 | BS108: 0 | BT108: 0 | BU108: 0 | BV108: 0 | BW108: 0 | BX108: 0 | BY108: 0 | BZ108: 0 | CA108: 0 | CB108: 0 | CC108: 0 | CD108: 0 | CE108: 0 | CF108: 0 | CG108: 0 | CH108: 0 | CI108: 0 | CJ108: 0 | CK108: 0 | CL108: 0 | CM108: 0 | CN108: 0 | CO108: 0 | CP108: 0
A109: SLC_ECU | B109: VI | C109: 5.35 | D109: 0.031996944 | E109: 3 | F109: BGV007992 | G109: 0 | H109: 2 | I109: 0 | J109: 2 | K109: 2 | L109: 2 | M109: 0 | N109: 2 | O109: 2 | P109: 0 | Q109: 2 | R109: 0 | S109: 0 | T109: 2 | U109: 2 | V109: 0 | W109: 0 | X109: 2 | Y109: 0 | Z109: 0 | AA109: 2 | AB109: 0 | AC109: 2 | AD109: 2 | AE109: 2 | AF109: 2 | AG109: 0 | AH109: 0 | AI109: 2 | AJ109: 0 | AK109: 0 | AL109: 0 | AM109: 0 | AN109: 0 | AO109: 2 | AP109: 2 | AQ109: 0 | AR109: 2 | AS109: 2 | AT109: 2 | AU109: 2 | AV109: 2 | AW109: 2 | AX109: 0 | AY109: 2 | AZ109: 2 | BA109: 0 | BB109: 0 | BC109: 0 | BD109: 0 | BE109: 0 | BF109: 0 | BG109: 0 | BH109: 0 | BI109: 2 | BJ109: 0 | BK109: 0 | BL109: 0 | BM109: 0 | BN109: 2 | BO109: 0 | BP109: 0 | BQ109: 2 | BR109: 2 | BS109: 0 | BT109: 2 | BU109: 0 | BV109: 2 | BW109: 0 | BX109: 0 | BY109: 2 | BZ109: 0 | CA109: 0 | CB109: 0 | CC109: 0 | CD109: 2 | CE109: 0 | CF109: 0 | CG109: 2 | CH109: 0 | CI109: 2 | CJ109: 2 | CK109: 0 | CL109: 0 | CM109: 0 | CN109: 0 | CO109: 0 | CP109: 0
A110: SLC_PER | B110: I | C110: 9.32 | D110: 0.084683333 | E110: 3 | F110: BGV008036 | G110: 0 | H110: 0 | I110: 0 | J110: 0 | K110: 0 | L110: 0 | M110: 0 | N110: 0 | O110: 0 | P110: 0 | Q110: 0 | R110: 0 | S110: 0 | T110: 0 | U110: 0 | V110: 0 | W110: 0 | X110: 0 | Y110: 0 | Z110: 0 | AA110: 0 | AB110: 0 | AC110: 0 | AD110: 0 | AE110: 0 | AF110: 0 | AG110: 0 | AH110: 0 | AI110: 2 | AJ110: 0 | AK110: 0 | AL110: 0 | AM110: 0 | AN110: 0 | AO110: 0 | AP110: 0 | AQ110: 0 | AR110: 0 | AS110: 0 | AT110: 0 | AU110: 0 | AV110: 0 | AW110: 0 | AX110: 0 | AY110: 0 | AZ110: 0 | BA110: 0 | BB110: 0 | BC110: 0 | BD110: 0 | BE110: 0 | BF110: 0 | BG110: 0 | BH110: 0 | BI110: 0 | BJ110: 0 | BK110: 0 | BL110: 0 | BM110: 0 | BN110: 0 | BO110: 0 | BP110: 0 | BQ110: 0 | BR110: 0 | BS110: 0 | BT110: 0 | BU110: 0 | BV110: 0 | BW110: 0 | BX110: 0 | BY110: 0 | BZ110: 0 | CA110: 0 | CB110: 0 | CC110: 0 | CD110: 0 | CE110: 0 | CF110: 0 | CG110: 0 | CH110: 0 | CI110: 0 | CJ110: 0 | CK110: 0 | CL110: 0 | CM110: 0 | CN110: 0 | CO110: 0 | CP110: 0
A111: SLC_PER | B111: I | C111: 6.23 | D111: 0.096391667 | E111: 3 | F111: BGV008037 | G111: 0 | H111: 0 | I111: 0 | J111: 0 | K111: 0 | L111: 0 | M111: 0 | N111: 0 | O111: 0 | P111: 0 | Q111: 0 | R111: 0 | S111: 0 | T111: 0 | U111: 0 | V111: 0 | W111: 0 | X111: 0 | Y111: 0 | Z111: 0 | AA111: 0 | AB111: 0 | AC111: 0 | AD111: 0 | AE111: 0 | AF111: 0 | AG111: 0 | AH111: 0 | AI111: 2 | AJ111: 0 | AK111: 0 | AL111: 0 | AM111: 0 | AN111: 0 | AO111: 0 | AP111: 0 | AQ111: 0 | AR111: 0 | AS111: 0 | AT111: 0 | AU111: 0 | AV111: 0 | AW111: 0 | AX111: 0 | AY111: 0 | AZ111: 0 | BA111: 0 | BB111: 0 | BC111: 0 | BD111: 0 | BE111: 0 | BF111: 0 | BG111: 0 | BH111: 0 | BI111: 0 | BJ111: 0 | BK111: 0 | BL111: 0 | BM111: 0 | BN111: 0 | BO111: 0 | BP111: 0 | BQ111: 0 | BR111: 0 | BS111: 0 | BT111: 0 | BU111: 0 | BV111: 0 | BW111: 0 | BX111: 0 | BY111: 0 | BZ111: 0 | CA111: 0 | CB111: 0 | CC111: 0 | CD111: 0 | CE111: 0 | CF111: 0 | CG111: 0 | CH111: 0 | CI111: 0 | CJ111: 0 | CK111: 0 | CL111: 0 | CM111: 0 | CN111: 0 | CO111: 0 | CP111: 0
A112: SLC_PER | B112: I | C112: 10.24 | D112: 0.088164167 | E112: 3 | F112: BGV008041 | G112: 0 | H112: 0 | I112: 0 | J112: 0 | K112: 0 | L112: 0 | M112: 0 | N112: 0 | O112: 0 | P112: 0 | Q112: 0 | R112: 0 | S112: 0 | T112: 0 | U112: 0 | V112: 0 | W112: 0 | X112: 0 | Y112: 0 | Z112: 0 | AA112: 0 | AB112: 0 | AC112: 0 | AD112: 0 | AE112: 0 | AF112: 0 | AG112: 0 | AH112: 0 | AI112: 2 | AJ112: 0 | AK112: 0 | AL112: 0 | AM112: 0 | AN112: 0 | AO112: 0 | AP112: 0 | AQ112: 0 | AR112: 0 | AS112: 0 | AT112: 0 | AU112: 0 | AV112: 0 | AW112: 0 | AX112: 0 | AY112: 0 | AZ112: 0 | BA112: 0 | BB112: 0 | BC112: 0 | BD112: 0 | BE112: 0 | BF112: 0 | BG112: 0 | BH112: 0 | BI112: 0 | BJ112: 0 | BK112: 0 | BL112: 0 | BM112: 0 | BN112: 0 | BO112: 0 | BP112: 0 | BQ112: 0 | BR112: 0 | BS112: 0 | BT112: 0 | BU112: 0 | BV112: 0 | BW112: 0 | BX112: 0 | BY112: 0 | BZ112: 0 | CA112: 0 | CB112: 0 | CC112: 0 | CD112: 0 | CE112: 0 | CF112: 0 | CG112: 0 | CH112: 0 | CI112: 0 | CJ112: 0 | CK112: 0 | CL112: 0 | CM112: 0 | CN112: 0 | CO112: 0 | CP112: 0
...

Sheet Supp Table S10
A1: Supplementary Table S10 Genotyping information at CSR-like1 locus and the CSR-like1 haplotypes in the modern SLL accessions
A2: a Selected variants that are conserved in different CSR-like1 haplotypes
A3: b Allele genotyping annotation 0: reference; 1: heterozygous; 2: alternate | I3: Variantsa
H4: Position | I4: SL4.0ch06:43343741 | J4: SL4.0ch06:43343930 | K4: SL4.0ch06:43346037 | L4: SL4.0ch06:43346115 | M4: SL4.0ch06:43346843 | N4: SL4.0ch06:43346986 | O4: SL4.0ch06:43347249 | P4: SL4.0ch06:43348427
H5: REF | I5: T | J5: T | K5: T | L5: C | M5: T | N5: C | O5: A | P5: T
H6: ALT | I6: C | J6: G | K6: C | L6: T | M6: C | N6: G | O6: G | P6: A
A7: Botanical variety | B7: Name | C7: Categories | D7: TGRC | E7: PI CGN# | F7: EA # | G7: CSR-like1 Haplotype | H7: Annotationb | I7: SNP | J7: SNP | K7: SNP | L7: SNP | M7: SNP | N7: SNP | O7: SNP | P7: SNP
A8: S. lycopersicum | B8: VF-36 | C8: Vintage Processing | D8: LA0490 | G8: II | H8: TS-1 | I8: 0 | J8: 0 | K8: 0 | L8: 0 | M8: 0 | N8: 0 | O8: 0 | P8: 0
A9: S. lycopersicum | B9: Marglobe | C9: Vintage Fresh Market | D9: LA0502 | G9: II | H9: TS-10 | I9: 0 | J9: 0 | K9: NA | L9: 0 | M9: 0 | N9: 0 | O9: 0 | P9: 0
A10: S. lycopersicum | G10: II | H10: TS-103 | I10: 0 | J10: 0 | K10: 0 | L10: 0 | M10: 0 | N10: 0 | O10: 0 | P10: 0
A11: S. lycopersicum | B11: KR2 | C11: Modern Fresh Market | G11: II | H11: TS-11 | I11: 0 | J11: 0 | K11: 0 | L11: 0 | M11: 0 | N11: 0 | O11: 0 | P11: 0
A12: S. lycopersicum | C12: Processing tomato | G12: I | H12: TS-113 | I12: 0 | J12: 0 | K12: 0 | L12: 0 | M12: 2 | N12: 0 | O12: 0 | P12: 0
A13: S. lycopersicum | B13: 149-77 | C13: cultivar | G13: II | H13: TS-140 | I13: 0 | J13: 0 | K13: 0 | L13: 0 | M13: 0 | N13: 0 | O13: 0 | P13: 0
A14: S. lycopersicum | D14: LA3130 | G14: II | H14: TS-147 | I14: NA | J14: 0 | K14: NA | L14: 0 | M14: 0 | N14: 0 | O14: 0 | P14: 0
A15: S. lycopersicum | C15: Processing tomato | G15: II | H15: TS-162 | I15: 0 | J15: 0 | K15: 0 | L15: 0 | M15: 0 | N15: 0 | O15: 0 | P15: 0
A16: S. lycopersicum | B16: Da appendere | C16: Landrace | G16: II | H16: TS-168 | I16: 0 | J16: 0 | K16: 0 | L16: 0 | M16: 0 | N16: 0 | O16: 0 | P16: 0
A17: S. lycopersicum | C17: Processing tomato | E17: PI280060 | F17: PI280060 | G17: II | H17: TS-172 | I17: 0 | J17: 0 | K17: 0 | L17: 0 | M17: 0 | N17: 0 | O17: 0 | P17: 0
A18: S. lycopersicum | C18: Processing tomato | G18: I | H18: TS-174 | I18: 0 | J18: 0 | K18: 0 | L18: 0 | M18: 2 | N18: 0 | O18: 0 | P18: 0
A19: S. lycopersicum | B19: Rowpac | C19: Modern Processing | D19: LA3214 | G19: II | H19: TS-186 | I19: 0 | J19: 0 | K19: 0 | L19: 0 | M19: 0 | N19: 0 | O19: 0 | P19: 0
A20: S. lycopersicum | B20: Santa Chiara | C20: cultivar | G20: II | H20: TS-190 | I20: 0 | J20: 0 | K20: 0 | L20: 0 | M20: 0 | N20: 0 | O20: 0 | P20: 0
A21: S. lycopersicum | D21: LA3238 | G21: I | H21: TS-194 | I21: 0 | J21: 0 | K21: 0 | L21: 0 | M21: 2 | N21: 0 | O21: 0 | P21: 0
A22: S. lycopersicum | B22: Libanese | C22: Landrace | G22: I | H22: TS-197 | I22: 0 | J22: 0 | K22: 2 | L22: 0 | M22: NA | N22: 0 | O22: NA | P22: 0
A23: S. lycopersicum | B23: San Salvador | C23: Landrace/Latin American cultivar | D23: LA1210 | G23: I | H23: TS-201 | I23: 0 | J23: 0 | K23: 2 | L23: 0 | M23: NA | N23: 0 | O23: 0 | P23: 0
A24: S. lycopersicum | B24: NC 84173 | C24: Modern Fresh Market | D24: LA4354 | G24: II | H24: TS-211 | I24: 0 | J24: 0 | K24: 0 | L24: 0 | M24: 0 | N24: 0 | O24: 0 | P24: 0
A25: S. lycopersicum | B25: Flora-Dade | C25: Modern Fresh Market | D25: LA3242 | G25: II | H25: TS-212 | I25: 0 | J25: 0 | K25: 0 | L25: 0 | M25: 0 | N25: 0 | O25: 0 | P25: 0
A26: S. lycopersicum | B26: Santa Clara 5800 | C26: cultivar | G26: I | H26: TS-218 | I26: 0 | J26: 0 | K26: 0 | L26: 0 | M26: 2 | N26: 0 | O26: 0 | P26: 0
A27: S. lycopersicum | C27: Processing tomato | E27: PI330336 | F27: PI330336 | G27: II | H27: TS-225 | I27: 0 | J27: 0 | K27: NA | L27: 0 | M27: 0 | N27: 0 | O27: 0 | P27: 0
A28: S. lycopersicum | C28: Processing tomato | G28: II | H28: TS-245 | I28: 0 | J28: 0 | K28: 0 | L28: 0 | M28: 0 | N28: 0 | O28: 0 | P28: 0
A29: S. lycopersicum | B29: Heinz 1706-BG | C29: Modern Processing | D29: LA4345 | G29: II | H29: TS-253 | I29: 0 | J29: 0 | K29: 0 | L29: 0 | M29: 0 | N29: 0 | O29: 0 | P29: 0
A30: S. lycopersicum | C30: Latin American cultivar | D30: LA2260 | G30: I | H30: TS-256 | I30: 0 | J30: 0 | K30: 0 | L30: 0 | M30: 2 | N30: 0 | O30: 0 | P30: 0
A31: S. lycopersicum | B31: Hawaii 7998 | C31: Inbreed line | D31: LA3856 | G31: II | H31: TS-4 | I31: 0 | J31: 0 | K31: 0 | L31: 0 | M31: 0 | N31: 0 | O31: 0 | P31: 0
A32: S. lycopersicum | C32: inbred line | G32: II | H32: TS-400 | I32: 0 | J32: 0 | K32: 0 | L32: 0 | M32: 0 | N32: 0 | O32: 0 | P32: 0
A33: S. lycopersicum | C33: inbred line | G33: II | H33: TS-401 | I33: 0 | J33: 0 | K33: 0 | L33: 0 | M33: 0 | N33: 0 | O33: 0 | P33: 0
A34: S. lycopersicum | C34: Processing tomato | E34: PI345565 | F34: PI345565 | G34: II | H34: TS-42 | I34: 0 | J34: 0 | K34: 0 | L34: 0 | M34: 0 | N34: 0 | O34: NA | P34: 0
A35: S. lycopersicum | B35: Moneymaker | C35: Fresh Market | G35: I | H35: TS-43 | I35: 0 | J35: 0 | K35: 2 | L35: 0 | M35: 2 | N35: 0 | O35: 0 | P35: 0
A36: S. lycopersicum | B36: A pera abruzzese | C36: Landrace | G36: I | H36: TS-44 | I36: 0 | J36: 0 | K36: 0 | L36: 0 | M36: 2 | N36: 0 | O36: 0 | P36: 0
A37: S. lycopersicum | B37: Edkawi | C37: Vintage Fresh Market | D37: LA2711 | G37: I | H37: TS-5 | I37: 0 | J37: 0 | K37: 2 | L37: 0 | M37: 2 | N37: 0 | O37: 0 | P37: 0
A38: S. lycopersicum | B38: Black | G38: I | H38: TS-503 | I38: 0 | J38: 0 | K38: 0 | L38: 0 | M38: 2 | N38: 0 | O38: NA | P38: 0
A39: S. lycopersicum | B39: Bloody Butcher | G39: I | H39: TS-504 | I39: 0 | J39: 0 | K39: 2 | L39: 0 | M39: 2 | N39: 0 | O39: 0 | P39: 0
A40: S. lycopersicum | B40: Cherokee Purple | G40: I | H40: TS-507 | I40: 0 | J40: 0 | K40: 2 | L40: 0 | M40: 2 | N40: 0 | O40: 0 | P40: 0
A41: S. lycopersicum | B41: Crimson Sprinter | G41: I | H41: TS-511 | I41: 0 | J41: 0 | K41: 0 | L41: 0 | M41: 2 | N41: 0 | O41: 0 | P41: 0
A42: S. lycopersicum | B42: Early Red Chief | G42: II | H42: TS-514 | I42: 0 | J42: 0 | K42: 0 | L42: 0 | M42: 0 | N42: 0 | O42: 0 | P42: 0
A43: S. lycopersicum | B43: Garden Peach | G43: I | H43: TS-515 | I43: 0 | J43: 0 | K43: 0 | L43: 0 | M43: 2 | N43: 0 | O43: 0 | P43: 0
A44: S. lycopersicum | B44: German Queen | G44: I | H44: TS-517 | I44: 0 | J44: 0 | K44: 2 | L44: 0 | M44: 2 | N44: 0 | O44: 0 | P44: 0
A45: S. lycopersicum | B45: Giant Oxheart | G45: I | H45: TS-519 | I45: 0 | J45: 0 | K45: 0 | L45: 0 | M45: 2 | N45: 0 | O45: 0 | P45: 0
A46: S. lycopersicum | B46: Green Zebra | G46: I | H46: TS-521 | I46: NA | J46: 0 | K46: 0 | L46: 0 | M46: 2 | N46: 0 | O46: 0 | P46: 0
A47: S. lycopersicum | B47: Gulf State Market | G47: II | H47: TS-522 | I47: 0 | J47: 0 | K47: 0 | L47: 0 | M47: 0 | N47: 0 | O47: 0 | P47: 0
A48: S. lycopersicum | B48: Matina | G48: I | H48: TS-535 | I48: 0 | J48: 0 | K48: 2 | L48: 0 | M48: 2 | N48: 0 | O48: 0 | P48: 0
A49: S. lycopersicum | B49: Nyagous | G49: I | H49: TS-540 | I49: 0 | J49: 0 | K49: 0 | L49: 0 | M49: 2 | N49: 0 | O49: 0 | P49: 0
A50: S. lycopersicum | B50: Oaxacan Pink | G50: II | H50: TS-541 | I50: 0 | J50: 0 | K50: 0 | L50: 0 | M50: 0 | N50: 0 | O50: 0 | P50: 0
A51: S. lycopersicum | B51: Peron Sprayless | G51: II | H51: TS-546 | I51: 0 | J51: 0 | K51: 0 | L51: 0 | M51: 0 | N51: 0 | O51: NA | P51: 0
A52: S. lycopersicum | B52: Ponderosa Red | G52: II | H52: TS-548 | I52: 0 | J52: 0 | K52: 0 | L52: 0 | M52: 0 | N52: 0 | O52: NA | P52: 0
A53: S. lycopersicum | B53: Santiam | G53: II | H53: TS-554 | I53: 0 | J53: 0 | K53: 0 | L53: 0 | M53: 0 | N53: 0 | O53: 0 | P53: 0
A54: S. lycopersicum | B54: St. Pierre | G54: II | H54: TS-556 | I54: 0 | J54: 0 | K54: 0 | L54: 0 | M54: 0 | N54: 0 | O54: 0 | P54: 0
A55: S. lycopersicum | B55: Wisconsin 55 | G55: II | H55: TS-567 | I55: 0 | J55: 0 | K55: 0 | L55: 0 | M55: 0 | N55: 0 | O55: NA | P55: 0
A56: S. lycopersicum | B56: Arkansas Traveler | G56: II | H56: TS-574 | I56: 0 | J56: 0 | K56: 0 | L56: 0 | M56: 0 | N56: 0 | O56: 0 | P56: 0
A57: S. lycopersicum | B57: Beefsteak | G57: II | H57: TS-576 | I57: 0 | J57: 0 | K57: NA | L57: 0 | M57: 0 | N57: 0 | O57: NA | P57: 0
A58: S. lycopersicum | B58: Black Brandywine | G58: II | H58: TS-577 | I58: 0 | J58: 0 | K58: 0 | L58: 0 | M58: 0 | N58: 0 | O58: 0 | P58: 0
A59: S. lycopersicum | C59: Processing tomato | G59: I | H59: TS-58 | I59: 0 | J59: 0 | K59: 0 | L59: 0 | M59: 2 | N59: 0 | O59: 0 | P59: 0
A60: S. lycopersicum | B60: Burbank | G60: II | H60: TS-583 | I60: 0 | J60: 0 | K60: 0 | L60: 0 | M60: 0 | N60: 0 | O60: 0 | P60: 0
A61: S. lycopersicum | B61: Druzba | G61: II | H61: TS-589 | I61: NA | J61: 0 | K61: 0 | L61: 0 | M61: 0 | N61: 0 | O61: NA | P61: 0
A62: S. lycopersicum | B62: German Red Strawberry | G62: I | H62: TS-593 | I62: 0 | J62: 0 | K62: 0 | L62: 0 | M62: 2 | N62: 0 | O62: 0 | P62: 0
A63: S. lycopersicum | B63: Golden Jubilee | G63: II | H63: TS-595 | I63: 0 | J63: 0 | K63: 0 | L63: 0 | M63: 0 | N63: 0 | O63: 0 | P63: 0
A64: S. lycopersicum | B64: Great White Beefsteak | G64: II | H64: TS-597 | I64: 0 | J64: 0 | K64: 0 | L64: 0 | M64: 0 | N64: 0 | O64: 0 | P64: 0
A65: S. lycopersicum | B65: Lillian's Yellow Heirloom | G65: II | H65: TS-602 | I65: 0 | J65: 0 | K65: 0 | L65: 0 | M65: 0 | N65: 0 | O65: 0 | P65: 0
A66: S. lycopersicum | B66: Mule Team | G66: II | H66: TS-604 | I66: 0 | J66: 0 | K66: 0 | L66: 0 | M66: 0 | N66: 0 | O66: 0 | P66: 0
A67: S. lycopersicum | B67: Old German | G67: I | H67: TS-605 | I67: 0 | J67: 0 | K67: 0 | L67: 0 | M67: 2 | N67: 0 | O67: 0 | P67: 0
A68: S. lycopersicum | B68: Omar's Lebanese | G68: I | H68: TS-606 | I68: 0 | J68: 0 | K68: 2 | L68: 0 | M68: 2 | N68: 0 | O68: 0 | P68: 0
A69: S. lycopersicum | B69: Paul Robeson | G69: I | H69: TS-608 | I69: 0 | J69: 0 | K69: 0 | L69: 0 | M69: 2 | N69: 0 | O69: 0 | P69: 0
A70: S. lycopersicum | B70: Red Star | G70: I | H70: TS-616 | I70: 0 | J70: 0 | K70: 0 | L70: 0 | M70: 2 | N70: 0 | O70: 0 | P70: 0
A71: S. lycopersicum | B71: Silvery Fir Tree | G71: II | H71: TS-619 | I71: 0 | J71: 0 | K71: 0 | L71: 0 | M71: 0 | N71: 0 | O71: 0 | P71: 0
A72: S. lycopersicum | B72: Snowberry | G72: I | H72: TS-620 | I72: 0 | J72: 0 | K72: 0 | L72: 0 | M72: 2 | N72: 0 | O72: 0 | P72: 0
A73: S. lycopersicum | B73: Sub-Arctic Plenty | G73: II | H73: TS-622 | I73: 0 | J73: 0 | K73: 0 | L73: 0 | M73: 0 | N73: 0 | O73: 0 | P73: 0
... A75: S. lycopersicum | B75: Yellow Brandywine | G75: I | H75: TS-627 | I75: 0 | J75: 0 | K75: 2 | L75: 0 | M75: 2 | N75: 0 | O75: 0 | P75: 0
A76: S. lycopersicum | B76: Mountain Spring VFF Hybrid | C76: F1 | G76: II | H76: TS-632 | I76: 0 | J76: 0 | K76: 0 | L76: 0 | M76: 0 | N76: 0 | O76: 0 | P76: 0
A77: S. lycopersicum | B77: Bush Early Girl VFFNT Hybrid | C77: F1 | G77: II | H77: TS-633 | I77: 0 | J77: 0 | K77: 0 | L77: 0 | M77: 0 | N77: 0 | O77: 0 | P77: 0
A78: S. lycopersicum | B78: BHN 589 VFFT Hybrid | C78: F1 | G78: II | H78: TS-634 | I78: 0 | J78: 0 | K78: 0 | L78: 0 | M78: 0 | N78: 0 | O78: 0 | P78: 0
A79: S. lycopersicum | B79: Better Bush VFN Hybrid | C79: F1 | G79: II | H79: TS-637 | I79: 0 | J79: 0 | K79: 0 | L79: 0 | M79: 0 | N79: 0 | O79: 0 | P79: 0
A80: S. lycopersicum | B80: FL8059 | G80: I | H80: TS-640 | I80: 0 | J80: 0 | K80: 0 | L80: 0 | M80: 2 | N80: 0 | O80: 0 | P80: 0

Sheet Supp Table S11
A1: Supplementary Table S11 Association with fruit weight and pericarp cell size for single variant located in the region flanking 3 kb upstream and 1kp downstream of CSR-like1
A3: Position | B3: SL4.0ch06:43343566 | C3: SL4.0ch06:43343741 | D3: SL4.0ch06:43343797 | E3: SL4.0ch06:43343813 | F3: SL4.0ch06:43343878 | G3: SL4.0ch06:43343930 | H3: SL4.0ch06:43344056 | I3: SL4.0ch06:43344127 | J3: SL4.0ch06:43344537 | K3: SL4.0ch06:43344932 | L3: SL4.0ch06:43345630 | M3: SL4.0ch06:43345639 | N3: SL4.0ch06:43345791 | O3: SL4.0ch06:43345822 | P3: SL4.0ch06:43345950 | Q3: SL4.0ch06:43346037 | R3: SL4.0ch06:43346053 | S3: SL4.0ch06:43346064 | T3: SL4.0ch06:43346067 | U3: SL4.0ch06:43346071 | V3: SL4.0ch06:43346085 | W3: SL4.0ch06:43346104 | X3: SL4.0ch06:43346115 | Y3: SL4.0ch06:43346175 | Z3: SL4.0ch06:43346185 | AA3: SL4.0ch06:43346240 | AB3: SL4.0ch06:43346349 | AC3: SL4.0ch06:43346433 | AD3: SL4.0ch06:43346843 | AE3: SL4.0ch06:43346854 | AF3: SL4.0ch06:43346986 | AG3: SL4.0ch06:43346995 | AH3: SL4.0ch06:43347036 | AI3: SL4.0ch06:43347075 | AJ3: SL4.0ch06:43347149 | AK3: SL4.0ch06:43347165 | AL3: SL4.0ch06:43347170 | AM3: SL4.0ch06:43347249 | AN3: SL4.0ch06:43347309 | AO3: SL4.0ch06:43347313 | AP3: SL4.0ch06:43347347 | AQ3: SL4.0ch06:43347414 | AR3: SL4.0ch06:43347448 | AS3: SL4.0ch06:43347473 | AT3: SL4.0ch06:43347478 | AU3: SL4.0ch06:43347480 | AV3: SL4.0ch06:43347553 | AW3: SL4.0ch06:43347617 | AX3: SL4.0ch06:43347640 | AY3: SL4.0ch06:43347762 | AZ3: SL4.0ch06:43347853 | BA3: SL4.0ch06:43347911 | BB3: SL4.0ch06:43348113 | BC3: SL4.0ch06:43348125 | BD3: SL4.0ch06:43348127 | BE3: SL4.0ch06:43348140 | BF3: SL4.0ch06:43348154 | BG3: SL4.0ch06:43348157 | BH3: SL4.0ch06:43348172...65 | BI3: SL4.0ch06:43348172...66 | BJ3: SL4.0ch06:43348180 | BK3: SL4.0ch06:43348310 | BL3: SL4.0ch06:43348316 | BM3: SL4.0ch06:43348333 | BN3: SL4.0ch06:43348373 | BO3: SL4.0ch06:43348427 | BP3: SL4.0ch06:43348649 | BQ3: SL4.0ch06:43348672 | BR3: SL4.0ch06:43348673 | BS3: SL4.0ch06:43348713 | BT3: SL4.0ch06:43348824 | BU3: SL4.0ch06:43349090 | BV3: SL4.0ch06:43349139 | BW3: SL4.0ch06:43349150 | BX3: SL4.0ch06:43349185 | BY3: SL4.0ch06:43349194 | BZ3: SL4.0ch06:43349202 | CA3: SL4.0ch06:43349222 | CB3: SL4.0ch06:43349286 | CC3: SL4.0ch06:43349341 | CD3: SL4.0ch06:43349448 | CE3: SL4.0ch06:43349491 | CF3: SL4.0ch06:43349499 | CG3: SL4.0ch06:43349515...90 | CH3: SL4.0ch06:43349515...91 | CI3: SL4.0ch06:43349516 | CJ3: SL4.0ch06:43349530 | CK3: SL4.0ch06:43349561
A4: Type | B4: SNP | C4: SNP | D4: SNP | E4: SNP | F4: SNP | G4: SNP | H4: SNP | I4: SNP | J4: SNP | K4: SNP | L4: SNP | M4: SNP | N4: SNP | O4: SNP | P4: SNP | Q4: SNP | R4: SNP | S4: SNP | T4: SNP | U4: SNP | V4: SNP | W4: SNP | X4: SNP | Y4: SNP | Z4: SNP | AA4: SNP | AB4: INDEL | AC4: INDEL | AD4: SNP | AE4: INDEL | AF4: SNP | AG4: INDEL | AH4: SNP | AI4: SNP | AJ4: SNP | AK4: SNP | AL4: INDEL | AM4: SNP | AN4: SNP | AO4: SNP | AP4: SNP | AQ4: SNP | AR4: SNP | AS4: INDEL | AT4: SNP | AU4: SNP | AV4: INDEL | AW4: INDEL | AX4: SNP | AY4: SNP | AZ4: INDEL | BA4: SNP | BB4: SNP | BC4: SNP | BD4: SNP | BE4: SNP | BF4: SNP | BG4: SNP | BH4: SNP | BI4: SNP | BJ4: SNP | BK4: SNP | BL4: SNP | BM4: SNP | BN4: SNP | BO4: SNP | BP4: SNP | BQ4: SNP | BR4: SNP | BS4: SNP | BT4: SNP | BU4: SNP | BV4: SNP | BW4: SNP | BX4: INDEL | BY4: SNP | BZ4: SNP | CA4: SNP | CB4: SNP | CC4: SNP | CD4: SNP | CE4: SNP | CF4: SNP | CG4: SNP | CH4: INDEL | CI4: SNP | CJ4: SNP | CK4: INDEL
A5: REF | B5: C | C5: T | D5: A | E5: T | F5: T | G5: T | H5: T | I5: C | J5: G | K5: T | L5: T | M5: T | N5: C | O5: C | P5: T | Q5: T | R5: G | S5: C | T5: T | U5: T | V5: G | W5: T | X5: C | Y5: A | Z5: T | AA5: C | AB5: T | AC5: GA | AD5: T | AE5: CAT | AF5: C | AG5: A | AH5: C | AI5: A | AJ5: G | AK5: A | AL5: C | AM5: A | AN5: A | AO5: T | AP5: T | AQ5: A | AR5: A | AS5: T | AT5: T | AU5: G | AV5: AT | AW5: G | AX5: A | AY5: A | AZ5: CGGA | BA5: G | BB5: T | BC5: G | BD5: G | BE5: T | BF5: G | BG5: T | BH5: G | BI5: G | BJ5: A | BK5: A | BL5: C | BM5: T | BN5: G | BO5: T | BP5: C | BQ5: T | BR5: T | BS5: G | BT5: A | BU5: A | BV5: A | BW5: C | BX5: GTA | BY5: C | BZ5: C | CA5: C | CB5: G | CC5: C | CD5: G | CE5: C | CF5: C | CG5: A | CH5: A | CI5: A | CJ5: T | CK5: A
A6: ALT | B6: A | C6: C | D6: G | E6: G | F6: C | G6: G | H6: A | I6: G | J6: A | K6: C | L6: C | M6: C | N6: A | O6: G | P6: C | Q6: C | R6: A | S6: T | T6: C | U6: C | V6: A | W6: A | X6: T | Y6: T | Z6: A | AA6: T | AB6: TTAGTTTTGA | AC6: G | AD6: C | AE6: C | AF6: G | AG6: AT | AH6: T | AI6: G | AJ6: A | AK6: G | AL6: CA | AM6: G | AN6: G | AO6: C | AP6: G | AQ6: G | AR6: T | AS6: TA | AT6: A | AU6: A | AV6: A | AW6: GA | AX6: G | AY6: G | AZ6: C | BA6: A | BB6: C | BC6: A | BD6: T | BE6: C | BF6: A | BG6: C | BH6: T | BI6: A | BJ6: G | BK6: G | BL6: G | BM6: A | BN6: A | BO6: A | BP6: T | BQ6: C | BR6: C | BS6: T | BT6: G | BU6: G | BV6: T | BW6: T | BX6: G | BY6: T | BZ6: T | CA6: T | CB6: A | CC6: T | CD6: T | CE6: A | CF6: G | CG6: T | CH6: * | CI6: T | CJ6: A | CK6: ATT
A7: Annotation | B7: Downstr | C7: Downstr | D7: Downstr | E7: Downstr | F7: Downstr | G7: Downstr | H7: UTR | I7: UTR | J7: Missense | K7: Synon | L7: UTR | M7: UTR | N7: UTR | O7: UTR | P7: Upstr | Q7: Upstr | R7: Upstr | S7: Upstr | T7: Upstr | U7: Upstr | V7: Upstr | W7: Upstr | X7: Upstr | Y7: Upstr | Z7: Upstr | AA7: Upstr | AB7: Upstr | AC7: Upstr | AD7: Upstr | AE7: Upstr | AF7: Upstr | AG7: Upstr | AH7: Upstr | AI7: Upstr | AJ7: Upstr | AK7: Upstr | AL7: Upstr | AM7: Upstr | AN7: Upstr | AO7: Upstr | AP7: Upstr | AQ7: Upstr | AR7: Upstr | AS7: Upstr | AT7: Upstr | AU7: Upstr | AV7: Upstr | AW7: Upstr | AX7: Upstr | AY7: Upstr | AZ7: Upstr | BA7: Upstr | BB7: Upstr | BC7: Upstr | BD7: Upstr | BE7: Upstr | BF7: Upstr | BG7: Upstr | BH7: Upstr | BI7: Upstr | BJ7: Upstr | BK7: Upstr | BL7: Upstr | BM7: Upstr | BN7: Upstr | BO7: Upstr | BP7: Upstr | BQ7: Upstr | BR7: Upstr | BS7: Upstr | BT7: Upstr | BU7: Upstr | BV7: Upstr | BW7: Upstr | BX7: Upstr | BY7: Upstr | BZ7: Upstr | CA7: Upstr | CB7: Upstr | CC7: Upstr | CD7: Upstr | CE7: Upstr | CF7: Upstr | CG7: Upstr | CH7: Upstr | CI7: Upstr | CJ7: Upstr | CK7: Upstr
A8: Trait | B8: weight | C8: weight | D8: weight | E8: weight | F8: weight | G8: weight | H8: weight | I8: weight | J8: weight | K8: weight | L8: weight | M8: weight | N8: weight | O8: weight | P8: weight | Q8: weight | R8: weight | S8: weight | T8: weight | U8: weight | V8: weight | W8: weight | X8: weight | Y8: weight | Z8: weight | AA8: weight | AB8: weight | AC8: weight | AD8: weight | AE8: weight | AF8: weight | AG8: weight | AH8: weight | AI8: weight | AJ8: weight | AK8: weight | AL8: weight | AM8: weight | AN8: weight | AO8: weight | AP8: weight | AQ8: weight | AR8: weight | AS8: weight | AT8: weight | AU8: weight | AV8: weight | AW8: weight | AX8: weight | AY8: weight | AZ8: weight | BA8: weight | BB8: weight | BC8: weight | BD8: weight | BE8: weight | BF8: weight | BG8: weight | BH8: weight | BI8: weight | BJ8: weight | BK8: weight | BL8: weight | BM8: weight | BN8: weight | BO8: weight | BP8: weight | BQ8: weight | BR8: weight | BS8: weight | BT8: weight | BU8: weight | BV8: weight | BW8: weight | BX8: weight | BY8: weight | BZ8: weight | CA8: weight | CB8: weight | CC8: weight | CD8: weight | CE8: weight | CF8: weight | CG8: weight | CH8: weight | CI8: weight | CJ8: weight | CK8: weight
A9: Raw p-value | B9: 0.03839077 | C9: 3.2706417e-14 | D9: 3.2304804e-06 | E9: 0.20988556 | F9: 0.0017619537 | G9: 2.5506824e-16 | H9: 0.00058414071 | I9: 0.00018717409 | J9: 0.20988556 | K9: 0.032573995 | L9: 2.5958278e-14 | M9: 0.00030236662 | N9: 1.5833515e-05 | O9: 7.8209617e-06 | P9: 3.2706417e-14 | Q9: 0.1719448 | R9: 0.00043108911 | S9: 0.20988556 | T9: 0.00030072419 | U9: 0.00040178599 | V9: 0.20988556 | W9: 0.15279533 | X9: 2.3550125e-15 | Y9: 2.5160561e-05 | Z9: 3.5242865e-09 | AA9: 4.2551055e-05 | AB9: 0.00043108911 | AC9: 0.0004387642 | AD9: 0.38712321 | AE9: 0.29920215 | AF9: 0.00023946527 | AG9: 0.0021869497 | AH9: 0.14462349 | AI9: 0.017081103 | AJ9: 5.1570842e-05 | AK9: 2.1536267e-05 | AL9: 0.010870148 | AM9: 9.6910326e-15 | AN9: 1.3059937e-08 | AO9: 2.0248425e-07 | AP9: 3.8401825e-08 | AQ9: 3.631061e-08 | AR9: 2.9758439e-06 | AS9: 0.041363715 | AT9: 4.8910445e-07 | AU9: 4.8910445e-07 | AV9: 0.010811431 | AW9: 0.0073698243 | AX9: 0.044162417 | AY9: 0.010467054 | AZ9: 2.8412856e-06 | BA9: 2.8412856e-06 | BB9: 1.577144e-09 | BC9: 0.097537045 | BD9: 0.50038496 | BE9: 7.2424411e-10 | BF9: 1.9722493e-05 | BG9: 0.42291414 | BH9: 7.8250647e-10 | BI9: 0.091087803 | BJ9: 0.00050002697 | BK9: 0.00043108911 | BL9: 3.4099821e-15 | BM9: 3.1011916e-06 | BN9: 0.43009451 | BO9: 7.4739533e-16 | BP9: 0.00051138555 | BQ9: 4.2354292e-15 | BR9: 0.41944789 | BS9: 0.15279533 | BT9: 0.021742197 | BU9: 0.00035313024 | BV9: 0.024492394 | BW9: 0.01011902 | BX9: 0.15278183 | BY9: 2.2197747e-06 | BZ9: 0.019167133 | CA9: 0.053353053 | CB9: 3.8637423e-06 | CC9: 0.009354943 | CD9: 7.7970637e-06 | CE9: 2.9199561e-05 | CF9: 0.35643576 | CG9: 0.00020999549 | CH9: 0.016107419 | CI9: 0.0027352314 | CJ9: 0.014504042 | CK9: 0.0040254415
A10: Adjusted p-value | B10: 0.050423698 | C10: 3.1979608e-13 | D10: 1.1371291e-05 | E10: 0.22802382 | F10: 0.0031010385 | G10: 2.2446005e-14 | H10: 0.001049069 | I10: 0.00045753665 | J10: 0.22802382 | K10: 0.043431993 | L10: 3.1979608e-13 | M10: 0.00066520655 | N10: 4.8046529e-05 | O10: 2.4580165e-05 | P10: 3.1979608e-13 | Q10: 0.19650834 | R10: 0.00083937498 | S10: 0.22802382 | T10: 0.00066520655 | U10: 0.00083937498 | V10: 0.22802382 | W10: 0.1769209 | X10: 6.9080368e-14 | Y10: 6.9191543e-05 | Z10: 2.3856709e-08 | AA10: 0.00011013214 | AB10: 0.00083937498 | AC10: 0.00083937498 | AD10: 0.40555764 | AE10: 0.32109499 | AF10: 0.00055455115 | AG10: 0.0037735603 | AH10: 0.17434065 | AI10: 0.024244146 | AJ10: 0.00012966383 | AK10: 6.113521e-05 | AL10: 0.016213102 | AM10: 1.4213514e-13 | AN10: 8.209103e-08 | AO10: 1.0481537e-06 | AP10: 2.1121004e-07 | AQ10: 2.1121004e-07 | AR10: 1.1371036e-05 | AS10: 0.053529514 | AT10: 2.2653259e-06 | AU10: 2.2653259e-06 | AV10: 0.016213102 | AW10: 0.012010084 | AX10: 0.056323083 | AY10: 0.016159663 | AZ10: 1.1365142e-05 | BA10: 1.1365142e-05 | BB10: 1.1565722e-08 | BC10: 0.11921194 | BD10: 0.50038496 | BE10: 6.2600518e-09 | BF10: 5.7852646e-05 | BG10: 0.43274935 | BH10: 6.2600518e-09 | BI10: 0.11289756 | BJ10: 0.00093622071 | BK10: 0.00083937498 | BL10: 7.4543554e-14 | BM10: 1.1371036e-05 | BN10: 0.43503813 | BO10: 3.2885395e-14 | BP10: 0.00093754018 | BQ10: 7.4543554e-14 | BR10: 0.43274935 | BS10: 0.1769209 | BT10: 0.029895521 | BU10: 0.00075793809 | BV10: 0.033158934 | BW10: 0.015901317 | BX10: 0.1769209 | BY10: 9.7670088e-06 | BZ10: 0.026773139 | CA10: 0.06707241 | CB10: 1.3077282e-05 | CC10: 0.014967909 | CD10: 2.4580165e-05 | CE10: 7.7865495e-05 | CF10: 0.37790779 | CG10: 0.00049944873 | CH10: 0.023236933 | CI10: 0.0046288531 | CJ10: 0.021272595 | CK10: 0.0066837519
A11: Trait | B11: cell.size | C11: cell.size | D11: cell.size | E11: cell.size | F11: cell.size | G11: cell.size | H11: cell.size | I11: cell.size | J11: cell.size | K11: cell.size | L11: cell.size | M11: cell.size | N11: cell.size | O11: cell.size | P11: cell.size | Q11: cell.size | R11: cell.size | S11: cell.size | T11: cell.size | U11: cell.size | V11: cell.size | W11: cell.size | X11: cell.size | Y11: cell.size | Z11: cell.size | AA11: cell.size | AB11: cell.size | AC11: cell.size | AD11: cell.size | AE11: cell.size | AF11: cell.size | AG11: cell.size | AH11: cell.size | AI11: cell.size | AJ11: cell.size | AK11: cell.size | AL11: cell.size | AM11: cell.size | AN11: cell.size | AO11: cell.size | AP11: cell.size | AQ11: cell.size | AR11: cell.size | AS11: cell.size | AT11: cell.size | AU11: cell.size | AV11: cell.size | AW11: cell.size | AX11: cell.size | AY11: cell.size | AZ11: cell.size | BA11: cell.size | BB11: cell.size | BC11: cell.size | BD11: cell.size | BE11: cell.size | BF11: cell.size | BG11: cell.size | BH11: cell.size | BI11: cell.size | BJ11: cell.size | BK11: cell.size | BL11: cell.size | BM11: cell.size | BN11: cell.size | BO11: cell.size | BP11: cell.size | BQ11: cell.size | BR11: cell.size | BS11: cell.size | BT11: cell.size | BU11: cell.size | BV11: cell.size | BW11: cell.size | BX11: cell.size | BY11: cell.size | BZ11: cell.size | CA11: cell.size | CB11: cell.size | CC11: cell.size | CD11: cell.size | CE11: cell.size | CF11: cell.size | CG11: cell.size | CH11: cell.size | CI11: cell.size | CJ11: cell.size | CK11: cell.size
A12: Raw p-value | B12: 0.1008208 | C12: 3.0462148e-08 | D12: 0.0011746444 | E12: 0.18141564 | F12: 0.01422802 | G12: 3.0538397e-11 | H12: 0.02694612 | I12: 0.0080610459 | J12: 0.18141564 | K12: 0.029786244 | L12: 2.0154495e-08 | M12: 0.00038663375 | N12: 0.00042858934 | O12: 0.00014899794 | P12: 3.0462148e-08 | Q12: 0.34317574 | R12: 0.023297868 | S12: 0.18141564 | T12: 0.00037919953 | U12: 0.021157945 | V12: 0.18141564 | W12: 0.21432479 | X12: 2.0271509e-10 | Y12: 1.0326136e-05 | Z12: 2.1905488e-07 | AA12: 4.4913314e-05 | AB12: 0.023297868 | AC12: 0.021157945 | AD12: 0.37670636 | AE12: 0.4149568 | AF12: 0.018820991 | AG12: 0.048032333 | AH12: 0.20742778 | AI12: 0.083239254 | AJ12: 0.0021262697 | AK12: 0.00019747108 | AL12: 0.059468942 | AM12: 1.0114463e-08 | AN12: 7.3365803e-06 | AO12: 3.0797555e-05 | AP12: 1.0382885e-05 | AQ12: 1.0382885e-05 | AR12: 0.00021967583 | AS12: 0.10327839 | AT12: 4.2221218e-05 | AU12: 4.2221218e-05 | AV12: 0.070741087 | AW12: 0.0080950876 | AX12: 0.044477008 | AY12: 0.0094557979 | AZ12: 0.0002988108 | BA12: 0.0002988108 | BB12: 3.5731378e-05 | BC12: 0.085955402 | BD12: 0.43699037 | BE12: 1.4547832e-05 | BF12: 0.0022528165 | BG12: 0.96219805 | BH12: 1.7173783e-05 | BI12: 0.40995246 | BJ12: 0.10660172 | BK12: 0.023297868 | BL12: 4.1857394e-09 | BM12: 0.00021967583 | BN12: 0.96951957 | BO12: 1.0430301e-10 | BP12: 0.091215843 | BQ12: 2.9811101e-10 | BR12: 0.96190558 | BS12: 0.21432479 | BT12: 0.030053618 | BU12: 0.029856246 | BV12: 0.39887111 | BW12: 0.0093468433 | BX12: 0.18687509 | BY12: 0.00017856957 | BZ12: 0.044106255 | CA12: 0.084001298 | CB12: 0.00026870554 | CC12: 0.0085932286 | CD12: 0.0005087315 | CE12: 0.0018483523 | CF12: 0.081479581 | CG12: 0.019544557 | CH12: 0.038481666 | CI12: 0.0093446399 | CJ12: 0.038660826 | CK12: 0.010980651
A13: Adjusted p-value | B13: 0.12858305 | C13: 2.9785212e-07 | D13: 0.003040256 | E13: 0.21286102 | F13: 0.027823684 | G13: 2.6873789e-09 | H13: 0.044740728 | I13: 0.018265839 | J13: 0.21286102 | K13: 0.047227114 | L13: 2.5337079e-07 | M13: 0.001097541 | N13: 0.0011786207 | O13: 0.00059599175 | P13: 2.9785212e-07 | Q13: 0.37749331 | R13: 0.039427161 | S13: 0.21286102 | T13: 0.001097541 | U13: 0.037997941 | V13: 0.21286102 | W13: 0.23874154 | X13: 5.9463093e-09 | Y13: 6.5263849e-05 | Z13: 1.9276829e-06 | AA13: 0.00018820817 | AB13: 0.039427161 | AC13: 0.037997941 | AD13: 0.40926123 | AE13: 0.43471664 | AF13: 0.036005374 | AG13: 0.069292546 | AH13: 0.23706032 | AI13: 0.11200173 | AJ13: 0.0051975481 | AK13: 0.00072406064 | AL13: 0.084407531 | AM13: 1.4834546e-07 | AN13: 5.8692643e-05 | AO13: 0.00015942264 | AP13: 6.5263849e-05 | AQ13: 6.5263849e-05 | AR13: 0.0007435182 | AS13: 0.12983569 | AT13: 0.00018577336 | AU13: 0.00018577336 | AV13: 0.098812947 | AW13: 0.018265839 | AX13: 0.065232945 | AY13: 0.0193514 | AZ13: 0.00090673621 | BA13: 0.00090673621 | BB13: 0.00017468674 | BC13: 0.11289665 | BD13: 0.45241356 | BE13: 8.5347282e-05 | BF13: 0.0053580501 | BG13: 0.96951957 | BH13: 9.4455807e-05 | BI13: 0.43464839 | BJ13: 0.13212608 | BK13: 0.039427161 | BL13: 7.3669013e-08 | BM13: 0.0007435182 | BN13: 0.96951957 | BO13: 4.5893324e-09 | BP13: 0.11804403 | BQ13: 6.5584422e-09 | BR13: 0.96951957 | BS13: 0.23874154 | BT13: 0.047227114 | BU13: 0.047227114 | BV13: 0.4280568 | BW13: 0.0193514 | BX13: 0.21638168 | BY13: 0.0006832227 | BZ13: 0.065232945 | CA13: 0.11200173 | CB13: 0.00087578103 | CC13: 0.018905103 | CD13: 0.0013566173 | CE13: 0.0046472858 | CF13: 0.11200173 | CG13: 0.036594065 | CH13: 0.058657806 | CI13: 0.0193514 | CJ13: 0.058657806 | CK13: 0.021961303
A16: The four SNPs that are conserved in most of the accessions carrying CSR-like1-WT allele are in red text
A17: The p-values are calculated by Kruskal–Wallis test and adjusted by the Benjamini–Hochberg method to control the False Discovery Rate (FDR)

Sheet Supp Table S12
A1: Supplementary Table S12 Information of the pepper accessions used in GWAS
A2: Acessions | B2: Species | C2: Name or PI Id | D2: Origin
A3: Ca101 | B3: Capsicum annuum | C3: Masquerade Hot Peppers | D3: NA
A4: Ca102 | B4: Capsicum annuum | C4: Melrose | D4: NA
A5: Ca104 | B5: Capsicum annuum | C5: Mirasol | D5: Mexico
A6: Ca109 | B6: Capsicum annuum | C6: New Mexico 6 | D6: USA
A7: Ca111 | B7: Capsicum annuum | C7: Nosegay Pepper | D7: Italy
A8: Ca112 | B8: Capsicum annuum | C8: Nu Mex Heritage Big Jim | D8: NA
A9: Ca113 | B9: Capsicum annuum | C9: NuMex 6-4 Hot Peppers | D9: NA
A10: Ca116 | B10: Capsicum annuum | C10: NuMex Centennial Hot Peppers | D10: NA
A11: Ca119 | B11: Capsicum annuum | C11: NuMex Mirasol Hot Peppers | D11: NA
A12: Ca120 | B12: Capsicum annuum | C12: NuMex R Naky | D12: USA
A13: Ca122 | B13: Capsicum annuum | C13: NuMex Sunburst Hot Peppers | D13: NA
... A121: CB12 | B121: Capsicum bacatum | C121: uba tuba (Christamas Bell) | D121: Brazil
A122: CB13 | B122: Capsicum bacatum | C122: 281408 | D122: Peru
A123: CB130 | B123: Capsicum bacatum | C123: PI439373 | D123: CostaRica
A124: CB131 | B124: Capsicum bacatum | C124: PI439374 | D124: CostaRica
A125: CB134 | B125: Capsicum bacatum | C125: PI439377 | D125: Ecuador
A126: CB135 | B126: Capsicum bacatum | C126: PI439378 | D126: Jamaica
A127: CB136 | B127: Capsicum bacatum | C127: PI439379 | D127: Mexico
A128: CB137 | B128: Capsicum bacatum | C128: PI439380 | D128: Mexico
A129: CB138 | B129: Capsicum bacatum | C129: PI439381 | D129: Mexico
A130: CB139 | B130: Capsicum bacatum | C130: PI439382 | D130: Paraguay
A131: CB14 | B131: Capsicum bacatum | C131: Aji limon | D131: Peru
A132: CB141 | B132: Capsicum bacatum | C132: PI439409 | D132: Uruguay
A133: CB142 | B133: Capsicum bacatum | C133: PI439410 | D133: Uruguay
A134: CB143 | B134: Capsicum bacatum | C134: PI439411 | D134: Uruguay
... A596: CCH99 | B596: Capsicum chinense | C596: PI260518 | D596: Peru

Sheet Supp Table S13
A1: Supplementary Table S13 Genotypes of five segregating GBS SNPs in CaCSR-like1 and the assigned haplotypes for the pepper accessions. Accessions with NA or heterozygous genotype were excluded in the haplotype study
A2: Acessions | B2: Species | C2: S06_227195491 | D2: S06_227195529 | E2: S06_227195579 | F2: S06_227195589 | G2: S06_227195619 | H2: Overall genotype at five SNPs | I2: Haplotype | J2: Fruit weight (g)
A3: Ca101 | B3: =VLOOKUP(A3,'Supp Table S12'!$A$2:$B$596,2,FALSE) -> Capsicum annuum | C3: TC | D3: TG | E3: TT | F3: CC | G3: GC | J3: 3.61
A4: Ca102 | B4: =VLOOKUP(A4,'Supp Table S12'!$A$2:$B$596,2,FALSE) -> Capsicum annuum | C4: CC | D4: GG | E4: TT | F4: CC | G4: CC | H4: CGTCC | I4: VI | J4: 34.38
A5: Ca104 | B5: =VLOOKUP(A5,'Supp Table S12'!$A$2:$B$596,2,FALSE) -> Capsicum annuum | C5: TT | D5: TT | E5: TT | F5: CC | G5: CC | H5: TTTCC | I5: III | J5: 9.06
A6: Ca109 | B6: =VLOOKUP(A6,'Supp Table S12'!$A$2:$B$596,2,FALSE) -> Capsicum annuum | C6: CC | D6: GG | E6: TT | F6: CC | G6: CC | H6: CGTCC | I6: VI | J6: 47.91
A7: Ca111 | B7: =VLOOKUP(A7,'Supp Table S12'!$A$2:$B$596,2,FALSE) -> Capsicum annuum | C7: TT | D7: GG | E7: TT | F7: CC | G7: CC | H7: TGTCC | I7: IV | J7: 2.87
A8: Ca112 | B8: =VLOOKUP(A8,'Supp Table S12'!$A$2:$B$596,2,FALSE) -> Capsicum annuum | C8: CC | D8: GG | E8: TT | F8: CC | G8: CC | H8: CGTCC | I8: VI | J8: 63.61
A9: Ca113 | B9: =VLOOKUP(A9,'Supp Table S12'!$A$2:$B$596,2,FALSE) -> Capsicum annuum | C9: CC | D9: GG | E9: TT | F9: CC | G9: CC | H9: CGTCC | I9: VI | J9: 48.76
A10: Ca116 | B10: =VLOOKUP(A10,'Supp Table S12'!$A$2:$B$596,2,FALSE) -> Capsicum annuum | C10: TT | D10: TT | E10: TT | F10: CC | G10: GG | H10: TTTCG | I10: II | J10: 1.58
A11: Ca119 | B11: =VLOOKUP(A11,'Supp Table S12'!$A$2:$B$596,2,FALSE) -> Capsicum annuum | C11: TT | D11: TT | E11: TT | F11: CC | G11: GG | H11: TTTCG | I11: II | J11: 13.58
A12: Ca120 | B12: =VLOOKUP(A12,'Supp Table S12'!$A$2:$B$596,2,FALSE) -> Capsicum annuum | C12: CC | D12: GG | E12: TT | F12: CC | G12: CC | H12: CGTCC | I12: VI | J12: 49.34
A13: Ca122 | B13: =VLOOKUP(A13,'Supp Table S12'!$A$2:$B$596,2,FALSE) -> Capsicum annuum | C13: TT | D13: TT | E13: TT | F13: CC | G13: GG | H13: TTTCG | I13: II | J13: 5.21
A14: Ca123 | B14: =VLOOKUP(A14,'Supp Table S12'!$A$2:$B$596,2,FALSE) -> Capsicum annuum | C14: CC | D14: TT | E14: TT | F14: CC | G14: GG | H14: CTTCG | I14: I | J14: 4.05
A15: Ca124 | B15: =VLOOKUP(A15,'Supp Table S12'!$A$2:$B$596,2,FALSE) -> Capsicum annuum | C15: NN | D15: NN | E15: NN | F15: NN | G15: CC | J15: 5.33
A16: Ca127 | B16: =VLOOKUP(A16,'Supp Table S12'!$A$2:$B$596,2,FALSE) -> Capsicum annuum | C16: TT | D16: GG | E16: NN | F16: NN | G16: NN | J16: 4.5
A17: Ca128 | B17: =VLOOKUP(A17,'Supp Table S12'!$A$2:$B$596,2,FALSE) -> Capsicum annuum | C17: TT | D17: TT | E17: TT | F17: CC | G17: GG | H17: TTTCG | I17: II | J17: 1.08
A18: Ca129 | B18: =VLOOKUP(A18,'Supp Table S12'!$A$2:$B$596,2,FALSE) -> Capsicum annuum | C18: TT | D18: TT | E18: TT | F18: CC | G18: GG | H18: TTTCG | I18: II | J18: 1.42
A19: Ca131 | B19: =VLOOKUP(A19,'Supp Table S12'!$A$2:$B$596,2,FALSE) -> Capsicum annuum | C19: NN | D19: NN | E19: NN | F19: NN | G19: NN | J19: 77.14
A20: Ca138 | B20: =VLOOKUP(A20,'Supp Table S12'!$A$2:$B$596,2,FALSE) -> Capsicum annuum | C20: TT | D20: GG | E20: GG | F20: TT | G20: CC | H20: TGGTC | I20: V | J20: 15.87
A21: Ca141 | B21: =VLOOKUP(A21,'Supp Table S12'!$A$2:$B$596,2,FALSE) -> Capsicum annuum | C21: CC | D21: GG | E21: TT | F21: CC | G21: CC | H21: CGTCC | I21: VI | J21: 9.64
A22: Ca143 | B22: =VLOOKUP(A22,'Supp Table S12'!$A$2:$B$596,2,FALSE) -> Capsicum annuum | C22: TT | D22: TT | E22: TT | F22: CC | G22: GG | H22: TTTCG | I22: II | J22: 5.53
A23: Ca148 | B23: =VLOOKUP(A23,'Supp Table S12'!$A$2:$B$596,2,FALSE) -> Capsicum annuum | C23: TT | D23: TT | E23: TT | F23: CC | G23: GG | H23: TTTCG | I23: II | J23: 1.99
A24: Ca150 | B24: =VLOOKUP(A24,'Supp Table S12'!$A$2:$B$596,2,FALSE) -> Capsicum annuum | C24: CC | D24: GG | E24: TT | F24: CC | G24: CC | H24: CGTCC | I24: VI | J24: 32.41
A25: Ca154 | B25: =VLOOKUP(A25,'Supp Table S12'!$A$2:$B$596,2,FALSE) -> Capsicum annuum | C25: TT | D25: GG | E25: GG | F25: TT | G25: CC | H25: TGGTC | I25: V | J25: 3.61
A26: Ca155 | B26: =VLOOKUP(A26,'Supp Table S12'!$A$2:$B$596,2,FALSE) -> Capsicum annuum | C26: CC | D26: GG | E26: TT | F26: CC | G26: CC | H26: CGTCC | I26: VI | J26: 25.97
A27: Ca157 | B27: =VLOOKUP(A27,'Supp Table S12'!$A$2:$B$596,2,FALSE) -> Capsicum annuum | C27: CC | D27: GG | E27: TT | F27: CC | G27: CC | H27: CGTCC | I27: VI | J27: 26.88
A28: Ca160 | B28: =VLOOKUP(A28,'Supp Table S12'!$A$2:$B$596,2,FALSE) -> Capsicum annuum | C28: TT | D28: TT | E28: TT | F28: CC | G28: CC | H28: TTTCC | I28: III | J28: 8.84
A29: Ca161 | B29: =VLOOKUP(A29,'Supp Table S12'!$A$2:$B$596,2,FALSE) -> Capsicum annuum | C29: CC | D29: GG | E29: TT | F29: CC | G29: CC | H29: CGTCC | I29: VI | J29: 105.47
A30: Ca162 | B30: =VLOOKUP(A30,'Supp Table S12'!$A$2:$B$596,2,FALSE) -> Capsicum annuum | C30: CC | D30: TT | E30: TT | F30: CC | G30: GG | H30: CTTCG | I30: I | J30: 2.75
A31: Ca163 | B31: =VLOOKUP(A31,'Supp Table S12'!$A$2:$B$596,2,FALSE) -> Capsicum annuum | C31: CC | D31: GG | E31: TT | F31: CC | G31: GC | J31: 17.65
A32: Ca166 | B32: =VLOOKUP(A32,'Supp Table S12'!$A$2:$B$596,2,FALSE) -> Capsicum annuum | C32: CC | D32: TT | E32: TT | F32: CC | G32: GG | H32: CTTCG | I32: I | J32: 2.95
A33: Ca169 | B33: =VLOOKUP(A33,'Supp Table S12'!$A$2:$B$596,2,FALSE) -> Capsicum annuum | C33: NN | D33: NN | E33: NN | F33: NN | G33: NN | J33: 5.78
A34: Ca173 | B34: =VLOOKUP(A34,'Supp Table S12'!$A$2:$B$596,2,FALSE) -> Capsicum annuum | C34: CC | D34: GG | E34: TT | F34: CC | G34: CC | H34: CGTCC | I34: VI | J34: 18.59
A35: Ca174 | B35: =VLOOKUP(A35,'Supp Table S12'!$A$2:$B$596,2,FALSE) -> Capsicum annuum | C35: TT | D35: TT | E35: TT | F35: CC | G35: GC | J35: 2.25
A36: Ca175 | B36: =VLOOKUP(A36,'Supp Table S12'!$A$2:$B$596,2,FALSE) -> Capsicum annuum | C36: TT | D36: GG | E36: GG | F36: TT | G36: CC | H36: TGGTC | I36: V | J36: 10.04
A37: Ca176 | B37: =VLOOKUP(A37,'Supp Table S12'!$A$2:$B$596,2,FALSE) -> Capsicum annuum | C37: CC | D37: GG | E37: TT | F37: CC | G37: CC | H37: CGTCC | I37: VI | J37: 15.64
A38: Ca178 | B38: =VLOOKUP(A38,'Supp Table S12'!$A$2:$B$596,2,FALSE) -> Capsicum annuum | C38: TT | D38: TT | E38: TT | F38: CC | G38: CC | H38: TTTCC | I38: III | J38: 9.63
A39: Ca179 | B39: =VLOOKUP(A39,'Supp Table S12'!$A$2:$B$596,2,FALSE) -> Capsicum annuum | C39: TT | D39: TT | E39: TT | F39: CC | G39: GG | H39: TTTCG | I39: II | J39: 8.25
A40: Ca181 | B40: =VLOOKUP(A40,'Supp Table S12'!$A$2:$B$596,2,FALSE) -> Capsicum annuum | C40: TT | D40: TT | E40: TT | F40: CC | G40: GG | H40: TTTCG | I40: II | J40: 3.17
A41: Ca185 | B41: =VLOOKUP(A41,'Supp Table S12'!$A$2:$B$596,2,FALSE) -> Capsicum annuum | C41: TT | D41: GG | E41: GG | F41: TT | G41: CC | H41: TGGTC | I41: V | J41: 11.71
A42: Ca188 | B42: =VLOOKUP(A42,'Supp Table S12'!$A$2:$B$596,2,FALSE) -> Capsicum annuum | C42: CC | D42: GG | E42: TT | F42: CC | G42: CC | H42: CGTCC | I42: VI | J42: 45.31
A43: Ca189 | B43: =VLOOKUP(A43,'Supp Table S12'!$A$2:$B$596,2,FALSE) -> Capsicum annuum | C43: CC | D43: GG | E43: TT | F43: CC | G43: CC | H43: CGTCC | I43: VI | J43: 78.57
A44: Ca21 | B44: =VLOOKUP(A44,'Supp Table S12'!$A$2:$B$596,2,FALSE) -> Capsicum annuum | C44: TT | D44: TT | E44: TT | F44: CC | G44: GG | H44: TTTCG | I44: II | J44: 3.11
A45: Ca23 | B45: =VLOOKUP(A45,'Supp Table S12'!$A$2:$B$596,2,FALSE) -> Capsicum annuum | C45: NN | D45: NN | E45: NN | F45: CC | G45: NN | J45: 3.9
A46: Ca24 | B46: =VLOOKUP(A46,'Supp Table S12'!$A$2:$B$596,2,FALSE) -> Capsicum annuum | C46: CC | D46: GG | E46: TT | F46: CC | G46: CC | H46: CGTCC | I46: VI | J46: 12.54
A47: Ca26 | B47: =VLOOKUP(A47,'Supp Table S12'!$A$2:$B$596,2,FALSE) -> Capsicum annuum | C47: CC | D47: TT | E47: TT | F47: CC | G47: GG | H47: CTTCG | I47: I | J47: 2.42
A48: Ca27 | B48: =VLOOKUP(A48,'Supp Table S12'!$A$2:$B$596,2,FALSE) -> Capsicum annuum | C48: TT | D48: TT | E48: TT | F48: CC | G48: GG | H48: TTTCG | I48: II | J48: 13.22
A49: Ca31 | B49: =VLOOKUP(A49,'Supp Table S12'!$A$2:$B$596,2,FALSE) -> Capsicum annuum | C49: CC | D49: GG | E49: TT | F49: CC | G49: GC | J49: 14.71
A50: Ca32 | B50: =VLOOKUP(A50,'Supp Table S12'!$A$2:$B$596,2,FALSE) -> Capsicum annuum | C50: CC | D50: GG | E50: TT | F50: CC | G50: CC | H50: CGTCC | I50: VI | J50: 20.98
A51: Ca36 | B51: =VLOOKUP(A51,'Supp Table S12'!$A$2:$B$596,2,FALSE) -> Capsicum annuum | C51: CC | D51: GG | E51: TT | F51: CC | G51: CC | H51: CGTCC | I51: VI | J51: 34.01
A52: Ca37 | B52: =VLOOKUP(A52,'Supp Table S12'!$A$2:$B$596,2,FALSE) -> Capsicum annuum | C52: CC | D52: GG | E52: TT | F52: CC | G52: CC | H52: CGTCC | I52: VI | J52: 6.43
A53: Ca38 | B53: =VLOOKUP(A53,'Supp Table S12'!$A$2:$B$596,2,FALSE) -> Capsicum annuum | C53: CC | D53: GG | E53: TT | F53: CC | G53: CC | H53: CGTCC | I53: VI | J53: 14.06
A54: Ca39 | B54: =VLOOKUP(A54,'Supp Table S12'!$A$2:$B$596,2,FALSE) -> Capsicum annuum | C54: NN | D54: NN | E54: NN | F54: NN | G54: NN | J54: 6.27
A55: Ca40 | B55: =VLOOKUP(A55,'Supp Table S12'!$A$2:$B$596,2,FALSE) -> Capsicum annuum | C55: NN | D55: GG | E55: TT | F55: CC | G55: CC | J55: 9.7
A56: Ca43 | B56: =VLOOKUP(A56,'Supp Table S12'!$A$2:$B$596,2,FALSE) -> Capsicum annuum | C56: TC | D56: TG | E56: TT | F56: CC | G56: GC | J56: 23.73
A57: Ca45 | B57: =VLOOKUP(A57,'Supp Table S12'!$A$2:$B$596,2,FALSE) -> Capsicum annuum | C57: TT | D57: TT | E57: TT | F57: CC | G57: CC | H57: TTTCC | I57: III | J57: 5.54
A58: Ca5 | B58: =VLOOKUP(A58,'Supp Table S12'!$A$2:$B$596,2,FALSE) -> Capsicum annuum | C58: CC | D58: GG | E58: TT | F58: CC | G58: CC | H58: CGTCC | I58: VI | J58: 21.13
A59: Ca51 | B59: =VLOOKUP(A59,'Supp Table S12'!$A$2:$B$596,2,FALSE) -> Capsicum annuum | C59: TT | D59: TT | E59: TT | F59: CC | G59: CC | H59: TTTCC | I59: III | J59: 2.92
A60: Ca52 | B60: =VLOOKUP(A60,'Supp Table S12'!$A$2:$B$596,2,FALSE) -> Capsicum annuum | C60: NN | D60: TG | E60: TT | F60: CC | G60: GC | J60: 1.15
A61: Ca54 | B61: =VLOOKUP(A61,'Supp Table S12'!$A$2:$B$596,2,FALSE) -> Capsicum annuum | C61: CC | D61: GG | E61: TT | F61: CC | G61: CC | H61: CGTCC | I61: VI | J61: 32.23
A62: Ca56 | B62: =VLOOKUP(A62,'Supp Table S12'!$A$2:$B$596,2,FALSE) -> Capsicum annuum | C62: CC | D62: GG | E62: TT | F62: CC | G62: CC | H62: CGTCC | I62: VI | J62: 26.97
A63: Ca57 | B63: =VLOOKUP(A63,'Supp Table S12'!$A$2:$B$596,2,FALSE) -> Capsicum annuum | C63: CC | D63: TT | E63: TT | F63: CC | G63: GG | H63: CTTCG | I63: I | J63: 3.44
A64: Ca58 | B64: =VLOOKUP(A64,'Supp Table S12'!$A$2:$B$596,2,FALSE) -> Capsicum annuum | C64: TT | D64: TT | E64: TT | F64: CC | G64: GG | H64: TTTCG | I64: II | J64: 2.4
A65: Ca63 | B65: =VLOOKUP(A65,'Supp Table S12'!$A$2:$B$596,2,FALSE) -> Capsicum annuum | C65: CC | D65: GG | E65: TT | F65: CC | G65: CC | H65: CGTCC | I65: VI | J65: 71.33
A66: Ca64 | B66: =VLOOKUP(A66,'Supp Table S12'!$A$2:$B$596,2,FALSE) -> Capsicum annuum | C66: CC | D66: GG | E66: TT | F66: CC | G66: CC | H66: CGTCC | I66: VI | J66: 117.08
A67: Ca65 | B67: =VLOOKUP(A67,'Supp Table S12'!$A$2:$B$596,2,FALSE) -> Capsicum annuum | C67: TT | D67: TT | E67: TT | F67: CC | G67: CC | H67: TTTCC | I67: III | J67: 5.1
A68: Ca68 | B68: =VLOOKUP(A68,'Supp Table S12'!$A$2:$B$596,2,FALSE) -> Capsicum annuum | C68: TT | D68: TT | E68: TT | F68: CC | G68: GG | H68: TTTCG | I68: II | J68: 11.6
A69: Ca72 | B69: =VLOOKUP(A69,'Supp Table S12'!$A$2:$B$596,2,FALSE) -> Capsicum annuum | C69: TT | D69: TT | E69: TT | F69: CC | G69: CC | H69: TTTCC | I69: III | J69: 9.58
A70: Ca73 | B70: =VLOOKUP(A70,'Supp Table S12'!$A$2:$B$596,2,FALSE) -> Capsicum annuum | C70: NN | D70: NN | E70: TT | F70: CC | G70: GG | J70: 3.06
A71: Ca76 | B71: =VLOOKUP(A71,'Supp Table S12'!$A$2:$B$596,2,FALSE) -> Capsicum annuum | C71: CC | D71: TT | E71: TT | F71: CC | G71: GG | H71: CTTCG | I71: I | J71: 1.3
A72: Ca77 | B72: =VLOOKUP(A72,'Supp Table S12'!$A$2:$B$596,2,FALSE) -> Capsicum annuum | C72: TT | D72: TT | E72: TT | F72: CC | G72: GG | H72: TTTCG | I72: II | J72: 2.01
A73: Ca78 | B73: =VLOOKUP(A73,'Supp Table S12'!$A$2:$B$596,2,FALSE) -> Capsicum annuum | C73: TT | D73: TT | E73: TT | F73: CC | G73: GG | H73: TTTCG | I73: II | J73: 1.94
A74: Ca80 | B74: =VLOOKUP(A74,'Supp Table S12'!$A$2:$B$596,2,FALSE) -> Capsicum annuum | C74: TC | D74: TG | E74: TT | F74: CC | G74: GC | J74: 1.45
A75: Ca81 | B75: =VLOOKUP(A75,'Supp Table S12'!$A$2:$B$596,2,FALSE) -> Capsicum annuum | C75: CC | D75: GG | E75: TT | F75: CC | G75: CC | H75: CGTCC | I75: VI | J75: 30.99
A76: Ca82 | B76: =VLOOKUP(A76,'Supp Table S12'!$A$2:$B$596,2,FALSE) -> Capsicum annuum | C76: CC | D76: GG | E76: TT | F76: CC | G76: CC | H76: CGTCC | I76: VI | J76: 17.37
A77: Ca85 | B77: =VLOOKUP(A77,'Supp Table S12'!$A$2:$B$596,2,FALSE) -> Capsicum annuum | C77: TT | D77: TT | E77: TT | F77: CC | G77: GG | H77: TTTCG | I77: II | J77: 0.36
A78: Ca86 | B78: =VLOOKUP(A78,'Supp Table S12'!$A$2:$B$596,2,FALSE) -> Capsicum annuum | C78: TT | D78: TT | E78: TT | F78: CC | G78: GG | H78: TTTCG | I78: II | J78: 3.78
A79: Ca89 | B79: =VLOOKUP(A79,'Supp Table S12'!$A$2:$B$596,2,FALSE) -> Capsicum annuum | C79: CC | D79: GG | E79: TT | F79: CC | G79: CC | H79: CGTCC | I79: VI | J79: 13.12
A80: Ca91 | B80: =VLOOKUP(A80,'Supp Table S12'!$A$2:$B$596,2,FALSE) -> Capsicum annuum | C80: CC | D80: TT | E80: TT | F80: CC | G80: GG | H80: CTTCG | I80: I | J80: 2.59
A81: Ca92 | B81: =VLOOKUP(A81,'Supp Table S12'!$A$2:$B$596,2,FALSE) -> Capsicum annuum | C81: TT | D81: TT | E81: TT | F81: CC | G81: GG | H81: TTTCG | I81: II | J81: 4.91
A82: Ca94 | B82: =VLOOKUP(A82,'Supp Table S12'!$A$2:$B$596,2,FALSE) -> Capsicum annuum | C82: CC | D82: GG | E82: TT | F82: CC | G82: CC | H82: CGTCC | I82: VI | J82: 10.17
A83: Ca96 | B83: =VLOOKUP(A83,'Supp Table S12'!$A$2:$B$596,2,FALSE) -> Capsicum annuum | C83: CC | D83: GG | E83: TT | F83: CC | G83: CC | H83: CGTCC | I83: VI | J83: 34.3
A84: Ca98 | B84: =VLOOKUP(A84,'Supp Table S12'!$A$2:$B$596,2,FALSE) -> Capsicum annuum | C84: TT | D84: TT | E84: TT | F84: CC | G84: GG | H84: TTTCG | I84: II | J84: 1.22
A85: CAG1 | B85: =VLOOKUP(A85,'Supp Table S12'!$A$2:$B$596,2,FALSE) -> Capsicum annuum var. glabriusculum | C85: TT | D85: TT | E85: TT | F85: CC | G85: GG | H85: TTTCG | I85: II | J85: 0.17
A86: CAG10 | B86: =VLOOKUP(A86,'Supp Table S12'!$A$2:$B$596,2,FALSE) -> Capsicum annuum var. glabriusculum | C86: TT | D86: TT | E86: TT | F86: CC | G86: GG | H86: TTTCG | I86: II | J86: 0.16
... A99: CAG26 | B99: =VLOOKUP(A99,'Supp Table S12'!$A$2:$B$596,2,FALSE) -> Capsicum annuum var. glabriusculum | C99: TT | D99: TT | E99: TT | F99: CC | G99: GG | H99: TTTCG | I99: II | J99: 1.89
A100: CAG27 | B100: =VLOOKUP(A100,'Supp Table S12'!$A$2:$B$596,2,FALSE) -> Capsicum annuum var. glabriusculum | C100: TC | D100: TG | E100: TT | F100: CC | G100: GC | J100: 1.26
A101: CAG29 | B101: =VLOOKUP(A101,'Supp Table S12'!$A$2:$B$596,2,FALSE) -> Capsicum annuum var. glabriusculum | C101: TT | D101: TT | E101: TT | F101: CC | G101: GG | H101: TTTCG | I101: II | J101: 0.21
A102: CAG33 | B102: =VLOOKUP(A102,'Supp Table S12'!$A$2:$B$596,2,FALSE) -> Capsicum annuum var. glabriusculum | C102: TT | D102: TT | E102: TT | F102: CC | G102: GG | H102: TTTCG | I102: II | J102: 0.24
A103: CAG35 | B103: =VLOOKUP(A103,'Supp Table S12'!$A$2:$B$596,2,FALSE) -> Capsicum annuum var. glabriusculum | C103: TT | D103: TT | E103: TT | F103: CC | G103: GG | H103: TTTCG | I103: II | J103: 0.11
A104: CAG36 | B104: =VLOOKUP(A104,'Supp Table S12'!$A$2:$B$596,2,FALSE) -> Capsicum annuum var. glabriusculum | C104: TT | D104: TT | E104: TT | F104: CC | G104: GC | J104: 0.62
A105: CAG37 | B105: =VLOOKUP(A105,'Supp Table S12'!$A$2:$B$596,2,FALSE) -> Capsicum annuum var. glabriusculum | C105: TT | D105: TT | E105: TT | F105: CC | G105: GG | H105: TTTCG | I105: II | J105: 0.94
A106: CAG38 | B106: =VLOOKUP(A106,'Supp Table S12'!$A$2:$B$596,2,FALSE) -> Capsicum annuum var. glabriusculum | C106: TT | D106: TT | E106: TT | F106: CC | G106: GG | H106: TTTCG | I106: II | J106: 0.2
A107: CAG42 | B107: =VLOOKUP(A107,'Supp Table S12'!$A$2:$B$596,2,FALSE) -> Capsicum annuum var. glabriusculum | C107: TT | D107: TT | E107: TT | F107: CC | G107: GG | H107: TTTCG | I107: II | J107: 0.37
A108: CAG45 | B108: =VLOOKUP(A108,'Supp Table S12'!$A$2:$B$596,2,FALSE) -> Capsicum annuum var. glabriusculum | C108: NN | D108: NN | E108: TT | F108: CC | G108: GG | J108: 0.23
A109: CAG46 | B109: =VLOOKUP(A109,'Supp Table S12'!$A$2:$B$596,2,FALSE) -> Capsicum annuum var. glabriusculum | C109: TT | D109: TT | E109: TT | F109: CC | G109: GG | H109: TTTCG | I109: II | J109: 0.19
A110: CAG47 | B110: =VLOOKUP(A110,'Supp Table S12'!$A$2:$B$596,2,FALSE) -> Capsicum annuum var. glabriusculum | C110: TT | D110: TT | E110: TT | F110: CC | G110: CC | H110: TTTCC | I110: III | J110: 0.21
A111: CAG49 | B111: =VLOOKUP(A111,'Supp Table S12'!$A$2:$B$596,2,FALSE) -> Capsicum annuum var. glabriusculum | C111: TT | D111: TT | E111: TT | F111: CC | G111: GG | H111: TTTCG | I111: II | J111: 0.19
A112: CAG52 | B112: =VLOOKUP(A112,'Supp Table S12'!$A$2:$B$596,2,FALSE) -> Capsicum annuum var. glabriusculum | C112: TT | D112: TT | E112: TT | F112: CC | G112: GG | H112: TTTCG | I112: II | J112: 0.28
...
