Workbook

Sheet Supp Table S1
A1: Supplementary Table S1 Information of the parental accessions of F2 populations
F2: Known fruit weight/fruiit shape locia | K2: GWAS_fw6.1 | M2: CSR-like1
A3: F2 population | C3: Accession | D3: Phylogenic group | E3: Fruit weight (g) | F3: FW2.2 | G3: FW3.2 | H3: FW11.3 | I3: LC | J3: FAS | K3: SL4.0CH06_44805731 | L3: SL4.0CH06_45074906 | M3: Haplotype | N3: Major fruit weight QTLb
A4: 18S32 (n=124) | B4: Parent 1 | C4: BGV013161 | D4: SLC_PER | E4: 10.562917 | F4: 3 | G4: 3 | H4: 3 | I4: 1 | J4: 3 | K4: C/C | L4: G/G | M4: I | N4: fw3.3
B5: Parent 2 | C5: BGV007981 | D5: SLC_PER | E5: 6.8433333 | F5: 3 | G5: 3 | H5: 3 | I5: 1 | J5: 3 | K5: C/C | L5: G/G | M5: I
A6: 18S33 (n=127) | B6: Parent 1 | C6: BGV006232 | D6: SLC_ECU | E6: 8.1691667 | F6: 3 | G6: 3 | H6: 3 | I6: 3 | J6: 3 | K6: CTGATAT/CTGATAT | L6: GA/GA | M6: II | N6: unknown
B7: Parent 2 | C7: BGV007931 | D7: SLC_MEX CA NSA | E7: 1.307025 | F7: 3 | G7: 3 | H7: 3 | I7: 3 | J7: 3 | K7: C/C | L7: G/G | M7: III
A8: 18S39 (n=86) | B8: Parent 1 | C8: BGV008225 | D8: SLC_PER | E8: 1.9925125 | F8: 3 | G8: 3 | H8: 3 | I8: 3 | J8: 3 | K8: C/C | L8: G/G | M8: IV | N8: unknown
B9: Parent 2 | C9: BGV006232 | D9: SLC_ECU | E9: 8.1691667 | F9: 3 | G9: 3 | H9: 3 | I9: 3 | J9: 3 | K9: CTGATAT/CTGATAT | L9: GA/GA | M9: II
A10: 18S40 (n=135) | B10: Parent 1 | C10: PI406890 | D10: SLC PER | E10: 4.8966667 | F10: 1 | G10: 1 | H10: 3 | I10: 3 | J10: 3 | K10: C/C | L10: GA/GA | M10: I | N10: fw3.3, fw8.1
B11: Parent 2 | C11: BGV008041 | D11: SLC PER | E11: 10.196472 | F11: 1 | G11: 1 | H11: 3 | I11: 3 | J11: 3 | K11: C/C | L11: G/G | M11: I
A12: 18S133 (n=81) | B12: Parent 1 | C12: BGV006225 | D12: SLC_ECU | E12: 7.9620833 | F12: 3 | G12: 3 | H12: 3 | I12: 3 | J12: 3 | K12: CTGATAT/CTGATAT | L12: GA/GA | M12: II | N12: unknown
B13: Parent 2 | C13: BGV007181 | D13: SP_NECU | E13: 1.8386458 | F13: 3 | G13: 3 | H13: 3 | I13: 3 | J13: 3 | K13: CTGATAT/CTGATAT | L13: G/G | M13: V
A17: a Genotypes of known fruit weight/shape loci in the parental accessions: 1=homozygous derived allele; 3=homozygous wild-type allele
A18: b The major known fruit weight QTLs for 18S32 and 18S40 have been mapped in Pereira et al. (2021)

Sheet Supp Table S2
A1: Supplementary Table S2 Primers used for genotyping, qCPR and transgenic constrcut confirmation
A3: genotyping of known fruit weight gene | B3: Primer sequence (5' -> 3') | C3: Polymorphism | D3: Restriction enzyme | E3: Wild type allele (bp) | F3: Derived allele (bp) | G3: reference
A4: fw2.2 (CNR) | B4: CATATAAAGTGTACTGACCGTCA | C4: SNP | D4: Tsp45I | E4: 168 | F4: 149 | G4: Blanca et al, 2015
A5: Solyc02g090730 | B5: CTGTCCTATTCAAGAGGTAAATGAG
A6: fw3.2 (SlKLUH) | B6: AAAGTCGAATAAATTAGATGAACTTGA | C6: SNP | D6: Hpy188I | E6: 326 | F6: 304 | G6: Chakrabarti et al, 2013
A7: Solyc03g114940 | B7: ATTGGGTCTCTCCTCGCTCT
A8: fw11.3 (CSR) | B8: GTCACCTTCTTCTCACCGTC | C8: Indel | D8: -- | E8: 328 | F8: 232 | G8: Mu et al, 2017
A9: Solyc11g071940 | B9: GCGTATCTAAGATTACCTGTC
B10: CCAGATGTCGTGTTGAAACTG
A11: fas (SlCLV3) | B11: GTCACCTTCTTCTCACCGTC | C11: Inversion | D11: -- | E11: 328 | F11: 232 | G11: Rodríguez et al, 2011
A12: Solyc11g071380 | B12: ATGGTGGGGTTTTCTGTTCA
B13: CAGAAATCAGAGTCCAATTCCA
A14: lc (SlWUSCHEL) | B14: GCCGAACACATCAACATTTC | C14: SNP | D14: HindIII | E14: 260 | F14: 235 | G14: Blanca et al, 2015
A15: Solyc02g083950 | B15: CCTTTTCCTAAAAGATTTGGCATGAAG
A16: ovate (OVATE) | B16: AATGCTTTCCGTTCAACGAC | C16: SNP | D16: DdeI | E16: 122 | F16: 109 | G16: Blanca et al, 2015
A17: Solyc02g085500 | B17: AAGCTGATACCGTGTAGTGTGG
A18: sov1 (OPF20) | B18: ATTGGACACTCTGACACCAC | C18: Indel | D18: -- | E18: 1223 | F18: ~900 | G18: --
A19: Solyc10g076180 | B19: TGTTTGGATATTATACTTGTTTCA
B20: AAGTAGGCAAACCTTATCAACT
A23: dCAPS primers for genotyping mapping populations of fw6.1/fw6.2 | B23: Primer sequence (5' -> 3') | C23: Polymorphism | D23: Restriction enzyme | E23: Wild type allele (bp) | F23: Derived allele (bp) | G23: Physical position
A24: 24EP416 | B24: AGAAGATAAATGTACTAATCATGTCCT | C24: SNP | D24: MnlI | E24: 113 | F24: 85 | G24: SL4.0ch06:43636481
B25: GTTTTAGAAATTATTCAAGACCATAACT
A28: KASP primers for genotyping mapping populations of fw6.1/fw6.2 | B28: Primer sequence (5' -> 3') | C28: Polymorphism | D28: Physical position | E28: KASP primers are ordered based on their physical positions
A29: 18EP962 | B29: GAAGGTGACCAAGTTCATGCTCTTGCAACATCTGAATTATTCTGTTTCA | C29: SNP | D29: SL4.0ch06:39930114
B30: GAAGGTCGGAGTCAACGGATTTGCAACATCTGAATTATTCTGTTTCG
B31: AGCAGAGGAGAAGCTTGATAGAAAGG
A32: 22EP280 | B32: GAAGGTGACCAAGTTCATGCTACAGGTGCCTTTGTTTCCATTTC | C32: SNP | D32: SL4.0ch06:40012446
B33: GAAGGTCGGAGTCAACGGATTACAGGTGCCTTTGTTTCCATTTT
B34: GCCCAGTGTCTGCCAAAATAAGT
A35: 22EP373 | B35: GAAGGTGACCAAGTTCATGCTATCTAGGTTAATGCAACCGTCCTTA | C35: SNP | D35: SL4.0ch06:40416852
B36: GAAGGTCGGAGTCAACGGATTCTAGGTTAATGCAACCGTCCTTG
B37: AAAGTATTCGCACGCTTCGAC
A38: 20EP87 | B38: GAAGGTGACCAAGTTCATGCTGTGCCTCGCTGGTTACTTCTGT | C38: SNP | D38: SL4.0ch06:40673956
B39: GAAGGTCGGAGTCAACGGATTGCCTCGCTGGTTACTTCTGC
B40: GAACCTACTGTTTCTGTGTTATGATGATATC
A41: 22EP37 | B41: GAAGGTGACCAAGTTCATGCTGAAATAGGAGTGAAGCGACCTTAAA | C41: SNP | D41: SL4.0ch06:41451757
B42: GAAGGTCGGAGTCAACGGATTGAAATAGGAGTGAAGCGACCTTAAG
B43: CCAGATTATTGCCTCCTCAAATCT
A44: 19EP704 | B44: GAAGGTGACCAAGTTCATGCTGGCTATAGGATTTGATAAATTGATGGG | C44: SNP | D44: SL4.0ch06:41782118
B45: GAAGGTCGGAGTCAACGGATTTGGCTATAGGATTTGATAAATTGATGGT
...

Sheet Supp Table S3
A1: Supplementary Table S3 CRISPR/Cas9 edit of CSR-like1
A3: T0 | B3: Sequencea (5' -> 3') | C3: Edit
A4: BGV007931 (WT) | B4: TATCCCACTACCCCCACCACTACCCCCAACTAAGATGGGGATA
A5: 19B36-2 | B5: TATCCCACTACCCCCACCACT------------GATGGGGATA | C5: 12bp del
A6: 19B36-8 | B6: TATCCCACTACCCCCACCACTACCCCC------GATGGGGATA | C6: 6bp del
A8: FLA8059 (WT) | B8: TATCCCACTACCCCCACCACTACCCCCAACTGGGATGGGGATA
A9: 19B26-11 | B9: TATCCCACTACCCCCACCACTACCCCCAA------TGGGGATA | C9: 6bp del
A10: 19B26-10 | B10: TATCCCACTACCCCCACCACTACCCCCAA------TGGGGATA | C10: 6bp del
A11: 19B26-2 | B11: TATCCCACTACCCCCACCACTACCCCCAA------TGGGGATA | C11: 6bp del
A15: a Guide-RNA sequence is in bold. PAM site is highlighted in red.

Sheet Supp Table S4
A1: Supplementary Table S4 GWAS results of fruit weight in the Varitome accessions
A3: GWAS fruit weight QTL | B3: Marker ID | C3: Chromosome | D3: Position | E3: Variant | F3: Reference allele | G3: Alternative allele | H3: LOD (-log10(p-value)) | I3: R2 | J3: Known fruit weight gene
A4: GWAS_fw1.1 | B4: ISL4.0ch01_4180453 | C4: 1 | D4: 4180453 | E4: INDEL | F4: AG | G4: A | H4: 7.31 | I4: 0.067
A5: GWAS_fw1.2 | B5: SL4.0ch01_6073400 | C5: 1 | D5: 6073400 | E5: SNP | F5: C | G5: G | H5: 7.32 | I5: 0.025
A6: GWAS_fw1.3 | B6: SL4.0ch01_20679409 | C6: 1 | D6: 20679409 | E6: SNP | F6: A | G6: G | H6: 7.17 | I6: 0.023
A7: GWAS_fw1.4 | B7: ISL4.0ch01_25323685 | C7: 1 | D7: 25323685 | E7: INDEL | F7: A | G7: AG | H7: 7.15 | I7: 0.015
A8: GWAS_fw1.5 | B8: ISL4.0ch01_34130113 | C8: 1 | D8: 34130113 | E8: INDEL | F8: A | G8: AG | H8: 7.22 | I8: 0.01
B9: SL4.0ch01_35169219 | C9: 1 | D9: 35169219 | E9: SNP | F9: A | G9: G | H9: 7.68 | I9: 0.006
A10: GWAS_fw1.6 | B10: ISL4.0ch01_58920030 | C10: 1 | D10: 58920030 | E10: INDEL | F10: G | G10: GA | H10: 7.91 | I10: 0.019
A11: GWAS_fw2.1 | B11: SL4.0ch02_47625472 | C11: 2 | D11: 47625472 | E11: SNP | F11: C | G11: T | H11: 8.78 | I11: 0.083
A12: GWAS_fw2.2 | B12: ISL4.0ch02_49280039 | C12: 2 | D12: 49280039 | E12: INDEL | F12: C | G12: CGTAAACTTAATGCACAT | H12: 9.54 | I12: 0.099 | J12: fw2.2 (CNR) Solyc02g090730 (SL4.0ch02:50292691..50293481)
A13: GWAS_fw3.1 | B13: ISL4.0ch03_63971059 | C13: 3 | D13: 63971059 | E13: INDEL | F13: CAT | G13: C | H13: 7.5 | I13: 0.071 | J13: fw3.2 (KLUH) Solyc03g114940 (SL4.0ch03:59,217,389..59,219,730)
B14: SL4.0ch03_64020919 | C14: 3 | D14: 64020919 | E14: SNP | F14: A | G14: T | H14: 7.98 | I14: 0.066
A15: GWAS_fw6.1 | B15: ISL4.0ch06_44805731 | C15: 6 | D15: 44805731 | E15: INDEL | F15: C | G15: CTGATAT | H15: 7.66 | I15: 0.032
B16: ISL4.0ch06_45074906 | C16: 6 | D16: 45074906 | E16: INDEL | F16: GA | G16: G | H16: 7.17 | I16: 0.017
A17: GWAS_fw11.1 | B17: SL4.0ch11_53272144 | C17: 11 | D17: 53272144 | E17: SNP | F17: A | G17: G | H17: 7.79 | I17: 0.128 | J17: fw11.3 (CSR) Solyc11g071940 (SL4.0ch11:53,331,611..53,332,357) OR fas (CLV3) Solyc11g071810 (SL4.0ch11:53232733..53239091)
A18: GWAS_fw12.1 | B18: ISL4.0ch12_3319389 | C18: 12 | D18: 3319389 | E18: INDEL | F18: C | G18: CA | H18: 8.38 | I18: 0.059

Sheet Supp Table S5
A1: Supplementary Table S5 Marker association mapping results of fruit weight at GWAS_fw6.1
A3: F2 population | B3: ANOVA | F3: Genetic effect and PVE at the most siginifcant markera
A4: 18S32 | B4: marker | C4: 19EP161 | D4: 19EP632 | E4: 19EP635
B5: location | C5: SL4.0ch06:43835452 | D5: SL4.0ch06:44895609 | E5: SL4.0ch06:45583653
B6: F-value | C6: 1.1053531 | D6: 0.84855487 | E6: 0.74315406
B7: P-value | C7: 0.33484443 | D7: 0.43076606 | E7: 0.47790122
A8: 18S33 | B8: marker | C8: 18EP327 | D8: 19EP626 | E8: 19EP635 | G8: value | H8: t-statistic | I8: P-value | J8: |d/a|
B9: location | C9: SL4.0ch06:43668495 | D9: SL4.0ch06:44282555 | E9: SL4.0ch06:45583653 | F9: Additive (a) | G9: -0.4266 | H9: 3.612842 | I9: 0.00045647786 | J9: 0.23602738
B10: F-value | C10: 8.9496144 | D10: 6.5278624 | E10: 4.3014893 | F10: Dominance (d) | G10: -0.0203 | H10: 0.58663984 | I10: 0.55863681
B11: P-value | C11: 0.00024787984 | D11: 0.0020878165 | E11: 0.015920093 | F11: PVE(%) | G11: 10.524
A12: 18S39 | B12: marker | C12: 19EP701 | D12: 19EP629 | E12: 19EP635 | G12: value | H12: t-statistic | I12: P-value | J12: |d/a|
B13: location | C13: SL4.0ch06:43345630 | D13: SL4.0ch06:44319744 | E13: SL4.0ch06:45583653 | F13: Additive (a) | G13: -0.5161 | H13: 4.2185414 | I13: 6.5037596e-05 | J13: 0.44
B14: F-value | C14: 6.8847367 | D14: 10.567702 | E14: 9.6584939 | F14: Dominance (d) | G14: 0.22927 | H14: 1.3940632 | I14: 0.16720729
B15: P-value | C15: 0.0017220941 | D15: 8.5715177e-05 | E15: 0.00017678354 | F15: PVE(%) | G15: 21.107
A16: 18S40 | B16: marker | C16: 19EP629 | D16: 19EP525 | E16: 19P635 | G16: value | H16: t-statistic | I16: P-value | J16: |d/a|
B17: location | C17: SL4.0ch06:44319744 | D17: SL4.0ch06:45121036 | E17: SL4.0ch06:45583653 | F17: Additive (a) | G17: -0.2678 | H17: 2.7025972 | I17: 0.0078367862 | J17: 0.17852391
B18: F-value | C18: 3.7055811 | D18: 1.7191912 | E18: 2.8820155 | F18: Dominance (d) | G18: -0.0815 | H18: -0.36438877 | I18: 0.71618341
B19: P-value | C19: 0.027326781 | D19: 0.1832913 | E19: 0.059636722 | F19: PVE(%) | G19: 5.597
A20: 18S133 | B20: marker | C20: 18EP1141 | D20: 19EP629 | E20: 19P635 | G20: value | H20: t-statistic | I20: P-value | J20: |d/a|
B21: location | C21: SL4.0ch06:42150072 | D21: SL4.0ch06:44319744 | E21: SL4.0ch06:45583653 | F21: Additive (a) | G21: -0.3081 | H21: 2.7886142 | I21: 0.0067458772 | J21: 0.37349688
B22: F-value | C22: 3.9413098 | D22: 0.65590275 | E22: 1.3377963 | F22: Dominance (d) | G22: -0.0803 | H22: -0.79916587 | I22: 0.42678687
B23: P-value | C23: 0.023690231 | D23: 0.52188584 | E23: 0.26861224 | F23: PVE(%) | G23: 9.746
A26: a The additive effect, dominance effect and PVE (percentage of variance explained) are calculated in the four popualtions where GWAS_fw6.1 was confirmed

Sheet Supp Table S6
A1: Supplementary Table S6 Porgeny test results of selected recombinants for fw6.1 and fw6.2
E3: Markersa
E4: 18EP962 | F4: 22EP280 | G4: 22EP373 | H4: 20EP87 | I4: 22EP37 | J4: 19EP704 | K4: 21EP716 | L4: 20EP567 | M4: 20EP1212 | N4: 21EP44 | O4: 20EP1206 | P4: 21EP47 | Q4: 21EP56 | R4: 21EP334 | S4: 19EP701 | T4: 21EP67 | U4: 22EP504 | V4: 20EP1209 | W4: 24EP416 | X4: 18EP327
A5: Progeny family | B5: Number of plants | C5: Average fruit weightb (g) | D5: P-valuec | E5: SL4.0ch06:39930114 | F5: SL4.0ch06:40012446 | G5: SL4.0ch06:40416852 | H5: SL4.0ch06:40673956 | I5: SL4.0ch06:41451757 | J5: SL4.0ch06:41782118 | K5: SL4.0ch06:42238376 | L5: SL4.0ch06:42662777 | M5: SL4.0ch06:42850956 | N5: SL4.0ch06:42939268 | O5: SL4.0ch06:43155627 | P5: SL4.0ch06:43182113 | Q5: SL4.0ch06:43262334 | R5: SL4.0ch06:43338219 | S5: SL4.0ch06:43345630 | T5: SL4.0ch06:43386979 | U5: SL4.0ch06:43517917 | V5: SL4.0ch06:43554038 | W5: SL4.0ch06:43636481 | X5: SL4.0ch06:43668495
A6: 22S34 | B6: 10 | C6: 6.20±0.58 | D6: 0.12309627 | E6: 1 | F6: 1 | G6: 1 | H6: 1 | I6: 1 | J6: 1 | K6: 1 | L6: 1 | M6: 1 | N6: 1 | O6: 1 | P6: 1 | Q6: 1 | R6: 1 | S6: 1 | T6: 1 | U6: 1 | V6: 1 | W6: 1 | X6: 1
B7: 8 | C7: 6.58±0.35 | E7: 3 | F7: 1 | G7: 1 | H7: 1 | I7: 1 | J7: 1 | K7: 1 | L7: 1 | M7: 1 | N7: 1 | O7: 1 | P7: 1 | Q7: 1 | R7: 1 | S7: 1 | T7: 1 | U7: 1 | V7: 1 | W7: 1 | X7: 1
A8: 22S35 | B8: 10 | C8: 6.79±0.61 | D8: 0.0462451 | E8: 1 | F8: 1 | G8: 1 | H8: 1 | I8: 1 | J8: 1 | K8: 1 | L8: 1 | M8: 1 | N8: 1 | O8: 1 | P8: 1 | Q8: 1 | R8: 1 | S8: 1 | T8: 1 | U8: 1 | V8: 1 | W8: 1 | X8: 1
B9: 10 | C9: 6.27±0.49 | E9: 3 | F9: 3 | G9: 3 | H9: 3 | I9: 1 | J9: 1 | K9: 1 | L9: 1 | M9: 1 | N9: 1 | O9: 1 | P9: 1 | Q9: 1 | R9: 1 | S9: 1 | T9: 1 | U9: 1 | V9: 1 | W9: 1 | X9: 1
A10: 22S36 | B10: 9 | C10: 5.72±0.31 | D10: 0.03162612 | E10: 3 | F10: 3 | G10: 3 | H10: 1 | I10: 1 | J10: 1 | K10: 1 | L10: 1 | M10: 1 | N10: 1 | O10: 1 | P10: 1 | Q10: 1 | R10: 1 | S10: 1 | T10: 1 | U10: 1 | V10: 1 | W10: 1 | X10: 1
B11: 10 | C11: 5.04±0.81 | E11: 3 | F11: 3 | G11: 3 | H11: 3 | I11: 3 | J11: 3 | K11: 1 | L11: 1 | M11: 1 | N11: 1 | O11: 1 | P11: 1 | Q11: 1 | R11: 1 | S11: 1 | T11: 1 | U11: 1 | V11: 1 | W11: 1 | X11: 1
A12: 22S38 | B12: 10 | C12: 6.12±0.38 | D12: 0.53468651 | E12: 1 | F12: 1 | G12: 1 | H12: 1 | I12: 1 | J12: 1 | K12: 1 | L12: 1 | M12: 3 | N12: 3 | O12: 3 | P12: 3 | Q12: 3 | R12: 3 | S12: 3 | T12: 3 | U12: 3 | V12: 3 | W12: 3 | X12: 3
B13: 10 | C13: 6.24±0.51 | E13: 1 | F13: 1 | G13: 1 | H13: 1 | I13: 1 | J13: 3 | K13: 3 | L13: 3 | M13: 3 | N13: 3 | O13: 3 | P13: 3 | Q13: 3 | R13: 3 | S13: 3 | T13: 3 | U13: 3 | V13: 3 | W13: 3 | X13: 3
A14: 22S39 | B14: 8 | C14: 6.21±0.40 | D14: 0.40719738 | E14: 1 | F14: 1 | G14: 1 | H14: 1 | I14: 1 | J14: 1 | K14: 1 | L14: 1 | M14: 3 | N14: 3 | O14: 3 | P14: 3 | Q14: 3 | R14: 3 | S14: 3 | T14: 3 | U14: 3 | V14: 3 | W14: 3 | X14: 3
B15: 8 | C15: 6.04±0.44 | E15: 1 | F15: 1 | G15: 1 | H15: 1 | I15: 1 | J15: 3 | K15: 3 | L15: 3 | M15: 3 | N15: 3 | O15: 3 | P15: 3 | Q15: 3 | R15: 3 | S15: 3 | T15: 3 | U15: 3 | V15: 3 | W15: 3 | X15: 3
A16: 23S91 | B16: 8 | C16: 9.02±0.36 | D16: 0.55054848 | E16: 1 | F16: 1 | G16: 1 | H16: 1 | I16: 1 | J16: 1 | K16: 1 | L16: 1 | M16: 1 | N16: 1 | O16: 1 | P16: 1 | Q16: 1 | R16: 1 | S16: 1 | T16: 1 | U16: 1 | V16: 1 | W16: 1 | X16: 1
B17: 9 | C17: 8.84±0.75 | E17: 1 | F17: 1 | G17: 1 | H17: 1 | I17: 1 | J17: 1 | K17: 1 | L17: 1 | M17: 1 | N17: 1 | O17: 1 | P17: 3 | Q17: 3 | R17: 1 | S17: 1 | T17: 1 | U17: 1 | V17: 1 | W17: 1 | X17: 1
A18: 23S94 | B18: 9 | C18: 10.02±0.39 | D18: 0.000471937 | E18: 1 | F18: 1 | G18: 1 | H18: 1 | I18: 1 | J18: 1 | K18: 1 | L18: 1 | M18: 1 | N18: 1 | O18: 1 | P18: 1 | Q18: 1 | R18: 1 | S18: 1 | T18: 1 | U18: 1 | V18: 1 | W18: 1 | X18: 1
B19: 10 | C19: 9.14±49 | E19: 1 | F19: 1 | G19: 1 | H19: 1 | I19: 1 | J19: 1 | K19: 1 | L19: 1 | M19: 1 | N19: 1 | O19: 1 | P19: 1 | Q19: 1 | R19: 3 | S19: 3 | T19: 3 | U19: 3 | V19: 3 | W19: 1 | X19: 1
A20: 23S95 | B20: 9 | C20: 9.21±0.65 | D20: 0.039609259 | E20: 1 | F20: 1 | G20: 1 | H20: 1 | I20: 1 | J20: 1 | K20: 1 | L20: 1 | M20: 1 | N20: 1 | O20: 1 | P20: 3 | Q20: 3 | R20: 1 | S20: 1 | T20: 1 | U20: 1 | V20: 1 | W20: 1 | X20: 1
B21: 10 | C21: 8.49±0.73 | E21: 1 | F21: 1 | G21: 1 | H21: 1 | I21: 1 | J21: 1 | K21: 1 | L21: 1 | M21: 1 | N21: 1 | O21: 1 | P21: 3 | Q21: 3 | R21: 3 | S21: 3 | T21: 3 | U21: 3 | V21: 3 | W21: 3 | X21: 3
A22: 24S155 | B22: 10 | C22: 7.56±0.68 | D22: 0.0014509 | E22: 1 | F22: 1 | G22: 1 | H22: 1 | I22: 1 | J22: 1 | K22: 1 | L22: 1 | M22: 1 | N22: 1 | O22: 1 | P22: 1 | Q22: 1 | R22: 1 | S22: 1 | T22: 1 | U22: 1 | V22: 1 | W22: 1 | X22: 1
B23: 10 | C23: 6.59±0.50 | E23: 1 | F23: 1 | G23: 1 | H23: 1 | I23: 1 | J23: 1 | K23: 1 | L23: 1 | M23: 1 | N23: 1 | O23: 1 | P23: 1 | Q23: 1 | R23: 3 | S23: 3 | T23: 3 | U23: 3 | V23: 3 | W23: 1 | X23: 1
A26: Yellow shadwed region indicates the finemapped fw6.1 interval. Blue shaded region indicates the finemapped fw6.2 interval.
A28: The p-values are from the Student's t-test
A29: a Marker score: 1 homozygous for derived allele; 3 homozygous for wild type alleles. The segregating region within each progeny testing family is shown in red bold text.
A30: b Average fruit wieghts are given as mean±sd
A31: c The p-values are from the Student's t-test

Sheet Supp Table S7
A1: Supplementary Table S7 All genes in the fw6.2 interval based on ITAG4.0 annotation
A3: Gene | B3: Position | C3: Annotation
A4: Solyc06g073850 | B4: SL4.0ch06:43269222-43269665 | C4: Note=hypothetical protein (AHRD V3.3 *** AT2G27180.1)
A5: Solyc06g073860 | B5: SL4.0ch06:43272638-43276341 | C5: Note=RING/U-box superfamily protein (AHRD V3.3 *-* A0A2U1PQ21_ARTAN)
A6: Solyc06g073870 | B6: SL4.0ch06:43278555-43281402 | C6: Note=DNA-directed RNA polymerase II subunit 4 (AHRD V3.3 *** A0A1U8HA52_CAPAN)
A7: Solyc06g073880 | B7: SL4.0ch06:43282632-43284806 | C7: Note=E3 ubiquitin-protein ligase RHF2A (AHRD V3.3 *** A0A2G3CBJ5_CAPCH)
A8: Solyc06g073890 | B8: SL4.0ch06:43285288-43285659 | C8: Note=E3 ubiquitin-protein ligase RHF2A (AHRD V3.3 *-* A0A2G3CBJ5_CAPCH)
A9: Solyc06g073900 | B9: SL4.0ch06:43286888-43290739 | C9: Note=Succinate dehydrogenase subunit 6, mitochondrial (AHRD V3.3 *** A0A2G2XX03_CAPAN)
A10: Solyc06g073910 | B10: SL4.0ch06:43293045-43295782 | C10: Note=Strictosidine synthase (AHRD V3.3 *** A0A200Q9R0_9MAGN)
A11: Solyc06g073920 | B11: SL4.0ch06:43314344-43320472 | C11: Note=CRABS CLAW-like protein 2a
A12: Solyc06g073930 | B12: SL4.0ch06:43323751-43336989 | C12: Note=Ubiquitin carboxyl-terminal hydrolase 8 (AHRD V3.3 *** A0A1U8HC37_CAPAN)
A13: Solyc06g073940 | B13: SL4.0ch06:43343993-43345887 | C13: Note=protein FAF-like, chloroplastic (AHRD V3.3 *-* A0A2I4H6U5_9ROSI)
A14: Solyc06g073950 | B14: SL4.0ch06:43364702-43370378 | C14: Note=DnaJ domain-containing protein (AHRD V3.3 *** A0A1Q3CPH7_CEPFO)
... A54: Solyc06g074340 | B54: SL4.0ch06:43623371-43624745 | C54: Note=Alpha/beta-Hydrolases superfamily protein (AHRD V3.3 *** B3H6Y0_ARATH)

Sheet Supp Table S8
A1: Supplementary Table S8 Fruit weight and plant height at 55 days after sowing of CSR-like1-WT and CSR-like1-amiRNA plants
A3: Population | B3: 25S158 (BC1F1) | E3: 25S159 (BC1F1) | H3: 25S160 (BC1F1)
A4: Genotype | B4: WT (n=11) | C4: amiRNA (n=9) | D4: P-valueb | E4: WT (n=10) | F4: amiRNA (n=10) | G4: P-value | H4: WT (n=10) | I4: amiRNA (n=10) | J4: P-value
A5: Average red ripe fruit weight (g)a | B5: 12.61±0.93 | C5: 7.68±2.03 | D5: 1.6727725e-06 | E5: 12.85±0.69 | F5: 9.41±0.90 | G5: 3.38182e-07 | H5: 14.52±0.69 | I5: 9.61±0.90 | J5: 6.00959e-11
A6: Genotype | B6: WT (n=3) | C6: amiRNA (n=3) | D6: P-value | E6: WT (n=3) | F6: amiRNA (n=3) | G6: P-value | H6: WT (n=3) | I6: amiRNA (n=3) | J6: P-value
A7: Plant heighta (cm) | B7: 71.43±14.15 | C7: 73.53±8.17 | D7: 0.83455321 | E7: 78.10±11.16 | F7: 84.77±9.11 | G7: 0.46783025 | H7: 70.00±4.77 | I7: 68.83±10.15 | J7: 0.86580084
A9: a Measurements are given as mean±sd
A10: b The p-values are from the Student's t-test

Sheet Supp Table S9
A1: Supplementary Table S9 Genotyping information at CSR-like1 locus and the CSR-like1 haplotyes in the Varitome accessions
A3: a fw11.3 genotype: 1: derived; 2: heterozygous; 3: WT
A4: b Allele genotyping annotation 0: reference; 1: heterozygous; 2: alternate
F5: Position | G5: SL4.0ch06:43343566 | H5: SL4.0ch06:43343741 | I5: SL4.0ch06:43343797 | J5: SL4.0ch06:43343813 | K5: SL4.0ch06:43343878 | L5: SL4.0ch06:43343930 | M5: SL4.0ch06:43344056 | N5: SL4.0ch06:43344127 | O5: SL4.0ch06:43344537 | P5: SL4.0ch06:43344932 | Q5: SL4.0ch06:43345630 | R5: SL4.0ch06:43345639 | S5: SL4.0ch06:43345791 | T5: SL4.0ch06:43345822 | U5: SL4.0ch06:43345950 | V5: SL4.0ch06:43346037 | W5: SL4.0ch06:43346053 | X5: SL4.0ch06:43346064 | Y5: SL4.0ch06:43346067 | Z5: SL4.0ch06:43346071 | AA5: SL4.0ch06:43346085 | AB5: SL4.0ch06:43346104 | AC5: SL4.0ch06:43346115 | AD5: SL4.0ch06:43346175 | AE5: SL4.0ch06:43346185 | AF5: SL4.0ch06:43346240 | AG5: SL4.0ch06:43346349 | AH5: SL4.0ch06:43346433 | AI5: SL4.0ch06:43346843 | AJ5: SL4.0ch06:43346854 | AK5: SL4.0ch06:43346986 | AL5: SL4.0ch06:43346995 | AM5: SL4.0ch06:43347036 | AN5: SL4.0ch06:43347075 | AO5: SL4.0ch06:43347149 | AP5: SL4.0ch06:43347165 | AQ5: SL4.0ch06:43347170 | AR5: SL4.0ch06:43347249 | AS5: SL4.0ch06:43347309 | AT5: SL4.0ch06:43347313 | AU5: SL4.0ch06:43347347 | AV5: SL4.0ch06:43347414 | AW5: SL4.0ch06:43347448 | AX5: SL4.0ch06:43347473 | AY5: SL4.0ch06:43347478 | AZ5: SL4.0ch06:43347480 | BA5: SL4.0ch06:43347553 | BB5: SL4.0ch06:43347617 | BC5: SL4.0ch06:43347640 | BD5: SL4.0ch06:43347762 | BE5: SL4.0ch06:43347853 | BF5: SL4.0ch06:43347911 | BG5: SL4.0ch06:43348113 | BH5: SL4.0ch06:43348125 | BI5: SL4.0ch06:43348127 | BJ5: SL4.0ch06:43348140 | BK5: SL4.0ch06:43348154 | BL5: SL4.0ch06:43348157 | BM5: SL4.0ch06:43348172 | BN5: SL4.0ch06:43348172 | BO5: SL4.0ch06:43348180 | BP5: SL4.0ch06:43348310 | BQ5: SL4.0ch06:43348316 | BR5: SL4.0ch06:43348333 | BS5: SL4.0ch06:43348373 | BT5: SL4.0ch06:43348427 | BU5: SL4.0ch06:43348649 | BV5: SL4.0ch06:43348672 | BW5: SL4.0ch06:43348673 | BX5: SL4.0ch06:43348713 | BY5: SL4.0ch06:43348824 | BZ5: SL4.0ch06:43349090 | CA5: SL4.0ch06:43349139 | CB5: SL4.0ch06:43349150 | CC5: SL4.0ch06:43349185 | CD5: SL4.0ch06:43349194 | CE5: SL4.0ch06:43349202 | CF5: SL4.0ch06:43349222 | CG5: SL4.0ch06:43349286 | CH5: SL4.0ch06:43349341 | CI5: SL4.0ch06:43349448 | CJ5: SL4.0ch06:43349491 | CK5: SL4.0ch06:43349499 | CL5: SL4.0ch06:43349515 | CM5: SL4.0ch06:43349515 | CN5: SL4.0ch06:43349516 | CO5: SL4.0ch06:43349530 | CP5: SL4.0ch06:43349561
F6: Type | G6: SNP | H6: SNP | I6: SNP | J6: SNP | K6: SNP | L6: SNP | M6: SNP | N6: SNP | O6: SNP | P6: SNP | Q6: SNP | R6: SNP | S6: SNP | T6: SNP | U6: SNP | V6: SNP | W6: SNP | X6: SNP | Y6: SNP | Z6: SNP | AA6: SNP | AB6: SNP | AC6: SNP | AD6: SNP | AE6: SNP | AF6: SNP | AG6: INDEL | AH6: INDEL | AI6: SNP | AJ6: INDEL | AK6: SNP | AL6: INDEL | AM6: SNP | AN6: SNP | AO6: SNP | AP6: SNP | AQ6: INDEL | AR6: SNP | AS6: SNP | AT6: SNP | AU6: SNP | AV6: SNP | AW6: SNP | AX6: INDEL | AY6: SNP | AZ6: SNP | BA6: INDEL | BB6: INDEL | BC6: SNP | BD6: SNP | BE6: INDEL | BF6: SNP | BG6: SNP | BH6: SNP | BI6: SNP | BJ6: SNP | BK6: SNP | BL6: SNP | BM6: SNP | BN6: SNP | BO6: SNP | BP6: SNP | BQ6: SNP | BR6: SNP | BS6: SNP | BT6: SNP | BU6: SNP | BV6: SNP | BW6: SNP | BX6: SNP | BY6: SNP | BZ6: SNP | CA6: SNP | CB6: SNP | CC6: INDEL | CD6: SNP | CE6: SNP | CF6: SNP | CG6: SNP | CH6: SNP | CI6: SNP | CJ6: SNP | CK6: SNP | CL6: SNP | CM6: INDEL | CN6: SNP | CO6: SNP | CP6: INDEL
F7: REF | G7: C | H7: T | I7: A | J7: T | K7: T | L7: T | M7: T | N7: C | O7: G | P7: T | Q7: T | R7: T | S7: C | T7: C | U7: T | V7: T | W7: G | X7: C | Y7: T | Z7: T | AA7: G | AB7: T | AC7: C | AD7: A | AE7: T | AF7: C | AG7: T | AH7: GA | AI7: T | AJ7: CAT | AK7: C | AL7: A | AM7: C | AN7: A | AO7: G | AP7: A | AQ7: C | AR7: A | AS7: A | AT7: T | AU7: T | AV7: A | AW7: A | AX7: T | AY7: T | AZ7: G | BA7: AT | BB7: G | BC7: A | BD7: A | BE7: CGGA | BF7: G | BG7: T | BH7: G | BI7: G | BJ7: T | BK7: G | BL7: T | BM7: G | BN7: G | BO7: A | BP7: A | BQ7: C | BR7: T | BS7: G | BT7: T | BU7: C | BV7: T | BW7: T | BX7: G | BY7: A | BZ7: A | CA7: A | CB7: C | CC7: GTA | CD7: C | CE7: C | CF7: C | CG7: G | CH7: C | CI7: G | CJ7: C | CK7: C | CL7: A | CM7: A | CN7: A | CO7: T | CP7: A
F8: ALT | G8: A | H8: C | I8: G | J8: G | K8: C | L8: G | M8: A | N8: G | O8: A | P8: C | Q8: C | R8: C | S8: A | T8: G | U8: C | V8: C | W8: A | X8: T | Y8: C | Z8: C | AA8: A | AB8: A | AC8: T | AD8: T | AE8: A | AF8: T | AG8: TTAGTTTTGA | AH8: G | AI8: C | AJ8: C | AK8: G | AL8: AT | AM8: T | AN8: G | AO8: A | AP8: G | AQ8: CA | AR8: G | AS8: G | AT8: C | AU8: G | AV8: G | AW8: T | AX8: TA | AY8: A | AZ8: A | BA8: A | BB8: GA | BC8: G | BD8: G | BE8: C | BF8: A | BG8: C | BH8: A | BI8: T | BJ8: C | BK8: A | BL8: C | BM8: T | BN8: A | BO8: G | BP8: G | BQ8: G | BR8: A | BS8: A | BT8: A | BU8: T | BV8: C | BW8: C | BX8: T | BY8: G | BZ8: G | CA8: T | CB8: T | CC8: G | CD8: T | CE8: T | CF8: T | CG8: A | CH8: T | CI8: T | CJ8: A | CK8: G | CL8: T | CM8: * | CN8: T | CO8: A | CP8: ATT
A9: Phylogeny | B9: CSR-like1 Haplotype | C9: Weight (g) | D9: pericarp cell size (mm^2) | E9: fw11.3a | F9: Annotationb | G9: Downstr | H9: Downstr | I9: Downstr | J9: Downstr | K9: Downstr | L9: Downstr | M9: UTR | N9: UTR | O9: Missense | P9: Synon | Q9: UTR | R9: UTR | S9: UTR | T9: UTR | U9: Upstr | V9: Upstr | W9: Upstr | X9: Upstr | Y9: Upstr | Z9: Upstr | AA9: Upstr | AB9: Upstr | AC9: Upstr | AD9: Upstr | AE9: Upstr | AF9: Upstr | AG9: Upstr | AH9: Upstr | AI9: Upstr | AJ9: Upstr | AK9: Upstr | AL9: Upstr | AM9: Upstr | AN9: Upstr | AO9: Upstr | AP9: Upstr | AQ9: Upstr | AR9: Upstr | AS9: Upstr | AT9: Upstr | AU9: Upstr | AV9: Upstr | AW9: Upstr | AX9: Upstr | AY9: Upstr | AZ9: Upstr | BA9: Upstr | BB9: Upstr | BC9: Upstr | BD9: Upstr | BE9: Upstr | BF9: Upstr | BG9: Upstr | BH9: Upstr | BI9: Upstr | BJ9: Upstr | BK9: Upstr | BL9: Upstr | BM9: Upstr | BN9: Upstr | BO9: Upstr | BP9: Upstr | BQ9: Upstr | BR9: Upstr | BS9: Upstr | BT9: Upstr | BU9: Upstr | BV9: Upstr | BW9: Upstr | BX9: Upstr | BY9: Upstr | BZ9: Upstr | CA9: Upstr | CB9: Upstr | CC9: Upstr | CD9: Upstr | CE9: Upstr | CF9: Upstr | CG9: Upstr | CH9: Upstr | CI9: Upstr | CJ9: Upstr | CK9: Upstr | CL9: Upstr | CM9: Upstr | CN9: Upstr | CO9: Upstr | CP9: Upstr
A10: SLC_PER | B10: I | C10: 10.34 | D10: 0.090416667 | E10: 3 | F10: BGV004584 | G10: 0 | H10: 0 | I10: 0 | J10: 0 | K10: 0 | L10: 0 | M10: 0 | N10: 0 | O10: 0 | P10: 0 | Q10: 0 | R10: 0 | S10: 0 | T10: 0 | U10: 0 | V10: 0 | W10: 0 | X10: 0 | Y10: 0 | Z10: 0 | AA10: 0 | AB10: 0 | AC10: 0 | AD10: 0 | AE10: 0 | AF10: 0 | AG10: 0 | AH10: 0 | AI10: 2 | AJ10: 0 | AK10: 0 | AL10: 0 | AM10: 0 | AN10: 0 | AO10: 0 | AP10: 0 | AQ10: 0 | AR10: 0 | AS10: 0 | AT10: 0 | AU10: 0 | AV10: 0 | AW10: 0 | AX10: 0 | AY10: 0 | AZ10: 0 | BA10: 0 | BB10: 0 | BC10: 0 | BD10: 0 | BE10: 0 | BF10: 0 | BG10: 0 | BH10: 0 | BI10: 0 | BJ10: 0 | BK10: 0 | BL10: 0 | BM10: 0 | BN10: 0 | BO10: 0 | BP10: 0 | BQ10: 0 | BR10: 0 | BS10: 0 | BT10: 0 | BU10: 0 | BV10: 0 | BW10: 0 | BX10: 0 | BY10: 0 | BZ10: 0 | CA10: 0 | CB10: 0 | CC10: 0 | CD10: 0 | CE10: 0 | CF10: 0 | CG10: 0 | CH10: 0 | CI10: 0 | CJ10: 0 | CK10: 0 | CL10: 0 | CM10: 0 | CN10: 0 | CO10: 0 | CP10: 0
A11: SLC_MEX | B11: I | C11: 6.24 | D11: 0.0466375 | E11: 3 | F11: BGV005895 | G11: 0 | H11: 0 | I11: 0 | J11: 0 | K11: 0 | L11: 0 | M11: 0 | N11: 0 | O11: 0 | P11: 0 | Q11: 0 | R11: 0 | S11: 0 | T11: 0 | U11: 0 | V11: 0 | W11: 0 | X11: 0 | Y11: 0 | Z11: 0 | AA11: 0 | AB11: 0 | AC11: 0 | AD11: 0 | AE11: 0 | AF11: 0 | AG11: 0 | AH11: 0 | AI11: 2 | AJ11: 0 | AK11: 0 | AL11: 0 | AM11: 0 | AN11: 0 | AO11: 0 | AP11: 0 | AQ11: 0 | AR11: 0 | AS11: 0 | AT11: 0 | AU11: 0 | AV11: 0 | AW11: 0 | AX11: 0 | AY11: 0 | AZ11: 0 | BA11: 0 | BB11: 0 | BC11: 0 | BD11: 0 | BE11: 0 | BF11: 0 | BG11: 0 | BH11: 0 | BI11: 0 | BJ11: 0 | BK11: 0 | BL11: 0 | BM11: NA | BN11: NA | BO11: 0 | BP11: 0 | BQ11: 0 | BR11: 0 | BS11: NA | BT11: NA | BU11: 0 | BV11: 0 | BW11: 0 | BX11: 0 | BY11: 0 | BZ11: 0 | CA11: 0 | CB11: 0 | CC11: 0 | CD11: 0 | CE11: 0 | CF11: NA | CG11: NA | CH11: 0 | CI11: 0 | CJ11: 0 | CK11: 0 | CL11: 0 | CM11: 0 | CN11: 0 | CO11: 0 | CP11: NA
A12: SLC_ECU | B12: I | C12: 12.24 | D12: 0.056820833 | E12: 3 | F12: BGV005912 | G12: 0 | H12: 0 | I12: 0 | J12: 0 | K12: 0 | L12: 0 | M12: 0 | N12: 0 | O12: 0 | P12: 0 | Q12: 0 | R12: 0 | S12: 0 | T12: 0 | U12: 0 | V12: 0 | W12: 0 | X12: 0 | Y12: 0 | Z12: 0 | AA12: 0 | AB12: 0 | AC12: 0 | AD12: 0 | AE12: 0 | AF12: 0 | AG12: 0 | AH12: 0 | AI12: 2 | AJ12: 0 | AK12: 0 | AL12: 0 | AM12: 0 | AN12: 0 | AO12: 0 | AP12: 0 | AQ12: 0 | AR12: NA | AS12: 0 | AT12: 0 | AU12: 0 | AV12: 0 | AW12: 0 | AX12: 0 | AY12: 0 | AZ12: 0 | BA12: 0 | BB12: 0 | BC12: 0 | BD12: 0 | BE12: 0 | BF12: 0 | BG12: 0 | BH12: 0 | BI12: 0 | BJ12: 0 | BK12: 0 | BL12: 0 | BM12: 0 | BN12: 0 | BO12: 0 | BP12: 0 | BQ12: 0 | BR12: 0 | BS12: 0 | BT12: 0 | BU12: 0 | BV12: 0 | BW12: 0 | BX12: 0 | BY12: 0 | BZ12: 0 | CA12: 0 | CB12: 0 | CC12: 0 | CD12: 0 | CE12: 0 | CF12: 0 | CG12: 0 | CH12: 0 | CI12: 0 | CJ12: 0 | CK12: 0 | CL12: 0 | CM12: 0 | CN12: 0 | CO12: 0 | CP12: 0
A13: SLC_ADM | B13: I | C13: 6.57 | D13: 0.039204167 | E13: 3 | F13: BGV006148 | G13: 0 | H13: 0 | I13: 0 | J13: 0 | K13: 0 | L13: 0 | M13: 0 | N13: 0 | O13: 0 | P13: 0 | Q13: 0 | R13: 0 | S13: 0 | T13: 0 | U13: 0 | V13: 0 | W13: 0 | X13: 0 | Y13: 0 | Z13: 0 | AA13: 0 | AB13: 0 | AC13: 0 | AD13: 0 | AE13: 0 | AF13: 0 | AG13: 0 | AH13: 0 | AI13: 2 | AJ13: 0 | AK13: 0 | AL13: 0 | AM13: 0 | AN13: 0 | AO13: 0 | AP13: 0 | AQ13: 0 | AR13: 0 | AS13: 0 | AT13: 0 | AU13: 0 | AV13: 0 | AW13: 0 | AX13: 0 | AY13: 0 | AZ13: 0 | BA13: 0 | BB13: 0 | BC13: 0 | BD13: 0 | BE13: 0 | BF13: 0 | BG13: 0 | BH13: 0 | BI13: 0 | BJ13: 0 | BK13: 0 | BL13: 0 | BM13: 0 | BN13: 0 | BO13: 0 | BP13: 0 | BQ13: 0 | BR13: 0 | BS13: 0 | BT13: 0 | BU13: 0 | BV13: 0 | BW13: 0 | BX13: 0 | BY13: 0 | BZ13: 0 | CA13: 0 | CB13: 0 | CC13: 0 | CD13: 0 | CE13: 0 | CF13: 0 | CG13: 0 | CH13: 0 | CI13: 0 | CJ13: 0 | CK13: 0 | CL13: 0 | CM13: 0 | CN13: 0 | CO13: 0 | CP13: 0
A14: SLC_ECU | B14: I | C14: 15.86 | E14: 3 | F14: BGV006175 | G14: 0 | H14: 0 | I14: 0 | J14: 0 | K14: 0 | L14: 0 | M14: 0 | N14: 0 | O14: 0 | P14: 0 | Q14: 0 | R14: 0 | S14: 0 | T14: 0 | U14: 0 | V14: 0 | W14: 0 | X14: 0 | Y14: 0 | Z14: 0 | AA14: 0 | AB14: 0 | AC14: 0 | AD14: 0 | AE14: 0 | AF14: 0 | AG14: 0 | AH14: 0 | AI14: 2 | AJ14: 0 | AK14: 0 | AL14: 0 | AM14: 0 | AN14: 0 | AO14: 0 | AP14: 0 | AQ14: 0 | AR14: 0 | AS14: 0 | AT14: 0 | AU14: 0 | AV14: 0 | AW14: 0 | AX14: 0 | AY14: 0 | AZ14: 0 | BA14: 0 | BB14: 0 | BC14: 0 | BD14: 0 | BE14: 0 | BF14: 0 | BG14: 0 | BH14: 0 | BI14: 0 | BJ14: 0 | BK14: 0 | BL14: 0 | BM14: 0 | BN14: 0 | BO14: 0 | BP14: 0 | BQ14: 0 | BR14: 0 | BS14: 0 | BT14: 0 | BU14: 0 | BV14: 0 | BW14: 0 | BX14: 0 | BY14: 0 | BZ14: 0 | CA14: 0 | CB14: 0 | CC14: 0 | CD14: 0 | CE14: 0 | CF14: 0 | CG14: 0 | CH14: 0 | CI14: 0 | CJ14: 0 | CK14: 0 | CL14: NA | CM14: NA | CN14: NA | CO14: NA | CP14: 0
A15: SP_SECU | B15: VI | C15: 1.23 | D15: 0.022633333 | E15: 3 | F15: BGV006208 | G15: 0 | H15: 1 | I15: 1 | J15: 0 | K15: 0 | L15: 2 | M15: 0 | N15: 0 | O15: 0 | P15: 0 | Q15: 2 | R15: 2 | S15: 2 | T15: 2 | U15: 1 | V15: 0 | W15: 0 | X15: 0 | Y15: 1 | Z15: 0 | AA15: 0 | AB15: 0 | AC15: 1 | AD15: 1 | AE15: 1 | AF15: 1 | AG15: 0 | AH15: 0 | AI15: 2 | AJ15: 0 | AK15: 0 | AL15: 0 | AM15: 0 | AN15: 0 | AO15: 2 | AP15: 2 | AQ15: 0 | AR15: 2 | AS15: 2 | AT15: 2 | AU15: 2 | AV15: 2 | AW15: 1 | AX15: 0 | AY15: 2 | AZ15: 2 | BA15: 0 | BB15: 2 | BC15: 0 | BD15: 0 | BE15: 2 | BF15: 2 | BG15: 2 | BH15: 0 | BI15: 0 | BJ15: 2 | BK15: 2 | BL15: 0 | BM15: 2 | BN15: 0 | BO15: 0 | BP15: 0 | BQ15: 2 | BR15: 2 | BS15: 0 | BT15: 2 | BU15: 0 | BV15: 2 | BW15: 0 | BX15: 0 | BY15: 2 | BZ15: 0 | CA15: 0 | CB15: 0 | CC15: 0 | CD15: 2 | CE15: 0 | CF15: 0 | CG15: 2 | CH15: 0 | CI15: 2 | CJ15: 2 | CK15: 0 | CL15: 0 | CM15: 0 | CN15: 0 | CO15: 0 | CP15: 0
A16: SLC_ECU | B16: II | C16: 8.11 | D16: 0.046016667 | E16: 3 | F16: BGV006225 | G16: 0 | H16: 0 | I16: 0 | J16: 0 | K16: 0 | L16: 0 | M16: 0 | N16: 0 | O16: 0 | P16: 0 | Q16: 0 | R16: 0 | S16: 0 | T16: 0 | U16: 0 | V16: 0 | W16: 0 | X16: 0 | Y16: 0 | Z16: 0 | AA16: 0 | AB16: 0 | AC16: 0 | AD16: 0 | AE16: 0 | AF16: 0 | AG16: 0 | AH16: 0 | AI16: 0 | AJ16: 0 | AK16: 0 | AL16: 0 | AM16: 0 | AN16: 0 | AO16: 0 | AP16: 0 | AQ16: 0 | AR16: 0 | AS16: 0 | AT16: 0 | AU16: 0 | AV16: 0 | AW16: 0 | AX16: 0 | AY16: 0 | AZ16: 0 | BA16: 0 | BB16: 0 | BC16: 0 | BD16: 0 | BE16: 0 | BF16: 0 | BG16: 0 | BH16: 0 | BI16: 0 | BJ16: 0 | BK16: 0 | BL16: 0 | BM16: 0 | BN16: 0 | BO16: 0 | BP16: 0 | BQ16: 0 | BR16: 0 | BS16: 0 | BT16: 0 | BU16: 0 | BV16: 0 | BW16: 0 | BX16: 0 | BY16: 0 | BZ16: 0 | CA16: 0 | CB16: 0 | CC16: 0 | CD16: 0 | CE16: 0 | CF16: 0 | CG16: 0 | CH16: 0 | CI16: 0 | CJ16: 0 | CK16: 0 | CL16: 0 | CM16: 0 | CN16: 0 | CO16: 0 | CP16: 0
A17: SLC_ECU | B17: I | C17: 8.67 | D17: 0.053 | E17: 3 | F17: BGV006229 | G17: 0 | H17: 0 | I17: 0 | J17: 0 | K17: 0 | L17: 0 | M17: 0 | N17: 0 | O17: 0 | P17: 0 | Q17: 0 | R17: 0 | S17: 0 | T17: 0 | U17: 0 | V17: 0 | W17: 0 | X17: 0 | Y17: 0 | Z17: 0 | AA17: 0 | AB17: 0 | AC17: 0 | AD17: 0 | AE17: 0 | AF17: 0 | AG17: 0 | AH17: 0 | AI17: 2 | AJ17: 0 | AK17: 0 | AL17: 0 | AM17: 0 | AN17: 0 | AO17: 0 | AP17: 0 | AQ17: 0 | AR17: 0 | AS17: 0 | AT17: 0 | AU17: 0 | AV17: 0 | AW17: 0 | AX17: 0 | AY17: 0 | AZ17: 0 | BA17: 0 | BB17: 0 | BC17: 0 | BD17: 0 | BE17: 0 | BF17: 0 | BG17: 0 | BH17: 0 | BI17: 0 | BJ17: 0 | BK17: 0 | BL17: 0 | BM17: 0 | BN17: 0 | BO17: 0 | BP17: 0 | BQ17: 0 | BR17: 0 | BS17: 0 | BT17: 0 | BU17: 0 | BV17: 0 | BW17: 0 | BX17: 0 | BY17: 0 | BZ17: 0 | CA17: 0 | CB17: 0 | CC17: 0 | CD17: 0 | CE17: 0 | CF17: 0 | CG17: 0 | CH17: 0 | CI17: 0 | CJ17: 0 | CK17: 0 | CL17: 0 | CM17: 0 | CN17: 0 | CO17: 0 | CP17: 0
A18: SLC_ECU | B18: I | C18: 3.88 | D18: 0.031475 | E18: 3 | F18: BGV006230 | G18: 0 | H18: 0 | I18: 0 | J18: 0 | K18: 0 | L18: 0 | M18: 0 | N18: 0 | O18: 0 | P18: 0 | Q18: 0 | R18: 0 | S18: 0 | T18: 0 | U18: 0 | V18: 0 | W18: 0 | X18: 0 | Y18: 0 | Z18: 0 | AA18: 0 | AB18: 0 | AC18: 0 | AD18: 0 | AE18: 0 | AF18: 0 | AG18: 0 | AH18: 0 | AI18: 2 | AJ18: 0 | AK18: 0 | AL18: 0 | AM18: 0 | AN18: 0 | AO18: 0 | AP18: 0 | AQ18: 0 | AR18: 0 | AS18: 0 | AT18: 0 | AU18: 0 | AV18: 0 | AW18: 0 | AX18: 0 | AY18: 0 | AZ18: 0 | BA18: 0 | BB18: 0 | BC18: 0 | BD18: 0 | BE18: 0 | BF18: 0 | BG18: 0 | BH18: 0 | BI18: 0 | BJ18: 0 | BK18: 0 | BL18: 0 | BM18: 0 | BN18: 0 | BO18: 0 | BP18: 0 | BQ18: 0 | BR18: 0 | BS18: 0 | BT18: 0 | BU18: 0 | BV18: 0 | BW18: 0 | BX18: 0 | BY18: 0 | BZ18: 0 | CA18: 0 | CB18: 0 | CC18: 0 | CD18: 0 | CE18: 0 | CF18: 0 | CG18: 0 | CH18: 0 | CI18: 0 | CJ18: 0 | CK18: 0 | CL18: 0 | CM18: 0 | CN18: 0 | CO18: 0 | CP18: 0
A19: SLC_ECU | B19: II | C19: 8.22 | D19: 0.051563333 | E19: 3 | F19: BGV006231 | G19: 0 | H19: 0 | I19: 0 | J19: 0 | K19: 0 | L19: 0 | M19: 0 | N19: 0 | O19: 0 | P19: 0 | Q19: 0 | R19: 0 | S19: 0 | T19: 0 | U19: 0 | V19: 0 | W19: 0 | X19: 0 | Y19: 0 | Z19: 0 | AA19: 0 | AB19: 0 | AC19: 0 | AD19: 0 | AE19: 0 | AF19: 0 | AG19: 0 | AH19: 0 | AI19: 0 | AJ19: 0 | AK19: 0 | AL19: 0 | AM19: 0 | AN19: 0 | AO19: 0 | AP19: 0 | AQ19: 0 | AR19: 0 | AS19: 0 | AT19: 0 | AU19: 0 | AV19: 0 | AW19: 0 | AX19: 0 | AY19: 0 | AZ19: 0 | BA19: 0 | BB19: 0 | BC19: 0 | BD19: 0 | BE19: 0 | BF19: 0 | BG19: 0 | BH19: 0 | BI19: 0 | BJ19: 0 | BK19: 0 | BL19: 0 | BM19: 0 | BN19: 0 | BO19: 0 | BP19: 0 | BQ19: 0 | BR19: 0 | BS19: 0 | BT19: 0 | BU19: 0 | BV19: 0 | BW19: 0 | BX19: 0 | BY19: 0 | BZ19: 0 | CA19: 0 | CB19: 0 | CC19: 0 | CD19: 0 | CE19: 0 | CF19: 0 | CG19: 0 | CH19: 0 | CI19: 0 | CJ19: 0 | CK19: 0 | CL19: 0 | CM19: 0 | CN19: 0 | CO19: 0 | CP19: 0
A20: SLC_ECU | B20: II | C20: 8.51 | D20: 0.065013333 | E20: 3 | F20: BGV006232 | G20: 0 | H20: 0 | I20: 0 | J20: 0 | K20: 0 | L20: 0 | M20: 0 | N20: 0 | O20: 0 | P20: 0 | Q20: 0 | R20: 0 | S20: 0 | T20: 0 | U20: 0 | V20: 0 | W20: 0 | X20: 0 | Y20: 0 | Z20: 0 | AA20: 0 | AB20: 0 | AC20: 0 | AD20: 0 | AE20: 0 | AF20: 0 | AG20: 0 | AH20: 0 | AI20: 0 | AJ20: 0 | AK20: 0 | AL20: 0 | AM20: 0 | AN20: 0 | AO20: 0 | AP20: 0 | AQ20: 0 | AR20: 0 | AS20: 0 | AT20: 0 | AU20: 0 | AV20: 0 | AW20: 0 | AX20: 0 | AY20: 0 | AZ20: 0 | BA20: 0 | BB20: 0 | BC20: 0 | BD20: 0 | BE20: 0 | BF20: 0 | BG20: 0 | BH20: 0 | BI20: 0 | BJ20: 0 | BK20: 0 | BL20: 0 | BM20: 0 | BN20: 0 | BO20: 0 | BP20: 0 | BQ20: 0 | BR20: 0 | BS20: 0 | BT20: 0 | BU20: 0 | BV20: 0 | BW20: 0 | BX20: 0 | BY20: 0 | BZ20: 0 | CA20: 0 | CB20: 0 | CC20: 0 | CD20: 0 | CE20: 0 | CF20: 0 | CG20: 0 | CH20: 0 | CI20: 0 | CJ20: 0 | CK20: 0 | CL20: 0 | CM20: 0 | CN20: 0 | CO20: 0 | CP20: 0
A21: SLC_ECU | B21: I | C21: 10.12 | D21: 0.06525 | E21: 3 | F21: BGV006234 | G21: 0 | H21: 0 | I21: 0 | J21: 0 | K21: 0 | L21: 0 | M21: 0 | N21: 0 | O21: 0 | P21: 0 | Q21: 0 | R21: 0 | S21: 0 | T21: 0 | U21: 0 | V21: 0 | W21: 0 | X21: 0 | Y21: 0 | Z21: 0 | AA21: 0 | AB21: 0 | AC21: 0 | AD21: 0 | AE21: 0 | AF21: 0 | AG21: 0 | AH21: 0 | AI21: 2 | AJ21: 0 | AK21: 0 | AL21: 0 | AM21: 0 | AN21: 0 | AO21: 0 | AP21: 0 | AQ21: 0 | AR21: 0 | AS21: 0 | AT21: 0 | AU21: 0 | AV21: 0 | AW21: 0 | AX21: 0 | AY21: 0 | AZ21: 0 | BA21: 0 | BB21: 0 | BC21: 0 | BD21: 0 | BE21: 0 | BF21: 0 | BG21: 0 | BH21: 0 | BI21: 0 | BJ21: 0 | BK21: 0 | BL21: 0 | BM21: 0 | BN21: 0 | BO21: 0 | BP21: 0 | BQ21: 0 | BR21: 0 | BS21: 0 | BT21: 0 | BU21: 0 | BV21: 0 | BW21: 0 | BX21: 0 | BY21: 0 | BZ21: 0 | CA21: 0 | CB21: 0 | CC21: 0 | CD21: 0 | CE21: 0 | CF21: 0 | CG21: 0 | CH21: 0 | CI21: 0 | CJ21: 0 | CK21: 0 | CL21: 0 | CM21: 0 | CN21: 0 | CO21: 0 | CP21: 0
A22: SLC_ECU | B22: II | C22: 10.85 | D22: 0.06845 | E22: 3 | F22: BGV006235 | G22: 0 | H22: 0 | I22: 0 | J22: 0 | K22: 0 | L22: 0 | M22: 0 | N22: 0 | O22: 0 | P22: 0 | Q22: 0 | R22: 0 | S22: 0 | T22: 0 | U22: 0 | V22: 0 | W22: 0 | X22: 0 | Y22: 0 | Z22: 0 | AA22: 0 | AB22: 0 | AC22: 0 | AD22: 0 | AE22: 0 | AF22: 0 | AG22: 0 | AH22: 0 | AI22: 0 | AJ22: 0 | AK22: 0 | AL22: 0 | AM22: 0 | AN22: 0 | AO22: 0 | AP22: 0 | AQ22: 0 | AR22: 0 | AS22: 0 | AT22: 0 | AU22: 0 | AV22: 0 | AW22: 0 | AX22: 0 | AY22: 0 | AZ22: 0 | BA22: 0 | BB22: 0 | BC22: 0 | BD22: 0 | BE22: 0 | BF22: 0 | BG22: 0 | BH22: 0 | BI22: 0 | BJ22: 0 | BK22: 0 | BL22: 0 | BM22: 0 | BN22: 0 | BO22: 0 | BP22: 0 | BQ22: 0 | BR22: 0 | BS22: 0 | BT22: 0 | BU22: 0 | BV22: 0 | BW22: 0 | BX22: 0 | BY22: 0 | BZ22: 0 | CA22: 0 | CB22: 0 | CC22: 0 | CD22: 0 | CE22: 0 | CF22: 0 | CG22: 0 | CH22: 0 | CI22: 0 | CJ22: 0 | CK22: 0 | CL22: 0 | CM22: 0 | CN22: 0 | CO22: 0 | CP22: 0
A23: SP_PER | B23: IV | C23: 1.46 | D23: 0.013096875 | E23: 3 | F23: BGV006327 | G23: 0 | H23: 2 | I23: 2 | J23: 0 | K23: 0 | L23: 2 | M23: 0 | N23: 0 | O23: 0 | P23: 0 | Q23: 2 | R23: 0 | S23: 0 | T23: 0 | U23: 2 | V23: 0 | W23: 0 | X23: 0 | Y23: 0 | Z23: 0 | AA23: 0 | AB23: 0 | AC23: 2 | AD23: 1 | AE23: 1 | AF23: 0 | AG23: 0 | AH23: 0 | AI23: 2 | AJ23: 0 | AK23: 0 | AL23: 1 | AM23: 0 | AN23: 0 | AO23: 0 | AP23: 1 | AQ23: 0 | AR23: 2 | AS23: 0 | AT23: 0 | AU23: 0 | AV23: 0 | AW23: 0 | AX23: 0 | AY23: 0 | AZ23: 0 | BA23: 1 | BB23: 0 | BC23: 0 | BD23: 0 | BE23: 0 | BF23: 0 | BG23: 0 | BH23: 0 | BI23: 0 | BJ23: 0 | BK23: 0 | BL23: 0 | BM23: 0 | BN23: 0 | BO23: 0 | BP23: 0 | BQ23: 2 | BR23: 0 | BS23: 0 | BT23: 2 | BU23: NA | BV23: NA | BW23: 0 | BX23: 0 | BY23: 0 | BZ23: 1 | CA23: 0 | CB23: 0 | CC23: 1 | CD23: 0 | CE23: 0 | CF23: 0 | CG23: 0 | CH23: 0 | CI23: 0 | CJ23: 0 | CK23: 0 | CL23: 1 | CM23: 0 | CN23: 0 | CO23: 0 | CP23: 0
A24: SP_PER | B24: IV | C24: 0.91 | D24: 0.014869583 | E24: 3 | F24: BGV006336 | G24: 0 | H24: 2 | I24: 2 | J24: 0 | K24: 0 | L24: 2 | M24: 0 | N24: 0 | O24: 0 | P24: 0 | Q24: 2 | R24: 0 | S24: 2 | T24: 2 | U24: 2 | V24: 0 | W24: 0 | X24: 0 | Y24: 0 | Z24: 0 | AA24: 0 | AB24: 0 | AC24: 2 | AD24: 0 | AE24: 0 | AF24: 0 | AG24: 0 | AH24: 0 | AI24: 2 | AJ24: 0 | AK24: 0 | AL24: NA | AM24: 0 | AN24: 0 | AO24: 0 | AP24: 0 | AQ24: 0 | AR24: 2 | AS24: NA | AT24: NA | AU24: 0 | AV24: 0 | AW24: 0 | AX24: 0 | AY24: 0 | AZ24: 0 | BA24: 2 | BB24: 0 | BC24: 0 | BD24: 0 | BE24: 0 | BF24: 0 | BG24: 0 | BH24: 0 | BI24: 0 | BJ24: 0 | BK24: 0 | BL24: 0 | BM24: 0 | BN24: 0 | BO24: 0 | BP24: 0 | BQ24: 2 | BR24: 0 | BS24: 0 | BT24: NA | BU24: 0 | BV24: 2 | BW24: 0 | BX24: 0 | BY24: 0 | BZ24: 0 | CA24: 0 | CB24: 0 | CC24: 2 | CD24: 0 | CE24: 0 | CF24: 0 | CG24: 0 | CH24: NA | CI24: 0 | CJ24: 0 | CK24: 0 | CL24: NA | CM24: NA | CN24: NA | CO24: NA | CP24: 2
A25: SP_PER | B25: IV | C25: 0.94 | D25: 0.019733333 | E25: 3 | F25: BGV006347 | G25: 0 | H25: 2 | I25: 2 | J25: 0 | K25: 0 | L25: 2 | M25: 0 | N25: 0 | O25: 0 | P25: 0 | Q25: 2 | R25: 0 | S25: 0 | T25: 0 | U25: 2 | V25: 0 | W25: 0 | X25: 0 | Y25: 0 | Z25: 0 | AA25: 0 | AB25: 0 | AC25: 2 | AD25: 0 | AE25: 0 | AF25: 0 | AG25: 0 | AH25: 0 | AI25: 2 | AJ25: 0 | AK25: NA | AL25: 2 | AM25: 0 | AN25: 2 | AO25: 0 | AP25: 0 | AQ25: 0 | AR25: 2 | AS25: 0 | AT25: 0 | AU25: 0 | AV25: 0 | AW25: 0 | AX25: 0 | AY25: 0 | AZ25: 0 | BA25: 0 | BB25: 0 | BC25: 0 | BD25: 0 | BE25: 0 | BF25: 0 | BG25: 2 | BH25: 0 | BI25: 0 | BJ25: 2 | BK25: 0 | BL25: 0 | BM25: 2 | BN25: 0 | BO25: 2 | BP25: 0 | BQ25: 2 | BR25: 0 | BS25: 0 | BT25: 2 | BU25: 2 | BV25: 2 | BW25: 0 | BX25: 0 | BY25: 0 | BZ25: 2 | CA25: 0 | CB25: 0 | CC25: 0 | CD25: 0 | CE25: 0 | CF25: 0 | CG25: 0 | CH25: 0 | CI25: 0 | CJ25: 0 | CK25: 0 | CL25: 2 | CM25: 0 | CN25: 0 | CO25: 0 | CP25: 0
A26: SP_PER | B26: IV | C26: 0.95 | D26: 0.02405 | E26: 3 | F26: BGV006353 | G26: 0 | H26: 2 | I26: 2 | J26: 0 | K26: 0 | L26: 2 | M26: 0 | N26: 0 | O26: 0 | P26: 0 | Q26: 2 | R26: 0 | S26: 0 | T26: 0 | U26: 2 | V26: 0 | W26: 0 | X26: 0 | Y26: 0 | Z26: 0 | AA26: 0 | AB26: 0 | AC26: 2 | AD26: 0 | AE26: 0 | AF26: 0 | AG26: 0 | AH26: 0 | AI26: 2 | AJ26: 0 | AK26: NA | AL26: 2 | AM26: 0 | AN26: 2 | AO26: 0 | AP26: 0 | AQ26: 0 | AR26: 2 | AS26: 0 | AT26: 0 | AU26: 0 | AV26: 0 | AW26: 0 | AX26: 0 | AY26: 0 | AZ26: 0 | BA26: 0 | BB26: 0 | BC26: 0 | BD26: 0 | BE26: 0 | BF26: 0 | BG26: 2 | BH26: 0 | BI26: 0 | BJ26: 2 | BK26: 0 | BL26: 0 | BM26: 2 | BN26: 0 | BO26: 2 | BP26: 0 | BQ26: 2 | BR26: 0 | BS26: 0 | BT26: 2 | BU26: 2 | BV26: 2 | BW26: 0 | BX26: 0 | BY26: 0 | BZ26: 2 | CA26: 0 | CB26: 0 | CC26: 0 | CD26: 0 | CE26: 0 | CF26: 0 | CG26: 0 | CH26: 0 | CI26: 0 | CJ26: 0 | CK26: 0 | CL26: 1 | CM26: 0 | CN26: 0 | CO26: 0 | CP26: 0
A27: SP_PER | B27: IV | C27: 1.59 | D27: 0.014869583 | E27: 3 | F27: BGV006363 | G27: 2 | H27: 2 | I27: 0 | J27: 0 | K27: 2 | L27: 2 | M27: 2 | N27: 0 | O27: 0 | P27: 0 | Q27: 2 | R27: 0 | S27: 0 | T27: 0 | U27: 2 | V27: 0 | W27: 0 | X27: 0 | Y27: 0 | Z27: 0 | AA27: 0 | AB27: 0 | AC27: 2 | AD27: 2 | AE27: 2 | AF27: 2 | AG27: 0 | AH27: 0 | AI27: 2 | AJ27: 2 | AK27: 0 | AL27: 0 | AM27: 0 | AN27: 0 | AO27: 0 | AP27: 2 | AQ27: 0 | AR27: 2 | AS27: 2 | AT27: 0 | AU27: 2 | AV27: 2 | AW27: 0 | AX27: 2 | AY27: 0 | AZ27: 0 | BA27: 0 | BB27: 0 | BC27: 0 | BD27: 0 | BE27: 0 | BF27: 0 | BG27: NA | BH27: 0 | BI27: 0 | BJ27: 2 | BK27: 0 | BL27: 0 | BM27: 2 | BN27: 0 | BO27: 0 | BP27: 0 | BQ27: 2 | BR27: 0 | BS27: 0 | BT27: 2 | BU27: 0 | BV27: 2 | BW27: 0 | BX27: 0 | BY27: 0 | BZ27: 2 | CA27: 0 | CB27: 0 | CC27: 0 | CD27: 0 | CE27: 0 | CF27: 0 | CG27: 0 | CH27: 0 | CI27: 0 | CJ27: 0 | CK27: 0 | CL27: 0 | CM27: 0 | CN27: 0 | CO27: 0 | CP27: 0
A28: SP_PER | B28: IV | C28: 1.36 | D28: 0.032183333 | E28: 3 | F28: BGV006370 | G28: 0 | H28: 2 | I28: 2 | J28: 0 | K28: 0 | L28: 2 | M28: 0 | N28: 0 | O28: 0 | P28: 0 | Q28: 2 | R28: 0 | S28: 0 | T28: 0 | U28: 2 | V28: 0 | W28: 0 | X28: 0 | Y28: 0 | Z28: 0 | AA28: 0 | AB28: 0 | AC28: 2 | AD28: 0 | AE28: 0 | AF28: 0 | AG28: 0 | AH28: 0 | AI28: 2 | AJ28: 0 | AK28: 0 | AL28: 2 | AM28: 0 | AN28: 0 | AO28: 0 | AP28: 0 | AQ28: 0 | AR28: 2 | AS28: 0 | AT28: 0 | AU28: 0 | AV28: 0 | AW28: 0 | AX28: 0 | AY28: 0 | AZ28: 0 | BA28: 2 | BB28: 0 | BC28: 0 | BD28: 0 | BE28: 0 | BF28: 0 | BG28: 2 | BH28: 0 | BI28: 0 | BJ28: 2 | BK28: 0 | BL28: 0 | BM28: 2 | BN28: 0 | BO28: 2 | BP28: 0 | BQ28: 2 | BR28: 0 | BS28: 0 | BT28: 2 | BU28: 2 | BV28: 2 | BW28: 0 | BX28: 0 | BY28: 0 | BZ28: 2 | CA28: 0 | CB28: 0 | CC28: 0 | CD28: 0 | CE28: 0 | CF28: 0 | CG28: 0 | CH28: 0 | CI28: 0 | CJ28: 0 | CK28: 0 | CL28: 2 | CM28: 0 | CN28: 0 | CO28: 0 | CP28: 0
A29: SP_PER | B29: IV | C29: 1.41 | D29: 0.036933333 | E29: 3 | F29: BGV006454 | G29: 0 | H29: 2 | I29: 2 | J29: 0 | K29: 0 | L29: 2 | M29: 2 | N29: 0 | O29: 0 | P29: 0 | Q29: 2 | R29: 0 | S29: 2 | T29: 2 | U29: 2 | V29: 0 | W29: 0 | X29: 0 | Y29: 0 | Z29: 0 | AA29: 0 | AB29: 0 | AC29: 2 | AD29: 0 | AE29: 0 | AF29: 0 | AG29: 0 | AH29: 0 | AI29: 2 | AJ29: 0 | AK29: 0 | AL29: 0 | AM29: 0 | AN29: 0 | AO29: NA | AP29: 0 | AQ29: 0 | AR29: 2 | AS29: NA | AT29: NA | AU29: 0 | AV29: 0 | AW29: 0 | AX29: 0 | AY29: 0 | AZ29: 0 | BA29: 0 | BB29: 0 | BC29: 0 | BD29: 0 | BE29: 0 | BF29: 0 | BG29: 2 | BH29: 0 | BI29: 0 | BJ29: 2 | BK29: 0 | BL29: 0 | BM29: 2 | BN29: 0 | BO29: 2 | BP29: 0 | BQ29: 2 | BR29: 0 | BS29: 0 | BT29: 2 | BU29: 2 | BV29: 2 | BW29: 0 | BX29: 0 | BY29: NA | BZ29: 2 | CA29: 0 | CB29: 0 | CC29: 0 | CD29: 0 | CE29: 0 | CF29: 0 | CG29: 0 | CH29: 0 | CI29: 0 | CJ29: 0 | CK29: 0 | CL29: 2 | CM29: 0 | CN29: 0 | CO29: 0 | CP29: 0
A30: SP_PER | B30: IV | C30: 1.38 | D30: 0.025 | E30: 3 | F30: BGV006457 | G30: 0 | H30: 2 | I30: 2 | J30: 0 | K30: 0 | L30: 2 | M30: 0 | N30: 0 | O30: 0 | P30: 0 | Q30: 2 | R30: 0 | S30: 0 | T30: 0 | U30: 2 | V30: 0 | W30: 0 | X30: 0 | Y30: 0 | Z30: 0 | AA30: 0 | AB30: 0 | AC30: 2 | AD30: 0 | AE30: 0 | AF30: 0 | AG30: 0 | AH30: 0 | AI30: 2 | AJ30: 0 | AK30: 0 | AL30: 2 | AM30: 0 | AN30: 0 | AO30: 0 | AP30: 0 | AQ30: 0 | AR30: 2 | AS30: 0 | AT30: 0 | AU30: 0 | AV30: 0 | AW30: 0 | AX30: 0 | AY30: 0 | AZ30: 0 | BA30: 2 | BB30: 0 | BC30: 0 | BD30: 0 | BE30: 0 | BF30: 0 | BG30: 2 | BH30: 0 | BI30: 0 | BJ30: 2 | BK30: 0 | BL30: 0 | BM30: 2 | BN30: 0 | BO30: 2 | BP30: 0 | BQ30: 2 | BR30: 0 | BS30: 0 | BT30: 2 | BU30: 2 | BV30: 2 | BW30: 0 | BX30: 0 | BY30: 0 | BZ30: 2 | CA30: 0 | CB30: 0 | CC30: 0 | CD30: 0 | CE30: 0 | CF30: 0 | CG30: 0 | CH30: 0 | CI30: 0 | CJ30: 0 | CK30: 0 | CL30: 2 | CM30: 0 | CN30: 2 | CO30: 0 | CP30: 0
A31: SP_PER | B31: IV | C31: 1.06 | E31: 3 | F31: BGV006478 | G31: 2 | H31: 2 | I31: 0 | J31: 0 | K31: 2 | L31: 2 | M31: 2 | N31: 0 | O31: 0 | P31: 0 | Q31: 2 | R31: 0 | S31: 0 | T31: 0 | U31: 2 | V31: 0 | W31: 0 | X31: 0 | Y31: 0 | Z31: 0 | AA31: 0 | AB31: 0 | AC31: 2 | AD31: 0 | AE31: 0 | AF31: 0 | AG31: 0 | AH31: 0 | AI31: 2 | AJ31: 0 | AK31: 0 | AL31: 0 | AM31: 0 | AN31: 0 | AO31: 0 | AP31: 2 | AQ31: 0 | AR31: 2 | AS31: 2 | AT31: 0 | AU31: 2 | AV31: 2 | AW31: 0 | AX31: 2 | AY31: 0 | AZ31: 0 | BA31: 0 | BB31: 0 | BC31: 0 | BD31: 0 | BE31: 0 | BF31: 0 | BG31: 0 | BH31: 0 | BI31: 0 | BJ31: 0 | BK31: 0 | BL31: 0 | BM31: 0 | BN31: 2 | BO31: 0 | BP31: 0 | BQ31: 2 | BR31: 0 | BS31: 0 | BT31: 2 | BU31: 0 | BV31: 2 | BW31: 0 | BX31: 0 | BY31: 0 | BZ31: 0 | CA31: 0 | CB31: 0 | CC31: 0 | CD31: 0 | CE31: 0 | CF31: 0 | CG31: 0 | CH31: 0 | CI31: 0 | CJ31: 0 | CK31: 0 | CL31: 0 | CM31: 0 | CN31: 0 | CO31: 0 | CP31: 0
A32: SLC_ECU | B32: I | C32: 7.86 | D32: 0.0663 | E32: 3 | F32: BGV006753 | G32: 0 | H32: 0 | I32: 0 | J32: 0 | K32: 0 | L32: 0 | M32: 0 | N32: 0 | O32: 0 | P32: 0 | Q32: 0 | R32: 0 | S32: 0 | T32: 0 | U32: 0 | V32: 0 | W32: 0 | X32: 0 | Y32: 0 | Z32: 0 | AA32: 0 | AB32: 0 | AC32: 0 | AD32: 0 | AE32: 0 | AF32: 0 | AG32: 0 | AH32: 0 | AI32: 2 | AJ32: 0 | AK32: 0 | AL32: 0 | AM32: 0 | AN32: 0 | AO32: 0 | AP32: 0 | AQ32: 0 | AR32: 0 | AS32: 0 | AT32: 0 | AU32: 0 | AV32: 0 | AW32: 0 | AX32: 0 | AY32: 0 | AZ32: 0 | BA32: 0 | BB32: 0 | BC32: 0 | BD32: 0 | BE32: 0 | BF32: 0 | BG32: 0 | BH32: 0 | BI32: 0 | BJ32: 0 | BK32: 0 | BL32: 0 | BM32: 0 | BN32: 0 | BO32: 0 | BP32: 0 | BQ32: 0 | BR32: 0 | BS32: 0 | BT32: 0 | BU32: 0 | BV32: 0 | BW32: 0 | BX32: 0 | BY32: 0 | BZ32: 0 | CA32: 0 | CB32: 0 | CC32: 0 | CD32: 0 | CE32: 0 | CF32: 0 | CG32: 0 | CH32: 0 | CI32: 0 | CJ32: 0 | CK32: 0 | CL32: 0 | CM32: 0 | CN32: 0 | CO32: 0 | CP32: 0
A33: SLC_ADM | B33: I | C33: 5.52 | D33: 0.032016667 | E33: 3 | F33: BGV006767 | G33: 0 | H33: 0 | I33: 0 | J33: 0 | K33: 0 | L33: 0 | M33: 0 | N33: 0 | O33: 0 | P33: 0 | Q33: 0 | R33: 0 | S33: 0 | T33: 0 | U33: 0 | V33: 0 | W33: 0 | X33: 0 | Y33: 0 | Z33: 0 | AA33: 0 | AB33: 0 | AC33: 0 | AD33: 0 | AE33: 0 | AF33: 0 | AG33: 0 | AH33: 0 | AI33: 2 | AJ33: 0 | AK33: 0 | AL33: 0 | AM33: 0 | AN33: 0 | AO33: 0 | AP33: 0 | AQ33: 0 | AR33: 0 | AS33: 0 | AT33: 0 | AU33: 0 | AV33: 0 | AW33: 0 | AX33: 0 | AY33: 0 | AZ33: 0 | BA33: 0 | BB33: 0 | BC33: 0 | BD33: 0 | BE33: 0 | BF33: 0 | BG33: 0 | BH33: 0 | BI33: 0 | BJ33: 0 | BK33: 0 | BL33: 0 | BM33: 0 | BN33: 0 | BO33: 0 | BP33: 0 | BQ33: 0 | BR33: 0 | BS33: 0 | BT33: 0 | BU33: 0 | BV33: 0 | BW33: 0 | BX33: 0 | BY33: 0 | BZ33: 0 | CA33: 0 | CB33: 0 | CC33: 0 | CD33: 0 | CE33: 0 | CF33: 0 | CG33: 0 | CH33: 0 | CI33: 0 | CJ33: 0 | CK33: 0 | CL33: 0 | CM33: 0 | CN33: 0 | CO33: 0 | CP33: 0
A34: SLC_ECU | B34: I | C34: 14.84 | D34: 0.079266667 | E34: 3 | F34: BGV006768 | G34: 0 | H34: 0 | I34: 0 | J34: 0 | K34: 0 | L34: 0 | M34: 0 | N34: 0 | O34: 0 | P34: 0 | Q34: 0 | R34: 0 | S34: 0 | T34: 0 | U34: 0 | V34: 0 | W34: 0 | X34: 0 | Y34: 0 | Z34: 0 | AA34: 0 | AB34: 0 | AC34: 0 | AD34: 0 | AE34: 0 | AF34: 0 | AG34: 0 | AH34: 0 | AI34: 2 | AJ34: 0 | AK34: 0 | AL34: 0 | AM34: 0 | AN34: 0 | AO34: 0 | AP34: 0 | AQ34: 0 | AR34: 0 | AS34: 0 | AT34: 0 | AU34: 0 | AV34: 0 | AW34: 0 | AX34: 0 | AY34: 0 | AZ34: 0 | BA34: 0 | BB34: 0 | BC34: 0 | BD34: 0 | BE34: 0 | BF34: 0 | BG34: 0 | BH34: 0 | BI34: 0 | BJ34: 0 | BK34: 0 | BL34: 0 | BM34: 0 | BN34: 0 | BO34: 0 | BP34: 0 | BQ34: 0 | BR34: 0 | BS34: 0 | BT34: 0 | BU34: 0 | BV34: 0 | BW34: 0 | BX34: 0 | BY34: 0 | BZ34: 0 | CA34: 0 | CB34: 0 | CC34: 0 | CD34: 0 | CE34: 0 | CF34: 0 | CG34: 0 | CH34: 0 | CI34: 0 | CJ34: 0 | CK34: 0 | CL34: 0 | CM34: 0 | CN34: 0 | CO34: 0 | CP34: 0
A35: SP_NECU | B35: V | C35: 1.99 | D35: 0.037416667 | E35: 3 | F35: BGV006775 | G35: 0 | H35: 2 | I35: 0 | J35: 0 | K35: 0 | L35: 2 | M35: 0 | N35: 2 | O35: 0 | P35: 0 | Q35: 2 | R35: 0 | S35: 0 | T35: 0 | U35: 2 | V35: 0 | W35: 2 | X35: 0 | Y35: 0 | Z35: 2 | AA35: 0 | AB35: 0 | AC35: 2 | AD35: 0 | AE35: 2 | AF35: 0 | AG35: 2 | AH35: 2 | AI35: 2 | AJ35: 0 | AK35: 2 | AL35: 0 | AM35: 0 | AN35: 0 | AO35: NA | AP35: NA | AQ35: NA | AR35: 2 | AS35: 2 | AT35: 2 | AU35: 2 | AV35: 2 | AW35: 2 | AX35: 0 | AY35: 2 | AZ35: 2 | BA35: 0 | BB35: 0 | BC35: 0 | BD35: 0 | BE35: 2 | BF35: 2 | BG35: 2 | BH35: 0 | BI35: 0 | BJ35: 2 | BK35: 2 | BL35: 0 | BM35: 2 | BN35: 0 | BO35: 0 | BP35: 2 | BQ35: 2 | BR35: 2 | BS35: 0 | BT35: 2 | BU35: 0 | BV35: NA | BW35: 0 | BX35: 0 | BY35: 0 | BZ35: 0 | CA35: 0 | CB35: 0 | CC35: 0 | CD35: 2 | CE35: 0 | CF35: 0 | CG35: 2 | CH35: 0 | CI35: 2 | CJ35: 2 | CK35: 0 | CL35: 0 | CM35: 0 | CN35: 0 | CO35: NA | CP35: 0
A36: SLC_ECU | B36: I | C36: 9.38 | D36: 0.0903875 | E36: 3 | F36: BGV006777 | G36: 0 | H36: 0 | I36: 0 | J36: 0 | K36: 0 | L36: 0 | M36: 0 | N36: 0 | O36: 0 | P36: 0 | Q36: 0 | R36: 0 | S36: 0 | T36: 0 | U36: 0 | V36: 0 | W36: 0 | X36: 0 | Y36: 0 | Z36: 0 | AA36: 0 | AB36: 0 | AC36: 0 | AD36: 0 | AE36: 0 | AF36: 0 | AG36: 0 | AH36: 0 | AI36: 2 | AJ36: 0 | AK36: 0 | AL36: 0 | AM36: 0 | AN36: 0 | AO36: 0 | AP36: 0 | AQ36: 0 | AR36: 0 | AS36: 0 | AT36: 0 | AU36: 0 | AV36: 0 | AW36: 0 | AX36: 0 | AY36: 0 | AZ36: 0 | BA36: 0 | BB36: 0 | BC36: 0 | BD36: 0 | BE36: 0 | BF36: 0 | BG36: 0 | BH36: 0 | BI36: 0 | BJ36: 0 | BK36: 0 | BL36: 0 | BM36: 0 | BN36: 0 | BO36: 0 | BP36: 0 | BQ36: 0 | BR36: 0 | BS36: 0 | BT36: 0 | BU36: 0 | BV36: 0 | BW36: 0 | BX36: 0 | BY36: 0 | BZ36: 0 | CA36: 0 | CB36: 0 | CC36: 0 | CD36: 0 | CE36: 0 | CF36: 0 | CG36: 0 | CH36: 0 | CI36: 0 | CJ36: 0 | CK36: 0 | CL36: 0 | CM36: 0 | CN36: 0 | CO36: 0 | CP36: 0
A37: SLC_ECU | B37: I | C37: 13.37 | D37: 0.129025 | E37: 3 | F37: BGV006779 | G37: 0 | H37: 0 | I37: 0 | J37: 0 | K37: 0 | L37: 0 | M37: 0 | N37: 0 | O37: 0 | P37: 0 | Q37: 0 | R37: 0 | S37: 0 | T37: 0 | U37: 0 | V37: 0 | W37: 0 | X37: 0 | Y37: 0 | Z37: 0 | AA37: 0 | AB37: 0 | AC37: 0 | AD37: 0 | AE37: 0 | AF37: 0 | AG37: 0 | AH37: 0 | AI37: 2 | AJ37: 0 | AK37: 0 | AL37: 0 | AM37: 0 | AN37: 0 | AO37: 0 | AP37: 0 | AQ37: 0 | AR37: 0 | AS37: 0 | AT37: 0 | AU37: 0 | AV37: 0 | AW37: 0 | AX37: 0 | AY37: 0 | AZ37: 0 | BA37: 0 | BB37: 0 | BC37: 0 | BD37: 0 | BE37: 0 | BF37: 0 | BG37: 0 | BH37: 0 | BI37: 0 | BJ37: 0 | BK37: 0 | BL37: 0 | BM37: 0 | BN37: 0 | BO37: 0 | BP37: 0 | BQ37: 0 | BR37: 0 | BS37: 0 | BT37: 0 | BU37: 0 | BV37: 0 | BW37: 0 | BX37: 0 | BY37: 0 | BZ37: 0 | CA37: 0 | CB37: 0 | CC37: 0 | CD37: 0 | CE37: 0 | CF37: 0 | CG37: 0 | CH37: 0 | CI37: 0 | CJ37: 0 | CK37: 0 | CL37: 0 | CM37: 0 | CN37: 0 | CO37: 0 | CP37: 0
A38: SLC_ECU | B38: I | C38: 15.26 | D38: 0.11546667 | E38: 3 | F38: BGV006792 | G38: 0 | H38: 0 | I38: 0 | J38: 0 | K38: 0 | L38: 0 | M38: 0 | N38: 0 | O38: 0 | P38: 0 | Q38: 0 | R38: 0 | S38: 0 | T38: 0 | U38: 0 | V38: 0 | W38: 0 | X38: 0 | Y38: 0 | Z38: 0 | AA38: 0 | AB38: 0 | AC38: 0 | AD38: 0 | AE38: 0 | AF38: 0 | AG38: 0 | AH38: 0 | AI38: 2 | AJ38: 0 | AK38: 0 | AL38: 0 | AM38: 0 | AN38: 0 | AO38: 0 | AP38: 0 | AQ38: 0 | AR38: 0 | AS38: 0 | AT38: 0 | AU38: 0 | AV38: 0 | AW38: 0 | AX38: 0 | AY38: 0 | AZ38: 0 | BA38: 0 | BB38: 0 | BC38: 0 | BD38: 0 | BE38: 0 | BF38: 0 | BG38: 0 | BH38: 0 | BI38: 0 | BJ38: 0 | BK38: 0 | BL38: 0 | BM38: 0 | BN38: 0 | BO38: 0 | BP38: 0 | BQ38: 0 | BR38: 0 | BS38: 0 | BT38: 0 | BU38: 0 | BV38: 0 | BW38: 0 | BX38: 0 | BY38: 0 | BZ38: 0 | CA38: 0 | CB38: 0 | CC38: 0 | CD38: 0 | CE38: 0 | CF38: 0 | CG38: 0 | CH38: 0 | CI38: 0 | CJ38: 0 | CK38: 0 | CL38: 0 | CM38: 0 | CN38: 0 | CO38: 0 | CP38: 0
A39: SLC_ECU | B39: I | C39: 5.74 | D39: 0.064325 | E39: 3 | F39: BGV006806 | G39: 0 | H39: 0 | I39: 0 | J39: 0 | K39: 0 | L39: 0 | M39: 0 | N39: 0 | O39: 0 | P39: 0 | Q39: 0 | R39: 0 | S39: 0 | T39: 0 | U39: 0 | V39: 0 | W39: 0 | X39: 0 | Y39: 0 | Z39: 0 | AA39: 0 | AB39: 0 | AC39: 0 | AD39: 0 | AE39: 0 | AF39: 0 | AG39: 0 | AH39: 0 | AI39: 2 | AJ39: 0 | AK39: 0 | AL39: 0 | AM39: 0 | AN39: 0 | AO39: 0 | AP39: 0 | AQ39: 0 | AR39: 0 | AS39: 0 | AT39: 0 | AU39: 0 | AV39: 0 | AW39: 0 | AX39: 0 | AY39: 0 | AZ39: 0 | BA39: 0 | BB39: 0 | BC39: 0 | BD39: 0 | BE39: 0 | BF39: 0 | BG39: 0 | BH39: 0 | BI39: 0 | BJ39: 0 | BK39: 0 | BL39: 0 | BM39: 0 | BN39: 0 | BO39: 0 | BP39: 0 | BQ39: 0 | BR39: 0 | BS39: 0 | BT39: 0 | BU39: 0 | BV39: 0 | BW39: 0 | BX39: 0 | BY39: 0 | BZ39: 0 | CA39: 0 | CB39: 0 | CC39: 0 | CD39: 0 | CE39: 0 | CF39: 0 | CG39: 0 | CH39: 0 | CI39: 0 | CJ39: 0 | CK39: 0 | CL39: 0 | CM39: 0 | CN39: 0 | CO39: 0 | CP39: 0
A40: SLC_PER | B40: I | C40: 23.58 | D40: 0.10945 | E40: 2 | F40: BGV006825 | G40: 0 | H40: 0 | I40: 0 | J40: 0 | K40: 0 | L40: 0 | M40: 0 | N40: 0 | O40: 0 | P40: 0 | Q40: 0 | R40: 0 | S40: 0 | T40: 0 | U40: 0 | V40: 0 | W40: 0 | X40: 0 | Y40: 0 | Z40: 0 | AA40: 0 | AB40: 0 | AC40: 0 | AD40: 0 | AE40: 0 | AF40: 0 | AG40: 0 | AH40: 0 | AI40: 2 | AJ40: 0 | AK40: 0 | AL40: 0 | AM40: 0 | AN40: 0 | AO40: 0 | AP40: 0 | AQ40: 0 | AR40: 0 | AS40: 0 | AT40: 0 | AU40: 0 | AV40: 0 | AW40: 0 | AX40: 0 | AY40: 0 | AZ40: 0 | BA40: 0 | BB40: 0 | BC40: 0 | BD40: 0 | BE40: 0 | BF40: 0 | BG40: 0 | BH40: 0 | BI40: 0 | BJ40: 0 | BK40: 0 | BL40: 0 | BM40: 0 | BN40: 0 | BO40: 0 | BP40: 0 | BQ40: 0 | BR40: 0 | BS40: 0 | BT40: 0 | BU40: 0 | BV40: 0 | BW40: 0 | BX40: 0 | BY40: 0 | BZ40: 0 | CA40: 0 | CB40: 0 | CC40: 0 | CD40: 0 | CE40: 0 | CF40: 0 | CG40: 0 | CH40: 0 | CI40: 0 | CJ40: 0 | CK40: 0 | CL40: 0 | CM40: 0 | CN40: 0 | CO40: 0 | CP40: 0
A41: SLC_ECU | B41: I | C41: 15.98 | D41: 0.039908333 | E41: 3 | F41: BGV006828 | G41: 0 | H41: 0 | I41: 0 | J41: 0 | K41: 0 | L41: 0 | M41: 0 | N41: 0 | O41: 0 | P41: 0 | Q41: 0 | R41: 0 | S41: 0 | T41: 0 | U41: 0 | V41: 0 | W41: 0 | X41: 0 | Y41: 0 | Z41: 0 | AA41: 0 | AB41: 0 | AC41: 0 | AD41: 0 | AE41: 0 | AF41: 0 | AG41: 0 | AH41: 0 | AI41: 2 | AJ41: 0 | AK41: 0 | AL41: 0 | AM41: 0 | AN41: 0 | AO41: 0 | AP41: 0 | AQ41: 0 | AR41: 0 | AS41: 0 | AT41: 0 | AU41: 0 | AV41: 0 | AW41: 0 | AX41: 0 | AY41: 0 | AZ41: 0 | BA41: 0 | BB41: 0 | BC41: 0 | BD41: 0 | BE41: 0 | BF41: 0 | BG41: 0 | BH41: 0 | BI41: 0 | BJ41: 0 | BK41: 0 | BL41: 0 | BM41: 0 | BN41: 0 | BO41: 0 | BP41: 0 | BQ41: 0 | BR41: 0 | BS41: 0 | BT41: 0 | BU41: 0 | BV41: 0 | BW41: 0 | BX41: 0 | BY41: 0 | BZ41: 0 | CA41: 0 | CB41: 0 | CC41: 0 | CD41: 0 | CE41: 0 | CF41: 0 | CG41: 0 | CH41: 0 | CI41: 0 | CJ41: 0 | CK41: 0 | CL41: 0 | CM41: 0 | CN41: 0 | CO41: 0 | CP41: 0
...

Sheet Supp Table S10
A1: Supplementary Table S10 Genotyping information at CSR-like1 locus and the CSR-like1 haplotypes in the modern SLL accessions
A2: a Selected variants that are conserved in different CSR-like1 haplotypes
A3: b Allele genotyping annotation 0: reference; 1: heterozygous; 2: alternate | I3: Variantsa
H4: Position | I4: SL4.0ch06:43343741 | J4: SL4.0ch06:43343930 | K4: SL4.0ch06:43346037 | L4: SL4.0ch06:43346115 | M4: SL4.0ch06:43346843 | N4: SL4.0ch06:43346986 | O4: SL4.0ch06:43347249 | P4: SL4.0ch06:43348427
H5: REF | I5: T | J5: T | K5: T | L5: C | M5: T | N5: C | O5: A | P5: T
H6: ALT | I6: C | J6: G | K6: C | L6: T | M6: C | N6: G | O6: G | P6: A
A7: Botanical variety | B7: Name | C7: Categories | D7: TGRC | E7: PI CGN# | F7: EA # | G7: CSR-like1 Haplotype | H7: Annotationb | I7: SNP | J7: SNP | K7: SNP | L7: SNP | M7: SNP | N7: SNP | O7: SNP | P7: SNP
A8: S. lycopersicum | B8: VF-36 | C8: Vintage Processing | D8: LA0490 | G8: II | H8: TS-1 | I8: 0 | J8: 0 | K8: 0 | L8: 0 | M8: 0 | N8: 0 | O8: 0 | P8: 0
A9: S. lycopersicum | B9: Marglobe | C9: Vintage Fresh Market | D9: LA0502 | G9: II | H9: TS-10 | I9: 0 | J9: 0 | K9: NA | L9: 0 | M9: 0 | N9: 0 | O9: 0 | P9: 0
A10: S. lycopersicum | G10: II | H10: TS-103 | I10: 0 | J10: 0 | K10: 0 | L10: 0 | M10: 0 | N10: 0 | O10: 0 | P10: 0
A11: S. lycopersicum | B11: KR2 | C11: Modern Fresh Market | G11: II | H11: TS-11 | I11: 0 | J11: 0 | K11: 0 | L11: 0 | M11: 0 | N11: 0 | O11: 0 | P11: 0
A12: S. lycopersicum | C12: Processing tomato | G12: I | H12: TS-113 | I12: 0 | J12: 0 | K12: 0 | L12: 0 | M12: 2 | N12: 0 | O12: 0 | P12: 0
A13: S. lycopersicum | B13: 149-77 | C13: cultivar | G13: II | H13: TS-140 | I13: 0 | J13: 0 | K13: 0 | L13: 0 | M13: 0 | N13: 0 | O13: 0 | P13: 0
A14: S. lycopersicum | D14: LA3130 | G14: II | H14: TS-147 | I14: NA | J14: 0 | K14: NA | L14: 0 | M14: 0 | N14: 0 | O14: 0 | P14: 0
A15: S. lycopersicum | C15: Processing tomato | G15: II | H15: TS-162 | I15: 0 | J15: 0 | K15: 0 | L15: 0 | M15: 0 | N15: 0 | O15: 0 | P15: 0
A16: S. lycopersicum | B16: Da appendere | C16: Landrace | G16: II | H16: TS-168 | I16: 0 | J16: 0 | K16: 0 | L16: 0 | M16: 0 | N16: 0 | O16: 0 | P16: 0
A17: S. lycopersicum | C17: Processing tomato | E17: PI280060 | F17: PI280060 | G17: II | H17: TS-172 | I17: 0 | J17: 0 | K17: 0 | L17: 0 | M17: 0 | N17: 0 | O17: 0 | P17: 0
A18: S. lycopersicum | C18: Processing tomato | G18: I | H18: TS-174 | I18: 0 | J18: 0 | K18: 0 | L18: 0 | M18: 2 | N18: 0 | O18: 0 | P18: 0
A19: S. lycopersicum | B19: Rowpac | C19: Modern Processing | D19: LA3214 | G19: II | H19: TS-186 | I19: 0 | J19: 0 | K19: 0 | L19: 0 | M19: 0 | N19: 0 | O19: 0 | P19: 0
A20: S. lycopersicum | B20: Santa Chiara | C20: cultivar | G20: II | H20: TS-190 | I20: 0 | J20: 0 | K20: 0 | L20: 0 | M20: 0 | N20: 0 | O20: 0 | P20: 0
A21: S. lycopersicum | D21: LA3238 | G21: I | H21: TS-194 | I21: 0 | J21: 0 | K21: 0 | L21: 0 | M21: 2 | N21: 0 | O21: 0 | P21: 0
A22: S. lycopersicum | B22: Libanese | C22: Landrace | G22: I | H22: TS-197 | I22: 0 | J22: 0 | K22: 2 | L22: 0 | M22: NA | N22: 0 | O22: NA | P22: 0
A23: S. lycopersicum | B23: San Salvador | C23: Landrace/Latin American cultivar | D23: LA1210 | G23: I | H23: TS-201 | I23: 0 | J23: 0 | K23: 2 | L23: 0 | M23: NA | N23: 0 | O23: 0 | P23: 0
A24: S. lycopersicum | B24: NC 84173 | C24: Modern Fresh Market | D24: LA4354 | G24: II | H24: TS-211 | I24: 0 | J24: 0 | K24: 0 | L24: 0 | M24: 0 | N24: 0 | O24: 0 | P24: 0
A25: S. lycopersicum | B25: Flora-Dade | C25: Modern Fresh Market | D25: LA3242 | G25: II | H25: TS-212 | I25: 0 | J25: 0 | K25: 0 | L25: 0 | M25: 0 | N25: 0 | O25: 0 | P25: 0
A26: S. lycopersicum | B26: Santa Clara 5800 | C26: cultivar | G26: I | H26: TS-218 | I26: 0 | J26: 0 | K26: 0 | L26: 0 | M26: 2 | N26: 0 | O26: 0 | P26: 0
A27: S. lycopersicum | C27: Processing tomato | E27: PI330336 | F27: PI330336 | G27: II | H27: TS-225 | I27: 0 | J27: 0 | K27: NA | L27: 0 | M27: 0 | N27: 0 | O27: 0 | P27: 0
A28: S. lycopersicum | C28: Processing tomato | G28: II | H28: TS-245 | I28: 0 | J28: 0 | K28: 0 | L28: 0 | M28: 0 | N28: 0 | O28: 0 | P28: 0
