Workbook
Name _gXY1: #REF!
Name _gXY1: #REF!
Name _gXY1: #REF!
Name aaaaa: #REF!
Name aaaaa: #REF!
Name aaaaa: #REF!
Name temp1: #REF!
Name temp1: #REF!
Name temp2: #REF!
Name temp2: #REF!

Sheet S1_major_minor_elements
A1: Table S1: Electron Microprobe chemical analyzes of silicates and silicate glass (melt). Element concentrations given in wt.% with error according to counting statistics
AD2: Standard deviation according to counting statistics in percent (%)
A3: Experiment/ RunID | B3: Analysis ID | C3: Mineral | D3: Na2O | F3: MgO | H3: Al2O3 | J3: SiO2 | L3: K2O | N3: CaO | P3: FeO | R3: TiO2 | T3: Cr2O3 | V3: MnO | X3: NiO | Z3: Total | AB3: Na | AC3: Mg | AD3: Al | AE3: Si | AF3: K | AG3: Ca | AH3: Fe | AI3: Ti | AJ3: Cr | AK3: Mn | AL3: Ni
A4: 42. Exp CHV-E154 | B4: CH V 154_cpx_1 | C4: Cpx | D4: 0.0515 | E4: =D4/100*AA4 -> 0 | F4: 14.89 | G4: =F4/100*AC4 -> 0.239729 | H4: 5.2 | I4: =H4/100*AD4 -> 0.13312 | J4: 50.46 | K4: =J4/100*AE4 -> 0.393588 | L4: <DL | N4: 23.59 | O4: =N4/100*AG4 -> 0.35385 | P4: 5.07 | Q4: =P4/100*AH4 -> 0.215475 | R4: 1.6312 | S4: =R4/100*AI4 -> 0.2218432 | T4: 0.2062 | U4: =T4/100*AJ4 -> 0.059798 | V4: 0.1093 | W4: =V4/100*AK4 -> 0.05084636 | X4: <DL | Z4: 101.2088 | AB4: 80.18 | AC4: 1.61 | AD4: 2.56 | AE4: 0.78 | AF4: 3994.18 | AG4: 1.5 | AH4: 4.25 | AI4: 13.6 | AJ4: 29 | AK4: 46.52 | AL4: 300
A5: 42. Exp CHV-E154 | B5: CH V 154_cpx_2 | C5: Cpx | D5: 0.039 | E5: =D5/100*AA5 -> 0 | F5: 14.89 | G5: =F5/100*AC5 -> 0.239729 | H5: 5.08 | I5: =H5/100*AD5 -> 0.131572 | J5: 50.71 | K5: =J5/100*AE5 -> 0.390467 | L5: <DL | N5: 23.53 | O5: =N5/100*AG5 -> 0.35295 | P5: 5 | Q5: =P5/100*AH5 -> 0.215 | R5: 1.4309 | S5: =R5/100*AI5 -> 0.21019921 | T5: 0.2221 | U5: =T5/100*AJ5 -> 0.06016689 | V5: 0.0683 | W5: =V5/100*AK5 -> 0.05110206 | X5: <DL | Z5: 100.9702 | AB5: 106.45 | AC5: 1.61 | AD5: 2.59 | AE5: 0.77 | AF5: 300 | AG5: 1.5 | AH5: 4.3 | AI5: 14.69 | AJ5: 27.09 | AK5: 74.82 | AL5: 300
A6: 42. Exp CHV-E154 | B6: CH V 154_cpx_3 | C6: Cpx | D6: <DL | F6: 14.64 | G6: =F6/100*AC6 -> 0.237168 | H6: 5.29 | I6: =H6/100*AD6 -> 0.133308 | J6: 50.66 | K6: =J6/100*AE6 -> 0.390082 | L6: <DL | N6: 23.43 | O6: =N6/100*AG6 -> 0.353793 | P6: 4.88 | Q6: =P6/100*AH6 -> 0.21228 | R6: 1.3743 | S6: =R6/100*AI6 -> 0.20147238 | T6: 0.2531 | U6: =T6/100*AJ6 -> 0.06084524 | V6: 0.1064 | W6: =V6/100*AK6 -> 0.05157208 | X6: <DL | Z6: 100.6513 | AB6: 297.92 | AC6: 1.62 | AD6: 2.52 | AE6: 0.77 | AF6: 819.64 | AG6: 1.51 | AH6: 4.35 | AI6: 14.66 | AJ6: 24.04 | AK6: 48.47 | AL6: 300
A7: 42. Exp CHV-E154 | B7: CH V 154_cpx_4 | C7: Cpx | D7: <DL | F7: 15.44 | G7: =F7/100*AC7 -> 0.243952 | H7: 3.92 | I7: =H7/100*AD7 -> 0.116424 | J7: 51.46 | K7: =J7/100*AE7 -> 0.396242 | L7: <DL | N7: 23.41 | O7: =N7/100*AG7 -> 0.353491 | P7: 5.21 | Q7: =P7/100*AH7 -> 0.219862 | R7: 1.0899 | S7: =R7/100*AI7 -> 0.1918224 | T7: 0.1607 | U7: =T7/100*AJ7 -> 0.05328812 | V7: 0.107 | W7: =V7/100*AK7 -> 0.0510283 | X7: <DL | Z7: 100.8141 | AB7: 257.53 | AC7: 1.58 | AD7: 2.97 | AE7: 0.77 | AF7: 300 | AG7: 1.51 | AH7: 4.22 | AI7: 17.6 | AJ7: 33.16 | AK7: 47.69 | AL7: 300
A8: 42. Exp CHV-E154 | B8: CH V 154_cpx_5 | C8: Cpx | D8: <DL | F8: 14.69 | G8: =F8/100*AC8 -> 0.237978 | H8: 5.06 | I8: =H8/100*AD8 -> 0.131054 | J8: 50.65 | K8: =J8/100*AE8 -> 0.390005 | L8: <DL | N8: 23.26 | O8: =N8/100*AG8 -> 0.351226 | P8: 5.11 | Q8: =P8/100*AH8 -> 0.217175 | R8: 1.4458 | S8: =R8/100*AI8 -> 0.21311092 | T8: 0.1713 | U8: =T8/100*AJ8 -> 0.05748828 | V8: 0.1024 | W8: =V8/100*AK8 -> 0.05172224 | X8: <DL | Z8: 100.532 | AB8: 140.97 | AC8: 1.62 | AD8: 2.59 | AE8: 0.77 | AF8: 1141.5 | AG8: 1.51 | AH8: 4.25 | AI8: 14.74 | AJ8: 33.56 | AK8: 50.51 | AL8: 615.33
C9: Average | D9: =AVERAGE(D4:D8) -> 0.04525 | F9: =AVERAGE(F4:F8) -> 14.91 | H9: =AVERAGE(H4:H8) -> 4.91 | J9: =AVERAGE(J4:J8) -> 50.788 | N9: =AVERAGE(N4:N8) -> 23.444 | P9: =AVERAGE(P4:P8) -> 5.054 | R9: =AVERAGE(R4:R8) -> 1.39442 | T9: =AVERAGE(T4:T8) -> 0.20268 | V9: =AVERAGE(V4:V8) -> 0.09868
C10: Stdev | D10: =STDEV(D4:D8) -> 0.0088388348 | F10: =STDEV(F4:F8) -> 0.3174114 | H10: =STDEV(H4:H8) -> 0.56124861 | J10: =STDEV(J4:J8) -> 0.38751774 | N10: =STDEV(N4:N8) -> 0.12641202 | P10: =STDEV(P4:P8) -> 0.12340989 | R10: =STDEV(R4:R8) -> 0.19568643 | T10: =STDEV(T4:T8) -> 0.037678668 | V10: =STDEV(V4:V8) -> 0.017163828
A12: 42. Exp CHV-E154 | B12: CH V 154_melt_2 | C12: Glass | D12: 0.3054 | E12: =D12/100*AB12 -> 0.06437832 | F12: 7.87 | G12: =F12/100*AC12 -> 0.181797 | H12: 11.36 | I12: =H12/100*AD12 -> 0.194256 | J12: 41.15 | K12: =J12/100*AE12 -> 0.358005 | L12: <DL | N12: 18.31 | O12: =N12/100*AG12 -> 0.309439 | P12: 15.91 | Q12: =P12/100*AH12 -> 0.373885 | R12: 2.56 | S12: =R12/100*AI12 -> 0.27008 | T12: <DL | V12: 0.3018 | W12: =V12/100*AK12 -> 0.06099378 | X12: <DL | Z12: 97.8344 | AB12: 21.08 | AC12: 2.31 | AD12: 1.71 | AE12: 0.87 | AF12: 117 | AG12: 1.69 | AH12: 2.35 | AI12: 10.55 | AJ12: 117.61 | AK12: 20.21 | AL12: 300
A13: 42. Exp CHV-E154 | B13: CH V 154_melt_3 | C13: Glass | D13: 0.3317 | E13: =D13/100*AB13 -> 0.06381908 | F13: 7.91 | G13: =F13/100*AC13 -> 0.182721 | H13: 11.43 | I13: =H13/100*AD13 -> 0.19431 | J13: 41.54 | K13: =J13/100*AE13 -> 0.361398 | L13: 0.0455 | M13: =L13/100*AG13 -> 0.00077805 | N13: 18.09 | O13: =N13/100*AG13 -> 0.309339 | P13: 15.95 | Q13: =P13/100*AH13 -> 0.37323 | R13: 2.3 | S13: =R13/100*AI13 -> 0.25484 | T13: 0.0418 | U13: =T13/100*AJ13 -> 0.04656102 | V13: 0.2622 | W13: =V13/100*AK13 -> 0.05993892 | X13: <DL | Z13: 97.9013 | AB13: 19.24 | AC13: 2.31 | AD13: 1.7 | AE13: 0.87 | AF13: 70.73 | AG13: 1.71 | AH13: 2.34 | AI13: 11.08 | AJ13: 111.39 | AK13: 22.86 | AL13: 300
A14: 42. Exp CHV-E154 | B14: CH V 154_melt_4 | C14: Glass | D14: 0.3296 | E14: =D14/100*AB14 -> 0.06338208 | F14: 7.97 | G14: =F14/100*AC14 -> 0.18331 | H14: 11.32 | I14: =H14/100*AD14 -> 0.193572 | J14: 41.48 | K14: =J14/100*AE14 -> 0.360876 | L14: 0.0543 | M14: =L14/100*AG14 -> 0.00091767 | N14: 18.35 | O14: =N14/100*AG14 -> 0.310115 | P14: 15.87 | Q14: =P14/100*AH14 -> 0.372945 | R14: 2.28 | S14: =R14/100*AI14 -> 0.249432 | T14: <DL | V14: 0.3287 | W14: =V14/100*AK14 -> 0.06038219 | X14: <DL | Z14: 97.9848 | AB14: 19.23 | AC14: 2.3 | AD14: 1.71 | AE14: 0.87 | AF14: 59.72 | AG14: 1.69 | AH14: 2.35 | AI14: 10.94 | AJ14: 300 | AK14: 18.37 | AL14: 2868.24
A15: 42. Exp CHV-E154 | B15: CH V 154_melt_5 | C15: Glass | D15: 0.3224 | E15: =D15/100*AB15 -> 0.06541496 | F15: 7.94 | G15: =F15/100*AC15 -> 0.18262 | H15: 11.4 | I15: =H15/100*AD15 -> 0.19494 | J15: 41.57 | K15: =J15/100*AE15 -> 0.361659 | L15: 0.0423 | M15: =L15/100*AG15 -> 0.00071487 | N15: 18.38 | O15: =N15/100*AG15 -> 0.310622 | P15: 15.86 | Q15: =P15/100*AH15 -> 0.37271 | R15: 2.39 | S15: =R15/100*AI15 -> 0.262183 | T15: <DL | V15: 0.3081 | W15: =V15/100*AK15 -> 0.06168162 | X15: <DL | Z15: 98.2287 | AB15: 20.29 | AC15: 2.3 | AD15: 1.71 | AE15: 0.87 | AF15: 75.38 | AG15: 1.69 | AH15: 2.35 | AI15: 10.97 | AJ15: 398.13 | AK15: 20.02 | AL15: 1497.09
A16: 42. Exp CHV-E154 | B16: CH V 154_melt_6 | C16: Glass | D16: 0.3318 | E16: =D16/100*AB16 -> 0.06543096 | F16: 7.94 | G16: =F16/100*AC16 -> 0.18262 | H16: 11.33 | I16: =H16/100*AD16 -> 0.193743 | J16: 41.55 | K16: =J16/100*AE16 -> 0.361485 | L16: 0.0464 | M16: =L16/100*AG16 -> 0.00078416 | N16: 18.31 | O16: =N16/100*AG16 -> 0.309439 | P16: 15.84 | Q16: =P16/100*AH16 -> 0.37224 | R16: 2.34 | S16: =R16/100*AI16 -> 0.25857 | T16: <DL | V16: 0.2749 | W16: =V16/100*AK16 -> 0.05968079 | X16: <DL | Z16: =SUM(X16,V16,T16,R16,P16,N16,L16,J16,H16,F16,D16) -> 97.9631 | AB16: 19.72 | AC16: 2.3 | AD16: 1.71 | AE16: 0.87 | AF16: 68.38 | AG16: 1.69 | AH16: 2.35 | AI16: 11.05 | AJ16: 334.73 | AK16: 21.71 | AL16: 300
C17: Average | D17: =AVERAGE(D12:D16) -> 0.32418 | F17: =AVERAGE(F12:F16) -> 7.926 | H17: =AVERAGE(H12:H16) -> 11.368 | J17: =AVERAGE(J12:J16) -> 41.458 | L17: =AVERAGE(L12:L16) -> 0.047125 | N17: =AVERAGE(N12:N16) -> 18.288 | P17: =AVERAGE(P12:P16) -> 15.886 | R17: =AVERAGE(R12:R16) -> 2.374 | V17: =AVERAGE(V12:V16) -> 0.29514
C18: Stdev | D18: =STDEV(D12:D16) -> 0.01117864 | F18: =STDEV(F12:F16) -> 0.037815341 | H18: =STDEV(H12:H16) -> 0.046583259 | J18: =STDEV(J12:J16) -> 0.1754138 | L18: =STDEV(L12:L16) -> 0.0050966492 | N18: =STDEV(N12:N16) -> 0.11454257 | P18: =STDEV(P12:P16) -> 0.043931765 | R18: =STDEV(R12:R16) -> 0.1121606 | V18: =STDEV(V12:V16) -> 0.026614338
A20: 42. Exp CHV-E155 | B20: CH V 155 1 | C20: Cpx | D20: 0.0348 | E20: =D20/100*AB20 -> 0.0429606 | F20: 14.74 | G20: =F20/100*AC20 -> 0.238788 | H20: 5.31 | I20: =H20/100*AD20 -> 0.134343 | J20: 50.24 | K20: =J20/100*AE20 -> 0.391872 | L20: <DL | N20: 23.63 | O20: =N20/100*AG20 -> 0.35445 | P20: 4.79 | Q20: =P20/100*AH20 -> 0.211239 | R20: 1.4166 | S20: =R20/100*AI20 -> 0.2089485 | T20: 0.3724 | U20: =T20/100*AJ20 -> 0.06643616 | V20: 0.1061 | W20: =V20/100*AK20 -> 0.04985639 | X20: <DL | Z20: =SUM(X20,V20,T20,R20,P20,N20,L20,J20,H20,F20,D20) -> 100.6399 | AB20: 123.45 | AC20: 1.62 | AD20: 2.53 | AE20: 0.78 | AF20: 300 | AG20: 1.5 | AH20: 4.41 | AI20: 14.75 | AJ20: 17.84 | AK20: 46.99 | AL20: 300
A21: 42. Exp CHV-E155 | B21: CH V 155 2 | C21: Cpx | D21: <DL | F21: 15.22 | G21: =F21/100*AC21 -> 0.241998 | H21: 4.49 | I21: =H21/100*AD21 -> 0.123924 | J21: 50.86 | K21: =J21/100*AE21 -> 0.391622 | L21: <DL | N21: 23.45 | O21: =N21/100*AG21 -> 0.354095 | P21: 4.66 | Q21: =P21/100*AH21 -> 0.208768 | R21: 1.1963 | S21: =R21/100*AI21 -> 0.19703061 | T21: 0.3885 | U21: =T21/100*AJ21 -> 0.0678321 | V21: 0.0806 | W21: =V21/100*AK21 -> 0.04927078 | X21: <DL | Z21: =SUM(X21,V21,T21,R21,P21,N21,L21,J21,H21,F21,D21) -> 100.3454 | AB21: 303.55 | AC21: 1.59 | AD21: 2.76 | AE21: 0.77 | AF21: 506.78 | AG21: 1.51 | AH21: 4.48 | AI21: 16.47 | AJ21: 17.46 | AK21: 61.13 | AL21: 328.88
A22: 42. Exp CHV-E155 | B22: CH V 155 3 | C22: Cpx | D22: 0.0352 | E22: =D22/100*AB22 -> 0.04042368 | F22: 15.07 | G22: =F22/100*AC22 -> 0.24112 | H22: 4.86 | I22: =H22/100*AD22 -> 0.128304 | J22: 50.45 | K22: =J22/100*AE22 -> 0.388465 | L22: <DL | N22: 23.55 | O22: =N22/100*AG22 -> 0.35325 | P22: 4.67 | Q22: =P22/100*AH22 -> 0.208749 | R22: 1.2423 | S22: =R22/100*AI22 -> 0.19665609 | T22: 0.3451 | U22: =T22/100*AJ22 -> 0.06677685 | V22: 0.1094 | W22: =V22/100*AK22 -> 0.051965 | X22: <DL | Z22: =SUM(X22,V22,T22,R22,P22,N22,L22,J22,H22,F22,D22) -> 100.332 | AB22: 114.84 | AC22: 1.6 | AD22: 2.64 | AE22: 0.77 | AF22: 326.71 | AG22: 1.5 | AH22: 4.47 | AI22: 15.83 | AJ22: 19.35 | AK22: 47.5 | AL22: 300
A23: 42. Exp CHV-E155 | B23: CH V 155 4 | C23: Cpx | D23: <DL | F23: 15.55 | G23: =F23/100*AC23 -> 0.24569 | H23: 3.58 | I23: =H23/100*AD23 -> 0.111338 | J23: 51.46 | K23: =J23/100*AE23 -> 0.396242 | L23: <DL | N23: 23.49 | O23: =N23/100*AG23 -> 0.35235 | P23: 4.87 | Q23: =P23/100*AH23 -> 0.213306 | R23: 1.0358 | S23: =R23/100*AI23 -> 0.18623684 | T23: 0.2014 | U23: =T23/100*AJ23 -> 0.0595137 | V23: 0.1066 | W23: =V23/100*AK23 -> 0.05280964 | X23: <DL | Z23: =SUM(X23,V23,T23,R23,P23,N23,L23,J23,H23,F23,D23) -> 100.2938 | AB23: 163.4 | AC23: 1.58 | AD23: 3.11 | AE23: 0.77 | AF23: 300 | AG23: 1.5 | AH23: 4.38 | AI23: 17.98 | AJ23: 29.55 | AK23: 49.54 | AL23: 367.63
A24: 42. Exp CHV-E155 | B24: CH V 155 5 | C24: Cpx | D24: 0.0406 | E24: =D24/100*AB24 -> 0.04105878 | F24: 14.83 | G24: =F24/100*AC24 -> 0.240246 | H24: 5.33 | I24: =H24/100*AD24 -> 0.133783 | J24: 50.39 | K24: =J24/100*AE24 -> 0.393042 | L24: <DL | N24: 23.62 | O24: =N24/100*AG24 -> 0.3543 | P24: 4.86 | Q24: =P24/100*AH24 -> 0.212382 | R24: 1.4877 | S24: =R24/100*AI24 -> 0.2157165 | T24: 0.2598 | U24: =T24/100*AJ24 -> 0.05983194 | V24: 0.0972 | W24: =V24/100*AK24 -> 0.04906656 | X24: <DL | Z24: =SUM(X24,V24,T24,R24,P24,N24,L24,J24,H24,F24,D24) -> 100.9153 | AB24: 101.13 | AC24: 1.62 | AD24: 2.51 | AE24: 0.78 | AF24: 504.05 | AG24: 1.5 | AH24: 4.37 | AI24: 14.5 | AJ24: 23.03 | AK24: 50.48 | AL24: 737.2
C25: Average | D25: =AVERAGE(D20:D24) -> 0.036866667 | F25: =AVERAGE(F20:F24) -> 15.082 | H25: =AVERAGE(H20:H24) -> 4.714 | J25: =AVERAGE(J20:J24) -> 50.68 | N25: =AVERAGE(N20:N24) -> 23.548 | P25: =AVERAGE(P20:P24) -> 4.77 | R25: =AVERAGE(R20:R24) -> 1.27574 | T25: =AVERAGE(T20:T24) -> 0.31344 | V25: =AVERAGE(V20:V24) -> 0.09998
C26: Stdev | D26: =STDEV(D20:D24) -> 0.0032393415 | F26: =STDEV(F20:F24) -> 0.32352743 | H26: =STDEV(H20:H24) -> 0.72320813 | J26: =STDEV(J20:J24) -> 0.49279813 | N26: =STDEV(N20:N24) -> 0.078866977 | P26: =STDEV(P20:P24) -> 0.10074721 | R26: =STDEV(R20:R24) -> 0.18011714 | T26: =STDEV(T20:T24) -> 0.079910656 | V26: =STDEV(V20:V24) -> 0.011761462
A28: 42. Exp CHV-E155 | B28: CH V 155 7 | C28: Glass | D28: 0.3312 | E28: =D28/100*AB28 -> 0.06431904 | F28: 7.82 | G28: =F28/100*AC28 -> 0.181424 | H28: 11.63 | I28: =H28/100*AD28 -> 0.196547 | J28: 41.26 | K28: =J28/100*AE28 -> 0.358962 | L28: 0.0557 | M28: =L28/100*AF28 -> 0.03216118 | N28: 18.33 | O28: =N28/100*AG28 -> 0.309777 | P28: 15.92 | Q28: =P28/100*AH28 -> 0.372528 | R28: 2.34 | S28: =R28/100*AI28 -> 0.255762 | T28: <DL | V28: 0.2872 | W28: =V28/100*AK28 -> 0.06082896 | X28: <DL | Z28: =SUM(X28,V28,T28,R28,P28,N28,L28,J28,H28,F28,D28) -> 97.9741 | AB28: 19.42 | AC28: 2.32 | AD28: 1.69 | AE28: 0.87 | AF28: 57.74 | AG28: 1.69 | AH28: 2.34 | AI28: 10.93 | AJ28: 339.41 | AK28: 21.18 | AL28: 383.84
A29: 42. Exp CHV-E155 | B29: CH V 155 8 | C29: Glass | D29: 0.3223 | E29: =D29/100*AB29 -> 0.06555582 | F29: 7.91 | G29: =F29/100*AC29 -> 0.182721 | H29: 11.37 | I29: =H29/100*AD29 -> 0.194427 | J29: 41.7 | K29: =J29/100*AE29 -> 0.36279 | L29: 0.0551 | M29: =L29/100*AF29 -> 0.03340162 | N29: 18.38 | O29: =N29/100*AG29 -> 0.310622 | P29: 15.83 | Q29: =P29/100*AH29 -> 0.373588 | R29: 2.37 | S29: =R29/100*AI29 -> 0.256671 | T29: <DL | V29: 0.2525 | W29: =V29/100*AK29 -> 0.0606 | X29: <DL | Z29: =SUM(X29,V29,T29,R29,P29,N29,L29,J29,H29,F29,D29) -> 98.1899 | AB29: 20.34 | AC29: 2.31 | AD29: 1.71 | AE29: 0.87 | AF29: 60.62 | AG29: 1.69 | AH29: 2.36 | AI29: 10.83 | AJ29: 176.25 | AK29: 24 | AL29: 337.99
A30: 42. Exp CHV-E155 | B30: CH V 155 9 | C30: Glass | D30: 0.3074 | E30: =D30/100*AB30 -> 0.06403142 | F30: 7.92 | G30: =F30/100*AC30 -> 0.182952 | H30: 11.3 | I30: =H30/100*AD30 -> 0.19436 | J30: 41.89 | K30: =J30/100*AE30 -> 0.360254 | L30: 0.0663 | M30: =L30/100*AF30 -> 0.03349476 | N30: 18.29 | O30: =N30/100*AG30 -> 0.309101 | P30: 16.16 | Q30: =P30/100*AH30 -> 0.376528 | R30: 2.44 | S30: =R30/100*AI30 -> 0.266204 | T30: <DL | V30: 0.2775 | W30: =V30/100*AK30 -> 0.060273 | X30: <DL | Z30: =SUM(X30,V30,T30,R30,P30,N30,L30,J30,H30,F30,D30) -> 98.6512 | AB30: 20.83 | AC30: 2.31 | AD30: 1.72 | AE30: 0.86 | AF30: 50.52 | AG30: 1.69 | AH30: 2.33 | AI30: 10.91 | AJ30: 331.04 | AK30: 21.72 | AL30: 393.49
A31: 42. Exp CHV-E155 | B31: CH V 155 10 | C31: Glass | D31: 0.3562 | E31: =D31/100*AB31 -> 0.06557642 | F31: 8.04 | G31: =F31/100*AC31 -> 0.184116 | H31: 11.32 | I31: =H31/100*AD31 -> 0.193572 | J31: 41.59 | K31: =J31/100*AE31 -> 0.361833 | L31: 0.0794 | M31: =L31/100*AF31 -> 0.03340358 | N31: 18.3 | O31: =N31/100*AG31 -> 0.30927 | P31: 15.79 | Q31: =P31/100*AH31 -> 0.371065 | R31: 2.35 | S31: =R31/100*AI31 -> 0.253565 | T31: 0.0542 | U31: =T31/100*AI31 -> 0.00584818 | V31: 0.3025 | W31: =V31/100*AK31 -> 0.060137 | X31: <DL | Z31: =SUM(X31,V31,T31,R31,P31,N31,L31,J31,H31,F31,D31) -> 98.1823 | AB31: 18.41 | AC31: 2.29 | AD31: 1.71 | AE31: 0.87 | AF31: 42.07 | AG31: 1.69 | AH31: 2.35 | AI31: 10.79 | AJ31: 88.98 | AK31: 19.88 | AL31: 1685.49
A32: 42. Exp CHV-E155 | B32: CH V 155 11 | C32: Glass | D32: 0.3105 | E32: =D32/100*AB32 -> 0.0641493 | F32: 8.01 | G32: =F32/100*AC32 -> 0.183429 | H32: 11.4 | I32: =H32/100*AD32 -> 0.19494 | J32: 41.63 | K32: =J32/100*AE32 -> 0.362181 | L32: 0.0687 | M32: =L32/100*AF32 -> 0.03252258 | N32: 18.2 | O32: =N32/100*AG32 -> 0.3094 | P32: 15.92 | Q32: =P32/100*AH32 -> 0.37412 | R32: 2.58 | S32: =R32/100*AI32 -> 0.26961 | T32: <DL | V32: 0.2907 | W32: =V32/100*AK32 -> 0.06157026 | X32: <DL | Z32: =SUM(X32,V32,T32,R32,P32,N32,L32,J32,H32,F32,D32) -> 98.4099 | AB32: 20.66 | AC32: 2.29 | AD32: 1.71 | AE32: 0.87 | AF32: 47.34 | AG32: 1.7 | AH32: 2.35 | AI32: 10.45 | AJ32: 205.9 | AK32: 21.18 | AL32: 334.15
C33: Average | D33: =AVERAGE(D28:D32) -> 0.32552 | F33: =AVERAGE(F28:F32) -> 7.94 | H33: =AVERAGE(H28:H32) -> 11.404 | J33: =AVERAGE(J28:J32) -> 41.614 | L33: =AVERAGE(L28:L32) -> 0.06504 | N33: =AVERAGE(N28:N32) -> 18.3 | P33: =AVERAGE(P28:P32) -> 15.924 | R33: =AVERAGE(R28:R32) -> 2.416 | V33: =AVERAGE(V28:V32) -> 0.28208
C34: Stdev | D34: =STDEV(D28:D32) -> 0.019607575 | F34: =STDEV(F28:F32) -> 0.087464278 | H34: =STDEV(H28:H32) -> 0.13240091 | J34: =STDEV(J28:J32) -> 0.22897598 | L34: =STDEV(L28:L32) -> 0.010089995 | N34: =STDEV(N28:N32) -> 0.06595453 | P34: =STDEV(P28:P32) -> 0.14363147 | R34: =STDEV(R28:R32) -> 0.099649385 | V34: =STDEV(V28:V32) -> 0.018797925
A36: 42. Exp CHV-E156 | B36: CH V 156_cpx_1 | C36: Cpx | D36: 0.0446 | E36: =D36/100*AB36 -> 0.04215592 | F36: 14.66 | G36: =F36/100*AC36 -> 0.237492 | H36: 5.6 | I36: =H36/100*AD36 -> 0.13776 | J36: 50.41 | K36: =J36/100*AE36 -> 0.393198 | L36: <DL | N36: 23.39 | O36: =N36/100*AG36 -> 0.353189 | P36: 4.81 | Q36: =P36/100*AH36 -> 0.210678 | R36: 1.3657 | S36: =R36/100*AI36 -> 0.20881553 | T36: 0.2202 | U36: =T36/100*AJ36 -> 0.06117156 | V36: 0.1103 | W36: =V36/100*AK36 -> 0.05111302 | X36: <DL | Z36: =SUM(X36,V36,T36,R36,P36,N36,L36,J36,H36,F36,D36) -> 100.6108 | AB36: 94.52 | AC36: 1.62 | AD36: 2.46 | AE36: 0.78 | AF36: 180.75 | AG36: 1.51 | AH36: 4.38 | AI36: 15.29 | AJ36: 27.78 | AK36: 46.34 | AL36: 300
A37: 42. Exp CHV-E156 | B37: CH V 156_cpx_2 | C37: Cpx | D37: <DL | F37: 15.38 | G37: =F37/100*AC37 -> 0.243004 | H37: 4.52 | I37: =H37/100*AD37 -> 0.1243 | J37: 51.01 | K37: =J37/100*AE37 -> 0.392777 | L37: <DL | N37: 23.32 | O37: =N37/100*AG37 -> 0.352132 | P37: 4.43 | Q37: =P37/100*AH37 -> 0.20378 | R37: 1.2266 | S37: =R37/100*AI37 -> 0.19184024 | T37: 0.3135 | U37: =T37/100*AJ37 -> 0.0637032 | V37: 0.0704 | W37: =V37/100*AK37 -> 0.0504416 | X37: <DL | Z37: =SUM(X37,V37,T37,R37,P37,N37,L37,J37,H37,F37,D37) -> 100.2705 | AB37: 193.86 | AC37: 1.58 | AD37: 2.75 | AE37: 0.77 | AF37: 1494.86 | AG37: 1.51 | AH37: 4.6 | AI37: 15.64 | AJ37: 20.32 | AK37: 71.65 | AL37: 300
A38: 42. Exp CHV-E156 | B38: CH V 156_cpx_3 | C38: Cpx | D38: 0.0377 | E38: =D38/100*AB38 -> 0.04271033 | F38: 15.69 | G38: =F38/100*AC38 -> 0.246333 | H38: 4.15 | I38: =H38/100*AD38 -> 0.11952 | J38: 51.07 | K38: =J38/100*AE38 -> 0.393239 | L38: <DL | N38: 23.3 | O38: =N38/100*AG38 -> 0.35183 | P38: 4.11 | Q38: =P38/100*AH38 -> 0.197691 | R38: 1.2332 | S38: =R38/100*AI38 -> 0.19583216 | T38: 0.5565 | U38: =T38/100*AJ38 -> 0.07429275 | V38: 0.0843 | W38: =V38/100*AK38 -> 0.04927335 | X38: <DL | Z38: =SUM(X38,V38,T38,R38,P38,N38,L38,J38,H38,F38,D38) -> 100.2317 | AB38: 113.29 | AC38: 1.57 | AD38: 2.88 | AE38: 0.77 | AF38: 153.92 | AG38: 1.51 | AH38: 4.81 | AI38: 15.88 | AJ38: 13.35 | AK38: 58.45 | AL38: 300
A39: 42. Exp CHV-E156 | B39: CH V 156_cpx_4 | C39: Cpx | D39: 0.044 | E39: =D39/100*AB39 -> 0.0425128 | F39: 14.87 | G39: =F39/100*AC39 -> 0.239407 | H39: 4.99 | I39: =H39/100*AD39 -> 0.12974 | J39: 50.31 | K39: =J39/100*AE39 -> 0.392418 | L39: <DL | N39: 23.49 | O39: =N39/100*AG39 -> 0.35235 | P39: 5.01 | Q39: =P39/100*AH39 -> 0.21543 | R39: 1.4374 | S39: =R39/100*AI39 -> 0.20871048 | T39: 0.2069 | U39: =T39/100*AJ39 -> 0.0560699 | V39: 0.105 | W39: =V39/100*AK39 -> 0.049791 | X39: <DL | Z39: =SUM(X39,V39,T39,R39,P39,N39,L39,J39,H39,F39,D39) -> 100.4633 | AB39: 96.62 | AC39: 1.61 | AD39: 2.6 | AE39: 0.78 | AF39: 300 | AG39: 1.5 | AH39: 4.3 | AI39: 14.52 | AJ39: 27.1 | AK39: 47.42 | AL39: 336.02
A40: 42. Exp CHV-E156 | B40: CH V 156_cpx_5 | C40: Cpx | D40: 0.0373 | E40: =D40/100*AB40 -> 0.04258168 | F40: 15.17 | G40: =F40/100*AC40 -> 0.24272 | H40: 4.41 | I40: =H40/100*AD40 -> 0.123039 | J40: 51.02 | K40: =J40/100*AE40 -> 0.392854 | L40: <DL | N40: 23.15 | O40: =N40/100*AG40 -> 0.349565 | P40: 5.28 | Q40: =P40/100*AH40 -> 0.221232 | R40: 1.2448 | S40: =R40/100*AI40 -> 0.19717632 | T40: 0.1983 | U40: =T40/100*AJ40 -> 0.05613873 | V40: 0.1043 | W40: =V40/100*AK40 -> 0.05133646 | X40: <DL | Z40: =SUM(X40,V40,T40,R40,P40,N40,L40,J40,H40,F40,D40) -> 100.6147 | AB40: 114.16 | AC40: 1.6 | AD40: 2.79 | AE40: 0.77 | AF40: 293.42 | AG40: 1.51 | AH40: 4.19 | AI40: 15.84 | AJ40: 28.31 | AK40: 49.22 | AL40: 217.51
C41: Average | D41: =AVERAGE(D36:D40) -> 0.0409 | F41: =AVERAGE(F36:F40) -> 15.154 | H41: =AVERAGE(H36:H40) -> 4.734 | J41: =AVERAGE(J36:J40) -> 50.764 | N41: =AVERAGE(N36:N40) -> 23.33 | P41: =AVERAGE(P36:P40) -> 4.728 | R41: =AVERAGE(R36:R40) -> 1.30154 | T41: =AVERAGE(T36:T40) -> 0.29908 | V41: =AVERAGE(V36:V40) -> 0.09486
C42: Stdev | D42: =STDEV(D36:D40) -> 0.0039370039 | F42: =STDEV(F36:F40) -> 0.4072223 | H42: =STDEV(H36:H40) -> 0.57169048 | J42: =STDEV(J36:J40) -> 0.37118728 | N42: =STDEV(N36:N40) -> 0.12509996 | P42: =STDEV(P36:P40) -> 0.4641336 | R42: =STDEV(R36:R40) -> 0.094973986 | T42: =STDEV(T36:T40) -> 0.15111983 | V42: =STDEV(V36:V40) -> 0.01688292
A44: 42. Exp CHV-E156 | B44: CH V 156_melt_3 | C44: Glass | D44: 0.3479 | E44: =D44/100*AB44 -> 0.06662285 | F44: 7.94 | G44: =F44/100*AC44 -> 0.18262 | H44: 11.31 | I44: =H44/100*AD44 -> 0.193401 | J44: 41.45 | K44: =J44/100*AE44 -> 0.360615 | L44: 0.0361 | M44: =L44/100*AF44 -> 0.0342228 | N44: 18.18 | O44: =N44/100*AG44 -> 0.30906 | P44: 15.81 | Q44: =P44/100*AH44 -> 0.371535 | R44: 2.37 | S44: =R44/100*AI44 -> 0.259989 | T44: <DL | V44: 0.3246 | W44: =V44/100*AK44 -> 0.06066774 | X44: <DL | Z44: =SUM(X44,V44,T44,R44,P44,N44,L44,J44,H44,F44,D44) -> 97.7686 | AB44: 19.15 | AC44: 2.3 | AD44: 1.71 | AE44: 0.87 | AF44: 94.8 | AG44: 1.7 | AH44: 2.35 | AI44: 10.97 | AJ44: 200.04 | AK44: 18.69 | AL44: 300
A45: 42. Exp CHV-E156 | B45: CH V 156_melt_4 | C45: Glass | D45: 0.3733 | E45: =D45/100*AB45 -> 0.06603677 | F45: 7.89 | G45: =F45/100*AC45 -> 0.18147 | H45: 11.45 | I45: =H45/100*AD45 -> 0.19465 | J45: 41.44 | K45: =J45/100*AE45 -> 0.360528 | L45: 0.0446 | M45: =L45/100*AF45 -> 0.03339202 | N45: 18.22 | O45: =N45/100*AG45 -> 0.30974 | P45: 15.54 | Q45: =P45/100*AH45 -> 0.368298 | R45: 2.5 | S45: =R45/100*AI45 -> 0.2655 | T45: <DL | V45: 0.2891 | W45: =V45/100*AK45 -> 0.06001716 | X45: <DL | Z45: =SUM(X45,V45,T45,R45,P45,N45,L45,J45,H45,F45,D45) -> 97.747 | AB45: 17.69 | AC45: 2.3 | AD45: 1.7 | AE45: 0.87 | AF45: 74.87 | AG45: 1.7 | AH45: 2.37 | AI45: 10.62 | AJ45: 273.86 | AK45: 20.76 | AL45: 840.25
...

Sheet S2_trace_elements
A1: Table S2: LA-ICP-MS measurements sorted by experiment ID and according LA-ICP-MS analysis Ids. Average, median, standard deviation, absolute and relative errors are given beneath each analyzed phase
I2: LA-ICP-MS data (ppm) | AV2: LA-ICP-MS uncertainties (ppm, 1σ) | CR2: LA-ICP-MS minimum detection limit (99% confidence)
A3: Experiment/RunID | B3: Starting Mix | C3: Mineral | D3: LA-ICP-MS analysis ID | F3: T (°C) | G3: P (GPa) | H3: FO2 | I3: Li | J3: Si | K3: Ca | L3: Sc | M3: Ti47 | N3: Ti49 | O3: V | P3: Cr | Q3: Mn | R3: Co | S3: Ni | T3: Cu | U3: Zn | V3: As | W3: Rb | X3: Sr | Y3: Y | Z3: Zr | AA3: Nb | AB3: Mo | AC3: Cs | AD3: Ba | AE3: La | AF3: Ce | AG3: Pr | AH3: Nd | AI3: Sm | AJ3: Eu | AK3: Gd | AL3: Tb | AM3: Dy | AN3: Ho | AO3: Er | AP3: Tm | AQ3: Yb | AR3: Lu | AS3: Hf | AT3: Ta | AU3: Pb | AV3: Th | AW3: U | AZ3: =I3 -> Li | BA3: =J3 -> Si | BB3: =K3 -> Ca | BC3: =L3 -> Sc | BD3: =M3 -> Ti47 | BE3: =N3 -> Ti49 | BF3: =O3 -> V | BG3: =P3 -> Cr | ... CN3: =AW3 -> U | CQ3: =AZ3 -> Li | CR3: =BA3 -> Si | CS3: =BB3 -> Ca | CT3: =BC3 -> Sc | CU3: =BD3 -> Ti47 | CV3: =BE3 -> Ti49 | CW3: =BF3 -> V | CX3: =BG3 -> Cr | ... EE3: =CN3 -> U
A4: 42. Exp CHV-E154 | B4: CH-V-6C | C4: Clinopyroxene | D4: CHVE154_cpx_1 | F4: 1200 | G4: 0.0001 | H4: IW-1 | I4: 12.27 | J4: 237047.02 | K4: 168597.97 | L4: 216.89 | M4: 8492.79 | N4: n.a.* | O4: 21.47 | P4: 1407.9 | Q4: 893.19 | R4: 59.43 | S4: 16.47 | T4: 0.45 | U4: <DL** | V4: 0.31 | W4: <DL | X4: 36.01 | Y4: 19.76 | Z4: 44.45 | AA4: 2.24 | AB4: 0.367 | AC4: <DL | AD4: <DL | AE4: 2.73 | AF4: 6.18 | AG4: 1.44 | AH4: 13.03 | AI4: 7.23 | AJ4: 1.44 | AK4: 4.9 | AL4: 2.37 | AM4: 9.58 | AN4: 1.88 | AO4: 4.26 | AP4: 1.98 | AQ4: 4.47 | AR4: 3.19 | AS4: 12.2 | AT4: 0.596 | AU4: <DL | AV4: 0.787 | AW4: 0.325 | AZ4: 1.13 | BA4: 30809.04 | BB4: 5353.36 | BC4: 13.47 | BD4: 1340.32 | BF4: 1.39 | BG4: 178.89 | BH4: 60.67 | BI4: 4.24 | BJ4: 1.66 | BK4: 0.14 | BL4: 0.68 | BM4: 0.13 | BN4: 0.066 | BO4: 1.95 | BP4: 1.23 | BQ4: 2.82 | BR4: 0.18 | BS4: 0.084 | BT4: 0.047 | BU4: 0.05 | BV4: 0.14 | BW4: 0.33 | BX4: 0.081 | BY4: 0.95 | BZ4: 0.56 | CA4: 0.11 | CB4: 0.36 | CC4: 0.12 | CD4: 0.58 | CE4: 0.11 | CF4: 0.29 | CG4: 0.13 | CH4: 0.29 | CI4: 0.16 | CJ4: 0.78 | CK4: 0.042 | CL4: 0.0095 | CM4: 0.054 | CN4: 0.027 | CQ4: 0.688 | CR4: 75.95 | CS4: 78.17 | CT4: 0.181 | CU4: 3.68 | CV4: n.a. | CW4: 0.0591 | CX4: 3.09 | CY4: 0.529 | CZ4: 0.19 | DA4: 1.27 | DB4: 0.258 | DC4: 1.76 | DD4: 0.236 | DE4: 0.169 | DF4: 0.136 | DG4: 0.0158 | DH4: 0.111 | DI4: 0.282 | DJ4: 0.101 | DK4: 0.123 | DL4: 0.131 | DM4: 0.00886 | DN4: 0.0224 | DO4: =AVERAGE(DO7:DO9,DO12:DO13,DO15) -> 0.018366667 | DP4: 0.0418 | DQ4: 0.104 | DR4: =AVERAGE(DR5,DR7:DR15) -> 0.02856 | DS4: 0.0462 | DT4: =AVERAGE(DT6,DT8:DT9,DT13:DT15) -> 0.01222 | DU4: 0.0198 | DV4: 0.00703 | DW4: =AVERAGE(DW9:DW11) -> 0.0369 | DX4: =AVERAGE(DX7:DX9,DX12:DX14) -> 0.015278333 | DY4: =AVERAGE(DY8,DY6,DY13:DY14) -> 0.056675 | DZ4: =AVERAGE(DZ13:DZ15) -> 0.0074166667 | EA4: =AVERAGE(EA10:EA11,EA14:EA15) -> 0.043275 | EB4: 0.01799 | EC4: 0.0233 | ED4: 0.00759 | EE4: 0.0128
A5: 42. Exp CHV-E154 | B5: CH-V-6C | C5: Clinopyroxene | D5: CHVE154_cpx_2 | F5: 1200 | G5: 0.0001 | H5: IW-1 | I5: 8.44 | J5: 232242.81 | K5: 168169.16 | L5: 208.56 | M5: 9160.04 | N5: n.a. | O5: 19.82 | P5: 1553.15 | Q5: 853.21 | R5: 61.07 | S5: 13.23 | T5: 0.35 | U5: 1.65 | V5: 0.26 | W5: <DL | X5: 35.81 | Y5: 21.41 | Z5: 50.92 | AA5: 2.8 | AB5: 0.489 | AC5: <DL | AD5: 0.131 | AE5: 2.92 | AF5: 6.7 | AG5: 1.523 | AH5: 13.87 | AI5: 7.57 | AJ5: 1.58 | AK5: 4.83 | AL5: 2.39 | AM5: 9.7 | AN5: 2.01 | AO5: 4.5 | AP5: 2.05 | AQ5: 4.28 | AR5: 3.36 | AS5: 14.15 | AT5: 0.861 | AU5: <DL | AV5: 0.871 | AW5: 0.357 | AZ5: 0.81 | BA5: 30187.83 | BB5: 5341.71 | BC5: 12.96 | BD5: 1446.72 | BF5: 1.29 | BG5: 197.51 | BH5: 57.99 | BI5: 4.36 | BJ5: 1.4 | BK5: 0.15 | BL5: 0.69 | BM5: 0.12 | BN5: 0.064 | BO5: 1.94 | BP5: 1.33 | BQ5: 3.23 | BR5: 0.21 | BS5: 0.091 | BT5: 0.05 | BU5: 0.062 | BV5: 0.14 | BW5: 0.36 | BX5: 0.086 | BY5: 1.01 | BZ5: 0.58 | CA5: 0.12 | CB5: 0.36 | CC5: 0.12 | CD5: 0.59 | CE5: 0.12 | CF5: 0.3 | CG5: 0.14 | CH5: 0.28 | CI5: 0.17 | CJ5: 0.91 | CK5: 0.058 | CL5: 0.0072 | CM5: 0.059 | CN5: 0.029 | CQ5: 0.7 | CR5: 75.76 | CS5: 80.43 | CT5: 0.156 | CU5: 3.49 | CV5: n.a. | CW5: 0.0722 | CX5: 2.69 | CY5: 0.545 | CZ5: 0.224 | DA5: 1.32 | DB5: 0.326 | DC5: 1.58 | DD5: 0.236 | DE5: 0.167 | DF5: 0.149 | DG5: 0.0181 | DH5: 0.119 | DI5: 0.272 | DJ5: =AVERAGE(DJ4,DJ7:DJ15) -> 0.4775 | DK5: 0.124 | DL5: 0.107 | DM5: 0.00806 | DN5: 0.0207 | DO5: 0.00721 | DP5: 0.0418 | DQ5: 0.104 | DR5: 0.0141 | DS5: 0.046 | DT5: 0.007 | DU5: 0.0341 | DV5: =AVERAGE(DV4,DV6:DV9,DV11:DV13,DV15) -> 0.011994444 | DW5: 0.0369 | DX5: 0.015278333 | DY5: 0.056675 | DZ5: 0.00174 | EA5: 0.043275 | EB5: =AVERAGE(EB6:EB7,EB9) -> 0.01799 | EC5: 0.018 | ED5: 0.00759 | EE5: 0.0128
A6: 42. Exp CHV-E154 | B6: CH-V-6C | C6: Clinopyroxene | D6: CHVE154_cpx_4 | F6: 1200 | G6: 0.0001 | H6: IW-1 | I6: 8.49 | J6: 227905.23 | K6: 167311.52 | L6: 196.56 | M6: 8631.83 | N6: n.a. | O6: 20.52 | P6: 1470.84 | Q6: 812.14 | R6: 59.29 | S6: 14.93 | T6: <DL | U6: 1.52 | V6: 0.51 | W6: <DL | X6: 36.49 | Y6: 19.44 | Z6: 45.31 | AA6: 2.4 | AB6: 0.63 | AC6: <DL | AD6: 0.126 | AE6: 2.77 | AF6: 6.17 | AG6: 1.326 | AH6: 12.53 | AI6: 6.92 | AJ6: 1.39 | AK6: 4.71 | AL6: 2.26 | AM6: 8.98 | AN6: 1.79 | AO6: 4.23 | AP6: 1.95 | AQ6: 4.03 | AR6: 3.03 | AS6: 12.12 | AT6: 0.657 | AU6: <DL | AV6: 0.771 | AW6: 0.336 | AZ6: 0.81 | BA6: 29626.4 | BB6: 5312.62 | BC6: 12.22 | BD6: 1364.33 | BF6: 1.33 | BG6: 187.19 | BH6: 55.21 | BI6: 4.23 | BJ6: 1.54 | BK6: 0.15 | BL6: 0.65 | BM6: 0.15 | BN6: 0.071 | BO6: 1.98 | BP6: 1.21 | BQ6: 2.87 | BR6: 0.19 | BS6: 0.1 | BT6: 0.046 | BU6: 0.051 | BV6: 0.14 | BW6: 0.33 | BX6: 0.076 | BY6: 0.92 | BZ6: 0.54 | CA6: 0.11 | CB6: 0.35 | CC6: 0.11 | CD6: 0.54 | CE6: 0.11 | CF6: 0.29 | CG6: 0.13 | CH6: 0.26 | CI6: 0.15 | CJ6: 0.78 | CK6: 0.046 | CL6: 0.0072 | CM6: 0.053 | CN6: 0.027 | CQ6: 0.7 | CR6: 75.64 | CS6: 78.87 | CT6: 0.18 | CU6: 3.42 | CV6: n.a. | CW6: 0.0527 | CX6: 2.64 | CY6: 0.545 | CZ6: 0.207 | DA6: 1.4 | DB6: 0.345 | DC6: 1.52 | DD6: 0.218 | DE6: 0.187 | DF6: 0.155 | DG6: 0.0327 | DH6: 0.116 | DI6: 0.279 | DJ6: =AVERAGE(DJ4,DJ7:DJ15) -> 0.4775 | DK6: 0.118 | DL6: 0.0753 | DM6: 0.00883 | DN6: 0.0207 | DO6: 0.018366667 | DP6: 0.0418 | DQ6: 0.104 | DR6: 0.02856 | DS6: 0.046 | DT6: 0.00858 | DU6: 0.0197 | DV6: 0.0121 | DW6: 0.0369 | DX6: 0.015278333 | DY6: 0.0233 | DZ6: 0.00348 | EA6: 0.043275 | EB6: 0.00997 | EC6: 0.0147 | ED6: 0.00759 | EE6: 0.0128
A7: 42. Exp CHV-E154 | B7: CH-V-6C | C7: Clinopyroxene | D7: CHVE154-cpx-1 | F7: 1200 | G7: 0.0001 | H7: IW-1 | I7: 4.64 | J7: 219010.34 | K7: 167454.45 | L7: 249.01 | M7: 9836.47 | N7: 9112.96 | O7: 22.55 | P7: 1589.41 | Q7: 815.55 | R7: 56.39 | S7: 15.88 | T7: <DL | U7: <DL | V7: <DL | W7: <DL | X7: 35.81 | Y7: 23.97 | Z7: 65.43 | AA7: 4.04 | AB7: <DL | AC7: <DL | AD7: 0.55 | AE7: 3.13 | AF7: 7.08 | AG7: 1.56 | AH7: 13.36 | AI7: 7.95 | AJ7: 1.65 | AK7: 5.07 | AL7: 2.7 | AM7: 10.03 | AN7: 2.28 | AO7: 5.68 | AP7: 2.5 | AQ7: 4.51 | AR7: 3.81 | AS7: 17.01 | AT7: 1.12 | AU7: <DL | AV7: 0.96 | AW7: 0.373 | AZ7: 2.22 | BA7: 40945.86 | BB7: 5398.91 | BC7: 16.6 | BD7: 5540.45 | BE7: 1436.35 | BF7: 1.63 | BG7: 259.55 | BH7: 55.27 | BI7: 4.33 | BJ7: 2.39 | BK7: 1.47 | BL7: 2.34 | BM7: 0.8 | BN7: 0.23 | BO7: 2.48 | BP7: 1.46 | BQ7: 4.68 | BR7: 0.33 | BS7: 0.28 | BT7: 0.095 | BU7: 0.22 | BV7: 0.24 | BW7: 0.69 | BX7: 0.16 | BY7: 1.26 | BZ7: 1.02 | CA7: 0.2 | CB7: 0.64 | CC7: 0.27 | CD7: 1.02 | CE7: 0.24 | CF7: 0.59 | CG7: 0.27 | CH7: 0.51 | CI7: 0.37 | CJ7: 1.7 | CK7: 0.13 | CL7: 0.028 | CM7: 0.11 | CN7: 0.051 | CQ7: 4.4 | CR7: 289.99 | CS7: 217.39 | CT7: 0.282 | CU7: 26.95 | CV7: 5.51 | CW7: 0.225 | CX7: 1.74 | CY7: 1.13 | CZ7: 0.618 | DA7: 2.89 | DB7: 3.12 | DC7: 4.59 | DD7: 1.74 | DE7: 0.486 | DF7: 0.159 | DG7: 0.0472 | DH7: 0.0975 | DI7: =AVERAGE(DI4:DI6,DI9:DI15) -> 0.11381 | DJ7: 0.619 | DK7: 0.193 | DL7: 0.271 | DM7: 0.00783 | DN7: 0.0175 | DO7: 0.0163 | DP7: 0.0418 | DQ7: 0.104 | DR7: 0.0374 | DS7: 0.191 | DT7: 0.01222 | DU7: =AVERAGE(DU4:DU6,DU12:DU14) -> 0.038533333 | DV7: 0.0142 | DW7: 0.0369 | DX7: 0.0173 | DY7: 0.056675 | DZ7: 0.012 | EA7: 0.043275 | EB7: 0.0302 | EC7: 0.0476 | ED7: 0.00759 | EE7: 0.0128
A8: 42. Exp CHV-E154 | B8: CH-V-6C | C8: Clinopyroxene | D8: CHVE154-cpx-2 | F8: 1200 | G8: 0.0001 | H8: IW-1 | I8: 6.46 | J8: 218528.06 | K8: 167454.45 | L8: 234.05 | M8: 9773.05 | N8: 9214.68 | O8: 22.74 | P8: 1607.78 | Q8: 826.53 | R8: 56.12 | S8: 16.74 | T8: <DL | U8: <DL | V8: <DL | W8: <DL | X8: 35.75 | Y8: 26.16 | Z8: 64.26 | AA8: 4.25 | AB8: <DL | AC8: <DL | AD8: <DL | AE8: 3.25 | AF8: 7.27 | AG8: 1.83 | AH8: 14.79 | AI8: 8.85 | AJ8: 1.47 | AK8: 5.76 | AL8: 3.07 | AM8: 11.44 | AN8: 2.42 | AO8: 5.46 | AP8: 2.48 | AQ8: 5.9 | AR8: 4.09 | AS8: 16.67 | AT8: 1.29 | AU8: <DL | AV8: 1.06 | AW8: 0.46 | AZ8: 2.12 | BA8: 40867.67 | BB8: 5379.29 | BC8: 15.62 | BD8: 5510.6 | BE8: 1457.41 | BF8: 1.63 | BG8: 263.3 | BH8: 56.05 | BI8: 4.3 | BJ8: 2.36 | BK8: 1.42 | BL8: 1.98 | BM8: 0.99 | BN8: 0.22 | BO8: 2.47 | BP8: 1.58 | BQ8: 4.59 | BR8: 0.34 | BS8: 0.26 | BT8: 0.086 | BU8: 0.16 | BV8: 0.25 | BW8: 0.71 | BX8: 0.17 | BY8: 1.35 | BZ8: 1.08 | CA8: 0.17 | CB8: 0.7 | CC8: 0.3 | CD8: 1.14 | CE8: 0.25 | CF8: 0.56 | CG8: 0.27 | CH8: 0.63 | CI8: 0.4 | CJ8: 1.66 | CK8: 0.15 | CL8: 0.012 | CM8: 0.12 | CN8: 0.057 | CQ8: 4.2 | CR8: 278.82 | CS8: 196.84 | CT8: 0.277 | CU8: 25.6 | CV8: 5.13 | CW8: 0.253 | CX8: 2.04 | CY8: 1.1 | CZ8: 0.616 | DA8: 2.8 | DB8: 3.14 | DC8: 4.48 | DD8: 1.38 | DE8: 0.502 | DF8: 0.141 | DG8: 0.0369 | DH8: 0.156 | DI8: =AVERAGE(DI4:DI6,DI9:DI15) -> 0.11381 | DJ8: 0.509 | DK8: 0.181 | DL8: 0.341 | DM8: 0.0137 | DN8: 0.026 | DO8: 0.0208 | DP8: 0.0418 | DQ8: 0.104 | DR8: 0.0302 | DS8: 0.173 | DT8: 0.0137 | DU8: 0.038533333 | DV8: 0.0139 | DW8: 0.0369 | DX8: 0.0158 | DY8: 0.0631 | DZ8: 0.00618 | EA8: 0.043275 | EB8: 0.01799 | EC8: 0.0368 | ED8: 0.00759 | EE8: 0.0128
A9: 42. Exp CHV-E154 | B9: CH-V-6C | C9: Clinopyroxene | D9: CHVE154-cpx-4 | F9: 1200 | G9: 0.0001 | H9: IW-1 | I9: 13.99 | J9: 222729.2 | K9: 167454.45 | L9: 241.01 | M9: 9417.86 | N9: 9022.46 | O9: 22.32 | P9: 1812.06 | Q9: 832.86 | R9: 59.34 | S9: 11.47 | T9: <DL | U9: <DL | V9: <DL | W9: <DL | X9: 37.45 | Y9: 24.78 | Z9: 64.37 | AA9: 3.2 | AB9: 1.16 | AC9: <DL | AD9: <DL | AE9: 3.26 | AF9: 7.06 | AG9: 1.52 | AH9: 15.55 | AI9: 9.26 | AJ9: 1.64 | AK9: 5.84 | AL9: 2.83 | AM9: 12 | AN9: 2.32 | AO9: 5.55 | AP9: 2.59 | AQ9: 5.11 | AR9: 3.92 | AS9: 18.4 | AT9: 1.16 | AU9: <DL | AV9: 1.13 | AW9: 0.407 | AZ9: 2.69 | BA9: 41682.11 | BB9: 5362.23 | BC9: 16.12 | BD9: 5323.13 | BE9: 1437.59 | BF9: 1.58 | BG9: 298.64 | BH9: 56.6 | BI9: 4.54 | BJ9: 1.89 | BK9: 1.39 | BL9: 2.03 | BM9: 0.64 | BN9: 0.21 | BO9: 2.59 | BP9: 1.49 | BQ9: 4.61 | BR9: 0.26 | BS9: 0.31 | BT9: 0.088 | BU9: 0.15 | BV9: 0.25 | BW9: 0.69 | BX9: 0.14 | BY9: 1.38 | BZ9: 1.11 | CA9: 0.19 | CB9: 0.7 | CC9: 0.28 | CD9: 1.19 | CE9: 0.24 | CF9: 0.56 | CG9: 0.28 | CH9: 0.54 | CI9: 0.38 | CJ9: 1.82 | CK9: 0.13 | CL9: 0.011 | CM9: 0.12 | CN9: 0.05 | CQ9: 4.74 | CR9: 318.77 | CS9: 231.97 | CT9: 0.308 | CU9: 29.01 | CV9: 5.69 | CW9: 0.282 | CX9: 2.48 | CY9: 1.27 | CZ9: 0.672 | DA9: 3.13 | DB9: 3.41 | DC9: 4.88 | DD9: 1.6 | DE9: 0.53 | DF9: 0.186 | DG9: 0.0448 | DH9: 0.127 | DI9: 0.0811 | DJ9: 0.507 | DK9: 0.214 | DL9: 0.406 | DM9: 0.0135 | DN9: 0.0184 | DO9: 0.0255 | DP9: 0.0418 | DQ9: 0.104 | DR9: 0.03 | DS9: 0.241 | DT9: 0.0188 | DU9: 0.038533333 | DV9: 0.0208 | DW9: 0.0549 | DX9: 0.0213 | DY9: 0.056675 | DZ9: 0.00985 | EA9: 0.043275 | EB9: 0.0138 | EC9: 0.0213 | ED9: 0.00759 | EE9: 0.0128
A10: 42. Exp CHV-E154 | B10: CH-V-6C | C10: Clinopyroxene | D10: CHVE154-cpx-5 | F10: 1200 | G10: 0.0001 | H10: IW-1 | I10: 6.87 | J10: 227823.84 | K10: 167454.44 | L10: 223.37 | M10: 9329.77 | N10: 8919.42 | O10: 22.15 | P10: 1647.26 | Q10: 839.09 | R10: 59.88 | S10: 14.09 | T10: <DL | U10: <DL | V10: <DL | W10: <DL | X10: 37.25 | Y10: 23.35 | Z10: 55.51 | AA10: 2.91 | AB10: <DL | AC10: <DL | AD10: <DL | AE10: 3 | AF10: 6.37 | AG10: 1.42 | AH10: 13.64 | AI10: 9.08 | AJ10: 1.41 | AK10: 5.07 | AL10: 2.53 | AM10: 10.5 | AN10: 2.12 | AO10: 5.31 | AP10: 2.41 | AQ10: 5.14 | AR10: 3.81 | AS10: 14.36 | AT10: 0.831 | AU10: <DL | AV10: 0.97 | AW10: 0.392 | AZ10: 1.91 | BA10: 42650.8 | BB10: 5354.93 | BC10: 14.97 | BD10: 5280.35 | BE10: 1426.61 | BF10: 1.57 | BG10: 272.44 | BH10: 57.09 | BI10: 4.59 | BJ10: 2 | BK10: 1.11 | BL10: 2.38 | BM10: 0.51 | BN10: 0.18 | BO10: 2.58 | BP10: 1.41 | BQ10: 3.99 | BR10: 0.23 | BS10: 0.31 | BT10: 0.076 | BU10: 0.15 | BV10: 0.23 | BW10: 0.62 | BX10: 0.13 | BY10: 1.22 | BZ10: 1.08 | CA10: 0.16 | CB10: 0.6 | CC10: 0.25 | CD10: 1.04 | CE10: 0.22 | CF10: 0.54 | CG10: 0.26 | CH10: 0.54 | CI10: 0.37 | CJ10: 1.43 | CK10: 0.096 | CL10: 0.024 | CM10: 0.11 | CN10: 0.048 | CQ10: 3.93 | CR10: 266.65 | CS10: 199.4 | CT10: 0.274 | CU10: 23.36 | CV10: 5.58 | CW10: 0.277 | CX10: 2.01 | CY10: 0.984 | CZ10: 0.572 | DA10: 2.67 | DB10: 2.64 | DC10: 4.15 | DD10: 1.24 | DE10: 0.412 | DF10: 0.129 | DG10: 0.0458 | DH10: 0.134 | DI10: 0.05 | DJ10: 0.672 | DK10: 0.182 | DL10: 0.3 | DM10: 0.00666 | DN10: 0.016 | DO10: 0.018366667 | DP10: 0.0418 | DQ10: 0.104 | DR10: 0.0263 | DS10: 0.154 | DT10: 0.01222 | DU10: 0.038533333 | DV10: 0.011994444 | DW10: 0.0262 | DX10: 0.015278333 | DY10: 0.056675 | DZ10: 0.00426 | EA10: 0.0415 | EB10: 0.01799 | EC10: 0.0634 | ED10: 0.00759 | EE10: 0.0128
A11: 42. Exp CHV-E154 | B11: CH-V-6C | C11: Clinopyroxene | D11: CHVE154-cpx-6 | F11: 1200 | G11: 0.0001 | H11: IW-1 | I11: 10.29 | J11: 232472.39 | K11: 167454.45 | L11: 244.04 | M11: 8529.9 | N11: 8261.96 | O11: 24.33 | P11: 2065.2 | Q11: 812.7 | R11: 63.97 | S11: 13.16 | T11: <DL | U11: <DL | V11: <DL | W11: <DL | X11: 36.06 | Y11: 22.42 | Z11: 51.69 | AA11: 2.24 | AB11: 1.21 | AC11: <DL | AD11: <DL | AE11: 2.82 | AF11: 6.44 | AG11: 1.28 | AH11: 13.42 | AI11: 8.79 | AJ11: 1.45 | AK11: 4.32 | AL11: 2.49 | AM11: 9.03 | AN11: 2.08 | AO11: 5.21 | AP11: 2.28 | AQ11: 4.29 | AR11: 3.7 | AS11: 14.56 | AT11: 0.797 | AU11: <DL | AV11: 0.796 | AW11: 0.328 | AZ11: 2.27 | BA11: 43541.37 | BB11: 5374.14 | BC11: 16.42 | BD11: 4834.57 | BE11: 1326.99 | BF11: 1.74 | BG11: 342.86 | BH11: 55.44 | BI11: 4.93 | BJ11: 2.04 | BK11: 1.23 | BL11: 1.76 | BM11: 0.95 | BN11: 0.2 | BO11: 2.52 | BP11: 1.37 | BQ11: 3.75 | BR11: 0.2 | BS11: 0.32 | BT11: 0.08 | BU11: 0.16 | BV11: 0.22 | BW11: 0.64 | BX11: 0.13 | BY11: 1.24 | BZ11: 1.08 | CA11: 0.17 | CB11: 0.54 | CC11: 0.25 | CD11: 0.92 | CE11: 0.22 | CF11: 0.54 | CG11: 0.25 | CH11: 0.48 | CI11: 0.36 | CJ11: 1.47 | CK11: 0.098 | CL11: 0.016 | CM11: 0.091 | CN11: 0.044 | CQ11: 3.89 | CR11: 265.8 | CS11: 195.84 | CT11: 0.321 | CU11: 24.22 | CV11: 4.75 | CW11: 0.246 | CX11: 1.6 | CY11: 0.993 | CZ11: 0.528 | DA11: 2.73 | DB11: 2.75 | DC11: 3.71 | DD11: 1.36 | DE11: 0.43 | DF11: 0.155 | DG11: 0.0165 | DH11: 0.108 | DI11: 0.0224 | DJ11: 0.444 | DK11: 0.172 | DL11: 0.305 | DM11: =AVERAGE(DM10,DM13:DM21) -> 0.0065725 | DN11: =AVERAGE(DN10,DN13:DN21) -> 0.03310625 | DO11: 0.018366667 | DP11: 0.0418 | DQ11: 0.104 | DR11: 0.0349 | DS11: 0.165 | DT11: 0.01222 | DU11: 0.038533333 | DV11: 0.013 | DW11: 0.0296 | DX11: 0.015278333 | DY11: 0.056675 | DZ11: 0.00336 | EA11: 0.0507 | EB11: 0.0234 | EC11: 0.0475 | ED11: 0.00759 | EE11: 0.0128
A12: 42. Exp CHV-E154 | B12: CH-V-6C | C12: Clinopyroxene | D12: CHVE154-cpx-7 | F12: 1200 | G12: 0.0001 | H12: IW-1 | I12: 10.17 | J12: 224624.98 | K12: 167454.45 | L12: 265.43 | M12: 7152.82 | N12: 6844.41 | O12: 35.34 | P12: 3663.04 | Q12: 696.56 | R12: 61.95 | S12: 18.8 | T12: <DL | U12: <DL | V12: <DL | W12: <DL | X12: 30.75 | Y12: 17.97 | Z12: 40.28 | AA12: 1.97 | AB12: 0.95 | AC12: <DL | AD12: <DL | AE12: 2.43 | AF12: 5.36 | AG12: 1.21 | AH12: 12.34 | AI12: 5.63 | AJ12: 1.26 | AK12: 4.33 | AL12: 2.19 | AM12: 8.11 | AN12: 1.7 | AO12: 4.26 | AP12: 1.78 | AQ12: 3.59 | AR12: 3.04 | AS12: 11.66 | AT12: 0.654 | AU12: <DL | AV12: 0.842 | AW12: 0.325 | AZ12: 2.15 | BA12: 42085.37 | BB12: 5354.47 | BC12: 17.86 | BD12: 4060.09 | BE12: 1103.61 | BF12: 2.46 | BG12: 609.9 | BH12: 47.56 | BI12: 4.77 | BJ12: 2.47 | BK12: 1.22 | BL12: 2.03 | BM12: 1.05 | BN12: 0.19 | BO12: 2.15 | BP12: 1.1 | BQ12: 2.93 | BR12: 0.17 | BS12: 0.26 | BT12: 0.077 | BU12: 0.15 | BV12: 0.19 | BW12: 0.53 | BX12: 0.12 | BY12: 1.12 | BZ12: 0.71 | CA12: 0.15 | CB12: 0.53 | CC12: 0.22 | CD12: 0.82 | CE12: 0.18 | CF12: 0.44 | CG12: 0.2 | CH12: 0.4 | CI12: 0.3 | CJ12: 1.18 | CK12: 0.079 | CL12: 0.015 | CM12: 0.093 | CN12: 0.041 | CQ12: 3.89 | CR12: 267 | CS12: 188.94 | CT12: 0.292 | CU12: 23.85 | CV12: 4.1 | CW12: 0.242 | CX12: 1.81 | CY12: 1.01 | CZ12: 0.574 | DA12: 2.84 | DB12: 2.92 | DC12: 4.82 | DD12: 0.792 | DE12: 0.462 | DF12: 0.159 | DG12: 0.026 | DH12: 0.143 | DI12: 0.0511 | DJ12: 0.394 | DK12: 0.181 | DL12: 0.319 | DM12: 0.00497 | DN12: =AVERAGE(DN11,DN14:DN22) -> 0.030222813 | DO12: 0.0115 | DP12: 0.0418 | DQ12: 0.104 | DR12: 0.0244 | DS12: 0.199 | DT12: 0.01222 | DU12: 0.0714 | DV12: 0.00914 | DW12: 0.0369 | DX12: 0.0128 | DY12: 0.056675 | DZ12: 0.0074166667 | EA12: 0.043275 | EB12: 0.0242 | EC12: 0.0307 | ED12: 0.00759 | EE12: 0.0128
A13: 42. Exp CHV-E154 | B13: CH-V-6C | C13: Clinopyroxene | D13: CHVE154-cpx-8 | F13: 1200 | G13: 0.0001 | H13: IW-1 | I13: 14.93 | J13: 229168.05 | K13: 167454.45 | L13: 210.03 | M13: 4946.5 | N13: 4857.2 | O13: 20.41 | P13: 1681.34 | Q13: 770.97 | R13: 60.8 | S13: 18.03 | T13: <DL | U13: <DL | V13: <DL | W13: <DL | X13: 31.04 | Y13: 14.14 | Z13: 21.61 | AA13: 0.691 | AB13: 0.84 | AC13: <DL | AD13: <DL | AE13: 1.75 | AF13: 3.7 | AG13: 0.98 | AH13: 8.44 | AI13: 4.88 | AJ13: 1.08 | AK13: 2.79 | AL13: 1.57 | AM13: 6.61 | AN13: 1.28 | AO13: 3.5 | AP13: 1.49 | AQ13: 3.04 | AR13: 2.33 | AS13: 6.25 | AT13: 0.157 | AU13: 0.051 | AV13: 0.367 | AW13: 0.089 | AZ13: 2.67 | BA13: 42955.67 | BB13: 5364.83 | BC13: 14.19 | BD13: 2812.23 | BE13: 786.67 | BF13: 1.47 | BG13: 281.25 | BH13: 52.75 | BI13: 4.7 | BJ13: 2.4 | BK13: 1.31 | BL13: 2.48 | BM13: 0.7 | BN13: 0.19 | BO13: 2.18 | BP13: 0.88 | BQ13: 1.61 | BR13: 0.08 | BS13: 0.29 | BT13: 0.075 | BU13: 0.15 | BV13: 0.14 | BW13: 0.37 | BX13: 0.1 | BY13: 0.82 | BZ13: 0.64 | CA13: 0.13 | CB13: 0.37 | CC13: 0.16 | CD13: 0.69 | CE13: 0.14 | CF13: 0.37 | CG13: 0.17 | CH13: 0.35 | CI13: 0.23 | CJ13: 0.66 | CK13: 0.03 | CL13: 0.023 | CM13: 0.046 | CN13: 0.017 | CQ13: 4 | CR13: 270.69 | CS13: 188.88 | CT13: 0.257 | CU13: 23.57 | CV13: 4.92 | CW13: 0.253 | CX13: 2.31 | CY13: 1.04 | CZ13: 0.56 | DA13: 2.57 | DB13: 2.93 | DC13: 3.26 | DD13: 1.62 | DE13: 0.441 | DF13: 0.163 | DG13: 0.0581 | DH13: 0.136 | DI13: 0.0326 | DJ13: 0.499 | DK13: 0.177 | DL13: 0.336 | DM13: 0.00715 | DN13: 0.0316 | DO13: 0.0237 | DP13: 0.0418 | DQ13: 0.104 | DR13: 0.0355 | DS13: 0.155 | DT13: 0.00807 | DU13: 0.0491 | DV13: 0.00943 | DW13: 0.0369 | DX13: 0.0156 | DY13: 0.0912 | DZ13: 0.00996 | EA13: 0.043275 | EB13: 0.0269 | EC13: 0.038 | ED13: 0.00759 | EE13: 0.0128
A14: 42. Exp CHV-E154 | B14: CH-V-6C | C14: Clinopyroxene | D14: CHVE154-cpx-9 | F14: 1200 | G14: 0.0001 | H14: IW-1 | I14: 11.15 | J14: 234003.33 | K14: 167454.45 | L14: 225.47 | M14: 6546.45 | N14: 6384.11 | O14: 20.21 | P14: 1678.67 | Q14: 787.94 | R14: 58.96 | S14: 10.7 | T14: <DL | U14: <DL | V14: <DL | W14: <DL | X14: 33.73 | Y14: 19.54 | Z14: 35.38 | AA14: 1.46 | AB14: 0.67 | AC14: <DL | AD14: <DL | AE14: 2.44 | AF14: 5.18 | AG14: 1.02 | AH14: 11.49 | AI14: 6.85 | AJ14: 1.15 | AK14: 4.41 | AL14: 2.23 | AM14: 8.74 | AN14: 1.8 | AO14: 4.03 | AP14: 1.82 | AQ14: 3.73 | AR14: 3 | AS14: 9.71 | AT14: 0.341 | AU14: <DL | AV14: 0.518 | AW14: 0.233 | AZ14: 2.28 | BA14: 43878.7 | BB14: 5356.87 | BC14: 15.26 | BD14: 3727.89 | BE14: 1037.98 | BF14: 1.45 | BG14: 281.84 | BH14: 53.98 | BI14: 4.57 | BJ14: 1.78 | BK14: 1.15 | BL14: 1.91 | BM14: 0.86 | BN14: 0.19 | BO14: 2.37 | BP14: 1.2 | BQ14: 2.59 | BR14: 0.13 | BS14: 0.29 | BT14: 0.079 | BU14: 0.11 | BV14: 0.19 | BW14: 0.52 | BX14: 0.1 | BY14: 1.06 | BZ14: 0.85 | CA14: 0.14 | CB14: 0.54 | CC14: 0.22 | CD14: 0.89 | CE14: 0.19 | CF14: 0.42 | CG14: 0.2 | CH14: 0.41 | CI14: 0.3 | CJ14: 1 | CK14: 0.047 | CL14: 0.02 | CM14: 0.061 | CN14: 0.032 | CQ14: 4.01 | CR14: 275.53 | CS14: 200.22 | CT14: 0.288 | CU14: 24.26 | CV14: 5.24 | CW14: 0.223 | CX14: 2.07 | CY14: 1.05 | CZ14: 0.589 | DA14: 2.82 | DB14: 2.72 | DC14: 4.61 | DD14: 1.78 | DE14: 0.448 | DF14: 0.133 | DG14: 0.043 | DH14: 0.149 | DI14: 0.0359 | DJ14: 0.567 | DK14: 0.194 | DL14: 0.211 | DM14: 0.00516 | DN14: =AVERAGE(DN15,DK15:DK23) -> 0.066625 | DO14: 0.018366667 | DP14: 0.0418 | DQ14: 0.104 | DR14: 0.0178 | DS14: 0.141 | DT14: 0.0157 | DU14: 0.0371 | DV14: 0.011994444 | DW14: 0.0369 | DX14: 0.00887 | DY14: 0.0491 | DZ14: 0.00719 | EA14: 0.0371 | EB14: 0.021 | EC14: 0.0406 | ED14: 0.00759 | EE14: 0.0128
A15: 42. Exp CHV-E154 | B15: CH-V-6C | C15: Clinopyroxene | D15: CHVE154-cpx-10 | F15: 1200 | G15: 0.0001 | H15: IW-1 | I15: 10.6 | J15: 224467.2 | K15: 167454.47 | L15: 220.02 | M15: 8128.29 | N15: 7967.65 | O15: 19.81 | P15: 1222.23 | Q15: 841.87 | R15: 53.16 | S15: 11.68 | T15: <DL | U15: <DL | V15: <DL | W15: 0.51 | X15: 40.17 | Y15: 20.98 | Z15: 49.29 | AA15: 2.33 | AB15: 0.65 | AC15: <DL | AD15: <DL | AE15: 2.71 | AF15: 6.13 | AG15: 1.32 | AH15: 12.33 | AI15: 7.71 | AJ15: 1.52 | AK15: 5.21 | AL15: 2.51 | AM15: 10.36 | AN15: 2.25 | AO15: 4.52 | AP15: 2.08 | AQ15: 4.31 | AR15: 3.4 | AS15: 13.9 | AT15: 0.605 | AU15: <DL | AV15: 0.79 | AW15: 0.298 | AZ15: 2.25 | BA15: 42110.66 | BB15: 5371.29 | BC15: 14.95 | BD15: 4636.64 | BE15: 1300.98 | BF15: 1.44 | BG15: 206.19 | BH15: 57.81 | BI15: 4.15 | BJ15: 1.96 | BK15: 1.2 | BL15: 2 | BM15: 0.61 | BN15: 0.2 | BO15: 2.83 | BP15: 1.29 | BQ15: 3.62 | BR15: 0.2 | BS15: 0.27 | BT15: 0.08 | BU15: 0.15 | BV15: 0.21 | BW15: 0.61 | BX15: 0.13 | BY15: 1.16 | BZ15: 0.97 | CA15: 0.18 | CB15: 0.65 | CC15: 0.25 | CD15: 1.06 | CE15: 0.24 | CF15: 0.48 | CG15: 0.23 | CH15: 0.48 | CI15: 0.34 | CJ15: 1.42 | CK15: 0.078 | CL15: 0.024 | CM15: 0.091 | CN15: 0.04 | CQ15: 3.74 | CR15: 256.27 | CS15: 182.67 | CT15: 0.269 | CU15: 22.48 | CV15: 5.01 | CW15: 0.165 | CX15: 2.22 | CY15: 0.975 | CZ15: 0.53 | DA15: 2.87 | DB15: 2.6 | DC15: 4.36 | DD15: 1.39 | DE15: 0.407 | DF15: 0.141 | DG15: 0.0362 | DH15: 0.146 | DI15: 0.032 | DJ15: 0.463 | DK15: 0.17 | DL15: 0.399 | DM15: 0.00732 | DN15: 0.0182 | DO15: 0.0124 | DP15: 0.132 | DQ15: 0.104 | DR15: 0.035 | DS15: 0.182 | DT15: 0.00847 | DU15: 0.038533333 | DV15: 0.00835 | DW15: 0.0369 | DX15: 0.015278333 | DY15: 0.056675 | DZ15: 0.0051 | EA15: 0.0438 | EB15: 0.0221 | EC15: 0.0418 | ED15: 0.00759 | EE15: 0.0128
D16: Average | I16: =AVERAGE(I4:I15) -> 9.8583333 | J16: =AVERAGE(J4:J15) -> 227501.87 | K16: =AVERAGE(K4:K15) -> 167597.39 | L16: =AVERAGE(L4:L15) -> 227.87 | M16: =AVERAGE(M4:M15) -> 8328.8142 | N16: =AVERAGE(N4:N15) -> 7842.7611 | O16: =AVERAGE(O4:O15) -> 22.639167 | P16: =AVERAGE(P4:P15) -> 1783.24 | ... AB16: =AVERAGE(AB4:AB15) -> 0.774 | AD16: =AVERAGE(AD4:AD15) -> 0.269 | AE16: =AVERAGE(AE4:AE15) -> 2.7675 | AF16: =AVERAGE(AF4:AF15) -> 6.1366667 | AG16: =AVERAGE(AG4:AG15) -> 1.3690833 | AH16: =AVERAGE(AH4:AH15) -> 12.899167 | AI16: =AVERAGE(AI4:AI15) -> 7.56 | AJ16: =AVERAGE(AJ4:AJ15) -> 1.42 | AK16: =AVERAGE(AK4:AK15) -> 4.77 | ... AW16: =AVERAGE(AW4:AW15) -> 0.32691667
D17: Median | I17: =MEDIAN(I4:I15) -> 10.23 | J17: =MEDIAN(J4:J15) -> 227864.54 | K17: =MEDIAN(K4:K15) -> 167454.45 | L17: =MEDIAN(L4:L15) -> 224.42 | M17: =MEDIAN(M4:M15) -> 8580.865 | N17: =MEDIAN(N4:N15) -> 8261.96 | O17: =MEDIAN(O4:O15) -> 21.81 | P17: =MEDIAN(P4:P15) -> 1627.52 | ... AB17: =MEDIAN(AB4:AB15) -> 0.67 | AD17: =MEDIAN(AD4:AD15) -> 0.131 | AE17: =MEDIAN(AE4:AE15) -> 2.795 | AF17: =MEDIAN(AF4:AF15) -> 6.275 | AG17: =MEDIAN(AG4:AG15) -> 1.373 | AH17: =MEDIAN(AH4:AH15) -> 13.195 | AI17: =MEDIAN(AI4:AI15) -> 7.64 | AJ17: =MEDIAN(AJ4:AJ15) -> 1.445 | AK17: =MEDIAN(AK4:AK15) -> 4.865 | ... AW17: =MEDIAN(AW4:AW15) -> 0.332
D18: Stdev | I18: =STDEV(I4:I15) -> 3.0556113 | J18: =STDEV(J4:J15) -> 5850.4345 | K18: =STDEV(K4:K15) -> 380.63185 | L18: =STDEV(L4:L15) -> 19.562545 | M18: =STDEV(M4:M15) -> 1459.6668 | N18: =STDEV(N4:N15) -> 1511.4446 | O18: =STDEV(O4:O15) -> 4.2341586 | P18: =STDEV(P4:P15) -> 627.28078 | ... V18: =STDEV(V4:V15) -> 0.13228757 | X18: =STDEV(X4:X15) -> 2.6295673 | Y18: =STDEV(Y4:Y15) -> 3.2957052 | Z18: =STDEV(Z4:Z15) -> 12.928083 | AA18: =STDEV(AA4:AA15) -> 0.99853457 | AB18: =STDEV(AB4:AB15) -> 0.28901254 | AD18: =STDEV(AD4:AD15) -> 0.24336598 | AE18: =STDEV(AE4:AE15) -> 0.42082441 | AF18: =STDEV(AF4:AF15) -> 0.99770039 | AG18: =STDEV(AG4:AG15) -> 0.23620771 | AH18: =STDEV(AH4:AH15) -> 1.7897966 | AI18: =STDEV(AI4:AI15) -> 1.3645512 | AJ18: =STDEV(AJ4:AJ15) -> 0.17984842 | AK18: =STDEV(AK4:AK15) -> 0.79594426 | ... AT18: =STDEV(AT4:AT15) -> 0.33012811 | AV18: =STDEV(AV4:AV15) -> 0.2132484 | AW18: =STDEV(AW4:AW15) -> 0.094263131
D19: RSD**** | I19: =I18/I16 -> 0.30995212 | J19: =J18/J16 -> 0.025715984 | K19: =K18/K16 -> 0.0022711084 | L19: =L18/L16 -> 0.085849585 | M19: =M18/M16 -> 0.17525506 | N19: =N18/N16 -> 0.19271843 | O19: =O18/O16 -> 0.18702802 | P19: =P18/P16 -> 0.35176464 | ... V19: =V18/V16 -> 0.36746546 | X19: =X18/X16 -> 0.074016719 | Y19: =Y18/Y16 -> 0.15575166 | Z19: =Z18/Z16 -> 0.26361428 | AA19: =AA18/AA16 -> 0.39246716 | AB19: =AB18/AB16 -> 0.37340122 | AD19: =AD18/AD16 -> 0.90470624 | AE19: =AE18/AE16 -> 0.15205941 | AF19: =AF18/AF16 -> 0.16258018 | AG19: =AG18/AG16 -> 0.17252983 | AH19: =AH18/AH16 -> 0.13875289 | AI19: =AI18/AI16 -> 0.18049619 | AJ19: =AJ18/AJ16 -> 0.12665382 | AK19: =AK18/AK16 -> 0.16686463 | ... AT19: =AT18/AT16 -> 0.43682184 | AV19: =AV18/AV16 -> 0.25947888 | AW19: =AW18/AW16 -> 0.28833994
D20: RSD% | I20: =I19*100 -> 30.995212 | J20: =J19*100 -> 2.5715984 | K20: =K19*100 -> 0.22711084 | L20: =L19*100 -> 8.5849585 | M20: =M19*100 -> 17.525506 | N20: =N19*100 -> 19.271843 | O20: =O19*100 -> 18.702802 | P20: =P19*100 -> 35.176464 | ... V20: =V19*100 -> 36.746546 | X20: =X19*100 -> 7.4016719 | Y20: =Y19*100 -> 15.575166 | Z20: =Z19*100 -> 26.361428 | AA20: =AA19*100 -> 39.246716 | AB20: =AB19*100 -> 37.340122 | AD20: =AD19*100 -> 90.470624 | AE20: =AE19*100 -> 15.205941 | AF20: =AF19*100 -> 16.258018 | AG20: =AG19*100 -> 17.252983 | AH20: =AH19*100 -> 13.875289 | AI20: =AI19*100 -> 18.049619 | AJ20: =AJ19*100 -> 12.665382 | AK20: =AK19*100 -> 16.686463 | ... AT20: =AT19*100 -> 43.682184 | AV20: =AV19*100 -> 25.947888 | AW20: =AW19*100 -> 28.833994
A22: 42. Exp CHV-E154 | B22: CH-V-6C | C22: Glass | D22: CHVE154-7 | F22: 1200 | G22: 0.0001 | H22: IW-1 | I22: 120.23 | J22: 190071.55 | K22: 129289.4 | L22: 58.79 | M22: 15157.59 | N22: n.a. | O22: 2.27 | P22: 124.08 | Q22: 2176.59 | R22: 68.52 | S22: 11.22 | T22: 0.223 | U22: <DL | V22: 1.53 | W22: 4.72 | X22: 368.8 | Y22: 64.27 | Z22: 156.51 | AA22: 310.01 | AB22: 1.39 | AC22: 0.799 | AD22: 238.99 | AE22: 39.38 | AF22: 52.25 | AG22: 7.93 | AH22: 58.04 | AI22: 23.57 | AJ22: 6.97 | AK22: 13.42 | AL22: 6.75 | AM22: 26.17 | AN22: 5.77 | AO22: 13.12 | AP22: 6.5 | AQ22: 14.04 | AR22: 10.16 | AS22: 19.62 | AT22: 25.26 | AU22: <DL | AV22: 72.66 | AW22: 28.84 | AZ22: 13.13 | BA22: 26794.16 | BB22: 4097.13 | BC22: 5.11 | BD22: 3630.34 | BF22: 0.2 | BG22: 24.32 | BH22: 192.92 | BI22: 6.98 | BJ22: 1.55 | BK22: 0.085 | BL22: 0.28 | BM22: 0.33 | BN22: 0.42 | BO22: 27.29 | BP22: 5.92 | BQ22: 14.87 | BR22: 25.76 | BS22: 0.19 | BT22: 0.072 | BU22: 26.99 | BV22: 2.62 | BW22: 3.6 | BX22: 0.51 | BY22: 5.94 | BZ22: 2.41 | CA22: 0.68 | CB22: 1.33 | CC22: 0.42 | CD22: 2.18 | CE22: 0.45 | CF22: 1.23 | CG22: 0.62 | CH22: 1.16 | CI22: 0.69 | CJ22: 1.8 | CK22: 2.07 | CL22: 0.0024 | CM22: 6.28 | CN22: 2.64 | CQ22: 0.284 | CR22: 27.73 | CS22: 27.11 | CT22: 0.0551 | CU22: 1.57 | CV22: n.a. | CW22: 0.0272 | CX22: 0.962 | CY22: 0.192 | CZ22: 0.0464 | DA22: 0.499 | DB22: 0.182 | DC22: 0.717 | DD22: 0.0697 | DE22: 0.0594 | DF22: 0.0401 | DG22: 0.00482 | DH22: 0.0196 | DI22: 0.0448 | DJ22: =AVERAGE(DJ24:DJ28) -> 0.18384 | DK22: 0.0357 | DL22: 0.0533 | DM22: 0.00242 | DN22: 0.00296 | DO22: =AVERAGE(DO25,DO27) -> 0.006065 | DP22: 0.0418 | DQ22: 0.0188 | DR22: 0.00493 | DS22: =AVERAGE(DS24:DS28) -> 0.05198 | DT22: =AVERAGE(DT25:DT26) -> 0.00462 | DU22: =AVERAGE(DU24:DU28) -> 0.01896 | DV22: =AVERAGE(DV25:DV26,DV28) -> 0.00545 | DW22: =AVERAGE(DW26,DW28) -> 0.0124 | DX22: =AVERAGE(DX25,DX27:DX28) -> 0.00543 | DY22: =AVERAGE(DY25:DY26) -> 0.02345 | DZ22: =AVERAGE(DZ23:DZ28) -> 0.0020533333 | EA22: 0.015933333 | EB22: =AVERAGE(EB25:EB28) -> 0.0060175 | EC22: 0.00655 | ED22: =AVERAGE(ED24,ED26,ED28) -> 0.0027066667 | EE22: 0.00376
A23: 42. Exp CHV-E154 | B23: CH-V-6C | C23: Glass | D23: CHVE154-9 | F23: 1200 | G23: 0.0001 | H23: IW-1 | I23: 121 | J23: 189284.77 | K23: 131362.02 | L23: 57.51 | M23: 15047.81 | N23: n.a. | O23: 2.25 | P23: 125.36 | Q23: 2190.42 | R23: 67.13 | S23: 11.25 | T23: 0.38 | U23: <DL | V23: 1.56 | W23: 4.86 | X23: 366.69 | Y23: 65.06 | Z23: 159.27 | AA23: 313.09 | AB23: 1.29 | AC23: 0.864 | AD23: 243.39 | AE23: 39.7 | AF23: 52.36 | AG23: 8.27 | AH23: 59.44 | AI23: 24.22 | AJ23: 7.4 | AK23: 13.72 | AL23: 6.96 | AM23: 26.6 | AN23: 5.64 | AO23: 13.66 | AP23: 6.57 | AQ23: 14.09 | AR23: 10.28 | AS23: 19.49 | AT23: 24.93 | AU23: <DL | AV23: 73.25 | AW23: 28.75 | AZ23: 13.23 | BA23: 26695.33 | BB23: 4160.62 | BC23: 5 | BD23: 3610.19 | BF23: 0.2 | BG23: 24.6 | BH23: 194.38 | BI23: 6.85 | BJ23: 1.55 | BK23: 0.09 | BL23: 0.28 | BM23: 0.33 | BN23: 0.43 | BO23: 27.17 | BP23: 6 | BQ23: 15.15 | BR23: 26.06 | BS23: 0.17 | BT23: 0.077 | BU23: 27.53 | BV23: 2.65 | BW23: 3.62 | BX23: 0.53 | BY23: 6.09 | BZ23: 2.47 | CA23: 0.73 | CB23: 1.36 | CC23: 0.43 | CD23: 2.22 | CE23: 0.44 | CF23: 1.28 | CG23: 0.63 | CH23: 1.17 | CI23: 0.7 | CJ23: 1.79 | CK23: 2.05 | CL23: 0.0028 | CM23: 6.34 | CN23: 2.64 | CQ23: 0.294 | CR23: 28.45 | CS23: 27.38 | CT23: 0.0549 | CU23: 1.56 | CV23: n.a. | CW23: 0.0234 | CX23: 1.04 | CY23: 0.191 | CZ23: 0.0505 | DA23: 0.499 | DB23: 0.17 | DC23: 0.713 | DD23: 0.0957 | DE23: 0.0631 | DF23: 0.0443 | DG23: 0.00791 | DH23: 0.0235 | DI23: 0.0464 | DJ23: =AVERAGE(DJ25:DJ29) -> 0.22325 | DK23: 0.0426 | DL23: 0.0677 | DM23: 0.00251 | DN23: 0.00307 | DO23: 0.006065 | DP23: 0.0418 | DQ23: 0.0188 | DR23: 0.00627 | DS23: =AVERAGE(DS25:DS29) -> 0.0608 | DT23: 0.00462 | DU23: =AVERAGE(DU25:DU29) -> 0.018725 | DV23: 0.00545 | DW23: 0.0124 | DX23: 0.00543 | DY23: 0.02345 | DZ23: 0.00066 | EA23: 0.015933333 | EB23: 0.0060175 | EC23: 0.0068 | ED23: 0.0027066667 | EE23: 0.00376
A24: 42. Exp CHV-E154 | B24: CH-V-6C | C24: Glass | D24: CHVE154-10 | F24: 1200 | G24: 0.0001 | H24: IW-1 | I24: 115.86 | J24: 197694.83 | K24: 130861.74 | L24: 57.3 | M24: 15406.9 | N24: n.a. | O24: 2.23 | P24: 122.91 | Q24: 2130.23 | R24: 66.47 | S24: 11.57 | T24: <DL | U24: <DL | V24: 1.41 | W24: 4.94 | X24: 369.69 | Y24: 63.78 | Z24: 155.58 | AA24: 310.16 | AB24: 1.44 | AC24: 0.794 | AD24: 241.19 | AE24: 38.73 | AF24: 51.85 | AG24: 7.78 | AH24: 56.27 | AI24: 23.41 | AJ24: 7.42 | AK24: 13.57 | AL24: 6.68 | AM24: 25.97 | AN24: 5.56 | AO24: 13.7 | AP24: 6.67 | AQ24: 13.89 | AR24: 9.98 | AS24: 19.92 | AT24: 25.03 | AU24: <DL | AV24: 71.13 | AW24: 28.95 | AZ24: 12.68 | BA24: 27894.69 | BB24: 4145.59 | BC24: 4.99 | BD24: 3702.68 | BF24: 0.2 | BG24: 24.17 | BH24: 189.28 | BI24: 6.79 | BJ24: 1.6 | BK24: 0.082 | BL24: 0.27 | BM24: 0.31 | BN24: 0.44 | BO24: 27.44 | BP24: 5.9 | BQ24: 14.83 | BR24: 25.86 | BS24: 0.2 | BT24: 0.071 | BU24: 27.32 | BV24: 2.58 | BW24: 3.59 | BX24: 0.5 | BY24: 5.78 | BZ24: 2.4 | CA24: 0.73 | CB24: 1.35 | CC24: 0.42 | CD24: 2.17 | CE24: 0.44 | CF24: 1.29 | CG24: 0.64 | CH24: 1.15 | CI24: 0.68 | CJ24: 1.83 | CK24: 2.06 | CL24: 0.0032 | CM24: 6.16 | CN24: 2.66 | CQ24: 0.295 | CR24: 27.2 | CS24: 26.64 | CT24: 0.0585 | CU24: 1.69 | CV24: n.a. | CW24: 0.0265 | CX24: 0.982 | CY24: 0.177 | CZ24: 0.0463 | DA24: 0.479 | DB24: 0.198 | DC24: 0.659 | DD24: 0.093 | DE24: 0.0543 | DF24: 0.0438 | DG24: 0.00595 | DH24: 0.0208 | DI24: 0.0484 | DJ24: 0.0262 | DK24: 0.0402 | DL24: 0.076 | DM24: 0.0013 | DN24: =AVERAGE(DN22:DN23,DN26:DN28) -> 0.005504 | DO24: 0.006065 | DP24: 0.0418 | DQ24: 0.0188 | DR24: 0.00609 | DS24: 0.0167 | DT24: 0.00462 | DU24: =AVERAGE(DU26:DU30) -> 0.0199 | DV24: 0.00545 | DW24: 0.0124 | DX24: 0.00543 | DY24: 0.02345 | DZ24: 0.00111 | EA24: 0.015933333 | EB24: 0.0060175 | EC24: 0.00854 | ED24: 0.00242 | EE24: 0.00376
A25: 42. Exp CHV-E154 | B25: CH-V-6C | C25: Glass | D25: CHVE154-gl-2 | F25: 1200 | G25: 0.0001 | H25: IW-1 | I25: 118.63 | J25: 182959.34 | K25: 130704.52 | L25: 56.5 | M25: 15766.55 | N25: 14762.09 | O25: 2.31 | P25: 121.4 | Q25: 2250.09 | R25: 64.91 | S25: 11 | T25: <DL | U25: <DL | V25: <DL | W25: 4.92 | X25: 372 | Y25: 64.32 | Z25: 157.19 | AA25: 304.51 | AB25: 0.92 | AC25: 0.856 | AD25: 249.93 | AE25: 39.58 | AF25: 52.89 | AG25: 8.24 | AH25: 58.53 | AI25: 25.35 | AJ25: 7.63 | AK25: 13.62 | AL25: 6.75 | AM25: 27.34 | AN25: 5.72 | AO25: 13.74 | AP25: 6.67 | AQ25: 14.19 | AR25: 10.39 | AS25: 20.53 | AT25: 25.28 | AU25: <DL | AV25: 73.39 | AW25: 28.67 | AZ25: 11.04 | BA25: 31972.93 | BB25: 4152.15 | BC25: 2.94 | BD25: 4277.47 | BE25: 1780.3 | BF25: 0.15 | BG25: 11.37 | BH25: 128.56 | BI25: 3.65 | BJ25: 0.97 | BK25: 0.4 | BL25: 0.65 | BM25: 0.32 | BN25: 0.26 | BO25: 16.23 | BP25: 2.77 | BQ25: 6.05 | BR25: 13.6 | BS25: 0.15 | BT25: 0.051 | BU25: 13.17 | BV25: 1.38 | BW25: 2.04 | BX25: 0.34 | BY25: 3.16 | BZ25: 1.33 | CA25: 0.35 | CB25: 0.66 | CC25: 0.25 | CD25: 1.05 | CE25: 0.2 | CF25: 0.6 | CG25: 0.27 | CH25: 0.58 | CI25: 0.34 | CJ25: 0.86 | CK25: 0.93 | CL25: 0.0049 | CM25: 2.8 | CN25: 1.09 | CQ25: 1.45 | CR25: 90.86 | CS25: 71.52 | CT25: 0.1 | CU25: 9.61 | CV25: 1.77 | CW25: 0.0847 | CX25: 0.75 | CY25: 0.371 | CZ25: 0.237 | DA25: 0.94 | DB25: 0.96 | DC25: 1.44 | DD25: 0.52 | DE25: 0.164 | DF25: 0.0474 | DG25: 0.0123 | DH25: 0.036 | DI25: 0.0171 | DJ25: 0.256 | DK25: 0.0648 | DL25: 0.0602 | DM25: 0.00437 | DN25: =AVERAGE(DN23:DN24,DN27:DN29) -> 0.005196 | DO25: 0.00761 | DP25: 0.0418 | DQ25: 0.0188 | DR25: 0.00984 | DS25: 0.0582 | DT25: 0.00409 | DU25: 0.0152 | DV25: 0.00605 | DW25: 0.0124 | DX25: 0.00579 | DY25: 0.0252 | DZ25: 0.00159 | EA25: 0.015933333 | EB25: 0.0037 | EC25: 0.0119 | ED25: 0.0027066667 | EE25: 0.00376
A26: 42. Exp CHV-E154 | B26: CH-V-6C | C26: Glass | D26: CHVE154-gl-3 | F26: 1200 | G26: 0.0001 | H26: IW-1 | I26: 116.95 | J26: 182624.97 | K26: 130704.52 | L26: 56.92 | M26: 15963.31 | N26: 14873.74 | O26: 2.11 | P26: 128.27 | Q26: 2261.26 | R26: 65.76 | S26: 10.76 | T26: <DL | U26: <DL | V26: 1.17 | W26: 4.87 | X26: 374.42 | Y26: 64.98 | Z26: 157.41 | AA26: 306.57 | AB26: 1.1 | AC26: 0.848 | AD26: 252.49 | AE26: 39.48 | AF26: 54.08 | AG26: 8.27 | AH26: 61.3 | AI26: 25.17 | AJ26: 7.69 | AK26: 14.25 | AL26: 6.86 | AM26: 26.61 | AN26: 5.7 | AO26: 13.95 | AP26: 6.74 | AQ26: 14.29 | AR26: 10.46 | AS26: 20.62 | AT26: 25.21 | AU26: <DL | AV26: 73.94 | AW26: 29.52 | AZ26: 10.9 | BA26: 31913.39 | BB26: 4148.65 | BC26: 2.97 | BD26: 4365.54 | BE26: 1808.84 | BF26: 0.14 | BG26: 12.05 | BH26: 129.39 | BI26: 3.7 | BJ26: 0.93 | BK26: 0.4 | BL26: 3.09 | BM26: 0.59 | BN26: 0.25 | BO26: 16.4 | BP26: 2.8 | BQ26: 6.06 | BR26: 13.74 | BS26: 0.14 | BT26: 0.048 | BU26: 13.36 | BV26: 1.38 | BW26: 2.09 | BX26: 0.34 | BY26: 3.31 | BZ26: 1.32 | CA26: 0.35 | CB26: 0.69 | CC26: 0.26 | CD26: 1.02 | CE26: 0.2 | CF26: 0.61 | CG26: 0.27 | CH26: 0.58 | CI26: 0.34 | CJ26: 0.86 | CK26: 0.92 | CL26: 0.004 | CM26: 2.83 | CN26: 1.13 | CQ26: 1.36 | CR26: 85.61 | CS26: 65.65 | CT26: 0.0929 | CU26: 9.17 | CV26: 1.82 | CW26: 0.0823 | CX26: 0.617 | CY26: 0.339 | CZ26: 0.215 | DA26: 0.879 | DB26: 0.867 | DC26: 1.33 | DD26: 0.511 | DE26: 0.154 | DF26: 0.0511 | DG26: 0.0113 | DH26: 0.0476 | DI26: 0.0152 | DJ26: 0.227 | DK26: 0.0612 | DL26: 0.137 | DM26: 0.00377 | DN26: 0.00928 | DO26: 0.006065 | DP26: 0.0418 | DQ26: 0.0188 | DR26: 0.011 | DS26: 0.0494 | DT26: 0.00515 | DU26: 0.0173 | DV26: 0.00546 | DW26: 0.0111 | DX26: 0.00543 | DY26: 0.0217 | DZ26: 0.00239 | EA26: 0.015933333 | EB26: 0.00909 | EC26: 0.00889 | ED26: 0.00238 | EE26: 0.00376
