Workbook
Name _gXY1: #REF!
Name _gXY1: #REF!
Name _gXY1: #REF!
Name aaaaa: #REF!
Name aaaaa: #REF!
Name aaaaa: #REF!
Name temp1: #REF!
Name temp1: #REF!
Name temp2: #REF!
Name temp2: #REF!

Sheet S1_major_minor_elements
A1: Table S1: Electron Microprobe chemical analyzes of silicates and silicate glass (melt). Element concentrations given in wt.% with error according to counting statistics
AD2: Standard deviation according to counting statistics in percent (%)
A3: Experiment/ RunID | B3: Analysis ID | C3: Mineral | D3: Na2O | F3: MgO | H3: Al2O3 | J3: SiO2 | L3: K2O | N3: CaO | P3: FeO | R3: TiO2 | T3: Cr2O3 | V3: MnO | X3: NiO | Z3: Total | AB3: Na | AC3: Mg | AD3: Al | AE3: Si | AF3: K | AG3: Ca | AH3: Fe | AI3: Ti | AJ3: Cr | AK3: Mn | AL3: Ni
A4: 42. Exp CHV-E154 | B4: CH V 154_cpx_1 | C4: Cpx | D4: 0.0515 | E4: =D4/100*AA4 -> 0 | F4: 14.89 | G4: =F4/100*AC4 -> 0.239729 | H4: 5.2 | I4: =H4/100*AD4 -> 0.13312 | J4: 50.46 | K4: =J4/100*AE4 -> 0.393588 | L4: <DL | N4: 23.59 | O4: =N4/100*AG4 -> 0.35385 | P4: 5.07 | Q4: =P4/100*AH4 -> 0.215475 | R4: 1.6312 | S4: =R4/100*AI4 -> 0.2218432 | T4: 0.2062 | U4: =T4/100*AJ4 -> 0.059798 | V4: 0.1093 | W4: =V4/100*AK4 -> 0.05084636 | X4: <DL | Z4: 101.2088 | AB4: 80.18 | AC4: 1.61 | AD4: 2.56 | AE4: 0.78 | AF4: 3994.18 | AG4: 1.5 | AH4: 4.25 | AI4: 13.6 | AJ4: 29 | AK4: 46.52 | AL4: 300
A5: 42. Exp CHV-E154 | B5: CH V 154_cpx_2 | C5: Cpx | D5: 0.039 | E5: =D5/100*AA5 -> 0 | F5: 14.89 | G5: =F5/100*AC5 -> 0.239729 | H5: 5.08 | I5: =H5/100*AD5 -> 0.131572 | J5: 50.71 | K5: =J5/100*AE5 -> 0.390467 | L5: <DL | N5: 23.53 | O5: =N5/100*AG5 -> 0.35295 | P5: 5 | Q5: =P5/100*AH5 -> 0.215 | R5: 1.4309 | S5: =R5/100*AI5 -> 0.21019921 | T5: 0.2221 | U5: =T5/100*AJ5 -> 0.06016689 | V5: 0.0683 | W5: =V5/100*AK5 -> 0.05110206 | X5: <DL | Z5: 100.9702 | AB5: 106.45 | AC5: 1.61 | AD5: 2.59 | AE5: 0.77 | AF5: 300 | AG5: 1.5 | AH5: 4.3 | AI5: 14.69 | AJ5: 27.09 | AK5: 74.82 | AL5: 300
A6: 42. Exp CHV-E154 | B6: CH V 154_cpx_3 | C6: Cpx | D6: <DL | F6: 14.64 | G6: =F6/100*AC6 -> 0.237168 | H6: 5.29 | I6: =H6/100*AD6 -> 0.133308 | J6: 50.66 | K6: =J6/100*AE6 -> 0.390082 | L6: <DL | N6: 23.43 | O6: =N6/100*AG6 -> 0.353793 | P6: 4.88 | Q6: =P6/100*AH6 -> 0.21228 | R6: 1.3743 | S6: =R6/100*AI6 -> 0.20147238 | T6: 0.2531 | U6: =T6/100*AJ6 -> 0.06084524 | V6: 0.1064 | W6: =V6/100*AK6 -> 0.05157208 | X6: <DL | Z6: 100.6513 | AB6: 297.92 | AC6: 1.62 | AD6: 2.52 | AE6: 0.77 | AF6: 819.64 | AG6: 1.51 | AH6: 4.35 | AI6: 14.66 | AJ6: 24.04 | AK6: 48.47 | AL6: 300
A7: 42. Exp CHV-E154 | B7: CH V 154_cpx_4 | C7: Cpx | D7: <DL | F7: 15.44 | G7: =F7/100*AC7 -> 0.243952 | H7: 3.92 | I7: =H7/100*AD7 -> 0.116424 | J7: 51.46 | K7: =J7/100*AE7 -> 0.396242 | L7: <DL | N7: 23.41 | O7: =N7/100*AG7 -> 0.353491 | P7: 5.21 | Q7: =P7/100*AH7 -> 0.219862 | R7: 1.0899 | S7: =R7/100*AI7 -> 0.1918224 | T7: 0.1607 | U7: =T7/100*AJ7 -> 0.05328812 | V7: 0.107 | W7: =V7/100*AK7 -> 0.0510283 | X7: <DL | Z7: 100.8141 | AB7: 257.53 | AC7: 1.58 | AD7: 2.97 | AE7: 0.77 | AF7: 300 | AG7: 1.51 | AH7: 4.22 | AI7: 17.6 | AJ7: 33.16 | AK7: 47.69 | AL7: 300
A8: 42. Exp CHV-E154 | B8: CH V 154_cpx_5 | C8: Cpx | D8: <DL | F8: 14.69 | G8: =F8/100*AC8 -> 0.237978 | H8: 5.06 | I8: =H8/100*AD8 -> 0.131054 | J8: 50.65 | K8: =J8/100*AE8 -> 0.390005 | L8: <DL | N8: 23.26 | O8: =N8/100*AG8 -> 0.351226 | P8: 5.11 | Q8: =P8/100*AH8 -> 0.217175 | R8: 1.4458 | S8: =R8/100*AI8 -> 0.21311092 | T8: 0.1713 | U8: =T8/100*AJ8 -> 0.05748828 | V8: 0.1024 | W8: =V8/100*AK8 -> 0.05172224 | X8: <DL | Z8: 100.532 | AB8: 140.97 | AC8: 1.62 | AD8: 2.59 | AE8: 0.77 | AF8: 1141.5 | AG8: 1.51 | AH8: 4.25 | AI8: 14.74 | AJ8: 33.56 | AK8: 50.51 | AL8: 615.33
C9: Average | D9: =AVERAGE(D4:D8) -> 0.04525 | F9: =AVERAGE(F4:F8) -> 14.91 | H9: =AVERAGE(H4:H8) -> 4.91 | J9: =AVERAGE(J4:J8) -> 50.788 | N9: =AVERAGE(N4:N8) -> 23.444 | P9: =AVERAGE(P4:P8) -> 5.054 | R9: =AVERAGE(R4:R8) -> 1.39442 | T9: =AVERAGE(T4:T8) -> 0.20268 | V9: =AVERAGE(V4:V8) -> 0.09868
C10: Stdev | D10: =STDEV(D4:D8) -> 0.0088388348 | F10: =STDEV(F4:F8) -> 0.3174114 | H10: =STDEV(H4:H8) -> 0.56124861 | J10: =STDEV(J4:J8) -> 0.38751774 | N10: =STDEV(N4:N8) -> 0.12641202 | P10: =STDEV(P4:P8) -> 0.12340989 | R10: =STDEV(R4:R8) -> 0.19568643 | T10: =STDEV(T4:T8) -> 0.037678668 | V10: =STDEV(V4:V8) -> 0.017163828
A12: 42. Exp CHV-E154 | B12: CH V 154_melt_2 | C12: Glass | D12: 0.3054 | E12: =D12/100*AB12 -> 0.06437832 | F12: 7.87 | G12: =F12/100*AC12 -> 0.181797 | H12: 11.36 | I12: =H12/100*AD12 -> 0.194256 | J12: 41.15 | K12: =J12/100*AE12 -> 0.358005 | L12: <DL | N12: 18.31 | O12: =N12/100*AG12 -> 0.309439 | P12: 15.91 | Q12: =P12/100*AH12 -> 0.373885 | R12: 2.56 | S12: =R12/100*AI12 -> 0.27008 | T12: <DL | V12: 0.3018 | W12: =V12/100*AK12 -> 0.06099378 | X12: <DL | Z12: 97.8344 | AB12: 21.08 | AC12: 2.31 | AD12: 1.71 | AE12: 0.87 | AF12: 117 | AG12: 1.69 | AH12: 2.35 | AI12: 10.55 | AJ12: 117.61 | AK12: 20.21 | AL12: 300
A13: 42. Exp CHV-E154 | B13: CH V 154_melt_3 | C13: Glass | D13: 0.3317 | E13: =D13/100*AB13 -> 0.06381908 | F13: 7.91 | G13: =F13/100*AC13 -> 0.182721 | H13: 11.43 | I13: =H13/100*AD13 -> 0.19431 | J13: 41.54 | K13: =J13/100*AE13 -> 0.361398 | L13: 0.0455 | M13: =L13/100*AG13 -> 0.00077805 | N13: 18.09 | O13: =N13/100*AG13 -> 0.309339 | P13: 15.95 | Q13: =P13/100*AH13 -> 0.37323 | R13: 2.3 | S13: =R13/100*AI13 -> 0.25484 | T13: 0.0418 | U13: =T13/100*AJ13 -> 0.04656102 | V13: 0.2622 | W13: =V13/100*AK13 -> 0.05993892 | X13: <DL | Z13: 97.9013 | AB13: 19.24 | AC13: 2.31 | AD13: 1.7 | AE13: 0.87 | AF13: 70.73 | AG13: 1.71 | AH13: 2.34 | AI13: 11.08 | AJ13: 111.39 | AK13: 22.86 | AL13: 300
A14: 42. Exp CHV-E154 | B14: CH V 154_melt_4 | C14: Glass | D14: 0.3296 | E14: =D14/100*AB14 -> 0.06338208 | F14: 7.97 | G14: =F14/100*AC14 -> 0.18331 | H14: 11.32 | I14: =H14/100*AD14 -> 0.193572 | J14: 41.48 | K14: =J14/100*AE14 -> 0.360876 | L14: 0.0543 | M14: =L14/100*AG14 -> 0.00091767 | N14: 18.35 | O14: =N14/100*AG14 -> 0.310115 | P14: 15.87 | Q14: =P14/100*AH14 -> 0.372945 | R14: 2.28 | S14: =R14/100*AI14 -> 0.249432 | T14: <DL | V14: 0.3287 | W14: =V14/100*AK14 -> 0.06038219 | X14: <DL | Z14: 97.9848 | AB14: 19.23 | AC14: 2.3 | AD14: 1.71 | AE14: 0.87 | AF14: 59.72 | AG14: 1.69 | AH14: 2.35 | AI14: 10.94 | AJ14: 300 | AK14: 18.37 | AL14: 2868.24
A15: 42. Exp CHV-E154 | B15: CH V 154_melt_5 | C15: Glass | D15: 0.3224 | E15: =D15/100*AB15 -> 0.06541496 | F15: 7.94 | G15: =F15/100*AC15 -> 0.18262 | H15: 11.4 | I15: =H15/100*AD15 -> 0.19494 | J15: 41.57 | K15: =J15/100*AE15 -> 0.361659 | L15: 0.0423 | M15: =L15/100*AG15 -> 0.00071487 | N15: 18.38 | O15: =N15/100*AG15 -> 0.310622 | P15: 15.86 | Q15: =P15/100*AH15 -> 0.37271 | R15: 2.39 | S15: =R15/100*AI15 -> 0.262183 | T15: <DL | V15: 0.3081 | W15: =V15/100*AK15 -> 0.06168162 | X15: <DL | Z15: 98.2287 | AB15: 20.29 | AC15: 2.3 | AD15: 1.71 | AE15: 0.87 | AF15: 75.38 | AG15: 1.69 | AH15: 2.35 | AI15: 10.97 | AJ15: 398.13 | AK15: 20.02 | AL15: 1497.09
A16: 42. Exp CHV-E154 | B16: CH V 154_melt_6 | C16: Glass | D16: 0.3318 | E16: =D16/100*AB16 -> 0.06543096 | F16: 7.94 | G16: =F16/100*AC16 -> 0.18262 | H16: 11.33 | I16: =H16/100*AD16 -> 0.193743 | J16: 41.55 | K16: =J16/100*AE16 -> 0.361485 | L16: 0.0464 | M16: =L16/100*AG16 -> 0.00078416 | N16: 18.31 | O16: =N16/100*AG16 -> 0.309439 | P16: 15.84 | Q16: =P16/100*AH16 -> 0.37224 | R16: 2.34 | S16: =R16/100*AI16 -> 0.25857 | T16: <DL | V16: 0.2749 | W16: =V16/100*AK16 -> 0.05968079 | X16: <DL | Z16: =SUM(X16,V16,T16,R16,P16,N16,L16,J16,H16,F16,D16) -> 97.9631 | AB16: 19.72 | AC16: 2.3 | AD16: 1.71 | AE16: 0.87 | AF16: 68.38 | AG16: 1.69 | AH16: 2.35 | AI16: 11.05 | AJ16: 334.73 | AK16: 21.71 | AL16: 300
C17: Average | D17: =AVERAGE(D12:D16) -> 0.32418 | F17: =AVERAGE(F12:F16) -> 7.926 | H17: =AVERAGE(H12:H16) -> 11.368 | J17: =AVERAGE(J12:J16) -> 41.458 | L17: =AVERAGE(L12:L16) -> 0.047125 | N17: =AVERAGE(N12:N16) -> 18.288 | P17: =AVERAGE(P12:P16) -> 15.886 | R17: =AVERAGE(R12:R16) -> 2.374 | V17: =AVERAGE(V12:V16) -> 0.29514
C18: Stdev | D18: =STDEV(D12:D16) -> 0.01117864 | F18: =STDEV(F12:F16) -> 0.037815341 | H18: =STDEV(H12:H16) -> 0.046583259 | J18: =STDEV(J12:J16) -> 0.1754138 | L18: =STDEV(L12:L16) -> 0.0050966492 | N18: =STDEV(N12:N16) -> 0.11454257 | P18: =STDEV(P12:P16) -> 0.043931765 | R18: =STDEV(R12:R16) -> 0.1121606 | V18: =STDEV(V12:V16) -> 0.026614338
A20: 42. Exp CHV-E155 | B20: CH V 155 1 | C20: Cpx | D20: 0.0348 | E20: =D20/100*AB20 -> 0.0429606 | F20: 14.74 | G20: =F20/100*AC20 -> 0.238788 | H20: 5.31 | I20: =H20/100*AD20 -> 0.134343 | J20: 50.24 | K20: =J20/100*AE20 -> 0.391872 | L20: <DL | N20: 23.63 | O20: =N20/100*AG20 -> 0.35445 | P20: 4.79 | Q20: =P20/100*AH20 -> 0.211239 | R20: 1.4166 | S20: =R20/100*AI20 -> 0.2089485 | T20: 0.3724 | U20: =T20/100*AJ20 -> 0.06643616 | V20: 0.1061 | W20: =V20/100*AK20 -> 0.04985639 | X20: <DL | Z20: =SUM(X20,V20,T20,R20,P20,N20,L20,J20,H20,F20,D20) -> 100.6399 | AB20: 123.45 | AC20: 1.62 | AD20: 2.53 | AE20: 0.78 | AF20: 300 | AG20: 1.5 | AH20: 4.41 | AI20: 14.75 | AJ20: 17.84 | AK20: 46.99 | AL20: 300
A21: 42. Exp CHV-E155 | B21: CH V 155 2 | C21: Cpx | D21: <DL | F21: 15.22 | G21: =F21/100*AC21 -> 0.241998 | H21: 4.49 | I21: =H21/100*AD21 -> 0.123924 | J21: 50.86 | K21: =J21/100*AE21 -> 0.391622 | L21: <DL | N21: 23.45 | O21: =N21/100*AG21 -> 0.354095 | P21: 4.66 | Q21: =P21/100*AH21 -> 0.208768 | R21: 1.1963 | S21: =R21/100*AI21 -> 0.19703061 | T21: 0.3885 | U21: =T21/100*AJ21 -> 0.0678321 | V21: 0.0806 | W21: =V21/100*AK21 -> 0.04927078 | X21: <DL | Z21: =SUM(X21,V21,T21,R21,P21,N21,L21,J21,H21,F21,D21) -> 100.3454 | AB21: 303.55 | AC21: 1.59 | AD21: 2.76 | AE21: 0.77 | AF21: 506.78 | AG21: 1.51 | AH21: 4.48 | AI21: 16.47 | AJ21: 17.46 | AK21: 61.13 | AL21: 328.88
A22: 42. Exp CHV-E155 | B22: CH V 155 3 | C22: Cpx | D22: 0.0352 | E22: =D22/100*AB22 -> 0.04042368 | F22: 15.07 | G22: =F22/100*AC22 -> 0.24112 | H22: 4.86 | I22: =H22/100*AD22 -> 0.128304 | J22: 50.45 | K22: =J22/100*AE22 -> 0.388465 | L22: <DL | N22: 23.55 | O22: =N22/100*AG22 -> 0.35325 | P22: 4.67 | Q22: =P22/100*AH22 -> 0.208749 | R22: 1.2423 | S22: =R22/100*AI22 -> 0.19665609 | T22: 0.3451 | U22: =T22/100*AJ22 -> 0.06677685 | V22: 0.1094 | W22: =V22/100*AK22 -> 0.051965 | X22: <DL | Z22: =SUM(X22,V22,T22,R22,P22,N22,L22,J22,H22,F22,D22) -> 100.332 | AB22: 114.84 | AC22: 1.6 | AD22: 2.64 | AE22: 0.77 | AF22: 326.71 | AG22: 1.5 | AH22: 4.47 | AI22: 15.83 | AJ22: 19.35 | AK22: 47.5 | AL22: 300
A23: 42. Exp CHV-E155 | B23: CH V 155 4 | C23: Cpx | D23: <DL | F23: 15.55 | G23: =F23/100*AC23 -> 0.24569 | H23: 3.58 | I23: =H23/100*AD23 -> 0.111338 | J23: 51.46 | K23: =J23/100*AE23 -> 0.396242 | L23: <DL | N23: 23.49 | O23: =N23/100*AG23 -> 0.35235 | P23: 4.87 | Q23: =P23/100*AH23 -> 0.213306 | R23: 1.0358 | S23: =R23/100*AI23 -> 0.18623684 | T23: 0.2014 | U23: =T23/100*AJ23 -> 0.0595137 | V23: 0.1066 | W23: =V23/100*AK23 -> 0.05280964 | X23: <DL | Z23: =SUM(X23,V23,T23,R23,P23,N23,L23,J23,H23,F23,D23) -> 100.2938 | AB23: 163.4 | AC23: 1.58 | AD23: 3.11 | AE23: 0.77 | AF23: 300 | AG23: 1.5 | AH23: 4.38 | AI23: 17.98 | AJ23: 29.55 | AK23: 49.54 | AL23: 367.63
A24: 42. Exp CHV-E155 | B24: CH V 155 5 | C24: Cpx | D24: 0.0406 | E24: =D24/100*AB24 -> 0.04105878 | F24: 14.83 | G24: =F24/100*AC24 -> 0.240246 | H24: 5.33 | I24: =H24/100*AD24 -> 0.133783 | J24: 50.39 | K24: =J24/100*AE24 -> 0.393042 | L24: <DL | N24: 23.62 | O24: =N24/100*AG24 -> 0.3543 | P24: 4.86 | Q24: =P24/100*AH24 -> 0.212382 | R24: 1.4877 | S24: =R24/100*AI24 -> 0.2157165 | T24: 0.2598 | U24: =T24/100*AJ24 -> 0.05983194 | V24: 0.0972 | W24: =V24/100*AK24 -> 0.04906656 | X24: <DL | Z24: =SUM(X24,V24,T24,R24,P24,N24,L24,J24,H24,F24,D24) -> 100.9153 | AB24: 101.13 | AC24: 1.62 | AD24: 2.51 | AE24: 0.78 | AF24: 504.05 | AG24: 1.5 | AH24: 4.37 | AI24: 14.5 | AJ24: 23.03 | AK24: 50.48 | AL24: 737.2
C25: Average | D25: =AVERAGE(D20:D24) -> 0.036866667 | F25: =AVERAGE(F20:F24) -> 15.082 | H25: =AVERAGE(H20:H24) -> 4.714 | J25: =AVERAGE(J20:J24) -> 50.68 | N25: =AVERAGE(N20:N24) -> 23.548 | P25: =AVERAGE(P20:P24) -> 4.77 | R25: =AVERAGE(R20:R24) -> 1.27574 | T25: =AVERAGE(T20:T24) -> 0.31344 | V25: =AVERAGE(V20:V24) -> 0.09998
C26: Stdev | D26: =STDEV(D20:D24) -> 0.0032393415 | F26: =STDEV(F20:F24) -> 0.32352743 | H26: =STDEV(H20:H24) -> 0.72320813 | J26: =STDEV(J20:J24) -> 0.49279813 | N26: =STDEV(N20:N24) -> 0.078866977 | P26: =STDEV(P20:P24) -> 0.10074721 | R26: =STDEV(R20:R24) -> 0.18011714 | T26: =STDEV(T20:T24) -> 0.079910656 | V26: =STDEV(V20:V24) -> 0.011761462
A28: 42. Exp CHV-E155 | B28: CH V 155 7 | C28: Glass | D28: 0.3312 | E28: =D28/100*AB28 -> 0.06431904 | F28: 7.82 | G28: =F28/100*AC28 -> 0.181424 | H28: 11.63 | I28: =H28/100*AD28 -> 0.196547 | J28: 41.26 | K28: =J28/100*AE28 -> 0.358962 | L28: 0.0557 | M28: =L28/100*AF28 -> 0.03216118 | N28: 18.33 | O28: =N28/100*AG28 -> 0.309777 | P28: 15.92 | Q28: =P28/100*AH28 -> 0.372528 | R28: 2.34 | S28: =R28/100*AI28 -> 0.255762 | T28: <DL | V28: 0.2872 | W28: =V28/100*AK28 -> 0.06082896 | X28: <DL | Z28: =SUM(X28,V28,T28,R28,P28,N28,L28,J28,H28,F28,D28) -> 97.9741 | AB28: 19.42 | AC28: 2.32 | AD28: 1.69 | AE28: 0.87 | AF28: 57.74 | AG28: 1.69 | AH28: 2.34 | AI28: 10.93 | AJ28: 339.41 | AK28: 21.18 | AL28: 383.84
A29: 42. Exp CHV-E155 | B29: CH V 155 8 | C29: Glass | D29: 0.3223 | E29: =D29/100*AB29 -> 0.06555582 | F29: 7.91 | G29: =F29/100*AC29 -> 0.182721 | H29: 11.37 | I29: =H29/100*AD29 -> 0.194427 | J29: 41.7 | K29: =J29/100*AE29 -> 0.36279 | L29: 0.0551 | M29: =L29/100*AF29 -> 0.03340162 | N29: 18.38 | O29: =N29/100*AG29 -> 0.310622 | P29: 15.83 | Q29: =P29/100*AH29 -> 0.373588 | R29: 2.37 | S29: =R29/100*AI29 -> 0.256671 | T29: <DL | V29: 0.2525 | W29: =V29/100*AK29 -> 0.0606 | X29: <DL | Z29: =SUM(X29,V29,T29,R29,P29,N29,L29,J29,H29,F29,D29) -> 98.1899 | AB29: 20.34 | AC29: 2.31 | AD29: 1.71 | AE29: 0.87 | AF29: 60.62 | AG29: 1.69 | AH29: 2.36 | AI29: 10.83 | AJ29: 176.25 | AK29: 24 | AL29: 337.99
A30: 42. Exp CHV-E155 | B30: CH V 155 9 | C30: Glass | D30: 0.3074 | E30: =D30/100*AB30 -> 0.06403142 | F30: 7.92 | G30: =F30/100*AC30 -> 0.182952 | H30: 11.3 | I30: =H30/100*AD30 -> 0.19436 | J30: 41.89 | K30: =J30/100*AE30 -> 0.360254 | L30: 0.0663 | M30: =L30/100*AF30 -> 0.03349476 | N30: 18.29 | O30: =N30/100*AG30 -> 0.309101 | P30: 16.16 | Q30: =P30/100*AH30 -> 0.376528 | R30: 2.44 | S30: =R30/100*AI30 -> 0.266204 | T30: <DL | V30: 0.2775 | W30: =V30/100*AK30 -> 0.060273 | X30: <DL | Z30: =SUM(X30,V30,T30,R30,P30,N30,L30,J30,H30,F30,D30) -> 98.6512 | AB30: 20.83 | AC30: 2.31 | AD30: 1.72 | AE30: 0.86 | AF30: 50.52 | AG30: 1.69 | AH30: 2.33 | AI30: 10.91 | AJ30: 331.04 | AK30: 21.72 | AL30: 393.49
A31: 42. Exp CHV-E155 | B31: CH V 155 10 | C31: Glass | D31: 0.3562 | E31: =D31/100*AB31 -> 0.06557642 | F31: 8.04 | G31: =F31/100*AC31 -> 0.184116 | H31: 11.32 | I31: =H31/100*AD31 -> 0.193572 | J31: 41.59 | K31: =J31/100*AE31 -> 0.361833 | L31: 0.0794 | M31: =L31/100*AF31 -> 0.03340358 | N31: 18.3 | O31: =N31/100*AG31 -> 0.30927 | P31: 15.79 | Q31: =P31/100*AH31 -> 0.371065 | R31: 2.35 | S31: =R31/100*AI31 -> 0.253565 | T31: 0.0542 | U31: =T31/100*AI31 -> 0.00584818 | V31: 0.3025 | W31: =V31/100*AK31 -> 0.060137 | X31: <DL | Z31: =SUM(X31,V31,T31,R31,P31,N31,L31,J31,H31,F31,D31) -> 98.1823 | AB31: 18.41 | AC31: 2.29 | AD31: 1.71 | AE31: 0.87 | AF31: 42.07 | AG31: 1.69 | AH31: 2.35 | AI31: 10.79 | AJ31: 88.98 | AK31: 19.88 | AL31: 1685.49
A32: 42. Exp CHV-E155 | B32: CH V 155 11 | C32: Glass | D32: 0.3105 | E32: =D32/100*AB32 -> 0.0641493 | F32: 8.01 | G32: =F32/100*AC32 -> 0.183429 | H32: 11.4 | I32: =H32/100*AD32 -> 0.19494 | J32: 41.63 | K32: =J32/100*AE32 -> 0.362181 | L32: 0.0687 | M32: =L32/100*AF32 -> 0.03252258 | N32: 18.2 | O32: =N32/100*AG32 -> 0.3094 | P32: 15.92 | Q32: =P32/100*AH32 -> 0.37412 | R32: 2.58 | S32: =R32/100*AI32 -> 0.26961 | T32: <DL | V32: 0.2907 | W32: =V32/100*AK32 -> 0.06157026 | X32: <DL | Z32: =SUM(X32,V32,T32,R32,P32,N32,L32,J32,H32,F32,D32) -> 98.4099 | AB32: 20.66 | AC32: 2.29 | AD32: 1.71 | AE32: 0.87 | AF32: 47.34 | AG32: 1.7 | AH32: 2.35 | AI32: 10.45 | AJ32: 205.9 | AK32: 21.18 | AL32: 334.15
C33: Average | D33: =AVERAGE(D28:D32) -> 0.32552 | F33: =AVERAGE(F28:F32) -> 7.94 | H33: =AVERAGE(H28:H32) -> 11.404 | J33: =AVERAGE(J28:J32) -> 41.614 | L33: =AVERAGE(L28:L32) -> 0.06504 | N33: =AVERAGE(N28:N32) -> 18.3 | P33: =AVERAGE(P28:P32) -> 15.924 | R33: =AVERAGE(R28:R32) -> 2.416 | V33: =AVERAGE(V28:V32) -> 0.28208
C34: Stdev | D34: =STDEV(D28:D32) -> 0.019607575 | F34: =STDEV(F28:F32) -> 0.087464278 | H34: =STDEV(H28:H32) -> 0.13240091 | J34: =STDEV(J28:J32) -> 0.22897598 | L34: =STDEV(L28:L32) -> 0.010089995 | N34: =STDEV(N28:N32) -> 0.06595453 | P34: =STDEV(P28:P32) -> 0.14363147 | R34: =STDEV(R28:R32) -> 0.099649385 | V34: =STDEV(V28:V32) -> 0.018797925
A36: 42. Exp CHV-E156 | B36: CH V 156_cpx_1 | C36: Cpx | D36: 0.0446 | E36: =D36/100*AB36 -> 0.04215592 | F36: 14.66 | G36: =F36/100*AC36 -> 0.237492 | H36: 5.6 | I36: =H36/100*AD36 -> 0.13776 | J36: 50.41 | K36: =J36/100*AE36 -> 0.393198 | L36: <DL | N36: 23.39 | O36: =N36/100*AG36 -> 0.353189 | P36: 4.81 | Q36: =P36/100*AH36 -> 0.210678 | R36: 1.3657 | S36: =R36/100*AI36 -> 0.20881553 | T36: 0.2202 | U36: =T36/100*AJ36 -> 0.06117156 | V36: 0.1103 | W36: =V36/100*AK36 -> 0.05111302 | X36: <DL | Z36: =SUM(X36,V36,T36,R36,P36,N36,L36,J36,H36,F36,D36) -> 100.6108 | AB36: 94.52 | AC36: 1.62 | AD36: 2.46 | AE36: 0.78 | AF36: 180.75 | AG36: 1.51 | AH36: 4.38 | AI36: 15.29 | AJ36: 27.78 | AK36: 46.34 | AL36: 300
A37: 42. Exp CHV-E156 | B37: CH V 156_cpx_2 | C37: Cpx | D37: <DL | F37: 15.38 | G37: =F37/100*AC37 -> 0.243004 | H37: 4.52 | I37: =H37/100*AD37 -> 0.1243 | J37: 51.01 | K37: =J37/100*AE37 -> 0.392777 | L37: <DL | N37: 23.32 | O37: =N37/100*AG37 -> 0.352132 | P37: 4.43 | Q37: =P37/100*AH37 -> 0.20378 | R37: 1.2266 | S37: =R37/100*AI37 -> 0.19184024 | T37: 0.3135 | U37: =T37/100*AJ37 -> 0.0637032 | V37: 0.0704 | W37: =V37/100*AK37 -> 0.0504416 | X37: <DL | Z37: =SUM(X37,V37,T37,R37,P37,N37,L37,J37,H37,F37,D37) -> 100.2705 | AB37: 193.86 | AC37: 1.58 | AD37: 2.75 | AE37: 0.77 | AF37: 1494.86 | AG37: 1.51 | AH37: 4.6 | AI37: 15.64 | AJ37: 20.32 | AK37: 71.65 | AL37: 300
A38: 42. Exp CHV-E156 | B38: CH V 156_cpx_3 | C38: Cpx | D38: 0.0377 | E38: =D38/100*AB38 -> 0.04271033 | F38: 15.69 | G38: =F38/100*AC38 -> 0.246333 | H38: 4.15 | I38: =H38/100*AD38 -> 0.11952 | J38: 51.07 | K38: =J38/100*AE38 -> 0.393239 | L38: <DL | N38: 23.3 | O38: =N38/100*AG38 -> 0.35183 | P38: 4.11 | Q38: =P38/100*AH38 -> 0.197691 | R38: 1.2332 | S38: =R38/100*AI38 -> 0.19583216 | T38: 0.5565 | U38: =T38/100*AJ38 -> 0.07429275 | V38: 0.0843 | W38: =V38/100*AK38 -> 0.04927335 | X38: <DL | Z38: =SUM(X38,V38,T38,R38,P38,N38,L38,J38,H38,F38,D38) -> 100.2317 | AB38: 113.29 | AC38: 1.57 | AD38: 2.88 | AE38: 0.77 | AF38: 153.92 | AG38: 1.51 | AH38: 4.81 | AI38: 15.88 | AJ38: 13.35 | AK38: 58.45 | AL38: 300
A39: 42. Exp CHV-E156 | B39: CH V 156_cpx_4 | C39: Cpx | D39: 0.044 | E39: =D39/100*AB39 -> 0.0425128 | F39: 14.87 | G39: =F39/100*AC39 -> 0.239407 | H39: 4.99 | I39: =H39/100*AD39 -> 0.12974 | J39: 50.31 | K39: =J39/100*AE39 -> 0.392418 | L39: <DL | N39: 23.49 | O39: =N39/100*AG39 -> 0.35235 | P39: 5.01 | Q39: =P39/100*AH39 -> 0.21543 | R39: 1.4374 | S39: =R39/100*AI39 -> 0.20871048 | T39: 0.2069 | U39: =T39/100*AJ39 -> 0.0560699 | V39: 0.105 | W39: =V39/100*AK39 -> 0.049791 | X39: <DL | Z39: =SUM(X39,V39,T39,R39,P39,N39,L39,J39,H39,F39,D39) -> 100.4633 | AB39: 96.62 | AC39: 1.61 | AD39: 2.6 | AE39: 0.78 | AF39: 300 | AG39: 1.5 | AH39: 4.3 | AI39: 14.52 | AJ39: 27.1 | AK39: 47.42 | AL39: 336.02
A40: 42. Exp CHV-E156 | B40: CH V 156_cpx_5 | C40: Cpx | D40: 0.0373 | E40: =D40/100*AB40 -> 0.04258168 | F40: 15.17 | G40: =F40/100*AC40 -> 0.24272 | H40: 4.41 | I40: =H40/100*AD40 -> 0.123039 | J40: 51.02 | K40: =J40/100*AE40 -> 0.392854 | L40: <DL | N40: 23.15 | O40: =N40/100*AG40 -> 0.349565 | P40: 5.28 | Q40: =P40/100*AH40 -> 0.221232 | R40: 1.2448 | S40: =R40/100*AI40 -> 0.19717632 | T40: 0.1983 | U40: =T40/100*AJ40 -> 0.05613873 | V40: 0.1043 | W40: =V40/100*AK40 -> 0.05133646 | X40: <DL | Z40: =SUM(X40,V40,T40,R40,P40,N40,L40,J40,H40,F40,D40) -> 100.6147 | AB40: 114.16 | AC40: 1.6 | AD40: 2.79 | AE40: 0.77 | AF40: 293.42 | AG40: 1.51 | AH40: 4.19 | AI40: 15.84 | AJ40: 28.31 | AK40: 49.22 | AL40: 217.51
C41: Average | D41: =AVERAGE(D36:D40) -> 0.0409 | F41: =AVERAGE(F36:F40) -> 15.154 | H41: =AVERAGE(H36:H40) -> 4.734 | J41: =AVERAGE(J36:J40) -> 50.764 | N41: =AVERAGE(N36:N40) -> 23.33 | P41: =AVERAGE(P36:P40) -> 4.728 | R41: =AVERAGE(R36:R40) -> 1.30154 | T41: =AVERAGE(T36:T40) -> 0.29908 | V41: =AVERAGE(V36:V40) -> 0.09486
C42: Stdev | D42: =STDEV(D36:D40) -> 0.0039370039 | F42: =STDEV(F36:F40) -> 0.4072223 | H42: =STDEV(H36:H40) -> 0.57169048 | J42: =STDEV(J36:J40) -> 0.37118728 | N42: =STDEV(N36:N40) -> 0.12509996 | P42: =STDEV(P36:P40) -> 0.4641336 | R42: =STDEV(R36:R40) -> 0.094973986 | T42: =STDEV(T36:T40) -> 0.15111983 | V42: =STDEV(V36:V40) -> 0.01688292
A44: 42. Exp CHV-E156 | B44: CH V 156_melt_3 | C44: Glass | D44: 0.3479 | E44: =D44/100*AB44 -> 0.06662285 | F44: 7.94 | G44: =F44/100*AC44 -> 0.18262 | H44: 11.31 | I44: =H44/100*AD44 -> 0.193401 | J44: 41.45 | K44: =J44/100*AE44 -> 0.360615 | L44: 0.0361 | M44: =L44/100*AF44 -> 0.0342228 | N44: 18.18 | O44: =N44/100*AG44 -> 0.30906 | P44: 15.81 | Q44: =P44/100*AH44 -> 0.371535 | R44: 2.37 | S44: =R44/100*AI44 -> 0.259989 | T44: <DL | V44: 0.3246 | W44: =V44/100*AK44 -> 0.06066774 | X44: <DL | Z44: =SUM(X44,V44,T44,R44,P44,N44,L44,J44,H44,F44,D44) -> 97.7686 | AB44: 19.15 | AC44: 2.3 | AD44: 1.71 | AE44: 0.87 | AF44: 94.8 | AG44: 1.7 | AH44: 2.35 | AI44: 10.97 | AJ44: 200.04 | AK44: 18.69 | AL44: 300
A45: 42. Exp CHV-E156 | B45: CH V 156_melt_4 | C45: Glass | D45: 0.3733 | E45: =D45/100*AB45 -> 0.06603677 | F45: 7.89 | G45: =F45/100*AC45 -> 0.18147 | H45: 11.45 | I45: =H45/100*AD45 -> 0.19465 | J45: 41.44 | K45: =J45/100*AE45 -> 0.360528 | L45: 0.0446 | M45: =L45/100*AF45 -> 0.03339202 | N45: 18.22 | O45: =N45/100*AG45 -> 0.30974 | P45: 15.54 | Q45: =P45/100*AH45 -> 0.368298 | R45: 2.5 | S45: =R45/100*AI45 -> 0.2655 | T45: <DL | V45: 0.2891 | W45: =V45/100*AK45 -> 0.06001716 | X45: <DL | Z45: =SUM(X45,V45,T45,R45,P45,N45,L45,J45,H45,F45,D45) -> 97.747 | AB45: 17.69 | AC45: 2.3 | AD45: 1.7 | AE45: 0.87 | AF45: 74.87 | AG45: 1.7 | AH45: 2.37 | AI45: 10.62 | AJ45: 273.86 | AK45: 20.76 | AL45: 840.25
A46: 42. Exp CHV-E156 | B46: CH V 156_melt_5 | C46: Glass | D46: 0.3313 | E46: =D46/100*AB46 -> 0.06606122 | F46: 7.91 | G46: =F46/100*AC46 -> 0.18193 | H46: 11.48 | I46: =H46/100*AD46 -> 0.19516 | J46: 41.44 | K46: =J46/100*AE46 -> 0.360528 | L46: 0.0499 | M46: =L46/100*AF46 -> 0.03234518 | N46: 18.27 | O46: =N46/100*AG46 -> 0.31059 | P46: 15.76 | Q46: =P46/100*AH46 -> 0.371936 | R46: 2.26 | S46: =R46/100*AI46 -> 0.252216 | T46: <DL | V46: 0.3225 | W46: =V46/100*AK46 -> 0.0621135 | X46: <DL | Z46: =SUM(X46,V46,T46,R46,P46,N46,L46,J46,H46,F46,D46) -> 97.8237 | AB46: 19.94 | AC46: 2.3 | AD46: 1.7 | AE46: 0.87 | AF46: 64.82 | AG46: 1.7 | AH46: 2.36 | AI46: 11.16 | AJ46: 1787.42 | AK46: 19.26 | AL46: 145.39
A47: 42. Exp CHV-E156 | B47: CH V 156_melt_6 | C47: Glass | D47: 0.3253 | E47: =D47/100*AB47 -> 0.06564554 | F47: 7.79 | G47: =F47/100*AC47 -> 0.180728 | H47: 11.52 | I47: =H47/100*AD47 -> 0.19584 | J47: 41.48 | K47: =J47/100*AE47 -> 0.360876 | L47: 0.0553 | M47: =L47/100*AF47 -> 0.03337908 | N47: 18.23 | O47: =N47/100*AG47 -> 0.30991 | P47: 15.61 | Q47: =P47/100*AH47 -> 0.369957 | R47: 2.31 | S47: =R47/100*AI47 -> 0.254331 | T47: <DL | V47: 0.2749 | W47: =V47/100*AK47 -> 0.06094533 | X47: <DL | Z47: =SUM(X47,V47,T47,R47,P47,N47,L47,J47,H47,F47,D47) -> 97.5955 | AB47: 20.18 | AC47: 2.32 | AD47: 1.7 | AE47: 0.87 | AF47: 60.36 | AG47: 1.7 | AH47: 2.37 | AI47: 11.01 | AJ47: 350.58 | AK47: 22.17 | AL47: 14829.54
A48: 42. Exp CHV-E156 | B48: CH V 156_melt_7 | C48: Glass | D48: 0.3616 | E48: =D48/100*AB48 -> 0.06649824 | F48: 7.81 | G48: =F48/100*AC48 -> 0.181192 | H48: 11.56 | I48: =H48/100*AD48 -> 0.195364 | J48: 41.62 | K48: =J48/100*AE48 -> 0.362094 | L48: 0.0527 | M48: =L48/100*AF48 -> 0.03194147 | N48: 18.37 | O48: =N48/100*AG48 -> 0.310453 | P48: 15.83 | Q48: =P48/100*AH48 -> 0.373588 | R48: 2.47 | S48: =R48/100*AI48 -> 0.261573 | T48: <DL | V48: 0.2994 | W48: =V48/100*AK48 -> 0.0606285 | X48: <DL | Z48: =SUM(X48,V48,T48,R48,P48,N48,L48,J48,H48,F48,D48) -> 98.3737 | AB48: 18.39 | AC48: 2.32 | AD48: 1.69 | AE48: 0.87 | AF48: 60.61 | AG48: 1.69 | AH48: 2.36 | AI48: 10.59 | AJ48: 557.89 | AK48: 20.25 | AL48: 185.85
C49: Average | D49: =AVERAGE(D44:D48) -> 0.34788 | F49: =AVERAGE(F44:F48) -> 7.868 | H49: =AVERAGE(H44:H48) -> 11.464 | J49: =AVERAGE(J44:J48) -> 41.486 | L49: =AVERAGE(L44:L48) -> 0.04772 | N49: =AVERAGE(N44:N48) -> 18.254 | P49: =AVERAGE(P44:P48) -> 15.71 | R49: =AVERAGE(R44:R48) -> 2.382 | V49: =AVERAGE(V44:V48) -> 0.3021
C50: Stdev | D50: =STDEV(D44:D48) -> 0.020119443 | F50: =STDEV(F44:F48) -> 0.064961527 | H50: =STDEV(H44:H48) -> 0.095551033 | J50: =STDEV(J44:J48) -> 0.076681158 | L50: =STDEV(L44:L48) -> 0.0076119643 | N50: =STDEV(N44:N48) -> 0.072318739 | P50: =STDEV(P44:P48) -> 0.12825755 | R50: =STDEV(R44:R48) -> 0.10232302 | V50: =STDEV(V44:V48) -> 0.0214391
A52: 42. Exp CHV-E157 | B52: CH V 157 1 | C52: Cpx | D52: <DL | F52: 14.6 | G52: =F52/100*AC52 -> 0.23798 | H52: 6.16 | I52: =H52/100*AD52 -> 0.144144 | J52: 49.19 | K52: =J52/100*AE52 -> 0.388601 | L52: <DL | N52: 23.15 | O52: =N52/100*AG52 -> 0.35188 | P52: 4.94 | Q52: =P52/100*AH52 -> 0.21489 | R52: 1.6631 | S52: =R52/100*AI52 -> 0.21853134 | T52: 0.3422 | U52: =T52/100*AJ52 -> 0.06525754 | V52: 0.1166 | W52: =V52/100*AK52 -> 0.05173542 | X52: <DL | Z52: =SUM(X52,V52,T52,R52,P52,N52,L52,J52,H52,F52,D52) -> 100.1619 | AB52: 208.97 | AC52: 1.63 | AD52: 2.34 | AE52: 0.79 | AF52: 282.93 | AG52: 1.52 | AH52: 4.35 | AI52: 13.14 | AJ52: 19.07 | AK52: 44.37 | AL52: 300
A53: 42. Exp CHV-E157 | B53: CH V 157 2 | C53: Cpx | D53: <DL | F53: 15.47 | G53: =F53/100*AC53 -> 0.244426 | H53: 4.57 | I53: =H53/100*AD53 -> 0.125218 | J53: 50.86 | K53: =J53/100*AE53 -> 0.391622 | L53: <DL | N53: 23.29 | O53: =N53/100*AG53 -> 0.351679 | P53: 4.29 | Q53: =P53/100*AH53 -> 0.200343 | R53: 1.2665 | S53: =R53/100*AI53 -> 0.2023867 | T53: 0.5536 | U53: =T53/100*AJ53 -> 0.07551104 | V53: 0.0784 | W53: =V53/100*AK53 -> 0.04841984 | X53: <DL | Z53: =SUM(X53,V53,T53,R53,P53,N53,L53,J53,H53,F53,D53) -> 100.3785 | AB53: 216.89 | AC53: 1.58 | AD53: 2.74 | AE53: 0.77 | AF53: 300 | AG53: 1.51 | AH53: 4.67 | AI53: 15.98 | AJ53: 13.64 | AK53: 61.76 | AL53: 224.48
A54: 42. Exp CHV-E157 | B54: CH V 157 3 | C54: Cpx | D54: <DL | F54: 16.69 | G54: =F54/100*AC54 -> 0.253688 | H54: 2.45 | I54: =H54/100*AD54 -> 0.093345 | J54: 52.83 | K54: =J54/100*AE54 -> 0.401508 | L54: <DL | N54: 22.91 | O54: =N54/100*AG54 -> 0.350523 | P54: 4.4 | Q54: =P54/100*AH54 -> 0.20328 | R54: 0.7704 | S54: =R54/100*AI54 -> 0.16032024 | T54: 0.3739 | U54: =T54/100*AJ54 -> 0.06718983 | V54: 0.1057 | W54: =V54/100*AK54 -> 0.05039776 | X54: <DL | Z54: =SUM(X54,V54,T54,R54,P54,N54,L54,J54,H54,F54,D54) -> 100.53 | AB54: 251.89 | AC54: 1.52 | AD54: 3.81 | AE54: 0.76 | AF54: 156.56 | AG54: 1.53 | AH54: 4.62 | AI54: 20.81 | AJ54: 17.97 | AK54: 47.68 | AL54: 300
A55: 42. Exp CHV-E157 | B55: CH V 157 4 | C55: Cpx | D55: <DL | F55: 16.18 | G55: =F55/100*AC55 -> 0.249172 | H55: 2.84 | I55: =H55/100*AD55 -> 0.100252 | J55: 52.49 | K55: =J55/100*AE55 -> 0.398924 | L55: <DL | N55: 23.42 | O55: =N55/100*AG55 -> 0.353642 | P55: 4.72 | Q55: =P55/100*AH55 -> 0.208624 | R55: 0.892 | S55: =R55/100*AI55 -> 0.1755456 | T55: 0.2065 | U55: =T55/100*AJ55 -> 0.05974045 | V55: 0.0967 | W55: =V55/100*AK55 -> 0.05056443 | X55: <DL | Z55: =SUM(X55,V55,T55,R55,P55,N55,L55,J55,H55,F55,D55) -> 100.8452 | AB55: 230.31 | AC55: 1.54 | AD55: 3.53 | AE55: 0.76 | AF55: 215.19 | AG55: 1.51 | AH55: 4.42 | AI55: 19.68 | AJ55: 28.93 | AK55: 52.29 | AL55: 392.5
A56: 42. Exp CHV-E157 | B56: CH V 157 5 | C56: Cpx | D56: 0.0566 | E56: =D56/100*AA56 -> 0 | F56: 15.03 | G56: =F56/100*AC56 -> 0.241983 | H56: 4.85 | I56: =H56/100*AD56 -> 0.128525 | J56: 50.54 | K56: =J56/100*AE56 -> 0.389158 | L56: <DL | N56: 23.44 | O56: =N56/100*AG56 -> 0.353944 | P56: 5.14 | Q56: =P56/100*AH56 -> 0.217422 | R56: 1.3932 | S56: =R56/100*AI56 -> 0.21148776 | T56: 0.1622 | U56: =T56/100*AJ56 -> 0.05589412 | V56: 0.0975 | W56: =V56/100*AK56 -> 0.0504855 | X56: <DL | Z56: =SUM(X56,V56,T56,R56,P56,N56,L56,J56,H56,F56,D56) -> 100.7095 | AB56: 75.87 | AC56: 1.61 | AD56: 2.65 | AE56: 0.77 | AF56: 237.3 | AG56: 1.51 | AH56: 4.23 | AI56: 15.18 | AJ56: 34.46 | AK56: 51.78 | AL56: 300
C57: Average | F57: =AVERAGE(F52:F56) -> 15.594 | H57: =AVERAGE(H52:H56) -> 4.174 | J57: =AVERAGE(J52:J56) -> 51.182 | N57: =AVERAGE(N52:N56) -> 23.242 | P57: =AVERAGE(P52:P56) -> 4.698 | R57: =AVERAGE(R52:R56) -> 1.19704 | T57: =AVERAGE(T52:T56) -> 0.32768 | V57: =AVERAGE(V52:V56) -> 0.09898
C58: Stdev | F58: =STDEV(F52:F56) -> 0.84648095 | H58: =STDEV(H52:H56) -> 1.5255917 | J58: =STDEV(J52:J56) -> 1.4925381 | N58: =STDEV(N52:N56) -> 0.21902055 | P58: =STDEV(P52:P56) -> 0.35695938 | R58: =STDEV(R52:R56) -> 0.36591886 | T58: =STDEV(T52:T56) -> 0.15447912 | V58: =STDEV(V52:V56) -> 0.014022732
A60: 42. Exp CHV-E157 | B60: CH V 157 7 | C60: Glass | D60: 0.3018 | E60: =D60/100*AB60 -> 0.0636798 | F60: 7.88 | G60: =F60/100*AC60 -> 0.182028 | H60: 11.4 | I60: =H60/100*AD60 -> 0.19494 | J60: 41.63 | K60: =J60/100*AE60 -> 0.362181 | L60: 0.0487 | M60: =L60/100*AF60 -> 0.03305269 | N60: 18.07 | O60: =N60/100*AG60 -> 0.308997 | P60: 15.83 | Q60: =P60/100*AH60 -> 0.372005 | R60: 2.45 | S60: =R60/100*AI60 -> 0.258965 | T60: <DL | V60: 0.3152 | W60: =V60/100*AK60 -> 0.0608336 | X60: <DL | Z60: =SUM(X60,V60,T60,R60,P60,N60,L60,J60,H60,F60,D60) -> 97.9257 | AB60: 21.1 | AC60: 2.31 | AD60: 1.71 | AE60: 0.87 | AF60: 67.87 | AG60: 1.71 | AH60: 2.35 | AI60: 10.57 | AJ60: 231.54 | AK60: 19.3 | AL60: 314.39
A61: 42. Exp CHV-E157 | B61: CH V 157 8 | C61: Glass | D61: 0.2944 | E61: =D61/100*AB61 -> 0.06438528 | F61: 8.01 | G61: =F61/100*AC61 -> 0.183429 | H61: 11.29 | I61: =H61/100*AD61 -> 0.194188 | J61: 41.83 | K61: =J61/100*AE61 -> 0.359738 | L61: 0.0522 | M61: =L61/100*AF61 -> 0.03219696 | N61: 18.22 | O61: =N61/100*AG61 -> 0.30974 | P61: 15.86 | Q61: =P61/100*AH61 -> 0.37271 | R61: 2.13 | S61: =R61/100*AI61 -> 0.241968 | T61: <DL | V61: 0.2805 | W61: =V61/100*AK61 -> 0.06055995 | X61: <DL | Z61: =SUM(X61,V61,T61,R61,P61,N61,L61,J61,H61,F61,D61) -> 97.9671 | AB61: 21.87 | AC61: 2.29 | AD61: 1.72 | AE61: 0.86 | AF61: 61.68 | AG61: 1.7 | AH61: 2.35 | AI61: 11.36 | AJ61: 371.92 | AK61: 21.59 | AL61: 300
A62: 42. Exp CHV-E157 | B62: CH V 157 9 | C62: Glass | D62: 0.297 | E62: =D62/100*AB62 -> 0.0642114 | F62: 7.85 | G62: =F62/100*AC62 -> 0.181335 | H62: 11.45 | I62: =H62/100*AD62 -> 0.19465 | J62: 41.81 | K62: =J62/100*AE62 -> 0.359566 | L62: 0.0526 | M62: =L62/100*AF62 -> 0.03207548 | N62: 18.3 | O62: =N62/100*AG62 -> 0.3111 | P62: 15.62 | Q62: =P62/100*AH62 -> 0.370194 | R62: 2.45 | S62: =R62/100*AI62 -> 0.25823 | T62: <DL | V62: 0.3121 | W62: =V62/100*AK62 -> 0.06098434 | X62: <DL | Z62: =SUM(X62,V62,T62,R62,P62,N62,L62,J62,H62,F62,D62) -> 98.1417 | AB62: 21.62 | AC62: 2.31 | AD62: 1.7 | AE62: 0.86 | AF62: 60.98 | AG62: 1.7 | AH62: 2.37 | AI62: 10.54 | AJ62: 184.09 | AK62: 19.54 | AL62: 300
A63: 42. Exp CHV-E157 | B63: CH V 157 10 | C63: Glass | D63: 0.3227 | E63: =D63/100*AB63 -> 0.06376552 | F63: 7.87 | G63: =F63/100*AC63 -> 0.181797 | H63: 11.4 | I63: =H63/100*AD63 -> 0.19494 | J63: 41.67 | K63: =J63/100*AE63 -> 0.362529 | L63: 0.0427 | M63: =L63/100*AF63 -> 0.03152114 | N63: 18.4 | O63: =N63/100*AG63 -> 0.31096 | P63: 15.91 | Q63: =P63/100*AH63 -> 0.372294 | R63: 2.49 | S63: =R63/100*AI63 -> 0.263193 | T63: <DL | V63: 0.3051 | W63: =V63/100*AK63 -> 0.06108102 | X63: <DL | Z63: =SUM(X63,V63,T63,R63,P63,N63,L63,J63,H63,F63,D63) -> 98.4105 | AB63: 19.76 | AC63: 2.31 | AD63: 1.71 | AE63: 0.87 | AF63: 73.82 | AG63: 1.69 | AH63: 2.34 | AI63: 10.57 | AJ63: 1159.76 | AK63: 20.02 | AL63: 300
A64: 42. Exp CHV-E157 | B64: CH V 157 11 | C64: Glass | D64: 0.2822 | E64: =D64/100*AB64 -> 0.06270484 | F64: 7.61 | G64: =F64/100*AC64 -> 0.178835 | H64: 11.53 | I64: =H64/100*AD64 -> 0.19601 | J64: 41.51 | K64: =J64/100*AE64 -> 0.361137 | L64: 0.0422 | M64: =L64/100*AF64 -> 0.03126598 | N64: 18 | O64: =N64/100*AG64 -> 0.3078 | P64: 15.99 | Q64: =P64/100*AH64 -> 0.374166 | R64: 2.25 | S64: =R64/100*AI64 -> 0.255825 | T64: <DL | V64: 0.3261 | W64: =V64/100*AK64 -> 0.06111114 | X64: <DL | Z64: =SUM(X64,V64,T64,R64,P64,N64,L64,J64,H64,F64,D64) -> 97.5405 | AB64: 22.22 | AC64: 2.35 | AD64: 1.7 | AE64: 0.87 | AF64: 74.09 | AG64: 1.71 | AH64: 2.34 | AI64: 11.37 | AJ64: 161.31 | AK64: 18.74 | AL64: 826.49
C65: Average | D65: =AVERAGE(D60:D64) -> 0.29962 | F65: =AVERAGE(F60:F64) -> 7.844 | H65: =AVERAGE(H60:H64) -> 11.414 | J65: =AVERAGE(J60:J64) -> 41.69 | L65: =AVERAGE(L60:L64) -> 0.04768 | N65: =AVERAGE(N60:N64) -> 18.198 | P65: =AVERAGE(P60:P64) -> 15.842 | R65: =AVERAGE(R60:R64) -> 2.354 | V65: =AVERAGE(V60:V64) -> 0.3078
C66: Stdev | D66: =STDEV(D60:D64) -> 0.014790267 | F66: =STDEV(F60:F64) -> 0.14518953 | H66: =STDEV(H60:H64) -> 0.087349871 | J66: =STDEV(J60:J64) -> 0.13266499 | L66: =STDEV(L60:L64) -> 0.0050126839 | N66: =STDEV(N60:N64) -> 0.16376813 | P66: =STDEV(P60:P64) -> 0.13809417 | R66: =STDEV(R60:R64) -> 0.15646086 | V66: =STDEV(V60:V64) -> 0.017034671
A68: 84. Exp CHV-E346 | B68: CH-V-346-cpx_1 | C68: Cpx | D68: <DL | F68: 15.43 | G68: =F68/100*AC68 -> 0.240708 | H68: 3.96 | I68: =H68/100*AD68 -> 0.117612 | J68: 51.11 | K68: =J68/100*AE68 -> 0.393547 | L68: <DL | N68: 23.47 | O68: =N68/100*AG68 -> 0.363785 | P68: 4.57 | Q68: =P68/100*AH68 -> 0.20565 | R68: 1.0233 | S68: =R68/100*AI68 -> 0.18664992 | T68: 0.3876 | U68: =T68/100*AJ68 -> 0.06829512 | V68: 0.092 | W68: =V68/100*AK68 -> 0.0506 | X68: <DL | Z68: =SUM(X68,V68,T68,R68,P68,N68,L68,J68,H68,F68,D68) -> 100.0429 | AB68: 300 | AC68: 1.56 | AD68: 2.97 | AE68: 0.77 | AF68: 779.47 | AG68: 1.55 | AH68: 4.5 | AI68: 18.24 | AJ68: 17.62 | AK68: 55 | AL68: 5007.19
A69: 84. Exp CHV-E346 | B69: CH-V-346-cpx_2 | C69: Cpx | D69: <DL | F69: 15.94 | G69: =F69/100*AC69 -> 0.245476 | H69: 4.06 | I69: =H69/100*AD69 -> 0.118958 | J69: 51.44 | K69: =J69/100*AE69 -> 0.396088 | L69: <DL | N69: 23.22 | O69: =N69/100*AG69 -> 0.362232 | P69: 4.06 | Q69: =P69/100*AH69 -> 0.194474 | R69: 1.0096 | S69: =R69/100*AI69 -> 0.1802136 | T69: 0.5766 | U69: =T69/100*AJ69 -> 0.07801398 | V69: 0.1014 | W69: =V69/100*AK69 -> 0.04916886 | X69: <DL | Z69: =SUM(X69,V69,T69,R69,P69,N69,L69,J69,H69,F69,D69) -> 100.4076 | AB69: 300 | AC69: 1.54 | AD69: 2.93 | AE69: 0.77 | AF69: 300 | AG69: 1.56 | AH69: 4.79 | AI69: 17.85 | AJ69: 13.53 | AK69: 48.49 | AL69: 128.66
A70: 84. Exp CHV-E346 | B70: CH-V-346-cpx_3 | C70: Cpx | D70: <DL | F70: 15.58 | G70: =F70/100*AC70 -> 0.243048 | H70: 4.43 | I70: =H70/100*AD70 -> 0.124483 | J70: 50.67 | K70: =J70/100*AE70 -> 0.395226 | L70: <DL | N70: 23.09 | O70: =N70/100*AG70 -> 0.360204 | P70: 4.05 | Q70: =P70/100*AH70 -> 0.193995 | R70: 1.4314 | S70: =R70/100*AI70 -> 0.20669416 | T70: 0.752 | U70: =T70/100*AJ70 -> 0.0850512 | V70: 0.0896 | W70: =V70/100*AK70 -> 0.05038208 | X70: <DL | Z70: =SUM(X70,V70,T70,R70,P70,N70,L70,J70,H70,F70,D70) -> 100.093 | AB70: 5947.66 | AC70: 1.56 | AD70: 2.81 | AE70: 0.78 | AF70: 300 | AG70: 1.56 | AH70: 4.79 | AI70: 14.44 | AJ70: 11.31 | AK70: 56.23 | AL70: 300
A71: 84. Exp CHV-E346 | B71: CH-V-346-cpx_4 | C71: Cpx | D71: <DL | F71: 15.99 | G71: =F71/100*AC71 -> 0.244647 | H71: 3.73 | I71: =H71/100*AD71 -> 0.114884 | J71: 51.75 | K71: =J71/100*AE71 -> 0.398475 | L71: <DL | N71: 23.47 | O71: =N71/100*AG71 -> 0.363785 | P71: 4.03 | Q71: =P71/100*AH71 -> 0.194649 | R71: 0.9696 | S71: =R71/100*AI71 -> 0.17927904 | T71: 0.5055 | U71: =T71/100*AJ71 -> 0.0736008 | V71: 0.082 | W71: =V71/100*AK71 -> 0.0502824 | X71: <DL | Z71: =SUM(X71,V71,T71,R71,P71,N71,L71,J71,H71,F71,D71) -> 100.5271 | AB71: 1057.94 | AC71: 1.53 | AD71: 3.08 | AE71: 0.77 | AF71: 193.77 | AG71: 1.55 | AH71: 4.83 | AI71: 18.49 | AJ71: 14.56 | AK71: 61.32 | AL71: 210.96
A72: 84. Exp CHV-E346 | B72: CH-V-346-cpx_5 | C72: Cpx | D72: <DL | F72: 15.61 | G72: =F72/100*AC72 -> 0.243516 | H72: 4.46 | I72: =H72/100*AD72 -> 0.125326 | J72: 50.69 | K72: =J72/100*AE72 -> 0.395382 | L72: <DL | N72: 23.14 | O72: =N72/100*AG72 -> 0.360984 | P72: 4.29 | Q72: =P72/100*AH72 -> 0.199914 | R72: 1.1514 | S72: =R72/100*AI72 -> 0.19078698 | T72: 0.5249 | U72: =T72/100*AJ72 -> 0.07569058 | V72: 0.1121 | W72: =V72/100*AK72 -> 0.05077009 | X72: <DL | Z72: =SUM(X72,V72,T72,R72,P72,N72,L72,J72,H72,F72,D72) -> 99.9784 | AB72: 1056.8 | AC72: 1.56 | AD72: 2.81 | AE72: 0.78 | AF72: 300 | AG72: 1.56 | AH72: 4.66 | AI72: 16.57 | AJ72: 14.42 | AK72: 45.29 | AL72: 621.41
C73: Average | F73: =AVERAGE(F68:F72) -> 15.71 | H73: =AVERAGE(H68:H72) -> 4.128 | J73: =AVERAGE(J68:J72) -> 51.132 | N73: =AVERAGE(N68:N72) -> 23.278 | P73: =AVERAGE(P68:P72) -> 4.2 | R73: =AVERAGE(R68:R72) -> 1.11706 | T73: =AVERAGE(T68:T72) -> 0.54932 | V73: =AVERAGE(V68:V72) -> 0.09542
C74: Stdev | F74: =STDEV(F68:F72) -> 0.24320773 | H74: =STDEV(H68:H72) -> 0.31332092 | J74: =STDEV(J68:J72) -> 0.47065911 | N74: =STDEV(N68:N72) -> 0.18130085 | P74: =STDEV(P68:P72) -> 0.232379 | R74: =STDEV(R68:R72) -> 0.18846214 | T74: =STDEV(T68:T72) -> 0.13275284 | V74: =STDEV(V68:V72) -> 0.011615163
A76: 84. Exp CHV-E346 | B76: CH-V-346-gl_1 | C76: Glass | D76: <DL | F76: 7.95 | G76: =F76/100*AC76 -> 0.30528 | H76: 11.24 | I76: =H76/100*AD76 -> 0.329332 | J76: 42.47 | K76: =J76/100*AE76 -> 0.620062 | L76: <DL | N76: 18.86 | O76: =N76/100*AG76 -> 0.548826 | P76: 15.27 | Q76: =P76/100*AH76 -> 0.615381 | R76: 2.3 | S76: =R76/100*AI76 -> 0.43332 | T76: <DL | V76: 0.2412 | W76: =V76/100*AK76 -> 0.10140048 | X76: <DL | Z76: =SUM(X76,V76,T76,R76,P76,N76,L76,J76,H76,F76,D76) -> 98.3312 | AB76: 403.11 | AC76: 3.84 | AD76: 2.93 | AE76: 1.46 | AF76: 300 | AG76: 2.91 | AH76: 4.03 | AI76: 18.84 | AJ76: 694.47 | AK76: 42.04 | AL76: 300
A77: 84. Exp CHV-E346 | B77: CH-V-346-gl_2 | C77: Glass | D77: <DL | F77: 8.07 | G77: =F77/100*AC77 -> 0.307467 | H77: 11.14 | I77: =H77/100*AD77 -> 0.32863 | J77: 42.3 | K77: =J77/100*AE77 -> 0.61758 | L77: <DL | N77: 18.75 | O77: =N77/100*AG77 -> 0.5475 | P77: 15.35 | Q77: =P77/100*AH77 -> 0.61707 | R77: 2.23 | S77: =R77/100*AI77 -> 0.431059 | T77: <DL | V77: 0.296 | W77: =V77/100*AK77 -> 0.1067968 | X77: <DL | Z77: =SUM(X77,V77,T77,R77,P77,N77,L77,J77,H77,F77,D77) -> 98.136 | AB77: 279.05 | AC77: 3.81 | AD77: 2.95 | AE77: 1.46 | AF77: 257.25 | AG77: 2.92 | AH77: 4.02 | AI77: 19.33 | AJ77: 274.48 | AK77: 36.08 | AL77: 300
A78: 84. Exp CHV-E346 | B78: CH-V-346-gl_3 | C78: Glass | D78: <DL | F78: 8.16 | G78: =F78/100*AC78 -> 0.308448 | H78: 11.16 | I78: =H78/100*AD78 -> 0.328104 | J78: 42.35 | K78: =J78/100*AE78 -> 0.61831 | L78: <DL | N78: 18.51 | O78: =N78/100*AG78 -> 0.544194 | P78: 14.95 | Q78: =P78/100*AH78 -> 0.608465 | R78: 2.21 | S78: =R78/100*AI78 -> 0.423657 | T78: <DL | V78: 0.2585 | W78: =V78/100*AK78 -> 0.09608445 | X78: <DL | Z78: =SUM(X78,V78,T78,R78,P78,N78,L78,J78,H78,F78,D78) -> 97.5985 | AB78: 291.11 | AC78: 3.78 | AD78: 2.94 | AE78: 1.46 | AF78: 250.98 | AG78: 2.94 | AH78: 4.07 | AI78: 19.17 | AJ78: 148.2 | AK78: 37.17 | AL78: 300
C79: Average | F79: =AVERAGE(F76:F78) -> 8.06 | H79: =AVERAGE(H76:H78) -> 11.18 | J79: =AVERAGE(J76:J78) -> 42.373333 | N79: =AVERAGE(N76:N78) -> 18.706667 | P79: =AVERAGE(P76:P78) -> 15.19 | R79: =AVERAGE(R76:R78) -> 2.2466667 | V79: =AVERAGE(V76:V78) -> 0.26523333
C80: Stdev | F80: =STDEV(F76:F78) -> 0.10535654 | H80: =STDEV(H76:H78) -> 0.052915026 | J80: =STDEV(J76:J78) -> 0.087368949 | N80: =STDEV(N76:N78) -> 0.17897858 | P80: =STDEV(P76:P78) -> 0.2116601 | R80: =STDEV(R76:R78) -> 0.047258156 | V80: =STDEV(V76:V78) -> 0.028013628
A82: 84. Exp CHV-E349 | B82: CH-V-349-cpx_1 | C82: Cpx | D82: <DL | F82: 15.64 | G82: =F82/100*AC82 -> 0.24242 | H82: 4.2 | I82: =H82/100*AD82 -> 0.12096 | J82: 51.6 | K82: =J82/100*AE82 -> 0.39732 | L82: <DL | N82: 23.61 | O82: =N82/100*AG82 -> 0.365955 | P82: 4.13 | Q82: =P82/100*AH82 -> 0.196588 | R82: 1.0875 | S82: =R82/100*AI82 -> 0.1827 | T82: 0.4443 | U82: =T82/100*AJ82 -> 0.07059927 | V82: 0.1108 | W82: =V82/100*AK82 -> 0.050691 | X82: <DL | Z82: =SUM(X82,V82,T82,R82,P82,N82,L82,J82,H82,F82,D82) -> 100.8226 | AB82: 300 | AC82: 1.55 | AD82: 2.88 | AE82: 0.77 | AF82: 300 | AG82: 1.55 | AH82: 4.76 | AI82: 16.8 | AJ82: 15.89 | AK82: 45.75 | AL82: 300
A83: 84. Exp CHV-E349 | B83: CH-V-349-cpx_2 | C83: Cpx | D83: <DL | F83: 16.07 | G83: =F83/100*AC83 -> 0.245871 | H83: 3.68 | I83: =H83/100*AD83 -> 0.11408 | J83: 51.77 | K83: =J83/100*AE83 -> 0.398629 | L83: <DL | N83: 23.55 | O83: =N83/100*AG83 -> 0.365025 | P83: 3.96 | Q83: =P83/100*AH83 -> 0.193644 | R83: 1.0347 | S83: =R83/100*AI83 -> 0.18428007 | T83: 0.5534 | U83: =T83/100*AJ83 -> 0.07614784 | V83: 0.0676 | W83: =V83/100*AK83 -> 0.0501592 | X83: <DL | Z83: =SUM(X83,V83,T83,R83,P83,N83,L83,J83,H83,F83,D83) -> 100.6857 | AB83: 300 | AC83: 1.53 | AD83: 3.1 | AE83: 0.77 | AF83: 272.18 | AG83: 1.55 | AH83: 4.89 | AI83: 17.81 | AJ83: 13.76 | AK83: 74.2 | AL83: 259.82
A84: 84. Exp CHV-E349 | B84: CH-V-349-cpx_3 | C84: Cpx | D84: <DL | F84: 15.69 | G84: =F84/100*AC84 -> 0.243195 | H84: 3.87 | I84: =H84/100*AD84 -> 0.116874 | J84: 51.49 | K84: =J84/100*AE84 -> 0.396473 | L84: <DL | N84: 23.67 | O84: =N84/100*AG84 -> 0.366885 | P84: 4.16 | Q84: =P84/100*AH84 -> 0.196352 | R84: 1.0026 | S84: =R84/100*AI84 -> 0.175455 | T84: 0.5014 | U84: =T84/100*AJ84 -> 0.0744579 | V84: 0.1115 | W84: =V84/100*AK84 -> 0.05103355 | X84: <DL | Z84: =SUM(X84,V84,T84,R84,P84,N84,L84,J84,H84,F84,D84) -> 100.4955 | AB84: 324.56 | AC84: 1.55 | AD84: 3.02 | AE84: 0.77 | AF84: 300 | AG84: 1.55 | AH84: 4.72 | AI84: 17.5 | AJ84: 14.85 | AK84: 45.77 | AL84: 227.69
A85: 84. Exp CHV-E349 | B85: CH-V-349-cpx_4 | C85: Cpx | D85: <DL | F85: 15.42 | G85: =F85/100*AC85 -> 0.242094 | H85: 4.41 | I85: =H85/100*AD85 -> 0.123921 | J85: 51.13 | K85: =J85/100*AE85 -> 0.393701 | L85: <DL | N85: 23.26 | O85: =N85/100*AG85 -> 0.362856 | P85: 4.22 | Q85: =P85/100*AH85 -> 0.19834 | R85: 1.4061 | S85: =R85/100*AI85 -> 0.20472816 | T85: 0.6773 | U85: =T85/100*AJ85 -> 0.08086962 | V85: 0.078 | W85: =V85/100*AK85 -> 0.0469872 | X85: <DL | Z85: =SUM(X85,V85,T85,R85,P85,N85,L85,J85,H85,F85,D85) -> 100.6014 | AB85: 145.82 | AC85: 1.57 | AD85: 2.81 | AE85: 0.77 | AF85: 258.72 | AG85: 1.56 | AH85: 4.7 | AI85: 14.56 | AJ85: 11.94 | AK85: 60.24 | AL85: 300
C86: Average | F86: =AVERAGE(F82:F85) -> 15.705 | H86: =AVERAGE(H82:H85) -> 4.04 | J86: =AVERAGE(J82:J85) -> 51.4975 | N86: =AVERAGE(N82:N85) -> 23.5225 | P86: =AVERAGE(P82:P85) -> 4.1175 | R86: =AVERAGE(R82:R85) -> 1.132725 | T86: =AVERAGE(T82:T85) -> 0.5441 | V86: =AVERAGE(V82:V85) -> 0.091975
C87: Stdev | F87: =STDEV(F82:F85) -> 0.27012343 | H87: =STDEV(H82:H85) -> 0.32710854 | J87: =STDEV(J82:J85) -> 0.27072434 | N87: =STDEV(N82:N85) -> 0.18172782 | P87: =STDEV(P82:P85) -> 0.11146748 | R87: =STDEV(R82:R85) -> 0.18558072 | T87: =STDEV(T82:T85) -> 0.099351329 | V87: =STDEV(V82:V85) -> 0.0225466
A89: 84. Exp CHV-E349 | B89: CH-V-349-gl_1 | C89: Glass | D89: <DL | F89: 8.44 | G89: =F89/100*AC89 -> 0.314812 | H89: 11.2 | I89: =H89/100*AD89 -> 0.3304 | J89: 42.35 | K89: =J89/100*AE89 -> 0.61831 | L89: <DL | N89: 18.85 | O89: =N89/100*AG89 -> 0.548535 | P89: 15.3 | Q89: =P89/100*AH89 -> 0.61659 | R89: 2.07 | S89: =R89/100*AI89 -> 0.407376 | T89: <DL | V89: 0.2608 | W89: =V89/100*AK89 -> 0.10358976 | X89: <DL | Z89: =SUM(X89,V89,T89,R89,P89,N89,L89,J89,H89,F89,D89) -> 98.4708 | AB89: 213.06 | AC89: 3.73 | AD89: 2.95 | AE89: 1.46 | AF89: 8166.59 | AG89: 2.91 | AH89: 4.03 | AI89: 19.68 | AJ89: 151.35 | AK89: 39.72 | AL89: 305.26
A90: 84. Exp CHV-E349 | B90: CH-V-349-gl_2 | C90: Glass | D90: <DL | F90: 8.19 | G90: =F90/100*AC90 -> 0.310401 | H90: 11.18 | I90: =H90/100*AD90 -> 0.32981 | J90: 42.43 | K90: =J90/100*AE90 -> 0.619478 | L90: <DL | N90: 18.89 | O90: =N90/100*AG90 -> 0.549699 | P90: 15.34 | Q90: =P90/100*AH90 -> 0.618202 | R90: 2.48 | S90: =R90/100*AI90 -> 0.43648 | T90: <DL | V90: 0.2596 | W90: =V90/100*AK90 -> 0.10843492 | X90: <DL | Z90: =SUM(X90,V90,T90,R90,P90,N90,L90,J90,H90,F90,D90) -> 98.7696 | AB90: 494.65 | AC90: 3.79 | AD90: 2.95 | AE90: 1.46 | AF90: 113.41 | AG90: 2.91 | AH90: 4.03 | AI90: 17.6 | AJ90: 156.25 | AK90: 41.77 | AL90: 138.04
A91: 84. Exp CHV-E349 | B91: CH-V-349-gl_3 | C91: Glass | D91: <DL | F91: 8.15 | G91: =F91/100*AC91 -> 0.308885 | H91: 11.05 | I91: =H91/100*AD91 -> 0.32708 | J91: 42.33 | K91: =J91/100*AE91 -> 0.618018 | L91: <DL | N91: 18.52 | O91: =N91/100*AG91 -> 0.544488 | P91: 15.63 | Q91: =P91/100*AH91 -> 0.622074 | R91: 2.23 | S91: =R91/100*AI91 -> 0.424815 | T91: <DL | V91: 0.3452 | W91: =V91/100*AK91 -> 0.10224824 | X91: <DL | Z91: =SUM(X91,V91,T91,R91,P91,N91,L91,J91,H91,F91,D91) -> 98.2552 | AB91: 161.85 | AC91: 3.79 | AD91: 2.96 | AE91: 1.46 | AF91: 185.36 | AG91: 2.94 | AH91: 3.98 | AI91: 19.05 | AJ91: 376.06 | AK91: 29.62 | AL91: 248.33
C92: Average | F92: =AVERAGE(F89:F91) -> 8.26 | H92: =AVERAGE(H89:H91) -> 11.143333 | J92: =AVERAGE(J89:J91) -> 42.37 | N92: =AVERAGE(N89:N91) -> 18.753333 | P92: =AVERAGE(P89:P91) -> 15.423333 | R92: =AVERAGE(R89:R91) -> 2.26 | V92: =AVERAGE(V89:V91) -> 0.28853333
C93: Stdev | F93: =STDEV(F89:F91) -> 0.15716234 | H93: =STDEV(H89:H91) -> 0.081445278 | J93: =STDEV(J89:J91) -> 0.052915026 | N93: =STDEV(N89:N91) -> 0.20305993 | P93: =STDEV(P89:P91) -> 0.18009257 | R93: =STDEV(R89:R91) -> 0.20663978 | V93: =STDEV(V89:V91) -> 0.049078441
A95: 63. Exp CHV-E284 | B95: CH-V-284-cpx_1 | C95: Cpx | D95: <DL | F95: 16.2838 | G95: 0.24751376 | H95: 5.1744 | I95: 0.1345344 | J95: 49.3667 | K95: 0.38999693 | L95: <DL | N95: 22.7163 | O95: 0.35891754 | P95: 2.9977 | Q95: 0.16727166 | R95: 3.7675 | S95: 0.32061425 | T95: 0.2403 | U95: 0.0607959 | V95: 0.1305 | W95: 0.0519912 | X95: <DL | Z95: 100.7208 | AB95: 130.47 | AC95: 1.52 | AD95: 2.6 | AE95: 0.79 | AF95: 300 | AG95: 1.58 | AH95: 5.58 | AI95: 8.51 | AJ95: 25.3 | AK95: 39.84 | AL95: 477.53
A96: 63. Exp CHV-E284 | B96: CH-V-284-cpx_2 | C96: Cpx | D96: <DL | F96: 15.0971 | G96: 0.23853418 | H96: 7.8872 | I96: 0.16405376 | J96: 46.2941 | K96: 0.37961162 | L96: <DL | N96: 22.6851 | O96: 0.35615607 | P96: 2.438 | Q96: 0.1526188 | R96: 4.8412 | S96: 0.3606694 | T96: 0.6797 | U96: 0.07993272 | V96: 0.1179 | W96: 0.05033151 | X96: <DL | Z96: 100.094 | AB96: 218.18 | AC96: 1.58 | AD96: 2.08 | AE96: 0.82 | AF96: 300 | AG96: 1.57 | AH96: 6.26 | AI96: 7.45 | AJ96: 11.76 | AK96: 42.69 | AL96: 174.49
A97: 63. Exp CHV-E284 | B97: CH-V-284-cpx_3 | C97: Cpx | D97: <DL | F97: 16.6745 | G97: 0.2501175 | H97: 5.2257 | I97: 0.13534563 | J97: 49.3443 | K97: 0.38981997 | L97: <DL | N97: 22.5637 | O97: 0.35650646 | P97: 2.3972 | Q97: 0.15030444 | R97: 3.5801 | S97: 0.31039467 | T97: 0.5751 | U97: 0.07643079 | V97: 0.1144 | W97: 0.0518232 | X97: <DL | Z97: 100.4795 | AB97: 891.59 | AC97: 1.5 | AD97: 2.59 | AE97: 0.79 | AF97: 300 | AG97: 1.58 | AH97: 6.27 | AI97: 8.67 | AJ97: 13.29 | AK97: 45.3 | AL97: 300
A98: 63. Exp CHV-E284 | B98: CH-V-284-cpx_4 | C98: Cpx | D98: <DL | F98: 16.7596 | G98: 0.24971804 | H98: 5.249 | I98: 0.1354242 | J98: 49.488 | K98: 0.3909552 | L98: <DL | N98: 22.2435 | O98: 0.35367165 | P98: 2.2763 | Q98: 0.14704898 | R98: 3.2691 | S98: 0.29944956 | T98: 0.5843 | U98: 0.0765433 | V98: 0.1353 | W98: 0.05328114 | X98: <DL | Z98: 100.0051 | AB98: 300 | AC98: 1.49 | AD98: 2.58 | AE98: 0.79 | AF98: 300 | AG98: 1.59 | AH98: 6.46 | AI98: 9.16 | AJ98: 13.1 | AK98: 39.38 | AL98: 300
A99: 63. Exp CHV-E284 | B99: CH-V-284-cpx_5 | C99: Cpx | D99: <DL | F99: 14.5753 | G99: 0.23466233 | H99: 8.622 | I99: 0.1715778 | J99: 45.0449 | K99: 0.37387267 | L99: <DL | N99: 22.6812 | O99: 0.35609484 | P99: 2.3602 | Q99: 0.14940066 | R99: 5.7348 | S99: 0.39053988 | T99: 0.6985 | U99: 0.08067675 | V99: 0.0941 | W99: 0.05060698 | X99: <DL | Z99: 99.8296 | AB99: 219.64 | AC99: 1.61 | AD99: 1.99 | AE99: 0.83 | AF99: 300 | AG99: 1.57 | AH99: 6.33 | AI99: 6.81 | AJ99: 11.55 | AK99: 53.78 | AL99: 300
A100: 63. Exp CHV-E284 | B100: CH-V-284-cpx_6 | C100: Cpx | D100: <DL | F100: 16.2372 | G100: 0.24680544 | H100: 5.4921 | I100: 0.13840092 | J100: 48.2843 | K100: 0.3862744 | L100: <DL | N100: 22.3194 | O100: 0.35487846 | P100: 2.9729 | Q100: 0.16618511 | R100: 4.3527 | S100: 0.34342803 | T100: 0.2607 | U100: 0.05983065 | V100: 0.1068 | W100: 0.0508368 | X100: <DL | Z100: 100.0261 | AB100: 300 | AC100: 1.52 | AD100: 2.52 | AE100: 0.8 | AF100: 300 | AG100: 1.59 | AH100: 5.59 | AI100: 7.89 | AJ100: 22.95 | AK100: 47.6 | AL100: 300
C101: Average | F101: =AVERAGE(F95:F100) -> 15.937917 | H101: =AVERAGE(H95:H100) -> 6.2750667 | J101: =AVERAGE(J95:J100) -> 47.970383 | N101: =AVERAGE(N95:N100) -> 22.534867 | P101: =AVERAGE(P95:P100) -> 2.5737167 | R101: =AVERAGE(R95:R100) -> 4.2575667 | T101: =AVERAGE(T95:T100) -> 0.50643333 | V101: =AVERAGE(V95:V100) -> 0.1165
C102: Stdev | F102: =STDEV(F95:F100) -> 0.89337799 | H102: =STDEV(H95:H100) -> 1.5547062 | J102: =STDEV(J95:J100) -> 1.8765623 | N102: =STDEV(N95:N100) -> 0.20447657 | P102: =STDEV(P95:P100) -> 0.32333648 | R102: =STDEV(R95:R100) -> 0.91739733 | T102: =STDEV(T95:T100) -> 0.2044021 | V102: =STDEV(V95:V100) -> 0.015176693
A104: 63. Exp CHV-E284 | B104: CHVE-284-pl-1 | C104: Pl | D104: <DL | E104: <DL | F104: 0.4432 | G104: =F104/100*AC104 -> 0.09626304 | H104: 34.9 | I104: =H104/100*AD104 -> 0.64565 | J104: 44.77 | K104: =J104/100*AE104 -> 0.770044 | L104: <DL | N104: 19.46 | O104: =N104/100*AG104 -> 0.659694 | P104: 0.2243 | Q104: =P104/100*AH104 -> 0.13713702 | R104: <DL | T104: <DL | V104: <DL | X104: not analyzed | Z104: =SUM(X104,V104,T104,R104,P104,N104,L104,J104,H104,F104,D104) -> 99.7975 | AB104: 108.17 | AC104: 21.72 | AD104: 1.85 | AE104: 1.72 | AF104: 300 | AG104: 3.39 | AH104: 61.14 | AI104: 196.26 | AJ104: 1569.29 | AK104: 300
A105: 63. Exp CHV-E284 | B105: CHVE-284-pl-3 | C105: Pl | D105: 0.2078 | E105: =D105/100*AB105 -> 0.0919515 | F105: 0.4353 | G105: =F105/100*AC105 -> 0.10125078 | H105: 34.47 | I105: =H105/100*AD105 -> 0.641142 | J105: 44.74 | K105: =J105/100*AE105 -> 0.769528 | L105: <DL | N105: 19.34 | O105: =N105/100*AG105 -> 0.659494 | P105: 0.155 | Q105: =P105/100*AH105 -> 0.125953 | R105: 0.1962 | S105: =R105/100*AI105 -> 0.20279232 | T105: <DL | V105: <DL | X105: not analyzed | Z105: =SUM(X105,V105,T105,#REF!,P105,N105,L105,J105,H105,F105,D105) -> #REF! | AB105: 44.25 | AC105: 23.26 | AD105: 1.86 | AE105: 1.72 | AF105: 246.31 | AG105: 3.41 | AH105: 81.26 | AI105: 103.36 | AJ105: 300 | AK105: 239.9
A106: 63. Exp CHV-E284 | B106: CHVE-284-pl-4 | C106: Pl | D106: 0.1715 | E106: =D106/100*AB106 -> 0.093982 | F106: 0.4226 | G106: =F106/100*AC106 -> 0.10117044 | H106: 33.98 | I106: =H106/100*AD106 -> 0.635426 | J106: 44.85 | K106: =J106/100*AE106 -> 0.77142 | L106: <DL | N106: 19.25 | O106: =N106/100*AG106 -> 0.656425 | P106: 0.2594 | Q106: =P106/100*AH106 -> 0.14080232 | R106: <DL | T106: <DL | V106: <DL | X106: not analyzed | Z106: =SUM(X106,V106,T106,R105,P106,N106,L106,J106,H106,F106,D106) -> 99.1297 | AB106: 54.8 | AC106: 23.94 | AD106: 1.87 | AE106: 1.72 | AF106: 370.99 | AG106: 3.41 | AH106: 54.28 | AI106: 169.38 | AJ106: 300 | AK106: 371.53
A107: 63. Exp CHV-E284 | B107: CHVE-284-pl-5 | C107: Pl | D107: 0.2141 | E107: =D107/100*AB107 -> 0.09769383 | F107: 0.4192 | G107: =F107/100*AC107 -> 0.09616448 | H107: 34.46 | I107: =H107/100*AD107 -> 0.640956 | J107: 45.21 | K107: =J107/100*AE107 -> 0.773091 | L107: <DL | N107: 19.17 | O107: =N107/100*AG107 -> 0.655614 | P107: 0.3239 | Q107: =P107/100*AH107 -> 0.1357141 | R107: <DL | T107: <DL | V107: <DL | X107: not analyzed | Z107: =SUM(X107,V107,T107,R106,P107,N107,L107,J107,H107,F107,D107) -> 99.7972 | AB107: 45.63 | AC107: 22.94 | AD107: 1.86 | AE107: 1.71 | AF107: 300 | AG107: 3.42 | AH107: 41.9 | AI107: 159.69 | AJ107: 300 | AK107: 189.21
A108: 63. Exp CHV-E284 | B108: CHVE-284-pl-6 | C108: Pl | D108: 0.1267 | E108: =D108/100*AB108 -> 0.08779043 | F108: 0.4376 | G108: =F108/100*AC108 -> 0.09859128 | H108: 34.43 | I108: =H108/100*AD108 -> 0.640398 | J108: 44.95 | K108: =J108/100*AE108 -> 0.77314 | L108: <DL | N108: 19.62 | O108: =N108/100*AG108 -> 0.661194 | P108: 0.0898 | Q108: =P108/100*AH108 -> 0.12533386 | R108: <DL | T108: <DL | V108: <DL | X108: not analyzed | Z108: =SUM(X108,V108,T108,R107,P108,N108,L108,J108,H108,F108,D108) -> 99.6541 | AB108: 69.29 | AC108: 22.53 | AD108: 1.86 | AE108: 1.72 | AF108: 427.1 | AG108: 3.37 | AH108: 139.57 | AI108: 176.33 | AJ108: 2308.04 | AK108: 1631.94
A109: 63. Exp CHV-E284 | B109: CHVE-284-pl-7 | C109: Pl | D109: 0.1927 | E109: =D109/100*AB109 -> 0.09108929 | F109: 0.4263 | G109: =F109/100*AC109 -> 0.09941316 | H109: 34.62 | I109: =H109/100*AD109 -> 0.64047 | J109: 44.63 | K109: =J109/100*AE109 -> 0.772099 | L109: <DL | N109: 19.48 | O109: =N109/100*AG109 -> 0.660372 | P109: 0.2308 | Q109: =P109/100*AH109 -> 0.13631048 | R109: 0.1669 | S109: =R109/100*AI109 -> 0.2087919 | T109: <DL | V109: <DL | X109: not analyzed | Z109: =SUM(X109,V109,T109,R108,P109,N109,L109,J109,H109,F109,D109) -> 99.5798 | AB109: 47.27 | AC109: 23.32 | AD109: 1.85 | AE109: 1.73 | AF109: 483.93 | AG109: 3.39 | AH109: 59.06 | AI109: 125.1 | AJ109: 300 | AK109: 259.31
A110: 63. Exp CHV-E284 | B110: CHVE-284-pl-8 | C110: Pl | D110: 0.1956 | E110: =D110/100*AB110 -> 0.09883668 | F110: 0.485 | G110: =F110/100*AC110 -> 0.103208 | H110: 34.48 | I110: =H110/100*AD110 -> 0.641328 | J110: 45.07 | K110: =J110/100*AE110 -> 0.775204 | L110: <DL | N110: 19.01 | O110: =N110/100*AG110 -> 0.652043 | P110: 0.2222 | Q110: =P110/100*AH110 -> 0.13438656 | R110: 0.2155 | S110: =R110/100*AI110 -> 0.19845395 | T110: <DL | V110: <DL | X110: not analyzed | Z110: =SUM(X110,V110,T110,R109,P110,N110,L110,J110,H110,F110,D110) -> 99.6297 | AB110: 50.53 | AC110: 21.28 | AD110: 1.86 | AE110: 1.72 | AF110: 7410.99 | AG110: 3.43 | AH110: 60.48 | AI110: 92.09 | AJ110: 300 | AK110: 300
A111: 63. Exp CHV-E284 | B111: CHVE-284-pl-9 | C111: Pl | D111: 0.1253 | E111: =D111/100*AB111 -> 0.08677025 | F111: 0.4851 | G111: =F111/100*AC111 -> 0.10167696 | H111: 35.14 | I111: =H111/100*AD111 -> 0.646576 | J111: 45.1 | K111: =J111/100*AE111 -> 0.77572 | L111: <DL | N111: 19.64 | O111: =N111/100*AG111 -> 0.661868 | P111: 0.2062 | Q111: =P111/100*AH111 -> 0.14180374 | R111: 0.2388 | S111: =R111/100*AI111 -> 0.20450832 | T111: <DL | V111: <DL | X111: not analyzed | Z111: =SUM(X111,V111,T111,R110,P111,N111,L111,J111,H111,F111,D111) -> 100.9121 | AB111: 69.25 | AC111: 20.96 | AD111: 1.84 | AE111: 1.72 | AF111: 173.91 | AG111: 3.37 | AH111: 68.77 | AI111: 85.64 | AJ111: 627.24 | AK111: 300
A112: 63. Exp CHV-E284 | B112: CHVE-284-pl-10 | C112: Pl | D112: 0.2212 | E112: =D112/100*AB112 -> 0.09370032 | F112: 0.5014 | G112: =F112/100*AC112 -> 0.1042912 | H112: 34.25 | I112: =H112/100*AD112 -> 0.63705 | J112: 45.29 | K112: =J112/100*AE112 -> 0.774459 | L112: <DL | N112: 19.17 | O112: =N112/100*AG112 -> 0.655614 | P112: 0.2002 | Q112: =P112/100*AH112 -> 0.13867854 | R112: 0.1747 | S112: =R112/100*AI112 -> 0.17176504 | T112: <DL | V112: <DL | X112: not analyzed | Z112: =SUM(X112,V112,T112,R111,P112,N112,L112,J112,H112,F112,D112) -> 99.8716 | AB112: 42.36 | AC112: 20.8 | AD112: 1.86 | AE112: 1.71 | AF112: 244.63 | AG112: 3.42 | AH112: 69.27 | AI112: 98.32 | AJ112: 516.79 | AK112: 195.12
C113: Average | D113: =AVERAGE(D104:D112) -> 0.1818625 | F113: =AVERAGE(F104:F112) -> 0.45063333 | H113: =AVERAGE(H104:H112) -> 34.525556 | J113: =AVERAGE(J104:J112) -> 44.956667 | N113: =AVERAGE(N104:N112) -> 19.348889 | P113: =AVERAGE(P104:P112) -> 0.21242222 | R113: =AVERAGE(R104:R112) -> 0.19842
...

Sheet S2_trace_elements
A1: Table S2: LA-ICP-MS measurements sorted by experiment ID and according LA-ICP-MS analysis Ids. Average, median, standard deviation, absolute and relative errors are given beneath each analyzed phase
I2: LA-ICP-MS data (ppm) | AV2: LA-ICP-MS uncertainties (ppm, 1σ) | CR2: LA-ICP-MS minimum detection limit (99% confidence)
A3: Experiment/RunID | B3: Starting Mix | C3: Mineral | D3: LA-ICP-MS analysis ID | F3: T (°C) | G3: P (GPa) | H3: FO2 | I3: Li | J3: Si | K3: Ca | L3: Sc | M3: Ti47 | N3: Ti49 | O3: V | P3: Cr | Q3: Mn | R3: Co | S3: Ni | T3: Cu | U3: Zn | V3: As | W3: Rb | X3: Sr | Y3: Y | Z3: Zr | AA3: Nb | AB3: Mo | AC3: Cs | AD3: Ba | AE3: La | AF3: Ce | AG3: Pr | AH3: Nd | AI3: Sm | AJ3: Eu | AK3: Gd | AL3: Tb | AM3: Dy | AN3: Ho | AO3: Er | AP3: Tm | AQ3: Yb | AR3: Lu | AS3: Hf | AT3: Ta | AU3: Pb | AV3: Th | AW3: U | AZ3: =I3 -> Li | BA3: =J3 -> Si | BB3: =K3 -> Ca | BC3: =L3 -> Sc | BD3: =M3 -> Ti47 | BE3: =N3 -> Ti49 | BF3: =O3 -> V | BG3: =P3 -> Cr | ... CN3: =AW3 -> U | CQ3: =AZ3 -> Li | CR3: =BA3 -> Si | CS3: =BB3 -> Ca | CT3: =BC3 -> Sc | CU3: =BD3 -> Ti47 | CV3: =BE3 -> Ti49 | CW3: =BF3 -> V | CX3: =BG3 -> Cr | ... EE3: =CN3 -> U
A4: 42. Exp CHV-E154 | B4: CH-V-6C | C4: Clinopyroxene | D4: CHVE154_cpx_1 | F4: 1200 | G4: 0.0001 | H4: IW-1 | I4: 12.27 | J4: 237047.02 | K4: 168597.97 | L4: 216.89 | M4: 8492.79 | N4: n.a.* | O4: 21.47 | P4: 1407.9 | Q4: 893.19 | R4: 59.43 | S4: 16.47 | T4: 0.45 | U4: <DL** | V4: 0.31 | W4: <DL | X4: 36.01 | Y4: 19.76 | Z4: 44.45 | AA4: 2.24 | AB4: 0.367 | AC4: <DL | AD4: <DL | AE4: 2.73 | AF4: 6.18 | AG4: 1.44 | AH4: 13.03 | AI4: 7.23 | AJ4: 1.44 | AK4: 4.9 | AL4: 2.37 | AM4: 9.58 | AN4: 1.88 | AO4: 4.26 | AP4: 1.98 | AQ4: 4.47 | AR4: 3.19 | AS4: 12.2 | AT4: 0.596 | AU4: <DL | AV4: 0.787 | AW4: 0.325 | AZ4: 1.13 | BA4: 30809.04 | BB4: 5353.36 | BC4: 13.47 | BD4: 1340.32 | BF4: 1.39 | BG4: 178.89 | BH4: 60.67 | BI4: 4.24 | BJ4: 1.66 | BK4: 0.14 | BL4: 0.68 | BM4: 0.13 | BN4: 0.066 | BO4: 1.95 | BP4: 1.23 | BQ4: 2.82 | BR4: 0.18 | BS4: 0.084 | BT4: 0.047 | BU4: 0.05 | BV4: 0.14 | BW4: 0.33 | BX4: 0.081 | BY4: 0.95 | BZ4: 0.56 | CA4: 0.11 | CB4: 0.36 | CC4: 0.12 | CD4: 0.58 | CE4: 0.11 | CF4: 0.29 | CG4: 0.13 | CH4: 0.29 | CI4: 0.16 | CJ4: 0.78 | CK4: 0.042 | CL4: 0.0095 | CM4: 0.054 | CN4: 0.027 | CQ4: 0.688 | CR4: 75.95 | CS4: 78.17 | CT4: 0.181 | CU4: 3.68 | CV4: n.a. | CW4: 0.0591 | CX4: 3.09 | CY4: 0.529 | CZ4: 0.19 | DA4: 1.27 | DB4: 0.258 | DC4: 1.76 | DD4: 0.236 | DE4: 0.169 | DF4: 0.136 | DG4: 0.0158 | DH4: 0.111 | DI4: 0.282 | DJ4: 0.101 | DK4: 0.123 | DL4: 0.131 | DM4: 0.00886 | DN4: 0.0224 | DO4: =AVERAGE(DO7:DO9,DO12:DO13,DO15) -> 0.018366667 | DP4: 0.0418 | DQ4: 0.104 | DR4: =AVERAGE(DR5,DR7:DR15) -> 0.02856 | DS4: 0.0462 | DT4: =AVERAGE(DT6,DT8:DT9,DT13:DT15) -> 0.01222 | DU4: 0.0198 | DV4: 0.00703 | DW4: =AVERAGE(DW9:DW11) -> 0.0369 | DX4: =AVERAGE(DX7:DX9,DX12:DX14) -> 0.015278333 | DY4: =AVERAGE(DY8,DY6,DY13:DY14) -> 0.056675 | DZ4: =AVERAGE(DZ13:DZ15) -> 0.0074166667 | EA4: =AVERAGE(EA10:EA11,EA14:EA15) -> 0.043275 | EB4: 0.01799 | EC4: 0.0233 | ED4: 0.00759 | EE4: 0.0128
A5: 42. Exp CHV-E154 | B5: CH-V-6C | C5: Clinopyroxene | D5: CHVE154_cpx_2 | F5: 1200 | G5: 0.0001 | H5: IW-1 | I5: 8.44 | J5: 232242.81 | K5: 168169.16 | L5: 208.56 | M5: 9160.04 | N5: n.a. | O5: 19.82 | P5: 1553.15 | Q5: 853.21 | R5: 61.07 | S5: 13.23 | T5: 0.35 | U5: 1.65 | V5: 0.26 | W5: <DL | X5: 35.81 | Y5: 21.41 | Z5: 50.92 | AA5: 2.8 | AB5: 0.489 | AC5: <DL | AD5: 0.131 | AE5: 2.92 | AF5: 6.7 | AG5: 1.523 | AH5: 13.87 | AI5: 7.57 | AJ5: 1.58 | AK5: 4.83 | AL5: 2.39 | AM5: 9.7 | AN5: 2.01 | AO5: 4.5 | AP5: 2.05 | AQ5: 4.28 | AR5: 3.36 | AS5: 14.15 | AT5: 0.861 | AU5: <DL | AV5: 0.871 | AW5: 0.357 | AZ5: 0.81 | BA5: 30187.83 | BB5: 5341.71 | BC5: 12.96 | BD5: 1446.72 | BF5: 1.29 | BG5: 197.51 | BH5: 57.99 | BI5: 4.36 | BJ5: 1.4 | BK5: 0.15 | BL5: 0.69 | BM5: 0.12 | BN5: 0.064 | BO5: 1.94 | BP5: 1.33 | BQ5: 3.23 | BR5: 0.21 | BS5: 0.091 | BT5: 0.05 | BU5: 0.062 | BV5: 0.14 | BW5: 0.36 | BX5: 0.086 | BY5: 1.01 | BZ5: 0.58 | CA5: 0.12 | CB5: 0.36 | CC5: 0.12 | CD5: 0.59 | CE5: 0.12 | CF5: 0.3 | CG5: 0.14 | CH5: 0.28 | CI5: 0.17 | CJ5: 0.91 | CK5: 0.058 | CL5: 0.0072 | CM5: 0.059 | CN5: 0.029 | CQ5: 0.7 | CR5: 75.76 | CS5: 80.43 | CT5: 0.156 | CU5: 3.49 | CV5: n.a. | CW5: 0.0722 | CX5: 2.69 | CY5: 0.545 | CZ5: 0.224 | DA5: 1.32 | DB5: 0.326 | DC5: 1.58 | DD5: 0.236 | DE5: 0.167 | DF5: 0.149 | DG5: 0.0181 | DH5: 0.119 | DI5: 0.272 | DJ5: =AVERAGE(DJ4,DJ7:DJ15) -> 0.4775 | DK5: 0.124 | DL5: 0.107 | DM5: 0.00806 | DN5: 0.0207 | DO5: 0.00721 | DP5: 0.0418 | DQ5: 0.104 | DR5: 0.0141 | DS5: 0.046 | DT5: 0.007 | DU5: 0.0341 | DV5: =AVERAGE(DV4,DV6:DV9,DV11:DV13,DV15) -> 0.011994444 | DW5: 0.0369 | DX5: 0.015278333 | DY5: 0.056675 | DZ5: 0.00174 | EA5: 0.043275 | EB5: =AVERAGE(EB6:EB7,EB9) -> 0.01799 | EC5: 0.018 | ED5: 0.00759 | EE5: 0.0128
A6: 42. Exp CHV-E154 | B6: CH-V-6C | C6: Clinopyroxene | D6: CHVE154_cpx_4 | F6: 1200 | G6: 0.0001 | H6: IW-1 | I6: 8.49 | J6: 227905.23 | K6: 167311.52 | L6: 196.56 | M6: 8631.83 | N6: n.a. | O6: 20.52 | P6: 1470.84 | Q6: 812.14 | R6: 59.29 | S6: 14.93 | T6: <DL | U6: 1.52 | V6: 0.51 | W6: <DL | X6: 36.49 | Y6: 19.44 | Z6: 45.31 | AA6: 2.4 | AB6: 0.63 | AC6: <DL | AD6: 0.126 | AE6: 2.77 | AF6: 6.17 | AG6: 1.326 | AH6: 12.53 | AI6: 6.92 | AJ6: 1.39 | AK6: 4.71 | AL6: 2.26 | AM6: 8.98 | AN6: 1.79 | AO6: 4.23 | AP6: 1.95 | AQ6: 4.03 | AR6: 3.03 | AS6: 12.12 | AT6: 0.657 | AU6: <DL | AV6: 0.771 | AW6: 0.336 | AZ6: 0.81 | BA6: 29626.4 | BB6: 5312.62 | BC6: 12.22 | BD6: 1364.33 | BF6: 1.33 | BG6: 187.19 | BH6: 55.21 | BI6: 4.23 | BJ6: 1.54 | BK6: 0.15 | BL6: 0.65 | BM6: 0.15 | BN6: 0.071 | BO6: 1.98 | BP6: 1.21 | BQ6: 2.87 | BR6: 0.19 | BS6: 0.1 | BT6: 0.046 | BU6: 0.051 | BV6: 0.14 | BW6: 0.33 | BX6: 0.076 | BY6: 0.92 | BZ6: 0.54 | CA6: 0.11 | CB6: 0.35 | CC6: 0.11 | CD6: 0.54 | CE6: 0.11 | CF6: 0.29 | CG6: 0.13 | CH6: 0.26 | CI6: 0.15 | CJ6: 0.78 | CK6: 0.046 | CL6: 0.0072 | CM6: 0.053 | CN6: 0.027 | CQ6: 0.7 | CR6: 75.64 | CS6: 78.87 | CT6: 0.18 | CU6: 3.42 | CV6: n.a. | CW6: 0.0527 | CX6: 2.64 | CY6: 0.545 | CZ6: 0.207 | DA6: 1.4 | DB6: 0.345 | DC6: 1.52 | DD6: 0.218 | DE6: 0.187 | DF6: 0.155 | DG6: 0.0327 | DH6: 0.116 | DI6: 0.279 | DJ6: =AVERAGE(DJ4,DJ7:DJ15) -> 0.4775 | DK6: 0.118 | DL6: 0.0753 | DM6: 0.00883 | DN6: 0.0207 | DO6: 0.018366667 | DP6: 0.0418 | DQ6: 0.104 | DR6: 0.02856 | DS6: 0.046 | DT6: 0.00858 | DU6: 0.0197 | DV6: 0.0121 | DW6: 0.0369 | DX6: 0.015278333 | DY6: 0.0233 | DZ6: 0.00348 | EA6: 0.043275 | EB6: 0.00997 | EC6: 0.0147 | ED6: 0.00759 | EE6: 0.0128
A7: 42. Exp CHV-E154 | B7: CH-V-6C | C7: Clinopyroxene | D7: CHVE154-cpx-1 | F7: 1200 | G7: 0.0001 | H7: IW-1 | I7: 4.64 | J7: 219010.34 | K7: 167454.45 | L7: 249.01 | M7: 9836.47 | N7: 9112.96 | O7: 22.55 | P7: 1589.41 | Q7: 815.55 | R7: 56.39 | S7: 15.88 | T7: <DL | U7: <DL | V7: <DL | W7: <DL | X7: 35.81 | Y7: 23.97 | Z7: 65.43 | AA7: 4.04 | AB7: <DL | AC7: <DL | AD7: 0.55 | AE7: 3.13 | AF7: 7.08 | AG7: 1.56 | AH7: 13.36 | AI7: 7.95 | AJ7: 1.65 | AK7: 5.07 | AL7: 2.7 | AM7: 10.03 | AN7: 2.28 | AO7: 5.68 | AP7: 2.5 | AQ7: 4.51 | AR7: 3.81 | AS7: 17.01 | AT7: 1.12 | AU7: <DL | AV7: 0.96 | AW7: 0.373 | AZ7: 2.22 | BA7: 40945.86 | BB7: 5398.91 | BC7: 16.6 | BD7: 5540.45 | BE7: 1436.35 | BF7: 1.63 | BG7: 259.55 | BH7: 55.27 | BI7: 4.33 | BJ7: 2.39 | BK7: 1.47 | BL7: 2.34 | BM7: 0.8 | BN7: 0.23 | BO7: 2.48 | BP7: 1.46 | BQ7: 4.68 | BR7: 0.33 | BS7: 0.28 | BT7: 0.095 | BU7: 0.22 | BV7: 0.24 | BW7: 0.69 | BX7: 0.16 | BY7: 1.26 | BZ7: 1.02 | CA7: 0.2 | CB7: 0.64 | CC7: 0.27 | CD7: 1.02 | CE7: 0.24 | CF7: 0.59 | CG7: 0.27 | CH7: 0.51 | CI7: 0.37 | CJ7: 1.7 | CK7: 0.13 | CL7: 0.028 | CM7: 0.11 | CN7: 0.051 | CQ7: 4.4 | CR7: 289.99 | CS7: 217.39 | CT7: 0.282 | CU7: 26.95 | CV7: 5.51 | CW7: 0.225 | CX7: 1.74 | CY7: 1.13 | CZ7: 0.618 | DA7: 2.89 | DB7: 3.12 | DC7: 4.59 | DD7: 1.74 | DE7: 0.486 | DF7: 0.159 | DG7: 0.0472 | DH7: 0.0975 | DI7: =AVERAGE(DI4:DI6,DI9:DI15) -> 0.11381 | DJ7: 0.619 | DK7: 0.193 | DL7: 0.271 | DM7: 0.00783 | DN7: 0.0175 | DO7: 0.0163 | DP7: 0.0418 | DQ7: 0.104 | DR7: 0.0374 | DS7: 0.191 | DT7: 0.01222 | DU7: =AVERAGE(DU4:DU6,DU12:DU14) -> 0.038533333 | DV7: 0.0142 | DW7: 0.0369 | DX7: 0.0173 | DY7: 0.056675 | DZ7: 0.012 | EA7: 0.043275 | EB7: 0.0302 | EC7: 0.0476 | ED7: 0.00759 | EE7: 0.0128
A8: 42. Exp CHV-E154 | B8: CH-V-6C | C8: Clinopyroxene | D8: CHVE154-cpx-2 | F8: 1200 | G8: 0.0001 | H8: IW-1 | I8: 6.46 | J8: 218528.06 | K8: 167454.45 | L8: 234.05 | M8: 9773.05 | N8: 9214.68 | O8: 22.74 | P8: 1607.78 | Q8: 826.53 | R8: 56.12 | S8: 16.74 | T8: <DL | U8: <DL | V8: <DL | W8: <DL | X8: 35.75 | Y8: 26.16 | Z8: 64.26 | AA8: 4.25 | AB8: <DL | AC8: <DL | AD8: <DL | AE8: 3.25 | AF8: 7.27 | AG8: 1.83 | AH8: 14.79 | AI8: 8.85 | AJ8: 1.47 | AK8: 5.76 | AL8: 3.07 | AM8: 11.44 | AN8: 2.42 | AO8: 5.46 | AP8: 2.48 | AQ8: 5.9 | AR8: 4.09 | AS8: 16.67 | AT8: 1.29 | AU8: <DL | AV8: 1.06 | AW8: 0.46 | AZ8: 2.12 | BA8: 40867.67 | BB8: 5379.29 | BC8: 15.62 | BD8: 5510.6 | BE8: 1457.41 | BF8: 1.63 | BG8: 263.3 | BH8: 56.05 | BI8: 4.3 | BJ8: 2.36 | BK8: 1.42 | BL8: 1.98 | BM8: 0.99 | BN8: 0.22 | BO8: 2.47 | BP8: 1.58 | BQ8: 4.59 | BR8: 0.34 | BS8: 0.26 | BT8: 0.086 | BU8: 0.16 | BV8: 0.25 | BW8: 0.71 | BX8: 0.17 | BY8: 1.35 | BZ8: 1.08 | CA8: 0.17 | CB8: 0.7 | CC8: 0.3 | CD8: 1.14 | CE8: 0.25 | CF8: 0.56 | CG8: 0.27 | CH8: 0.63 | CI8: 0.4 | CJ8: 1.66 | CK8: 0.15 | CL8: 0.012 | CM8: 0.12 | CN8: 0.057 | CQ8: 4.2 | CR8: 278.82 | CS8: 196.84 | CT8: 0.277 | CU8: 25.6 | CV8: 5.13 | CW8: 0.253 | CX8: 2.04 | CY8: 1.1 | CZ8: 0.616 | DA8: 2.8 | DB8: 3.14 | DC8: 4.48 | DD8: 1.38 | DE8: 0.502 | DF8: 0.141 | DG8: 0.0369 | DH8: 0.156 | DI8: =AVERAGE(DI4:DI6,DI9:DI15) -> 0.11381 | DJ8: 0.509 | DK8: 0.181 | DL8: 0.341 | DM8: 0.0137 | DN8: 0.026 | DO8: 0.0208 | DP8: 0.0418 | DQ8: 0.104 | DR8: 0.0302 | DS8: 0.173 | DT8: 0.0137 | DU8: 0.038533333 | DV8: 0.0139 | DW8: 0.0369 | DX8: 0.0158 | DY8: 0.0631 | DZ8: 0.00618 | EA8: 0.043275 | EB8: 0.01799 | EC8: 0.0368 | ED8: 0.00759 | EE8: 0.0128
A9: 42. Exp CHV-E154 | B9: CH-V-6C | C9: Clinopyroxene | D9: CHVE154-cpx-4 | F9: 1200 | G9: 0.0001 | H9: IW-1 | I9: 13.99 | J9: 222729.2 | K9: 167454.45 | L9: 241.01 | M9: 9417.86 | N9: 9022.46 | O9: 22.32 | P9: 1812.06 | Q9: 832.86 | R9: 59.34 | S9: 11.47 | T9: <DL | U9: <DL | V9: <DL | W9: <DL | X9: 37.45 | Y9: 24.78 | Z9: 64.37 | AA9: 3.2 | AB9: 1.16 | AC9: <DL | AD9: <DL | AE9: 3.26 | AF9: 7.06 | AG9: 1.52 | AH9: 15.55 | AI9: 9.26 | AJ9: 1.64 | AK9: 5.84 | AL9: 2.83 | AM9: 12 | AN9: 2.32 | AO9: 5.55 | AP9: 2.59 | AQ9: 5.11 | AR9: 3.92 | AS9: 18.4 | AT9: 1.16 | AU9: <DL | AV9: 1.13 | AW9: 0.407 | AZ9: 2.69 | BA9: 41682.11 | BB9: 5362.23 | BC9: 16.12 | BD9: 5323.13 | BE9: 1437.59 | BF9: 1.58 | BG9: 298.64 | BH9: 56.6 | BI9: 4.54 | BJ9: 1.89 | BK9: 1.39 | BL9: 2.03 | BM9: 0.64 | BN9: 0.21 | BO9: 2.59 | BP9: 1.49 | BQ9: 4.61 | BR9: 0.26 | BS9: 0.31 | BT9: 0.088 | BU9: 0.15 | BV9: 0.25 | BW9: 0.69 | BX9: 0.14 | BY9: 1.38 | BZ9: 1.11 | CA9: 0.19 | CB9: 0.7 | CC9: 0.28 | CD9: 1.19 | CE9: 0.24 | CF9: 0.56 | CG9: 0.28 | CH9: 0.54 | CI9: 0.38 | CJ9: 1.82 | CK9: 0.13 | CL9: 0.011 | CM9: 0.12 | CN9: 0.05 | CQ9: 4.74 | CR9: 318.77 | CS9: 231.97 | CT9: 0.308 | CU9: 29.01 | CV9: 5.69 | CW9: 0.282 | CX9: 2.48 | CY9: 1.27 | CZ9: 0.672 | DA9: 3.13 | DB9: 3.41 | DC9: 4.88 | DD9: 1.6 | DE9: 0.53 | DF9: 0.186 | DG9: 0.0448 | DH9: 0.127 | DI9: 0.0811 | DJ9: 0.507 | DK9: 0.214 | DL9: 0.406 | DM9: 0.0135 | DN9: 0.0184 | DO9: 0.0255 | DP9: 0.0418 | DQ9: 0.104 | DR9: 0.03 | DS9: 0.241 | DT9: 0.0188 | DU9: 0.038533333 | DV9: 0.0208 | DW9: 0.0549 | DX9: 0.0213 | DY9: 0.056675 | DZ9: 0.00985 | EA9: 0.043275 | EB9: 0.0138 | EC9: 0.0213 | ED9: 0.00759 | EE9: 0.0128
A10: 42. Exp CHV-E154 | B10: CH-V-6C | C10: Clinopyroxene | D10: CHVE154-cpx-5 | F10: 1200 | G10: 0.0001 | H10: IW-1 | I10: 6.87 | J10: 227823.84 | K10: 167454.44 | L10: 223.37 | M10: 9329.77 | N10: 8919.42 | O10: 22.15 | P10: 1647.26 | Q10: 839.09 | R10: 59.88 | S10: 14.09 | T10: <DL | U10: <DL | V10: <DL | W10: <DL | X10: 37.25 | Y10: 23.35 | Z10: 55.51 | AA10: 2.91 | AB10: <DL | AC10: <DL | AD10: <DL | AE10: 3 | AF10: 6.37 | AG10: 1.42 | AH10: 13.64 | AI10: 9.08 | AJ10: 1.41 | AK10: 5.07 | AL10: 2.53 | AM10: 10.5 | AN10: 2.12 | AO10: 5.31 | AP10: 2.41 | AQ10: 5.14 | AR10: 3.81 | AS10: 14.36 | AT10: 0.831 | AU10: <DL | AV10: 0.97 | AW10: 0.392 | AZ10: 1.91 | BA10: 42650.8 | BB10: 5354.93 | BC10: 14.97 | BD10: 5280.35 | BE10: 1426.61 | BF10: 1.57 | BG10: 272.44 | BH10: 57.09 | BI10: 4.59 | BJ10: 2 | BK10: 1.11 | BL10: 2.38 | BM10: 0.51 | BN10: 0.18 | BO10: 2.58 | BP10: 1.41 | BQ10: 3.99 | BR10: 0.23 | BS10: 0.31 | BT10: 0.076 | BU10: 0.15 | BV10: 0.23 | BW10: 0.62 | BX10: 0.13 | BY10: 1.22 | BZ10: 1.08 | CA10: 0.16 | CB10: 0.6 | CC10: 0.25 | CD10: 1.04 | CE10: 0.22 | CF10: 0.54 | CG10: 0.26 | CH10: 0.54 | CI10: 0.37 | CJ10: 1.43 | CK10: 0.096 | CL10: 0.024 | CM10: 0.11 | CN10: 0.048 | CQ10: 3.93 | CR10: 266.65 | CS10: 199.4 | CT10: 0.274 | CU10: 23.36 | CV10: 5.58 | CW10: 0.277 | CX10: 2.01 | CY10: 0.984 | CZ10: 0.572 | DA10: 2.67 | DB10: 2.64 | DC10: 4.15 | DD10: 1.24 | DE10: 0.412 | DF10: 0.129 | DG10: 0.0458 | DH10: 0.134 | DI10: 0.05 | DJ10: 0.672 | DK10: 0.182 | DL10: 0.3 | DM10: 0.00666 | DN10: 0.016 | DO10: 0.018366667 | DP10: 0.0418 | DQ10: 0.104 | DR10: 0.0263 | DS10: 0.154 | DT10: 0.01222 | DU10: 0.038533333 | DV10: 0.011994444 | DW10: 0.0262 | DX10: 0.015278333 | DY10: 0.056675 | DZ10: 0.00426 | EA10: 0.0415 | EB10: 0.01799 | EC10: 0.0634 | ED10: 0.00759 | EE10: 0.0128
A11: 42. Exp CHV-E154 | B11: CH-V-6C | C11: Clinopyroxene | D11: CHVE154-cpx-6 | F11: 1200 | G11: 0.0001 | H11: IW-1 | I11: 10.29 | J11: 232472.39 | K11: 167454.45 | L11: 244.04 | M11: 8529.9 | N11: 8261.96 | O11: 24.33 | P11: 2065.2 | Q11: 812.7 | R11: 63.97 | S11: 13.16 | T11: <DL | U11: <DL | V11: <DL | W11: <DL | X11: 36.06 | Y11: 22.42 | Z11: 51.69 | AA11: 2.24 | AB11: 1.21 | AC11: <DL | AD11: <DL | AE11: 2.82 | AF11: 6.44 | AG11: 1.28 | AH11: 13.42 | AI11: 8.79 | AJ11: 1.45 | AK11: 4.32 | AL11: 2.49 | AM11: 9.03 | AN11: 2.08 | AO11: 5.21 | AP11: 2.28 | AQ11: 4.29 | AR11: 3.7 | AS11: 14.56 | AT11: 0.797 | AU11: <DL | AV11: 0.796 | AW11: 0.328 | AZ11: 2.27 | BA11: 43541.37 | BB11: 5374.14 | BC11: 16.42 | BD11: 4834.57 | BE11: 1326.99 | BF11: 1.74 | BG11: 342.86 | BH11: 55.44 | BI11: 4.93 | BJ11: 2.04 | BK11: 1.23 | BL11: 1.76 | BM11: 0.95 | BN11: 0.2 | BO11: 2.52 | BP11: 1.37 | BQ11: 3.75 | BR11: 0.2 | BS11: 0.32 | BT11: 0.08 | BU11: 0.16 | BV11: 0.22 | BW11: 0.64 | BX11: 0.13 | BY11: 1.24 | BZ11: 1.08 | CA11: 0.17 | CB11: 0.54 | CC11: 0.25 | CD11: 0.92 | CE11: 0.22 | CF11: 0.54 | CG11: 0.25 | CH11: 0.48 | CI11: 0.36 | CJ11: 1.47 | CK11: 0.098 | CL11: 0.016 | CM11: 0.091 | CN11: 0.044 | CQ11: 3.89 | CR11: 265.8 | CS11: 195.84 | CT11: 0.321 | CU11: 24.22 | CV11: 4.75 | CW11: 0.246 | CX11: 1.6 | CY11: 0.993 | CZ11: 0.528 | DA11: 2.73 | DB11: 2.75 | DC11: 3.71 | DD11: 1.36 | DE11: 0.43 | DF11: 0.155 | DG11: 0.0165 | DH11: 0.108 | DI11: 0.0224 | DJ11: 0.444 | DK11: 0.172 | DL11: 0.305 | DM11: =AVERAGE(DM10,DM13:DM21) -> 0.0065725 | DN11: =AVERAGE(DN10,DN13:DN21) -> 0.03310625 | DO11: 0.018366667 | DP11: 0.0418 | DQ11: 0.104 | DR11: 0.0349 | DS11: 0.165 | DT11: 0.01222 | DU11: 0.038533333 | DV11: 0.013 | DW11: 0.0296 | DX11: 0.015278333 | DY11: 0.056675 | DZ11: 0.00336 | EA11: 0.0507 | EB11: 0.0234 | EC11: 0.0475 | ED11: 0.00759 | EE11: 0.0128
A12: 42. Exp CHV-E154 | B12: CH-V-6C | C12: Clinopyroxene | D12: CHVE154-cpx-7 | F12: 1200 | G12: 0.0001 | H12: IW-1 | I12: 10.17 | J12: 224624.98 | K12: 167454.45 | L12: 265.43 | M12: 7152.82 | N12: 6844.41 | O12: 35.34 | P12: 3663.04 | Q12: 696.56 | R12: 61.95 | S12: 18.8 | T12: <DL | U12: <DL | V12: <DL | W12: <DL | X12: 30.75 | Y12: 17.97 | Z12: 40.28 | AA12: 1.97 | AB12: 0.95 | AC12: <DL | AD12: <DL | AE12: 2.43 | AF12: 5.36 | AG12: 1.21 | AH12: 12.34 | AI12: 5.63 | AJ12: 1.26 | AK12: 4.33 | AL12: 2.19 | AM12: 8.11 | AN12: 1.7 | AO12: 4.26 | AP12: 1.78 | AQ12: 3.59 | AR12: 3.04 | AS12: 11.66 | AT12: 0.654 | AU12: <DL | AV12: 0.842 | AW12: 0.325 | AZ12: 2.15 | BA12: 42085.37 | BB12: 5354.47 | BC12: 17.86 | BD12: 4060.09 | BE12: 1103.61 | BF12: 2.46 | BG12: 609.9 | BH12: 47.56 | BI12: 4.77 | BJ12: 2.47 | BK12: 1.22 | BL12: 2.03 | BM12: 1.05 | BN12: 0.19 | BO12: 2.15 | BP12: 1.1 | BQ12: 2.93 | BR12: 0.17 | BS12: 0.26 | BT12: 0.077 | BU12: 0.15 | BV12: 0.19 | BW12: 0.53 | BX12: 0.12 | BY12: 1.12 | BZ12: 0.71 | CA12: 0.15 | CB12: 0.53 | CC12: 0.22 | CD12: 0.82 | CE12: 0.18 | CF12: 0.44 | CG12: 0.2 | CH12: 0.4 | CI12: 0.3 | CJ12: 1.18 | CK12: 0.079 | CL12: 0.015 | CM12: 0.093 | CN12: 0.041 | CQ12: 3.89 | CR12: 267 | CS12: 188.94 | CT12: 0.292 | CU12: 23.85 | CV12: 4.1 | CW12: 0.242 | CX12: 1.81 | CY12: 1.01 | CZ12: 0.574 | DA12: 2.84 | DB12: 2.92 | DC12: 4.82 | DD12: 0.792 | DE12: 0.462 | DF12: 0.159 | DG12: 0.026 | DH12: 0.143 | DI12: 0.0511 | DJ12: 0.394 | DK12: 0.181 | DL12: 0.319 | DM12: 0.00497 | DN12: =AVERAGE(DN11,DN14:DN22) -> 0.030222813 | DO12: 0.0115 | DP12: 0.0418 | DQ12: 0.104 | DR12: 0.0244 | DS12: 0.199 | DT12: 0.01222 | DU12: 0.0714 | DV12: 0.00914 | DW12: 0.0369 | DX12: 0.0128 | DY12: 0.056675 | DZ12: 0.0074166667 | EA12: 0.043275 | EB12: 0.0242 | EC12: 0.0307 | ED12: 0.00759 | EE12: 0.0128
A13: 42. Exp CHV-E154 | B13: CH-V-6C | C13: Clinopyroxene | D13: CHVE154-cpx-8 | F13: 1200 | G13: 0.0001 | H13: IW-1 | I13: 14.93 | J13: 229168.05 | K13: 167454.45 | L13: 210.03 | M13: 4946.5 | N13: 4857.2 | O13: 20.41 | P13: 1681.34 | Q13: 770.97 | R13: 60.8 | S13: 18.03 | T13: <DL | U13: <DL | V13: <DL | W13: <DL | X13: 31.04 | Y13: 14.14 | Z13: 21.61 | AA13: 0.691 | AB13: 0.84 | AC13: <DL | AD13: <DL | AE13: 1.75 | AF13: 3.7 | AG13: 0.98 | AH13: 8.44 | AI13: 4.88 | AJ13: 1.08 | AK13: 2.79 | AL13: 1.57 | AM13: 6.61 | AN13: 1.28 | AO13: 3.5 | AP13: 1.49 | AQ13: 3.04 | AR13: 2.33 | AS13: 6.25 | AT13: 0.157 | AU13: 0.051 | AV13: 0.367 | AW13: 0.089 | AZ13: 2.67 | BA13: 42955.67 | BB13: 5364.83 | BC13: 14.19 | BD13: 2812.23 | BE13: 786.67 | BF13: 1.47 | BG13: 281.25 | BH13: 52.75 | BI13: 4.7 | BJ13: 2.4 | BK13: 1.31 | BL13: 2.48 | BM13: 0.7 | BN13: 0.19 | BO13: 2.18 | BP13: 0.88 | BQ13: 1.61 | BR13: 0.08 | BS13: 0.29 | BT13: 0.075 | BU13: 0.15 | BV13: 0.14 | BW13: 0.37 | BX13: 0.1 | BY13: 0.82 | BZ13: 0.64 | CA13: 0.13 | CB13: 0.37 | CC13: 0.16 | CD13: 0.69 | CE13: 0.14 | CF13: 0.37 | CG13: 0.17 | CH13: 0.35 | CI13: 0.23 | CJ13: 0.66 | CK13: 0.03 | CL13: 0.023 | CM13: 0.046 | CN13: 0.017 | CQ13: 4 | CR13: 270.69 | CS13: 188.88 | CT13: 0.257 | CU13: 23.57 | CV13: 4.92 | CW13: 0.253 | CX13: 2.31 | CY13: 1.04 | CZ13: 0.56 | DA13: 2.57 | DB13: 2.93 | DC13: 3.26 | DD13: 1.62 | DE13: 0.441 | DF13: 0.163 | DG13: 0.0581 | DH13: 0.136 | DI13: 0.0326 | DJ13: 0.499 | DK13: 0.177 | DL13: 0.336 | DM13: 0.00715 | DN13: 0.0316 | DO13: 0.0237 | DP13: 0.0418 | DQ13: 0.104 | DR13: 0.0355 | DS13: 0.155 | DT13: 0.00807 | DU13: 0.0491 | DV13: 0.00943 | DW13: 0.0369 | DX13: 0.0156 | DY13: 0.0912 | DZ13: 0.00996 | EA13: 0.043275 | EB13: 0.0269 | EC13: 0.038 | ED13: 0.00759 | EE13: 0.0128
A14: 42. Exp CHV-E154 | B14: CH-V-6C | C14: Clinopyroxene | D14: CHVE154-cpx-9 | F14: 1200 | G14: 0.0001 | H14: IW-1 | I14: 11.15 | J14: 234003.33 | K14: 167454.45 | L14: 225.47 | M14: 6546.45 | N14: 6384.11 | O14: 20.21 | P14: 1678.67 | Q14: 787.94 | R14: 58.96 | S14: 10.7 | T14: <DL | U14: <DL | V14: <DL | W14: <DL | X14: 33.73 | Y14: 19.54 | Z14: 35.38 | AA14: 1.46 | AB14: 0.67 | AC14: <DL | AD14: <DL | AE14: 2.44 | AF14: 5.18 | AG14: 1.02 | AH14: 11.49 | AI14: 6.85 | AJ14: 1.15 | AK14: 4.41 | AL14: 2.23 | AM14: 8.74 | AN14: 1.8 | AO14: 4.03 | AP14: 1.82 | AQ14: 3.73 | AR14: 3 | AS14: 9.71 | AT14: 0.341 | AU14: <DL | AV14: 0.518 | AW14: 0.233 | AZ14: 2.28 | BA14: 43878.7 | BB14: 5356.87 | BC14: 15.26 | BD14: 3727.89 | BE14: 1037.98 | BF14: 1.45 | BG14: 281.84 | BH14: 53.98 | BI14: 4.57 | BJ14: 1.78 | BK14: 1.15 | BL14: 1.91 | BM14: 0.86 | BN14: 0.19 | BO14: 2.37 | BP14: 1.2 | BQ14: 2.59 | BR14: 0.13 | BS14: 0.29 | BT14: 0.079 | BU14: 0.11 | BV14: 0.19 | BW14: 0.52 | BX14: 0.1 | BY14: 1.06 | BZ14: 0.85 | CA14: 0.14 | CB14: 0.54 | CC14: 0.22 | CD14: 0.89 | CE14: 0.19 | CF14: 0.42 | CG14: 0.2 | CH14: 0.41 | CI14: 0.3 | CJ14: 1 | CK14: 0.047 | CL14: 0.02 | CM14: 0.061 | CN14: 0.032 | CQ14: 4.01 | CR14: 275.53 | CS14: 200.22 | CT14: 0.288 | CU14: 24.26 | CV14: 5.24 | CW14: 0.223 | CX14: 2.07 | CY14: 1.05 | CZ14: 0.589 | DA14: 2.82 | DB14: 2.72 | DC14: 4.61 | DD14: 1.78 | DE14: 0.448 | DF14: 0.133 | DG14: 0.043 | DH14: 0.149 | DI14: 0.0359 | DJ14: 0.567 | DK14: 0.194 | DL14: 0.211 | DM14: 0.00516 | DN14: =AVERAGE(DN15,DK15:DK23) -> 0.066625 | DO14: 0.018366667 | DP14: 0.0418 | DQ14: 0.104 | DR14: 0.0178 | DS14: 0.141 | DT14: 0.0157 | DU14: 0.0371 | DV14: 0.011994444 | DW14: 0.0369 | DX14: 0.00887 | DY14: 0.0491 | DZ14: 0.00719 | EA14: 0.0371 | EB14: 0.021 | EC14: 0.0406 | ED14: 0.00759 | EE14: 0.0128
A15: 42. Exp CHV-E154 | B15: CH-V-6C | C15: Clinopyroxene | D15: CHVE154-cpx-10 | F15: 1200 | G15: 0.0001 | H15: IW-1 | I15: 10.6 | J15: 224467.2 | K15: 167454.47 | L15: 220.02 | M15: 8128.29 | N15: 7967.65 | O15: 19.81 | P15: 1222.23 | Q15: 841.87 | R15: 53.16 | S15: 11.68 | T15: <DL | U15: <DL | V15: <DL | W15: 0.51 | X15: 40.17 | Y15: 20.98 | Z15: 49.29 | AA15: 2.33 | AB15: 0.65 | AC15: <DL | AD15: <DL | AE15: 2.71 | AF15: 6.13 | AG15: 1.32 | AH15: 12.33 | AI15: 7.71 | AJ15: 1.52 | AK15: 5.21 | AL15: 2.51 | AM15: 10.36 | AN15: 2.25 | AO15: 4.52 | AP15: 2.08 | AQ15: 4.31 | AR15: 3.4 | AS15: 13.9 | AT15: 0.605 | AU15: <DL | AV15: 0.79 | AW15: 0.298 | AZ15: 2.25 | BA15: 42110.66 | BB15: 5371.29 | BC15: 14.95 | BD15: 4636.64 | BE15: 1300.98 | BF15: 1.44 | BG15: 206.19 | BH15: 57.81 | BI15: 4.15 | BJ15: 1.96 | BK15: 1.2 | BL15: 2 | BM15: 0.61 | BN15: 0.2 | BO15: 2.83 | BP15: 1.29 | BQ15: 3.62 | BR15: 0.2 | BS15: 0.27 | BT15: 0.08 | BU15: 0.15 | BV15: 0.21 | BW15: 0.61 | BX15: 0.13 | BY15: 1.16 | BZ15: 0.97 | CA15: 0.18 | CB15: 0.65 | CC15: 0.25 | CD15: 1.06 | CE15: 0.24 | CF15: 0.48 | CG15: 0.23 | CH15: 0.48 | CI15: 0.34 | CJ15: 1.42 | CK15: 0.078 | CL15: 0.024 | CM15: 0.091 | CN15: 0.04 | CQ15: 3.74 | CR15: 256.27 | CS15: 182.67 | CT15: 0.269 | CU15: 22.48 | CV15: 5.01 | CW15: 0.165 | CX15: 2.22 | CY15: 0.975 | CZ15: 0.53 | DA15: 2.87 | DB15: 2.6 | DC15: 4.36 | DD15: 1.39 | DE15: 0.407 | DF15: 0.141 | DG15: 0.0362 | DH15: 0.146 | DI15: 0.032 | DJ15: 0.463 | DK15: 0.17 | DL15: 0.399 | DM15: 0.00732 | DN15: 0.0182 | DO15: 0.0124 | DP15: 0.132 | DQ15: 0.104 | DR15: 0.035 | DS15: 0.182 | DT15: 0.00847 | DU15: 0.038533333 | DV15: 0.00835 | DW15: 0.0369 | DX15: 0.015278333 | DY15: 0.056675 | DZ15: 0.0051 | EA15: 0.0438 | EB15: 0.0221 | EC15: 0.0418 | ED15: 0.00759 | EE15: 0.0128
D16: Average | I16: =AVERAGE(I4:I15) -> 9.8583333 | J16: =AVERAGE(J4:J15) -> 227501.87 | K16: =AVERAGE(K4:K15) -> 167597.39 | L16: =AVERAGE(L4:L15) -> 227.87 | M16: =AVERAGE(M4:M15) -> 8328.8142 | N16: =AVERAGE(N4:N15) -> 7842.7611 | O16: =AVERAGE(O4:O15) -> 22.639167 | P16: =AVERAGE(P4:P15) -> 1783.24 | ... AB16: =AVERAGE(AB4:AB15) -> 0.774 | AD16: =AVERAGE(AD4:AD15) -> 0.269 | AE16: =AVERAGE(AE4:AE15) -> 2.7675 | AF16: =AVERAGE(AF4:AF15) -> 6.1366667 | AG16: =AVERAGE(AG4:AG15) -> 1.3690833 | AH16: =AVERAGE(AH4:AH15) -> 12.899167 | AI16: =AVERAGE(AI4:AI15) -> 7.56 | AJ16: =AVERAGE(AJ4:AJ15) -> 1.42 | AK16: =AVERAGE(AK4:AK15) -> 4.77 | ... AW16: =AVERAGE(AW4:AW15) -> 0.32691667
D17: Median | I17: =MEDIAN(I4:I15) -> 10.23 | J17: =MEDIAN(J4:J15) -> 227864.54 | K17: =MEDIAN(K4:K15) -> 167454.45 | L17: =MEDIAN(L4:L15) -> 224.42 | M17: =MEDIAN(M4:M15) -> 8580.865 | N17: =MEDIAN(N4:N15) -> 8261.96 | O17: =MEDIAN(O4:O15) -> 21.81 | P17: =MEDIAN(P4:P15) -> 1627.52 | ... AB17: =MEDIAN(AB4:AB15) -> 0.67 | AD17: =MEDIAN(AD4:AD15) -> 0.131 | AE17: =MEDIAN(AE4:AE15) -> 2.795 | AF17: =MEDIAN(AF4:AF15) -> 6.275 | AG17: =MEDIAN(AG4:AG15) -> 1.373 | AH17: =MEDIAN(AH4:AH15) -> 13.195 | AI17: =MEDIAN(AI4:AI15) -> 7.64 | AJ17: =MEDIAN(AJ4:AJ15) -> 1.445 | AK17: =MEDIAN(AK4:AK15) -> 4.865 | ... AW17: =MEDIAN(AW4:AW15) -> 0.332
D18: Stdev | I18: =STDEV(I4:I15) -> 3.0556113 | J18: =STDEV(J4:J15) -> 5850.4345 | K18: =STDEV(K4:K15) -> 380.63185 | L18: =STDEV(L4:L15) -> 19.562545 | M18: =STDEV(M4:M15) -> 1459.6668 | N18: =STDEV(N4:N15) -> 1511.4446 | O18: =STDEV(O4:O15) -> 4.2341586 | P18: =STDEV(P4:P15) -> 627.28078 | ... V18: =STDEV(V4:V15) -> 0.13228757 | X18: =STDEV(X4:X15) -> 2.6295673 | Y18: =STDEV(Y4:Y15) -> 3.2957052 | Z18: =STDEV(Z4:Z15) -> 12.928083 | AA18: =STDEV(AA4:AA15) -> 0.99853457 | AB18: =STDEV(AB4:AB15) -> 0.28901254 | AD18: =STDEV(AD4:AD15) -> 0.24336598 | AE18: =STDEV(AE4:AE15) -> 0.42082441 | AF18: =STDEV(AF4:AF15) -> 0.99770039 | AG18: =STDEV(AG4:AG15) -> 0.23620771 | AH18: =STDEV(AH4:AH15) -> 1.7897966 | AI18: =STDEV(AI4:AI15) -> 1.3645512 | AJ18: =STDEV(AJ4:AJ15) -> 0.17984842 | AK18: =STDEV(AK4:AK15) -> 0.79594426 | ... AT18: =STDEV(AT4:AT15) -> 0.33012811 | AV18: =STDEV(AV4:AV15) -> 0.2132484 | AW18: =STDEV(AW4:AW15) -> 0.094263131
D19: RSD**** | I19: =I18/I16 -> 0.30995212 | J19: =J18/J16 -> 0.025715984 | K19: =K18/K16 -> 0.0022711084 | L19: =L18/L16 -> 0.085849585 | M19: =M18/M16 -> 0.17525506 | N19: =N18/N16 -> 0.19271843 | O19: =O18/O16 -> 0.18702802 | P19: =P18/P16 -> 0.35176464 | ... V19: =V18/V16 -> 0.36746546 | X19: =X18/X16 -> 0.074016719 | Y19: =Y18/Y16 -> 0.15575166 | Z19: =Z18/Z16 -> 0.26361428 | AA19: =AA18/AA16 -> 0.39246716 | AB19: =AB18/AB16 -> 0.37340122 | AD19: =AD18/AD16 -> 0.90470624 | AE19: =AE18/AE16 -> 0.15205941 | AF19: =AF18/AF16 -> 0.16258018 | AG19: =AG18/AG16 -> 0.17252983 | AH19: =AH18/AH16 -> 0.13875289 | AI19: =AI18/AI16 -> 0.18049619 | AJ19: =AJ18/AJ16 -> 0.12665382 | AK19: =AK18/AK16 -> 0.16686463 | ... AT19: =AT18/AT16 -> 0.43682184 | AV19: =AV18/AV16 -> 0.25947888 | AW19: =AW18/AW16 -> 0.28833994
D20: RSD% | I20: =I19*100 -> 30.995212 | J20: =J19*100 -> 2.5715984 | K20: =K19*100 -> 0.22711084 | L20: =L19*100 -> 8.5849585 | M20: =M19*100 -> 17.525506 | N20: =N19*100 -> 19.271843 | O20: =O19*100 -> 18.702802 | P20: =P19*100 -> 35.176464 | ... V20: =V19*100 -> 36.746546 | X20: =X19*100 -> 7.4016719 | Y20: =Y19*100 -> 15.575166 | Z20: =Z19*100 -> 26.361428 | AA20: =AA19*100 -> 39.246716 | AB20: =AB19*100 -> 37.340122 | AD20: =AD19*100 -> 90.470624 | AE20: =AE19*100 -> 15.205941 | AF20: =AF19*100 -> 16.258018 | AG20: =AG19*100 -> 17.252983 | AH20: =AH19*100 -> 13.875289 | AI20: =AI19*100 -> 18.049619 | AJ20: =AJ19*100 -> 12.665382 | AK20: =AK19*100 -> 16.686463 | ... AT20: =AT19*100 -> 43.682184 | AV20: =AV19*100 -> 25.947888 | AW20: =AW19*100 -> 28.833994
A22: 42. Exp CHV-E154 | B22: CH-V-6C | C22: Glass | D22: CHVE154-7 | F22: 1200 | G22: 0.0001 | H22: IW-1 | I22: 120.23 | J22: 190071.55 | K22: 129289.4 | L22: 58.79 | M22: 15157.59 | N22: n.a. | O22: 2.27 | P22: 124.08 | Q22: 2176.59 | R22: 68.52 | S22: 11.22 | T22: 0.223 | U22: <DL | V22: 1.53 | W22: 4.72 | X22: 368.8 | Y22: 64.27 | Z22: 156.51 | AA22: 310.01 | AB22: 1.39 | AC22: 0.799 | AD22: 238.99 | AE22: 39.38 | AF22: 52.25 | AG22: 7.93 | AH22: 58.04 | AI22: 23.57 | AJ22: 6.97 | AK22: 13.42 | AL22: 6.75 | AM22: 26.17 | AN22: 5.77 | AO22: 13.12 | AP22: 6.5 | AQ22: 14.04 | AR22: 10.16 | AS22: 19.62 | AT22: 25.26 | AU22: <DL | AV22: 72.66 | AW22: 28.84 | AZ22: 13.13 | BA22: 26794.16 | BB22: 4097.13 | BC22: 5.11 | BD22: 3630.34 | BF22: 0.2 | BG22: 24.32 | BH22: 192.92 | BI22: 6.98 | BJ22: 1.55 | BK22: 0.085 | BL22: 0.28 | BM22: 0.33 | BN22: 0.42 | BO22: 27.29 | BP22: 5.92 | BQ22: 14.87 | BR22: 25.76 | BS22: 0.19 | BT22: 0.072 | BU22: 26.99 | BV22: 2.62 | BW22: 3.6 | BX22: 0.51 | BY22: 5.94 | BZ22: 2.41 | CA22: 0.68 | CB22: 1.33 | CC22: 0.42 | CD22: 2.18 | CE22: 0.45 | CF22: 1.23 | CG22: 0.62 | CH22: 1.16 | CI22: 0.69 | CJ22: 1.8 | CK22: 2.07 | CL22: 0.0024 | CM22: 6.28 | CN22: 2.64 | CQ22: 0.284 | CR22: 27.73 | CS22: 27.11 | CT22: 0.0551 | CU22: 1.57 | CV22: n.a. | CW22: 0.0272 | CX22: 0.962 | CY22: 0.192 | CZ22: 0.0464 | DA22: 0.499 | DB22: 0.182 | DC22: 0.717 | DD22: 0.0697 | DE22: 0.0594 | DF22: 0.0401 | DG22: 0.00482 | DH22: 0.0196 | DI22: 0.0448 | DJ22: =AVERAGE(DJ24:DJ28) -> 0.18384 | DK22: 0.0357 | DL22: 0.0533 | DM22: 0.00242 | DN22: 0.00296 | DO22: =AVERAGE(DO25,DO27) -> 0.006065 | DP22: 0.0418 | DQ22: 0.0188 | DR22: 0.00493 | DS22: =AVERAGE(DS24:DS28) -> 0.05198 | DT22: =AVERAGE(DT25:DT26) -> 0.00462 | DU22: =AVERAGE(DU24:DU28) -> 0.01896 | DV22: =AVERAGE(DV25:DV26,DV28) -> 0.00545 | DW22: =AVERAGE(DW26,DW28) -> 0.0124 | DX22: =AVERAGE(DX25,DX27:DX28) -> 0.00543 | DY22: =AVERAGE(DY25:DY26) -> 0.02345 | DZ22: =AVERAGE(DZ23:DZ28) -> 0.0020533333 | EA22: 0.015933333 | EB22: =AVERAGE(EB25:EB28) -> 0.0060175 | EC22: 0.00655 | ED22: =AVERAGE(ED24,ED26,ED28) -> 0.0027066667 | EE22: 0.00376
A23: 42. Exp CHV-E154 | B23: CH-V-6C | C23: Glass | D23: CHVE154-9 | F23: 1200 | G23: 0.0001 | H23: IW-1 | I23: 121 | J23: 189284.77 | K23: 131362.02 | L23: 57.51 | M23: 15047.81 | N23: n.a. | O23: 2.25 | P23: 125.36 | Q23: 2190.42 | R23: 67.13 | S23: 11.25 | T23: 0.38 | U23: <DL | V23: 1.56 | W23: 4.86 | X23: 366.69 | Y23: 65.06 | Z23: 159.27 | AA23: 313.09 | AB23: 1.29 | AC23: 0.864 | AD23: 243.39 | AE23: 39.7 | AF23: 52.36 | AG23: 8.27 | AH23: 59.44 | AI23: 24.22 | AJ23: 7.4 | AK23: 13.72 | AL23: 6.96 | AM23: 26.6 | AN23: 5.64 | AO23: 13.66 | AP23: 6.57 | AQ23: 14.09 | AR23: 10.28 | AS23: 19.49 | AT23: 24.93 | AU23: <DL | AV23: 73.25 | AW23: 28.75 | AZ23: 13.23 | BA23: 26695.33 | BB23: 4160.62 | BC23: 5 | BD23: 3610.19 | BF23: 0.2 | BG23: 24.6 | BH23: 194.38 | BI23: 6.85 | BJ23: 1.55 | BK23: 0.09 | BL23: 0.28 | BM23: 0.33 | BN23: 0.43 | BO23: 27.17 | BP23: 6 | BQ23: 15.15 | BR23: 26.06 | BS23: 0.17 | BT23: 0.077 | BU23: 27.53 | BV23: 2.65 | BW23: 3.62 | BX23: 0.53 | BY23: 6.09 | BZ23: 2.47 | CA23: 0.73 | CB23: 1.36 | CC23: 0.43 | CD23: 2.22 | CE23: 0.44 | CF23: 1.28 | CG23: 0.63 | CH23: 1.17 | CI23: 0.7 | CJ23: 1.79 | CK23: 2.05 | CL23: 0.0028 | CM23: 6.34 | CN23: 2.64 | CQ23: 0.294 | CR23: 28.45 | CS23: 27.38 | CT23: 0.0549 | CU23: 1.56 | CV23: n.a. | CW23: 0.0234 | CX23: 1.04 | CY23: 0.191 | CZ23: 0.0505 | DA23: 0.499 | DB23: 0.17 | DC23: 0.713 | DD23: 0.0957 | DE23: 0.0631 | DF23: 0.0443 | DG23: 0.00791 | DH23: 0.0235 | DI23: 0.0464 | DJ23: =AVERAGE(DJ25:DJ29) -> 0.22325 | DK23: 0.0426 | DL23: 0.0677 | DM23: 0.00251 | DN23: 0.00307 | DO23: 0.006065 | DP23: 0.0418 | DQ23: 0.0188 | DR23: 0.00627 | DS23: =AVERAGE(DS25:DS29) -> 0.0608 | DT23: 0.00462 | DU23: =AVERAGE(DU25:DU29) -> 0.018725 | DV23: 0.00545 | DW23: 0.0124 | DX23: 0.00543 | DY23: 0.02345 | DZ23: 0.00066 | EA23: 0.015933333 | EB23: 0.0060175 | EC23: 0.0068 | ED23: 0.0027066667 | EE23: 0.00376
A24: 42. Exp CHV-E154 | B24: CH-V-6C | C24: Glass | D24: CHVE154-10 | F24: 1200 | G24: 0.0001 | H24: IW-1 | I24: 115.86 | J24: 197694.83 | K24: 130861.74 | L24: 57.3 | M24: 15406.9 | N24: n.a. | O24: 2.23 | P24: 122.91 | Q24: 2130.23 | R24: 66.47 | S24: 11.57 | T24: <DL | U24: <DL | V24: 1.41 | W24: 4.94 | X24: 369.69 | Y24: 63.78 | Z24: 155.58 | AA24: 310.16 | AB24: 1.44 | AC24: 0.794 | AD24: 241.19 | AE24: 38.73 | AF24: 51.85 | AG24: 7.78 | AH24: 56.27 | AI24: 23.41 | AJ24: 7.42 | AK24: 13.57 | AL24: 6.68 | AM24: 25.97 | AN24: 5.56 | AO24: 13.7 | AP24: 6.67 | AQ24: 13.89 | AR24: 9.98 | AS24: 19.92 | AT24: 25.03 | AU24: <DL | AV24: 71.13 | AW24: 28.95 | AZ24: 12.68 | BA24: 27894.69 | BB24: 4145.59 | BC24: 4.99 | BD24: 3702.68 | BF24: 0.2 | BG24: 24.17 | BH24: 189.28 | BI24: 6.79 | BJ24: 1.6 | BK24: 0.082 | BL24: 0.27 | BM24: 0.31 | BN24: 0.44 | BO24: 27.44 | BP24: 5.9 | BQ24: 14.83 | BR24: 25.86 | BS24: 0.2 | BT24: 0.071 | BU24: 27.32 | BV24: 2.58 | BW24: 3.59 | BX24: 0.5 | BY24: 5.78 | BZ24: 2.4 | CA24: 0.73 | CB24: 1.35 | CC24: 0.42 | CD24: 2.17 | CE24: 0.44 | CF24: 1.29 | CG24: 0.64 | CH24: 1.15 | CI24: 0.68 | CJ24: 1.83 | CK24: 2.06 | CL24: 0.0032 | CM24: 6.16 | CN24: 2.66 | CQ24: 0.295 | CR24: 27.2 | CS24: 26.64 | CT24: 0.0585 | CU24: 1.69 | CV24: n.a. | CW24: 0.0265 | CX24: 0.982 | CY24: 0.177 | CZ24: 0.0463 | DA24: 0.479 | DB24: 0.198 | DC24: 0.659 | DD24: 0.093 | DE24: 0.0543 | DF24: 0.0438 | DG24: 0.00595 | DH24: 0.0208 | DI24: 0.0484 | DJ24: 0.0262 | DK24: 0.0402 | DL24: 0.076 | DM24: 0.0013 | DN24: =AVERAGE(DN22:DN23,DN26:DN28) -> 0.005504 | DO24: 0.006065 | DP24: 0.0418 | DQ24: 0.0188 | DR24: 0.00609 | DS24: 0.0167 | DT24: 0.00462 | DU24: =AVERAGE(DU26:DU30) -> 0.0199 | DV24: 0.00545 | DW24: 0.0124 | DX24: 0.00543 | DY24: 0.02345 | DZ24: 0.00111 | EA24: 0.015933333 | EB24: 0.0060175 | EC24: 0.00854 | ED24: 0.00242 | EE24: 0.00376
A25: 42. Exp CHV-E154 | B25: CH-V-6C | C25: Glass | D25: CHVE154-gl-2 | F25: 1200 | G25: 0.0001 | H25: IW-1 | I25: 118.63 | J25: 182959.34 | K25: 130704.52 | L25: 56.5 | M25: 15766.55 | N25: 14762.09 | O25: 2.31 | P25: 121.4 | Q25: 2250.09 | R25: 64.91 | S25: 11 | T25: <DL | U25: <DL | V25: <DL | W25: 4.92 | X25: 372 | Y25: 64.32 | Z25: 157.19 | AA25: 304.51 | AB25: 0.92 | AC25: 0.856 | AD25: 249.93 | AE25: 39.58 | AF25: 52.89 | AG25: 8.24 | AH25: 58.53 | AI25: 25.35 | AJ25: 7.63 | AK25: 13.62 | AL25: 6.75 | AM25: 27.34 | AN25: 5.72 | AO25: 13.74 | AP25: 6.67 | AQ25: 14.19 | AR25: 10.39 | AS25: 20.53 | AT25: 25.28 | AU25: <DL | AV25: 73.39 | AW25: 28.67 | AZ25: 11.04 | BA25: 31972.93 | BB25: 4152.15 | BC25: 2.94 | BD25: 4277.47 | BE25: 1780.3 | BF25: 0.15 | BG25: 11.37 | BH25: 128.56 | BI25: 3.65 | BJ25: 0.97 | BK25: 0.4 | BL25: 0.65 | BM25: 0.32 | BN25: 0.26 | BO25: 16.23 | BP25: 2.77 | BQ25: 6.05 | BR25: 13.6 | BS25: 0.15 | BT25: 0.051 | BU25: 13.17 | BV25: 1.38 | BW25: 2.04 | BX25: 0.34 | BY25: 3.16 | BZ25: 1.33 | CA25: 0.35 | CB25: 0.66 | CC25: 0.25 | CD25: 1.05 | CE25: 0.2 | CF25: 0.6 | CG25: 0.27 | CH25: 0.58 | CI25: 0.34 | CJ25: 0.86 | CK25: 0.93 | CL25: 0.0049 | CM25: 2.8 | CN25: 1.09 | CQ25: 1.45 | CR25: 90.86 | CS25: 71.52 | CT25: 0.1 | CU25: 9.61 | CV25: 1.77 | CW25: 0.0847 | CX25: 0.75 | CY25: 0.371 | CZ25: 0.237 | DA25: 0.94 | DB25: 0.96 | DC25: 1.44 | DD25: 0.52 | DE25: 0.164 | DF25: 0.0474 | DG25: 0.0123 | DH25: 0.036 | DI25: 0.0171 | DJ25: 0.256 | DK25: 0.0648 | DL25: 0.0602 | DM25: 0.00437 | DN25: =AVERAGE(DN23:DN24,DN27:DN29) -> 0.005196 | DO25: 0.00761 | DP25: 0.0418 | DQ25: 0.0188 | DR25: 0.00984 | DS25: 0.0582 | DT25: 0.00409 | DU25: 0.0152 | DV25: 0.00605 | DW25: 0.0124 | DX25: 0.00579 | DY25: 0.0252 | DZ25: 0.00159 | EA25: 0.015933333 | EB25: 0.0037 | EC25: 0.0119 | ED25: 0.0027066667 | EE25: 0.00376
A26: 42. Exp CHV-E154 | B26: CH-V-6C | C26: Glass | D26: CHVE154-gl-3 | F26: 1200 | G26: 0.0001 | H26: IW-1 | I26: 116.95 | J26: 182624.97 | K26: 130704.52 | L26: 56.92 | M26: 15963.31 | N26: 14873.74 | O26: 2.11 | P26: 128.27 | Q26: 2261.26 | R26: 65.76 | S26: 10.76 | T26: <DL | U26: <DL | V26: 1.17 | W26: 4.87 | X26: 374.42 | Y26: 64.98 | Z26: 157.41 | AA26: 306.57 | AB26: 1.1 | AC26: 0.848 | AD26: 252.49 | AE26: 39.48 | AF26: 54.08 | AG26: 8.27 | AH26: 61.3 | AI26: 25.17 | AJ26: 7.69 | AK26: 14.25 | AL26: 6.86 | AM26: 26.61 | AN26: 5.7 | AO26: 13.95 | AP26: 6.74 | AQ26: 14.29 | AR26: 10.46 | AS26: 20.62 | AT26: 25.21 | AU26: <DL | AV26: 73.94 | AW26: 29.52 | AZ26: 10.9 | BA26: 31913.39 | BB26: 4148.65 | BC26: 2.97 | BD26: 4365.54 | BE26: 1808.84 | BF26: 0.14 | BG26: 12.05 | BH26: 129.39 | BI26: 3.7 | BJ26: 0.93 | BK26: 0.4 | BL26: 3.09 | BM26: 0.59 | BN26: 0.25 | BO26: 16.4 | BP26: 2.8 | BQ26: 6.06 | BR26: 13.74 | BS26: 0.14 | BT26: 0.048 | BU26: 13.36 | BV26: 1.38 | BW26: 2.09 | BX26: 0.34 | BY26: 3.31 | BZ26: 1.32 | CA26: 0.35 | CB26: 0.69 | CC26: 0.26 | CD26: 1.02 | CE26: 0.2 | CF26: 0.61 | CG26: 0.27 | CH26: 0.58 | CI26: 0.34 | CJ26: 0.86 | CK26: 0.92 | CL26: 0.004 | CM26: 2.83 | CN26: 1.13 | CQ26: 1.36 | CR26: 85.61 | CS26: 65.65 | CT26: 0.0929 | CU26: 9.17 | CV26: 1.82 | CW26: 0.0823 | CX26: 0.617 | CY26: 0.339 | CZ26: 0.215 | DA26: 0.879 | DB26: 0.867 | DC26: 1.33 | DD26: 0.511 | DE26: 0.154 | DF26: 0.0511 | DG26: 0.0113 | DH26: 0.0476 | DI26: 0.0152 | DJ26: 0.227 | DK26: 0.0612 | DL26: 0.137 | DM26: 0.00377 | DN26: 0.00928 | DO26: 0.006065 | DP26: 0.0418 | DQ26: 0.0188 | DR26: 0.011 | DS26: 0.0494 | DT26: 0.00515 | DU26: 0.0173 | DV26: 0.00546 | DW26: 0.0111 | DX26: 0.00543 | DY26: 0.0217 | DZ26: 0.00239 | EA26: 0.015933333 | EB26: 0.00909 | EC26: 0.00889 | ED26: 0.00238 | EE26: 0.00376
A27: 42. Exp CHV-E154 | B27: CH-V-6C | C27: Glass | D27: CHVE154-gl-4 | F27: 1200 | G27: 0.0001 | H27: IW-1 | I27: 121.15 | J27: 182931.58 | K27: 130704.52 | L27: 57.18 | M27: 15797.99 | N27: 14860.29 | O27: 2.25 | P27: 123.05 | Q27: 2277.33 | R27: 63.05 | S27: 10.55 | T27: <DL | U27: <DL | V27: 0.59 | W27: 4.71 | X27: 370.77 | Y27: 64.77 | Z27: 157.51 | AA27: 307.17 | AB27: 1.08 | AC27: 0.825 | AD27: 254.25 | AE27: 39.63 | AF27: 53.62 | AG27: 7.85 | AH27: 58.97 | AI27: 24.77 | AJ27: 7.66 | AK27: 14.2 | AL27: 6.94 | AM27: 26.56 | AN27: 5.78 | AO27: 13.93 | AP27: 6.65 | AQ27: 14.49 | AR27: 10.48 | AS27: 20.17 | AT27: 25.31 | AU27: 0.0187 | AV27: 74.42 | AW27: 28.87 | AZ27: 11.31 | BA27: 31966.8 | BB27: 4150.4 | BC27: 2.99 | BD27: 4355.04 | BE27: 1822.55 | BF27: 0.15 | BG27: 11.66 | BH27: 130.55 | BI27: 3.57 | BJ27: 0.93 | BK27: 0.38 | BL27: 0.65 | BM27: 0.36 | BN27: 0.25 | BO27: 16.31 | BP27: 2.8 | BQ27: 6.08 | BR27: 13.82 | BS27: 0.14 | BT27: 0.049 | BU27: 13.54 | BV27: 1.39 | BW27: 2.08 | BX27: 0.32 | BY27: 3.21 | BZ27: 1.31 | CA27: 0.35 | CB27: 0.69 | CC27: 0.26 | CD27: 1.02 | CE27: 0.2 | CF27: 0.62 | CG27: 0.27 | CH27: 0.59 | CI27: 0.34 | CJ27: 0.85 | CK27: 0.93 | CL27: 0.0069 | CM27: 2.86 | CN27: 1.1 | CQ27: 1.37 | CR27: 85.96 | CS27: 64.43 | CT27: 0.0934 | CU27: 9.07 | CV27: 1.76 | CW27: 0.0864 | CX27: 0.603 | CY27: 0.34 | CZ27: 0.208 | DA27: 0.889 | DB27: 0.929 | DC27: 1.42 | DD27: 0.475 | DE27: 0.149 | DF27: 0.0496 | DG27: 0.0127 | DH27: 0.0451 | DI27: 0.0132 | DJ27: 0.203 | DK27: 0.0627 | DL27: 0.124 | DM27: 0.00192 | DN27: 0.00461 | DO27: 0.00452 | DP27: 0.0418 | DQ27: 0.0188 | DR27: 0.006 | DS27: 0.0459 | DT27: 0.00462 | DU27: 0.0291 | DV27: 0.00545 | DW27: 0.0124 | DX27: 0.00542 | DY27: 0.02345 | DZ27: 0.00302 | EA27: 0.015933333 | EB27: 0.00457 | EC27: 0.0121 | ED27: 0.0027066667 | EE27: 0.00376
A28: 42. Exp CHV-E154 | B28: CH-V-6C | C28: Glass | D28: CHVE154-gl-5 | F28: 1200 | G28: 0.0001 | H28: IW-1 | I28: 119.44 | J28: 182523.7 | K28: 130704.53 | L28: 56.36 | M28: 15702.41 | N28: 14615.52 | O28: 2.26 | P28: 122.81 | Q28: 2248.69 | R28: 66.97 | S28: 11.66 | T28: <DL | U28: <DL | V28: <DL | W28: 4.69 | X28: 371.69 | Y28: 64.89 | Z28: 156.5 | AA28: 305.21 | AB28: 1.46 | AC28: 0.8 | AD28: 253.11 | AE28: 39.32 | AF28: 54.21 | AG28: 8.16 | AH28: 59.64 | AI28: 24.93 | AJ28: 7.29 | AK28: 13.66 | AL28: 6.82 | AM28: 26.55 | AN28: 5.72 | AO28: 14.29 | AP28: 6.77 | AQ28: 14.13 | AR28: 10.31 | AS28: 20.82 | AT28: 25.35 | AU28: <DL | AV28: 73.29 | AW28: 29.08 | AZ28: 11.18 | BA28: 31895.24 | BB28: 4151.35 | BC28: 2.96 | BD28: 4363.48 | BE28: 1807.77 | BF28: 0.15 | BG28: 11.73 | BH28: 129.14 | BI28: 3.81 | BJ28: 1.02 | BK28: 0.44 | BL28: 0.66 | BM28: 0.3 | BN28: 0.25 | BO28: 16.42 | BP28: 2.82 | BQ28: 6.06 | BR28: 13.79 | BS28: 0.17 | BT28: 0.051 | BU28: 13.57 | BV28: 1.38 | BW28: 2.11 | BX28: 0.34 | BY28: 3.27 | BZ28: 1.33 | CA28: 0.33 | CB28: 0.67 | CC28: 0.26 | CD28: 1.03 | CE28: 0.2 | CF28: 0.64 | CG28: 0.28 | CH28: 0.58 | CI28: 0.34 | CJ28: 0.88 | CK28: 0.93 | CL28: 0.0048 | CM28: 2.82 | CN28: 1.12 | CQ28: 1.57 | CR28: 100.08 | CS28: 75.9 | CT28: 0.112 | CU28: 10.5 | CV28: 1.93 | CW28: 0.0693 | CX28: 0.738 | CY28: 0.411 | CZ28: 0.241 | DA28: 0.95 | DB28: 1.1 | DC28: 1.53 | DD28: 0.469 | DE28: 0.171 | DF28: 0.0554 | DG28: 0.0162 | DH28: 0.0509 | DI28: 0.0162 | DJ28: 0.207 | DK28: 0.074 | DL28: 0.0647 | DM28: 0.00378 | DN28: 0.0076 | DO28: 0.006065 | DP28: 0.0418 | DQ28: 0.0188 | DR28: 0.00682 | DS28: 0.0897 | DT28: 0.00462 | DU28: 0.0133 | DV28: 0.00484 | DW28: 0.0137 | DX28: 0.00508 | DY28: 0.02345 | DZ28: 0.00355 | EA28: 0.015933333 | EB28: 0.00671 | EC28: 0.0115 | ED28: 0.00332 | EE28: 0.00376
D29: Average | I29: =AVERAGE(I22:I28) -> 119.03714 | J29: =AVERAGE(J22:J28) -> 186870.11 | K29: =AVERAGE(K22:K28) -> 130618.75 | L29: =AVERAGE(L22:L28) -> 57.222857 | M29: =AVERAGE(M22:M28) -> 15548.937 | N29: =AVERAGE(N22:N28) -> 14777.91 | O29: =AVERAGE(O22:O28) -> 2.24 | P29: =AVERAGE(P22:P28) -> 123.98286 | ... T29: =AVERAGE(T22:T28) -> 0.3015 | V29: =AVERAGE(V22:V28) -> 1.252 | W29: =AVERAGE(W22:W28) -> 4.8157143 | X29: =AVERAGE(X22:X28) -> 370.58 | Y29: =AVERAGE(Y22:Y28) -> 64.581429 | Z29: =AVERAGE(Z22:Z28) -> 157.13857 | AA29: =AVERAGE(AA22:AA28) -> 308.10286 | AB29: =AVERAGE(AB22:AB28) -> 1.24 | AC29: =AVERAGE(AC22:AC28) -> 0.82657143 | ... AW29: =AVERAGE(AW22:AW28) -> 28.954286
D30: Median | I30: =MEDIAN(I22:I28) -> 119.44 | J30: =MEDIAN(J22:J28) -> 182959.34 | K30: =MEDIAN(K22:K28) -> 130704.52 | L30: =MEDIAN(L22:L28) -> 57.18 | M30: =MEDIAN(M22:M28) -> 15702.41 | N30: =MEDIAN(N22:N28) -> 14811.19 | O30: =MEDIAN(O22:O28) -> 2.25 | P30: =MEDIAN(P22:P28) -> 123.05 | ... T30: =MEDIAN(T22:T28) -> 0.3015 | V30: =MEDIAN(V22:V28) -> 1.41 | W30: =MEDIAN(W22:W28) -> 4.86 | X30: =MEDIAN(X22:X28) -> 370.77 | Y30: =MEDIAN(Y22:Y28) -> 64.77 | Z30: =MEDIAN(Z22:Z28) -> 157.19 | AA30: =MEDIAN(AA22:AA28) -> 307.17 | AB30: =MEDIAN(AB22:AB28) -> 1.29 | AC30: =MEDIAN(AC22:AC28) -> 0.825 | ... AW30: =MEDIAN(AW22:AW28) -> 28.87
D31: Stdev | I31: =STDEV(I22:I28) -> 2.0214822 | J31: =STDEV(J22:J28) -> 5787.5297 | K31: =STDEV(K22:K28) -> 633.52105 | L31: =STDEV(L22:L28) -> 0.80673652 | M31: =STDEV(M22:M28) -> 348.59169 | N31: =STDEV(N22:N28) -> 119.15066 | O31: =STDEV(O22:O28) -> 0.06244998 | P31: =STDEV(P22:P28) -> 2.2492052 | ... T31: =STDEV(T22:T28) -> 0.11101576 | V31: =STDEV(V22:V28) -> 0.40064947 | W31: =STDEV(W22:W28) -> 0.10596495 | X31: =STDEV(X22:X28) -> 2.4873949 | Y31: =STDEV(Y22:Y28) -> 0.47015702 | Z31: =STDEV(Z22:Z28) -> 1.153927 | AA31: =STDEV(AA22:AA28) -> 3.0886281 | AB31: =STDEV(AB22:AB28) -> 0.20856654 | AC31: =STDEV(AC22:AC28) -> 0.029596493 | ... AT31: =STDEV(AT22:AT28) -> 0.15618975 | AV31: =STDEV(AV22:AV28) -> 1.0523443 | AW31: =STDEV(AW22:AW28) -> 0.2824215
D32: RSD | I32: =I31/I29 -> 0.016981945 | J32: =J31/J29 -> 0.03097087 | K32: =K31/K29 -> 0.004850154 | L32: =L31/L29 -> 0.014098152 | M32: =M31/M29 -> 0.022419005 | N32: =N31/N29 -> 0.0080627543 | O32: =O31/O29 -> 0.027879455 | P32: =P31/P29 -> 0.018141259 | ... T32: =T31/T29 -> 0.36821149 | V32: =V31/V29 -> 0.32000757 | W32: =W31/W29 -> 0.022003995 | X32: =X31/X29 -> 0.0067121671 | Y32: =Y31/Y29 -> 0.0072800653 | Z32: =Z31/Z29 -> 0.0073433724 | AA32: =AA31/AA29 -> 0.010024666 | AB32: =AB31/AB29 -> 0.16819882 | AC32: =AC31/AC29 -> 0.035806334 | ... AT32: =AT31/AT29 -> 0.0061990602 | AV32: =AV31/AV29 -> 0.014385272 | AW32: =AW31/AW29 -> 0.0097540483
D33: RSD% | I33: =I32*100 -> 1.6981945 | J33: =J32*100 -> 3.097087 | K33: =K32*100 -> 0.4850154 | L33: =L32*100 -> 1.4098152 | M33: =M32*100 -> 2.2419005 | N33: =N32*100 -> 0.80627543 | O33: =O32*100 -> 2.7879455 | P33: =P32*100 -> 1.8141259 | ... T33: =T32*100 -> 36.821149 | V33: =V32*100 -> 32.000757 | W33: =W32*100 -> 2.2003995 | X33: =X32*100 -> 0.67121671 | Y33: =Y32*100 -> 0.72800653 | Z33: =Z32*100 -> 0.73433724 | AA33: =AA32*100 -> 1.0024666 | AB33: =AB32*100 -> 16.819882 | AC33: =AC32*100 -> 3.5806334 | ... AT33: =AT32*100 -> 0.61990602 | AV33: =AV32*100 -> 1.4385272 | AW33: =AW32*100 -> 0.97540483
A35: 42. Exp CHV-E156 | B35: CH-V-6C | C35: Clinopyroxene | D35: CHVE156_cpx_1 | F35: 1200 | G35: 0.0001 | H35: IW-1 | I35: 8.64 | J35: 222408.16 | K35: 167168.56 | L35: 207.15 | M35: 9639.15 | N35: n.a. | O35: 19.26 | P35: 1513.52 | Q35: 814.76 | R35: 51.06 | S35: 10.29 | T35: <DL | U35: <DL | V35: 0.39 | W35: <DL | X35: 35.66 | Y35: 22.33 | Z35: 57.13 | AA35: 2.9 | AB35: 0.343 | AC35: <DL | AD35: <DL | AE35: 2.99 | AF35: 6.75 | AG35: 1.48 | AH35: 13.42 | AI35: 8.26 | AJ35: 1.59 | AK35: 4.98 | AL35: 2.68 | AM35: 9.69 | AN35: 2.11 | AO35: 4.72 | AP35: 2.12 | AQ35: 4.36 | AR35: 3.49 | AS35: 15.77 | AT35: 0.89 | AU35: <DL | AV35: 0.918 | AW35: 0.395 | BA35: 28915.32 | BB35: 5311.69 | BC35: 12.89 | BD35: 1524.75 | BF35: 1.26 | BG35: 192.81 | BH35: 55.42 | BI35: 3.65 | BJ35: 1.21 | BK35: 0.13 | BL35: 0.76 | BM35: 0.13 | BN35: 0.064 | BO35: 1.94 | BP35: 1.39 | BQ35: 3.62 | BR35: 0.22 | BS35: 0.076 | BT35: 0.051 | BU35: 0.073 | BV35: 0.15 | BW35: 0.36 | BX35: 0.085 | BY35: 0.99 | BZ35: 0.64 | CA35: 0.12 | CB35: 0.38 | CC35: 0.13 | CD35: 0.59 | CE35: 0.12 | CF35: 0.32 | CG35: 0.14 | CH35: 0.29 | CI35: 0.17 | CJ35: 1.01 | CK35: 0.061 | CL35: 0.0072 | CM35: 0.063 | CN35: 0.032 | CQ35: 0.707 | CR35: 81.53 | CS35: 85.33 | CT35: 0.157 | CU35: 4.02 | CV35: n.a. | CW35: 0.0913 | CX35: 2.95 | CY35: 0.561 | CZ35: 0.184 | DA35: 1.59 | DB35: 0.337 | DC35: 1.93 | DD35: 0.19 | DE35: 0.16 | DF35: 0.169 | DG35: 0.0237 | DH35: 0.0903 | DI35: 0.292 | DJ35: 0.3792 | DK35: 0.132 | DL35: 0.18 | DM35: 0.0105 | DN35: 0.0156 | DO35: =AVERAGE(DO38:DO41) -> 0.0115225 | DP35: 0.089 | DQ35: =AVERAGE(DQ36,DQ42) -> 0.0711 | DR35: 0.03185 | DS35: 0.0851 | DT35: =AVERAGE(DT36,DT41,DT38) -> 0.01219 | DU35: =AVERAGE(DU36,DU41,DU38:DU39,) -> 0.03234 | DV35: 0.00877 | DW35: 0.0206 | DX35: =AVERAGE(DX36,DX38:DX41) -> 0.010388 | DY35: 0.0248 | DZ35: =AVERAGE(DZ40:DZ42) -> 0.0045166667 | EA35: 0.0462 | EB35: =AVERAGE(EB38:EB42) -> 0.017562 | EC35: 0.0157 | ED35: =AVERAGE(ED42,ED40,ED39) -> 0.0088 | EE35: 0.0128
A36: 42. Exp CHV-E156 | B36: CH-V-6C | C36: Clinopyroxene | D36: CHVE156_cpx_2 | F36: 1200 | G36: 0.0001 | H36: IW-1 | I36: 7.96 | J36: 232361.92 | K36: 166668.28 | L36: 208.36 | M36: 8152.6 | N36: n.a. | O36: 20.68 | P36: 1733.01 | Q36: 796.73 | R36: 53.51 | S36: 10.92 | T36: <DL | U36: <DL | V36: 0.42 | W36: <DL | X36: 36.25 | Y36: 19.82 | Z36: 42.86 | AA36: 2.1 | AB36: 0.261 | AC36: <DL | AD36: <DL | AE36: 2.72 | AF36: 5.86 | AG36: 1.289 | AH36: 11.59 | AI36: 6.9 | AJ36: 1.33 | AK36: 4.37 | AL36: 2.14 | AM36: 8.82 | AN36: 1.78 | AO36: 4.04 | AP36: 1.9 | AQ36: 3.93 | AR36: 3.15 | AS36: 11.56 | AT36: 0.512 | AU36: 0.0121 | AV36: 0.747 | AW36: 0.259 | BA36: 30211.85 | BB36: 5293.89 | BC36: 12.97 | BD36: 1290.62 | BF36: 1.35 | BG36: 220.92 | BH36: 54.22 | BI36: 3.83 | BJ36: 1.22 | BK36: 0.14 | BL36: 0.72 | BM36: 0.13 | BN36: 0.069 | BO36: 1.97 | BP36: 1.24 | BQ36: 2.73 | BR36: 0.18 | BS36: 0.063 | BT36: 0.054 | BU36: 0.071 | BV36: 0.14 | BW36: 0.31 | BX36: 0.075 | BY36: 0.86 | BZ36: 0.54 | CA36: 0.1 | CB36: 0.33 | CC36: 0.11 | CD36: 0.54 | CE36: 0.11 | CF36: 0.28 | CG36: 0.13 | CH36: 0.26 | CI36: 0.16 | CJ36: 0.75 | CK36: 0.038 | CL36: 0.005 | CM36: 0.052 | CN36: 0.023 | CQ36: 0.73 | CR36: 80.23 | CS36: 86.12 | CT36: 0.172 | CU36: 4.01 | CV36: n.a. | CW36: 0.0895 | CX36: 3.29 | CY36: 0.557 | CZ36: 0.221 | DA36: 1.46 | DB36: 0.327 | DC36: 1.77 | DD36: 0.191 | DE36: 0.181 | DF36: 0.159 | DG36: 0.0258 | DH36: 0.116 | DI36: 0.295 | DJ36: 0.3792 | DK36: 0.14 | DL36: 0.162 | DM36: 0.0119 | DN36: 0.024 | DO36: 0.0115225 | DP36: 0.089 | DQ36: 0.0748 | DR36: 0.03185 | DS36: 0.0781 | DT36: 0.013 | DU36: 0.0212 | DV36: 0.00877 | DW36: 0.0206 | DX36: 0.00724 | DY36: =AVERAGE(DY35,DY39:DY41) -> 0.0421 | DZ36: 0.0045166667 | EA36: 0.0462 | EB36: 0.0163 | EC36: =AVERAGE(EC37:EC42,EC35) -> 0.0287 | ED36: 0.0088 | EE36: 0.0128
A37: 42. Exp CHV-E156 | B37: CH-V-6C | C37: Clinopyroxene | D37: CHVE156_cpx_4 | F37: 1200 | G37: 0.0001 | H37: IW-1 | I37: 7.17 | J37: 229450.23 | K37: 167883.28 | L37: 235.09 | M37: 11306.14 | N37: n.a. | O37: 24.53 | P37: 1906.17 | Q37: 900.97 | R37: 54.84 | S37: 13.18 | T37: <DL | U37: <DL | V37: 0.54 | W37: <DL | X37: 35.32 | Y37: 27.09 | Z37: 67.69 | AA37: 3.93 | AB37: 0.68 | AC37: <DL | AD37: <DL | AE37: 3.47 | AF37: 7.9 | AG37: 1.661 | AH37: 15.69 | AI37: 9.13 | AJ37: 1.88 | AK37: 5.91 | AL37: 2.98 | AM37: 11.71 | AN37: 2.44 | AO37: 5.59 | AP37: 2.63 | AQ37: 5.28 | AR37: 4.09 | AS37: 16.79 | AT37: 1.296 | AU37: <DL | AV37: 1.445 | AW37: 0.442 | BA37: 29836.41 | BB37: 5333.42 | BC37: 14.64 | BD37: 1791.24 | BF37: 1.59 | BG37: 243.2 | BH37: 61.33 | BI37: 3.93 | BJ37: 1.42 | BK37: 0.14 | BL37: 0.74 | BM37: 0.17 | BN37: 0.072 | BO37: 1.92 | BP37: 1.69 | BQ37: 4.29 | BR37: 0.28 | BS37: 0.11 | BT37: 0.053 | BU37: 0.1 | BV37: 0.17 | BW37: 0.42 | BX37: 0.093 | BY37: 1.14 | BZ37: 0.7 | CA37: 0.14 | CB37: 0.44 | CC37: 0.15 | CD37: 0.7 | CE37: 0.14 | CF37: 0.38 | CG37: 0.18 | CH37: 0.34 | CI37: 0.2 | CJ37: 1.07 | CK37: 0.084 | CL37: 0.011 | CM37: 0.094 | CN37: 0.035 | CQ37: 0.763 | CR37: 85.4 | CS37: 85.62 | CT37: 0.206 | CU37: 4.12 | CV37: n.a. | CW37: 0.0695 | CX37: 3.17 | CY37: 0.561 | CZ37: 0.218 | DA37: 1.51 | DB37: 0.33 | DC37: 1.82 | DD37: 0.246 | DE37: 0.185 | DF37: 0.173 | DG37: 0.0228 | DH37: 0.136 | DI37: 0.331 | DJ37: =AVERAGE(DJ38:DJ42) -> 0.3792 | DK37: 0.133 | DL37: 0.268 | DM37: 0.00405 | DN37: 0.0165 | DO37: 0.0115225 | DP37: 0.089 | DQ37: 0.0711 | DR37: 0.03185 | DS37: 0.0634 | DT37: 0.01219 | DU37: 0.03234 | DV37: 0.00558 | DW37: 0.0206 | DX37: 0.010388 | DY37: 0.0421 | DZ37: 0.0045166667 | EA37: 0.0462 | EB37: 0.017562 | EC37: 0.0262 | ED37: 0.0088 | EE37: 0.0128
A38: 42. Exp CHV-E156 | B38: CH-V-6C | C38: Clinopyroxene | D38: CHVE156-cpx-1 | F38: 1200 | G38: 0.0001 | H38: IW-1 | I38: 5.24 | J38: 232978.39 | K38: 167168.58 | L38: 206.37 | M38: 8569.1 | N38: 7680.47 | O38: 18.43 | P38: 1219.52 | Q38: 840.55 | R38: 46.8 | S38: 12.92 | T38: <DL | U38: <DL | V38: <DL | W38: <DL | X38: 38.07 | Y38: 22.15 | Z38: 45.65 | AA38: 1.82 | AB38: <DL | AC38: <DL | AD38: 0.37 | AE38: 2.8 | AF38: 5.77 | AG38: 1.33 | AH38: 12.27 | AI38: 7.48 | AJ38: 1.51 | AK38: 4.48 | AL38: 2.48 | AM38: 9.95 | AN38: 1.92 | AO38: 4.62 | AP38: 2.2 | AQ38: 4.49 | AR38: 3.57 | AS38: 12.46 | AT38: 0.599 | AU38: 0.024 | AV38: 0.72 | AW38: 0.306 | AZ38: 1.58 | BA38: 43263.44 | BB38: 5341.2 | BC38: 13.28 | BD38: 4837.25 | BE38: 1141.83 | BF38: 1.27 | BG38: 188.84 | BH38: 55.64 | BI38: 3.43 | BJ38: 1.72 | BK38: 1.03 | BL38: 1.73 | BM38: 0.61 | BN38: 0.16 | BO38: 2.48 | BP38: 1.27 | BQ38: 3.11 | BR38: 0.15 | BS38: 0.2 | BT38: 0.064 | BU38: 0.12 | BV38: 0.2 | BW38: 0.53 | BX38: 0.12 | BY38: 1.05 | BZ38: 0.86 | CA38: 0.16 | CB38: 0.51 | CC38: 0.23 | CD38: 0.93 | CE38: 0.19 | CF38: 0.44 | CG38: 0.22 | CH38: 0.45 | CI38: 0.33 | CJ38: 1.18 | CK38: 0.069 | CL38: 0.014 | CM38: 0.076 | CN38: 0.037 | CQ38: 3.24 | CR38: 217.93 | CS38: 161.81 | CT38: 0.195 | CU38: 20.43 | CV38: 3.79 | CW38: 0.197 | CX38: 1.72 | CY38: 0.849 | CZ38: 0.467 | DA38: 2.15 | DB38: 2.38 | DC38: 3.07 | DD38: 1.34 | DE38: 0.361 | DF38: 0.12 | DG38: 0.0353 | DH38: 0.0881 | DI38: 0.0477 | DJ38: 0.47 | DK38: 0.143 | DL38: 0.124 | DM38: 0.0111 | DN38: 0.0129 | DO38: 0.00934 | DP38: 0.089 | DQ38: 0.0711 | DR38: 0.0363 | DS38: 0.154 | DT38: 0.0174 | DU38: 0.0607 | DV38: 0.0131 | DW38: 0.0206 | DX38: 0.0102 | DY38: 0.0625 | DZ38: 0.0045166667 | EA38: 0.0462 | EB38: 0.0126 | EC38: 0.023 | ED38: 0.0088 | EE38: 0.0128
A39: 42. Exp CHV-E156 | B39: CH-V-6C | C39: Clinopyroxene | D39: CHVE156-cpx-2 | F39: 1200 | G39: 0.0001 | H39: IW-1 | I39: 8.41 | J39: 231366.88 | K39: 166668.3 | L39: 271.09 | M39: 7803 | N39: 6960.79 | O39: 33.22 | P39: 3108.23 | Q39: 735.89 | R39: 53.4 | S39: 11.45 | T39: <DL | U39: <DL | V39: <DL | W39: <DL | X39: 32.1 | Y39: 18.65 | Z39: 41.08 | AA39: 2.1 | AB39: 1.12 | AC39: <DL | AD39: 0.21 | AE39: 2.5 | AF39: 5.57 | AG39: 1.29 | AH39: 13.16 | AI39: 6.27 | AJ39: 1.38 | AK39: 4.57 | AL39: 2.15 | AM39: 8.24 | AN39: 1.76 | AO39: 4.11 | AP39: 1.92 | AQ39: 3.65 | AR39: 3.05 | AS39: 11.49 | AT39: 0.446 | AU39: <DL | AV39: 0.837 | AW39: 0.205 | AZ39: 1.74 | BA39: 42973.05 | BB39: 5318.15 | BC39: 17.43 | BD39: 4398.97 | BE39: 1036.43 | BF39: 2.22 | BG39: 481.39 | BH39: 48.73 | BI39: 3.89 | BJ39: 1.56 | BK39: 0.92 | BL39: 1.54 | BM39: 0.57 | BN39: 0.15 | BO39: 2.1 | BP39: 1.07 | BQ39: 2.8 | BR39: 0.16 | BS39: 0.23 | BT39: 0.062 | BU39: 0.11 | BV39: 0.18 | BW39: 0.51 | BX39: 0.11 | BY39: 1.11 | BZ39: 0.72 | CA39: 0.15 | CB39: 0.51 | CC39: 0.2 | CD39: 0.77 | CE39: 0.17 | CF39: 0.4 | CG39: 0.19 | CH39: 0.37 | CI39: 0.28 | CJ39: 1.08 | CK39: 0.055 | CL39: 0.016 | CM39: 0.086 | CN39: 0.026 | CQ39: 3.19 | CR39: 214.54 | CS39: 158.96 | CT39: 0.219 | CU39: 20.91 | CV39: 3.75 | CW39: 0.169 | CX39: 1.86 | CY39: 0.832 | CZ39: 0.479 | DA39: 2.11 | DB39: 2.21 | DC39: 3.63 | DD39: 0.853 | DE39: 0.36 | DF39: 0.119 | DG39: 0.028 | DH39: 0.109 | DI39: 0.0207 | DJ39: 0.269 | DK39: 0.141 | DL39: 0.198 | DM39: =AVERAGE(DM35:DM38,DM41:DM42) -> 0.0084316667 | DN39: 0.0236 | DO39: 0.0146 | DP39: 0.089 | DQ39: 0.0711 | DR39: =AVERAGE(DR38,DR40:DR42) -> 0.03185 | DS39: 0.106 | DT39: 0.01219 | DU39: 0.0472 | DV39: 0.00738 | DW39: 0.0206 | DX39: 0.0104 | DY39: 0.0337 | DZ39: 0.0045166667 | EA39: 0.0462 | EB39: 0.0334 | EC39: 0.0469 | ED39: 0.0113 | EE39: 0.0128
A40: 42. Exp CHV-E156 | B40: CH-V-6C | C40: Clinopyroxene | D40: CHVE156-cpx-3 | F40: 1200 | G40: 0.0001 | H40: IW-1 | I40: 9.24 | J40: 235814.3 | K40: 166525.36 | L40: 296.75 | M40: 8536.98 | N40: 7445.99 | O40: 39.47 | P40: 4373.99 | Q40: 718.33 | R40: 54.65 | S40: 11.41 | T40: <DL | U40: <DL | V40: <DL | W40: <DL | X40: 30.78 | Y40: 19.18 | Z40: 50.84 | AA40: 3.17 | AB40: 1.31 | AC40: <DL | AD40: <DL | AE40: 2.9 | AF40: 6.05 | AG40: 1.25 | AH40: 11.97 | AI40: 6.43 | AJ40: 1.32 | AK40: 4.75 | AL40: 2.35 | AM40: 8.56 | AN40: 1.93 | AO40: 3.88 | AP40: 2 | AQ40: 4.55 | AR40: 3.27 | AS40: 15.14 | AT40: 0.94 | AU40: <DL | AV40: 1.14 | AW40: 0.319 | AZ40: 1.85 | BA40: 43810.66 | BB40: 5320.19 | BC40: 19.1 | BD40: 4807.04 | BE40: 1110.62 | BF40: 2.64 | BG40: 678.37 | BH40: 47.61 | BI40: 4 | BJ40: 1.59 | BK40: 0.94 | BL40: 1.6 | BM40: 1.31 | BN40: 0.16 | BO40: 2.02 | BP40: 1.11 | BQ40: 3.47 | BR40: 0.24 | BS40: 0.27 | BT40: 0.064 | BU40: 0.099 | BV40: 0.21 | BW40: 0.56 | BX40: 0.11 | BY40: 1.03 | BZ40: 0.75 | CA40: 0.14 | CB40: 0.54 | CC40: 0.22 | CD40: 0.81 | CE40: 0.19 | CF40: 0.38 | CG40: 0.2 | CH40: 0.46 | CI40: 0.3 | CJ40: 1.42 | CK40: 0.1 | CL40: 0.017 | CM40: 0.12 | CN40: 0.038 | CQ40: 3.22 | CR40: 212.53 | CS40: 154.41 | CT40: 0.254 | CU40: 20.81 | CV40: 4.08 | CW40: 0.213 | CX40: 1.66 | CY40: 0.824 | CZ40: 0.446 | DA40: 2.08 | DB40: 2.15 | DC40: 3.65 | DD40: 1.94 | DE40: 0.373 | DF40: 0.119 | DG40: 0.0168 | DH40: 0.116 | DI40: 0.0347 | DJ40: 0.359 | DK40: 0.144 | DL40: 0.249 | DM40: 0.00756 | DN40: =AVERAGE(DN35:DN39) -> 0.01852 | DO40: 0.0131 | DP40: 0.089 | DQ40: 0.0711 | DR40: 0.031 | DS40: 0.141 | DT40: 0.01219 | DU40: 0.03234 | DV40: 0.0104 | DW40: 0.0206 | DX40: 0.0104 | DY40: 0.0618 | DZ40: 0.00428 | EA40: 0.0462 | EB40: 0.0121 | EC40: 0.0305 | ED40: 0.00953 | EE40: 0.0128
A41: 42. Exp CHV-E156 | B41: CH-V-6C | C41: Clinopyroxene | D41: CHVE156-cpx-4 | F41: 1200 | G41: 0.0001 | H41: IW-1 | I41: 6.29 | J41: 232599.95 | K41: 167883.28 | L41: 207.37 | M41: 8615.63 | N41: 7605.66 | O41: 18.23 | P41: 1166.17 | Q41: 866.05 | R41: 42.66 | S41: 15.38 | T41: <DL | U41: <DL | V41: <DL | W41: <DL | X41: 37.13 | Y41: 21.61 | Z41: 44.85 | AA41: 1.93 | AB41: 0.42 | AC41: 0.153 | AD41: <DL | AE41: 2.7 | AF41: 5.88 | AG41: 1.27 | AH41: 13.36 | AI41: 7.8 | AJ41: 1.37 | AK41: 4.98 | AL41: 2.45 | AM41: 9.09 | AN41: 2.05 | AO41: 4.69 | AP41: 2 | AQ41: 4.84 | AR41: 3.51 | AS41: 12.7 | AT41: 0.513 | AU41: <DL | AV41: 0.784 | AW41: 0.29 | AZ41: 1.66 | BA41: 43225.37 | BB41: 5370.75 | BC41: 13.39 | BD41: 4846.18 | BE41: 1136.58 | BF41: 1.26 | BG41: 181.44 | BH41: 57.44 | BI41: 3.14 | BJ41: 1.94 | BK41: 0.99 | BL41: 1.63 | BM41: 0.48 | BN41: 0.15 | BO41: 2.44 | BP41: 1.25 | BQ41: 3.08 | BR41: 0.16 | BS41: 0.22 | BT41: 0.066 | BU41: 0.1 | BV41: 0.2 | BW41: 0.54 | BX41: 0.12 | BY41: 1.15 | BZ41: 0.9 | CA41: 0.15 | CB41: 0.57 | CC41: 0.23 | CD41: 0.86 | CE41: 0.2 | CF41: 0.46 | CG41: 0.21 | CH41: 0.49 | CI41: 0.32 | CJ41: 1.21 | CK41: 0.063 | CL41: 0.015 | CM41: 0.083 | CN41: 0.036 | CQ41: 3.14 | CR41: 209.27 | CS41: 152.63 | CT41: 0.219 | CU41: 20.29 | CV41: 3.42 | CW41: 0.175 | CX41: 1.92 | CY41: 0.78 | CZ41: 0.456 | DA41: 2 | DB41: 2.22 | DC41: 3.68 | DD41: 1.03 | DE41: 0.323 | DF41: 0.117 | DG41: 0.03 | DH41: 0.0726 | DI41: 0.0239 | DJ41: 0.41 | DK41: 0.135 | DL41: 0.254 | DM41: 0.007 | DN41: 0.01852 | DO41: 0.00905 | DP41: 0.089 | DQ41: 0.0711 | DR41: 0.0238 | DS41: 0.094 | DT41: 0.00617 | DU41: 0.0326 | DV41: =AVERAGE(DV42,DV37:DV40) -> 0.00877 | DW41: 0.0206 | DX41: 0.0137 | DY41: 0.0481 | DZ41: 0.00457 | EA41: 0.0462 | EB41: 0.0217 | EC41: 0.0309 | ED41: 0.0088 | EE41: 0.0128
A42: 42. Exp CHV-E156 | B42: CH-V-6C | C42: Clinopyroxene | D42: CHVE156-cpx-5 | F42: 1200 | G42: 0.0001 | H42: IW-1 | I42: 6.38 | J42: 229710.95 | K42: 165453.3 | L42: 226.8 | M42: 9232.7 | N42: 8290.37 | O42: 19.58 | P42: 1289.33 | Q42: 840.25 | R42: 46.17 | S42: 13.54 | T42: <DL | U42: <DL | V42: <DL | W42: <DL | X42: 37.37 | Y42: 21.67 | Z42: 54.95 | AA42: 2.56 | AB42: <DL | AC42: <DL | AD42: <DL | AE42: 2.9 | AF42: 6.78 | AG42: 1.38 | AH42: 13.93 | AI42: 8.2 | AJ42: 1.76 | AK42: 5.3 | AL42: 2.59 | AM42: 9.32 | AN42: 1.94 | AO42: 4.64 | AP42: 2.08 | AQ42: 4.9 | AR42: 3.45 | AS42: 14.73 | AT42: 0.855 | AU42: <DL | AV42: 0.807 | AW42: 0.329 | AZ42: 1.57 | BA42: 42697.56 | BB42: 5283 | BC42: 14.64 | BD42: 5188.33 | BE42: 1241.06 | BF42: 1.34 | BG42: 200.82 | BH42: 55.74 | BI42: 3.39 | BJ42: 1.73 | BK42: 0.9 | BL42: 1.39 | BM42: 0.39 | BN42: 0.15 | BO42: 2.45 | BP42: 1.25 | BQ42: 3.75 | BR42: 0.2 | BS42: 0.19 | BT42: 0.06 | BU42: 0.11 | BV42: 0.21 | BW42: 0.62 | BX42: 0.12 | BY42: 1.18 | BZ42: 0.93 | CA42: 0.18 | CB42: 0.59 | CC42: 0.24 | CD42: 0.88 | CE42: 0.19 | CF42: 0.45 | CG42: 0.21 | CH42: 0.49 | CI42: 0.32 | CJ42: 1.39 | CK42: 0.093 | CL42: 0.011 | CM42: 0.084 | CN42: 0.039 | CQ42: 3.02 | CR42: 201.08 | CS42: 151.76 | CT42: 0.203 | CU42: 18.95 | CV42: 3.29 | CW42: 0.191 | CX42: 1.05 | CY42: 0.774 | CZ42: 0.394 | DA42: 1.98 | DB42: 2.04 | DC42: 3.26 | DD42: 0.9 | DE42: 0.337 | DF42: 0.112 | DG42: 0.029 | DH42: 0.0848 | DI42: =AVERAGE(DI35:DI41) -> 0.14928571 | DJ42: 0.388 | DK42: 0.143 | DL42: 0.268 | DM42: 0.00604 | DN42: 0.01852 | DO42: 0.0115225 | DP42: 0.089 | DQ42: 0.0674 | DR42: 0.0363 | DS42: 0.0794 | DT42: 0.01219 | DU42: 0.03234 | DV42: 0.00739 | DW42: 0.0206 | DX42: 0.010388 | DY42: 0.0421 | DZ42: 0.0047 | EA42: 0.0462 | EB42: 0.00801 | EC42: 0.0277 | ED42: 0.00557 | EE42: 0.0128
D43: Average | I43: =AVERAGE(I35:I42) -> 7.41625 | J43: =AVERAGE(J35:J42) -> 230836.35 | K43: =AVERAGE(K35:K42) -> 166927.37 | L43: =AVERAGE(L35:L42) -> 232.3725 | M43: =AVERAGE(M35:M42) -> 8981.9125 | N43: =AVERAGE(N35:N42) -> 7596.656 | O43: =AVERAGE(O35:O42) -> 24.175 | P43: =AVERAGE(P35:P42) -> 2038.7425 | ... V43: =AVERAGE(V35:V42) -> 0.45 | X43: =AVERAGE(X35:X42) -> 35.335 | Y43: =AVERAGE(Y35:Y42) -> 21.5625 | Z43: =AVERAGE(Z35:Z42) -> 50.63125 | AA43: =AVERAGE(AA35:AA42) -> 2.56375 | AB43: =AVERAGE(AB35:AB42) -> 0.689 | AC43: =AVERAGE(AC35:AC42) -> 0.153 | AD43: =AVERAGE(AD35:AD42) -> 0.29 | AE43: =AVERAGE(AE35:AE42) -> 2.8725 | ... AW43: =AVERAGE(AW35:AW42) -> 0.318125
D44: Median | I44: =MEDIAN(I35:I42) -> 7.565 | J44: =MEDIAN(J35:J42) -> 231864.4 | K44: =MEDIAN(K35:K42) -> 166918.43 | L44: =MEDIAN(L35:L42) -> 217.58 | M44: =MEDIAN(M35:M42) -> 8592.365 | N44: =MEDIAN(N35:N42) -> 7605.66 | O44: =MEDIAN(O35:O42) -> 20.13 | P44: =MEDIAN(P35:P42) -> 1623.265 | ... V44: =MEDIAN(V35:V42) -> 0.42 | X44: =MEDIAN(X35:X42) -> 35.955 | Y44: =MEDIAN(Y35:Y42) -> 21.64 | Z44: =MEDIAN(Z35:Z42) -> 48.245 | AA44: =MEDIAN(AA35:AA42) -> 2.33 | AB44: =MEDIAN(AB35:AB42) -> 0.55 | AC44: =MEDIAN(AC35:AC42) -> 0.153 | AD44: =MEDIAN(AD35:AD42) -> 0.29 | AE44: =MEDIAN(AE35:AE42) -> 2.85 | ... AW44: =MEDIAN(AW35:AW42) -> 0.3125
D45: Stdev | I45: =STDEV(I35:I42) -> 1.3755927 | J45: =STDEV(J35:J42) -> 3951.6664 | K45: =STDEV(K35:K42) -> 793.96132 | L45: =STDEV(L35:L42) -> 34.217737 | M45: =STDEV(M35:M42) -> 1100.4561 | N45: =STDEV(N35:N42) -> 478.37506 | O45: =STDEV(O35:O42) -> 7.9436354 | P45: =STDEV(P35:P42) -> 1132.5205 | ... V45: =STDEV(V35:V42) -> 0.079372539 | X45: =STDEV(X35:X42) -> 2.5911884 | Y45: =STDEV(Y35:Y42) -> 2.6375462 | Z45: =STDEV(Z35:Z42) -> 8.9585098 | AA45: =STDEV(AA35:AA42) -> 0.73018466 | AB45: =STDEV(AB35:AB42) -> 0.43514228 | AD45: =STDEV(AD35:AD42) -> 0.11313708 | AE45: =STDEV(AE35:AE42) -> 0.28519417 | AF45: =STDEV(AF35:AF42) -> 0.77790929 | AG45: =STDEV(AG35:AG42) -> 0.13929901 | AH45: =STDEV(AH35:AH42) -> 1.2968637 | AI45: =STDEV(AI35:AI42) -> 0.98597939 | AJ45: =STDEV(AJ35:AJ42) -> 0.21056048 | AK45: =STDEV(AK35:AK42) -> 0.50414709 | ... AW45: =STDEV(AW35:AW42) -> 0.074262926
D46: RSD | I46: =I45/I43 -> 0.1854836 | J46: =J45/J43 -> 0.017118909 | K46: =K45/K43 -> 0.004756328 | L46: =L45/L43 -> 0.14725381 | M46: =M45/M43 -> 0.12251913 | N46: =N45/N43 -> 0.062971794 | O46: =O45/O43 -> 0.32858885 | P46: =P45/P43 -> 0.55549951 | ... V46: =V45/V43 -> 0.17638342 | X46: =X45/X43 -> 0.073332061 | Y46: =Y45/Y43 -> 0.12232098 | Z46: =Z45/Z43 -> 0.17693637 | AA46: =AA45/AA43 -> 0.28481118 | AB46: =AB45/AB43 -> 0.63155628 | AD46: =AD45/AD43 -> 0.39012788 | AE46: =AE45/AE43 -> 0.099284306 | AF46: =AF45/AF43 -> 0.12308691 | AG46: =AG45/AG43 -> 0.10177097 | AH46: =AH45/AH43 -> 0.098443014 | AI46: =AI45/AI43 -> 0.13044212 | AJ46: =AJ45/AJ43 -> 0.13875484 | AK46: =AK45/AK43 -> 0.10252101 | ... AW46: =AW45/AW43 -> 0.23343945
D47: RSD% | I47: =I46*100 -> 18.54836 | J47: =J46*100 -> 1.7118909 | K47: =K46*100 -> 0.4756328 | L47: =L46*100 -> 14.725381 | M47: =M46*100 -> 12.251913 | N47: =N46*100 -> 6.2971794 | O47: =O46*100 -> 32.858885 | P47: =P46*100 -> 55.549951 | ... V47: =V46*100 -> 17.638342 | X47: =X46*100 -> 7.3332061 | Y47: =Y46*100 -> 12.232098 | Z47: =Z46*100 -> 17.693637 | AA47: =AA46*100 -> 28.481118 | AB47: =AB46*100 -> 63.155628 | AD47: =AD46*100 -> 39.012788 | AE47: =AE46*100 -> 9.9284306 | AF47: =AF46*100 -> 12.308691 | AG47: =AG46*100 -> 10.177097 | AH47: =AH46*100 -> 9.8443014 | AI47: =AI46*100 -> 13.044212 | AJ47: =AJ46*100 -> 13.875484 | AK47: =AK46*100 -> 10.252101 | ... AW47: =AW46*100 -> 23.343945
A49: 42. Exp CHV-E156 | B49: CH-V-6C | C49: Glass | D49: CHVE156-7 | F49: 1200 | G49: 0.0001 | H49: IW-1 | I49: 117.3 | J49: 193259.92 | K49: 129932.63 | L49: 57.56 | M49: 15233.21 | N49: n.a. | O49: 2.21 | P49: 119.94 | Q49: 2127.22 | R49: 55.09 | S49: 9.74 | T49: 0.36 | U49: <DL | V49: 1.27 | W49: 6.31 | X49: 378.72 | Y49: 65.21 | Z49: 160.9 | AA49: 302.9 | AB49: 1.28 | AC49: 0.993 | AD49: 239.57 | AE49: 38.56 | AF49: 52.56 | AG49: 7.65 | AH49: 57.65 | AI49: 24.07 | AJ49: 7.36 | AK49: 14.2 | AL49: 6.83 | AM49: 26.97 | AN49: 5.62 | AO49: 13.65 | AP49: 6.91 | AQ49: 14.06 | AR49: 10.13 | AS49: 20.26 | AT49: 25.36 | AU49: <DL | AV49: 72.21 | AW49: 29.38 | AZ49: 12.86 | BA49: 27282.1 | BB49: 4117.73 | BC49: 5.02 | BD49: 3667.22 | BF49: 0.2 | BG49: 23.64 | BH49: 189.26 | BI49: 5.64 | BJ49: 1.36 | BK49: 0.089 | BL49: 0.29 | BM49: 0.28 | BN49: 0.56 | BO49: 28.15 | BP49: 6.04 | BQ49: 15.36 | BR49: 25.29 | BS49: 0.18 | BT49: 0.089 | BU49: 27.19 | BV49: 2.58 | BW49: 3.64 | BX49: 0.49 | BY49: 5.93 | BZ49: 2.47 | CA49: 0.73 | CB49: 1.41 | CC49: 0.43 | CD49: 2.26 | CE49: 0.44 | CF49: 1.29 | CG49: 0.67 | CH49: 1.17 | CI49: 0.69 | CJ49: 1.87 | CK49: 2.09 | CL49: 0.0028 | CM49: 6.27 | CN49: 2.71 | CQ49: 0.307 | CR49: 27.47 | CS49: 27.46 | CT49: 0.0537 | CU49: 1.58 | CV49: n.a. | CW49: 0.0261 | CX49: 0.894 | CY49: 0.177 | CZ49: 0.0537 | DA49: 0.511 | DB49: 0.151 | DC49: 0.701 | DD49: 0.124 | DE49: 0.0559 | DF49: 0.0455 | DG49: 0.00993 | DH49: 0.0212 | DI49: 0.0472 | DJ49: 0.0267 | DK49: 0.0422 | DL49: 0.0989 | DM49: 0.00266 | DN49: 0.00431 | DO49: =AVERAGE(DO57,DO53) -> 0.006945 | DP49: =AVERAGE(DP52:DP55) -> 0.036025 | DQ49: 0.0188 | DR49: 0.00879 | DS49: 0.0449 | DT49: 0.00186 | DU49: 0.00738 | DV49: 0.004345 | DW49: 0.00931 | DX49: =AVERAGE(DX53,DX56) -> 0.00469 | DY49: 0.015633333 | DZ49: 0.00174 | EA49: 0.015933333 | EB49: 0.00209 | EC49: 0.00551 | ED49: =AVERAGE(ED22:ED28) -> 0.0027066667 | EE49: 0.00376
A50: 42. Exp CHV-E156 | B50: CH-V-6C | C50: Glass | D50: CHVE156-9 | F50: 1200 | G50: 0.0001 | H50: IW-1 | I50: 114.13 | J50: 192225.59 | K50: 130575.86 | L50: 57.19 | M50: 14908.37 | N50: n.a. | O50: 2.17 | P50: 115.38 | Q50: 2210.89 | R50: 56.37 | S50: 9.72 | T50: 0.353 | U50: <DL | V50: 1.21 | W50: 6.17 | X50: 371.45 | Y50: 65.39 | Z50: 158.11 | AA50: 308.07 | AB50: 1.18 | AC50: 1.101 | AD50: 240.92 | AE50: 39.32 | AF50: 51.65 | AG50: 7.61 | AH50: 58.55 | AI50: 23.15 | AJ50: 7.02 | AK50: 13.21 | AL50: 6.75 | AM50: 26.34 | AN50: 5.72 | AO50: 13.47 | AP50: 6.62 | AQ50: 13.75 | AR50: 10.36 | AS50: 19.73 | AT50: 24.41 | AU50: 0.0053 | AV50: 72.65 | AW50: 27.56 | AZ50: 12.52 | BA50: 27148.88 | BB50: 4138.02 | BC50: 5 | BD50: 3595.15 | BF50: 0.19 | BG50: 22.78 | BH50: 196.95 | BI50: 5.78 | BJ50: 1.36 | BK50: 0.09 | BL50: 0.27 | BM50: 0.27 | BN50: 0.55 | BO50: 27.65 | BP50: 6.07 | BQ50: 15.12 | BR50: 25.77 | BS50: 0.17 | BT50: 0.097 | BU50: 27.39 | BV50: 2.63 | BW50: 3.58 | BX50: 0.49 | BY50: 6.03 | BZ50: 2.38 | CA50: 0.69 | CB50: 1.32 | CC50: 0.42 | CD50: 2.21 | CE50: 0.45 | CF50: 1.27 | CG50: 0.64 | CH50: 1.15 | CI50: 0.71 | CJ50: 1.82 | CK50: 2.01 | CL50: 0.0021 | CM50: 6.31 | CN50: 2.54 | CQ50: 0.301 | CR50: 27.5 | CS50: 28.9 | CT50: 0.0557 | CU50: 1.63 | CV50: n.a. | CW50: 0.026 | CX50: 0.977 | CY50: 0.179 | CZ50: 0.0606 | DA50: 0.479 | DB50: 0.159 | DC50: 0.651 | DD50: 0.113 | DE50: 0.0574 | DF50: 0.0448 | DG50: 0.00349 | DH50: 0.0299 | DI50: 0.0502 | DJ50: =AVERAGE(DJ49,DJ57,DJ56,DJ55,DJ54,DJ53) -> 0.18761667 | DK50: 0.0343 | DL50: 0.0982 | DM50: =AVERAGE(DM54:DM57,DM49,DM51) -> 0.0029816667 | DN50: 0.00303 | DO50: 0.006945 | DP50: 0.036025 | DQ50: 0.0188 | DR50: =AVERAGE(DR49,DR56:DR57,DR56,DR55,DR54,DR53) -> 0.012641429 | DS50: 0.012 | DT50: 0.00261 | DU50: =AVERAGE(DU49,DU54,DU56,DU57) -> 0.01277 | DV50: 0.004345 | DW50: 0.00931 | DX50: 0.00469 | DY50: 0.015633333 | DZ50: 0.00065 | EA50: 0.015933333 | EB50: 0.00415 | EC50: =AVERAGE(EC51:EC57) -> 0.014007143 | ED50: 0.0027066667 | EE50: 0.00376
A51: 42. Exp CHV-E156 | B51: CH-V-6C | C51: Glass | D51: CHVE156-10 | F51: 1200 | G51: 0.0001 | H51: IW-1 | I51: 116.76 | J51: 190697.94 | K51: 130289.98 | L51: 57.19 | M51: 15183.19 | N51: n.a. | O51: 2.2 | P51: 121.8 | Q51: 2176.39 | R51: 59.6 | S51: 9.34 | T51: 0.316 | U51: 0.88 | V51: 1.25 | W51: 6.37 | X51: 366.57 | Y51: 67.58 | Z51: 164.02 | AA51: 314.52 | AB51: 1.15 | AC51: 1.098 | AD51: 246.46 | AE51: 39.85 | AF51: 53.22 | AG51: 8.24 | AH51: 58.88 | AI51: 23.98 | AJ51: 7.4 | AK51: 14.14 | AL51: 7 | AM51: 26.77 | AN51: 5.65 | AO51: 14.05 | AP51: 6.53 | AQ51: 14.73 | AR51: 10.38 | AS51: 20.08 | AT51: 25.79 | AU51: <DL | AV51: 76.49 | AW51: 28.29 | AZ51: 12.83 | BA51: 26945.54 | BB51: 4127.38 | BC51: 5 | BD51: 3667.65 | BF51: 0.2 | BG51: 24.08 | BH51: 194.12 | BI51: 6.12 | BJ51: 1.31 | BK51: 0.076 | BL51: 0.29 | BM51: 0.27 | BN51: 0.57 | BO51: 27.32 | BP51: 6.28 | BQ51: 15.72 | BR51: 26.35 | BS51: 0.16 | BT51: 0.097 | BU51: 28.06 | BV51: 2.67 | BW51: 3.7 | BX51: 0.53 | BY51: 6.07 | BZ51: 2.47 | CA51: 0.73 | CB51: 1.41 | CC51: 0.44 | CD51: 2.25 | CE51: 0.45 | CF51: 1.33 | CG51: 0.63 | CH51: 1.23 | CI51: 0.71 | CJ51: 1.85 | CK51: 2.13 | CL51: 0.0027 | CM51: 6.66 | CN51: 2.61 | CQ51: 0.315 | CR51: 28.46 | CS51: 27.46 | CT51: 0.0531 | CU51: 1.6 | CV51: n.a. | CW51: 0.0217 | CX51: 1.02 | CY51: 0.184 | CZ51: 0.0561 | DA51: 0.488 | DB51: 0.132 | DC51: 0.619 | DD51: 0.0832 | DE51: 0.0608 | DF51: 0.0423 | DG51: =AVERAGE(DH49:DH50,DH57,DH56,DH55,DH54) -> 0.0361 | DH51: 0.0231 | DI51: 0.0509 | DJ51: 0.18761667 | DK51: 0.0394 | DL51: 0.0804 | DM51: 0.00097 | DN51: 0.0060416667 | DO51: 0.006945 | DP51: 0.036025 | DQ51: 0.0188 | DR51: 0.012641429 | DS51: =AVERAGE(DS50,DS57,DS55:DS56,DS54) -> 0.0449 | DT51: 0.00192 | DU51: 0.01277 | DV51: 0.00272 | DW51: 0.00931 | DX51: 0.00469 | DY51: 0.0126 | DZ51: =AVERAGE(DZ56,DZ55,DZ50) -> 0.00174 | EA51: 0.015933333 | EB51: 0.00306 | EC51: 0.00571 | ED51: 0.0027066667 | EE51: 0.00376
A52: 42. Exp CHV-E156 | B52: CH-V-6C | C52: Glass | D52: CHVE156-11 | F52: 1200 | G52: 0.0001 | H52: IW-1 | I52: 119.73 | J52: 191151.11 | K52: 131290.58 | L52: 55.66 | M52: 15310.71 | N52: n.a. | O52: 2.17 | P52: 119.81 | Q52: 2218.9 | R52: 56.16 | S52: 9.09 | T52: 0.335 | U52: <DL | V52: 1.76 | W52: 6.11 | X52: 378.47 | Y52: 67.96 | Z52: 169.78 | AA52: 319.71 | AB52: 1.04 | AC52: 1.096 | AD52: 259.4 | AE52: 40.24 | AF52: 53.18 | AG52: 8.34 | AH52: 60.85 | AI52: 24.74 | AJ52: 7.45 | AK52: 13.85 | AL52: 7.05 | AM52: 27.11 | AN52: 5.77 | AO52: 13.77 | AP52: 6.94 | AQ52: 14.34 | AR52: 10.58 | AS52: 20.34 | AT52: 26.14 | AU52: <DL | AV52: 74.47 | AW52: 29.56 | AZ52: 13.17 | BA52: 27022.73 | BB52: 4160.85 | BC52: 4.88 | BD52: 3704.79 | BF52: 0.2 | BG52: 23.74 | BH52: 198.17 | BI52: 5.78 | BJ52: 1.28 | BK52: 0.095 | BL52: 0.27 | BM52: 0.38 | BN52: 0.55 | BO52: 28.25 | BP52: 6.33 | BQ52: 16.3 | BR52: 26.82 | BS52: 0.15 | BT52: 0.098 | BU52: 29.58 | BV52: 2.7 | BW52: 3.7 | BX52: 0.54 | BY52: 6.29 | BZ52: 2.55 | CA52: 0.74 | CB52: 1.39 | CC52: 0.44 | CD52: 2.28 | CE52: 0.46 | CF52: 1.3 | CG52: 0.67 | CH52: 1.2 | CI52: 0.73 | CJ52: 1.88 | CK52: 2.16 | CL52: 0.0032 | CM52: 6.49 | CN52: 2.74 | CQ52: 0.311 | CR52: 28.41 | CS52: 30.18 | CT52: 0.0505 | CU52: 1.7 | CV52: n.a. | CW52: 0.0285 | CX52: 1.07 | CY52: 0.184 | CZ52: 0.059 | DA52: 0.503 | DB52: 0.181 | DC52: 0.665 | DD52: 0.0969 | DE52: 0.0619 | DF52: 0.0498 | DG52: 0.0361 | DH52: 0.0274 | DI52: 0.0493 | DJ52: 0.18761667 | DK52: 0.0425 | DL52: 0.0927 | DM52: 0.00096 | DN52: 0.0031 | DO52: 0.006945 | DP52: 0.0221 | DQ52: 0.0188 | DR52: 0.012641429 | DS52: 0.0174 | DT52: 0.003222 | DU52: 0.01277 | DV52: =AVERAGE(DV57,DV51) -> 0.004345 | DW52: 0.00931 | DX52: 0.00469 | DY52: =AVERAGE(DY51,DY56,DY57) -> 0.015633333 | DZ52: 0.00174 | EA52: 0.015933333 | EB52: 0.00301 | EC52: 0.00794 | ED52: 0.0027066667 | EE52: 0.00376
A53: 42. Exp CHV-E156 | B53: CH-V-6C | C53: Glass | D53: CHVE156-gl-1 | F53: 1200 | G53: 0.0001 | H53: IW-1 | I53: 116.65 | J53: 182535.89 | K53: 130461.52 | L53: 54.49 | M53: 15800.28 | N53: 14942.98 | O53: 2.19 | P53: 117.38 | Q53: 2277.28 | R53: 56.49 | S53: 9.76 | T53: <DL | U53: <DL | V53: <DL | W53: 5.67 | X53: 372.69 | Y53: 65.34 | Z53: 156.92 | AA53: 306.78 | AB53: 1.12 | AC53: 1.129 | AD53: 250.98 | AE53: 39.2 | AF53: 52.88 | AG53: 8.14 | AH53: 58.74 | AI53: 23.72 | AJ53: 7.58 | AK53: 13.94 | AL53: 6.73 | AM53: 26.56 | AN53: 5.78 | AO53: 13.79 | AP53: 6.73 | AQ53: 14.37 | AR53: 10.38 | AS53: 20.2 | AT53: 25.75 | AU53: <DL | AV53: 74.19 | AW53: 29.58 | AZ53: 11.22 | BA53: 31893.05 | BB53: 4142.2 | BC53: 2.97 | BD53: 4868.03 | BE53: 2062.31 | BF53: 0.14 | BG53: 12.29 | BH53: 134.07 | BI53: 3.39 | BJ53: 0.93 | BK53: 0.36 | BL53: 0.62 | BM53: 0.28 | BN53: 0.31 | BO53: 17.46 | BP53: 3 | BQ53: 6.27 | BR53: 14.63 | BS53: 0.15 | BT53: 0.059 | BU53: 14.56 | BV53: 1.42 | BW53: 2.14 | BX53: 0.35 | BY53: 3.49 | BZ53: 1.35 | CA53: 0.37 | CB53: 0.73 | CC53: 0.26 | CD53: 1.06 | CE53: 0.2 | CF53: 0.65 | CG53: 0.29 | CH53: 0.61 | CI53: 0.35 | CJ53: 0.89 | CK53: 0.98 | CL53: 0.0051 | CM53: 2.99 | CN53: 1.18 | CQ53: 1.42 | CR53: 88.49 | CS53: 68.17 | CT53: 0.105 | CU53: 9.22 | CV53: 2 | CW53: 0.074 | CX53: 0.38 | CY53: 0.357 | CZ53: 0.228 | DA53: 0.91 | DB53: 0.91 | DC53: 1.48 | DD53: 0.536 | DE53: 0.167 | DF53: 0.0529 | DG53: 0.0126 | DH53: 0.0396 | DI53: 0.0116 | DJ53: 0.237 | DK53: 0.0565 | DL53: 0.0965 | DM53: 0.0029816667 | DN53: 0.00694 | DO53: 0.00425 | DP53: 0.0289 | DQ53: 0.0188 | DR53: 0.0134 | DS53: 0.0484 | DT53: 0.00317 | DU53: 0.01277 | DV53: 0.004345 | DW53: 0.00931 | DX53: 0.00581 | DY53: 0.015633333 | DZ53: 0.00171 | EA53: 0.015933333 | EB53: 0.00637 | EC53: 0.0105 | ED53: 0.0027066667 | EE53: 0.00376
A54: 42. Exp CHV-E156 | B54: CH-V-6C | C54: Glass | D54: CHVE156-gl-2 | F54: 1200 | G54: 0.0001 | H54: IW-1 | I54: 117.71 | J54: 183015.72 | K54: 130461.52 | L54: 55.47 | M54: 15743.98 | N54: 14812.31 | O54: 2.14 | P54: 111.13 | Q54: 2262.8 | R54: 56.14 | S54: 9.66 | T54: <DL | U54: 1.53 | V54: 1.32 | W54: 6.03 | X54: 366.37 | Y54: 64.69 | Z54: 159.52 | AA54: 307.47 | AB54: 1.09 | AC54: 0.934 | AD54: 252.82 | AE54: 39.35 | AF54: 53.17 | AG54: 8.12 | AH54: 59.72 | AI54: 24.48 | AJ54: 7.48 | AK54: 14.2 | AL54: 6.73 | AM54: 26.11 | AN54: 5.83 | AO54: 13.94 | AP54: 6.67 | AQ54: 13.82 | AR54: 10.4 | AS54: 20.06 | AT54: 25.32 | AU54: <DL | AV54: 74.16 | AW54: 29.35 | AZ54: 11.35 | BA54: 31976.8 | BB54: 4142.75 | BC54: 3.04 | BD54: 4888.69 | BE54: 2061.41 | BF54: 0.14 | BG54: 11.73 | BH54: 133.5 | BI54: 3.39 | BJ54: 0.92 | BK54: 0.39 | BL54: 0.68 | BM54: 0.67 | BN54: 0.33 | BO54: 17.24 | BP54: 2.98 | BQ54: 6.39 | BR54: 14.73 | BS54: 0.15 | BT54: 0.054 | BU54: 14.76 | BV54: 1.43 | BW54: 2.16 | BX54: 0.35 | BY54: 3.57 | BZ54: 1.4 | CA54: 0.36 | CB54: 0.74 | CC54: 0.26 | CD54: 1.05 | CE54: 0.21 | CF54: 0.66 | CG54: 0.29 | CH54: 0.59 | CI54: 0.35 | CJ54: 0.89 | CK54: 0.96 | CL54: 0.007 | CM54: 3 | CN54: 1.18 | CQ54: 1.45 | CR54: 93.63 | CS54: 67.68 | CT54: 0.093 | CU54: 9.49 | CV54: 1.88 | CW54: 0.087 | CX54: 0.181 | CY54: 0.353 | CZ54: 0.218 | DA54: 0.874 | DB54: 0.975 | DC54: 1.34 | DD54: 0.528 | DE54: 0.156 | DF54: 0.0492 | DG54: 0.0136 | DH54: 0.0442 | DI54: 0.0168 | DJ54: 0.243 | DK54: 0.0696 | DL54: 0.119 | DM54: 0.0018 | DN54: 0.00717 | DO54: 0.006945 | DP54: 0.0653 | DQ54: 0.0188 | DR54: 0.00693 | DS54: 0.0465 | DT54: 0.00655 | DU54: 0.0154 | DV54: 0.004345 | DW54: 0.00931 | DX54: 0.00469 | DY54: 0.015633333 | DZ54: 0.00174 | EA54: 0.015933333 | EB54: 0.00646 | EC54: 0.0142 | ED54: 0.0027066667 | EE54: 0.00376
A55: 42. Exp CHV-E156 | B55: CH-V-6C | C55: Glass | D55: CHVE156-gl-3 | F55: 1200 | G55: 0.0001 | H55: IW-1 | I55: 117.45 | J55: 184683.27 | K55: 130461.53 | L55: 56.97 | M55: 15624.5 | N55: 14766.97 | O55: 2.34 | P55: 127.04 | Q55: 2266.69 | R55: 55.81 | S55: 9.68 | T55: <DL | U55: <DL | V55: <DL | W55: 6.24 | X55: 370.96 | Y55: 65.09 | Z55: 156.14 | AA55: 304.01 | AB55: 0.98 | AC55: 1.033 | AD55: 246.76 | AE55: 39.02 | AF55: 53.08 | AG55: 8.18 | AH55: 59.27 | AI55: 24.47 | AJ55: 7.36 | AK55: 14.28 | AL55: 6.89 | AM55: 26.07 | AN55: 5.77 | AO55: 13.71 | AP55: 6.83 | AQ55: 13.72 | AR55: 10.32 | AS55: 19.98 | AT55: 25.01 | AU55: <DL | AV55: 73.14 | AW55: 28.7 | AZ55: 11.36 | BA55: 32268.59 | BB55: 4146.1 | BC55: 3.13 | BD55: 4889.5 | BE55: 2072.35 | BF55: 0.16 | BG55: 13.51 | BH55: 134.03 | BI55: 3.39 | BJ55: 0.95 | BK55: 0.39 | BL55: 0.63 | BM55: 0.18 | BN55: 0.34 | BO55: 17.55 | BP55: 3.02 | BQ55: 6.28 | BR55: 14.63 | BS55: 0.14 | BT55: 0.058 | BU55: 14.51 | BV55: 1.42 | BW55: 2.16 | BX55: 0.36 | BY55: 3.57 | BZ55: 1.42 | CA55: 0.36 | CB55: 0.76 | CC55: 0.27 | CD55: 1.06 | CE55: 0.21 | CF55: 0.65 | CG55: 0.3 | CH55: 0.6 | CI55: 0.35 | CJ55: 0.9 | CK55: 0.96 | CL55: 0.0061 | CM55: 2.97 | CN55: 1.16 | CQ55: 1.36 | CR55: 85.18 | CS55: 65.29 | CT55: 0.0892 | CU55: 9.05 | CV55: 1.65 | CW55: 0.0864 | CX55: 0.605 | CY55: 0.341 | CZ55: 0.209 | DA55: 0.904 | DB55: 0.927 | DC55: 1.5 | DD55: 0.451 | DE55: 0.146 | DF55: 0.0515 | DG55: 0.0109 | DH55: 0.0299 | DI55: 0.0198 | DJ55: 0.168 | DK55: 0.0591 | DL55: 0.0914 | DM55: 0.00304 | DN55: 0.0060416667 | DO55: 0.006945 | DP55: 0.0278 | DQ55: 0.0188 | DR55: 0.00597 | DS55: 0.0442 | DT55: =AVERAGE(DT49:DT51,DT53,DT54) -> 0.003222 | DU55: 0.01277 | DV55: 0.004345 | DW55: 0.00931 | DX55: 0.00469 | DY55: 0.015633333 | DZ55: 0.00147 | EA55: 0.015933333 | EB55: 0.00586 | EC55: 0.0152 | ED55: 0.0027066667 | EE55: 0.00376
A56: 42. Exp CHV-E156 | B56: CH-V-6C | C56: Glass | D56: CHVE156-gl-4 | F56: 1200 | G56: 0.0001 | H56: IW-1 | I56: 118.6 | J56: 186509.64 | K56: 130461.54 | L56: 56.55 | M56: 15717.06 | N56: 14659.33 | O56: 2.21 | P56: 121.01 | Q56: 2274.01 | R56: 56.46 | S56: 9.03 | T56: <DL | U56: <DL | V56: <DL | W56: 6.22 | X56: 365.96 | Y56: 64.68 | Z56: 154.12 | AA56: 300.56 | AB56: 0.96 | AC56: 1.033 | AD56: 247.17 | AE56: 38.48 | AF56: 52.63 | AG56: 7.94 | AH56: 58.15 | AI56: 23.58 | AJ56: 7.54 | AK56: 13.67 | AL56: 6.89 | AM56: 26.16 | AN56: 5.8 | AO56: 13.43 | AP56: 6.77 | AQ56: 13.35 | AR56: 10.24 | AS56: 20.26 | AT56: 25.03 | AU56: <DL | AV56: 72.27 | AW56: 28.4 | AZ56: 11.49 | BA56: 32586.82 | BB56: 4141.96 | BC56: 3.12 | BD56: 4956.68 | BE56: 2074.29 | BF56: 0.15 | BG56: 12.94 | BH56: 134.72 | BI56: 3.44 | BJ56: 0.9 | BK56: 0.4 | BL56: 0.62 | BM56: 0.27 | BN56: 0.34 | BO56: 17.38 | BP56: 3.01 | BQ56: 6.21 | BR56: 14.53 | BS56: 0.14 | BT56: 0.058 | BU56: 14.61 | BV56: 1.41 | BW56: 2.15 | BX56: 0.35 | BY56: 3.52 | BZ56: 1.36 | CA56: 0.37 | CB56: 0.72 | CC56: 0.27 | CD56: 1.06 | CE56: 0.21 | CF56: 0.64 | CG56: 0.29 | CH56: 0.57 | CI56: 0.34 | CJ56: 0.9 | CK56: 0.96 | CL56: 0.0094 | CM56: 2.94 | CN56: 1.15 | CQ56: 1.59 | CR56: 97.08 | CS56: 79.2 | CT56: 0.0831 | CU56: 10.08 | CV56: 1.84 | CW56: 0.106 | CX56: 0.675 | CY56: 0.375 | CZ56: 0.212 | DA56: 1.04 | DB56: 0.998 | DC56: 1.55 | DD56: 0.551 | DE56: 0.173 | DF56: 0.0496 | DG56: 0.00627 | DH56: 0.0406 | DI56: 0.0174 | DJ56: 0.215 | DK56: 0.0737 | DL56: 0.0738 | DM56: 0.00583 | DN56: 0.0117 | DO56: 0.006945 | DP56: 0.036025 | DQ56: 0.0188 | DR56: 0.0171 | DS56: 0.0689 | DT56: 0.003222 | DU56: 0.014 | DV56: 0.004345 | DW56: 0.00931 | DX56: 0.00357 | DY56: 0.0175 | DZ56: 0.0031 | EA56: 0.015933333 | EB56: 0.00833 | EC56: 0.0253 | ED56: 0.0027066667 | EE56: 0.00376
A57: 42. Exp CHV-E156 | B57: CH-V-6C | C57: Glass | D57: CHVE156-gl-5 | F57: 1200 | G57: 0.0001 | H57: IW-1 | I57: 117.29 | J57: 184698.59 | K57: 130461.54 | L57: 55.94 | M57: 15596.74 | N57: 14748.2 | O57: 2.26 | P57: 118.31 | Q57: 2249.58 | R57: 56.02 | S57: 9.28 | T57: <DL | U57: <DL | V57: 0.75 | W57: 5.94 | X57: 370.55 | Y57: 64.68 | Z57: 155.45 | AA57: 301.43 | AB57: 0.87 | AC57: 0.982 | AD57: 247.85 | AE57: 38.55 | AF57: 52.43 | AG57: 8.13 | AH57: 60.12 | AI57: 23.84 | AJ57: 7.21 | AK57: 14.07 | AL57: 6.62 | AM57: 26.23 | AN57: 5.61 | AO57: 13.62 | AP57: 6.57 | AQ57: 13.94 | AR57: 10.18 | AS57: 20.38 | AT57: 24.77 | AU57: <DL | AV57: 72.85 | AW57: 29.18 | AZ57: 11.38 | BA57: 32270.15 | BB57: 4141.2 | BC57: 3.09 | BD57: 4956.83 | BE57: 2104.18 | BF57: 0.15 | BG57: 12.73 | BH57: 133.56 | BI57: 3.43 | BJ57: 0.9 | BK57: 0.38 | BL57: 0.67 | BM57: 0.45 | BN57: 0.33 | BO57: 17.68 | BP57: 3.02 | BQ57: 6.28 | BR57: 14.63 | BS57: 0.14 | BT57: 0.055 | BU57: 14.74 | BV57: 1.41 | BW57: 2.15 | BX57: 0.35 | BY57: 3.66 | BZ57: 1.38 | CA57: 0.36 | CB57: 0.75 | CC57: 0.26 | CD57: 1.06 | CE57: 0.2 | CF57: 0.65 | CG57: 0.28 | CH57: 0.6 | CI57: 0.34 | CJ57: 0.91 | CK57: 0.95 | CL57: 0.0073 | CM57: 2.98 | CN57: 1.19 | CQ57: 1.46 | CR57: 92.72 | CS57: 71.47 | CT57: 0.105 | CU57: 9.67 | CV57: 1.82 | CW57: 0.0811 | CX57: 0.555 | CY57: 0.375 | CZ57: 0.23 | DA57: 0.937 | DB57: 0.973 | DC57: 1.69 | DD57: 0.677 | DE57: 0.162 | DF57: 0.0546 | DG57: 0.0137 | DH57: 0.0508 | DI57: 0.0141 | DJ57: 0.236 | DK57: 0.0674 | DL57: 0.0461 | DM57: 0.00359 | DN57: =AVERAGE(DN56,DN52:DN54,DN49:DN50) -> 0.0060416667 | DO57: 0.00964 | DP57: 0.036025 | DQ57: 0.0188 | DR57: 0.0192 | DS57: 0.0529 | DT57: 0.00538 | DU57: 0.0143 | DV57: 0.00597 | DW57: 0.00931 | DX57: 0.00469 | DY57: 0.0168 | DZ57: 0.00174 | EA57: 0.015933333 | EB57: 0.00998 | EC57: 0.0192 | ED57: 0.0027066667 | EE57: 0.00376
D58: Average | I58: =AVERAGE(I49:I57) -> 117.29111 | J58: =AVERAGE(J50:J57) -> 186939.72 | K58: =AVERAGE(K50:K57) -> 130558.01 | L58: =AVERAGE(L50:L57) -> 56.1825 | M58: =AVERAGE(M50:M57) -> 15485.604 | N58: =AVERAGE(N50:N57) -> 14785.958 | O58: =AVERAGE(O50:O57) -> 2.21 | P58: =AVERAGE(P50:P57) -> 118.9825 | Q58: =AVERAGE(Q50:Q57) -> 2242.0675 | ... AW58: =AVERAGE(AW50:AW57) -> 28.8275
D59: Median | I59: =MEDIAN(I49:I57) -> 117.3 | J59: =MEDIAN(J50:J57) -> 185604.11 | K59: =MEDIAN(K50:K57) -> 130461.54 | L59: =MEDIAN(L50:L57) -> 56.245 | M59: =MEDIAN(M50:M57) -> 15610.62 | N59: =MEDIAN(N50:N57) -> 14766.97 | O59: =MEDIAN(O50:O57) -> 2.195 | P59: =MEDIAN(P50:P57) -> 119.06 | Q59: =MEDIAN(Q50:Q57) -> 2256.19 | ... AW59: =MEDIAN(AW50:AW57) -> 28.94
D60: Stdev | I60: =STDEV(I49:I57) -> 1.5226576 | J60: =STDEV(J50:J57) -> 3870.9751 | K60: =STDEV(K50:K57) -> 305.9784 | L60: =STDEV(L50:L57) -> 0.96283436 | M60: =STDEV(M50:M57) -> 317.63311 | N60: =STDEV(N50:N57) -> 103.8884 | O60: =STDEV(O50:O57) -> 0.063245553 | P60: =STDEV(P50:P57) -> 4.7104314 | Q60: =STDEV(Q50:Q57) -> 36.203963 | ... AT60: =STDEV(AT50:AT57) -> 0.58242719 | AV60: =STDEV(AV50:AV57) -> 1.3608899 | AW60: =STDEV(AW50:AW57) -> 0.71659413
D61: RSD | I61: =I60/I58 -> 0.012981867 | J61: =J60/J58 -> 0.020707077 | K61: =K60/K58 -> 0.0023436203 | L61: =L60/L58 -> 0.01713762 | M61: =M60/M58 -> 0.02051151 | N61: =N60/N58 -> 0.0070261527 | O61: =O60/O58 -> 0.028617897 | P61: =P60/P58 -> 0.039589279 | ... AT61: =AT60/AT58 -> 0.023041329 | AV61: =AV60/AV58 -> 0.018445867 | AW61: =AW60/AW58 -> 0.024858005
D62: RSD% | I62: =I61*100 -> 1.2981867 | J62: =J61*100 -> 2.0707077 | K62: =K61*100 -> 0.23436203 | L62: =L61*100 -> 1.713762 | M62: =M61*100 -> 2.051151 | N62: =N61*100 -> 0.70261527 | O62: =O61*100 -> 2.8617897 | P62: =P61*100 -> 3.9589279 | ... AT62: =AT61*100 -> 2.3041329 | AV62: =AV61*100 -> 1.8445867 | AW62: =AW61*100 -> 2.4858005
A64: 42. Exp CHV-E155 | B64: CH-V-6C | C64: Clinopyroxene | D64: CHVE155-cpx-1 | F64: 1200 | G64: 0.0001 | H64: IW-1 | I64: 8.58 | J64: 233483.58 | K64: 168312.11 | L64: 244.82 | M64: 8153.11 | N64: 7416.16 | O64: 21.83 | P64: 1708.4 | Q64: 875.86 | R64: 75.19 | S64: 26.25 | T64: <DL | U64: <DL | V64: <DL | W64: <DL | X64: 35 | Y64: 23.79 | Z64: 47.78 | AA64: 3.59 | AB64: 1.03 | AC64: <DL | AD64: 0.69 | AE64: 3.21 | AF64: 6.44 | AG64: 1.5 | AH64: 13.66 | AI64: 8.48 | AJ64: 1.23 | AK64: 5.62 | AL64: 2.58 | AM64: 10.23 | AN64: 2.15 | AO64: 5.28 | AP64: 2.53 | AQ64: 4.8 | AR64: 4.01 | AS64: 12.59 | AT64: 0.504 | AU64: 0.186 | AV64: 1.38 | AW64: 0.312 | AZ64: 1.95 | BA64: 43425.68 | BB64: 5399.17 | BC64: 15.87 | BD64: 4574.79 | BE64: 1115.2 | BF64: 1.52 | BG64: 267.16 | BH64: 58.25 | BI64: 5.53 | BJ64: 3.04 | BK64: 1.1 | BL64: 1.68 | BM64: 0.62 | BN64: 0.17 | BO64: 2.32 | BP64: 1.39 | BQ64: 3.3 | BR64: 0.28 | BS64: 0.31 | BT64: 0.068 | BU64: 0.21 | BV64: 0.23 | BW64: 0.6 | BX64: 0.14 | BY64: 1.21 | BZ64: 1 | CA64: 0.14 | CB64: 0.65 | CC64: 0.24 | CD64: 0.98 | CE64: 0.22 | CF64: 0.52 | CG64: 0.26 | CH64: 0.51 | CI64: 0.37 | CJ64: 1.21 | CK64: 0.065 | CL64: 0.04 | CM64: 0.14 | CN64: 0.041 | CQ64: 3.28 | CR64: 215.13 | CS64: 156.6 | CT64: 0.235 | CU64: 21.14 | CV64: 3.74 | CW64: 0.144 | CX64: 1.52 | CY64: 0.802 | CZ64: 0.468 | DA64: 2.17 | DB64: 2.33 | DC64: 3.63 | DD64: 1.24 | DE64: 0.363 | DF64: 0.137 | DG64: 0.0311 | DH64: 0.0557 | DI64: 0.0168 | DJ64: 0.448 | DK64: 0.151 | DL64: 0.249 | DM64: 0.00881 | DN64: 0.016275 | DO64: =AVERAGE(DO71,DO67) -> 0.0155 | DP64: 0.1217 | DQ64: 0.1059 | DR64: 0.0266 | DS64: 0.156 | DT64: 0.00883 | DU64: 0.071 | DV64: 0.00938 | DW64: 0.0287 | DX64: =AVERAGE(DX72,DX67:DX69) -> 0.010435 | DY64: 0.036266667 | DZ64: 0.00691 | EA64: 0.0478 | EB64: 0.0128 | EC64: 0.0392 | ED64: 0.00777 | EE64: 0.0128
A65: 42. Exp CHV-E155 | B65: CH-V-6C | C65: Clinopyroxene | D65: CHVE155-cpx-2 | F65: 1200 | G65: 0.0001 | H65: IW-1 | I65: 7.83 | J65: 236804.22 | K65: 168312.11 | L65: 272.8 | M65: 9838.72 | N65: 8903.31 | O65: 29.16 | P65: 2552.53 | Q65: 828.61 | R65: 74.26 | S65: 21.19 | T65: <DL | U65: 3.56 | V65: <DL | W65: <DL | X65: 36.67 | Y65: 24.28 | Z65: 61.05 | AA65: 2.95 | AB65: 1.01 | AC65: <DL | AD65: <DL | AE65: 3.11 | AF65: 6.86 | AG65: 1.43 | AH65: 14.59 | AI65: 8.77 | AJ65: 1.77 | AK65: 6.16 | AL65: 2.73 | AM65: 10.4 | AN65: 2.16 | AO65: 5.13 | AP65: 2.19 | AQ65: 5.18 | AR65: 3.97 | AS65: 16.36 | AT65: 0.92 | AU65: <DL | AV65: 1.17 | AW65: 0.495 | AZ65: 1.83 | BA65: 44053.31 | BB65: 5388.2 | BC65: 17.68 | BD65: 5517.31 | BE65: 1341.5 | BF65: 1.99 | BG65: 399.64 | BH65: 55.12 | BI65: 5.46 | BJ65: 2.54 | BK65: 1.03 | BL65: 1.89 | BM65: 0.78 | BN65: 0.16 | BO65: 2.43 | BP65: 1.41 | BQ65: 4.19 | BR65: 0.23 | BS65: 0.3 | BT65: 0.065 | BU65: 0.093 | BV65: 0.23 | BW65: 0.64 | BX65: 0.13 | BY65: 1.26 | BZ65: 1.01 | CA65: 0.19 | CB65: 0.69 | CC65: 0.25 | CD65: 0.99 | CE65: 0.22 | CF65: 0.5 | CG65: 0.23 | CH65: 0.53 | CI65: 0.37 | CJ65: 1.55 | CK65: 0.1 | CL65: 0.016 | CM65: 0.12 | CN65: 0.057 | CQ65: 3.31 | CR65: 219.64 | CS65: 161.27 | CT65: 0.258 | CU65: 20.73 | CV65: 3.78 | CW65: 0.184 | CX65: 1.68 | CY65: 0.852 | CZ65: 0.488 | DA65: 2.27 | DB65: 2.32 | DC65: 3.19 | DD65: 1.32 | DE65: 0.358 | DF65: 0.129 | DG65: 0.0343 | DH65: 0.0933 | DI65: 0.0378 | DJ65: 0.474 | DK65: 0.147 | DL65: 0.224 | DM65: 0.0067 | DN65: 0.0188 | DO65: 0.0155 | DP65: 0.187 | DQ65: 0.0847 | DR65: 0.0298 | DS65: 0.126 | DT65: 0.012 | DU65: =AVERAGE(DU64,DU66,DU68:DU70,DU70,DU68,DU69,DU72) -> 0.060077778 | DV65: 0.00885 | DW65: =AVERAGE(DW64,DW69,DW71) -> 0.031533333 | DX65: 0.00879 | DY65: 0.035 | DZ65: 0.00427 | EA65: 0.03644 | EB65: 0.0134 | EC65: 0.0297 | ED65: 0.00777 | EE65: 0.0128
A66: 42. Exp CHV-E155 | B66: CH-V-6C | C66: Clinopyroxene | D66: CHVE155-cpx-3 | F66: 1200 | G66: 0.0001 | H66: IW-1 | I66: 9.34 | J66: 236804.89 | K66: 168312.11 | L66: 242.12 | M66: 7904.27 | N66: 7178.59 | O66: 27.48 | P66: 2494.65 | Q66: 790.6 | R66: 73.58 | S66: 18.85 | T66: <DL | U66: <DL | V66: <DL | W66: <DL | X66: 33.81 | Y66: 18.69 | Z66: 41.19 | AA66: 2.26 | AB66: 0.87 | AC66: <DL | AD66: 0.31 | AE66: 2.43 | AF66: 5.53 | AG66: 1.19 | AH66: 12.05 | AI66: 7.3 | AJ66: 1.08 | AK66: 4.54 | AL66: 2.19 | AM66: 8.49 | AN66: 1.8 | AO66: 3.98 | AP66: 1.98 | AQ66: 4.09 | AR66: 3.06 | AS66: 11 | AT66: 0.551 | AU66: <DL | AV66: 0.787 | AW66: 0.243 | AZ66: 1.87 | BA66: 44063.89 | BB66: 5377.77 | BC66: 15.7 | BD66: 4430.46 | BE66: 1084.12 | BF66: 1.87 | BG66: 391.32 | BH66: 52.62 | BI66: 5.4 | BJ66: 2.25 | BK66: 1 | BL66: 1.59 | BM66: 0.45 | BN66: 0.15 | BO66: 2.24 | BP66: 1.09 | BQ66: 2.84 | BR66: 0.18 | BS66: 0.22 | BT66: 0.066 | BU66: 0.11 | BV66: 0.18 | BW66: 0.51 | BX66: 0.11 | BY66: 1.05 | BZ66: 0.85 | CA66: 0.12 | CB66: 0.52 | CC66: 0.2 | CD66: 0.81 | CE66: 0.18 | CF66: 0.39 | CG66: 0.2 | CH66: 0.42 | CI66: 0.28 | CJ66: 1.05 | CK66: 0.065 | CL66: 0.013 | CM66: 0.083 | CN66: 0.031 | CQ66: 3.23 | CR66: 217.26 | CS66: 152.68 | CT66: 0.212 | CU66: 20.54 | CV66: 3.55 | CW66: 0.193 | CX66: 1.72 | CY66: 0.832 | CZ66: 0.473 | DA66: 2.13 | DB66: 2.3 | DC66: 3.53 | DD66: 0.957 | DE66: 0.36 | DF66: 0.11 | DG66: 0.0289 | DH66: 0.115 | DI66: 0.0519 | DJ66: 0.296 | DK66: 0.145 | DL66: 0.144 | DM66: 0.00886 | DN66: 0.0154 | DO66: 0.0155 | DP66: 0.114 | DQ66: 0.1059 | DR66: 0.0287 | DS66: 0.148 | DT66: 0.00883 | DU66: 0.0314 | DV66: 0.0114 | DW66: 0.031533333 | DX66: 0.010435 | DY66: 0.0389 | DZ66: 0.00767 | EA66: 0.03644 | EB66: 0.0187 | EC66: 0.0267 | ED66: 0.00856 | EE66: 0.0128
A67: 42. Exp CHV-E155 | B67: CH-V-6C | C67: Clinopyroxene | D67: CHVE155-cpx-4 | F67: 1200 | G67: 0.0001 | H67: IW-1 | I67: 6.34 | J67: 237070.45 | K67: 168312.11 | L67: 286.03 | M67: 8880.48 | N67: 8176.19 | O67: 37.55 | P67: 3620.4 | Q67: 795.01 | R67: 74.38 | S67: 20.92 | T67: <DL | U67: <DL | V67: 1.08 | W67: <DL | X67: 31.89 | Y67: 21.69 | Z67: 46.44 | AA67: 2.66 | AB67: 0.71 | AC67: <DL | AD67: <DL | AE67: 2.9 | AF67: 5.86 | AG67: 1.38 | AH67: 12.74 | AI67: 7.22 | AJ67: 1.34 | AK67: 4.76 | AL67: 2.42 | AM67: 9.27 | AN67: 1.92 | AO67: 4.16 | AP67: 2.04 | AQ67: 5.04 | AR67: 3.5 | AS67: 13.42 | AT67: 1 | AU67: <DL | AV67: 1 | AW67: 0.353 | AZ67: 1.71 | BA67: 44127.55 | BB67: 5388.11 | BC67: 18.58 | BD67: 4975.92 | BE67: 1237.85 | BF67: 2.54 | BG67: 569.09 | BH67: 52.98 | BI67: 5.48 | BJ67: 2.5 | BK67: 1.05 | BL67: 1.65 | BM67: 0.71 | BN67: 0.16 | BO67: 2.12 | BP67: 1.27 | BQ67: 3.22 | BR67: 0.21 | BS67: 0.24 | BT67: 0.066 | BU67: 0.08 | BV67: 0.21 | BW67: 0.55 | BX67: 0.13 | BY67: 1.12 | BZ67: 0.86 | CA67: 0.15 | CB67: 0.55 | CC67: 0.23 | CD67: 0.89 | CE67: 0.19 | CF67: 0.42 | CG67: 0.21 | CH67: 0.52 | CI67: 0.33 | CJ67: 1.29 | CK67: 0.11 | CL67: 0.02 | CM67: 0.11 | CN67: 0.043 | CQ67: 3.25 | CR67: 220.92 | CS67: 162.18 | CT67: 0.235 | CU67: 20.73 | CV67: 3.5 | CW67: 0.24 | CX67: 1.71 | CY67: 0.812 | CZ67: 0.479 | DA67: 2.18 | DB67: 2.33 | DC67: 3.66 | DD67: 0.799 | DE67: 0.351 | DF67: 0.109 | DG67: 0.041 | DH67: 0.106 | DI67: 0.0385 | DJ67: 0.382 | DK67: 0.153 | DL67: 0.209 | DM67: 0.00891 | DN67: 0.016275 | DO67: 0.0192 | DP67: =AVERAGE(DP65:DP66,DP72) -> 0.1217 | DQ67: 0.125 | DR67: 0.0341 | DS67: 0.128 | DT67: 0.00883 | DU67: 0.060077778 | DV67: =AVERAGE(DV65,DV66,DV72) -> 0.00938 | DW67: 0.031533333 | DX67: 0.0104 | DY67: 0.036266667 | DZ67: 0.00469 | EA67: 0.0379 | EB67: 0.00885 | EC67: 0.0344 | ED67: 0.00698 | EE67: 0.0128
A68: 42. Exp CHV-E155 | B68: CH-V-6C | C68: Clinopyroxene | D68: CHVE155-cpx-5 | F68: 1200 | G68: 0.0001 | H68: IW-1 | I68: 12.55 | J68: 241086.89 | K68: 168312.11 | L68: 224.37 | M68: 6423.35 | N68: 5900.56 | O68: 19.98 | P68: 1569.32 | Q68: 885.32 | R68: 75.81 | S68: 15.28 | T68: <DL | U68: <DL | V68: <DL | W68: <DL | X68: 30.88 | Y68: 19.24 | Z68: 34.06 | AA68: 1.26 | AB68: <DL | AC68: <DL | AD68: <DL | AE68: 2.15 | AF68: 4.59 | AG68: 1.047 | AH68: 11.22 | AI68: 6.49 | AJ68: 1.27 | AK68: 4.31 | AL68: 2.29 | AM68: 8.39 | AN68: 1.73 | AO68: 4.47 | AP68: 1.93 | AQ68: 3.74 | AR68: 3.24 | AS68: 9.79 | AT68: 0.253 | AU68: 0.093 | AV68: 0.632 | AW68: 0.233 | AZ68: 2.16 | BA68: 44886.33 | BB68: 5377.77 | BC68: 14.59 | BD68: 3598.31 | BE68: 895.62 | BF68: 1.38 | BG68: 247.39 | BH68: 59.02 | BI68: 5.58 | BJ68: 1.99 | BK68: 0.99 | BL68: 1.56 | BM68: 0.59 | BN68: 0.15 | BO68: 2.05 | BP68: 1.12 | BQ68: 2.37 | BR68: 0.11 | BS68: 0.26 | BT68: 0.065 | BU68: 0.1 | BV68: 0.16 | BW68: 0.43 | BX68: 0.099 | BY68: 0.98 | BZ68: 0.77 | CA68: 0.14 | CB68: 0.5 | CC68: 0.22 | CD68: 0.81 | CE68: 0.17 | CF68: 0.44 | CG68: 0.2 | CH68: 0.39 | CI68: 0.3 | CJ68: 0.95 | CK68: 0.035 | CL68: 0.023 | CM68: 0.069 | CN68: 0.03 | CQ68: 3.24 | CR68: 217.62 | CS68: 149.87 | CT68: 0.234 | CU68: 20.63 | CV68: 3.24 | CW68: 0.185 | CX68: 1.43 | CY68: 0.834 | CZ68: 0.468 | DA68: 2.34 | DB68: 2.28 | DC68: 3.63 | DD68: 1.17 | DE68: 0.354 | DF68: 0.113 | DG68: 0.0145 | DH68: 0.1 | DI68: 0.0362 | DJ68: 0.548 | DK68: 0.154 | DL68: 0.179 | DM68: 0.00507 | DN68: 0.016275 | DO68: 0.0155 | DP68: 0.1217 | DQ68: =AVERAGE(DQ65,DQ67,DQ71) -> 0.1059 | DR68: 0.0166 | DS68: 0.0436 | DT68: 0.00719 | DU68: 0.048 | DV68: 0.00938 | DW68: 0.031533333 | DX68: 0.00704 | DY68: 0.036266667 | DZ68: 0.00376 | EA68: 0.0295 | EB68: =AVERAGE(EB64:EB67,EB69:EB72) -> 0.013965 | EC68: 0.0254 | ED68: 0.00777 | EE68: 0.0128
A69: 42. Exp CHV-E155 | B69: CH-V-6C | C69: Clinopyroxene | D69: CHVE155-cpx-6 | F69: 1200 | G69: 0.0001 | H69: IW-1 | I69: 8.02 | J69: 236014.59 | K69: 168312.11 | L69: 216.17 | M69: 8028.35 | N69: 7355.38 | O69: 20.06 | P69: 1666.16 | Q69: 851.26 | R69: 73.57 | S69: 21.21 | T69: <DL | U69: <DL | V69: 0.66 | W69: <DL | X69: 36.62 | Y69: 20.95 | Z69: 44.12 | AA69: 1.93 | AB69: 0.66 | AC69: <DL | AD69: <DL | AE69: 2.67 | AF69: 6.2 | AG69: 1.19 | AH69: 12.96 | AI69: 7.75 | AJ69: 1.46 | AK69: 5.01 | AL69: 2.4 | AM69: 9.92 | AN69: 1.92 | AO69: 4.12 | AP69: 2.19 | AQ69: 4.08 | AR69: 3.43 | AS69: 11.62 | AT69: 0.558 | AU69: <DL | AV69: 0.776 | AW69: 0.272 | AZ69: 1.78 | BA69: 43955.16 | BB69: 5378.64 | BC69: 14.08 | BD69: 4496.84 | BE69: 1119.25 | BF69: 1.39 | BG69: 263.26 | BH69: 56.8 | BI69: 5.43 | BJ69: 2.5 | BK69: 0.98 | BL69: 1.71 | BM69: 0.46 | BN69: 0.16 | BO69: 2.43 | BP69: 1.22 | BQ69: 3.06 | BR69: 0.16 | BS69: 0.21 | BT69: 0.066 | BU69: 0.13 | BV69: 0.2 | BW69: 0.58 | BX69: 0.11 | BY69: 1.12 | BZ69: 0.9 | CA69: 0.16 | CB69: 0.57 | CC69: 0.23 | CD69: 0.95 | CE69: 0.19 | CF69: 0.41 | CG69: 0.23 | CH69: 0.42 | CI69: 0.32 | CJ69: 1.12 | CK69: 0.066 | CL69: 0.013 | CM69: 0.083 | CN69: 0.034 | CQ69: 3.27 | CR69: 221.84 | CS69: 156.78 | CT69: 0.223 | CU69: 21.18 | CV69: 3.88 | CW69: 0.21 | CX69: 1.16 | CY69: 0.895 | CZ69: 0.467 | DA69: 2.23 | DB69: 2.29 | DC69: 3.19 | DD69: 0.547 | DE69: 0.365 | DF69: 0.12 | DG69: 0.0243 | DH69: 0.0834 | DI69: 0.0471 | DJ69: 0.324 | DK69: 0.156 | DL69: 0.3 | DM69: =AVERAGE(DM64:DM68,DM72,DM70) -> 0.0068085714 | DN69: 0.0187 | DO69: 0.0155 | DP69: 0.1217 | DQ69: 0.1059 | DR69: 0.0272 | DS69: 0.0985 | DT69: 0.0073 | DU69: 0.0654 | DV69: 0.0072 | DW69: 0.0383 | DX69: 0.0107 | DY69: 0.0349 | DZ69: 0.00594 | EA69: 0.0299 | EB69: 0.00837 | EC69: 0.0266 | ED69: 0.00777 | EE69: 0.0128
A70: 42. Exp CHV-E155 | B70: CH-V-6C | C70: Clinopyroxene | D70: CHVE155-cpx-7 | F70: 1200 | G70: 0.0001 | H70: IW-1 | I70: 5.34 | J70: 231780.78 | K70: 168312.11 | L70: 212.91 | M70: 8373.68 | N70: 7770.33 | O70: 18.53 | P70: 1478.11 | Q70: 839.49 | R70: 68.51 | S70: 29.48 | T70: <DL | U70: <DL | V70: <DL | W70: <DL | X70: 36.77 | Y70: 20.6 | Z70: 45.41 | AA70: 3.42 | AB70: 1.41 | AC70: <DL | AD70: 0.98 | AE70: 2.9 | AF70: 6.39 | AG70: 1.27 | AH70: 13.22 | AI70: 6.44 | AJ70: 1.51 | AK70: 4.45 | AL70: 2.39 | AM70: 9.32 | AN70: 1.94 | AO70: 4.48 | AP70: 2.05 | AQ70: 4.7 | AR70: 3.43 | AS70: 12.31 | AT70: 0.772 | AU70: <DL | AV70: 1.34 | AW70: 0.496 | AZ70: 1.67 | BA70: 43181.1 | BB70: 5386.77 | BC70: 13.91 | BD70: 4690.24 | BE70: 1185.69 | BF70: 1.3 | BG70: 234.21 | BH70: 56.1 | BI70: 5.08 | BJ70: 3.35 | BK70: 1 | BL70: 1.66 | BM70: 0.54 | BN70: 0.16 | BO70: 2.45 | BP70: 1.21 | BQ70: 3.16 | BR70: 0.26 | BS70: 0.29 | BT70: 0.066 | BU70: 0.2 | BV70: 0.21 | BW70: 0.6 | BX70: 0.12 | BY70: 1.16 | BZ70: 0.78 | CA70: 0.17 | CB70: 0.53 | CC70: 0.23 | CD70: 0.9 | CE70: 0.2 | CF70: 0.45 | CG70: 0.21 | CH70: 0.49 | CI70: 0.32 | CJ70: 1.19 | CK70: 0.089 | CL70: 0.015 | CM70: 0.14 | CN70: 0.057 | CQ70: 3.28 | CR70: 217.58 | CS70: 158.71 | CT70: 0.225 | CU70: 20.14 | CV70: 4.3 | CW70: 0.221 | CX70: 1.65 | CY70: 0.829 | CZ70: 0.438 | DA70: 2.41 | DB70: 2.24 | DC70: 3.28 | DD70: 1.22 | DE70: 0.365 | DF70: 0.111 | DG70: 0.0186 | DH70: 0.122 | DI70: 0.0343 | DJ70: 0.319 | DK70: 0.152 | DL70: 0.0927 | DM70: 0.0056 | DN70: 0.0122 | DO70: 0.0155 | DP70: 0.1217 | DQ70: 0.1059 | DR70: 0.014 | DS70: 0.159 | DT70: 0.00883 | DU70: 0.0693 | DV70: 0.00938 | DW70: 0.031533333 | DX70: 0.010435 | DY70: =AVERAGE(DY65,DY66,DY69) -> 0.036266667 | DZ70: 0.00804 | EA70: 0.0371 | EB70: 0.0123 | EC70: 0.0371 | ED70: 0.00777 | EE70: 0.0128
A71: 42. Exp CHV-E155 | B71: CH-V-6C | C71: Clinopyroxene | D71: CHVE155-cpx-8 | F71: 1200 | G71: 0.0001 | H71: IW-1 | I71: 8.02 | J71: 234279.98 | K71: 168312.11 | L71: 214.94 | M71: 8678.73 | N71: 7975.57 | O71: 20.38 | P71: 1462.02 | Q71: 843.58 | R71: 62.42 | S71: 21.46 | T71: <DL | U71: <DL | V71: 2.67 | W71: <DL | X71: 35.96 | Y71: 20.67 | Z71: 45.3 | AA71: 2.04 | AB71: 0.94 | AC71: <DL | AD71: <DL | AE71: 2.64 | AF71: 5.94 | AG71: 1.23 | AH71: 12.56 | AI71: 7.45 | AJ71: 1.41 | AK71: 4.82 | AL71: 2.31 | AM71: 8.87 | AN71: 1.85 | AO71: 4.69 | AP71: 1.99 | AQ71: 4.12 | AR71: 3.28 | AS71: 12.37 | AT71: 0.615 | AU71: <DL | AV71: 0.697 | AW71: 0.267 | AZ71: 1.75 | BA71: 43656.95 | BB71: 5367.76 | BC71: 14.03 | BD71: 4861.5 | BE71: 1220.15 | BF71: 1.4 | BG71: 232.13 | BH71: 56.38 | BI71: 4.62 | BJ71: 2.5 | BK71: 0.97 | BL71: 1.52 | BM71: 1.31 | BN71: 0.16 | BO71: 2.39 | BP71: 1.21 | BQ71: 3.14 | BR71: 0.16 | BS71: 0.26 | BT71: 0.064 | BU71: 0.11 | BV71: 0.19 | BW71: 0.55 | BX71: 0.11 | BY71: 1.07 | BZ71: 0.85 | CA71: 0.15 | CB71: 0.54 | CC71: 0.22 | CD71: 0.85 | CE71: 0.19 | CF71: 0.45 | CG71: 0.21 | CH71: 0.42 | CI71: 0.31 | CJ71: 1.19 | CK71: 0.07 | CL71: 0.011 | CM71: 0.074 | CN71: 0.032 | CQ71: 3.38 | CR71: 231.21 | CS71: 160.37 | CT71: 0.227 | CU71: 21.77 | CV71: 4.33 | CW71: 0.187 | CX71: 1.56 | CY71: 0.861 | CZ71: 0.495 | DA71: 2.36 | DB71: 2.38 | DC71: 3.75 | DD71: 0.671 | DE71: 0.368 | DF71: 0.126 | DG71: 0.0294 | DH71: 0.0922 | DI71: 0.0262 | DJ71: 0.473 | DK71: 0.156 | DL71: 0.314 | DM71: 0.00752 | DN71: =AVERAGE(DN69:DN70,DN66,DN65) -> 0.016275 | DO71: 0.0118 | DP71: 0.1217 | DQ71: 0.108 | DR71: =AVERAGE(DR64:DR70) -> 0.025285714 | DS71: 0.144 | DT71: 0.00883 | DU71: 0.060077778 | DV71: 0.00938 | DW71: 0.0276 | DX71: 0.0198 | DY71: 0.036266667 | DZ71: 0.00317 | EA71: 0.03644 | EB71: 0.015 | EC71: 0.0273 | ED71: 0.00777 | EE71: 0.0128
A72: 42. Exp CHV-E155 | B72: CH-V-6C | C72: Clinopyroxene | D72: CHVE155-cpx-9 | F72: 1200 | G72: 0.0001 | H72: IW-1 | I72: 7.39 | J72: 235458.55 | K72: 168312.11 | L72: 241.15 | M72: 9757.96 | N72: 9021.83 | O72: 22.52 | P72: 1741.29 | Q72: 880.84 | R72: 69.97 | S72: 15.47 | T72: <DL | U72: <DL | V72: <DL | W72: <DL | X72: 36.12 | Y72: 23.59 | Z72: 56.26 | AA72: 3 | AB72: 1.06 | AC72: <DL | AD72: 0.21 | AE72: 3.11 | AF72: 6.86 | AG72: 1.56 | AH72: 15.25 | AI72: 8.8 | AJ72: 1.46 | AK72: 5.45 | AL72: 2.81 | AM72: 10.63 | AN72: 2.31 | AO72: 5.02 | AP72: 2.45 | AQ72: 5.01 | AR72: 3.9 | AS72: 15.56 | AT72: 0.788 | AU72: <DL | AV72: 1.11 | AW72: 0.34 | AZ72: 1.8 | BA72: 43892.5 | BB72: 5380.51 | BC72: 15.78 | BD72: 5467.21 | BE72: 1384.36 | BF72: 1.56 | BG72: 277.24 | BH72: 58.96 | BI72: 5.2 | BJ72: 2.05 | BK72: 1 | BL72: 1.48 | BM72: 0.57 | BN72: 0.16 | BO72: 2.42 | BP72: 1.38 | BQ72: 3.91 | BR72: 0.23 | BS72: 0.29 | BT72: 0.066 | BU72: 0.11 | BV72: 0.23 | BW72: 0.64 | BX72: 0.14 | BY72: 1.31 | BZ72: 1.02 | CA72: 0.16 | CB72: 0.62 | CC72: 0.26 | CD72: 1.02 | CE72: 0.23 | CF72: 0.49 | CG72: 0.25 | CH72: 0.51 | CI72: 0.37 | CJ72: 1.5 | CK72: 0.09 | CL72: 0.019 | CM72: 0.12 | CN72: 0.041 | CQ72: 3.44 | CR72: 227.98 | CS72: 161.04 | CT72: 0.188 | CU72: 21.1 | CV72: 3.4 | CW72: 0.202 | CX72: 1.49 | CY72: 0.871 | CZ72: 0.485 | DA72: 2.46 | DB72: 2.33 | DC72: 3.1 | DD72: 1.33 | DE72: 0.366 | DF72: 0.115 | DG72: 0.0389 | DH72: 0.112 | DI72: 0.0389 | DJ72: 0.484 | DK72: 0.152 | DL72: 0.189 | DM72: 0.00371 | DN72: 0.016275 | DO72: 0.0155 | DP72: 0.0641 | DQ72: 0.1059 | DR72: 0.0175 | DS72: 0.108 | DT72: =AVERAGE(DT69,DT68,DT65) -> 0.00883 | DU72: 0.0729 | DV72: 0.00789 | DW72: 0.031533333 | DX72: 0.0136 | DY72: 0.036266667 | DZ72: =AVERAGE(DZ64:DZ66,DZ71,DZ67:DZ70) -> 0.00555625 | EA72: =AVERAGE(EA64:EA66,EA71,EA67:EA70) -> 0.03644 | EB72: 0.0223 | EC72: 0.0374 | ED72: =AVERAGE(ED66:ED67) -> 0.00777 | EE72: 0.0128
D73: Average | I73: =AVERAGE(I64:I72) -> 8.1566667 | J73: =AVERAGE(J64:J72) -> 235864.88 | K73: =AVERAGE(K64:K72) -> 168312.11 | L73: =AVERAGE(L64:L72) -> 239.47889 | M73: =AVERAGE(M64:M72) -> 8448.7389 | N73: =AVERAGE(N64:N72) -> 7744.2133 | O73: =AVERAGE(O64:O72) -> 24.165556 | P73: =AVERAGE(P64:P72) -> 2032.5422 | ... S73: =AVERAGE(S64:S72) -> 21.123333 | U73: =AVERAGE(U64:U72) -> 3.56 | V73: =AVERAGE(V64:V72) -> 1.47 | X73: =AVERAGE(X64:X72) -> 34.857778 | Y73: =AVERAGE(Y64:Y72) -> 21.5 | Z73: =AVERAGE(Z64:Z72) -> 46.845556 | AA73: =AVERAGE(AA64:AA72) -> 2.5677778 | AB73: =AVERAGE(AB64:AB72) -> 0.96125 | AD73: =AVERAGE(AD64:AD72) -> 0.5475 | AE73: =AVERAGE(AE64:AE72) -> 2.7911111 | AF73: =AVERAGE(AF64:AF72) -> 6.0744444 | AG73: =AVERAGE(AG64:AG72) -> 1.3107778 | AH73: =AVERAGE(AH64:AH72) -> 13.138889 | AI73: =AVERAGE(AI64:AI72) -> 7.6333333 | AJ73: =AVERAGE(AJ64:AJ72) -> 1.3922222 | AK73: =AVERAGE(AK64:AK72) -> 5.0133333 | ... AW73: =AVERAGE(AW64:AW72) -> 0.33455556
D74: Median | I74: =MEDIAN(I64:I72) -> 8.02 | J74: =MEDIAN(J65:J72) -> 236409.4 | K74: =MEDIAN(K65:K72) -> 168312.11 | L74: =MEDIAN(L65:L72) -> 232.76 | M74: =MEDIAN(M65:M72) -> 8526.205 | N74: =MEDIAN(N65:N72) -> 7872.95 | O74: =MEDIAN(O65:O72) -> 21.45 | P74: =MEDIAN(P65:P72) -> 1703.725 | Q74: =MEDIAN(Q65:Q72) -> 841.535 | ... S74: =MEDIAN(S65:S72) -> 21.055 | U74: =MEDIAN(U65:U72) -> 3.56 | V74: =MEDIAN(V65:V72) -> 1.08 | X74: =MEDIAN(X65:X72) -> 36.04 | Y74: =MEDIAN(Y65:Y72) -> 20.81 | Z74: =MEDIAN(Z65:Z72) -> 45.355 | AA74: =MEDIAN(AA65:AA72) -> 2.46 | AB74: =MEDIAN(AB65:AB72) -> 0.94 | AD74: =MEDIAN(AD65:AD72) -> 0.31 | AE74: =MEDIAN(AE65:AE72) -> 2.785 | AF74: =MEDIAN(AF65:AF72) -> 6.07 | AG74: =MEDIAN(AG65:AG72) -> 1.25 | AH74: =MEDIAN(AH65:AH72) -> 12.85 | AI74: =MEDIAN(AI65:AI72) -> 7.375 | AJ74: =MEDIAN(AJ65:AJ72) -> 1.435 | AK74: =MEDIAN(AK65:AK72) -> 4.79 | ... AW74: =MEDIAN(AW65:AW72) -> 0.306
D75: Stdev | I75: =STDEV(I64:I72) -> 2.0262835 | J75: =STDEV(J65:J72) -> 2650.0467 | L75: =STDEV(L65:L72) -> 27.679674 | M75: =STDEV(M65:M72) -> 1099.0571 | N75: =STDEV(N65:N72) -> 1005.2255 | O75: =STDEV(O65:O72) -> 6.5199009 | P75: =STDEV(P65:P72) -> 761.44778 | Q75: =STDEV(Q65:Q72) -> 34.748826 | R75: =STDEV(R65:R72) -> 4.4206585 | S75: =STDEV(S65:S72) -> 4.4398834 | V75: =STDEV(V65:V72) -> 1.0602358 | X75: =STDEV(X65:X72) -> 2.3476432 | Y75: =STDEV(Y65:Y72) -> 1.9376786 | Z75: =STDEV(Z65:Z72) -> 8.432821 | AA75: =STDEV(AA65:AA72) -> 0.69973464 | AB75: =STDEV(AB65:AB72) -> 0.25016185 | AD75: =STDEV(AD65:AD72) -> 0.41868843 | AE75: =STDEV(AE65:AE72) -> 0.33468269 | AF75: =STDEV(AF65:AF72) -> 0.74612212 | AG75: =STDEV(AG65:AG72) -> 0.16194482 | AH75: =STDEV(AH65:AH72) -> 1.3054385 | AI75: =STDEV(AI65:AI72) -> 0.89633779 | AJ75: =STDEV(AJ65:AJ72) -> 0.19926651 | AK75: =STDEV(AK65:AK72) -> 0.60911528 | ... AT75: =STDEV(AT65:AT72) -> 0.23849854 | AU75: =STDEV(AU64:AU72) -> 0.065760931 | AV75: =STDEV(AV65:AV72) -> 0.25343638 | AW75: =STDEV(AW65:AW72) -> 0.10642628
D76: RSD | I76: =I75/I73 -> 0.24842054 | J76: =J75/J73 -> 0.011235444 | L76: =L75/L73 -> 0.11558294 | M76: =M75/M73 -> 0.13008535 | N76: =N75/N73 -> 0.12980343 | O76: =O75/O73 -> 0.26980141 | P76: =P75/P73 -> 0.37462827 | Q76: =Q75/Q73 -> 0.041201047 | R76: =R75/R73 -> 0.061427421 | S76: =S75/S73 -> 0.21018858 | V76: =V75/V73 -> 0.72124886 | X76: =X75/X73 -> 0.067349193 | Y76: =Y75/Y73 -> 0.090124584 | Z76: =Z75/Z73 -> 0.18001326 | AA76: =AA75/AA73 -> 0.27250592 | AB76: =AB75/AB73 -> 0.2602464 | AD76: =AD75/AD73 -> 0.76472772 | AE76: =AE75/AE73 -> 0.1199102 | AF76: =AF75/AF73 -> 0.12282969 | AG76: =AG75/AG73 -> 0.12354865 | AH76: =AH75/AH73 -> 0.09935684 | AI76: =AI75/AI73 -> 0.11742416 | AJ76: =AJ75/AJ73 -> 0.14312838 | AK76: =AK75/AK73 -> 0.12149906 | ... AW76: =AW75/AW73 -> 0.31811243
D77: RSD% | I77: =I76*100 -> 24.842054 | J77: =J76*100 -> 1.1235444 | L77: =L76*100 -> 11.558294 | M77: =M76*100 -> 13.008535 | N77: =N76*100 -> 12.980343 | O77: =O76*100 -> 26.980141 | P77: =P76*100 -> 37.462827 | Q77: =Q76*100 -> 4.1201047 | R77: =R76*100 -> 6.1427421 | S77: =S76*100 -> 21.018858 | V77: =V76*100 -> 72.124886 | X77: =X76*100 -> 6.7349193 | Y77: =Y76*100 -> 9.0124584 | Z77: =Z76*100 -> 18.001326 | AA77: =AA76*100 -> 27.250592 | AB77: =AB76*100 -> 26.02464 | AD77: =AD76*100 -> 76.472772 | AE77: =AE76*100 -> 11.99102 | AF77: =AF76*100 -> 12.282969 | AG77: =AG76*100 -> 12.354865 | AH77: =AH76*100 -> 9.935684 | AI77: =AI76*100 -> 11.742416 | AJ77: =AJ76*100 -> 14.312838 | AK77: =AK76*100 -> 12.149906 | ... AW77: =AW76*100 -> 31.811243
A79: 42. Exp CHV-E155 | B79: CH-V-6C | C79: Glass | D79: CHVE155-gl-1 | F79: 1200 | G79: 0.0001 | H79: IW-1 | I79: 118.35 | J79: 183151.66 | K79: 130461.52 | L79: 59.78 | M79: 15552.28 | N79: 14695.26 | O79: 2.45 | P79: 150.72 | Q79: 2199.78 | R79: 85 | S79: 11.8 | T79: <DL | U79: 1.51 | V79: <DL | W79: 5.17 | X79: 359.67 | Y79: 62.98 | Z79: 155.39 | AA79: 293.82 | AB79: 1.57 | AC79: 0.891 | AD79: 247.34 | AE79: 38.39 | AF79: 52.27 | AG79: 7.83 | AH79: 58.2 | AI79: 24.11 | AJ79: 7.38 | AK79: 13.56 | AL79: 6.77 | AM79: 25.94 | AN79: 5.69 | AO79: 14.07 | AP79: 6.54 | AQ79: 13.95 | AR79: 10.2 | AS79: 20.59 | AT79: 24.52 | AU79: 0.608 | AV79: 71.3 | AW79: 28 | AZ79: 11.26 | BA79: 32001.77 | BB79: 4142.02 | BC79: 3.21 | BD79: 4606.59 | BE79: 1944.76 | BF79: 0.16 | BG79: 15.18 | BH79: 128.21 | BI79: 4.99 | BJ79: 1.07 | BK79: 0.41 | BL79: 0.67 | BM79: 0.38 | BN79: 0.28 | BO79: 16.46 | BP79: 2.83 | BQ79: 6.13 | BR79: 13.72 | BS79: 0.17 | BT79: 0.052 | BU79: 13.91 | BV79: 1.37 | BW79: 2.08 | BX79: 0.33 | BY79: 3.35 | BZ79: 1.34 | CA79: 0.35 | CB79: 0.69 | CC79: 0.26 | CD79: 1.02 | CE79: 0.2 | CF79: 0.64 | CG79: 0.27 | CH79: 0.58 | CI79: 0.34 | CJ79: 0.89 | CK79: 0.92 | CL79: 0.037 | CM79: 2.82 | CN79: 1.1 | CQ79: 1.57 | CR79: 99.21 | CS79: 74.81 | CT79: 0.103 | CU79: 10.05 | CV79: 2.06 | CW79: 0.111 | CX79: 0.802 | CY79: 0.385 | CZ79: 0.24 | DA79: 1 | DB79: 0.989 | DC79: 1.36 | DD79: 0.607 | DE79: 0.175 | DF79: 0.0509 | DG79: 0.013 | DH79: 0.0551 | DI79: 0.0189 | DJ79: 0.23 | DK79: 0.0722 | DL79: 0.103 | DM79: 0.00261 | DN79: 0.007685 | DO79: 0.00558 | DP79: 0.0418 | DQ79: 0.0687 | DR79: 0.0121 | DS79: 0.0541 | DT79: 0.00493 | DU79: 0.0164 | DV79: 0.00342 | DW79: 0.0121 | DX79: 0.00602 | DY79: 0.031 | DZ79: 0.00272 | EA79: 0.015933333 | EB79: 0.00563 | EC79: 0.0202 | ED79: 0.0027066667 | EE79: 0.00376
A80: 42. Exp CHV-E155 | B80: CH-V-6C | C80: Glass | D80: CHVE155-gl-2 | F80: 1200 | G80: 0.0001 | H80: IW-1 | I80: 120.36 | J80: 182273.06 | K80: 130461.52 | L80: 61.01 | M80: 15757.09 | N80: 14761.8 | O80: 2.66 | P80: 153.8 | Q80: 2232.63 | R80: 85.25 | S80: 11.39 | T80: 0.99 | U80: <DL | V80: 0.64 | W80: 5.28 | X80: 366.09 | Y80: 64.95 | Z80: 155.64 | AA80: 297.5 | AB80: 1.43 | AC80: 0.815 | AD80: 245.08 | AE80: 38.5 | AF80: 51.97 | AG80: 7.87 | AH80: 56.87 | AI80: 24.27 | AJ80: 7.26 | AK80: 13.7 | AL80: 6.6 | AM80: 26.44 | AN80: 5.51 | AO80: 13.6 | AP80: 6.66 | AQ80: 13.6 | AR80: 10.14 | AS80: 20.06 | AT80: 24.58 | AU80: 0.157 | AV80: 71.06 | AW80: 27.97 | AZ80: 11.48 | BA80: 31848.47 | BB80: 4144.83 | BC80: 3.29 | BD80: 4704.39 | BE80: 1970.16 | BF80: 0.17 | BG80: 15.62 | BH80: 130.4 | BI80: 5.03 | BJ80: 1.05 | BK80: 0.4 | BL80: 0.67 | BM80: 0.41 | BN80: 0.29 | BO80: 16.84 | BP80: 2.93 | BQ80: 6.16 | BR80: 13.95 | BS80: 0.17 | BT80: 0.052 | BU80: 13.88 | BV80: 1.38 | BW80: 2.08 | BX80: 0.34 | BY80: 3.3 | BZ80: 1.36 | CA80: 0.35 | CB80: 0.71 | CC80: 0.26 | CD80: 1.05 | CE80: 0.2 | CF80: 0.63 | CG80: 0.28 | CH80: 0.58 | CI80: 0.34 | CJ80: 0.88 | CK80: 0.93 | CL80: 0.017 | CM80: 2.82 | CN80: 1.11 | CQ80: 1.44 | CR80: 91.68 | CS80: 67.24 | CT80: 0.102 | CU80: 9.34 | CV80: 1.8 | CW80: 0.0716 | CX80: 0.769 | CY80: 0.348 | CZ80: 0.213 | DA80: 0.966 | DB80: 0.884 | DC80: 1.65 | DD80: 0.595 | DE80: 0.161 | DF80: 0.0568 | DG80: 0.00672 | DH80: 0.0391 | DI80: 0.0153 | DJ80: 0.193 | DK80: 0.072 | DL80: 0.121 | DM80: =AVERAGE(DM79,DM81,DM82,DM83) -> 0.0031725 | DN80: 0.00655 | DO80: 0.00524 | DP80: 0.0418 | DQ80: 0.0687 | DR80: =AVERAGE(DR79,DR83) -> 0.0116 | DS80: 0.0652 | DT80: 0.00293 | DU80: 0.0154 | DV80: 0.00342 | DW80: 0.0121 | DX80: 0.004775 | DY80: 0.031 | DZ80: 0.00262 | EA80: 0.015933333 | EB80: 0.00574 | EC80: 0.0127 | ED80: 0.0027066667 | EE80: 0.00376
A81: 42. Exp CHV-E155 | B81: CH-V-6C | C81: Glass | D81: CHVE155-gl-3 | F81: 1200 | G81: 0.0001 | H81: IW-1 | I81: 121.38 | J81: 184988.78 | K81: 130461.52 | L81: 60.8 | M81: 15785.87 | N81: 14692.06 | O81: 2.62 | P81: 152.29 | Q81: 2242.8 | R81: 87.38 | S81: 11.71 | T81: <DL | U81: <DL | V81: <DL | W81: 5.48 | X81: 361.43 | Y81: 64.24 | Z81: 154.68 | AA81: 295.33 | AB81: 2.02 | AC81: 0.927 | AD81: 243.63 | AE81: 37.85 | AF81: 51.72 | AG81: 8.02 | AH81: 58.69 | AI81: 23.45 | AJ81: 7.32 | AK81: 13.81 | AL81: 6.65 | AM81: 25.93 | AN81: 5.81 | AO81: 13.63 | AP81: 6.77 | AQ81: 14.02 | AR81: 10.15 | AS81: 20.37 | AT81: 24.37 | AU81: <DL | AV81: 70.94 | AW81: 27.54 | AZ81: 11.59 | BA81: 32321.69 | BB81: 4139.01 | BC81: 3.28 | BD81: 4750.3 | BE81: 1977.27 | BF81: 0.16 | BG81: 15.53 | BH81: 131.22 | BI81: 5.17 | BJ81: 1.05 | BK81: 0.38 | BL81: 0.59 | BM81: 0.3 | BN81: 0.29 | BO81: 16.69 | BP81: 2.91 | BQ81: 6.13 | BR81: 13.9 | BS81: 0.17 | BT81: 0.052 | BU81: 13.86 | BV81: 1.36 | BW81: 2.07 | BX81: 0.34 | BY81: 3.41 | BZ81: 1.3 | CA81: 0.35 | CB81: 0.7 | CC81: 0.26 | CD81: 1.02 | CE81: 0.2 | CF81: 0.63 | CG81: 0.28 | CH81: 0.58 | CI81: 0.34 | CJ81: 0.88 | CK81: 0.92 | CL81: 0.007 | CM81: 2.83 | CN81: 1.09 | CQ81: 1.53 | CR81: 96.66 | CS81: 74.4 | CT81: 0.085 | CU81: 9.81 | CV81: 1.9 | CW81: 0.0873 | CX81: 0.635 | CY81: 0.414 | CZ81: 0.23 | DA81: 0.958 | DB81: 0.981 | DC81: 1.53 | DD81: 0.572 | DE81: 0.174 | DF81: 0.054 | DG81: <0.00000 | DH81: 0.0505 | DI81: 0.0131 | DJ81: 0.0943 | DK81: 0.0714 | DL81: 0.153 | DM81: 0.00225 | DN81: 0.007685 | DO81: 0.00819 | DP81: 0.0418 | DQ81: 0.0687 | DR81: 0.0116 | DS81: 0.049 | DT81: 0.0055 | DU81: 0.0196 | DV81: 0.00342 | DW81: 0.0121 | DX81: 0.00353 | DY81: 0.031 | DZ81: 0.00173 | EA81: 0.015933333 | EB81: 0.00464 | EC81: 0.0184 | ED81: 0.0027066667 | EE81: 0.00376
A82: 42. Exp CHV-E155 | B82: CH-V-6C | C82: Glass | D82: CHVE155-gl-4 | F82: 1200 | G82: 0.0001 | H82: IW-1 | I82: 118.39 | J82: 184808.92 | K82: 130461.52 | L82: 60.5 | M82: 15568.07 | N82: 14613.43 | O82: 2.51 | P82: 153.67 | Q82: 2226.12 | R82: 85.55 | S82: 13.26 | T82: <DL | U82: <DL | V82: 0.96 | W82: 5.3 | X82: 361.46 | Y82: 64.13 | Z82: 152.24 | AA82: 293.74 | AB82: 1.65 | AC82: 0.888 | AD82: 242.92 | AE82: 37.79 | AF82: 51.95 | AG82: 7.67 | AH82: 58.46 | AI82: 23.68 | AJ82: 7.25 | AK82: 14.15 | AL82: 6.69 | AM82: 25.88 | AN82: 5.47 | AO82: 13.62 | AP82: 6.4 | AQ82: 13.6 | AR82: 10.23 | AS82: 20.59 | AT82: 24.99 | AU82: <DL | AV82: 71.06 | AW82: 28.33 | AZ82: 11.33 | BA82: 32290.46 | BB82: 4141.48 | BC82: 3.28 | BD82: 4721.84 | BE82: 1983.33 | BF82: 0.16 | BG82: 15.8 | BH82: 130.52 | BI82: 5.08 | BJ82: 1.18 | BK82: 0.39 | BL82: 0.64 | BM82: 0.51 | BN82: 0.29 | BO82: 16.77 | BP82: 2.92 | BQ82: 6.05 | BR82: 13.89 | BS82: 0.17 | BT82: 0.052 | BU82: 13.92 | BV82: 1.36 | BW82: 2.09 | BX82: 0.33 | BY82: 3.43 | BZ82: 1.33 | CA82: 0.35 | CB82: 0.73 | CC82: 0.26 | CD82: 1.03 | CE82: 0.19 | CF82: 0.63 | CG82: 0.27 | CH82: 0.57 | CI82: 0.34 | CJ82: 0.9 | CK82: 0.94 | CL82: 0.0075 | CM82: 2.84 | CN82: 1.13 | CQ82: 1.48 | CR82: 95.65 | CS82: 71.65 | CT82: 0.0997 | CU82: 10.04 | CV82: 2.04 | CW82: 0.0942 | CX82: 0.647 | CY82: 0.367 | CZ82: 0.224 | DA82: 0.916 | DB82: 0.945 | DC82: 1.52 | DD82: 0.515 | DE82: 0.163 | DF82: 0.0536 | DG82: <0.00000 | DH82: 0.0565 | DI82: 0.0167 | DJ82: 0.186 | DK82: 0.0713 | DL82: 0.11 | DM82: 0.0023 | DN82: 0.00882 | DO82: 0.00539 | DP82: 0.0418 | DQ82: 0.0687 | DR82: 0.014 | DS82: 0.0553 | DT82: 0.00426 | DU82: 0.0216 | DV82: 0.00342 | DW82: 0.0121 | DX82: 0.004775 | DY82: 0.031 | DZ82: =AVERAGE(DZ79:DZ81) -> 0.0023566667 | EA82: 0.015933333 | EB82: 0.00743 | EC82: 0.0193 | ED82: 0.0027066667 | EE82: 0.00376
A83: 42. Exp CHV-E155 | B83: CH-V-6C | C83: Glass | D83: CHVE155-gl-5 | F83: 1200 | G83: 0.0001 | H83: IW-1 | I83: 115.5 | J83: 186245.3 | K83: 130461.52 | L83: 60.32 | M83: 15579.01 | N83: 14681.33 | O83: 2.66 | P83: 151.52 | Q83: 2223.96 | R83: 87.42 | S83: 12.07 | T83: <DL | U83: 2.28 | V83: <DL | W83: 5.25 | X83: 360.68 | Y83: 63.85 | Z83: 154.32 | AA83: 294.59 | AB83: 1.42 | AC83: 0.879 | AD83: 239.82 | AE83: 37.96 | AF83: 51.51 | AG83: 7.95 | AH83: 59.02 | AI83: 23.67 | AJ83: 7.31 | AK83: 13.54 | AL83: 6.73 | AM83: 25.09 | AN83: 5.6 | AO83: 13.47 | AP83: 6.62 | AQ83: 14 | AR83: 10.21 | AS83: 20.24 | AT83: 24.37 | AU83: 0.108 | AV83: 71.31 | AW83: 27.98 | AZ83: 11.08 | BA83: 32540.84 | BB83: 4139.4 | BC83: 3.28 | BD83: 4762.39 | BE83: 2009.26 | BF83: 0.16 | BG83: 15.67 | BH83: 130.65 | BI83: 5.21 | BJ83: 1.09 | BK83: 0.39 | BL83: 0.75 | BM83: 0.22 | BN83: 0.28 | BO83: 16.81 | BP83: 2.91 | BQ83: 6.15 | BR83: 13.99 | BS83: 0.15 | BT83: 0.049 | BU83: 13.82 | BV83: 1.37 | BW83: 2.07 | BX83: 0.34 | BY83: 3.47 | BZ83: 1.33 | CA83: 0.35 | CB83: 0.7 | CC83: 0.26 | CD83: 1 | CE83: 0.2 | CF83: 0.63 | CG83: 0.28 | CH83: 0.59 | CI83: 0.34 | CJ83: 0.88 | CK83: 0.92 | CL83: 0.012 | CM83: 2.86 | CN83: 1.12 | CQ83: 1.56 | CR83: 98.9 | CS83: 77.22 | CT83: 0.111 | CU83: 10.03 | CV83: 2.06 | CW83: 0.089 | CX83: 0.471 | CY83: 0.38 | CZ83: 0.228 | DA83: 1.02 | DB83: 0.976 | DC83: 1.29 | DD83: 0.526 | DE83: 0.176 | DF83: 0.0596 | DG83: 0.0141 | DH83: 0.0513 | DI83: =AVERAGE(DI79:DI82) -> 0.016 | DJ83: 0.183 | DK83: 0.0657 | DL83: 0.125 | DM83: 0.00553 | DN83: =AVERAGE(DN82,DN80) -> 0.007685 | DO83: 0.0056 | DP83: 0.0418 | DQ83: 0.0687 | DR83: 0.0111 | DS83: 0.0633 | DT83: 0.00586 | DU83: =AVERAGE(DU79:DU82) -> 0.01825 | DV83: 0.00342 | DW83: 0.0121 | DX83: =AVERAGE(DX81,DX79) -> 0.004775 | DY83: 0.031 | DZ83: 0.0023566667 | EA83: 0.015933333 | EB83: 0.00892 | EC83: 0.00761 | ED83: 0.0027066667 | EE83: 0.00376
D84: Average | I84: =AVERAGE(I79:I83) -> 118.796 | J84: =AVERAGE(J79:J83) -> 184293.54 | K84: =AVERAGE(K79:K83) -> 130461.52 | L84: =AVERAGE(L79:L83) -> 60.482 | M84: =AVERAGE(M79:M83) -> 15648.464 | N84: =AVERAGE(N79:N83) -> 14688.776 | O84: =AVERAGE(O79:O83) -> 2.58 | P84: =AVERAGE(P79:P83) -> 152.4 | ... AW84: =AVERAGE(AW79:AW83) -> 27.964
D85: Median | I85: =MEDIAN(I79:I83) -> 118.39 | J85: =MEDIAN(J79:J83) -> 184808.92 | K85: =MEDIAN(K79:K83) -> 130461.52 | L85: =MEDIAN(L79:L83) -> 60.5 | M85: =MEDIAN(M79:M83) -> 15579.01 | N85: =MEDIAN(N79:N83) -> 14692.06 | O85: =MEDIAN(O79:O83) -> 2.62 | P85: =MEDIAN(P79:P83) -> 152.29 | ... AW85: =MEDIAN(AW79:AW83) -> 27.98
D86: Stdev | I86: =STDEV(I79:I83) -> 2.2555775 | J86: =STDEV(J79:J83) -> 1576.7507 | K86: =STDEV(K79:K83) -> 1.6269536e-11 | L86: =STDEV(L79:L83) -> 0.47415187 | M86: =STDEV(M79:M83) -> 113.15745 | N86: =STDEV(N79:N83) -> 52.720475 | O86: =STDEV(O79:O83) -> 0.095131488 | P86: =STDEV(P79:P83) -> 1.339944 | ... S86: =STDEV(S79:S83) -> 0.7207843 | U86: =STDEV(U79:U83) -> 0.54447222 | V86: =STDEV(V79:V83) -> 0.22627417 | W86: =STDEV(W79:W83) -> 0.11414903 | X86: =STDEV(X79:X83) -> 2.4711394 | Y86: =STDEV(Y79:Y83) -> 0.71333723 | Z86: =STDEV(Z79:Z83) -> 1.346618 | AA86: =STDEV(AA79:AA83) -> 1.5416647 | AB86: =STDEV(AB79:AB83) -> 0.24468347 | ... AW86: =STDEV(AW79:AW83) -> 0.28076681
D87: RSD | I87: =I86/I84 -> 0.018986982 | J87: =J86/J84 -> 0.0085556483 | K87: =K86/K84 -> 1.2470754e-16 | L87: =L86/L84 -> 0.0078395535 | M87: =M86/M84 -> 0.0072312176 | N87: =N86/N84 -> 0.0035891674 | O87: =O86/O84 -> 0.03687267 | P87: =P86/P84 -> 0.0087922837 | ... AW87: =AW86/AW84 -> 0.010040295
D88: RSD% | I88: =I87*100 -> 1.8986982 | J88: =J87*100 -> 0.85556483 | K88: =K87*100 -> 1.2470754e-14 | L88: =L87*100 -> 0.78395535 | M88: =M87*100 -> 0.72312176 | N88: =N87*100 -> 0.35891674 | O88: =O87*100 -> 3.687267 | P88: =P87*100 -> 0.87922837 | ... AW88: =AW87*100 -> 1.0040295
A90: 42. Exp CHV-E157 | B90: CH-V-6C | C90: Clinopyroxene | D90: CHVE157-cpx-1 | F90: 1200 | G90: 0.0001 | H90: IW-1 | I90: 6.7 | J90: 220817.08 | K90: 165453.3 | L90: 239.93 | M90: 10169.76 | N90: 8748.71 | O90: 24.81 | P90: 2041.23 | Q90: 782.52 | R90: 47.77 | S90: 7 | T90: <DL | U90: <DL | V90: <DL | W90: <DL | X90: 34.72 | Y90: 22.13 | Z90: 58.32 | AA90: 2.94 | AB90: <DL | AC90: <DL | AD90: 0.43 | AE90: 3.05 | AF90: 6.49 | AG90: 1.38 | AH90: 15.01 | AI90: 7.08 | AJ90: 1.43 | AK90: 5.32 | AL90: 2.75 | AM90: 9.8 | AN90: 2.16 | AO90: 4.6 | AP90: 2.35 | AQ90: 4.3 | AR90: 3.67 | AS90: 16.62 | AT90: 0.98 | AU90: 0.031 | AV90: 1.01 | AW90: 0.324 | AZ90: 1.61 | BA90: 40952.77 | BB90: 5283.46 | BC90: 15.36 | BD90: 5802.03 | BE90: 1291.18 | BF90: 1.67 | BG90: 313.93 | BH90: 51.69 | BI90: 3.47 | BJ90: 1.23 | BK90: 0.85 | BL90: 1.46 | BM90: 0.52 | BN90: 0.14 | BO90: 2.25 | BP90: 1.26 | BQ90: 3.94 | BR90: 0.22 | BS90: 0.21 | BT90: 0.062 | BU90: 0.12 | BV90: 0.22 | BW90: 0.59 | BX90: 0.12 | BY90: 1.25 | BZ90: 0.81 | CA90: 0.15 | CB90: 0.59 | CC90: 0.25 | CD90: 0.91 | CE90: 0.21 | CF90: 0.44 | CG90: 0.24 | CH90: 0.43 | CI90: 0.33 | CJ90: 1.54 | CK90: 0.11 | CL90: 0.011 | CM90: 0.1 | CN90: 0.038 | CQ90: 3.07 | CR90: 205.38 | CS90: 149.24 | CT90: 0.215 | CU90: 20.4 | CV90: 3.55 | CW90: 0.165 | CX90: 1.26 | CY90: 0.789 | CZ90: 0.426 | DA90: 2.04 | DB90: 1.98 | DC90: 2.94 | DD90: 1.21 | DE90: 0.334 | DF90: 0.108 | DG90: 0.0307 | DH90: 0.129 | DI90: 0.0251 | DJ90: 0.447 | DK90: 0.14 | DL90: 0.0917 | DM90: 0.00492 | DN90: =AVERAGE(DN4:DN15) -> 0.026787839 | DO90: 0.01356 | DP90: 0.0599 | DQ90: 0.109 | DR90: =AVERAGE(DR94,DR93) -> 0.02715 | DS90: 0.116 | DT90: 0.0163 | DU90: 0.0465 | DV90: 0.01232 | DW90: =AVERAGE(DW92,DW94) -> 0.0279 | DX90: 0.00694 | DY90: 0.0397 | DZ90: 0.00701 | EA90: 0.0547 | EB90: 0.0164 | EC90: =AVERAGE(EC91:EC94) -> 0.0255 | ED90: 0.00902 | EE90: 0.0128
A91: 42. Exp CHV-E157 | B91: CH-V-6C | C91: Clinopyroxene | D91: CHVE157-cpx-2 | F91: 1200 | G91: 0.0001 | H91: IW-1 | I91: 5.34 | J91: 229657.55 | K91: 166453.89 | L91: 295.76 | M91: 9512.7 | N91: 8183.47 | O91: 37.54 | P91: 3541.34 | Q91: 739.55 | R91: 50.2 | S91: 9.41 | T91: <DL | U91: <DL | V91: <DL | W91: <DL | X91: 33.31 | Y91: 20.22 | Z91: 52.6 | AA91: 3.47 | AB91: 0.7 | AC91: <DL | AD91: 0.28 | AE91: 2.92 | AF91: 6.43 | AG91: 1.25 | AH91: 12.44 | AI91: 7.01 | AJ91: 1.34 | AK91: 4.55 | AL91: 2.41 | AM91: 8.94 | AN91: 1.94 | AO91: 4.28 | AP91: 2.1 | AQ91: 4.41 | AR91: 3.36 | AS91: 15.53 | AT91: 1.06 | AU91: <DL | AV91: 1.01 | AW91: 0.301 | AZ91: 1.63 | BA91: 42600 | BB91: 5311.9 | BC91: 18.93 | BD91: 5415.8 | BE91: 1208.86 | BF91: 2.49 | BG91: 544.78 | BH91: 48.86 | BI91: 3.65 | BJ91: 1.44 | BK91: 0.96 | BL91: 1.45 | BM91: 0.48 | BN91: 0.16 | BO91: 2.16 | BP91: 1.16 | BQ91: 3.55 | BR91: 0.25 | BS91: 0.26 | BT91: 0.068 | BU91: 0.12 | BV91: 0.21 | BW91: 0.58 | BX91: 0.11 | BY91: 1.05 | BZ91: 0.79 | CA91: 0.14 | CB91: 0.51 | CC91: 0.22 | CD91: 0.83 | CE91: 0.19 | CF91: 0.41 | CG91: 0.21 | CH91: 0.44 | CI91: 0.31 | CJ91: 1.44 | CK91: 0.11 | CL91: 0.016 | CM91: 0.1 | CN91: 0.036 | CQ91: 3.58 | CR91: 235.96 | CS91: 171.81 | CT91: 0.219 | CU91: 23.01 | CV91: 4.48 | CW91: 0.224 | CX91: 1.83 | CY91: 0.892 | CZ91: 0.489 | DA91: 2.35 | DB91: 2.36 | DC91: 3.62 | DD91: 0.973 | DE91: 0.396 | DF91: 0.128 | DG91: 0.0252 | DH91: 0.0919 | DI91: =AVERAGE(DI92:DI94,DI90) -> 0.028575 | DJ91: 0.537 | DK91: 0.17 | DL91: 0.198 | DM91: =AVERAGE(DM92:DM94,DM90) -> 0.006565 | DN91: 0.026787839 | DO91: 0.0172 | DP91: 0.0599 | DQ91: 0.109 | DR91: 0.0289 | DS91: 0.191 | DT91: =AVERAGE(DT90,DT92:DT94) -> 0.013175 | DU91: 0.0393 | DV91: 0.0185 | DW91: 0.0279 | DX91: 0.0109 | DY91: 0.0397 | DZ91: =AVERAGE(DZ90,DZ92:DZ94) -> 0.00675 | EA91: 0.0482 | EB91: 0.0166 | EC91: 0.0405 | ED91: 0.00902 | EE91: 0.0128
A92: 42. Exp CHV-E157 | B92: CH-V-6C | C92: Clinopyroxene | D92: CHVE157-cpx-3 | F92: 1200 | G92: 0.0001 | H92: IW-1 | I92: 7.69 | J92: 224531.09 | K92: 163738.02 | L92: 286.84 | M92: 9386.25 | N92: 8175.15 | O92: 37.93 | P92: 4175.87 | Q92: 686.51 | R92: 48 | S92: 10.81 | T92: <DL | U92: <DL | V92: <DL | W92: <DL | X92: 31.86 | Y92: 20.2 | Z92: 55.38 | AA92: 3.76 | AB92: 0.88 | AC92: <DL | AD92: <DL | AE92: 3 | AF92: 6.24 | AG92: 1.39 | AH92: 12.95 | AI92: 7.23 | AJ92: 1.32 | AK92: 4.38 | AL92: 2.34 | AM92: 9.48 | AN92: 1.89 | AO92: 4.56 | AP92: 1.91 | AQ92: 4.34 | AR92: 3.33 | AS92: 15.52 | AT92: 1.15 | AU92: 0.019 | AV92: 1.23 | AW92: 0.309 | AZ92: 1.65 | BA92: 41657.2 | BB92: 5223.46 | BC92: 18.36 | BD92: 5333.32 | BE92: 1208.84 | BF92: 2.51 | BG92: 642.87 | BH92: 45.36 | BI92: 3.49 | BJ92: 1.47 | BK92: 0.88 | BL92: 1.48 | BM92: 0.43 | BN92: 0.14 | BO92: 2.07 | BP92: 1.15 | BQ92: 3.74 | BR92: 0.27 | BS92: 0.24 | BT92: 0.061 | BU92: 0.1 | BV92: 0.21 | BW92: 0.57 | BX92: 0.12 | BY92: 1.08 | BZ92: 0.81 | CA92: 0.14 | CB92: 0.49 | CC92: 0.21 | CD92: 0.88 | CE92: 0.18 | CF92: 0.43 | CG92: 0.19 | CH92: 0.43 | CI92: 0.3 | CJ92: 1.44 | CK92: 0.12 | CL92: 0.011 | CM92: 0.12 | CN92: 0.036 | CQ92: 3.11 | CR92: 204.29 | CS92: 150.82 | CT92: 0.242 | CU92: 19.87 | CV92: 3.58 | CW92: 0.193 | CX92: 1.54 | CY92: 0.804 | CZ92: 0.429 | DA92: 1.99 | DB92: 2.08 | DC92: 3.57 | DD92: 1.04 | DE92: 0.342 | DF92: 0.107 | DG92: 0.0291 | DH92: 0.0765 | DI92: 0.0234 | DJ92: 0.428 | DK92: 0.142 | DL92: 0.223 | DM92: 0.00786 | DN92: 0.026787839 | DO92: 0.0148 | DP92: 0.0599 | DQ92: 0.109 | DR92: 0.0117 | DS92: 0.174 | DT92: 0.0135 | DU92: 0.0671 | DV92: 0.01 | DW92: 0.0333 | DX92: 0.00812 | DY92: 0.0397 | DZ92: 0.006 | EA92: =AVERAGE(EA90:EA91) -> 0.05145 | EB92: 0.00821 | EC92: 0.0174 | ED92: 0.0112 | EE92: 0.0128
A93: 42. Exp CHV-E157 | B93: CH-V-6C | C93: Clinopyroxene | D93: CHVE157-cpx-4 | F93: 1200 | G93: 0.0001 | H93: IW-1 | I93: 7.35 | J93: 228234.73 | K93: 167383 | L93: 287.42 | M93: 9138.98 | N93: 8004.72 | O93: 37.34 | P93: 3778.41 | Q93: 743.14 | R93: 50.22 | S93: 6.89 | T93: <DL | U93: <DL | V93: <DL | W93: <DL | X93: 31.8 | Y93: 21.92 | Z93: 50.92 | AA93: 3.45 | AB93: 0.93 | AC93: <DL | AD93: 0.33 | AE93: 2.89 | AF93: 6.37 | AG93: 1.24 | AH93: 13.32 | AI93: 8.21 | AJ93: 1.32 | AK93: 4.95 | AL93: 2.58 | AM93: 9.44 | AN93: 1.96 | AO93: 4.61 | AP93: 2.39 | AQ93: 4.46 | AR93: 3.66 | AS93: 14.25 | AT93: 1 | AU93: 0.019 | AV93: 1.25 | AW93: 0.373 | AZ93: 1.72 | BA93: 42354.3 | BB93: 5346.5 | BC93: 18.43 | BD93: 5183.34 | BE93: 1185.12 | BF93: 2.49 | BG93: 582.32 | BH93: 49.14 | BI93: 3.66 | BJ93: 1.35 | BK93: 0.94 | BL93: 1.47 | BM93: 0.91 | BN93: 0.15 | BO93: 2.07 | BP93: 1.26 | BQ93: 3.45 | BR93: 0.26 | BS93: 0.23 | BT93: 0.065 | BU93: 0.14 | BV93: 0.21 | BW93: 0.58 | BX93: 0.11 | BY93: 1.13 | BZ93: 0.93 | CA93: 0.14 | CB93: 0.55 | CC93: 0.24 | CD93: 0.88 | CE93: 0.19 | CF93: 0.44 | CG93: 0.24 | CH93: 0.45 | CI93: 0.33 | CJ93: 1.33 | CK93: 0.11 | CL93: 0.011 | CM93: 0.13 | CN93: 0.043 | CQ93: 3.39 | CR93: 229.32 | CS93: 161.01 | CT93: 0.234 | CU93: 22.74 | CV93: 4.29 | CW93: 0.211 | CX93: 1.3 | CY93: 0.893 | CZ93: 0.522 | DA93: 2.51 | DB93: 2.22 | DC93: 3.15 | DD93: 1.72 | DE93: 0.364 | DF93: 0.117 | DG93: =AVERAGE(DG90:DG92,DG94) -> 0.0285 | DH93: 0.122 | DI93: 0.0317 | DJ93: 0.353 | DK93: 0.154 | DL93: 0.247 | DM93: 0.00697 | DN93: 0.026787839 | DO93: =AVERAGE(DO94,DO92,DO91) -> 0.01356 | DP93: 0.0599 | DQ93: 0.109 | DR93: 0.0329 | DS93: 0.15 | DT93: 0.0114 | DU93: 0.0331 | DV93: 0.00846 | DW93: 0.0279 | DX93: 0.0112 | DY93: 0.0397 | DZ93: 0.00689 | EA93: 0.05145 | EB93: =AVERAGE(EB90:EB92) -> 0.013736667 | EC93: 0.0171 | ED93: 0.00684 | EE93: 0.0128
A94: 42. Exp CHV-E157 | B94: CH-V-6C | C94: Clinopyroxene | D94: CHVE157-cpx-5 | F94: 1200 | G94: 0.0001 | H94: IW-1 | I94: 6.79 | J94: 224897.58 | K94: 167525.94 | L94: 223.1 | M94: 9224.39 | N94: 8027.75 | O94: 19.99 | P94: 1490.51 | Q94: 797.6 | R94: 45.45 | S94: 9.15 | T94: <DL | U94: <DL | V94: <DL | W94: <DL | X94: 35.32 | Y94: 21.8 | Z94: 52.56 | AA94: 2.53 | AB94: <DL | AC94: <DL | AD94: <DL | AE94: 2.88 | AF94: 6.37 | AG94: 1.38 | AH94: 12.88 | AI94: 8.44 | AJ94: 1.43 | AK94: 5.05 | AL94: 2.6 | AM94: 9.91 | AN94: 2.22 | AO94: 4.78 | AP94: 2.32 | AQ94: 4.33 | AR94: 3.72 | AS94: 14.39 | AT94: 0.736 | AU94: <DL | AV94: 0.912 | AW94: 0.35 | AZ94: 1.59 | BA94: 41743.58 | BB94: 5348.56 | BC94: 14.32 | BD94: 5222.88 | BE94: 1189.99 | BF94: 1.36 | BG94: 230.14 | BH94: 52.74 | BI94: 3.32 | BJ94: 1.38 | BK94: 0.87 | BL94: 1.19 | BM94: 0.48 | BN94: 0.15 | BO94: 2.3 | BP94: 1.25 | BQ94: 3.56 | BR94: 0.19 | BS94: 0.17 | BT94: 0.06 | BU94: 0.11 | BV94: 0.21 | BW94: 0.58 | BX94: 0.12 | BY94: 1.09 | BZ94: 0.95 | CA94: 0.15 | CB94: 0.56 | CC94: 0.24 | CD94: 0.92 | CE94: 0.22 | CF94: 0.46 | CG94: 0.23 | CH94: 0.44 | CI94: 0.34 | CJ94: 1.34 | CK94: 0.081 | CL94: 0.015 | CM94: 0.093 | CN94: 0.041 | CQ94: 3 | CR94: 200.14 | CS94: 147.78 | CT94: 0.187 | CU94: 20.06 | CV94: 3.99 | CW94: 0.14 | CX94: 1.62 | CY94: 0.786 | CZ94: 0.466 | DA94: 2.03 | DB94: 2.02 | DC94: 2.82 | DD94: 0.985 | DE94: 0.339 | DF94: 0.136 | DG94: 0.029 | DH94: 0.125 | DI94: 0.0341 | DJ94: 0.38 | DK94: 0.136 | DL94: 0.23 | DM94: 0.00651 | DN94: 0.026787839 | DO94: 0.00868 | DP94: 0.0599 | DQ94: 0.109 | DR94: 0.0214 | DS94: 0.103 | DT94: 0.0115 | DU94: =AVERAGE(DU91:DU93) -> 0.0465 | DV94: =AVERAGE(DV91:DV93) -> 0.01232 | DW94: 0.0225 | DX94: 0.0145 | DY94: 0.0397 | DZ94: 0.0071 | EA94: 0.0384 | EB94: 0.013736667 | EC94: 0.027 | ED94: =AVERAGE(ED92,ED93) -> 0.00902 | EE94: 0.0128
D95: Average | I95: =AVERAGE(I90:I94) -> 6.774 | J95: =AVERAGE(J90:J94) -> 225627.61 | K95: =AVERAGE(K90:K94) -> 166110.83 | L95: =AVERAGE(L90:L94) -> 266.61 | M95: =AVERAGE(M90:M94) -> 9486.416 | N95: =AVERAGE(N90:N94) -> 8227.96 | O95: =AVERAGE(O90:O94) -> 31.522 | P95: =AVERAGE(P90:P94) -> 3005.472 | ... S95: =AVERAGE(S90:S94) -> 8.652 | X95: =AVERAGE(X90:X94) -> 33.402 | Y95: =AVERAGE(Y90:Y94) -> 21.254 | Z95: =AVERAGE(Z90:Z94) -> 53.956 | AA95: =AVERAGE(AA90:AA94) -> 3.23 | AB95: =AVERAGE(AB90:AB94) -> 0.83666667 | AD95: =AVERAGE(AD90:AD94) -> 0.34666667 | AE95: =AVERAGE(AE90:AE94) -> 2.948 | AF95: =AVERAGE(AF90:AF94) -> 6.38 | AG95: =AVERAGE(AG90:AG94) -> 1.328 | AH95: =AVERAGE(AH90:AH94) -> 13.32 | AI95: =AVERAGE(AI90:AI94) -> 7.594 | AJ95: =AVERAGE(AJ90:AJ94) -> 1.368 | AK95: =AVERAGE(AK90:AK94) -> 4.85 | ... AW95: =AVERAGE(AW90:AW94) -> 0.3314
D96: Median | I96: =MEDIAN(I90:I94) -> 6.79 | J96: =MEDIAN(J90:J94) -> 224897.58 | K96: =MEDIAN(K90:K94) -> 166453.89 | L96: =MEDIAN(L90:L94) -> 286.84 | M96: =MEDIAN(M90:M94) -> 9386.25 | N96: =MEDIAN(N90:N94) -> 8175.15 | O96: =MEDIAN(O90:O94) -> 37.34 | P96: =MEDIAN(P90:P94) -> 3541.34 | ... S96: =MEDIAN(S90:S94) -> 9.15 | X96: =MEDIAN(X90:X94) -> 33.31 | Y96: =MEDIAN(Y90:Y94) -> 21.8 | Z96: =MEDIAN(Z90:Z94) -> 52.6 | AA96: =MEDIAN(AA90:AA94) -> 3.45 | AB96: =MEDIAN(AB90:AB94) -> 0.88 | AD96: =MEDIAN(AD90:AD94) -> 0.33 | AE96: =MEDIAN(AE90:AE94) -> 2.92 | AF96: =MEDIAN(AF90:AF94) -> 6.37 | AG96: =MEDIAN(AG90:AG94) -> 1.38 | AH96: =MEDIAN(AH90:AH94) -> 12.95 | AI96: =MEDIAN(AI90:AI94) -> 7.23 | AJ96: =MEDIAN(AJ90:AJ94) -> 1.34 | AK96: =MEDIAN(AK90:AK94) -> 4.95 | ... AW96: =MEDIAN(AW90:AW94) -> 0.324
D97: Stdev | I97: =STDEV(I90:I94) -> 0.89901613 | J97: =STDEV(J90:J94) -> 3460.9966 | K97: =STDEV(K90:K94) -> 1565.3447 | L97: =STDEV(L90:L94) -> 32.775654 | M97: =STDEV(M90:M94) -> 408.36641 | N97: =STDEV(N90:N94) -> 302.43551 | O97: =STDEV(O90:O94) -> 8.5024391 | P97: =STDEV(P90:P94) -> 1170.3943 | ... S97: =STDEV(S90:S94) -> 1.681761 | X97: =STDEV(X90:X94) -> 1.6100062 | Y97: =STDEV(Y90:Y94) -> 0.9603541 | Z97: =STDEV(Z90:Z94) -> 2.9187806 | AA97: =STDEV(AA90:AA94) -> 0.49015304 | AB97: =STDEV(AB90:AB94) -> 0.12096832 | AD97: =STDEV(AD90:AD94) -> 0.076376262 | AE97: =STDEV(AE90:AE94) -> 0.073959448 | AF97: =STDEV(AF90:AF94) -> 0.092736185 | AG97: =STDEV(AG90:AG94) -> 0.075960516 | AH97: =STDEV(AH90:AH94) -> 0.99511306 | AI97: =STDEV(AI90:AI94) -> 0.67692688 | AJ97: =STDEV(AJ90:AJ94) -> 0.057183914 | AK97: =STDEV(AK90:AK94) -> 0.38137908 | ... AW97: =STDEV(AW90:AW94) -> 0.029821133
D98: RSD | I98: =I97/I95 -> 0.1327157 | J98: =J97/J95 -> 0.01533942 | K98: =K97/K95 -> 0.0094234957 | L98: =L97/L95 -> 0.12293483 | M98: =M97/M95 -> 0.043047491 | N98: =N97/N95 -> 0.036757047 | O98: =O97/O95 -> 0.26973032 | P98: =P97/P95 -> 0.38942114 | ... S98: =S97/S95 -> 0.19437829 | X98: =X97/X95 -> 0.048200892 | Y98: =Y97/Y95 -> 0.045184629 | Z98: =Z97/Z95 -> 0.05409557 | AA98: =AA97/AA95 -> 0.15175017 | AB98: =AB97/AB95 -> 0.14458364 | AD98: =AD97/AD95 -> 0.22031614 | AE98: =AE97/AE95 -> 0.025088008 | AF98: =AF97/AF95 -> 0.014535452 | AG98: =AG97/AG95 -> 0.057199184 | AH98: =AH97/AH95 -> 0.074708188 | AI98: =AI97/AI95 -> 0.0891397 | AJ98: =AJ97/AJ95 -> 0.041801107 | AK98: =AK97/AK95 -> 0.078634861 | ... AW98: =AW97/AW95 -> 0.089985315
D99: RSD% | I99: =I98*100 -> 13.27157 | J99: =J98*100 -> 1.533942 | K99: =K98*100 -> 0.94234957 | L99: =L98*100 -> 12.293483 | M99: =M98*100 -> 4.3047491 | N99: =N98*100 -> 3.6757047 | O99: =O98*100 -> 26.973032 | P99: =P98*100 -> 38.942114 | ... S99: =S98*100 -> 19.437829 | X99: =X98*100 -> 4.8200892 | Y99: =Y98*100 -> 4.5184629 | Z99: =Z98*100 -> 5.409557 | AA99: =AA98*100 -> 15.175017 | AB99: =AB98*100 -> 14.458364 | AD99: =AD98*100 -> 22.031614 | AE99: =AE98*100 -> 2.5088008 | AF99: =AF98*100 -> 1.4535452 | AG99: =AG98*100 -> 5.7199184 | AH99: =AH98*100 -> 7.4708188 | AI99: =AI98*100 -> 8.91397 | AJ99: =AJ98*100 -> 4.1801107 | AK99: =AK98*100 -> 7.8634861 | ... AW99: =AW98*100 -> 8.9985315
A101: 42. Exp CHV-E157 | B101: CH-V-6C | C101: Glass | D101: CHVE157-gl-1 | F101: 1210 | G101: 0.0001 | H101: IW-1 | I101: 103.45 | J101: 184730.34 | K101: 130461.53 | L101: 55.89 | M101: 15539.43 | N101: 14745.05 | O101: 2.29 | P101: 119.62 | Q101: 2244.46 | R101: 55.07 | S101: 8.37 | T101: <DL | U101: <DL | V101: 1.29 | W101: 5.38 | X101: 367.24 | Y101: 64.07 | Z101: 155.62 | AA101: 302.29 | AB101: 1 | AC101: 0.936 | AD101: 246.62 | AE101: 39 | AF101: 53.46 | AG101: 7.94 | AH101: 60.13 | AI101: 24.18 | AJ101: 7.46 | AK101: 14.08 | AL101: 6.72 | AM101: 26.45 | AN101: 5.7 | AO101: 13.65 | AP101: 6.62 | AQ101: 14.05 | AR101: 10.42 | AS101: 20.49 | AT101: 25.13 | AU101: <DL | AV101: 73.01 | AW101: 28.98 | AZ101: 10.07 | BA101: 32275.38 | BB101: 4139.89 | BC101: 3.1 | BD101: 4976.72 | BE101: 2121.12 | BF101: 0.15 | BG101: 12.95 | BH101: 133.53 | BI101: 3.38 | BJ101: 0.84 | BK101: 0.37 | BL101: 0.66 | BM101: 0.63 | BN101: 0.3 | BO101: 17.61 | BP101: 3 | BQ101: 6.3 | BR101: 14.74 | BS101: 0.13 | BT101: 0.052 | BU101: 14.75 | BV101: 1.43 | BW101: 2.2 | BX101: 0.35 | BY101: 3.68 | BZ101: 1.41 | CA101: 0.37 | CB101: 0.75 | CC101: 0.27 | CD101: 1.07 | CE101: 0.2 | CF101: 0.65 | CG101: 0.29 | CH101: 0.6 | CI101: 0.35 | CJ101: 0.92 | CK101: 0.96 | CL101: 0.0047 | CM101: 2.99 | CN101: 1.18 | CQ101: 1.48 | CR101: 93.04 | CS101: 72.3 | CT101: 0.101 | CU101: 9.55 | CV101: 2.01 | CW101: 0.086 | CX101: 0.695 | CY101: 0.381 | CZ101: 0.226 | DA101: 0.966 | DB101: 0.976 | DC101: 1.48 | DD101: 0.325 | DE101: 0.166 | DF101: 0.058 | DG101: 0.0103 | DH101: 0.0443 | DI101: 0.00799 | DJ101: 0.181 | DK101: 0.0677 | DL101: 0.142 | DM101: 0.00352 | DN101: 0.0113 | DO101: 0.00628 | DP101: 0.0302 | DQ101: 0.0386 | DR101: 0.0165 | DS101: 0.0658 | DT101: 0.00324 | DU101: 0.0153 | DV101: 0.00693 | DW101: 0.0193 | DX101: 0.005785 | DY101: =AVERAGE(DZ102,DZ104,DZ105) -> 0.0030233333 | DZ101: 0.00323 | EA101: 0.015933333 | EB101: 0.0116 | EC101: 0.0109 | ED101: 0.00294 | EE101: 0.00376
A102: 42. Exp CHV-E157 | B102: CH-V-6C | C102: Glass | D102: CHVE157-gl-2 | F102: 1210 | G102: 0.0001 | H102: IW-1 | I102: 102.05 | J102: 184420.06 | K102: 130461.54 | L102: 56.73 | M102: 15669.15 | N102: 14710.22 | O102: 2.21 | P102: 117.85 | Q102: 2264.94 | R102: 55.76 | S102: 8.03 | T102: <DL | U102: <DL | V102: <DL | W102: 5.42 | X102: 368.91 | Y102: 65.54 | Z102: 156.54 | AA102: 302.92 | AB102: 1.24 | AC102: 0.932 | AD102: 251.4 | AE102: 39.17 | AF102: 53.81 | AG102: 8.2 | AH102: 59.93 | AI102: 24.7 | AJ102: 7.51 | AK102: 13.74 | AL102: 6.58 | AM102: 26.51 | AN102: 5.79 | AO102: 13.18 | AP102: 6.66 | AQ102: 14.04 | AR102: 10.46 | AS102: 20.39 | AT102: 25.3 | AU102: <DL | AV102: 73.31 | AW102: 29.3 | AZ102: 9.96 | BA102: 32221.13 | BB102: 4140.09 | BC102: 3.15 | BD102: 5056.83 | BE102: 2133.59 | BF102: 0.14 | BG102: 12.86 | BH102: 135.05 | BI102: 3.44 | BJ102: 0.81 | BK102: 0.42 | BL102: 0.63 | BM102: 0.32 | BN102: 0.3 | BO102: 17.77 | BP102: 3.09 | BQ102: 6.36 | BR102: 14.83 | BS102: 0.14 | BT102: 0.053 | BU102: 15.13 | BV102: 1.44 | BW102: 2.22 | BX102: 0.36 | BY102: 3.69 | BZ102: 1.44 | CA102: 0.37 | CB102: 0.73 | CC102: 0.26 | CD102: 1.08 | CE102: 0.21 | CF102: 0.63 | CG102: 0.29 | CH102: 0.6 | CI102: 0.35 | CJ102: 0.92 | CK102: 0.97 | CL102: 0.0072 | CM102: 3.02 | CN102: 1.2 | CQ102: 1.47 | CR102: 95.29 | CS102: 72.62 | CT102: 0.0857 | CU102: 9.8 | CV102: 2.05 | CW102: 0.0867 | CX102: 0.665 | CY102: 0.372 | CZ102: 0.237 | DA102: 0.951 | DB102: 1.06 | DC102: 1.52 | DD102: 0.626 | DE102: 0.163 | DF102: 0.0588 | DG102: 0.0115 | DH102: 0.0187 | DI102: 0.014 | DJ102: 0.177 | DK102: 0.0682 | DL102: 0.0941 | DM102: 0.00308 | DN102: =AVERAGE(DN101,DN103,DN105) -> 0.0082733333 | DO102: 0.00628 | DP102: 0.0354 | DQ102: 0.0554 | DR102: 0.0133 | DS102: 0.0555 | DT102: 0.00324 | DU102: 0.0153 | DV102: 0.0055033333 | DW102: 0.0173 | DX102: 0.00769 | DY102: 0.0265 | DZ102: 0.00239 | EA102: 0.016 | EB102: 0.00765 | EC102: 0.019 | ED102: 0.00294 | EE102: 0.00376
A103: 42. Exp CHV-E157 | B103: CH-V-6C | C103: Glass | D103: CHVE157-gl-3 | F103: 1210 | G103: 0.0001 | H103: IW-1 | I103: 105.16 | J103: 186148.92 | K103: 130461.54 | L103: 56.3 | M103: 15524.58 | N103: 14719.71 | O103: 2.17 | P103: 116.06 | Q103: 2282.09 | R103: 57.78 | S103: 7.99 | T103: <DL | U103: 2.01 | V103: <DL | W103: 5.3 | X103: 369.73 | Y103: 65.14 | Z103: 156.59 | AA103: 304.42 | AB103: 1.12 | AC103: 1.028 | AD103: 248.92 | AE103: 39.31 | AF103: 53.04 | AG103: 8.13 | AH103: 60.7 | AI103: 24.14 | AJ103: 7.63 | AK103: 13.71 | AL103: 6.67 | AM103: 27.28 | AN103: 5.72 | AO103: 14.02 | AP103: 6.6 | AQ103: 13.91 | AR103: 10.37 | AS103: 20.34 | AT103: 25.23 | AU103: <DL | AV103: 73.32 | AW103: 28.98 | AZ103: 10.28 | BA103: 32522.63 | BB103: 4137.25 | BC103: 3.14 | BD103: 5048.48 | BE103: 2152.47 | BF103: 0.14 | BG103: 12.73 | BH103: 136.35 | BI103: 3.58 | BJ103: 0.8 | BK103: 0.36 | BL103: 0.7 | BM103: 0.26 | BN103: 0.29 | BO103: 17.89 | BP103: 3.08 | BQ103: 6.37 | BR103: 14.97 | BS103: 0.13 | BT103: 0.054 | BU103: 15.06 | BV103: 1.45 | BW103: 2.19 | BX103: 0.36 | BY103: 3.75 | BZ103: 1.41 | CA103: 0.38 | CB103: 0.73 | CC103: 0.26 | CD103: 1.11 | CE103: 0.2 | CF103: 0.67 | CG103: 0.29 | CH103: 0.59 | CI103: 0.35 | CJ103: 0.91 | CK103: 0.97 | CL103: 0.007 | CM103: 3.03 | CN103: 1.19 | CQ103: 1.51 | CR103: 97.44 | CS103: 76.67 | CT103: 0.103 | CU103: 9.75 | CV103: 1.8 | CW103: 0.0956 | CX103: 0.625 | CY103: 0.37 | CZ103: 0.218 | DA103: 0.996 | DB103: 0.944 | DC103: 1.32 | DD103: 0.702 | DE103: 0.169 | DF103: 0.0611 | DG103: 0.0164 | DH103: 0.0502 | DI103: <0.00000 | DJ103: 0.209 | DK103: 0.0657 | DL103: 0.0993 | DM103: =AVERAGE(DM102,DM101,DM104) -> 0.0034233333 | DN103: 0.00751 | DO103: 0.00628 | DP103: 0.0625 | DQ103: 0.0498 | DR103: 0.0133 | DS103: 0.0646 | DT103: 0.00324 | DU103: 0.0153 | DV103: 0.00477 | DW103: 0.0173 | DX103: 0.005785 | DY103: 0.0030233333 | DZ103: 0.00278 | EA103: 0.0199 | EB103: 0.0097 | EC103: 0.0206 | ED103: 0.00294 | EE103: 0.00376
A104: 42. Exp CHV-E157 | B104: CH-V-6C | C104: Glass | D104: CHVE157-gl-4 | F104: 1210 | G104: 0.0001 | H104: IW-1 | I104: 102.23 | J104: 183955.33 | K104: 130461.54 | L104: 56.51 | M104: 15684.22 | N104: 14663.01 | O104: 2.29 | P104: 117.01 | Q104: 2277.35 | R104: 56.59 | S104: 8.57 | T104: <DL | U104: <DL | V104: <DL | W104: 5.38 | X104: 376.23 | Y104: 64.98 | Z104: 158.46 | AA104: 306.47 | AB104: 0.83 | AC104: 0.944 | AD104: 252.33 | AE104: 39.55 | AF104: 54.04 | AG104: 8.06 | AH104: 60.23 | AI104: 24.02 | AJ104: 7.48 | AK104: 14.33 | AL104: 6.82 | AM104: 26.56 | AN104: 5.84 | AO104: 13.8 | AP104: 6.79 | AQ104: 14.03 | AR104: 10.45 | AS104: 20.79 | AT104: 25.79 | AU104: <DL | AV104: 74.73 | AW104: 29.56 | AZ104: 10.03 | BA104: 32140.02 | BB104: 4141.03 | BC104: 3.16 | BD104: 5139.29 | BE104: 2161.84 | BF104: 0.15 | BG104: 12.96 | BH104: 136.4 | BI104: 3.52 | BJ104: 0.86 | BK104: 0.37 | BL104: 0.65 | BM104: 0.32 | BN104: 0.3 | BO104: 18.3 | BP104: 3.09 | BQ104: 6.47 | BR104: 15.15 | BS104: 0.12 | BT104: 0.053 | BU104: 15.38 | BV104: 1.47 | BW104: 2.24 | BX104: 0.36 | BY104: 3.76 | BZ104: 1.42 | CA104: 0.38 | CB104: 0.77 | CC104: 0.27 | CD104: 1.09 | CE104: 0.21 | CF104: 0.67 | CG104: 0.3 | CH104: 0.61 | CI104: 0.35 | CJ104: 0.94 | CK104: 1 | CL104: 0.0046 | CM104: 3.1 | CN104: 1.22 | CQ104: 1.5 | CR104: 91.95 | CS104: 71.43 | CT104: 0.0975 | CU104: 9.22 | CV104: 1.87 | CW104: 0.0998 | CX104: 0.656 | CY104: 0.366 | CZ104: 0.228 | DA104: 0.914 | DB104: 0.934 | DC104: 1.43 | DD104: 0.535 | DE104: 0.167 | DF104: 0.056 | DG104: 0.00949 | DH104: 0.0476 | DI104: 0.00927 | DJ104: 0.19 | DK104: 0.0633 | DL104: 0.0526 | DM104: 0.00367 | DN104: 0.0082733333 | DO104: 0.00628 | DP104: =AVERAGE(DP101:DP103,DP105) -> 0.0419 | DQ104: =AVERAGE(DQ101:DQ103,DQ105) -> 0.0454 | DR104: 0.0112 | DS104: 0.0407 | DT104: 0.00324 | DU104: 0.0153 | DV104: 0.00481 | DW104: 0.0153 | DX104: 0.00388 | DY104: 0.0234 | DZ104: 0.00399 | EA104: =AVERAGE(EA102,EA103,EA105) -> 0.015933333 | EB104: 0.00769 | EC104: 0.0101 | ED104: 0.00294 | EE104: 0.00376
A105: 42. Exp CHV-E157 | B105: CH-V-6C | C105: Glass | D105: CHVE157-gl-5 | F105: 1210 | G105: 0.0001 | H105: IW-1 | I105: 102.9 | J105: 185138.97 | K105: 130461.54 | L105: 55.39 | M105: 15413.87 | N105: 14721.1 | O105: 2.3 | P105: 116.88 | Q105: 2275.4 | R105: 57 | S105: 8.22 | T105: <DL | U105: <DL | V105: 0.49 | W105: 5.14 | X105: 364.93 | Y105: 64.26 | Z105: 154.99 | AA105: 301 | AB105: 1.15 | AC105: 0.901 | AD105: 248.9 | AE105: 38.75 | AF105: 52.7 | AG105: 8.04 | AH105: 59.7 | AI105: 24.71 | AJ105: 7.47 | AK105: 14.13 | AL105: 6.8 | AM105: 26.19 | AN105: 5.8 | AO105: 13.92 | AP105: 6.82 | AQ105: 14.41 | AR105: 10.31 | AS105: 20.04 | AT105: 25.48 | AU105: <DL | AV105: 73.32 | AW105: 28.9 | AZ105: 10.12 | BA105: 32346.79 | BB105: 4141 | BC105: 3.11 | BD105: 5089 | BE105: 2188.14 | BF105: 0.15 | BG105: 13.04 | BH105: 136.59 | BI105: 3.57 | BJ105: 0.84 | BK105: 0.37 | BL105: 0.63 | BM105: 0.31 | BN105: 0.29 | BO105: 17.84 | BP105: 3.07 | BQ105: 6.35 | BR105: 14.94 | BS105: 0.14 | BT105: 0.052 | BU105: 15.27 | BV105: 1.44 | BW105: 2.19 | BX105: 0.36 | BY105: 3.75 | BZ105: 1.47 | CA105: 0.38 | CB105: 0.77 | CC105: 0.27 | CD105: 1.08 | CE105: 0.21 | CF105: 0.68 | CG105: 0.3 | CH105: 0.63 | CI105: 0.35 | CJ105: 0.91 | CK105: 0.99 | CL105: 0.0055 | CM105: 3.05 | CN105: 1.2 | CQ105: 1.46 | CR105: 93.13 | CS105: 71.39 | CT105: 0.0909 | CU105: 9.29 | CV105: 2.25 | CW105: 0.0789 | CX105: 0.753 | CY105: 0.359 | CZ105: 0.231 | DA105: 0.933 | DB105: 0.889 | DC105: 1.48 | DD105: 0.447 | DE105: 0.168 | DF105: 0.0535 | DG105: 0.0181 | DH105: 0.0535 | DI105: 0.00782 | DJ105: 0.165 | DK105: 0.0674 | DL105: 0.0757 | DM105: 0.00165 | DN105: 0.00601 | DO105: 0.00628 | DP105: 0.0395 | DQ105: 0.0378 | DR105: 0.0105 | DS105: 0.0416 | DT105: 0.00324 | DU105: 0.0153 | DV105: =AVERAGE(DV104,DV103,DV101) -> 0.0055033333 | DW105: =AVERAGE(DW104,DW101) -> 0.0173 | DX105: =AVERAGE(DX104,DX102) -> 0.005785 | DY105: 0.0208 | DZ105: 0.00269 | EA105: 0.0119 | EB105: 0.00813 | EC105: 0.011 | ED105: 0.00294 | EE105: 0.00376
D106: Average | I106: =AVERAGE(I101:I105) -> 103.158 | J106: =AVERAGE(J101:J105) -> 184878.72 | K106: =AVERAGE(K101:K105) -> 130461.54 | L106: =AVERAGE(L101:L105) -> 56.164 | M106: =AVERAGE(M101:M105) -> 15566.25 | N106: =AVERAGE(N101:N105) -> 14711.818 | O106: =AVERAGE(O101:O105) -> 2.252 | P106: =AVERAGE(P101:P105) -> 117.484 | ... S106: =AVERAGE(S101:S105) -> 8.236 | U106: =AVERAGE(U101:U105) -> 2.01 | V106: =AVERAGE(V101:V105) -> 0.89 | W106: =AVERAGE(W101:W105) -> 5.324 | X106: =AVERAGE(X101:X105) -> 369.408 | Y106: =AVERAGE(Y101:Y105) -> 64.798 | Z106: =AVERAGE(Z101:Z105) -> 156.44 | AA106: =AVERAGE(AA101:AA105) -> 303.42 | AB106: =AVERAGE(AB101:AB105) -> 1.068 | ... AT106: =AVERAGE(AT101:AT105) -> 25.386 | AV106: =AVERAGE(AV101:AV105) -> 73.538 | AW106: =AVERAGE(AW101:AW105) -> 29.144
D107: Median | I107: =MEDIAN(I101:I105) -> 102.9 | J107: =MEDIAN(J101:J105) -> 184730.34 | K107: =MEDIAN(K101:K105) -> 130461.54 | L107: =MEDIAN(L101:L105) -> 56.3 | M107: =MEDIAN(M101:M105) -> 15539.43 | N107: =MEDIAN(N101:N105) -> 14719.71 | O107: =MEDIAN(O101:O105) -> 2.29 | P107: =MEDIAN(P101:P105) -> 117.01 | ... S107: =MEDIAN(S101:S105) -> 8.22 | U107: =MEDIAN(U101:U105) -> 2.01 | V107: =MEDIAN(V101:V105) -> 0.89 | W107: =MEDIAN(W101:W105) -> 5.38 | X107: =MEDIAN(X101:X105) -> 368.91 | Y107: =MEDIAN(Y101:Y105) -> 64.98 | Z107: =MEDIAN(Z101:Z105) -> 156.54 | AA107: =MEDIAN(AA101:AA105) -> 302.92 | AB107: =MEDIAN(AB101:AB105) -> 1.12 | ... AT107: =MEDIAN(AT101:AT105) -> 25.3 | AV107: =MEDIAN(AV101:AV105) -> 73.32 | AW107: =MEDIAN(AW101:AW105) -> 28.98
...

Sheet S3_av_min_comps_and_d-values
A1: Table S3: Average mineral and melt compositions and calculated D-values
AB2: Cpx comp | AG2: Pl An () | FI2: relative error on Kd in %
D3: Conc. wt% | E3: Err. (1s abs) | F3: Conc. wt% | G3: Err. (1s abs) | H3: Conc. wt% | I3: Err. (1s abs) | J3: Conc. wt% | K3: Err. (1s abs) | L3: Conc. wt% | M3: Err. (1s abs) | N3: Conc. wt% | O3: Err. (1s abs) | P3: Conc. wt% | Q3: Err. (1s abs) | R3: Conc. wt% | S3: Err. (1s abs) | T3: Conc. wt% | U3: Err. (1s abs) | V3: Conc. wt% | W3: Err. (1s abs) | X3: Conc. wt% | Y3: Err. (1s abs) | AJ3: Conc. ppm | AK3: Conc. ppm | AL3: Conc. ppm | AM3: Conc. ppm | AN3: Conc. ppm | AO3: Conc. ppm | AP3: Conc. ppm | AQ3: Conc. ppm | AR3: Conc. ppm | AS3: Conc. ppm | AT3: Conc. ppm | AU3: Conc. ppm | AV3: Conc. ppm | AW3: Conc. ppm | AX3: Conc. ppm | AY3: Conc. ppm | AZ3: Conc. ppm | BA3: Conc. ppm | BB3: Conc. ppm | BC3: Conc. ppm | BD3: Conc. ppm | BE3: Conc. ppm | BF3: Conc. ppm | BG3: Conc. ppm | BH3: Conc. ppm | BI3: Conc. ppm | BJ3: Conc. ppm | BK3: Conc. ppm | BL3: Conc. ppm | BM3: Conc. ppm | BN3: Conc. ppm | BO3: Conc. ppm | BP3: Conc. ppm | BQ3: Conc. ppm | BR3: Conc. ppm | BS3: Conc. ppm | BT3: Conc. ppm | BU3: Conc. ppm | BV3: Conc. ppm | BW3: Conc. ppm | BX3: Conc. ppm | BY3: Conc. ppm | CA3: Absolute uncertainty | DR3: D | DS3: D | DT3: D | DU3: D | DV3: D | DW3: D | DX3: D | DY3: D | DZ3: D | EA3: D | EB3: D | EC3: D | ED3: D | EE3: D | EF3: D | EG3: D | EH3: D | EI3: D | EJ3: D | EK3: D | EL3: D | EM3: D | EN3: D | EO3: D | EP3: D | EQ3: D | ER3: D | ES3: D | ET3: D | EU3: D | EV3: D | EW3: D | EX3: D | EY3: D | EZ3: D | FA3: D | FB3: D | FC3: D | FD3: D | FE3: D | FF3: D | FI3: D errors | FJ3: D errors | FK3: D errors | FL3: D errors | FM3: D errors | FN3: D errors | FO3: D errors | FP3: D errors | FQ3: D errors | FR3: D errors | FS3: D errors | FT3: D errors | FU3: D errors | FV3: D errors | FW3: D errors | FX3: D errors | FY3: D errors | FZ3: D errors | GA3: D errors | GB3: D errors | GC3: D errors | GD3: D errors | GE3: D errors | GF3: D errors | GG3: D errors | GH3: D errors | GI3: D errors | GJ3: D errors | GK3: D errors | GL3: D errors | GM3: D errors | GN3: D errors | GO3: D errors | GP3: D errors | GQ3: D errors | GR3: D errors | GS3: D errors | GT3: D errors | GU3: D errors | GV3: D errors | GW3: D errors | GX3: D errors | GZ3: absolute error
C4: n | D4: SiO2 | E4: SiO2 | F4: Na2O | G4: Na2O | H4: TiO2 | I4: TiO2 | J4: K2O | K4: K2O | L4: CaO | M4: CaO | N4: MgO | O4: MgO | P4: Al2O3 | Q4: Al2O3 | R4: FeO | S4: FeO | T4: MnO | U4: MnO | V4: Cr2O3 | W4: Cr2O3 | X4: NiO | Y4: NiO | Z4: Total | AA4: n | AB4: Xwo | AC4: Xen | AD4: XFs | AE4: Mg# | AF4: Al(IV) | AG4: Xan | AH4: KD FeMg | AI4: KD TiSi | AJ4: =S2_trace_elements!I3 -> Li | AK4: =S2_trace_elements!J3 -> Si | AL4: =S2_trace_elements!K3 -> Ca | AM4: =S2_trace_elements!L3 -> Sc | AN4: =S2_trace_elements!M3 -> Ti47 | AO4: =S2_trace_elements!N3 -> Ti49 | AP4: =S2_trace_elements!O3 -> V | AQ4: =S2_trace_elements!P3 -> Cr | ... BX4: =S2_trace_elements!AW3 -> U | BY4: K | CA4: =AJ4 -> Li | CB4: =AK4 -> Si | CC4: =AL4 -> Ca | CD4: =AM4 -> Sc | CE4: =AN4 -> Ti47 | CF4: =AO4 -> Ti49 | CG4: =AP4 -> V | CH4: =AQ4 -> Cr | ... DO4: =BX4 -> U | DP4: K | DR4: =AJ4 -> Li | DS4: =AK4 -> Si | DT4: =AL4 -> Ca | DU4: =AM4 -> Sc | DV4: =AN4 -> Ti47 | DW4: =AO4 -> Ti49 | DX4: =AP4 -> V | DY4: =AQ4 -> Cr | ... FG4: =BY4 -> K | FI4: =DR4 -> Li | FJ4: =DS4 -> Si | FK4: =DT4 -> Ca | FL4: =DU4 -> Sc | FM4: =DV4 -> Ti47 | FN4: =DW4 -> Ti49 | FO4: =DX4 -> V | FP4: =DY4 -> Cr | ... GW4: =FF4 -> U | GX4: K | GZ4: =FI4 -> Li | HA4: =FJ4 -> Si | HB4: =FK4 -> Ca | HC4: =FL4 -> Sc | HD4: =FM4 -> Ti47 | HE4: =FN4 -> Ti49 | HF4: =FO4 -> V | HG4: =FP4 -> Cr | ... IO4: =GX4 -> K
