Workbook

Sheet VCCR
A1: Sample | B1: Type | C1: Population | D1: Analysis Date | E1: SiO2 | F1: Al2O3 | G1: TiO2 | H1: MgO | I1: FeO | J1: MnO | K1: CaO | L1: Na2O | M1: K2O | N1: Total | O1: A/CNK | P1: Na + K | Q1: Count
A2: ORA-5B-402 | B2: HSR | C2: VCCR 3 | D2: 2021.09.17 | E2: 77.600682 | F2: 12.881926 | G2: 0.10264967 | H2: 0.045151352 | I2: 0.96645955 | J2: 0.038738663 | K2: 0.57194955 | L2: 4.695331 | M2: 3.0971123 | N2: 100 | O2: 1.063442 | P2: 7.7924433 | Q2: 65
A3: ORA-5B-404A | B3: HSR | C3: VCCR 1 | D3: 2018.09.04 | E3: 77.616591 | F3: 12.895777 | G3: 0.061678558 | H3: 0.042801932 | I3: 0.9032302 | J3: 0.05254923 | K3: 0.51574489 | L3: 4.8357418 | M3: 3.0758854 | N3: 100 | O3: 1.0553109 | P3: 7.9116272 | Q3: 43
A4: ORA-5B-404B | B4: HSR | C4: VCCR 3 | D4: 2018.09.04 | E4: 77.566832 | F4: 12.879395 | G4: 0.061952669 | H4: 0.054950873 | I4: 0.98027396 | J4: 0.056077452 | K4: 0.57965007 | L4: 4.7158575 | M4: 3.1050104 | N4: 100 | O4: 1.0582953 | P4: 7.8208679 | Q4: 35
A5: ORA-5B-406 | B5: HSR | C5: VCCR 2 | D5: 2019.10.22 | E5: 77.452934 | F5: 12.871643 | G5: 0.06017914 | H5: 0.057545028 | I5: 1.025148 | J5: 0.05114261 | K5: 0.52263539 | L5: 4.4636015 | M5: 3.4951714 | N5: 100 | O5: 1.0662124 | P5: 7.9587729 | Q5: 51
A6: ORA-5B-407 | B6: HSR | C6: VCCR 2 | D6: 2019.09.20 | E6: 77.53556 | F6: 12.908713 | G6: 0.048325197 | H6: 0.048608721 | I6: 1.0027359 | J6: 0.049435489 | K6: 0.53564474 | L6: 4.7480501 | M6: 3.1229271 | N6: 100 | O6: 1.0613777 | P6: 7.8709772 | Q6: 29
A7: ORA-5B-408 | B7: HSR | C7: VCCR 2 | D7: 2019.10.17 | E7: 77.422371 | F7: 12.895176 | G7: 0.069146939 | H7: 0.044315068 | I7: 0.9849848 | J7: 0.06103745 | K7: 0.55535291 | L7: 4.3630357 | M7: 3.6045801 | N7: 100 | O7: 1.0669088 | P7: 7.9676158 | Q7: 55
A8: ORA-5B-409 | B8: HSR | C8: VCCR 2 | D8: 2019.10.22 | E8: 77.613545 | F8: 12.849855 | G8: 0.062270195 | H8: 0.037950959 | I8: 0.97939772 | J8: 0.067138998 | K8: 0.51798514 | L8: 4.6918945 | M8: 3.1799619 | N8: 100 | O8: 1.062119 | P8: 7.8718564 | Q8: 45
A9: ORA-5B-411 | B9: HSR | C9: VCCR 3 | D9: 2019.10.23 | E9: 77.516118 | F9: 12.85211 | G9: 0.071986175 | H9: 0.054686122 | I9: 0.99802032 | J9: 0.035111526 | K9: 0.56383656 | L9: 4.448923 | M9: 3.4592088 | N9: 100 | O9: 1.0633527 | P9: 7.9081318 | Q9: 57
A10: ORA-5B-412A-CG | B10: HSR | C10: VCCR 3 | D10: 2019.01.14 | E10: 77.632959 | F10: 12.927831 | G10: 0.074620196 | H10: 0.046252185 | I10: 0.94251649 | J10: 0.057765184 | K10: 0.54641612 | L10: 4.7880901 | M10: 2.9835492 | N10: 100 | O10: 1.0685654 | P10: 7.7716392 | Q10: 19
A11: ORA-5B-413 | B11: HSR | C11: VCCR 2 | D11: 2019.10.17 | E11: 77.60207 | F11: 12.911256 | G11: 0.049030624 | H11: 0.037181436 | I11: 0.99268562 | J11: 0.041475684 | K11: 0.52242704 | L11: 4.8181593 | M11: 3.0257146 | N11: 100 | O11: 1.0628453 | P11: 7.8438739 | Q11: 33
A12: ORA-5B-414-CG | B12: HSR | C12: VCCR 3 | D12: 2019.05.15 | E12: 77.568326 | F12: 12.888093 | G12: 0.076495544 | H12: 0.054885045 | I12: 1.0113954 | J12: 0.038733788 | K12: 0.60113434 | L12: 4.7566886 | M12: 3.0042489 | N12: 100 | O12: 1.0592096 | P12: 7.7609375 | Q12: 29
A13: ORA-5B-415 | B13: HSR | C13: VCCR 2 | D13: 2021.09.21 | E13: 77.543254 | F13: 12.953575 | G13: 0.054885032 | H13: 0.050811011 | I13: 0.96650703 | J13: 0.045815038 | K13: 0.55018454 | L13: 4.6782349 | M13: 3.1567332 | N13: 100 | O13: 1.0695347 | P13: 7.8349681 | Q13: 31
A14: ORA-5B-417 | B14: HSR | C14: VCCR 3 | D14: 2019.10.23 | E14: 77.557043 | F14: 12.900159 | G14: 0.074419565 | H14: 0.045916324 | I14: 0.98729524 | J14: 0.042046837 | K14: 0.58478575 | L14: 4.7869966 | M14: 3.0213375 | N14: 100 | O14: 1.0568758 | P14: 7.8083341 | Q14: 39
A16: These compositions are originally published in Chiaro et al. (2024) | F16: https://doi.org/10.1093/petrology/egae016
A18: Chiaro GR, Gualda GAR, Miller C, et al (2024) Mush Architecture and Processes in the Reservoirs of a Supereruption-Scale Magma System, Permian Ora Ignimbrite (Northern Italy). Journal of Petrology 65:egae016. https://doi.org/10.1093/petrology/egae016

Sheet CCR
A1: Sample | B1: Type | C1: Population | D1: Analysis Date | E1: SiO2 | F1: Al2O3 | G1: TiO2 | H1: MgO | I1: FeO | J1: MnO | K1: CaO | L1: Na2O | M1: K2O | N1: Total | O1: A/CNK | P1: Na + K | Q1: Count
A2: ORA-2A-004 | B2: HSR | C2: CCR 3 | D2: 2019.10.17 | E2: 77.851126 | F2: 12.712002 | G2: 0.072523721 | H2: 0.031359159 | I2: 0.92599575 | J2: 0.0331226 | K2: 0.56332465 | L2: 4.9543696 | M2: 2.8561766 | N2: 100 | O2: 1.0365446 | P2: 7.8105462 | Q2: 46
A3: ORA-2A-005 | B3: HSR | C3: CCR 2 | D3: 2019.10.17 | E3: 77.752617 | F3: 12.75961 | G3: 0.053612914 | H3: 0.020528347 | I3: 0.91614994 | J3: 0.060870418 | K3: 0.46705583 | L3: 4.9977009 | M3: 2.9718542 | N3: 100 | O3: 1.0386438 | P3: 7.969555 | Q3: 42
A4: ORA-2A-036 | B4: HSR | C4: CCR 2 | D4: 2019.10.22 | E4: 77.840673 | F4: 12.774746 | G4: 0.068217527 | H4: 0.024869791 | I4: 0.8954088 | J4: 0.051317908 | K4: 0.48289121 | L4: 5.0183287 | M4: 2.8435466 | N4: 100 | O4: 1.0463215 | P4: 7.8618753 | Q4: 78
A5: ORA-2A-031 | B5: HSR | C5: CCR 1 | D5: 2021.09.16 | E5: 77.891931 | F5: 12.911709 | G5: 0.047693169 | H5: 0.022279251 | I5: 0.88804883 | J5: 0.058909956 | K5: 0.40465971 | L5: 5.4213862 | M5: 2.3533823 | N5: 100 | O5: 1.0583469 | P5: 7.7747684 | Q5: 64
A6: ORA-2A-032 | B6: HSR | C6: CCR 3 | D6: 2021.09.16 | E6: 78.114195 | F6: 12.753146 | G6: 0.061953483 | H6: 0.02605373 | I6: 0.92684748 | J6: 0.042014678 | K6: 0.54988343 | L6: 5.1839301 | M6: 2.341976 | N6: 100 | O6: 1.0574182 | P6: 7.5259061 | Q6: 63
A7: ORA-2A-040 | B7: HSR | C7: CCR 1 | D7: 2021.09.17 | E7: 77.80273 | F7: 12.933904 | G7: 0.03854933 | H7: 0.018423265 | I7: 0.85161915 | J7: 0.058820747 | K7: 0.37963003 | L7: 5.3661882 | M7: 2.550135 | N7: 100 | O7: 1.0536087 | P7: 7.9163232 | Q7: 45
A8: ORA-2A-001 | B8: HSR | C8: CCR 1 | D8: 2021.09.21 | E8: 77.591045 | F8: 12.928457 | G8: 0.04170049 | H8: 0.012953014 | I8: 0.90394365 | J8: 0.059113279 | K8: 0.40094786 | L8: 5.116298 | M8: 2.9455414 | N8: 100 | O8: 1.048483 | P8: 8.0618394 | Q8: 64
A9: ORA-2A-018 | B9: HSR | C9: CCR 2 | D9: 2021.09.21 | E9: 77.865804 | F9: 12.796786 | G9: 0.048075788 | H9: 0.03023369 | I9: 0.86986 | J9: 0.036075903 | K9: 0.47364939 | L9: 5.0328973 | M9: 2.8466174 | N9: 100 | O9: 1.0472495 | P9: 7.8795147 | Q9: 34
A10: ORA-2A-035 | B10: HSR | C10: CCR 2 | D10: 2021.09.21 | E10: 77.705124 | F10: 12.877454 | G10: 0.060803817 | H10: 0.032091084 | I10: 0.8511469 | J10: 0.053313813 | K10: 0.49286772 | L10: 5.095683 | M10: 2.8315163 | N10: 100 | O10: 1.0435687 | P10: 7.9271993 | Q10: 31
A12: These compositions are originally published in Chiaro et al. (2024) | G12: https://doi.org/10.1093/petrology/egae016
A14: Chiaro GR, Gualda GAR, Miller C, et al (2024) Mush Architecture and Processes in the Reservoirs of a Supereruption-Scale Magma System, Permian Ora Ignimbrite (Northern Italy). Journal of Petrology 65:egae016. https://doi.org/10.1093/petrology/egae016

Sheet VCCR_std
A1: Sample | B1: Type | C1: Population | D1: Analysis Date | E1: SiO2 | F1: Al2O3 | G1: TiO2 | H1: MgO | I1: FeO | J1: MnO | K1: CaO | L1: Na2O | M1: K2O | N1: Count
A2: ORA-5B-402 | B2: HSR | C2: VCCR 3 | D2: 2021.09.17 | E2: 0.19421783 | F2: 0.09949372 | G2: 0.075422094 | H2: 0.03511256 | I2: 0.15119848 | J2: 0.048800128 | K2: 0.052780014 | L2: 0.086824974 | M2: 0.087777865 | N2: 65
A3: ORA-5B-404A | B3: HSR | C3: VCCR 1 | D3: 2018.09.04 | E3: 0.24551005 | F3: 0.10441898 | G3: 0.054905146 | H3: 0.036405481 | I3: 0.14794919 | J3: 0.060392832 | K3: 0.043880641 | L3: 0.092072902 | M3: 0.083412886 | N3: 43
A4: ORA-5B-404B | B4: HSR | C4: VCCR 3 | D4: 2018.09.04 | E4: 0.19174526 | F4: 0.10170832 | G4: 0.058841278 | H4: 0.047879492 | I4: 0.1455139 | J4: 0.082443972 | K4: 0.057715473 | L4: 0.14110021 | M4: 0.082400622 | N4: 35
A5: ORA-5B-406 | B5: HSR | C5: VCCR 2 | D5: 2019.10.22 | E5: 0.19770872 | F5: 0.12525984 | G5: 0.057500095 | H5: 0.051090006 | I5: 0.18032143 | J5: 0.057338412 | K5: 0.06489915 | L5: 0.1393297 | M5: 0.070680414 | N5: 51
A6: ORA-5B-407 | B6: HSR | C6: VCCR 2 | D6: 2019.09.20 | E6: 0.18086412 | F6: 0.13294429 | G6: 0.048089327 | H6: 0.040113256 | I6: 0.16375031 | J6: 0.052914747 | K6: 0.067065146 | L6: 0.17432956 | M6: 0.10027038 | N6: 29
A7: ORA-5B-408 | B7: HSR | C7: VCCR 2 | D7: 2019.10.17 | E7: 0.20839882 | F7: 0.12444653 | G7: 0.067674203 | H7: 0.040993044 | I7: 0.14527138 | J7: 0.069285049 | K7: 0.072033381 | L7: 0.13585086 | M7: 0.09308995 | N7: 55
A8: ORA-5B-409 | B8: HSR | C8: VCCR 2 | D8: 2019.10.22 | E8: 0.25007347 | F8: 0.12444285 | G8: 0.058796767 | H8: 0.035107149 | I8: 0.16220146 | J8: 0.058497128 | K8: 0.066463569 | L8: 0.16439979 | M8: 0.10816919 | N8: 45
A9: ORA-5B-411 | B9: HSR | C9: VCCR 3 | D9: 2019.10.23 | E9: 0.17661846 | F9: 0.11719884 | G9: 0.070984277 | H9: 0.042267139 | I9: 0.14198089 | J9: 0.04761522 | K9: 0.049098284 | L9: 0.074130967 | M9: 0.075574218 | N9: 57
A10: ORA-5B-412A-CG | B10: HSR | C10: VCCR 3 | D10: 2019.01.14 | E10: 0.21563087 | F10: 0.099723993 | G10: 0.059194953 | H10: 0.031546806 | I10: 0.24432577 | J10: 0.059073753 | K10: 0.053279277 | L10: 0.048973176 | M10: 0.04943609 | N10: 19
A11: ORA-5B-413 | B11: HSR | C11: VCCR 2 | D11: 2019.10.17 | E11: 0.22745153 | F11: 0.13702922 | G11: 0.052074124 | H11: 0.039112548 | I11: 0.14944809 | J11: 0.054663492 | K11: 0.069479255 | L11: 0.12543653 | M11: 0.085077195 | N11: 33
A12: ORA-5B-414-CG | B12: HSR | C12: VCCR 3 | D12: 2019.05.15 | E12: 0.17643008 | F12: 0.1266461 | G12: 0.050534518 | H12: 0.043665678 | I12: 0.11298354 | J12: 0.055750607 | K12: 0.091080868 | L12: 0.17956899 | M12: 0.085895018 | N12: 29
A13: ORA-5B-415 | B13: HSR | C13: VCCR 2 | D13: 2021.09.21 | E13: 0.19173121 | F13: 0.093061164 | G13: 0.046227576 | H13: 0.044062333 | I13: 0.15680663 | J13: 0.053112977 | K13: 0.054336049 | L13: 0.14541465 | M13: 0.098500654 | N13: 31
A14: ORA-5B-417 | B14: HSR | C14: VCCR 3 | D14: 2019.10.23 | E14: 0.1575738 | F14: 0.09450404 | G14: 0.060848684 | H14: 0.031702485 | I14: 0.1401969 | J14: 0.052130605 | K14: 0.058057495 | L14: 0.076949289 | M14: 0.073316081 | N14: 39
D16: Max | E16: =MAX(E2:E14) -> 0.25007347 | F16: =MAX(F2:F14) -> 0.13702922 | G16: =MAX(G2:G14) -> 0.075422094 | H16: =MAX(H2:H14) -> 0.051090006 | I16: =MAX(I2:I14) -> 0.24432577 | J16: =MAX(J2:J14) -> 0.082443972 | K16: =MAX(K2:K14) -> 0.091080868 | L16: =MAX(L2:L14) -> 0.17956899 | M16: =MAX(M2:M14) -> 0.10816919
D17: Min | E17: =MIN(E2:E14) -> 0.1575738 | F17: =MIN(F2:F14) -> 0.093061164 | G17: =MIN(G2:G14) -> 0.046227576 | H17: =MIN(H2:H14) -> 0.031546806 | I17: =MIN(I2:I14) -> 0.11298354 | J17: =MIN(J2:J14) -> 0.04761522 | K17: =MIN(K2:K14) -> 0.043880641 | L17: =MIN(L2:L14) -> 0.048973176 | M17: =MIN(M2:M14) -> 0.04943609
D18: Average | E18: =AVERAGE(E2:E14) -> 0.2010734 | F18: =AVERAGE(F2:F14) -> 0.11391368 | G18: =AVERAGE(G2:G14) -> 0.058545619 | H18: =AVERAGE(H2:H14) -> 0.039927537 | I18: =AVERAGE(I2:I14) -> 0.15707292 | J18: =AVERAGE(J2:J14) -> 0.057847609 | K18: =AVERAGE(K2:K14) -> 0.061551431 | L18: =AVERAGE(L2:L14) -> 0.12187551 | M18: =AVERAGE(M2:M14) -> 0.08412312
D20: Relative Error | E20: =E2/VCCR!E2 -> 0.0025027851 | F20: =F2/VCCR!F2 -> 0.007723513 | G20: =G2/VCCR!G2 -> 0.73475245 | H20: =H2/VCCR!H2 -> 0.77766353 | I20: =I2/VCCR!I2 -> 0.15644575 | J20: =J2/VCCR!J2 -> 1.2597267 | K20: =K2/VCCR!K2 -> 0.092280891 | L20: =L2/VCCR!L2 -> 0.018491768 | M20: =M2/VCCR!M2 -> 0.028341841
E21: =E3/VCCR!E3 -> 0.0031631131 | F21: =F3/VCCR!F3 -> 0.0080971451 | G21: =G3/VCCR!G3 -> 0.89018206 | H21: =H3/VCCR!H3 -> 0.85055697 | I21: =I3/VCCR!I3 -> 0.16380009 | J21: =J3/VCCR!J3 -> 1.149262 | K21: =K3/VCCR!K3 -> 0.085082067 | L21: =L3/VCCR!L3 -> 0.019040078 | M21: =M3/VCCR!M3 -> 0.027118334
E22: =E4/VCCR!E4 -> 0.0024720007 | F22: =F4/VCCR!F4 -> 0.0078969799 | G22: =G4/VCCR!G4 -> 0.94977793 | H22: =H4/VCCR!H4 -> 0.87131451 | I22: =I4/VCCR!I4 -> 0.14844207 | J22: =J4/VCCR!J4 -> 1.4701804 | K22: =K4/VCCR!K4 -> 0.099569508 | L22: =L4/VCCR!L4 -> 0.029920373 | M22: =M4/VCCR!M4 -> 0.026537954
E23: =E5/VCCR!E5 -> 0.0025526305 | F23: =F5/VCCR!F5 -> 0.0097314574 | G23: =G5/VCCR!G5 -> 0.95548216 | H23: =H5/VCCR!H5 -> 0.88782659 | I23: =I5/VCCR!I5 -> 0.17589795 | J23: =J5/VCCR!J5 -> 1.1211475 | K23: =K5/VCCR!K5 -> 0.12417672 | L23: =L5/VCCR!L5 -> 0.031214637 | M23: =M5/VCCR!M5 -> 0.020222302
E24: =E6/VCCR!E6 -> 0.0023326603 | F24: =F6/VCCR!F6 -> 0.010298803 | G24: =G6/VCCR!G6 -> 0.99511912 | H24: =H6/VCCR!H6 -> 0.82522756 | I24: =I6/VCCR!I6 -> 0.16330353 | J24: =J6/VCCR!J6 -> 1.0703798 | K24: =K6/VCCR!K6 -> 0.12520453 | L24: =L6/VCCR!L6 -> 0.036716032 | M24: =M6/VCCR!M6 -> 0.032107819
E25: =E7/VCCR!E7 -> 0.0026917132 | F25: =F7/VCCR!F7 -> 0.0096506265 | G25: =G7/VCCR!G7 -> 0.97870136 | H25: =H7/VCCR!H7 -> 0.92503626 | I25: =I7/VCCR!I7 -> 0.14748591 | J25: =J7/VCCR!J7 -> 1.1351236 | K25: =K7/VCCR!K7 -> 0.1297074 | L25: =L7/VCCR!L7 -> 0.031136774 | M25: =M7/VCCR!M7 -> 0.025825463
E26: =E8/VCCR!E8 -> 0.0032220339 | F26: =F8/VCCR!F8 -> 0.0096843777 | G26: =G8/VCCR!G8 -> 0.94422007 | H26: =H8/VCCR!H8 -> 0.92506619 | I26: =I8/VCCR!I8 -> 0.16561347 | J26: =J8/VCCR!J8 -> 0.8712839 | K26: =K8/VCCR!K8 -> 0.12831173 | L26: =L8/VCCR!L8 -> 0.035039105 | M26: =M8/VCCR!M8 -> 0.034015876
E27: =E9/VCCR!E9 -> 0.002278474 | F27: =F9/VCCR!F9 -> 0.0091190352 | G27: =G9/VCCR!G9 -> 0.98608207 | H27: =H9/VCCR!H9 -> 0.77290431 | I27: =I9/VCCR!I9 -> 0.14226252 | J27: =J9/VCCR!J9 -> 1.3561137 | K27: =K9/VCCR!K9 -> 0.087078929 | L27: =L9/VCCR!L9 -> 0.016662677 | M27: =M9/VCCR!M9 -> 0.021847256
E28: =E10/VCCR!E10 -> 0.0027775685 | F28: =F10/VCCR!F10 -> 0.0077138996 | G28: =G10/VCCR!G10 -> 0.79328327 | H28: =H10/VCCR!H10 -> 0.68206089 | I28: =I10/VCCR!I10 -> 0.25922705 | J28: =J10/VCCR!J10 -> 1.0226532 | K28: =K10/VCCR!K10 -> 0.097506781 | L28: =L10/VCCR!L10 -> 0.010228123 | M28: =M10/VCCR!M10 -> 0.016569558
E29: =E11/VCCR!E11 -> 0.0029309983 | F29: =F11/VCCR!F11 -> 0.010613159 | G29: =G11/VCCR!G11 -> 1.0620734 | H29: =H11/VCCR!H11 -> 1.0519375 | I29: =I11/VCCR!I11 -> 0.15054926 | J29: =J11/VCCR!J11 -> 1.3179648 | K29: =K11/VCCR!K11 -> 0.13299322 | L29: =L11/VCCR!L11 -> 0.026034118 | M29: =M11/VCCR!M11 -> 0.02811805
E30: =E12/VCCR!E12 -> 0.002274512 | F30: =F12/VCCR!F12 -> 0.0098265973 | G30: =G12/VCCR!G12 -> 0.66062041 | H30: =H12/VCCR!H12 -> 0.79558426 | I30: =I12/VCCR!I12 -> 0.11171056 | J30: =J12/VCCR!J12 -> 1.4393275 | K30: =K12/VCCR!K12 -> 0.151515 | L30: =L12/VCCR!L12 -> 0.03775084 | M30: =M12/VCCR!M12 -> 0.02859118
E31: =E13/VCCR!E13 -> 0.0024725711 | F31: =F13/VCCR!F13 -> 0.007184207 | G31: =G13/VCCR!G13 -> 0.84226198 | H31: =H13/VCCR!H13 -> 0.8671808 | I31: =I13/VCCR!I13 -> 0.16224054 | J31: =J13/VCCR!J13 -> 1.1592913 | K31: =K13/VCCR!K13 -> 0.098759679 | L31: =L13/VCCR!L13 -> 0.031083229 | M31: =M13/VCCR!M13 -> 0.031203351
E32: =E14/VCCR!E14 -> 0.0020317149 | F32: =F14/VCCR!F14 -> 0.0073258044 | G32: =G14/VCCR!G14 -> 0.81764365 | H32: =H14/VCCR!H14 -> 0.69044041 | I32: =I14/VCCR!I14 -> 0.14200099 | J32: =J14/VCCR!J14 -> 1.2398223 | K32: =K14/VCCR!K14 -> 0.099279943 | L32: =L14/VCCR!L14 -> 0.016074649 | M32: =M14/VCCR!M14 -> 0.024266101
D33: Relative Error
D34: Average | E34: =E18/AVERAGE(VCCR!E2:E14) -> 0.0025926214 | F34: =F18/AVERAGE(VCCR!F2:F14) -> 0.0088349694 | G34: =G18/AVERAGE(VCCR!G2:G14) -> 0.87719962 | H34: =H18/AVERAGE(VCCR!H2:H14) -> 0.83576672 | I34: =I18/AVERAGE(VCCR!I2:I14) -> 0.16027031 | J34: =J18/AVERAGE(VCCR!J2:J14) -> 1.1804375 | K34: =K18/AVERAGE(VCCR!K2:K14) -> 0.1116346 | L34: =L18/AVERAGE(VCCR!L2:L14) -> 0.026062935 | M34: =M18/AVERAGE(VCCR!M2:M14) -> 0.02645929
D35: Max | E35: =MAX(E20:E32) -> 0.0032220339 | F35: =MAX(F20:F32) -> 0.010613159 | G35: =MAX(G20:G32) -> 1.0620734 | H35: =MAX(H20:H32) -> 1.0519375 | I35: =MAX(I20:I32) -> 0.25922705 | J35: =MAX(J20:J32) -> 1.4701804 | K35: =MAX(K20:K32) -> 0.151515 | L35: =MAX(L20:L32) -> 0.03775084 | M35: =MAX(M20:M32) -> 0.034015876
D36: Min | E36: =MIN(E20:E32) -> 0.0020317149 | F36: =MIN(F20:F32) -> 0.007184207 | G36: =MIN(G20:G32) -> 0.66062041 | H36: =MIN(H20:H32) -> 0.68206089 | I36: =MIN(I20:I32) -> 0.11171056 | J36: =MIN(J20:J32) -> 0.8712839 | K36: =MIN(K20:K32) -> 0.085082067 | L36: =MIN(L20:L32) -> 0.010228123 | M36: =MIN(M20:M32) -> 0.016569558
A38: These compositions are originally published in Chiaro et al. (2024) | G38: https://doi.org/10.1093/petrology/egae016
A40: Chiaro GR, Gualda GAR, Miller C, et al (2024) Mush Architecture and Processes in the Reservoirs of a Supereruption-Scale Magma System, Permian Ora Ignimbrite (Northern Italy). Journal of Petrology 65:egae016. https://doi.org/10.1093/petrology/egae016

Sheet CCR_std
A1: Sample | B1: Type | C1: Population | D1: Analysis Date | E1: SiO2 | F1: Al2O3 | G1: TiO2 | H1: MgO | I1: FeO | J1: MnO | K1: CaO | L1: Na2O | M1: K2O | N1: Count
A2: ORA-2A-001 | B2: HSR | C2: CCR 1 | D2: 2021.09.21 | E2: 0.22736933 | F2: 0.08264651 | G2: 0.043979954 | H2: 0.024083702 | I2: 0.15325895 | J2: 0.064328388 | K2: 0.063419492 | L2: 0.083841285 | M2: 0.05733866 | N2: 64
A3: ORA-2A-004 | B3: HSR | C3: CCR 3 | D3: 2019.10.17 | E3: 0.17257007 | F3: 0.09128914 | G3: 0.068482874 | H3: 0.030915447 | I3: 0.10305252 | J3: 0.041340043 | K3: 0.065849805 | L3: 0.092578122 | M3: 0.079378199 | N3: 46
A4: ORA-2A-005 | B4: HSR | C4: CCR 2 | D4: 2019.10.17 | E4: 0.2056648 | F4: 0.10355169 | G4: 0.051512098 | H4: 0.023679818 | I4: 0.12495079 | J4: 0.060914434 | K4: 0.053686648 | L4: 0.09578642 | M4: 0.083546683 | N4: 42
A5: ORA-2A-018 | B5: HSR | C5: CCR 2 | D5: 2021.09.21 | E5: 0.18855073 | F5: 0.10987452 | G5: 0.044935709 | H5: 0.027219117 | I5: 0.092160616 | J5: 0.055213454 | K5: 0.067683096 | L5: 0.094105882 | M5: 0.066704285 | N5: 34
A6: ORA-2A-031 | B6: HSR | C6: CCR 1 | D6: 2021.09.16 | E6: 0.20209482 | F6: 0.10988509 | G6: 0.048911669 | H6: 0.028213523 | I6: 0.139579 | J6: 0.056346087 | K6: 0.076330505 | L6: 0.095141226 | M6: 0.068159874 | N6: 64
A7: ORA-2A-032 | B7: HSR | C7: CCR 3 | D7: 2021.09.16 | E7: 0.20212857 | F7: 0.10613463 | G7: 0.049808277 | H7: 0.027568949 | I7: 0.17146092 | J7: 0.04886375 | K7: 0.05672958 | L7: 0.076623993 | M7: 0.065584597 | N7: 63
A8: ORA-2A-035 | B8: HSR | C8: CCR 2 | D8: 2021.09.21 | E8: 0.39656002 | F8: 0.2329499 | G8: 0.049775339 | H8: 0.03449659 | I8: 0.1214309 | J8: 0.05096915 | K8: 0.11359477 | L8: 0.097717589 | M8: 0.069880963 | N8: 31
A9: ORA-2A-036 | B9: HSR | C9: CCR 2 | D9: 2019.10.22 | E9: 0.19287375 | F9: 0.11994175 | G9: 0.064079566 | H9: 0.033346661 | I9: 0.13254466 | J9: 0.05607113 | K9: 0.081264718 | L9: 0.10413532 | M9: 0.090637189 | N9: 78
A10: ORA-2A-040 | B10: HSR | C10: CCR 1 | D10: 2021.09.17 | E10: 0.20276829 | F10: 0.1074963 | G10: 0.045376532 | H10: 0.02833096 | I10: 0.099597904 | J10: 0.059777115 | K10: 0.045000245 | L10: 0.076781183 | M10: 0.059381536 | N10: 45
D12: Max | E12: =MAX(E2:E10) -> 0.39656002 | F12: =MAX(F2:F10) -> 0.2329499 | G12: =MAX(G2:G10) -> 0.068482874 | H12: =MAX(H2:H10) -> 0.03449659 | I12: =MAX(I2:I10) -> 0.17146092 | J12: =MAX(J2:J10) -> 0.064328388 | K12: =MAX(K2:K10) -> 0.11359477 | L12: =MAX(L2:L10) -> 0.10413532 | M12: =MAX(M2:M10) -> 0.090637189
D13: Min | E13: =MIN(E2:E10) -> 0.17257007 | F13: =MIN(F2:F10) -> 0.08264651 | G13: =MIN(G2:G10) -> 0.043979954 | H13: =MIN(H2:H10) -> 0.023679818 | I13: =MIN(I2:I10) -> 0.092160616 | J13: =MIN(J2:J10) -> 0.041340043 | K13: =MIN(K2:K10) -> 0.045000245 | L13: =MIN(L2:L10) -> 0.076623993 | M13: =MIN(M2:M10) -> 0.05733866
D14: Avg | E14: =AVERAGE(E2:E10) -> 0.2211756 | F14: =AVERAGE(F2:F10) -> 0.11819662 | G14: =AVERAGE(G2:G10) -> 0.051873558 | H14: =AVERAGE(H2:H10) -> 0.02865053 | I14: =AVERAGE(I2:I10) -> 0.12644847 | J14: =AVERAGE(J2:J10) -> 0.054869283 | K14: =AVERAGE(K2:K10) -> 0.069284318 | L14: =AVERAGE(L2:L10) -> 0.090745669 | M14: =AVERAGE(M2:M10) -> 0.071179109
D16: Relative Error | E16: =E2/CCR!E2 -> 0.0029205657 | F16: =F2/CCR!F2 -> 0.0065014553 | G16: =G2/CCR!G2 -> 0.60642164 | H16: =H2/CCR!H2 -> 0.76799581 | I16: =I2/CCR!I2 -> 0.16550718 | J16: =J2/CCR!J2 -> 1.9421297 | K16: =K2/CCR!K2 -> 0.11258072 | L16: =L2/CCR!L2 -> 0.016922695 | M16: =M2/CCR!M2 -> 0.02007532
E17: =E3/CCR!E3 -> 0.002219476 | F17: =F3/CCR!F3 -> 0.00715454 | G17: =G3/CCR!G3 -> 1.2773578 | H17: =H3/CCR!H3 -> 1.5059881 | I17: =I3/CCR!I3 -> 0.11248434 | J17: =J3/CCR!J3 -> 0.67914834 | K17: =K3/CCR!K3 -> 0.14098915 | L17: =L3/CCR!L3 -> 0.018524142 | M17: =M3/CCR!M3 -> 0.026709991
E18: =E4/CCR!E4 -> 0.0026421251 | F18: =F4/CCR!F4 -> 0.0081059682 | G18: =G4/CCR!G4 -> 0.75511529 | H18: =H4/CCR!H4 -> 0.95215189 | I18: =I4/CCR!I4 -> 0.13954609 | J18: =J4/CCR!J4 -> 1.1870015 | K18: =K4/CCR!K4 -> 0.11117752 | L18: =L4/CCR!L4 -> 0.019087315 | M18: =M4/CCR!M4 -> 0.029381155
E19: =E5/CCR!E5 -> 0.0024206708 | F19: =F5/CCR!F5 -> 0.0085096808 | G19: =G5/CCR!G5 -> 0.94218333 | H19: =H5/CCR!H5 -> 1.2217249 | I19: =I5/CCR!I5 -> 0.10377877 | J19: =J5/CCR!J5 -> 0.93725167 | K19: =K5/CCR!K5 -> 0.16725929 | L19: =L5/CCR!L5 -> 0.017358269 | M19: =M5/CCR!M5 -> 0.028344007
E20: =E6/CCR!E6 -> 0.0025871715 | F20: =F6/CCR!F6 -> 0.0086163124 | G20: =G6/CCR!G6 -> 0.78949023 | H20: =H6/CCR!H6 -> 1.0828977 | I20: =I6/CCR!I6 -> 0.15059543 | J20: =J6/CCR!J6 -> 1.3411048 | K20: =K6/CCR!K6 -> 0.13881216 | L20: =L6/CCR!L6 -> 0.018353107 | M20: =M6/CCR!M6 -> 0.029103575
E21: =E7/CCR!E7 -> 0.0025979625 | F21: =F7/CCR!F7 -> 0.0082059236 | G21: =G7/CCR!G7 -> 1.292066 | H21: =H7/CCR!H7 -> 1.4964203 | I21: =I7/CCR!I7 -> 0.20133521 | J21: =J7/CCR!J7 -> 0.83072305 | K21: =K7/CCR!K7 -> 0.14943386 | L21: =L7/CCR!L7 -> 0.014279036 | M21: =M7/CCR!M7 -> 0.025718088
E22: =E8/CCR!E8 -> 0.0051108993 | F22: =F8/CCR!F8 -> 0.018018383 | G22: =G8/CCR!G8 -> 1.1936392 | H22: =H8/CCR!H8 -> 2.6632095 | I22: =I8/CCR!I8 -> 0.13433459 | J22: =J8/CCR!J8 -> 0.86222844 | K22: =K8/CCR!K8 -> 0.28331557 | L22: =L8/CCR!L8 -> 0.019099277 | M22: =M8/CCR!M8 -> 0.023724319
E23: =E9/CCR!E9 -> 0.002477002 | F23: =F9/CCR!F9 -> 0.0093728024 | G23: =G9/CCR!G9 -> 1.3328864 | H23: =H9/CCR!H9 -> 1.1029637 | I23: =I9/CCR!I9 -> 0.1523747 | J23: =J9/CCR!J9 -> 1.5542544 | K23: =K9/CCR!K9 -> 0.17157146 | L23: =L9/CCR!L9 -> 0.02069093 | M23: =M9/CCR!M9 -> 0.031840313
E24: =E10/CCR!E10 -> 0.0026094584 | F24: =F10/CCR!F10 -> 0.0083476362 | G24: =G10/CCR!G10 -> 0.74627769 | H24: =H10/CCR!H10 -> 0.88282964 | I24: =I10/CCR!I10 -> 0.11701612 | J24: =J10/CCR!J10 -> 1.1212313 | K24: =K10/CCR!K10 -> 0.091302884 | L24: =L10/CCR!L10 -> 0.015067889 | M24: =M10/CCR!M10 -> 0.020971639
D25: Relative Error
D26: Average | E26: =E14/AVERAGE(CCR!E2:E10) -> 0.0028420003 | F26: =F14/AVERAGE(CCR!F2:F10) -> 0.009214289 | G26: =G14/AVERAGE(CCR!G2:G10) -> 0.94673168 | H26: =H14/AVERAGE(CCR!H2:H10) -> 1.178542 | I26: =I14/AVERAGE(CCR!I2:I10) -> 0.14174036 | J26: =J14/AVERAGE(CCR!J2:J10) -> 1.0887739 | K26: =K14/AVERAGE(CCR!K2:K10) -> 0.14794121 | L26: =L14/AVERAGE(CCR!L2:L10) -> 0.017682787 | M26: =M14/AVERAGE(CCR!M2:M10) -> 0.026104015
D27: Max | E27: =MAX(E16:E24) -> 0.0051108993 | F27: =MAX(F16:F24) -> 0.018018383 | G27: =MAX(G16:G24) -> 1.3328864 | H27: =MAX(H16:H24) -> 2.6632095 | I27: =MAX(I16:I24) -> 0.20133521 | J27: =MAX(J16:J24) -> 1.9421297 | K27: =MAX(K16:K24) -> 0.28331557 | L27: =MAX(L16:L24) -> 0.02069093 | M27: =MAX(M16:M24) -> 0.031840313
D28: Min | E28: =MIN(E16:E24) -> 0.002219476 | F28: =MIN(F16:F24) -> 0.0065014553 | G28: =MIN(G16:G24) -> 0.60642164 | H28: =MIN(H16:H24) -> 0.76799581 | I28: =MIN(I16:I24) -> 0.10377877 | J28: =MIN(J16:J24) -> 0.67914834 | K28: =MIN(K16:K24) -> 0.091302884 | L28: =MIN(L16:L24) -> 0.014279036 | M28: =MIN(M16:M24) -> 0.02007532
A30: These compositions are originally published in Chiaro et al. (2024) | G30: https://doi.org/10.1093/petrology/egae016
A32: Chiaro GR, Gualda GAR, Miller C, et al (2024) Mush Architecture and Processes in the Reservoirs of a Supereruption-Scale Magma System, Permian Ora Ignimbrite (Northern Italy). Journal of Petrology 65:egae016. https://doi.org/10.1093/petrology/egae016

Sheet All_Averages
A1: Sample | B1: Type | C1: Population | D1: Analysis Date | E1: SiO2 | F1: Al2O3 | G1: TiO2 | H1: MgO | I1: FeO | J1: MnO | K1: CaO | L1: Na2O | M1: K2O | N1: Total | O1: A/CNK | P1: Na + K | Q1: n
A2: ORA-5B-404A | B2: HSR | C2: VCCR 1 | D2: 2018.09.04 | E2: 77.616591 | F2: 12.895777 | G2: 0.061678558 | H2: 0.042801932 | I2: 0.9032302 | J2: 0.05254923 | K2: 0.51574489 | L2: 4.8357418 | M2: 3.0758854 | N2: 100 | O2: 1.0553109 | P2: 7.9116272 | Q2: 43
A3: ORA-5B-406 | B3: HSR | C3: VCCR 2 | D3: 2019.10.22 | E3: 77.452934 | F3: 12.871643 | G3: 0.06017914 | H3: 0.057545028 | I3: 1.025148 | J3: 0.05114261 | K3: 0.52263539 | L3: 4.4636015 | M3: 3.4951714 | N3: 100 | O3: 1.0662124 | P3: 7.9587729 | Q3: 51
A4: ORA-5B-407 | B4: HSR | C4: VCCR 2 | D4: 2019.09.20 | E4: 77.53556 | F4: 12.908713 | G4: 0.048325197 | H4: 0.048608721 | I4: 1.0027359 | J4: 0.049435489 | K4: 0.53564474 | L4: 4.7480501 | M4: 3.1229271 | N4: 100 | O4: 1.0613777 | P4: 7.8709772 | Q4: 29
A5: ORA-5B-408 | B5: HSR | C5: VCCR 2 | D5: 2019.10.17 | E5: 77.422371 | F5: 12.895176 | G5: 0.069146939 | H5: 0.044315068 | I5: 0.9849848 | J5: 0.06103745 | K5: 0.55535291 | L5: 4.3630357 | M5: 3.6045801 | N5: 100 | O5: 1.0669088 | P5: 7.9676158 | Q5: 55
A6: ORA-5B-409 | B6: HSR | C6: VCCR 2 | D6: 2019.10.22 | E6: 77.613545 | F6: 12.849855 | G6: 0.062270195 | H6: 0.037950959 | I6: 0.97939772 | J6: 0.067138998 | K6: 0.51798514 | L6: 4.6918945 | M6: 3.1799619 | N6: 100 | O6: 1.062119 | P6: 7.8718564 | Q6: 45
A7: ORA-5B-413 | B7: HSR | C7: VCCR 2 | D7: 2019.10.17 | E7: 77.60207 | F7: 12.911256 | G7: 0.049030624 | H7: 0.037181436 | I7: 0.99268562 | J7: 0.041475684 | K7: 0.52242704 | L7: 4.8181593 | M7: 3.0257146 | N7: 100 | O7: 1.0628453 | P7: 7.8438739 | Q7: 33
A8: ORA-5B-415 | B8: HSR | C8: VCCR 2 | D8: 2021.09.21 | E8: 77.543254 | F8: 12.953575 | G8: 0.054885032 | H8: 0.050811011 | I8: 0.96650703 | J8: 0.045815038 | K8: 0.55018454 | L8: 4.6782349 | M8: 3.1567332 | N8: 100 | O8: 1.0695347 | P8: 7.8349681 | Q8: 31
A9: ORA-5B-402 | B9: HSR | C9: VCCR 3 | D9: 2021.09.17 | E9: 77.600682 | F9: 12.881926 | G9: 0.10264967 | H9: 0.045151352 | I9: 0.96645955 | J9: 0.038738663 | K9: 0.57194955 | L9: 4.695331 | M9: 3.0971123 | N9: 100 | O9: 1.063442 | P9: 7.7924433 | Q9: 65
A10: ORA-5B-404B | B10: HSR | C10: VCCR 3 | D10: 2018.09.04 | E10: 77.566832 | F10: 12.879395 | G10: 0.061952669 | H10: 0.054950873 | I10: 0.98027396 | J10: 0.056077452 | K10: 0.57965007 | L10: 4.7158575 | M10: 3.1050104 | N10: 100 | O10: 1.0582953 | P10: 7.8208679 | Q10: 35
A11: ORA-5B-411 | B11: HSR | C11: VCCR 3 | D11: 2019.10.23 | E11: 77.516118 | F11: 12.85211 | G11: 0.071986175 | H11: 0.054686122 | I11: 0.99802032 | J11: 0.035111526 | K11: 0.56383656 | L11: 4.448923 | M11: 3.4592088 | N11: 100 | O11: 1.0633527 | P11: 7.9081318 | Q11: 57
A12: ORA-5B-412A-CG | B12: HSR | C12: VCCR 3 | D12: 2019.01.14 | E12: 77.632959 | F12: 12.927831 | G12: 0.074620196 | H12: 0.046252185 | I12: 0.94251649 | J12: 0.057765184 | K12: 0.54641612 | L12: 4.7880901 | M12: 2.9835492 | N12: 100 | O12: 1.0685654 | P12: 7.7716392 | Q12: 19
A13: ORA-5B-414-CG | B13: HSR | C13: VCCR 3 | D13: 2019.05.15 | E13: 77.568326 | F13: 12.888093 | G13: 0.076495544 | H13: 0.054885045 | I13: 1.0113954 | J13: 0.038733788 | K13: 0.60113434 | L13: 4.7566886 | M13: 3.0042489 | N13: 100 | O13: 1.0592096 | P13: 7.7609375 | Q13: 29
... A23: ORA-2A-032 | B23: HSR | C23: CCR 3 | D23: 2021.09.16 | E23: 78.114195 | F23: 12.753146 | G23: 0.061953483 | H23: 0.02605373 | I23: 0.92684748 | J23: 0.042014678 | K23: 0.54988343 | L23: 5.1839301 | M23: 2.341976 | N23: 100 | O23: 1.0574182 | P23: 7.5259061 | Q23: 63
A25: These compositions are originally published in Chiaro et al. (2024) | F25: https://doi.org/10.1093/petrology/egae016
A27: Chiaro GR, Gualda GAR, Miller C, et al (2024) Mush Architecture and Processes in the Reservoirs of a Supereruption-Scale Magma System, Permian Ora Ignimbrite (Northern Italy). Journal of Petrology 65:egae016. https://doi.org/10.1093/petrology/egae016

Sheet All_Std
A1: Sample | B1: Type | C1: Population | D1: Analysis Date | E1: SiO2 | F1: Al2O3 | G1: TiO2 | H1: MgO | I1: FeO | J1: MnO | K1: CaO | L1: Na2O | M1: K2O | N1: n
A2: ORA-5B-404A | B2: HSR | C2: VCCR 1 | D2: 2018.09.04 | E2: 0.24551 | F2: 0.104419 | G2: 0.054905 | H2: 0.036405 | I2: 0.147949 | J2: 0.060393 | K2: 0.043881 | L2: 0.092073 | M2: 0.083413 | N2: 43
A3: ORA-5B-406 | B3: HSR | C3: VCCR 2 | D3: 2019.10.22 | E3: 0.197709 | F3: 0.12526 | G3: 0.0575 | H3: 0.05109 | I3: 0.180321 | J3: 0.057338 | K3: 0.064899 | L3: 0.13933 | M3: 0.07068 | N3: 51
A4: ORA-5B-407 | B4: HSR | C4: VCCR 2 | D4: 2019.09.20 | E4: 0.180864 | F4: 0.132944 | G4: 0.048089 | H4: 0.040113 | I4: 0.16375 | J4: 0.052915 | K4: 0.067065 | L4: 0.17433 | M4: 0.10027 | N4: 29
A5: ORA-5B-408 | B5: HSR | C5: VCCR 2 | D5: 2019.10.17 | E5: 0.208399 | F5: 0.124447 | G5: 0.067674 | H5: 0.040993 | I5: 0.145271 | J5: 0.069285 | K5: 0.072033 | L5: 0.135851 | M5: 0.09309 | N5: 55
A6: ORA-5B-409 | B6: HSR | C6: VCCR 2 | D6: 2019.10.22 | E6: 0.250073 | F6: 0.124443 | G6: 0.058797 | H6: 0.035107 | I6: 0.162201 | J6: 0.058497 | K6: 0.066464 | L6: 0.1644 | M6: 0.108169 | N6: 45
A7: ORA-5B-413 | B7: HSR | C7: VCCR 2 | D7: 2019.10.17 | E7: 0.227452 | F7: 0.137029 | G7: 0.052074 | H7: 0.039113 | I7: 0.149448 | J7: 0.054663 | K7: 0.069479 | L7: 0.125437 | M7: 0.085077 | N7: 33
A8: ORA-5B-415 | B8: HSR | C8: VCCR 2 | D8: 2021.09.21 | E8: 0.191731 | F8: 0.093061 | G8: 0.046228 | H8: 0.044062 | I8: 0.156807 | J8: 0.053113 | K8: 0.054336 | L8: 0.145415 | M8: 0.098501 | N8: 31
A9: ORA-5B-402 | B9: HSR | C9: VCCR 3 | D9: 2021.09.17 | E9: 0.194218 | F9: 0.099494 | G9: 0.075422 | H9: 0.035113 | I9: 0.151198 | J9: 0.0488 | K9: 0.05278 | L9: 0.086825 | M9: 0.087778 | N9: 65
A10: ORA-5B-404B | B10: HSR | C10: VCCR 3 | D10: 2018.09.04 | E10: 0.191745 | F10: 0.101708 | G10: 0.058841 | H10: 0.047879 | I10: 0.145514 | J10: 0.082444 | K10: 0.057715 | L10: 0.1411 | M10: 0.082401 | N10: 35
A11: ORA-5B-411 | B11: HSR | C11: VCCR 3 | D11: 2019.10.23 | E11: 0.176618 | F11: 0.117199 | G11: 0.070984 | H11: 0.042267 | I11: 0.141981 | J11: 0.047615 | K11: 0.049098 | L11: 0.074131 | M11: 0.075574 | N11: 57
A12: ORA-5B-412A-CG | B12: HSR | C12: VCCR 3 | D12: 2019.01.14 | E12: 0.215631 | F12: 0.099724 | G12: 0.059195 | H12: 0.031547 | I12: 0.244326 | J12: 0.059074 | K12: 0.053279 | L12: 0.048973 | M12: 0.049436 | N12: 19
A13: ORA-5B-414-CG | B13: HSR | C13: VCCR 3 | D13: 2019.05.15 | E13: 0.17643 | F13: 0.126646 | G13: 0.050535 | H13: 0.043666 | I13: 0.112984 | J13: 0.055751 | K13: 0.091081 | L13: 0.179569 | M13: 0.085895 | N13: 29
... A23: ORA-2A-032 | B23: HSR | C23: CCR 3 | D23: 2021.09.16 | E23: 0.20212857 | F23: 0.10613463 | G23: 0.049808277 | H23: 0.027568949 | I23: 0.17146092 | J23: 0.04886375 | K23: 0.05672958 | L23: 0.076623993 | M23: 0.065584597 | N23: 63
A25: These compositions are originally published in Chiaro et al. (2024) | F25: https://doi.org/10.1093/petrology/egae016
A27: Chiaro GR, Gualda GAR, Miller C, et al (2024) Mush Architecture and Processes in the Reservoirs of a Supereruption-Scale Magma System, Permian Ora Ignimbrite (Northern Italy). Journal of Petrology 65:egae016. https://doi.org/10.1093/petrology/egae016

Sheet All_Spots
A1: Sample | B1: Unique ID | C1: Type | D1: Population | E1: Date | F1: SiO2 | G1: Al2O3 | H1: TiO2 | I1: MgO | J1: FeO | K1: MnO | L1: CaO | M1: Na2O | N1: K2O | O1: Total | Q1: A/CNK
A2: ORA-5B-404A | B2: ORA_5B_404A_10_1327 | C2: HSR | D2: VCCR 1 | E2: 43347 | F2: 77.724177 | G2: 12.905522 | H2: 0.083404744 | I2: 0 | J2: 0.82338157 | K2: 0.012912741 | L2: 0.47574098 | M2: 4.7585001 | N2: 3.2163617 | O2: 100 | Q2: 1.0600535
A3: ORA-5B-404A | B3: ORA_5B_404A_10_1328 | C3: HSR | D3: VCCR 1 | E3: 43347 | F3: 77.64288 | G3: 13.0763 | H3: 0.016681868 | I3: 0.11607673 | J3: 0.82342695 | K3: 0 | L3: 0.46177405 | M3: 4.9474952 | N3: 2.9153649 | O3: 100 | Q3: 1.0776463
A4: ORA-5B-404A | B4: ORA_5B_404A_10_1329 | C4: HSR | D4: VCCR 1 | E4: 43347 | F4: 77.637005 | G4: 12.867466 | H4: 0.15012545 | I4: 0.016581136 | J4: 0.84909479 | K4: 0.14203723 | L4: 0.54569168 | M4: 4.8527616 | N4: 2.9392364 | O4: 100 | Q4: 1.0584668
A5: ORA-5B-404A | B5: ORA_5B_404A_10_1330 | C5: HSR | D5: VCCR 1 | E5: 43347 | F5: 77.783874 | G5: 12.753623 | H5: 0.16679987 | I5: 0.14922468 | J5: 0.84906329 | K5: 0 | L5: 0.50369671 | M5: 4.7582258 | N5: 3.0354922 | O5: 100 | Q5: 1.0602384
A6: ORA-5B-404A | B6: ORA_5B_404A_10_1331 | C6: HSR | D6: VCCR 1 | E6: 43347 | F6: 77.612816 | G6: 12.772532 | H6: 0.016680005 | I6: 0.066322154 | J6: 1.0806272 | K6: 0 | L6: 0.53168043 | M6: 4.9199838 | N6: 2.9993586 | O6: 100 | Q6: 1.0378359
A7: ORA-5B-404A | B7: ORA_5B_404A_10_1332 | C7: HSR | D7: VCCR 1 | E7: 43347 | F7: 77.523927 | G7: 12.960919 | H7: 0 | I7: 0.066319315 | J7: 0.97766845 | K7: 0 | L7: 0.43372073 | M7: 5.014125 | N7: 3.0233204 | O7: 100 | Q7: 1.0529129
A8: ORA-5B-404A | B8: ORA_5B_404A_10_1333 | C8: HSR | D8: VCCR 1 | E8: 43347 | F8: 77.623771 | G8: 12.906613 | H8: 0.11677652 | I8: 0.016582879 | J8: 0.84918405 | K8: 0.05165533 | L8: 0.50376835 | M8: 4.7993465 | N8: 3.1323024 | O8: 100 | Q8: 1.0577824
A9: ORA-5B-404A | B9: ORA_5B_404A_10_1334 | C9: HSR | D9: VCCR 1 | E9: 43347 | F9: 77.428128 | G9: 13.057269 | H9: 0 | I9: 0 | J9: 1.1064685 | K9: 0.038739956 | L9: 0.5037483 | M9: 4.9744055 | N9: 2.891241 | O9: 100 | Q9: 1.0677643
A10: ORA-5B-404A | B10: ORA_5B_404A_10_1335 | C10: HSR | D10: VCCR 1 | E10: 43347 | F10: 77.669774 | G10: 12.752452 | H10: 0.10007073 | I10: 0.082894986 | J10: 0.75894139 | K10: 0.05164324 | L10: 0.51764072 | M10: 4.8386576 | N10: 3.2279253 | O10: 100 | Q10: 1.0288409
A11: ORA-5B-404A | B11: ORA_5B_404A_10_1336 | C11: HSR | D11: VCCR 1 | E11: 43347 | F11: 77.027605 | G11: 12.941302 | H11: 0.16678358 | I11: 0.049736703 | J11: 1.0805205 | K11: 0.18075029 | L11: 0.55960834 | M11: 4.9464541 | N11: 3.0472401 | O11: 100 | Q11: 1.0392083
A12: ORA-5B-404A | B12: ORA_5B_404A_10_1337 | C12: HSR | D12: VCCR 1 | E12: 43347 | F12: 77.273123 | G12: 12.961909 | H12: 0 | I12: 0.049743283 | J12: 1.1192585 | K12: 0.10329954 | L12: 0.51770619 | M12: 4.987548 | N12: 2.9874131 | O12: 100 | Q12: 1.0470293
A13: ORA-5B-404A | B13: ORA_5B_404A_10_1338 | C13: HSR | D13: VCCR 1 | E13: 43347 | F13: 77.885649 | G13: 12.903918 | H13: 0.016678876 | I13: 0.049738248 | J13: 0.86187047 | K13: 0.025822272 | L13: 0.46169122 | M13: 4.7713873 | N13: 3.0232452 | O13: 100 | Q13: 1.0788294
... A999: ORA-2A-032 | B999: ORA_2A_032_8_422 | C999: HSR | D999: CCR 3 | E999: 44455 | F999: 78.2711 | G999: 12.771734 | H999: 0 | I999: 0.049738508 | J999: 0.90046638 | K999: 0 | L999: 0.50366578 | M999: 5.2027263 | N999: 2.3005691 | O999: 100 | Q999: 1.0674484
A1001: These compositions are originally published in Chiaro et al. (2024) | E1001: https://doi.org/10.1093/petrology/egae016
A1003: Chiaro GR, Gualda GAR, Miller C, et al (2024) Mush Architecture and Processes in the Reservoirs of a Supereruption-Scale Magma System, Permian Ora Ignimbrite (Northern Italy). Journal of Petrology 65:egae016. https://doi.org/10.1093/petrology/egae016
