Workbook

Sheet Table
A1: Study | B1: n | C1: gz_CP | D1: Vz_CP | E1: SE_CP | F1: 1/Vz | G1: gz/Vz | H1: gz2/Vz | I1: (1/Vz)2 | J1: 1/(Vz+τ2) | K1: (1/(Vz+τ2))2 | L1: gz/(Vz+τ2) | M1: gz2/(Vz+τ2) | N1: w% | O1: 95%CI | P1: CLES | Q1: gz_W | R1: Vz_W | S1: SE_CP | T1: 1/Vz | U1: gz/Vz | V1: gz2/Vz | W1: (1/Vz)2 | X1: 1/(Vz+τ2) | Y1: (1/(Vz+τ2))2 | Z1: gz/(Vz+τ2) | AA1: w% | AB1: 95%CI | AC1: CLES | AF1: study | AL1: gz [95% CI] | AN1: weight | AQ1: study | AW1: gz [95% CI] | AY1: weight
A2: Bartram et al. (2017) Wt PL5 | B2: 6 | C2: ='Bartram 17 WT'!C30 -> 1.858 | D2: ='Bartram 17 WT'!D30 -> 0.16 | E2: =SQRT(D2)/SQRT($B2) -> 0.16329932 | F2: =1/D2 -> 6.25 | G2: =C2/D2 -> 11.6125 | H2: =C2^2/D2 -> 21.576025 | I2: =F2^2 -> 39.0625 | J2: =1/(D2+C$23) -> 3.2467532 | K2: =J2^2 -> 10.541407 | L2: =C2/(D2+C$23) -> 6.0324675 | M2: =C2^2*J2 -> 11.208325 | N2: =J2/(SUM(J$2:J$16)) -> 0.038044689 | O2: =ROUND(SQRT(D2)*1.96,3) -> 0.784 | P2: ='Bartram 17 WT'!D25 -> 0.95 | Q2: ='Bartram 17 WT'!F30 -> -1.094 | R2: ='Bartram 17 WT'!G30 -> 0.57 | S2: =SQRT(R2)/SQRT($B2) -> 0.3082207 | T2: =1/R2 -> 1.754386 | U2: =Q2/R2 -> -1.9192982 | V2: =Q2^2/R2 -> 2.0997123 | W2: =T2^2 -> 3.0778701 | X2: =1/(R2+Q$23) -> 1.1261261 | Y2: =X2^2 -> 1.2681601 | Z2: =Q2/(R2+Q$23) -> -1.231982 | AA2: =X2/(SUM(X$2:X$16)) -> 0.0318927 | AB2: =ROUND(SQRT(R2)*1.96,3) -> 1.48 | AC2: ='Bartram 17 WT'!G25 -> 0.167 | AD2: 15 | AF2: =A2 -> Bartram et al. (2017) Wt PL5 | AL2: =C2&" ["&ROUND(C2-O2,3)&", "&ROUND(C2+O2,3)&"]" -> 1.858 [1.074, 2.642] | AN2: =N2 -> 0.038044689 | AQ2: =A2 -> Bartram et al. (2017) Wt PL5 | AW2: =Q2&" ["&ROUND(Q2-AB2,3)&", "&ROUND(Q2+AB2,3)&"]" -> -1.094 [-2.574, 0.386] | AY2: =AA2 -> 0.0318927
A3: Karsten et al. (2013)* Wt PL4 | B3: 13 | C3: ='Karsten 13 WT'!C30 -> 1.734 | D3: ='Karsten 13 WT'!D30 -> 0.042 | E3: =SQRT(D3)/SQRT($B3) -> 0.056839856 | F3: =1/D3 -> 23.809524 | G3: =C3/D3 -> 41.285714 | H3: =C3^2/D3 -> 71.589429 | I3: =F3^2 -> 566.89342 | J3: =1/(D3+C$23) -> 5.2631579 | K3: =J3^2 -> 27.700831 | L3: =C3/(D3+C$23) -> 9.1263158 | M3: =C3^2*J3 -> 15.825032 | N3: =J3/(SUM(J$2:J$16)) -> 0.061672444 | O3: =ROUND(SQRT(D3)*1.96,3) -> 0.402 | P3: ='Karsten 13 WT'!D25 -> 0.906 | Q3: ='Karsten 13 WT'!F30 -> -1.189 | R3: ='Karsten 13 WT'!G30 -> 0.138 | S3: =SQRT(R3)/SQRT($B3) -> 0.10303099 | T3: =1/R3 -> 7.2463768 | U3: =Q3/R3 -> -8.615942 | V3: =Q3^2/R3 -> 10.244355 | W3: =T3^2 -> 52.509977 | X3: =1/(R3+Q$23) -> 2.1929825 | Y3: =X3^2 -> 4.8091721 | Z3: =Q3/(R3+Q$23) -> -2.6074561 | AA3: =X3/(SUM(X$2:X$16)) -> 0.062106837 | AB3: =ROUND(SQRT(R3)*1.96,3) -> 0.728 | AC3: ='Karsten 13 WT'!G25 -> 0.183 | AD3: 14 | AF3: =A3 -> Karsten et al. (2013)* Wt PL4 | AL3: =C3&" ["&ROUND(C3-O3,3)&", "&ROUND(C3+O3,3)&"]" -> 1.734 [1.332, 2.136] | AN3: =N3 -> 0.061672444 | AQ3: =A3 -> Karsten et al. (2013)* Wt PL4 | AW3: =Q3&" ["&ROUND(Q3-AB3,3)&", "&ROUND(Q3+AB3,3)&"]" -> -1.189 [-1.917, -0.461] | AY3: =AA3 -> 0.062106837
A4: Karsten et al. (2013)* 1/t PL4 | B4: 13 | C4: ='Karsten 13 1T'!C30 -> 1.52 | D4: ='Karsten 13 1T'!D30 -> 0.031 | E4: =SQRT(D4)/SQRT($B4) -> 0.048832524 | F4: =1/D4 -> 32.258065 | G4: =C4/D4 -> 49.032258 | H4: =C4^2/D4 -> 74.529032 | I4: =F4^2 -> 1040.5827 | J4: =1/(D4+C$23) -> 5.5865922 | K4: =J4^2 -> 31.210012 | L4: =C4/(D4+C$23) -> 8.4916201 | M4: =C4^2*J4 -> 12.907263 | N4: =J4/(SUM(J$2:J$16)) -> 0.06546237 | O4: =ROUND(SQRT(D4)*1.96,3) -> 0.345 | P4: ='Karsten 13 1T'!D25 -> 0.876 | Q4: ='Karsten 13 1T'!F30 -> -0.915 | R4: ='Karsten 13 1T'!G30 -> 0.108 | S4: =SQRT(R4)/SQRT($B4) -> 0.091146543 | T4: =1/R4 -> 9.2592593 | U4: =Q4/R4 -> -8.4722222 | V4: =Q4^2/R4 -> 7.7520833 | W4: =T4^2 -> 85.733882 | X4: =1/(R4+Q$23) -> 2.3474178 | Y4: =X4^2 -> 5.5103705 | Z4: =Q4/(R4+Q$23) -> -2.1478873 | AA4: =X4/(SUM(X$2:X$16)) -> 0.066480558 | AB4: =ROUND(SQRT(R4)*1.96,3) -> 0.644 | AC4: ='Karsten 13 1T'!G25 -> 0.242 | AD4: 13 | AF4: =A4 -> Karsten et al. (2013)* 1/t PL4 | AL4: =C4&" ["&ROUND(C4-O4,3)&", "&ROUND(C4+O4,3)&"]" -> 1.52 [1.175, 1.865] | AN4: =N4 -> 0.06546237 | AQ4: =A4 -> Karsten et al. (2013)* 1/t PL4 | AW4: =Q4&" ["&ROUND(Q4-AB4,3)&", "&ROUND(Q4+AB4,3)&"]" -> -0.915 [-1.559, -0.271] | AY4: =AA4 -> 0.066480558
A5: Wright et al. (2017)* 1/t lin PL3 | B5: 10 | C5: ='Wright 17 1T lin'!C30 -> 1.166 | D5: ='Wright 17 1T lin'!D30 -> 0.041 | E5: =SQRT(D5)/SQRT($B5) -> 0.064031242 | F5: =1/D5 -> 24.390244 | G5: =C5/D5 -> 28.439024 | H5: =C5^2/D5 -> 33.159902 | I5: =F5^2 -> 594.884 | J5: =1/(D5+C$23) -> 5.2910053 | K5: =J5^2 -> 27.994737 | L5: =C5/(D5+C$23) -> 6.1693122 | M5: =C5^2*J5 -> 7.193418 | N5: =J5/(SUM(J$2:J$16)) -> 0.061998753 | O5: =ROUND(SQRT(D5)*1.96,3) -> 0.397 | P5: ='Wright 17 1T lin'!D25 -> 0.814 | Q5: ='Wright 17 1T lin'!F30 -> -1.873 | R5: ='Wright 17 1T lin'!G30 -> 0.168 | S5: =SQRT(R5)/SQRT($B5) -> 0.12961481 | T5: =1/R5 -> 5.952381 | U5: =Q5/R5 -> -11.14881 | V5: =Q5^2/R5 -> 20.88172 | W5: =T5^2 -> 35.430839 | X5: =1/(R5+Q$23) -> 2.0576132 | Y5: =X5^2 -> 4.233772 | Z5: =Q5/(R5+Q$23) -> -3.8539095 | AA5: =X5/(SUM(X$2:X$16)) -> 0.058273082 | AB5: =ROUND(SQRT(R5)*1.96,3) -> 0.803 | AC5: ='Wright 17 1T lin'!G25 -> 0.076 | AD5: 12 | AF5: =A5 -> Wright et al. (2017)* 1/t lin PL3 | AL5: =C5&" ["&ROUND(C5-O5,3)&", "&ROUND(C5+O5,3)&"]" -> 1.166 [0.769, 1.563] | AN5: =N5 -> 0.061998753 | AQ5: =A5 -> Wright et al. (2017)* 1/t lin PL3 | AW5: =Q5&" ["&ROUND(Q5-AB5,3)&", "&ROUND(Q5+AB5,3)&"]" -> -1.873 [-2.676, -1.07] | AY5: =AA5 -> 0.058273082
A6: Dekerle et al. (2014) 1/t 60 PL3 | B6: 9 | C6: ='Dekerle 13 1T 60'!C30 -> 0.606 | D6: ='Dekerle 13 1T 60'!D30 -> 0.031 | E6: =SQRT(D6)/SQRT($B6) -> 0.05868939 | F6: =1/D6 -> 32.258065 | G6: =C6/D6 -> 19.548387 | H6: =C6^2/D6 -> 11.846323 | I6: =F6^2 -> 1040.5827 | J6: =1/(D6+C$23) -> 5.5865922 | K6: =J6^2 -> 31.210012 | L6: =C6/(D6+C$23) -> 3.3854749 | M6: =C6^2*J6 -> 2.0515978 | N6: =J6/(SUM(J$2:J$16)) -> 0.06546237 | O6: =ROUND(SQRT(D6)*1.96,3) -> 0.345 | P6: ='Dekerle 13 1T 60'!D25 -> 0.685 | Q6: ='Dekerle 13 1T 60'!F30 -> -0.218 | R6: ='Dekerle 13 1T 60'!G30 -> 0.31 | S6: =SQRT(R6)/SQRT($B6) -> 0.18559215 | T6: =1/R6 -> 3.2258065 | U6: =Q6/R6 -> -0.70322581 | V6: =Q6^2/R6 -> 0.15330323 | W6: =T6^2 -> 10.405827 | X6: =1/(R6+Q$23) -> 1.5923567 | Y6: =X6^2 -> 2.5355998 | Z6: =Q6/(R6+Q$23) -> -0.34713376 | AA6: =X6/(SUM(X$2:X$16)) -> 0.045096684 | AB6: =ROUND(SQRT(R6)*1.96,3) -> 1.091 | AC6: ='Dekerle 13 1T 60'!G25 -> 0.431 | AD6: 11 | AF6: =A6 -> Dekerle et al. (2014) 1/t 60 PL3 | AL6: =C6&" ["&ROUND(C6-O6,3)&", "&ROUND(C6+O6,3)&"]" -> 0.606 [0.261, 0.951] | AN6: =N6 -> 0.06546237 | AQ6: =A6 -> Dekerle et al. (2014) 1/t 60 PL3 | AW6: =Q6&" ["&ROUND(Q6-AB6,3)&", "&ROUND(Q6+AB6,3)&"]" -> -0.218 [-1.309, 0.873] | AY6: =AA6 -> 0.045096684
A7: Goulding et al. (2021)* mix up PL2 | B7: 15 | C7: ='Goulding 21 mix up'!C30 -> 0.441 | D7: ='Goulding 21 mix up'!D30 -> 0.005 | E7: =SQRT(D7)/SQRT($B7) -> 0.018257419 | F7: =1/D7 -> 200 | G7: =C7/D7 -> 88.2 | H7: =C7^2/D7 -> 38.8962 | I7: =F7^2 -> 40000 | J7: =1/(D7+C$23) -> 6.5359477 | K7: =J7^2 -> 42.718612 | L7: =C7/(D7+C$23) -> 2.8823529 | M7: =C7^2*J7 -> 1.2711176 | N7: =J7/(SUM(J$2:J$16)) -> 0.076586695 | O7: =ROUND(SQRT(D7)*1.96,3) -> 0.139 | P7: ='Goulding 21 mix up'!D25 -> 0.63 | Q7: ='Goulding 21 mix up'!C30 -> 0.441 | R7: ='Goulding 21 mix up'!D30 -> 0.005 | S7: =SQRT(R7)/SQRT($B7) -> 0.018257419 | T7: =1/R7 -> 200 | U7: =Q7/R7 -> 88.2 | V7: =Q7^2/R7 -> 38.8962 | W7: =T7^2 -> 40000 | X7: =1/(R7+Q$23) -> 3.0959752 | Y7: =X7^2 -> 9.5850626 | Z7: =Q7/(R7+Q$23) -> 1.3653251 | AA7: =X7/(SUM(X$2:X$16)) -> 0.08768024 | AB7: =ROUND(SQRT(R7)*1.96,3) -> 0.139 | AC7: ='Dekerle 13 1T 100'!G25 -> 0.379 | AD7: 10 | AF7: =A7 -> Goulding et al. (2021)* mix up PL2 | AL7: =C7&" ["&ROUND(C7-O7,3)&", "&ROUND(C7+O7,3)&"]" -> 0.441 [0.302, 0.58] | AN7: =N7 -> 0.076586695 | AQ7: =A7 -> Goulding et al. (2021)* mix up PL2 | AW7: =Q7&" ["&ROUND(Q7-AB7,3)&", "&ROUND(Q7+AB7,3)&"]" -> 0.441 [0.302, 0.58] | AY7: =AA7 -> 0.08768024
A8: Dekerle et al. (2014) 1/t 100 PL3 | B8: 9 | C8: ='Dekerle 13 1T 100'!C30 -> 0.294 | D8: ='Dekerle 13 1T 100'!D30 -> 0.07 | E8: =SQRT(D8)/SQRT($B8) -> 0.08819171 | F8: =1/D8 -> 14.285714 | G8: =C8/D8 -> 4.2 | H8: =C8^2/D8 -> 1.2348 | I8: =F8^2 -> 204.08163 | J8: =1/(D8+C$23) -> 4.587156 | K8: =J8^2 -> 21.042 | L8: =C8/(D8+C$23) -> 1.3486239 | M8: =C8^2*J8 -> 0.39649541 | N8: =J8/(SUM(J$2:J$16)) -> 0.053751212 | O8: =ROUND(SQRT(D8)*1.96,3) -> 0.519 | P8: ='Dekerle 13 1T 100'!D25 -> 0.592 | Q8: ='Dekerle 13 1T 100'!F30 -> -0.387 | R8: ='Dekerle 13 1T 100'!G30 -> 0.224 | S8: =SQRT(R8)/SQRT($B8) -> 0.15776213 | T8: =1/R8 -> 4.4642857 | U8: =Q8/R8 -> -1.7276786 | V8: =Q8^2/R8 -> 0.66861161 | W8: =T8^2 -> 19.929847 | X8: =1/(R8+Q$23) -> 1.8450185 | Y8: =X8^2 -> 3.4040931 | Z8: =Q8/(R8+Q$23) -> -0.71402214 | AA8: =X8/(SUM(X$2:X$16)) -> 0.052252247 | AB8: =ROUND(SQRT(R8)*1.96,3) -> 0.928 | AC8: ='Clark 16 WT'!G25 -> 0.429 | AD8: 9 | AF8: =A8 -> Dekerle et al. (2014) 1/t 100 PL3 | AL8: =C8&" ["&ROUND(C8-O8,3)&", "&ROUND(C8+O8,3)&"]" -> 0.294 [-0.225, 0.813] | AN8: =N8 -> 0.053751212 | AQ8: =A8 -> Dekerle et al. (2014) 1/t 100 PL3 | AW8: =Q8&" ["&ROUND(Q8-AB8,3)&", "&ROUND(Q8+AB8,3)&"]" -> -0.387 [-1.315, 0.541] | AY8: =AA8 -> 0.052252247
A9: Clark et al. (2016) Wt PL2 | B9: 10 | C9: ='Clark 16 WT'!C30 -> 0.233 | D9: ='Clark 16 WT'!D30 -> 0.003 | E9: =SQRT(D9)/SQRT($B9) -> 0.017320508 | F9: =1/D9 -> 333.33333 | G9: =C9/D9 -> 77.666667 | H9: =C9^2/D9 -> 18.096333 | I9: =F9^2 -> 111111.11 | J9: =1/(D9+C$23) -> 6.6225166 | K9: =J9^2 -> 43.857726 | L9: =C9/(D9+C$23) -> 1.5430464 | M9: =C9^2*J9 -> 0.3595298 | N9: =J9/(SUM(J$2:J$16)) -> 0.077601088 | O9: =ROUND(SQRT(D9)*1.96,3) -> 0.107 | P9: ='Clark 16 WT'!D25 -> 0.572 | Q9: ='Clark 16 WT'!F30 -> -0.227 | R9: ='Clark 16 WT'!G30 -> 0.023 | S9: =SQRT(R9)/SQRT($B9) -> 0.047958315 | T9: =1/R9 -> 43.478261 | U9: =Q9/R9 -> -9.8695652 | V9: =Q9^2/R9 -> 2.2403913 | W9: =T9^2 -> 1890.3592 | X9: =1/(R9+Q$23) -> 2.9325513 | Y9: =X9^2 -> 8.5998572 | Z9: =Q9/(R9+Q$23) -> -0.66568915 | AA9: =X9/(SUM(X$2:X$16)) -> 0.083051958 | AB9: =ROUND(SQRT(R9)*1.96,3) -> 0.297 | AC9: ='Goulding 21 mix up'!G25 -> 0.335 | AD9: 8 | AF9: =A9 -> Clark et al. (2016) Wt PL2 | AL9: =C9&" ["&ROUND(C9-O9,3)&", "&ROUND(C9+O9,3)&"]" -> 0.233 [0.126, 0.34] | AN9: =N9 -> 0.077601088 | AQ9: =A9 -> Clark et al. (2016) Wt PL2 | AW9: =Q9&" ["&ROUND(Q9-AB9,3)&", "&ROUND(Q9+AB9,3)&"]" -> -0.227 [-0.524, 0.07] | AY9: =AA9 -> 0.083051958
A10: Clark et al. (2019) mix fat PL2 | B10: 14 | C10: ='Clark 19 mix fat'!C30 -> 0.127 | D10: ='Clark 19 mix fat'!D30 -> 0.011 | E10: =SQRT(D10)/SQRT($B10) -> 0.028030596 | F10: =1/D10 -> 90.909091 | G10: =C10/D10 -> 11.545455 | H10: =C10^2/D10 -> 1.4662727 | I10: =F10^2 -> 8264.4628 | J10: =1/(D10+C$23) -> 6.2893082 | K10: =J10^2 -> 39.555397 | L10: =C10/(D10+C$23) -> 0.79874214 | M10: =C10^2*J10 -> 0.10144025 | N10: =J10/(SUM(J$2:J$16)) -> 0.073696631 | O10: =ROUND(SQRT(D10)*1.96,3) -> 0.206 | P10: ='Clark 19 mix fat'!D25 -> 0.538 | Q10: ='Clark 19 mix fat'!F30 -> -0.087 | R10: ='Clark 19 mix fat'!G30 -> 0.061 | S10: =SQRT(R10)/SQRT($B10) -> 0.066008657 | T10: =1/R10 -> 16.393443 | U10: =Q10/R10 -> -1.4262295 | V10: =Q10^2/R10 -> 0.12408197 | W10: =T10^2 -> 268.74496 | X10: =1/(R10+Q$23) -> 2.6385224 | Y10: =X10^2 -> 6.9618006 | Z10: =Q10/(R10+Q$23) -> -0.22955145 | AA10: =X10/(SUM(X$2:X$16)) -> 0.074724849 | AB10: =ROUND(SQRT(R10)*1.96,3) -> 0.484 | AC10: ='Goulding 21 mix sup'!G25 -> 0.768 | AD10: 7 | AF10: =A10 -> Clark et al. (2019) mix fat PL2 | AL10: =C10&" ["&ROUND(C10-O10,3)&", "&ROUND(C10+O10,3)&"]" -> 0.127 [-0.079, 0.333] | AN10: =N10 -> 0.073696631 | AQ10: =A10 -> Clark et al. (2019) mix fat PL2 | AW10: =Q10&" ["&ROUND(Q10-AB10,3)&", "&ROUND(Q10+AB10,3)&"]" -> -0.087 [-0.571, 0.397] | AY10: =AA10 -> 0.074724849
A11: Clark et al. (2016) 1/t PL2 | B11: 10 | C11: ='Clark 16 1T'!C30 -> 0.123 | D11: ='Clark 16 1T'!D30 -> 0.004 | E11: =SQRT(D11)/SQRT($B11) -> 0.02 | F11: =1/D11 -> 250 | G11: =C11/D11 -> 30.75 | H11: =C11^2/D11 -> 3.78225 | I11: =F11^2 -> 62500 | J11: =1/(D11+C$23) -> 6.5789474 | K11: =J11^2 -> 43.282548 | L11: =C11/(D11+C$23) -> 0.80921053 | M11: =C11^2*J11 -> 0.099532895 | N11: =J11/(SUM(J$2:J$16)) -> 0.077090555 | O11: =ROUND(SQRT(D11)*1.96,3) -> 0.124 | P11: ='Clark 16 1T'!D25 -> 0.538 | Q11: ='Clark 16 1T'!F30 -> -0.132 | R11: ='Clark 16 1T'!G30 -> 0.027 | S11: =SQRT(R11)/SQRT($B11) -> 0.051961524 | T11: =1/R11 -> 37.037037 | U11: =Q11/R11 -> -4.8888889 | V11: =Q11^2/R11 -> 0.64533333 | W11: =T11^2 -> 1371.7421 | X11: =1/(R11+Q$23) -> 2.8985507 | Y11: =X11^2 -> 8.4015963 | Z11: =Q11/(R11+Q$23) -> -0.3826087 | AA11: =X11/(SUM(X$2:X$16)) -> 0.082089037 | AB11: =ROUND(SQRT(R11)*1.96,3) -> 0.322 | AC11: ='Clark 19 mix fat'!G25 -> 0.474 | AD11: 6 | AF11: =A11 -> Clark et al. (2016) 1/t PL2 | AL11: =C11&" ["&ROUND(C11-O11,3)&", "&ROUND(C11+O11,3)&"]" -> 0.123 [-0.001, 0.247] | AN11: =N11 -> 0.077090555 | AQ11: =A11 -> Clark et al. (2016) 1/t PL2 | AW11: =Q11&" ["&ROUND(Q11-AB11,3)&", "&ROUND(Q11+AB11,3)&"]" -> -0.132 [-0.454, 0.19] | AY11: =AA11 -> 0.082089037
A12: Barker et al. (2012) 1/t PL2 | B12: 8 | C12: ='Baker 11 1T 180'!C30 -> 0.011 | D12: ='Baker 11 1T 180'!D30 -> 0.092 | E12: =SQRT(D12)/SQRT($B12) -> 0.10723805 | F12: =1/D12 -> 10.869565 | G12: =C12/D12 -> 0.11956522 | H12: =C12^2/D12 -> 0.0013152174 | I12: =F12^2 -> 118.14745 | J12: =1/(D12+C$23) -> 4.1666667 | K12: =J12^2 -> 17.361111 | L12: =C12/(D12+C$23) -> 0.045833333 | M12: =C12^2*J12 -> 0.00050416667 | N12: =J12/(SUM(J$2:J$16)) -> 0.048824018 | O12: =ROUND(SQRT(D12)*1.96,3) -> 0.594 | P12: ='Baker 11 1T 180'!D25 -> 0.504 | Q12: ='Baker 11 1T 180'!F30 -> -0.357 | R12: ='Baker 11 1T 180'!G30 -> 0.199 | S12: =SQRT(R12)/SQRT($B12) -> 0.1577181 | T12: =1/R12 -> 5.0251256 | U12: =Q12/R12 -> -1.7939698 | V12: =Q12^2/R12 -> 0.64044724 | W12: =T12^2 -> 25.251888 | X12: =1/(R12+Q$23) -> 1.934236 | Y12: =X12^2 -> 3.7412688 | Z12: =Q12/(R12+Q$23) -> -0.69052224 | AA12: =X12/(SUM(X$2:X$16)) -> 0.054778951 | AB12: =ROUND(SQRT(R12)*1.96,3) -> 0.874 | AC12: ='Clark 16 1T'!G25 -> 0.459 | AD12: 5 | AF12: =A12 -> Barker et al. (2012) 1/t PL2 | AL12: =C12&" ["&ROUND(C12-O12,3)&", "&ROUND(C12+O12,3)&"]" -> 0.011 [-0.583, 0.605] | AN12: =N12 -> 0.048824018 | AQ12: =A12 -> Barker et al. (2012) 1/t PL2 | AW12: =Q12&" ["&ROUND(Q12-AB12,3)&", "&ROUND(Q12+AB12,3)&"]" -> -0.357 [-1.231, 0.517] | AY12: =AA12 -> 0.054778951
A13: Vahatalo et al. (2007) Wt PL3 | B13: 10 | C13: ='Vanhatalo 07 WT'!C30 -> -0.044 | D13: ='Vanhatalo 07 WT'!D30 -> 0.001 | E13: =SQRT(D13)/SQRT($B13) -> 0.01 | F13: =1/D13 -> 1000 | G13: =C13/D13 -> -44 | H13: =C13^2/D13 -> 1.936 | I13: =F13^2 -> 1000000 | J13: =1/(D13+C$23) -> 6.7114094 | K13: =J13^2 -> 45.043016 | L13: =C13/(D13+C$23) -> -0.29530201 | M13: =C13^2*J13 -> 0.012993289 | N13: =J13/(SUM(J$2:J$16)) -> 0.078642713 | O13: =ROUND(SQRT(D13)*1.96,3) -> 0.062 | P13: ='Vanhatalo 07 WT'!D25 -> 0.486 | Q13: ='Vanhatalo 07 WT'!F30 -> -0.346 | R13: ='Vanhatalo 07 WT'!G30 -> 0.029 | S13: =SQRT(R13)/SQRT($B13) -> 0.053851648 | T13: =1/R13 -> 34.482759 | U13: =Q13/R13 -> -11.931034 | V13: =Q13^2/R13 -> 4.1281379 | W13: =T13^2 -> 1189.0606 | X13: =1/(R13+Q$23) -> 2.8818444 | Y13: =X13^2 -> 8.305027 | Z13: =Q13/(R13+Q$23) -> -0.99711816 | AA13: =X13/(SUM(X$2:X$16)) -> 0.081615901 | AB13: =ROUND(SQRT(R13)*1.96,3) -> 0.334 | AC13: ='Baker 11 1T 180'!G25 -> 0.386 | AD13: 4 | AF13: =A13 -> Vahatalo et al. (2007) Wt PL3 | AL13: =C13&" ["&ROUND(C13-O13,3)&", "&ROUND(C13+O13,3)&"]" -> -0.044 [-0.106, 0.018] | AN13: =N13 -> 0.078642713 | AQ13: =A13 -> Vahatalo et al. (2007) Wt PL3 | AW13: =Q13&" ["&ROUND(Q13-AB13,3)&", "&ROUND(Q13+AB13,3)&"]" -> -0.346 [-0.68, -0.012] | AY13: =AA13 -> 0.081615901
A14: Wright et al. (2017)* 1/T iso PL3 | B14: 10 | C14: ='Wright 17 1T iso'!C30 -> -0.247 | D14: ='Wright 17 1T iso'!D30 -> 0.027 | E14: =SQRT(D14)/SQRT($B14) -> 0.051961524 | F14: =1/D14 -> 37.037037 | G14: =C14/D14 -> -9.1481481 | H14: =C14^2/D14 -> 2.2595926 | I14: =F14^2 -> 1371.7421 | J14: =1/(D14+C$23) -> 5.7142857 | K14: =J14^2 -> 32.653061 | L14: =C14/(D14+C$23) -> -1.4114286 | M14: =C14^2*J14 -> 0.34862286 | N14: =J14/(SUM(J$2:J$16)) -> 0.066958653 | O14: =ROUND(SQRT(D14)*1.96,3) -> 0.322 | P14: ='Wright 17 1T iso'!D25 -> 0.425 | Q14: ='Wright 17 1T iso'!F30 -> -1.356 | R14: ='Wright 17 1T iso'!G30 -> 0.11 | S14: =SQRT(R14)/SQRT($B14) -> 0.10488088 | T14: =1/R14 -> 9.0909091 | U14: =Q14/R14 -> -12.327273 | V14: =Q14^2/R14 -> 16.715782 | W14: =T14^2 -> 82.644628 | X14: =1/(R14+Q$23) -> 2.3364486 | Y14: =X14^2 -> 5.4589921 | Z14: =Q14/(R14+Q$23) -> -3.1682243 | AA14: =X14/(SUM(X$2:X$16)) -> 0.066169901 | AB14: =ROUND(SQRT(R14)*1.96,3) -> 0.65 | AC14: ='Vanhatalo 07 WT'!G25 -> 0.393 | AD14: 3 | AF14: =A14 -> Wright et al. (2017)* 1/T iso PL3 | AL14: =C14&" ["&ROUND(C14-O14,3)&", "&ROUND(C14+O14,3)&"]" -> -0.247 [-0.569, 0.075] | AN14: =N14 -> 0.066958653 | AQ14: =A14 -> Wright et al. (2017)* 1/T iso PL3 | AW14: =Q14&" ["&ROUND(Q14-AB14,3)&", "&ROUND(Q14+AB14,3)&"]" -> -1.356 [-2.006, -0.706] | AY14: =AA14 -> 0.066169901
A15: Vahatalo et al. (2007) 1/t PL3 | B15: 10 | C15: ='Vanhatalo 07 1T'!C30 -> -0.28 | D15: ='Vanhatalo 07 1T'!D30 -> 0.002 | E15: =SQRT(D15)/SQRT($B15) -> 0.014142136 | F15: =1/D15 -> 500 | G15: =C15/D15 -> -140 | H15: =C15^2/D15 -> 39.2 | I15: =F15^2 -> 250000 | J15: =1/(D15+C$23) -> 6.6666667 | K15: =J15^2 -> 44.444444 | L15: =C15/(D15+C$23) -> -1.8666667 | M15: =C15^2*J15 -> 0.52266667 | N15: =J15/(SUM(J$2:J$16)) -> 0.078118429 | O15: =ROUND(SQRT(D15)*1.96,3) -> 0.088 | P15: ='Vanhatalo 07 1T'!D25 -> 0.413 | Q15: ='Vanhatalo 07 1T'!F30 -> -0.123 | R15: ='Vanhatalo 07 1T'!G30 -> 0.027 | S15: =SQRT(R15)/SQRT($B15) -> 0.051961524 | T15: =1/R15 -> 37.037037 | U15: =Q15/R15 -> -4.5555556 | V15: =Q15^2/R15 -> 0.56033333 | W15: =T15^2 -> 1371.7421 | X15: =1/(R15+Q$23) -> 2.8985507 | Y15: =X15^2 -> 8.4015963 | Z15: =Q15/(R15+Q$23) -> -0.35652174 | AA15: =X15/(SUM(X$2:X$16)) -> 0.082089037 | AB15: =ROUND(SQRT(R15)*1.96,3) -> 0.322 | AC15: ='Wright 17 1T iso'!G25 -> 0.149 | AD15: 2 | AF15: =A15 -> Vahatalo et al. (2007) 1/t PL3 | AL15: =C15&" ["&ROUND(C15-O15,3)&", "&ROUND(C15+O15,3)&"]" -> -0.28 [-0.368, -0.192] | AN15: =N15 -> 0.078118429 | AQ15: =A15 -> Vahatalo et al. (2007) 1/t PL3 | AW15: =Q15&" ["&ROUND(Q15-AB15,3)&", "&ROUND(Q15+AB15,3)&"]" -> -0.123 [-0.445, 0.199] | AY15: =AA15 -> 0.082089037
A16: Goulding et al. (2021)* mix sup PL2 | B16: 8 | C16: ='Goulding 21 mix sup'!C30 -> -0.343 | D16: ='Goulding 21 mix sup'!D30 -> 0.006 | E16: =SQRT(D16)/SQRT($B16) -> 0.027386128 | F16: =1/D16 -> 166.66667 | G16: =C16/D16 -> -57.166667 | H16: =C16^2/D16 -> 19.608167 | I16: =F16^2 -> 27777.778 | J16: =1/(D16+C$23) -> 6.4935065 | K16: =J16^2 -> 42.165627 | L16: =C16/(D16+C$23) -> -2.2272727 | M16: =C16^2*J16 -> 0.76395455 | N16: =J16/(SUM(J$2:J$16)) -> 0.076089379 | O16: =ROUND(SQRT(D16)*1.96,3) -> 0.152 | P16: ='Goulding 21 mix sup'!D25 -> 0.39 | Q16: ='Goulding 21 mix sup'!F30 -> 0.901 | R16: ='Goulding 21 mix sup'!G30 -> 0.077 | S16: =SQRT(R16)/SQRT($B16) -> 0.098107084 | T16: =1/R16 -> 12.987013 | U16: =Q16/R16 -> 11.701299 | V16: =Q16^2/R16 -> 10.54287 | W16: =T16^2 -> 168.66251 | X16: =1/(R16+Q$23) -> 2.5316456 | Y16: =X16^2 -> 6.4092293 | Z16: =Q16/(R16+Q$23) -> 2.2810127 | AA16: =X16/(SUM(X$2:X$16)) -> 0.071698019 | AB16: =ROUND(SQRT(R16)*1.96,3) -> 0.544 | AC16: ='Vanhatalo 07 1T'!G25 -> 0.462 | AD16: 1 | AF16: =A16 -> Goulding et al. (2021)* mix sup PL2 | AL16: =C16&" ["&ROUND(C16-O16,3)&", "&ROUND(C16+O16,3)&"]" -> -0.343 [-0.495, -0.191] | AN16: =N16 -> 0.076089379 | AQ16: =A16 -> Goulding et al. (2021)* mix sup PL2 | AW16: =Q16&" ["&ROUND(Q16-AB16,3)&", "&ROUND(Q16+AB16,3)&"]" -> 0.901 [0.357, 1.445] | AY16: =AA16 -> 0.071698019
A18: fixed pooled gz | C18: =ROUND(SUM(G2:G16)/SUM(F2:F16),3) -> 0.041 | D18: RUNDEN(SUMME(G2:G16)/SUMME(F2:F16);3) | P18: =AVERAGE(P2:P16) -> 0.62126667 | Q18: =ROUND(SUM(U2:U16)/SUM(T2:T16),3) -> 0.048 | AC18: =AVERAGE(AC2:AC16) -> 0.35553333 | AF18: pooled gz (fixed) | AL18: =C18&" ["&ROUND(C18-C19,3)&", "&ROUND(C18+C19,3)&"]" -> 0.041 [0.003, 0.079] | AQ18: pooled gz (fixed) | AW18: =Q18&" ["&ROUND(Q18-Q19,3)&", "&ROUND(Q18+Q19,3)&"]" -> 0.048 [-0.047, 0.143]
A19: 95% CI | C19: =ROUND(SQRT(1/SUM(F2:F16))*1.96,3) -> 0.038 | D19: RUNDEN(WURZEL(1/SUMME(F2:F16))*1.96;3) | P19: =_xlfn.STDEV.S(P2:P16) -> 0.18514298 | Q19: =ROUND(SQRT(1/SUM(T2:T16))*1.96,3) -> 0.095 | AC19: =_xlfn.STDEV.S(AC2:AC16) -> 0.17312211 | AF19: pooled gz (random) | AL19: =C25&" ["&ROUND(C25-C26,3)&", "&ROUND(C25+C26,3)&"]" -> 0.408 [0.196, 0.62] | AQ19: pooled gz (random) | AW19: =Q25&" ["&ROUND(Q25-Q26,3)&", "&ROUND(Q25+Q26,3)&"]" -> -0.389 [-0.719, -0.059]
A20: Q | C20: =ROUND((SUM(H2:H16))-((SUM(G2:G16)^2)/(SUM(F2:F16))),3) -> 334.566 | D20: RUNDEN((SUMME(H2:H16))-((SUMME(G2:G16)^2)/(SUMME(F2:F16)));3) | Q20: =ROUND((SUM(V2:V16))-((SUM(U2:U16)^2)/(SUM(T2:T16))),3) -> 115.308 | AL20: ="95% PI ["&ROUND(C25-C27,3)&", "&ROUND(C25+C27,3)&"]" -> 95% PI [0.024, 0.792] | AW20: ="95% PI ["&ROUND(Q25-Q27,3)&", "&ROUND(Q25+Q27,3)&"]" -> 95% PI [-0.954, 0.176]
A21: I2 | C21: =(C20-COUNT(C2:C16)-1)/C20 -> 0.95217685 | D21: (C20-ANZAHL(C2:C16)-1)/C20 | Q21: =(Q20-COUNT(Q2:Q16)-1)/Q20 -> 0.8612412
A22: Homogeneity test p | C22: =ROUND(1-_xlfn.CHISQ.DIST(C20,COUNT(C2:C16)-1,TRUE),3) -> 0 | D22: RUNDEN(1-CHIQU.VERT(C20;ANZAHL(C2:C16)-1;WAHR);3) | Q22: =ROUND(1-_xlfn.CHISQ.DIST(Q20,COUNT(Q2:Q16)-1,TRUE),3) -> 0
A23: τ2 | C23: =ROUND(MAX(0, (C20-(COUNT(C2:C16)-1))/(SUM(F2:F16)-(SUM(I2:I16)/SUM(F2:F16)))),3) -> 0.148 | D23: RUNDEN(MAX(0; (C20-(ANZAHL(C2:C16)-1))/(SUMME(F2:F16)-(SUMME(I2:I16)/SUMME(F2:F16))));3) | Q23: =ROUND(MAX(0, (Q20-(COUNT(Q2:Q16)-1))/(SUM(T2:T16)-(SUM(W2:W16)/SUM(T2:T16)))),3) -> 0.318
A25: random pooled gz | C25: =ROUND(SUM(L2:L16)/SUM(J2:J16),3) -> 0.408 | D25: RUNDEN(SUMME(L2:L16)/SUMME(J2:J16);3) | Q25: =ROUND(SUM(Z2:Z16)/SUM(X2:X16),3) -> -0.389
A26: 95% CI | C26: =ROUND(SQRT(1/SUM(J2:J16))*1.96,3) -> 0.212 | D26: RUNDEN(WURZEL(1/SUMME(J2:J16))*1.96;3) | Q26: =ROUND(SQRT(1/SUM(X2:X16))*1.96,3) -> 0.33
A27: 95% PI | C27: =ROUND(TDIST(0.05,COUNT(C2:C16)-1,2)*SQRT(C23+(1/SUM(J2:J16))),3) -> 0.384 | D27: RUNDEN(TVERT(0.05;ANZAHL(C2:C16)-1;2)*WURZEL(C23+(1/SUMME(J2:J16)));3) | Q27: =ROUND(TDIST(0.05,COUNT(Q2:Q16)-1,2)*SQRT(Q23+(1/SUM(X2:X16))),3) -> 0.565
A31: power per time approach | B31: 1/T
A32: 3-min test @ 100 rpm | B32: 100
A33: 180-s all-out | B33: 180
A34: 3-min test @ 60 rpm | B34: 60
A35: 90-s all-out | B35: 90
A36: fatigued (mixed approach) | B36: fat
A37: isokinetic | B37: iso
A38: linear | B38: lin
A39: work over time approach | B39: WT
A40: data extracted from figures | B40: *

Sheet data
E1: EP | F1: CP | G1: EP–CP | H1: WEP | I1: W' | J1: WEP–W' | K1: M_CP | L1: M_W | M1: no. | Q1: =CORREL(E2:E160,F2:F160) -> 0.93310894 | R1: =STEYX(F2:F160,E2:E160) -> 20.998545 | T1: =CORREL(H2:H160,I2:I160) -> 0.49867936 | U1: =STEYX(I2:I160,H2:H160) -> 5.3840573
A2: Vanhatalo et al. (2007) | D2: ="n = "&MAX(M2:M21) -> n = 10 | E2: 173 | F2: 177 | G2: -4 | H2: 9.3 | I2: 9.7 | J2: -0.4 | K2: =AVERAGE(E2:F2) -> 175 | L2: =AVERAGE(H2:I2) -> 9.5 | M2: 1 | N2: 0.9917775 | O2: 0.82936863
C3: WT | E3: 286 | F3: 287 | G3: -1 | H3: 16 | I3: 18.9 | J3: -2.9 | K3: =AVERAGE(E3:F3) -> 286.5 | L3: =AVERAGE(H3:I3) -> 17.45 | M3: 2 | N3: 0.9917775 | O3: 0.82936863
E4: 325 | F4: 337 | G4: -12 | H4: 25.3 | I4: 22.1 | J4: 3.2 | K4: =AVERAGE(E4:F4) -> 331 | L4: =AVERAGE(H4:I4) -> 23.7 | M4: 3 | N4: 0.9917775 | O4: 0.82936863
E5: 351 | F5: 347 | G5: 4 | H5: 12.2 | I5: 11.2 | J5: 1 | K5: =AVERAGE(E5:F5) -> 349 | L5: =AVERAGE(H5:I5) -> 11.7 | M5: 4 | N5: 0.9917775 | O5: 0.82936863
E6: 252 | F6: 247 | G6: 5 | H6: 18 | I6: 16.7 | J6: 1.3 | K6: =AVERAGE(E6:F6) -> 249.5 | L6: =AVERAGE(H6:I6) -> 17.35 | M6: 5 | N6: 0.9917775 | O6: 0.82936863
E7: 262 | F7: 251 | G7: 11 | H7: 12.2 | I7: 18.1 | J7: -5.9 | K7: =AVERAGE(E7:F7) -> 256.5 | L7: =AVERAGE(H7:I7) -> 15.15 | M7: 6 | N7: 0.9917775 | O7: 0.82936863
E8: 316 | F8: 317 | G8: -1 | H8: 16.2 | I8: 17.4 | J8: -1.2 | K8: =AVERAGE(E8:F8) -> 316.5 | L8: =AVERAGE(H8:I8) -> 16.8 | M8: 7 | N8: 0.9917775 | O8: 0.82936863
E9: 334 | F9: 334 | G9: 0 | H9: 11.5 | I9: 14.9 | J9: -3.4 | K9: =AVERAGE(E9:F9) -> 334 | L9: =AVERAGE(H9:I9) -> 13.2 | M9: 8 | N9: 0.9917775 | O9: 0.82936863
E10: 330 | F10: 333 | G10: -3 | H10: 18.1 | I10: 18.4 | J10: -0.3 | K10: =AVERAGE(E10:F10) -> 331.5 | L10: =AVERAGE(H10:I10) -> 18.25 | M10: 9 | N10: 0.9917775 | O10: 0.82936863
E11: 240 | F11: 242 | G11: -2 | H11: 11.3 | I11: 12.7 | J11: -1.4 | K11: =AVERAGE(E11:F11) -> 241 | L11: =AVERAGE(H11:I11) -> 12 | M11: 10 | N11: 0.9917775 | O11: 0.82936863
A12: Vanhatalo et al. (2007) | D12: ="n = "&MAX(M12:M29) -> n = 10 | E12: 173 | F12: 176 | G12: -3 | H12: 9.3 | I12: 9.9 | J12: -0.6 | K12: =AVERAGE(E12:F12) -> 174.5 | L12: =AVERAGE(H12:I12) -> 9.6 | M12: 1 | N12: 0.9917775 | O12: 0.82936863
C13: 1/T | E13: 286 | F13: 296 | G13: -10 | H13: 16 | I13: 16.7 | J13: -0.7 | K13: =AVERAGE(E13:F13) -> 291 | L13: =AVERAGE(H13:I13) -> 16.35 | M13: 2 | N13: 0.9917775 | O13: 0.82936863
E14: 325 | F14: 343 | G14: -18 | H14: 25.3 | I14: 20.5 | J14: 4.8 | K14: =AVERAGE(E14:F14) -> 334 | L14: =AVERAGE(H14:I14) -> 22.9 | M14: 3 | N14: 0.9917775 | O14: 0.82936863
E15: 351 | F15: 347 | G15: 4 | H15: 12.2 | I15: 11.3 | J15: 0.9 | K15: =AVERAGE(E15:F15) -> 349 | L15: =AVERAGE(H15:I15) -> 11.75 | M15: 4 | N15: 0.9917775 | O15: 0.82936863
E16: 252 | F16: 245 | G16: 7 | H16: 18 | I16: 17.1 | J16: 0.9 | K16: =AVERAGE(E16:F16) -> 248.5 | L16: =AVERAGE(H16:I16) -> 17.55 | M16: 5 | N16: 0.9917775 | O16: 0.82936863
E17: 262 | F17: 254 | G17: 8 | H17: 12.2 | I17: 16.9 | J17: -4.7 | K17: =AVERAGE(E17:F17) -> 258 | L17: =AVERAGE(H17:I17) -> 14.55 | M17: 6 | N17: 0.9917775 | O17: 0.82936863
E18: 316 | F18: 320 | G18: -4 | H18: 16.2 | I18: 16.5 | J18: -0.3 | K18: =AVERAGE(E18:F18) -> 318 | L18: =AVERAGE(H18:I18) -> 16.35 | M18: 7 | N18: 0.9917775 | O18: 0.82936863
E19: 334 | F19: 332 | G19: 2 | H19: 11.5 | I19: 15.6 | J19: -4.1 | K19: =AVERAGE(E19:F19) -> 333 | L19: =AVERAGE(H19:I19) -> 13.55 | M19: 8 | N19: 0.9917775 | O19: 0.82936863
E20: 330 | F20: 334 | G20: -4 | H20: 18.1 | I20: 18.2 | J20: -0.1 | K20: =AVERAGE(E20:F20) -> 332 | L20: =AVERAGE(H20:I20) -> 18.15 | M20: 9 | N20: 0.9917775 | O20: 0.82936863
E21: 240 | F21: 247 | G21: -7 | H21: 11.3 | I21: 11 | J21: 0.3 | K21: =AVERAGE(E21:F21) -> 243.5 | L21: =AVERAGE(H21:I21) -> 11.15 | M21: 10 | N21: 0.9917775 | O21: 0.82936863
A22: Barker et al. (2011) | D22: ="n = "&MAX(M22:M33) -> n = 8 | E22: 120 | F22: 180 | G22: -60 | H22: 12.5 | I22: 8.5 | J22: 4 | K22: =AVERAGE(E22:F22) -> 150 | L22: =AVERAGE(H22:I22) -> 10.5 | M22: 1 | N22: 0.51463794 | O22: 0.02879622
C23: 1/T 180 | E23: 146 | F23: 120 | G23: 26 | H23: 8.3 | I23: 16.6 | J23: -8.3 | K23: =AVERAGE(E23:F23) -> 133 | L23: =AVERAGE(H23:I23) -> 12.45 | M23: 2 | N23: 0.52640725 | O23: 0.02879622
E24: 141 | F24: 152 | G24: -11 | H24: 11.8 | I24: 14.9 | J24: -3.1 | K24: =AVERAGE(E24:F24) -> 146.5 | L24: =AVERAGE(H24:I24) -> 13.35 | M24: 3 | N24: 0.52640725 | O24: 0.02879622
E25: 115 | F25: 104 | G25: 11 | H25: 8.5 | I25: 10.1 | J25: -1.6 | K25: =AVERAGE(E25:F25) -> 109.5 | L25: =AVERAGE(H25:I25) -> 9.3 | M25: 4 | N25: 0.52640725 | O25: 0.02879622
E26: 112 | F26: 121 | G26: -9 | H26: 10.9 | I26: 10.5 | J26: 0.4 | K26: =AVERAGE(E26:F26) -> 116.5 | L26: =AVERAGE(H26:I26) -> 10.7 | M26: 5 | N26: 0.52640725 | O26: 0.02879622
E27: 181 | F27: 171 | G27: 10 | H27: 14.5 | I27: 14.2 | J27: 0.3 | K27: =AVERAGE(E27:F27) -> 176 | L27: =AVERAGE(H27:I27) -> 14.35 | M27: 6 | N27: 0.52640725 | O27: 0.02879622
E28: 164 | F28: 160 | G28: 4 | H28: 9.6 | I28: 11.5 | J28: -1.9 | K28: =AVERAGE(E28:F28) -> 162 | L28: =AVERAGE(H28:I28) -> 10.55 | M28: 7 | N28: 0.52640725 | O28: 0.02879622
E29: 192 | F29: 160 | G29: 32 | H29: 9.1 | I29: 10.4 | J29: -1.3 | K29: =AVERAGE(E29:F29) -> 176 | L29: =AVERAGE(H29:I29) -> 9.75 | M29: 8 | N29: 0.52640725 | O29: 0.02879622
A30: Karsten et al. (2013) | D30: ="n = "&MAX(M30:M49) -> n = 13 | E30: 224 | F30: 184 | G30: 40 | H30: 3 | I30: 8 | J30: -5 | K30: =AVERAGE(E30:F30) -> 204 | L30: =AVERAGE(H30:I30) -> 5.5 | M30: 1 | N30: 0.88820285 | O30: 0.56642633
C31: 1/T 90 | E31: 242 | F31: 205 | G31: 37 | H31: 10 | I31: 16 | J31: -6 | K31: =AVERAGE(E31:F31) -> 223.5 | L31: =AVERAGE(H31:I31) -> 13 | M31: 2 | N31: 0.88820285 | O31: 0.56642633
E32: 275 | F32: 201 | G32: 74 | H32: 10.9 | I32: 17 | J32: -6.1 | K32: =AVERAGE(E32:F32) -> 238 | L32: =AVERAGE(H32:I32) -> 13.95 | M32: 3 | N32: 0.88820285 | O32: 0.56642633
E33: 268 | F33: 224 | G33: 44 | H33: 12 | I33: 18 | J33: -6 | K33: =AVERAGE(E33:F33) -> 246 | L33: =AVERAGE(H33:I33) -> 15 | M33: 4 | N33: 0.88820285 | O33: 0.56642633
E34: 262 | F34: 240 | G34: 22 | H34: 14 | I34: 17 | J34: -3 | K34: =AVERAGE(E34:F34) -> 251 | L34: =AVERAGE(H34:I34) -> 15.5 | M34: 5 | N34: 0.88820285 | O34: 0.56642633
E35: 275 | F35: 251 | G35: 24 | H35: 14 | I35: 14 | J35: 0 | K35: =AVERAGE(E35:F35) -> 263 | L35: =AVERAGE(H35:I35) -> 14 | M35: 6 | N35: 0.88820285 | O35: 0.56642633
E36: 294 | F36: 261 | G36: 33 | H36: 11 | I36: 20 | J36: -9 | K36: =AVERAGE(E36:F36) -> 277.5 | L36: =AVERAGE(H36:I36) -> 15.5 | M36: 7 | N36: 0.88820285 | O36: 0.56642633
E37: 294 | F37: 268 | G37: 26 | H37: 10.9 | I37: 22 | J37: -11.1 | K37: =AVERAGE(E37:F37) -> 281 | L37: =AVERAGE(H37:I37) -> 16.45 | M37: 8 | N37: 0.88820285 | O37: 0.56642633
E38: 304 | F38: 269 | G38: 35 | H38: 10.9 | I38: 25 | J38: -14.1 | K38: =AVERAGE(E38:F38) -> 286.5 | L38: =AVERAGE(H38:I38) -> 17.95 | M38: 9 | N38: 0.88820285 | O38: 0.56642633
E39: 297 | F39: 281 | G39: 16 | H39: 12 | I39: 24 | J39: -12 | K39: =AVERAGE(E39:F39) -> 289 | L39: =AVERAGE(H39:I39) -> 18 | M39: 10 | N39: 0.88820285 | O39: 0.56642633
E40: 298 | F40: 295 | G40: 3 | H40: 16 | I40: 25 | J40: -9 | K40: =AVERAGE(E40:F40) -> 296.5 | L40: =AVERAGE(H40:I40) -> 20.5 | M40: 11 | N40: 0.88820285 | O40: 0.56642633
...

Sheet Vanhatalo 07 WT
B1: EP | C1: CP | D1: EP–CP | E1: WEP | F1: W' | G1: WEP–W' | H1: no.
B2: 173 | C2: 177 | D2: -4 | E2: 9.3 | F2: 9.7 | G2: -0.4 | H2: 1 | I2: Vanhatalo et al. (2007) WT | L2: ="n = "&MAX(H2:H19) -> n = 10
B3: 286 | C3: 287 | D3: -1 | E3: 16 | F3: 18.9 | G3: -2.9 | H3: 2
B4: 325 | C4: 337 | D4: -12 | E4: 25.3 | F4: 22.1 | G4: 3.2 | H4: 3
B5: 351 | C5: 347 | D5: 4 | E5: 12.2 | F5: 11.2 | G5: 1 | H5: 4
B6: 252 | C6: 247 | D6: 5 | E6: 18 | F6: 16.7 | G6: 1.3 | H6: 5
B7: 262 | C7: 251 | D7: 11 | E7: 12.2 | F7: 18.1 | G7: -5.9 | H7: 6
B8: 316 | C8: 317 | D8: -1 | E8: 16.2 | F8: 17.4 | G8: -1.2 | H8: 7
B9: 334 | C9: 334 | D9: 0 | E9: 11.5 | F9: 14.9 | G9: -3.4 | H9: 8
B10: 330 | C10: 333 | D10: -3 | E10: 18.1 | F10: 18.4 | G10: -0.3 | H10: 9
B11: 240 | C11: 242 | D11: -2 | E11: 11.3 | F11: 12.7 | G11: -1.4 | H11: 10
A22: M | B22: =AVERAGE(B2:B21) -> 286.9 | C22: =AVERAGE(C2:C21) -> 287.2 | D22: =AVERAGE(D2:D21) -> -0.3 | E22: =AVERAGE(E2:E21) -> 15.01 | F22: =AVERAGE(F2:F21) -> 16.01 | G22: =AVERAGE(G2:G21) -> -1
A23: SD | B23: =_xlfn.STDEV.S(B2:B21) -> 55.271954 | C23: =_xlfn.STDEV.S(C2:C21) -> 56.120505 | D23: =_xlfn.STDEV.S(D2:D21) -> 6.1110101 | E23: =_xlfn.STDEV.S(E2:E21) -> 4.7287419 | F23: =_xlfn.STDEV.S(F2:F21) -> 3.8451846 | G23: =_xlfn.STDEV.S(G2:G21) -> 2.6110875
B25: CP | C25: CLES | D25: =ROUND(_xlfn.NORM.S.DIST(B27/SQRT(2),TRUE),3) -> 0.486 | E25: W | F25: CLES | G25: =ROUND(_xlfn.NORM.S.DIST(E27/SQRT(2),TRUE),3) -> 0.393
B26: dz | C26: r | D26: SEE | E26: dz | F26: r | G26: SEE
B27: =D22/D23 -> -0.049091721 | C27: =CORREL(B2:B21,C2:C21) -> 0.99409644 | D27: =STEYX(C2:C21,B2:B21) -> 6.4584456 | E27: =G22/G23 -> -0.38298219 | F27: =CORREL(E2:E21,F2:F21) -> 0.83398938 | G27: =STEYX(F2:F21,E2:E21) -> 2.2504004
B29: J | C29: gz | D29: Vg | E29: J | F29: gz | G29: Vg
B30: =ROUND((1-(3/(4*COUNT(B2:B21)-9))),3) -> 0.903 | C30: =ROUND(B27*B30,3) -> -0.044 | D30: =ROUND( ((1/COUNT(D2:D21))+((B27^2)/(2*(COUNT(D2:D21)))))*2*(1-C27)*(B30^2),3) -> 0.001 | E30: =ROUND((1-(3/(4*COUNT(E2:E21)-9))),3) -> 0.903 | F30: =ROUND(E27*E30,3) -> -0.346 | G30: =ROUND( ((1/COUNT(G2:G21))+((E27^2)/(2*(COUNT(G2:G21)))))*2*(1-F27)*(E30^2),3) -> 0.029

Sheet Vanhatalo 07 1T
B1: EP | C1: CP | D1: EP–CP | E1: WEP | F1: W' | G1: WEP–W' | H1: no.
B2: 173 | C2: 176 | D2: -3 | E2: 9.3 | F2: 9.9 | G2: -0.6 | H2: 1 | I2: Vanhatalo et al. (2007) 1/T | L2: ="n = "&MAX(H2:H21) -> n = 10
B3: 286 | C3: 296 | D3: -10 | E3: 16 | F3: 16.7 | G3: -0.7 | H3: 2
B4: 325 | C4: 343 | D4: -18 | E4: 25.3 | F4: 20.5 | G4: 4.8 | H4: 3
B5: 351 | C5: 347 | D5: 4 | E5: 12.2 | F5: 11.3 | G5: 0.9 | H5: 4
B6: 252 | C6: 245 | D6: 7 | E6: 18 | F6: 17.1 | G6: 0.9 | H6: 5
B7: 262 | C7: 254 | D7: 8 | E7: 12.2 | F7: 16.9 | G7: -4.7 | H7: 6
B8: 316 | C8: 320 | D8: -4 | E8: 16.2 | F8: 16.5 | G8: -0.3 | H8: 7
B9: 334 | C9: 332 | D9: 2 | E9: 11.5 | F9: 15.6 | G9: -4.1 | H9: 8
B10: 330 | C10: 334 | D10: -4 | E10: 18.1 | F10: 18.2 | G10: -0.1 | H10: 9
B11: 240 | C11: 247 | D11: -7 | E11: 11.3 | F11: 11 | G11: 0.3 | H11: 10
A22: M | B22: =AVERAGE(B2:B21) -> 286.9 | C22: =AVERAGE(C2:C21) -> 289.4 | D22: =AVERAGE(D2:D21) -> -2.5 | E22: =AVERAGE(E2:E21) -> 15.01 | F22: =AVERAGE(F2:F21) -> 15.37 | G22: =AVERAGE(G2:G21) -> -0.36
A23: SD | B23: =_xlfn.STDEV.S(B2:B21) -> 55.271954 | C23: =_xlfn.STDEV.S(C2:C21) -> 56.623905 | D23: =_xlfn.STDEV.S(D2:D21) -> 8.0588116 | E23: =_xlfn.STDEV.S(E2:E21) -> 4.7287419 | F23: =_xlfn.STDEV.S(F2:F21) -> 3.4695661 | G23: =_xlfn.STDEV.S(G2:G21) -> 2.652127
B25: CP | C25: CLES | D25: =ROUND(_xlfn.NORM.S.DIST(B27/SQRT(2),TRUE),3) -> 0.413 | E25: W | F25: CLES | G25: =ROUND(_xlfn.NORM.S.DIST(E27/SQRT(2),TRUE),3) -> 0.462
B26: dz | C26: r | D26: SEE | E26: dz | F26: r | G26: SEE
B27: =D22/D23 -> -0.31021944 | C27: =CORREL(B2:B21,C2:C21) -> 0.98991654 | D27: =STEYX(C2:C21,B2:B21) -> 8.5074272 | E27: =G22/G23 -> -0.1357401 | F27: =CORREL(E2:E21,F2:F21) -> 0.83396235 | G27: =STEYX(F2:F21,E2:E21) -> 2.0307194
B29: J | C29: gz | D29: Vg | E29: J | F29: gz | G29: Vg
B30: =ROUND((1-(3/(4*COUNT(B2:B21)-9))),3) -> 0.903 | C30: =ROUND(B27*B30,3) -> -0.28 | D30: =ROUND( ((1/COUNT(D2:D21))+((B27^2)/(2*(COUNT(D2:D21)))))*2*(1-C27)*(B30^2),3) -> 0.002 | E30: =ROUND((1-(3/(4*COUNT(E2:E21)-9))),3) -> 0.903 | F30: =ROUND(E27*E30,3) -> -0.123 | G30: =ROUND( ((1/COUNT(G2:G21))+((E27^2)/(2*(COUNT(G2:G21)))))*2*(1-F27)*(E30^2),3) -> 0.027

Sheet Baker 11 1T 180
B1: EP | C1: CP | D1: EP–CP | E1: WEP | F1: W' | G1: WEP–W' | H1: no.
B2: 120 | C2: 180 | D2: -60 | E2: 12.5 | F2: 8.5 | G2: 4 | H2: 1 | I2: Barker et al. (2011) 1/T 180 | L2: ="n = "&MAX(H2:H21) -> n = 8
B3: 146 | C3: 120 | D3: 26 | E3: 8.3 | F3: 16.6 | G3: -8.3 | H3: 2
B4: 141 | C4: 152 | D4: -11 | E4: 11.8 | F4: 14.9 | G4: -3.1 | H4: 3
B5: 115 | C5: 104 | D5: 11 | E5: 8.5 | F5: 10.1 | G5: -1.6 | H5: 4
B6: 112 | C6: 121 | D6: -9 | E6: 10.9 | F6: 10.5 | G6: 0.4 | H6: 5
B7: 181 | C7: 171 | D7: 10 | E7: 14.5 | F7: 14.2 | G7: 0.3 | H7: 6
B8: 164 | C8: 160 | D8: 4 | E8: 9.6 | F8: 11.5 | G8: -1.9 | H8: 7
B9: 192 | C9: 160 | D9: 32 | E9: 9.1 | F9: 10.4 | G9: -1.3 | H9: 8
A22: M | B22: =AVERAGE(B2:B21) -> 146.375 | C22: =AVERAGE(C2:C21) -> 146 | D22: =AVERAGE(D2:D21) -> 0.375 | E22: =AVERAGE(E2:E21) -> 10.65 | F22: =AVERAGE(F2:F21) -> 12.0875 | G22: =AVERAGE(G2:G21) -> -1.4375
A23: SD | B23: =_xlfn.STDEV.S(B2:B21) -> 30.429955 | C23: =_xlfn.STDEV.S(C2:C21) -> 27.448653 | D23: =_xlfn.STDEV.S(D2:D21) -> 28.630341 | E23: =_xlfn.STDEV.S(E2:E21) -> 2.1804325 | F23: =_xlfn.STDEV.S(F2:F21) -> 2.8098996 | G23: =_xlfn.STDEV.S(G2:G21) -> 3.5067028
B25: CP | C25: CLES | D25: =ROUND(_xlfn.NORM.S.DIST(B27/SQRT(2),TRUE),3) -> 0.504 | E25: W | F25: CLES | G25: =ROUND(_xlfn.NORM.S.DIST(E27/SQRT(2),TRUE),3) -> 0.386
B26: dz | C26: r | D26: SEE | E26: dz | F26: r | G26: SEE
B27: =D22/D23 -> 0.013097993 | C27: =CORREL(B2:B21,C2:C21) -> 0.51463794 | D27: =STEYX(C2:C21,B2:B21) -> 25.420364 | E27: =G22/G23 -> -0.40992924 | F27: =CORREL(E2:E21,F2:F21) -> 0.02879622 | G27: =STEYX(F2:F21,E2:E21) -> 3.0337798
B29: J | C29: gz | D29: Vg | E29: J | F29: gz | G29: Vg
B30: =ROUND((1-(3/(4*COUNT(B2:B21)-9))),3) -> 0.87 | C30: =ROUND(B27*B30,3) -> 0.011 | D30: =ROUND( ((1/COUNT(D2:D21))+((B27^2)/(2*(COUNT(D2:D21)))))*2*(1-C27)*(B30^2),3) -> 0.092 | E30: =ROUND((1-(3/(4*COUNT(E2:E21)-9))),3) -> 0.87 | F30: =ROUND(E27*E30,3) -> -0.357 | G30: =ROUND( ((1/COUNT(G2:G21))+((E27^2)/(2*(COUNT(G2:G21)))))*2*(1-F27)*(E30^2),3) -> 0.199

Sheet Baker 11 1T 90
B1: EP | C1: CP | D1: EP–CP | E1: WEP | F1: W' | G1: WEP–W' | H1: no.
B2: 130 | C2: 180 | D2: -50 | E2: 11.1 | F2: 8.5 | G2: 2.6 | H2: 1 | I2: Barker et al. (2011) 1/T 90 | L2: ="n = "&MAX(H2:H21) -> n = 8
B3: 144 | C3: 120 | D3: 24 | E3: 8.2 | F3: 16.6 | G3: -8.4 | H3: 2
B4: 152 | C4: 152 | D4: 0 | E4: 10.5 | F4: 14.9 | G4: -4.4 | H4: 3
B5: 131 | C5: 104 | D5: 27 | E5: 6.7 | F5: 10.1 | G5: -3.4 | H5: 4
B6: 103 | C6: 121 | D6: -18 | E6: 11.6 | F6: 10.5 | G6: 1.1 | H6: 5
B7: 196 | C7: 171 | D7: 25 | E7: 12.3 | F7: 14.2 | G7: -1.9 | H7: 6
B8: 150 | C8: 160 | D8: -10 | E8: 10.3 | F8: 11.5 | G8: -1.2 | H8: 7
B9: 176 | C9: 160 | D9: 16 | E9: 10 | F9: 10.4 | G9: -0.4 | H9: 8
A22: M | B22: =AVERAGE(B2:B21) -> 147.75 | C22: =AVERAGE(C2:C21) -> 146 | D22: =AVERAGE(D2:D21) -> 1.75 | E22: =AVERAGE(E2:E21) -> 10.0875 | F22: =AVERAGE(F2:F21) -> 12.0875 | G22: =AVERAGE(G2:G21) -> -2
A23: SD | B23: =_xlfn.STDEV.S(B2:B21) -> 28.689221 | C23: =_xlfn.STDEV.S(C2:C21) -> 27.448653 | D23: =_xlfn.STDEV.S(D2:D21) -> 26.953664 | E23: =_xlfn.STDEV.S(E2:E21) -> 1.8310321 | F23: =_xlfn.STDEV.S(F2:F21) -> 2.8098996 | G23: =_xlfn.STDEV.S(G2:G21) -> 3.4363602
B25: CP | C25: CLES | D25: =ROUND(_xlfn.NORM.S.DIST(B27/SQRT(2),TRUE),3) -> 0.518 | E25: W | F25: CLES | G25: =ROUND(_xlfn.NORM.S.DIST(E27/SQRT(2),TRUE),3) -> 0.34
B26: dz | C26: r | D26: SEE | E26: dz | F26: r | G26: SEE
B27: =D22/D23 -> 0.064926238 | C27: =CORREL(B2:B21,C2:C21) -> 0.53969591 | D27: =STEYX(C2:C21,B2:B21) -> 24.959411 | E27: =G22/G23 -> -0.58201116 | F27: =CORREL(E2:E21,F2:F21) -> -0.054456303 | G27: =STEYX(F2:F21,E2:E21) -> 3.0305349
B29: J | C29: gz | D29: Vg | E29: J | F29: gz | G29: Vg
B30: =ROUND((1-(3/(4*COUNT(B2:B21)-9))),3) -> 0.87 | C30: =ROUND(B27*B30,3) -> 0.056 | D30: =ROUND( ((1/COUNT(D2:D21))+((B27^2)/(2*(COUNT(D2:D21)))))*2*(1-C27)*(B30^2),3) -> 0.087 | E30: =ROUND((1-(3/(4*COUNT(E2:E21)-9))),3) -> 0.87 | F30: =ROUND(E27*E30,3) -> -0.506 | G30: =ROUND( ((1/COUNT(G2:G21))+((E27^2)/(2*(COUNT(G2:G21)))))*2*(1-F27)*(E30^2),3) -> 0.233

Sheet Karsten 13 WT
B1: EP | C1: CP | D1: EP–CP | E1: WEP | F1: W' | G1: WEP–W' | H1: no.
B2: ='Fig-Tool'!F8 -> 224 | C2: ='Fig-Tool'!E8 -> 184 | D2: 40 | E2: ='Fig-Tool'!U8 -> 3 | F2: ='Fig-Tool'!T8 -> 8 | G2: -5 | H2: 1 | I2: Karsten et al. (2013) WT | L2: ="n = "&MAX(H2:H21) -> n = 13
B3: ='Fig-Tool'!F9 -> 242 | C3: ='Fig-Tool'!E9 -> 205 | D3: 37 | E3: ='Fig-Tool'!U9 -> 10 | F3: ='Fig-Tool'!T9 -> 16 | G3: -6 | H3: 2
B4: ='Fig-Tool'!F10 -> 275 | C4: ='Fig-Tool'!E10 -> 201 | D4: 74 | E4: ='Fig-Tool'!U10 -> 10.9 | F4: ='Fig-Tool'!T10 -> 17 | G4: -6.1 | H4: 3
B5: ='Fig-Tool'!F11 -> 268 | C5: ='Fig-Tool'!E11 -> 224 | D5: 44 | E5: ='Fig-Tool'!U11 -> 12 | F5: ='Fig-Tool'!T11 -> 18 | G5: -6 | H5: 4
B6: ='Fig-Tool'!F12 -> 262 | C6: ='Fig-Tool'!E12 -> 240 | D6: 22 | E6: ='Fig-Tool'!U12 -> 14 | F6: ='Fig-Tool'!T12 -> 17 | G6: -3 | H6: 5
B7: ='Fig-Tool'!F13 -> 275 | C7: ='Fig-Tool'!E13 -> 251 | D7: 24 | E7: ='Fig-Tool'!U13 -> 14 | F7: ='Fig-Tool'!T13 -> 14 | G7: 0 | H7: 6
B8: ='Fig-Tool'!F14 -> 294 | C8: ='Fig-Tool'!E14 -> 261 | D8: 33 | E8: ='Fig-Tool'!U14 -> 11 | F8: ='Fig-Tool'!T14 -> 20 | G8: -9 | H8: 7
B9: ='Fig-Tool'!F15 -> 294 | C9: ='Fig-Tool'!E15 -> 268 | D9: 26 | E9: ='Fig-Tool'!U15 -> 10.9 | F9: ='Fig-Tool'!T15 -> 22 | G9: -11.1 | H9: 8
B10: ='Fig-Tool'!F16 -> 304 | C10: ='Fig-Tool'!E16 -> 269 | D10: 35 | E10: ='Fig-Tool'!U16 -> 10.9 | F10: ='Fig-Tool'!T16 -> 25 | G10: -14.1 | H10: 9
B11: ='Fig-Tool'!F17 -> 297 | C11: ='Fig-Tool'!E17 -> 281 | D11: 16 | E11: ='Fig-Tool'!U17 -> 12 | F11: ='Fig-Tool'!T17 -> 24 | G11: -12 | H11: 10
B12: ='Fig-Tool'!F18 -> 298 | C12: ='Fig-Tool'!E18 -> 295 | D12: 3 | E12: ='Fig-Tool'!U18 -> 16 | F12: ='Fig-Tool'!T18 -> 25 | G12: -9 | H12: 11
B13: ='Fig-Tool'!F19 -> 359 | C13: ='Fig-Tool'!E19 -> 300 | D13: 59 | E13: ='Fig-Tool'!U19 -> 17 | F13: ='Fig-Tool'!T19 -> 18 | G13: -1 | H13: 12
B14: ='Fig-Tool'!F20 -> 373 | C14: ='Fig-Tool'!E20 -> 313 | D14: 60 | E14: ='Fig-Tool'!U20 -> 21 | F14: ='Fig-Tool'!T20 -> 19 | G14: 2 | H14: 13
A22: M | B22: =AVERAGE(B2:B21) -> 289.61538 | C22: =AVERAGE(C2:C21) -> 253.23077 | D22: =AVERAGE(D2:D21) -> 36.384615 | E22: =AVERAGE(E2:E21) -> 12.515385 | F22: =AVERAGE(F2:F21) -> 18.692308 | G22: =AVERAGE(G2:G21) -> -6.1769231
A23: SD | B23: =_xlfn.STDEV.S(B2:B21) -> 41.197772 | C23: =_xlfn.STDEV.S(C2:C21) -> 40.501345 | D23: =_xlfn.STDEV.S(D2:D21) -> 19.508709 | E23: =_xlfn.STDEV.S(E2:E21) -> 4.2443779 | F23: =_xlfn.STDEV.S(F2:F21) -> 4.7501687 | G23: =_xlfn.STDEV.S(G2:G21) -> 4.8323828
B25: CP | C25: CLES | D25: =ROUND(_xlfn.NORM.S.DIST(B27/SQRT(2),TRUE),3) -> 0.906 | E25: W | F25: CLES | G25: =ROUND(_xlfn.NORM.S.DIST(E27/SQRT(2),TRUE),3) -> 0.183
B26: dz | C26: r | D26: SEE | E26: dz | F26: r | G26: SEE
B27: =D22/D23 -> 1.8650447 | C27: =CORREL(B2:B21,C2:C21) -> 0.88609833 | D27: =STEYX(C2:C21,B2:B21) -> 19.606991 | E27: =G22/G23 -> -1.2782355 | F27: =CORREL(E2:E21,F2:F21) -> 0.42722302 | G27: =STEYX(F2:F21,E2:E21) -> 4.4858217
B29: J | C29: gz | D29: Vg | E29: J | F29: gz | G29: Vg
B30: =ROUND((1-(3/(4*COUNT(B2:B21)-9))),3) -> 0.93 | C30: =ROUND(B27*B30,3) -> 1.734 | D30: =ROUND( ((1/COUNT(D2:D21))+((B27^2)/(2*(COUNT(D2:D21)))))*2*(1-C27)*(B30^2),3) -> 0.042 | E30: =ROUND((1-(3/(4*COUNT(E2:E21)-9))),3) -> 0.93 | F30: =ROUND(E27*E30,3) -> -1.189 | G30: =ROUND( ((1/COUNT(G2:G21))+((E27^2)/(2*(COUNT(G2:G21)))))*2*(1-F27)*(E30^2),3) -> 0.138

Sheet Karsten 13 1T
B1: EP | C1: CP | D1: EP–CP | E1: WEP | F1: W' | G1: WEP–W' | H1: no.
B2: ='Fig-Tool'!K8 -> 223 | C2: ='Fig-Tool'!J8 -> 190 | D2: 33 | E2: ='Fig-Tool'!P8 -> 15.3 | F2: ='Fig-Tool'!O8 -> 24 | G2: -8.7 | H2: 1 | I2: Karsten et al. (2013) IT | L2: ="n = "&MAX(H2:H21) -> n = 13
B3: ='Fig-Tool'!K9 -> 241 | C3: ='Fig-Tool'!J9 -> 207 | D3: 34 | E3: ='Fig-Tool'!P9 -> 20.5 | F3: ='Fig-Tool'!O9 -> 18 | G3: 2.5 | H3: 2
B4: ='Fig-Tool'!K10 -> 274 | C4: ='Fig-Tool'!J10 -> 216 | D4: 58 | E4: ='Fig-Tool'!P10 -> 11.1 | F4: ='Fig-Tool'!O10 -> 23 | G4: -11.9 | H4: 3
B5: ='Fig-Tool'!K11 -> 267 | C5: ='Fig-Tool'!J11 -> 240 | D5: 27 | E5: ='Fig-Tool'!P11 -> 10 | F5: ='Fig-Tool'!O11 -> 19 | G5: -9 | H5: 4
B6: ='Fig-Tool'!K12 -> 261 | C6: ='Fig-Tool'!J12 -> 254 | D6: 7 | E6: ='Fig-Tool'!P12 -> 10 | F6: ='Fig-Tool'!O12 -> 18 | G6: -8 | H6: 5
B7: ='Fig-Tool'!K13 -> 274 | C7: ='Fig-Tool'!J13 -> 257 | D7: 17 | E7: ='Fig-Tool'!P13 -> 10 | F7: ='Fig-Tool'!O13 -> 17 | G7: -7 | H7: 6
B8: ='Fig-Tool'!K14 -> 293 | C8: ='Fig-Tool'!J14 -> 262 | D8: 31 | E8: ='Fig-Tool'!P14 -> 11.1 | F8: ='Fig-Tool'!O14 -> 18 | G8: -6.9 | H8: 7
B9: ='Fig-Tool'!K15 -> 303 | C9: ='Fig-Tool'!J15 -> 270 | D9: 33 | E9: ='Fig-Tool'!P15 -> 9 | F9: ='Fig-Tool'!O15 -> 15 | G9: -6 | H9: 8
B10: ='Fig-Tool'!K16 -> 293 | C10: ='Fig-Tool'!J16 -> 277 | D10: 16 | E10: ='Fig-Tool'!P16 -> 13.2 | F10: ='Fig-Tool'!O16 -> 15 | G10: -1.8 | H10: 9
B11: ='Fig-Tool'!K17 -> 296 | C11: ='Fig-Tool'!J17 -> 283 | D11: 13 | E11: ='Fig-Tool'!P17 -> 16.4 | F11: ='Fig-Tool'!O17 -> 16 | G11: 0.4 | H11: 10
B12: ='Fig-Tool'!K18 -> 298 | C12: ='Fig-Tool'!J18 -> 293 | D12: 5 | E12: ='Fig-Tool'!P18 -> 13.2 | F12: ='Fig-Tool'!O18 -> 10 | G12: 3.2 | H12: 11
B13: ='Fig-Tool'!K19 -> 359 | C13: ='Fig-Tool'!J19 -> 302 | D13: 57 | E13: ='Fig-Tool'!P19 -> 1.6 | F13: ='Fig-Tool'!O19 -> 6 | G13: -4.4 | H13: 12
B14: ='Fig-Tool'!K20 -> 372 | C14: ='Fig-Tool'!J20 -> 318 | D14: 54 | E14: ='Fig-Tool'!P20 | F14: ='Fig-Tool'!O20 | H14: 13
A22: M | B22: =AVERAGE(B2:B21) -> 288.76923 | C22: =AVERAGE(C2:C21) -> 259.15385 | D22: =AVERAGE(D2:D21) -> 29.615385 | E22: =AVERAGE(E2:E21) -> 11.783333 | F22: =AVERAGE(F2:F21) -> 16.583333 | G22: =AVERAGE(G2:G21) -> -4.8
A23: SD | B23: =_xlfn.STDEV.S(B2:B21) -> 41.356486 | C23: =_xlfn.STDEV.S(C2:C21) -> 37.881055 | D23: =_xlfn.STDEV.S(D2:D21) -> 18.117848 | E23: =_xlfn.STDEV.S(E2:E21) -> 4.6279454 | F23: =_xlfn.STDEV.S(F2:F21) -> 4.9443877 | G23: =_xlfn.STDEV.S(G2:G21) -> 4.839985
B25: CP | C25: CLES | D25: =ROUND(_xlfn.NORM.S.DIST(B27/SQRT(2),TRUE),3) -> 0.876 | E25: W | F25: CLES | G25: =ROUND(_xlfn.NORM.S.DIST(E27/SQRT(2),TRUE),3) -> 0.242
B26: dz | C26: r | D26: SEE | E26: dz | F26: r | G26: SEE
B27: =D22/D23 -> 1.6345973 | C27: =CORREL(B2:B21,C2:C21) -> 0.89908966 | D27: =STEYX(C2:C21,B2:B21) -> 17.32036 | E27: =G22/G23 -> -0.99173862 | F27: =CORREL(E2:E21,F2:F21) -> 0.49032087 | G27: =STEYX(F2:F21,E2:E21) -> 4.5195706
B29: J | C29: gz | D29: Vg | E29: J | F29: gz | G29: Vg
B30: =ROUND((1-(3/(4*COUNT(B2:B21)-9))),3) -> 0.93 | C30: =ROUND(B27*B30,3) -> 1.52 | D30: =ROUND( ((1/COUNT(D2:D21))+((B27^2)/(2*(COUNT(D2:D21)))))*2*(1-C27)*(B30^2),3) -> 0.031 | E30: =ROUND((1-(3/(4*COUNT(E2:E21)-9))),3) -> 0.923 | F30: =ROUND(E27*E30,3) -> -0.915 | G30: =ROUND( ((1/COUNT(G2:G21))+((E27^2)/(2*(COUNT(G2:G21)))))*2*(1-F27)*(E30^2),3) -> 0.108

Sheet Dekerle 13 1T 100
B1: EP | C1: CP | D1: EP–CP | E1: WEP | F1: W' | G1: WEP–W' | H1: no.
B2: 307 | C2: 289 | D2: 18 | E2: 15.7 | F2: 22.4 | G2: -6.7 | H2: 1 | I2: Dekerle et al. (2013) 1/T 100 | L2: ="n = "&MAX(H2:H21) -> n = 9
B3: 182 | C3: 201 | D3: -19 | E3: 19.4 | F3: 11 | G3: 8.4 | H3: 2
B4: 249 | C4: 222 | D4: 27 | E4: 17.6 | F4: 20.5 | G4: -2.9 | H4: 3
B5: 155 | C5: 158 | D5: -3 | E5: 17.9 | F5: 11.6 | G5: 6.3 | H5: 4
B6: 155 | C6: 155 | D6: 0 | E6: 18.1 | F6: 29.8 | G6: -11.7 | H6: 5
B7: 182 | C7: 228 | D7: -46 | E7: 14.4 | F7: 22.4 | G7: -8 | H7: 6
B8: 272 | C8: 206 | D8: 66 | E8: 12.3 | F8: 26.1 | G8: -13.8 | H8: 7
B9: 246 | C9: 258 | D9: -12 | E9: 23.3 | F9: 25 | G9: -1.7 | H9: 8
B10: 296 | C10: 187 | D10: 109 | E10: 17 | F10: 16.6 | G10: 0.4 | H10: 9
A22: M | B22: =AVERAGE(B2:B21) -> 227.11111 | C22: =AVERAGE(C2:C21) -> 211.55556 | D22: =AVERAGE(D2:D21) -> 15.555556 | E22: =AVERAGE(E2:E21) -> 17.3 | F22: =AVERAGE(F2:F21) -> 20.6 | G22: =AVERAGE(G2:G21) -> -3.3
A23: SD | B23: =_xlfn.STDEV.S(B2:B21) -> 59.633138 | C23: =_xlfn.STDEV.S(C2:C21) -> 43.798148 | D23: =_xlfn.STDEV.S(D2:D21) -> 47.093288 | E23: =_xlfn.STDEV.S(E2:E21) -> 3.1136795 | F23: =_xlfn.STDEV.S(F2:F21) -> 6.4216431 | G23: =_xlfn.STDEV.S(G2:G21) -> 7.582216
B25: CP | C25: CLES | D25: =ROUND(_xlfn.NORM.S.DIST(B27/SQRT(2),TRUE),3) -> 0.592 | E25: W | F25: CLES | G25: =ROUND(_xlfn.NORM.S.DIST(E27/SQRT(2),TRUE),3) -> 0.379
B26: dz | C26: r | D26: SEE | E26: dz | F26: r | G26: SEE
B27: =D22/D23 -> 0.33031364 | C27: =CORREL(B2:B21,C2:C21) -> 0.62343689 | D27: =STEYX(C2:C21,B2:B21) -> 36.609038 | E27: =G22/G23 -> -0.43522896 | F27: =CORREL(E2:E21,F2:F21) -> -0.163979 | G27: =STEYX(F2:F21,E2:E21) -> 6.7720991
B29: J | C29: gz | D29: Vg | E29: J | F29: gz | G29: Vg
B30: =ROUND((1-(3/(4*COUNT(B2:B21)-9))),3) -> 0.889 | C30: =ROUND(B27*B30,3) -> 0.294 | D30: =ROUND( ((1/COUNT(D2:D21))+((B27^2)/(2*(COUNT(D2:D21)))))*2*(1-C27)*(B30^2),3) -> 0.07 | E30: =ROUND((1-(3/(4*COUNT(E2:E21)-9))),3) -> 0.889 | F30: =ROUND(E27*E30,3) -> -0.387 | G30: =ROUND( ((1/COUNT(G2:G21))+((E27^2)/(2*(COUNT(G2:G21)))))*2*(1-F27)*(E30^2),3) -> 0.224

Sheet Dekerle 13 1T 60
B1: EP | C1: CP | D1: EP–CP | E1: WEP | F1: W' | G1: WEP–W' | H1: no.
B2: 304 | C2: 308 | D2: -4 | E2: 16 | F2: 13.3 | G2: 2.7 | H2: 1 | I2: Dekerle et al. (2013) 1/T 60 | L2: ="n = "&MAX(H2:H21) -> n = 9
B3: 215 | C3: 198 | D3: 17 | E3: 17.9 | F3: 13.3 | G3: 4.6 | H3: 2
B4: 264 | C4: 260 | D4: 4 | E4: 19.4 | F4: 13.9 | G4: 5.5 | H4: 3
B5: 188 | C5: 212 | D5: -24 | E5: 14.4 | F5: 18.4 | G5: -4 | H5: 4
B6: 240 | C6: 225 | D6: 15 | E6: 16.1 | F6: 13.3 | G6: 2.8 | H6: 5
B7: 311 | C7: 284 | D7: 27 | E7: 13 | F7: 15.9 | G7: -2.9 | H7: 6
B8: 273 | C8: 241 | D8: 32 | E8: 11 | F8: 24 | G8: -13 | H8: 7
B9: 283 | C9: 269 | D9: 14 | E9: 14.3 | F9: 16.7 | G9: -2.4 | H9: 8
B10: 252 | C10: 203 | D10: 49 | E10: 10.2 | F10: 16.8 | G10: -6.6 | H10: 9
A22: M | B22: =AVERAGE(B2:B21) -> 258.88889 | C22: =AVERAGE(C2:C21) -> 244.44444 | D22: =AVERAGE(D2:D21) -> 14.444444 | E22: =AVERAGE(E2:E21) -> 14.7 | F22: =AVERAGE(F2:F21) -> 16.177778 | G22: =AVERAGE(G2:G21) -> -1.4777778
A23: SD | B23: =_xlfn.STDEV.S(B2:B21) -> 40.176002 | C23: =_xlfn.STDEV.S(C2:C21) -> 38.350721 | D23: =_xlfn.STDEV.S(D2:D21) -> 21.196174 | E23: =_xlfn.STDEV.S(E2:E21) -> 3.0220026 | F23: =_xlfn.STDEV.S(F2:F21) -> 3.4802219 | G23: =_xlfn.STDEV.S(G2:G21) -> 6.0168052
B25: CP | C25: CLES | D25: =ROUND(_xlfn.NORM.S.DIST(B27/SQRT(2),TRUE),3) -> 0.685 | E25: W | F25: CLES | G25: =ROUND(_xlfn.NORM.S.DIST(E27/SQRT(2),TRUE),3) -> 0.431
B26: dz | C26: r | D26: SEE | E26: dz | F26: r | G26: SEE
B27: =D22/D23 -> 0.68146472 | C27: =CORREL(B2:B21,C2:C21) -> 0.85528546 | D27: =STEYX(C2:C21,B2:B21) -> 21.243739 | E27: =G22/G23 -> -0.24560838 | F27: =CORREL(E2:E21,F2:F21) -> -0.71109437 | G27: =STEYX(F2:F21,E2:E21) -> 2.6158804
B29: J | C29: gz | D29: Vg | E29: J | F29: gz | G29: Vg
B30: =ROUND((1-(3/(4*COUNT(B2:B21)-9))),3) -> 0.889 | C30: =ROUND(B27*B30,3) -> 0.606 | D30: =ROUND( ((1/COUNT(D2:D21))+((B27^2)/(2*(COUNT(D2:D21)))))*2*(1-C27)*(B30^2),3) -> 0.031 | E30: =ROUND((1-(3/(4*COUNT(E2:E21)-9))),3) -> 0.889 | F30: =ROUND(E27*E30,3) -> -0.218 | G30: =ROUND( ((1/COUNT(G2:G21))+((E27^2)/(2*(COUNT(G2:G21)))))*2*(1-F27)*(E30^2),3) -> 0.31

Sheet Clark 16 WT
B1: EP | C1: CP | D1: EP–CP | E1: WEP | F1: W' | G1: WEP–W' | H1: no.
B2: 220 | C2: 225 | D2: -5 | E2: 15.26 | F2: 14.55 | G2: 0.71 | H2: 1 | I2: Clark et al. (2016) WT | L2: ="n = "&MAX(H2:H21) -> n = 10
B3: 195 | C3: 201 | D3: -6 | E3: 14.04 | F3: 15.54 | G3: -1.5 | H3: 2
B4: 297 | C4: 286 | D4: 11 | E4: 16.95 | F4: 23.21 | G4: -6.26 | H4: 3
B5: 240 | C5: 217 | D5: 23 | E5: 12.3 | F5: 20.25 | G5: -7.95 | H5: 4
B6: 193 | C6: 195 | D6: -2 | E6: 8.11 | F6: 4.11 | G6: 4 | H6: 5
B7: 179 | C7: 178 | D7: 1 | E7: 5.13 | F7: 5.61 | G7: -0.48 | H7: 6
B8: 164 | C8: 168 | D8: -4 | E8: 8.12 | F8: 7.1 | G8: 1.02 | H8: 7
B9: 188 | C9: 189 | D9: -1 | E9: 8.52 | F9: 8.04 | G9: 0.48 | H9: 8
B10: 209 | C10: 209 | D10: 0 | E10: 8.07 | F10: 8.15 | G10: -0.08 | H10: 9
B11: 260 | C11: 254 | D11: 6 | E11: 15.08 | F11: 14.03 | G11: 1.05 | H11: 10
A22: M | B22: =AVERAGE(B2:B21) -> 214.5 | C22: =AVERAGE(C2:C21) -> 212.2 | D22: =AVERAGE(D2:D21) -> 2.3 | E22: =AVERAGE(E2:E21) -> 11.158 | F22: =AVERAGE(F2:F21) -> 12.059 | G22: =AVERAGE(G2:G21) -> -0.901
A23: SD | B23: =_xlfn.STDEV.S(B2:B21) -> 40.746506 | C23: =_xlfn.STDEV.S(C2:C21) -> 35.704964 | D23: =_xlfn.STDEV.S(D2:D21) -> 8.9200149 | E23: =_xlfn.STDEV.S(E2:E21) -> 4.037562 | F23: =_xlfn.STDEV.S(F2:F21) -> 6.4501946 | G23: =_xlfn.STDEV.S(G2:G21) -> 3.5844772
B25: CP | C25: CLES | D25: =ROUND(_xlfn.NORM.S.DIST(B27/SQRT(2),TRUE),3) -> 0.572 | E25: W | F25: CLES | G25: =ROUND(_xlfn.NORM.S.DIST(E27/SQRT(2),TRUE),3) -> 0.429
B26: dz | C26: r | D26: SEE | E26: dz | F26: r | G26: SEE
B27: =D22/D23 -> 0.2578471 | C27: =CORREL(B2:B21,C2:C21) -> 0.98139003 | D27: =STEYX(C2:C21,B2:B21) -> 7.272147 | E27: =G22/G23 -> -0.25136162 | F27: =CORREL(E2:E21,F2:F21) -> 0.86507575 | G27: =STEYX(F2:F21,E2:E21) -> 3.4319608
B29: J | C29: gz | D29: Vg | E29: J | F29: gz | G29: Vg
B30: =ROUND((1-(3/(4*COUNT(B2:B21)-9))),3) -> 0.903 | C30: =ROUND(B27*B30,3) -> 0.233 | D30: =ROUND( ((1/COUNT(D2:D21))+((B27^2)/(2*(COUNT(D2:D21)))))*2*(1-C27)*(B30^2),3) -> 0.003 | E30: =ROUND((1-(3/(4*COUNT(E2:E21)-9))),3) -> 0.903 | F30: =ROUND(E27*E30,3) -> -0.227 | G30: =ROUND( ((1/COUNT(G2:G21))+((E27^2)/(2*(COUNT(G2:G21)))))*2*(1-F27)*(E30^2),3) -> 0.023

Sheet Clark 16 1T
B1: EP | C1: CP | D1: EP–CP | E1: WEP | F1: W' | G1: WEP–W' | H1: no.
B2: 220 | C2: 228 | D2: -8 | E2: 15.26 | F2: 13.54 | G2: 1.72 | H2: 1 | I2: Clark et al. (2016) 1/T | L2: ="n = "&MAX(H2:H21) -> n = 10
B3: 195 | C3: 204 | D3: -9 | E3: 14.04 | F3: 14.38 | G3: -0.34 | H3: 2
B4: 297 | C4: 287 | D4: 10 | E4: 16.95 | F4: 22.72 | G4: -5.77 | H4: 3
B5: 240 | C5: 217 | D5: 23 | E5: 12.3 | F5: 20.24 | G5: -7.94 | H5: 4
B6: 193 | C6: 196 | D6: -3 | E6: 8.11 | F6: 3.85 | G6: 4.26 | H6: 5
B7: 179 | C7: 178 | D7: 1 | E7: 5.13 | F7: 5.54 | G7: -0.41 | H7: 6
B8: 164 | C8: 170 | D8: -6 | E8: 8.12 | F8: 6.46 | G8: 1.66 | H8: 7
B9: 188 | C9: 189 | D9: -1 | E9: 8.52 | F9: 8.03 | G9: 0.49 | H9: 8
B10: 209 | C10: 207 | D10: 2 | E10: 8.07 | F10: 8.83 | G10: -0.76 | H10: 9
B11: 260 | C11: 256 | D11: 4 | E11: 15.08 | F11: 13.37 | G11: 1.71 | H11: 10
A22: M | B22: =AVERAGE(B2:B21) -> 214.5 | C22: =AVERAGE(C2:C21) -> 213.2 | D22: =AVERAGE(D2:D21) -> 1.3 | E22: =AVERAGE(E2:E21) -> 11.158 | F22: =AVERAGE(F2:F21) -> 11.696 | G22: =AVERAGE(G2:G21) -> -0.538
A23: SD | B23: =_xlfn.STDEV.S(B2:B21) -> 40.746506 | C23: =_xlfn.STDEV.S(C2:C21) -> 35.934508 | D23: =_xlfn.STDEV.S(D2:D21) -> 9.5690473 | E23: =_xlfn.STDEV.S(E2:E21) -> 4.037562 | F23: =_xlfn.STDEV.S(F2:F21) -> 6.2933849 | G23: =_xlfn.STDEV.S(G2:G21) -> 3.6716506
B25: CP | C25: CLES | D25: =ROUND(_xlfn.NORM.S.DIST(B27/SQRT(2),TRUE),3) -> 0.538 | E25: W | F25: CLES | G25: =ROUND(_xlfn.NORM.S.DIST(E27/SQRT(2),TRUE),3) -> 0.459
B26: dz | C26: r | D26: SEE | E26: dz | F26: r | G26: SEE
B27: =D22/D23 -> 0.13585469 | C27: =CORREL(B2:B21,C2:C21) -> 0.97663875 | D27: =STEYX(C2:C21,B2:B21) -> 8.1902967 | E27: =G22/G23 -> -0.14652811 | F27: =CORREL(E2:E21,F2:F21) -> 0.83486219 | G27: =STEYX(F2:F21,E2:E21) -> 3.6743924
B29: J | C29: gz | D29: Vg | E29: J | F29: gz | G29: Vg
B30: =ROUND((1-(3/(4*COUNT(B2:B21)-9))),3) -> 0.903 | C30: =ROUND(B27*B30,3) -> 0.123 | D30: =ROUND( ((1/COUNT(D2:D21))+((B27^2)/(2*(COUNT(D2:D21)))))*2*(1-C27)*(B30^2),3) -> 0.004 | E30: =ROUND((1-(3/(4*COUNT(E2:E21)-9))),3) -> 0.903 | F30: =ROUND(E27*E30,3) -> -0.132 | G30: =ROUND( ((1/COUNT(G2:G21))+((E27^2)/(2*(COUNT(G2:G21)))))*2*(1-F27)*(E30^2),3) -> 0.027

Sheet Bartram 17 WT
B1: EP | C1: CP | D1: EP–CP | E1: WEP | F1: W' | G1: WEP–W' | H1: no.
B2: 375 | C2: 324 | D2: 51 | E2: 12.4 | F2: 25.8 | G2: -13.4 | H2: 1 | I2: Bartram et al. (2017) WT | L2: ="n = "&MAX(H2:H21) -> n = 6
B3: 380 | C3: 371 | D3: 9 | E3: 12.9 | F3: 21.8 | G3: -8.9 | H3: 2
B4: 418 | C4: 357 | D4: 61 | E4: 15 | F4: 25.9 | G4: -10.9 | H4: 3
B5: 411 | C5: 343 | D5: 68 | E5: 15.4 | F5: 20.9 | G5: -5.5 | H5: 4
B6: 365 | C6: 313 | D6: 52 | E6: 15.4 | F6: 31.6 | G6: -16.2 | H6: 5
B7: 464 | C7: 395 | D7: 69 | E7: 21.7 | F7: 19.7 | G7: 2 | H7: 6
A22: M | B22: =AVERAGE(B2:B21) -> 402.16667 | C22: =AVERAGE(C2:C21) -> 350.5 | D22: =AVERAGE(D2:D21) -> 51.666667 | E22: =AVERAGE(E2:E21) -> 15.466667 | F22: =AVERAGE(F2:F21) -> 24.283333 | G22: =AVERAGE(G2:G21) -> -8.8166667
A23: SD | B23: =_xlfn.STDEV.S(B2:B21) -> 36.777257 | C23: =_xlfn.STDEV.S(C2:C21) -> 30.356218 | D23: =_xlfn.STDEV.S(D2:D21) -> 22.250094 | E23: =_xlfn.STDEV.S(E2:E21) -> 3.3188351 | F23: =_xlfn.STDEV.S(F2:F21) -> 4.4060943 | G23: =_xlfn.STDEV.S(G2:G21) -> 6.4477645
B25: CP | C25: CLES | D25: =ROUND(_xlfn.NORM.S.DIST(B27/SQRT(2),TRUE),3) -> 0.95 | E25: W | F25: CLES | G25: =ROUND(_xlfn.NORM.S.DIST(E27/SQRT(2),TRUE),3) -> 0.167
B26: dz | C26: r | D26: SEE | E26: dz | F26: r | G26: SEE
B27: =D22/D23 -> 2.3220876 | C27: =CORREL(B2:B21,C2:C21) -> 0.79674426 | D27: =STEYX(C2:C21,B2:B21) -> 20.510074 | E27: =G22/G23 -> -1.367399 | F27: =CORREL(E2:E21,F2:F21) -> -0.38108653 | G27: =STEYX(F2:F21,E2:E21) -> 4.5544318
B29: J | C29: gz | D29: Vg | E29: J | F29: gz | G29: Vg
B30: =ROUND((1-(3/(4*COUNT(B2:B21)-9))),3) -> 0.8 | C30: =ROUND(B27*B30,3) -> 1.858 | D30: =ROUND( ((1/COUNT(D2:D21))+((B27^2)/(2*(COUNT(D2:D21)))))*2*(1-C27)*(B30^2),3) -> 0.16 | E30: =ROUND((1-(3/(4*COUNT(E2:E21)-9))),3) -> 0.8 | F30: =ROUND(E27*E30,3) -> -1.094 | G30: =ROUND( ((1/COUNT(G2:G21))+((E27^2)/(2*(COUNT(G2:G21)))))*2*(1-F27)*(E30^2),3) -> 0.57

Sheet Wright 17 1T iso
B1: EP | C1: CP | D1: EP–CP | E1: WEP | F1: W' | G1: WEP–W' | H1: no.
B2: ='Fig-Tool'!AA8 -> 215.4 | C2: ='Fig-Tool'!AB8 -> 195 | D2: 20.4 | E2: ='Fig-Tool'!AO8 -> 29.5 | F2: ='Fig-Tool'!AP8 -> 33.7 | G2: -4.2 | H2: 1 | I2: Wright et al. (2017) 1/T iso | L2: ="n = "&MAX(H2:H21) -> n = 12
B3: ='Fig-Tool'!AA9 -> 236.55 | C3: ='Fig-Tool'!AB9 -> 224.65 | D3: 11.9 | E3: ='Fig-Tool'!AO9 -> 19.2 | F3: ='Fig-Tool'!AP9 -> 30.4 | G3: -11.2 | H3: 2
B4: ='Fig-Tool'!AA10 -> 226.55 | C4: ='Fig-Tool'!AB10 -> 222.85 | D4: 3.7 | E4: ='Fig-Tool'!AO10 -> 19.9 | F4: ='Fig-Tool'!AP10 -> 22.5 | G4: -2.6 | H4: 3
B5: ='Fig-Tool'!AA11 -> 214.05 | C5: ='Fig-Tool'!AB11 -> 224.15 | D5: -10.1 | E5: ='Fig-Tool'!AO11 -> 17.35 | F5: ='Fig-Tool'!AP11 -> 24.65 | G5: -7.3 | H5: 4
B6: ='Fig-Tool'!AA12 -> 223 | C6: ='Fig-Tool'!AB12 -> 240 | D6: -17 | E6: ='Fig-Tool'!AO12 -> 14.5 | F6: ='Fig-Tool'!AP12 -> 23.9 | G6: -9.4 | H6: 5
B7: ='Fig-Tool'!AA13 -> 214.45 | C7: ='Fig-Tool'!AB13 -> 244.55 | D7: -30.1 | E7: ='Fig-Tool'!AO13 -> 9.9 | F7: ='Fig-Tool'!AP13 -> 24.7 | G7: -14.8 | H7: 6
B8: ='Fig-Tool'!AA14 -> 233.1 | C8: ='Fig-Tool'!AB14 -> 243.1 | D8: -10 | E8: ='Fig-Tool'!AO14 -> 8.1 | F8: ='Fig-Tool'!AP14 -> 23.9 | G8: -15.8 | H8: 7
B9: ='Fig-Tool'!AA15 -> 267.5 | C9: ='Fig-Tool'!AB15 -> 288.7 | D9: -21.2 | E9: ='Fig-Tool'!AO15 -> 14.55 | F9: ='Fig-Tool'!AP15 -> 20.85 | G9: -6.3 | H9: 8
B10: ='Fig-Tool'!AA16 -> 259.3 | C10: ='Fig-Tool'!AB16 -> 267.3 | D10: -8 | E10: ='Fig-Tool'!AO16 -> 12.25 | F10: ='Fig-Tool'!AP16 -> 18.75 | G10: -6.5 | H10: 9
B11: ='Fig-Tool'!AA17 -> 266.5 | C11: ='Fig-Tool'!AB17 -> 271.5 | D11: -5 | E11: ='Fig-Tool'!AO17 -> 15.25 | F11: ='Fig-Tool'!AP17 -> 16.15 | G11: -0.9 | H11: 10
B12: ='Fig-Tool'!AA18 -> 270.1 | C12: ='Fig-Tool'!AB18 -> 267.1 | D12: 3 | E12: ='Fig-Tool'!AO18 -> 14.3 | F12: ='Fig-Tool'!AP18 -> 16.7 | G12: -2.4 | H12: 11
B13: ='Fig-Tool'!AA19 -> 267.1 | C13: ='Fig-Tool'!AB19 -> 253.3 | D13: 13.8 | E13: ='Fig-Tool'!AO19 -> 11.55 | F13: ='Fig-Tool'!AP19 -> 15.45 | G13: -3.9 | H13: 12
A22: M | B22: =AVERAGE(B2:B21) -> 241.13333 | C22: =AVERAGE(C2:C21) -> 245.18333 | D22: =AVERAGE(D2:D21) -> -4.05 | E22: =AVERAGE(E2:E21) -> 15.529167 | F22: =AVERAGE(F2:F21) -> 22.6375 | G22: =AVERAGE(G2:G21) -> -7.1083333
A23: SD | B23: =_xlfn.STDEV.S(B2:B21) -> 23.19243 | C23: =_xlfn.STDEV.S(C2:C21) -> 26.171474 | D23: =_xlfn.STDEV.S(D2:D21) -> 15.104274 | E23: =_xlfn.STDEV.S(E2:E21) -> 5.6258518 | F23: =_xlfn.STDEV.S(F2:F21) -> 5.5714828 | G23: =_xlfn.STDEV.S(G2:G21) -> 4.8387561
B25: CP | C25: CLES | D25: =ROUND(_xlfn.NORM.S.DIST(B27/SQRT(2),TRUE),3) -> 0.425 | E25: W | F25: CLES | G25: =ROUND(_xlfn.NORM.S.DIST(E27/SQRT(2),TRUE),3) -> 0.149
B26: dz | C26: r | D26: SEE | E26: dz | F26: r | G26: SEE
B27: =D22/D23 -> -0.26813603 | C27: =CORREL(B2:B21,C2:C21) -> 0.8193809 | D27: =STEYX(C2:C21,B2:B21) -> 15.735052 | E27: =G22/G23 -> -1.4690415 | F27: =CORREL(E2:E21,F2:F21) -> 0.62655766 | G27: =STEYX(F2:F21,E2:E21) -> 4.5542162
B29: J | C29: gz | D29: Vg | E29: J | F29: gz | G29: Vg
B30: =ROUND((1-(3/(4*COUNT(B2:B21)-9))),3) -> 0.923 | C30: =ROUND(B27*B30,3) -> -0.247 | D30: =ROUND( ((1/COUNT(D2:D21))+((B27^2)/(2*(COUNT(D2:D21)))))*2*(1-C27)*(B30^2),3) -> 0.027 | E30: =ROUND((1-(3/(4*COUNT(E2:E21)-9))),3) -> 0.923 | F30: =ROUND(E27*E30,3) -> -1.356 | G30: =ROUND( ((1/COUNT(G2:G21))+((E27^2)/(2*(COUNT(G2:G21)))))*2*(1-F27)*(E30^2),3) -> 0.11

Sheet Wright 17 1T lin
B1: EP | C1: CP | D1: EP–CP | E1: WEP | F1: W' | G1: WEP–W' | H1: no.
B2: ='Fig-Tool'!AH8 -> 224.6 | C2: ='Fig-Tool'!AI8 -> 194.8 | D2: 29.8 | E2: ='Fig-Tool'!AV8 -> 11.35 | F2: ='Fig-Tool'!AW8 -> 15.45 | G2: -4.1 | H2: 1 | I2: Wright et al. (2017) 1/T lin | L2: ="n = "&MAX(H2:H21) -> n = 12
B3: ='Fig-Tool'!AH9 -> 226.85 | C3: ='Fig-Tool'!AI9 -> 222.55 | D3: 4.3 | E3: ='Fig-Tool'!AV9 -> 11.55 | F3: ='Fig-Tool'!AW9 -> 16.25 | G3: -4.7 | H3: 2
B4: ='Fig-Tool'!AH10 -> 234.7 | C4: ='Fig-Tool'!AI10 -> 224.3 | D4: 10.4 | E4: ='Fig-Tool'!AV10 -> 12.65 | F4: ='Fig-Tool'!AW10 -> 16.75 | G4: -4.1 | H4: 3
B5: ='Fig-Tool'!AH11 -> 239.9 | C5: ='Fig-Tool'!AI11 -> 223.9 | D5: 16 | E5: ='Fig-Tool'!AV11 -> 18.15 | F5: ='Fig-Tool'!AW11 -> 22.45 | G5: -4.3 | H5: 4
B6: ='Fig-Tool'!AH12 -> 246.95 | C6: ='Fig-Tool'!AI12 -> 238.45 | D6: 8.5 | E6: ='Fig-Tool'!AV12 -> 11.45 | F6: ='Fig-Tool'!AW12 -> 18.75 | G6: -7.3 | H6: 5
