Workbook

Sheet Table
A1: Study | B1: n | C1: gz_CP | D1: Vz_CP | E1: SE_CP | F1: 1/Vz | G1: gz/Vz | H1: gz2/Vz | I1: (1/Vz)2 | J1: 1/(Vz+τ2) | K1: (1/(Vz+τ2))2 | L1: gz/(Vz+τ2) | M1: gz2/(Vz+τ2) | N1: w% | O1: 95%CI | P1: CLES | Q1: gz_W | R1: Vz_W | S1: SE_CP | T1: 1/Vz | U1: gz/Vz | V1: gz2/Vz | W1: (1/Vz)2 | X1: 1/(Vz+τ2) | Y1: (1/(Vz+τ2))2 | Z1: gz/(Vz+τ2) | AA1: w% | AB1: 95%CI | AC1: CLES | AF1: study | AL1: gz [95% CI] | AN1: weight | AQ1: study | AW1: gz [95% CI] | AY1: weight
A2: Bartram et al. (2017) Wt PL5 | B2: 6 | C2: ='Bartram 17 WT'!C30 -> 1.858 | D2: ='Bartram 17 WT'!D30 -> 0.16 | E2: =SQRT(D2)/SQRT($B2) -> 0.16329932 | F2: =1/D2 -> 6.25 | G2: =C2/D2 -> 11.6125 | H2: =C2^2/D2 -> 21.576025 | I2: =F2^2 -> 39.0625 | J2: =1/(D2+C$23) -> 3.2467532 | K2: =J2^2 -> 10.541407 | L2: =C2/(D2+C$23) -> 6.0324675 | M2: =C2^2*J2 -> 11.208325 | N2: =J2/(SUM(J$2:J$16)) -> 0.038044689 | O2: =ROUND(SQRT(D2)*1.96,3) -> 0.784 | P2: ='Bartram 17 WT'!D25 -> 0.95 | Q2: ='Bartram 17 WT'!F30 -> -1.094 | R2: ='Bartram 17 WT'!G30 -> 0.57 | S2: =SQRT(R2)/SQRT($B2) -> 0.3082207 | T2: =1/R2 -> 1.754386 | U2: =Q2/R2 -> -1.9192982 | V2: =Q2^2/R2 -> 2.0997123 | W2: =T2^2 -> 3.0778701 | X2: =1/(R2+Q$23) -> 1.1261261 | Y2: =X2^2 -> 1.2681601 | Z2: =Q2/(R2+Q$23) -> -1.231982 | AA2: =X2/(SUM(X$2:X$16)) -> 0.0318927 | AB2: =ROUND(SQRT(R2)*1.96,3) -> 1.48 | AC2: ='Bartram 17 WT'!G25 -> 0.167 | AD2: 15 | AF2: =A2 -> Bartram et al. (2017) Wt PL5 | AL2: =C2&" ["&ROUND(C2-O2,3)&", "&ROUND(C2+O2,3)&"]" -> 1.858 [1.074, 2.642] | AN2: =N2 -> 0.038044689 | AQ2: =A2 -> Bartram et al. (2017) Wt PL5 | AW2: =Q2&" ["&ROUND(Q2-AB2,3)&", "&ROUND(Q2+AB2,3)&"]" -> -1.094 [-2.574, 0.386] | AY2: =AA2 -> 0.0318927
A3: Karsten et al. (2013)* Wt PL4 | B3: 13 | C3: ='Karsten 13 WT'!C30 -> 1.734 | D3: ='Karsten 13 WT'!D30 -> 0.042 | E3: =SQRT(D3)/SQRT($B3) -> 0.056839856 | F3: =1/D3 -> 23.809524 | G3: =C3/D3 -> 41.285714 | H3: =C3^2/D3 -> 71.589429 | I3: =F3^2 -> 566.89342 | J3: =1/(D3+C$23) -> 5.2631579 | K3: =J3^2 -> 27.700831 | L3: =C3/(D3+C$23) -> 9.1263158 | M3: =C3^2*J3 -> 15.825032 | N3: =J3/(SUM(J$2:J$16)) -> 0.061672444 | O3: =ROUND(SQRT(D3)*1.96,3) -> 0.402 | P3: ='Karsten 13 WT'!D25 -> 0.906 | Q3: ='Karsten 13 WT'!F30 -> -1.189 | R3: ='Karsten 13 WT'!G30 -> 0.138 | S3: =SQRT(R3)/SQRT($B3) -> 0.10303099 | T3: =1/R3 -> 7.2463768 | U3: =Q3/R3 -> -8.615942 | V3: =Q3^2/R3 -> 10.244355 | W3: =T3^2 -> 52.509977 | X3: =1/(R3+Q$23) -> 2.1929825 | Y3: =X3^2 -> 4.8091721 | Z3: =Q3/(R3+Q$23) -> -2.6074561 | AA3: =X3/(SUM(X$2:X$16)) -> 0.062106837 | AB3: =ROUND(SQRT(R3)*1.96,3) -> 0.728 | AC3: ='Karsten 13 WT'!G25 -> 0.183 | AD3: 14 | AF3: =A3 -> Karsten et al. (2013)* Wt PL4 | AL3: =C3&" ["&ROUND(C3-O3,3)&", "&ROUND(C3+O3,3)&"]" -> 1.734 [1.332, 2.136] | AN3: =N3 -> 0.061672444 | AQ3: =A3 -> Karsten et al. (2013)* Wt PL4 | AW3: =Q3&" ["&ROUND(Q3-AB3,3)&", "&ROUND(Q3+AB3,3)&"]" -> -1.189 [-1.917, -0.461] | AY3: =AA3 -> 0.062106837
A4: Karsten et al. (2013)* 1/t PL4 | B4: 13 | C4: ='Karsten 13 1T'!C30 -> 1.52 | D4: ='Karsten 13 1T'!D30 -> 0.031 | E4: =SQRT(D4)/SQRT($B4) -> 0.048832524 | F4: =1/D4 -> 32.258065 | G4: =C4/D4 -> 49.032258 | H4: =C4^2/D4 -> 74.529032 | I4: =F4^2 -> 1040.5827 | J4: =1/(D4+C$23) -> 5.5865922 | K4: =J4^2 -> 31.210012 | L4: =C4/(D4+C$23) -> 8.4916201 | M4: =C4^2*J4 -> 12.907263 | N4: =J4/(SUM(J$2:J$16)) -> 0.06546237 | O4: =ROUND(SQRT(D4)*1.96,3) -> 0.345 | P4: ='Karsten 13 1T'!D25 -> 0.876 | Q4: ='Karsten 13 1T'!F30 -> -0.915 | R4: ='Karsten 13 1T'!G30 -> 0.108 | S4: =SQRT(R4)/SQRT($B4) -> 0.091146543 | T4: =1/R4 -> 9.2592593 | U4: =Q4/R4 -> -8.4722222 | V4: =Q4^2/R4 -> 7.7520833 | W4: =T4^2 -> 85.733882 | X4: =1/(R4+Q$23) -> 2.3474178 | Y4: =X4^2 -> 5.5103705 | Z4: =Q4/(R4+Q$23) -> -2.1478873 | AA4: =X4/(SUM(X$2:X$16)) -> 0.066480558 | AB4: =ROUND(SQRT(R4)*1.96,3) -> 0.644 | AC4: ='Karsten 13 1T'!G25 -> 0.242 | AD4: 13 | AF4: =A4 -> Karsten et al. (2013)* 1/t PL4 | AL4: =C4&" ["&ROUND(C4-O4,3)&", "&ROUND(C4+O4,3)&"]" -> 1.52 [1.175, 1.865] | AN4: =N4 -> 0.06546237 | AQ4: =A4 -> Karsten et al. (2013)* 1/t PL4 | AW4: =Q4&" ["&ROUND(Q4-AB4,3)&", "&ROUND(Q4+AB4,3)&"]" -> -0.915 [-1.559, -0.271] | AY4: =AA4 -> 0.066480558
A5: Wright et al. (2017)* 1/t lin PL3 | B5: 10 | C5: ='Wright 17 1T lin'!C30 -> 1.166 | D5: ='Wright 17 1T lin'!D30 -> 0.041 | E5: =SQRT(D5)/SQRT($B5) -> 0.064031242 | F5: =1/D5 -> 24.390244 | G5: =C5/D5 -> 28.439024 | H5: =C5^2/D5 -> 33.159902 | I5: =F5^2 -> 594.884 | J5: =1/(D5+C$23) -> 5.2910053 | K5: =J5^2 -> 27.994737 | L5: =C5/(D5+C$23) -> 6.1693122 | M5: =C5^2*J5 -> 7.193418 | N5: =J5/(SUM(J$2:J$16)) -> 0.061998753 | O5: =ROUND(SQRT(D5)*1.96,3) -> 0.397 | P5: ='Wright 17 1T lin'!D25 -> 0.814 | Q5: ='Wright 17 1T lin'!F30 -> -1.873 | R5: ='Wright 17 1T lin'!G30 -> 0.168 | S5: =SQRT(R5)/SQRT($B5) -> 0.12961481 | T5: =1/R5 -> 5.952381 | U5: =Q5/R5 -> -11.14881 | V5: =Q5^2/R5 -> 20.88172 | W5: =T5^2 -> 35.430839 | X5: =1/(R5+Q$23) -> 2.0576132 | Y5: =X5^2 -> 4.233772 | Z5: =Q5/(R5+Q$23) -> -3.8539095 | AA5: =X5/(SUM(X$2:X$16)) -> 0.058273082 | AB5: =ROUND(SQRT(R5)*1.96,3) -> 0.803 | AC5: ='Wright 17 1T lin'!G25 -> 0.076 | AD5: 12 | AF5: =A5 -> Wright et al. (2017)* 1/t lin PL3 | AL5: =C5&" ["&ROUND(C5-O5,3)&", "&ROUND(C5+O5,3)&"]" -> 1.166 [0.769, 1.563] | AN5: =N5 -> 0.061998753 | AQ5: =A5 -> Wright et al. (2017)* 1/t lin PL3 | AW5: =Q5&" ["&ROUND(Q5-AB5,3)&", "&ROUND(Q5+AB5,3)&"]" -> -1.873 [-2.676, -1.07] | AY5: =AA5 -> 0.058273082
A6: Dekerle et al. (2014) 1/t 60 PL3 | B6: 9 | C6: ='Dekerle 13 1T 60'!C30 -> 0.606 | D6: ='Dekerle 13 1T 60'!D30 -> 0.031 | E6: =SQRT(D6)/SQRT($B6) -> 0.05868939 | F6: =1/D6 -> 32.258065 | G6: =C6/D6 -> 19.548387 | H6: =C6^2/D6 -> 11.846323 | I6: =F6^2 -> 1040.5827 | J6: =1/(D6+C$23) -> 5.5865922 | K6: =J6^2 -> 31.210012 | L6: =C6/(D6+C$23) -> 3.3854749 | M6: =C6^2*J6 -> 2.0515978 | N6: =J6/(SUM(J$2:J$16)) -> 0.06546237 | O6: =ROUND(SQRT(D6)*1.96,3) -> 0.345 | P6: ='Dekerle 13 1T 60'!D25 -> 0.685 | Q6: ='Dekerle 13 1T 60'!F30 -> -0.218 | R6: ='Dekerle 13 1T 60'!G30 -> 0.31 | S6: =SQRT(R6)/SQRT($B6) -> 0.18559215 | T6: =1/R6 -> 3.2258065 | U6: =Q6/R6 -> -0.70322581 | V6: =Q6^2/R6 -> 0.15330323 | W6: =T6^2 -> 10.405827 | X6: =1/(R6+Q$23) -> 1.5923567 | Y6: =X6^2 -> 2.5355998 | Z6: =Q6/(R6+Q$23) -> -0.34713376 | AA6: =X6/(SUM(X$2:X$16)) -> 0.045096684 | AB6: =ROUND(SQRT(R6)*1.96,3) -> 1.091 | AC6: ='Dekerle 13 1T 60'!G25 -> 0.431 | AD6: 11 | AF6: =A6 -> Dekerle et al. (2014) 1/t 60 PL3 | AL6: =C6&" ["&ROUND(C6-O6,3)&", "&ROUND(C6+O6,3)&"]" -> 0.606 [0.261, 0.951] | AN6: =N6 -> 0.06546237 | AQ6: =A6 -> Dekerle et al. (2014) 1/t 60 PL3 | AW6: =Q6&" ["&ROUND(Q6-AB6,3)&", "&ROUND(Q6+AB6,3)&"]" -> -0.218 [-1.309, 0.873] | AY6: =AA6 -> 0.045096684
A7: Goulding et al. (2021)* mix up PL2 | B7: 15 | C7: ='Goulding 21 mix up'!C30 -> 0.441 | D7: ='Goulding 21 mix up'!D30 -> 0.005 | E7: =SQRT(D7)/SQRT($B7) -> 0.018257419 | F7: =1/D7 -> 200 | G7: =C7/D7 -> 88.2 | H7: =C7^2/D7 -> 38.8962 | I7: =F7^2 -> 40000 | J7: =1/(D7+C$23) -> 6.5359477 | K7: =J7^2 -> 42.718612 | L7: =C7/(D7+C$23) -> 2.8823529 | M7: =C7^2*J7 -> 1.2711176 | N7: =J7/(SUM(J$2:J$16)) -> 0.076586695 | O7: =ROUND(SQRT(D7)*1.96,3) -> 0.139 | P7: ='Goulding 21 mix up'!D25 -> 0.63 | Q7: ='Goulding 21 mix up'!C30 -> 0.441 | R7: ='Goulding 21 mix up'!D30 -> 0.005 | S7: =SQRT(R7)/SQRT($B7) -> 0.018257419 | T7: =1/R7 -> 200 | U7: =Q7/R7 -> 88.2 | V7: =Q7^2/R7 -> 38.8962 | W7: =T7^2 -> 40000 | X7: =1/(R7+Q$23) -> 3.0959752 | Y7: =X7^2 -> 9.5850626 | Z7: =Q7/(R7+Q$23) -> 1.3653251 | AA7: =X7/(SUM(X$2:X$16)) -> 0.08768024 | AB7: =ROUND(SQRT(R7)*1.96,3) -> 0.139 | AC7: ='Dekerle 13 1T 100'!G25 -> 0.379 | AD7: 10 | AF7: =A7 -> Goulding et al. (2021)* mix up PL2 | AL7: =C7&" ["&ROUND(C7-O7,3)&", "&ROUND(C7+O7,3)&"]" -> 0.441 [0.302, 0.58] | AN7: =N7 -> 0.076586695 | AQ7: =A7 -> Goulding et al. (2021)* mix up PL2 | AW7: =Q7&" ["&ROUND(Q7-AB7,3)&", "&ROUND(Q7+AB7,3)&"]" -> 0.441 [0.302, 0.58] | AY7: =AA7 -> 0.08768024
A8: Dekerle et al. (2014) 1/t 100 PL3 | B8: 9 | C8: ='Dekerle 13 1T 100'!C30 -> 0.294 | D8: ='Dekerle 13 1T 100'!D30 -> 0.07 | E8: =SQRT(D8)/SQRT($B8) -> 0.08819171 | F8: =1/D8 -> 14.285714 | G8: =C8/D8 -> 4.2 | H8: =C8^2/D8 -> 1.2348 | I8: =F8^2 -> 204.08163 | J8: =1/(D8+C$23) -> 4.587156 | K8: =J8^2 -> 21.042 | L8: =C8/(D8+C$23) -> 1.3486239 | M8: =C8^2*J8 -> 0.39649541 | N8: =J8/(SUM(J$2:J$16)) -> 0.053751212 | O8: =ROUND(SQRT(D8)*1.96,3) -> 0.519 | P8: ='Dekerle 13 1T 100'!D25 -> 0.592 | Q8: ='Dekerle 13 1T 100'!F30 -> -0.387 | R8: ='Dekerle 13 1T 100'!G30 -> 0.224 | S8: =SQRT(R8)/SQRT($B8) -> 0.15776213 | T8: =1/R8 -> 4.4642857 | U8: =Q8/R8 -> -1.7276786 | V8: =Q8^2/R8 -> 0.66861161 | W8: =T8^2 -> 19.929847 | X8: =1/(R8+Q$23) -> 1.8450185 | Y8: =X8^2 -> 3.4040931 | Z8: =Q8/(R8+Q$23) -> -0.71402214 | AA8: =X8/(SUM(X$2:X$16)) -> 0.052252247 | AB8: =ROUND(SQRT(R8)*1.96,3) -> 0.928 | AC8: ='Clark 16 WT'!G25 -> 0.429 | AD8: 9 | AF8: =A8 -> Dekerle et al. (2014) 1/t 100 PL3 | AL8: =C8&" ["&ROUND(C8-O8,3)&", "&ROUND(C8+O8,3)&"]" -> 0.294 [-0.225, 0.813] | AN8: =N8 -> 0.053751212 | AQ8: =A8 -> Dekerle et al. (2014) 1/t 100 PL3 | AW8: =Q8&" ["&ROUND(Q8-AB8,3)&", "&ROUND(Q8+AB8,3)&"]" -> -0.387 [-1.315, 0.541] | AY8: =AA8 -> 0.052252247
A9: Clark et al. (2016) Wt PL2 | B9: 10 | C9: ='Clark 16 WT'!C30 -> 0.233 | D9: ='Clark 16 WT'!D30 -> 0.003 | E9: =SQRT(D9)/SQRT($B9) -> 0.017320508 | F9: =1/D9 -> 333.33333 | G9: =C9/D9 -> 77.666667 | H9: =C9^2/D9 -> 18.096333 | I9: =F9^2 -> 111111.11 | J9: =1/(D9+C$23) -> 6.6225166 | K9: =J9^2 -> 43.857726 | L9: =C9/(D9+C$23) -> 1.5430464 | M9: =C9^2*J9 -> 0.3595298 | N9: =J9/(SUM(J$2:J$16)) -> 0.077601088 | O9: =ROUND(SQRT(D9)*1.96,3) -> 0.107 | P9: ='Clark 16 WT'!D25 -> 0.572 | Q9: ='Clark 16 WT'!F30 -> -0.227 | R9: ='Clark 16 WT'!G30 -> 0.023 | S9: =SQRT(R9)/SQRT($B9) -> 0.047958315 | T9: =1/R9 -> 43.478261 | U9: =Q9/R9 -> -9.8695652 | V9: =Q9^2/R9 -> 2.2403913 | W9: =T9^2 -> 1890.3592 | X9: =1/(R9+Q$23) -> 2.9325513 | Y9: =X9^2 -> 8.5998572 | Z9: =Q9/(R9+Q$23) -> -0.66568915 | AA9: =X9/(SUM(X$2:X$16)) -> 0.083051958 | AB9: =ROUND(SQRT(R9)*1.96,3) -> 0.297 | AC9: ='Goulding 21 mix up'!G25 -> 0.335 | AD9: 8 | AF9: =A9 -> Clark et al. (2016) Wt PL2 | AL9: =C9&" ["&ROUND(C9-O9,3)&", "&ROUND(C9+O9,3)&"]" -> 0.233 [0.126, 0.34] | AN9: =N9 -> 0.077601088 | AQ9: =A9 -> Clark et al. (2016) Wt PL2 | AW9: =Q9&" ["&ROUND(Q9-AB9,3)&", "&ROUND(Q9+AB9,3)&"]" -> -0.227 [-0.524, 0.07] | AY9: =AA9 -> 0.083051958
A10: Clark et al. (2019) mix fat PL2 | B10: 14 | C10: ='Clark 19 mix fat'!C30 -> 0.127 | D10: ='Clark 19 mix fat'!D30 -> 0.011 | E10: =SQRT(D10)/SQRT($B10) -> 0.028030596 | F10: =1/D10 -> 90.909091 | G10: =C10/D10 -> 11.545455 | H10: =C10^2/D10 -> 1.4662727 | I10: =F10^2 -> 8264.4628 | J10: =1/(D10+C$23) -> 6.2893082 | K10: =J10^2 -> 39.555397 | L10: =C10/(D10+C$23) -> 0.79874214 | M10: =C10^2*J10 -> 0.10144025 | N10: =J10/(SUM(J$2:J$16)) -> 0.073696631 | O10: =ROUND(SQRT(D10)*1.96,3) -> 0.206 | P10: ='Clark 19 mix fat'!D25 -> 0.538 | Q10: ='Clark 19 mix fat'!F30 -> -0.087 | R10: ='Clark 19 mix fat'!G30 -> 0.061 | S10: =SQRT(R10)/SQRT($B10) -> 0.066008657 | T10: =1/R10 -> 16.393443 | U10: =Q10/R10 -> -1.4262295 | V10: =Q10^2/R10 -> 0.12408197 | W10: =T10^2 -> 268.74496 | X10: =1/(R10+Q$23) -> 2.6385224 | Y10: =X10^2 -> 6.9618006 | Z10: =Q10/(R10+Q$23) -> -0.22955145 | AA10: =X10/(SUM(X$2:X$16)) -> 0.074724849 | AB10: =ROUND(SQRT(R10)*1.96,3) -> 0.484 | AC10: ='Goulding 21 mix sup'!G25 -> 0.768 | AD10: 7 | AF10: =A10 -> Clark et al. (2019) mix fat PL2 | AL10: =C10&" ["&ROUND(C10-O10,3)&", "&ROUND(C10+O10,3)&"]" -> 0.127 [-0.079, 0.333] | AN10: =N10 -> 0.073696631 | AQ10: =A10 -> Clark et al. (2019) mix fat PL2 | AW10: =Q10&" ["&ROUND(Q10-AB10,3)&", "&ROUND(Q10+AB10,3)&"]" -> -0.087 [-0.571, 0.397] | AY10: =AA10 -> 0.074724849
A11: Clark et al. (2016) 1/t PL2 | B11: 10 | C11: ='Clark 16 1T'!C30 -> 0.123 | D11: ='Clark 16 1T'!D30 -> 0.004 | E11: =SQRT(D11)/SQRT($B11) -> 0.02 | F11: =1/D11 -> 250 | G11: =C11/D11 -> 30.75 | H11: =C11^2/D11 -> 3.78225 | I11: =F11^2 -> 62500 | J11: =1/(D11+C$23) -> 6.5789474 | K11: =J11^2 -> 43.282548 | L11: =C11/(D11+C$23) -> 0.80921053 | M11: =C11^2*J11 -> 0.099532895 | N11: =J11/(SUM(J$2:J$16)) -> 0.077090555 | O11: =ROUND(SQRT(D11)*1.96,3) -> 0.124 | P11: ='Clark 16 1T'!D25 -> 0.538 | Q11: ='Clark 16 1T'!F30 -> -0.132 | R11: ='Clark 16 1T'!G30 -> 0.027 | S11: =SQRT(R11)/SQRT($B11) -> 0.051961524 | T11: =1/R11 -> 37.037037 | U11: =Q11/R11 -> -4.8888889 | V11: =Q11^2/R11 -> 0.64533333 | W11: =T11^2 -> 1371.7421 | X11: =1/(R11+Q$23) -> 2.8985507 | Y11: =X11^2 -> 8.4015963 | Z11: =Q11/(R11+Q$23) -> -0.3826087 | AA11: =X11/(SUM(X$2:X$16)) -> 0.082089037 | AB11: =ROUND(SQRT(R11)*1.96,3) -> 0.322 | AC11: ='Clark 19 mix fat'!G25 -> 0.474 | AD11: 6 | AF11: =A11 -> Clark et al. (2016) 1/t PL2 | AL11: =C11&" ["&ROUND(C11-O11,3)&", "&ROUND(C11+O11,3)&"]" -> 0.123 [-0.001, 0.247] | AN11: =N11 -> 0.077090555 | AQ11: =A11 -> Clark et al. (2016) 1/t PL2 | AW11: =Q11&" ["&ROUND(Q11-AB11,3)&", "&ROUND(Q11+AB11,3)&"]" -> -0.132 [-0.454, 0.19] | AY11: =AA11 -> 0.082089037
A12: Barker et al. (2012) 1/t PL2 | B12: 8 | C12: ='Baker 11 1T 180'!C30 -> 0.011 | D12: ='Baker 11 1T 180'!D30 -> 0.092 | E12: =SQRT(D12)/SQRT($B12) -> 0.10723805 | F12: =1/D12 -> 10.869565 | G12: =C12/D12 -> 0.11956522 | H12: =C12^2/D12 -> 0.0013152174 | I12: =F12^2 -> 118.14745 | J12: =1/(D12+C$23) -> 4.1666667 | K12: =J12^2 -> 17.361111 | L12: =C12/(D12+C$23) -> 0.045833333 | M12: =C12^2*J12 -> 0.00050416667 | N12: =J12/(SUM(J$2:J$16)) -> 0.048824018 | O12: =ROUND(SQRT(D12)*1.96,3) -> 0.594 | P12: ='Baker 11 1T 180'!D25 -> 0.504 | Q12: ='Baker 11 1T 180'!F30 -> -0.357 | R12: ='Baker 11 1T 180'!G30 -> 0.199 | S12: =SQRT(R12)/SQRT($B12) -> 0.1577181 | T12: =1/R12 -> 5.0251256 | U12: =Q12/R12 -> -1.7939698 | V12: =Q12^2/R12 -> 0.64044724 | W12: =T12^2 -> 25.251888 | X12: =1/(R12+Q$23) -> 1.934236 | Y12: =X12^2 -> 3.7412688 | Z12: =Q12/(R12+Q$23) -> -0.69052224 | AA12: =X12/(SUM(X$2:X$16)) -> 0.054778951 | AB12: =ROUND(SQRT(R12)*1.96,3) -> 0.874 | AC12: ='Clark 16 1T'!G25 -> 0.459 | AD12: 5 | AF12: =A12 -> Barker et al. (2012) 1/t PL2 | AL12: =C12&" ["&ROUND(C12-O12,3)&", "&ROUND(C12+O12,3)&"]" -> 0.011 [-0.583, 0.605] | AN12: =N12 -> 0.048824018 | AQ12: =A12 -> Barker et al. (2012) 1/t PL2 | AW12: =Q12&" ["&ROUND(Q12-AB12,3)&", "&ROUND(Q12+AB12,3)&"]" -> -0.357 [-1.231, 0.517] | AY12: =AA12 -> 0.054778951
A13: Vahatalo et al. (2007) Wt PL3 | B13: 10 | C13: ='Vanhatalo 07 WT'!C30 -> -0.044 | D13: ='Vanhatalo 07 WT'!D30 -> 0.001 | E13: =SQRT(D13)/SQRT($B13) -> 0.01 | F13: =1/D13 -> 1000 | G13: =C13/D13 -> -44 | H13: =C13^2/D13 -> 1.936 | I13: =F13^2 -> 1000000 | J13: =1/(D13+C$23) -> 6.7114094 | K13: =J13^2 -> 45.043016 | L13: =C13/(D13+C$23) -> -0.29530201 | M13: =C13^2*J13 -> 0.012993289 | N13: =J13/(SUM(J$2:J$16)) -> 0.078642713 | O13: =ROUND(SQRT(D13)*1.96,3) -> 0.062 | P13: ='Vanhatalo 07 WT'!D25 -> 0.486 | Q13: ='Vanhatalo 07 WT'!F30 -> -0.346 | R13: ='Vanhatalo 07 WT'!G30 -> 0.029 | S13: =SQRT(R13)/SQRT($B13) -> 0.053851648 | T13: =1/R13 -> 34.482759 | U13: =Q13/R13 -> -11.931034 | V13: =Q13^2/R13 -> 4.1281379 | W13: =T13^2 -> 1189.0606 | X13: =1/(R13+Q$23) -> 2.8818444 | Y13: =X13^2 -> 8.305027 | Z13: =Q13/(R13+Q$23) -> -0.99711816 | AA13: =X13/(SUM(X$2:X$16)) -> 0.081615901 | AB13: =ROUND(SQRT(R13)*1.96,3) -> 0.334 | AC13: ='Baker 11 1T 180'!G25 -> 0.386 | AD13: 4 | AF13: =A13 -> Vahatalo et al. (2007) Wt PL3 | AL13: =C13&" ["&ROUND(C13-O13,3)&", "&ROUND(C13+O13,3)&"]" -> -0.044 [-0.106, 0.018] | AN13: =N13 -> 0.078642713 | AQ13: =A13 -> Vahatalo et al. (2007) Wt PL3 | AW13: =Q13&" ["&ROUND(Q13-AB13,3)&", "&ROUND(Q13+AB13,3)&"]" -> -0.346 [-0.68, -0.012] | AY13: =AA13 -> 0.081615901
A14: Wright et al. (2017)* 1/T iso PL3 | B14: 10 | C14: ='Wright 17 1T iso'!C30 -> -0.247 | D14: ='Wright 17 1T iso'!D30 -> 0.027 | E14: =SQRT(D14)/SQRT($B14) -> 0.051961524 | F14: =1/D14 -> 37.037037 | G14: =C14/D14 -> -9.1481481 | H14: =C14^2/D14 -> 2.2595926 | I14: =F14^2 -> 1371.7421 | J14: =1/(D14+C$23) -> 5.7142857 | K14: =J14^2 -> 32.653061 | L14: =C14/(D14+C$23) -> -1.4114286 | M14: =C14^2*J14 -> 0.34862286 | N14: =J14/(SUM(J$2:J$16)) -> 0.066958653 | O14: =ROUND(SQRT(D14)*1.96,3) -> 0.322 | P14: ='Wright 17 1T iso'!D25 -> 0.425 | Q14: ='Wright 17 1T iso'!F30 -> -1.356 | R14: ='Wright 17 1T iso'!G30 -> 0.11 | S14: =SQRT(R14)/SQRT($B14) -> 0.10488088 | T14: =1/R14 -> 9.0909091 | U14: =Q14/R14 -> -12.327273 | V14: =Q14^2/R14 -> 16.715782 | W14: =T14^2 -> 82.644628 | X14: =1/(R14+Q$23) -> 2.3364486 | Y14: =X14^2 -> 5.4589921 | Z14: =Q14/(R14+Q$23) -> -3.1682243 | AA14: =X14/(SUM(X$2:X$16)) -> 0.066169901 | AB14: =ROUND(SQRT(R14)*1.96,3) -> 0.65 | AC14: ='Vanhatalo 07 WT'!G25 -> 0.393 | AD14: 3 | AF14: =A14 -> Wright et al. (2017)* 1/T iso PL3 | AL14: =C14&" ["&ROUND(C14-O14,3)&", "&ROUND(C14+O14,3)&"]" -> -0.247 [-0.569, 0.075] | AN14: =N14 -> 0.066958653 | AQ14: =A14 -> Wright et al. (2017)* 1/T iso PL3 | AW14: =Q14&" ["&ROUND(Q14-AB14,3)&", "&ROUND(Q14+AB14,3)&"]" -> -1.356 [-2.006, -0.706] | AY14: =AA14 -> 0.066169901
A15: Vahatalo et al. (2007) 1/t PL3 | B15: 10 | C15: ='Vanhatalo 07 1T'!C30 -> -0.28 | D15: ='Vanhatalo 07 1T'!D30 -> 0.002 | E15: =SQRT(D15)/SQRT($B15) -> 0.014142136 | F15: =1/D15 -> 500 | G15: =C15/D15 -> -140 | H15: =C15^2/D15 -> 39.2 | I15: =F15^2 -> 250000 | J15: =1/(D15+C$23) -> 6.6666667 | K15: =J15^2 -> 44.444444 | L15: =C15/(D15+C$23) -> -1.8666667 | M15: =C15^2*J15 -> 0.52266667 | N15: =J15/(SUM(J$2:J$16)) -> 0.078118429 | O15: =ROUND(SQRT(D15)*1.96,3) -> 0.088 | P15: ='Vanhatalo 07 1T'!D25 -> 0.413 | Q15: ='Vanhatalo 07 1T'!F30 -> -0.123 | R15: ='Vanhatalo 07 1T'!G30 -> 0.027 | S15: =SQRT(R15)/SQRT($B15) -> 0.051961524 | T15: =1/R15 -> 37.037037 | U15: =Q15/R15 -> -4.5555556 | V15: =Q15^2/R15 -> 0.56033333 | W15: =T15^2 -> 1371.7421 | X15: =1/(R15+Q$23) -> 2.8985507 | Y15: =X15^2 -> 8.4015963 | Z15: =Q15/(R15+Q$23) -> -0.35652174 | AA15: =X15/(SUM(X$2:X$16)) -> 0.082089037 | AB15: =ROUND(SQRT(R15)*1.96,3) -> 0.322 | AC15: ='Wright 17 1T iso'!G25 -> 0.149 | AD15: 2 | AF15: =A15 -> Vahatalo et al. (2007) 1/t PL3 | AL15: =C15&" ["&ROUND(C15-O15,3)&", "&ROUND(C15+O15,3)&"]" -> -0.28 [-0.368, -0.192] | AN15: =N15 -> 0.078118429 | AQ15: =A15 -> Vahatalo et al. (2007) 1/t PL3 | AW15: =Q15&" ["&ROUND(Q15-AB15,3)&", "&ROUND(Q15+AB15,3)&"]" -> -0.123 [-0.445, 0.199] | AY15: =AA15 -> 0.082089037
A16: Goulding et al. (2021)* mix sup PL2 | B16: 8 | C16: ='Goulding 21 mix sup'!C30 -> -0.343 | D16: ='Goulding 21 mix sup'!D30 -> 0.006 | E16: =SQRT(D16)/SQRT($B16) -> 0.027386128 | F16: =1/D16 -> 166.66667 | G16: =C16/D16 -> -57.166667 | H16: =C16^2/D16 -> 19.608167 | I16: =F16^2 -> 27777.778 | J16: =1/(D16+C$23) -> 6.4935065 | K16: =J16^2 -> 42.165627 | L16: =C16/(D16+C$23) -> -2.2272727 | M16: =C16^2*J16 -> 0.76395455 | N16: =J16/(SUM(J$2:J$16)) -> 0.076089379 | O16: =ROUND(SQRT(D16)*1.96,3) -> 0.152 | P16: ='Goulding 21 mix sup'!D25 -> 0.39 | Q16: ='Goulding 21 mix sup'!F30 -> 0.901 | R16: ='Goulding 21 mix sup'!G30 -> 0.077 | S16: =SQRT(R16)/SQRT($B16) -> 0.098107084 | T16: =1/R16 -> 12.987013 | U16: =Q16/R16 -> 11.701299 | V16: =Q16^2/R16 -> 10.54287 | W16: =T16^2 -> 168.66251 | X16: =1/(R16+Q$23) -> 2.5316456 | Y16: =X16^2 -> 6.4092293 | Z16: =Q16/(R16+Q$23) -> 2.2810127 | AA16: =X16/(SUM(X$2:X$16)) -> 0.071698019 | AB16: =ROUND(SQRT(R16)*1.96,3) -> 0.544 | AC16: ='Vanhatalo 07 1T'!G25 -> 0.462 | AD16: 1 | AF16: =A16 -> Goulding et al. (2021)* mix sup PL2 | AL16: =C16&" ["&ROUND(C16-O16,3)&", "&ROUND(C16+O16,3)&"]" -> -0.343 [-0.495, -0.191] | AN16: =N16 -> 0.076089379 | AQ16: =A16 -> Goulding et al. (2021)* mix sup PL2 | AW16: =Q16&" ["&ROUND(Q16-AB16,3)&", "&ROUND(Q16+AB16,3)&"]" -> 0.901 [0.357, 1.445] | AY16: =AA16 -> 0.071698019
A18: fixed pooled gz | C18: =ROUND(SUM(G2:G16)/SUM(F2:F16),3) -> 0.041 | D18: RUNDEN(SUMME(G2:G16)/SUMME(F2:F16);3) | P18: =AVERAGE(P2:P16) -> 0.62126667 | Q18: =ROUND(SUM(U2:U16)/SUM(T2:T16),3) -> 0.048 | AC18: =AVERAGE(AC2:AC16) -> 0.35553333 | AF18: pooled gz (fixed) | AL18: =C18&" ["&ROUND(C18-C19,3)&", "&ROUND(C18+C19,3)&"]" -> 0.041 [0.003, 0.079] | AQ18: pooled gz (fixed) | AW18: =Q18&" ["&ROUND(Q18-Q19,3)&", "&ROUND(Q18+Q19,3)&"]" -> 0.048 [-0.047, 0.143]
A19: 95% CI | C19: =ROUND(SQRT(1/SUM(F2:F16))*1.96,3) -> 0.038 | D19: RUNDEN(WURZEL(1/SUMME(F2:F16))*1.96;3) | P19: =_xlfn.STDEV.S(P2:P16) -> 0.18514298 | Q19: =ROUND(SQRT(1/SUM(T2:T16))*1.96,3) -> 0.095 | AC19: =_xlfn.STDEV.S(AC2:AC16) -> 0.17312211 | AF19: pooled gz (random) | AL19: =C25&" ["&ROUND(C25-C26,3)&", "&ROUND(C25+C26,3)&"]" -> 0.408 [0.196, 0.62] | AQ19: pooled gz (random) | AW19: =Q25&" ["&ROUND(Q25-Q26,3)&", "&ROUND(Q25+Q26,3)&"]" -> -0.389 [-0.719, -0.059]
A20: Q | C20: =ROUND((SUM(H2:H16))-((SUM(G2:G16)^2)/(SUM(F2:F16))),3) -> 334.566 | D20: RUNDEN((SUMME(H2:H16))-((SUMME(G2:G16)^2)/(SUMME(F2:F16)));3) | Q20: =ROUND((SUM(V2:V16))-((SUM(U2:U16)^2)/(SUM(T2:T16))),3) -> 115.308 | AL20: ="95% PI ["&ROUND(C25-C27,3)&", "&ROUND(C25+C27,3)&"]" -> 95% PI [0.024, 0.792] | AW20: ="95% PI ["&ROUND(Q25-Q27,3)&", "&ROUND(Q25+Q27,3)&"]" -> 95% PI [-0.954, 0.176]
A21: I2 | C21: =(C20-COUNT(C2:C16)-1)/C20 -> 0.95217685 | D21: (C20-ANZAHL(C2:C16)-1)/C20 | Q21: =(Q20-COUNT(Q2:Q16)-1)/Q20 -> 0.8612412
A22: Homogeneity test p | C22: =ROUND(1-_xlfn.CHISQ.DIST(C20,COUNT(C2:C16)-1,TRUE),3) -> 0 | D22: RUNDEN(1-CHIQU.VERT(C20;ANZAHL(C2:C16)-1;WAHR);3) | Q22: =ROUND(1-_xlfn.CHISQ.DIST(Q20,COUNT(Q2:Q16)-1,TRUE),3) -> 0
A23: τ2 | C23: =ROUND(MAX(0, (C20-(COUNT(C2:C16)-1))/(SUM(F2:F16)-(SUM(I2:I16)/SUM(F2:F16)))),3) -> 0.148 | D23: RUNDEN(MAX(0; (C20-(ANZAHL(C2:C16)-1))/(SUMME(F2:F16)-(SUMME(I2:I16)/SUMME(F2:F16))));3) | Q23: =ROUND(MAX(0, (Q20-(COUNT(Q2:Q16)-1))/(SUM(T2:T16)-(SUM(W2:W16)/SUM(T2:T16)))),3) -> 0.318
A25: random pooled gz | C25: =ROUND(SUM(L2:L16)/SUM(J2:J16),3) -> 0.408 | D25: RUNDEN(SUMME(L2:L16)/SUMME(J2:J16);3) | Q25: =ROUND(SUM(Z2:Z16)/SUM(X2:X16),3) -> -0.389
A26: 95% CI | C26: =ROUND(SQRT(1/SUM(J2:J16))*1.96,3) -> 0.212 | D26: RUNDEN(WURZEL(1/SUMME(J2:J16))*1.96;3) | Q26: =ROUND(SQRT(1/SUM(X2:X16))*1.96,3) -> 0.33
A27: 95% PI | C27: =ROUND(TDIST(0.05,COUNT(C2:C16)-1,2)*SQRT(C23+(1/SUM(J2:J16))),3) -> 0.384 | D27: RUNDEN(TVERT(0.05;ANZAHL(C2:C16)-1;2)*WURZEL(C23+(1/SUMME(J2:J16)));3) | Q27: =ROUND(TDIST(0.05,COUNT(Q2:Q16)-1,2)*SQRT(Q23+(1/SUM(X2:X16))),3) -> 0.565
A31: power per time approach | B31: 1/T
A32: 3-min test @ 100 rpm | B32: 100
A33: 180-s all-out | B33: 180
A34: 3-min test @ 60 rpm | B34: 60
A35: 90-s all-out | B35: 90
A36: fatigued (mixed approach) | B36: fat
A37: isokinetic | B37: iso
A38: linear | B38: lin
A39: work over time approach | B39: WT
A40: data extracted from figures | B40: *

Sheet data
E1: EP | F1: CP | G1: EP–CP | H1: WEP | I1: W' | J1: WEP–W' | K1: M_CP | L1: M_W | M1: no. | Q1: =CORREL(E2:E160,F2:F160) -> 0.93310894 | R1: =STEYX(F2:F160,E2:E160) -> 20.998545 | T1: =CORREL(H2:H160,I2:I160) -> 0.49867936 | U1: =STEYX(I2:I160,H2:H160) -> 5.3840573
A2: Vanhatalo et al. (2007) | D2: ="n = "&MAX(M2:M21) -> n = 10 | E2: 173 | F2: 177 | G2: -4 | H2: 9.3 | I2: 9.7 | J2: -0.4 | K2: =AVERAGE(E2:F2) -> 175 | L2: =AVERAGE(H2:I2) -> 9.5 | M2: 1 | N2: 0.9917775 | O2: 0.82936863
C3: WT | E3: 286 | F3: 287 | G3: -1 | H3: 16 | I3: 18.9 | J3: -2.9 | K3: =AVERAGE(E3:F3) -> 286.5 | L3: =AVERAGE(H3:I3) -> 17.45 | M3: 2 | N3: 0.9917775 | O3: 0.82936863
E4: 325 | F4: 337 | G4: -12 | H4: 25.3 | I4: 22.1 | J4: 3.2 | K4: =AVERAGE(E4:F4) -> 331 | L4: =AVERAGE(H4:I4) -> 23.7 | M4: 3 | N4: 0.9917775 | O4: 0.82936863
E5: 351 | F5: 347 | G5: 4 | H5: 12.2 | I5: 11.2 | J5: 1 | K5: =AVERAGE(E5:F5) -> 349 | L5: =AVERAGE(H5:I5) -> 11.7 | M5: 4 | N5: 0.9917775 | O5: 0.82936863
E6: 252 | F6: 247 | G6: 5 | H6: 18 | I6: 16.7 | J6: 1.3 | K6: =AVERAGE(E6:F6) -> 249.5 | L6: =AVERAGE(H6:I6) -> 17.35 | M6: 5 | N6: 0.9917775 | O6: 0.82936863
E7: 262 | F7: 251 | G7: 11 | H7: 12.2 | I7: 18.1 | J7: -5.9 | K7: =AVERAGE(E7:F7) -> 256.5 | L7: =AVERAGE(H7:I7) -> 15.15 | M7: 6 | N7: 0.9917775 | O7: 0.82936863
E8: 316 | F8: 317 | G8: -1 | H8: 16.2 | I8: 17.4 | J8: -1.2 | K8: =AVERAGE(E8:F8) -> 316.5 | L8: =AVERAGE(H8:I8) -> 16.8 | M8: 7 | N8: 0.9917775 | O8: 0.82936863
E9: 334 | F9: 334 | G9: 0 | H9: 11.5 | I9: 14.9 | J9: -3.4 | K9: =AVERAGE(E9:F9) -> 334 | L9: =AVERAGE(H9:I9) -> 13.2 | M9: 8 | N9: 0.9917775 | O9: 0.82936863
E10: 330 | F10: 333 | G10: -3 | H10: 18.1 | I10: 18.4 | J10: -0.3 | K10: =AVERAGE(E10:F10) -> 331.5 | L10: =AVERAGE(H10:I10) -> 18.25 | M10: 9 | N10: 0.9917775 | O10: 0.82936863
E11: 240 | F11: 242 | G11: -2 | H11: 11.3 | I11: 12.7 | J11: -1.4 | K11: =AVERAGE(E11:F11) -> 241 | L11: =AVERAGE(H11:I11) -> 12 | M11: 10 | N11: 0.9917775 | O11: 0.82936863
A12: Vanhatalo et al. (2007) | D12: ="n = "&MAX(M12:M29) -> n = 10 | E12: 173 | F12: 176 | G12: -3 | H12: 9.3 | I12: 9.9 | J12: -0.6 | K12: =AVERAGE(E12:F12) -> 174.5 | L12: =AVERAGE(H12:I12) -> 9.6 | M12: 1 | N12: 0.9917775 | O12: 0.82936863
C13: 1/T | E13: 286 | F13: 296 | G13: -10 | H13: 16 | I13: 16.7 | J13: -0.7 | K13: =AVERAGE(E13:F13) -> 291 | L13: =AVERAGE(H13:I13) -> 16.35 | M13: 2 | N13: 0.9917775 | O13: 0.82936863
E14: 325 | F14: 343 | G14: -18 | H14: 25.3 | I14: 20.5 | J14: 4.8 | K14: =AVERAGE(E14:F14) -> 334 | L14: =AVERAGE(H14:I14) -> 22.9 | M14: 3 | N14: 0.9917775 | O14: 0.82936863
E15: 351 | F15: 347 | G15: 4 | H15: 12.2 | I15: 11.3 | J15: 0.9 | K15: =AVERAGE(E15:F15) -> 349 | L15: =AVERAGE(H15:I15) -> 11.75 | M15: 4 | N15: 0.9917775 | O15: 0.82936863
E16: 252 | F16: 245 | G16: 7 | H16: 18 | I16: 17.1 | J16: 0.9 | K16: =AVERAGE(E16:F16) -> 248.5 | L16: =AVERAGE(H16:I16) -> 17.55 | M16: 5 | N16: 0.9917775 | O16: 0.82936863
E17: 262 | F17: 254 | G17: 8 | H17: 12.2 | I17: 16.9 | J17: -4.7 | K17: =AVERAGE(E17:F17) -> 258 | L17: =AVERAGE(H17:I17) -> 14.55 | M17: 6 | N17: 0.9917775 | O17: 0.82936863
E18: 316 | F18: 320 | G18: -4 | H18: 16.2 | I18: 16.5 | J18: -0.3 | K18: =AVERAGE(E18:F18) -> 318 | L18: =AVERAGE(H18:I18) -> 16.35 | M18: 7 | N18: 0.9917775 | O18: 0.82936863
E19: 334 | F19: 332 | G19: 2 | H19: 11.5 | I19: 15.6 | J19: -4.1 | K19: =AVERAGE(E19:F19) -> 333 | L19: =AVERAGE(H19:I19) -> 13.55 | M19: 8 | N19: 0.9917775 | O19: 0.82936863
E20: 330 | F20: 334 | G20: -4 | H20: 18.1 | I20: 18.2 | J20: -0.1 | K20: =AVERAGE(E20:F20) -> 332 | L20: =AVERAGE(H20:I20) -> 18.15 | M20: 9 | N20: 0.9917775 | O20: 0.82936863
E21: 240 | F21: 247 | G21: -7 | H21: 11.3 | I21: 11 | J21: 0.3 | K21: =AVERAGE(E21:F21) -> 243.5 | L21: =AVERAGE(H21:I21) -> 11.15 | M21: 10 | N21: 0.9917775 | O21: 0.82936863
A22: Barker et al. (2011) | D22: ="n = "&MAX(M22:M33) -> n = 8 | E22: 120 | F22: 180 | G22: -60 | H22: 12.5 | I22: 8.5 | J22: 4 | K22: =AVERAGE(E22:F22) -> 150 | L22: =AVERAGE(H22:I22) -> 10.5 | M22: 1 | N22: 0.51463794 | O22: 0.02879622
C23: 1/T 180 | E23: 146 | F23: 120 | G23: 26 | H23: 8.3 | I23: 16.6 | J23: -8.3 | K23: =AVERAGE(E23:F23) -> 133 | L23: =AVERAGE(H23:I23) -> 12.45 | M23: 2 | N23: 0.52640725 | O23: 0.02879622
E24: 141 | F24: 152 | G24: -11 | H24: 11.8 | I24: 14.9 | J24: -3.1 | K24: =AVERAGE(E24:F24) -> 146.5 | L24: =AVERAGE(H24:I24) -> 13.35 | M24: 3 | N24: 0.52640725 | O24: 0.02879622
E25: 115 | F25: 104 | G25: 11 | H25: 8.5 | I25: 10.1 | J25: -1.6 | K25: =AVERAGE(E25:F25) -> 109.5 | L25: =AVERAGE(H25:I25) -> 9.3 | M25: 4 | N25: 0.52640725 | O25: 0.02879622
E26: 112 | F26: 121 | G26: -9 | H26: 10.9 | I26: 10.5 | J26: 0.4 | K26: =AVERAGE(E26:F26) -> 116.5 | L26: =AVERAGE(H26:I26) -> 10.7 | M26: 5 | N26: 0.52640725 | O26: 0.02879622
E27: 181 | F27: 171 | G27: 10 | H27: 14.5 | I27: 14.2 | J27: 0.3 | K27: =AVERAGE(E27:F27) -> 176 | L27: =AVERAGE(H27:I27) -> 14.35 | M27: 6 | N27: 0.52640725 | O27: 0.02879622
E28: 164 | F28: 160 | G28: 4 | H28: 9.6 | I28: 11.5 | J28: -1.9 | K28: =AVERAGE(E28:F28) -> 162 | L28: =AVERAGE(H28:I28) -> 10.55 | M28: 7 | N28: 0.52640725 | O28: 0.02879622
E29: 192 | F29: 160 | G29: 32 | H29: 9.1 | I29: 10.4 | J29: -1.3 | K29: =AVERAGE(E29:F29) -> 176 | L29: =AVERAGE(H29:I29) -> 9.75 | M29: 8 | N29: 0.52640725 | O29: 0.02879622
A30: Karsten et al. (2013) | D30: ="n = "&MAX(M30:M49) -> n = 13 | E30: 224 | F30: 184 | G30: 40 | H30: 3 | I30: 8 | J30: -5 | K30: =AVERAGE(E30:F30) -> 204 | L30: =AVERAGE(H30:I30) -> 5.5 | M30: 1 | N30: 0.88820285 | O30: 0.56642633
C31: 1/T 90 | E31: 242 | F31: 205 | G31: 37 | H31: 10 | I31: 16 | J31: -6 | K31: =AVERAGE(E31:F31) -> 223.5 | L31: =AVERAGE(H31:I31) -> 13 | M31: 2 | N31: 0.88820285 | O31: 0.56642633
E32: 275 | F32: 201 | G32: 74 | H32: 10.9 | I32: 17 | J32: -6.1 | K32: =AVERAGE(E32:F32) -> 238 | L32: =AVERAGE(H32:I32) -> 13.95 | M32: 3 | N32: 0.88820285 | O32: 0.56642633
E33: 268 | F33: 224 | G33: 44 | H33: 12 | I33: 18 | J33: -6 | K33: =AVERAGE(E33:F33) -> 246 | L33: =AVERAGE(H33:I33) -> 15 | M33: 4 | N33: 0.88820285 | O33: 0.56642633
E34: 262 | F34: 240 | G34: 22 | H34: 14 | I34: 17 | J34: -3 | K34: =AVERAGE(E34:F34) -> 251 | L34: =AVERAGE(H34:I34) -> 15.5 | M34: 5 | N34: 0.88820285 | O34: 0.56642633
E35: 275 | F35: 251 | G35: 24 | H35: 14 | I35: 14 | J35: 0 | K35: =AVERAGE(E35:F35) -> 263 | L35: =AVERAGE(H35:I35) -> 14 | M35: 6 | N35: 0.88820285 | O35: 0.56642633
E36: 294 | F36: 261 | G36: 33 | H36: 11 | I36: 20 | J36: -9 | K36: =AVERAGE(E36:F36) -> 277.5 | L36: =AVERAGE(H36:I36) -> 15.5 | M36: 7 | N36: 0.88820285 | O36: 0.56642633
E37: 294 | F37: 268 | G37: 26 | H37: 10.9 | I37: 22 | J37: -11.1 | K37: =AVERAGE(E37:F37) -> 281 | L37: =AVERAGE(H37:I37) -> 16.45 | M37: 8 | N37: 0.88820285 | O37: 0.56642633
E38: 304 | F38: 269 | G38: 35 | H38: 10.9 | I38: 25 | J38: -14.1 | K38: =AVERAGE(E38:F38) -> 286.5 | L38: =AVERAGE(H38:I38) -> 17.95 | M38: 9 | N38: 0.88820285 | O38: 0.56642633
E39: 297 | F39: 281 | G39: 16 | H39: 12 | I39: 24 | J39: -12 | K39: =AVERAGE(E39:F39) -> 289 | L39: =AVERAGE(H39:I39) -> 18 | M39: 10 | N39: 0.88820285 | O39: 0.56642633
E40: 298 | F40: 295 | G40: 3 | H40: 16 | I40: 25 | J40: -9 | K40: =AVERAGE(E40:F40) -> 296.5 | L40: =AVERAGE(H40:I40) -> 20.5 | M40: 11 | N40: 0.88820285 | O40: 0.56642633
E41: 359 | F41: 300 | G41: 59 | H41: 17 | I41: 18 | J41: -1 | K41: =AVERAGE(E41:F41) -> 329.5 | L41: =AVERAGE(H41:I41) -> 17.5 | M41: 12 | N41: 0.88820285 | O41: 0.56642633
E42: 373 | F42: 313 | G42: 60 | H42: 21 | I42: 19 | J42: 2 | K42: =AVERAGE(E42:F42) -> 343 | L42: =AVERAGE(H42:I42) -> 20 | M42: 13 | N42: 0.88820285 | O42: 0.56642633
A43: Karsten et al. (2013) | D43: ="n = "&MAX(M43:M62) -> n = 13 | E43: 223 | F43: 190 | G43: 33 | H43: 15.3 | I43: 24 | J43: -8.7 | K43: =AVERAGE(E43:F43) -> 206.5 | L43: =AVERAGE(H43:I43) -> 19.65 | M43: 1 | N43: 0.88820285 | O43: 0.56642633
C44: WT | E44: 241 | F44: 207 | G44: 34 | H44: 20.5 | I44: 18 | J44: 2.5 | K44: =AVERAGE(E44:F44) -> 224 | L44: =AVERAGE(H44:I44) -> 19.25 | M44: 2 | N44: 0.88820285 | O44: 0.56642633
E45: 274 | F45: 216 | G45: 58 | H45: 11.1 | I45: 23 | J45: -11.9 | K45: =AVERAGE(E45:F45) -> 245 | L45: =AVERAGE(H45:I45) -> 17.05 | M45: 3 | N45: 0.88820285 | O45: 0.56642633
E46: 267 | F46: 240 | G46: 27 | H46: 10 | I46: 19 | J46: -9 | K46: =AVERAGE(E46:F46) -> 253.5 | L46: =AVERAGE(H46:I46) -> 14.5 | M46: 4 | N46: 0.88820285 | O46: 0.56642633
E47: 261 | F47: 254 | G47: 7 | H47: 10 | I47: 18 | J47: -8 | K47: =AVERAGE(E47:F47) -> 257.5 | L47: =AVERAGE(H47:I47) -> 14 | M47: 5 | N47: 0.88820285 | O47: 0.56642633
E48: 274 | F48: 257 | G48: 17 | H48: 10 | I48: 17 | J48: -7 | K48: =AVERAGE(E48:F48) -> 265.5 | L48: =AVERAGE(H48:I48) -> 13.5 | M48: 6 | N48: 0.88820285 | O48: 0.56642633
E49: 293 | F49: 262 | G49: 31 | H49: 11.1 | I49: 18 | J49: -6.9 | K49: =AVERAGE(E49:F49) -> 277.5 | L49: =AVERAGE(H49:I49) -> 14.55 | M49: 7 | N49: 0.88820285 | O49: 0.56642633
E50: 303 | F50: 270 | G50: 33 | H50: 9 | I50: 15 | J50: -6 | K50: =AVERAGE(E50:F50) -> 286.5 | L50: =AVERAGE(H50:I50) -> 12 | M50: 8 | N50: 0.88820285 | O50: 0.56642633
E51: 293 | F51: 277 | G51: 16 | H51: 13.2 | I51: 15 | J51: -1.8 | K51: =AVERAGE(E51:F51) -> 285 | L51: =AVERAGE(H51:I51) -> 14.1 | M51: 9 | N51: 0.88820285 | O51: 0.56642633
E52: 296 | F52: 283 | G52: 13 | H52: 16.4 | I52: 16 | J52: 0.4 | K52: =AVERAGE(E52:F52) -> 289.5 | L52: =AVERAGE(H52:I52) -> 16.2 | M52: 10 | N52: 0.88820285 | O52: 0.56642633
E53: 298 | F53: 293 | G53: 5 | H53: 13.2 | I53: 10 | J53: 3.2 | K53: =AVERAGE(E53:F53) -> 295.5 | L53: =AVERAGE(H53:I53) -> 11.6 | M53: 11 | N53: 0.88820285 | O53: 0.56642633
E54: 359 | F54: 302 | G54: 57 | H54: 1.6 | I54: 6 | J54: -4.4 | K54: =AVERAGE(E54:F54) -> 330.5 | L54: =AVERAGE(H54:I54) -> 3.8 | M54: 12 | N54: 0.88820285 | O54: 0.56642633
E55: 372 | F55: 318 | G55: 54 | H55: 1.6 | I55: 6 | K55: =AVERAGE(E55:F55) -> 345 | L55: =AVERAGE(H55:I55) -> 3.8 | M55: 13 | N55: 0.88820285 | O55: 0.56642633
A56: Dekerle et al. (2013) | D56: ="n = "&MAX(M56:M75) -> n = 9 | E56: 307 | F56: 289 | G56: 18 | H56: 15.7 | I56: 22.4 | J56: -6.7 | K56: =AVERAGE(E56:F56) -> 298 | L56: =AVERAGE(H56:I56) -> 19.05 | M56: 1 | N56: 0.73787463 | O56: -0.11241951
C57: 1/T 100 | E57: 182 | F57: 201 | G57: -19 | H57: 19.4 | I57: 11 | J57: 8.4 | K57: =AVERAGE(E57:F57) -> 191.5 | L57: =AVERAGE(H57:I57) -> 15.2 | M57: 2 | N57: 0.73787463 | O57: -0.11241951
E58: 249 | F58: 222 | G58: 27 | H58: 17.6 | I58: 20.5 | J58: -2.9 | K58: =AVERAGE(E58:F58) -> 235.5 | L58: =AVERAGE(H58:I58) -> 19.05 | M58: 3 | N58: 0.73787463 | O58: -0.11241951
E59: 155 | F59: 158 | G59: -3 | H59: 17.9 | I59: 11.6 | J59: 6.3 | K59: =AVERAGE(E59:F59) -> 156.5 | L59: =AVERAGE(H59:I59) -> 14.75 | M59: 4 | N59: 0.73787463 | O59: -0.11241951
E60: 155 | F60: 155 | G60: 0 | H60: 18.1 | I60: 29.8 | J60: -11.7 | K60: =AVERAGE(E60:F60) -> 155 | L60: =AVERAGE(H60:I60) -> 23.95 | M60: 5 | N60: 0.73787463 | O60: -0.11241951
E61: 182 | F61: 228 | G61: -46 | H61: 14.4 | I61: 22.4 | J61: -8 | K61: =AVERAGE(E61:F61) -> 205 | L61: =AVERAGE(H61:I61) -> 18.4 | M61: 6 | N61: 0.73787463 | O61: -0.11241951
E62: 272 | F62: 206 | G62: 66 | H62: 12.3 | I62: 26.1 | J62: -13.8 | K62: =AVERAGE(E62:F62) -> 239 | L62: =AVERAGE(H62:I62) -> 19.2 | M62: 7 | N62: 0.73787463 | O62: -0.11241951
E63: 246 | F63: 258 | G63: -12 | H63: 23.3 | I63: 25 | J63: -1.7 | K63: =AVERAGE(E63:F63) -> 252 | L63: =AVERAGE(H63:I63) -> 24.15 | M63: 8 | N63: 0.73787463 | O63: -0.11241951
E64: 296 | F64: 187 | G64: 109 | H64: 17 | I64: 16.6 | J64: 0.4 | K64: =AVERAGE(E64:F64) -> 241.5 | L64: =AVERAGE(H64:I64) -> 16.8 | M64: 9 | N64: 0.73787463 | O64: -0.11241951
A65: Dekerle et al. (2013) | D65: ="n = "&MAX(M65:M73) -> n = 9 | E65: 304 | F65: 308 | G65: -4 | H65: 16 | I65: 13.3 | J65: 2.7 | K65: =AVERAGE(E65:F65) -> 306 | L65: =AVERAGE(H65:I65) -> 14.65 | M65: 1 | N65: 0.73787463 | O65: -0.11241951
C66: 1/T 60 | E66: 215 | F66: 198 | G66: 17 | H66: 17.9 | I66: 13.3 | J66: 4.6 | K66: =AVERAGE(E66:F66) -> 206.5 | L66: =AVERAGE(H66:I66) -> 15.6 | M66: 2 | N66: 0.73787463 | O66: -0.11241951
E67: 264 | F67: 260 | G67: 4 | H67: 19.4 | I67: 13.9 | J67: 5.5 | K67: =AVERAGE(E67:F67) -> 262 | L67: =AVERAGE(H67:I67) -> 16.65 | M67: 3 | N67: 0.73787463 | O67: -0.11241951
E68: 188 | F68: 212 | G68: -24 | H68: 14.4 | I68: 18.4 | J68: -4 | K68: =AVERAGE(E68:F68) -> 200 | L68: =AVERAGE(H68:I68) -> 16.4 | M68: 4 | N68: 0.73787463 | O68: -0.11241951
E69: 240 | F69: 225 | G69: 15 | H69: 16.1 | I69: 13.3 | J69: 2.8 | K69: =AVERAGE(E69:F69) -> 232.5 | L69: =AVERAGE(H69:I69) -> 14.7 | M69: 5 | N69: 0.73787463 | O69: -0.11241951
E70: 311 | F70: 284 | G70: 27 | H70: 13 | I70: 15.9 | J70: -2.9 | K70: =AVERAGE(E70:F70) -> 297.5 | L70: =AVERAGE(H70:I70) -> 14.45 | M70: 6 | N70: 0.73787463 | O70: -0.11241951
E71: 273 | F71: 241 | G71: 32 | H71: 11 | I71: 24 | J71: -13 | K71: =AVERAGE(E71:F71) -> 257 | L71: =AVERAGE(H71:I71) -> 17.5 | M71: 7 | N71: 0.73787463 | O71: -0.11241951
E72: 283 | F72: 269 | G72: 14 | H72: 14.3 | I72: 16.7 | J72: -2.4 | K72: =AVERAGE(E72:F72) -> 276 | L72: =AVERAGE(H72:I72) -> 15.5 | M72: 8 | N72: 0.73787463 | O72: -0.11241951
E73: 252 | F73: 203 | G73: 49 | H73: 10.2 | I73: 16.8 | J73: -6.6 | K73: =AVERAGE(E73:F73) -> 227.5 | L73: =AVERAGE(H73:I73) -> 13.5 | M73: 9 | N73: 0.73787463 | O73: -0.11241951
A74: Clark et al. (2016) | D74: ="n = "&MAX(M74:M93) -> n = 10 | E74: 220 | F74: 225 | G74: -5 | H74: 15.26 | I74: 14.55 | J74: 0.71 | K74: =AVERAGE(E74:F74) -> 222.5 | L74: =AVERAGE(H74:I74) -> 14.905 | M74: 1 | N74: 0.9788958 | O74: 0.84970763
C75: 1/T 60 | E75: 195 | F75: 201 | G75: -6 | H75: 14.04 | I75: 15.54 | J75: -1.5 | K75: =AVERAGE(E75:F75) -> 198 | L75: =AVERAGE(H75:I75) -> 14.79 | M75: 2 | N75: 0.9788958 | O75: 0.84970763
E76: 297 | F76: 286 | G76: 11 | H76: 16.95 | I76: 23.21 | J76: -6.26 | K76: =AVERAGE(E76:F76) -> 291.5 | L76: =AVERAGE(H76:I76) -> 20.08 | M76: 3 | N76: 0.9788958 | O76: 0.84970763
E77: 240 | F77: 217 | G77: 23 | H77: 12.3 | I77: 20.25 | J77: -7.95 | K77: =AVERAGE(E77:F77) -> 228.5 | L77: =AVERAGE(H77:I77) -> 16.275 | M77: 4 | N77: 0.9788958 | O77: 0.84970763
E78: 193 | F78: 195 | G78: -2 | H78: 8.11 | I78: 4.11 | J78: 4 | K78: =AVERAGE(E78:F78) -> 194 | L78: =AVERAGE(H78:I78) -> 6.11 | M78: 5 | N78: 0.9788958 | O78: 0.84970763
E79: 179 | F79: 178 | G79: 1 | H79: 5.13 | I79: 5.61 | J79: -0.48 | K79: =AVERAGE(E79:F79) -> 178.5 | L79: =AVERAGE(H79:I79) -> 5.37 | M79: 6 | N79: 0.9788958 | O79: 0.84970763
E80: 164 | F80: 168 | G80: -4 | H80: 8.12 | I80: 7.1 | J80: 1.02 | K80: =AVERAGE(E80:F80) -> 166 | L80: =AVERAGE(H80:I80) -> 7.61 | M80: 7 | N80: 0.9788958 | O80: 0.84970763
E81: 188 | F81: 189 | G81: -1 | H81: 8.52 | I81: 8.04 | J81: 0.48 | K81: =AVERAGE(E81:F81) -> 188.5 | L81: =AVERAGE(H81:I81) -> 8.28 | M81: 8 | N81: 0.9788958 | O81: 0.84970763
E82: 209 | F82: 209 | G82: 0 | H82: 8.07 | I82: 8.15 | J82: -0.08 | K82: =AVERAGE(E82:F82) -> 209 | L82: =AVERAGE(H82:I82) -> 8.11 | M82: 9 | N82: 0.9788958 | O82: 0.84970763
E83: 260 | F83: 254 | G83: 6 | H83: 15.08 | I83: 14.03 | J83: 1.05 | K83: =AVERAGE(E83:F83) -> 257 | L83: =AVERAGE(H83:I83) -> 14.555 | M83: 10 | N83: 0.9788958 | O83: 0.84970763
A84: Clark et al. (2016) | D84: ="n = "&MAX(M84:M103) -> n = 10 | E84: 220 | F84: 228 | G84: -8 | H84: 15.26 | I84: 13.54 | J84: 1.72 | K84: =AVERAGE(E84:F84) -> 224 | L84: =AVERAGE(H84:I84) -> 14.4 | M84: 1 | N84: 0.9788958 | O84: 0.84970763
C85: 1/T 100 | E85: 195 | F85: 204 | G85: -9 | H85: 14.04 | I85: 14.38 | J85: -0.34 | K85: =AVERAGE(E85:F85) -> 199.5 | L85: =AVERAGE(H85:I85) -> 14.21 | M85: 2 | N85: 0.9788958 | O85: 0.84970763
E86: 297 | F86: 287 | G86: 10 | H86: 16.95 | I86: 22.72 | J86: -5.77 | K86: =AVERAGE(E86:F86) -> 292 | L86: =AVERAGE(H86:I86) -> 19.835 | M86: 3 | N86: 0.9788958 | O86: 0.84970763
E87: 240 | F87: 217 | G87: 23 | H87: 12.3 | I87: 20.24 | J87: -7.94 | K87: =AVERAGE(E87:F87) -> 228.5 | L87: =AVERAGE(H87:I87) -> 16.27 | M87: 4 | N87: 0.9788958 | O87: 0.84970763
E88: 193 | F88: 196 | G88: -3 | H88: 8.11 | I88: 3.85 | J88: 4.26 | K88: =AVERAGE(E88:F88) -> 194.5 | L88: =AVERAGE(H88:I88) -> 5.98 | M88: 5 | N88: 0.9788958 | O88: 0.84970763
E89: 179 | F89: 178 | G89: 1 | H89: 5.13 | I89: 5.54 | J89: -0.41 | K89: =AVERAGE(E89:F89) -> 178.5 | L89: =AVERAGE(H89:I89) -> 5.335 | M89: 6 | N89: 0.9788958 | O89: 0.84970763
E90: 164 | F90: 170 | G90: -6 | H90: 8.12 | I90: 6.46 | J90: 1.66 | K90: =AVERAGE(E90:F90) -> 167 | L90: =AVERAGE(H90:I90) -> 7.29 | M90: 7 | N90: 0.9788958 | O90: 0.84970763
E91: 188 | F91: 189 | G91: -1 | H91: 8.52 | I91: 8.03 | J91: 0.49 | K91: =AVERAGE(E91:F91) -> 188.5 | L91: =AVERAGE(H91:I91) -> 8.275 | M91: 8 | N91: 0.9788958 | O91: 0.84970763
E92: 209 | F92: 207 | G92: 2 | H92: 8.07 | I92: 8.83 | J92: -0.76 | K92: =AVERAGE(E92:F92) -> 208 | L92: =AVERAGE(H92:I92) -> 8.45 | M92: 9 | N92: 0.9788958 | O92: 0.84970763
E93: 260 | F93: 256 | G93: 4 | H93: 15.08 | I93: 13.37 | J93: 1.71 | K93: =AVERAGE(E93:F93) -> 258 | L93: =AVERAGE(H93:I93) -> 14.225 | M93: 10 | N93: 0.9788958 | O93: 0.84970763
A94: Bartram et al. (2017) | D94: ="n = "&MAX(M94:M99) -> n = 6 | E94: 375 | F94: 324 | G94: 51 | H94: 12.4 | I94: 25.8 | J94: -13.4 | K94: =AVERAGE(E94:F94) -> 349.5 | L94: =AVERAGE(H94:I94) -> 19.1 | M94: 1 | N94: 0.79674426 | O94: -0.38108653
C95: 1/T | E95: 380 | F95: 371 | G95: 9 | H95: 12.9 | I95: 21.8 | J95: -8.9 | K95: =AVERAGE(E95:F95) -> 375.5 | L95: =AVERAGE(H95:I95) -> 17.35 | M95: 2 | N95: 0.79674426 | O95: -0.38108653
E96: 418 | F96: 357 | G96: 61 | H96: 15 | I96: 25.9 | J96: -10.9 | K96: =AVERAGE(E96:F96) -> 387.5 | L96: =AVERAGE(H96:I96) -> 20.45 | M96: 3 | N96: 0.79674426 | O96: -0.38108653
E97: 411 | F97: 343 | G97: 68 | H97: 15.4 | I97: 20.9 | J97: -5.5 | K97: =AVERAGE(E97:F97) -> 377 | L97: =AVERAGE(H97:I97) -> 18.15 | M97: 4 | N97: 0.79674426 | O97: -0.38108653
E98: 365 | F98: 313 | G98: 52 | H98: 15.4 | I98: 31.6 | J98: -16.2 | K98: =AVERAGE(E98:F98) -> 339 | L98: =AVERAGE(H98:I98) -> 23.5 | M98: 5 | N98: 0.79674426 | O98: -0.38108653
E99: 464 | F99: 395 | G99: 69 | H99: 21.7 | I99: 19.7 | J99: 2 | K99: =AVERAGE(E99:F99) -> 429.5 | L99: =AVERAGE(H99:I99) -> 20.7 | M99: 6 | N99: 0.79674426 | O99: -0.38108653
A100: Wright et al. (2017) | D100: ="n = "&MAX(M100:M119) -> n = 12 | E100: 215.4 | F100: 195 | G100: 20.4 | H100: 29.5 | I100: 33.7 | J100: -4.2 | K100: =AVERAGE(E100:F100) -> 205.2 | L100: =AVERAGE(H100:I100) -> 31.6 | M100: 1 | N100: 0.70582761 | O100: 0.60251137
...

Sheet Vanhatalo 07 WT
B1: EP | C1: CP | D1: EP–CP | E1: WEP | F1: W' | G1: WEP–W' | H1: no.
B2: 173 | C2: 177 | D2: -4 | E2: 9.3 | F2: 9.7 | G2: -0.4 | H2: 1 | I2: Vanhatalo et al. (2007) WT | L2: ="n = "&MAX(H2:H19) -> n = 10
B3: 286 | C3: 287 | D3: -1 | E3: 16 | F3: 18.9 | G3: -2.9 | H3: 2
B4: 325 | C4: 337 | D4: -12 | E4: 25.3 | F4: 22.1 | G4: 3.2 | H4: 3
B5: 351 | C5: 347 | D5: 4 | E5: 12.2 | F5: 11.2 | G5: 1 | H5: 4
B6: 252 | C6: 247 | D6: 5 | E6: 18 | F6: 16.7 | G6: 1.3 | H6: 5
B7: 262 | C7: 251 | D7: 11 | E7: 12.2 | F7: 18.1 | G7: -5.9 | H7: 6
B8: 316 | C8: 317 | D8: -1 | E8: 16.2 | F8: 17.4 | G8: -1.2 | H8: 7
B9: 334 | C9: 334 | D9: 0 | E9: 11.5 | F9: 14.9 | G9: -3.4 | H9: 8
B10: 330 | C10: 333 | D10: -3 | E10: 18.1 | F10: 18.4 | G10: -0.3 | H10: 9
B11: 240 | C11: 242 | D11: -2 | E11: 11.3 | F11: 12.7 | G11: -1.4 | H11: 10
A22: M | B22: =AVERAGE(B2:B21) -> 286.9 | C22: =AVERAGE(C2:C21) -> 287.2 | D22: =AVERAGE(D2:D21) -> -0.3 | E22: =AVERAGE(E2:E21) -> 15.01 | F22: =AVERAGE(F2:F21) -> 16.01 | G22: =AVERAGE(G2:G21) -> -1
A23: SD | B23: =_xlfn.STDEV.S(B2:B21) -> 55.271954 | C23: =_xlfn.STDEV.S(C2:C21) -> 56.120505 | D23: =_xlfn.STDEV.S(D2:D21) -> 6.1110101 | E23: =_xlfn.STDEV.S(E2:E21) -> 4.7287419 | F23: =_xlfn.STDEV.S(F2:F21) -> 3.8451846 | G23: =_xlfn.STDEV.S(G2:G21) -> 2.6110875
B25: CP | C25: CLES | D25: =ROUND(_xlfn.NORM.S.DIST(B27/SQRT(2),TRUE),3) -> 0.486 | E25: W | F25: CLES | G25: =ROUND(_xlfn.NORM.S.DIST(E27/SQRT(2),TRUE),3) -> 0.393
B26: dz | C26: r | D26: SEE | E26: dz | F26: r | G26: SEE
B27: =D22/D23 -> -0.049091721 | C27: =CORREL(B2:B21,C2:C21) -> 0.99409644 | D27: =STEYX(C2:C21,B2:B21) -> 6.4584456 | E27: =G22/G23 -> -0.38298219 | F27: =CORREL(E2:E21,F2:F21) -> 0.83398938 | G27: =STEYX(F2:F21,E2:E21) -> 2.2504004
B29: J | C29: gz | D29: Vg | E29: J | F29: gz | G29: Vg
B30: =ROUND((1-(3/(4*COUNT(B2:B21)-9))),3) -> 0.903 | C30: =ROUND(B27*B30,3) -> -0.044 | D30: =ROUND( ((1/COUNT(D2:D21))+((B27^2)/(2*(COUNT(D2:D21)))))*2*(1-C27)*(B30^2),3) -> 0.001 | E30: =ROUND((1-(3/(4*COUNT(E2:E21)-9))),3) -> 0.903 | F30: =ROUND(E27*E30,3) -> -0.346 | G30: =ROUND( ((1/COUNT(G2:G21))+((E27^2)/(2*(COUNT(G2:G21)))))*2*(1-F27)*(E30^2),3) -> 0.029

Sheet Vanhatalo 07 1T
B1: EP | C1: CP | D1: EP–CP | E1: WEP | F1: W' | G1: WEP–W' | H1: no.
B2: 173 | C2: 176 | D2: -3 | E2: 9.3 | F2: 9.9 | G2: -0.6 | H2: 1 | I2: Vanhatalo et al. (2007) 1/T | L2: ="n = "&MAX(H2:H21) -> n = 10
B3: 286 | C3: 296 | D3: -10 | E3: 16 | F3: 16.7 | G3: -0.7 | H3: 2
B4: 325 | C4: 343 | D4: -18 | E4: 25.3 | F4: 20.5 | G4: 4.8 | H4: 3
B5: 351 | C5: 347 | D5: 4 | E5: 12.2 | F5: 11.3 | G5: 0.9 | H5: 4
B6: 252 | C6: 245 | D6: 7 | E6: 18 | F6: 17.1 | G6: 0.9 | H6: 5
B7: 262 | C7: 254 | D7: 8 | E7: 12.2 | F7: 16.9 | G7: -4.7 | H7: 6
B8: 316 | C8: 320 | D8: -4 | E8: 16.2 | F8: 16.5 | G8: -0.3 | H8: 7
B9: 334 | C9: 332 | D9: 2 | E9: 11.5 | F9: 15.6 | G9: -4.1 | H9: 8
B10: 330 | C10: 334 | D10: -4 | E10: 18.1 | F10: 18.2 | G10: -0.1 | H10: 9
B11: 240 | C11: 247 | D11: -7 | E11: 11.3 | F11: 11 | G11: 0.3 | H11: 10
A22: M | B22: =AVERAGE(B2:B21) -> 286.9 | C22: =AVERAGE(C2:C21) -> 289.4 | D22: =AVERAGE(D2:D21) -> -2.5 | E22: =AVERAGE(E2:E21) -> 15.01 | F22: =AVERAGE(F2:F21) -> 15.37 | G22: =AVERAGE(G2:G21) -> -0.36
A23: SD | B23: =_xlfn.STDEV.S(B2:B21) -> 55.271954 | C23: =_xlfn.STDEV.S(C2:C21) -> 56.623905 | D23: =_xlfn.STDEV.S(D2:D21) -> 8.0588116 | E23: =_xlfn.STDEV.S(E2:E21) -> 4.7287419 | F23: =_xlfn.STDEV.S(F2:F21) -> 3.4695661 | G23: =_xlfn.STDEV.S(G2:G21) -> 2.652127
B25: CP | C25: CLES | D25: =ROUND(_xlfn.NORM.S.DIST(B27/SQRT(2),TRUE),3) -> 0.413 | E25: W | F25: CLES | G25: =ROUND(_xlfn.NORM.S.DIST(E27/SQRT(2),TRUE),3) -> 0.462
B26: dz | C26: r | D26: SEE | E26: dz | F26: r | G26: SEE
B27: =D22/D23 -> -0.31021944 | C27: =CORREL(B2:B21,C2:C21) -> 0.98991654 | D27: =STEYX(C2:C21,B2:B21) -> 8.5074272 | E27: =G22/G23 -> -0.1357401 | F27: =CORREL(E2:E21,F2:F21) -> 0.83396235 | G27: =STEYX(F2:F21,E2:E21) -> 2.0307194
B29: J | C29: gz | D29: Vg | E29: J | F29: gz | G29: Vg
B30: =ROUND((1-(3/(4*COUNT(B2:B21)-9))),3) -> 0.903 | C30: =ROUND(B27*B30,3) -> -0.28 | D30: =ROUND( ((1/COUNT(D2:D21))+((B27^2)/(2*(COUNT(D2:D21)))))*2*(1-C27)*(B30^2),3) -> 0.002 | E30: =ROUND((1-(3/(4*COUNT(E2:E21)-9))),3) -> 0.903 | F30: =ROUND(E27*E30,3) -> -0.123 | G30: =ROUND( ((1/COUNT(G2:G21))+((E27^2)/(2*(COUNT(G2:G21)))))*2*(1-F27)*(E30^2),3) -> 0.027

Sheet Baker 11 1T 180
B1: EP | C1: CP | D1: EP–CP | E1: WEP | F1: W' | G1: WEP–W' | H1: no.
B2: 120 | C2: 180 | D2: -60 | E2: 12.5 | F2: 8.5 | G2: 4 | H2: 1 | I2: Barker et al. (2011) 1/T 180 | L2: ="n = "&MAX(H2:H21) -> n = 8
B3: 146 | C3: 120 | D3: 26 | E3: 8.3 | F3: 16.6 | G3: -8.3 | H3: 2
B4: 141 | C4: 152 | D4: -11 | E4: 11.8 | F4: 14.9 | G4: -3.1 | H4: 3
B5: 115 | C5: 104 | D5: 11 | E5: 8.5 | F5: 10.1 | G5: -1.6 | H5: 4
B6: 112 | C6: 121 | D6: -9 | E6: 10.9 | F6: 10.5 | G6: 0.4 | H6: 5
B7: 181 | C7: 171 | D7: 10 | E7: 14.5 | F7: 14.2 | G7: 0.3 | H7: 6
B8: 164 | C8: 160 | D8: 4 | E8: 9.6 | F8: 11.5 | G8: -1.9 | H8: 7
B9: 192 | C9: 160 | D9: 32 | E9: 9.1 | F9: 10.4 | G9: -1.3 | H9: 8
A22: M | B22: =AVERAGE(B2:B21) -> 146.375 | C22: =AVERAGE(C2:C21) -> 146 | D22: =AVERAGE(D2:D21) -> 0.375 | E22: =AVERAGE(E2:E21) -> 10.65 | F22: =AVERAGE(F2:F21) -> 12.0875 | G22: =AVERAGE(G2:G21) -> -1.4375
A23: SD | B23: =_xlfn.STDEV.S(B2:B21) -> 30.429955 | C23: =_xlfn.STDEV.S(C2:C21) -> 27.448653 | D23: =_xlfn.STDEV.S(D2:D21) -> 28.630341 | E23: =_xlfn.STDEV.S(E2:E21) -> 2.1804325 | F23: =_xlfn.STDEV.S(F2:F21) -> 2.8098996 | G23: =_xlfn.STDEV.S(G2:G21) -> 3.5067028
B25: CP | C25: CLES | D25: =ROUND(_xlfn.NORM.S.DIST(B27/SQRT(2),TRUE),3) -> 0.504 | E25: W | F25: CLES | G25: =ROUND(_xlfn.NORM.S.DIST(E27/SQRT(2),TRUE),3) -> 0.386
B26: dz | C26: r | D26: SEE | E26: dz | F26: r | G26: SEE
B27: =D22/D23 -> 0.013097993 | C27: =CORREL(B2:B21,C2:C21) -> 0.51463794 | D27: =STEYX(C2:C21,B2:B21) -> 25.420364 | E27: =G22/G23 -> -0.40992924 | F27: =CORREL(E2:E21,F2:F21) -> 0.02879622 | G27: =STEYX(F2:F21,E2:E21) -> 3.0337798
B29: J | C29: gz | D29: Vg | E29: J | F29: gz | G29: Vg
B30: =ROUND((1-(3/(4*COUNT(B2:B21)-9))),3) -> 0.87 | C30: =ROUND(B27*B30,3) -> 0.011 | D30: =ROUND( ((1/COUNT(D2:D21))+((B27^2)/(2*(COUNT(D2:D21)))))*2*(1-C27)*(B30^2),3) -> 0.092 | E30: =ROUND((1-(3/(4*COUNT(E2:E21)-9))),3) -> 0.87 | F30: =ROUND(E27*E30,3) -> -0.357 | G30: =ROUND( ((1/COUNT(G2:G21))+((E27^2)/(2*(COUNT(G2:G21)))))*2*(1-F27)*(E30^2),3) -> 0.199

Sheet Baker 11 1T 90
B1: EP | C1: CP | D1: EP–CP | E1: WEP | F1: W' | G1: WEP–W' | H1: no.
B2: 130 | C2: 180 | D2: -50 | E2: 11.1 | F2: 8.5 | G2: 2.6 | H2: 1 | I2: Barker et al. (2011) 1/T 90 | L2: ="n = "&MAX(H2:H21) -> n = 8
B3: 144 | C3: 120 | D3: 24 | E3: 8.2 | F3: 16.6 | G3: -8.4 | H3: 2
B4: 152 | C4: 152 | D4: 0 | E4: 10.5 | F4: 14.9 | G4: -4.4 | H4: 3
B5: 131 | C5: 104 | D5: 27 | E5: 6.7 | F5: 10.1 | G5: -3.4 | H5: 4
B6: 103 | C6: 121 | D6: -18 | E6: 11.6 | F6: 10.5 | G6: 1.1 | H6: 5
B7: 196 | C7: 171 | D7: 25 | E7: 12.3 | F7: 14.2 | G7: -1.9 | H7: 6
B8: 150 | C8: 160 | D8: -10 | E8: 10.3 | F8: 11.5 | G8: -1.2 | H8: 7
B9: 176 | C9: 160 | D9: 16 | E9: 10 | F9: 10.4 | G9: -0.4 | H9: 8
A22: M | B22: =AVERAGE(B2:B21) -> 147.75 | C22: =AVERAGE(C2:C21) -> 146 | D22: =AVERAGE(D2:D21) -> 1.75 | E22: =AVERAGE(E2:E21) -> 10.0875 | F22: =AVERAGE(F2:F21) -> 12.0875 | G22: =AVERAGE(G2:G21) -> -2
A23: SD | B23: =_xlfn.STDEV.S(B2:B21) -> 28.689221 | C23: =_xlfn.STDEV.S(C2:C21) -> 27.448653 | D23: =_xlfn.STDEV.S(D2:D21) -> 26.953664 | E23: =_xlfn.STDEV.S(E2:E21) -> 1.8310321 | F23: =_xlfn.STDEV.S(F2:F21) -> 2.8098996 | G23: =_xlfn.STDEV.S(G2:G21) -> 3.4363602
B25: CP | C25: CLES | D25: =ROUND(_xlfn.NORM.S.DIST(B27/SQRT(2),TRUE),3) -> 0.518 | E25: W | F25: CLES | G25: =ROUND(_xlfn.NORM.S.DIST(E27/SQRT(2),TRUE),3) -> 0.34
B26: dz | C26: r | D26: SEE | E26: dz | F26: r | G26: SEE
B27: =D22/D23 -> 0.064926238 | C27: =CORREL(B2:B21,C2:C21) -> 0.53969591 | D27: =STEYX(C2:C21,B2:B21) -> 24.959411 | E27: =G22/G23 -> -0.58201116 | F27: =CORREL(E2:E21,F2:F21) -> -0.054456303 | G27: =STEYX(F2:F21,E2:E21) -> 3.0305349
B29: J | C29: gz | D29: Vg | E29: J | F29: gz | G29: Vg
B30: =ROUND((1-(3/(4*COUNT(B2:B21)-9))),3) -> 0.87 | C30: =ROUND(B27*B30,3) -> 0.056 | D30: =ROUND( ((1/COUNT(D2:D21))+((B27^2)/(2*(COUNT(D2:D21)))))*2*(1-C27)*(B30^2),3) -> 0.087 | E30: =ROUND((1-(3/(4*COUNT(E2:E21)-9))),3) -> 0.87 | F30: =ROUND(E27*E30,3) -> -0.506 | G30: =ROUND( ((1/COUNT(G2:G21))+((E27^2)/(2*(COUNT(G2:G21)))))*2*(1-F27)*(E30^2),3) -> 0.233

Sheet Karsten 13 WT
B1: EP | C1: CP | D1: EP–CP | E1: WEP | F1: W' | G1: WEP–W' | H1: no.
B2: ='Fig-Tool'!F8 -> 224 | C2: ='Fig-Tool'!E8 -> 184 | D2: 40 | E2: ='Fig-Tool'!U8 -> 3 | F2: ='Fig-Tool'!T8 -> 8 | G2: -5 | H2: 1 | I2: Karsten et al. (2013) WT | L2: ="n = "&MAX(H2:H21) -> n = 13
B3: ='Fig-Tool'!F9 -> 242 | C3: ='Fig-Tool'!E9 -> 205 | D3: 37 | E3: ='Fig-Tool'!U9 -> 10 | F3: ='Fig-Tool'!T9 -> 16 | G3: -6 | H3: 2
B4: ='Fig-Tool'!F10 -> 275 | C4: ='Fig-Tool'!E10 -> 201 | D4: 74 | E4: ='Fig-Tool'!U10 -> 10.9 | F4: ='Fig-Tool'!T10 -> 17 | G4: -6.1 | H4: 3
B5: ='Fig-Tool'!F11 -> 268 | C5: ='Fig-Tool'!E11 -> 224 | D5: 44 | E5: ='Fig-Tool'!U11 -> 12 | F5: ='Fig-Tool'!T11 -> 18 | G5: -6 | H5: 4
B6: ='Fig-Tool'!F12 -> 262 | C6: ='Fig-Tool'!E12 -> 240 | D6: 22 | E6: ='Fig-Tool'!U12 -> 14 | F6: ='Fig-Tool'!T12 -> 17 | G6: -3 | H6: 5
B7: ='Fig-Tool'!F13 -> 275 | C7: ='Fig-Tool'!E13 -> 251 | D7: 24 | E7: ='Fig-Tool'!U13 -> 14 | F7: ='Fig-Tool'!T13 -> 14 | G7: 0 | H7: 6
B8: ='Fig-Tool'!F14 -> 294 | C8: ='Fig-Tool'!E14 -> 261 | D8: 33 | E8: ='Fig-Tool'!U14 -> 11 | F8: ='Fig-Tool'!T14 -> 20 | G8: -9 | H8: 7
B9: ='Fig-Tool'!F15 -> 294 | C9: ='Fig-Tool'!E15 -> 268 | D9: 26 | E9: ='Fig-Tool'!U15 -> 10.9 | F9: ='Fig-Tool'!T15 -> 22 | G9: -11.1 | H9: 8
B10: ='Fig-Tool'!F16 -> 304 | C10: ='Fig-Tool'!E16 -> 269 | D10: 35 | E10: ='Fig-Tool'!U16 -> 10.9 | F10: ='Fig-Tool'!T16 -> 25 | G10: -14.1 | H10: 9
B11: ='Fig-Tool'!F17 -> 297 | C11: ='Fig-Tool'!E17 -> 281 | D11: 16 | E11: ='Fig-Tool'!U17 -> 12 | F11: ='Fig-Tool'!T17 -> 24 | G11: -12 | H11: 10
B12: ='Fig-Tool'!F18 -> 298 | C12: ='Fig-Tool'!E18 -> 295 | D12: 3 | E12: ='Fig-Tool'!U18 -> 16 | F12: ='Fig-Tool'!T18 -> 25 | G12: -9 | H12: 11
B13: ='Fig-Tool'!F19 -> 359 | C13: ='Fig-Tool'!E19 -> 300 | D13: 59 | E13: ='Fig-Tool'!U19 -> 17 | F13: ='Fig-Tool'!T19 -> 18 | G13: -1 | H13: 12
B14: ='Fig-Tool'!F20 -> 373 | C14: ='Fig-Tool'!E20 -> 313 | D14: 60 | E14: ='Fig-Tool'!U20 -> 21 | F14: ='Fig-Tool'!T20 -> 19 | G14: 2 | H14: 13
A22: M | B22: =AVERAGE(B2:B21) -> 289.61538 | C22: =AVERAGE(C2:C21) -> 253.23077 | D22: =AVERAGE(D2:D21) -> 36.384615 | E22: =AVERAGE(E2:E21) -> 12.515385 | F22: =AVERAGE(F2:F21) -> 18.692308 | G22: =AVERAGE(G2:G21) -> -6.1769231
A23: SD | B23: =_xlfn.STDEV.S(B2:B21) -> 41.197772 | C23: =_xlfn.STDEV.S(C2:C21) -> 40.501345 | D23: =_xlfn.STDEV.S(D2:D21) -> 19.508709 | E23: =_xlfn.STDEV.S(E2:E21) -> 4.2443779 | F23: =_xlfn.STDEV.S(F2:F21) -> 4.7501687 | G23: =_xlfn.STDEV.S(G2:G21) -> 4.8323828
B25: CP | C25: CLES | D25: =ROUND(_xlfn.NORM.S.DIST(B27/SQRT(2),TRUE),3) -> 0.906 | E25: W | F25: CLES | G25: =ROUND(_xlfn.NORM.S.DIST(E27/SQRT(2),TRUE),3) -> 0.183
B26: dz | C26: r | D26: SEE | E26: dz | F26: r | G26: SEE
B27: =D22/D23 -> 1.8650447 | C27: =CORREL(B2:B21,C2:C21) -> 0.88609833 | D27: =STEYX(C2:C21,B2:B21) -> 19.606991 | E27: =G22/G23 -> -1.2782355 | F27: =CORREL(E2:E21,F2:F21) -> 0.42722302 | G27: =STEYX(F2:F21,E2:E21) -> 4.4858217
B29: J | C29: gz | D29: Vg | E29: J | F29: gz | G29: Vg
B30: =ROUND((1-(3/(4*COUNT(B2:B21)-9))),3) -> 0.93 | C30: =ROUND(B27*B30,3) -> 1.734 | D30: =ROUND( ((1/COUNT(D2:D21))+((B27^2)/(2*(COUNT(D2:D21)))))*2*(1-C27)*(B30^2),3) -> 0.042 | E30: =ROUND((1-(3/(4*COUNT(E2:E21)-9))),3) -> 0.93 | F30: =ROUND(E27*E30,3) -> -1.189 | G30: =ROUND( ((1/COUNT(G2:G21))+((E27^2)/(2*(COUNT(G2:G21)))))*2*(1-F27)*(E30^2),3) -> 0.138

Sheet Karsten 13 1T
B1: EP | C1: CP | D1: EP–CP | E1: WEP | F1: W' | G1: WEP–W' | H1: no.
B2: ='Fig-Tool'!K8 -> 223 | C2: ='Fig-Tool'!J8 -> 190 | D2: 33 | E2: ='Fig-Tool'!P8 -> 15.3 | F2: ='Fig-Tool'!O8 -> 24 | G2: -8.7 | H2: 1 | I2: Karsten et al. (2013) IT | L2: ="n = "&MAX(H2:H21) -> n = 13
B3: ='Fig-Tool'!K9 -> 241 | C3: ='Fig-Tool'!J9 -> 207 | D3: 34 | E3: ='Fig-Tool'!P9 -> 20.5 | F3: ='Fig-Tool'!O9 -> 18 | G3: 2.5 | H3: 2
B4: ='Fig-Tool'!K10 -> 274 | C4: ='Fig-Tool'!J10 -> 216 | D4: 58 | E4: ='Fig-Tool'!P10 -> 11.1 | F4: ='Fig-Tool'!O10 -> 23 | G4: -11.9 | H4: 3
B5: ='Fig-Tool'!K11 -> 267 | C5: ='Fig-Tool'!J11 -> 240 | D5: 27 | E5: ='Fig-Tool'!P11 -> 10 | F5: ='Fig-Tool'!O11 -> 19 | G5: -9 | H5: 4
B6: ='Fig-Tool'!K12 -> 261 | C6: ='Fig-Tool'!J12 -> 254 | D6: 7 | E6: ='Fig-Tool'!P12 -> 10 | F6: ='Fig-Tool'!O12 -> 18 | G6: -8 | H6: 5
B7: ='Fig-Tool'!K13 -> 274 | C7: ='Fig-Tool'!J13 -> 257 | D7: 17 | E7: ='Fig-Tool'!P13 -> 10 | F7: ='Fig-Tool'!O13 -> 17 | G7: -7 | H7: 6
B8: ='Fig-Tool'!K14 -> 293 | C8: ='Fig-Tool'!J14 -> 262 | D8: 31 | E8: ='Fig-Tool'!P14 -> 11.1 | F8: ='Fig-Tool'!O14 -> 18 | G8: -6.9 | H8: 7
B9: ='Fig-Tool'!K15 -> 303 | C9: ='Fig-Tool'!J15 -> 270 | D9: 33 | E9: ='Fig-Tool'!P15 -> 9 | F9: ='Fig-Tool'!O15 -> 15 | G9: -6 | H9: 8
B10: ='Fig-Tool'!K16 -> 293 | C10: ='Fig-Tool'!J16 -> 277 | D10: 16 | E10: ='Fig-Tool'!P16 -> 13.2 | F10: ='Fig-Tool'!O16 -> 15 | G10: -1.8 | H10: 9
B11: ='Fig-Tool'!K17 -> 296 | C11: ='Fig-Tool'!J17 -> 283 | D11: 13 | E11: ='Fig-Tool'!P17 -> 16.4 | F11: ='Fig-Tool'!O17 -> 16 | G11: 0.4 | H11: 10
B12: ='Fig-Tool'!K18 -> 298 | C12: ='Fig-Tool'!J18 -> 293 | D12: 5 | E12: ='Fig-Tool'!P18 -> 13.2 | F12: ='Fig-Tool'!O18 -> 10 | G12: 3.2 | H12: 11
B13: ='Fig-Tool'!K19 -> 359 | C13: ='Fig-Tool'!J19 -> 302 | D13: 57 | E13: ='Fig-Tool'!P19 -> 1.6 | F13: ='Fig-Tool'!O19 -> 6 | G13: -4.4 | H13: 12
B14: ='Fig-Tool'!K20 -> 372 | C14: ='Fig-Tool'!J20 -> 318 | D14: 54 | E14: ='Fig-Tool'!P20 | F14: ='Fig-Tool'!O20 | H14: 13
A22: M | B22: =AVERAGE(B2:B21) -> 288.76923 | C22: =AVERAGE(C2:C21) -> 259.15385 | D22: =AVERAGE(D2:D21) -> 29.615385 | E22: =AVERAGE(E2:E21) -> 11.783333 | F22: =AVERAGE(F2:F21) -> 16.583333 | G22: =AVERAGE(G2:G21) -> -4.8
A23: SD | B23: =_xlfn.STDEV.S(B2:B21) -> 41.356486 | C23: =_xlfn.STDEV.S(C2:C21) -> 37.881055 | D23: =_xlfn.STDEV.S(D2:D21) -> 18.117848 | E23: =_xlfn.STDEV.S(E2:E21) -> 4.6279454 | F23: =_xlfn.STDEV.S(F2:F21) -> 4.9443877 | G23: =_xlfn.STDEV.S(G2:G21) -> 4.839985
B25: CP | C25: CLES | D25: =ROUND(_xlfn.NORM.S.DIST(B27/SQRT(2),TRUE),3) -> 0.876 | E25: W | F25: CLES | G25: =ROUND(_xlfn.NORM.S.DIST(E27/SQRT(2),TRUE),3) -> 0.242
B26: dz | C26: r | D26: SEE | E26: dz | F26: r | G26: SEE
B27: =D22/D23 -> 1.6345973 | C27: =CORREL(B2:B21,C2:C21) -> 0.89908966 | D27: =STEYX(C2:C21,B2:B21) -> 17.32036 | E27: =G22/G23 -> -0.99173862 | F27: =CORREL(E2:E21,F2:F21) -> 0.49032087 | G27: =STEYX(F2:F21,E2:E21) -> 4.5195706
B29: J | C29: gz | D29: Vg | E29: J | F29: gz | G29: Vg
B30: =ROUND((1-(3/(4*COUNT(B2:B21)-9))),3) -> 0.93 | C30: =ROUND(B27*B30,3) -> 1.52 | D30: =ROUND( ((1/COUNT(D2:D21))+((B27^2)/(2*(COUNT(D2:D21)))))*2*(1-C27)*(B30^2),3) -> 0.031 | E30: =ROUND((1-(3/(4*COUNT(E2:E21)-9))),3) -> 0.923 | F30: =ROUND(E27*E30,3) -> -0.915 | G30: =ROUND( ((1/COUNT(G2:G21))+((E27^2)/(2*(COUNT(G2:G21)))))*2*(1-F27)*(E30^2),3) -> 0.108

Sheet Dekerle 13 1T 100
B1: EP | C1: CP | D1: EP–CP | E1: WEP | F1: W' | G1: WEP–W' | H1: no.
B2: 307 | C2: 289 | D2: 18 | E2: 15.7 | F2: 22.4 | G2: -6.7 | H2: 1 | I2: Dekerle et al. (2013) 1/T 100 | L2: ="n = "&MAX(H2:H21) -> n = 9
B3: 182 | C3: 201 | D3: -19 | E3: 19.4 | F3: 11 | G3: 8.4 | H3: 2
B4: 249 | C4: 222 | D4: 27 | E4: 17.6 | F4: 20.5 | G4: -2.9 | H4: 3
B5: 155 | C5: 158 | D5: -3 | E5: 17.9 | F5: 11.6 | G5: 6.3 | H5: 4
B6: 155 | C6: 155 | D6: 0 | E6: 18.1 | F6: 29.8 | G6: -11.7 | H6: 5
B7: 182 | C7: 228 | D7: -46 | E7: 14.4 | F7: 22.4 | G7: -8 | H7: 6
B8: 272 | C8: 206 | D8: 66 | E8: 12.3 | F8: 26.1 | G8: -13.8 | H8: 7
B9: 246 | C9: 258 | D9: -12 | E9: 23.3 | F9: 25 | G9: -1.7 | H9: 8
B10: 296 | C10: 187 | D10: 109 | E10: 17 | F10: 16.6 | G10: 0.4 | H10: 9
A22: M | B22: =AVERAGE(B2:B21) -> 227.11111 | C22: =AVERAGE(C2:C21) -> 211.55556 | D22: =AVERAGE(D2:D21) -> 15.555556 | E22: =AVERAGE(E2:E21) -> 17.3 | F22: =AVERAGE(F2:F21) -> 20.6 | G22: =AVERAGE(G2:G21) -> -3.3
A23: SD | B23: =_xlfn.STDEV.S(B2:B21) -> 59.633138 | C23: =_xlfn.STDEV.S(C2:C21) -> 43.798148 | D23: =_xlfn.STDEV.S(D2:D21) -> 47.093288 | E23: =_xlfn.STDEV.S(E2:E21) -> 3.1136795 | F23: =_xlfn.STDEV.S(F2:F21) -> 6.4216431 | G23: =_xlfn.STDEV.S(G2:G21) -> 7.582216
B25: CP | C25: CLES | D25: =ROUND(_xlfn.NORM.S.DIST(B27/SQRT(2),TRUE),3) -> 0.592 | E25: W | F25: CLES | G25: =ROUND(_xlfn.NORM.S.DIST(E27/SQRT(2),TRUE),3) -> 0.379
B26: dz | C26: r | D26: SEE | E26: dz | F26: r | G26: SEE
B27: =D22/D23 -> 0.33031364 | C27: =CORREL(B2:B21,C2:C21) -> 0.62343689 | D27: =STEYX(C2:C21,B2:B21) -> 36.609038 | E27: =G22/G23 -> -0.43522896 | F27: =CORREL(E2:E21,F2:F21) -> -0.163979 | G27: =STEYX(F2:F21,E2:E21) -> 6.7720991
B29: J | C29: gz | D29: Vg | E29: J | F29: gz | G29: Vg
B30: =ROUND((1-(3/(4*COUNT(B2:B21)-9))),3) -> 0.889 | C30: =ROUND(B27*B30,3) -> 0.294 | D30: =ROUND( ((1/COUNT(D2:D21))+((B27^2)/(2*(COUNT(D2:D21)))))*2*(1-C27)*(B30^2),3) -> 0.07 | E30: =ROUND((1-(3/(4*COUNT(E2:E21)-9))),3) -> 0.889 | F30: =ROUND(E27*E30,3) -> -0.387 | G30: =ROUND( ((1/COUNT(G2:G21))+((E27^2)/(2*(COUNT(G2:G21)))))*2*(1-F27)*(E30^2),3) -> 0.224

Sheet Dekerle 13 1T 60
B1: EP | C1: CP | D1: EP–CP | E1: WEP | F1: W' | G1: WEP–W' | H1: no.
B2: 304 | C2: 308 | D2: -4 | E2: 16 | F2: 13.3 | G2: 2.7 | H2: 1 | I2: Dekerle et al. (2013) 1/T 60 | L2: ="n = "&MAX(H2:H21) -> n = 9
B3: 215 | C3: 198 | D3: 17 | E3: 17.9 | F3: 13.3 | G3: 4.6 | H3: 2
B4: 264 | C4: 260 | D4: 4 | E4: 19.4 | F4: 13.9 | G4: 5.5 | H4: 3
B5: 188 | C5: 212 | D5: -24 | E5: 14.4 | F5: 18.4 | G5: -4 | H5: 4
B6: 240 | C6: 225 | D6: 15 | E6: 16.1 | F6: 13.3 | G6: 2.8 | H6: 5
B7: 311 | C7: 284 | D7: 27 | E7: 13 | F7: 15.9 | G7: -2.9 | H7: 6
B8: 273 | C8: 241 | D8: 32 | E8: 11 | F8: 24 | G8: -13 | H8: 7
B9: 283 | C9: 269 | D9: 14 | E9: 14.3 | F9: 16.7 | G9: -2.4 | H9: 8
B10: 252 | C10: 203 | D10: 49 | E10: 10.2 | F10: 16.8 | G10: -6.6 | H10: 9
A22: M | B22: =AVERAGE(B2:B21) -> 258.88889 | C22: =AVERAGE(C2:C21) -> 244.44444 | D22: =AVERAGE(D2:D21) -> 14.444444 | E22: =AVERAGE(E2:E21) -> 14.7 | F22: =AVERAGE(F2:F21) -> 16.177778 | G22: =AVERAGE(G2:G21) -> -1.4777778
A23: SD | B23: =_xlfn.STDEV.S(B2:B21) -> 40.176002 | C23: =_xlfn.STDEV.S(C2:C21) -> 38.350721 | D23: =_xlfn.STDEV.S(D2:D21) -> 21.196174 | E23: =_xlfn.STDEV.S(E2:E21) -> 3.0220026 | F23: =_xlfn.STDEV.S(F2:F21) -> 3.4802219 | G23: =_xlfn.STDEV.S(G2:G21) -> 6.0168052
B25: CP | C25: CLES | D25: =ROUND(_xlfn.NORM.S.DIST(B27/SQRT(2),TRUE),3) -> 0.685 | E25: W | F25: CLES | G25: =ROUND(_xlfn.NORM.S.DIST(E27/SQRT(2),TRUE),3) -> 0.431
B26: dz | C26: r | D26: SEE | E26: dz | F26: r | G26: SEE
B27: =D22/D23 -> 0.68146472 | C27: =CORREL(B2:B21,C2:C21) -> 0.85528546 | D27: =STEYX(C2:C21,B2:B21) -> 21.243739 | E27: =G22/G23 -> -0.24560838 | F27: =CORREL(E2:E21,F2:F21) -> -0.71109437 | G27: =STEYX(F2:F21,E2:E21) -> 2.6158804
B29: J | C29: gz | D29: Vg | E29: J | F29: gz | G29: Vg
B30: =ROUND((1-(3/(4*COUNT(B2:B21)-9))),3) -> 0.889 | C30: =ROUND(B27*B30,3) -> 0.606 | D30: =ROUND( ((1/COUNT(D2:D21))+((B27^2)/(2*(COUNT(D2:D21)))))*2*(1-C27)*(B30^2),3) -> 0.031 | E30: =ROUND((1-(3/(4*COUNT(E2:E21)-9))),3) -> 0.889 | F30: =ROUND(E27*E30,3) -> -0.218 | G30: =ROUND( ((1/COUNT(G2:G21))+((E27^2)/(2*(COUNT(G2:G21)))))*2*(1-F27)*(E30^2),3) -> 0.31

Sheet Clark 16 WT
B1: EP | C1: CP | D1: EP–CP | E1: WEP | F1: W' | G1: WEP–W' | H1: no.
B2: 220 | C2: 225 | D2: -5 | E2: 15.26 | F2: 14.55 | G2: 0.71 | H2: 1 | I2: Clark et al. (2016) WT | L2: ="n = "&MAX(H2:H21) -> n = 10
B3: 195 | C3: 201 | D3: -6 | E3: 14.04 | F3: 15.54 | G3: -1.5 | H3: 2
B4: 297 | C4: 286 | D4: 11 | E4: 16.95 | F4: 23.21 | G4: -6.26 | H4: 3
B5: 240 | C5: 217 | D5: 23 | E5: 12.3 | F5: 20.25 | G5: -7.95 | H5: 4
B6: 193 | C6: 195 | D6: -2 | E6: 8.11 | F6: 4.11 | G6: 4 | H6: 5
B7: 179 | C7: 178 | D7: 1 | E7: 5.13 | F7: 5.61 | G7: -0.48 | H7: 6
B8: 164 | C8: 168 | D8: -4 | E8: 8.12 | F8: 7.1 | G8: 1.02 | H8: 7
B9: 188 | C9: 189 | D9: -1 | E9: 8.52 | F9: 8.04 | G9: 0.48 | H9: 8
B10: 209 | C10: 209 | D10: 0 | E10: 8.07 | F10: 8.15 | G10: -0.08 | H10: 9
B11: 260 | C11: 254 | D11: 6 | E11: 15.08 | F11: 14.03 | G11: 1.05 | H11: 10
A22: M | B22: =AVERAGE(B2:B21) -> 214.5 | C22: =AVERAGE(C2:C21) -> 212.2 | D22: =AVERAGE(D2:D21) -> 2.3 | E22: =AVERAGE(E2:E21) -> 11.158 | F22: =AVERAGE(F2:F21) -> 12.059 | G22: =AVERAGE(G2:G21) -> -0.901
A23: SD | B23: =_xlfn.STDEV.S(B2:B21) -> 40.746506 | C23: =_xlfn.STDEV.S(C2:C21) -> 35.704964 | D23: =_xlfn.STDEV.S(D2:D21) -> 8.9200149 | E23: =_xlfn.STDEV.S(E2:E21) -> 4.037562 | F23: =_xlfn.STDEV.S(F2:F21) -> 6.4501946 | G23: =_xlfn.STDEV.S(G2:G21) -> 3.5844772
B25: CP | C25: CLES | D25: =ROUND(_xlfn.NORM.S.DIST(B27/SQRT(2),TRUE),3) -> 0.572 | E25: W | F25: CLES | G25: =ROUND(_xlfn.NORM.S.DIST(E27/SQRT(2),TRUE),3) -> 0.429
B26: dz | C26: r | D26: SEE | E26: dz | F26: r | G26: SEE
B27: =D22/D23 -> 0.2578471 | C27: =CORREL(B2:B21,C2:C21) -> 0.98139003 | D27: =STEYX(C2:C21,B2:B21) -> 7.272147 | E27: =G22/G23 -> -0.25136162 | F27: =CORREL(E2:E21,F2:F21) -> 0.86507575 | G27: =STEYX(F2:F21,E2:E21) -> 3.4319608
B29: J | C29: gz | D29: Vg | E29: J | F29: gz | G29: Vg
B30: =ROUND((1-(3/(4*COUNT(B2:B21)-9))),3) -> 0.903 | C30: =ROUND(B27*B30,3) -> 0.233 | D30: =ROUND( ((1/COUNT(D2:D21))+((B27^2)/(2*(COUNT(D2:D21)))))*2*(1-C27)*(B30^2),3) -> 0.003 | E30: =ROUND((1-(3/(4*COUNT(E2:E21)-9))),3) -> 0.903 | F30: =ROUND(E27*E30,3) -> -0.227 | G30: =ROUND( ((1/COUNT(G2:G21))+((E27^2)/(2*(COUNT(G2:G21)))))*2*(1-F27)*(E30^2),3) -> 0.023

Sheet Clark 16 1T
B1: EP | C1: CP | D1: EP–CP | E1: WEP | F1: W' | G1: WEP–W' | H1: no.
B2: 220 | C2: 228 | D2: -8 | E2: 15.26 | F2: 13.54 | G2: 1.72 | H2: 1 | I2: Clark et al. (2016) 1/T | L2: ="n = "&MAX(H2:H21) -> n = 10
B3: 195 | C3: 204 | D3: -9 | E3: 14.04 | F3: 14.38 | G3: -0.34 | H3: 2
B4: 297 | C4: 287 | D4: 10 | E4: 16.95 | F4: 22.72 | G4: -5.77 | H4: 3
B5: 240 | C5: 217 | D5: 23 | E5: 12.3 | F5: 20.24 | G5: -7.94 | H5: 4
B6: 193 | C6: 196 | D6: -3 | E6: 8.11 | F6: 3.85 | G6: 4.26 | H6: 5
B7: 179 | C7: 178 | D7: 1 | E7: 5.13 | F7: 5.54 | G7: -0.41 | H7: 6
B8: 164 | C8: 170 | D8: -6 | E8: 8.12 | F8: 6.46 | G8: 1.66 | H8: 7
B9: 188 | C9: 189 | D9: -1 | E9: 8.52 | F9: 8.03 | G9: 0.49 | H9: 8
B10: 209 | C10: 207 | D10: 2 | E10: 8.07 | F10: 8.83 | G10: -0.76 | H10: 9
B11: 260 | C11: 256 | D11: 4 | E11: 15.08 | F11: 13.37 | G11: 1.71 | H11: 10
A22: M | B22: =AVERAGE(B2:B21) -> 214.5 | C22: =AVERAGE(C2:C21) -> 213.2 | D22: =AVERAGE(D2:D21) -> 1.3 | E22: =AVERAGE(E2:E21) -> 11.158 | F22: =AVERAGE(F2:F21) -> 11.696 | G22: =AVERAGE(G2:G21) -> -0.538
A23: SD | B23: =_xlfn.STDEV.S(B2:B21) -> 40.746506 | C23: =_xlfn.STDEV.S(C2:C21) -> 35.934508 | D23: =_xlfn.STDEV.S(D2:D21) -> 9.5690473 | E23: =_xlfn.STDEV.S(E2:E21) -> 4.037562 | F23: =_xlfn.STDEV.S(F2:F21) -> 6.2933849 | G23: =_xlfn.STDEV.S(G2:G21) -> 3.6716506
B25: CP | C25: CLES | D25: =ROUND(_xlfn.NORM.S.DIST(B27/SQRT(2),TRUE),3) -> 0.538 | E25: W | F25: CLES | G25: =ROUND(_xlfn.NORM.S.DIST(E27/SQRT(2),TRUE),3) -> 0.459
B26: dz | C26: r | D26: SEE | E26: dz | F26: r | G26: SEE
B27: =D22/D23 -> 0.13585469 | C27: =CORREL(B2:B21,C2:C21) -> 0.97663875 | D27: =STEYX(C2:C21,B2:B21) -> 8.1902967 | E27: =G22/G23 -> -0.14652811 | F27: =CORREL(E2:E21,F2:F21) -> 0.83486219 | G27: =STEYX(F2:F21,E2:E21) -> 3.6743924
B29: J | C29: gz | D29: Vg | E29: J | F29: gz | G29: Vg
B30: =ROUND((1-(3/(4*COUNT(B2:B21)-9))),3) -> 0.903 | C30: =ROUND(B27*B30,3) -> 0.123 | D30: =ROUND( ((1/COUNT(D2:D21))+((B27^2)/(2*(COUNT(D2:D21)))))*2*(1-C27)*(B30^2),3) -> 0.004 | E30: =ROUND((1-(3/(4*COUNT(E2:E21)-9))),3) -> 0.903 | F30: =ROUND(E27*E30,3) -> -0.132 | G30: =ROUND( ((1/COUNT(G2:G21))+((E27^2)/(2*(COUNT(G2:G21)))))*2*(1-F27)*(E30^2),3) -> 0.027

Sheet Bartram 17 WT
B1: EP | C1: CP | D1: EP–CP | E1: WEP | F1: W' | G1: WEP–W' | H1: no.
B2: 375 | C2: 324 | D2: 51 | E2: 12.4 | F2: 25.8 | G2: -13.4 | H2: 1 | I2: Bartram et al. (2017) WT | L2: ="n = "&MAX(H2:H21) -> n = 6
B3: 380 | C3: 371 | D3: 9 | E3: 12.9 | F3: 21.8 | G3: -8.9 | H3: 2
B4: 418 | C4: 357 | D4: 61 | E4: 15 | F4: 25.9 | G4: -10.9 | H4: 3
B5: 411 | C5: 343 | D5: 68 | E5: 15.4 | F5: 20.9 | G5: -5.5 | H5: 4
B6: 365 | C6: 313 | D6: 52 | E6: 15.4 | F6: 31.6 | G6: -16.2 | H6: 5
B7: 464 | C7: 395 | D7: 69 | E7: 21.7 | F7: 19.7 | G7: 2 | H7: 6
A22: M | B22: =AVERAGE(B2:B21) -> 402.16667 | C22: =AVERAGE(C2:C21) -> 350.5 | D22: =AVERAGE(D2:D21) -> 51.666667 | E22: =AVERAGE(E2:E21) -> 15.466667 | F22: =AVERAGE(F2:F21) -> 24.283333 | G22: =AVERAGE(G2:G21) -> -8.8166667
A23: SD | B23: =_xlfn.STDEV.S(B2:B21) -> 36.777257 | C23: =_xlfn.STDEV.S(C2:C21) -> 30.356218 | D23: =_xlfn.STDEV.S(D2:D21) -> 22.250094 | E23: =_xlfn.STDEV.S(E2:E21) -> 3.3188351 | F23: =_xlfn.STDEV.S(F2:F21) -> 4.4060943 | G23: =_xlfn.STDEV.S(G2:G21) -> 6.4477645
B25: CP | C25: CLES | D25: =ROUND(_xlfn.NORM.S.DIST(B27/SQRT(2),TRUE),3) -> 0.95 | E25: W | F25: CLES | G25: =ROUND(_xlfn.NORM.S.DIST(E27/SQRT(2),TRUE),3) -> 0.167
B26: dz | C26: r | D26: SEE | E26: dz | F26: r | G26: SEE
B27: =D22/D23 -> 2.3220876 | C27: =CORREL(B2:B21,C2:C21) -> 0.79674426 | D27: =STEYX(C2:C21,B2:B21) -> 20.510074 | E27: =G22/G23 -> -1.367399 | F27: =CORREL(E2:E21,F2:F21) -> -0.38108653 | G27: =STEYX(F2:F21,E2:E21) -> 4.5544318
B29: J | C29: gz | D29: Vg | E29: J | F29: gz | G29: Vg
B30: =ROUND((1-(3/(4*COUNT(B2:B21)-9))),3) -> 0.8 | C30: =ROUND(B27*B30,3) -> 1.858 | D30: =ROUND( ((1/COUNT(D2:D21))+((B27^2)/(2*(COUNT(D2:D21)))))*2*(1-C27)*(B30^2),3) -> 0.16 | E30: =ROUND((1-(3/(4*COUNT(E2:E21)-9))),3) -> 0.8 | F30: =ROUND(E27*E30,3) -> -1.094 | G30: =ROUND( ((1/COUNT(G2:G21))+((E27^2)/(2*(COUNT(G2:G21)))))*2*(1-F27)*(E30^2),3) -> 0.57

Sheet Wright 17 1T iso
B1: EP | C1: CP | D1: EP–CP | E1: WEP | F1: W' | G1: WEP–W' | H1: no.
B2: ='Fig-Tool'!AA8 -> 215.4 | C2: ='Fig-Tool'!AB8 -> 195 | D2: 20.4 | E2: ='Fig-Tool'!AO8 -> 29.5 | F2: ='Fig-Tool'!AP8 -> 33.7 | G2: -4.2 | H2: 1 | I2: Wright et al. (2017) 1/T iso | L2: ="n = "&MAX(H2:H21) -> n = 12
B3: ='Fig-Tool'!AA9 -> 236.55 | C3: ='Fig-Tool'!AB9 -> 224.65 | D3: 11.9 | E3: ='Fig-Tool'!AO9 -> 19.2 | F3: ='Fig-Tool'!AP9 -> 30.4 | G3: -11.2 | H3: 2
B4: ='Fig-Tool'!AA10 -> 226.55 | C4: ='Fig-Tool'!AB10 -> 222.85 | D4: 3.7 | E4: ='Fig-Tool'!AO10 -> 19.9 | F4: ='Fig-Tool'!AP10 -> 22.5 | G4: -2.6 | H4: 3
B5: ='Fig-Tool'!AA11 -> 214.05 | C5: ='Fig-Tool'!AB11 -> 224.15 | D5: -10.1 | E5: ='Fig-Tool'!AO11 -> 17.35 | F5: ='Fig-Tool'!AP11 -> 24.65 | G5: -7.3 | H5: 4
B6: ='Fig-Tool'!AA12 -> 223 | C6: ='Fig-Tool'!AB12 -> 240 | D6: -17 | E6: ='Fig-Tool'!AO12 -> 14.5 | F6: ='Fig-Tool'!AP12 -> 23.9 | G6: -9.4 | H6: 5
B7: ='Fig-Tool'!AA13 -> 214.45 | C7: ='Fig-Tool'!AB13 -> 244.55 | D7: -30.1 | E7: ='Fig-Tool'!AO13 -> 9.9 | F7: ='Fig-Tool'!AP13 -> 24.7 | G7: -14.8 | H7: 6
B8: ='Fig-Tool'!AA14 -> 233.1 | C8: ='Fig-Tool'!AB14 -> 243.1 | D8: -10 | E8: ='Fig-Tool'!AO14 -> 8.1 | F8: ='Fig-Tool'!AP14 -> 23.9 | G8: -15.8 | H8: 7
B9: ='Fig-Tool'!AA15 -> 267.5 | C9: ='Fig-Tool'!AB15 -> 288.7 | D9: -21.2 | E9: ='Fig-Tool'!AO15 -> 14.55 | F9: ='Fig-Tool'!AP15 -> 20.85 | G9: -6.3 | H9: 8
B10: ='Fig-Tool'!AA16 -> 259.3 | C10: ='Fig-Tool'!AB16 -> 267.3 | D10: -8 | E10: ='Fig-Tool'!AO16 -> 12.25 | F10: ='Fig-Tool'!AP16 -> 18.75 | G10: -6.5 | H10: 9
B11: ='Fig-Tool'!AA17 -> 266.5 | C11: ='Fig-Tool'!AB17 -> 271.5 | D11: -5 | E11: ='Fig-Tool'!AO17 -> 15.25 | F11: ='Fig-Tool'!AP17 -> 16.15 | G11: -0.9 | H11: 10
B12: ='Fig-Tool'!AA18 -> 270.1 | C12: ='Fig-Tool'!AB18 -> 267.1 | D12: 3 | E12: ='Fig-Tool'!AO18 -> 14.3 | F12: ='Fig-Tool'!AP18 -> 16.7 | G12: -2.4 | H12: 11
B13: ='Fig-Tool'!AA19 -> 267.1 | C13: ='Fig-Tool'!AB19 -> 253.3 | D13: 13.8 | E13: ='Fig-Tool'!AO19 -> 11.55 | F13: ='Fig-Tool'!AP19 -> 15.45 | G13: -3.9 | H13: 12
A22: M | B22: =AVERAGE(B2:B21) -> 241.13333 | C22: =AVERAGE(C2:C21) -> 245.18333 | D22: =AVERAGE(D2:D21) -> -4.05 | E22: =AVERAGE(E2:E21) -> 15.529167 | F22: =AVERAGE(F2:F21) -> 22.6375 | G22: =AVERAGE(G2:G21) -> -7.1083333
A23: SD | B23: =_xlfn.STDEV.S(B2:B21) -> 23.19243 | C23: =_xlfn.STDEV.S(C2:C21) -> 26.171474 | D23: =_xlfn.STDEV.S(D2:D21) -> 15.104274 | E23: =_xlfn.STDEV.S(E2:E21) -> 5.6258518 | F23: =_xlfn.STDEV.S(F2:F21) -> 5.5714828 | G23: =_xlfn.STDEV.S(G2:G21) -> 4.8387561
B25: CP | C25: CLES | D25: =ROUND(_xlfn.NORM.S.DIST(B27/SQRT(2),TRUE),3) -> 0.425 | E25: W | F25: CLES | G25: =ROUND(_xlfn.NORM.S.DIST(E27/SQRT(2),TRUE),3) -> 0.149
B26: dz | C26: r | D26: SEE | E26: dz | F26: r | G26: SEE
B27: =D22/D23 -> -0.26813603 | C27: =CORREL(B2:B21,C2:C21) -> 0.8193809 | D27: =STEYX(C2:C21,B2:B21) -> 15.735052 | E27: =G22/G23 -> -1.4690415 | F27: =CORREL(E2:E21,F2:F21) -> 0.62655766 | G27: =STEYX(F2:F21,E2:E21) -> 4.5542162
B29: J | C29: gz | D29: Vg | E29: J | F29: gz | G29: Vg
B30: =ROUND((1-(3/(4*COUNT(B2:B21)-9))),3) -> 0.923 | C30: =ROUND(B27*B30,3) -> -0.247 | D30: =ROUND( ((1/COUNT(D2:D21))+((B27^2)/(2*(COUNT(D2:D21)))))*2*(1-C27)*(B30^2),3) -> 0.027 | E30: =ROUND((1-(3/(4*COUNT(E2:E21)-9))),3) -> 0.923 | F30: =ROUND(E27*E30,3) -> -1.356 | G30: =ROUND( ((1/COUNT(G2:G21))+((E27^2)/(2*(COUNT(G2:G21)))))*2*(1-F27)*(E30^2),3) -> 0.11

Sheet Wright 17 1T lin
B1: EP | C1: CP | D1: EP–CP | E1: WEP | F1: W' | G1: WEP–W' | H1: no.
B2: ='Fig-Tool'!AH8 -> 224.6 | C2: ='Fig-Tool'!AI8 -> 194.8 | D2: 29.8 | E2: ='Fig-Tool'!AV8 -> 11.35 | F2: ='Fig-Tool'!AW8 -> 15.45 | G2: -4.1 | H2: 1 | I2: Wright et al. (2017) 1/T lin | L2: ="n = "&MAX(H2:H21) -> n = 12
B3: ='Fig-Tool'!AH9 -> 226.85 | C3: ='Fig-Tool'!AI9 -> 222.55 | D3: 4.3 | E3: ='Fig-Tool'!AV9 -> 11.55 | F3: ='Fig-Tool'!AW9 -> 16.25 | G3: -4.7 | H3: 2
B4: ='Fig-Tool'!AH10 -> 234.7 | C4: ='Fig-Tool'!AI10 -> 224.3 | D4: 10.4 | E4: ='Fig-Tool'!AV10 -> 12.65 | F4: ='Fig-Tool'!AW10 -> 16.75 | G4: -4.1 | H4: 3
B5: ='Fig-Tool'!AH11 -> 239.9 | C5: ='Fig-Tool'!AI11 -> 223.9 | D5: 16 | E5: ='Fig-Tool'!AV11 -> 18.15 | F5: ='Fig-Tool'!AW11 -> 22.45 | G5: -4.3 | H5: 4
B6: ='Fig-Tool'!AH12 -> 246.95 | C6: ='Fig-Tool'!AI12 -> 238.45 | D6: 8.5 | E6: ='Fig-Tool'!AV12 -> 11.45 | F6: ='Fig-Tool'!AW12 -> 18.75 | G6: -7.3 | H6: 5
B7: ='Fig-Tool'!AH13 -> 259.8 | C7: ='Fig-Tool'!AI13 -> 244.2 | D7: 15.6 | E7: ='Fig-Tool'!AV13 -> 15.55 | F7: ='Fig-Tool'!AW13 -> 24.65 | G7: -9.1 | H7: 6
B8: ='Fig-Tool'!AH14 -> 286.85 | C8: ='Fig-Tool'!AI14 -> 242.95 | D8: 43.9 | E8: ='Fig-Tool'!AV14 -> 10.75 | F8: ='Fig-Tool'!AW14 -> 20.85 | G8: -10.1 | H8: 7
B9: ='Fig-Tool'!AH15 -> 293.15 | C9: ='Fig-Tool'!AI15 -> 271.25 | D9: 21.9 | E9: ='Fig-Tool'!AV15 -> 22.7 | F9: ='Fig-Tool'!AW15 -> 33.7 | G9: -11 | H9: 8
B10: ='Fig-Tool'!AH16 -> 308.4 | C10: ='Fig-Tool'!AI16 -> 288.4 | D10: 20 | E10: ='Fig-Tool'!AV16 -> 19.15 | F10: ='Fig-Tool'!AW16 -> 30.25 | G10: -11.1 | H10: 9
B11: ='Fig-Tool'!AH17 -> 311.85 | C11: ='Fig-Tool'!AI17 -> 266.95 | D11: 44.9 | E11: ='Fig-Tool'!AV17 -> 12.3 | F11: ='Fig-Tool'!AW17 -> 24.7 | G11: -12.4 | H11: 10
B12: ='Fig-Tool'!AH18 -> 322.6 | C12: ='Fig-Tool'!AI18 -> 253 | D12: 69.6 | E12: ='Fig-Tool'!AV18 -> 9.85 | F12: ='Fig-Tool'!AW18 -> 24.75 | G12: -14.9 | H12: 11
B13: ='Fig-Tool'!AH19 -> 343.9 | C13: ='Fig-Tool'!AI19 -> 266.9 | D13: 77 | E13: ='Fig-Tool'!AV19 -> 5.85 | F13: ='Fig-Tool'!AW19 -> 23.95 | G13: -18.1 | H13: 12
A22: M | B22: =AVERAGE(B2:B21) -> 274.9625 | C22: =AVERAGE(C2:C21) -> 244.80417 | D22: =AVERAGE(D2:D21) -> 30.158333 | E22: =AVERAGE(E2:E21) -> 13.441667 | F22: =AVERAGE(F2:F21) -> 22.708333 | G22: =AVERAGE(G2:G21) -> -9.2666667
A23: SD | B23: =_xlfn.STDEV.S(B2:B21) -> 41.218713 | C23: =_xlfn.STDEV.S(C2:C21) -> 26.186503 | D23: =_xlfn.STDEV.S(D2:D21) -> 23.870844 | E23: =_xlfn.STDEV.S(E2:E21) -> 4.6372422 | F23: =_xlfn.STDEV.S(F2:F21) -> 5.5614269 | G23: =_xlfn.STDEV.S(G2:G21) -> 4.5671422
B25: CP | C25: CLES | D25: =ROUND(_xlfn.NORM.S.DIST(B27/SQRT(2),TRUE),3) -> 0.814 | E25: W | F25: CLES | G25: =ROUND(_xlfn.NORM.S.DIST(E27/SQRT(2),TRUE),3) -> 0.076
B26: dz | C26: r | D26: SEE | E26: dz | F26: r | G26: SEE
B27: =D22/D23 -> 1.2633962 | C27: =CORREL(B2:B21,C2:C21) -> 0.84071793 | D27: =STEYX(C2:C21,B2:B21) -> 14.871368 | E27: =G22/G23 -> -2.0289858 | F27: =CORREL(E2:E21,F2:F21) -> 0.61215751 | G27: =STEYX(F2:F21,E2:E21) -> 4.6122624
B29: J | C29: gz | D29: Vg | E29: J | F29: gz | G29: Vg
B30: =ROUND((1-(3/(4*COUNT(B2:B21)-9))),3) -> 0.923 | C30: =ROUND(B27*B30,3) -> 1.166 | D30: =ROUND( ((1/COUNT(D2:D21))+((B27^2)/(2*(COUNT(D2:D21)))))*2*(1-C27)*(B30^2),3) -> 0.041 | E30: =ROUND((1-(3/(4*COUNT(E2:E21)-9))),3) -> 0.923 | F30: =ROUND(E27*E30,3) -> -1.873 | G30: =ROUND( ((1/COUNT(G2:G21))+((E27^2)/(2*(COUNT(G2:G21)))))*2*(1-F27)*(E30^2),3) -> 0.168

Sheet Clark 19 mix fat
B1: EP | C1: CP | D1: EP–CP | E1: WEP | F1: W' | G1: WEP–W' | H1: no.
B2: ='Fig-Tool'!BB8 -> 153.5 | C2: ='Fig-Tool'!BA8 -> 188.2 | D2: -34.7 | E2: ='Fig-Tool'!BG8 -> 7.6 | F2: ='Fig-Tool'!BF8 -> 8.8 | G2: -1.2 | H2: 1 | I2: Clark et al. (2019) mix fat | L2: ="n = "&MAX(H2:H21) -> n = 14
B3: ='Fig-Tool'!BB9 -> 212.2 | C3: ='Fig-Tool'!BA9 -> 215.2 | D3: -3 | E3: ='Fig-Tool'!BG9 -> 7.4 | F3: ='Fig-Tool'!BF9 -> 10.6 | G3: -3.2 | H3: 2
B4: ='Fig-Tool'!BB10 -> 216.4 | C4: ='Fig-Tool'!BA10 -> 216.5 | D4: -0.1 | E4: ='Fig-Tool'!BG10 -> 9.5 | F4: ='Fig-Tool'!BF10 -> 11.7 | G4: -2.2 | H4: 3
B5: ='Fig-Tool'!BB11 -> 208.7 | C5: ='Fig-Tool'!BA11 -> 227.9 | D5: -19.2 | E5: ='Fig-Tool'!BG11 -> 9 | F5: ='Fig-Tool'!BF11 -> 16.8 | G5: -7.8 | H5: 4
B6: ='Fig-Tool'!BB12 -> 219.5 | C6: ='Fig-Tool'!BA12 -> 240.8 | D6: -21.3 | E6: ='Fig-Tool'!BG12 -> 13.4 | F6: ='Fig-Tool'!BF12 -> 10.3 | G6: 3.1 | H6: 5
B7: ='Fig-Tool'!BB13 -> 248.7 | C7: ='Fig-Tool'!BA13 -> 248.5 | D7: 0.2 | E7: ='Fig-Tool'!BG13 -> 12.4 | F7: ='Fig-Tool'!BF13 -> 15.2 | G7: -2.8 | H7: 6
B8: ='Fig-Tool'!BB14 -> 263.4 | C8: ='Fig-Tool'!BA14 -> 253.7 | D8: 9.7 | E8: ='Fig-Tool'!BG14 -> 14.1 | F8: ='Fig-Tool'!BF14 -> 15.9 | G8: -1.8 | H8: 7
B9: ='Fig-Tool'!BB15 -> 263.9 | C9: ='Fig-Tool'!BA15 -> 275.4 | D9: -11.5 | E9: ='Fig-Tool'!BG15 -> 25.5 | F9: ='Fig-Tool'!BF15 -> 23.8 | G9: 1.7 | H9: 8
B10: ='Fig-Tool'!BB16 -> 281.1 | C10: ='Fig-Tool'!BA16 -> 253.7 | D10: 27.4 | E10: ='Fig-Tool'!BG16 -> 19.4 | F10: ='Fig-Tool'!BF16 -> 9.8 | G10: 9.6 | H10: 9
B11: ='Fig-Tool'!BB17 -> 286.5 | C11: ='Fig-Tool'!BA17 -> 253.6 | D11: 32.9 | E11: ='Fig-Tool'!BG17 -> 19 | F11: ='Fig-Tool'!BF17 -> 11.4 | G11: 7.6 | H11: 10
B12: ='Fig-Tool'!BB18 -> 296.8 | C12: ='Fig-Tool'!BA18 -> 261.3 | D12: 35.5 | E12: ='Fig-Tool'!BG18 -> 19.1 | F12: ='Fig-Tool'!BF18 -> 15.5 | G12: 3.6 | H12: 11
B13: ='Fig-Tool'!BB19 -> 293.3 | C13: ='Fig-Tool'!BA19 -> 267.8 | D13: 25.5 | E13: ='Fig-Tool'!BG19 -> 17.3 | F13: ='Fig-Tool'!BF19 -> 19.8 | G13: -2.5 | H13: 12
B14: ='Fig-Tool'!BB20 -> 318.7 | C14: ='Fig-Tool'!BA20 -> 336.9 | D14: -18.2 | E14: ='Fig-Tool'!BG20 -> 16.8 | F14: ='Fig-Tool'!BF20 -> 20.6 | G14: -3.8 | H14: 13
B15: ='Fig-Tool'!BB21 -> 349.9 | C15: ='Fig-Tool'!BA21 -> 330.5 | D15: 19.4 | E15: ='Fig-Tool'!BG21 -> 15.4 | F15: ='Fig-Tool'!BF21 -> 22.2 | G15: -6.8 | H15: 14
B16: ='Fig-Tool'!BB22 | C16: ='Fig-Tool'!BA22
B17: ='Fig-Tool'!BB23 | C17: ='Fig-Tool'!BA23
B18: ='Fig-Tool'!BB24 | C18: ='Fig-Tool'!BA24
B19: ='Fig-Tool'!BB25 | C19: ='Fig-Tool'!BA25
A22: M | B22: =AVERAGE(B2:B21) -> 258.04286 | C22: =AVERAGE(C2:C21) -> 255 | D22: =AVERAGE(D2:D21) -> 3.0428571 | E22: =AVERAGE(E2:E21) -> 14.707143 | F22: =AVERAGE(F2:F21) -> 15.171429 | G22: =AVERAGE(G2:G21) -> -0.46428571
A23: SD | B23: =_xlfn.STDEV.S(B2:B21) -> 51.916438 | C23: =_xlfn.STDEV.S(C2:C21) -> 40.705055 | D23: =_xlfn.STDEV.S(D2:D21) -> 22.503768 | E23: =_xlfn.STDEV.S(E2:E21) -> 5.2536382 | F23: =_xlfn.STDEV.S(F2:F21) -> 4.9488815 | G23: =_xlfn.STDEV.S(G2:G21) -> 5.0209725
B25: CP | C25: CLES | D25: =ROUND(_xlfn.NORM.S.DIST(B27/SQRT(2),TRUE),3) -> 0.538 | E25: W | F25: CLES | G25: =ROUND(_xlfn.NORM.S.DIST(E27/SQRT(2),TRUE),3) -> 0.474
B26: dz | C26: r | D26: SEE | E26: dz | F26: r | G26: SEE
B27: =D22/D23 -> 0.13521545 | C27: =CORREL(B2:B21,C2:C21) -> 0.90992017 | D27: =STEYX(C2:C21,B2:B21) -> 17.573198 | E27: =G22/G23 -> -0.09246928 | F27: =CORREL(E2:E21,F2:F21) -> 0.51696841 | G27: =STEYX(F2:F21,E2:E21) -> 4.4092442
B29: J | C29: gz | D29: Vg | E29: J | F29: gz | G29: Vg
B30: =ROUND((1-(3/(4*COUNT(B2:B21)-9))),3) -> 0.936 | C30: =ROUND(B27*B30,3) -> 0.127 | D30: =ROUND( ((1/COUNT(D2:D21))+((B27^2)/(2*(COUNT(D2:D21)))))*2*(1-C27)*(B30^2),3) -> 0.011 | E30: =ROUND((1-(3/(4*COUNT(E2:E21)-9))),3) -> 0.936 | F30: =ROUND(E27*E30,3) -> -0.087 | G30: =ROUND( ((1/COUNT(G2:G21))+((E27^2)/(2*(COUNT(G2:G21)))))*2*(1-F27)*(E30^2),3) -> 0.061

Sheet Goulding 21 mix up
B1: EP | C1: CP | D1: EP–CP | E1: WEP | F1: W' | G1: WEP–W' | H1: no.
B2: ='Fig-Tool'!BL8 -> 137.8 | C2: ='Fig-Tool'!BK8 -> 136.5 | D2: =IF(COUNT(B2:C2)>1,B2-C2,"") -> 1.3 | E2: ='Fig-Tool'!BW8 -> 11.7 | F2: ='Fig-Tool'!BX8 -> 24.9 | G2: =IF(COUNT(E2:F2)>1,E2-F2,"") -> -13.2 | H2: 1 | I2: Goulding et al. (2021) mix up | L2: ="n = "&MAX(H2:H21) -> n = 15
B3: ='Fig-Tool'!BL9 -> 177.1 | C3: ='Fig-Tool'!BK9 -> 172.2 | D3: =IF(COUNT(B3:C3)>1,B3-C3,"") -> 4.9 | E3: ='Fig-Tool'!BW9 -> 20.4 | F3: ='Fig-Tool'!BX9 -> 25.4 | G3: =IF(COUNT(E3:F3)>1,E3-F3,"") -> -5 | H3: 2
B4: ='Fig-Tool'!BL10 -> 174.3 | C4: ='Fig-Tool'!BK10 -> 175.4 | D4: =IF(COUNT(B4:C4)>1,B4-C4,"") -> -1.1 | E4: ='Fig-Tool'!BW10 -> 18.95 | F4: ='Fig-Tool'!BX10 -> 23.05 | G4: =IF(COUNT(E4:F4)>1,E4-F4,"") -> -4.1 | H4: 3
B5: ='Fig-Tool'!BL11 -> 198.2 | C5: ='Fig-Tool'!BK11 -> 190.2 | D5: =IF(COUNT(B5:C5)>1,B5-C5,"") -> 8 | E5: ='Fig-Tool'!BW11 -> 21.45 | F5: ='Fig-Tool'!BX11 -> 21.95 | G5: =IF(COUNT(E5:F5)>1,E5-F5,"") -> -0.5 | H5: 4
B6: ='Fig-Tool'!BL12 -> 189.9 | C6: ='Fig-Tool'!BK12 -> 193.6 | D6: =IF(COUNT(B6:C6)>1,B6-C6,"") -> -3.7 | E6: ='Fig-Tool'!BW12 -> 18.25 | F6: ='Fig-Tool'!BX12 -> 17.55 | G6: =IF(COUNT(E6:F6)>1,E6-F6,"") -> 0.7 | H6: 5
B7: ='Fig-Tool'!BL13 -> 209.9 | C7: ='Fig-Tool'!BK13 -> 215.6 | D7: =IF(COUNT(B7:C7)>1,B7-C7,"") -> -5.7 | E7: ='Fig-Tool'!BW13 -> 17.7 | F7: ='Fig-Tool'!BX13 -> 11.9 | G7: =IF(COUNT(E7:F7)>1,E7-F7,"") -> 5.8 | H7: 6
B8: ='Fig-Tool'!BL14 -> 216.3 | C8: ='Fig-Tool'!BK14 -> 235 | D8: =IF(COUNT(B8:C8)>1,B8-C8,"") -> -18.7 | E8: ='Fig-Tool'!BW14 -> 7.25 | F8: ='Fig-Tool'!BX14 -> 6.15 | G8: =IF(COUNT(E8:F8)>1,E8-F8,"") -> 1.1 | H8: 7
B9: ='Fig-Tool'!BL15 -> 228.7 | C9: ='Fig-Tool'!BK15 -> 239.4 | D9: =IF(COUNT(B9:C9)>1,B9-C9,"") -> -10.7 | E9: ='Fig-Tool'!BW15 -> 9.05 | F9: ='Fig-Tool'!BX15 -> 15.35 | G9: =IF(COUNT(E9:F9)>1,E9-F9,"") -> -6.3 | H9: 8
B10: ='Fig-Tool'!BL16 -> 228 | C10: ='Fig-Tool'!BK16 -> 221.9 | D10: =IF(COUNT(B10:C10)>1,B10-C10,"") -> 6.1 | E10: ='Fig-Tool'!BW16 -> 21.15 | F10: ='Fig-Tool'!BX16 -> 19.85 | G10: =IF(COUNT(E10:F10)>1,E10-F10,"") -> 1.3 | H10: 9
B11: ='Fig-Tool'!BL17 -> 246.4 | C11: ='Fig-Tool'!BK17 -> 224.2 | D11: =IF(COUNT(B11:C11)>1,B11-C11,"") -> 22.2 | E11: ='Fig-Tool'!BW17 -> 11.35 | F11: ='Fig-Tool'!BX17 -> 12.85 | G11: =IF(COUNT(E11:F11)>1,E11-F11,"") -> -1.5 | H11: 10
B12: ='Fig-Tool'!BL18 -> 276.7 | C12: ='Fig-Tool'!BK18 -> 251 | D12: =IF(COUNT(B12:C12)>1,B12-C12,"") -> 25.7 | E12: ='Fig-Tool'!BW18 -> 7.9 | F12: ='Fig-Tool'!BX18 -> 12.3 | G12: =IF(COUNT(E12:F12)>1,E12-F12,"") -> -4.4 | H12: 11
B13: ='Fig-Tool'!BL19 -> 278.3 | C13: ='Fig-Tool'!BK19 -> 256.4 | D13: =IF(COUNT(B13:C13)>1,B13-C13,"") -> 21.9 | E13: ='Fig-Tool'!BW19 -> 10.55 | F13: ='Fig-Tool'!BX19 -> 15.85 | G13: =IF(COUNT(E13:F13)>1,E13-F13,"") -> -5.3 | H13: 12
B14: ='Fig-Tool'!BL20 -> 279 | C14: ='Fig-Tool'!BK20 -> 257.5 | D14: =IF(COUNT(B14:C14)>1,B14-C14,"") -> 21.5 | E14: ='Fig-Tool'!BW20 -> 15.3 | F14: ='Fig-Tool'!BX20 -> 18.1 | G14: =IF(COUNT(E14:F14)>1,E14-F14,"") -> -2.8 | H14: 13
... B16: ='Fig-Tool'!BL22 -> 283.8 | C16: ='Fig-Tool'!BK22 -> 273.2 | D16: =IF(COUNT(B16:C16)>1,B16-C16,"") -> 10.6 | E16: ='Fig-Tool'!BW22 -> 13.4 | F16: ='Fig-Tool'!BX22 -> 15.8 | G16: =IF(COUNT(E16:F16)>1,E16-F16,"") -> -2.4 | H16: 15
B17: ='Fig-Tool'!BB23 | C17: ='Fig-Tool'!BA23 | D17: =IF(COUNT(B17:C17)>1,B17-C17,"") | E17: ='Fig-Tool'!BW23 | F17: ='Fig-Tool'!BX23 | G17: =IF(COUNT(E17:F17)>1,E17-F17,"")
B18: ='Fig-Tool'!BB24 | C18: ='Fig-Tool'!BA24 | D18: =IF(COUNT(B18:C18)>1,B18-C18,"") | E18: ='Fig-Tool'!BW24 | F18: ='Fig-Tool'!BX24 | G18: =IF(COUNT(E18:F18)>1,E18-F18,"")
B19: ='Fig-Tool'!BB25 | C19: ='Fig-Tool'!BA25 | D19: =IF(COUNT(B19:C19)>1,B19-C19,"") | E19: ='Fig-Tool'!BW25 | F19: ='Fig-Tool'!BX25 | G19: =IF(COUNT(E19:F19)>1,E19-F19,"")
D20: =IF(COUNT(B20:C20)>1,B20-C20,"") | E20: ='Fig-Tool'!BW26 | F20: ='Fig-Tool'!BX26 | G20: =IF(COUNT(E20:F20)>1,E20-F20,"")
D21: =IF(COUNT(B21:C21)>1,B21-C21,"") | E21: ='Fig-Tool'!BW27 | F21: ='Fig-Tool'!BX27 | G21: =IF(COUNT(E21:F21)>1,E21-F21,"")
A22: M | B22: =AVERAGE(B2:B21) -> 226.85333 | C22: =AVERAGE(C2:C21) -> 220.74667 | D22: =AVERAGE(D2:D21) -> 6.1066667 | E22: =AVERAGE(E2:E21) -> 14.486667 | F22: =AVERAGE(F2:F21) -> 17.086667 | G22: =AVERAGE(G2:G21) -> -2.6
A23: SD | B23: =_xlfn.STDEV.S(B2:B21) -> 46.206522 | C23: =_xlfn.STDEV.S(C2:C21) -> 39.998319 | D23: =_xlfn.STDEV.S(D2:D21) -> 13.019626 | E23: =_xlfn.STDEV.S(E2:E21) -> 4.8919565 | F23: =_xlfn.STDEV.S(F2:F21) -> 5.3118287 | G23: =_xlfn.STDEV.S(G2:G21) -> 4.3150898
B25: CP | C25: CLES | D25: =ROUND(_xlfn.NORM.S.DIST(B27/SQRT(2),TRUE),3) -> 0.63 | E25: W | F25: CLES | G25: =ROUND(_xlfn.NORM.S.DIST(E27/SQRT(2),TRUE),3) -> 0.335
B26: dz | C26: r | D26: SEE | E26: dz | F26: r | G26: SEE
B27: =D22/D23 -> 0.46903548 | C27: =CORREL(B2:B21,C2:C21) -> 0.96456821 | D27: =STEYX(C2:C21,B2:B21) -> 10.951263 | E27: =G22/G23 -> -0.60253671 | F27: =CORREL(E2:E21,F2:F21) -> 0.64511178 | G27: =STEYX(F2:F21,E2:E21) -> 4.2119179
B29: J | C29: gz | D29: Vg | E29: J | F29: gz | G29: Vg
B30: =ROUND((1-(3/(4*COUNT(B2:B21)-9))),3) -> 0.941 | C30: =ROUND(B27*B30,3) -> 0.441 | D30: =ROUND( ((1/COUNT(D2:D21))+((B27^2)/(2*(COUNT(D2:D21)))))*2*(1-C27)*(B30^2),3) -> 0.005 | E30: =ROUND((1-(3/(4*COUNT(E2:E21)-9))),3) -> 0.941 | F30: =ROUND(E27*E30,3) -> -0.567 | G30: =ROUND( ((1/COUNT(G2:G21))+((E27^2)/(2*(COUNT(G2:G21)))))*2*(1-F27)*(E30^2),3) -> 0.05

Sheet Goulding 21 mix sup
B1: EP | C1: CP | D1: EP–CP | E1: WEP | F1: W' | G1: WEP–W' | H1: no.
B2: ='Fig-Tool'!BQ8 -> 220.9 | C2: ='Fig-Tool'!BP8 -> 235 | D2: =IF(COUNT(B2:C2)>1,B2-C2,"") -> -14.1 | E2: ='Fig-Tool'!CD8 -> 5.55 | F2: ='Fig-Tool'!CE8 -> 7.45 | G2: =IF(COUNT(E2:F2)>1,E2-F2,"") -> -1.9 | H2: 1 | I2: Goulding et al. (2021) mix sup | L2: ="n = "&MAX(H2:H21) -> n = 8
B3: ='Fig-Tool'!BQ9 -> 152.2 | C3: ='Fig-Tool'!BP9 -> 154.2 | D3: =IF(COUNT(B3:C3)>1,B3-C3,"") -> -2 | E3: ='Fig-Tool'!CD9 -> 6.85 | F3: ='Fig-Tool'!CE9 -> 7.95 | G3: =IF(COUNT(E3:F3)>1,E3-F3,"") -> -1.1 | H3: 2
B4: ='Fig-Tool'!BQ10 -> 152.9 | C4: ='Fig-Tool'!BP10 -> 136.2 | D4: =IF(COUNT(B4:C4)>1,B4-C4,"") -> 16.7 | E4: ='Fig-Tool'!CD10 -> 23.75 | F4: ='Fig-Tool'!CE10 -> 13.05 | G4: =IF(COUNT(E4:F4)>1,E4-F4,"") -> 10.7 | H4: 3
B5: ='Fig-Tool'!BQ11 -> 132.1 | C5: ='Fig-Tool'!BP11 -> 138.8 | D5: =IF(COUNT(B5:C5)>1,B5-C5,"") -> -6.7 | E5: ='Fig-Tool'!CD11 -> 18.35 | F5: ='Fig-Tool'!CE11 -> 14.65 | G5: =IF(COUNT(E5:F5)>1,E5-F5,"") -> 3.7 | H5: 4
B6: ='Fig-Tool'!BQ12 -> 111.2 | C6: ='Fig-Tool'!BP12 -> 128.9 | D6: =IF(COUNT(B6:C6)>1,B6-C6,"") -> -17.7 | E6: ='Fig-Tool'!CD12 -> 18.45 | F6: ='Fig-Tool'!CE12 -> 13.95 | G6: =IF(COUNT(E6:F6)>1,E6-F6,"") -> 4.5 | H6: 5
B7: ='Fig-Tool'!BQ13 -> 109.9 | C7: ='Fig-Tool'!BP13 -> 114.8 | D7: =IF(COUNT(B7:C7)>1,B7-C7,"") -> -4.9 | E7: ='Fig-Tool'!CD13 -> 16.35 | F7: ='Fig-Tool'!CE13 -> 11.05 | G7: =IF(COUNT(E7:F7)>1,E7-F7,"") -> 5.3 | H7: 6
B8: ='Fig-Tool'!BQ14 -> 110.6 | C8: ='Fig-Tool'!BP14 -> 111.4 | D8: =IF(COUNT(B8:C8)>1,B8-C8,"") -> -0.8 | E8: ='Fig-Tool'!CD14 -> 15.05 | F8: ='Fig-Tool'!CE14 -> 8.95 | G8: =IF(COUNT(E8:F8)>1,E8-F8,"") -> 6.1 | H8: 7
B9: ='Fig-Tool'!BQ15 -> 95 | C9: ='Fig-Tool'!BP15 -> 98 | D9: =IF(COUNT(B9:C9)>1,B9-C9,"") -> -3 | E9: ='Fig-Tool'!CD15 -> 15.75 | F9: ='Fig-Tool'!CE15 -> 7.05 | G9: =IF(COUNT(E9:F9)>1,E9-F9,"") -> 8.7 | H9: 8
D10: =IF(COUNT(B10:C10)>1,B10-C10,"") | E10: ='Fig-Tool'!CD16 | F10: ='Fig-Tool'!CE16 | G10: =IF(COUNT(E10:F10)>1,E10-F10,"")
D11: =IF(COUNT(B11:C11)>1,B11-C11,"") | E11: ='Fig-Tool'!CD17 | F11: ='Fig-Tool'!CE17 | G11: =IF(COUNT(E11:F11)>1,E11-F11,"")
D12: =IF(COUNT(B12:C12)>1,B12-C12,"") | E12: ='Fig-Tool'!CD18 | F12: ='Fig-Tool'!CE18 | G12: =IF(COUNT(E12:F12)>1,E12-F12,"")
D13: =IF(COUNT(B13:C13)>1,B13-C13,"") | E13: ='Fig-Tool'!CD19 | F13: ='Fig-Tool'!CE19 | G13: =IF(COUNT(E13:F13)>1,E13-F13,"")
D14: =IF(COUNT(B14:C14)>1,B14-C14,"") | E14: ='Fig-Tool'!CD20 | F14: ='Fig-Tool'!CE20 | G14: =IF(COUNT(E14:F14)>1,E14-F14,"")
D15: =IF(COUNT(B15:C15)>1,B15-C15,"") | E15: ='Fig-Tool'!CD21 | F15: ='Fig-Tool'!CE21 | G15: =IF(COUNT(E15:F15)>1,E15-F15,"")
B16: ='Fig-Tool'!BB22 | C16: ='Fig-Tool'!BA22 | D16: =IF(COUNT(B16:C16)>1,B16-C16,"") | E16: ='Fig-Tool'!CD22 | F16: ='Fig-Tool'!CE22 | G16: =IF(COUNT(E16:F16)>1,E16-F16,"")
B17: ='Fig-Tool'!BB23 | C17: ='Fig-Tool'!BA23 | D17: =IF(COUNT(B17:C17)>1,B17-C17,"") | E17: ='Fig-Tool'!CD23 | F17: ='Fig-Tool'!CE23 | G17: =IF(COUNT(E17:F17)>1,E17-F17,"")
B18: ='Fig-Tool'!BB24 | C18: ='Fig-Tool'!BA24 | D18: =IF(COUNT(B18:C18)>1,B18-C18,"") | E18: ='Fig-Tool'!CD24 | F18: ='Fig-Tool'!CE24 | G18: =IF(COUNT(E18:F18)>1,E18-F18,"")
B19: ='Fig-Tool'!BB25 | C19: ='Fig-Tool'!BA25 | D19: =IF(COUNT(B19:C19)>1,B19-C19,"") | E19: ='Fig-Tool'!CD25 | F19: ='Fig-Tool'!CE25 | G19: =IF(COUNT(E19:F19)>1,E19-F19,"")
D20: =IF(COUNT(B20:C20)>1,B20-C20,"") | E20: ='Fig-Tool'!CD26 | F20: ='Fig-Tool'!CE26 | G20: =IF(COUNT(E20:F20)>1,E20-F20,"")
D21: =IF(COUNT(B21:C21)>1,B21-C21,"") | E21: ='Fig-Tool'!CD27 | F21: ='Fig-Tool'!CE27 | G21: =IF(COUNT(E21:F21)>1,E21-F21,"")
A22: M | B22: =AVERAGE(B2:B21) -> 135.6 | C22: =AVERAGE(C2:C21) -> 139.6625 | D22: =AVERAGE(D2:D21) -> -4.0625 | E22: =AVERAGE(E2:E21) -> 15.0125 | F22: =AVERAGE(F2:F21) -> 10.5125 | G22: =AVERAGE(G2:G21) -> 4.5
A23: SD | B23: =_xlfn.STDEV.S(B2:B21) -> 40.342108 | C23: =_xlfn.STDEV.S(C2:C21) -> 42.395786 | D23: =_xlfn.STDEV.S(D2:D21) -> 10.292152 | E23: =_xlfn.STDEV.S(E2:E21) -> 6.0686401 | F23: =_xlfn.STDEV.S(F2:F21) -> 3.0714992 | G23: =_xlfn.STDEV.S(G2:G21) -> 4.3464271
B25: CP | C25: CLES | D25: =ROUND(_xlfn.NORM.S.DIST(B27/SQRT(2),TRUE),3) -> 0.39 | E25: W | F25: CLES | G25: =ROUND(_xlfn.NORM.S.DIST(E27/SQRT(2),TRUE),3) -> 0.768
B26: dz | C26: r | D26: SEE | E26: dz | F26: r | G26: SEE
B27: =D22/D23 -> -0.39471823 | C27: =CORREL(B2:B21,C2:C21) -> 0.97026583 | D27: =STEYX(C2:C21,B2:B21) -> 11.083742 | E27: =G22/G23 -> 1.0353331 | F27: =CORREL(E2:E21,F2:F21) -> 0.73420953 | G27: =STEYX(F2:F21,E2:E21) -> 2.2523936
B29: J | C29: gz | D29: Vg | E29: J | F29: gz | G29: Vg
B30: =ROUND((1-(3/(4*COUNT(B2:B21)-9))),3) -> 0.87 | C30: =ROUND(B27*B30,3) -> -0.343 | D30: =ROUND( ((1/COUNT(D2:D21))+((B27^2)/(2*(COUNT(D2:D21)))))*2*(1-C27)*(B30^2),3) -> 0.006 | E30: =ROUND((1-(3/(4*COUNT(E2:E21)-9))),3) -> 0.87 | F30: =ROUND(E27*E30,3) -> 0.901 | G30: =ROUND( ((1/COUNT(G2:G21))+((E27^2)/(2*(COUNT(G2:G21)))))*2*(1-F27)*(E30^2),3) -> 0.077

Sheet new (2)
B1: EP | C1: CP | D1: EP–CP | E1: WEP | F1: W' | G1: WEP–W' | H1: no.
I2: Goulding et al. (2021) up | L2: ="n = "&MAX(H2:H21) -> n = 0
B16: ='Fig-Tool'!BB22 | C16: ='Fig-Tool'!BA22
B17: ='Fig-Tool'!BB23 | C17: ='Fig-Tool'!BA23
B18: ='Fig-Tool'!BB24 | C18: ='Fig-Tool'!BA24
B19: ='Fig-Tool'!BB25 | C19: ='Fig-Tool'!BA25
A22: M
A23: SD
B25: CP | E25: W
B26: dz | C26: r | D26: SEE | E26: dz | F26: r | G26: SEE
B27: =D22/D23 -> #VALUE! | C27: =CORREL(B2:B21,C2:C21) -> #DIV/0! | D27: =STEYX(C2:C21,B2:B21) -> #DIV/0! | E27: =G22/G23 -> #VALUE! | F27: =CORREL(E2:E21,F2:F21) -> #DIV/0! | G27: =STEYX(F2:F21,E2:E21) -> #DIV/0!
B29: J | C29: gz | D29: Vg | E29: J | F29: gz | G29: Vg
B30: =ROUND((1-(3/(4*COUNT(B2:B21)-9))),3) -> 1.333 | C30: =ROUND(B27*B30,3) -> #VALUE! | D30: =ROUND( ((1/COUNT(D2:D21))+((B27^2)/(2*(COUNT(D2:D21)))))*2*(1-C27)*(B30^2),3) -> #DIV/0! | E30: =ROUND((1-(3/(4*COUNT(E2:E21)-9))),3) -> 1.333 | F30: =ROUND(E27*E30,3) -> #VALUE! | G30: =ROUND( ((1/COUNT(G2:G21))+((E27^2)/(2*(COUNT(G2:G21)))))*2*(1-F27)*(E30^2),3) -> #DIV/0!

Sheet Fig-Tool
B1: Karsten et al. (2013) 2a | G1: Karsten et al. (2013) 2b | L1: Karsten et al. (2013) 3a | Q1: Karsten et al. (2013) 3b | V1: Wright et al. (2017) 1a | AC1: Wright et al. (2017) 1b | AJ1: Wright et al. (2017) 2a | AQ1: Wright et al. (2017) 2b | AX1: Clark et al. (2019) 3a | BC1: Clark et al. (2019) 3c | BH1: Goulding et al. (2021) 2a | BM1: Goulding et al. (2021) 4a | BR1: Goulding et al. (2021) 3a | BY1: Goulding et al. (2021) 3b
B2: X | D2: Y | G2: X | I2: Y | L2: X | N2: Y | Q2: X | S2: Y | V2: X | X2: Y | AC2: X | AE2: Y | AJ2: X | AL2: Y | AQ2: X | AS2: Y | AX2: X | AZ2: Y | BC2: X | BE2: Y | BH2: X | BJ2: Y | BM2: X | BO2: Y | BR2: X | BT2: Y | BY2: X | CA2: Y
B3: 0 | C3: 400 | D3: 0 | E3: 400 | G3: 0 | H3: 400 | I3: 0 | J3: 400 | L3: 0 | M3: 30 | N3: 0 | O3: 30 | Q3: 0 | R3: 30 | S3: 0 | T3: 30 | V3: 150 | W3: 350 | X3: -40 | Y3: 100 | AC3: 150 | AD3: 350 | AE3: -40 | AF3: 100 | AJ3: 0 | AK3: 40 | AL3: -25 | AM3: 10 | AQ3: 0 | AR3: 40 | AS3: -25 | AT3: 10 | AX3: 0 | AY3: 400 | AZ3: 0 | BA3: 400 | BC3: 0 | BD3: 30 | BE3: 0 | BF3: 30 | BH3: 0 | BI3: 300 | BJ3: 0 | BK3: 300 | BM3: 0 | BN3: 240 | BO3: 0 | BP3: 240 | BR3: 5 | BS3: 25 | BT3: -10 | BU3: 15 | BY3: 5 | BZ3: 25 | CA3: -15 | CB3: 10
B4: 7.43 | C4: 37.93 | G4: 8.19 | H4: 38.08 | L4: 5.52 | M4: 38.16 | Q4: 5.83 | R4: 37.82 | V4: 9.05 | W4: 38.01 | AC4: 8.81 | AD4: 37.8 | AJ4: 7.47 | AK4: 38.45 | AQ4: 6.92 | AR4: 37.08 | AX4: 5.54 | AY4: 38.48 | BC4: 5.81 | BD4: 38.34 | BH4: 5.86 | BI4: 37.82 | BM4: 5.52 | BN4: 38.54 | BR4: 7.67 | BS4: 36.28 | BY4: 6.95 | BZ4: 35.64
D5: 23 | E5: 2.69 | I5: 22.98 | J5: 3.13 | N5: 22.94 | O5: 2.28 | S5: 23.75 | T5: 2.51 | X5: 23.21 | Y5: 4.15 | AE5: 23.09 | AF5: 3.76 | AL5: 23.45 | AM5: 2.87 | AS5: 23.17 | AT5: 3.11 | AZ5: 25.29 | BA5: 2.31 | BE5: 25.07 | BF5: 2.09 | BJ5: 23.93 | BK5: 2.81 | BO5: 23.74 | BP5: 2.77 | BT5: 25.6 | BU5: 1.34 | CA5: 25.45 | CB5: 1.12
C7: hor | D7: ver | E7: X | F7: Y | H7: hor | I7: ver | J7: X | K7: Y | M7: hor | N7: ver | O7: X | P7: Y | R7: hor | S7: ver | T7: X | U7: Y | W7: hor | X7: ver | Y7: X | Z7: Y | AA7: EP | AB7: CP | AD7: hor | AE7: ver | AF7: X | AG7: Y | AH7: EP | AI7: CP | AK7: hor | AL7: ver | AM7: X | AN7: Y | AO7: WEP | AP7: W' | AR7: hor | AS7: ver | AT7: X | AU7: Y | AV7: WEP | AW7: W' | AY7: hor | AZ7: ver | BA7: X | BB7: Y | BD7: hor | BE7: ver | BF7: X | BG7: Y | BI7: hor | BJ7: ver | BK7: X | BL7: Y | BN7: hor | BO7: ver | BP7: X | BQ7: Y | BS7: hor | BT7: ver | BU7: X | BV7: Y | BW7: WEP | BX7: W' | BZ7: hor | CA7: ver | CB7: X | CC7: Y | CD7: WEP | CE7: W'
B8: 1 | C8: 21.48 | D8: 11.63 | E8: 184 | F8: 224 | G8: 1 | H8: 22.36 | I8: 11.9 | J8: 190 | K8: 223 | L8: 1 | M8: 31.63 | N8: 12.38 | O8: 24 | P8: 15.3 | Q8: 1 | R8: 14.34 | S8: 21.64 | T8: 8 | U8: 3 | V8: 1 | W8: 17.04 | X8: 20.54 | Y8: 205.2 | Z8: -20.4 | AA8: 215.4 | AB8: 195 | AC8: 1 | AD8: 17.47 | AE8: 13.45 | AF8: =IF(COUNT(AC$3:AD$4,AD8)>4,ROUND((AD8-AC$4)/(AD$4-AC$4)*(AD$3-AC$3)+AC$3,1),"") -> 209.7 | AG8: =IF(COUNT(AE$3:AF$5,AE8)>4,ROUND((AE8-AE$5)/(AF$5-AE$5)*(AF$3-AE$3)+AE$3,1),"") -> 29.8 | AH8: 224.6 | AI8: 194.8 | AJ8: 1 | AK8: 31.94 | AL8: 11.22 | AM8: =IF(COUNT(AJ$3:AK$4,AK8)>4,ROUND((AK8-AJ$4)/(AK$4-AJ$4)*(AK$3-AJ$3)+AJ$3,1),"") -> 31.6 | AN8: -4.2 | AO8: 29.5 | AP8: 33.7 | AQ8: 1 | AR8: 17.06 | AS8: 11.21 | AT8: =IF(COUNT(AQ$3:AR$4,AR8)>4,ROUND((AR8-AQ$4)/(AR$4-AQ$4)*(AR$3-AQ$3)+AQ$3,1),"") -> 13.4 | AU8: -4.1 | AV8: 11.35 | AW8: 15.45 | AX8: 1 | AY8: 21.04 | AZ8: 16.47 | BA8: 188.2 | BB8: 153.5 | BC8: 1 | BD8: 15.31 | BE8: 19.28 | BF8: 8.8 | BG8: =IF(COUNT(BE$3:BF$5,BE8)>4,ROUND((BE8-BE$5)/(BF$5-BE$5)*(BF$3-BE$3)+BE$3,1),"") -> 7.6 | BH8: 1 | BI8: 20.4 | BJ8: 14.23 | BK8: =IF(COUNT(BH$3:BI$4,BI8)>4,ROUND((BI8-BH$4)/(BI$4-BH$4)*(BI$3-BH$3)+BH$3,1),"") -> 136.5 | BL8: =IF(COUNT(BJ$3:BK$5,BJ8)>4,ROUND((BJ8-BJ$5)/(BK$5-BJ$5)*(BK$3-BJ$3)+BJ$3,1),"") -> 137.8 | BM8: 1 | BN8: 37.85 | BO8: 4.44 | BP8: =IF(COUNT(BM$3:BN$4,BN8)>4,ROUND((BN8-BM$4)/(BN$4-BM$4)*(BN$3-BM$3)+BM$3,1),"") -> 235 | BQ8: =IF(COUNT(BO$3:BP$5,BO8)>4,ROUND((BO8-BO$5)/(BP$5-BO$5)*(BP$3-BO$3)+BO$3,1),"") -> 220.9 | BR8: 1 | BS8: 26.69 | BT8: 3.13 | BU8: =IF(COUNT(BR$3:BS$4,BS8)>4,ROUND((BS8-BR$4)/(BS$4-BR$4)*(BS$3-BR$3)+BR$3,1),"") -> 18.3 | BV8: =IF(COUNT(BT$3:BU$5,BT8)>4,ROUND((BT8-BT$5)/(BU$5-BT$5)*(BU$3-BT$3)+BT$3,1),"") -> 13.2 | BW8: =IF(COUNT(BU8:BV8)>1, BU8-(BV8/2),"") -> 11.7 | BX8: =IF(COUNT(BU8:BV8)>1, BU8+(BV8/2),"") -> 24.9 | BY8: 1 | BZ8: 9.05 | CA8: 9.03 | CB8: =IF(COUNT(BY$3:BZ$4,BZ8)>4,ROUND((BZ8-BY$4)/(BZ$4-BY$4)*(BZ$3-BY$3)+BY$3,1),"") -> 6.5 | CC8: =IF(COUNT(CA$3:CB$5,CA8)>4,ROUND((CA8-CA$5)/(CB$5-CA$5)*(CB$3-CA$3)+CA$3,1),"") -> 1.9 | CD8: =IF(COUNT(CB8:CC8)>1, CB8-(CC8/2),"") -> 5.55 | CE8: =IF(COUNT(CB8:CC8)>1, CB8+(CC8/2),"") -> 7.45
B9: 2 | C9: 23.06 | D9: 10.7 | E9: 205 | F9: 242 | G9: 2 | H9: 23.67 | I9: 11 | J9: 207 | K9: 241 | L9: 2 | M9: 25.07 | N9: 8.8 | O9: 18 | P9: 20.5 | Q9: 2 | R9: 22.88 | S9: 16.69 | T9: 16 | U9: 10 | V9: 2 | W9: 20.72 | X9: 19.39 | Y9: 230.6 | Z9: -11.9 | AA9: 236.55 | AB9: 224.65 | AC9: 2 | AD9: 19.64 | AE9: 16.98 | AF9: =IF(COUNT(AC$3:AD$4,AD9)>4,ROUND((AD9-AC$4)/(AD$4-AC$4)*(AD$3-AC$3)+AC$3,1),"") -> 224.7 | AG9: =IF(COUNT(AE$3:AF$5,AE9)>4,ROUND((AE9-AE$5)/(AF$5-AE$5)*(AF$3-AE$3)+AE$3,1),"") -> 4.3 | AH9: 226.85 | AI9: 222.55 | AJ9: 2 | AK9: 26.66 | AL9: 15.31 | AM9: =IF(COUNT(AJ$3:AK$4,AK9)>4,ROUND((AK9-AJ$4)/(AK$4-AJ$4)*(AK$3-AJ$3)+AJ$3,1),"") -> 24.8 | AN9: -11.2 | AO9: 19.2 | AP9: 30.4 | AQ9: 2 | AR9: 17.42 | AS9: 11.53 | AT9: =IF(COUNT(AQ$3:AR$4,AR9)>4,ROUND((AR9-AQ$4)/(AR$4-AQ$4)*(AR$3-AQ$3)+AQ$3,1),"") -> 13.9 | AU9: -4.7 | AV9: 11.55 | AW9: 16.25 | AX9: 2 | AY9: 23.26 | AZ9: 13.1 | BA9: 215.2 | BB9: 212.2 | BC9: 2 | BD9: 17.32 | BE9: 19.38 | BF9: 10.6 | BG9: =IF(COUNT(BE$3:BF$5,BE9)>4,ROUND((BE9-BE$5)/(BF$5-BE$5)*(BF$3-BE$3)+BE$3,1),"") -> 7.4 | BH9: 2 | BI9: 24.21 | BJ9: 11.46 | BK9: =IF(COUNT(BH$3:BI$4,BI9)>4,ROUND((BI9-BH$4)/(BI$4-BH$4)*(BI$3-BH$3)+BH$3,1),"") -> 172.2 | BL9: =IF(COUNT(BJ$3:BK$5,BJ9)>4,ROUND((BJ9-BJ$5)/(BK$5-BJ$5)*(BK$3-BJ$3)+BJ$3,1),"") -> 177.1 | BM9: 2 | BN9: 26.74 | BO9: 10.44 | BP9: =IF(COUNT(BM$3:BN$4,BN9)>4,ROUND((BN9-BM$4)/(BN$4-BM$4)*(BN$3-BM$3)+BM$3,1),"") -> 154.2 | BQ9: =IF(COUNT(BO$3:BP$5,BO9)>4,ROUND((BO9-BO$5)/(BP$5-BO$5)*(BP$3-BO$3)+BO$3,1),"") -> 152.2 | BR9: 2 | BS9: 33.23 | BT9: 11.09 | BU9: =IF(COUNT(BR$3:BS$4,BS9)>4,ROUND((BS9-BR$4)/(BS$4-BR$4)*(BS$3-BR$3)+BR$3,1),"") -> 22.9 | BV9: =IF(COUNT(BT$3:BU$5,BT9)>4,ROUND((BT9-BT$5)/(BU$5-BT$5)*(BU$3-BT$3)+BT$3,1),"") -> 5 | BW9: =IF(COUNT(BU9:BV9)>1, BU9-(BV9/2),"") -> 20.4 | BX9: =IF(COUNT(BU9:BV9)>1, BU9+(BV9/2),"") -> 25.4 | BY9: 2 | BZ9: 10.42 | CA9: 9.77 | CB9: =IF(COUNT(BY$3:BZ$4,BZ9)>4,ROUND((BZ9-BY$4)/(BZ$4-BY$4)*(BZ$3-BY$3)+BY$3,1),"") -> 7.4 | CC9: =IF(COUNT(CA$3:CB$5,CA9)>4,ROUND((CA9-CA$5)/(CB$5-CA$5)*(CB$3-CA$3)+CA$3,1),"") -> 1.1 | CD9: =IF(COUNT(CB9:CC9)>1, CB9-(CC9/2),"") -> 6.85 | CE9: =IF(COUNT(CB9:CC9)>1, CB9+(CC9/2),"") -> 7.95
B10: 3 | C10: 22.74 | D10: 9.06 | E10: 201 | F10: 275 | G10: 3 | H10: 24.36 | I10: 9.39 | J10: 216 | K10: 274 | L10: 3 | M10: 30.54 | N10: 15.31 | O10: 23 | P10: 11.1 | Q10: 3 | R10: 23.94 | S10: 16 | T10: 17 | U10: 10.9 | V10: 3 | W10: 19.87 | X10: 18.27 | Y10: 224.7 | Z10: -3.7 | AA10: 226.55 | AB10: 222.85 | AC10: 3 | AD10: 20.34 | AE10: 16.13 | AF10: =IF(COUNT(AC$3:AD$4,AD10)>4,ROUND((AD10-AC$4)/(AD$4-AC$4)*(AD$3-AC$3)+AC$3,1),"") -> 229.5 | AG10: =IF(COUNT(AE$3:AF$5,AE10)>4,ROUND((AE10-AE$5)/(AF$5-AE$5)*(AF$3-AE$3)+AE$3,1),"") -> 10.4 | AH10: 234.7 | AI10: 224.3 | AJ10: 3 | AK10: 23.9 | AL10: 10.26 | AM10: =IF(COUNT(AJ$3:AK$4,AK10)>4,ROUND((AK10-AJ$4)/(AK$4-AJ$4)*(AK$3-AJ$3)+AJ$3,1),"") -> 21.2 | AN10: -2.6 | AO10: 19.9 | AP10: 22.5 | AQ10: 3 | AR10: 17.97 | AS10: 11.2 | AT10: =IF(COUNT(AQ$3:AR$4,AR10)>4,ROUND((AR10-AQ$4)/(AR$4-AQ$4)*(AR$3-AQ$3)+AQ$3,1),"") -> 14.7 | AU10: -4.1 | AV10: 12.65 | AW10: 16.75 | AX10: 3 | AY10: 23.37 | AZ10: 12.86 | BA10: 216.5 | BB10: 216.4 | BC10: 3 | BD10: 18.48 | BE10: 17.79 | BF10: 11.7 | BG10: =IF(COUNT(BE$3:BF$5,BE10)>4,ROUND((BE10-BE$5)/(BF$5-BE$5)*(BF$3-BE$3)+BE$3,1),"") -> 9.5 | BH10: 3 | BI10: 24.55 | BJ10: 11.66 | BK10: =IF(COUNT(BH$3:BI$4,BI10)>4,ROUND((BI10-BH$4)/(BI$4-BH$4)*(BI$3-BH$3)+BH$3,1),"") -> 175.4 | BL10: =IF(COUNT(BJ$3:BK$5,BJ10)>4,ROUND((BJ10-BJ$5)/(BK$5-BJ$5)*(BK$3-BJ$3)+BJ$3,1),"") -> 174.3 | BM10: 3 | BN10: 24.26 | BO10: 10.38 | BP10: =IF(COUNT(BM$3:BN$4,BN10)>4,ROUND((BN10-BM$4)/(BN$4-BM$4)*(BN$3-BM$3)+BM$3,1),"") -> 136.2 | BQ10: =IF(COUNT(BO$3:BP$5,BO10)>4,ROUND((BO10-BO$5)/(BP$5-BO$5)*(BP$3-BO$3)+BO$3,1),"") -> 152.9 | BR10: 3 | BS10: 30.61 | BT10: 11.89 | BU10: =IF(COUNT(BR$3:BS$4,BS10)>4,ROUND((BS10-BR$4)/(BS$4-BR$4)*(BS$3-BR$3)+BR$3,1),"") -> 21 | BV10: =IF(COUNT(BT$3:BU$5,BT10)>4,ROUND((BT10-BT$5)/(BU$5-BT$5)*(BU$3-BT$3)+BT$3,1),"") -> 4.1 | BW10: =IF(COUNT(BU10:BV10)>1, BU10-(BV10/2),"") -> 18.95 | BX10: =IF(COUNT(BU10:BV10)>1, BU10+(BV10/2),"") -> 23.05 | BY10: 3 | BZ10: 26.15 | CA10: 21.23 | CB10: =IF(COUNT(BY$3:BZ$4,BZ10)>4,ROUND((BZ10-BY$4)/(BZ$4-BY$4)*(BZ$3-BY$3)+BY$3,1),"") -> 18.4 | CC10: =IF(COUNT(CA$3:CB$5,CA10)>4,ROUND((CA10-CA$5)/(CB$5-CA$5)*(CB$3-CA$3)+CA$3,1),"") -> -10.7 | CD10: =IF(COUNT(CB10:CC10)>1, CB10-(CC10/2),"") -> 23.75 | CE10: =IF(COUNT(CB10:CC10)>1, CB10+(CC10/2),"") -> 13.05
B11: 4 | C11: 24.51 | D11: 9.39 | E11: 224 | F11: 268 | G11: 4 | H11: 26.11 | I11: 9.71 | J11: 240 | K11: 267 | L11: 4 | M11: 26.17 | N11: 16.03 | O11: 19 | P11: 10 | Q11: 4 | R11: 24.99 | S11: 15.27 | T11: 18 | U11: 12 | V11: 4 | W11: 19.05 | X11: 16.39 | Y11: 219.1 | Z11: 10.1 | AA11: 214.05 | AB11: 224.15 | AC11: 4 | AD11: 20.68 | AE11: 15.36 | AF11: =IF(COUNT(AC$3:AD$4,AD11)>4,ROUND((AD11-AC$4)/(AD$4-AC$4)*(AD$3-AC$3)+AC$3,1),"") -> 231.9 | AG11: =IF(COUNT(AE$3:AF$5,AE11)>4,ROUND((AE11-AE$5)/(AF$5-AE$5)*(AF$3-AE$3)+AE$3,1),"") -> 16 | AH11: 239.9 | AI11: 223.9 | AJ11: 4 | AK11: 23.77 | AL11: 13.04 | AM11: =IF(COUNT(AJ$3:AK$4,AK11)>4,ROUND((AK11-AJ$4)/(AK$4-AJ$4)*(AK$3-AJ$3)+AJ$3,1),"") -> 21 | AN11: -7.3 | AO11: 17.35 | AP11: 24.65 | AQ11: 4 | AR11: 22.24 | AS11: 11.33 | AT11: =IF(COUNT(AQ$3:AR$4,AR11)>4,ROUND((AR11-AQ$4)/(AR$4-AQ$4)*(AR$3-AQ$3)+AQ$3,1),"") -> 20.3 | AU11: -4.3 | AV11: 18.15 | AW11: 22.45 | AX11: 4 | AY11: 24.31 | AZ11: 13.3 | BA11: 227.9 | BB11: 208.7 | BC11: 4 | BD11: 24.07 | BE11: 18.2 | BF11: 16.8 | BG11: =IF(COUNT(BE$3:BF$5,BE11)>4,ROUND((BE11-BE$5)/(BF$5-BE$5)*(BF$3-BE$3)+BE$3,1),"") -> 9 | BH11: 4 | BI11: 26.12 | BJ11: 9.98 | BK11: =IF(COUNT(BH$3:BI$4,BI11)>4,ROUND((BI11-BH$4)/(BI$4-BH$4)*(BI$3-BH$3)+BH$3,1),"") -> 190.2 | BL11: =IF(COUNT(BJ$3:BK$5,BJ11)>4,ROUND((BJ11-BJ$5)/(BK$5-BJ$5)*(BK$3-BJ$3)+BJ$3,1),"") -> 198.2 | BM11: 4 | BN11: 24.61 | BO11: 12.2 | BP11: =IF(COUNT(BM$3:BN$4,BN11)>4,ROUND((BN11-BM$4)/(BN$4-BM$4)*(BN$3-BM$3)+BM$3,1),"") -> 138.8 | BQ11: =IF(COUNT(BO$3:BP$5,BO11)>4,ROUND((BO11-BO$5)/(BP$5-BO$5)*(BP$3-BO$3)+BO$3,1),"") -> 132.1 | BR11: 4 | BS11: 31.59 | BT11: 15.43 | BU11: =IF(COUNT(BR$3:BS$4,BS11)>4,ROUND((BS11-BR$4)/(BS$4-BR$4)*(BS$3-BR$3)+BR$3,1),"") -> 21.7 | BV11: =IF(COUNT(BT$3:BU$5,BT11)>4,ROUND((BT11-BT$5)/(BU$5-BT$5)*(BU$3-BT$3)+BT$3,1),"") -> 0.5 | BW11: =IF(COUNT(BU11:BV11)>1, BU11-(BV11/2),"") -> 21.45 | BX11: =IF(COUNT(BU11:BV11)>1, BU11+(BV11/2),"") -> 21.95 | BY11: 4 | BZ11: 23.41 | CA11: 14.46 | CB11: =IF(COUNT(BY$3:BZ$4,BZ11)>4,ROUND((BZ11-BY$4)/(BZ$4-BY$4)*(BZ$3-BY$3)+BY$3,1),"") -> 16.5 | CC11: =IF(COUNT(CA$3:CB$5,CA11)>4,ROUND((CA11-CA$5)/(CB$5-CA$5)*(CB$3-CA$3)+CA$3,1),"") -> -3.7 | CD11: =IF(COUNT(CB11:CC11)>1, CB11-(CC11/2),"") -> 18.35 | CE11: =IF(COUNT(CB11:CC11)>1, CB11+(CC11/2),"") -> 14.65
B12: 5 | C12: 25.72 | D12: 9.69 | E12: 240 | F12: 262 | G12: 5 | H12: 27.14 | I12: 10.01 | J12: 254 | K12: 261 | L12: 5 | M12: 25.07 | N12: 16.02 | O12: 18 | P12: 10 | Q12: 5 | R12: 23.96 | S12: 13.84 | T12: 17 | U12: 14 | V12: 5 | W12: 20.85 | X12: 15.45 | Y12: 231.5 | Z12: 17 | AA12: 223 | AB12: 240 | AC12: 5 | AD12: 22.25 | AE12: 16.39 | AF12: =IF(COUNT(AC$3:AD$4,AD12)>4,ROUND((AD12-AC$4)/(AD$4-AC$4)*(AD$3-AC$3)+AC$3,1),"") -> 242.7 | AG12: =IF(COUNT(AE$3:AF$5,AE12)>4,ROUND((AE12-AE$5)/(AF$5-AE$5)*(AF$3-AE$3)+AE$3,1),"") -> 8.5 | AH12: 246.95 | AI12: 238.45 | AJ12: 5 | AK12: 22.35 | AL12: 14.29 | AM12: =IF(COUNT(AJ$3:AK$4,AK12)>4,ROUND((AK12-AJ$4)/(AK$4-AJ$4)*(AK$3-AJ$3)+AJ$3,1),"") -> 19.2 | AN12: -9.4 | AO12: 14.5 | AP12: 23.9 | AQ12: 5 | AR12: 18.33 | AS12: 13.03 | AT12: =IF(COUNT(AQ$3:AR$4,AR12)>4,ROUND((AR12-AQ$4)/(AR$4-AQ$4)*(AR$3-AQ$3)+AQ$3,1),"") -> 15.1 | AU12: -7.3 | AV12: 11.45 | AW12: 18.75 | AX12: 5 | AY12: 25.37 | AZ12: 12.68 | BA12: 240.8 | BB12: 219.5 | BC12: 5 | BD12: 17.01 | BE12: 14.84 | BF12: 10.3 | BG12: =IF(COUNT(BE$3:BF$5,BE12)>4,ROUND((BE12-BE$5)/(BF$5-BE$5)*(BF$3-BE$3)+BE$3,1),"") -> 13.4 | BH12: 5 | BI12: 26.49 | BJ12: 10.56 | BK12: =IF(COUNT(BH$3:BI$4,BI12)>4,ROUND((BI12-BH$4)/(BI$4-BH$4)*(BI$3-BH$3)+BH$3,1),"") -> 193.6 | BL12: =IF(COUNT(BJ$3:BK$5,BJ12)>4,ROUND((BJ12-BJ$5)/(BK$5-BJ$5)*(BK$3-BJ$3)+BJ$3,1),"") -> 189.9 | BM12: 5 | BN12: 23.25 | BO12: 14.02 | BP12: =IF(COUNT(BM$3:BN$4,BN12)>4,ROUND((BN12-BM$4)/(BN$4-BM$4)*(BN$3-BM$3)+BM$3,1),"") -> 128.9 | BQ12: =IF(COUNT(BO$3:BP$5,BO12)>4,ROUND((BO12-BO$5)/(BP$5-BO$5)*(BP$3-BO$3)+BO$3,1),"") -> 111.2 | BR12: 5 | BS12: 26.07 | BT12: 16.55 | BU12: =IF(COUNT(BR$3:BS$4,BS12)>4,ROUND((BS12-BR$4)/(BS$4-BR$4)*(BS$3-BR$3)+BR$3,1),"") -> 17.9 | BV12: =IF(COUNT(BT$3:BU$5,BT12)>4,ROUND((BT12-BT$5)/(BU$5-BT$5)*(BU$3-BT$3)+BT$3,1),"") -> -0.7 | BW12: =IF(COUNT(BU12:BV12)>1, BU12-(BV12/2),"") -> 18.25 | BX12: =IF(COUNT(BU12:BV12)>1, BU12+(BV12/2),"") -> 17.55 | BY12: 5 | BZ12: 22.96 | CA12: 15.22 | CB12: =IF(COUNT(BY$3:BZ$4,BZ12)>4,ROUND((BZ12-BY$4)/(BZ$4-BY$4)*(BZ$3-BY$3)+BY$3,1),"") -> 16.2 | CC12: =IF(COUNT(CA$3:CB$5,CA12)>4,ROUND((CA12-CA$5)/(CB$5-CA$5)*(CB$3-CA$3)+CA$3,1),"") -> -4.5 | CD12: =IF(COUNT(CB12:CC12)>1, CB12-(CC12/2),"") -> 18.45 | CE12: =IF(COUNT(CB12:CC12)>1, CB12+(CC12/2),"") -> 13.95
B13: 6 | C13: 26.56 | D13: 9.03 | E13: 251 | F13: 275 | G13: 6 | H13: 27.38 | I13: 9.36 | J13: 257 | K13: 274 | L13: 6 | M13: 24 | N13: 16.03 | O13: 17 | P13: 10 | Q13: 6 | R13: 20.75 | S13: 13.87 | T13: 14 | U13: 14 | V13: 6 | W13: 20.56 | X13: 13.66 | Y13: 229.5 | Z13: 30.1 | AA13: 214.45 | AB13: 244.55 | AC13: 6 | AD13: 23.6 | AE13: 15.41 | AF13: =IF(COUNT(AC$3:AD$4,AD13)>4,ROUND((AD13-AC$4)/(AD$4-AC$4)*(AD$3-AC$3)+AC$3,1),"") -> 252 | AG13: =IF(COUNT(AE$3:AF$5,AE13)>4,ROUND((AE13-AE$5)/(AF$5-AE$5)*(AF$3-AE$3)+AE$3,1),"") -> 15.6 | AH13: 259.8 | AI13: 244.2 | AJ13: 6 | AK13: 20.86 | AL13: 17.48 | AM13: =IF(COUNT(AJ$3:AK$4,AK13)>4,ROUND((AK13-AJ$4)/(AK$4-AJ$4)*(AK$3-AJ$3)+AJ$3,1),"") -> 17.3 | AN13: -14.8 | AO13: 9.9 | AP13: 24.7 | AQ13: 6 | AR13: 22.08 | AS13: 14.06 | AT13: =IF(COUNT(AQ$3:AR$4,AR13)>4,ROUND((AR13-AQ$4)/(AR$4-AQ$4)*(AR$3-AQ$3)+AQ$3,1),"") -> 20.1 | AU13: -9.1 | AV13: 15.55 | AW13: 24.65 | AX13: 6 | AY13: 26 | AZ13: 11 | BA13: 248.5 | BB13: 248.7 | BC13: 6 | BD13: 22.26 | BE13: 15.57 | BF13: 15.2 | BG13: =IF(COUNT(BE$3:BF$5,BE13)>4,ROUND((BE13-BE$5)/(BF$5-BE$5)*(BF$3-BE$3)+BE$3,1),"") -> 12.4 | BH13: 6 | BI13: 28.83 | BJ13: 9.15 | BK13: =IF(COUNT(BH$3:BI$4,BI13)>4,ROUND((BI13-BH$4)/(BI$4-BH$4)*(BI$3-BH$3)+BH$3,1),"") -> 215.6 | BL13: =IF(COUNT(BJ$3:BK$5,BJ13)>4,ROUND((BJ13-BJ$5)/(BK$5-BJ$5)*(BK$3-BJ$3)+BJ$3,1),"") -> 209.9 | BM13: 6 | BN13: 21.31 | BO13: 14.14 | BP13: =IF(COUNT(BM$3:BN$4,BN13)>4,ROUND((BN13-BM$4)/(BN$4-BM$4)*(BN$3-BM$3)+BM$3,1),"") -> 114.8 | BQ13: =IF(COUNT(BO$3:BP$5,BO13)>4,ROUND((BO13-BO$5)/(BP$5-BO$5)*(BP$3-BO$3)+BO$3,1),"") -> 109.9 | BR13: 6 | BS13: 21.66 | BT13: 21.54 | BU13: =IF(COUNT(BR$3:BS$4,BS13)>4,ROUND((BS13-BR$4)/(BS$4-BR$4)*(BS$3-BR$3)+BR$3,1),"") -> 14.8 | BV13: =IF(COUNT(BT$3:BU$5,BT13)>4,ROUND((BT13-BT$5)/(BU$5-BT$5)*(BU$3-BT$3)+BT$3,1),"") -> -5.8 | BW13: =IF(COUNT(BU13:BV13)>1, BU13-(BV13/2),"") -> 17.7 | BX13: =IF(COUNT(BU13:BV13)>1, BU13+(BV13/2),"") -> 11.9 | BY13: 6 | BZ13: 19.42 | CA13: 15.97 | CB13: =IF(COUNT(BY$3:BZ$4,BZ13)>4,ROUND((BZ13-BY$4)/(BZ$4-BY$4)*(BZ$3-BY$3)+BY$3,1),"") -> 13.7 | CC13: =IF(COUNT(CA$3:CB$5,CA13)>4,ROUND((CA13-CA$5)/(CB$5-CA$5)*(CB$3-CA$3)+CA$3,1),"") -> -5.3 | CD13: =IF(COUNT(CB13:CC13)>1, CB13-(CC13/2),"") -> 16.35 | CE13: =IF(COUNT(CB13:CC13)>1, CB13+(CC13/2),"") -> 11.05
B14: 7 | C14: 27.34 | D14: 8.09 | E14: 261 | F14: 294 | G14: 7 | H14: 27.8 | I14: 8.43 | J14: 262 | K14: 293 | L14: 7 | M14: 25.07 | N14: 15.31 | O14: 18 | P14: 11.1 | Q14: 7 | R14: 27.15 | S14: 15.99 | T14: 20 | U14: 11 | V14: 7 | W14: 21.81 | X14: 16.4 | Y14: 238.1 | Z14: 10 | AA14: 233.1 | AB14: 243.1 | AC14: 7 | AD14: 25.47 | AE14: 11.5 | AF14: =IF(COUNT(AC$3:AD$4,AD14)>4,ROUND((AD14-AC$4)/(AD$4-AC$4)*(AD$3-AC$3)+AC$3,1),"") -> 264.9 | AG14: =IF(COUNT(AE$3:AF$5,AE14)>4,ROUND((AE14-AE$5)/(AF$5-AE$5)*(AF$3-AE$3)+AE$3,1),"") -> 43.9 | AH14: 286.85 | AI14: 242.95 | AJ14: 7 | AK14: 19.87 | AL14: 18.03 | AM14: =IF(COUNT(AJ$3:AK$4,AK14)>4,ROUND((AK14-AJ$4)/(AK$4-AJ$4)*(AK$3-AJ$3)+AJ$3,1),"") -> 16 | AN14: -15.8 | AO14: 8.1 | AP14: 23.9 | AQ14: 7 | AR14: 18.87 | AS14: 14.62 | AT14: =IF(COUNT(AQ$3:AR$4,AR14)>4,ROUND((AR14-AQ$4)/(AR$4-AQ$4)*(AR$3-AQ$3)+AQ$3,1),"") -> 15.8 | AU14: -10.1 | AV14: 10.75 | AW14: 20.85 | AX14: 7 | AY14: 26.43 | AZ14: 10.16 | BA14: 253.7 | BB14: 263.4 | BC14: 7 | BD14: 23.01 | BE14: 14.3 | BF14: 15.9 | BG14: =IF(COUNT(BE$3:BF$5,BE14)>4,ROUND((BE14-BE$5)/(BF$5-BE$5)*(BF$3-BE$3)+BE$3,1),"") -> 14.1 | BH14: 7 | BI14: 30.9 | BJ14: 8.7 | BK14: =IF(COUNT(BH$3:BI$4,BI14)>4,ROUND((BI14-BH$4)/(BI$4-BH$4)*(BI$3-BH$3)+BH$3,1),"") -> 235 | BL14: =IF(COUNT(BJ$3:BK$5,BJ14)>4,ROUND((BJ14-BJ$5)/(BK$5-BJ$5)*(BK$3-BJ$3)+BJ$3,1),"") -> 216.3 | BM14: 7 | BN14: 20.84 | BO14: 14.08 | BP14: =IF(COUNT(BM$3:BN$4,BN14)>4,ROUND((BN14-BM$4)/(BN$4-BM$4)*(BN$3-BM$3)+BM$3,1),"") -> 111.4 | BQ14: =IF(COUNT(BO$3:BP$5,BO14)>4,ROUND((BO14-BO$5)/(BP$5-BO$5)*(BP$3-BO$3)+BO$3,1),"") -> 110.6 | BR14: 7 | BS14: 10.08 | BT14: 16.94 | BU14: =IF(COUNT(BR$3:BS$4,BS14)>4,ROUND((BS14-BR$4)/(BS$4-BR$4)*(BS$3-BR$3)+BR$3,1),"") -> 6.7 | BV14: =IF(COUNT(BT$3:BU$5,BT14)>4,ROUND((BT14-BT$5)/(BU$5-BT$5)*(BU$3-BT$3)+BT$3,1),"") -> -1.1 | BW14: =IF(COUNT(BU14:BV14)>1, BU14-(BV14/2),"") -> 7.25 | BX14: =IF(COUNT(BU14:BV14)>1, BU14+(BV14/2),"") -> 6.15 | BY14: 7 | BZ14: 16.97 | CA14: 16.82 | CB14: =IF(COUNT(BY$3:BZ$4,BZ14)>4,ROUND((BZ14-BY$4)/(BZ$4-BY$4)*(BZ$3-BY$3)+BY$3,1),"") -> 12 | CC14: =IF(COUNT(CA$3:CB$5,CA14)>4,ROUND((CA14-CA$5)/(CB$5-CA$5)*(CB$3-CA$3)+CA$3,1),"") -> -6.1 | CD14: =IF(COUNT(CB14:CC14)>1, CB14-(CC14/2),"") -> 15.05 | CE14: =IF(COUNT(CB14:CC14)>1, CB14+(CC14/2),"") -> 8.95
B15: 8 | C15: 27.88 | D15: 8.07 | E15: 268 | F15: 294 | G15: 8 | H15: 28.38 | I15: 7.96 | J15: 270 | K15: 303 | L15: 8 | M15: 21.82 | N15: 16.75 | O15: 15 | P15: 9 | Q15: 8 | R15: 29.29 | S15: 16 | T15: 22 | U15: 10.9 | V15: 8 | W15: 27.6 | X15: 14.88 | Y15: 278.1 | Z15: 21.2 | AA15: 267.5 | AB15: 288.7 | AC15: 8 | AD15: 27.97 | AE15: 14.54 | AF15: =IF(COUNT(AC$3:AD$4,AD15)>4,ROUND((AD15-AC$4)/(AD$4-AC$4)*(AD$3-AC$3)+AC$3,1),"") -> 282.2 | AG15: =IF(COUNT(AE$3:AF$5,AE15)>4,ROUND((AE15-AE$5)/(AF$5-AE$5)*(AF$3-AE$3)+AE$3,1),"") -> 21.9 | AH15: 293.15 | AI15: 271.25 | AJ15: 8 | AK15: 21.2 | AL15: 12.46 | AM15: =IF(COUNT(AJ$3:AK$4,AK15)>4,ROUND((AK15-AJ$4)/(AK$4-AJ$4)*(AK$3-AJ$3)+AJ$3,1),"") -> 17.7 | AN15: -6.3 | AO15: 14.55 | AP15: 20.85 | AQ15: 8 | AR15: 28.16 | AS15: 15.12 | AT15: =IF(COUNT(AQ$3:AR$4,AR15)>4,ROUND((AR15-AQ$4)/(AR$4-AQ$4)*(AR$3-AQ$3)+AQ$3,1),"") -> 28.2 | AU15: -11 | AV15: 22.7 | AW15: 33.7 | AX15: 8 | AY15: 28.22 | AZ15: 10.13 | BA15: 275.4 | BB15: 263.9 | BC15: 8 | BD15: 31.65 | BE15: 5.56 | BF15: 23.8 | BG15: =IF(COUNT(BE$3:BF$5,BE15)>4,ROUND((BE15-BE$5)/(BF$5-BE$5)*(BF$3-BE$3)+BE$3,1),"") -> 25.5 | BH15: 8 | BI15: 31.36 | BJ15: 7.83 | BK15: =IF(COUNT(BH$3:BI$4,BI15)>4,ROUND((BI15-BH$4)/(BI$4-BH$4)*(BI$3-BH$3)+BH$3,1),"") -> 239.4 | BL15: =IF(COUNT(BJ$3:BK$5,BJ15)>4,ROUND((BJ15-BJ$5)/(BK$5-BJ$5)*(BK$3-BJ$3)+BJ$3,1),"") -> 228.7 | BM15: 8 | BN15: 19 | BO15: 15.44 | BP15: =IF(COUNT(BM$3:BN$4,BN15)>4,ROUND((BN15-BM$4)/(BN$4-BM$4)*(BN$3-BM$3)+BM$3,1),"") -> 98 | BQ15: =IF(COUNT(BO$3:BP$5,BO15)>4,ROUND((BO15-BO$5)/(BP$5-BO$5)*(BP$3-BO$3)+BO$3,1),"") -> 95 | BR15: 8 | BS15: 18.02 | BT15: 9.76 | BU15: =IF(COUNT(BR$3:BS$4,BS15)>4,ROUND((BS15-BR$4)/(BS$4-BR$4)*(BS$3-BR$3)+BR$3,1),"") -> 12.2 | BV15: =IF(COUNT(BT$3:BU$5,BT15)>4,ROUND((BT15-BT$5)/(BU$5-BT$5)*(BU$3-BT$3)+BT$3,1),"") -> 6.3 | BW15: =IF(COUNT(BU15:BV15)>1, BU15-(BV15/2),"") -> 9.05 | BX15: =IF(COUNT(BU15:BV15)>1, BU15+(BV15/2),"") -> 15.35 | BY15: 8 | BZ15: 16.17 | CA15: 19.3 | CB15: =IF(COUNT(BY$3:BZ$4,BZ15)>4,ROUND((BZ15-BY$4)/(BZ$4-BY$4)*(BZ$3-BY$3)+BY$3,1),"") -> 11.4 | CC15: =IF(COUNT(CA$3:CB$5,CA15)>4,ROUND((CA15-CA$5)/(CB$5-CA$5)*(CB$3-CA$3)+CA$3,1),"") -> -8.7 | CD15: =IF(COUNT(CB15:CC15)>1, CB15-(CC15/2),"") -> 15.75 | CE15: =IF(COUNT(CB15:CC15)>1, CB15+(CC15/2),"") -> 7.05
B16: 9 | C16: 27.95 | D16: 7.54 | E16: 269 | F16: 304 | G16: 9 | H16: 28.92 | I16: 8.42 | J16: 277 | K16: 293 | L16: 9 | M16: 21.82 | N16: 13.86 | O16: 15 | P16: 13.2 | Q16: 9 | R16: 32.5 | S16: 16.01 | T16: 25 | U16: 10.9 | V16: 9 | W16: 25.45 | X16: 16.67 | Y16: 263.3 | Z16: 8 | AA16: 259.3 | AB16: 267.3 | AC16: 9 | AD16: 30.32 | AE16: 14.8 | AF16: =IF(COUNT(AC$3:AD$4,AD16)>4,ROUND((AD16-AC$4)/(AD$4-AC$4)*(AD$3-AC$3)+AC$3,1),"") -> 298.4 | AG16: =IF(COUNT(AE$3:AF$5,AE16)>4,ROUND((AE16-AE$5)/(AF$5-AE$5)*(AF$3-AE$3)+AE$3,1),"") -> 20 | AH16: 308.4 | AI16: 288.4 | AJ16: 9 | AK16: 19.5 | AL16: 12.57 | AM16: =IF(COUNT(AJ$3:AK$4,AK16)>4,ROUND((AK16-AJ$4)/(AK$4-AJ$4)*(AK$3-AJ$3)+AJ$3,1),"") -> 15.5 | AN16: -6.5 | AO16: 12.25 | AP16: 18.75 | AQ16: 9 | AR16: 25.57 | AS16: 15.22 | AT16: =IF(COUNT(AQ$3:AR$4,AR16)>4,ROUND((AR16-AQ$4)/(AR$4-AQ$4)*(AR$3-AQ$3)+AQ$3,1),"") -> 24.7 | AU16: -11.1 | AV16: 19.15 | AW16: 30.25 | AX16: 9 | AY16: 26.43 | AZ16: 9.14 | BA16: 253.7 | BB16: 281.1 | BC16: 9 | BD16: 16.48 | BE16: 10.21 | BF16: 9.8 | BG16: =IF(COUNT(BE$3:BF$5,BE16)>4,ROUND((BE16-BE$5)/(BF$5-BE$5)*(BF$3-BE$3)+BE$3,1),"") -> 19.4 | BH16: 9 | BI16: 29.5 | BJ16: 7.88 | BK16: =IF(COUNT(BH$3:BI$4,BI16)>4,ROUND((BI16-BH$4)/(BI$4-BH$4)*(BI$3-BH$3)+BH$3,1),"") -> 221.9 | BL16: =IF(COUNT(BJ$3:BK$5,BJ16)>4,ROUND((BJ16-BJ$5)/(BK$5-BJ$5)*(BK$3-BJ$3)+BJ$3,1),"") -> 228 | BM16: 9 | BP16: =IF(COUNT(BM$3:BN$4,BN16)>4,ROUND((BN16-BM$4)/(BN$4-BM$4)*(BN$3-BM$3)+BM$3,1),"") | BQ16: =IF(COUNT(BO$3:BP$5,BO16)>4,ROUND((BO16-BO$5)/(BP$5-BO$5)*(BP$3-BO$3)+BO$3,1),"") | BR16: 9 | BS16: 29.81 | BT16: 17.13 | BU16: =IF(COUNT(BR$3:BS$4,BS16)>4,ROUND((BS16-BR$4)/(BS$4-BR$4)*(BS$3-BR$3)+BR$3,1),"") -> 20.5 | BV16: =IF(COUNT(BT$3:BU$5,BT16)>4,ROUND((BT16-BT$5)/(BU$5-BT$5)*(BU$3-BT$3)+BT$3,1),"") -> -1.3 | BW16: =IF(COUNT(BU16:BV16)>1, BU16-(BV16/2),"") -> 21.15 | BX16: =IF(COUNT(BU16:BV16)>1, BU16+(BV16/2),"") -> 19.85 | BY16: 9 | CB16: =IF(COUNT(BY$3:BZ$4,BZ16)>4,ROUND((BZ16-BY$4)/(BZ$4-BY$4)*(BZ$3-BY$3)+BY$3,1),"") | CC16: =IF(COUNT(CA$3:CB$5,CA16)>4,ROUND((CA16-CA$5)/(CB$5-CA$5)*(CB$3-CA$3)+CA$3,1),"") | CD16: =IF(COUNT(CB16:CC16)>1, CB16-(CC16/2),"") | CE16: =IF(COUNT(CB16:CC16)>1, CB16+(CC16/2),"")
B17: 10 | C17: 28.88 | D17: 7.9 | E17: 281 | F17: 297 | G17: 10 | H17: 29.34 | I17: 8.27 | J17: 283 | K17: 296 | L17: 10 | M17: 22.91 | N17: 11.67 | O17: 16 | P17: 16.4 | Q17: 10 | R17: 31.44 | S17: 15.27 | T17: 24 | U17: 12 | V17: 10 | W17: 26.28 | X17: 17.09 | Y17: 269 | Z17: 5 | AA17: 266.5 | AB17: 271.5 | AC17: 10 | AD17: 29.02 | AE17: 11.37 | AF17: =IF(COUNT(AC$3:AD$4,AD17)>4,ROUND((AD17-AC$4)/(AD$4-AC$4)*(AD$3-AC$3)+AC$3,1),"") -> 289.4 | AG17: =IF(COUNT(AE$3:AF$5,AE17)>4,ROUND((AE17-AE$5)/(AF$5-AE$5)*(AF$3-AE$3)+AE$3,1),"") -> 44.9 | AH17: 311.85 | AI17: 266.95 | AJ17: 10 | AK17: 19.66 | AL17: 9.25 | AM17: =IF(COUNT(AJ$3:AK$4,AK17)>4,ROUND((AK17-AJ$4)/(AK$4-AJ$4)*(AK$3-AJ$3)+AJ$3,1),"") -> 15.7 | AN17: -0.9 | AO17: 15.25 | AP17: 16.15 | AQ17: 10 | AR17: 20.86 | AS17: 15.97 | AT17: =IF(COUNT(AQ$3:AR$4,AR17)>4,ROUND((AR17-AQ$4)/(AR$4-AQ$4)*(AR$3-AQ$3)+AQ$3,1),"") -> 18.5 | AU17: -12.4 | AV17: 12.3 | AW17: 24.7 | AX17: 10 | AY17: 26.42 | AZ17: 8.83 | BA17: 253.6 | BB17: 286.5 | BC17: 10 | BD17: 18.15 | BE17: 10.52 | BF17: 11.4 | BG17: =IF(COUNT(BE$3:BF$5,BE17)>4,ROUND((BE17-BE$5)/(BF$5-BE$5)*(BF$3-BE$3)+BE$3,1),"") -> 19 | BH17: 10 | BI17: 29.75 | BJ17: 6.58 | BK17: =IF(COUNT(BH$3:BI$4,BI17)>4,ROUND((BI17-BH$4)/(BI$4-BH$4)*(BI$3-BH$3)+BH$3,1),"") -> 224.2 | BL17: =IF(COUNT(BJ$3:BK$5,BJ17)>4,ROUND((BJ17-BJ$5)/(BK$5-BJ$5)*(BK$3-BJ$3)+BJ$3,1),"") -> 246.4 | BM17: 10 | BP17: =IF(COUNT(BM$3:BN$4,BN17)>4,ROUND((BN17-BM$4)/(BN$4-BM$4)*(BN$3-BM$3)+BM$3,1),"") | BQ17: =IF(COUNT(BO$3:BP$5,BO17)>4,ROUND((BO17-BO$5)/(BP$5-BO$5)*(BP$3-BO$3)+BO$3,1),"") | BR17: 10 | BS17: 17.83 | BT17: 14.48 | BU17: =IF(COUNT(BR$3:BS$4,BS17)>4,ROUND((BS17-BR$4)/(BS$4-BR$4)*(BS$3-BR$3)+BR$3,1),"") -> 12.1 | BV17: =IF(COUNT(BT$3:BU$5,BT17)>4,ROUND((BT17-BT$5)/(BU$5-BT$5)*(BU$3-BT$3)+BT$3,1),"") -> 1.5 | BW17: =IF(COUNT(BU17:BV17)>1, BU17-(BV17/2),"") -> 11.35 | BX17: =IF(COUNT(BU17:BV17)>1, BU17+(BV17/2),"") -> 12.85 | BY17: 10 | CB17: =IF(COUNT(BY$3:BZ$4,BZ17)>4,ROUND((BZ17-BY$4)/(BZ$4-BY$4)*(BZ$3-BY$3)+BY$3,1),"") | CC17: =IF(COUNT(CA$3:CB$5,CA17)>4,ROUND((CA17-CA$5)/(CB$5-CA$5)*(CB$3-CA$3)+CA$3,1),"") | CD17: =IF(COUNT(CB17:CC17)>1, CB17-(CC17/2),"") | CE17: =IF(COUNT(CB17:CC17)>1, CB17+(CC17/2),"")
B18: 11 | C18: 29.9 | D18: 7.88 | E18: 295 | F18: 298 | G18: 11 | H18: 30.05 | I18: 8.21 | J18: 293 | K18: 298 | L18: 11 | M18: 16.36 | N18: 13.85 | O18: 10 | P18: 13.2 | Q18: 11 | R18: 32.51 | S18: 12.42 | T18: 25 | U18: 16 | V18: 11 | W18: 26.23 | X18: 18.17 | Y18: 268.6 | Z18: -3 | AA18: 270.1 | AB18: 267.1 | AC18: 11 | AD18: 28.78 | AE18: 7.96 | AF18: =IF(COUNT(AC$3:AD$4,AD18)>4,ROUND((AD18-AC$4)/(AD$4-AC$4)*(AD$3-AC$3)+AC$3,1),"") -> 287.8 | AG18: =IF(COUNT(AE$3:AF$5,AE18)>4,ROUND((AE18-AE$5)/(AF$5-AE$5)*(AF$3-AE$3)+AE$3,1),"") -> 69.6 | AH18: 322.6 | AI18: 253 | AJ18: 11 | AK18: 19.44 | AL18: 10.19 | AM18: =IF(COUNT(AJ$3:AK$4,AK18)>4,ROUND((AK18-AJ$4)/(AK$4-AJ$4)*(AK$3-AJ$3)+AJ$3,1),"") -> 15.5 | AN18: -2.4 | AO18: 14.3 | AP18: 16.7 | AQ18: 11 | AR18: 19.93 | AS18: 17.38 | AT18: =IF(COUNT(AQ$3:AR$4,AR18)>4,ROUND((AR18-AQ$4)/(AR$4-AQ$4)*(AR$3-AQ$3)+AQ$3,1),"") -> 17.3 | AU18: -14.9 | AV18: 9.85 | AW18: 24.75 | AX18: 11 | AY18: 27.06 | AZ18: 8.24 | BA18: 261.3 | BB18: 296.8 | BC18: 11 | BD18: 22.59 | BE18: 10.42 | BF18: 15.5 | BG18: =IF(COUNT(BE$3:BF$5,BE18)>4,ROUND((BE18-BE$5)/(BF$5-BE$5)*(BF$3-BE$3)+BE$3,1),"") -> 19.1 | BH18: 11 | BI18: 32.6 | BJ18: 4.45 | BK18: =IF(COUNT(BH$3:BI$4,BI18)>4,ROUND((BI18-BH$4)/(BI$4-BH$4)*(BI$3-BH$3)+BH$3,1),"") -> 251 | BL18: =IF(COUNT(BJ$3:BK$5,BJ18)>4,ROUND((BJ18-BJ$5)/(BK$5-BJ$5)*(BK$3-BJ$3)+BJ$3,1),"") -> 276.7 | BM18: 11 | BP18: =IF(COUNT(BM$3:BN$4,BN18)>4,ROUND((BN18-BM$4)/(BN$4-BM$4)*(BN$3-BM$3)+BM$3,1),"") | BQ18: =IF(COUNT(BO$3:BP$5,BO18)>4,ROUND((BO18-BO$5)/(BP$5-BO$5)*(BP$3-BO$3)+BO$3,1),"") | BR18: 11 | BS18: 14.93 | BT18: 11.64 | BU18: =IF(COUNT(BR$3:BS$4,BS18)>4,ROUND((BS18-BR$4)/(BS$4-BR$4)*(BS$3-BR$3)+BR$3,1),"") -> 10.1 | BV18: =IF(COUNT(BT$3:BU$5,BT18)>4,ROUND((BT18-BT$5)/(BU$5-BT$5)*(BU$3-BT$3)+BT$3,1),"") -> 4.4 | BW18: =IF(COUNT(BU18:BV18)>1, BU18-(BV18/2),"") -> 7.9 | BX18: =IF(COUNT(BU18:BV18)>1, BU18+(BV18/2),"") -> 12.3 | BY18: 11 | CB18: =IF(COUNT(BY$3:BZ$4,BZ18)>4,ROUND((BZ18-BY$4)/(BZ$4-BY$4)*(BZ$3-BY$3)+BY$3,1),"") | CC18: =IF(COUNT(CA$3:CB$5,CA18)>4,ROUND((CA18-CA$5)/(CB$5-CA$5)*(CB$3-CA$3)+CA$3,1),"") | CD18: =IF(COUNT(CB18:CC18)>1, CB18-(CC18/2),"") | CE18: =IF(COUNT(CB18:CC18)>1, CB18+(CC18/2),"")
B19: 12 | C19: 30.27 | D19: 4.75 | E19: 300 | F19: 359 | G19: 12 | H19: 30.75 | I19: 5.16 | J19: 302 | K19: 359 | L19: 12 | M19: 12.02 | N19: 21.82 | O19: 6 | P19: 1.6 | Q19: 12 | R19: 25 | S19: 11.71 | T19: 18 | U19: 17 | V19: 12 | W19: 25.01 | X19: 19.64 | Y19: 260.2 | Z19: -13.8 | AA19: 267.1 | AB19: 253.3 | AC19: 12 | AD19: 31.33 | AE19: 6.93 | AF19: =IF(COUNT(AC$3:AD$4,AD19)>4,ROUND((AD19-AC$4)/(AD$4-AC$4)*(AD$3-AC$3)+AC$3,1),"") -> 305.4 | AG19: =IF(COUNT(AE$3:AF$5,AE19)>4,ROUND((AE19-AE$5)/(AF$5-AE$5)*(AF$3-AE$3)+AE$3,1),"") -> 77 | AH19: 343.9 | AI19: 266.9 | AJ19: 12 | AK19: 17.95 | AL19: 11.03 | AM19: =IF(COUNT(AJ$3:AK$4,AK19)>4,ROUND((AK19-AJ$4)/(AK$4-AJ$4)*(AK$3-AJ$3)+AJ$3,1),"") -> 13.5 | AN19: -3.9 | AO19: 11.55 | AP19: 15.45 | AQ19: 12 | AR19: 18.12 | AS19: 19.2 | AT19: =IF(COUNT(AQ$3:AR$4,AR19)>4,ROUND((AR19-AQ$4)/(AR$4-AQ$4)*(AR$3-AQ$3)+AQ$3,1),"") -> 14.9 | AU19: -18.1 | AV19: 5.85 | AW19: 23.95 | AX19: 12 | AY19: 27.59 | AZ19: 8.44 | BA19: 267.8 | BB19: 293.3 | BC19: 12 | BD19: 27.33 | BE19: 11.78 | BF19: 19.8 | BG19: =IF(COUNT(BE$3:BF$5,BE19)>4,ROUND((BE19-BE$5)/(BF$5-BE$5)*(BF$3-BE$3)+BE$3,1),"") -> 17.3 | BH19: 12 | BI19: 33.17 | BJ19: 4.34 | BK19: =IF(COUNT(BH$3:BI$4,BI19)>4,ROUND((BI19-BH$4)/(BI$4-BH$4)*(BI$3-BH$3)+BH$3,1),"") -> 256.4 | BL19: =IF(COUNT(BJ$3:BK$5,BJ19)>4,ROUND((BJ19-BJ$5)/(BK$5-BJ$5)*(BK$3-BJ$3)+BJ$3,1),"") -> 278.3 | BM19: 12 | BP19: =IF(COUNT(BM$3:BN$4,BN19)>4,ROUND((BN19-BM$4)/(BN$4-BM$4)*(BN$3-BM$3)+BM$3,1),"") | BQ19: =IF(COUNT(BO$3:BP$5,BO19)>4,ROUND((BO19-BO$5)/(BP$5-BO$5)*(BP$3-BO$3)+BO$3,1),"") | BR19: 12 | BS19: 19.41 | BT19: 10.73 | BU19: =IF(COUNT(BR$3:BS$4,BS19)>4,ROUND((BS19-BR$4)/(BS$4-BR$4)*(BS$3-BR$3)+BR$3,1),"") -> 13.2 | BV19: =IF(COUNT(BT$3:BU$5,BT19)>4,ROUND((BT19-BT$5)/(BU$5-BT$5)*(BU$3-BT$3)+BT$3,1),"") -> 5.3 | BW19: =IF(COUNT(BU19:BV19)>1, BU19-(BV19/2),"") -> 10.55 | BX19: =IF(COUNT(BU19:BV19)>1, BU19+(BV19/2),"") -> 15.85 | BY19: 12 | CB19: =IF(COUNT(BY$3:BZ$4,BZ19)>4,ROUND((BZ19-BY$4)/(BZ$4-BY$4)*(BZ$3-BY$3)+BY$3,1),"") | CC19: =IF(COUNT(CA$3:CB$5,CA19)>4,ROUND((CA19-CA$5)/(CB$5-CA$5)*(CB$3-CA$3)+CA$3,1),"") | CD19: =IF(COUNT(CB19:CC19)>1, CB19-(CC19/2),"") | CE19: =IF(COUNT(CB19:CC19)>1, CB19+(CC19/2),"")
B20: 13 | C20: 31.33 | D20: 4.06 | E20: 313 | F20: 373 | G20: 13 | H20: 31.92 | I20: 4.5 | J20: 318 | K20: 372 | L20: 13 | Q20: 13 | R20: 26.08 | S20: 8.88 | T20: 19 | U20: 21 | V20: 13 | AC20: 13 | AF20: =IF(COUNT(AC$3:AD$4,AD20)>4,ROUND((AD20-AC$4)/(AD$4-AC$4)*(AD$3-AC$3)+AC$3,1),"") | AG20: =IF(COUNT(AE$3:AF$5,AE20)>4,ROUND((AE20-AE$5)/(AF$5-AE$5)*(AF$3-AE$3)+AE$3,1),"") | AJ20: 13 | AM20: =IF(COUNT(AJ$3:AK$4,AK20)>4,ROUND((AK20-AJ$4)/(AK$4-AJ$4)*(AK$3-AJ$3)+AJ$3,1),"") | AQ20: 13 | AT20: =IF(COUNT(AQ$3:AR$4,AR20)>4,ROUND((AR20-AQ$4)/(AR$4-AQ$4)*(AR$3-AQ$3)+AQ$3,1),"") | AX20: 13 | AY20: 33.28 | AZ20: 6.98 | BA20: 336.9 | BB20: 318.7 | BC20: 13 | BD20: 28.16 | BE20: 12.19 | BF20: 20.6 | BG20: =IF(COUNT(BE$3:BF$5,BE20)>4,ROUND((BE20-BE$5)/(BF$5-BE$5)*(BF$3-BE$3)+BE$3,1),"") -> 16.8 | BH20: 13 | BI20: 33.29 | BJ20: 4.29 | BK20: =IF(COUNT(BH$3:BI$4,BI20)>4,ROUND((BI20-BH$4)/(BI$4-BH$4)*(BI$3-BH$3)+BH$3,1),"") -> 257.5 | BL20: =IF(COUNT(BJ$3:BK$5,BJ20)>4,ROUND((BJ20-BJ$5)/(BK$5-BJ$5)*(BK$3-BJ$3)+BJ$3,1),"") -> 279 | BM20: 13 | BP20: =IF(COUNT(BM$3:BN$4,BN20)>4,ROUND((BN20-BM$4)/(BN$4-BM$4)*(BN$3-BM$3)+BM$3,1),"") | BQ20: =IF(COUNT(BO$3:BP$5,BO20)>4,ROUND((BO20-BO$5)/(BP$5-BO$5)*(BP$3-BO$3)+BO$3,1),"") | BR20: 13 | BS20: 24.36 | BT20: 13.15 | BU20: =IF(COUNT(BR$3:BS$4,BS20)>4,ROUND((BS20-BR$4)/(BS$4-BR$4)*(BS$3-BR$3)+BR$3,1),"") -> 16.7 | BV20: =IF(COUNT(BT$3:BU$5,BT20)>4,ROUND((BT20-BT$5)/(BU$5-BT$5)*(BU$3-BT$3)+BT$3,1),"") -> 2.8 | BW20: =IF(COUNT(BU20:BV20)>1, BU20-(BV20/2),"") -> 15.3 | BX20: =IF(COUNT(BU20:BV20)>1, BU20+(BV20/2),"") -> 18.1 | BY20: 13 | CB20: =IF(COUNT(BY$3:BZ$4,BZ20)>4,ROUND((BZ20-BY$4)/(BZ$4-BY$4)*(BZ$3-BY$3)+BY$3,1),"") | CC20: =IF(COUNT(CA$3:CB$5,CA20)>4,ROUND((CA20-CA$5)/(CB$5-CA$5)*(CB$3-CA$3)+CA$3,1),"") | CD20: =IF(COUNT(CB20:CC20)>1, CB20-(CC20/2),"") | CE20: =IF(COUNT(CB20:CC20)>1, CB20+(CC20/2),"")
B21: 14 | G21: 14 | L21: 14 | Q21: 14 | V21: 14 | AC21: 14 | AF21: =IF(COUNT(AC$3:AD$4,AD21)>4,ROUND((AD21-AC$4)/(AD$4-AC$4)*(AD$3-AC$3)+AC$3,1),"") | AG21: =IF(COUNT(AE$3:AF$5,AE21)>4,ROUND((AE21-AE$5)/(AF$5-AE$5)*(AF$3-AE$3)+AE$3,1),"") | AJ21: 14 | AM21: =IF(COUNT(AJ$3:AK$4,AK21)>4,ROUND((AK21-AJ$4)/(AK$4-AJ$4)*(AK$3-AJ$3)+AJ$3,1),"") | AQ21: 14 | AT21: =IF(COUNT(AQ$3:AR$4,AR21)>4,ROUND((AR21-AQ$4)/(AR$4-AQ$4)*(AR$3-AQ$3)+AQ$3,1),"") | AX21: 14 | AY21: 32.76 | AZ21: 5.19 | BA21: 330.5 | BB21: 349.9 | BC21: 14 | BD21: 29.86 | BE21: 13.25 | BF21: 22.2 | BG21: =IF(COUNT(BE$3:BF$5,BE21)>4,ROUND((BE21-BE$5)/(BF$5-BE$5)*(BF$3-BE$3)+BE$3,1),"") -> 15.4 | BH21: 14 | BI21: 34.53 | BJ21: 4.33 | BK21: =IF(COUNT(BH$3:BI$4,BI21)>4,ROUND((BI21-BH$4)/(BI$4-BH$4)*(BI$3-BH$3)+BH$3,1),"") -> 269.1 | BL21: =IF(COUNT(BJ$3:BK$5,BJ21)>4,ROUND((BJ21-BJ$5)/(BK$5-BJ$5)*(BK$3-BJ$3)+BJ$3,1),"") -> 278.4 | BM21: 14 | BP21: =IF(COUNT(BM$3:BN$4,BN21)>4,ROUND((BN21-BM$4)/(BN$4-BM$4)*(BN$3-BM$3)+BM$3,1),"") | BQ21: =IF(COUNT(BO$3:BP$5,BO21)>4,ROUND((BO21-BO$5)/(BP$5-BO$5)*(BP$3-BO$3)+BO$3,1),"") | BR21: 14 | BS21: 20.72 | BT21: 13.53 | BU21: =IF(COUNT(BR$3:BS$4,BS21)>4,ROUND((BS21-BR$4)/(BS$4-BR$4)*(BS$3-BR$3)+BR$3,1),"") -> 14.1 | BV21: =IF(COUNT(BT$3:BU$5,BT21)>4,ROUND((BT21-BT$5)/(BU$5-BT$5)*(BU$3-BT$3)+BT$3,1),"") -> 2.4 | BW21: =IF(COUNT(BU21:BV21)>1, BU21-(BV21/2),"") -> 12.9 | BX21: =IF(COUNT(BU21:BV21)>1, BU21+(BV21/2),"") -> 15.3 | BY21: 14 | CB21: =IF(COUNT(BY$3:BZ$4,BZ21)>4,ROUND((BZ21-BY$4)/(BZ$4-BY$4)*(BZ$3-BY$3)+BY$3,1),"") | CC21: =IF(COUNT(CA$3:CB$5,CA21)>4,ROUND((CA21-CA$5)/(CB$5-CA$5)*(CB$3-CA$3)+CA$3,1),"") | CD21: =IF(COUNT(CB21:CC21)>1, CB21-(CC21/2),"") | CE21: =IF(COUNT(CB21:CC21)>1, CB21+(CC21/2),"")
B22: 15 | G22: 15 | L22: 15 | Q22: 15 | V22: 15 | AC22: 15 | AF22: =IF(COUNT(AC$3:AD$4,AD22)>4,ROUND((AD22-AC$4)/(AD$4-AC$4)*(AD$3-AC$3)+AC$3,1),"") | AG22: =IF(COUNT(AE$3:AF$5,AE22)>4,ROUND((AE22-AE$5)/(AF$5-AE$5)*(AF$3-AE$3)+AE$3,1),"") | AJ22: 15 | AM22: =IF(COUNT(AJ$3:AK$4,AK22)>4,ROUND((AK22-AJ$4)/(AK$4-AJ$4)*(AK$3-AJ$3)+AJ$3,1),"") | AQ22: 15 | AT22: =IF(COUNT(AQ$3:AR$4,AR22)>4,ROUND((AR22-AQ$4)/(AR$4-AQ$4)*(AR$3-AQ$3)+AQ$3,1),"") | AX22: 15 | BC22: 15 | BG22: =IF(COUNT(BE$3:BF$5,BE22)>4,ROUND((BE22-BE$5)/(BF$5-BE$5)*(BF$3-BE$3)+BE$3,1),"") | BH22: 15 | BI22: 34.97 | BJ22: 3.95 | BK22: =IF(COUNT(BH$3:BI$4,BI22)>4,ROUND((BI22-BH$4)/(BI$4-BH$4)*(BI$3-BH$3)+BH$3,1),"") -> 273.2 | BL22: =IF(COUNT(BJ$3:BK$5,BJ22)>4,ROUND((BJ22-BJ$5)/(BK$5-BJ$5)*(BK$3-BJ$3)+BJ$3,1),"") -> 283.8 | BM22: 15 | BP22: =IF(COUNT(BM$3:BN$4,BN22)>4,ROUND((BN22-BM$4)/(BN$4-BM$4)*(BN$3-BM$3)+BM$3,1),"") | BQ22: =IF(COUNT(BO$3:BP$5,BO22)>4,ROUND((BO22-BO$5)/(BP$5-BO$5)*(BP$3-BO$3)+BO$3,1),"") | BR22: 15 | BS22: 21.4 | BT22: 13.56 | BU22: =IF(COUNT(BR$3:BS$4,BS22)>4,ROUND((BS22-BR$4)/(BS$4-BR$4)*(BS$3-BR$3)+BR$3,1),"") -> 14.6 | BV22: =IF(COUNT(BT$3:BU$5,BT22)>4,ROUND((BT22-BT$5)/(BU$5-BT$5)*(BU$3-BT$3)+BT$3,1),"") -> 2.4 | BW22: =IF(COUNT(BU22:BV22)>1, BU22-(BV22/2),"") -> 13.4 | BX22: =IF(COUNT(BU22:BV22)>1, BU22+(BV22/2),"") -> 15.8 | BY22: 15 | CB22: =IF(COUNT(BY$3:BZ$4,BZ22)>4,ROUND((BZ22-BY$4)/(BZ$4-BY$4)*(BZ$3-BY$3)+BY$3,1),"") | CC22: =IF(COUNT(CA$3:CB$5,CA22)>4,ROUND((CA22-CA$5)/(CB$5-CA$5)*(CB$3-CA$3)+CA$3,1),"") | CD22: =IF(COUNT(CB22:CC22)>1, CB22-(CC22/2),"") | CE22: =IF(COUNT(CB22:CC22)>1, CB22+(CC22/2),"")
B23: 16 | G23: 16 | L23: 16 | Q23: 16 | V23: 16 | AC23: 16 | AF23: =IF(COUNT(AC$3:AD$4,AD23)>4,ROUND((AD23-AC$4)/(AD$4-AC$4)*(AD$3-AC$3)+AC$3,1),"") | AG23: =IF(COUNT(AE$3:AF$5,AE23)>4,ROUND((AE23-AE$5)/(AF$5-AE$5)*(AF$3-AE$3)+AE$3,1),"") | AJ23: 16 | AM23: =IF(COUNT(AJ$3:AK$4,AK23)>4,ROUND((AK23-AJ$4)/(AK$4-AJ$4)*(AK$3-AJ$3)+AJ$3,1),"") | AQ23: 16 | AT23: =IF(COUNT(AQ$3:AR$4,AR23)>4,ROUND((AR23-AQ$4)/(AR$4-AQ$4)*(AR$3-AQ$3)+AQ$3,1),"") | AX23: 16 | BC23: 16 | BG23: =IF(COUNT(BE$3:BF$5,BE23)>4,ROUND((BE23-BE$5)/(BF$5-BE$5)*(BF$3-BE$3)+BE$3,1),"") | BH23: 16 | BK23: =IF(COUNT(BH$3:BI$4,BI23)>4,ROUND((BI23-BH$4)/(BI$4-BH$4)*(BI$3-BH$3)+BH$3,1),"") | BL23: =IF(COUNT(BJ$3:BK$5,BJ23)>4,ROUND((BJ23-BJ$5)/(BK$5-BJ$5)*(BK$3-BJ$3)+BJ$3,1),"") | BM23: 16 | BP23: =IF(COUNT(BM$3:BN$4,BN23)>4,ROUND((BN23-BM$4)/(BN$4-BM$4)*(BN$3-BM$3)+BM$3,1),"") | BQ23: =IF(COUNT(BO$3:BP$5,BO23)>4,ROUND((BO23-BO$5)/(BP$5-BO$5)*(BP$3-BO$3)+BO$3,1),"") | BR23: 16 | BU23: =IF(COUNT(BR$3:BS$4,BS23)>4,ROUND((BS23-BR$4)/(BS$4-BR$4)*(BS$3-BR$3)+BR$3,1),"") | BV23: =IF(COUNT(BT$3:BU$5,BT23)>4,ROUND((BT23-BT$5)/(BU$5-BT$5)*(BU$3-BT$3)+BT$3,1),"") | BW23: =IF(COUNT(BU23:BV23)>1, BU23-(BV23/2),"") | BX23: =IF(COUNT(BU23:BV23)>1, BU23+(BV23/2),"") | BY23: 16 | CB23: =IF(COUNT(BY$3:BZ$4,BZ23)>4,ROUND((BZ23-BY$4)/(BZ$4-BY$4)*(BZ$3-BY$3)+BY$3,1),"") | CC23: =IF(COUNT(CA$3:CB$5,CA23)>4,ROUND((CA23-CA$5)/(CB$5-CA$5)*(CB$3-CA$3)+CA$3,1),"") | CD23: =IF(COUNT(CB23:CC23)>1, CB23-(CC23/2),"") | CE23: =IF(COUNT(CB23:CC23)>1, CB23+(CC23/2),"")
B24: 17 | G24: 17 | L24: 17 | Q24: 17 | V24: 17 | AC24: 17 | AF24: =IF(COUNT(AC$3:AD$4,AD24)>4,ROUND((AD24-AC$4)/(AD$4-AC$4)*(AD$3-AC$3)+AC$3,1),"") | AG24: =IF(COUNT(AE$3:AF$5,AE24)>4,ROUND((AE24-AE$5)/(AF$5-AE$5)*(AF$3-AE$3)+AE$3,1),"") | AJ24: 17 | AM24: =IF(COUNT(AJ$3:AK$4,AK24)>4,ROUND((AK24-AJ$4)/(AK$4-AJ$4)*(AK$3-AJ$3)+AJ$3,1),"") | AQ24: 17 | AT24: =IF(COUNT(AQ$3:AR$4,AR24)>4,ROUND((AR24-AQ$4)/(AR$4-AQ$4)*(AR$3-AQ$3)+AQ$3,1),"") | AX24: 17 | BC24: 17 | BG24: =IF(COUNT(BE$3:BF$5,BE24)>4,ROUND((BE24-BE$5)/(BF$5-BE$5)*(BF$3-BE$3)+BE$3,1),"") | BH24: 17 | BK24: =IF(COUNT(BH$3:BI$4,BI24)>4,ROUND((BI24-BH$4)/(BI$4-BH$4)*(BI$3-BH$3)+BH$3,1),"") | BL24: =IF(COUNT(BJ$3:BK$5,BJ24)>4,ROUND((BJ24-BJ$5)/(BK$5-BJ$5)*(BK$3-BJ$3)+BJ$3,1),"") | BM24: 17 | BP24: =IF(COUNT(BM$3:BN$4,BN24)>4,ROUND((BN24-BM$4)/(BN$4-BM$4)*(BN$3-BM$3)+BM$3,1),"") | BQ24: =IF(COUNT(BO$3:BP$5,BO24)>4,ROUND((BO24-BO$5)/(BP$5-BO$5)*(BP$3-BO$3)+BO$3,1),"") | BR24: 17 | BU24: =IF(COUNT(BR$3:BS$4,BS24)>4,ROUND((BS24-BR$4)/(BS$4-BR$4)*(BS$3-BR$3)+BR$3,1),"") | BV24: =IF(COUNT(BT$3:BU$5,BT24)>4,ROUND((BT24-BT$5)/(BU$5-BT$5)*(BU$3-BT$3)+BT$3,1),"") | BW24: =IF(COUNT(BU24:BV24)>1, BU24-(BV24/2),"") | BX24: =IF(COUNT(BU24:BV24)>1, BU24+(BV24/2),"") | BY24: 17 | CB24: =IF(COUNT(BY$3:BZ$4,BZ24)>4,ROUND((BZ24-BY$4)/(BZ$4-BY$4)*(BZ$3-BY$3)+BY$3,1),"") | CC24: =IF(COUNT(CA$3:CB$5,CA24)>4,ROUND((CA24-CA$5)/(CB$5-CA$5)*(CB$3-CA$3)+CA$3,1),"") | CD24: =IF(COUNT(CB24:CC24)>1, CB24-(CC24/2),"") | CE24: =IF(COUNT(CB24:CC24)>1, CB24+(CC24/2),"")
B25: 18 | G25: 18 | L25: 18 | Q25: 18 | V25: 18 | AC25: 18 | AF25: =IF(COUNT(AC$3:AD$4,AD25)>4,ROUND((AD25-AC$4)/(AD$4-AC$4)*(AD$3-AC$3)+AC$3,1),"") | AG25: =IF(COUNT(AE$3:AF$5,AE25)>4,ROUND((AE25-AE$5)/(AF$5-AE$5)*(AF$3-AE$3)+AE$3,1),"") | AJ25: 18 | AM25: =IF(COUNT(AJ$3:AK$4,AK25)>4,ROUND((AK25-AJ$4)/(AK$4-AJ$4)*(AK$3-AJ$3)+AJ$3,1),"") | AQ25: 18 | AT25: =IF(COUNT(AQ$3:AR$4,AR25)>4,ROUND((AR25-AQ$4)/(AR$4-AQ$4)*(AR$3-AQ$3)+AQ$3,1),"") | AX25: 18 | BC25: 18 | BG25: =IF(COUNT(BE$3:BF$5,BE25)>4,ROUND((BE25-BE$5)/(BF$5-BE$5)*(BF$3-BE$3)+BE$3,1),"") | BH25: 18 | BK25: =IF(COUNT(BH$3:BI$4,BI25)>4,ROUND((BI25-BH$4)/(BI$4-BH$4)*(BI$3-BH$3)+BH$3,1),"") | BL25: =IF(COUNT(BJ$3:BK$5,BJ25)>4,ROUND((BJ25-BJ$5)/(BK$5-BJ$5)*(BK$3-BJ$3)+BJ$3,1),"") | BM25: 18 | BP25: =IF(COUNT(BM$3:BN$4,BN25)>4,ROUND((BN25-BM$4)/(BN$4-BM$4)*(BN$3-BM$3)+BM$3,1),"") | BQ25: =IF(COUNT(BO$3:BP$5,BO25)>4,ROUND((BO25-BO$5)/(BP$5-BO$5)*(BP$3-BO$3)+BO$3,1),"") | BR25: 18 | BU25: =IF(COUNT(BR$3:BS$4,BS25)>4,ROUND((BS25-BR$4)/(BS$4-BR$4)*(BS$3-BR$3)+BR$3,1),"") | BV25: =IF(COUNT(BT$3:BU$5,BT25)>4,ROUND((BT25-BT$5)/(BU$5-BT$5)*(BU$3-BT$3)+BT$3,1),"") | BW25: =IF(COUNT(BU25:BV25)>1, BU25-(BV25/2),"") | BX25: =IF(COUNT(BU25:BV25)>1, BU25+(BV25/2),"") | BY25: 18 | CB25: =IF(COUNT(BY$3:BZ$4,BZ25)>4,ROUND((BZ25-BY$4)/(BZ$4-BY$4)*(BZ$3-BY$3)+BY$3,1),"") | CC25: =IF(COUNT(CA$3:CB$5,CA25)>4,ROUND((CA25-CA$5)/(CB$5-CA$5)*(CB$3-CA$3)+CA$3,1),"") | CD25: =IF(COUNT(CB25:CC25)>1, CB25-(CC25/2),"") | CE25: =IF(COUNT(CB25:CC25)>1, CB25+(CC25/2),"")
B26: 19 | G26: 19 | L26: 19 | Q26: 19 | V26: 19 | AC26: 19 | AF26: =IF(COUNT(AC$3:AD$4,AD26)>4,ROUND((AD26-AC$4)/(AD$4-AC$4)*(AD$3-AC$3)+AC$3,1),"") | AG26: =IF(COUNT(AE$3:AF$5,AE26)>4,ROUND((AE26-AE$5)/(AF$5-AE$5)*(AF$3-AE$3)+AE$3,1),"") | AJ26: 19 | AM26: =IF(COUNT(AJ$3:AK$4,AK26)>4,ROUND((AK26-AJ$4)/(AK$4-AJ$4)*(AK$3-AJ$3)+AJ$3,1),"") | AQ26: 19 | AT26: =IF(COUNT(AQ$3:AR$4,AR26)>4,ROUND((AR26-AQ$4)/(AR$4-AQ$4)*(AR$3-AQ$3)+AQ$3,1),"") | AX26: 19 | BC26: 19 | BG26: =IF(COUNT(BE$3:BF$5,BE26)>4,ROUND((BE26-BE$5)/(BF$5-BE$5)*(BF$3-BE$3)+BE$3,1),"") | BH26: 19 | BK26: =IF(COUNT(BH$3:BI$4,BI26)>4,ROUND((BI26-BH$4)/(BI$4-BH$4)*(BI$3-BH$3)+BH$3,1),"") | BL26: =IF(COUNT(BJ$3:BK$5,BJ26)>4,ROUND((BJ26-BJ$5)/(BK$5-BJ$5)*(BK$3-BJ$3)+BJ$3,1),"") | BM26: 19 | BP26: =IF(COUNT(BM$3:BN$4,BN26)>4,ROUND((BN26-BM$4)/(BN$4-BM$4)*(BN$3-BM$3)+BM$3,1),"") | BQ26: =IF(COUNT(BO$3:BP$5,BO26)>4,ROUND((BO26-BO$5)/(BP$5-BO$5)*(BP$3-BO$3)+BO$3,1),"") | BR26: 19 | BU26: =IF(COUNT(BR$3:BS$4,BS26)>4,ROUND((BS26-BR$4)/(BS$4-BR$4)*(BS$3-BR$3)+BR$3,1),"") | BV26: =IF(COUNT(BT$3:BU$5,BT26)>4,ROUND((BT26-BT$5)/(BU$5-BT$5)*(BU$3-BT$3)+BT$3,1),"") | BW26: =IF(COUNT(BU26:BV26)>1, BU26-(BV26/2),"") | BX26: =IF(COUNT(BU26:BV26)>1, BU26+(BV26/2),"") | BY26: 19 | CB26: =IF(COUNT(BY$3:BZ$4,BZ26)>4,ROUND((BZ26-BY$4)/(BZ$4-BY$4)*(BZ$3-BY$3)+BY$3,1),"") | CC26: =IF(COUNT(CA$3:CB$5,CA26)>4,ROUND((CA26-CA$5)/(CB$5-CA$5)*(CB$3-CA$3)+CA$3,1),"") | CD26: =IF(COUNT(CB26:CC26)>1, CB26-(CC26/2),"") | CE26: =IF(COUNT(CB26:CC26)>1, CB26+(CC26/2),"")
B27: 20 | G27: 20 | L27: 20 | Q27: 20 | V27: 20 | AC27: 20 | AF27: =IF(COUNT(AC$3:AD$4,AD27)>4,ROUND((AD27-AC$4)/(AD$4-AC$4)*(AD$3-AC$3)+AC$3,1),"") | AG27: =IF(COUNT(AE$3:AF$5,AE27)>4,ROUND((AE27-AE$5)/(AF$5-AE$5)*(AF$3-AE$3)+AE$3,1),"") | AJ27: 20 | AM27: =IF(COUNT(AJ$3:AK$4,AK27)>4,ROUND((AK27-AJ$4)/(AK$4-AJ$4)*(AK$3-AJ$3)+AJ$3,1),"") | AQ27: 20 | AT27: =IF(COUNT(AQ$3:AR$4,AR27)>4,ROUND((AR27-AQ$4)/(AR$4-AQ$4)*(AR$3-AQ$3)+AQ$3,1),"") | AX27: 20 | BC27: 20 | BG27: =IF(COUNT(BE$3:BF$5,BE27)>4,ROUND((BE27-BE$5)/(BF$5-BE$5)*(BF$3-BE$3)+BE$3,1),"") | BH27: 20 | BK27: =IF(COUNT(BH$3:BI$4,BI27)>4,ROUND((BI27-BH$4)/(BI$4-BH$4)*(BI$3-BH$3)+BH$3,1),"") | BL27: =IF(COUNT(BJ$3:BK$5,BJ27)>4,ROUND((BJ27-BJ$5)/(BK$5-BJ$5)*(BK$3-BJ$3)+BJ$3,1),"") | BM27: 20 | BP27: =IF(COUNT(BM$3:BN$4,BN27)>4,ROUND((BN27-BM$4)/(BN$4-BM$4)*(BN$3-BM$3)+BM$3,1),"") | BQ27: =IF(COUNT(BO$3:BP$5,BO27)>4,ROUND((BO27-BO$5)/(BP$5-BO$5)*(BP$3-BO$3)+BO$3,1),"") | BR27: 20 | BU27: =IF(COUNT(BR$3:BS$4,BS27)>4,ROUND((BS27-BR$4)/(BS$4-BR$4)*(BS$3-BR$3)+BR$3,1),"") | BV27: =IF(COUNT(BT$3:BU$5,BT27)>4,ROUND((BT27-BT$5)/(BU$5-BT$5)*(BU$3-BT$3)+BT$3,1),"") | BW27: =IF(COUNT(BU27:BV27)>1, BU27-(BV27/2),"") | BX27: =IF(COUNT(BU27:BV27)>1, BU27+(BV27/2),"") | BY27: 20 | CB27: =IF(COUNT(BY$3:BZ$4,BZ27)>4,ROUND((BZ27-BY$4)/(BZ$4-BY$4)*(BZ$3-BY$3)+BY$3,1),"") | CC27: =IF(COUNT(CA$3:CB$5,CA27)>4,ROUND((CA27-CA$5)/(CB$5-CA$5)*(CB$3-CA$3)+CA$3,1),"") | CD27: =IF(COUNT(CB27:CC27)>1, CB27-(CC27/2),"") | CE27: =IF(COUNT(CB27:CC27)>1, CB27+(CC27/2),"")
AF28: WENN(ANZAHL(AC$3:AD$4;AD28)>4;RUNDEN((AD28-AC$4)/(AD$4-AC$4)*(AD$3-AC$3)+AC$3;1);"") | AG28: WENN(ANZAHL(AE$3:AF$5;AE28)>4;RUNDEN((AE28-AE$5)/(AF$5-AE$5)*(AF$3-AE$3)+AE$3;1);"") | BW28: WENN(ANZAHL(BU28:BV28)>1; BU28-(BV28/2);"") | BX28: WENN(ANZAHL(BU28:BV28)>1; BU28+(BV28/2);"")
