Workbook

Sheet Instructions
A1: Supplemental Worksheet
A3: The spreadsheet allows the user to calculate the resulting bubble size distribution and bubble number density prodiced by nucleation of crystal surface areas from Equation (13) in the text.
A4: The crystal surface areas can be calculated from given crystal size distributions by the user.
A5: The BSD and BND are calculated from equation 12 in the text using input values from the user.
A6: All calculations assume that at least one bubble can nucleate on every crystal, that a = 0.0017, and Jc = 1e10 per square meter.
A8: NOTE: The user should not edit any cell in the red sheet titled "Calculations (do not edit) or any of the calculations shown in the green sheet titled "Inputs and outputs"
A10: Input data from the user. Those cells colored green are values of interest that the user can change.
A11: Initial H2O content (in wt.%): enter the saturated water content for the magma in question. Calculations assume that bubble nucleation starts at the saturation pressure.
A12: Final Pressure (in MPa): enter the pressure at which nucleation is assumed to cease.
A13: Temperature (in Kelvin): nucleation temperature of the magma, assumed to remain constant.
A14: Intercept and Slope of CSD: these values are calculated from the crystal-size distribution from the user.
A16: Useful Outputs from Model are given in the Yellow cells.
... A23: The data used to create the graph are listed in the columns colored orange and blue.

Sheet Inputs and outputs
C2: INPUTS | K2: USEFUL OUTPUTS | R2: CALCULATIONS (do not edit)
C5: Water content | D5: Final pressure | E5: Temperature | F5: CSD intercept* | G5: CSD slope* | K5: Total crystal number density | L5: Saturation pressure | M5: Supersaturation (expressed as a pressure difference compared with the saturation pressure) | N5: Total bubble number density | R5: Crystal length bin | S5: Calculated area (do not edit) | T5: Crystal number density in each bin (calculated from crystal size distribution parameters) | U5: Bubble number density in each bin
C6: wt.% | D6: MPa | E6: K | F6: - | G6: - | L6: MPa | M6: MPa | N6: m-3 | R6: m | S6: m2 | T6: m-3 | U6: m-3
C8: 4 | D8: 90 | E8: 1148 | F8: 26.2 | G8: -0.14 | K8: =SUM(T8:T33) -> 6.0196431e+12 | L8: ='Calculations (do not edit)'!O30 -> 106.80995 | M8: ='Calculations (do not edit)'!D14 -> 16.809948 | N8: =IF(M8>0,'Calculations (do not edit)'!J53,0) -> 1.3333817e+13 | R8: 2e-06 | S8: =6*R8^2 -> 2.4e-11 | T8: =1000000*R8*EXP(R8*1000000*$G$8+$F$8) -> 3.613624e+11 | U8: ='Calculations (do not edit)'!H53 -> 3.6147119e+11
R9: =R8+$R$8 -> 4e-06 | S9: =6*R9^2 -> 9.6e-11 | T9: =1000000*R9*EXP(R9*1000000*$G$8+$F$8) -> 5.4622366e+11 | U9: ='Calculations (do not edit)'!H54 -> 5.4884876e+11
R10: =R9+$R$8 -> 6e-06 | S10: =6*R10^2 -> 2.16e-10 | T10: =1000000*R10*EXP(R10*1000000*$G$8+$F$8) -> 6.1924044e+11 | U10: ='Calculations (do not edit)'!H55 -> 6.3416289e+11
R11: =R10+$R$8 -> 8e-06 | S11: =6*R11^2 -> 3.84e-10 | T11: =1000000*R11*EXP(R11*1000000*$G$8+$F$8) -> 6.2401581e+11 | U11: ='Calculations (do not edit)'!H56 -> 6.703912e+11
R12: =R11+$R$8 -> 1e-05 | S12: =6*R12^2 -> 6e-10 | T12: =1000000*R12*EXP(R12*1000000*$G$8+$F$8) -> 5.8952625e+11 | U12: ='Calculations (do not edit)'!H57 -> 6.9162343e+11
R13: =R12+$R$8 -> 1.2e-05 | S13: =6*R13^2 -> 8.64e-10 | T13: =1000000*R13*EXP(R13*1000000*$G$8+$F$8) -> 5.3466523e+11 | U13: ='Calculations (do not edit)'!H58 -> 7.1341794e+11
R14: =R13+$R$8 -> 1.4e-05 | S14: =6*R14^2 -> 1.176e-09 | T14: =1000000*R14*EXP(R14*1000000*$G$8+$F$8) -> 4.7143984e+11 | U14: ='Calculations (do not edit)'!H59 -> 7.3729291e+11
R15: =R14+$R$8 -> 1.6e-05 | S15: =6*R15^2 -> 1.536e-09 | T15: =1000000*R15*EXP(R15*1000000*$G$8+$F$8) -> 4.072075e+11 | U15: ='Calculations (do not edit)'!H60 -> 7.5816467e+11
R16: =R15+$R$8 -> 1.8e-05 | S16: =6*R16^2 -> 1.944e-09 | T16: =1000000*R16*EXP(R16*1000000*$G$8+$F$8) -> 3.4623091e+11 | U16: ='Calculations (do not edit)'!H61 -> 7.7038607e+11
R17: =R16+$R$8 -> 2e-05 | S17: =6*R17^2 -> 2.4e-09 | T17: =1000000*R17*EXP(R17*1000000*$G$8+$F$8) -> 2.9075077e+11 | U17: ='Calculations (do not edit)'!H62 -> 7.7045185e+11
R18: =R17+$R$8 -> 2.2e-05 | S18: =6*R18^2 -> 2.904e-09 | T18: =1000000*R18*EXP(R18*1000000*$G$8+$F$8) -> 2.4171917e+11 | U18: ='Calculations (do not edit)'!H63 -> 7.5733887e+11
R19: =R18+$R$8 -> 2.4e-05 | S19: =6*R19^2 -> 3.456e-09 | T19: =1000000*R19*EXP(R19*1000000*$G$8+$F$8) -> 1.9929537e+11 | U19: ='Calculations (do not edit)'!H64 -> 7.3190072e+11
R20: =R19+$R$8 -> 2.6e-05 | S20: =6*R20^2 -> 4.056e-09 | T20: =1000000*R20*EXP(R20*1000000*$G$8+$F$8) -> 1.6317622e+11 | U20: ='Calculations (do not edit)'!H65 -> 6.961125e+11
... R32: =R31+$R$8 -> 5e-05 | S32: =6*R32^2 -> 1.5e-08 | T32: =1000000*R32*EXP(R32*1000000*$G$8+$F$8) -> 1.0899939e+10 | U32: ='Calculations (do not edit)'!H77 -> 0

Sheet Calculations (do not edit)
B5: Saturation Pressure | K5: Diffusivity | P5: Composition | T5: Comp W | Z5: Oxide Molar Mass | AB5: Moles Oxide | AD5: numMolesOxygen | AF5: Moles Oxygen
B7: H2O | D7: ='Inputs and outputs'!C8 -> 4 | E7: wt% | K7: H2O | M7: =D7 -> 4 | N7: wt% | P7: SiO2 | Q7: 75.17 | S7: SiO2 | T7: =Q7 -> 75.17 | V7: mSi = 28.0855; | W7: 28.0855 | Y7: SiO2 | Z7: =W7+2*W18 -> 60.0835 | AB7: =T7/Z7 -> 1.2510922 | AD7: 2 | AF7: =AB7*AD7 -> 2.5021845
B8: T | D8: ='Inputs and outputs'!E8 -> 1148 | E8: K | K8: T | M8: =D8 -> 1148 | N8: K | Q8: 0.22 | S8: TiO2 | T8: =Q8 -> 0.22 | V8: mTi = 47.867; | W8: 47.867 | Y8: TiO2 | Z8: =W8+2*W18 -> 79.865 | AB8: =T8/Z8 -> 0.0027546485 | AD8: 2 | AF8: =AB8*AD8 -> 0.0055092969
K9: p | M9: ='Inputs and outputs'!D8 -> 90 | N9: MPa | Q9: 12.02 | S9: Al2O3 | T9: =Q9 -> 12.02 | V9: mAl = 26.981539; | W9: 26.981539 | Y9: Al2O3 | Z9: =2*W9+3*W18 -> 101.96008 | AB9: =T9/Z9 -> 0.11788928 | AD9: 3 | AF9: =AB9*AD9 -> 0.35366783
D10: =(354.94*(D13)^0.5 +9.623*D13-1.5223*D13^1.5)/D8 + 0.0012439*D13^1.5 -> 4 | K10: P | M10: =M9/1000 -> 0.09 | N10: Gpa | Q10: 3.13 | S10: Fe2O3 | T10: 0 | V10: mFe = 55.845; | W10: 55.845 | Y10: Fe2O3 | Z10: =2*W10+3*W18 -> 159.687 | AB10: =T10/Z10 -> 0 | AD10: 3 | AF10: =AB10*AD10 -> 0
D11: =ABS(D7-D10) -> 0 | Q11: 0.11 | S11: FeO | T11: =Q10 -> 3.13 | V11: mMn = 54.938044; | W11: 54.938044 | Y11: FeO | Z11: =W10+W18 -> 71.844 | AB11: =T11/Z11 -> 0.043566617 | AD11: 1 | AF11: =AB11*AD11 -> 0.043566617
Q12: 0.09 | S12: MnO | T12: =Q11 -> 0.11 | V12: mMg = 24.305; | W12: 24.305 | Y12: MnO | Z12: =W11+W18 -> 70.937044 | AB12: =T12/Z12 -> 0.0015506708 | AD12: 1 | AF12: =AB12*AD12 -> 0.0015506708
B13: p_sat | D13: =O30 -> 106.80995 | E13: Mpa | K13: XH2Ot | M13: =(M7/18.015)/((M7/18.015)+(100-M7)/AI20) -> 0.070550568 | Q13: 1.66 | S13: MgO | T13: =Q12 -> 0.09 | V13: mCa = 40.078; | W13: 40.078 | Y13: MgO | Z13: =W12+W18 -> 40.304 | AB13: =T13/Z13 -> 0.002233029 | AD13: 1 | AF13: =AB13*AD13 -> 0.002233029
B14: Dp | D14: =D13-M9 -> 16.809948 | E14: MPa | Q14: 4.58 | S14: CaO | T14: =Q13 -> 1.66 | V14: mNa = 22.989769; | W14: 22.989769 | Y14: CaO | Z14: =W13+W18 -> 56.077 | AB14: =T14/Z14 -> 0.029602154 | AD14: 1 | AF14: =AB14*AD14 -> 0.029602154
K15: DH2Om | M15: =EXP(-12.79 -27.87*M13 -((13939 + 1230*M10 -60559*M13)/M8)) -> 7.8102926e-11 | Q15: 2.88 | S15: Na2O | T15: =Q14 -> 4.58 | V15: mK = 39.0983; | W15: 39.0983 | Y15: Na2O | Z15: =2*W14+W18 -> 61.978538 | AB15: =T15/Z15 -> 0.073896548 | AD15: 1 | AF15: =AB15*AD15 -> 0.073896548
B16: Surface Tension | Q16: 0 | S16: K2O | T16: =Q15 -> 2.88 | V16: mP = 30.973762; | W16: 30.973762 | Y16: K2O | Z16: =2*W15+W18 -> 94.1956 | AB16: =T16/Z16 -> 0.030574677 | AD16: 1 | AF16: =AB16*AD16 -> 0.030574677
K17: K | M17: =EXP(1.876-3110/M8) -> 0.43471735 | P17: H2O | Q17: =M7 -> 4 | S17: P2O5 | T17: =Q16 -> 0 | V17: mCr = 51.9961; | W17: 51.9961 | Y17: P2O5 | Z17: =2*W16+5*W18 -> 141.94252 | AB17: =T17/Z17 -> 0 | AD17: 5 | AF17: =AB17*AD17 -> 0
B18: planar | D18: =0.121*EXP(-0.0224 *D13)+ 0.147*EXP(-0.0019 *D13) +0.000075*(D8-1000-273.15) -> 0.12167302 | Q18: 0 | S18: Cr2O3 | T18: 0 | V18: mO = 15.999; | W18: 15.999 | Y18: Cr2O3 | Z18: =2*W17+3*W18 -> 151.9892 | AB18: =T18/Z18 -> 0 | AD18: 3 | AF18: =AB18*AD18 -> 0
K19: D = | M19: =M15*(1-((0.5-M13)/((4/M17 -1)*(M13-(M13^2))+0.25)^0.5)) -> 4.0313185e-11 | N19: m^2/s
B20: alpha | D20: 0.49 | S20: Tot | T20: =SUM(T7:T18) -> 99.86 | AE20: Total | AF20: =SUM(AF7:AF18) -> 3.0427853 | AH20: W | AI20: =T20/AF20 -> 32.818615
B21: delta | D21: 3.2e-10
B23: corrected | D23: =D18*D20-D21*ABS(D13-M9)*1000000 -> 0.054240595 | E23: N/m | K23: Newton Itteration to find Psat
K25: a | L25: =-1.5223/D8 +0.0012439 -> -8.2145296e-05
B26: Free Energy Barrier | K26: b | L26: =9.623/D8 -> 0.0083824042
K27: c | L27: =354.94/D8 -> 0.30918118
B28: k_B | D28: 1.38e-23 | E28: J/K | K28: d | L28: =-D7 -> -4
B30: Contact Angle | D30: 18 | E30: deg | K30: initial guess | L30: =SQRT(M9) -> 9.486833 | N30: psat | O30: =L47^2 -> 106.80995
D31: =D30*PI()/180 -> 0.31415927 | E31: rad | L31: =L30-($L$25*L30^3 +$L$26*L30^2 + $L$27*L30+$L$28)/(3*$L$25*L30^2 +2*$L$26*L30 +$L$27) -> 10.344524
B32: Scaling Factor | D32: =0.25*(2-3*COS(D31)+COS(D31)^3) -> 0.0017672879 | L32: =L31-($L$25*L31^3 +$L$26*L31^2 + $L$27*L31+$L$28)/(3*$L$25*L31^2 +2*$L$26*L31 +$L$27) -> 10.334891
L33: =L32-($L$25*L32^3 +$L$26*L32^2 + $L$27*L32+$L$28)/(3*$L$25*L32^2 +2*$L$26*L32 +$L$27) -> 10.33489
B34: Delta G | D34: =16*PI()*D23^3/(D14*1000000)^2 *D32 -> 5.0166952e-20 | E34: J | L34: =L33-($L$25*L33^3 +$L$26*L33^2 + $L$27*L33+$L$28)/(3*$L$25*L33^2 +2*$L$26*L33 +$L$27) -> 10.33489
L35: =L34-($L$25*L34^3 +$L$26*L34^2 + $L$27*L34+$L$28)/(3*$L$25*L34^2 +2*$L$26*L34 +$L$27) -> 10.33489
B36: B | D36: =EXP(-D34/(D28*D8)) -> 0.042145566 | L36: =L35-($L$25*L35^3 +$L$26*L35^2 + $L$27*L35+$L$28)/(3*$L$25*L35^2 +2*$L$26*L35 +$L$27) -> 10.33489
L37: =L36-($L$25*L36^3 +$L$26*L36^2 + $L$27*L36+$L$28)/(3*$L$25*L36^2 +2*$L$26*L36 +$L$27) -> 10.33489
B38: Jc | D38: 1000000000 | E38: m^-2 s^-0 | L38: =L37-($L$25*L37^3 +$L$26*L37^2 + $L$27*L37+$L$28)/(3*$L$25*L37^2 +2*$L$26*L37 +$L$27) -> 10.33489
B39: J | D39: =D38*D36 -> 42145566 | E39: m^-2 s^-1 | L39: =L38-($L$25*L38^3 +$L$26*L38^2 + $L$27*L38+$L$28)/(3*$L$25*L38^2 +2*$L$26*L38 +$L$27) -> 10.33489
L40: =L39-($L$25*L39^3 +$L$26*L39^2 + $L$27*L39+$L$28)/(3*$L$25*L39^2 +2*$L$26*L39 +$L$27) -> 10.33489
L41: =L40-($L$25*L40^3 +$L$26*L40^2 + $L$27*L40+$L$28)/(3*$L$25*L40^2 +2*$L$26*L40 +$L$27) -> 10.33489
L42: =L41-($L$25*L41^3 +$L$26*L41^2 + $L$27*L41+$L$28)/(3*$L$25*L41^2 +2*$L$26*L41 +$L$27) -> 10.33489
B43: Sites per area | L43: =L42-($L$25*L42^3 +$L$26*L42^2 + $L$27*L42+$L$28)/(3*$L$25*L42^2 +2*$L$26*L42 +$L$27) -> 10.33489
L44: =L43-($L$25*L43^3 +$L$26*L43^2 + $L$27*L43+$L$28)/(3*$L$25*L43^2 +2*$L$26*L43 +$L$27) -> 10.33489
B45: area per site | D45: =SQRT(M19/D39) -> 9.7801971e-10 | E45: m^2 | L45: =L44-($L$25*L44^3 +$L$26*L44^2 + $L$27*L44+$L$28)/(3*$L$25*L44^2 +2*$L$26*L44 +$L$27) -> 10.33489
L46: =L45-($L$25*L45^3 +$L$26*L45^2 + $L$27*L45+$L$28)/(3*$L$25*L45^2 +2*$L$26*L45 +$L$27) -> 10.33489
B47: sites per area | D47: =1/D45 -> 1.0224743e+09 | E47: m^-2 | L47: =L46-($L$25*L46^3 +$L$26*L46^2 + $L$27*L46+$L$28)/(3*$L$25*L46^2 +2*$L$26*L46 +$L$27) -> 10.33489
A50: Crystals
A51: Area | B51: Number Density | D51: Beta | F51: Bubbles per crystal | H51: Total Bubbles | J51: Final BND | L51: Length [um]
A53: ='Inputs and outputs'!S8 -> 2.4e-11 | B53: ='Inputs and outputs'!T8 -> 3.613624e+11 | D53: =1+$M$19/($D$39*A53^2) -> 1661.6294 | F53: =IFERROR($D$47*A53*SQRT(D53),0) -> 1.000301 | H53: =F53*B53 -> 3.6147119e+11 | J53: =SUM(H53:H76) -> 1.3333817e+13 | L53: =1000000*SQRT(A53/6) -> 2
A54: ='Inputs and outputs'!S9 -> 9.6e-11 | B54: ='Inputs and outputs'!T9 -> 5.4622366e+11 | D54: =1+$M$19/($D$39*A54^2) -> 104.78934 | F54: =IFERROR($D$47*A54*SQRT(D54),0) -> 1.0048059 | H54: =F54*B54 -> 5.4884876e+11 | L54: =1000000*SQRT(A54/6) -> 4
A55: ='Inputs and outputs'!S10 -> 2.16e-10 | B55: ='Inputs and outputs'!T10 -> 6.1924044e+11 | D55: =1+$M$19/($D$39*A55^2) -> 21.501598 | F55: =IFERROR($D$47*A55*SQRT(D55),0) -> 1.024098 | H55: =F55*B55 -> 6.3416289e+11 | L55: =1000000*SQRT(A55/6) -> 6
A56: ='Inputs and outputs'!S11 -> 3.84e-10 | B56: ='Inputs and outputs'!T11 -> 6.2401581e+11 | D56: =1+$M$19/($D$39*A56^2) -> 7.4868337 | F56: =IFERROR($D$47*A56*SQRT(D56),0) -> 1.0743177 | H56: =F56*B56 -> 6.703912e+11 | L56: =1000000*SQRT(A56/6) -> 8
A57: ='Inputs and outputs'!S12 -> 6e-10 | B57: ='Inputs and outputs'!T12 -> 5.8952625e+11 | D57: =1+$M$19/($D$39*A57^2) -> 3.6570071 | F57: =IFERROR($D$47*A57*SQRT(D57),0) -> 1.1731851 | H57: =F57*B57 -> 6.9162343e+11 | L57: =1000000*SQRT(A57/6) -> 10
A58: ='Inputs and outputs'!S13 -> 8.64e-10 | B58: ='Inputs and outputs'!T13 -> 5.3466523e+11 | D58: =1+$M$19/($D$39*A58^2) -> 2.2813499 | F58: =IFERROR($D$47*A58*SQRT(D58),0) -> 1.3343264 | H58: =F58*B58 -> 7.1341794e+11 | L58: =1000000*SQRT(A58/6) -> 12
A59: ='Inputs and outputs'!S14 -> 1.176e-09 | B59: ='Inputs and outputs'!T14 -> 4.7143984e+11 | D59: =1+$M$19/($D$39*A59^2) -> 1.6916407 | F59: =IFERROR($D$47*A59*SQRT(D59),0) -> 1.5639173 | H59: =F59*B59 -> 7.3729291e+11 | L59: =1000000*SQRT(A59/6) -> 14
A60: ='Inputs and outputs'!S15 -> 1.536e-09 | B60: ='Inputs and outputs'!T15 -> 4.072075e+11 | D60: =1+$M$19/($D$39*A60^2) -> 1.4054271 | F60: =IFERROR($D$47*A60*SQRT(D60),0) -> 1.8618632 | H60: =F60*B60 -> 7.5816467e+11 | L60: =1000000*SQRT(A60/6) -> 16
A61: ='Inputs and outputs'!S16 -> 1.944e-09 | B61: ='Inputs and outputs'!T16 -> 3.4623091e+11 | D61: =1+$M$19/($D$39*A61^2) -> 1.2531061 | F61: =IFERROR($D$47*A61*SQRT(D61),0) -> 2.2250644 | H61: =F61*B61 -> 7.7038607e+11 | L61: =1000000*SQRT(A61/6) -> 18
A62: ='Inputs and outputs'!S17 -> 2.4e-09 | B62: ='Inputs and outputs'!T17 -> 2.9075077e+11 | D62: =1+$M$19/($D$39*A62^2) -> 1.1660629 | F62: =IFERROR($D$47*A62*SQRT(D62),0) -> 2.6498704 | H62: =F62*B62 -> 7.7045185e+11 | L62: =1000000*SQRT(A62/6) -> 20
A63: ='Inputs and outputs'!S18 -> 2.904e-09 | B63: ='Inputs and outputs'!T18 -> 2.4171917e+11 | D63: =1+$M$19/($D$39*A63^2) -> 1.1134232 | F63: =IFERROR($D$47*A63*SQRT(D63),0) -> 3.1331353 | H63: =F63*B63 -> 7.5733887e+11 | L63: =1000000*SQRT(A63/6) -> 22
A64: ='Inputs and outputs'!S19 -> 3.456e-09 | B64: ='Inputs and outputs'!T19 -> 1.9929537e+11 | D64: =1+$M$19/($D$39*A64^2) -> 1.0800844 | F64: =IFERROR($D$47*A64*SQRT(D64),0) -> 3.6724422 | H64: =F64*B64 -> 7.3190072e+11 | L64: =1000000*SQRT(A64/6) -> 24
A65: ='Inputs and outputs'!S20 -> 4.056e-09 | B65: ='Inputs and outputs'!T20 -> 1.6317622e+11 | D65: =1+$M$19/($D$39*A65^2) -> 1.0581433 | F65: =IFERROR($D$47*A65*SQRT(D65),0) -> 4.2660169 | H65: =F65*B65 -> 6.961125e+11 | L65: =1000000*SQRT(A65/6) -> 26
... A76: ='Inputs and outputs'!S31 -> 1.3824e-08 | B76: ='Inputs and outputs'!T31 -> 1.3845153e+10 | D76: =1+$M$19/($D$39*A76^2) -> 1.0050053 | F76: =IFERROR($D$47*A76*SQRT(D76),0) -> 14.170014 | H76: =F76*B76 -> 1.9618601e+11 | L76: =1000000*SQRT(A76/6) -> 48
