Workbook

Sheet tissue samples
A1: Lycopodiella inundata study sample summary
A3: To date (14/11/19) | D3: Pilot - Spring 2019 (time 0)
A4: Site code | B4: Site Name/Location | C4: OU/GPS | D4: Assoc plants | E4: Plant tissue (CEH) (C/N/P)
E5: T01 | G5: T1
E6: wt (g) | F6: tissue | G6: wt (g) | H6: tissue | J6: notes
A7: TH | B7: Thursley | C7: SU 90213 40827 | E7: 0.5 | F7: stem | G7: =0.44+0.14 -> 0.58 | H7: stem | J7: approx weight
A8: HB | B8: Hyde Bog | C8: SY 87487 91996 | E8: 0.53 | F8: stem | G8: 1.04 | H8: stem
A9: ST | B9: Stannon Park | C9: SX 13468 81308 | E9: 1.03 | F9: stem | G9: 1.02 | H9: stem
A10: PL | B10: Park Lake | C10: SX 19872 70350 | E10: =0.91+0.77 -> 1.68 | F10: stem | G10: 1.43 | H10: stem
A11: CE | B11: Coulin Estate | C11: NG 98021 57635 | E11: 0.6 | F11: stem | G11: 1.3 | H11: stem | J11: < 0.6
G12: 1 | H12: strobili | J12: over 1
A13: MP | B13: Munday Estate | C13: NG 81687 52419 | E13: 0.35 | F13: stem | G13: 0.41 | H13: stem
A14: BD | B14: Ben Damph | C14: NG 85651 54609 | E14: 0.28 | F14: stem | G14: 0.43 | H14: stem
A15: MH | B15: Matley Heath | C15: SU 33573 08479 | E15: 0.22 | F15: stem | G15: 0.45 | H15: stem
A16: SH | B16: Stadbury Hill | C16: SU 28640 15959 | E16: 0.3 | F16: stem | G16: 0.28 | H16: stem
A17: NLA | C17: N51 23' 44'' E 5 36'45'' | E17: n/a | F17: n/a | G17: 1.09 | H17: stem
A18: NLB | B18: S. Heide | C18: N51 23' 48.16212'' E 5 35'39.53544'' | E18: 0.78 | G18: 0.48 | H18: stem
A19: NLB | C19: N51 23' 48'' E 5 35'40'' | G19: 1 | H19: strobili | J19: over 1
A20: LV | B20: Aldershot Meta | C20: SU 83044 52511 | E20: too few plants
A21: BF A, B, C | B21: Barnsfield (Dorset) | E21: n/a | F21: n/a | G21: 1.32 | H21: stem
A23: Number of samples | E23: =COUNT(E7:E18) -> 10 | G23: =COUNT(G7:G21) -> 14
A24: Total | E24: =+E23+G23 -> 24
A27: 1 - all with Netty except an additional 0.77 g from PL.0 (included in the above tally)
A33: *OM tests:
A34: 1 - | B34: K, Mg and we can add Ca, Mn, Na and S
A35: 2- | B35: near total (Al, As, B, Ca, Cd, Co, Cr, Cu, Fe, K, Mn, Na, Ni, P, Pb, S, Sr, Zn, Zr )
B37: repeat in sept/oct

Sheet root col (T0)
A1: Lycopodiella inundata study sample summary | N1: Spring 2019 baseline (T0 Results)
I2: Lycopodiella root analysis | AJ2: Poaceae and Juncaceae
A3: Site code | B3: Site Name/Location | C3: stain | D3: koh % | E3: koh prep | F3: notes | G3: notes | H3: PHOTO Y(done) / TD(to do) | I3: RH (1/0) | J3: # plots | K3: % plot colonized | L3: # plants evaluated | M3: FRE in plants P(1)/A(0) | N3: # roots evaluated | O3: FRE in roots P(1)/A(0) | P3: Mean roots all sites | Q3: SD | R3: SE | S3: mean % roots col per plant | T3: mean | U3: SD | V3: SE | W3: L. in GL in roots P(1)/A(0) | X3: ROOT HAIR CELLS Vesicles, Arbuscules, Hyphae | AA3: ROOT CELLS Vesicles, Arbuscules, Hyphae (exc RH) | AG3: Frequency roots col per plant | AH3: FRE in roots P(1)/A(0) | AJ3: Grass FRE P(1)/A(0) | AK3: # grass roots | AL3: Grass GLOM P(1)/A(0) | AM3: =586-17 -> 569
A4: OVERALL | J4: =+J5+J49+J78+J128+J233+J316+J312+J391+J449+J529+J594+J716 -> 36 | K4: =(COUNTIF(K6:K715,1))/J4 -> 0.58333333 | L4: =+L5+L49+L78+L128+L233+L316+L312+L391+L449+L529+L594+L716 -> 129 | M4: =(COUNTIF(M6:M715,1))/L4 -> 0.31782946 | N4: =+N5+N49+N78+N128+N233+N312+N391+N449+N529+N594+N716 -> 586 | O4: =(COUNTIF(O6:O715,1))/N4 -> 0.14163823 | P4: =AVERAGE(AH6:AH584) -> 0.14160839 | R4: =STDEV(AH6:AH584)/SQRT(COUNT(AH6:AH584)) -> 0.014590466 | T4: =(+T14+T56+T86+T154+T270+T332+T395+T460+T539+T612+T718)/11 -> 0.13035394 | V4: =STDEV(AG6:AG17)/SQRT(COUNT(AG6:AG17)) -> 0.046231907 | W4: =SUM(W6:W730) -> 3 | X4: =COUNTA(X6:X730) -> 17 | AI4: =+X4/N4 -> 0.029010239 | AJ4: =COUNTIF(AJ5:AJ715, 1)/COUNTA(AJ5:AJ715) -> 0.34453782
A5: TH | B5: Thursley | J5: 3 | K5: =SUM(K6:K42)/J5 -> 0.66666667 | L5: =SUM(L6:L42) -> 9 | M5: =SUM(M6:M42)/L5 -> 0.44444444 | N5: =SUM(N6:N42) -> 38 | O5: =COUNTIF(O6:O42,1)/N5 -> 0.10526316 | P5: =AVERAGE(O6:O42) -> 0.12903226 | Q5: =_xlfn.STDEV.P(O6:O36) -> 0.33523564 | R5: =STDEV(O6:O42)/(SQRT(COUNT(O6:O42))) -> 0.061205374 | S5: =((+N6*S6)+(N9*S9)+(N13*S13)+(N16*S16)+(N18*S18)+(N22*S22)+(N28*S28)+(N31*S31))/N5 -> 0.052631579 | U5: =_xlfn.STDEV.P(T6:T13) -> 0.10825318 | V5: =+V14 -> 0.040915854
A6: 1 | B6: TH.0.R1d | C6: mb | D6: 5 | E6: wb+on | K6: 0 | L6: 1 | M6: 0 | N6: 3 | O6: 0 | S6: 0 | T6: =+S6 -> 0 | AG6: =+T14 -> 0.0625 | AH6: 0 | AI6: =+N4-X4 -> 569
B7: TH.0.R1e | C7: mb | D7: 5 | E7: wb+on | O7: 0 | T7: =+S9 -> 0.25 | AG7: =+S49 -> 0.097096774 | AH7: 0
B8: TH.0.R1f | C8: mb | D8: 5 | E8: wb+on | O8: 0 | T8: 0 | AG8: =+T56 -> 0.13944444 | AH8: 0
A9: 2 | B9: TH.0.R2 | C9: ink | D9: 5 | E9: ac+wb | F9: poor q | K9: 1 | L9: 1 | M9: 1 | N9: 4 | O9: 1 | S9: 0.25 | T9: 0 | AG9: =+T86 -> 0 | AH9: 1
B10: TH.0.R2 | G10: 5% AF | O10: 0 | T10: 0.25 | AG10: =+T154 -> 0.21906667 | AH10: 0
B11: TH.0.R2A | G11: * 5% | O11: 0 | T11: 0 | AG11: =+T270 -> 0.59095238 | AH11: 0
B12: TH.0.R2f | C12: mb | D12: 5 | E12: ac+on | O12: 0 | T12: 0 | AG12: =+T332 -> 0.10526316 | AH12: 0
B13: TH.0.R2a | C13: ink | D13: 5 | F13: poor q | L13: 1 | M13: 1 | N13: 3 | O13: 1 | S13: 0 | T13: 0 | X13: V | AG13: =+T395 -> 0.083333333 | AH13: 0
B14: TH.0.R2b | C14: ink | D14: 5 | F14: poor q | O14: 1 | T14: =AVERAGE(T6:T13) -> 0.0625 | V14: =STDEV(T6:T13)/(SQRT(COUNT(T6:T13))) -> 0.040915854 | X14: V | Z14: A | AG14: =+T460 -> 0.15 | AH14: 0
B15: TH.0.R2c | C15: ink | D15: 5 | F15: poor q | O15: 0 | AG15: =+T539 -> 0.083333333 | AH15: 0
B16: TH.0.R2d | C16: ink | D16: 5 | F16: poor q | G16: 2 cells | L16: 1 | M16: 0 | N16: 2 | O16: 0 | S16: 0 | AG16: =+T612 -> 0 | AH16: 0
B17: TH.0.R2d1 | O17: 0 | AG17: =+T718 -> 0 | AH17: 0
B18: TH.0.R2g | C18: mb | L18: 1 | M18: 1 | N18: 4 | O18: 0 | S18: 0.25 | AH18: 0
B19: TH.0.R2h | C19: mb | O19: 0 | AH19: 0
B20: TH.0.R2i | C20: mb | O20: 0 | AH20: 0
B21: TH.0.R2j | O21: 1 | AH21: 1
A22: 3 | B22: TH.0.R3 | C22: tb | D22: 10 | E22: ac | F22: poor q | K22: 1 | L22: 1 | M22: 0 | N22: 7 | O22: 0 | S22: 0 | AH22: 0
B23: TH.0.R3a | G23: *TB | O23: 0 | AH23: 0
B24: TH.0.R3b | G24: *TB | O24: 0 | AH24: 0
B25: TH.0.R3c | C25: mb | D25: 5 | E25: wb+on | G25: * | O25: 0 | AH25: 0
B26: TH.0.R3d | C26: mb | D26: 5 | E26: wb+on | G26: * | O26: 0 | AH26: 0
B27: TH.0.R3e | C27: mb | D27: 5 | E27: wb+on | G27: * | O27: 0 | AH27: 0
B28: TH.0.R3f | C28: mb | D28: 5 | E28: wb+on | L28: 1 | M28: 0 | N28: 3 | O28: 0 | S28: 0 | AH28: 0
B29: TH.0.R3g | C29: mb | D29: 5 | E29: ac+on | O29: 0 | AH29: 0
B30: TH.0.R3h | C30: mb | D30: 5 | E30: ac+on | O30: 0 | AH30: 0
B31: TH.0.R3i | C31: mb | D31: 5 | E31: ac+on | L31: 1 | M31: 0 | N31: 6 | O31: 0 | S31: 0 | AH31: 0
B32: TH.0.R3j | C32: mb | D32: 5 | E32: ac+on | O32: 0 | AH32: 0
B33: TH.0.R3k | C33: mb | D33: 5 | E33: ac+on | O33: 0 | AH33: 0
B34: TH.0.R3l | C34: mb | D34: 5 | E34: ac+on | O34: 0 | AH34: 0
B35: TH.0.R3m | C35: mb | D35: 5 | E35: ac+on | G35: * | O35: 0 | AH35: 0
B36: TH.0.R3n | C36: mb | D36: 5 | E36: ac+on | G36: * | O36: 0 | AH36: 0
B37: TH.0.R4h | L37: 1 | M37: 1 | N37: 6 | AL37: 1
B38: TH.0.R4i | AL38: 1
B39: TH.0.R4c | X39: V | AL39: 1
B40: TH.0.R4d | AL40: 1
...

Sheet Overview T1
A1: Lycopodiella inundata study sample summary | Q1: to do | W1: June 20, 2019
A3: Time | D3: Pilot - Spring 2019 (time 0) | E3: Time 1
A4: Site code | B4: Site Name/Location | C4: OU/GPS | D4: Assoc plants | E4: Soils (NRM) | G4: Root fungus ID and colonization | O4: roots/plant | P4: avg root length (mm) | Q4: avg plant length (cm) | R4: avg roots/cm | S4: % without RH | T4: Plant tissue (CEH) (C/N/P) | U4: Plant tissue (Pop gen.) | V4: Precipitation | W4: Health (started T1) | X4: Associates DAFOR (T1) | Y4: Strobili % | Z4: Spore recruitment
E5: OM (tests) | F5: BD | G5: # mol. OTUs | H5: IDed FRE | I5: # plants exam | J5: % plants col Muc-like | K5: Freq. roots col. per plant (wtd avg.) | L5: # roots exam | M5: % roots colonised Muc-like | N5: % roots colonised GLOM-like | T5: wt (G) | U5: # samples/ID | V5: (mm/y) | W5: Hansatech
A6: TH | B6: Thursley | C6: SU 90213 40827 | E6: pH, available macro, conductivity | F6: T0 | I6: =+'root col (T1)'!H141 -> 7 | J6: =+'root col (T1)'!I141 -> 1 | K6: =+'root col (T1)'!Q141 -> 0.70454545 | L6: =+'root col (T1)'!K141 -> 44 | M6: =+'root col (T1)'!L141 -> 0.70454545 | N6: =+'root col (T1)'!AA141 -> 0.090909091 | O6: =+'Plant measures (T1)'!N28 -> 14.666667 | P6: =+'Plant measures (T1)'!O28 -> 9.9833333 | Q6: =+'Plant measures (T1)'!P28 -> 5.4388889 | R6: =+'Plant measures (T1)'!Q28 -> 2.837691 | W6: DONE T1 | X6: DONE T1 | Y6: =(+#REF!+#REF!+#REF!)/3 -> #REF! | Z6: Y
A7: HB | B7: Hyde Bog | C7: SY 87487 91996 | E7: 1, 2, pH, C&N&P available, conductivity | F7: =+F6 -> T0 | I7: =+'root col (T1)'!H189 -> 11 | J7: =+'root col (T1)'!I189 -> 1 | K7: =+'root col (T1)'!Q189 -> 0.7260274 | L7: =+'root col (T1)'!K189 -> 73 | M7: =+'root col (T1)'!L189 -> 0.78082192 | N7: =+'root col (T1)'!AA189 -> 0.095890411 | O7: =+'Plant measures (T1)'!N21 -> 12.666667 | P7: =+'Plant measures (T1)'!O21 -> 10.516667 | Q7: =+'Plant measures (T1)'!P21 -> 4.3240741 | R7: =+'Plant measures (T1)'!Q21 -> 3.2903756 | W7: DONE T1 | X7: DONE T1 | Y7: =(+#REF!+#REF!+#REF!)/3 -> #REF! | Z7: Y
A8: ST | B8: Stannon Park | C8: SX 13468 81308 | E8: 1, 2, pH, C&N&P available, conductivity | F8: =+F7 -> T0 | I8: =+'root col (T1)'!H91 -> 11 | J8: =+'root col (T1)'!I91 -> 0.90909091 | K8: =+'root col (T1)'!Q91 -> 0.7755102 | L8: =+'root col (T1)'!K91 -> 49 | M8: =+'root col (T1)'!L91 -> 0.75510204 | N8: =+'root col (T1)'!AA91 -> 0.081632653 | O8: =+'Plant measures (T1)'!N14 -> 10.055556 | P8: =+'Plant measures (T1)'!O7 -> 12.466667 | Q8: ='Plant measures (T1)'!P14 -> 6.0166667 | R8: =+'Plant measures (T1)'!Q14 -> 1.6689933 | U8: 10/ST.0 1-10 | W8: DONE T1 | X8: DONE T1 | Y8: =(+#REF!+#REF!+#REF!)/3 -> #REF! | Z8: N
A9: PL | B9: Park Lake | C9: SX 19872 70350 | E9: 1, 2, pH, C&N&P available, conductivity | F9: =+F8 -> T0 | I9: =+'root col (T1)'!H7 -> 19 | J9: =+'root col (T1)'!I7 -> 1 | K9: =+'root col (T1)'!Q7 -> 0.80746988 | L9: =+'root col (T1)'!K7 -> 83 | M9: 0.89 | N9: =+'root col (T1)'!AA7 -> 0.048192771 | O9: =+'Plant measures (T1)'!N7 -> 9.0555556 | P9: =+'Plant measures (T1)'!O14 -> 12.3 | Q9: =+'Plant measures (T1)'!P7 -> 7.9166667 | R9: =+'Plant measures (T1)'!Q7 -> 1.2165681 | U9: 10/PL.0 1-10 | W9: DONE T1 | X9: DONE T1 | Y9: =(+#REF!+#REF!+#REF!)/3 -> #REF! | Z9: N
A10: CE | B10: Coulin Estate | C10: NG 98021 57635 | E10: 1, 2, pH, C&N&P available, conductivity | F10: =+F9 -> T0 | G10: 8 | H10: 1 | I10: =+'root col (T1)'!H327 -> 19 | J10: =+'root col (T1)'!I327 -> 0.94736842 | K10: =+'root col (T1)'!Q327 -> 0.98039216 | L10: =+'root col (T1)'!K327 -> 102 | M10: =+'root col (T1)'!L327 -> 0.99019608 | N10: =+'root col (T1)'!AA327 -> 0 | O10: =+'Plant measures (T1)'!N77 -> 8.5 | P10: =+'Plant measures (T1)'!O77 -> 11.812466 | Q10: =+'Plant measures (T1)'!P77 -> 4.6944444 | R10: =+'Plant measures (T1)'!Q77 -> 1.8686569 | U10: 5/CE.0 1-5 | W10: DONE T1 | X10: DONE T1
A11: MP | B11: Munday Estate (path) | C11: NG 81687 52419 | E11: 1, 2, pH, C&N&P available, conductivity | F11: =+F10 -> T0 | I11: =+'root col (T1)'!H264 -> 17 | J11: =+'root col (T1)'!I264 -> 0.47058824 | K11: =+'root col (T1)'!Q264 -> 0.98387097 | L11: =+'root col (T1)'!K264 -> 62 | M11: =+'root col (T1)'!L264 -> 0.98387097 | N11: =+'root col (T1)'!AA264 -> 0 | O11: =+'Plant measures (T1)'!N84 -> 5.5555556 | P11: =+'Plant measures (T1)'!O84 -> 9.4598545 | Q11: =+'Plant measures (T1)'!P84 -> 2.1333333 | R11: =+'Plant measures (T1)'!Q84 -> 2.6041667 | W11: DONE T1 | X11: DONE T1
A12: BD | B12: Ben Damph | C12: NG 85651 54609 | E12: 1, 2, pH, C&N&P available, conductivity | F12: =+F11 -> T0 | I12: =+'root col (T1)'!H503 -> 16 | J12: =+'root col (T1)'!I503 -> 1 | K12: =+'root col (T1)'!Q503 -> 0.98383085 | L12: =+'root col (T1)'!K503 -> 67 | M12: =+'root col (T1)'!L503 -> 0.93 | N12: =+'root col (T1)'!AA503 -> 0 | O12: =+'Plant measures (T1)'!N103 -> 8.25 | P12: =+'Plant measures (T1)'!O103 -> 9.1379755 | Q12: =+'Plant measures (T1)'!P103 -> 3.7166667 | R12: =+'Plant measures (T1)'!Q103 -> 2.2197309 | W12: DONE T1 | X12: DONE T1
A13: MH | B13: Matley Heath | C13: SU 33573 08479 | E13: 1, 2, pH, C&N&P available, conductivity | F13: =+F12 -> T0 | I13: =+'root col (T1)'!H458 -> 8 | J13: =+'root col (T1)'!I458 -> 1 | K13: =+'root col (T1)'!Q458 -> 0.75 | L13: =+'root col (T1)'!K458 -> 40 | M13: =+'root col (T1)'!L458 -> 0.825 | N13: =+'root col (T1)'!AA458 -> 0 | O13: =+'Plant measures (T1)'!N42 -> 11 | P13: =+'Plant measures (T1)'!O42 -> 13.783333 | Q13: =+'Plant measures (T1)'!P42 -> 3.6222222 | R13: =+'Plant measures (T1)'!Q42 -> 3.1994006 | W13: DONE T1 | X13: DONE T1 | Y13: =(+#REF!+#REF!+#REF!)/3 -> #REF! | Z13: a few on one subplot
A14: SH | B14: Stadbury Hill | C14: SU 28640 15959 | E14: 1, 2, pH, C&N&P available, conductivity | F14: yes | I14: =+'root col (T1)'!H683 -> 12 | J14: =+'root col (T1)'!I683 -> 0.66666667 | K14: =+'root col (T1)'!Q683 -> 0.8 | L14: =+'root col (T1)'!K683 -> 70 | M14: =+'root col (T1)'!J756+'root col (T1)'!L683 -> 0.78571429 | N14: =+'root col (T1)'!AA683 -> 0.042857143 | O14: =+'Plant measures (T1)'!N35 -> 11.222222 | P14: =+'Plant measures (T1)'!O35 -> 13.272222 | Q14: =+'Plant measures (T1)'!P35 -> 3.3944444 | R14: =+'Plant measures (T1)'!Q35 -> 3.308106 | W14: DONE T1 | X14: DONE T1 | Y14: =+#REF! -> #REF! | Z14: a few on one subplot
A15: NL | B15: S. Heide A | C15: N51 23' 48.16212'' E 5 35'39.53544'' | E15: 1, 2, pH, C&N&P available, conductivity | F15: yes | I15: =+'root col (T1)'!H575 -> 11 | J15: =+'root col (T1)'!I575 -> 0.63636364 | K15: =+'root col (T1)'!Q575 -> 0.84890909 | L15: =+'root col (T1)'!K575 -> 55 | M15: =+'root col (T1)'!L575 -> 0.92727273 | N15: =+'root col (T1)'!AA575 -> 0.036363636 | O15: =+'Plant measures (T1)'!N56 -> 11.166667 | P15: =+'Plant measures (T1)'!O56 -> 10.866667 | Q15: =+'Plant measures (T1)'!P56 -> 4.6555556 | R15: =+'Plant measures (T1)'!Q56 -> 2.6329808 | W15: DONE T1 | X15: DONE T1 | Y15: =+(#REF!+#REF!+#REF!)/3 -> #REF!
B16: S. Heide B | I16: =+'root col (T1)'!H633 -> 12 | J16: =+'root col (T1)'!I633 -> 1 | K16: =+'root col (T1)'!Q633 -> 0.89795918 | L16: =+'root col (T1)'!K633 -> 49 | M16: =+'root col (T1)'!L633 -> 0.89795918 | N16: =+'root col (T1)'!AA633 -> 0.020408163 | O16: =+'Plant measures (T1)'!N63 -> 11.277778 | P16: =+'Plant measures (T1)'!O63 -> 7.1681111 | Q16: =+'Plant measures (T1)'!P63 -> 3.3055556 | R16: =+'Plant measures (T1)'!Q63 -> 3.4656446 | W16: DONE T1 | X16: DONE T1 | Y16: =+(#REF!+#REF!+#REF!)/3 -> #REF!
A17: LV | B17: Aldershot Meta | C17: SU 83044 52511 | E17: 1, 2, pH, C&N&P available, conductivity | F17: yes | I17: =+'root col (T1)'!H432 -> 3 | J17: =+'root col (T1)'!I432 -> 0.66666667 | K17: =+'root col (T1)'!Q432 -> 0.56 | L17: =+'root col (T1)'!K432 -> 25 | M17: =+'root col (T1)'!L432 -> 0.6 | N17: =+'root col (T1)'!AA432 -> 0 | O17: =+'Plant measures (T1)'!N49 -> 7 | P17: =+'Plant measures (T1)'!O49 -> 5.3314286 | Q17: =+'Plant measures (T1)'!P49 -> 2.96 | R17: =+'Plant measures (T1)'!Q49 -> 2.5159771 | W17: DONE T1 | X17: DONE T1 | Y17: =+#REF! -> #REF! | Z17: N
A19: To date (14/3/20) | I19: =SUM(I4:I18) -> 146 | J19: =+'root col (T1)'!I6 -> 0.89726027 | L19: =SUM(L4:L18) -> 719 | M19: =+'root col (T1)'!L6 -> 0.86369958 | N19: =+'root col (T1)'!AA6 -> 0.037552156

Sheet Overview T0
A1: Lycopodiella inundata study sample summary
A3: To date (14/11/19) | D3: Pilot - Spring 2019 (time 0) | E3: Time 0
A4: Site code | B4: Site Name/Location | C4: OU/GPS | D4: Assoc plants | E4: Soils (FR) | H4: Root fungus ID and colonization | N4: Plant tissue (CEH) (C/N/P) | O4: Plant tissue (Pop gen.) | P4: Precipitation 2018
E5: # OM * | F5: Mineral | G5: Bulk Density | H5: # mol. | I5: % FRE | J5: # plants | K5: Freq. roots col. per plant (wtd avg.) | L5: # roots exam | M5: % colonised Muc-like | N5: wt (G) | O5: # samples/ID | P5: (mm/y)
A6: TH | B6: Thursley | C6: SU 90213 40827 | E6: 5 | F6: correlates to OM | G6: yes | H6: tbd | J6: =+'root col (T0)'!L5 -> 9 | K6: =SUM('root col (T0)'!S6:S31)/'Overview T0'!J6 -> 0.055555556 | L6: =+'root col (T0)'!N5 -> 38 | M6: =+'root col (T0)'!O5 -> 0.10526316 | N6: with Netty | P6: =+#REF! -> #REF!
A7: HB | B7: Hyde Bog | C7: SY 87487 91996 | E7: 4 | F7: correlates to OM | G7: yes | H7: tbd | J7: =+'root col (T0)'!L49 -> 6 | K7: =+'root col (T0)'!S49 -> 0.097096774 | L7: =+'root col (T0)'!N49 -> 31 | M7: =+'root col (T0)'!O49 -> 0.096774194 | N7: 0.53g | P7: =+#REF! -> #REF!
A8: ST | B8: Stannon Park | C8: SX 13468 81308 | E8: 4 | F8: correlates to OM | G8: yes | H8: tbd | J8: =+'root col (T0)'!L78 -> 8 | K8: =+'root col (T0)'!S78 -> 0.066666667 | L8: =+'root col (T0)'!N78 -> 45 | M8: =+'root col (T0)'!O78 -> 0.066666667 | N8: 1.03 g | O8: 10/ST 1-10 | P8: =+#REF! -> #REF!
A9: PL | B9: Park Lake | C9: SX 19872 70350 | E9: 5 | F9: correlates to OM | G9: yes | H9: tbd | J9: =+'root col (T0)'!L128 -> 28 | K9: =+'root col (T0)'!S128 -> 0.21568182 | L9: =+'root col (T0)'!N128 -> 88 | M9: =+'root col (T0)'!O128 -> 0.21590909 | N9: 0.91g | O9: 10/PL 1-10 | P9: =+#REF! -> #REF!
A10: CE | B10: Coulin Estate | C10: NG 98021 57635 | E10: 1 | F10: correlates to OM | G10: yes | H10: tbd | J10: =+'root col (T0)'!L233 -> 19 | K10: =+'root col (T0)'!S233 -> 0.50649351 | L10: =+'root col (T0)'!N233 -> 77 | M10: =+'root col (T0)'!O233 -> 0.50649351 | N10: > 0.6 g | O10: 5/CE 1-5 | P10: =+#REF! -> #REF!
A11: MP | B11: Munday Estate | C11: NG 81687 52419 | E11: 1 | F11: correlates to OM | G11: yes | H11: tbd | J11: =+'root col (T0)'!L312 -> 19 | K11: =+'root col (T0)'!S312 -> 0.093943662 | L11: =+'root col (T0)'!N312 -> 71 | M11: =+'root col (T0)'!O312 -> 0.084507042 | N11: 0.35 g | P11: =+#REF! -> #REF!
A12: BD | B12: Ben Damph | C12: NG 85651 54609 | E12: n/a | F12: correlates to OM | G12: yes | H12: tbd | J12: =+'root col (T0)'!L391 -> 3 | K12: =+'root col (T0)'!S391 -> 0.11111111 | L12: =+'root col (T0)'!N391 -> 9 | M12: =+'root col (T0)'!O391 -> 0.11111111 | N12: 0.28 g | P12: =+#REF! -> #REF!
A13: MH | B13: Matley Heath | C13: SU 33573 08479 | E13: 3 | F13: correlates to OM | G13: yes | H13: tbd | J13: =+'root col (T0)'!L449 -> 10 | K13: =+'root col (T0)'!S449 -> 0.096153846 | L13: =+'root col (T0)'!N449 -> 52 | M13: =+'root col (T0)'!O449 -> 0.096153846 | N13: 0.22 g | P13: =+#REF! -> #REF!
A14: SH | B14: Stadbury Hill | C14: SU 28640 15959 | E14: 3 | F14: correlates to OM | G14: yes | H14: tbd | J14: =+'root col (T0)'!L529 -> 9 | K14: =+'root col (T0)'!S529 -> 0.046875 | L14: =+'root col (T0)'!N529 -> 64 | M14: =+'root col (T0)'!O529 -> 0.046875 | N14: 0.3 g | P14: =+#REF! -> #REF!
A15: NL | B15: S. Heide | C15: N51 23' 48.16212'' E 5 35'39.53544'' | E15: 4 | F15: correlates to OM | G15: yes | H15: tbd | J15: =+'root col (T0)'!L594 -> 17 | K15: 0 | L15: =+'root col (T0)'!N594 -> 109 | M15: =+'root col (T0)'!O594 -> 0 | N15: 0.78 g | P15: =+#REF! -> #REF!
A16: LV | B16: Aldershot Meta | C16: SU 83044 52511 | E16: 3 | F16: correlates to OM | G16: yes | H16: 1 | J16: =+'root col (T0)'!L716 -> 1 | K16: 0 | L16: =+'root col (T0)'!N716 -> 2 | M16: =+'root col (T0)'!O716 -> 0 | N16: too few plants to collect | P16: =+#REF! -> #REF!
A17: Total % roots colonised | J17: =SUM(J6:J16) -> 129 | L17: =SUM(L2:L16) -> 586 | M17: =+'root col (T0)'!O4 -> 0.14163823
A26: *OM tests:
A27: 1 - | B27: K, Mg and we can add Ca, Mn, Na and S
A28: 2- | B28: near total (Al, As, B, Ca, Cd, Co, Cr, Cu, Fe, K, Mn, Na, Ni, P, Pb, S, Sr, Zn, Zr ) | L28: 1
L29: 1
B30: repeat in sept/oct
L31: 1
L32: na
L33: =SUM(L28:L32) -> 3

Sheet root col (T1)
A2: Lycopodiella inundata study sample summary
A3: Autumn 2019 (T1 Results)
A4: Lycopodiella inundata root colonization analysis
A5: Site code | B5: Site Name/Location | C5: notes | D5: Photo Y(done) / TD(to do) | E5: RH (1/0) | F5: # plots | G5: % plot colonized | H5: # plants evaluated | I5: % FRE in plants P(1)/A(0) | J5: FRE in plants P(1)/A(0) | K5: # roots evaluated | L5: % roots FRE colonized | M5: FRE P(1)/A(0) | N5: Mean roots all sites | O5: SD | P5: SE | Q5: % roots col per plant | R5: Mean | S5: SD | T5: SE | U5: HAIR CELLS Vesicles, Arbuscules, Hyphae | X5: ROOT CELLS Vesicles, Arbuscules, Hyphae (exc RH) | AA5: GLOM P(1)/A(0) | AB5: % roots col per plant | AC5: FRE P(1)/A(0) | AE5: # grass roots | AF5: Grass GLOM P(1)/A(0)
A6: OVERALL | F6: =+F7+F91+F141+F189+F264+F327+F432+F458+F503+F575+F633+F683 -> 28 | G6: 1 | H6: =+H7+H91+H141+H189+H264+H327+H432+H458+H503+H575+H633+H683 -> 146 | I6: =(+J7+J91+J141+J189+J264+J327+J432+J458+J503+J575+J633)/H6 -> 0.89726027 | J6: =+J7+J91+J141+J189+J264+J327+J432+J458+J503+J575+J633+J683 -> 141 | K6: =+K7+K91+K141+K189+K264+K327+K432+K458+K503+K575+K633+K683 -> 719 | L6: =+M6/K6 -> 0.86369958 | M6: =+M7+M91+M141+M189+M264+M327+M432+M458+M503+M575+M633+M683 -> 621 | N6: =AVERAGE(AB9:AB731) -> 0.84678655 | P6: =STDEV(AC8:AC731)/(SQRT(COUNT(AC8:AC731))) -> 0.01291819 | R6: =+AB6 -> 0.84678655 | U6: =+U7+U91+U141+U189+U264+U327+U432+U503+U575+U683 -> 56 | V6: =+V7+V91+V141+V189+V264+V327+V432+V503+V575+V683 -> 2 | W6: =+W7+W91+W141+W189+W264+W327+W432+W503+W575+W683 -> 58 | X6: =+X7+X91+X141+X189+X264+X327+X432+X503+X575+X683 -> 20 | Y6: =+Y7+Y91+Y141+Y189+Y264+Y327+Y432+Y503+Y575+Y683 -> 3 | Z6: =+Z7+Z91+Z141+Z189+Z264+Z327+Z432+Z503+Z575+Z683 -> 32 | AA6: =COUNTIF(AA7:AA1298, 1)/K6 -> 0.037552156 | AB6: =AVERAGE(AB9:AB19) -> 0.84678655 | AD6: =+U6+X6-13 -> 63
A7: PL | B7: Park Lake | F7: 3 | G7: =SUM(G8:G90)/F7 -> 1 | H7: =SUM(H8:H90) -> 19 | I7: =SUM(J8:J90)/H7 -> 1 | J7: =SUM(J8:J90) -> 19 | K7: =SUM(K8:K90) -> 83 | L7: =+M7/K7 -> 0.86746988 | M7: =SUM(M8:M90) -> 72 | Q7: =((Q8*K8)+(Q11*K11)+(Q16*K16)+(K25*Q25)+(K46*Q46)+(K28*Q28)+(K34*Q34)+(K37*Q37)+(K40*Q40)+(K49*Q49)+(K53*Q53)+(K55*Q55)+(K58*Q58)+(K64*Q64)+(K73*Q73)+(K83*Q83)+(K88*Q88))/K7 -> 0.80746988 | R7: =AVERAGE(AB8:AB26) -> 0.84678655 | S7: =_xlfn.STDEV.P(R8:R26) -> 0.1479445 | T7: =STDEV($AB$8:$AB$26)/(SQRT(COUNT(AB8:AB26))) -> 0.048781013 | U7: =COUNTA(U8:U90) -> 2 | V7: =COUNTA(V8:V90) -> 1 | W7: =COUNTA(W8:W90) -> 11 | X7: =COUNTA(X8:X90) -> 2 | Y7: =COUNTA(Y8:Y90) -> 3 | Z7: =COUNTA(Z8:Z90) -> 0 | AA7: =SUM(AA8:AA90)/K7 -> 0.048192771
A8: 1 | B8: PL.1.1.L.1.1a | G8: 1 | H8: 1 | J8: 1 | K8: 3 | M8: 1 | N8: =AVERAGE(M8:M90) -> 0.86746988 | O8: =STDEV(M8:M90) -> 0.34112741 | P8: =STDEV(M8:M90)/(SQRT(COUNT(M8:M90))) -> 0.037443598 | Q8: =3/K8 -> 1 | R8: =+Q8 -> 1 | AC8: 1 | AD8: =+AD6/K6 -> 0.087621697
B9: PL.1.1.L.1.1b | D9: TD | M9: 1 | R9: =+Q11 -> 0.8 | AB9: =+R37 -> 0.87345029 | AC9: 1 | AD9: =+K6-AD6 -> 656
B10: PL.1.1.L.1.1c | M10: 1 | R10: =+Q16 -> 0.88888889 | AB10: =+R103 -> 0.74069264 | AC10: 1
B11: PL.1.1.L.2.1a | H11: 1 | J11: 1 | K11: 5 | M11: 1 | Q11: =SUM(M11:M15)/K11 -> 0.8 | R11: =+Q37 -> 1 | W11: R | AB11: =+R152 -> 0.75873016 | AC11: 1 | AD11: =0.04*717 -> 28.68
B12: PL.1.1.L.2.1b | M12: 1 | R12: =+Q53 -> 1 | AB12: =+R202 -> 0.78765432 | AC12: 1
B13: PL.1.1.L.2.1c | C13: root cap col. | M13: 1 | R13: =+Q55 -> 0.66666667 | W13: R | AB13: =+R282 -> 0.98529412 | AC13: 1
B14: PL.1.1.L.2.2a | M14: 1 | R14: =+Q58 -> 1 | AB14: =+R347 -> 0.97932331 | AC14: 1
B15: PL.1.1.L.2.2b | M15: 0 | R15: =+Q64 -> 0.66666667 | AB15: =+R438 -> 0.50378788 | AC15: 0
B16: PL.1.1.L.3.1a | H16: 1 | J16: 1 | K16: 9 | M16: 1 | Q16: =SUM(M16:M24)/K16 -> 0.88888889 | R16: =+Q73 -> 0.8 | AB16: =+R463 -> 1 | AC16: 1
B17: PL.1.1.L.3.1b | M17: 0 | R17: =+Q78 -> 0.6 | AB17: =+R522 -> 0.97916667 | AC17: 0
B18: PL.1.1.L.3.1c | M18: 1 | R18: =+Q83 -> 1 | W18: R | AB18: =+R601 -> 1 | AC18: 1
B19: PL.1.1.L.3.2a | M19: 1 | R19: =+Q88 -> 1 | AB19: =+R696 -> 0.70655271 | AC19: 1
B20: PL.1.1.L.3.2c | M20: 1 | R20: =+Q28 -> 0.83333333 | AC20: 1
B21: PL.1.1.L.3.2d | M21: 1 | R21: 1 | AC21: 1
B22: PL.1.1.L.3.3a | M22: 1 | R22: =+Q25 -> 1 | W22: R | AC22: 1
B23: PL.1.1.L.3.3b | M23: 1 | R23: 0.67 | W23: R | AC23: 1
B24: PL.1.1.L.3.3c | M24: 1 | R24: 1 | W24: R | AC24: 1
B25: PL.1.1.L.4.1a | H25: 1 | J25: 1 | K25: 3 | M25: 1 | Q25: 1 | R25: =+Q40 -> 0.67 | AC25: 1
B26: PL.1.1.L.4.1b | M26: 1 | R26: =+Q46 -> 1 | AC26: 1
B27: PL.1.1.L.4.1c | M27: 1 | AC27: 1
B28: PL.1.1.L.5.1a | H28: 1 | J28: 1 | K28: 6 | M28: 1 | Q28: =SUM(M28:M33)/K28 -> 0.83333333 | AC28: 1
B29: PL.1.1.L.5.1b | M29: 1 | AC29: 1
B30: PL.1.1.L.5.1c | M30: 1 | AC30: 1
B31: PL.1.1.L.5.2a | M31: 1 | AC31: 1
B32: PL.1.1.L.5.2b | M32: 1 | AC32: 1
B33: PL.1.1.L.5.2c | M33: 0 | AC33: 0
B34: PL.1.1.L.6.1a | H34: 1 | J34: 1 | K34: 3 | M34: 1 | Q34: 1 | AC34: 1
B35: PL.1.1.L.6.1b | M35: 1 | AC35: 1
B36: PL.1.1.L.6.1c | M36: 1 | AC36: 1
A37: 2 | B37: PL.1.2.L.1.2a | G37: 1 | H37: 1 | J37: 1 | K37: 3 | M37: 1 | Q37: 1 | R37: =AVERAGE(R8:R26) -> 0.87345029 | T37: =STDEV(R8:R26)/(SQRT(COUNT(R8:R26))) -> 0.034870854 | AC37: 1
B38: PL.1.2.L.1.2b | M38: 1 | AC38: 1
B39: PL.1.2.L.1.2c | M39: 1 | AC39: 1
B40: PL.1.2.L.2.1a | H40: 1 | J40: 1 | K40: 6 | M40: 1 | Q40: 0.67 | AC40: 1
B41: PL.1.2.L.2.1b | M41: 1 | AC41: 1
...

Sheet T0 to T1
F2: Spring 2019 | N2: Autumn 2019
B3: Site code | C3: Site Name | D3: OU/GPS | E3: MucFRE confirmed | F3: # plants analysed | G3: # roots analysed | H3: % subplots colonised MucFRE-like | I3: Frequency roots/plant (wtd. avg.) | J3: # roots colonised | K3: # roots uncolonised | L3: % roots colonised MucFRE-like | M3: % uncolonised Muc-like | N3: # plants analysed | O3: # roots analysed | P3: % subplots colonised MucFRE-like | Q3: Frequency roots/plant (wtd. avg.) | R3: # roots colonised | S3: # roots uncolonised | T3: % roots colonised MucFRE-like | W3: % uncolonised Muc-like
B4: TH | C4: Thursley | D4: SU 90213 40827 | F4: =+'Overview T0'!J6 -> 9 | G4: =+'Overview T0'!L6 -> 38 | H4: =+'root col (T0)'!K5 -> 0.66666667 | I4: =+'root col (T0)'!S5 -> 0.052631579 | J4: =+G4*L4 -> 4 | K4: =+G4-J4 -> 34 | L4: =+'Overview T0'!M6 -> 0.10526316 | M4: =1-L4 -> 0.89473684 | N4: =+'Overview T1'!I6 -> 7 | O4: =+'Overview T1'!L6 -> 44 | P4: 1 | Q4: =+'Overview T1'!M6 -> 0.70454545 | R4: =+O4*T4 -> 31 | S4: =+O4-R4 -> 13 | T4: =+'Overview T1'!M6 -> 0.70454545 | W4: =1-T4 -> 0.29545455 | Y4: =+G4-O4 -> -6
B5: HB | C5: Hyde Bog | D5: SY 87487 91996 | F5: =+'Overview T0'!J7 -> 6 | G5: =+'Overview T0'!L7 -> 31 | H5: =+'root col (T0)'!K25+'root col (T0)'!J30+'root col (T0)'!K49 -> 0.75 | I5: =+'Overview T0'!K7 -> 0.097096774 | J5: =+G5*L5 -> 3 | K5: =+G5-J5 -> 28 | L5: =+'Overview T0'!M7 -> 0.096774194 | M5: =1-L5 -> 0.90322581 | N5: =+'Overview T1'!I7 -> 11 | O5: =+'Overview T1'!L7 -> 73 | P5: 1 | Q5: =+'root col (T1)'!Q189 -> 0.7260274 | R5: =+O5*T5 -> 57 | S5: =+O5-R5 -> 16 | T5: =+'Overview T1'!M7 -> 0.78082192 | W5: =1-T5 -> 0.21917808 | Y5: =+G5-O5 -> -42
B6: ST | C6: Stannon Park | D6: SX 13468 81308 | F6: =+'Overview T0'!J8 -> 8 | G6: =+'Overview T0'!L8 -> 45 | H6: =+'root col (T0)'!K78 -> 0.75 | I6: =+'Overview T0'!K8 -> 0.066666667 | J6: =+G6*L6 -> 3 | K6: =+G6-J6 -> 42 | L6: =+'Overview T0'!M8 -> 0.066666667 | M6: =1-L6 -> 0.93333333 | N6: =+'Overview T1'!I8 -> 11 | O6: =+'Overview T1'!L8 -> 49 | P6: 1 | Q6: =+'root col (T1)'!Q91 -> 0.7755102 | R6: =+O6*T6 -> 37 | S6: =+O6-R6 -> 12 | T6: =+'Overview T1'!M8 -> 0.75510204 | W6: =1-T6 -> 0.24489796 | Y6: =+G6-O6 -> -4
B7: PL | C7: Park Lake | D7: SX 19872 70350 | F7: =+'Overview T0'!J9 -> 28 | G7: =+'Overview T0'!L9 -> 88 | H7: =+'root col (T0)'!K128 -> 0.8 | I7: =+'Overview T0'!K9 -> 0.21568182 | J7: =+G7*L7 -> 19 | K7: =+G7-J7 -> 69 | L7: =+'Overview T0'!M9 -> 0.21590909 | M7: =1-L7 -> 0.78409091 | N7: =+'Overview T1'!I9 -> 19 | O7: =+'Overview T1'!L9 -> 83 | P7: 1 | Q7: =+'root col (T1)'!R7 -> 0.84678655 | R7: =+O7*T7 -> 73.87 | S7: =+O7-R7 -> 9.13 | T7: =+'Overview T1'!M9 -> 0.89 | W7: =1-T7 -> 0.11 | Y7: =+G7-O7 -> 5 | AA7: Total plants | AB7: =+F15+N15 -> 275
B8: CE | C8: Coulin Estate | D8: NG 98021 57635 | F8: =+'Overview T0'!J10 -> 19 | G8: =+'Overview T0'!L10 -> 77 | H8: =+'root col (T0)'!K233 -> 1 | I8: =+'Overview T0'!K10 -> 0.50649351 | J8: =+G8*L8 -> 39 | K8: =+G8-J8 -> 38 | L8: =+'Overview T0'!M10 -> 0.50649351 | M8: =1-L8 -> 0.49350649 | N8: =+'Overview T1'!I10 -> 19 | O8: =+'Overview T1'!L10 -> 102 | P8: 1 | Q8: =+'Overview T1'!M10 -> 0.99019608 | R8: =+O8*T8 -> 101 | S8: =+O8-R8 -> 1 | T8: =+'Overview T1'!M10 -> 0.99019608 | W8: =1-T8 -> 0.0098039216 | Y8: =+G8-O8 -> -25 | AA8: Total roots | AB8: =+G15+O15 -> 1305
B9: MP | C9: Munday Estate | D9: NG 81687 52419 | F9: =+'Overview T0'!J11 -> 19 | G9: =+'Overview T0'!L11 -> 71 | H9: =+'root col (T0)'!K312 -> 0 | I9: =+'Overview T0'!K11 -> 0.093943662 | J9: =+G9*L9 -> 6 | K9: =+G9-J9 -> 65 | L9: =+'Overview T0'!M11 -> 0.084507042 | M9: =1-L9 -> 0.91549296 | N9: =+'Overview T1'!I11 -> 17 | O9: =+'Overview T1'!L11 -> 62 | P9: 1 | Q9: =+'Overview T1'!M11 -> 0.98387097 | R9: =+O9*T9 -> 61 | S9: =+O9-R9 -> 1 | T9: =+'Overview T1'!M11 -> 0.98387097 | W9: =1-T9 -> 0.016129032 | Y9: =+G9-O9 -> 9 | AB9: spring | AC9: autumn
B10: BD | C10: Ben Damph | D10: NG 85651 54609 | F10: =+'Overview T0'!J12 -> 3 | G10: =+'Overview T0'!L12 -> 9 | H10: =+'root col (T0)'!K391 -> 0.5 | I10: =+'Overview T0'!K12 -> 0.11111111 | J10: =+G10*L10 -> 1 | K10: =+G10-J10 -> 8 | L10: =+'Overview T0'!M12 -> 0.11111111 | M10: =1-L10 -> 0.88888889 | N10: =+'Overview T1'!I12 -> 16 | O10: =+'Overview T1'!L12 -> 67 | P10: 1 | Q10: =+'root col (T1)'!Q503 -> 0.98383085 | R10: =+O10*T10 -> 62.31 | S10: =+O10-R10 -> 4.69 | T10: =+'Overview T1'!M12 -> 0.93 | W10: =1-T10 -> 0.07 | Y10: =+G10-O10 -> -58 | AA10: uncolonised | AB10: =0.86*G15 -> 503.96 | AC10: =0.15*O15 -> 107.85
B11: MH | C11: Matley Heath | D11: SU 33573 08479 | F11: =+'Overview T0'!J13 -> 10 | G11: =+'Overview T0'!L13 -> 52 | H11: =+'root col (T0)'!K449 -> 0.8 | I11: =+'Overview T0'!K13 -> 0.096153846 | J11: =+G11*L11 -> 5 | K11: =+G11-J11 -> 47 | L11: =+'Overview T0'!M13 -> 0.096153846 | M11: =1-L11 -> 0.90384615 | N11: =+'Overview T1'!I13 -> 8 | O11: =+'Overview T1'!L13 -> 40 | P11: 1 | Q11: =+'root col (T1)'!Q458 -> 0.75 | R11: =+O11*T11 -> 33 | S11: =+O11-R11 -> 7 | T11: =+'Overview T1'!M13 -> 0.825 | W11: =1-T11 -> 0.175 | Y11: =+G11-O11 -> 12 | AA11: colonised | AB11: =+G15-AB10 -> 82.04 | AC11: =+O15-AC10 -> 611.15
B12: SH | C12: Stadbury Hill | D12: SU 28640 15959 | F12: =+'Overview T0'!J14 -> 9 | G12: =+'Overview T0'!L14 -> 64 | H12: =+'root col (T0)'!K529 -> 0.2 | I12: =+'Overview T0'!K14 -> 0.046875 | J12: =+G12*L12 -> 3 | K12: =+G12-J12 -> 61 | L12: =+'Overview T0'!M14 -> 0.046875 | M12: =1-L12 -> 0.953125 | N12: =+'Overview T1'!I14 -> 12 | O12: =+'Overview T1'!L14 -> 70 | P12: 1 | Q12: =+'root col (T1)'!Q683 -> 0.8 | R12: =+'root col (T1)'!M683 -> 55 | S12: =+O12-R12 -> 15 | T12: =+'root col (T1)'!L683 -> 0.78571429 | W12: =1-T12 -> 0.21428571 | Y12: =+G12-O12 -> -6
B13: NL | C13: Strabechtse Heide | D13: N51 23' 48.16212'' E 5 35'39.53544'' | F13: =+'Overview T0'!J15 -> 17 | G13: =+'Overview T0'!L15 -> 109 | H13: =+'root col (T0)'!K594 -> 0 | I13: =+'Overview T0'!K15 -> 0 | J13: =+G13*L13 -> 0 | K13: =+G13-J13 -> 109 | L13: =+'Overview T0'!M15 -> 0 | M13: =1-L13 -> 1 | N13: =+'Overview T1'!I15+'Overview T1'!I16 -> 23 | O13: =+'Overview T1'!L15+'Overview T1'!L16 -> 104 | P13: 1 | Q13: =+('Overview T1'!K15+'Overview T1'!K16)/2 -> 0.87343414 | R13: =+'root col (T1)'!M633+'root col (T1)'!M575 -> 95 | S13: =+O13-R13 -> 9 | T13: =+R13/O13 -> 0.91346154 | W13: =1-T13 -> 0.086538462 | Y13: =+G13-O13 -> 5
B14: AL | C14: Aldershot | D14: SU 83044 52511 | F14: =+'Overview T0'!J16 -> 1 | G14: =+'Overview T0'!L16 -> 2 | H14: =+'root col (T0)'!K716 -> 0 | I14: =+'Overview T0'!K16 -> 0 | J14: =+G14*L14 -> 0 | K14: =+G14-J14 -> 2 | L14: =+'Overview T0'!M16 -> 0 | M14: =1-L14 -> 1 | N14: =+'Overview T1'!I17 -> 3 | O14: =+'Overview T1'!L17 -> 25 | P14: 1 | Q14: =+'root col (T1)'!Q432 -> 0.56 | R14: =+O14*T14 -> 15 | S14: =+O14-R14 -> 10 | T14: =+'root col (T1)'!L432 -> 0.6 | W14: =1-T14 -> 0.4 | Y14: =+G14-O14 -> -23 | AK14: =+O15+G15 -> 1305
B15: Total | F15: =+'Overview T0'!J17 -> 129 | G15: =+'Overview T0'!L17 -> 586 | H15: =+'root col (T0)'!K4 -> 0.58333333 | I15: =+'root col (T0)'!T4 -> 0.13035394 | J15: =+G15*L15 -> 83 | K15: =+G15-J15 -> 503 | L15: =+'Overview T0'!M17 -> 0.14163823 | M15: =1-L15 -> 0.85836177 | N15: =+'Overview T1'!I19 -> 146 | O15: =+'Overview T1'!L19 -> 719 | P15: =AVERAGE(P4:P14) -> 1 | Q15: =+'root col (T1)'!R6 -> 0.84678655 | R15: =+O15*T15 -> 621 | S15: =+O15-R15 -> 98 | T15: =+'Overview T1'!M19 -> 0.86369958 | W15: =1-T15 -> 0.13630042 | Y15: =+G15-O15 -> -133
B17: Table 2. Numbers and frequency of roots colonised by MucFRE-like hyphae, by site, spring compared with autumn 2019.
B19: To date (20/4/20)

Sheet Plant measures (T1)
A1: Growth Measurements (note: this seasons growth)
A2: (Autumn 2019)
B4: subplot 1 | F4: subplot 2 | J4: subplot 3 | N4: Means | R4: Sums
A5: Site | B5: # roots/ rhizome | C5: root length (mm) | D5: rhizome length (cm) | E5: roots/cm | F5: # roots/ rhizome | G5: root length (mm) | H5: rhizome length (cm) | I5: roots/cm | J5: # roots/ rhizome | K5: root length (mm) | L5: rhizome length (cm) | M5: roots/cm | N5: # roots/ rhizome | O5: root length (mm) | P5: rhizome length (cm) | Q5: roots/cm | R5: Total number of plant rhizomes measured | S5: Total root length (mm) per site | T5: Total root length (cm) per site
A6: Park Lake
A7: plant 1 | B7: 7 | C7: 8.9 | D7: 6 | E7: =+B7/D7 -> 1.1666667 | F7: 7 | G7: 8.3 | H7: 6 | I7: =+F7/H7 -> 1.1666667 | J7: 17 | K7: 11.4 | L7: 16 | M7: =+J7/L7 -> 1.0625 | N7: =SUM(B7:B12,F7:F12,J7:J12)/18 -> 9.0555556 | O7: =SUM(C7:C12,G7:G12,K7:K12)/18 -> 12.466667 | P7: =SUM(D7:D12,H7:H12,L7:L12)/18 -> 7.9166667 | Q7: =SUM(E7:E12,I7:I12,M7:M12)/18 -> 1.2165681
A8: plant 2 | B8: 6 | C8: 13.3 | D8: 6 | E8: =+B8/D8 -> 1 | F8: 8 | G8: 13.6 | H8: 6 | I8: =+F8/H8 -> 1.3333333 | J8: 15 | K8: 10.1 | L8: 10.8 | M8: =+J8/L8 -> 1.3888889
A9: plant 3 | B9: 3 | C9: 15.7 | D9: 6 | E9: =+B9/D9 -> 0.5 | F9: 7 | G9: 10.4 | H9: 6 | I9: =+F9/H9 -> 1.1666667 | J9: 7 | K9: 16 | L9: 9.5 | M9: =+J9/L9 -> 0.73684211
A10: plant 4 | B10: 7 | C10: 16.3 | D10: 6 | E10: =+B10/D10 -> 1.1666667 | F10: 8 | G10: 12.8 | H10: 6 | I10: =+F10/H10 -> 1.3333333 | J10: 12 | K10: 6.8 | L10: 18.8 | M10: =+J10/L10 -> 0.63829787
A11: plant 5 | B11: 4 | C11: 16.3 | D11: 6 | E11: =+B11/D11 -> 0.66666667 | F11: 14 | G11: 13.7 | H11: 5.8 | I11: =+F11/H11 -> 2.4137931 | J11: 13 | K11: 12.6 | L11: 9.8 | M11: =+J11/L11 -> 1.3265306
A12: plant 6 | B12: 4 | C12: 15.3 | D12: 6 | E12: =+B12/D12 -> 0.66666667 | F12: 12 | G12: 10.3 | H12: 5 | I12: =+F12/H12 -> 2.4 | J12: 12 | K12: 12.6 | L12: 6.8 | M12: =+J12/L12 -> 1.7647059 | R12: 18 | S12: =+O7*18 -> 224.4 | T12: =+S12/10 -> 22.44
A13: Stannon
A14: plant 1 | B14: 8 | C14: 14.3 | D14: 4.5 | E14: =+B14/D14 -> 1.7777778 | F14: 34 | G14: 13.2 | H14: 17 | I14: =F14/H14 -> 2 | J14: 17 | K14: 9.2 | L14: 7.8 | M14: =J14/L14 -> 2.1794872 | N14: =SUM(B14:B19,F14:F19,J14:J19)/18 -> 10.055556 | O14: =SUM(C14:C19,G14:G19,K14:K19)/18 -> 12.3 | P14: =SUM(D14:D19,H14:H19,L14:L19)/18 -> 6.0166667 | Q14: =SUM(E14:E19,I14:I19,M14:M19)/18 -> 1.6689933
A15: plant 2 | B15: 13 | C15: 18.2 | D15: 4.8 | E15: =+B15/D15 -> 2.7083333 | F15: 5 | G15: 8.1 | H15: 3 | I15: =F15/H15 -> 1.6666667 | J15: 11 | K15: 12.8 | L15: 6.8 | M15: =J15/L15 -> 1.6176471
A16: plant 3 | B16: 10 | C16: 19.5 | D16: 7.1 | E16: =+B16/D16 -> 1.4084507 | F16: 9 | G16: 12 | H16: 6 | I16: =F16/H16 -> 1.5 | J16: 11 | K16: 8.6 | L16: 11.3 | M16: =J16/L16 -> 0.97345133
A17: plant 4 | B17: 9 | C17: 11.1 | D17: 4.5 | E17: =+B17/D17 -> 2 | F17: 8 | G17: 5.9 | H17: 4.5 | I17: =F17/H17 -> 1.7777778 | J17: 8 | K17: 8.3 | L17: 5 | M17: =J17/L17 -> 1.6
A18: plant 5 | B18: 7 | C18: 14.6 | D18: 6 | E18: =+B18/D18 -> 1.1666667 | F18: 4 | G18: 8.4 | H18: 4 | I18: =F18/H18 -> 1 | J18: 9 | K18: 15.6 | L18: 3.6 | M18: =J18/L18 -> 2.5
A19: plant 6 | B19: 6 | C19: 15.6 | D19: 4.1 | E19: =+B19/D19 -> 1.4634146 | F19: 9 | G19: 10.3 | H19: 5.1 | I19: =F19/H19 -> 1.7647059 | J19: 3 | K19: 15.7 | L19: 3.2 | M19: =J19/L19 -> 0.9375 | R19: 18 | S19: =+O14*18 -> 221.4 | T19: =+S19/10 -> 22.14
A20: Hyde Bog
A21: plant 1 | B21: 10 | C21: 12.2 | D21: =SUM(H21:H26,L21:L26)/12 -> 4.4083333 | E21: =+B21/D21 -> 2.268431 | F21: 18 | G21: 10.7 | H21: 3.6 | I21: =F21/H21 -> 5 | J21: 13 | K21: 11.5 | L21: 10.5 | M21: =J21/L21 -> 1.2380952 | N21: =SUM(B21:B26,F21:F26,J21:J26)/18 -> 12.666667 | O21: =SUM(C21:C26,G21:G26,K21:K26)/18 -> 10.516667 | P21: =SUM(D21:D26,H21:H26,L21:L26)/18 -> 4.3240741 | Q21: =SUM(E21:E26,I21:I26,M21:M26)/18 -> 3.2903756
A22: plant 2 | B22: 14 | C22: 11.1 | D22: =SUM(H22:H27,L22:L27)/12 -> 3.2333333 | E22: =+B22/D22 -> 4.3298969 | F22: 22 | G22: 9 | H22: 4.5 | I22: =F22/H22 -> 4.8888889 | J22: 10 | K22: 8.8 | L22: 3.1 | M22: =J22/L22 -> 3.2258065
A23: plant 3 | B23: 10 | C23: 10.8 | D23: =SUM(H23:H28,L23:L28)/12 -> 3.8083333 | E23: =+B23/D23 -> 2.6258206 | F23: 14 | G23: 8.9 | H23: 3 | I23: =F23/H23 -> 4.6666667 | J23: 23 | K23: 10.6 | L23: 3.3 | M23: =J23/L23 -> 6.969697
A24: plant 4 | B24: 8 | C24: 10.4 | D24: =SUM(H24:H29,L24:L29)/12 -> 4.15 | E24: =+B24/D24 -> 1.9277108 | F24: 9 | G24: 13.4 | H24: 5 | I24: =F24/H24 -> 1.8 | J24: 9 | K24: 10.7 | L24: 2.3 | M24: =J24/L24 -> 3.9130435
A25: plant 5 | B25: 11 | C25: 9.8 | D25: =SUM(H25:H30,L25:L30)/12 -> 4.575 | E25: =+B25/D25 -> 2.4043716 | F25: 13 | G25: 10.2 | H25: 3.3 | I25: =F25/H25 -> 3.9393939 | J25: 11 | K25: 9.5 | L25: 2.8 | M25: =J25/L25 -> 3.9285714
A26: plant 6 | B26: 10 | C26: 9.8 | D26: =SUM(H26:H31,L26:L31)/12 -> 4.7583333 | E26: =+B26/D26 -> 2.1015762 | F26: 12 | G26: 12.4 | H26: 5.8 | I26: =F26/H26 -> 2.0689655 | J26: 11 | K26: 9.5 | L26: 5.7 | M26: =J26/L26 -> 1.9298246 | R26: 18 | S26: =+O21*18 -> 189.3 | T26: =+S26/10 -> 18.93
A27: Thursley
A28: plant 1 | B28: 16 | C28: 8.9 | D28: 4.4 | E28: =B28/D28 -> 3.6363636 | F28: 39 | G28: 16.5 | H28: 8.4 | I28: =F28/H28 -> 4.6428571 | J28: 12 | K28: 13.2 | L28: 6.1 | M28: =J28/L28 -> 1.9672131 | N28: =SUM(B28:B33,F28:F33,J28:J33)/18 -> 14.666667 | O28: =SUM(C28:C33,G28:G33,K28:K33)/18 -> 9.9833333 | P28: =SUM(D28:D33,H28:H33,L28:L33)/18 -> 5.4388889 | Q28: =SUM(E28:E33,I28:I33,M28:M33)/18 -> 2.837691
A29: plant 2 | B29: 13 | C29: 7.1 | D29: 5 | E29: =B29/D29 -> 2.6 | F29: 10 | G29: 12.7 | H29: 5.9 | I29: =F29/H29 -> 1.6949153 | J29: 10 | K29: 10 | L29: 4.5 | M29: =J29/L29 -> 2.2222222
A30: plant 3 | B30: 7 | C30: 9.9 | D30: 5.2 | E30: =B30/D30 -> 1.3461538 | F30: 10 | G30: 10.3 | H30: 3.3 | I30: =F30/H30 -> 3.030303 | J30: 24 | K30: 11.1 | L30: 9.1 | M30: =J30/L30 -> 2.6373626
A31: plant 4 | B31: 9 | C31: 6.6 | D31: 6.3 | E31: =B31/D31 -> 1.4285714 | F31: 19 | G31: 8.5 | H31: 3.1 | I31: =F31/H31 -> 6.1290323 | J31: 9 | K31: 12.3 | L31: 5.2 | M31: =J31/L31 -> 1.7307692
A32: plant 5 | B32: 10 | C32: 6.3 | D32: 3.4 | E32: =B32/D32 -> 2.9411765 | F32: 9 | G32: 10.2 | H32: 2.8 | I32: =F32/H32 -> 3.2142857 | J32: 9 | K32: 7.7 | L32: 1.9 | M32: =J32/L32 -> 4.7368421
A33: plant 6 | B33: 6 | C33: 7.2 | D33: 4.5 | E33: =B33/D33 -> 1.3333333 | F33: 30 | G33: 11.7 | H33: 8 | I33: =F33/H33 -> 3.75 | J33: 22 | K33: 9.5 | L33: 10.8 | M33: =J33/L33 -> 2.037037 | R33: 18 | S33: =+O28*18 -> 179.7 | T33: =+S33/10 -> 17.97
A34: Stagbury Hill
A35: plant 1 | B35: 10 | C35: 14.6 | D35: 4.2 | E35: =B35/D35 -> 2.3809524 | F35: 6 | G35: 17.8 | H35: 3.7 | I35: =F35/H35 -> 1.6216216 | J35: 7 | K35: 7.4 | L35: 2.3 | M35: =J35/L35 -> 3.0434783 | N35: =SUM(B35:B40,F35:F40,J35:J40)/18 -> 11.222222 | O35: =SUM(C35:C40,G35:G40,K35:K40)/18 -> 13.272222 | P35: =SUM(D35:D40,H35:H40,L35:L40)/18 -> 3.3944444 | Q35: =SUM(E35:E40,I35:I40,M35:M40)/18 -> 3.308106
A36: plant 2 | B36: 7 | C36: 13.6 | D36: 1.6 | E36: =B36/D36 -> 4.375 | F36: 12 | G36: 16.2 | H36: 3.5 | I36: =F36/H36 -> 3.4285714 | J36: 14 | K36: 13.5 | L36: 3.4 | M36: =J36/L36 -> 4.1176471
A37: plant 3 | B37: 15 | C37: 14.2 | D37: 5.4 | E37: =B37/D37 -> 2.7777778 | F37: 6 | G37: 11.3 | H37: 2.6 | I37: =F37/H37 -> 2.3076923 | J37: 9 | K37: 10.5 | L37: 2.4 | M37: =J37/L37 -> 3.75
A38: plant 4 | B38: 18 | C38: 14.9 | D38: 4.5 | E38: =B38/D38 -> 4 | F38: 6 | G38: 12.1 | H38: 2.7 | I38: =F38/H38 -> 2.2222222 | J38: 14 | K38: 12.1 | L38: 3 | M38: =J38/L38 -> 4.6666667
A39: plant 5 | B39: 9 | C39: 13.2 | D39: 2.2 | E39: =B39/D39 -> 4.0909091 | F39: 7 | G39: 12.1 | H39: 3.8 | I39: =F39/H39 -> 1.8421053 | J39: 12 | K39: 13.5 | L39: 2.9 | M39: =J39/L39 -> 4.137931
A40: plant 6 | B40: 8 | C40: 11.6 | D40: 2.4 | E40: =B40/D40 -> 3.3333333 | F40: 8 | G40: 12 | H40: 2.5 | I40: =F40/H40 -> 3.2 | J40: 34 | K40: 18.3 | L40: 8 | M40: =J40/L40 -> 4.25 | R40: 18 | S40: =+O35*18 -> 238.9 | T40: =+S40/10 -> 23.89
A41: Matley Heath
...
