Workbook
Name CCR0: inputs!$M$2
Name rate0: inputs!$M$2
Name rate1: inputs!$M$3
Name rate10: inputs!$M$12
Name rate11: inputs!$M$13
Name rate12: inputs!$M$14
Name rate2: inputs!$M$4
Name rate3: inputs!$M$5
Name rate4: inputs!$M$6
Name rate5: inputs!$M$7
Name rate6: inputs!$M$8
Name rate7: inputs!$M$9
Name rate8: inputs!$M$10
Name rate9: inputs!$M$11

Sheet Fert Eval
B8: Diagnostics | C8: Input | D8: Cost estimate
B9: Initial Fertility Assessment (IFA)
B10: Number of diagnostic consultations with Gynecologist | C10: 2 | D10: =C10*(rate0+rate1)*40 -> 162.15098
B11: HSG required? | C11: no (default) | D11: =IF(C11="yes",(rate1*100+40*rate3+160*rate11+160*rate0+160*rate4+40*rate4+40*rate0),0) -> 0
B12: Urology or Andrology consultation with testicular ultrasound? | C12: 0 | D12: =C12*(30*rate5+90*rate11+90*rate0+90*rate4+40.99) -> 0
B13: Diagnostic operation required? | C13: no (default) | D13: =IF(C13="yes",((40*rate0)+(40*rate1)+(40*rate4)+(120*rate1)+(120*rate3)+(340*rate12)+(340*rate0)),0) -> 0
B14: Number of semen survival tests (SSTs) required? | C14: 1 | D14: =C14*((74*rate6)+(74*rate7)+(74*rate0)) -> 195.51728
C15: Initial Fertility Assessment (IFA) cost estimate | D15: =SUM(D10:D14)+IF(SUM(D10:D14)>0, ((10*rate1)+(40*(rate3))+(92.84)), 0) -> 503.16452
B17: In-vitro fertilization (IVF) intake
B18: Number of diagnostic consultations with Gynecologist | C18: 2 | D18: =C18*(rate1+rate0)*40 -> 162.15098
B19: HSG required? | C19: yes | D19: =IF(C19="yes",(rate1*100+40*rate3+160*rate11+160*rate0+160*rate4+40*rate4+40*rate0),0) -> 622.64229
B20: Urology or Andrology consultation with testicular ultrasound? | C20: 0 | D20: =C20*(30*rate5+90*rate11+90*rate0+90*rate4+40.99) -> 0
B21: Diagnostic operation required? | C21: no (default) | D21: =IF(C21="yes",((40*rate0)+(40*rate1)+(40*rate4)+(120*rate1)+(120*rate3)+(340*rate12)+(340*rate0)),0) -> 0
B22: Number of semen survival tests (SSTs) required? | C22: 1 | D22: =C22*((74*rate6)+(74*rate7)+(74*rate0)) -> 195.51728
C23: IVF intake cost estimate | D23: =SUM(D18:D22)+IF(SUM(D18:D22)>0,(71.95+7.46),0) -> 1059.7206
B25: Treatment cycles | C25: Input | D25: Cost estimate
B26: Cycle 1 | C26: OI Clomid CC or Letrozole | D26: =VLOOKUP(C26, 'Cost estimate per treatment'!$C$9:$D$25, 2, FALSE) -> 221
B27: Cycle 2 | C27: OI Clomid CC or Letrozole | D27: =VLOOKUP(C27, 'Cost estimate per treatment'!$C$9:$D$25, 2, FALSE) -> 221
B28: Cycle 3 | C28: IUI with stimulation medication | D28: =VLOOKUP(C28, 'Cost estimate per treatment'!$C$9:$D$25, 2, FALSE) -> 854
B29: Cycle 4 | C29: IVF small | D29: =VLOOKUP(C29, 'Cost estimate per treatment'!$C$9:$D$25, 2, FALSE) -> 2479
B30: Cycle 5 | C30: OI Clomid CC or Letrozole | D30: =VLOOKUP(C30, 'Cost estimate per treatment'!$C$9:$D$25, 2, FALSE) -> 221
B31: Cycle 6 | C31: FET with natural cycle | D31: =VLOOKUP(C31, 'Cost estimate per treatment'!$C$9:$D$25, 2, FALSE) -> 940
B32: Cycle 7 | C32: please select | D32: =VLOOKUP(C32, 'Cost estimate per treatment'!$C$9:$D$25, 2, FALSE) -> 0
B33: Cycle 8 | C33: please select | D33: =VLOOKUP(C33, 'Cost estimate per treatment'!$C$9:$D$25, 2, FALSE) -> 0
B34: Cycle 9 | C34: please select | D34: =VLOOKUP(C34, 'Cost estimate per treatment'!$C$9:$D$25, 2, FALSE) -> 0
B35: Cycle 10 | C35: please select | D35: =VLOOKUP(C35, 'Cost estimate per treatment'!$C$9:$D$25, 2, FALSE) -> 0
B36: Cycle 11 | C36: please select | D36: =VLOOKUP(C36, 'Cost estimate per treatment'!$C$9:$D$25, 2, FALSE) -> 0
B37: Cycle 12 | C37: please select | D37: =VLOOKUP(C37, 'Cost estimate per treatment'!$C$9:$D$25, 2, FALSE) -> 0
... B45: Cycle 20 | C45: please select | D45: =VLOOKUP(C45, 'Cost estimate per treatment'!$C$9:$D$25, 2, FALSE) -> 0
C46: Total cost estimate | D46: =SUM(D26:D42, D23, D15) -> 6498.8851

Sheet Cost estimate per treatment
B8: Item | C8: Type | D8: Cost estimate
B9: Ovulation induction | C9: OI Gonadotropins | D9: 963
C10: OI Clomid CC or Letrozole | D10: 221
B11: Intra-uterine insemination | C11: IUI with stimulation medication | D11: 854
C12: IUI with natural cycle | D12: 518
C13: IUI with stimulation medication | D13: 854
B14: In-vitro Fertilisation (IVF) | C14: IVF small | D14: 2479
C15: IVF medium | D15: 2595
C16: IVF large | D16: 2825
C17: IVF/ICSI combination medium | D17: 3010
C18: IVF/ICSI combination large | D18: 3617
C19: ICSI small | D19: 2740
C20: ICSI medium | D20: 3291
C21: ICSI large | D21: 4089
B22: Frozen embryo transfer (FET) | C22: FET with natural cycle | D22: 940
C23: FET with stimulation medication | D23: 1036
B24: Expectant monitoring | C24: Expectant monitoring | D24: 0
C25: please select | D25: 0
B28: Nr | C28: CCR name | D28: CCR per min
B29: 0 | C29: CCR0 Building, facilities, support staff | D29: 0.1087623
B30: 1 | C30: CCR1 Gynecologist and assisstant | D30: 1.918125
B31: 2 | C31: CCR2 Physician | D31: 1.0766667
B32: 3 | C32: CCR3 IVF Nurse | D32: 0.836875
B33: 4 | C33: CCR4 Clinic equipment, disposables, general medication not allocated directly | D33: 0.20695607
B34: 5 | C34: CCR5 Urology | D34: 3.3333333
B35: 6 | C35: CCR6 Staff lab (Embryologist & Clinical laboratory analysts) | D35: 2.087061
B36: 7 | C36: CCR7 General lab incl. Andrology | D36: 0.44630215
B37: 8 | C37: CCR8 Lab IVF & ICSI shared | D37: 1.8452763
B38: 9 | C38: CCR9 Lab ICSI-only | D38: 1.2050546
B39: 10 | C39: CCR10 Lab Cryopreservation | D39: 0.93812584
B40: 11 | C40: CCR11 Radiology | D40: 2.0888194
B41: 12 | C41: CCR12 OR Laparoscopy | D41: 3.193125

Sheet Fert Eval programming
A1: Step number | B1: Care Path | C1: Nr | D1: Activity | E1: Relevant CCRs | F1: n | G1: Patient time | H1: Gynecologist and DA min | I1: Arts VPG min | J1: IVF Nurse | K1: Staff Lab time (analyst and Embr) | L1: Urologist min | M1: Radiologist min | N1: Radiology lab technician min | O1: Anesthesiologist min | P1: Anesthesiologist assistant min | Q1: Pharmacy medicatieverificatie&logistiek min | R1: Pharmacy depotheek min | S1: Pharmacy productie | T1: total minutes care professional | V1: CCR0 General | W1: CCR1 Gyn with DA | X1: CCR2 Arts VPG | Y1: CCR3 IVF Nurse | Z1: CCR4 Clinic rooms (equip., disposables, meds) | AA1: CCR5 Urologist | AB1: CCR6 Lab staff | AC1: CCR7 General lab | AD1: CCR8 Lab IVF/ICSI | AE1: CCR9 Lab ICSI room | AF1: CCR10 Lab Cryo rooms | AG1: CCR11 Radiology | AH1: CCR12 OR Lapa | AI1: direct fixed disposables | AJ1: Direct medication costs | AK1: Blood test costs | AL1: total costs | AT1: Cost estimates per phase per treatment | AX1: Cost estimates from left summarized in single table (table 2 in MS)
V2: capacity cost rates
V3: =rate0 -> 0.1087623 | W3: =rate1 -> 1.918125 | X3: =rate2 -> 1.0766667 | Y3: =rate3 -> 0.836875 | Z3: =rate4 -> 0.20695607 | AA3: =rate5 -> 3.3333333 | AB3: =rate6 -> 2.087061 | AC3: =rate7 -> 0.44630215 | AD3: =rate8 -> 1.8452763 | AE3: =rate9 -> 1.2050546 | AF3: =rate10 -> 0.93812584 | AG3: =rate11 -> 2.0888194 | AH3: =rate12 -> 3.193125 | AT3: Treatment | AU3: Diagnostic | AX3: Treatment | AY3: IFA | AZ3: IUI | BA3: IUI | BB3: OI | BC3: OI | BD3: IVF | BE3: IVF | BF3: IVF | BG3: IVF | BH3: IVF | BI3: IVF
D4: Activity | AL4: total cost | AO4: item | AP4: input | AQ4: options
B5: Initial Fertility Assessment | C5: 1 | D5: Inititial Child Wish consultation | E5: CCR1 CCR4 | F5: 1 | G5: 30 | H5: 40 | I5: 0 | J5: 0 | K5: 0 | L5: 0 | M5: 0 | N5: 0 | O5: 0 | P5: 0 | Q5: 0 | R5: 0 | S5: 0 | T5: =SUM(H5:S5)*F5 -> 40 | V5: =T5*$V$3*F5 -> 4.350492 | W5: =H5*$W$3*F5 -> 76.725 | X5: =I5*$X$3*F5 -> 0 | Y5: =J5*$Y$3*F5 -> 0 | Z5: =IF(ISNUMBER(SEARCH("CCR4", E5)),(T5-K5)*$Z$3, 0) -> 8.2782429 | AA5: =L5*$AA$3*F5 -> 0 | AB5: =K5*$AB$3*F5 -> 0 | AC5: =(IF(ISNUMBER(SEARCH("CCR7", E5)),K5*$AC$3, 0))*F5 -> 0 | AD5: =(IF(ISNUMBER(SEARCH("CCR8", E5)),K5*$AD$3, 0))*F5 -> 0 | AE5: =IF(ISNUMBER(SEARCH("CCR9", E5)),K5*$AE$3*F5, 0) -> 0 | AF5: =(IF(ISNUMBER(SEARCH("CCR10", E5)),K5*$AF$3, 0))*F5 -> 0 | AG5: =(IF(ISNUMBER(SEARCH("CCR11", E5)),T5*$AG$3, 0))*F5 -> 0 | AH5: =(IF(ISNUMBER(SEARCH("CCR12", E5)),T5*$AH$3, 0))*F5 -> 0 | AI5: 0 | AK5: 0 | AL5: =SUM(V5:AK5) -> 89.353735 | AO5: HSG required (default no) | AP5: no | AQ5: no, yes | AT5: Specification of treatment | AU5: Initial Fertility Assessment | AX5: Specification of treatment | AZ5: Natural cycle | BA5: Stimulated cycle | BB5: Clomid or Letrozole | BC5: Gonado-tropins | BD5: Intake for IVF/ICSI | BE5: IVF | BF5: ½ IVF | BG5: ICSI | BH5: FET | BI5: FET
C6: 2 | D6: Life style consultation with nurse | E6: CCR3 | F6: 1 | G6: 30 | H6: 0 | I6: 0 | J6: 40 | K6: 0 | L6: 0 | M6: 0 | N6: 0 | O6: 0 | P6: 0 | Q6: 0 | R6: 0 | S6: 0 | T6: =SUM(H6:S6)*F6 -> 40 | V6: =T6*$V$3*F6 -> 4.350492 | W6: =H6*$W$3*F6 -> 0 | X6: =I6*$X$3*F6 -> 0 | Y6: =J6*$Y$3*F6 -> 33.475 | Z6: =IF(ISNUMBER(SEARCH("CCR4", E6)),(T6-K6)*$Z$3, 0) -> 0 | AA6: =L6*$AA$3*F6 -> 0 | AB6: =K6*$AB$3*F6 -> 0 | AC6: =(IF(ISNUMBER(SEARCH("CCR7", E6)),K6*$AC$3, 0))*F6 -> 0 | AD6: =(IF(ISNUMBER(SEARCH("CCR8", E6)),K6*$AD$3, 0))*F6 -> 0 | AE6: =IF(ISNUMBER(SEARCH("CCR9", E6)),K6*$AE$3*F6, 0) -> 0 | AF6: =(IF(ISNUMBER(SEARCH("CCR10", E6)),K6*$AF$3, 0))*F6 -> 0 | AG6: =IF(ISNUMBER(SEARCH("CCR11", E6)),T6*$AG$3, 0) -> 0 | AH6: =(IF(ISNUMBER(SEARCH("CCR12", E6)),T6*$AH$3, 0))*F6 -> 0 | AI6: 0 | AK6: 0 | AL6: =SUM(V6:AK6) -> 37.825492 | AO6: Laparoscopy required (default no) | AP6: no | AQ6: no, yes | BD6: internal patients | BF6: ½ICSI | BH6: Natural cycle | BI6: Stimulated cycle
C7: 3 | D7: Basal temperature cycle monitoring | E7: CCR3 | F7: 1 | G7: 10 | H7: 0 | I7: 0 | J7: 20 | K7: 0 | L7: 0 | M7: 0 | N7: 0 | O7: 0 | P7: 0 | Q7: 0 | R7: 0 | S7: 0 | T7: =SUM(H7:S7)*F7 -> 20 | V7: =T7*$V$3*F7 -> 2.175246 | W7: =H7*$W$3*F7 -> 0 | X7: =I7*$X$3*F7 -> 0 | Y7: =J7*$Y$3*F7 -> 16.7375 | Z7: =IF(ISNUMBER(SEARCH("CCR4", E7)),(T7-K7)*$Z$3, 0) -> 0 | AA7: =L7*$AA$3*F7 -> 0 | AB7: =K7*$AB$3*F7 -> 0 | AC7: =(IF(ISNUMBER(SEARCH("CCR7", E7)),K7*$AC$3, 0))*F7 -> 0 | AD7: =(IF(ISNUMBER(SEARCH("CCR8", E7)),K7*$AD$3, 0))*F7 -> 0 | AE7: =IF(ISNUMBER(SEARCH("CCR9", E7)),K7*$AE$3*F7, 0) -> 0 | AF7: =(IF(ISNUMBER(SEARCH("CCR10", E7)),K7*$AF$3, 0))*F7 -> 0 | AG7: =IF(ISNUMBER(SEARCH("CCR11", E7)),T7*$AG$3, 0) -> 0 | AH7: =(IF(ISNUMBER(SEARCH("CCR12", E7)),T7*$AH$3, 0))*F7 -> 0 | AI7: 0 | AK7: 0 | AL7: =SUM(V7:AK7) -> 18.912746 | AO7: Number of consultations Urologist or Andrologist (default 0) | AP7: 0 | AQ7: 1, 2,3… | AT7: Phase of treatment | AX7: Phase of treatment | AY7: IFA | AZ7: IUI Natural | BA7: IUI Stimulated | BB7: OI Clomid Letrozole | BC7: OI Gonadotropin | BD7: IVF Intake internal | BE7: IVF | BF7: IVF combination | BG7: ICSI | BH7: FET natural | BI7: FET stimulated
C8: 4 | D8: Blood tests throughout cycle (3) | E8: CCR3 | F8: 1 | G8: 30 | H8: 0 | I8: 0 | J8: 0 | K8: 0 | L8: 0 | M8: 0 | N8: 0 | O8: 0 | P8: 0 | Q8: 0 | R8: 0 | S8: 0 | T8: =SUM(H8:S8)*F8 -> 0 | V8: =T8*$V$3*F8 -> 0 | W8: =H8*$W$3*F8 -> 0 | X8: =I8*$X$3*F8 -> 0 | Y8: =J8*$Y$3*F8 -> 0 | Z8: =IF(ISNUMBER(SEARCH("CCR4", E8)),(T8-K8)*$Z$3, 0) -> 0 | AA8: =L8*$AA$3*F8 -> 0 | AB8: =K8*$AB$3*F8 -> 0 | AC8: =(IF(ISNUMBER(SEARCH("CCR7", E8)),K8*$AC$3, 0))*F8 -> 0 | AD8: =(IF(ISNUMBER(SEARCH("CCR8", E8)),K8*$AD$3, 0))*F8 -> 0 | AE8: =IF(ISNUMBER(SEARCH("CCR9", E8)),K8*$AE$3*F8, 0) -> 0 | AF8: =(IF(ISNUMBER(SEARCH("CCR10", E8)),K8*$AF$3, 0))*F8 -> 0 | AG8: =IF(ISNUMBER(SEARCH("CCR11", E8)),T8*$AG$3, 0) -> 0 | AH8: =(IF(ISNUMBER(SEARCH("CCR12", E8)),T8*$AH$3, 0))*F8 -> 0 | AI8: 0 | AK8: =inputs!$E$38*F8 -> 110.64 | AL8: =SUM(V8:AK8) -> 110.64 | AO8: Number of SSTs required (default 1) | AP8: 1 | AQ8: 1, 2, 3… | AT8: Intake and/or diagnostics | AU8: =SUM(AL5:AL15) -> 436.66072 | AX8: Intake and/or diagnostics | AY8: 436.66072 | AZ8: 14.18 | BA8: 14.18 | BB8: 0 | BC8: 78.116547 | BD8: 356.62 | BH8: 47.121909 | BI8: 47.12
C9: 5 | D9: Laboratory preparation for semen survival test (SST) | E9: CCR7 CCR6 | F9: =$AP$8 -> 1 | G9: 5 | H9: 0 | I9: 0 | J9: 0 | K9: 6.1 | L9: 0 | M9: 0 | N9: 0 | O9: 0 | P9: 0 | Q9: 0 | R9: 0 | S9: 0 | T9: =SUM(H9:S9)*F9 -> 6.1 | V9: =T9*$V$3*F9 -> 0.66345003 | W9: =H9*$W$3*F9 -> 0 | X9: =I9*$X$3*F9 -> 0 | Y9: =J9*$Y$3*F9 -> 0 | Z9: =IF(ISNUMBER(SEARCH("CCR4", E9)),(T9-K9)*$Z$3, 0) -> 0 | AA9: =L9*$AA$3*F9 -> 0 | AB9: =K9*$AB$3*F9 -> 12.731072 | AC9: =(IF(ISNUMBER(SEARCH("CCR7", E9)),K9*$AC$3, 0))*F9 -> 2.7224431 | AD9: =(IF(ISNUMBER(SEARCH("CCR8", E9)),K9*$AD$3, 0))*F9 -> 0 | AE9: =IF(ISNUMBER(SEARCH("CCR9", E9)),K9*$AE$3*F9, 0) -> 0 | AF9: =(IF(ISNUMBER(SEARCH("CCR10", E9)),K9*$AF$3, 0))*F9 -> 0 | AG9: =IF(ISNUMBER(SEARCH("CCR11", E9)),T9*$AG$3, 0) -> 0 | AH9: =(IF(ISNUMBER(SEARCH("CCR12", E9)),T9*$AH$3, 0))*F9 -> 0 | AI9: 0 | AK9: 0 | AL9: =SUM(V9:AK9) -> 16.116965 | AO9: Total number of consultations clinic (default 2) | AP9: 2 | AQ9: 2, 3, 4, | AT9: Stimulation and/or monitoring | AX9: Stimulation and/or monitoring | AZ9: 94.13 | BA9: 430.43 | BB9: 55.913309 | BC9: 612.38111 | BE9: 853.925 | BF9: 858.65319 | BG9: 853.925 | BH9: 113.48 | BI9: 209.56
C10: 6 | D10: Laboratory processing on day of sement surivival test (SST) | E10: CCR6 CCR7 | F10: =$AP$8 -> 1 | G10: 30 | H10: 0 | I10: 0 | J10: 0 | K10: 15 | L10: 0 | M10: 0 | N10: 0 | O10: 0 | P10: 0 | Q10: 0 | R10: 0 | S10: 0 | T10: =SUM(H10:S10)*F10 -> 15 | V10: =T10*$V$3*F10 -> 1.6314345 | W10: =H10*$W$3*F10 -> 0 | X10: =I10*$X$3*F10 -> 0 | Y10: =J10*$Y$3*F10 -> 0 | Z10: =IF(ISNUMBER(SEARCH("CCR4", E10)),(T10-K10)*$Z$3, 0) -> 0 | AA10: =L10*$AA$3*F10 -> 0 | AB10: =K10*$AB$3*F10 -> 31.305915 | AC10: =(IF(ISNUMBER(SEARCH("CCR7", E10)),K10*$AC$3, 0))*F10 -> 6.6945322 | AD10: =(IF(ISNUMBER(SEARCH("CCR8", E10)),K10*$AD$3, 0))*F10 -> 0 | AE10: =IF(ISNUMBER(SEARCH("CCR9", E10)),K10*$AE$3*F10, 0) -> 0 | AF10: =(IF(ISNUMBER(SEARCH("CCR10", E10)),K10*$AF$3, 0))*F10 -> 0 | AG10: =IF(ISNUMBER(SEARCH("CCR11", E10)),T10*$AG$3, 0) -> 0 | AH10: =(IF(ISNUMBER(SEARCH("CCR12", E10)),T10*$AH$3, 0))*F10 -> 0 | AI10: 0 | AK10: 0 | AL10: =SUM(V10:AK10) -> 39.631882 | AT10: Egg retrieval | AX10: Egg retrieval | BE10: 637.66173 | BF10: 1025.9702 | BG10: 995.38314
C11: 7 | D11: SST in laboratory, including wash, count, evaluation and administration | E11: CCR7 CCR6 | F11: =$AP$8 -> 1 | G11: 30 | H11: 0 | I11: 0 | J11: 0 | K11: =47 -> 47 | L11: 0 | M11: 0 | N11: 0 | O11: 0 | P11: 0 | Q11: 0 | R11: 0 | S11: 0 | T11: =SUM(H11:S11)*F11 -> 47 | V11: =T11*$V$3*F11 -> 5.1118281 | W11: =H11*$W$3*F11 -> 0 | X11: =I11*$X$3*F11 -> 0 | Y11: =J11*$Y$3*F11 -> 0 | Z11: =IF(ISNUMBER(SEARCH("CCR4", E11)),(T11-K11)*$Z$3, 0) -> 0 | AA11: =L11*$AA$3*F11 -> 0 | AB11: =K11*$AB$3*F11 -> 98.091868 | AC11: =(IF(ISNUMBER(SEARCH("CCR7", E11)),K11*$AC$3, 0))*F11 -> 20.976201 | AD11: =(IF(ISNUMBER(SEARCH("CCR8", E11)),K11*$AD$3, 0))*F11 -> 0 | AE11: =IF(ISNUMBER(SEARCH("CCR9", E11)),K11*$AE$3*F11, 0) -> 0 | AF11: =(IF(ISNUMBER(SEARCH("CCR10", E11)),K11*$AF$3, 0))*F11 -> 0 | AG11: =IF(ISNUMBER(SEARCH("CCR11", E11)),T11*$AG$3, 0) -> 0 | AH11: =(IF(ISNUMBER(SEARCH("CCR12", E11)),T11*$AH$3, 0))*F11 -> 0 | AI11: 0 | AK11: 0 | AL11: =SUM(V11:AK11) -> 124.1799 | AT11: Insemination and/or fertilization | AX11: Insemination and/or fertilization | AZ11: 234.85 | BA11: 234.85 | BE11: 441.75445 | BF11: 632.06982 | BG11: 479.19302
C12: 8 | D12: Consultation in case HSG or Laparoscopy are required | E12: CCR1 CCR2 CCR4 | F12: =IF(OR(AP5 ="yes", AP6="yes"), 1, 0) -> 0 | G12: 30 | H12: 30 | I12: 0 | J12: 0 | K12: 0 | L12: 0 | M12: 0 | N12: 0 | O12: 0 | P12: 0 | Q12: 0 | R12: 0 | S12: 0 | T12: =SUM(H12:S12)*F12 -> 0 | V12: =T12*$V$3*F12 -> 0 | W12: =H12*$W$3*F12 -> 0 | X12: =I12*$X$3*F12 -> 0 | Y12: =J12*$Y$3*F12 -> 0 | Z12: =IF(ISNUMBER(SEARCH("CCR4", E12)),(T12-K12)*$Z$3, 0) -> 0 | AA12: =L12*$AA$3*F12 -> 0 | AB12: =K12*$AB$3*F12 -> 0 | AC12: =(IF(ISNUMBER(SEARCH("CCR7", E12)),K12*$AC$3, 0))*F12 -> 0 | AD12: =(IF(ISNUMBER(SEARCH("CCR8", E12)),K12*$AD$3, 0))*F12 -> 0 | AE12: =IF(ISNUMBER(SEARCH("CCR9", E12)),K12*$AE$3*F12, 0) -> 0 | AF12: =(IF(ISNUMBER(SEARCH("CCR10", E12)),K12*$AF$3, 0))*F12 -> 0 | AG12: =IF(ISNUMBER(SEARCH("CCR11", E12)),T12*$AG$3, 0) -> 0 | AH12: =(IF(ISNUMBER(SEARCH("CCR12", E12)),T12*$AH$3, 0))*F12 -> 0 | AI12: 0 | AK12: 0 | AL12: =SUM(V12:AK12) -> 0 | AT12: Embryo Transfer | AX12: Embryo Transfer | BE12: 293.98836 | BF12: 293.98836 | BG12: 293.98836 | BH12: 293.99 | BI12: 293.99
C13: 9a | D13: Diagnostics: Hysterosalpingography (HSG) | E13: CCR1 CCR3 CCR11 CCR4 | F13: =IF(AP5="yes", 1, 0) -> 0 | G13: 30 | H13: 60 | I13: 0 | J13: 40 | K13: 0 | L13: 0 | M13: 30 | N13: 30 | O13: 0 | P13: 0 | Q13: 0 | R13: 0 | S13: 0 | T13: =SUM(H13:S13)*F13 -> 0 | V13: =T13*$V$3*F13 -> 0 | W13: =H13*$W$3*F13 -> 0 | X13: =I13*$X$3*F13 -> 0 | Y13: =J13*$Y$3*F13 -> 0 | Z13: =IF(ISNUMBER(SEARCH("CCR4", E13)),(T13-K13)*$Z$3, 0) -> 0 | AA13: =L13*$AA$3*F13 -> 0 | AB13: =K13*$AB$3*F13 -> 0 | AC13: =(IF(ISNUMBER(SEARCH("CCR7", E13)),K13*$AC$3, 0))*F13 -> 0 | AD13: =(IF(ISNUMBER(SEARCH("CCR8", E13)),K13*$AD$3, 0))*F13 -> 0 | AE13: =IF(ISNUMBER(SEARCH("CCR9", E13)),K13*$AE$3*F13, 0) -> 0 | AF13: =(IF(ISNUMBER(SEARCH("CCR10", E13)),K13*$AF$3, 0))*F13 -> 0 | AG13: =IF(ISNUMBER(SEARCH("CCR11", E13)),T13*$AG$3, 0) -> 0 | AH13: =(IF(ISNUMBER(SEARCH("CCR12", E13)),T13*$AH$3, 0))*F13 -> 0 | AI13: 0 | AK13: 0 | AL13: =SUM(V13:AK13) -> 0 | AT13: Freezing or thawing | AX13: Freezing or thawing | BE13: 207.55321 | BF13: 207.55321 | BG13: 207.55321 | BH13: 301.11 | BI13: 301.11
C14: 9b | D14: Diagnostics: Laparoscopy | E14: CCR1 CCR12 CCR3 | F14: =IF(AP6="yes", 1, 0) -> 0 | G14: 60 | H14: 120 | I14: 0 | J14: 120 | K14: 0 | L14: 0 | M14: 0 | N14: 0 | O14: 40 | P14: 40 | Q14: 20 | R14: 0 | S14: 0 | T14: =SUM(H14:S14)*F14 -> 0 | V14: =T14*$V$3*F14 -> 0 | W14: =H14*$W$3*F14 -> 0 | X14: =I14*$X$3*F14 -> 0 | Y14: =J14*$Y$3*F14 -> 0 | Z14: =IF(ISNUMBER(SEARCH("CCR4", E14)),(T14-K14)*$Z$3, 0) -> 0 | AA14: =L14*$AA$3*F14 -> 0 | AB14: =K14*$AB$3*F14 -> 0 | AC14: =(IF(ISNUMBER(SEARCH("CCR7", E14)),K14*$AC$3, 0))*F14 -> 0 | AD14: =(IF(ISNUMBER(SEARCH("CCR8", E14)),K14*$AD$3, 0))*F14 -> 0 | AE14: =IF(ISNUMBER(SEARCH("CCR9", E14)),K14*$AE$3*F14, 0) -> 0 | AF14: =(IF(ISNUMBER(SEARCH("CCR10", E14)),K14*$AF$3, 0))*F14 -> 0 | AG14: =IF(ISNUMBER(SEARCH("CCR11", E14)),T14*$AG$3, 0) -> 0 | AH14: =(IF(ISNUMBER(SEARCH("CCR12", E14)),T14*$AH$3, 0))*F14 -> 0 | AI14: 0 | AK14: 0 | AL14: =SUM(V14:AK14) -> 0 | AT14: Evaluation | AU14: 67.02 | AX14: Evaluation | AY14: 67.02 | AZ14: 174.84 | BA14: 174.84 | BB14: 165.5106 | BC14: 272.87208 | BE14: 174.84465 | BF14: 174.84465 | BG14: 174.84465 | BH14: 184.18 | BI14: 184.18
C15: 10 | D15: Diagnostics: Consultation with Urologist or Andrologist and testicular ultrasound | E15: CCR4 CCR5 CCR11 | F15: =AP7 -> 0 | G15: 30 | H15: 0 | I15: 0 | J15: 0 | K15: 0 | L15: 30 | M15: 30 | N15: 30 | O15: 0 | P15: 0 | Q15: 0 | R15: 0 | S15: 0 | T15: =SUM(H15:S15)*F15 -> 0 | V15: =T15*$V$3*F15 -> 0 | W15: =H15*$W$3*F15 -> 0 | X15: =I15*$X$3*F15 -> 0 | Y15: =J15*$Y$3*F15 -> 0 | Z15: =IF(ISNUMBER(SEARCH("CCR4", E15)),(T15-K15)*$Z$3, 0) -> 0 | AA15: =L15*$AA$3*F15 -> 0 | AB15: =K15*$AB$3*F15 -> 0 | AC15: =(IF(ISNUMBER(SEARCH("CCR7", E15)),K15*$AC$3, 0))*F15 -> 0 | AD15: =(IF(ISNUMBER(SEARCH("CCR8", E15)),K15*$AD$3, 0))*F15 -> 0 | AE15: =IF(ISNUMBER(SEARCH("CCR9", E15)),K15*$AE$3*F15, 0) -> 0 | AF15: =(IF(ISNUMBER(SEARCH("CCR10", E15)),K15*$AF$3, 0))*F15 -> 0 | AG15: =IF(ISNUMBER(SEARCH("CCR11", E15)),T15*$AG$3, 0) -> 0 | AH15: =(IF(ISNUMBER(SEARCH("CCR12", E15)),T15*$AH$3, 0))*F15 -> 0 | AI15: 0 | AK15: =(inputs!E55)*F15 -> 0 | AL15: =SUM(V15:AK15) -> 0 | AT15: Total | AU15: =SUM(AU8:AU14) -> 503.68072 | AX15: Total | AY15: =SUM(AY8:AY14) -> 503.68072 | AZ15: 518 | BA15: =SUM(BA8:BA14) -> 854.3 | BB15: =SUM(BB8:BB14) -> 221.42391 | BC15: =SUM(BC8:BC14) -> 963.36974 | BD15: =SUM(BD8:BD14) -> 356.62 | BE15: =SUM(BE8:BE14) -> 2609.7274 | BF15: =SUM(BF8:BF14) -> 3193.0794 | BG15: =SUM(BG8:BG14) -> 3004.8874 | BH15: =SUM(BH8:BH14) -> 939.88191 | BI15: 1035.96
C16: 11 | D16: Concluding consultation to discuss IFA results and treatment plan | E16: CCR1 CCR4 | F16: =AP9-1-F12 -> 1 | G16: 30 | H16: 30 | I16: 0 | J16: 0 | K16: 0 | L16: 0 | M16: 0 | N16: 0 | O16: 0 | P16: 0 | Q16: 0 | R16: 0 | S16: 0 | T16: =SUM(H16:S16)*F16 -> 30 | V16: =T16*$V$3*F16 -> 3.262869 | W16: =H16*$W$3*F16 -> 57.54375 | X16: =I16*$X$3*F16 -> 0 | Y16: =J16*$Y$3*F16 -> 0 | Z16: =IF(ISNUMBER(SEARCH("CCR4", E16)),(T16-K16)*$Z$3, 0) -> 6.2086821 | AA16: =L16*$AA$3*F16 -> 0 | AB16: =K16*$AB$3*F16 -> 0 | AC16: =(IF(ISNUMBER(SEARCH("CCR7", E16)),K16*$AC$3, 0))*F16 -> 0 | AD16: =(IF(ISNUMBER(SEARCH("CCR8", E16)),K16*$AD$3, 0))*F16 -> 0 | AE16: =IF(ISNUMBER(SEARCH("CCR9", E16)),K16*$AE$3*F16, 0) -> 0 | AF16: =(IF(ISNUMBER(SEARCH("CCR10", E16)),K16*$AF$3, 0))*F16 -> 0 | AG16: =IF(ISNUMBER(SEARCH("CCR11", E16)),T16*$AG$3, 0) -> 0 | AH16: =(IF(ISNUMBER(SEARCH("CCR12", E16)),T16*$AH$3, 0))*F16 -> 0 | AI16: 0 | AK16: 0 | AL16: =SUM(V16:AK16) -> 67.015301 | AX16: Cost breakdown/stratification:
E17: Totals configured | G17: =($F5*G5)+($F6*G6)+($F7*G7)+($F8*G8)+($F9*G9)+($F10*G10)+($F11*G11)+($F12*G12)+($F13*G13)+($F14*G14)+($F15*G15)+($F16*G16) -> 195 | H17: =($F5*H5)+($F6*H6)+($F7*H7)+($F8*H8)+($F9*H9)+($F10*H10)+($F11*H11)+($F12*H12)+($F13*H13)+($F14*H14)+($F15*H15)+($F16*H16) -> 70 | I17: =($F5*I5)+($F6*I6)+($F7*I7)+($F8*I8)+($F9*I9)+($F10*I10)+($F11*I11)+($F12*I12)+($F13*I13)+($F14*I14)+($F15*I15)+($F16*I16) -> 0 | J17: =($F5*J5)+($F6*J6)+($F7*J7)+($F8*J8)+($F9*J9)+($F10*J10)+($F11*J11)+($F12*J12)+($F13*J13)+($F14*J14)+($F15*J15)+($F16*J16) -> 60 | K17: =($F5*K5)+($F6*K6)+($F7*K7)+($F8*K8)+($F9*K9)+($F10*K10)+($F11*K11)+($F12*K12)+($F13*K13)+($F14*K14)+($F15*K15)+($F16*K16) -> 68.1 | L17: =($F5*L5)+($F6*L6)+($F7*L7)+($F8*L8)+($F9*L9)+($F10*L10)+($F11*L11)+($F12*L12)+($F13*L13)+($F14*L14)+($F15*L15)+($F16*L16) -> 0 | M17: =($F5*M5)+($F6*M6)+($F7*M7)+($F8*M8)+($F9*M9)+($F10*M10)+($F11*M11)+($F12*M12)+($F13*M13)+($F14*M14)+($F15*M15)+($F16*M16) -> 0 | N17: =($F5*N5)+($F6*N6)+($F7*N7)+($F8*N8)+($F9*N9)+($F10*N10)+($F11*N11)+($F12*N12)+($F13*N13)+($F14*N14)+($F15*N15)+($F16*N16) -> 0 | ... S17: =($F5*S5)+($F6*S6)+($F7*S7)+($F8*S8)+($F9*S9)+($F10*S10)+($F11*S11)+($F12*S12)+($F13*S13)+($F14*S14)+($F15*S15)+($F16*S16) -> 0 | T17: =SUM(T5:T16) -> 198.1 | V17: =SUM(V5:V16) -> 21.545811 | W17: =SUM(W5:W16) -> 134.26875 | X17: =SUM(X5:X16) -> 0 | Y17: =SUM(Y5:Y16) -> 50.2125 | Z17: =SUM(Z5:Z16) -> 14.486925 | AA17: =SUM(AA5:AA16) -> 0 | AB17: =SUM(AB5:AB16) -> 142.12885 | AC17: =SUM(AC5:AC16) -> 30.393176 | ... AL17: =SUM(AL5:AL16) -> 503.67602
E18: Totals | G18: =SUM(G5:G16) -> 345 | H18: =SUM(H5:H16) -> 280 | I18: =SUM(I5:I16) -> 0 | J18: =SUM(J5:J16) -> 220 | K18: =SUM(K5:K16) -> 68.1 | L18: =SUM(L5:L16) -> 30 | M18: =SUM(M5:M16) -> 60 | N18: =SUM(N5:N16) -> 60 | ... S18: =SUM(S5:S16) -> 0 | T18: =SUM(H18:S18) -> 818.1
B20: OI Letrozol of Clomid CC | C20: 1 | D20: Prepatory treatment with progestin (if needed) | E20: CCR1 CCR3 | F20: =IF($AP$26="no", 0, 1) -> 0 | G20: 30 | H20: 10 | I20: 0 | J20: 0 | K20: 0 | L20: 0 | M20: 0 | N20: 0 | O20: 0 | P20: 0 | Q20: 0 | R20: 0 | S20: 0 | T20: =SUM(H20:S20)*F20 -> 0 | V20: =T20*$V$3*F20 -> 0 | W20: =H20*$W$3*F20 -> 0 | X20: =I20*$X$3*F20 -> 0 | Y20: =J20*$Y$3*F20 -> 0 | Z20: =IF(ISNUMBER(SEARCH("CCR4", E20)),(T20-K20)*$Z$3, 0) -> 0 | AA20: =L20*$AA$3*F20 -> 0 | AB20: =K20*$AB$3*F20 -> 0 | AC20: =(IF(ISNUMBER(SEARCH("CCR7", E20)),K20*$AC$3, 0))*F20 -> 0 | AD20: =(IF(ISNUMBER(SEARCH("CCR8", E20)),K20*$AD$3, 0))*F20 -> 0 | AE20: =IF(ISNUMBER(SEARCH("CCR9", E20)),K20*$AE$3*F20, 0) -> 0 | AF20: =(IF(ISNUMBER(SEARCH("CCR10", E20)),K20*$AF$3, 0))*F20 -> 0 | AG20: =IF(ISNUMBER(SEARCH("CCR11", E20)),T20*$AG$3, 0) -> 0 | AH20: =(IF(ISNUMBER(SEARCH("CCR12", E20)),T20*$AH$3, 0))*F20 -> 0 | AI20: 0 | AK20: 0 | AL20: =SUM(V20:AK20) -> 0 | AX20: Significant disposables, blood tests | AY20: =SUM(AK5:AK16)+SUM(AI5:AI16) -> 110.64 | AZ20: =SUM(AK220:AK236)+SUM(AI220:AI236) -> 44.4906 | BA20: 205.37631 | BB20: =SUM(AI20:AI34)+SUM(AK20:AK34) -> 52.49 | BC20: =SUM(AI38:AI58)+SUM(AK38:AK58) -> 85.2 | BD20: 71.95 | BE20: 173.70293 | BF20: 173.70293 | BG20: 243.5776 | BH20: 73.506833 | BI20: 73.506833
C21: 2 | D21: Treatment | E21: CCR1 | F21: 1 | G21: 30 | H21: 15 | I21: 0 | J21: 0 | K21: 0 | L21: 0 | M21: 0 | N21: 0 | O21: 0 | P21: 0 | Q21: 0 | R21: 0 | S21: 0 | T21: =SUM(H21:S21)*F21 -> 15 | V21: =T21*$V$3*F21 -> 1.6314345 | W21: =H21*$W$3*F21 -> 28.771875 | X21: =I21*$X$3*F21 -> 0 | Y21: =J21*$Y$3*F21 -> 0 | Z21: =IF(ISNUMBER(SEARCH("CCR4", E21)),(T21-K21)*$Z$3, 0) -> 0 | AA21: =L21*$AA$3*F21 -> 0 | AB21: =K21*$AB$3*F21 -> 0 | AC21: =(IF(ISNUMBER(SEARCH("CCR7", E21)),K21*$AC$3, 0))*F21 -> 0 | AD21: =(IF(ISNUMBER(SEARCH("CCR8", E21)),K21*$AD$3, 0))*F21 -> 0 | AE21: =IF(ISNUMBER(SEARCH("CCR9", E21)),K21*$AE$3*F21, 0) -> 0 | AF21: =(IF(ISNUMBER(SEARCH("CCR10", E21)),K21*$AF$3, 0))*F21 -> 0 | AG21: =IF(ISNUMBER(SEARCH("CCR11", E21)),T21*$AG$3, 0) -> 0 | AH21: =(IF(ISNUMBER(SEARCH("CCR12", E21)),T21*$AH$3, 0))*F21 -> 0 | AI21: 0 | AJ21: =inputs!$E$26 -> 4.5 | AK21: 0 | AL21: =SUM(V21:AK21) -> 34.903309 | AO21: item | AP21: input | AQ21: options | AT21: Treatment | AU21: OI | AX21: Direct medication costs | AY21: =SUM(AJ5:AJ16) -> 0 | AZ21: =SUM(AJ220:AJ236) -> 0 | BA21: 22.72 | BB21: =SUM(AJ20:AJ34) -> 4.5 | BC21: =SUM(AJ38:AJ58) -> 182.02 | BD21: 0 | BE21: 526.80571 | BF21: 526.80571 | BG21: 526.80571 | BH21: 18.22 | BI21: 47.105714
C22: 3 | D22: Evaluation consultation with ultrasound | E22: CCR1 CCR3 CCR4 | F22: 0 | G22: 30 | H22: 30 | I22: 0 | J22: 0 | K22: 0 | L22: 0 | M22: 0 | N22: 0 | O22: 0 | P22: 0 | Q22: 0 | R22: 0 | S22: 0 | T22: =SUM(H22:S22)*F22 -> 0 | V22: =T22*$V$3*F22 -> 0 | W22: =H22*$W$3*F22 -> 0 | X22: =I22*$X$3*F22 -> 0 | Y22: =J22*$Y$3*F22 -> 0 | Z22: =IF(ISNUMBER(SEARCH("CCR4", E22)),(T22-K22)*$Z$3, 0) -> 0 | AA22: =L22*$AA$3*F22 -> 0 | AB22: =K22*$AB$3*F22 -> 0 | AC22: =(IF(ISNUMBER(SEARCH("CCR7", E22)),K22*$AC$3, 0))*F22 -> 0 | AD22: =(IF(ISNUMBER(SEARCH("CCR8", E22)),K22*$AD$3, 0))*F22 -> 0 | AE22: =IF(ISNUMBER(SEARCH("CCR9", E22)),K22*$AE$3*F22, 0) -> 0 | AF22: =(IF(ISNUMBER(SEARCH("CCR10", E22)),K22*$AF$3, 0))*F22 -> 0 | AG22: =IF(ISNUMBER(SEARCH("CCR11", E22)),T22*$AG$3, 0) -> 0 | AH22: =(IF(ISNUMBER(SEARCH("CCR12", E22)),T22*$AH$3, 0))*F22 -> 0 | AI22: 0 | AK22: 0 | AL22: =SUM(V22:AK22) -> 0 | AO22: HSG required (default no) | AP22: no | AQ22: no, yes | AT22: Specification of treatment | AU22: Clomid or Letrozole | AX22: CCR0: building, facilities, support staff | AY22: =SUM(V5:V16) -> 21.545811 | AZ22: =SUM(V220:V236) -> 33.901209 | BA22: 58.916538 | BB22: =SUM(V20:V34) -> 8.1571724 | BC22: =SUM(V38:V58) -> 69.06406 | BD22: 12.47564 | BE22: 102.04079 | BF22: 116.90812 | BG22: 110.00965 | BH22: 45.176907 | BI22: 54.965514
C23: 4 | D23: Blood test | E23: CCR3 | F23: 1 | G23: 10 | H23: 0 | I23: 0 | J23: 0 | K23: 0 | L23: 0 | M23: 0 | N23: 0 | O23: 0 | P23: 0 | Q23: 0 | R23: 0 | S23: 0 | T23: =SUM(H23:S23)*F23 -> 0 | V23: =T23*$V$3*F23 -> 0 | W23: =H23*$W$3*F23 -> 0 | X23: =I23*$X$3*F23 -> 0 | Y23: =J23*$Y$3*F23 -> 0 | Z23: =IF(ISNUMBER(SEARCH("CCR4", E23)),(T23-K23)*$Z$3, 0) -> 0 | AA23: =L23*$AA$3*F23 -> 0 | AB23: =K23*$AB$3*F23 -> 0 | AC23: =(IF(ISNUMBER(SEARCH("CCR7", E23)),K23*$AC$3, 0))*F23 -> 0 | AD23: =(IF(ISNUMBER(SEARCH("CCR8", E23)),K23*$AD$3, 0))*F23 -> 0 | AE23: =IF(ISNUMBER(SEARCH("CCR9", E23)),K23*$AE$3*F23, 0) -> 0 | AF23: =(IF(ISNUMBER(SEARCH("CCR10", E23)),K23*$AF$3, 0))*F23 -> 0 | AG23: =IF(ISNUMBER(SEARCH("CCR11", E23)),T23*$AG$3, 0) -> 0 | AH23: =(IF(ISNUMBER(SEARCH("CCR12", E23)),T23*$AH$3, 0))*F23 -> 0 | AI23: 0 | AK23: =inputs!E56*F23 -> 21.01 | AL23: =SUM(V23:AK23) -> 21.01 | AO23: Laparoscopy required (default no) | AP23: no | AQ23: no, yes | AX23: CCR1: Gyn with DA | AY23: =SUM(W5:W16) -> 134.26875 | AZ23: =SUM(W220:W236) -> 57.54375 | BA23: 57.54375 | BB23: =SUM(W20:W34) -> 143.85938 | BC23: =SUM(W38:W58) -> 57.54375 | BD23: 76.725 | BE23: 57.54375 | BF23: 57.54375 | BG23: 57.54375 | BH23: 0 | BI23: 0
C24: 5 | D24: Treatment with fixed dosage | E24: CCR1 CCR3 | F24: 0 | G24: 30 | H24: 15 | I24: 0 | J24: 0 | K24: 0 | L24: 0 | M24: 0 | N24: 0 | O24: 0 | P24: 0 | Q24: 0 | R24: 0 | S24: 0 | T24: =SUM(H24:S24)*F24 -> 0 | V24: =T24*$V$3*F24 -> 0 | W24: =H24*$W$3*F24 -> 0 | X24: =I24*$X$3*F24 -> 0 | Y24: =J24*$Y$3*F24 -> 0 | Z24: =IF(ISNUMBER(SEARCH("CCR4", E24)),(T24-K24)*$Z$3, 0) -> 0 | AA24: =L24*$AA$3*F24 -> 0 | AB24: =K24*$AB$3*F24 -> 0 | AC24: =(IF(ISNUMBER(SEARCH("CCR7", E24)),K24*$AC$3, 0))*F24 -> 0 | AD24: =(IF(ISNUMBER(SEARCH("CCR8", E24)),K24*$AD$3, 0))*F24 -> 0 | AE24: =IF(ISNUMBER(SEARCH("CCR9", E24)),K24*$AE$3*F24, 0) -> 0 | AF24: =(IF(ISNUMBER(SEARCH("CCR10", E24)),K24*$AF$3, 0))*F24 -> 0 | AG24: =IF(ISNUMBER(SEARCH("CCR11", E24)),T24*$AG$3, 0) -> 0 | AH24: =(IF(ISNUMBER(SEARCH("CCR12", E24)),T24*$AH$3, 0))*F24 -> 0 | AI24: 0 | AK24: 0 | AL24: =SUM(V24:AK24) -> 0 | AO24: Total number of consultations (default 1 per round) | AP24: 1 | AQ24: 6, 7, 8, 9 | AT24: Phase of treatment | AX24: CCR2 Physician/Arts VPG | AY24: =SUM(X5:X16) -> 0 | AZ24: =SUM(X220:X236) -> 123.81667 | BA24: 172.26667 | BB24: =SUM(X20:X34) -> 0 | BC24: =SUM(X38:X58) -> 258.4 | BD24: 0 | BE24: 204.56667 | BF24: 204.56667 | BG24: 204.56667 | BH24: 129.2 | BI24: 161.5
C25: 6 | D25: Evaluation consultation with ultrasound | E25: CCR1 CCR3 CCR4 | F25: 0 | G25: 30 | H25: 30 | I25: 0 | J25: 0 | K25: 0 | L25: 0 | M25: 0 | N25: 0 | O25: 0 | P25: 0 | Q25: 0 | R25: 0 | S25: 0 | T25: =SUM(H25:S25)*F25 -> 0 | V25: =T25*$V$3*F25 -> 0 | W25: =H25*$W$3*F25 -> 0 | X25: =I25*$X$3*F25 -> 0 | Y25: =J25*$Y$3*F25 -> 0 | Z25: =IF(ISNUMBER(SEARCH("CCR4", E25)),(T25-K25)*$Z$3, 0) -> 0 | AA25: =L25*$AA$3*F25 -> 0 | AB25: =K25*$AB$3*F25 -> 0 | AC25: =(IF(ISNUMBER(SEARCH("CCR7", E25)),K25*$AC$3, 0))*F25 -> 0 | AD25: =(IF(ISNUMBER(SEARCH("CCR8", E25)),K25*$AD$3, 0))*F25 -> 0 | AE25: =IF(ISNUMBER(SEARCH("CCR9", E25)),K25*$AE$3*F25, 0) -> 0 | AF25: =(IF(ISNUMBER(SEARCH("CCR10", E25)),K25*$AF$3, 0))*F25 -> 0 | AG25: =IF(ISNUMBER(SEARCH("CCR11", E25)),T25*$AG$3, 0) -> 0 | AH25: =(IF(ISNUMBER(SEARCH("CCR12", E25)),T25*$AH$3, 0))*F25 -> 0 | AI25: 0 | AK25: 0 | AL25: =SUM(V25:AK25) -> 0 | AO25: Number of blood tests ordered total (default 1 per round) | AP25: 1 | AQ25: 1, 2, 3, 4, | AT25: Intake and/or diagnostics | AU25: =SUM(AL30:AL31) -> 0 | AX25: CCR3 IVF Nurse | AY25: =SUM(Y5:Y16) -> 50.2125 | AZ25: =SUM(Y220:Y236) -> 96.240625 | BA25: 150.6375 | BB25: =SUM(Y20:Y34) -> 0 | BC25: =SUM(Y38:Y58) -> 196.66563 | BD25: 0 | BE25: 288.72188 | BF25: 292.90625 | BG25: 288.72188 | BH25: 154.82188 | BI25: 179.92813
C26: 7 | D26: Blood test | E26: CCR3 | F26: =AP25-F23 -> 0 | G26: 10 | H26: 0 | I26: 0 | J26: 5 | K26: 0 | L26: 0 | M26: 0 | N26: 0 | O26: 0 | P26: 0 | Q26: 0 | R26: 0 | S26: 0 | T26: =SUM(H26:S26)*F26 -> 0 | V26: =T26*$V$3*F26 -> 0 | W26: =H26*$W$3*F26 -> 0 | X26: =I26*$X$3*F26 -> 0 | Y26: =J26*$Y$3*F26 -> 0 | Z26: =IF(ISNUMBER(SEARCH("CCR4", E26)),(T26-K26)*$Z$3, 0) -> 0 | AA26: =L26*$AA$3*F26 -> 0 | AB26: =K26*$AB$3*F26 -> 0 | AC26: =(IF(ISNUMBER(SEARCH("CCR7", E26)),K26*$AC$3, 0))*F26 -> 0 | AD26: =(IF(ISNUMBER(SEARCH("CCR8", E26)),K26*$AD$3, 0))*F26 -> 0 | AE26: =IF(ISNUMBER(SEARCH("CCR9", E26)),K26*$AE$3*F26, 0) -> 0 | AF26: =(IF(ISNUMBER(SEARCH("CCR10", E26)),K26*$AF$3, 0))*F26 -> 0 | AG26: =IF(ISNUMBER(SEARCH("CCR11", E26)),T26*$AG$3, 0) -> 0 | AH26: =(IF(ISNUMBER(SEARCH("CCR12", E26)),T26*$AH$3, 0))*F26 -> 0 | AI26: 0 | AK26: 0 | AL26: =SUM(V26:AK26) -> 0 | AO26: Withdrawal bleeding required (progestin) (default no) | AP26: no | AQ26: no, yes | AT26: Stimulation and/or monitoring | AU26: =SUM(AL20:AL29) -> 55.913309 | AX26: CCR4 Clinic equipment and disp. | AY26: =SUM(Z5:Z16) -> 14.486925 | AZ26: =SUM(Z220:Z236) -> 31.043411 | BA26: 55.878139 | BB26: =SUM(Z20:Z34) -> 12.417364 | BC26: =SUM(Z38:Z58) -> 80.712868 | BD26: 6.2086821 | BE26: 91.060671 | BF26: 91.060671 | BG26: 91.060671 | BH26: 55.878139 | BI26: 55.878139
C27: 8 | D27: Treatment with fixed dosage | E27: CCR1 | F27: 0 | G27: 30 | H27: 30 | I27: 0 | J27: 0 | K27: 0 | L27: 0 | M27: 0 | N27: 0 | O27: 0 | P27: 0 | Q27: 0 | R27: 0 | S27: 0 | T27: =SUM(H27:S27)*F27 -> 0 | V27: =T27*$V$3*F27 -> 0 | W27: =H27*$W$3*F27 -> 0 | X27: =I27*$X$3*F27 -> 0 | Y27: =J27*$Y$3*F27 -> 0 | Z27: =IF(ISNUMBER(SEARCH("CCR4", E27)),(T27-K27)*$Z$3, 0) -> 0 | AA27: =L27*$AA$3*F27 -> 0 | AB27: =K27*$AB$3*F27 -> 0 | AC27: =(IF(ISNUMBER(SEARCH("CCR7", E27)),K27*$AC$3, 0))*F27 -> 0 | AD27: =(IF(ISNUMBER(SEARCH("CCR8", E27)),K27*$AD$3, 0))*F27 -> 0 | AE27: =IF(ISNUMBER(SEARCH("CCR9", E27)),K27*$AE$3*F27, 0) -> 0 | AF27: =(IF(ISNUMBER(SEARCH("CCR10", E27)),K27*$AF$3, 0))*F27 -> 0 | AG27: =IF(ISNUMBER(SEARCH("CCR11", E27)),T27*$AG$3, 0) -> 0 | AH27: =(IF(ISNUMBER(SEARCH("CCR12", E27)),T27*$AH$3, 0))*F27 -> 0 | AI27: 0 | AK27: 0 | AL27: =SUM(V27:AK27) -> 0 | AO27: First cycle | AP27: yes | AQ27: yes, no | AT27: Egg retrieval | AX27: CCR5 Urologist | AY27: =SUM(AA5:AA16) -> 0 | AZ27: =SUM(AA220:AA236) -> 0 | BA27: 0 | BB27: =SUM(AA20:AA34) -> 0 | BC27: =SUM(AA38:AA58) -> 0 | BD27: 0 | BE27: 0 | BF27: 0 | BG27: 0 | BH27: 0 | BI27: 0
C28: 9 | D28: Blood test | E28: CCR3 | F28: =AP25-F23-F26 -> 0 | G28: 10 | H28: 0 | I28: 0 | J28: 5 | K28: 0 | L28: 0 | M28: 0 | N28: 0 | O28: 0 | P28: 0 | Q28: 0 | R28: 0 | S28: 0 | T28: =SUM(H28:S28)*F28 -> 0 | V28: =T28*$V$3*F28 -> 0 | W28: =H28*$W$3*F28 -> 0 | X28: =I28*$X$3*F28 -> 0 | Y28: =J28*$Y$3*F28 -> 0 | Z28: =IF(ISNUMBER(SEARCH("CCR4", E28)),(T28-K28)*$Z$3, 0) -> 0 | AA28: =L28*$AA$3*F28 -> 0 | AB28: =K28*$AB$3*F28 -> 0 | AC28: =(IF(ISNUMBER(SEARCH("CCR7", E28)),K28*$AC$3, 0))*F28 -> 0 | AD28: =(IF(ISNUMBER(SEARCH("CCR8", E28)),K28*$AD$3, 0))*F28 -> 0 | AE28: =IF(ISNUMBER(SEARCH("CCR9", E28)),K28*$AE$3*F28, 0) -> 0 | AF28: =(IF(ISNUMBER(SEARCH("CCR10", E28)),K28*$AF$3, 0))*F28 -> 0 | AG28: =IF(ISNUMBER(SEARCH("CCR11", E28)),T28*$AG$3, 0) -> 0 | AH28: =(IF(ISNUMBER(SEARCH("CCR12", E28)),T28*$AH$3, 0))*F28 -> 0 | AI28: 0 | AK28: 0 | AL28: =SUM(V28:AK28) -> 0 | AO28: Second cycle | AP28: no | AQ28: yes, no | AT28: Insemination and/or fertilization | AX28: CCR6 Staff IVF lab | AY28: =SUM(AB5:AB16) -> 142.12885 | AZ28: =SUM(AB220:AB236) -> 107.90105 | BA28: 107.90105 | BB28: =SUM(AB20:AB34) -> 0 | BC28: =SUM(AB38:AB58) -> 0 | BD28: 155.91505 | BE28: 653.66751 | BF28: 928.52423 | BG28: 806.58359 | BH28: 230.35489 | BI28: 230.35489
C29: 10 | D29: Evaluation consultation with ultrasound | E29: CCR1 CCR3 CCR4 | F29: 0 | G29: 30 | H29: 30 | I29: 0 | J29: 0 | K29: 0 | L29: 0 | M29: 0 | N29: 0 | O29: 0 | P29: 0 | Q29: 0 | R29: 0 | S29: 0 | T29: =SUM(H29:S29)*F29 -> 0 | V29: =T29*$V$3*F29 -> 0 | W29: =H29*$W$3*F29 -> 0 | X29: =I29*$X$3*F29 -> 0 | Y29: =J29*$Y$3*F29 -> 0 | Z29: =IF(ISNUMBER(SEARCH("CCR4", E29)),(T29-K29)*$Z$3, 0) -> 0 | AA29: =L29*$AA$3*F29 -> 0 | AB29: =K29*$AB$3*F29 -> 0 | AC29: =(IF(ISNUMBER(SEARCH("CCR7", E29)),K29*$AC$3, 0))*F29 -> 0 | AD29: =(IF(ISNUMBER(SEARCH("CCR8", E29)),K29*$AD$3, 0))*F29 -> 0 | AE29: =IF(ISNUMBER(SEARCH("CCR9", E29)),K29*$AE$3*F29, 0) -> 0 | AF29: =(IF(ISNUMBER(SEARCH("CCR10", E29)),K29*$AF$3, 0))*F29 -> 0 | AG29: =IF(ISNUMBER(SEARCH("CCR11", E29)),T29*$AG$3, 0) -> 0 | AH29: =(IF(ISNUMBER(SEARCH("CCR12", E29)),T29*$AH$3, 0))*F29 -> 0 | AI29: 0 | AK29: 0 | AL29: =SUM(V29:AK29) -> 0 | AT29: Embryo Transfer | AX29: CCR7 Semen lab | AY29: =SUM(AC5:AC16) -> 30.393176 | AZ29: =SUM(AC220:AC236) -> 23.073821 | BA29: 23.073821 | BB29: 0 | BC29: =SUM(AC38:AC58) -> 0 | BD29: 33.34125 | BE29: 86.537986 | BF29: 156.27352 | BG29: 125.53637 | BH29: 0 | BI29: 0
C30: 11 | D30: Diagnostics: HSG | E30: CCR1 CCR3 CCR11 | F30: =IF($AP$22="no", 0, 1) -> 0 | G30: 30 | H30: 60 | I30: 0 | J30: 40 | K30: 0 | L30: 0 | M30: 40 | N30: 40 | O30: 0 | P30: 0 | Q30: 0 | R30: 0 | S30: 0 | T30: =SUM(H30:S30)*F30 -> 0 | V30: =T30*$V$3*F30 -> 0 | W30: =H30*$W$3*F30 -> 0 | X30: =I30*$X$3*F30 -> 0 | Y30: =J30*$Y$3*F30 -> 0 | Z30: =IF(ISNUMBER(SEARCH("CCR4", E30)),(T30-K30)*$Z$3, 0) -> 0 | AA30: =L30*$AA$3*F30 -> 0 | AB30: =K30*$AB$3*F30 -> 0 | AC30: =(IF(ISNUMBER(SEARCH("CCR7", E30)),K30*$AC$3, 0))*F30 -> 0 | AD30: =(IF(ISNUMBER(SEARCH("CCR8", E30)),K30*$AD$3, 0))*F30 -> 0 | AE30: =IF(ISNUMBER(SEARCH("CCR9", E30)),K30*$AE$3*F30, 0) -> 0 | AF30: =(IF(ISNUMBER(SEARCH("CCR10", E30)),K30*$AF$3, 0))*F30 -> 0 | AG30: =IF(ISNUMBER(SEARCH("CCR11", E30)),T30*$AG$3, 0) -> 0 | AH30: =(IF(ISNUMBER(SEARCH("CCR12", E30)),T30*$AH$3, 0))*F30 -> 0 | AI30: 0 | AK30: 0 | AL30: =SUM(V30:AK30) -> 0 | AT30: Freezing or thawing | AX30: CCR8 IVF & ICSI lab | AY30: =SUM(AD5:AD16) -> 0 | AZ30: =SUM(AD220:AD236) -> 0 | BA30: 0 | BB30: 0 | BC30: =SUM(AD38:AD58) -> 0 | BD30: 0 | BE30: 384.74011 | BF30: 424.18234 | BG30: 299.62674 | BH30: 175.98927 | BI30: 175.98927
C31: 12 | D31: Diagnostics: Laparascopy | E31: CCR1 CCR3 CCR12 | F31: =IF($AP$23="no", 0, 1) -> 0 | G31: 60 | H31: 120 | I31: 0 | J31: 120 | K31: 0 | L31: 0 | M31: 0 | N31: 0 | O31: 40 | P31: 40 | Q31: 30 | R31: 0 | S31: 0 | T31: =SUM(H31:S31)*F31 -> 0 | V31: =T31*$V$3*F31 -> 0 | W31: =H31*$W$3*F31 -> 0 | X31: =I31*$X$3*F31 -> 0 | Y31: =J31*$Y$3*F31 -> 0 | Z31: =IF(ISNUMBER(SEARCH("CCR4", E31)),(T31-K31)*$Z$3, 0) -> 0 | AA31: =L31*$AA$3*F31 -> 0 | AB31: =K31*$AB$3*F31 -> 0 | AC31: =(IF(ISNUMBER(SEARCH("CCR7", E31)),K31*$AC$3, 0))*F31 -> 0 | AD31: =(IF(ISNUMBER(SEARCH("CCR8", E31)),K31*$AD$3, 0))*F31 -> 0 | AE31: =IF(ISNUMBER(SEARCH("CCR9", E31)),K31*$AE$3*F31, 0) -> 0 | AF31: =(IF(ISNUMBER(SEARCH("CCR10", E31)),K31*$AF$3, 0))*F31 -> 0 | AG31: =IF(ISNUMBER(SEARCH("CCR11", E31)),T31*$AG$3, 0) -> 0 | AH31: =(IF(ISNUMBER(SEARCH("CCR12", E31)),T31*$AH$3, 0))*F31 -> 0 | AI31: 0 | AK31: 0 | AL31: =SUM(V31:AK31) -> 0 | AT31: Evaluation | AU31: =SUM(AL32:AL34) -> 165.5106 | AX31: CCR9 ICSI lab | AY31: =SUM(AE5:AE16) -> 0 | AZ31: =SUM(AE220:AE236) -> 0 | BA31: 0 | BB31: 0 | BC31: =SUM(AE38:AE58) -> 0 | BD31: 0 | BE31: 0 | BF31: 180.2658 | BG31: 210.51536 | BH31: 0 | BI31: 0
C32: 13 | D32: Evaluation consultation with ultrasound | E32: CCR1 CCR3 CCR4 | F32: 0 | G32: 30 | H32: 30 | I32: 0 | J32: 0 | K32: 0 | L32: 0 | M32: 0 | N32: 0 | O32: 0 | P32: 0 | Q32: 0 | R32: 0 | S32: 0 | T32: =SUM(H32:S32)*F32 -> 0 | V32: =T32*$V$3*F32 -> 0 | W32: =H32*$W$3*F32 -> 0 | X32: =I32*$X$3*F32 -> 0 | Y32: =J32*$Y$3*F32 -> 0 | Z32: =IF(ISNUMBER(SEARCH("CCR4", E32)),(T32-K32)*$Z$3, 0) -> 0 | AA32: =L32*$AA$3*F32 -> 0 | AB32: =K32*$AB$3*F32 -> 0 | AC32: =(IF(ISNUMBER(SEARCH("CCR7", E32)),K32*$AC$3, 0))*F32 -> 0 | AD32: =(IF(ISNUMBER(SEARCH("CCR8", E32)),K32*$AD$3, 0))*F32 -> 0 | AE32: =IF(ISNUMBER(SEARCH("CCR9", E32)),K32*$AE$3*F32, 0) -> 0 | AF32: =(IF(ISNUMBER(SEARCH("CCR10", E32)),K32*$AF$3, 0))*F32 -> 0 | AG32: =IF(ISNUMBER(SEARCH("CCR11", E32)),T32*$AG$3, 0) -> 0 | AH32: =(IF(ISNUMBER(SEARCH("CCR12", E32)),T32*$AH$3, 0))*F32 -> 0 | AI32: 0 | AK32: 0 | AL32: =SUM(V32:AK32) -> 0 | AT32: Total | AU32: =SUM(AU25:AU31) -> 221.42391 | AX32: CCR10 Cryopreservation lab | AY32: =SUM(AF5:AF16) -> 0 | AZ32: =SUM(AF220:AF236) -> 0 | BA32: 0 | BB32: 0 | BC32: =SUM(AF38:AF58) -> 0 | BD32: 0 | BE32: 40.339411 | BF32: 40.339411 | BG32: 40.339411 | BH32: 56.73115 | BI32: 56.73115
C33: 14 | D33: Pregnancy test, consultation and ultrasound | E33: CCR1 CCR4 | F33: 1 | G33: 30 | H33: 30 | I33: 0 | J33: 0 | K33: 0 | L33: 0 | M33: 0 | N33: 0 | O33: 0 | P33: 0 | Q33: 0 | R33: 0 | S33: 0 | T33: =SUM(H33:S33)*F33 -> 30 | V33: =T33*$V$3*F33 -> 3.262869 | W33: =H33*$W$3*F33 -> 57.54375 | X33: =I33*$X$3*F33 -> 0 | Y33: =J33*$Y$3*F33 -> 0 | Z33: =IF(ISNUMBER(SEARCH("CCR4", E33)),(T33-K33)*$Z$3, 0) -> 6.2086821 | AA33: =L33*$AA$3*F33 -> 0 | AB33: =K33*$AB$3*F33 -> 0 | AC33: =(IF(ISNUMBER(SEARCH("CCR7", E33)),K33*$AC$3, 0))*F33 -> 0 | AD33: =(IF(ISNUMBER(SEARCH("CCR8", E33)),K33*$AD$3, 0))*F33 -> 0 | AE33: =IF(ISNUMBER(SEARCH("CCR9", E33)),K33*$AE$3*F33, 0) -> 0 | AF33: =(IF(ISNUMBER(SEARCH("CCR10", E33)),K33*$AF$3, 0))*F33 -> 0 | AG33: =IF(ISNUMBER(SEARCH("CCR11", E33)),T33*$AG$3, 0) -> 0 | AH33: =(IF(ISNUMBER(SEARCH("CCR12", E33)),T33*$AH$3, 0))*F33 -> 0 | AI33: 0 | AK33: =inputs!$E$40*F33 -> 31.48 | AL33: =SUM(V33:AK33) -> 98.495301 | AX33: CCR11 Radiology | AY33: =SUM(AG5:AG16) -> 0 | AZ33: =SUM(AG217:AG235) -> 0 | BA33: 0 | BB33: 0 | BC33: =SUM(AG38:AG58) -> 0 | BD33: 0 | BE33: 0 | BF33: 0 | BG33: 0 | BH33: 0 | BI33: 0
C34: 15 | D34: Pregnancy test, consultation and ultrasound | E34: CCR1 CCR4 | F34: 1 | G34: 30 | H34: 30 | I34: 0 | J34: 0 | K34: 0 | L34: 0 | M34: 0 | N34: 0 | O34: 0 | P34: 0 | Q34: 0 | R34: 0 | S34: 0 | T34: =SUM(H34:S34)*F34 -> 30 | V34: =T34*$V$3*F34 -> 3.262869 | W34: =H34*$W$3*F34 -> 57.54375 | X34: =I34*$X$3*F34 -> 0 | Y34: =J34*$Y$3*F34 -> 0 | Z34: =IF(ISNUMBER(SEARCH("CCR4", E34)),(T34-K34)*$Z$3, 0) -> 6.2086821 | AA34: =L34*$AA$3*F34 -> 0 | AB34: =K34*$AB$3*F34 -> 0 | AC34: =(IF(ISNUMBER(SEARCH("CCR7", E34)),K34*$AC$3, 0))*F34 -> 0 | AD34: =(IF(ISNUMBER(SEARCH("CCR8", E34)),K34*$AD$3, 0))*F34 -> 0 | AE34: =IF(ISNUMBER(SEARCH("CCR9", E34)),K34*$AE$3*F34, 0) -> 0 | AF34: =(IF(ISNUMBER(SEARCH("CCR10", E34)),K34*$AF$3, 0))*F34 -> 0 | AG34: =IF(ISNUMBER(SEARCH("CCR11", E34)),T34*$AG$3, 0) -> 0 | AH34: =(IF(ISNUMBER(SEARCH("CCR12", E34)),T34*$AH$3, 0))*F34 -> 0 | AI34: 0 | AK34: 0 | AL34: =SUM(V34:AK34) -> 67.015301 | AM34: =SUM(AL20:AL34) -> 221.42391 | AX34: CCR12 Laparoscopy | AY34: =SUM(AH5:AH16) -> 0 | AZ34: =SUM(AF217:AF235) -> #REF! | BA34: 0 | BB34: 0 | BC34: =SUM(AH38:AH58) -> 0 | BD34: 0 | BE34: 0 | BF34: 0 | BG34: 0 | BH34: 0 | BI34: 0
E35: Totals configured | G35: =($F23*G23)+($F24*G24)+($F25*G25)+($F26*G26)+($F27*G27)+($F28*G28)+($F29*G29)+($F30*G30)+($F31*G31)+($F32*G32)+($F33*G33)+($F34*G34)+($F22*G22)+($F21*G21)+($F20*G20) -> 100 | H35: =($F23*H23)+($F24*H24)+($F25*H25)+($F26*H26)+($F27*H27)+($F28*H28)+($F29*H29)+($F30*H30)+($F31*H31)+($F32*H32)+($F33*H33)+($F34*H34)+($F22*H22)+($F21*H21)+($F20*H20) -> 75 | I35: =($F23*I23)+($F24*I24)+($F25*I25)+($F26*I26)+($F27*I27)+($F28*I28)+($F29*I29)+($F30*I30)+($F31*I31)+($F32*I32)+($F33*I33)+($F34*I34)+($F22*I22)+($F21*I21)+($F20*I20) -> 0 | J35: =($F23*J23)+($F24*J24)+($F25*J25)+($F26*J26)+($F27*J27)+($F28*J28)+($F29*J29)+($F30*J30)+($F31*J31)+($F32*J32)+($F33*J33)+($F34*J34)+($F22*J22)+($F21*J21)+($F20*J20) -> 0 | K35: =($F23*K23)+($F24*K24)+($F25*K25)+($F26*K26)+($F27*K27)+($F28*K28)+($F29*K29)+($F30*K30)+($F31*K31)+($F32*K32)+($F33*K33)+($F34*K34)+($F22*K22)+($F21*K21)+($F20*K20) -> 0 | L35: =($F23*L23)+($F24*L24)+($F25*L25)+($F26*L26)+($F27*L27)+($F28*L28)+($F29*L29)+($F30*L30)+($F31*L31)+($F32*L32)+($F33*L33)+($F34*L34)+($F22*L22)+($F21*L21)+($F20*L20) -> 0 | M35: =($F23*M23)+($F24*M24)+($F25*M25)+($F26*M26)+($F27*M27)+($F28*M28)+($F29*M29)+($F30*M30)+($F31*M31)+($F32*M32)+($F33*M33)+($F34*M34)+($F22*M22)+($F21*M21)+($F20*M20) -> 0 | N35: =($F23*N23)+($F24*N24)+($F25*N25)+($F26*N26)+($F27*N27)+($F28*N28)+($F29*N29)+($F30*N30)+($F31*N31)+($F32*N32)+($F33*N33)+($F34*N34)+($F22*N22)+($F21*N21)+($F20*N20) -> 0 | ... T35: =($F23*T23)+($F24*T24)+($F25*T25)+($F26*T26)+($F27*T27)+($F28*T28)+($F29*T29)+($F30*T30)+($F31*T31)+($F32*T32)+($F33*T33)+($F34*T34)+($F22*T22)+($F21*T21)+($F20*T20) -> 75 | V35: =SUM(V20:V34) -> 8.1571724 | W35: =SUM(W20:W34) -> 143.85938 | X35: =SUM(X20:X34) -> 0 | Y35: =SUM(Y20:Y34) -> 0 | Z35: =SUM(Z20:Z34) -> 12.417364 | AA35: =SUM(AA20:AA34) -> 0 | AB35: =SUM(AB20:AB34) -> 0 | AC35: =SUM(AC20:AC34) -> 0 | ... AL35: =SUM(AL20:AL34) -> 221.42391
E36: Totals | G36: =SUM(G20:G34) -> 420 | H36: =SUM(H20:H34) -> 430 | I36: =SUM(I20:I34) -> 0 | J36: =SUM(J20:J34) -> 170 | K36: =SUM(K20:K34) -> 0 | L36: =SUM(L20:L34) -> 0 | M36: =SUM(M20:M34) -> 40 | N36: =SUM(N20:N34) -> 40 | ... U36: =SUM(U20:U34) -> 0 | V36: =SUM(V20:V35) -> 16.314345 | W36: =SUM(W20:W34) -> 143.85938 | X36: =SUM(X20:X34) -> 0 | Y36: =SUM(Y20:Y34) -> 0 | Z36: =SUM(Z20:Z34) -> 12.417364 | AA36: =SUM(AA20:AA34) -> 0 | AB36: =SUM(AB20:AB34) -> 0 | AC36: =SUM(AC20:AC34) -> 0 | AD36: =SUM(AD20:AD34) -> 0 | ... AK36: =SUM(AK20:AK34) -> 52.49
B38: OI Gonadotropins/FSH | C38: 0 | D38: Patient emails nurse to inform her of her cycle start day | E38: CCR3 | F38: 1 | G38: 15 | H38: 0 | I38: 0 | J38: 15 | K38: 0 | L38: 0 | M38: 0 | N38: 0 | O38: 0 | P38: 0 | Q38: 0 | R38: 0 | S38: 0 | T38: =SUM(H38:S38)*F38 -> 15 | V38: =T38*$V$3*F38 -> 1.6314345 | W38: =H38*$W$3*F38 -> 0 | X38: =I38*$X$3*F38 -> 0 | Y38: =J38*$Y$3*F38 -> 12.553125 | Z38: =IF(ISNUMBER(SEARCH("CCR4", E38)),(T38-K38)*$Z$3, 0) -> 0 | AA38: =L38*$AA$3*F38 -> 0 | AB38: =K38*$AB$3*F38 -> 0 | AC38: =(IF(ISNUMBER(SEARCH("CCR7", E38)),K38*$AC$3, 0))*F38 -> 0 | AD38: =(IF(ISNUMBER(SEARCH("CCR8", E38)),K38*$AD$3, 0))*F38 -> 0 | AE38: =IF(ISNUMBER(SEARCH("CCR9", E38)),K38*$AE$3*F38, 0) -> 0 | AF38: =(IF(ISNUMBER(SEARCH("CCR10", E38)),K38*$AF$3, 0))*F38 -> 0 | AG38: =IF(ISNUMBER(SEARCH("CCR11", E38)),T38*$AG$3, 0) -> 0 | AH38: =(IF(ISNUMBER(SEARCH("CCR12", E38)),T38*$AH$3, 0))*F38 -> 0 | AI38: 0 | AK38: 0 | AL38: =SUM(V38:AK38) -> 14.184559 | AT38: Treatment | AU38: OI
C39: 1 | D39: Prepatory treatment with progestin (if needed) | E39: CCR2 | F39: =IF(AP45="no", 0, 1) -> 0 | G39: 10 | H39: 0 | I39: 15 | J39: 15 | K39: 0 | L39: 0 | M39: 0 | N39: 0 | O39: 0 | P39: 0.33 | Q39: 0 | R39: 0 | S39: 0 | T39: =SUM(H39:S39)*F39 -> 0 | V39: =T39*$V$3*F39 -> 0 | W39: =H39*$W$3*F39 -> 0 | X39: =I39*$X$3*F39 -> 0 | Y39: =J39*$Y$3*F39 -> 0 | Z39: =IF(ISNUMBER(SEARCH("CCR4", E39)),(T39-K39)*$Z$3, 0) -> 0 | AA39: =L39*$AA$3*F39 -> 0 | AB39: =K39*$AB$3*F39 -> 0 | AC39: =(IF(ISNUMBER(SEARCH("CCR7", E39)),K39*$AC$3, 0))*F39 -> 0 | AD39: =(IF(ISNUMBER(SEARCH("CCR8", E39)),K39*$AD$3, 0))*F39 -> 0 | AE39: =IF(ISNUMBER(SEARCH("CCR9", E39)),K39*$AE$3*F39, 0) -> 0 | AF39: =(IF(ISNUMBER(SEARCH("CCR10", E39)),K39*$AF$3, 0))*F39 -> 0 | AG39: =IF(ISNUMBER(SEARCH("CCR11", E39)),T39*$AG$3, 0) -> 0 | AH39: =(IF(ISNUMBER(SEARCH("CCR12", E39)),T39*$AH$3, 0))*F39 -> 0 | AI39: 0 | AK39: 0 | AL39: =SUM(V39:AK39) -> 0 | AO39: item | AP39: input | AQ39: options | AT39: Specification of treatment | AU39: Gonadotropins | AX39: sum | AY39: =SUM(AY16:AY38) -> 503.67602 | AZ39: =SUM(AZ16:AZ38) -> #REF! | BA39: =SUM(BA20:BA38) -> 854.31378 | BB39: =SUM(BB16:BB38) -> 221.42391 | BC39: =SUM(BC16:BC38) -> 929.6063 | BD39: =SUM(BD16:BD38) -> 356.61562 | BE39: =SUM(BE20:BE38) -> 2609.7274 | BF39: =SUM(BF16:BF38) -> 3193.0794 | BG39: =SUM(BG16:BG38) -> 3004.8874 | BH39: =SUM(BH16:BH38) -> 939.87906 | BI39: 1035.9596
C40: 2 | D40: Initial ultrasound and consultation | E40: CCR2 | F40: 1 | G40: 30 | H40: 0 | I40: 30 | J40: 30 | K40: 0 | L40: 0 | M40: 0 | N40: 0 | O40: 0 | P40: 0 | Q40: 0 | R40: 0 | S40: 0 | T40: =SUM(H40:S40)*F40 -> 60 | V40: =T40*$V$3*F40 -> 6.525738 | W40: =H40*$W$3*F40 -> 0 | X40: =I40*$X$3*F40 -> 32.3 | Y40: =J40*$Y$3*F40 -> 25.10625 | Z40: =IF(ISNUMBER(SEARCH("CCR4", E40)),(T40-K40)*$Z$3, 0) -> 0 | AA40: =L40*$AA$3*F40 -> 0 | AB40: =K40*$AB$3*F40 -> 0 | AC40: =(IF(ISNUMBER(SEARCH("CCR7", E40)),K40*$AC$3, 0))*F40 -> 0 | AD40: =(IF(ISNUMBER(SEARCH("CCR8", E40)),K40*$AD$3, 0))*F40 -> 0 | AE40: =IF(ISNUMBER(SEARCH("CCR9", E40)),K40*$AE$3*F40, 0) -> 0 | AF40: =(IF(ISNUMBER(SEARCH("CCR10", E40)),K40*$AF$3, 0))*F40 -> 0 | AG40: =IF(ISNUMBER(SEARCH("CCR11", E40)),T40*$AG$3, 0) -> 0 | AH40: =(IF(ISNUMBER(SEARCH("CCR12", E40)),T40*$AH$3, 0))*F40 -> 0 | AI40: 0 | AK40: 0 | AL40: =SUM(V40:AK40) -> 63.931988 | AO40: HSG required (default no) | AP40: no | AX40: check match bottom half/top half of table | AY40: =AY39-AY15 -> -0.0046988819 | AZ40: =AZ39-AZ15 -> #REF! | BA40: =BA39-BA15 -> 0.013783045 | BB40: =BB39-BB15 -> 0 | BC40: =BC39-BC15 -> -33.763432 | BD40: =BD39-BD15 -> -0.0043756906 | BE40: =BE39-BE15 -> 0 | BF40: =BF39-BF15 -> 0 | ... BH40: =BH39-BH15 -> -0.0028458075 | BI40: -0.00036542834
C41: 3 | D41: Diagnostics: HSG | E41: CCR1 CCR3 CCR11 | F41: =IF(AP40="no", 0, 1) -> 0 | G41: 30 | H41: 60 | I41: 0 | J41: 40 | K41: 0 | L41: 0 | M41: 40 | N41: 40 | O41: 0 | P41: 0 | Q41: 0 | R41: 0 | S41: 0 | T41: =SUM(H41:S41)*F41 -> 0 | V41: =T41*$V$3*F41 -> 0 | W41: =H41*$W$3*F41 -> 0 | X41: =I41*$X$3*F41 -> 0 | Y41: =J41*$Y$3*F41 -> 0 | Z41: =IF(ISNUMBER(SEARCH("CCR4", E41)),(T41-K41)*$Z$3, 0) -> 0 | AA41: =L41*$AA$3*F41 -> 0 | AB41: =K41*$AB$3*F41 -> 0 | AC41: =(IF(ISNUMBER(SEARCH("CCR7", E41)),K41*$AC$3, 0))*F41 -> 0 | AD41: =(IF(ISNUMBER(SEARCH("CCR8", E41)),K41*$AD$3, 0))*F41 -> 0 | AE41: =IF(ISNUMBER(SEARCH("CCR9", E41)),K41*$AE$3*F41, 0) -> 0 | AF41: =(IF(ISNUMBER(SEARCH("CCR10", E41)),K41*$AF$3, 0))*F41 -> 0 | AG41: =IF(ISNUMBER(SEARCH("CCR11", E41)),T41*$AG$3, 0) -> 0 | AH41: =(IF(ISNUMBER(SEARCH("CCR12", E41)),T41*$AH$3, 0))*F41 -> 0 | AI41: 0 | AK41: 0 | AL41: =SUM(V41:AK41) -> 0 | AO41: Laparoscopy required (default no) | AP41: no | AT41: Phase of treatment
C42: 4 | D42: Diagnostics: Laparascopy | E42: CCR1 CCR3 CCR12 | F42: =IF(AP41="no", 0, 1) -> 0 | G42: 60 | H42: 120 | I42: 0 | J42: 120 | K42: 0 | L42: 0 | M42: 0 | N42: 0 | O42: 40 | P42: 40 | Q42: 30 | R42: 0 | S42: 0 | T42: =SUM(H42:S42)*F42 -> 0 | V42: =T42*$V$3*F42 -> 0 | W42: =H42*$W$3*F42 -> 0 | X42: =I42*$X$3*F42 -> 0 | Y42: =J42*$Y$3*F42 -> 0 | Z42: =IF(ISNUMBER(SEARCH("CCR4", E42)),(T42-K42)*$Z$3, 0) -> 0 | AA42: =L42*$AA$3*F42 -> 0 | AB42: =K42*$AB$3*F42 -> 0 | AC42: =(IF(ISNUMBER(SEARCH("CCR7", E42)),K42*$AC$3, 0))*F42 -> 0 | AD42: =(IF(ISNUMBER(SEARCH("CCR8", E42)),K42*$AD$3, 0))*F42 -> 0 | AE42: =IF(ISNUMBER(SEARCH("CCR9", E42)),K42*$AE$3*F42, 0) -> 0 | AF42: =(IF(ISNUMBER(SEARCH("CCR10", E42)),K42*$AF$3, 0))*F42 -> 0 | AG42: =IF(ISNUMBER(SEARCH("CCR11", E42)),T42*$AG$3, 0) -> 0 | AH42: =(IF(ISNUMBER(SEARCH("CCR12", E42)),T42*$AH$3, 0))*F42 -> 0 | AI42: 0 | AK42: 0 | AL42: =SUM(V42:AK42) -> 0 | AO42: Number of consultations (default 4 before trigger, 7 total) | AP42: 7 | AT42: Intake and/or diagnostics | AU42: =SUM(AL38:AL42) -> 78.116547
...

Sheet FertEvalChoices
C2: Diagnostics | F2: Treatment cycles; OI | H2: Treatment cycles; IUI | J2: Treatment cycles; IVF | V2: Treatment cycles; FET
C3: Initial Fertility Assessment | F3: Ovulation Induction (OI) | H3: Intra-uterine Insemination (IUI) | J3: In-vitro Fertilisation | V3: Frozen Embryo Transfer
C5: Number of diagnostic consultations with Gynecologist | F5: Type of stimulation | H5: Number of consultations IUI | J5: Number of consultations (IVF) | L5: Number of oocytes predicted | N5: Number of oocytes fertilized with IVF | P5: Number of oocytes fertilized with ICSI | R5: Embryo transfer cancelled? | T5: Freezing technique | V5: Thawing technique | X5: Number of embryos thawed for Embryo Transfer | Z5: Number of consultations (FET) | AB5: FET stimulation
C6: 1 | F6: Clomid CC or Letrozole | H6: 0 | J6: 0 | L6: 1 | N6: 1 | P6: 1 | R6: yes | T6: Cryopreservation (day 5; Blastocyst stage) | V6: Cryopreservation (day 5; Blastocyst stage) | X6: 1 (default) | Z6: 0 | AB6: yes
C7: 2 | F7: Gonal-F/FSH | H7: 1 (default if unstimulated) | J7: 1 | L7: 2 | N7: 2 | P7: 2 | R7: no (default) | T7: Cryopreservation (day 3 or 4; early cleavage stage) | V7: Cryopreservation (day 3 or 4; early cleavage stage) | X7: 2 | Z7: 1 | AB7: no
C8: 3 | F8: na | H8: 2 | J8: 2 | L8: 3 | N8: 3 | P8: 3 | R8: na | T8: Vitrification (day 5 Blastocyst stage) | V8: Vitrification (day 5 Blastocyst stage) | X8: 3 | Z8: 2 | AB8: na
C9: 4 | H9: 3 (default with stimulation) | J9: 3 | L9: 4 | N9: 4 | P9: 4 | T9: na | V9: na | X9: 4 | Z9: 3
C10: 5 | F10: Number of consultations OI | H10: 4 | J10: 4 | L10: 5 | N10: 5 | P10: 5 | X10: 5 | Z10: 4
C11: 0 | F11: 0 | H11: 5 | J11: 5 (default if successful cycle) | L11: 6 | N11: 6 | P11: 6 | X11: 5+ | Z11: 5
C12: HSG required? | F12: 1 | H12: 6 | J12: 6 (default if unsuccessful cycle) | L12: 7 | N12: 7 | P12: 7 | Z12: 6
C13: yes | F13: 2 | H13: 7 | J13: 7 | L13: 8 | N13: 8 | P13: 8 | Z13: 7
C14: no (default) | F14: 3 | H14: 8 | J14: 8 | L14: 9 | N14: 9 | P14: 9 | Z14: 8
F15: 4 | H15: na | J15: 9 | L15: 10 | N15: 10 | P15: 10 | Z15: 9
C16: Diagnostic operation required? | F16: 5 | J16: 10 | L16: 11 | N16: 11 | P16: 11 | Z16: 10
C17: yes | F17: 6 | J17: 11 | L17: 12 | N17: 12 | P17: 12 | Z17: 11
C18: no (default) | F18: 7 | J18: 12 | L18: 13 | N18: 13 | P18: 13 | Z18: 12
F19: 8 | J19: 13 | L19: 14 | N19: 14 | P19: 14 | Z19: 13
C20: Number of IVF intake consultations with Gynecologist | F20: na | J20: 14 | L20: 15 | N20: 15 | P20: 15 | Z20: 14
C21: 1 | J21: 15 | L21: 16 | N21: 16 | P21: 16 | Z21: 15
C22: 2 (default) | J22: na | L22: 17 | N22: 17 | P22: 17 | Z22: na
C23: 3 | L23: 18 | N23: 18 | P23: 18
C24: 4 | L24: 19 | N24: 19 | P24: 19
C25: 5 | L25: 20 | N25: 20 | P25: 20
C26: 0 | L26: 21 | N26: 20+ | P26: 20+
C27: Number of semen survival tests (SSTs) required | L27: 22 | N27: na | P27: na
C28: 1 | L28: 23
C29: 2 | L29: 24
C30: 3 | L30: 25
C31: 0 | L31: 26
L32: 27
C33: Urology or Andrology consult? | L33: 28
C34: 0 | L34: 29
C35: 1 | L35: 30
C36: 2 | L36: 30+
C37: 3 | L37: na
C39: Testicular Ultrasound?
C40: 0
C41: 1
C42: 2

Sheet inputs
A1: Nr | B1: Cost Item | C1: category | D1: TDABC incorporation | E1: cost | F1: per | H1: Nr | I1: CCR name | J1: code | K1: Yearly cost - description | L1: Practical capacity of resource doing the work - description | M1: CCR per min
A2: 1 | B2: Gynecologist | C2: staff | D2: CCR1 | E2: 1.3239583 | F2: min | H2: 0 | I2: CCR0 Building, facilities, support staff | J2: CCR0 | K2: Rent, infrastructure, IT, support staff, weekly team meeting | L2: Number of Gynecologists, Doctors, Nurses, Embryologists, Analysts,working on average on one day | M2: 0.1087623
A3: 2 | B3: AIOS | C3: staff | D3: n/a | E3: 0.97208333 | F3: min | H3: 1 | I3: CCR1 Gyn with DA | J3: CCR1 | K3: Gynecologist and assisstant's salary (1:1) | L3: Gyn with DA, gyn available for 24 of 38 hours for consults, 80% | M3: 1.918125
A4: 3 | B4: Arts VPG | C4: staff | D4: CCR2 | E4: 1.0766667 | F4: min | H4: 2 | I4: CCR2 Physician | J4: CCR2 | K4: Fertility Doctor's/Physician salaries | L4: Physician (Arts VPG), available for 32 hours for consults, 80% | M4: 1.0766667
A5: 4 | B5: Doctor's assistant (DA) | C5: staff | D5: CCR1 | E5: 0.59416667 | F5: min | H5: 3 | I5: CCR3 IVF Nurse | J5: CCR3 | K5: Nurse's salaries | L5: IVF Nurse, always available when working, 80% to account for breaks | M5: 0.836875
A6: 5 | B6: Reproductive Endocrinologists | C6: staff | D6: n/a | E6: 1.3239583 | F6: min | H6: 4 | I6: CCR4 Clinic equipment, disposables, general medication | J6: CCR4 | K6: 3 ultrasound machines, purchase price, depreciated over lifetime | L6: Gynecologists & physicians, assuming available for 4 hours a day for consultations each | M6: 0.20695607
A7: 6 | B7: Embryologist | C7: staff | D7: CCR6 | E7: 1.3239583 | F7: min | H7: 5 | I7: CCR5 Urologist | J7: CCR5 | K7: Salaries | L7: Urologists' time | M7: 3.3333333
A8: 7 | B8: Embryologist in training | C8: staff | D8: CCR6 | E8: 0.97208333 | F8: min | H8: 6 | I8: CCR6 Staff lab ( Embryologist & Analysts) | J8: CCR6 | K8: Salaries | L8: Weighted average of 3 analysts and 1 embryologist per day, and the head of laboratory | M8: 2.087061
A9: 8 | B9: IVF Nurse | C9: staff | D9: CCR3 | E9: 0.836875 | F9: min | H9: 7 | I9: CCR7 General lab incl semen | J9: CCR7 | K9: Equipment depreciation and maintenance, all disposables used in general lab area | L9: Clinical laboratory analyst (1 morning shift) | M9: 0.44630215
A10: 9 | B10: Lab Analyst Fertility center | C10: staff | D10: CCR6 | E10: 0.82833333 | F10: min | H10: 8 | I10: CCR8 Lab IVF & ICSI | J10: CCR8 | K10: Equipment depreciation costs and disposables relating only to IVF | L10: Clinical laboratory analyst (1 assigned per day) | M10: 1.8452763
A11: 10 | B11: Secretary Fertility Center | C11: staff | D11: CCR0 | E11: 0.756875 | F11: min | H11: 9 | I11: CCR9 Lab ICSI | J11: CCR9 | K11: Equipment depreciation costs and disposables relating only to ICSI | L11: Clinical laboratory analyst (1 afternoon shift) | M11: 1.2050546
A12: 11 | B12: Quality assurance officer | C12: staff | D12: CCR0 | E12: 0.61770833 | F12: min | H12: 10 | I12: CCR10 Lab Cryo | J12: CCR10 | K12: Equipment depreciation costs and disposables relating only to Cryopreservation, incl. liquid nitrogen orders | L12: Clinical laboratory analyst (1 assigned per day) | M12: 0.93812584
A13: 12 | B13: Urologist | C13: staff | D13: CCR5 | E13: 3.3333333 | F13: min | H13: 11 | I13: CCR11 Radiology | J13: CCR11 | K13: Salaries of radiologist, assisstant, nurse | L13: Radiologist's time | M13: 2.0888194
A14: 13 | B14: Andrologist | C14: staff | D14: n/a | E14: 3.3333333 | F14: min | H14: 12 | I14: CCR12 OK Laparoscopy | J14: CCR12 | K14: Salaries of all staff involved in procedure | L14: Gynecologist | M14: 3.193125
A15: 14 | B15: Radiologist | C15: staff | D15: CCR11 | E15: 3.3333333 | F15: min
A16: 15 | B16: Radiology lab technician | C16: staff | D16: CCR11 | E16: 0.77229167 | F16: min
A17: 16 | B17: Anesthesiologist | C17: staff | D17: CCR14 | E17: 3.3333333 | F17: min
A18: 17 | B18: Anesthesiologist assistant | C18: staff | D18: CCR14 | E18: 0.89208333 | F18: min
A19: 18 | B19: Pharmacy medicatieverificatie&logistiek | C19: staff | D19: n/a | E19: 0.59875 | F19: min
A20: 19 | B20: Pharmacy depotheek | C20: staff | D20: n/a | E20: 0.67125 | F20: min
A21: 20 | B21: Pharmacy productie | C21: staff | D21: n/a | E21: 0.60416667 | F21: min
A22: 21 | B22: Ultrasound, Philips ClearVue850 (3x) | C22: Equipment | D22: CCR4 | E22: 7500 | F22: year
A23: 22 | B23: Puncture suction pump | C23: Equipment | D23: CCR4 | E23: 461.4 | F23: year
A24: 23 | B24: Other medications not directly attributable | C24: Medication | D24: CCR0 | E24: 63675.947 | F24: year
A25: 24 | B25: Stimulation medication bundle OI (Gonadotropins) | C25: Medication | D25: direct | E25: 163.8 | F25: pc
A26: 25 | B26: Stimulation medication bundle OI (Letrozole/Clomid CC) | C26: Medication | D26: direct | E26: 4.5 | F26: pc
... A30: 29 | B30: Ovitrelle trigger | C30: Medication | D30: direct | E30: 18.22 | F30: pc
A31: 30 | B31: ICT costs | C31: Overheads | D31: CCR0 | E31: redacted, in CCR0 | F31: year
A32: 31 | B32: Building rent | C32: Overheads | D32: CCR0 | E32: redacted, in CCR0 | F32: year
A33: 32 | B33: ICT and HR support | C33: Overheads | D33: CCR0 | E33: redacted, in CCR0 | F33: year
A34: 33 | B34: Gynecologist supervision of Arts VPG | C34: staff | D34: CCR0 | E34: redacted, in CCR0 | F34: year
A35: 34 | B35: Overhead staff (quality assurance office, office manager) | C35: staff | D35: CCR0 | E35: redacted, in CCR0 | F35: year
A36: 35 | B36: Weekly multidisciplinary team meeting (all clinical staff) | C36: Overheads | D36: CCR0 | E36: redacted, in CCR0 | F36: year
A37: 36 | B37: Standard blood test (f) during stimulation phases of IVF or OI (FSH, E2) | C37: blood test | D37: direct | E37: 26.86 | F37: pc (bundle)
A38: 37 | B38: Blood test OFO (2x progesterone, FSH, E2, AMH, Chlamydia trachomatis) | C38: blood test | D38: direct | E38: 110.64 | F38: pc (bundle)
A39: 38 | B39: Blood test infection screening (serology; during IVF intake; Hep B, Hep C, HIV; Lues) | C39: blood test | D39: direct | E39: 71.95 | F39: pc (bundle)
A40: 39 | B40: Blood test pregnancy test | C40: blood test | D40: direct | E40: 31.48 | F40: pc (bundle)
A41: 40 | B41: Equipment bundle lab IVF & ICSI | C41: Equipment | D41: CCR8 | E41: 37415.635 | F41: year, incl maintenance
A42: 41 | B42: Equipment bundle lab ICSI | C42: Equipment | D42: CCR9 | E42: 46768.863 | F42: year, incl maintenance
A43: 42 | B43: Equipment bundle lab Cryopreservation | C43: Equipment | D43: CCR10 | E43: 21854.836 | F43: year, incl maintenance
...
