Workbook

Sheet Studies
A1: Bibliographic / Context | T1: Quick rigour flags | W1: Scores (auto)
A2: Study_ID | B2: First author | C2: Year | D2: Title | E2: DOI/URL | F2: Journal | G2: Imaging system(s) (vendor - model) | H2: Body region | I2: Task | J2: Source of clinical artefact | K2: Study design | L2: Evaluation strategy | M2: Model architectures(s) | N2: Code availability | O2: Data availability | P2: Training input image resolution | Q2: N patients | R2: N images | S2: Notes | T2: External testing (CLAIM C33) | U2: Study design (CLAIM C05) | V2: Code/model/data available (CLAIM C43) | W2: CLAIM Yes | X2: CLAIM Applicable | Y2: CLAIM %
A3: =ROW()-2 -> 1 | B3: Lee et al. | C3: 2025 | D3: Suppression of immobilisation device on wrist radiography to improve fracture visualisation | E3: https://doi.org/10.1007/s00330-024-11232-2 | F3: European Radiology | G3: Siemens, Philips, Fuji, GE - Models not specified | H3: Wrist | I3: Immobilisation device removal | J3: Splints | K3: Retrospective | L3: Reader study and Task-based metrics | M3: GAN (unpaired) | N3: Not reported | O3: Partially reported | P3: 1024x1024 | Q3: 1748 | R3: 6318 | S3: * FracAtlas dataset | T3: =IF(COUNTIF(CLAIM_2024!AH3,"Yes")=1,"Yes",IF(COUNTIF(CLAIM_2024!AH3,"No")=1,"No",IF(COUNTIF(CLAIM_2024!AH3,"NA")=1,"NA",""))) -> No | U3: =IF(COUNTIF(CLAIM_2024!F3,"Yes")=1,"Yes",IF(COUNTIF(CLAIM_2024!F3,"No")=1,"No",IF(COUNTIF(CLAIM_2024!F3,"NA")=1,"NA",""))) -> Yes | V3: =IF(COUNTIF(CLAIM_2024!AR3,"Yes")=1,"Yes",IF(COUNTIF(CLAIM_2024!AR3,"No")=1,"No",IF(COUNTIF(CLAIM_2024!AR3,"NA")=1,"NA",""))) -> No | W3: =COUNTIF(CLAIM_2024!B3:AS3,"Yes") -> 23 | X3: =COUNTIF(CLAIM_2024!B3:AS3,"Yes")+COUNTIF(CLAIM_2024!B3:AS3,"No") -> 42 | Y3: =IF(X3=0,"",W3/X3) -> 0.54761905
A4: =ROW()-2 -> 2 | B4: Chehade et al. | C4: 2025 | D4: Advancing chest X-ray diagnostics: A novel CycleGAN-based preprocessing approach for enhanced lung disease classification in ChestX-Ray14 | E4: https://doi.org/10.1016/j.cmpb.2024.108518 | F4: Computer Methods and Programs in Biomedicine | G4: Not reported | H4: Chest | I4: Electronic device removal | J4: Electronic medical devices, wires and electrodes | K4: Not reported | L4: Task-based metrics | M4: Mixed | N4: Not reported | O4: Public | P4: Not reported | Q4: Not reported | R4: 676 | S4: * ChestX-ray14 dataset | T4: =IF(COUNTIF(CLAIM_2024!AH4,"Yes")=1,"Yes",IF(COUNTIF(CLAIM_2024!AH4,"No")=1,"No",IF(COUNTIF(CLAIM_2024!AH4,"NA")=1,"NA",""))) -> No | U4: =IF(COUNTIF(CLAIM_2024!F4,"Yes")=1,"Yes",IF(COUNTIF(CLAIM_2024!F4,"No")=1,"No",IF(COUNTIF(CLAIM_2024!F4,"NA")=1,"NA",""))) -> No | V4: =IF(COUNTIF(CLAIM_2024!AR4,"Yes")=1,"Yes",IF(COUNTIF(CLAIM_2024!AR4,"No")=1,"No",IF(COUNTIF(CLAIM_2024!AR4,"NA")=1,"NA",""))) -> No | W4: =COUNTIF(CLAIM_2024!B4:AS4,"Yes") -> 16 | X4: =COUNTIF(CLAIM_2024!B4:AS4,"Yes")+COUNTIF(CLAIM_2024!B4:AS4,"No") -> 42 | Y4: =IF(X4=0,"",W4/X4) -> 0.38095238
A5: =ROW()-2 -> 3 | B5: Norris et al. | C5: 2025 | D5: Enhancing Radiographic Diagnosis: CycleGAN‑Based Methods for Reducing Cast Shadow Artifacts in Wrist Radiographs | E5: https://doi.org/10.1007/s10278-024-01385-3 | F5: Journal of Imaging Informatics in Medicine | G5: Not reported | H5: Wrist | I5: Immobilisation device removal | J5: Casts | K5: Retrospective | L5: Reader study and IQ metrics | M5: GAN (unpaired) | N5: Not reported | O5: Upon request | P5: 512x512 | Q5: Not reported | R5: 11500 | T5: =IF(COUNTIF(CLAIM_2024!AH5,"Yes")=1,"Yes",IF(COUNTIF(CLAIM_2024!AH5,"No")=1,"No",IF(COUNTIF(CLAIM_2024!AH5,"NA")=1,"NA",""))) -> No | U5: =IF(COUNTIF(CLAIM_2024!F5,"Yes")=1,"Yes",IF(COUNTIF(CLAIM_2024!F5,"No")=1,"No",IF(COUNTIF(CLAIM_2024!F5,"NA")=1,"NA",""))) -> Yes | V5: =IF(COUNTIF(CLAIM_2024!AR5,"Yes")=1,"Yes",IF(COUNTIF(CLAIM_2024!AR5,"No")=1,"No",IF(COUNTIF(CLAIM_2024!AR5,"NA")=1,"NA",""))) -> Yes | W5: =COUNTIF(CLAIM_2024!B5:AS5,"Yes") -> 19 | X5: =COUNTIF(CLAIM_2024!B5:AS5,"Yes")+COUNTIF(CLAIM_2024!B5:AS5,"No") -> 42 | Y5: =IF(X5=0,"",W5/X5) -> 0.45238095
A6: =ROW()-2 -> 4 | B6: Schiller et al. | C6: 2025 | D6: xU-NetFullSharp: The Novel Deep Learning Architecture for Chest X-ray Bone Shadow Suppression | E6: https://doi.org/10.1016/j.bspc.2024.106983 | F6: Biomedical Signal Processing and Control | G6: Not reported | H6: Chest | I6: Bone shadow removal | J6: Rib bones | K6: Not reported | L6: Reader study and IQ metrics | M6: CNN-based | N6: Freely downloadable | O6: Public | P6: 512x512 | Q6: Not reported | R6: 625 | S6: * JSRT, VinDr-CXR and Gusarev DES datasets (Gusarev dataset is not public) | T6: =IF(COUNTIF(CLAIM_2024!AH6,"Yes")=1,"Yes",IF(COUNTIF(CLAIM_2024!AH6,"No")=1,"No",IF(COUNTIF(CLAIM_2024!AH6,"NA")=1,"NA",""))) -> Yes | U6: =IF(COUNTIF(CLAIM_2024!F6,"Yes")=1,"Yes",IF(COUNTIF(CLAIM_2024!F6,"No")=1,"No",IF(COUNTIF(CLAIM_2024!F6,"NA")=1,"NA",""))) -> No | V6: =IF(COUNTIF(CLAIM_2024!AR6,"Yes")=1,"Yes",IF(COUNTIF(CLAIM_2024!AR6,"No")=1,"No",IF(COUNTIF(CLAIM_2024!AR6,"NA")=1,"NA",""))) -> Yes | W6: =COUNTIF(CLAIM_2024!B6:AS6,"Yes") -> 18 | X6: =COUNTIF(CLAIM_2024!B6:AS6,"Yes")+COUNTIF(CLAIM_2024!B6:AS6,"No") -> 42 | Y6: =IF(X6=0,"",W6/X6) -> 0.42857143
A7: =ROW()-2 -> 5 | B7: Ahishali et al. | C7: 2024 | D7: R2C-GAN: Restore-to-Classify Generative Adversarial Networks for blind X-ray restoration and COVID-19 classification | E7: https://doi.org/10.1016/j.patcog.2024.110765 | F7: Pattern Recognition | G7: Not reported | H7: Chest | I7: Image quality restoration | J7: Noise, blur, over/under exposures | K7: Not reported | L7: Reader study and Task-based metrics | M7: GAN (unpaired) | N7: Freely downloadable | O7: Public | P7: Not reported | Q7: Not reported | R7: 23801 | S7: * QaTa-COV19 dataset (made of multiple sources) | T7: =IF(COUNTIF(CLAIM_2024!AH7,"Yes")=1,"Yes",IF(COUNTIF(CLAIM_2024!AH7,"No")=1,"No",IF(COUNTIF(CLAIM_2024!AH7,"NA")=1,"NA",""))) -> No | U7: =IF(COUNTIF(CLAIM_2024!F7,"Yes")=1,"Yes",IF(COUNTIF(CLAIM_2024!F7,"No")=1,"No",IF(COUNTIF(CLAIM_2024!F7,"NA")=1,"NA",""))) -> No | V7: =IF(COUNTIF(CLAIM_2024!AR7,"Yes")=1,"Yes",IF(COUNTIF(CLAIM_2024!AR7,"No")=1,"No",IF(COUNTIF(CLAIM_2024!AR7,"NA")=1,"NA",""))) -> Yes | W7: =COUNTIF(CLAIM_2024!B7:AS7,"Yes") -> 13 | X7: =COUNTIF(CLAIM_2024!B7:AS7,"Yes")+COUNTIF(CLAIM_2024!B7:AS7,"No") -> 42 | Y7: =IF(X7=0,"",W7/X7) -> 0.30952381
A8: =ROW()-2 -> 6 | B8: Yamazaki et al. | C8: 2023 | D8: Development of Artificial Intelligence-Based Dual-Energy Subtraction for Chest Radiography | E8: https://doi.org/10.3390/app13127220 | F8: Applied Sciences | G8: GE - Discovery XR656 | H8: Chest | I8: Bone shadow removal | J8: Rib bones | K8: Retrospective | L8: Reader study and IQ metrics | M8: GAN (paired) | N8: Not reported | O8: Not reported | P8: 1024x1024 | Q8: Not reported | R8: 300 | T8: =IF(COUNTIF(CLAIM_2024!AH8,"Yes")=1,"Yes",IF(COUNTIF(CLAIM_2024!AH8,"No")=1,"No",IF(COUNTIF(CLAIM_2024!AH8,"NA")=1,"NA",""))) -> No | U8: =IF(COUNTIF(CLAIM_2024!F8,"Yes")=1,"Yes",IF(COUNTIF(CLAIM_2024!F8,"No")=1,"No",IF(COUNTIF(CLAIM_2024!F8,"NA")=1,"NA",""))) -> Yes | V8: =IF(COUNTIF(CLAIM_2024!AR8,"Yes")=1,"Yes",IF(COUNTIF(CLAIM_2024!AR8,"No")=1,"No",IF(COUNTIF(CLAIM_2024!AR8,"NA")=1,"NA",""))) -> No | W8: =COUNTIF(CLAIM_2024!B8:AS8,"Yes") -> 18 | X8: =COUNTIF(CLAIM_2024!B8:AS8,"Yes")+COUNTIF(CLAIM_2024!B8:AS8,"No") -> 42 | Y8: =IF(X8=0,"",W8/X8) -> 0.42857143
A9: =ROW()-2 -> 7 | B9: Rani et al. | C9: 2022 | D9: Spatial feature and resolution maximization GAN for bone suppression in chest radiographs | E9: https://doi.org/10.1016/j.cmpb.2022.107024 | F9: Computer Methods and Programs in Biomedicine | G9: Not reported | H9: Chest | I9: Bone shadow removal | J9: Rib bones | K9: Not reported | L9: IQ metrics | M9: GAN (paired) | N9: Not reported | O9: Public | P9: 512x512 | Q9: Not reported | R9: 247 | S9: * JSRT dataset | T9: =IF(COUNTIF(CLAIM_2024!AH9,"Yes")=1,"Yes",IF(COUNTIF(CLAIM_2024!AH9,"No")=1,"No",IF(COUNTIF(CLAIM_2024!AH9,"NA")=1,"NA",""))) -> No | U9: =IF(COUNTIF(CLAIM_2024!F9,"Yes")=1,"Yes",IF(COUNTIF(CLAIM_2024!F9,"No")=1,"No",IF(COUNTIF(CLAIM_2024!F9,"NA")=1,"NA",""))) -> No | V9: =IF(COUNTIF(CLAIM_2024!AR9,"Yes")=1,"Yes",IF(COUNTIF(CLAIM_2024!AR9,"No")=1,"No",IF(COUNTIF(CLAIM_2024!AR9,"NA")=1,"NA",""))) -> No | W9: =COUNTIF(CLAIM_2024!B9:AS9,"Yes") -> 13 | X9: =COUNTIF(CLAIM_2024!B9:AS9,"Yes")+COUNTIF(CLAIM_2024!B9:AS9,"No") -> 42 | Y9: =IF(X9=0,"",W9/X9) -> 0.30952381
A10: =ROW()-2 -> 8 | B10: Liang et al. | C10: 2020 | D10: Bone suppression on chest radiographs with adversarial learning | E10: https://doi.org/10.1117/12.2550868 | F10: Medical Imaging 2020: Computer-Aided Diagnosis | G10: Not reported | H10: Chest | I10: Bone shadow removal | J10: Rib bones | K10: Not reported | L10: IQ metrics | M10: Mixed | N10: Not reported | O10: Partially reported | P10: 512x512 | Q10: Not reported | R10: 6399 | S10: * NIH chest X-ray dataset (ChestXray-14) | T10: =IF(COUNTIF(CLAIM_2024!AH10,"Yes")=1,"Yes",IF(COUNTIF(CLAIM_2024!AH10,"No")=1,"No",IF(COUNTIF(CLAIM_2024!AH10,"NA")=1,"NA",""))) -> Yes | U10: =IF(COUNTIF(CLAIM_2024!F10,"Yes")=1,"Yes",IF(COUNTIF(CLAIM_2024!F10,"No")=1,"No",IF(COUNTIF(CLAIM_2024!F10,"NA")=1,"NA",""))) -> No | V10: =IF(COUNTIF(CLAIM_2024!AR10,"Yes")=1,"Yes",IF(COUNTIF(CLAIM_2024!AR10,"No")=1,"No",IF(COUNTIF(CLAIM_2024!AR10,"NA")=1,"NA",""))) -> No | W10: =COUNTIF(CLAIM_2024!B10:AS10,"Yes") -> 13 | X10: =COUNTIF(CLAIM_2024!B10:AS10,"Yes")+COUNTIF(CLAIM_2024!B10:AS10,"No") -> 42 | Y10: =IF(X10=0,"",W10/X10) -> 0.30952381
A11: =ROW()-2 -> 9 | B11: Li et al. | C11: 2020 | D11: High-resolution chest x-ray bone suppression using unpaired CT structural priors | E11: https://doi.org/10.1109/TMI.2020.2986242 | F11: IEEE transactions on medical imaging | G11: Not reported | H11: Chest | I11: Bone shadow removal | J11: Rib bones | K11: Not reported | L11: Reader study and IQ and Task-based metrics | M11: Mixed | N11: Not reported | O11: Public | P11: 384x384 | Q11: Not reported | R11: 12882 | S11: * Shenzen, ChestX-ray14, and LIDC-IDRI (CT volumes for DRR generation) datasets | T11: =IF(COUNTIF(CLAIM_2024!AH11,"Yes")=1,"Yes",IF(COUNTIF(CLAIM_2024!AH11,"No")=1,"No",IF(COUNTIF(CLAIM_2024!AH11,"NA")=1,"NA",""))) -> No | U11: =IF(COUNTIF(CLAIM_2024!F11,"Yes")=1,"Yes",IF(COUNTIF(CLAIM_2024!F11,"No")=1,"No",IF(COUNTIF(CLAIM_2024!F11,"NA")=1,"NA",""))) -> No | V11: =IF(COUNTIF(CLAIM_2024!AR11,"Yes")=1,"Yes",IF(COUNTIF(CLAIM_2024!AR11,"No")=1,"No",IF(COUNTIF(CLAIM_2024!AR11,"NA")=1,"NA",""))) -> No | W11: =COUNTIF(CLAIM_2024!B11:AS11,"Yes") -> 18 | X11: =COUNTIF(CLAIM_2024!B11:AS11,"Yes")+COUNTIF(CLAIM_2024!B11:AS11,"No") -> 42 | Y11: =IF(X11=0,"",W11/X11) -> 0.42857143
A12: =ROW()-2 -> 10 | B12: Yamazaki et al. | C12: 2025 | D12: Enhancing COVID-19 severity assessment with artificial intelligence-based bone suppression technique in chest radiography | E12: https://dx.doi.org/10.36922/aih.5608 | F12: Artificial Intelligence in Health | G12: GE - Discovery XR656 | H12: Chest | I12: Bone shadow removal | J12: Rib bones | K12: Retrospective | L12: IQ and Task-based metrics | M12: GAN (paired) | N12: Not reported | O12: Public and Private | P12: 1024x1024 | Q12: =136+600 -> 736 | R12: =600+192 -> 792 | S12: * JRSRT | T12: =IF(COUNTIF(CLAIM_2024!AH12,"Yes")=1,"Yes",IF(COUNTIF(CLAIM_2024!AH12,"No")=1,"No",IF(COUNTIF(CLAIM_2024!AH12,"NA")=1,"NA",""))) -> No | U12: =IF(COUNTIF(CLAIM_2024!F12,"Yes")=1,"Yes",IF(COUNTIF(CLAIM_2024!F12,"No")=1,"No",IF(COUNTIF(CLAIM_2024!F12,"NA")=1,"NA",""))) -> Yes | V12: =IF(COUNTIF(CLAIM_2024!AR12,"Yes")=1,"Yes",IF(COUNTIF(CLAIM_2024!AR12,"No")=1,"No",IF(COUNTIF(CLAIM_2024!AR12,"NA")=1,"NA",""))) -> Yes | W12: =COUNTIF(CLAIM_2024!B12:AS12,"Yes") -> 23 | X12: =COUNTIF(CLAIM_2024!B12:AS12,"Yes")+COUNTIF(CLAIM_2024!B12:AS12,"No") -> 42 | Y12: =IF(X12=0,"",W12/X12) -> 0.54761905

Sheet CLAIM_2024
A1: Study_ID | B1: Title/Abstract | C1: Abstract | D1: Introduction | F1: Methods – Study design | H1: Methods – Data | O1: Methods – Reference standard | T1: Methods – Data partitions | V1: Methods – Testing data | W1: Methods – Model | Z1: Methods – Training | AC1: Methods – Evaluation | AJ1: Results | AO1: Discussion | AQ1: Other info
A2: Study_ID | B2: C01 | C2: C02 | D2: C03 | E2: C04 | F2: C05 | G2: C06 | H2: C07 | I2: C08 | J2: C09 | K2: C10 | L2: C11 | M2: C12 | N2: C13 | O2: C14 | P2: C15 | Q2: C16 | R2: C17 | S2: C18 | T2: C19 | U2: C20 | V2: C21 | W2: C22 | X2: C23 | Y2: C24 | Z2: C25 | AA2: C26 | AB2: C27 | AC2: C28 | AD2: C29 | AE2: C30 | AF2: C31 | AG2: C32 | AH2: C33 | AI2: C34 | AJ2: C35 | AK2: C36 | AL2: C37 | AM2: C38 | AN2: C39 | AO2: C40 | AP2: C41 | AQ2: C42 | AR2: C43 | AS2: C44
A3: =ROW()-2 -> 1 | B3: Yes | C3: No | D3: Yes | E3: Yes | F3: Yes | G3: Yes | H3: Yes | I3: Yes | J3: No | K3: No | L3: No | M3: No | N3: Yes | O3: Yes | P3: No | Q3: Yes | R3: No | S3: Yes | T3: Yes | U3: Yes | V3: No | W3: Yes | X3: No | Y3: No | Z3: No | AA3: No | AB3: NA | AC3: Yes | AD3: No | AE3: Yes | AF3: No | AG3: Yes | AH3: No | AI3: NA | AJ3: Yes | AK3: Yes | AL3: No | AM3: No | AN3: No | AO3: Yes | AP3: Yes | AQ3: Yes | AR3: No | AS3: Yes
A4: =ROW()-2 -> 2 | B4: Yes | C4: No | D4: Yes | E4: No | F4: No | G4: Yes | H4: Yes | I4: No | J4: No | K4: No | L4: No | M4: No | N4: No | O4: No | P4: No | Q4: No | R4: No | S4: No | T4: Yes | U4: No | V4: No | W4: Yes | X4: No | Y4: Yes | Z4: No | AA4: No | AB4: NA | AC4: Yes | AD4: No | AE4: Yes | AF4: Yes | AG4: Yes | AH4: No | AI4: NA | AJ4: No | AK4: No | AL4: Yes | AM4: Yes | AN4: No | AO4: Yes | AP4: Yes | AQ4: No | AR4: No | AS4: Yes
A5: =ROW()-2 -> 3 | B5: Yes | C5: No | D5: Yes | E5: No | F5: Yes | G5: Yes | H5: Yes | I5: No | J5: No | K5: No | L5: No | M5: No | N5: No | O5: Yes | P5: No | Q5: Yes | R5: Yes | S5: No | T5: No | U5: No | V5: No | W5: No | X5: Yes | Y5: No | Z5: =$Z$4 -> No | AA5: No | AB5: NA | AC5: Yes | AD5: Yes | AE5: No | AF5: No | AG5: Yes | AH5: No | AI5: NA | AJ5: Yes | AK5: No | AL5: Yes | AM5: No | AN5: Yes | AO5: Yes | AP5: Yes | AQ5: Yes | AR5: Yes | AS5: No
A6: =ROW()-2 -> 4 | B6: Yes | C6: No | D6: Yes | E6: No | F6: No | G6: Yes | H6: Yes | I6: No | J6: No | K6: No | L6: No | M6: Yes | N6: No | O6: No | P6: No | Q6: Yes | R6: No | S6: No | T6: Yes | U6: No | V6: No | W6: Yes | X6: No | Y6: No | Z6: Yes | AA6: No | AB6: NA | AC6: Yes | AD6: No | AE6: No | AF6: No | AG6: Yes | AH6: Yes | AI6: NA | AJ6: No | AK6: No | AL6: No | AM6: No | AN6: Yes | AO6: Yes | AP6: Yes | AQ6: Yes | AR6: Yes | AS6: Yes
A7: =ROW()-2 -> 5 | B7: Yes | C7: No | D7: Yes | E7: No | F7: No | G7: Yes | H7: Yes | I7: No | J7: No | K7: No | L7: No | M7: No | N7: No | O7: No | P7: No | Q7: No | R7: No | S7: No | T7: No | U7: No | V7: No | W7: Yes | X7: No | Y7: No | Z7: Yes | AA7: No | AB7: NA | AC7: Yes | AD7: No | AE7: No | AF7: No | AG7: Yes | AH7: No | AI7: NA | AJ7: No | AK7: No | AL7: Yes | AM7: No | AN7: No | AO7: No | AP7: Yes | AQ7: Yes | AR7: Yes | AS7: Yes
A8: =ROW()-2 -> 6 | B8: Yes | C8: No | D8: Yes | E8: No | F8: Yes | G8: Yes | H8: Yes | I8: No | J8: No | K8: No | L8: No | M8: No | N8: Yes | O8: Yes | P8: No | Q8: Yes | R8: No | S8: No | T8: No | U8: No | V8: No | W8: Yes | X8: Yes | Y8: No | Z8: Yes | AA8: No | AB8: NA | AC8: Yes | AD8: No | AE8: No | AF8: No | AG8: Yes | AH8: No | AI8: NA | AJ8: No | AK8: No | AL8: Yes | AM8: No | AN8: Yes | AO8: Yes | AP8: Yes | AQ8: No | AR8: No | AS8: Yes
A9: =ROW()-2 -> 7 | B9: Yes | C9: No | D9: Yes | E9: No | F9: No | G9: Yes | H9: Yes | I9: No | J9: No | K9: No | L9: No | M9: No | N9: No | O9: No | P9: No | Q9: Yes | R9: No | S9: No | T9: No | U9: No | V9: No | W9: Yes | X9: Yes | Y9: No | Z9: Yes | AA9: No | AB9: NA | AC9: Yes | AD9: No | AE9: Yes | AF9: No | AG9: Yes | AH9: No | AI9: NA | AJ9: No | AK9: No | AL9: Yes | AM9: No | AN9: No | AO9: No | AP9: Yes | AQ9: No | AR9: No | AS9: No
A10: =ROW()-2 -> 8 | B10: Yes | C10: No | D10: Yes | E10: No | F10: No | G10: Yes | H10: Yes | I10: No | J10: No | K10: No | L10: No | M10: No | N10: No | O10: Yes | P10: No | Q10: Yes | R10: No | S10: No | T10: Yes | U10: No | V10: No | W10: No | X10: No | Y10: No | Z10: =$Z$4 -> No | AA10: No | AB10: NA | AC10: No | AD10: No | AE10: No | AF10: No | AG10: Yes | AH10: Yes | AI10: NA | AJ10: No | AK10: No | AL10: Yes | AM10: Yes | AN10: No | AO10: No | AP10: Yes | AQ10: No | AR10: No | AS10: Yes
A11: =ROW()-2 -> 9 | B11: Yes | C11: No | D11: Yes | E11: No | F11: No | G11: Yes | H11: Yes | I11: No | J11: No | K11: No | L11: No | M11: No | N11: No | O11: Yes | P11: No | Q11: Yes | R11: Yes | S11: No | T11: Yes | U11: No | V11: No | W11: Yes | X11: No | Y11: No | Z11: Yes | AA11: No | AB11: NA | AC11: Yes | AD11: No | AE11: Yes | AF11: No | AG11: Yes | AH11: No | AI11: NA | AJ11: Yes | AK11: No | AL11: No | AM11: No | AN11: No | AO11: Yes | AP11: Yes | AQ11: Yes | AR11: No | AS11: Yes
A12: =ROW()-2 -> 10 | B12: Yes | C12: No | D12: Yes | E12: Yes | F12: Yes | G12: Yes | H12: Yes | I12: No | J12: No | K12: No | L12: No | M12: No | N12: Yes | O12: Yes | P12: No | Q12: Yes | R12: No | S12: No | T12: Yes | U12: Yes | V12: No | W12: Yes | X12: Yes | Y12: No | Z12: Yes | AA12: No | AB12: NA | AC12: No | AD12: Yes | AE12: No | AF12: Yes | AG12: Yes | AH12: No | AI12: NA | AJ12: No | AK12: No | AL12: No | AM12: Yes | AN12: Yes | AO12: Yes | AP12: Yes | AQ12: No | AR12: Yes | AS12: Yes

Sheet Codebook
A1: Framework | B1: Item_Code | C1: Section/Principle | D1: Item_Text | E1: Source_URL
A2: CLAIM_2024 | B2: C01 | C2: CLAIM | D2: Identification as a study of AI methodology, specifying the category of technology used (eg, deep learning). | E2: https://pmc.ncbi.nlm.nih.gov/articles/PMC11304031/
A3: CLAIM_2024 | B3: C02 | C3: CLAIM | D3: Summary of study design, methods, results, and conclusions.
A4: CLAIM_2024 | B4: C03 | C4: CLAIM | D4: Scientific and/or clinical background, including the intended use and role of the AI approach.
A5: CLAIM_2024 | B5: C04 | C5: CLAIM | D5: Study aims, objectives, and hypotheses (if not a data-driven approach).
A6: CLAIM_2024 | B6: C05 | C6: CLAIM | D6: Prospective or retrospective study.
A7: CLAIM_2024 | B7: C06 | C7: CLAIM | D7: Study goal.
A8: CLAIM_2024 | B8: C07 | C8: CLAIM | D8: Data sources.
A9: CLAIM_2024 | B9: C08 | C9: CLAIM | D9: Inclusion and exclusion criteria.
A10: CLAIM_2024 | B10: C09 | C10: CLAIM | D10: Data preprocessing.
A11: CLAIM_2024 | B11: C10 | C11: CLAIM | D11: Selection of data subsets.
A12: CLAIM_2024 | B12: C11 | C12: CLAIM | D12: De-identification.
A13: CLAIM_2024 | B13: C12 | C13: CLAIM | D13: Missing data.
A14: CLAIM_2024 | B14: C13 | C14: CLAIM | D14: Image acquisition protocol.
... A45: CLAIM_2024 | B45: C44 | C45: CLAIM | D45: Sources of funding and other support; role of funders.

Sheet README
A1: AI Paper Data Extraction Workbook (CLAIM 2024 + FUTURE-AI 2025)
A3: How to use
A4: 1) Add paper details on the 'Studies' sheet (one row per study).
A5: 2) Fill CLAIM items on 'CLAIM_2024' for the same Study_ID row.
A6: 3) Scores and percentages update automatically on 'Studies'.
A8: Dropdowns
A9: Checklist cells accept Yes / No / NA. Leave blank if unknown.
A11: Scoring
A12: Applicable = count of Yes + No (NA excluded). Percentage = Yes / Applicable.
A14: Sources
A15: CLAIM 2024 Update (PMC): https://pmc.ncbi.nlm.nih.gov/articles/PMC11304031/

Sheet Lists
A1: Checklist items | B1: Study design | C1: Model architectures | D1: Code availability | E1: Data availability
A2: Yes | B2: Prospective | C2: GAN (paired) | D2: Not reported | E2: Public
A3: No | B3: Retrospective | C3: GAN (unpaired) | D3: Freely downloadable | E3: Private
A4: NA | B4: Not reported | C4: Diffusion model | D4: Private | E4: Mixed
C5: CNN-based | D5: Upon request | E5: Not reported
C6: Mixed | E6: Partially reported
A7: Use these lists for dropdowns. | E7: Upon request
E8: Public and Private
