Workbook

Sheet EVALIDATOR DATA
A1: Online Resource 2 - Evalidator raw data tables and analysis worksheets
A3: Maine
A5: 1. Annual removals 1"+ by dry weight (short tons) | G5: 2. Annual harvest removals 1"+ by dry weight (short ton) | M5: 3. Average annual harvest removals 5"+ dbh sound bole volume cu ft. | S5: 4. Average annual harvest removals of sawlog biomass of sawtimber trees (dry short tons) | Y5: 5. Average annual mortality 1"+ by dry weight (short tons) | AE5: 6. Annual gross growth 1"+ dbh by dry weight (short tons) | AK5: 7. Area (acres)
A7: OWNERSHIP ALL CLASSES | B7: ECOREGION SECTION | C7: ESTIMATE | D7: SE PERCENT | E7: PLOT COUNT | G7: OWNERSHIP ALL CLASSES | H7: ECOREGION SECTION | I7: ESTIMATE | J7: SE PERCENT | K7: PLOT COUNT | M7: OWNERSHIP ALL CLASSES | N7: ECOREGION SECTION | O7: ESTIMATE | P7: SE PERCENT | Q7: PLOT COUNT | S7: OWNERSHIP ALL CLASSES | T7: ECOREGION SECTION | U7: ESTIMATE | V7: SE PERCENT | W7: PLOT COUNT | Y7: OWNERSHIP ALL CLASSES | Z7: ECOREGION SECTION | AA7: ESTIMATE | AB7: SE PERCENT | AC7: PLOT COUNT | AE7: OWNERSHIP ALL CLASSES | AF7: ECOREGION SECTION | AG7: ESTIMATE | AH7: SE PERCENT | AI7: PLOT COUNT | AK7: OWNERSHIP ALL CLASSES | AL7: ECOREGION SECTION | AM7: ESTIMATE | AN7: SE PERCENT | AO7: PLOT COUNT
A8: Total | B8: Total | C8: 11144856 | D8: 6.032 | E8: 480 | G8: Total | H8: Total | I8: 10707287 | J8: 6.113 | K8: 474 | L8: % | M8: Total | N8: Total | O8: 499628355 | P8: 6.091 | Q8: 444 | S8: Total | T8: Total | U8: 3534940 | V8: 7.165 | W8: 347 | Y8: Total | Z8: Total | AA8: 8276270 | AB8: 2.335 | AC8: 2668 | AE8: Total | AF8: Total | AG8: 23200948 | AH8: 0.898 | AI8: 3115 | AK8: Total | AL8: Total | AM8: 17518847 | AN8: 0.395 | AO8: 3143
A9: National Forest | B9: Total | C9: 959 | D9: 100 | E9: 1 | G9: National Forest | H9: Total | I9: 959 | J9: 100 | K9: 1 | L9: =I9/I$8 -> 8.9565172e-05 | M9: State | N9: Total | O9: 12510266 | P9: 37.857 | Q9: 10 | S9: State | T9: Total | U9: 115759 | V9: 41.991 | W9: 9 | Y9: National Forest | Z9: Total | AA9: 20056 | AB9: 17.399 | AC9: 26 | AE9: National Forest | AF9: Total | AG9: 65262 | AH9: 13.245 | AI9: 29 | AK9: National Forest | AL9: Total | AM9: 55582 | AN9: 5.29 | AO9: 30
A10: Dept of Defense | B10: Total | C10: 121 | D10: 107.58 | E10: 1 | G10: Dept of Defense | H10: Total | I10: 121 | J10: 107.58 | K10: 1 | L10: =I10/I$8 -> 1.1300715e-05 | M10: County and Municipal | N10: Total | O10: 4538095 | P10: 58.868 | Q10: 4 | S10: County and Municipal | T10: Total | U10: 45644 | V10: 57.381 | W10: 4 | Y10: National Park Service | Z10: Total | AA10: 54190 | AB10: 36.254 | AC10: 16 | AE10: National Park Service | AF10: Total | AG10: 118672 | AH10: 27.156 | AI10: 17 | AK10: National Park Service | AL10: Total | AM10: 100728 | AN10: 22.079 | AO10: 18
A11: State | B11: Total | C11: 238758 | D11: 35.96 | E11: 10 | G11: State | H11: Total | I11: 238758 | J11: 35.96 | K11: 10 | L11: =I11/I$8 -> 0.022298646 | M11: Private | N11: Total | O11: 473491915 | P11: 6.264 | Q11: 417 | S11: Private | T11: Total | U11: 3329225 | V11: 7.409 | W11: 326 | Y11: Fish and Wildlife Service | Z11: Total | AA11: 44428 | AB11: 43.655 | AC11: 10 | AE11: Fish and Wildlife Service | AF11: Total | AG11: 78751 | AH11: 34.381 | AI11: 11 | AK11: Fish and Wildlife Service | AL11: Total | AM11: 59384 | AN11: 30.41 | AO11: 11
A12: County and Municipal | B12: Total | C12: 91450 | D12: 61.358 | E12: 4 | G12: County and Municipal | H12: Total | I12: 91450 | J12: 61.358 | K12: 4 | L12: =I12/I$8 -> 0.0085409124 | M12: Other | N12: Total | O12: 9088079 | P12: 42.575 | Q12: 19 | S12: Other | T12: Total | U12: 44312 | V12: 50.226 | W12: 8 | Y12: Dept of Defense | Z12: Total | AA12: 1462 | AB12: 78.748 | AC12: 2 | AE12: Dept of Defense | AF12: Total | AG12: 8723 | AH12: 76.096 | AI12: 2 | AK12: Dept of Defense | AL12: Total | AM12: 9358 | AN12: 75.866 | AO12: 2
A13: Private | B13: Total | C13: 10197662 | D13: 6.3 | E13: 441 | G13: Private | H13: Total | I13: 10197662 | J13: 6.3 | K13: 441 | L13: =I13/I$8 -> 0.95240391 | M13: Total | N13: 211A | O13: 60998169 | P13: 17.062 | Q13: 56 | S13: Total | T13: 211A | U13: 384988 | V13: 20.088 | W13: 44 | Y13: Other federal | Z13: Total | AA13: 5600 | AB13: 58.396 | AC13: 5 | AE13: Other federal | AF13: Total | AG13: 27674 | AH13: 47.336 | AI13: 5 | AK13: Other federal | AL13: Total | AM13: 23629 | AN13: 44.539 | AO13: 5
A14: Other | B14: Total | C14: 615906 | D14: 28.019 | E14: 29 | G14: Other | H14: Total | I14: 178337 | J14: 37.7 | K14: 23 | L14: =I14/I$8 -> 0.016655666 | M14: Total | N14: 211B | O14: 73862380 | P14: 14.516 | Q14: 74 | S14: Total | T14: 211B | U14: 464270 | V14: 17.166 | W14: 59 | Y14: State | Z14: Total | AA14: 581652 | AB14: 11.048 | AC14: 152 | AE14: State | AF14: Total | AG14: 1200552 | AH14: 5.963 | AI14: 166 | AK14: State | AL14: Total | AM14: 986212 | AN14: 3.966 | AO14: 167
A15: Total | B15: 211A | C15: 1230457 | D15: 16.777 | E15: 61 | G15: Total | H15: 211A | I15: 1230457 | J15: 16.777 | K15: 61 | M15: Total | N15: 211C | O15: 18768107 | P15: 35.203 | Q15: 16 | S15: Total | T15: 211C | U15: 155355 | V15: 39.168 | W15: 10 | Y15: County and Municipal | Z15: Total | AA15: 96600 | AB15: 24.208 | AC15: 34 | AE15: County and Municipal | AF15: Total | AG15: 290185 | AH15: 17.913 | AI15: 41 | AK15: County and Municipal | AL15: Total | AM15: 211945 | AN15: 16.176 | AO15: 41
A16: Total | B16: 211B | C16: 1539308 | D16: 14.251 | E16: 80 | G16: Total | H16: 211B | I16: 1532454 | J16: 14.292 | K16: 80 | M16: Total | N16: 211D | O16: 67669955 | P16: 16.186 | Q16: 72 | S16: Total | T16: 211D | U16: 458915 | V16: 19.417 | W16: 49 | Y16: Private | Z16: Total | AA16: 7466455 | AB16: 2.447 | AC16: 2428 | AE16: Private | AF16: Total | AG16: 21378292 | AH16: 0.967 | AI16: 2860 | AK16: Private | AL16: Total | AM16: 16072009 | AN16: 0.496 | AO16: 2891
A17: Total | B17: 211C | C17: 376662 | D17: 31.249 | E17: 19 | G17: Total | H17: 211C | I17: 351198 | J17: 33.005 | K17: 18 | M17: Total | N17: 221A | O17: 35036267 | P17: 24.469 | Q17: 36 | S17: Total | T17: 221A | U17: 315629 | V17: 26.605 | W17: 25 | Y17: Other | Z17: Total | AA17: 5825 | AB17: 58.84 | AC17: 4 | AE17: Other | AF17: Total | AG17: 32837 | AH17: 30.317 | AI17: 31 | AK17: Total | AL17: 211A | AM17: 2010237 | AN17: 4.276 | AO17: 362
A18: Total | B18: 211D | C18: 1648099 | D18: 14.775 | E18: 81 | G18: Total | H18: 211D | I18: 1418644 | J18: 15.603 | K18: 77 | M18: Total | N18: M211A | O18: 243293479 | P18: 9.161 | Q18: 190 | S18: Total | T18: M211A | U18: 1755783 | V18: 10.605 | W18: 160 | Y18: Total | Z18: 211A | AA18: 839621 | AB18: 7.631 | AC18: 302 | AE18: Total | AF18: 211A | AG18: 2593876 | AH18: 4.97 | AI18: 357 | AK18: Total | AL18: 211B | AM18: 2906480 | AN18: 3.654 | AO18: 513
A19: Total | B19: 221A | C19: 930526 | D19: 23.243 | E19: 40 | G19: Total | H19: 221A | I19: 775818 | J19: 23.725 | K19: 40 | M19: State | N19: 211A | O19: 717151 | P19: 110.345 | Q19: 1 | S19: State | T19: 211A | U19: 4633 | V19: 110.345 | W19: 1 | Y19: Total | Z19: 211B | AA19: 1363761 | AB19: 7.495 | AC19: 444 | AE19: Total | AF19: 211B | AG19: 3773602 | AH19: 4.251 | AI19: 508 | AK19: Total | AL19: 211C | AM19: 1382876 | AN19: 4.37 | AO19: 248
A20: Total | B20: M211A | C20: 5419804 | D20: 9.323 | E20: 199 | G20: Total | H20: M211A | I20: 5398716 | J20: 9.357 | K20: 198 | M20: State | N20: 211B | O20: 2650327 | P20: 76.869 | Q20: 2 | S20: State | T20: 211B | U20: 23509 | V20: 95.622 | W20: 2 | Y20: Total | Z20: 211C | AA20: 679064 | AB20: 8.621 | AC20: 209 | AE20: Total | AF20: 211C | AG20: 1648611 | AH20: 5.186 | AI20: 249 | AK20: Total | AL20: 211D | AM20: 2664036 | AN20: 3.208 | AO20: 506
A21: National Forest | B21: M211A | C21: 959 | D21: 100 | E21: 1 | G21: National Forest | H21: M211A | I21: 959 | J21: 100 | K21: 1 | M21: State | N21: 211D | O21: 2193937 | P21: 91.276 | Q21: 1 | S21: State | T21: 211D | U21: 25480 | V21: 91.276 | W21: 1 | Y21: Total | Z21: 211D | AA21: 1515676 | AB21: 6.037 | AC21: 431 | AE21: Total | AF21: 211D | AG21: 3817130 | AH21: 3.672 | AI21: 499 | AK21: Total | AL21: 221A | AM21: 1027069 | AN21: 5.503 | AO21: 201
A22: Dept of Defense | B22: 211C | C22: 121 | D22: 107.58 | E22: 1 | G22: Dept of Defense | H22: 211C | I22: 121 | J22: 107.58 | K22: 1 | M22: State | N22: M211A | O22: 6948851 | P22: 54.24 | Q22: 6 | S22: State | T22: M211A | U22: 62137 | V22: 59.214 | W22: 5 | Y22: Total | Z22: 221A | AA22: 403831 | AB22: 11.951 | AC22: 152 | AE22: Total | AF22: 221A | AG22: 1499833 | AH22: 6.184 | AI22: 196 | AK22: Total | AL22: M211A | AM22: 7528149 | AN22: 1.516 | AO22: 1313
A23: State | B23: 211A | C23: 11225 | D23: 110.345 | E23: 1 | G23: State | H23: 211A | I23: 11225 | J23: 110.345 | K23: 1 | M23: County and Municipal | N23: 211B | O23: 1727049 | P23: 78.265 | Q23: 2 | S23: County and Municipal | T23: 211B | U23: 20401 | V23: 78.402 | W23: 2 | Y23: Total | Z23: M211A | AA23: 3474317 | AB23: 3.873 | AC23: 1130 | AE23: Total | AF23: M211A | AG23: 9867896 | AH23: 2.018 | AI23: 1306 | AK23: National Forest | AL23: 221A | AM23: 5374 | AN23: 56.067 | AO23: 3
A24: State | B24: 211B | C24: 58238 | D24: 74.998 | E24: 2 | G24: State | H24: 211B | I24: 58238 | J24: 74.998 | K24: 2 | M24: County and Municipal | N24: 211D | O24: 2811046 | P24: 81.973 | Q24: 2 | S24: County and Municipal | T24: 211D | U24: 25243 | V24: 82.16 | W24: 2 | Y24: National Forest | Z24: 221A | AA24: 1073 | AB24: 70.457 | AC24: 2 | AE24: National Forest | AF24: 221A | AG24: 2915 | AH24: 69.389 | AI24: 2 | AK24: National Forest | AL24: M211A | AM24: 50208 | AN24: 8.469 | AO24: 27
A25: State | B25: 211D | C25: 34090 | D25: 91.276 | E25: 1 | G25: State | H25: 211D | I25: 34090 | J25: 91.276 | K25: 1 | M25: Private | N25: 211A | O25: 60281017 | P25: 17.215 | Q25: 55 | S25: Private | T25: 211A | U25: 380355 | V25: 20.288 | W25: 43 | Y25: National Forest | Z25: M211A | AA25: 18983 | AB25: 19.098 | AC25: 24 | AE25: National Forest | AF25: M211A | AG25: 62347 | AH25: 14.71 | AI25: 27 | AK25: National Park Service | AL25: 211A | AM25: 11999 | AN25: 69.94 | AO25: 2
A26: State | B26: M211A | C26: 135205 | D26: 49.675 | E26: 6 | G26: State | H26: M211A | I26: 135205 | J26: 49.675 | K26: 6 | M26: Private | N26: 211B | O26: 69109703 | P26: 15.105 | Q26: 69 | S26: Private | T26: 211B | U26: 415747 | V26: 17.965 | W26: 54 | Y26: National Park Service | Z26: 211A | AA26: 10764 | AB26: 108.379 | AC26: 2 | AE26: National Park Service | AF26: 211A | AG26: 27279 | AH26: 70.333 | AI26: 2 | AK26: National Park Service | AL26: 211B | AM26: 4726 | AN26: 111.349 | AO26: 1
... A34: Private | B34: M211A | C34: 5226930 | D34: 9.553 | E34: 189 | G34: Private | H34: M211A | I34: 5226930 | J34: 9.553 | K34: 189 | M34: Other | N34: 221A | O34: 564468 | P34: 63.014 | Q34: 4 | S34: Other | T34: M211A | U34: 4266 | V34: 82.04 | W34: 2 | Y34: Fish and Wildlife Service | Z34: M211A | AA34: 1155 | AB34: 100 | AC34: 1 | AE34: Fish and Wildlife Service | AF34: M211A | AG34: 7891 | AH34: 100 | AI34: 1 | AK34: Dept of Defense | AL34: 211C | AM34: 9358 | AN34: 75.866 | AO34: 2
A35: Other | B35: 211A | C35: 1212 | D35: 102.364 | E35: 1 | G35: Other | H35: 211A | I35: 1212 | J35: 102.364 | K35: 1 | M35: Other | N35: M211A | O35: 1244512 | P35: 75.534 | Q35: 3 | Y35: Dept of Defense | Z35: 211C | AA35: 1462 | AB35: 78.748 | AC35: 2 | AE35: Dept of Defense | AF35: 211C | AG35: 8723 | AH35: 76.096 | AI35: 2 | AK35: Other federal | AL35: 211A | AM35: 4726 | AN35: 111.349 | AO35: 1
A36: Other | B36: 211B | C36: 15111 | D36: 105.056 | E36: 1 | G36: Other | H36: 211B | I36: 8257 | J36: 105.056 | K36: 1 | Y36: Other federal | Z36: 211A | AA36: 1173 | AB36: 110.345 | AC36: 1 | AE36: Other federal | AF36: 211A | AG36: 2356 | AH36: 110.345 | AI36: 1 | AK36: Other federal | AL36: M211A | AM36: 18903 | AN36: 51.329 | AO36: 4
A37: Other | B37: 211C | C37: 27544 | D37: 74.698 | E37: 2 | G37: Other | H37: 211C | I37: 2080 | J37: 109.342 | K37: 1 | Y37: Other federal | Z37: M211A | AA37: 4428 | AB37: 70.292 | AC37: 4 | AE37: Other federal | AF37: M211A | AG37: 25318 | AH37: 51.873 | AI37: 4 | AK37: State | AL37: 211A | AM37: 92951 | AN37: 20.086 | AO37: 17
A38: Other | B38: 211D | C38: 348808 | D38: 35.142 | E38: 15 | G38: Other | H38: 211D | I38: 119353 | J38: 51.472 | K38: 11 | Y38: State | Z38: 211A | AA38: 36170 | AB38: 26.049 | AC38: 15 | AE38: State | AF38: 211A | AG38: 104748 | AH38: 22.098 | AI38: 17 | AK38: State | AL38: 211B | AM38: 96204 | AN38: 23.364 | AO38: 16
A39: Other | B39: 221A | C39: 166521 | D39: 68.459 | E39: 5 | G39: Other | H39: 221A | I39: 11813 | J39: 56.131 | K39: 5 | Y39: State | Z39: 211B | AA39: 65133 | AB39: 40.201 | AC39: 15 | AE39: State | AF39: 211B | AG39: 107711 | AH39: 28.71 | AI39: 15 | AK39: State | AL39: 211C | AM39: 72223 | AN39: 23.855 | AO39: 11
A40: Other | B40: M211A | C40: 56709 | D40: 58.522 | E40: 5 | G40: Other | H40: M211A | I40: 35621 | J40: 70.337 | K40: 4 | Y40: State | Z40: 211C | AA40: 36684 | AB40: 39.792 | AC40: 9 | AE40: State | AF40: 211C | AG40: 84847 | AH40: 28.253 | AI40: 11 | AK40: State | AL40: 211D | AM40: 58528 | AN40: 30.644 | AO40: 10
Y41: State | Z41: 211D | AA41: 36617 | AB41: 48.317 | AC41: 9 | AE41: State | AF41: 211D | AG41: 83064 | AH41: 35.889 | AI41: 10 | AK41: State | AL41: 221A | AM41: 13880 | AN41: 63.027 | AO41: 3
Y42: State | Z42: 221A | AA42: 4598 | AB42: 93.222 | AC42: 3 | AE42: State | AF42: 221A | AG42: 21349 | AH42: 64.057 | AI42: 3 | AK42: State | AL42: M211A | AM42: 652426 | AN42: 4.769 | AO42: 110
Y43: State | Z43: M211A | AA43: 402449 | AB43: 13.79 | AC43: 101 | AE43: State | AF43: M211A | AG43: 798834 | AH43: 7.299 | AI43: 110 | AK43: County and Municipal | AL43: 211A | AM43: 50466 | AN43: 33.342 | AO43: 10
Y44: County and Municipal | Z44: 211B | AA44: 22299 | AB44: 65.494 | AC44: 5 | AE44: County and Municipal | AF44: 211A | AG44: 65027 | AH44: 35.744 | AI44: 10 | AK44: County and Municipal | AL44: 211C | AM44: 6920 | AN44: 94.914 | AO44: 1
Y45: County and Municipal | Z45: 211C | AA45: 6324 | AB45: 95.1 | AC45: 1 | AE45: County and Municipal | AF45: 211B | AG45: 44655 | AH45: 48.456 | AI45: 6 | AK45: County and Municipal | AL45: 211D | AM45: 63187 | AN45: 29.119 | AO45: 13
Y46: County and Municipal | Z46: 211D | AA46: 31731 | AB46: 39.928 | AC46: 11 | AE46: County and Municipal | AF46: 211C | AG46: -1090 | AH46: 95.1 | AI46: 1 | AK46: County and Municipal | AL46: 221A | AM46: 37843 | AN46: 38.095 | AO46: 7
Y47: County and Municipal | Z47: 221A | AA47: 15971 | AB47: 51.867 | AC47: 5 | AE47: County and Municipal | AF47: 211D | AG47: 101363 | AH47: 31.413 | AI47: 13 | AK47: County and Municipal | AL47: M211A | AM47: 19968 | AN47: 53.51 | AO47: 4
Y48: County and Municipal | Z48: M211A | AA48: 7548 | AB48: 78.859 | AC48: 3 | AE48: County and Municipal | AF48: 221A | AG48: 57168 | AH48: 40.273 | AI48: 7 | AK48: Private | AL48: 211A | AM48: 1839173 | AN48: 4.53 | AO48: 334
Y49: Private | Z49: 211A | AA49: 756458 | AB49: 7.997 | AC49: 274 | AE49: County and Municipal | AF49: M211A | AG49: 23061 | AH49: 57.549 | AI49: 4 | AK49: Private | AL49: 211B | AM49: 2771988 | AN49: 3.721 | AO49: 491
Y50: Private | Z50: 211B | AA50: 1275796 | AB50: 7.67 | AC50: 423 | AE50: Private | AF50: 211A | AG50: 2378402 | AH50: 5.247 | AI50: 328 | AK50: Private | AL50: 211C | AM50: 1235959 | AN50: 4.674 | AO50: 225
...

Sheet EV SUMMARY
A1: Summary Table
A3: Maine
A5: 1. Annual removals 1"+ by dry weight (short tons) | F5: 5. Average annual mortality 1"+ by dry weight (short tons) | K5: 6. Annual gross growth 1"+ dbh by dry weight (short tons)
A7: OWNERSHIP ALL CLASSES | B7: ECOREGION SECTION | C7: ESTIMATE | D7: SE PERCENT | E7: PLOT COUNT | F7: OWNERSHIP ALL CLASSES | G7: ECOREGION SECTION | H7: ESTIMATE | I7: SE PERCENT | J7: PLOT COUNT | K7: OWNERSHIP ALL CLASSES | L7: ECOREGION SECTION | M7: ESTIMATE | N7: SE PERCENT | O7: PLOT COUNT
A8: Total | B8: Total | C8: 11144856 | D8: 6.032 | E8: 480 | F8: Total | G8: Total | H8: 8276270 | I8: 2.335 | J8: 2668 | K8: Total | L8: Total | M8: 23200948 | N8: 0.898 | O8: 3115
A9: National Forest | B9: Total | C9: 959 | D9: 100 | E9: 1 | F9: National Forest | G9: Total | H9: 20056 | I9: 17.399 | J9: 26 | K9: National Forest | L9: Total | M9: 65262 | N9: 13.245 | O9: 29
A10: Dept of Defense | B10: Total | C10: 121 | D10: 107.58 | E10: 1 | F10: National Park Service | G10: Total | H10: 54190 | I10: 36.254 | J10: 16 | K10: National Park Service | L10: Total | M10: 118672 | N10: 27.156 | O10: 17
A11: State | B11: Total | C11: 238758 | D11: 35.96 | E11: 10 | F11: Fish and Wildlife Service | G11: Total | H11: 44428 | I11: 43.655 | J11: 10 | K11: Fish and Wildlife Service | L11: Total | M11: 78751 | N11: 34.381 | O11: 11
A12: County and Municipal | B12: Total | C12: 91450 | D12: 61.358 | E12: 4 | F12: Dept of Defense | G12: Total | H12: 1462 | I12: 78.748 | J12: 2 | K12: Dept of Defense | L12: Total | M12: 8723 | N12: 76.096 | O12: 2
A13: Private | B13: Total | C13: 10197662 | D13: 6.3 | E13: 441 | F13: Other federal | G13: Total | H13: 5600 | I13: 58.396 | J13: 5 | K13: Other federal | L13: Total | M13: 27674 | N13: 47.336 | O13: 5
A14: Other | B14: Total | C14: 615906 | D14: 28.019 | E14: 29 | F14: State | G14: Total | H14: 581652 | I14: 11.048 | J14: 152 | K14: State | L14: Total | M14: 1200552 | N14: 5.963 | O14: 166
A15: Total | B15: 211A | C15: 1230457 | D15: 16.777 | E15: 61 | F15: County and Municipal | G15: Total | H15: 96600 | I15: 24.208 | J15: 34 | K15: County and Municipal | L15: Total | M15: 290185 | N15: 17.913 | O15: 41
A16: Total | B16: 211B | C16: 1539308 | D16: 14.251 | E16: 80 | F16: Private | G16: Total | H16: 7466455 | I16: 2.447 | J16: 2428 | K16: Private | L16: Total | M16: 21378292 | N16: 0.967 | O16: 2860
A17: Total | B17: 211C | C17: 376662 | D17: 31.249 | E17: 19 | F17: Other | G17: Total | H17: 5825 | I17: 58.84 | J17: 4 | K17: Other | L17: Total | M17: 32837 | N17: 30.317 | O17: 31
A18: Total | B18: 211D | C18: 1648099 | D18: 14.775 | E18: 81 | F18: Total | G18: 211A | H18: 839621 | I18: 7.631 | J18: 302 | K18: Total | L18: 211A | M18: 2593876 | N18: 4.97 | O18: 357
A19: Total | B19: 221A | C19: 930526 | D19: 23.243 | E19: 40 | F19: Total | G19: 211B | H19: 1363761 | I19: 7.495 | J19: 444 | K19: Total | L19: 211B | M19: 3773602 | N19: 4.251 | O19: 508
A20: Total | B20: M211A | C20: 5419804 | D20: 9.323 | E20: 199 | F20: Total | G20: 211C | H20: 679064 | I20: 8.621 | J20: 209 | K20: Total | L20: 211C | M20: 1648611 | N20: 5.186 | O20: 249
F21: Total | G21: 211D | H21: 1515676 | I21: 6.037 | J21: 431 | K21: Total | L21: 211D | M21: 3817130 | N21: 3.672 | O21: 499
F22: Total | G22: 221A | H22: 403831 | I22: 11.951 | J22: 152 | K22: Total | L22: 221A | M22: 1499833 | N22: 6.184 | O22: 196
F23: Total | G23: M211A | H23: 3474317 | I23: 3.873 | J23: 1130 | K23: Total | L23: M211A | M23: 9867896 | N23: 2.018 | O23: 1306
A25: North Carolina
A27: 1. Annual removals 1"+ by dry weight (short tons) | F27: 5. Average annual mortality 1"+ by dry weight (short tons) | K27: 6. Annual gross growth 1"+ dbh by dry weight (short tons)
A29: OWNERSHIP ALL CLASSES | B29: ECOREGION SECTION | C29: ESTIMATE | D29: SE PERCENT | E29: PLOT COUNT | F29: OWNERSHIP ALL CLASSES | G29: ECOREGION SECTION | H29: ESTIMATE | I29: SE PERCENT | J29: PLOT COUNT | K29: OWNERSHIP ALL CLASSES | L29: ECOREGION SECTION | M29: ESTIMATE | N29: SE PERCENT | O29: PLOT COUNT
A30: Total | B30: Total | C30: 23173239 | D30: 4.569 | E30: 855 | F30: Total | G30: Total | H30: 12335714 | I30: 2.575 | J30: 2687 | K30: Total | L30: Total | M30: 48991499 | N30: 1.247 | O30: 3632
A31: National Forest | B31: Total | C31: 108587 | D31: 57.887 | E31: 6 | F31: National Forest | G31: Total | H31: 874920 | I31: 9.358 | J31: 193 | K31: National Forest | L31: Total | M31: 2130021 | N31: 4.486 | O31: 223
A32: Dept of Defense | B32: Total | C32: 57837 | D32: 53.026 | E32: 7 | F32: National Park Service | G32: Total | H32: 204835 | I32: 17.442 | J32: 39 | K32: National Park Service | L32: Total | M32: 438329 | N32: 8.721 | O32: 50
A33: State | B33: Total | C33: 446496 | D33: 32.417 | E33: 17 | F33: Fish and Wildlife Service | G33: Total | H33: 246459 | I33: 26.587 | J33: 38 | K33: Fish and Wildlife Service | L33: Total | M33: 316079 | N33: 19.043 | O33: 40
A34: County and Municipal | B34: Total | C34: 54444 | D34: 72.949 | E34: 6 | F34: Dept of Defense | G34: Total | H34: 264971 | I34: 31.545 | J34: 35 | K34: Dept of Defense | L34: Total | M34: 496904 | N34: 18.277 | O34: 53
A35: Private | B35: Total | C35: 20010793 | D35: 5.058 | E35: 702 | F35: Other federal | G35: Total | H35: 15955 | I35: 99.64 | J35: 1 | K35: Other federal | L35: Total | M35: 24353 | N35: 71.082 | O35: 2
A36: Other | B36: Total | C36: 2495081 | D36: 12.35 | E36: 162 | F36: State | G36: Total | H36: 698021 | I36: 14.006 | J36: 126 | K36: State | L36: Total | M36: 1903209 | N36: 9.903 | O36: 167
A37: Total | B37: 231A | C37: 310097 | D37: 37.197 | E37: 11 | F37: County and Municipal | G37: Total | H37: 227979 | I37: 24.721 | J37: 47 | K37: County and Municipal | L37: Total | M37: 806953 | N37: 15.72 | O37: 61
A38: Total | B38: 231I | C38: 7604562 | D38: 8.232 | E38: 317 | F38: Private | G38: Total | H38: 9727514 | I38: 2.846 | J38: 2209 | K38: Private | L38: Total | M38: 42622042 | N38: 1.476 | O38: 3015
A39: Total | B39: 232C | C39: 3085389 | D39: 12.407 | E39: 117 | F39: Other | G39: Total | H39: 75058 | I39: 35.519 | J39: 21 | K39: Other | L39: Total | M39: 253609 | N39: 14.049 | O39: 173
A40: Total | B40: 232H | C40: 4099424 | D40: 11.724 | E40: 123 | F40: Total | G40: 231A | H40: 77461 | I40: 47.986 | J40: 14 | K40: Total | L40: 231A | M40: 299861 | N40: 24.707 | O40: 21
A41: Total | B41: 232I | C41: 4546518 | D41: 11.253 | E41: 137 | F41: Total | G41: 231I | H41: 4061155 | I41: 4.56 | J41: 933 | K41: Total | L41: 231I | M41: 17901513 | N41: 2.549 | O41: 1241
... A43: Total | B43: M221D | C43: 1657261 | D43: 18.102 | E43: 73 | F43: Total | G43: 232H | H43: 1447850 | I43: 8.423 | J43: 307 | K43: Total | L43: 232H | M43: 6603801 | N43: 5.312 | O43: 435
F44: Total | G44: 232I | H44: 2265912 | I44: 7.346 | J44: 406 | K44: Total | L44: 232I | M44: 8369291 | N44: 4.197 | O44: 571
F45: Total | G45: 232J | H45: 789023 | I45: 11.329 | J45: 182 | K45: Total | L45: 232J | M45: 3464732 | N45: 7.144 | O45: 269
F46: Total | G46: M221D | H46: 2707125 | I46: 5.567 | J46: 568 | K46: Total | L46: M221D | M46: 6983712 | N46: 2.778 | O46: 685
A48: Oregon
...

Sheet Analysis
A1: FCTR 2023
A2: Analysis and display tables
A4: 1. CO2-e removals from forestlands (REM)
B6: REM (short tons) | C6: REM (CO2-e)
A7: Oregon | B7: 23033218 | C7: =B7*0.5*0.907185*3.67 -> 38343040
A8: Washington | B8: 19934521 | C8: =B8*0.5*0.907185*3.67 -> 33184688
A9: Maine | B9: 11144856 | C9: =B9*0.5*0.907185*3.67 -> 18552669
A10: North Carolina | B10: 23173239 | C10: =B10*0.5*0.907185*3.67 -> 38576131
A12: 2. Long term HWP storage (STOR)
A14: Product shares | J14: EF-LL | L14: EF-SL
B15: SW share | C15: HW share | D15: SW-LL | E15: SW-SL | F15: HW-LL | G15: HW-SL | J15: SW-LL | K15: HW-LL | L15: SW-SL | M15: HW-SL
A16: Oregon | B16: =(3824.8/3918.3) -> 0.97613761 | C16: =1-B16 -> 0.023862389 | D16: =(2801+665)/3918.3 -> 0.88456729 | E16: =(314+44.5)/3918.3+0.0001 -> 0.09159376 | F16: =(50.7+4.6)/3918.3 -> 0.014113263 | G16: =(38+0.2)/3918.3 -> 0.0097491259 | H16: =SUM(D16:G16) -> 1.0000234 | J16: 0.97616105 | K16: =F16+G16 -> 0.023862389 | L16: 0.97616105 | M16: 0.023862389
A17: Washington | B17: =1-C17 -> 0.96 | C17: 0.04 | D17: 0.809 | E17: =0.111+0.008+0.031+0.0002 -> 0.1502 | F17: 0.026 | G17: 0.0148 | H17: =SUM(D17:G17) -> 1 | J17: 0.9592 | K17: =F17+G17 -> 0.0408 | L17: 0.9592 | M17: 0.0408
A18: Maine | B18: =(729060+1764665/4.68)/2418300 -> 0.45739783 | C18: =1-B18 -> 0.54260217 | D18: =729060/2418300 -> 0.30147624 | E18: =(1764665/4.68)/2418300 -> 0.15592159 | F18: =209938/2418300 -> 0.086812223 | G18: =C18-F18 -> 0.45578995 | H18: =SUM(D18:G18) -> 1 | J18: 0.45739783 | K18: =F18+G18 -> 0.54260217 | L18: 0.45739783 | M18: 0.54260217
A19: North Carolina | B19: =641760/872501 -> 0.7355407 | C19: =1-B19 -> 0.2644593 | D19: =(249248+52838)/872501 -> 0.34622998 | E19: =(50499+41390+3279+244507)/872501 -> 0.38931187 | F19: =(135233+3020)/872501 -> 0.15845598 | G19: =(59112+9891+23484)/872501 -> 0.10600217 | H19: =SUM(D19:G19) -> 1 | J19: 0.73554185 | K19: =F19+G19 -> 0.26445815 | L19: 0.73554185 | M19: 0.26445815
A21: STOR factors at 100 years | J21: STOR-LL | L21: STOR-SL
D22: SW-LL | E22: SW-SL | F22: HW-LL | G22: HW-SL | I22: OR | J22: =J16*$C7*D23+K16*$C7*F23 -> 15497850 | L22: =L16*$C7*E23+M16*$C7*G23 -> 3033998.7
A23: Oregon | D23: =0.13+0.279 -> 0.409 | E23: =0.076 -> 0.076 | F23: =0.03+0.177 -> 0.207 | G23: =0.03+0.177 -> 0.207 | I23: WA | J23: =J17*$C8*D24+K17*$C8*F24 -> 13299042 | L23: =L17*$C8*E24+M17*$C8*G24 -> 2699401.8
A24: Washington | D24: =0.13+0.279 -> 0.409 | E24: =0.076 -> 0.076 | F24: =0.03+0.177 -> 0.207 | G24: =0.03+0.177 -> 0.207 | I24: ME | J24: =J18*$C9*D25+K18*$C9*F25 -> 5879615.2 | L24: =L18*$C9*E25+M18*$C9*G25 -> 3391149
A25: Maine | D25: =0.095+0.223 -> 0.318 | E25: =0.006+0.084 -> 0.09 | F25: =0.035+0.281 -> 0.316 | G25: =0.103+0.158 -> 0.261 | I25: NC | J25: =J19*$C10*D26+K19*$C10*F26 -> 12635123 | L25: =L19*$C10*E26+M19*$C10*G26 -> 5918717.8
A26: North Carolina | D26: =0.104+0.232 -> 0.336 | E26: =0.036+0.105 -> 0.141 | F26: =0.037+0.267 -> 0.304 | G26: =0.063+0.125 -> 0.188
A28: STOR
D29: SW-LL | E29: SW-SL | F29: HW-LL | G29: HW-SL | H29: Totals | I29: % of REM
A30: Oregon | D30: =D16*$C$7*D23 -> 13872053 | E30: =E16*$C$7*E23 -> 266910.73 | F30: =F16*$C$7*F23 -> 112017.1 | G30: =G16*$C$7*G23 -> 77378.904 | H30: =-SUM(D30:G30) -> -14328359 | I30: =H30/$C7 -> -0.37368866
A31: Washington | D31: =D17*$C$8*D24 -> 10980183 | E31: =E17*$C$8*E24 -> 378809.85 | F31: =F17*$C$8*F24 -> 178599.99 | G31: =G17*$C$8*G24 -> 101664.61 | H31: =-SUM(D31:G31) -> -11639257 | I31: =H31/$C8 -> -0.3507418
A32: Maine | D32: =D18*$C$9*D25 -> 1778634.1 | E32: =E18*$C$9*E25 -> 260348.54 | F32: =F18*$C$9*F25 -> 508949.1 | G32: =G18*$C$9*G25 -> 2207047.3 | H32: =-SUM(D32:G32) -> -4754979 | I32: =H32/$C9 -> -0.25629623
A33: North Carolina | D33: =D19*$C$10*D26 -> 4487687.6 | E33: =E19*$C$10*E26 -> 2117558.6 | F33: =F19*$C$10*F26 -> 1858236.1 | G33: =G19*$C$10*G26 -> 768760.89 | H33: =-SUM(D33:G33) -> -9232243.1 | I33: =H33/$C10 -> -0.23932527
A36: 3. Decay of logging residuals (DR)
A37: DR calculation detail
B38: Ha acres/yr | C38: PH NEP | D38: Period | E38: DR
A39: Oregon
A40: Total | B40: 185250 | C40: -4 | D40: 13 | E40: =ABS(B40*C40*D40) -> 9633000
A41: Washington
A42: Total | B42: 160550 | C42: -4 | D42: 13 | E42: =ABS(B42*C42*D42) -> 8348600
A43: Maine
A44: Even aged | B44: =AVERAGE(25082,20971,22741,23033,21442)+AVERAGE(3744,3457,3791,2774,2845) -> 25976 | C44: -1.49 | D44: 13 | E44: =ABS(B44*C44*D44) -> 503155.12
A45: Shelterwood | B45: =AVERAGE(162978,141833,144012,140062,126984)+AVERAGE(209028,175057,167543,176593,170968) -> 323011.6 | C45: -0.74 | D45: 13 | E45: =ABS(B45*C45*D45) -> 3107371.6
A46: W/ forest cover loss | B46: 124735
A47: Total: | E47: =SUM(E44:E46) -> 3610526.7
A48: North Carolina
...

Sheet Tables
A2: Table 2 | G2: Table 4 | L2: Table 3
A3: GHG emissions (tCO2-e/yr) | B3: Oregon | C3: Washington | D3: Maine | E3: North Carolina | H3: Scenario A | I3: Scenario B | J3: Scenario C | L3: Parameters
A4: Carbon removed by logging (REM) | B4: 38343040 | C4: 33184688 | D4: 18552669 | E4: 38576131 | H4: Baseline (no tax) | I4: Pay and pass on | J4: Carbon market | L4: A: Area deforested (ha) | M4: =25/2.47 -> 10.121457
A5: Long lived HWP storage (STOR) | B5: -14328359 | C5: -11639257 | D5: -4754979 | E5: -9232243 | G5: Fully operable area (ha) | H5: 36966 | I5: 36966 | J5: 27782 | L5: B: Wood products yield (m^3/ha) | M5: =20*2.3597*2.47 -> 116.56918
A6: Decay of logging residuals (DR) | B6: 9633000 | C6: 8348600 | D6: 3610527 | E6: 8623462 | G6: Annual yield (mbf) | H6: 73774 | I6: 65844 | J6: 53267 | L6: C: Emission factor harvest (Mg C/m^3) | M6: 0.91
A7: Forgone sequestration (FS) | B7: 11837918 | C7: 14552324 | D7: 3373456 | E7: 17460904 | G7: Annual yield (m^3) | H7: =H6*2.3597 -> 174084.51 | I7: =I6*2.3597 -> 155372.09 | J7: =J6*2.3597 -> 125694.14 | L7: D: Emissions factor conversion (Mg C/ha) | M7: 109.7
A8: Silviculture activities (SA) | B8: 645000 | C8: 559000 | D8: 931315 | E8: 642477 | G8: Delivered log price ($/mbf) | H8: 827 | I8: 916 | J8: 873 | L8: E: Land to building ratio | M8: 0.66
A9: Soil loss and degradation (SL) | B9: 942296 | C9: 836101 | D9: 741144 | E9: 1114602 | G9: Delivered log price ($/m^3) | H9: =H8/2.3597 -> 350.46828 | I9: =I8/2.3597 -> 388.18494 | J9: =J8/2.3597 -> 369.96228 | L9: F: Open space seq. rate (Mg C/ha/yr) | M9: =1.8*2.47/3.67 -> 1.2114441
A10: Total taxable emissions tCO2-e/yr | B10: 47072895 | C10: 45841455 | D10: 22454131 | E10: 57185332 | G10: Total investment costs ($million) | H10: 216.08 | I10: 216.08 | J10: 216.08 | L10: G: Tax rate ($/tCO2-e) | M10: 51
A11: Emission factors | G11: Opportunity cost of capital ($million/yr) | H11: 15.66 | I11: 15.66 | J11: 15.66 | L11: Tax derivation
A12: AEF tCO2-e/mbf (Mg C/m^3) | B12: 12.13 (1.40) | C12: 16.74 (1.93) | D12: 9.29 (1.07) | E12: 15.86 (1.83) | G12: Mgmt. and harvest costs ($million/yr) | H12: 22.32 | I12: 17.31 | J12: 14.31 | L12: H: Gross CO2-e emissions (A x B x C) + (A x D) x 3.67 | M12: =((M5*M6*M4) +(M4*M7))*3.67 -> 8015.2337
A13: EF-LL tCO2-e/mbf (Mg C/m^3) | B13: 11.83 (1.37) | C13: 16.13 (1.86) | D13: 8.82 (1.02) | E13: 14.11 (1.63) | G13: Effective carbon tax ($/mbf) | H13: 0 | I13: 177.8 | J13: 60.51 | L13: I: Open space credit (A x E x F) x 100 | M13: =M4*M8*M9*3.67*100 -> 2970
A14: EF-SL tCO2-e/mbf (Mg C/m^3) | B14: 15.04 (1.74) | C14: 20.00 (2.31) | D14: 9.85 (1.14) | E14: 15.97 (1.84) | G14: Effective carbon tax ($/m^3) | H14: 0 | I14: =I13/2.3597 -> 75.348561 | J14: =J13/2.3597 -> 25.64309 | L14: J: Net CO2-e emissions (H - I) | M14: =M12-M13 -> 5045.2337
A15: EF-CONV tCO2-e/mbf (Mg C/m^3) | B15: 9.08 (1.05) | C15: 11.42 (1.32) | D15: 7.89 (0.91) | E15: 11.02 (1.27) | G15: Carbon tax payments ($million/yr) | H15: 0 | I15: 11.71 | J15: 3.22 | L15: K: Tax liability (J x G) | M15: 257295
A16: EF-CONV tCO2-e/acre (Mg C/ha) | B16: 429.49 (289.06) | C16: 429.00 (288.73) | D16: 163.00 (109.70) | E16: 442.50 (297.81) | G16: PV timber income ($million) | H16: 1569.8 | I16: 1551.67 | J16: 1213.08
A17: Potential tax revenues | G17: PV carbon income ($million) | H17: 0 | I17: 0 | J17: 47.49
A18: Tax revenue scenario A ($million/yr) | B18: =Analysis!B217/1000000 -> 345.8955 | C18: =Analysis!C217/1000000 -> 213.69808 | D18: =Analysis!D217/1000000 -> 82.752295 | E18: =Analysis!E217/1000000 -> 357.42045 | G18: PV cost stream ($million) | H18: 977.26 | I18: 1149.61 | J18: 853.96 | L18: =M4*M5*M6*3.67 -> 3940.345
A19: Tax revenue scenario B ($million/yr) | B19: =Analysis!B218/1000000 -> 233.61414 | C19: =Analysis!C218/1000000 -> 144.32941 | D19: =Analysis!D218/1000000 -> 55.890018 | E19: =Analysis!E218/1000000 -> 241.39796 | G19: Net present value ($million) | H19: 592.54 | I19: 402.06 | J19: 406.61
G20: Internal rate of return (%) | H20: 0.0737 | I20: 0.038624533 | J20: 0.0468
A25: Table 2 metric conversions | C25: Metric | E25: Metric | G25: Metric | I25: Metric
A26: AEF tCO2-e/mbf (Mg C/m^3) | B26: 12.13 | C26: =(B26/2.3597)/3.67 -> 1.4006768 | D26: 16.74 | E26: =(D26/2.3597)/3.67 -> 1.9330033 | F26: 9.29 | G26: =(F26/2.3597)/3.67 -> 1.072736 | H26: 15.86 | I26: =(H26/2.3597)/3.67 -> 1.8313878
A27: EF-LL tCO2-e/mbf (Mg C/m^3) | B27: 11.83 | C27: =(B27/2.3597)/3.67 -> 1.3660352 | D27: 16.13 | E27: =(D27/2.3597)/3.67 -> 1.8625653 | F27: 8.82 | G27: =(F27/2.3597)/3.67 -> 1.0184641 | H27: 14.11 | I27: =(H27/2.3597)/3.67 -> 1.6293116
A28: EF-SL tCO2-e/mbf (Mg C/m^3) | B28: 15.04 | C28: =(B28/2.3597)/3.67 -> 1.7367007 | D28: 20 | E28: =(D28/2.3597)/3.67 -> 2.3094424 | F28: 9.85 | G28: =(F28/2.3597)/3.67 -> 1.1374004 | H28: 15.97 | I28: =(H28/2.3597)/3.67 -> 1.8440898
A29: EF-CONV tCO2-e/mbf (Mg C/m^3) | B29: 9.08 | C29: =(B29/2.3597)/3.67 -> 1.0484869 | D29: 11.42 | E29: =(D29/2.3597)/3.67 -> 1.3186916 | F29: 7.89 | G29: =(F29/2.3597)/3.67 -> 0.91107504 | H29: 11.02 | I29: =(H29/2.3597)/3.67 -> 1.2725028
A30: EF-CONV tCO2-e/acre (Mg C/ha) | B30: 429.49 | C30: =(B30*2.47)/3.67 -> 289.0573 | D30: 429 | E30: =(D30*2.47)/3.67 -> 288.72752 | F30: 163 | G30: =(F30*2.47)/3.67 -> 109.703 | H30: 442.5 | I30: =(H30*2.47)/3.67 -> 297.81335
