Workbook

Sheet Tweissflogii bioflocculation
A1: Thalassiosira weissflogii bioflocculation
B4: Starting pH | G4: Final pH | L4: Starting OD | Q4: Final OD | V4: Floc efficiency
A5: Sample | B5: 1 | C5: 2 | D5: 3 | E5: Average | F5: SD | G5: 1 | H5: 2 | I5: 3 | J5: Average | K5: SD | L5: 1 | M5: 2 | N5: 3 | O5: Average | P5: SD | Q5: 1 | R5: 2 | S5: 3 | T5: Average | U5: SD | V5: 1 | W5: 2 | X5: 3 | Y5: Average | Z5: SD
A6: Control | B6: 7.94 | C6: 7.97 | D6: 7.98 | E6: =AVERAGE(B6:D6) -> 7.9633333 | F6: =_xlfn.STDEV.S(B6:D6)/SQRT(3) -> 0.012018504 | G6: 7.87 | H6: 7.71 | I6: 7.78 | J6: =AVERAGE(G6:I6) -> 7.7866667 | K6: =_xlfn.STDEV.S(G6:I6)/SQRT(3) -> 0.046308147 | L6: 0.159 | M6: 0.155 | N6: 0.151 | O6: =AVERAGE(L6:N6) -> 0.155 | P6: =_xlfn.STDEV.S(L6:N6)/SQRT(3) -> 0.0023094011 | Q6: 0.211 | R6: 0.224 | S6: 0.21 | T6: =AVERAGE(Q6:S6) -> 0.215 | U6: =_xlfn.STDEV.S(Q6:S6)/SQRT(3) -> 0.0045092498 | V6: -32.704403 | W6: -44.516129 | X6: -39.072848 | Y6: =AVERAGE(V6:X6) -> -38.76446 | Z6: =_xlfn.STDEV.S(V6:X6)/SQRT(3) -> 3.4132364
A7: Control | B7: 7.87 | C7: 7.89 | D7: 8.14 | E7: =AVERAGE(B7:D7) -> 7.9666667 | F7: 0.086858761 | G7: 7.72 | H7: 7.76 | I7: 7.81 | J7: =AVERAGE(G7:I7) -> 7.7633333 | K7: 0.086858761 | L7: 0.119 | M7: 0.111 | N7: 0.112 | O7: =AVERAGE(L7:N7) -> 0.114 | P7: 0.086858761 | Q7: 0.129 | R7: 0.125 | S7: 0.126 | T7: =AVERAGE(Q7:S7) -> 0.12666667 | U7: 0.086858761 | V7: -8.4033613 | W7: -12.612613 | X7: -12.5 | Y7: =AVERAGE(V7:X7) -> -11.171991 | Z7: 0.086858761
A8: Control | B8: 8.26 | C8: 8.23 | D8: 8.25 | E8: =AVERAGE(B8:D8) -> 8.2466667 | F8: 0.008819171 | G8: 8.29 | H8: 8.34 | I8: 8.3 | J8: =AVERAGE(G8:I8) -> 8.31 | K8: 0.008819171 | L8: 0.225 | M8: 0.217 | N8: 0.219 | O8: =AVERAGE(L8:N8) -> 0.22033333 | P8: 0.008819171 | Q8: 0.227 | R8: 0.209 | S8: 0.23 | T8: =AVERAGE(Q8:S8) -> 0.222 | U8: 0.008819171 | V8: -0.88888889 | W8: 3.6866359 | X8: -5.0228311 | Y8: =AVERAGE(V8:X8) -> -0.74169466 | Z8: 0.008819171
A9: Control | B9: 7.93 | C9: 7.94 | D9: 7.98 | E9: =AVERAGE(B9:D9) -> 7.95 | F9: 0.015275252 | G9: 8.06 | H9: 8.01 | I9: 8.12 | J9: =AVERAGE(G9:I9) -> 8.0633333 | K9: 0.015275252 | L9: 0.118 | M9: 0.114 | N9: 0.12 | O9: =AVERAGE(L9:N9) -> 0.11733333 | P9: 0.015275252 | Q9: 0.146 | R9: 0.152 | S9: 0.14 | T9: =AVERAGE(Q9:S9) -> 0.146 | U9: 0.015275252 | V9: -23.728814 | W9: -33.333333 | X9: -16.666667 | Y9: =AVERAGE(V9:X9) -> -24.576271 | Z9: 0.015275252
A10: Control | B10: 8.12 | C10: 8.09 | D10: 8.1 | E10: =AVERAGE(B10:D10) -> 8.1033333 | F10: 0.008819171 | G10: 8.01 | H10: 8.05 | I10: 8.02 | J10: =AVERAGE(G10:I10) -> 8.0266667 | K10: 0.008819171 | L10: 0.133 | M10: 0.131 | N10: 0.135 | O10: =AVERAGE(L10:N10) -> 0.133 | P10: 0.008819171 | Q10: 0.119 | R10: 0.15 | S10: 0.111 | T10: =AVERAGE(Q10:S10) -> 0.12666667 | U10: 0.008819171 | V10: 10.526316 | W10: -14.503817 | X10: 17.777778 | Y10: =AVERAGE(V10:X10) -> 4.6000923 | Z10: 0.008819171
A11: Control | B11: 8.11 | C11: 8.07 | D11: 8.1 | E11: =AVERAGE(B11:D11) -> 8.0933333 | F11: 0.012018504 | G11: 7.82 | H11: 7.71 | I11: 7.86 | J11: =AVERAGE(G11:I11) -> 7.7966667 | K11: 0.012018504 | L11: 0.124 | M11: 0.128 | N11: 0.13 | O11: =AVERAGE(L11:N11) -> 0.12733333 | P11: 0.012018504 | Q11: 0.198 | R11: 0.18 | S11: 0.191 | T11: =AVERAGE(Q11:S11) -> 0.18966667 | U11: 0.012018504 | V11: -59.677419 | W11: -40.625 | X11: -46.923077 | Y11: =AVERAGE(V11:X11) -> -49.075165 | Z11: 0.012018504
A12: Control | B12: 8.15 | C12: 8.12 | D12: 8.16 | E12: =AVERAGE(B12:D12) -> 8.1433333 | F12: 0.012018504 | G12: 8.24 | H12: 8.21 | I12: 8.23 | J12: =AVERAGE(G12:I12) -> 8.2266667 | K12: 0.012018504 | L12: 0.141 | M12: 0.142 | N12: 0.139 | O12: =AVERAGE(L12:N12) -> 0.14066667 | P12: 0.012018504 | Q12: 0.117 | R12: 0.12 | S12: 0.127 | T12: =AVERAGE(Q12:S12) -> 0.12133333 | U12: 0.012018504 | V12: 17.021277 | W12: 15.492958 | X12: 8.6330935 | Y12: =AVERAGE(V12:X12) -> 13.715776 | Z12: 0.012018504
A13: B. megaterium | B13: 7.23 | C13: 7.03 | D13: 7.06 | E13: =AVERAGE(B13:D13) -> 7.1066667 | F13: 0.062271806 | G13: 6.63 | H13: 6.78 | I13: 6.76 | J13: =AVERAGE(G13:I13) -> 6.7233333 | K13: 0.062271806 | L13: 0.397 | M13: 0.395 | N13: 0.392 | O13: =AVERAGE(L13:N13) -> 0.39466667 | P13: 0.062271806 | Q13: 0.558 | R13: 0.557 | S13: 0.523 | T13: =AVERAGE(Q13:S13) -> 0.546 | U13: 0.062271806 | V13: -40.554156 | W13: -41.012658 | X13: -33.418367 | Y13: =AVERAGE(V13:X13) -> -38.328394 | Z13: 0.062271806
A14: M. adharens | B14: 8.39 | C14: 8.32 | D14: 8.33 | E14: =AVERAGE(B14:D14) -> 8.3466667 | F14: 0.021858128 | G14: 7.78 | H14: 7.75 | I14: 7.79 | J14: =AVERAGE(G14:I14) -> 7.7733333 | K14: 0.021858128 | L14: 0.145 | M14: 0.141 | N14: 0.146 | O14: =AVERAGE(L14:N14) -> 0.144 | P14: 0.021858128 | Q14: 0.114 | R14: 0.119 | S14: 0.127 | T14: =AVERAGE(Q14:S14) -> 0.12 | U14: 0.021858128 | V14: 21.37931 | W14: 15.602837 | X14: 13.013699 | Y14: =AVERAGE(V14:X14) -> 16.665282 | Z14: 0.021858128
A15: E. citreus | B15: 7.38 | C15: 7.44 | D15: 7.36 | E15: =AVERAGE(B15:D15) -> 7.3933333 | F15: 0.024037009 | G15: 7.91 | H15: 7.94 | I15: 7.93 | J15: =AVERAGE(G15:I15) -> 7.9266667 | K15: 0.024037009 | L15: 0.166 | M15: 0.157 | N15: 0.168 | O15: =AVERAGE(L15:N15) -> 0.16366667 | P15: 0.024037009 | Q15: 0.029 | R15: 0.028 | S15: 0.049 | T15: =AVERAGE(Q15:S15) -> 0.035333333 | U15: 0.024037009 | V15: 82.53012 | W15: 82.165605 | X15: 70.833333 | Y15: =AVERAGE(V15:X15) -> 78.509686 | Z15: 0.024037009
A16: M. lutimaris | B16: 8.13 | C16: 8.15 | D16: 8.1 | E16: =AVERAGE(B16:D16) -> 8.1266667 | F16: 0.014529663 | G16: 7.96 | H16: 8.02 | I16: 8.01 | J16: =AVERAGE(G16:I16) -> 7.9966667 | K16: 0.014529663 | L16: 0.107 | M16: 0.106 | N16: 0.109 | O16: =AVERAGE(L16:N16) -> 0.10733333 | P16: 0.014529663 | Q16: 0.041 | R16: 0.045 | S16: 0.048 | T16: =AVERAGE(Q16:S16) -> 0.044666667 | U16: 0.014529663 | V16: 61.682243 | W16: 57.54717 | X16: 55.963303 | Y16: =AVERAGE(V16:X16) -> 58.397572 | Z16: 0.014529663
A17: A. venerupis | B17: 7.38 | C17: 7.43 | D17: 7.34 | E17: =AVERAGE(B17:D17) -> 7.3833333 | F17: 0.026034166 | G17: 7.16 | H17: 7.18 | I17: 7.13 | J17: =AVERAGE(G17:I17) -> 7.1566667 | K17: 0.026034166 | L17: 0.282 | M17: 0.274 | N17: 0.279 | O17: =AVERAGE(L17:N17) -> 0.27833333 | P17: 0.026034166 | Q17: 0.342 | R17: 0.367 | S17: 0.361 | T17: =AVERAGE(Q17:S17) -> 0.35666667 | U17: 0.026034166 | V17: -21.276596 | W17: -33.941606 | X17: -29.390681 | Y17: =AVERAGE(V17:X17) -> -28.202961 | Z17: 0.026034166
A18: O. ascidiaceicola | B18: 8.14 | C18: 8.09 | D18: 8.16 | E18: =AVERAGE(B18:D18) -> 8.13 | F18: 0.02081666 | G18: 7.59 | H18: 7.64 | I18: 7.58 | J18: =AVERAGE(G18:I18) -> 7.6033333 | K18: 0.02081666 | L18: 0.128 | M18: 0.126 | N18: 0.118 | O18: =AVERAGE(L18:N18) -> 0.124 | P18: 0.02081666 | Q18: 0.045 | R18: 0.052 | S18: 0.042 | T18: =AVERAGE(Q18:S18) -> 0.046333333 | U18: 0.02081666 | V18: 64.84375 | W18: 58.730159 | X18: 64.40678 | Y18: =AVERAGE(V18:X18) -> 62.660229 | Z18: 0.02081666
... A32: A.bouvetii | B32: 8.3 | C32: 8.31 | D32: 8.33 | E32: =AVERAGE(B32:D32) -> 8.3133333 | F32: 0.008819171 | G32: 8.16 | H32: 8.17 | I32: 8.2 | J32: =AVERAGE(G32:I32) -> 8.1766667 | K32: 0.008819171 | L32: 0.131 | M32: 0.13 | N32: 0.131 | O32: =AVERAGE(L32:N32) -> 0.13066667 | P32: 0.008819171 | Q32: 0.112 | R32: 0.112 | S32: 0.118 | T32: =AVERAGE(Q32:S32) -> 0.114 | U32: 0.008819171 | V32: 14.503817 | W32: 13.846154 | X32: 9.9236641 | Y32: =AVERAGE(V32:X32) -> 12.757878 | Z32: 0.008819171
A33: NaOH | B33: ='[1]180506'!B20 -> 7.23 | C33: ='[1]180506'!C20 -> 7.03 | D33: ='[1]180506'!D20 -> 7.06 | E33: =AVERAGE(B33:D33) -> 7.1066667 | F33: ='[1]180506'!F20 -> 0.062271806 | G33: ='[1]180506'!G20 -> 6.63 | H33: ='[1]180506'!H20 -> 6.78 | I33: ='[1]180506'!I20 -> 6.76 | J33: =AVERAGE(G33:I33) -> 6.7233333 | K33: ='[1]180506'!K20 -> 0.047022453 | L33: ='[1]180506'!L20 -> 0.397 | M33: ='[1]180506'!M20 -> 0.395 | N33: ='[1]180506'!N20 -> 0.392 | O33: =AVERAGE(L33:N33) -> 0.39466667 | P33: ='[1]180506'!P20 -> 0.0014529663 | Q33: ='[1]180506'!Q20 -> 0.558 | R33: ='[1]180506'!R20 -> 0.557 | S33: ='[1]180506'!S20 -> 0.523 | T33: =AVERAGE(Q33:S33) -> 0.546 | U33: ='[1]180506'!U20 -> 0.011503623 | V33: ='[1]180506'!V20 -> -40.554156 | W33: ='[1]180506'!W20 -> -41.012658 | X33: ='[1]180506'!X20 -> -33.418367 | Y33: =AVERAGE(V33:X33) -> -38.328394 | Z33: ='[1]180506'!Z20 -> 2.4585786
A34: NaOH | B34: ='[1]180518'!B20 -> 8.12 | C34: ='[1]180518'!C20 -> 8.14 | D34: ='[1]180518'!D20 -> 8.1 | E34: =AVERAGE(B34:D34) -> 8.12 | F34: ='[1]180518'!F20 -> 0.011547005 | G34: ='[1]180518'!G20 -> 8.34 | H34: ='[1]180518'!H20 -> 8.31 | I34: ='[1]180518'!I20 -> 8.36 | J34: =AVERAGE(G34:I34) -> 8.3366667 | K34: ='[1]180518'!K20 -> 0.014529663 | L34: ='[1]180518'!L20 -> 0.126 | M34: ='[1]180518'!M20 -> 0.122 | N34: ='[1]180518'!N20 -> 0.124 | O34: =AVERAGE(L34:N34) -> 0.124 | P34: ='[1]180518'!P20 -> 0.0011547005 | Q34: ='[1]180518'!Q20 -> 0.132 | R34: ='[1]180518'!R20 -> 0.138 | S34: ='[1]180518'!S20 -> 0.134 | T34: =AVERAGE(Q34:S34) -> 0.13466667 | U34: ='[1]180518'!U20 -> 0.0017638342 | V34: ='[1]180518'!V20 -> -4.7619048 | W34: ='[1]180518'!W20 -> -13.114754 | X34: ='[1]180518'!X20 -> -8.0645161 | Y34: =AVERAGE(V34:X34) -> -8.6470583 | Z34: ='[1]180518'!Z20 -> 2.4287884
A35: NaOH | B35: ='[1]180524'!B19 -> 8.39 | C35: ='[1]180524'!C19 -> 8.35 | D35: ='[1]180524'!D19 -> 8.33 | E35: =AVERAGE(B35:D35) -> 8.3566667 | F35: ='[1]180524'!F19 -> 0.017638342 | G35: ='[1]180524'!G19 -> 8.26 | H35: ='[1]180524'!H19 -> 8.23 | I35: ='[1]180524'!I19 -> 8.24 | J35: =AVERAGE(G35:I35) -> 8.2433333 | K35: ='[1]180524'!K19 -> 0.008819171 | L35: ='[1]180524'!L19 -> 0.132 | M35: ='[1]180524'!M19 -> 0.131 | N35: ='[1]180524'!N19 -> 0.133 | O35: =AVERAGE(L35:N35) -> 0.132 | P35: ='[1]180524'!P19 -> 0.00057735027 | Q35: ='[1]180524'!Q19 -> 0.089 | R35: ='[1]180524'!R19 -> 0.095 | S35: ='[1]180524'!S19 -> 0.087 | T35: =AVERAGE(Q35:S35) -> 0.090333333 | U35: ='[1]180524'!U19 -> 0.0024037009 | V35: ='[1]180524'!V19 -> 32.575758 | W35: ='[1]180524'!W19 -> 27.480916 | X35: ='[1]180524'!X19 -> 34.586466 | Y35: =AVERAGE(V35:X35) -> 31.547713 | Z35: ='[1]180524'!Z19 -> 2.1146211

Sheet Noculata bioflocculation
A1: Nannochloropsis oculata bioflocculation
B4: Starting pH | G4: Final pH | L4: Starting OD | Q4: Final OD | V4: Floc efficiency
A5: Sample | B5: 1 | C5: 2 | D5: 3 | E5: Average | F5: SD | G5: 1 | H5: 2 | I5: 3 | J5: Average | K5: SD | L5: 1 | M5: 2 | N5: 3 | O5: Average | P5: SD | Q5: 1 | R5: 2 | S5: 3 | T5: Average | U5: SD | V5: 1 | W5: 2 | X5: 3 | Y5: Average | Z5: SD
A6: Control | B6: 8.41 | C6: 8.42 | D6: 8.41 | E6: 8.4133333 | F6: 0.0033333333 | G6: 8.23 | H6: 8.24 | I6: 8.16 | J6: 8.21 | K6: 0.025166115 | L6: 0.209 | M6: 0.215 | N6: 0.211 | O6: 0.21166667 | P6: 0.0017638342 | Q6: 0.216 | R6: 0.222 | S6: 0.219 | T6: 0.219 | U6: 0.0017320508 | V6: -3.3492823 | W6: -3.255814 | X6: -3.7914692 | Y6: -3.4655218 | Z6: 0.16519216
A7: Control | B7: 8.47 | C7: 8.39 | D7: 8.34 | E7: 8.4 | F7: 0.037859389 | G7: 8.45 | H7: 8.41 | I7: 8.4 | J7: 8.42 | K7: 0.015275252 | L7: 0.259 | M7: 0.237 | N7: 0.248 | O7: 0.248 | P7: 0.006350853 | Q7: 0.249 | R7: 0.219 | S7: 0.243 | T7: 0.237 | U7: 0.0091651514 | V7: 3.8610039 | W7: 7.5949367 | X7: 2.016129 | Y7: 4.4906899 | Z7: 1.6409501
A8: Control | B8: 8.99 | C8: 8.97 | D8: 9 | E8: 8.9866667 | F8: 0.008819171 | G8: 8.09 | H8: 8.1 | I8: 8.1 | J8: 8.0966667 | K8: 0.0033333333 | L8: 0.209 | M8: 0.217 | N8: 0.216 | O8: 0.214 | P8: 0.0025166115 | Q8: 0.165 | R8: 0.157 | S8: 0.155 | T8: 0.159 | U8: 0.0030550505 | V8: 21.052632 | W8: 27.64977 | X8: 28.240741 | Y8: 25.647714 | Z8: 2.3038662
A9: Control | B9: 8.02 | C9: 8.01 | D9: 8.05 | E9: 8.0266667 | F9: 0.012018504 | G9: 8.11 | H9: 8.13 | I9: 8.12 | J9: 8.12 | K9: 0.0057735027 | L9: 0.146 | M9: 0.133 | N9: 0.138 | O9: 0.139 | P9: 0.0037859389 | Q9: 0.143 | R9: 0.146 | S9: 0.146 | T9: 0.145 | U9: 0.001 | V9: 2.0547945 | W9: -9.7744361 | X9: -5.7971014 | Y9: -4.505581 | Z9: 3.475327
A10: Control | B10: 8.07 | C10: 8.09 | D10: 8.13 | E10: 8.0966667 | F10: 0.017638342 | G10: 8.22 | H10: 8.24 | I10: 8.24 | J10: 8.2333333 | K10: 0.0066666667 | L10: 0.151 | M10: 0.153 | N10: 0.153 | O10: 0.15233333 | P10: 0.00066666667 | Q10: 0.129 | R10: 0.122 | S10: 0.122 | T10: 0.12433333 | U10: 0.0023333333 | V10: 14.569536 | W10: 20.261438 | X10: 20.261438 | Y10: 18.364137 | Z10: 1.8973005
A11: Control | B11: 8.12 | C11: 8.15 | D11: 8.11 | E11: 8.1266667 | F11: 0.012018504 | G11: 8.35 | H11: 8.4 | I11: 8.38 | J11: 8.3766667 | K11: 0.014529663 | L11: 0.135 | M11: 0.141 | N11: 0.137 | O11: 0.13766667 | P11: 0.0017638342 | Q11: 0.146 | R11: 0.154 | S11: 0.151 | T11: 0.15033333 | U11: 0.0023333333 | V11: -8.1481481 | W11: -9.2198582 | X11: -10.218978 | Y11: -9.1956615 | Z11: 0.59791953
A12: Control | B12: 8.19 | C12: 8.23 | D12: 8.25 | E12: 8.2233333 | F12: 0.017638342 | G12: 8.2 | H12: 8.24 | I12: 8.24 | J12: 8.2266667 | K12: 0.013333333 | L12: 0.106 | M12: 0.107 | N12: 0.104 | O12: 0.10566667 | P12: 0.0008819171 | Q12: 0.176 | R12: 0.164 | S12: 0.168 | T12: 0.16933333 | U12: 0.0035276684 | V12: -66.037736 | W12: -53.271028 | X12: -61.538462 | Y12: -60.282408 | Z12: 3.7385585
A13: B. megaterium | B13: 8.48 | C13: 8.46 | D13: 8.4 | E13: 8.4466667 | F13: 0.024037009 | G13: 8.08 | H13: 8.05 | I13: 8.06 | J13: 8.0633333 | K13: 0.008819171 | L13: 0.212 | M13: 0.212 | N13: 0.223 | O13: 0.21566667 | P13: 0.0036666667 | Q13: 0.092 | R13: 0.098 | S13: 0.1 | T13: 0.096666667 | U13: 0.0024037009 | V13: 56.603774 | W13: 53.773585 | X13: 55.156951 | Y13: 55.178103 | Z13: 0.81707355
A14: M.adhaerens | B14: 8.49 | C14: 8.46 | D14: 8.47 | E14: 8.4733333 | F14: 0.008819171 | G14: 8.37 | H14: 8.5 | I14: 8.48 | J14: 8.45 | K14: 0.040414519 | L14: 0.214 | M14: 0.216 | N14: 0.221 | O14: 0.217 | P14: 0.002081666 | Q14: 0.133 | R14: 0.135 | S14: 0.131 | T14: 0.133 | U14: 0.0011547005 | V14: 37.850467 | W14: 37.5 | X14: 40.723982 | Y14: 38.691483 | Z14: 1.021273
A15: R. litoreus | B15: 8.3 | C15: 8.33 | D15: 8.33 | E15: 8.32 | F15: 0.01 | G15: 8.25 | H15: 8.21 | I15: 8.29 | J15: 8.25 | K15: 0.023094011 | L15: 0.241 | M15: 0.253 | N15: 0.254 | O15: 0.24933333 | P15: 0.0041766547 | Q15: 0.092 | R15: 0.098 | S15: 0.1 | T15: 0.096666667 | U15: 0.0024037009 | V15: 61.825726 | W15: 61.264822 | X15: 60.629921 | Y15: 61.240157 | Z15: 0.34541937
A16: M. lutimaris | B16: 8.05 | C16: 8.04 | D16: 8.04 | E16: 8.0433333 | F16: 0.0033333333 | G16: 8.4 | H16: 8.42 | I16: 8.38 | J16: 8.4 | K16: 0.011547005 | L16: 0.251 | M16: 0.244 | N16: 0.257 | O16: 0.25066667 | P16: 0.0037564759 | Q16: 0.068 | R16: 0.077 | S16: 0.059 | T16: 0.068 | U16: 0.0051961524 | V16: 72.908367 | W16: 68.442623 | X16: 77.042802 | Y16: 72.79793 | Z16: 2.4832717
A17: E. citreus | B17: 8.31 | C17: 8.32 | D17: 8.33 | E17: 8.32 | F17: 0.0057735027 | G17: 8.24 | H17: 8.23 | I17: 8.23 | J17: 8.2333333 | K17: 0.0033333333 | L17: 0.248 | M17: 0.254 | N17: 0.247 | O17: 0.24966667 | P17: 0.0021858128 | Q17: 0.063 | R17: 0.049 | S17: 0.055 | T17: 0.055666667 | U17: 0.004055175 | V17: 74.596774 | W17: 80.708661 | X17: 77.732794 | Y17: 77.67941 | Z17: 1.7645518
... A37: NaOH | B37: 10.05 | C37: 10.12 | D37: 10.09 | E37: 10.086667 | F37: 0.020275875 | G37: 9.86 | H37: 9.75 | I37: 9.8 | J37: 9.8033333 | K37: 0.031797973 | L37: 0.451 | M37: 0.445 | N37: 0.44 | O37: 0.44533333 | P37: 0.0031797973 | Q37: 0.045 | R37: 0.052 | S37: 0.041 | T37: 0.046 | U37: 0.0032145503 | V37: 90.022173 | W37: 88.314607 | X37: 90.681818 | Y37: 89.672866 | Z37: 0.70532121

Sheet Standard curve for alcian blue
A1: Standard curve made with gum xanthan for alcian blue
B4: OD | G4: Sample minus blank (Est787- C787)
A5: Sample (Est787) (ml) | B5: 1 | C5: 2 | D5: 3 | E5: 4 | F5: 1 | G5: 2 | H5: 3 | I5: 4 | J5: Average | K5: SEM | L5: Gum xanthan (ug)
A6: Blank (C787) | B6: 0.048 | C6: 0.066 | D6: 0.061 | E6: 0.068
A7: 0.5 | B7: 0.071 | C7: 0.081 | D7: 0.073 | E7: 0.083 | F7: =B7-B6 -> 0.023 | G7: =C7-C6 -> 0.015 | H7: =D7-D6 -> 0.012 | I7: =E7-E6 -> 0.015 | J7: =AVERAGE(F7:I7) -> 0.01625 | K7: =_xlfn.STDEV.S(F7:I7)/SQRT(4) -> 0.0023584953 | L7: =E19/A16*A7 -> 3.6666667
A8: 1 | B8: 0.101 | C8: 0.105 | D8: 0.102 | E8: 0.098 | F8: =B8-B6 -> 0.053 | G8: =C8-C6 -> 0.039 | H8: =D8-D6 -> 0.041 | I8: =E8-E6 -> 0.03 | J8: =AVERAGE(F8:I8) -> 0.04075 | K8: =_xlfn.STDEV.S(F8:I8)/SQRT(4) -> 0.0047324236 | L8: =E19/A16*A8 -> 7.3333333
A9: 1.5 | B9: 0.121 | C9: 0.125 | D9: 0.118 | E9: 0.126 | F9: =B9-B6 -> 0.073 | G9: =C9-C6 -> 0.059 | H9: =D9-D6 -> 0.057 | I9: =E9-E6 -> 0.058 | J9: =AVERAGE(F9:I9) -> 0.06175 | K9: =_xlfn.STDEV.S(F9:I9)/SQRT(4) -> 0.0037721568 | L9: =E19/A16*A9 -> 11
A10: 2 | B10: 0.146 | C10: 0.149 | D10: 0.143 | E10: 0.116 | F10: =B10-B6 -> 0.098 | G10: =C10-C6 -> 0.083 | H10: =D10-D6 -> 0.082 | I10: =E10-E6 -> 0.048 | J10: =AVERAGE(F10:I10) -> 0.07775 | K10: =_xlfn.STDEV.S(F10:I10)/SQRT(4) -> 0.010570202 | L10: =E19/A16*A10 -> 14.666667
A11: 2.5 | B11: 0.158 | C11: 0.152 | D11: 0.151 | E11: 0.155 | F11: =B11-B6 -> 0.11 | G11: =C11-C6 -> 0.086 | H11: =D11-D6 -> 0.09 | I11: =E11-E6 -> 0.087 | J11: =AVERAGE(F11:I11) -> 0.09325 | K11: =_xlfn.STDEV.S(F11:I11)/SQRT(4) -> 0.0056476396 | L11: =E19/A16*A11 -> 18.333333
A15: Volume Alcian blue (ml) | B15: Pre-weight (g) | C15: Post-weight (g) | D15: Dry weight (g) | E15: Dry weight (ug)
A16: 50 | B16: 0.0116 | C16: 0.0119 | D16: =C16-B16 -> 0.0003 | E16: =D16*1000000 -> 300
A17: 50 | B17: 0.0115 | C17: 0.0118 | D17: =C17-B17 -> 0.0003 | E17: =D17*1000000 -> 300
A18: 50 | B18: 0.0115 | C18: 0.012 | D18: =C18-B18 -> 0.0005 | E18: =D18*1000000 -> 500
A19: Average | D19: =AVERAGE(D16:D18) -> 0.00036666667 | E19: =D19*1000000 -> 366.66667
A21: Calibration factor | B21: =1/0.0053 -> 188.67925

Sheet Tweissflogii alcian blue
A1: Thalassiosira weissflogii Alcian blue
B4: OD 787 | E4: Dilution factor | F4: OD787*Dilution factor | I4: Sample minus filter blank | N4: Sample volume | O4: Ctep
A5: Sample | B5: 1 | C5: 2 | D5: 3 | F5: 1 | G5: 2 | H5: 3 | I5: 1 | J5: 2 | K5: 3 | L5: Average | M5: SEM | O5: 1 | P5: 2 | Q5: 3 | R5: Average | S5: SEM
A6: Filter blank | B6: 0.021 | C6: 0.018 | D6: 0.015
A7: Control | B7: 0.078 | C7: 0.041 | D7: 0.055 | E7: 2 | F7: =B7*E7 -> 0.156 | G7: =C7*E7 -> 0.082 | H7: =D7*E7 -> 0.11 | I7: 0.135 | J7: 0.064 | K7: 0.095 | L7: 0.098 | M7: 0.02055075 | N7: 0.005 | O7: =I7*(1/N7)*'Standard curve for alcian blue'!$B$21 -> 5094.3396 | P7: =J7*(1/N7)*'Standard curve for alcian blue'!$B$21 -> 2415.0943 | Q7: =K7*(1/N7)*'Standard curve for alcian blue'!$B$21 -> 3584.9057 | R7: =AVERAGE(O7:Q7) -> 3698.1132 | S7: {=_xlfn.STDEV.S(O7:Q7/SQRT(3))} -> 775.50001
A8: S. baltica | B8: 0.0495 | C8: 0.059 | D8: 0.053 | E8: 2 | F8: =B8*E8 -> 0.099 | G8: =C8*E8 -> 0.118 | H8: =D8*E8 -> 0.106 | I8: 0.078 | J8: 0.1 | K8: 0.091 | L8: 0.089666667 | M8: 0.006385748 | N8: 0.003 | O8: =I8*(1/N8)*'Standard curve for alcian blue'!$B$21 -> 4905.6604 | P8: =J8*(1/N8)*'Standard curve for alcian blue'!$B$21 -> 6289.3082 | Q8: =K8*(1/N8)*'Standard curve for alcian blue'!$B$21 -> 5723.2704 | R8: =AVERAGE(O8:Q8) -> 5639.413 | S8: {=_xlfn.STDEV.S(O8:Q8/SQRT(3))} -> 401.61937
A9: A. bouvetii | B9: 0.057 | C9: 0.047 | D9: 0.056 | E9: 2 | F9: =B9*E9 -> 0.114 | G9: =C9*E9 -> 0.094 | H9: =D9*E9 -> 0.112 | I9: 0.093 | J9: 0.076 | K9: 0.097 | L9: 0.088666667 | M9: 0.006437736 | N9: 0.002 | O9: =I9*(1/N9)*'Standard curve for alcian blue'!$B$21 -> 8773.5849 | P9: =J9*(1/N9)*'Standard curve for alcian blue'!$B$21 -> 7169.8113 | Q9: =K9*(1/N9)*'Standard curve for alcian blue'!$B$21 -> 9150.9434 | R9: =AVERAGE(O9:Q9) -> 8364.7799 | S9: {=_xlfn.STDEV.S(O9:Q9/SQRT(3))} -> 607.33358
A10: NaOH | B10: 0.0405 | C10: 0.0465 | D10: 0.045 | E10: 2 | F10: =B10*E10 -> 0.081 | G10: =C10*E10 -> 0.093 | H10: =D10*E10 -> 0.09 | I10: =F10-B6 -> 0.06 | J10: =G10-C6 -> 0.075 | K10: =H10-D6 -> 0.075 | L10: =AVERAGE(I10:K10) -> 0.07 | M10: =_xlfn.STDEV.S(I10:K10)/SQRT(3) -> 0.005 | N10: 0.005 | O10: =I10*(1/N10)*'Standard curve for alcian blue'!$B$21 -> 2264.1509 | P10: =J10*(1/N10)*'Standard curve for alcian blue'!$B$21 -> 2830.1887 | Q10: =K10*(1/N10)*'Standard curve for alcian blue'!$B$21 -> 2830.1887 | R10: =AVERAGE(O10:Q10) -> 2641.5094 | S10: {=_xlfn.STDEV.S(O10:Q10/SQRT(3))} -> 188.67925
A11: Media blank | B11: 0.0515 | C11: 0.054 | D11: 0.051 | E11: 1 | F11: =B11*E11 -> 0.0515 | G11: =C11*E11 -> 0.054 | H11: =D11*E11 -> 0.051 | I11: 0.0305 | J11: 0.036 | K11: 0.036 | L11: 0.034166667 | M11: 0.0018333333
A13: Filter blank | B13: 0.032 | C13: 0.029 | D13: 0.041
A14: Control | B14: 0.0525 | C14: 0.0465 | D14: 0.0505 | E14: 2 | F14: =B14*E14 -> 0.105 | G14: =C14*E14 -> 0.093 | H14: =D14*E14 -> 0.101 | I14: 0.073 | J14: 0.064 | K14: 0.06 | L14: 0.065666667 | M14: 0.0038441875 | N14: 0.005 | O14: =I14*(1/N14)*'Standard curve for alcian blue'!$B$21 -> 2754.717 | P14: =J14*(1/N14)*'Standard curve for alcian blue'!$B$21 -> 2415.0943 | Q14: =K14*(1/N14)*'Standard curve for alcian blue'!$B$21 -> 2264.1509 | R14: =AVERAGE(O14:Q14) -> 2477.9874 | S14: {=_xlfn.STDEV.S(O14:Q14/SQRT(3))} -> 145.06368
A15: W. poriferorum | B15: 0.073666667 | C15: 0.034 | D15: 0.062666667 | E15: 3 | F15: =B15*E15 -> 0.221 | G15: =C15*E15 -> 0.102 | H15: =D15*E15 -> 0.188 | I15: 0.189 | J15: 0.073 | K15: 0.147 | L15: 0.13633333 | M15: 0.033908373 | N15: 0.005 | O15: =I15*(1/N15)*'Standard curve for alcian blue'!$B$21 -> 7132.0755 | P15: =J15*(1/N15)*'Standard curve for alcian blue'!$B$21 -> 2754.717 | Q15: =K15*(1/N15)*'Standard curve for alcian blue'!$B$21 -> 5547.1698 | R15: =AVERAGE(O15:Q15) -> 5144.6541 | S15: {=_xlfn.STDEV.S(O15:Q15/SQRT(3))} -> 1279.5613
A16: R. spongicola | B16: 0.085 | C16: 0.073 | D16: 0.084 | E16: 1 | F16: =B16*E16 -> 0.085 | G16: =C16*E16 -> 0.073 | H16: =D16*E16 -> 0.084 | I16: 0.053 | J16: 0.044 | K16: 0.043 | L16: 0.046666667 | M16: 0.0031797973 | N16: 0.005 | O16: =I16*(1/N16)*'Standard curve for alcian blue'!$B$21 -> 2000 | P16: =J16*(1/N16)*'Standard curve for alcian blue'!$B$21 -> 1660.3774 | Q16: =K16*(1/N16)*'Standard curve for alcian blue'!$B$21 -> 1622.6415 | R16: =AVERAGE(O16:Q16) -> 1761.0063 | S16: {=_xlfn.STDEV.S(O16:Q16/SQRT(3))} -> 119.99235
A17: V. gigantis | B17: 0.064 | C17: 0.065 | D17: 0.064 | E17: 1 | F17: =B17*E17 -> 0.064 | G17: =C17*E17 -> 0.065 | H17: =D17*E17 -> 0.064 | I17: 0.032 | J17: 0.036 | K17: 0.023 | L17: 0.030333333 | M17: 0.0038441875 | N17: 0.001 | O17: =I17*(1/N17)*'Standard curve for alcian blue'!$B$21 -> 6037.7358 | P17: =J17*(1/N17)*'Standard curve for alcian blue'!$B$21 -> 6792.4528 | Q17: =K17*(1/N17)*'Standard curve for alcian blue'!$B$21 -> 4339.6226 | R17: =AVERAGE(O17:Q17) -> 5723.2704 | S17: {=_xlfn.STDEV.S(O17:Q17/SQRT(3))} -> 725.3184
A18: Media blank | B18: 0.052 | C18: 0.053 | D18: 0.0505 | E18: 1 | F18: =B18*E18 -> 0.052 | G18: =C18*E18 -> 0.053 | H18: =D18*E18 -> 0.0505 | I18: 0.02 | J18: 0.024 | K18: 0.0095 | L18: 0.017833333 | M18: 0.0043237073
A20: Filter blank | B20: 0.075 | C20: 0.067 | D20: 0.064
A21: Control | B21: 0.066 | C21: 0.057666667 | D21: 0.050666667 | E21: 3 | F21: =B21*E21 -> 0.198 | G21: =C21*E21 -> 0.173 | H21: =D21*E21 -> 0.152 | I21: 0.123 | J21: 0.106 | K21: 0.088 | L21: 0.10566667 | M21: 0.010105004 | N21: 0.005 | O21: =I21*(1/N21)*'Standard curve for alcian blue'!$B$21 -> 4641.5094 | P21: =J21*(1/N21)*'Standard curve for alcian blue'!$B$21 -> 4000 | Q21: =K21*(1/N21)*'Standard curve for alcian blue'!$B$21 -> 3320.7547 | R21: =AVERAGE(O21:Q21) -> 3987.4214 | S21: {=_xlfn.STDEV.S(O21:Q21/SQRT(3))} -> 381.32092
A22: O. ascidiaceicola | B22: 0.0945 | C22: 0.0875 | D22: 0.081 | E22: 2 | F22: =B22*E22 -> 0.189 | G22: =C22*E22 -> 0.175 | H22: =D22*E22 -> 0.162 | I22: 0.114 | J22: 0.108 | K22: 0.098 | L22: 0.10666667 | M22: 0.0046666667 | N22: 0.002 | O22: =I22*(1/N22)*'Standard curve for alcian blue'!$B$21 -> 10754.717 | P22: =J22*(1/N22)*'Standard curve for alcian blue'!$B$21 -> 10188.679 | Q22: =K22*(1/N22)*'Standard curve for alcian blue'!$B$21 -> 9245.283 | R22: =AVERAGE(O22:Q22) -> 10062.893 | S22: {=_xlfn.STDEV.S(O22:Q22/SQRT(3))} -> 440.25157
A23: A. venerupis | B23: 0.0625 | C23: 0.0645 | D23: 0.068 | E23: 2 | F23: =B23*E23 -> 0.125 | G23: =C23*E23 -> 0.129 | H23: =D23*E23 -> 0.136 | I23: 0.05 | J23: 0.062 | K23: 0.072 | L23: 0.061333333 | M23: 0.0063595947 | N23: 0.002 | O23: =I23*(1/N23)*'Standard curve for alcian blue'!$B$21 -> 4716.9811 | P23: =J23*(1/N23)*'Standard curve for alcian blue'!$B$21 -> 5849.0566 | Q23: =K23*(1/N23)*'Standard curve for alcian blue'!$B$21 -> 6792.4528 | R23: =AVERAGE(O23:Q23) -> 5786.1635 | S23: {=_xlfn.STDEV.S(O23:Q23/SQRT(3))} -> 599.96176
A24: Media blank | B24: 0.0505 | C24: 0.059 | D24: 0.056 | E24: 1 | F24: =B24*E24 -> 0.0505 | G24: =C24*E24 -> 0.059 | H24: =D24*E24 -> 0.056 | I24: -0.0245 | J24: -0.008 | K24: -0.008 | L24: -0.0135 | M24: 0.0055
A26: Filter blank | B26: 0.043 | C26: 0.044 | D26: 0.047
A27: Control | B27: 0.092 | C27: 0.0705 | D27: 0.078 | E27: 2 | F27: =B27*E27 -> 0.184 | G27: =C27*E27 -> 0.141 | H27: =D27*E27 -> 0.156 | I27: 0.141 | J27: 0.097 | K27: 0.109 | L27: 0.11566667 | M27: 0.01313181 | N27: 0.005 | O27: =I27*(1/N27)*'Standard curve for alcian blue'!$B$21 -> 5320.7547 | P27: =J27*(1/N27)*'Standard curve for alcian blue'!$B$21 -> 3660.3774 | Q27: =K27*(1/N27)*'Standard curve for alcian blue'!$B$21 -> 4113.2075 | R27: =AVERAGE(O27:Q27) -> 4364.7799 | S27: {=_xlfn.STDEV.S(O27:Q27/SQRT(3))} -> 495.54002
A28: R. litoreus | B28: 0.095 | C28: 0.078 | D28: 0.089 | E28: 1 | F28: =B28*E28 -> 0.095 | G28: =C28*E28 -> 0.078 | H28: =D28*E28 -> 0.089 | I28: 0.052 | J28: 0.034 | K28: 0.042 | L28: 0.042666667 | M28: 0.0052068331 | N28: 0.002 | O28: =I28*(1/N28)*'Standard curve for alcian blue'!$B$21 -> 4905.6604 | P28: =J28*(1/N28)*'Standard curve for alcian blue'!$B$21 -> 3207.5472 | Q28: =K28*(1/N28)*'Standard curve for alcian blue'!$B$21 -> 3962.2642 | R28: =AVERAGE(O28:Q28) -> 4025.1572 | S28: {=_xlfn.STDEV.S(O28:Q28/SQRT(3))} -> 491.21067
A29: A. lipolytica | B29: 0.0495 | C29: 0.0295 | D29: 0.0435 | E29: 2 | F29: =B29*E29 -> 0.099 | G29: =C29*E29 -> 0.059 | H29: =D29*E29 -> 0.087 | I29: 0.056 | J29: 0.015 | K29: 0.04 | L29: 0.037 | M29: 0.011930353 | N29: 0.002 | O29: =I29*(1/N29)*'Standard curve for alcian blue'!$B$21 -> 5283.0189 | P29: =J29*(1/N29)*'Standard curve for alcian blue'!$B$21 -> 1415.0943 | Q29: =K29*(1/N29)*'Standard curve for alcian blue'!$B$21 -> 3773.5849 | R29: =AVERAGE(O29:Q29) -> 3490.566 | S29: {=_xlfn.STDEV.S(O29:Q29/SQRT(3))} -> 1125.505
A30: P. porticola | B30: 0.0515 | C30: 0.0465 | D30: 0.0455 | E30: 2 | F30: =B30*E30 -> 0.103 | G30: =C30*E30 -> 0.093 | H30: =D30*E30 -> 0.091 | I30: 0.06 | J30: 0.049 | K30: 0.044 | L30: 0.051 | M30: 0.0047258156 | N30: 0.002 | O30: =I30*(1/N30)*'Standard curve for alcian blue'!$B$21 -> 5660.3774 | P30: =J30*(1/N30)*'Standard curve for alcian blue'!$B$21 -> 4622.6415 | Q30: =K30*(1/N30)*'Standard curve for alcian blue'!$B$21 -> 4150.9434 | R30: =AVERAGE(O30:Q30) -> 4811.3208 | S30: {=_xlfn.STDEV.S(O30:Q30/SQRT(3))} -> 445.83166
A31: Media blank | B31: 0.051 | C31: 0.0515 | D31: 0.0505 | E31: 1 | F31: =B31*E31 -> 0.051 | G31: =C31*E31 -> 0.0515 | H31: =D31*E31 -> 0.0505 | I31: 0.008 | J31: 0.0075 | K31: 0.0035 | L31: 0.0063333333 | M31: 0.0014240006
A33: FIlter blank | B33: 0.043 | C33: 0.065 | D33: 0.046
A34: Control | B34: 0.059666667 | C34: 0.068333333 | D34: 0.043333333 | E34: 3 | F34: =B34*E34 -> 0.179 | G34: =C34*E34 -> 0.205 | H34: =D34*E34 -> 0.13 | I34: 0.136 | J34: 0.14 | K34: 0.084 | L34: 0.12 | M34: 0.018036999 | N34: 0.005 | O34: =I34*(1/N34)*'Standard curve for alcian blue'!$B$21 -> 5132.0755 | P34: =J34*(1/N34)*'Standard curve for alcian blue'!$B$21 -> 5283.0189 | Q34: =K34*(1/N34)*'Standard curve for alcian blue'!$B$21 -> 3169.8113 | R34: =AVERAGE(O34:Q34) -> 4528.3019 | S34: {=_xlfn.STDEV.S(O34:Q34/SQRT(3))} -> 680.64147
A35: M. lutimaris | B35: 0.089 | C35: 0.0805 | D35: 0.0865 | E35: 2 | F35: =B35*E35 -> 0.178 | G35: =C35*E35 -> 0.161 | H35: =D35*E35 -> 0.173 | I35: 0.135 | J35: 0.096 | K35: 0.127 | L35: 0.11933333 | M35: 0.011893042 | N35: 0.002 | O35: =I35*(1/N35)*'Standard curve for alcian blue'!$B$21 -> 12735.849 | P35: =J35*(1/N35)*'Standard curve for alcian blue'!$B$21 -> 9056.6038 | Q35: =K35*(1/N35)*'Standard curve for alcian blue'!$B$21 -> 11981.132 | R35: =AVERAGE(O35:Q35) -> 11257.862 | S35: {=_xlfn.STDEV.S(O35:Q35/SQRT(3))} -> 1121.9851
A36: E. flavus | B36: 0.0665 | C36: 0.085 | D36: 0.0705 | E36: 2 | F36: =B36*E36 -> 0.133 | G36: =C36*E36 -> 0.17 | H36: =D36*E36 -> 0.141 | I36: 0.09 | J36: 0.105 | K36: 0.095 | L36: 0.096666667 | M36: 0.0044095855 | N36: 0.002 | O36: =I36*(1/N36)*'Standard curve for alcian blue'!$B$21 -> 8490.566 | P36: =J36*(1/N36)*'Standard curve for alcian blue'!$B$21 -> 9905.6604 | Q36: =K36*(1/N36)*'Standard curve for alcian blue'!$B$21 -> 8962.2642 | R36: =AVERAGE(O36:Q36) -> 9119.4969 | S36: {=_xlfn.STDEV.S(O36:Q36/SQRT(3))} -> 415.99863
A37: S. marina | B37: 0.074 | C37: 0.071 | D37: 0.07 | E37: 1 | F37: =B37*E37 -> 0.074 | G37: =C37*E37 -> 0.071 | H37: =D37*E37 -> 0.07 | I37: 0.031 | J37: 0.006 | K37: 0.024 | L37: 0.020333333 | M37: 0.0074461026 | N37: 0.002 | O37: =I37*(1/N37)*'Standard curve for alcian blue'!$B$21 -> 2924.5283 | P37: =J37*(1/N37)*'Standard curve for alcian blue'!$B$21 -> 566.03774 | Q37: =K37*(1/N37)*'Standard curve for alcian blue'!$B$21 -> 2264.1509 | R37: =AVERAGE(O37:Q37) -> 1918.239 | S37: {=_xlfn.STDEV.S(O37:Q37/SQRT(3))} -> 702.46251
A38: Media blank | B38: 0.052 | C38: 0.0585 | D38: 0.053 | E38: 1 | F38: =B38*E38 -> 0.052 | G38: =C38*E38 -> 0.0585 | H38: =D38*E38 -> 0.053 | I38: 0.009 | J38: -0.0065 | K38: 0.007 | L38: 0.0031666667 | M38: 0.004867694
A40: Filter blank | B40: 0.076 | C40: 0.066 | D40: 0.069
A41: Control | B41: 0.091 | C41: 0.079 | D41: 0.0545 | E41: 2 | F41: =B41*E41 -> 0.182 | G41: =C41*E41 -> 0.158 | H41: =D41*E41 -> 0.109 | I41: 0.106 | J41: 0.092 | K41: 0.04 | L41: 0.079333333 | M41: 0.020077627 | N41: 0.005 | O41: =I41*(1/N41)*'Standard curve for alcian blue'!$B$21 -> 4000 | P41: =J41*(1/N41)*'Standard curve for alcian blue'!$B$21 -> 3471.6981 | Q41: =K41*(1/N41)*'Standard curve for alcian blue'!$B$21 -> 1509.434 | R41: =AVERAGE(O41:Q41) -> 2993.7107 | S41: {=_xlfn.STDEV.S(O41:Q41/SQRT(3))} -> 757.64631
A42: B. megaterium | B42: 0.0785 | C42: 0.0855 | D42: 0.091 | E42: 2 | F42: =B42*E42 -> 0.157 | G42: =C42*E42 -> 0.171 | H42: =D42*E42 -> 0.182 | I42: 0.081 | J42: 0.105 | K42: 0.113 | L42: 0.099666667 | M42: 0.0096148034 | N42: 0.005 | O42: =I42*(1/N42)*'Standard curve for alcian blue'!$B$21 -> 3056.6038 | P42: =J42*(1/N42)*'Standard curve for alcian blue'!$B$21 -> 3962.2642 | Q42: =K42*(1/N42)*'Standard curve for alcian blue'!$B$21 -> 4264.1509 | R42: =AVERAGE(O42:Q42) -> 3761.0063 | S42: {=_xlfn.STDEV.S(O42:Q42/SQRT(3))} -> 362.82277
A43: M. adhaerens | B43: 0.080666667 | C43: 0.084333333 | D43: 0.076333333 | E43: 3 | F43: =B43*E43 -> 0.242 | G43: =C43*E43 -> 0.253 | H43: =D43*E43 -> 0.229 | I43: 0.166 | J43: 0.187 | K43: 0.16 | L43: 0.171 | M43: 0.0081853528 | N43: 0.005 | O43: =I43*(1/N43)*'Standard curve for alcian blue'!$B$21 -> 6264.1509 | P43: =J43*(1/N43)*'Standard curve for alcian blue'!$B$21 -> 7056.6038 | Q43: =K43*(1/N43)*'Standard curve for alcian blue'!$B$21 -> 6037.7358 | R43: =AVERAGE(O43:Q43) -> 6452.8302 | S43: {=_xlfn.STDEV.S(O43:Q43/SQRT(3))} -> 308.88124
A44: E. citreus | B44: 0.058 | C44: 0.055333333 | D44: 0.051 | E44: 3 | F44: =B44*E44 -> 0.174 | G44: =C44*E44 -> 0.166 | H44: =D44*E44 -> 0.153 | I44: 0.098 | J44: 0.1 | K44: 0.084 | L44: 0.094 | M44: 0.005033223 | N44: 0.002 | O44: =I44*(1/N44)*'Standard curve for alcian blue'!$B$21 -> 9245.283 | P44: =J44*(1/N44)*'Standard curve for alcian blue'!$B$21 -> 9433.9623 | Q44: =K44*(1/N44)*'Standard curve for alcian blue'!$B$21 -> 7924.5283 | R44: =AVERAGE(O44:Q44) -> 8867.9245 | S44: {=_xlfn.STDEV.S(O44:Q44/SQRT(3))} -> 474.83235
A45: Media blank | B45: 0.0515 | C45: 0.0545 | D45: 0.058 | E45: 1 | F45: =B45*E45 -> 0.0515 | G45: =C45*E45 -> 0.0545 | H45: =D45*E45 -> 0.058 | I45: -0.0245 | J45: -0.0115 | K45: -0.011 | L45: -0.015666667 | M45: 0.0044190245
A47: Filter blank | B47: 0.05 | C47: 0.049 | D47: 0.053
A48: Control | B48: 0.09 | C48: 0.073 | D48: 0.094 | E48: 1 | F48: =B48*E48 -> 0.09 | G48: =C48*E48 -> 0.073 | H48: =D48*E48 -> 0.094 | I48: 0.04 | J48: 0.024 | K48: 0.041 | L48: 0.035 | M48: 0.0055075705 | N48: 0.005 | O48: =I48*(1/N48)*'Standard curve for alcian blue'!$B$21 -> 1509.434 | P48: =J48*(1/N48)*'Standard curve for alcian blue'!$B$21 -> 905.66038 | Q48: =K48*(1/N48)*'Standard curve for alcian blue'!$B$21 -> 1547.1698 | R48: =AVERAGE(O48:Q48) -> 1320.7547 | S48: {=_xlfn.STDEV.S(O48:Q48/SQRT(3))} -> 207.83285
...

Sheet Noculata alcian blue
A1: Nannochloropsis oculata Alcian blue
B4: OD 787 | E4: Dilution factor | F4: OD787*Dilution factor | I4: Sample minus filter blank | N4: Sample volume | O4: Ctep
A5: Sample | B5: 1 | C5: 2 | D5: 3 | F5: 1 | G5: 2 | H5: 3 | I5: 1 | J5: 2 | K5: 3 | L5: Average | M5: SEM | O5: 1 | P5: 2 | Q5: 3 | R5: Average | S5: SEM
A6: Filter blank | B6: 0.089 | C6: 0.084 | D6: 0.09
A7: Control | B7: 0.088 | C7: 0.086 | D7: 0.083 | E7: 2 | F7: =B7*E7 -> 0.176 | G7: =C7*E7 -> 0.172 | H7: =D7*E7 -> 0.166 | I7: =F7-B6 -> 0.087 | J7: =G7-C6 -> 0.088 | K7: =H7-D6 -> 0.076 | L7: =AVERAGE(I7:K7) -> 0.083666667 | M7: =_xlfn.STDEV.S(I7:K7)/SQRT(3) -> 0.0038441875 | N7: 0.005 | O7: =I7*(1/N7)*'Standard curve for alcian blue'!$B$21 -> 3283.0189 | P7: =J7*(1/N7)*'Standard curve for alcian blue'!$B$21 -> 3320.7547 | Q7: =K7*(1/N7)*'Standard curve for alcian blue'!$B$21 -> 2867.9245 | R7: =AVERAGE(O7:Q7) -> 3157.2327 | S7: =_xlfn.STDEV.S(O7:Q7)/SQRT(3) -> 145.06368
A8: R. spongicola | B8: 0.052 | C8: 0.044 | D8: 0.0425 | E8: 2 | F8: =B8*E8 -> 0.104 | G8: =C8*E8 -> 0.088 | H8: =D8*E8 -> 0.085 | I8: =F8-B6 -> 0.015 | J8: =G8-C6 -> 0.004 | K8: =H8-D6 -> -0.005 | L8: =AVERAGE(I8:K8) -> 0.0046666667 | M8: =_xlfn.STDEV.S(I8:K8)/SQRT(3) -> 0.0057831172 | N8: 0.003 | O8: =I8*(1/N8)*'Standard curve for alcian blue'!$B$21 -> 943.39623 | P8: =J8*(1/N8)*'Standard curve for alcian blue'!$B$21 -> 251.57233 | Q8: =K8*(1/N8)*'Standard curve for alcian blue'!$B$21 -> -314.46541 | R8: =AVERAGE(O8:Q8) -> 293.50105 | S8: =_xlfn.STDEV.S(O8:Q8)/SQRT(3) -> 363.71806
A9: W. poriferorum | B9: 0.0655 | C9: 0.0775 | D9: 0.063 | E9: 2 | F9: =B9*E9 -> 0.131 | G9: =C9*E9 -> 0.155 | H9: =D9*E9 -> 0.126 | I9: =F9-B6 -> 0.042 | J9: =G9-C6 -> 0.071 | K9: =H9-D6 -> 0.036 | L9: =AVERAGE(I9:K9) -> 0.049666667 | M9: =_xlfn.STDEV.S(I9:K9)/SQRT(3) -> 0.010806377 | N9: 0.003 | O9: =I9*(1/N9)*'Standard curve for alcian blue'!$B$21 -> 2641.5094 | P9: =J9*(1/N9)*'Standard curve for alcian blue'!$B$21 -> 4465.4088 | Q9: =K9*(1/N9)*'Standard curve for alcian blue'!$B$21 -> 2264.1509 | R9: =AVERAGE(O9:Q9) -> 3123.6897 | S9: =_xlfn.STDEV.S(O9:Q9)/SQRT(3) -> 679.64633
A10: V. gigantis | B10: 0.0855 | C10: 0.075 | D10: 0.079 | E10: 2 | F10: =B10*E10 -> 0.171 | G10: =C10*E10 -> 0.15 | H10: =D10*E10 -> 0.158 | I10: =F10-B6 -> 0.082 | J10: =G10-C6 -> 0.066 | K10: =H10-D6 -> 0.068 | L10: =AVERAGE(I10:K10) -> 0.072 | M10: =_xlfn.STDEV.S(I10:K10)/SQRT(3) -> 0.005033223 | N10: 0.003 | O10: =I10*(1/N10)*'Standard curve for alcian blue'!$B$21 -> 5157.2327 | P10: =J10*(1/N10)*'Standard curve for alcian blue'!$B$21 -> 4150.9434 | Q10: =K10*(1/N10)*'Standard curve for alcian blue'!$B$21 -> 4276.7296 | R10: =AVERAGE(O10:Q10) -> 4528.3019 | S10: =_xlfn.STDEV.S(O10:Q10)/SQRT(3) -> 316.5549
A11: NaOH | B11: 0.056 | C11: 0.054 | D11: 0.063 | E11: 2 | F11: =B11*$E$11 -> 0.112 | G11: =C11*$E$11 -> 0.108 | H11: =D11*$E$11 -> 0.126 | I11: =F11-$B$6 -> 0.023 | J11: =G11-$C$6 -> 0.024 | K11: =H11-$D$6 -> 0.036 | L11: =AVERAGE(I11:K11) -> 0.027666667 | M11: =_xlfn.STDEV.S(I11:K11)/SQRT(3) -> 0.0041766547 | N11: 0.005 | O11: =I11*(1/$N11)*'Standard curve for alcian blue'!$B$21 -> 867.92453 | P11: =J11*(1/$N11)*'Standard curve for alcian blue'!$B$21 -> 905.66038 | Q11: =K11*(1/$N11)*'Standard curve for alcian blue'!$B$21 -> 1358.4906 | R11: =AVERAGE(O11:Q11) -> 1044.0252 | S11: =_xlfn.STDEV.S(O11:Q11)/SQRT(3) -> 157.60961
A12: Media blank | B12: 0.0515 | C12: 0.054 | D12: 0.051 | E12: 1 | F12: =B12*E12 -> 0.0515 | G12: =C12*E12 -> 0.054 | H12: =D12*E12 -> 0.051 | I12: =F12-B6 -> -0.0375 | J12: =G12-C6 -> -0.03 | K12: =H12-D6 -> -0.039 | L12: =AVERAGE(I12:K12) -> -0.0355 | M12: =_xlfn.STDEV.S(I12:K12)/SQRT(3) -> 0.0027838822
A14: Filter blank | B14: 0.083 | C14: 0.085 | D14: 0.078
A15: Control | B15: 0.0765 | C15: 0.064 | D15: 0.088 | E15: 2 | F15: =B15*E15 -> 0.153 | G15: =C15*E15 -> 0.128 | H15: =D15*E15 -> 0.176 | I15: =F15-B14 -> 0.07 | J15: =G15-C14 -> 0.043 | K15: =H15-D14 -> 0.098 | L15: =AVERAGE(I15:K15) -> 0.070333333 | M15: =_xlfn.STDEV.S(I15:K15)/SQRT(3) -> 0.015878007 | N15: 0.005 | O15: =I15*(1/N15)*'Standard curve for alcian blue'!$B$21 -> 2641.5094 | P15: =J15*(1/N15)*'Standard curve for alcian blue'!$B$21 -> 1622.6415 | Q15: =K15*(1/N15)*'Standard curve for alcian blue'!$B$21 -> 3698.1132 | R15: =AVERAGE(O15:Q15) -> 2654.0881 | S15: =_xlfn.STDEV.S(O15:Q15)/SQRT(3) -> 599.17008
A16: P. porticola | B16: 0.08 | C16: 0.068333333 | D16: 0.089 | E16: 2 | F16: =B16*E16 -> 0.16 | G16: =C16*E16 -> 0.13666667 | H16: =D16*E16 -> 0.178 | I16: =F16-B14 -> 0.077 | J16: =G16-C14 -> 0.051666667 | K16: =H16-D14 -> 0.1 | L16: =AVERAGE(I16:K16) -> 0.076222222 | M16: =_xlfn.STDEV.S(I16:K16)/SQRT(3) -> 0.01395805 | N16: 0.003 | O16: =I16*(1/N16)*'Standard curve for alcian blue'!$B$21 -> 4842.7673 | P16: =J16*(1/N16)*'Standard curve for alcian blue'!$B$21 -> 3249.4759 | Q16: =K16*(1/N16)*'Standard curve for alcian blue'!$B$21 -> 6289.3082 | R16: =AVERAGE(O16:Q16) -> 4793.8505 | S16: =_xlfn.STDEV.S(O16:Q16)/SQRT(3) -> 877.86478
A17: S. marina | B17: 0.0675 | C17: 0.063 | D17: 0.0595 | E17: 2 | F17: =B17*E17 -> 0.135 | G17: =C17*E17 -> 0.126 | H17: =D17*E17 -> 0.119 | I17: =F17-B14 -> 0.052 | J17: =G17-C14 -> 0.041 | K17: =H17-D14 -> 0.041 | L17: =AVERAGE(I17:K17) -> 0.044666667 | M17: =_xlfn.STDEV.S(I17:K17)/SQRT(3) -> 0.0036666667 | N17: 0.003 | O17: =I17*(1/N17)*'Standard curve for alcian blue'!$B$21 -> 3270.4403 | P17: =J17*(1/N17)*'Standard curve for alcian blue'!$B$21 -> 2578.6164 | Q17: =K17*(1/N17)*'Standard curve for alcian blue'!$B$21 -> 2578.6164 | R17: =AVERAGE(O17:Q17) -> 2809.2243 | S17: =_xlfn.STDEV.S(O17:Q17)/SQRT(3) -> 230.60797
A18: S. flavimaris | B18: 0.0435 | C18: 0.056 | D18: 0.0445 | E18: 2 | F18: =B18*E18 -> 0.087 | G18: =C18*E18 -> 0.112 | H18: =D18*E18 -> 0.089 | I18: =F18-B14 -> 0.004 | J18: =G18-C14 -> 0.027 | K18: =H18-D14 -> 0.011 | L18: =AVERAGE(I18:K18) -> 0.014 | M18: =_xlfn.STDEV.S(I18:K18)/SQRT(3) -> 0.0068068593 | N18: 0.003 | O18: =I18*(1/N18)*'Standard curve for alcian blue'!$B$21 -> 251.57233 | P18: =J18*(1/N18)*'Standard curve for alcian blue'!$B$21 -> 1698.1132 | Q18: =K18*(1/N18)*'Standard curve for alcian blue'!$B$21 -> 691.8239 | R18: =AVERAGE(O18:Q18) -> 880.50314 | S18: =_xlfn.STDEV.S(O18:Q18)/SQRT(3) -> 428.10436
A19: Media blank | B19: 0.052 | C19: 0.053 | D19: 0.0505 | E19: 1 | F19: =B19*E19 -> 0.052 | G19: =C19*E19 -> 0.053 | H19: =D19*E19 -> 0.0505 | I19: =F19-B14 -> -0.031 | J19: =G19-C14 -> -0.032 | K19: =H19-D14 -> -0.0275 | L19: =AVERAGE(I19:K19) -> -0.030166667 | M19: =_xlfn.STDEV.S(I19:K19)/SQRT(3) -> 0.0013642255
A21: Filter blank | B21: 0.111 | C21: 0.117 | D21: 0.108
A22: Control | B22: 0.07 | C22: 0.064 | D22: 0.066 | E22: 2 | F22: =B22*E22 -> 0.14 | G22: =C22*E22 -> 0.128 | H22: =D22*E22 -> 0.132 | I22: =F22-B21 -> 0.029 | J22: =G22-C21 -> 0.011 | K22: =H22-D21 -> 0.024 | L22: =AVERAGE(I22:K22) -> 0.021333333 | M22: =_xlfn.STDEV.S(I22:K22)/SQRT(3) -> 0.0053644923 | N22: 0.005 | O22: =I22*(1/N22)*'Standard curve for alcian blue'!$B$21 -> 1094.3396 | P22: =J22*(1/N22)*'Standard curve for alcian blue'!$B$21 -> 415.09434 | Q22: =K22*(1/N22)*'Standard curve for alcian blue'!$B$21 -> 905.66038 | R22: =AVERAGE(O22:Q22) -> 805.03145 | S22: =_xlfn.STDEV.S(O22:Q22)/SQRT(3) -> 202.43367
A23: S. mediterraneus | B23: 0.047 | C23: 0.041 | D23: 0.043 | E23: 2 | F23: =B23*E23 -> 0.094 | G23: =C23*E23 -> 0.082 | H23: =D23*E23 -> 0.086 | I23: =F23-B21 -> -0.017 | J23: =G23-C21 -> -0.035 | K23: =H23-D21 -> -0.022 | L23: =AVERAGE(I23:K23) -> -0.024666667 | M23: =_xlfn.STDEV.S(I23:K23)/SQRT(3) -> 0.0053644923 | N23: 0.003 | O23: =I23*(1/N23)*'Standard curve for alcian blue'!$B$21 -> -1069.1824 | P23: =J23*(1/N23)*'Standard curve for alcian blue'!$B$21 -> -2201.2579 | Q23: =K23*(1/N23)*'Standard curve for alcian blue'!$B$21 -> -1383.6478 | R23: =AVERAGE(O23:Q23) -> -1551.3627 | S23: =_xlfn.STDEV.S(O23:Q23)/SQRT(3) -> 337.38945
A24: M. dokdonensis | B24: 0.052 | C24: 0.042 | D24: 0.046 | E24: 2 | F24: =B24*E24 -> 0.104 | G24: =C24*E24 -> 0.084 | H24: =D24*E24 -> 0.092 | I24: =F24-B21 -> -0.007 | J24: =G24-C21 -> -0.033 | K24: =H24-D21 -> -0.016 | L24: =AVERAGE(I24:K24) -> -0.018666667 | M24: =_xlfn.STDEV.S(I24:K24)/SQRT(3) -> 0.0076230644 | N24: 0.003 | O24: =I24*(1/N24)*'Standard curve for alcian blue'!$B$21 -> -440.25157 | P24: =J24*(1/N24)*'Standard curve for alcian blue'!$B$21 -> -2075.4717 | Q24: =K24*(1/N24)*'Standard curve for alcian blue'!$B$21 -> -1006.2893 | R24: =AVERAGE(O24:Q24) -> -1174.0042 | S24: =_xlfn.STDEV.S(O24:Q24)/SQRT(3) -> 479.43801
A25: Media blank | B25: 0.0505 | C25: 0.059 | D25: 0.056 | E25: 1 | F25: =B25*E25 -> 0.0505 | G25: =C25*E25 -> 0.059 | H25: =D25*E25 -> 0.056 | I25: =F25-B21 -> -0.0605 | J25: =G25-C21 -> -0.058 | K25: =H25-D21 -> -0.052 | L25: =AVERAGE(I25:K25) -> -0.056833333 | M25: =_xlfn.STDEV.S(I25:K25)/SQRT(3) -> 0.0025221243
A27: Filter blank | B27: 0.059 | C27: 0.057 | D27: 0.064
A28: Control | B28: 0.0705 | C28: 0.076 | D28: 0.0715 | E28: 2 | F28: =B28*E28 -> 0.141 | G28: =C28*E28 -> 0.152 | H28: =D28*E28 -> 0.143 | I28: =F28-B27 -> 0.082 | J28: =G28-C27 -> 0.095 | K28: =H28-D27 -> 0.079 | L28: =AVERAGE(I28:K28) -> 0.085333333 | M28: =_xlfn.STDEV.S(I28:K28)/SQRT(3) -> 0.0049103066 | N28: 0.005 | O28: =I28*(1/N28)*'Standard curve for alcian blue'!$B$21 -> 3094.3396 | P28: =J28*(1/N28)*'Standard curve for alcian blue'!$B$21 -> 3584.9057 | Q28: =K28*(1/N28)*'Standard curve for alcian blue'!$B$21 -> 2981.1321 | R28: =AVERAGE(O28:Q28) -> 3220.1258 | S28: =_xlfn.STDEV.S(O28:Q28)/SQRT(3) -> 185.29459
A29: A. macleodii | B29: 0.0685 | C29: 0.061 | D29: 0.0635 | E29: 2 | F29: =B29*E29 -> 0.137 | G29: =C29*E29 -> 0.122 | H29: =D29*E29 -> 0.127 | I29: =F29-B27 -> 0.078 | J29: =G29-C27 -> 0.065 | K29: =H29-D27 -> 0.063 | L29: =AVERAGE(I29:K29) -> 0.068666667 | M29: =_xlfn.STDEV.S(I29:K29)/SQRT(3) -> 0.0047022453 | N29: 0.003 | O29: =I29*(1/N29)*'Standard curve for alcian blue'!$B$21 -> 4905.6604 | P29: =J29*(1/N29)*'Standard curve for alcian blue'!$B$21 -> 4088.0503 | Q29: =K29*(1/N29)*'Standard curve for alcian blue'!$B$21 -> 3962.2642 | R29: =AVERAGE(O29:Q29) -> 4318.6583 | S29: =_xlfn.STDEV.S(O29:Q29)/SQRT(3) -> 295.7387
A30: A. lipolytica | B30: 0.047 | C30: 0.0685 | D30: 0.059 | E30: 2 | F30: =B30*E30 -> 0.094 | G30: =C30*E30 -> 0.137 | H30: =D30*E30 -> 0.118 | I30: =F30-B27 -> 0.035 | J30: =G30-C27 -> 0.08 | K30: =H30-D27 -> 0.054 | L30: =AVERAGE(I30:K30) -> 0.056333333 | M30: =_xlfn.STDEV.S(I30:K30)/SQRT(3) -> 0.013042665 | N30: 0.003 | O30: =I30*(1/N30)*'Standard curve for alcian blue'!$B$21 -> 2201.2579 | P30: =J30*(1/N30)*'Standard curve for alcian blue'!$B$21 -> 5031.4465 | Q30: =K30*(1/N30)*'Standard curve for alcian blue'!$B$21 -> 3396.2264 | R30: =AVERAGE(O30:Q30) -> 3542.9769 | S30: =_xlfn.STDEV.S(O30:Q30)/SQRT(3) -> 820.2934
A31: O. ascidiaceicola | B31: 0.0525 | C31: 0.059 | D31: 0.057 | E31: 2 | F31: =B31*E31 -> 0.105 | G31: =C31*E31 -> 0.118 | H31: =D31*E31 -> 0.114 | I31: =F31-B27 -> 0.046 | J31: =G31-C27 -> 0.061 | K31: =H31-D27 -> 0.05 | L31: =AVERAGE(I31:K31) -> 0.052333333 | M31: =_xlfn.STDEV.S(I31:K31)/SQRT(3) -> 0.0044845413 | N31: 0.003 | O31: =I31*(1/N31)*'Standard curve for alcian blue'!$B$21 -> 2893.0818 | P31: =J31*(1/N31)*'Standard curve for alcian blue'!$B$21 -> 3836.478 | Q31: =K31*(1/N31)*'Standard curve for alcian blue'!$B$21 -> 3144.6541 | R31: =AVERAGE(O31:Q31) -> 3291.4046 | S31: =_xlfn.STDEV.S(O31:Q31)/SQRT(3) -> 282.04663
A32: Media blank | B32: 0.051 | C32: 0.0515 | D32: 0.0505 | E32: 1 | F32: =B32*E32 -> 0.051 | G32: =C32*E32 -> 0.0515 | H32: =D32*E32 -> 0.0505 | I32: =F32-B27 -> -0.008 | J32: =G32-C27 -> -0.0055 | K32: =H32-D27 -> -0.0135 | L32: =AVERAGE(I32:K32) -> -0.009 | M32: =_xlfn.STDEV.S(I32:K32)/SQRT(3) -> 0.0023629078
A34: FIlter blank | B34: 0.03 | C34: 0.034 | D34: 0.039
A35: Control | B35: 0.053 | C35: 0.05025 | D35: 0.0495 | E35: 4 | F35: =B35*E35 -> 0.212 | G35: =C35*E35 -> 0.201 | H35: =D35*E35 -> 0.198 | I35: =F35-B34 -> 0.182 | J35: =G35-C34 -> 0.167 | K35: =H35-D34 -> 0.159 | L35: =AVERAGE(I35:K35) -> 0.16933333 | M35: =_xlfn.STDEV.S(I35:K35)/SQRT(3) -> 0.0067412495 | N35: 0.005 | O35: =I35*(1/N35)*'Standard curve for alcian blue'!$B$21 -> 6867.9245 | P35: =J35*(1/N35)*'Standard curve for alcian blue'!$B$21 -> 6301.8868 | Q35: =K35*(1/N35)*'Standard curve for alcian blue'!$B$21 -> 6000 | R35: =AVERAGE(O35:Q35) -> 6389.9371 | S35: =_xlfn.STDEV.S(O35:Q35)/SQRT(3) -> 254.38677
A36: M. lutimaris | B36: 0.03375 | C36: 0.0465 | D36: 0.03575 | E36: 4 | F36: =B36*E36 -> 0.135 | G36: =C36*E36 -> 0.186 | H36: =D36*E36 -> 0.143 | I36: =F36-B34 -> 0.105 | J36: =G36-C34 -> 0.152 | K36: =H36-D34 -> 0.104 | L36: =AVERAGE(I36:K36) -> 0.12033333 | M36: =_xlfn.STDEV.S(I36:K36)/SQRT(3) -> 0.015835965 | N36: 0.003 | O36: =I36*(1/N36)*'Standard curve for alcian blue'!$B$21 -> 6603.7736 | P36: =J36*(1/N36)*'Standard curve for alcian blue'!$B$21 -> 9559.7484 | Q36: =K36*(1/N36)*'Standard curve for alcian blue'!$B$21 -> 6540.8805 | R36: =AVERAGE(O36:Q36) -> 7568.1342 | S36: =_xlfn.STDEV.S(O36:Q36)/SQRT(3) -> 995.97262
A37: E. citreus | B37: 0.0765 | C37: 0.06125 | D37: 0.057 | E37: 4 | F37: =B37*E37 -> 0.306 | G37: =C37*E37 -> 0.245 | H37: =D37*E37 -> 0.228 | I37: =F37-B34 -> 0.276 | J37: =G37-C34 -> 0.211 | K37: =H37-D34 -> 0.189 | L37: =AVERAGE(I37:K37) -> 0.22533333 | M37: =_xlfn.STDEV.S(I37:K37)/SQRT(3) -> 0.026117257 | N37: 0.005 | O37: =I37*(1/N37)*'Standard curve for alcian blue'!$B$21 -> 10415.094 | P37: =J37*(1/N37)*'Standard curve for alcian blue'!$B$21 -> 7962.2642 | Q37: =K37*(1/N37)*'Standard curve for alcian blue'!$B$21 -> 7132.0755 | R37: =AVERAGE(O37:Q37) -> 8503.1447 | S37: =_xlfn.STDEV.S(O37:Q37)/SQRT(3) -> 985.55687
A38: R. litoreus | B38: 0.06375 | C38: 0.05575 | D38: 0.066 | E38: 4 | F38: =B38*E38 -> 0.255 | G38: =C38*E38 -> 0.223 | H38: =D38*E38 -> 0.264 | I38: =F38-B34 -> 0.225 | J38: =G38-C34 -> 0.189 | K38: =H38-D34 -> 0.225 | L38: =AVERAGE(I38:K38) -> 0.213 | M38: =_xlfn.STDEV.S(I38:K38)/SQRT(3) -> 0.012 | N38: 0.005 | O38: =I38*(1/N38)*'Standard curve for alcian blue'!$B$21 -> 8490.566 | P38: =J38*(1/N38)*'Standard curve for alcian blue'!$B$21 -> 7132.0755 | Q38: =K38*(1/N38)*'Standard curve for alcian blue'!$B$21 -> 8490.566 | R38: =AVERAGE(O38:Q38) -> 8037.7358 | S38: =_xlfn.STDEV.S(O38:Q38)/SQRT(3) -> 452.83019
A39: Media blank | B39: 0.052 | C39: 0.0585 | D39: 0.053 | E39: 1 | F39: =B39*E39 -> 0.052 | G39: =C39*E39 -> 0.0585 | H39: =D39*E39 -> 0.053 | I39: =F39-B32 -> 0.001 | J39: =G39-C32 -> 0.007 | K39: =H39-D35 -> 0.0035 | L39: =AVERAGE(I39:K39) -> 0.0038333333 | M39: =_xlfn.STDEV.S(I39:K39)/SQRT(3) -> 0.0017400511
A41: Filter blank | B41: 0.023 | C41: 0.029 | D41: 0.033
A42: Control | B42: 0.0145 | C42: 0.0305 | D42: 0.015 | E42: 2 | F42: =B42*E42 -> 0.029 | G42: =C42*E42 -> 0.061 | H42: =D42*E42 -> 0.03 | I42: =F42-B41 -> 0.006 | J42: =G42-C41 -> 0.032 | K42: =H42-D41 -> -0.003 | L42: =AVERAGE(I42:K42) -> 0.011666667 | M42: =_xlfn.STDEV.S(I42:K42)/SQRT(3) -> 0.010493384 | N42: 0.005 | O42: =I42*(1/N42)*'Standard curve for alcian blue'!$B$21 -> 226.41509 | P42: =J42*(1/N42)*'Standard curve for alcian blue'!$B$21 -> 1207.5472 | Q42: =K42*(1/N42)*'Standard curve for alcian blue'!$B$21 -> -113.20755 | R42: =AVERAGE(O42:Q42) -> 440.25157 | S42: =_xlfn.STDEV.S(O42:Q42)/SQRT(3) -> 395.97676
A43: B. megaterium | B43: 0.078 | C43: 0.07 | D43: 0.052 | E43: 2 | F43: =B43*E43 -> 0.156 | G43: =C43*E43 -> 0.14 | H43: =D43*E43 -> 0.104 | I43: =F43-B41 -> 0.133 | J43: =G43-C41 -> 0.111 | K43: =H43-D41 -> 0.071 | L43: =AVERAGE(I43:K43) -> 0.105 | M43: =_xlfn.STDEV.S(I43:K43)/SQRT(3) -> 0.018147543 | N43: 0.005 | O43: =I43*(1/N43)*'Standard curve for alcian blue'!$B$21 -> 5018.8679 | P43: =J43*(1/N43)*'Standard curve for alcian blue'!$B$21 -> 4188.6792 | Q43: =K43*(1/N43)*'Standard curve for alcian blue'!$B$21 -> 2679.2453 | R43: =AVERAGE(O43:Q43) -> 3962.2642 | S43: =_xlfn.STDEV.S(O43:Q43)/SQRT(3) -> 684.81296
A44: M. adhaerens | B44: 0.0535 | C44: 0.0665 | D44: 0.0565 | E44: 2 | F44: =B44*E44 -> 0.107 | G44: =C44*E44 -> 0.133 | H44: =D44*E44 -> 0.113 | I44: =F44-B41 -> 0.084 | J44: =G44-C41 -> 0.104 | K44: =H44-D41 -> 0.08 | L44: =AVERAGE(I44:K44) -> 0.089333333 | M44: =_xlfn.STDEV.S(I44:K44)/SQRT(3) -> 0.0074236858 | N44: 0.003 | O44: =I44*(1/N44)*'Standard curve for alcian blue'!$B$21 -> 5283.0189 | P44: =J44*(1/N44)*'Standard curve for alcian blue'!$B$21 -> 6540.8805 | Q44: =K44*(1/N44)*'Standard curve for alcian blue'!$B$21 -> 5031.4465 | R44: =AVERAGE(O44:Q44) -> 5618.4486 | S44: =_xlfn.STDEV.S(O44:Q44)/SQRT(3) -> 466.89848
A45: Media blank | B45: 0.0515 | C45: 0.0545 | D45: 0.058 | E45: 1 | F45: =B45*E45 -> 0.0515 | G45: =C45*E45 -> 0.0545 | H45: =D45*E45 -> 0.058 | I45: =F45-B41 -> 0.0285 | J45: =G45-C41 -> 0.0255 | K45: =H45-D41 -> 0.025 | L45: =AVERAGE(I45:K45) -> 0.026333333 | M45: =_xlfn.STDEV.S(I45:K45)/SQRT(3) -> 0.0010929064
A47: Filter blank | B47: 0.05 | C47: 0.049 | D47: 0.053
A48: Control | B48: 0.0535 | C48: 0.0635 | D48: 0.0655 | E48: 2 | F48: =B48*E48 -> 0.107 | G48: =C48*E48 -> 0.127 | H48: =D48*E48 -> 0.131 | I48: =F48-B47 -> 0.057 | J48: =G48-C47 -> 0.078 | K48: =H48-D47 -> 0.078 | L48: =AVERAGE(I48:K48) -> 0.071 | M48: =_xlfn.STDEV.S(I48:K48)/SQRT(3) -> 0.007 | N48: 0.005 | O48: =I48*(1/N48)*'Standard curve for alcian blue'!$B$21 -> 2150.9434 | P48: =J48*(1/N48)*'Standard curve for alcian blue'!$B$21 -> 2943.3962 | Q48: =K48*(1/N48)*'Standard curve for alcian blue'!$B$21 -> 2943.3962 | R48: =AVERAGE(O48:Q48) -> 2679.2453 | S48: =_xlfn.STDEV.S(O48:Q48)/SQRT(3) -> 264.15094
...
