Workbook

Sheet supplement to Figure 2A
A1: Protein Group | B1: Detected [+] (out of 10) | C1: Detected [-] (out of 8) | D1: Detected [C] (out of 12) | E1: 1[+] | F1: 2[+] | G1: 3[+] | H1: 4[+] | I1: 6[+] | J1: 7[+] | K1: 8[+] | L1: 9[+] | M1: 11[+] | N1: 12[+] | O1: 1[-] | P1: 3[-] | Q1: 4[-] | R1: 5[-] | S1: 6[-] | T1: 8[-] | U1: 9[-] | V1: 10[-] | W1: 1[C] | X1: 2[C] | Y1: 3[C] | Z1: 4[C] | AA1: 5[C] | AB1: 6[C] | AC1: 7[C] | AD1: 8[C] | AE1: 9[C] | AF1: 10[C] | AG1: 11[C] | AH1: 12[C]
A2: P06858 | B2: =COUNTIF('supplement to Figure 2A'!$E2:$N2,">0") -> 4 | C2: =COUNTIF('supplement to Figure 2A'!$O2:$V2,">0") -> 0 | D2: =COUNTIF('supplement to Figure 2A'!$W2:$AH2,">0") -> 1 | E2: 0 | F2: 252.66 | G2: 0 | H2: 0 | I2: 0 | J2: 4583.6 | K2: 26707 | L2: 0 | M2: 0 | N2: 1182.1 | O2: 0 | P2: 0 | Q2: 0 | R2: 0 | S2: 0 | T2: 0 | U2: 0 | V2: 0 | W2: 0 | X2: 0 | Y2: 0 | Z2: 0 | AA2: 0 | AB2: 0 | AC2: 0 | AD2: 0 | AE2: 0 | AF2: 165.29 | AG2: 0 | AH2: 0
A3: Q86SE8 | B3: =COUNTIF('supplement to Figure 2A'!$E3:$N3,">0") -> 3 | C3: =COUNTIF('supplement to Figure 2A'!$O3:$V3,">0") -> 5 | D3: =COUNTIF('supplement to Figure 2A'!$W3:$AH3,">0") -> 1 | E3: 0 | F3: 0 | G3: 0 | H3: 149.85 | I3: 427.49 | J3: 0 | K3: 0 | L3: 998.2 | M3: 0 | N3: 0 | O3: 0 | P3: 353.56 | Q3: 302.43 | R3: 0 | S3: 1044 | T3: 571.06 | U3: 897.25 | V3: 0 | W3: 0 | X3: 0 | Y3: 0 | Z3: 0 | AA3: 0 | AB3: 0 | AC3: 0 | AD3: 0 | AE3: 174.15 | AF3: 0 | AG3: 0 | AH3: 0
A4: Q7RTR0 | B4: =COUNTIF('supplement to Figure 2A'!$E4:$N4,">0") -> 2 | C4: =COUNTIF('supplement to Figure 2A'!$O4:$V4,">0") -> 6 | D4: =COUNTIF('supplement to Figure 2A'!$W4:$AH4,">0") -> 1 | E4: 0 | F4: 0 | G4: 0 | H4: 706.4 | I4: 0 | J4: 0 | K4: 0 | L4: 1913.6 | M4: 0 | N4: 0 | O4: 164.05 | P4: 459.57 | Q4: 442.08 | R4: 0 | S4: 966 | T4: 278.62 | U4: 767.81 | V4: 0 | W4: 0 | X4: 0 | Y4: 0 | Z4: 0 | AA4: 0 | AB4: 0 | AC4: 0 | AD4: 0 | AE4: 218.38 | AF4: 0 | AG4: 0 | AH4: 0
A5: Q99541 | B5: =COUNTIF('supplement to Figure 2A'!$E5:$N5,">0") -> 3 | C5: =COUNTIF('supplement to Figure 2A'!$O5:$V5,">0") -> 0 | D5: =COUNTIF('supplement to Figure 2A'!$W5:$AH5,">0") -> 0 | E5: 0 | F5: 0 | G5: 0 | H5: 0 | I5: 0 | J5: 3650.5 | K5: 12547 | L5: 0 | M5: 0 | N5: 257.06 | O5: 0 | P5: 0 | Q5: 0 | R5: 0 | S5: 0 | T5: 0 | U5: 0 | V5: 0 | W5: 0 | X5: 0 | Y5: 0 | Z5: 0 | AA5: 0 | AB5: 0 | AC5: 0 | AD5: 0 | AE5: 0 | AF5: 0 | AG5: 0 | AH5: 0
A6: P09110 | B6: =COUNTIF('supplement to Figure 2A'!$E6:$N6,">0") -> 9 | C6: =COUNTIF('supplement to Figure 2A'!$O6:$V6,">0") -> 7 | D6: =COUNTIF('supplement to Figure 2A'!$W6:$AH6,">0") -> 11 | E6: 465 | F6: 912.81 | G6: 769.83 | H6: 931.29 | I6: 0 | J6: 706.76 | K6: 485.92 | L6: 793.07 | M6: 621.15 | N6: 923.71 | O6: 616.78 | P6: 528.08 | Q6: 426.23 | R6: 693.45 | S6: 783.84 | T6: 551.22 | U6: 828.09 | V6: 0 | W6: 840.63 | X6: 629.89 | Y6: 602.8 | Z6: 883.33 | AA6: 430.79 | AB6: 756.85 | AC6: 749.83 | AD6: 758.61 | AE6: 672.29 | AF6: 0 | AG6: 356.49 | AH6: 306.93
A7: Q8WVV4 | B7: =COUNTIF('supplement to Figure 2A'!$E7:$N7,">0") -> 10 | C7: =COUNTIF('supplement to Figure 2A'!$O7:$V7,">0") -> 8 | D7: =COUNTIF('supplement to Figure 2A'!$W7:$AH7,">0") -> 12 | E7: 2333.6 | F7: 1285.6 | G7: 7207.9 | H7: 1547.4 | I7: 4508 | J7: 655.52 | K7: 2037.7 | L7: 1621.6 | M7: 6430.4 | N7: 2515.1 | O7: 1082.3 | P7: 1474.6 | Q7: 1182.1 | R7: 845.79 | S7: 1821.9 | T7: 4981.6 | U7: 1237.7 | V7: 2055.5 | W7: 1472.9 | X7: 876.35 | Y7: 997.73 | Z7: 6321.6 | AA7: 953.39 | AB7: 787.98 | AC7: 1316.2 | AD7: 2238.9 | AE7: 36066 | AF7: 1297.8 | AG7: 2169.7 | AH7: 2468.6
A8: P02750 | B8: =COUNTIF('supplement to Figure 2A'!$E8:$N8,">0") -> 10 | C8: =COUNTIF('supplement to Figure 2A'!$O8:$V8,">0") -> 8 | D8: =COUNTIF('supplement to Figure 2A'!$W8:$AH8,">0") -> 12 | E8: 87626 | F8: 196340 | G8: 55667 | H8: 87147 | I8: 111460 | J8: 46746 | K8: 115930 | L8: 95232 | M8: 112940 | N8: 61732 | O8: 96348 | P8: 64236 | Q8: 33217 | R8: 133390 | S8: 53822 | T8: 52716 | U8: 44911 | V8: 56968 | W8: 211980 | X8: 236040 | Y8: 84009 | Z8: 52199 | AA8: 92126 | AB8: 135240 | AC8: 85022 | AD8: 160360 | AE8: 70833 | AF8: 62530 | AG8: 101050 | AH8: 45539
A9: Q7Z4W1 | B9: =COUNTIF('supplement to Figure 2A'!$E9:$N9,">0") -> 1 | C9: =COUNTIF('supplement to Figure 2A'!$O9:$V9,">0") -> 0 | D9: =COUNTIF('supplement to Figure 2A'!$W9:$AH9,">0") -> 2 | E9: 0 | F9: 0 | G9: 0 | H9: 0 | I9: 0 | J9: 0 | K9: 0 | L9: 0 | M9: 199.23 | N9: 0 | O9: 0 | P9: 0 | Q9: 0 | R9: 0 | S9: 0 | T9: 0 | U9: 0 | V9: 0 | W9: 0 | X9: 0 | Y9: 0 | Z9: 79.026 | AA9: 0 | AB9: 0 | AC9: 0 | AD9: 0 | AE9: 1022.9 | AF9: 0 | AG9: 0 | AH9: 0
A10: P48637 | B10: =COUNTIF('supplement to Figure 2A'!$E10:$N10,">0") -> 7 | C10: =COUNTIF('supplement to Figure 2A'!$O10:$V10,">0") -> 4 | D10: =COUNTIF('supplement to Figure 2A'!$W10:$AH10,">0") -> 10 | E10: 0 | F10: 0 | G10: 832.64 | H10: 0 | I10: 939.18 | J10: 572.11 | K10: 131.11 | L10: 273.47 | M10: 725.55 | N10: 569.05 | O10: 257.21 | P10: 0 | Q10: 285.56 | R10: 0 | S10: 0 | T10: 530.5 | U10: 524.5 | V10: 0 | W10: 0 | X10: 469.86 | Y10: 417.87 | Z10: 1143.9 | AA10: 399.58 | AB10: 685.21 | AC10: 482.17 | AD10: 700.33 | AE10: 3458.3 | AF10: 0 | AG10: 891.36 | AH10: 98.523
A11: P36955 | B11: =COUNTIF('supplement to Figure 2A'!$E11:$N11,">0") -> 5 | C11: =COUNTIF('supplement to Figure 2A'!$O11:$V11,">0") -> 4 | D11: =COUNTIF('supplement to Figure 2A'!$W11:$AH11,">0") -> 4 | E11: 0 | F11: 395.6 | G11: 0 | H11: 0 | I11: 146.24 | J11: 518.43 | K11: 0 | L11: 284.73 | M11: 393.3 | N11: 0 | O11: 0 | P11: 0 | Q11: 0 | R11: 409.73 | S11: 430.84 | T11: 444.07 | U11: 468.65 | V11: 0 | W11: 0 | X11: 0 | Y11: 0 | Z11: 0 | AA11: 0 | AB11: 515.85 | AC11: 702.92 | AD11: 0 | AE11: 0 | AF11: 0 | AG11: 445.36 | AH11: 439.85
A12: P40939 | B12: =COUNTIF('supplement to Figure 2A'!$E12:$N12,">0") -> 8 | C12: =COUNTIF('supplement to Figure 2A'!$O12:$V12,">0") -> 6 | D12: =COUNTIF('supplement to Figure 2A'!$W12:$AH12,">0") -> 10 | E12: 542.55 | F12: 896.41 | G12: 0 | H12: 849.8 | I12: 796.15 | J12: 188.39 | K12: 345.25 | L12: 634.38 | M12: 0 | N12: 618.37 | O12: 285.37 | P12: 599.44 | Q12: 428.07 | R12: 516.86 | S12: 751.62 | T12: 0 | U12: 200.6 | V12: 0 | W12: 389.81 | X12: 318.77 | Y12: 630.42 | Z12: 589.62 | AA12: 699.58 | AB12: 509.6 | AC12: 899.41 | AD12: 356.32 | AE12: 0 | AF12: 0 | AG12: 764.96 | AH12: 360.48
A13: P35222 | B13: =COUNTIF('supplement to Figure 2A'!$E13:$N13,">0") -> 7 | C13: =COUNTIF('supplement to Figure 2A'!$O13:$V13,">0") -> 7 | D13: =COUNTIF('supplement to Figure 2A'!$W13:$AH13,">0") -> 11 | E13: 269.66 | F13: 221.48 | G13: 564.65 | H13: 464.3 | I13: 184.88 | J13: 0 | K13: 0 | L13: 233.41 | M13: 0 | N13: 349.14 | O13: 285.52 | P13: 174.73 | Q13: 374.82 | R13: 313.5 | S13: 328.2 | T13: 261.64 | U13: 392.17 | V13: 0 | W13: 99.224 | X13: 157.13 | Y13: 124.29 | Z13: 192.77 | AA13: 287.53 | AB13: 319.98 | AC13: 216.65 | AD13: 193.42 | AE13: 4545.5 | AF13: 0 | AG13: 91.131 | AH13: 403.79
... A801: Q13938 | B801: =COUNTIF('supplement to Figure 2A'!$E801:$N801,">0") -> 0 | C801: =COUNTIF('supplement to Figure 2A'!$O801:$V801,">0") -> 0 | D801: =COUNTIF('supplement to Figure 2A'!$W801:$AH801,">0") -> 1 | E801: 0 | F801: 0 | G801: 0 | H801: 0 | I801: 0 | J801: 0 | K801: 0 | L801: 0 | M801: 0 | N801: 0 | O801: 0 | P801: 0 | Q801: 0 | R801: 0 | S801: 0 | T801: 0 | U801: 0 | V801: 0 | W801: 0 | X801: 0 | Y801: 0 | Z801: 0 | AA801: 0 | AB801: 0 | AC801: 4285.6 | AD801: 0 | AE801: 0 | AF801: 0 | AG801: 0 | AH801: 0
