Workbook

Sheet All
B1: Shelter | J1: Hub
B2: Level 1S | J2: Level 1H
B3: 0.21756826 | C3: 0.24647524 | D3: 0.1543895 | E3: 0.13420757 | F3: 0.12388639 | G3: 0.12347304 | J3: 0.23998457 | K3: 0.22134204 | L3: 0.21899004 | M3: 0.16685964 | N3: 0.1528237
B5: Level 2S | J5: Level 2H
B6: 0.39437314 | C6: 0.35494186 | D6: 0.250685 | J6: 0.26951434 | K6: 0.24270972 | L6: 0.28795408 | M6: 0.19982186
B8: Level 3S | J8: Level 3H
B9: 0.29291267 | C9: 0.20226488 | D9: 0.22078011 | E9: 0.28404235 | J9: 0.21220909 | K9: 0.19827903 | L9: 0.25247263 | M9: 0.17894127 | N9: 0.15809797
B11: Level 4S | J11: Level 4H
B12: 0.40663322 | C12: 0.26670322 | D12: 0.2015994 | E12: 0.12506416 | J12: 0.34704959 | K12: 0.19655908 | L12: 0.20433315 | M12: 0.25205818
B14: Level 5S | J14: Level 5H
B15: 0.35795227 | C15: 0.20131593 | D15: 0.13125283 | E15: 0.14558783 | F15: 0.16389114 | J15: 0.20883143 | K15: 0.24574941 | L15: 0.34914377 | M15: 0.19627538
B17: Level 6S | J17: Level 6H
B18: 0.29539054 | C18: 0.46912656 | D18: 0.2354829 | J18: 0.53906919 | K18: 0.46093081
B20: Level 7S | J20: Level 7H
B21: 0.62340014 | C21: 0.37659986 | J21: 0.61763918 | K21: 0.38236082
B23: Level 8S
B24: 0.54495679 | C24: 0.29724049 | D24: 0.15780271
B26: Level 9S
B27: 0.45816608 | C27: 0.31821313 | D27: 0.22362079
B29: Level 10S
B30: 0.48615726 | C30: 0.51384274

Sheet Academia
B1: Shelter | J1: Hub
B2: Level 1S | J2: Level 1H
B3: 0.23089929 | C3: 0.24506107 | D3: 0.14832183 | E3: 0.11887319 | F3: 0.13798264 | G3: 0.11886198 | J3: 0.24531504 | K3: 0.21520837 | L3: 0.22880884 | M3: 0.15693373 | N3: 0.15373402
B5: Level 2S | J5: Level 2H
B6: 0.38927208 | C6: 0.36355423 | D6: 0.2471737 | J6: 0.26284011 | K6: 0.21366533 | L6: 0.31996334 | M6: 0.20353122
B8: Level 3S | J8: Level 3H
B9: 0.28065038 | C9: 0.20790136 | D9: 0.22064981 | E9: 0.29079845 | J9: 0.20835019 | K9: 0.20170358 | L9: 0.25145147 | M9: 0.18581354 | N9: 0.15268121
B11: Level 4S | J11: Level 4H
B12: 0.41426747 | C12: 0.25779865 | D12: 0.20104 | E12: 0.12689388 | J12: 0.34356196 | K12: 0.20022784 | L12: 0.21374583 | M12: 0.24246437
B14: Level 5S | J14: Level 5H
B15: 0.36348999 | C15: 0.20487189 | D15: 0.12919852 | E15: 0.13881898 | F15: 0.16362061 | J15: 0.23575334 | K15: 0.2483147 | L15: 0.33184645 | M15: 0.18408551
B17: Level 6S | J17: Level 6H
B18: 0.32280857 | C18: 0.47151935 | D18: 0.20567208 | J18: 0.51606793 | K18: 0.48393207
B20: Level 7S | J20: Level 7H
B21: 0.60782053 | C21: 0.39217947 | J21: 0.60979425 | K21: 0.39020575
B23: Level 8S
B24: 0.54979708 | C24: 0.28668292 | D24: 0.16352
B26: Level 9S
B27: 0.49781087 | C27: 0.30282669 | D27: 0.19936244
B29: Level 10S
B30: 0.48899715 | C30: 0.51100285

Sheet NonAcademia
B1: Shelter | J1: Hub
B2: Level 1S | J2: Level 1H
B3: 0.1800915 | C3: 0.24414969 | D3: 0.16856921 | E3: 0.18260194 | F3: 0.090229595 | G3: 0.13435807 | J3: 0.22460701 | K3: 0.23736065 | L3: 0.19267046 | M3: 0.19615294 | N3: 0.14920894
B5: Level 2S | J5: Level 2H
B6: 0.40807742 | C6: 0.3317499 | D6: 0.26017268 | J6: 0.27792766 | K6: 0.33175677 | L6: 0.20746274 | M6: 0.18285283
B8: Level 3S | J8: Level 3H
B9: 0.32746489 | C9: 0.18694235 | D9: 0.22031572 | E9: 0.26527704 | J9: 0.22259433 | K9: 0.18852983 | L9: 0.25462801 | M9: 0.16084263 | N9: 0.1734052
B11: Level 4S | J11: Level 4H
B12: 0.38548077 | C12: 0.2919616 | D12: 0.20267172 | E12: 0.11988591 | J12: 0.354988 | K12: 0.18603096 | L12: 0.17976326 | M12: 0.27921778
B14: Level 5S | J14: Level 5H
B15: 0.34221155 | C15: 0.19131281 | D15: 0.13669557 | E15: 0.16555245 | F15: 0.16422762 | J15: 0.14589441 | K15: 0.23297994 | L15: 0.39237786 | M15: 0.22874779
B17: Level 6S | J17: Level 6H
B18: 0.22343684 | C18: 0.44666343 | D18: 0.32989973 | J18: 0.60119021 | K18: 0.39880979
B20: Level 7S | J20: Level 7H
B21: 0.66487153 | C21: 0.33512847 | J21: 0.63888858 | K21: 0.36111142
B23: Level 8S
B24: 0.53012762 | C24: 0.32724968 | D24: 0.1426227
B26: Level 9S
B27: 0.35200157 | C27: 0.35200157 | D27: 0.29599686
B29: Level 10S
B30: 0.47835269 | C30: 0.52164731

Sheet NGO
B1: Shelter | J1: Hub
B2: Level 1S | J2: Level 1H
B3: 0.14079264 | C3: 0.27503267 | D3: 0.1580842 | E3: 0.17815847 | F3: 0.11511636 | G3: 0.13281566 | J3: 0.2614514 | K3: 0.20303837 | L3: 0.182117 | M3: 0.20010717 | N3: 0.15328606
B5: Level 2S | J5: Level 2H
B6: 0.44009244 | C6: 0.28679898 | D6: 0.27310858 | J6: 0.29792077 | K6: 0.26959195 | L6: 0.25394454 | M6: 0.17854275
B8: Level 3S | J8: Level 3H
B9: 0.30014166 | C9: 0.15541492 | D9: 0.21998004 | E9: 0.32446338 | J9: 0.20599267 | K9: 0.18382268 | L9: 0.2431998 | M9: 0.22450849 | N9: 0.14247637
B11: Level 4S | J11: Level 4H
B12: 0.42632433 | C12: 0.22943106 | D12: 0.20343171 | E12: 0.14081289 | J12: 0.37310498 | K12: 0.1933047 | L12: 0.19046151 | M12: 0.24312881
B14: Level 5S | J14: Level 5H
B15: 0.34139385 | C15: 0.18549104 | D15: 0.15335794 | E15: 0.15354591 | F15: 0.16621126 | J15: 0.18931787 | K15: 0.24660676 | L15: 0.35351441 | M15: 0.21056096
B17: Level 6S | J17: Level 6H
B18: 0.26186752 | C18: 0.41757499 | D18: 0.3205575 | J18: 0.69169259 | K18: 0.30830741
B20: Level 7S | J20: Level 7H
B21: 0.63735634 | C21: 0.36264366 | J21: 0.69321972 | K21: 0.30678028
B23: Level 8S
B24: 0.56983302 | C24: 0.25970051 | D24: 0.17046647
B26: Level 9S
B27: 0.38932621 | C27: 0.31443459 | D27: 0.2962392
B29: Level 10S
B30: 0.4666061 | C30: 0.5333939

Sheet NonNGO
B1: Shelter | J1: Hub
B2: Level 1S | J2: Level 1H
B3: 0.25795469 | C3: 0.23115976 | D3: 0.1502486 | E3: 0.1168741 | F3: 0.12593761 | G3: 0.11782524 | J3: 0.22986478 | K3: 0.22872152 | L3: 0.23589406 | M3: 0.15353121 | N3: 0.15198842
B5: Level 2S | J5: Level 2H
B6: 0.37371907 | C6: 0.38626718 | D6: 0.24001375 | J6: 0.25714353 | K6: 0.23122338 | L6: 0.30265682 | M6: 0.20897626
B8: Level 3S | J8: Level 3H
B9: 0.28829594 | C9: 0.22492775 | D9: 0.2198522 | E9: 0.26692411 | J9: 0.21397971 | K9: 0.2039792 | L9: 0.25533825 | M9: 0.16190977 | N9: 0.16479307
B11: Level 4S | J11: Level 4H
B12: 0.39707827 | C12: 0.28390485 | D12: 0.20046671 | E12: 0.11855017 | J12: 0.3361246 | K12: 0.19773007 | L12: 0.21041361 | M12: 0.25573172
B14: Level 5S | J14: Level 5H
B15: 0.36466993 | C15: 0.20795671 | D15: 0.12274181 | E15: 0.14187135 | F15: 0.1627602 | J15: 0.21767855 | K15: 0.24520972 | L15: 0.34683694 | M15: 0.19027479
B17: Level 6S | J17: Level 6H
B18: 0.30781142 | C18: 0.48800484 | D18: 0.20418374 | J18: 0.4693893 | K18: 0.5306107
B20: Level 7S | J20: Level 7H
B21: 0.61735409 | C21: 0.38264591 | J21: 0.58314047 | K21: 0.41685953
B23: Level 8S
B24: 0.5334331 | C24: 0.31424134 | D24: 0.15232556
B26: Level 9S
B27: 0.48672449 | C27: 0.31688211 | D27: 0.1963934
B29: Level 10S
B30: 0.49455282 | C30: 0.50544718

Sheet AcadNGO
B1: Shelter | J1: Hub
B2: Level 1S | J2: Level 1H
B3: 0.21729127 | C3: 0.24844976 | D3: 0.15045893 | E3: 0.13160859 | F3: 0.12745875 | G3: 0.12473269 | J3: 0.24241738 | K3: 0.22600416 | L3: 0.21697013 | M3: 0.16452055 | N3: 0.15008778
B5: Level 2S | J5: Level 2H
B6: 0.38918929 | C6: 0.36529611 | D6: 0.24551461 | J6: 0.27122327 | K6: 0.24245507 | L6: 0.28579772 | M6: 0.20052394
B8: Level 3S | J8: Level 3H
B9: 0.28285978 | C9: 0.197518 | D9: 0.22874219 | E9: 0.29088003 | J9: 0.21116985 | K9: 0.19287294 | L9: 0.25437953 | M9: 0.18445639 | N9: 0.15712128
B11: Level 4S | J11: Level 4H
B12: 0.41322757 | C12: 0.26299263 | D12: 0.19847584 | E12: 0.12530396 | J12: 0.34230971 | K12: 0.19602276 | L12: 0.21230704 | M12: 0.24936049
B14: Level 5S | J14: Level 5H
B15: 0.35482322 | C15: 0.2019677 | D15: 0.12884873 | E15: 0.14863862 | F15: 0.16572172 | J15: 0.21001395 | K15: 0.24455663 | L15: 0.3484187 | M15: 0.19701072
B17: Level 6S | J17: Level 6H
B18: 0.29353768 | C18: 0.48184442 | D18: 0.2246179 | J18: 0.55157035 | K18: 0.44842965
B20: Level 7S | J20: Level 7H
B21: 0.63755343 | C21: 0.36244657 | J21: 0.62569512 | K21: 0.37430488
B23: Level 8S
B24: 0.54907533 | C24: 0.2929798 | D24: 0.15794487
B26: Level 9S
B27: 0.45778067 | C27: 0.32282233 | D27: 0.219397
B29: Level 10S
B30: 0.50116255 | C30: 0.49883745

Sheet NonAcadNGO
B1: Shelter | J1: Hub
B2: Level 1S | J2: Level 1H
B3: 0.21456811 | C3: 0.21456811 | D3: 0.21456811 | E3: 0.17146873 | F3: 0.080894603 | G3: 0.10393234 | J3: 0.20353565 | K3: 0.16041702 | L3: 0.24273316 | M3: 0.19927809 | N3: 0.19403608
B5: Level 2S | J5: Level 2H
B6: 0.45308184 | C6: 0.22654092 | D6: 0.32037724 | J6: 0.24536961 | K6: 0.24536961 | L6: 0.31928853 | M6: 0.18997225
B8: Level 3S | J8: Level 3H
B9: 0.43259097 | C9: 0.25746963 | D9: 0.12289556 | E9: 0.18704385 | J9: 0.2192592 | K9: 0.28208065 | L9: 0.2192592 | M9: 0.1127073 | N9: 0.16669365
B11: Level 4S | J11: Level 4H
B12: 0.31747352 | C12: 0.31747352 | D12: 0.24579718 | E12: 0.11925578 | J12: 0.40624306 | K12: 0.1971883 | L12: 0.11547481 | M12: 0.28109383
B14: Level 5S | J14: Level 5H
B15: 0.39716897 | C15: 0.18863668 | D15: 0.16701356 | E15: 0.10840962 | F15: 0.13877117 | J15: 0.19273369 | K15: 0.26276338 | L15: 0.35870117 | M15: 0.18580177
B17: Level 6S | J17: Level 6H
B18: 0.29289322 | C18: 0.29289322 | D18: 0.41421356 | J18: 0.3660254 | K18: 0.6339746
B20: Level 7S | J20: Level 7H
B21: 0.41421356 | C21: 0.58578644 | J21: 0.5 | K21: 0.5
B23: Level 8S
B24: 0.48553955 | C24: 0.3601909 | D24: 0.15426956
B26: Level 9S
B27: 0.4563727 | C27: 0.25613052 | D27: 0.28749678
B29: Level 10S
B30: 0.28989795 | C30: 0.71010205

Sheet Yes
B1: Shelter | J1: Hub
B2: Level 1S | J2: Level 1H
B3: 0.19858158 | C3: 0.22930136 | D3: 0.17047303 | E3: 0.13948387 | F3: 0.13808608 | G3: 0.12407408 | J3: 0.27218336 | K3: 0.17008688 | L3: 0.20252054 | M3: 0.15218051 | N3: 0.2030287
B5: Level 2S | J5: Level 2H
B6: 0.41177174 | C6: 0.32287503 | D6: 0.26535323 | J6: 0.2617582 | K6: 0.19599945 | L6: 0.35014692 | M6: 0.19209542
B8: Level 3S | J8: Level 3H
B9: 0.31086038 | C9: 0.2265291 | D9: 0.18405304 | E9: 0.27855747 | J9: 0.17629332 | K9: 0.22516247 | L9: 0.24822035 | M9: 0.20890711 | N9: 0.14141675
B11: Level 4S | J11: Level 4H
B12: 0.41295578 | C12: 0.25836805 | D12: 0.2003982 | E12: 0.12827797 | J12: 0.36062188 | K12: 0.2031656 | L12: 0.1809487 | M12: 0.25526381
B14: Level 5S | J14: Level 5H
B15: 0.3821935 | C15: 0.22543892 | D15: 0.12617445 | E15: 0.12200015 | F15: 0.14419298 | J15: 0.30846567 | K15: 0.24180892 | L15: 0.30287266 | M15: 0.14685276
B17: Level 6S | J17: Level 6H
B18: 0.40028497 | C18: 0.39770687 | D18: 0.20200816 | J18: 0.47883022 | K18: 0.52116978
B20: Level 7S | J20: Level 7H
B21: 0.50719156 | C21: 0.49280844 | J21: 0.59558923 | K21: 0.40441077
B23: Level 8S
B24: 0.55684137 | C24: 0.29915914 | D24: 0.14399949
B26: Level 9S
B27: 0.54010434 | C27: 0.24657335 | D27: 0.21332231
B29: Level 10S
B30: 0.39216932 | C30: 0.60783068

Sheet Some
B1: Shelter | J1: Hub
B2: Level 1S | J2: Level 1H
B3: 0.19562866 | C3: 0.26781837 | D3: 0.15278661 | E3: 0.13595414 | F3: 0.11354452 | G3: 0.1342677 | J3: 0.2197705 | K3: 0.24029176 | L3: 0.22597775 | M3: 0.17440663 | N3: 0.13955337
B5: Level 2S | J5: Level 2H
B6: 0.3575258 | C6: 0.36293536 | D6: 0.27953884 | J6: 0.25851482 | K6: 0.27209533 | L6: 0.2559941 | M6: 0.21339574
B8: Level 3S | J8: Level 3H
B9: 0.27730362 | C9: 0.23506865 | D9: 0.2228981 | E9: 0.26472962 | J9: 0.21720344 | K9: 0.18044639 | L9: 0.25421433 | M9: 0.1660003 | N9: 0.18213554
B11: Level 4S | J11: Level 4H
B12: 0.4250765 | C12: 0.26297881 | D12: 0.19915523 | E12: 0.11278945 | J12: 0.31815057 | K12: 0.19473906 | L12: 0.25211826 | M12: 0.23499212
B14: Level 5S | J14: Level 5H
B15: 0.33974004 | C15: 0.21623269 | D15: 0.12712504 | E15: 0.18091851 | F15: 0.13598372 | J15: 0.1672245 | K15: 0.21724115 | L15: 0.39521374 | M15: 0.22032061
B17: Level 6S | J17: Level 6H
B18: 0.22991433 | C18: 0.51157103 | D18: 0.25851465 | J18: 0.59509818 | K18: 0.40490182
B20: Level 7S | J20: Level 7H
B21: 0.6820031 | C21: 0.3179969 | J21: 0.62413808 | K21: 0.37586192
B23: Level 8S
B24: 0.53212267 | C24: 0.27897637 | D24: 0.18890096
B26: Level 9S
B27: 0.38000718 | C27: 0.37687953 | D27: 0.24311329
B29: Level 10S
B30: 0.51126102 | C30: 0.48873898

Sheet No
B1: Shelter | J1: Hub
B2: Level 1S | J2: Level 1H
B3: 0.25579806 | C3: 0.24323842 | D3: 0.14128389 | E3: 0.1272925 | F3: 0.11892088 | G3: 0.11346624 | J3: 0.22447737 | K3: 0.25686394 | L3: 0.22361205 | M3: 0.17083821 | N3: 0.12420844
B5: Level 2S | J5: Level 2H
B6: 0.40741896 | C6: 0.37666232 | D6: 0.21591872 | J6: 0.28153685 | K6: 0.26433575 | L6: 0.26109171 | M6: 0.19303569
B8: Level 3S | J8: Level 3H
B9: 0.28574447 | C9: 0.15887637 | D9: 0.25430262 | E9: 0.30107654 | J9: 0.24310119 | K9: 0.18783778 | L9: 0.25187107 | M9: 0.16328314 | N9: 0.15390681
B11: Level 4S | J11: Level 4H
B12: 0.38592398 | C12: 0.27723039 | D12: 0.20411992 | E12: 0.13272571 | J12: 0.35678322 | K12: 0.19063332 | L12: 0.19063332 | M12: 0.26195013
B14: Level 5S | J14: Level 5H
B15: 0.34483063 | C15: 0.1684244 | D15: 0.13651056 | E15: 0.14051781 | F15: 0.2097166 | J15: 0.1685726 | K15: 0.26483731 | L15: 0.34386329 | M15: 0.2227268
B17: Level 6S | J17: Level 6H
B18: 0.2661099 | C18: 0.49126532 | D18: 0.24262478 | J18: 0.5471198 | K18: 0.4528802
B20: Level 7S | J20: Level 7H
B21: 0.67351813 | C21: 0.32648187 | J21: 0.63203746 | K21: 0.36796254
B23: Level 8S
B24: 0.542635 | C24: 0.30995299 | D24: 0.147412
B26: Level 9S
B27: 0.44761536 | C27: 0.34015378 | D27: 0.21223086
B29: Level 10S
B30: 0.55242047 | C30: 0.44757953

Sheet YesSome
B1: Shelter | J1: Hub
B2: Level 1S | J2: Level 1H
B3: 0.19741646 | C3: 0.24736211 | D3: 0.16215447 | E3: 0.13804628 | F3: 0.12610989 | G3: 0.12891078 | J3: 0.24803134 | K3: 0.20190671 | L3: 0.21509048 | M3: 0.16363512 | N3: 0.17133635
B5: Level 2S | J5: Level 2H
B6: 0.38574959 | C6: 0.34182531 | D6: 0.2724251 | J6: 0.26221567 | K6: 0.23047239 | L6: 0.30392176 | M6: 0.20339019
B8: Level 3S | J8: Level 3H
B9: 0.2948555 | C9: 0.23080921 | D9: 0.2018436 | E9: 0.2724917 | J9: 0.19562503 | K9: 0.20392967 | L9: 0.25203441 | M9: 0.18824623 | N9: 0.16016466
B11: Level 4S | J11: Level 4H
B12: 0.41870648 | C12: 0.26054801 | D12: 0.20000813 | E12: 0.12073739 | J12: 0.34127231 | K12: 0.19987007 | L12: 0.21253704 | M12: 0.24632058
B14: Level 5S | J14: Level 5H
B15: 0.36293343 | C15: 0.2216129 | D15: 0.12716493 | E15: 0.14743905 | F15: 0.14084969 | J15: 0.23512833 | K15: 0.23402587 | L15: 0.34965887 | M15: 0.18118694
B17: Level 6S | J17: Level 6H
B18: 0.31316493 | C18: 0.45585383 | D18: 0.23098124 | J18: 0.53439871 | K18: 0.46560129
B20: Level 7S | J20: Level 7H
B21: 0.59304284 | C21: 0.40695716 | J21: 0.60920609 | K21: 0.39079391
B23: Level 8S
B24: 0.54599116 | C24: 0.28995338 | D24: 0.16405546
B26: Level 9S
B27: 0.46390362 | C27: 0.30584435 | D27: 0.23025202
B29: Level 10S
B30: 0.44786698 | C30: 0.55213302

Sheet Shelter_AllGroups_sorted
A1: Shelter
A2: Level 1S | B2: Hazard at location, Physical Vulnerability, Accessibility, Communications, Living Environment, Access to supplies
A3: All | C3: Academia | E3: NonAcademia | G3: NGO | I3: NonNGO | K3: AcadNGO | M3: NonAcadNGO | O3: Yes | Q3: Some | S3: No | U3: YesSome | W3: Anyexp | Y3: Noexp | AA3: Sospp | AC3: Nonsospp | AE3: Engr | AG3: NonEngr | AI3: Social | AK3: Nonsocial | AM3: Physical | AO3: Nonphysical | AQ3: Nathaz | AS3: Nonnathaz | AU3: Disman | AW3: Nondisman | AY3: Lgaumo | BA3: Nonlgaumo
A4: 0.24647524 | B4: Vulnerability | C4: 0.24506107 | D4: Vulnerability | E4: 0.24414969 | F4: Vulnerability | G4: 0.27503267 | H4: Vulnerability | I4: 0.25795469 | J4: Hazard | K4: 0.24844976 | L4: Vulnerability | M4: 0.21456811 | N4: Hazard | O4: 0.22930136 | P4: Vulnerability | Q4: 0.26781837 | R4: Vulnerability | S4: 0.25579806 | T4: Hazard | U4: 0.24736211 | V4: Vulnerability | W4: 0.2541125 | X4: Vulnerability | Y4: 0.2312431 | Z4: Vulnerability | AA4: 0.2322197 | AB4: Vulnerability | AC4: 0.25322337 | AD4: Vulnerability | AE4: 0.25013337 | AF4: Hazard | AG4: 0.26326664 | AH4: Vulnerability | AI4: 0.2267287 | AJ4: Hazard | AK4: 0.25576513 | AL4: Vulnerability | AM4: 0.30211901 | AN4: Vulnerability | AO4: 0.23066913 | AP4: Vulnerability | AQ4: 0.24655665 | AR4: Vulnerability | AS4: 0.24436317 | AT4: Vulnerability | AU4: 0.24680247 | AV4: Vulnerability | AW4: 0.23804421 | AX4: Vulnerability | AY4: 0.25364022 | AZ4: Vulnerability | BA4: 0.2430716 | BB4: Vulnerability
A5: 0.21756826 | B5: Hazard | C5: 0.23089929 | D5: Hazard | E5: 0.18260194 | F5: Communications | G5: 0.17815847 | H5: Communications | I5: 0.23115976 | J5: Vulnerability | K5: 0.21729127 | L5: Hazard | M5: 0.21456811 | N5: Vulnerability | O5: 0.19858158 | P5: Hazard | Q5: 0.19562866 | R5: Hazard | S5: 0.24323842 | T5: Vulnerability | U5: 0.19741646 | V5: Hazard | W5: 0.2173881 | X5: Hazard | Y5: 0.2173943 | Z5: Hazard | AA5: 0.19127726 | AB5: Hazard | AC5: 0.23259919 | AD5: Hazard | AE5: 0.2304014 | AF5: Vulnerability | AG5: 0.18363808 | AH5: Hazard | AI5: 0.2172647 | AJ5: Vulnerability | AK5: 0.21439966 | AL5: Hazard | AM5: 0.20065845 | AN5: Hazard | AO5: 0.22200842 | AP5: Hazard | AQ5: 0.23511777 | AR5: Hazard | AS5: 0.19765996 | AT5: Hazard | AU5: 0.22341812 | AV5: Hazard | AW5: 0.17973642 | AX5: Hazard | AY5: 0.18960326 | AZ5: Hazard | BA5: 0.22959865 | BB5: Hazard
A6: 0.1543895 | B6: Accessibility | C6: 0.14832183 | D6: Accessibility | E6: 0.1800915 | F6: Hazard | G6: 0.1580842 | H6: Accessibility | I6: 0.1502486 | J6: Accessibility | K6: 0.15045893 | L6: Accessibility | M6: 0.21456811 | N6: Accessibility | O6: 0.17047303 | P6: Accessibility | Q6: 0.15278661 | R6: Accessibility | S6: 0.14128389 | T6: Accessibility | U6: 0.16215447 | V6: Accessibility | W6: 0.14868907 | X6: Accessibility | Y6: 0.16615839 | Z6: Accessibility | AA6: 0.17185777 | AB6: Communications | AC6: 0.15874509 | AD6: Accessibility | AE6: 0.15920957 | AF6: Accessibility | AG6: 0.15791639 | AH6: Communications | AI6: 0.1635382 | AJ6: Accessibility | AK6: 0.15141276 | AL6: Accessibility | AM6: 0.16346253 | AN6: Accessibility | AO6: 0.15113262 | AP6: Accessibility | AQ6: 0.16191374 | AR6: Accessibility | AS6: 0.16519571 | AT6: Communications | AU6: 0.15681173 | AV6: Accessibility | AW6: 0.17452048 | AX6: Access to supplies | AY6: 0.16494687 | AZ6: Accessibility | BA6: 0.14914069 | BB6: Accessibility
A7: 0.13420757 | B7: Communications | C7: 0.13798264 | D7: Living Environment | E7: 0.16856921 | F7: Accessibility | G7: 0.14079264 | H7: Hazard | I7: 0.12593761 | J7: Living Environment | K7: 0.13160859 | L7: Communications | M7: 0.17146873 | N7: Communications | O7: 0.13948387 | P7: Communications | Q7: 0.13595414 | R7: Communications | S7: 0.1272925 | T7: Communications | U7: 0.13804628 | V7: Communications | W7: 0.13533794 | X7: Communications | Y7: 0.13364861 | Z7: Access to supplies | AA7: 0.14556775 | AB7: Accessibility | AC7: 0.12492308 | AD7: Access to supplies | AE7: 0.12906163 | AF7: Access to supplies | AG7: 0.14729062 | AH7: Accessibility | AI7: 0.13739621 | AJ7: Access to supplies | AK7: 0.13906039 | AL7: Communications | AM7: 0.11503499 | AN7: Access to supplies | AO7: 0.14363584 | AP7: Communications | AQ7: 0.12452972 | AR7: Living Environment | AS7: 0.14515095 | AT7: Accessibility | AU7: 0.13774769 | AV7: Communications | AW7: 0.16097893 | AX7: Living Environment | AY7: 0.15751834 | AZ7: Communications | BA7: 0.13062829 | BB7: Access to supplies
A8: 0.12388639 | B8: Living Environment | C8: 0.11887319 | D8: Communications | E8: 0.13435807 | F8: Access to supplies | G8: 0.13281566 | H8: Access to supplies | I8: 0.11782524 | J8: Access to supplies | K8: 0.12745875 | L8: Living Environment | M8: 0.10393234 | N8: Access to supplies | O8: 0.13808608 | P8: Living Environment | Q8: 0.1342677 | R8: Access to supplies | S8: 0.11892088 | T8: Living Environment | U8: 0.12891078 | V8: Access to supplies | W8: 0.12585418 | X8: Living Environment | Y8: 0.1315076 | Z8: Communications | AA8: 0.13941287 | AB8: Living Environment | AC8: 0.11552374 | AD8: Communications | AE8: 0.11611246 | AF8: Living Environment | AG8: 0.13183934 | AH8: Living Environment | AI8: 0.13631354 | AJ8: Living Environment | AK8: 0.12007723 | AL8: Living Environment | AM8: 0.11299195 | AN8: Living Environment | AO8: 0.12693943 | AP8: Living Environment | AQ8: 0.12083999 | AR8: Access to supplies | AS8: 0.12574637 | AT8: Access to supplies | AU8: 0.11863178 | AV8: Living Environment | AW8: 0.13597776 | AX8: Accessibility | AY8: 0.12645639 | AZ8: Living Environment | BA8: 0.12530558 | BB8: Communications
A9: 0.12347304 | B9: Access to supplies | C9: 0.11886198 | D9: Access to supplies | E9: 0.090229595 | F9: Living Environment | G9: 0.11511636 | H9: Living Environment | I9: 0.1168741 | J9: Communications | K9: 0.12473269 | L9: Access to supplies | M9: 0.080894603 | N9: Living Environment | O9: 0.12407408 | P9: Access to supplies | Q9: 0.11354452 | R9: Living Environment | S9: 0.11346624 | T9: Access to supplies | U9: 0.12610989 | V9: Living Environment | W9: 0.11861821 | X9: Access to supplies | Y9: 0.12004799 | Z9: Living Environment | AA9: 0.11966464 | AB9: Access to supplies | AC9: 0.11498552 | AD9: Living Environment | AE9: 0.11508158 | AF9: Communications | AG9: 0.11604893 | AH9: Access to supplies | AI9: 0.11875865 | AJ9: Communications | AK9: 0.11928483 | AL9: Access to supplies | AM9: 0.10573307 | AN9: Communications | AO9: 0.12561456 | AP9: Access to supplies | AQ9: 0.11104213 | AR9: Communications | AS9: 0.12188384 | AT9: Living Environment | AU9: 0.1165882 | AV9: Access to supplies | AW9: 0.1107422 | AX9: Communications | AY9: 0.10783492 | AZ9: Access to supplies | BA9: 0.1222552 | BB9: Living Environment
A11: Level 2S | B11: Proximity to affected, Transport options, Easy to find
A12: All | C12: Academia | E12: NonAcademia | G12: NGO | I12: NonNGO | K12: AcadNGO | M12: NonAcadNGO | O12: Yes | Q12: Some | S12: No | U12: YesSome | W12: Anyexp | Y12: Noexp | AA12: Sospp | AC12: Nonsospp | AE12: Engr | AG12: NonEngr | AI12: Social | AK12: Nonsocial | AM12: Physical | AO12: Nonphysical | AQ12: Nathaz | AS12: Nonnathaz | AU12: Disman | AW12: Nondisman | AY12: Lgaumo | BA12: Nonlgaumo
A13: 0.39437314 | B13: Proximity to affected | C13: 0.38927208 | D13: Proximity to affected | E13: 0.40807742 | F13: Proximity to affected | G13: 0.44009244 | H13: Proximity to affected | I13: 0.38626718 | J13: Transport options | K13: 0.38918929 | L13: Proximity to affected | M13: 0.45308184 | N13: Proximity to affected | O13: 0.41177174 | P13: Proximity to affected | Q13: 0.36293536 | R13: Transport options | S13: 0.40741896 | T13: Proximity to affected | U13: 0.38574959 | V13: Proximity to affected | W13: 0.40083736 | X13: Proximity to affected | Y13: 0.38150309 | Z13: Proximity to affected | AA13: 0.43116773 | AB13: Proximity to affected | AC13: 0.37354116 | AD13: Proximity to affected | AE13: 0.40014085 | AF13: Transport options | AG13: 0.39975044 | AH13: Proximity to affected | AI13: 0.42904653 | AJ13: Proximity to affected | AK13: 0.38400175 | AL13: Proximity to affected | AM13: 0.36838847 | AN13: Transport options | AO13: 0.41138861 | AP13: Proximity to affected | AQ13: 0.41000543 | AR13: Transport options | AS13: 0.46279833 | AT13: Proximity to affected | AU13: 0.37588764 | AV13: Proximity to affected | AW13: 0.51732123 | AX13: Proximity to affected | AY13: 0.4345953 | AZ13: Proximity to affected | BA13: 0.39044076 | BB13: Transport options
A14: 0.35494186 | B14: Transport options | C14: 0.36355423 | D14: Transport options | E14: 0.3317499 | F14: Transport options | G14: 0.28679898 | H14: Transport options | I14: 0.37371907 | J14: Proximity to affected | K14: 0.36529611 | L14: Transport options | M14: 0.32037724 | N14: Easy to find | O14: 0.32287503 | P14: Transport options | Q14: 0.3575258 | R14: Proximity to affected | S14: 0.37666232 | T14: Transport options | U14: 0.34182531 | V14: Transport options | W14: 0.34857405 | X14: Transport options | Y14: 0.367785 | Z14: Transport options | AA14: 0.32813963 | AB14: Transport options | AC14: 0.37047372 | AD14: Transport options | AE14: 0.38505225 | AF14: Proximity to affected | AG14: 0.3052636 | AH14: Transport options | AI14: 0.33862984 | AJ14: Transport options | AK14: 0.35969944 | AL14: Transport options | AM14: 0.33996181 | AN14: Proximity to affected | AO14: 0.349916 | AP14: Transport options | AQ14: 0.33659707 | AR14: Proximity to affected | AS14: 0.29473836 | AT14: Transport options | AU14: 0.35973985 | AV14: Transport options | AW14: 0.31231025 | AX14: Transport options | AY14: 0.28694743 | AZ14: Easy to find | BA14: 0.37502329 | BB14: Proximity to affected
A15: 0.250685 | B15: Easy to find | C15: 0.2471737 | D15: Easy to find | E15: 0.26017268 | F15: Easy to find | G15: 0.27310858 | H15: Easy to find | I15: 0.24001375 | J15: Easy to find | K15: 0.24551461 | L15: Easy to find | M15: 0.22654092 | N15: Transport options | O15: 0.26535323 | P15: Easy to find | Q15: 0.27953884 | R15: Easy to find | S15: 0.21591872 | T15: Easy to find | U15: 0.2724251 | V15: Easy to find | W15: 0.25058858 | X15: Easy to find | Y15: 0.25071191 | Z15: Easy to find | AA15: 0.24069264 | AB15: Easy to find | AC15: 0.25598512 | AD15: Easy to find | AE15: 0.2148069 | AF15: Easy to find | AG15: 0.29498597 | AH15: Easy to find | AI15: 0.23232363 | AJ15: Easy to find | AK15: 0.25629881 | AL15: Easy to find | AM15: 0.29164972 | AN15: Easy to find | AO15: 0.23869539 | AP15: Easy to find | AQ15: 0.2533975 | AR15: Easy to find | AS15: 0.2424633 | AT15: Easy to find | AU15: 0.26437251 | AV15: Easy to find | AW15: 0.17036853 | AX15: Easy to find | AY15: 0.27845726 | AZ15: Transport options | BA15: 0.23453596 | BB15: Easy to find
A17: Level 3S | B17: Utilities, Space, Security, Health & Safety
A18: All | C18: Academia | E18: NonAcademia | G18: NGO | I18: NonNGO | K18: AcadNGO | M18: NonAcadNGO | O18: Yes | Q18: Some | S18: No | U18: YesSome | W18: Anyexp | Y18: Noexp | AA18: Sospp | AC18: Nonsospp | AE18: Engr | AG18: NonEngr | AI18: Social | AK18: Nonsocial | AM18: Physical | AO18: Nonphysical | AQ18: Nathaz | AS18: Nonnathaz | AU18: Disman | AW18: Nondisman | AY18: Lgaumo | BA18: Nonlgaumo
A19: 0.29291267 | B19: Utilities | C19: 0.29079845 | D19: Health & Safety | E19: 0.32746489 | F19: Utilities | G19: 0.32446338 | H19: Health & Safety | I19: 0.28829594 | J19: Utilities | K19: 0.29088003 | L19: Health & Safety | M19: 0.43259097 | N19: Utilities | O19: 0.31086038 | P19: Utilities | Q19: 0.27730362 | R19: Utilities | S19: 0.30107654 | T19: Health & Safety | U19: 0.2948555 | V19: Utilities | W19: 0.31221421 | X19: Utilities | Y19: 0.31370666 | Z19: Health & Safety | AA19: 0.31931713 | AB19: Health & Safety | AC19: 0.29282851 | AD19: Utilities | AE19: 0.28526713 | AF19: Utilities | AG19: 0.30102168 | AH19: Utilities | AI19: 0.31645776 | AJ19: Utilities | AK19: 0.28396249 | AL19: Utilities | AM19: 0.33244766 | AN19: Utilities | AO19: 0.30319298 | AP19: Health & Safety | AQ19: 0.31227153 | AR19: Utilities | AS19: 0.32783668 | AT19: Health & Safety | AU19: 0.29994286 | AV19: Utilities | AW19: 0.36469885 | AX19: Health & Safety | AY19: 0.33519753 | AZ19: Utilities | BA19: 0.27641936 | BB19: Health & Safety
A20: 0.28404235 | B20: Health & Safety | C20: 0.28065038 | D20: Utilities | E20: 0.26527704 | F20: Health & Safety | G20: 0.30014166 | H20: Utilities | I20: 0.26692411 | J20: Health & Safety | K20: 0.28285978 | L20: Utilities | M20: 0.25746963 | N20: Space | O20: 0.27855747 | P20: Health & Safety | Q20: 0.26472962 | R20: Health & Safety | S20: 0.28574447 | T20: Utilities | U20: 0.2724917 | V20: Health & Safety | W20: 0.26761765 | X20: Health & Safety | Y20: 0.26969696 | Z20: Security | AA20: 0.29176314 | AB20: Utilities | AC20: 0.26462424 | AD20: Health & Safety | AE20: 0.28254328 | AF20: Health & Safety | AG20: 0.28490166 | AH20: Health & Safety | AI20: 0.28662328 | AJ20: Health & Safety | AK20: 0.2810594 | AL20: Health & Safety | AM20: 0.22601931 | AN20: Security | AO20: 0.28076026 | AP20: Utilities | AQ20: 0.24708229 | AR20: Health & Safety | AS20: 0.26803113 | AT20: Utilities | AU20: 0.27230754 | AV20: Health & Safety | AW20: 0.24513848 | AX20: Utilities | AY20: 0.29949935 | AZ20: Health & Safety | BA20: 0.27532521 | BB20: Utilities
A21: 0.22078011 | B21: Security | C21: 0.22064981 | D21: Security | E21: 0.22031572 | F21: Security | G21: 0.21998004 | H21: Security | I21: 0.22492775 | J21: Space | K21: 0.22874219 | L21: Security | M21: 0.18704385 | N21: Health & Safety | O21: 0.2265291 | P21: Space | Q21: 0.23506865 | R21: Space | S21: 0.25430262 | T21: Security | U21: 0.23080921 | V21: Space | W21: 0.22239901 | X21: Space | Y21: 0.25268466 | Z21: Utilities | AA21: 0.20105544 | AB21: Security | AC21: 0.23216157 | AD21: Security | AE21: 0.22395675 | AF21: Space | AG21: 0.23494228 | AH21: Security | AI21: 0.26130297 | AJ21: Security | AK21: 0.22676052 | AL21: Space | AM21: 0.22601931 | AN21: Health & Safety | AO21: 0.21839552 | AP21: Security | AQ21: 0.23739334 | AR21: Space | AS21: 0.23853504 | AT21: Security | AU21: 0.21789856 | AV21: Security | AW21: 0.23470775 | AX21: Security | AY21: 0.1850244 | AZ21: Security | BA21: 0.23679822 | BB21: Security
A22: 0.20226488 | B22: Space | C22: 0.20790136 | D22: Space | E22: 0.18694235 | F22: Space | G22: 0.15541492 | H22: Space | I22: 0.2198522 | J22: Security | K22: 0.197518 | L22: Space | M22: 0.12289556 | N22: Security | O22: 0.18405304 | P22: Security | Q22: 0.2228981 | R22: Security | S22: 0.15887637 | T22: Space | U22: 0.2018436 | V22: Security | W22: 0.19776912 | X22: Security | Y22: 0.16391171 | Z22: Space | AA22: 0.18786428 | AB22: Space | AC22: 0.21038568 | AD22: Space | AE22: 0.20823283 | AF22: Security | AG22: 0.17913438 | AH22: Space | AI22: 0.135616 | AJ22: Space | AK22: 0.20821758 | AL22: Security | AM22: 0.21551371 | AN22: Space | AO22: 0.19765124 | AP22: Space | AQ22: 0.20325285 | AR22: Security | AS22: 0.16559716 | AT22: Space | AU22: 0.20985103 | AV22: Space | AW22: 0.15545492 | AX22: Space | AY22: 0.18027871 | AZ22: Space | BA22: 0.2114572 | BB22: Space
A24: Level 4S | B24: Water, Food, Medical, Bedding
A25: All | C25: Academia | E25: NonAcademia | G25: NGO | I25: NonNGO | K25: AcadNGO | M25: NonAcadNGO | O25: Yes | Q25: Some | S25: No | U25: YesSome | W25: Anyexp | Y25: Noexp | AA25: Sospp | AC25: Nonsospp | AE25: Engr | AG25: NonEngr | AI25: Social | AK25: Nonsocial | AM25: Physical | AO25: Nonphysical | AQ25: Nathaz | AS25: Nonnathaz | AU25: Disman | AW25: Nondisman | AY25: Lgaumo | BA25: Nonlgaumo
A26: 0.40663322 | B26: Water | C26: 0.41426747 | D26: Water | E26: 0.38548077 | F26: Water | G26: 0.42632433 | H26: Water | I26: 0.39707827 | J26: Water | K26: 0.41322757 | L26: Water | M26: 0.31747352 | N26: Water | O26: 0.41295578 | P26: Water | Q26: 0.4250765 | R26: Water | S26: 0.38592398 | T26: Water | U26: 0.41870648 | V26: Water | W26: 0.41349682 | X26: Water | Y26: 0.39274642 | Z26: Water | AA26: 0.37762928 | AB26: Water | AC26: 0.42223426 | AD26: Water | AE26: 0.39263761 | AF26: Water | AG26: 0.42141009 | AH26: Water | AI26: 0.36757852 | AJ26: Water | AK26: 0.41860755 | AL26: Water | AM26: 0.44856283 | AN26: Water | AO26: 0.39347573 | AP26: Water | AQ26: 0.4179834 | AR26: Water | AS26: 0.3930712 | AT26: Water | AU26: 0.40746067 | AV26: Water | AW26: 0.40120406 | AX26: Water | AY26: 0.41674029 | AZ26: Water | BA26: 0.40226712 | BB26: Water
A27: 0.26670322 | B27: Food | C27: 0.25779865 | D27: Food | E27: 0.2919616 | F27: Food | G27: 0.22943106 | H27: Food | I27: 0.28390485 | J27: Food | K27: 0.26299263 | L27: Food | M27: 0.31747352 | N27: Food | O27: 0.25836805 | P27: Food | Q27: 0.26297881 | R27: Food | S27: 0.27723039 | T27: Food | U27: 0.26054801 | V27: Food | W27: 0.25882587 | X27: Food | Y27: 0.28303339 | Z27: Food | AA27: 0.24472066 | AB27: Food | AC27: 0.27914899 | AD27: Food | AE27: 0.27962969 | AF27: Food | AG27: 0.2519332 | AH27: Food | AI27: 0.29116549 | AJ27: Food | AK27: 0.25922216 | AL27: Food | AM27: 0.26486516 | AN27: Food | AO27: 0.26643999 | AP27: Food | AQ27: 0.27440825 | AR27: Food | AS27: 0.25758673 | AT27: Food | AU27: 0.26382954 | AV27: Food | AW27: 0.28615039 | AX27: Food | AY27: 0.25416542 | AZ27: Food | BA27: 0.27222033 | BB27: Food
A28: 0.2015994 | B28: Medical | C28: 0.20104 | D28: Medical | E28: 0.20267172 | F28: Medical | G28: 0.20343171 | H28: Medical | I28: 0.20046671 | J28: Medical | K28: 0.19847584 | L28: Medical | M28: 0.24579718 | N28: Medical | O28: 0.2003982 | P28: Medical | Q28: 0.19915523 | R28: Medical | S28: 0.20411992 | T28: Medical | U28: 0.20000813 | V28: Medical | W28: 0.2022349 | X28: Medical | Y28: 0.20013692 | Z28: Medical | AA28: 0.23826043 | AB28: Medical | AC28: 0.18201379 | AD28: Medical | AE28: 0.21369696 | AF28: Medical | AG28: 0.18811272 | AH28: Medical | AI28: 0.22351807 | AJ28: Medical | AK28: 0.19497881 | AL28: Medical | AM28: 0.15692083 | AN28: Medical | AO28: 0.21679169 | AP28: Medical | AQ28: 0.19394968 | AR28: Medical | AS28: 0.21020451 | AT28: Medical | AU28: 0.20423536 | AV28: Medical | AW28: 0.18426275 | AX28: Medical | AY28: 0.19767205 | AZ28: Medical | BA28: 0.20319825 | BB28: Medical
A29: 0.12506416 | B29: Bedding | C29: 0.12689388 | D29: Bedding | E29: 0.11988591 | F29: Bedding | G29: 0.14081289 | H29: Bedding | I29: 0.11855017 | J29: Bedding | K29: 0.12530396 | L29: Bedding | M29: 0.11925578 | N29: Bedding | O29: 0.12827797 | P29: Bedding | Q29: 0.11278945 | R29: Bedding | S29: 0.13272571 | T29: Bedding | U29: 0.12073739 | V29: Bedding | W29: 0.12544241 | X29: Bedding | Y29: 0.12408327 | Z29: Bedding | AA29: 0.13938964 | AB29: Bedding | AC29: 0.11660297 | AD29: Bedding | AE29: 0.11403574 | AF29: Bedding | AG29: 0.13854399 | AH29: Bedding | AI29: 0.11773792 | AJ29: Bedding | AK29: 0.12719148 | AL29: Bedding | AM29: 0.12965118 | AN29: Bedding | AO29: 0.12329259 | AP29: Bedding | AQ29: 0.11365867 | AR29: Bedding | AS29: 0.13913756 | AT29: Bedding | AU29: 0.12447443 | AV29: Bedding | AW29: 0.12838281 | AX29: Bedding | AY29: 0.13142224 | AZ29: Bedding | BA29: 0.12231431 | BB29: Bedding
A31: Level 5S | B31: Sanitation, Washing, Heating/Cooling, Refuse, Power
A32: All | C32: Academia | E32: NonAcademia | G32: NGO | I32: NonNGO | K32: AcadNGO | M32: NonAcadNGO | O32: Yes | Q32: Some | S32: No | U32: YesSome | W32: Anyexp | Y32: Noexp | AA32: Sospp | AC32: Nonsospp | AE32: Engr | AG32: NonEngr | AI32: Social | AK32: Nonsocial | AM32: Physical | AO32: Nonphysical | AQ32: Nathaz | AS32: Nonnathaz | AU32: Disman | AW32: Nondisman | AY32: Lgaumo | BA32: Nonlgaumo
A33: 0.35795227 | B33: Sanitation | C33: 0.36348999 | D33: Sanitation | E33: 0.34221155 | F33: Sanitation | G33: 0.34139385 | H33: Sanitation | I33: 0.36466993 | J33: Sanitation | K33: 0.35482322 | L33: Sanitation | M33: 0.39716897 | N33: Sanitation | O33: 0.3821935 | P33: Sanitation | Q33: 0.33974004 | R33: Sanitation | S33: 0.34483063 | T33: Sanitation | U33: 0.36293343 | V33: Sanitation | W33: 0.35288838 | X33: Sanitation | Y33: 0.36501974 | Z33: Sanitation | AA33: 0.35626015 | AB33: Sanitation | AC33: 0.35764735 | AD33: Sanitation | AE33: 0.38034684 | AF33: Sanitation | AG33: 0.33200086 | AH33: Sanitation | AI33: 0.29239969 | AJ33: Sanitation | AK33: 0.37852254 | AL33: Sanitation | AM33: 0.33601277 | AN33: Sanitation | AO33: 0.3640817 | AP33: Sanitation | AQ33: 0.37406348 | AR33: Sanitation | AS33: 0.33937988 | AT33: Sanitation | AU33: 0.35607796 | AV33: Sanitation | AW33: 0.36607871 | AX33: Sanitation | AY33: 0.34002746 | AZ33: Sanitation | BA33: 0.36510967 | BB33: Sanitation
A34: 0.20131593 | B34: Washing | C34: 0.20487189 | D34: Washing | E34: 0.19131281 | F34: Washing | G34: 0.18549104 | H34: Washing | I34: 0.20795671 | J34: Washing | K34: 0.2019677 | L34: Washing | M34: 0.18863668 | N34: Washing | O34: 0.22543892 | P34: Washing | Q34: 0.21623269 | R34: Washing | S34: 0.2097166 | T34: Power | U34: 0.2216129 | V34: Washing | W34: 0.21792107 | X34: Washing | Y34: 0.19124716 | Z34: Power | AA34: 0.22053105 | AB34: Washing | AC34: 0.18984734 | AD34: Washing | AE34: 0.21261938 | AF34: Washing | AG34: 0.18807072 | AH34: Washing | AI34: 0.20930054 | AJ34: Power | AK34: 0.19970187 | AL34: Washing | AM34: 0.23436253 | AN34: Washing | AO34: 0.19194925 | AP34: Washing | AQ34: 0.20630754 | AR34: Washing | AS34: 0.19527455 | AT34: Washing | AU34: 0.19579618 | AV34: Washing | AW34: 0.23682708 | AX34: Washing | AY34: 0.20185311 | AZ34: Washing | BA34: 0.1993595 | BB34: Washing
A35: 0.16389114 | B35: Power | C35: 0.16362061 | D35: Power | E35: 0.16555245 | F35: Refuse | G35: 0.16621126 | H35: Power | I35: 0.1627602 | J35: Power | K35: 0.16572172 | L35: Power | M35: 0.16701356 | N35: Heating/Cooling | O35: 0.14419298 | P35: Power | Q35: 0.18091851 | R35: Refuse | S35: 0.1684244 | T35: Washing | U35: 0.14743905 | V35: Refuse | W35: 0.15105846 | X35: Power | Y35: 0.16999524 | Z35: Washing | AA35: 0.15116058 | AB35: Heating/Cooling | AC35: 0.17317174 | AD35: Power | AE35: 0.15272699 | AF35: Power | AG35: 0.17673381 | AH35: Power | AI35: 0.20312573 | AJ35: Washing | AK35: 0.15131404 | AL35: Power | AM35: 0.15134053 | AN35: Power | AO35: 0.16752746 | AP35: Power | AQ35: 0.15558232 | AR35: Power | AS35: 0.17346003 | AT35: Power | AU35: 0.1613937 | AV35: Power | AW35: 0.17954368 | AX35: Power | AY35: 0.17607276 | AZ35: Heating/Cooling | BA35: 0.16583871 | BB35: Power
A36: 0.14558783 | B36: Refuse | C36: 0.13881898 | D36: Refuse | E36: 0.16422762 | F36: Power | G36: 0.15354591 | H36: Refuse | I36: 0.14187135 | J36: Refuse | K36: 0.14863862 | L36: Refuse | M36: 0.13877117 | N36: Power | O36: 0.12617445 | P36: Heating/Cooling | Q36: 0.13598372 | R36: Power | S36: 0.14051781 | T36: Refuse | U36: 0.14084969 | V36: Power | W36: 0.13909222 | X36: Heating/Cooling | Y36: 0.1579722 | Z36: Refuse | AA36: 0.14776779 | AB36: Power | AC36: 0.15874164 | AD36: Refuse | AE36: 0.13324176 | AF36: Refuse | AG36: 0.15998217 | AH36: Refuse | AI36: 0.16851613 | AJ36: Refuse | AK36: 0.13850702 | AL36: Refuse | AM36: 0.14436964 | AN36: Heating/Cooling | AO36: 0.1491295 | AP36: Refuse | AQ36: 0.13362256 | AR36: Refuse | AS36: 0.16010815 | AT36: Refuse | AU36: 0.15077367 | AV36: Refuse | AW36: 0.11371371 | AX36: Refuse | AY36: 0.15688246 | AZ36: Power | BA36: 0.1543101 | BB36: Refuse
A37: 0.13125283 | B37: Heating/Cooling | C37: 0.12919852 | D37: Heating/Cooling | E37: 0.13669557 | F37: Heating/Cooling | G37: 0.15335794 | H37: Heating/Cooling | I37: 0.12274181 | J37: Heating/Cooling | K37: 0.12884873 | L37: Heating/Cooling | M37: 0.10840962 | N37: Refuse | O37: 0.12200015 | P37: Refuse | Q37: 0.12712504 | R37: Heating/Cooling | S37: 0.13651056 | T37: Heating/Cooling | U37: 0.12716493 | V37: Heating/Cooling | W37: 0.13903987 | X37: Refuse | Y37: 0.11576566 | Z37: Heating/Cooling | AA37: 0.12428044 | AB37: Refuse | AC37: 0.12059193 | AD37: Heating/Cooling | AE37: 0.12106503 | AF37: Heating/Cooling | AG37: 0.14321244 | AH37: Heating/Cooling | AI37: 0.12665791 | AJ37: Heating/Cooling | AK37: 0.13195454 | AL37: Heating/Cooling | AM37: 0.13391454 | AN37: Refuse | AO37: 0.12731209 | AP37: Heating/Cooling | AQ37: 0.1304241 | AR37: Heating/Cooling | AS37: 0.1317774 | AT37: Heating/Cooling | AU37: 0.13595849 | AV37: Heating/Cooling | AW37: 0.10383682 | AX37: Heating/Cooling | AY37: 0.12516421 | AZ37: Refuse | BA37: 0.11538203 | BB37: Heating/Cooling
A39: Level 6S | C39: Original building function, Space for people, Space for admin
A40: All | C40: Academia | E40: NonAcademia | G40: NGO | I40: NonNGO | K40: AcadNGO | M40: NonAcadNGO | O40: Yes | Q40: Some | S40: No | U40: YesSome | W40: Anyexp | Y40: Noexp | AA40: Sospp | AC40: Nonsospp | AE40: Engr | AG40: NonEngr | AI40: Social | AK40: Nonsocial | AM40: Physical | AO40: Nonphysical | AQ40: Nathaz | AS40: Nonnathaz | AU40: Disman | AW40: Nondisman | AY40: Lgaumo | BA40: Nonlgaumo
A41: 0.46912656 | B41: Space for people | C41: 0.47151935 | D41: Space for people | E41: 0.44666343 | F41: Space for people | G41: 0.41757499 | H41: Space for people | I41: 0.48800484 | J41: Space for people | K41: 0.48184442 | L41: Space for people | M41: 0.41421356 | N41: Space for admin | O41: 0.40028497 | P41: Original building function | Q41: 0.51157103 | R41: Space for people | S41: 0.49126532 | T41: Space for people | U41: 0.45585383 | V41: Space for people | W41: 0.45734158 | X41: Space for people | Y41: 0.49067958 | Z41: Space for people | AA41: 0.398225 | AB41: Original building function | AC41: 0.51976975 | AD41: Space for people | AE41: 0.47885492 | AF41: Space for people | AG41: 0.45306216 | AH41: Space for people | AI41: 0.47945892 | AJ41: Space for people | AK41: 0.46541862 | AL41: Space for people | AM41: 0.50420526 | AN41: Space for people | AO41: 0.45783282 | AP41: Space for people | AQ41: 0.51984261 | AR41: Space for people | AS41: 0.4119807 | AT41: Space for people | AU41: 0.47473071 | AV41: Space for people | AW41: 0.50750725 | AX41: Original building function | AY41: 0.43690954 | AZ41: Space for people | BA41: 0.48297705 | BB41: Space for people
A42: 0.29539054 | B42: Original building function | C42: 0.32280857 | D42: Original building function | E42: 0.32989973 | F42: Space for admin | G42: 0.3205575 | H42: Space for admin | I42: 0.30781142 | J42: Original building function | K42: 0.29353768 | L42: Original building function | M42: 0.29289322 | N42: Original building function | O42: 0.39770687 | P42: Space for people | Q42: 0.25851465 | R42: Space for admin | S42: 0.2661099 | T42: Original building function | U42: 0.31316493 | V42: Original building function | W42: 0.3161233 | X42: Original building function | Y42: 0.25638111 | Z42: Original building function | AA42: 0.37811129 | AB42: Space for people | AC42: 0.24298495 | AD42: Original building function | AE42: 0.32249162 | AF42: Original building function | AG42: 0.28276761 | AH42: Space for admin | AI42: 0.26173031 | AJ42: Original building function | AK42: 0.30607022 | AL42: Original building function | AM42: 0.24865922 | AN42: Space for admin | AO42: 0.31111436 | AP42: Original building function | AQ42: 0.26550038 | AR42: Original building function | AS42: 0.32952193 | AT42: Original building function | AU42: 0.26636825 | AV42: Original building function | AW42: 0.38095301 | AX42: Space for people | AY42: 0.30600263 | AZ42: Original building function | BA42: 0.29055039 | BB42: Original building function
A43: 0.2354829 | B43: Space for admin | C43: 0.20567208 | D43: Space for admin | E43: 0.22343684 | F43: Original building function | G43: 0.26186752 | H43: Original building function | I43: 0.20418374 | J43: Space for admin | K43: 0.2246179 | L43: Space for admin | M43: 0.29289322 | N43: Space for people | O43: 0.20200816 | P43: Space for admin | Q43: 0.22991433 | R43: Original building function | S43: 0.24262478 | T43: Space for admin | U43: 0.23098124 | V43: Space for admin | W43: 0.22653512 | X43: Space for admin | Y43: 0.2529393 | Z43: Space for admin | AA43: 0.22366371 | AB43: Space for admin | AC43: 0.2372453 | AD43: Space for admin | AE43: 0.19865345 | AF43: Space for admin | AG43: 0.26417023 | AH43: Original building function | AI43: 0.25881077 | AJ43: Space for admin | AK43: 0.22851116 | AL43: Space for admin | AM43: 0.24713552 | AN43: Original building function | AO43: 0.23105282 | AP43: Space for admin | AQ43: 0.21465701 | AR43: Space for admin | AS43: 0.25849736 | AT43: Space for admin | AU43: 0.25890103 | AV43: Space for admin | AW43: 0.11153974 | AX43: Space for admin | AY43: 0.25708782 | AZ43: Space for admin | BA43: 0.22647256 | BB43: Space for admin
A45: Level 7S | C45: Personal security, Stuff security
A46: All | C46: Academia | E46: NonAcademia | G46: NGO | I46: NonNGO | K46: AcadNGO | M46: NonAcadNGO | O46: Yes | Q46: Some | S46: No | U46: YesSome | W46: Anyexp | Y46: Noexp | AA46: Sospp | AC46: Nonsospp | AE46: Engr | AG46: NonEngr | AI46: Social | AK46: Nonsocial | AM46: Physical | AO46: Nonphysical | AQ46: Nathaz | AS46: Nonnathaz | AU46: Disman | AW46: Nondisman | AY46: Lgaumo | BA46: Nonlgaumo
A47: 0.62340014 | B47: Personal security | C47: 0.60782053 | D47: Personal security | E47: 0.66487153 | F47: Personal security | G47: 0.63735634 | H47: Personal security | I47: 0.61735409 | J47: Personal security | K47: 0.63755343 | L47: Personal security | M47: 0.58578644 | N47: Stuff security | O47: 0.50719156 | P47: Personal security | Q47: 0.6820031 | R47: Personal security | S47: 0.67351813 | T47: Personal security | U47: 0.59304284 | V47: Personal security | W47: 0.58578644 | X47: Personal security | Y47: 0.69399619 | Z47: Personal security | AA47: 0.54446537 | AB47: Personal security | AC47: 0.66653456 | AD47: Personal security | AE47: 0.62195314 | AF47: Personal security | AG47: 0.62505117 | AH47: Personal security | AI47: 0.70410398 | AJ47: Personal security | AK47: 0.59713789 | AL47: Personal security | AM47: 0.66461469 | AN47: Personal security | AO47: 0.61046006 | AP47: Personal security | AQ47: 0.63208415 | AR47: Personal security | AS47: 0.61337789 | AT47: Personal security | AU47: 0.61654443 | AV47: Personal security | AW47: 0.66666667 | AX47: Personal security | AY47: 0.59020764 | AZ47: Personal security | BA47: 0.63729772 | BB47: Personal security
A48: 0.37659986 | B48: Stuff security | C48: 0.39217947 | D48: Stuff security | E48: 0.33512847 | F48: Stuff security | G48: 0.36264366 | H48: Stuff security | I48: 0.38264591 | J48: Stuff security | K48: 0.36244657 | L48: Stuff security | M48: 0.41421356 | N48: Personal security | O48: 0.49280844 | P48: Stuff security | Q48: 0.3179969 | R48: Stuff security | S48: 0.32648187 | T48: Stuff security | U48: 0.40695716 | V48: Stuff security | W48: 0.41421356 | X48: Stuff security | Y48: 0.30600381 | Z48: Stuff security | AA48: 0.45553463 | AB48: Stuff security | AC48: 0.33346544 | AD48: Stuff security | AE48: 0.37804686 | AF48: Stuff security | AG48: 0.37494883 | AH48: Stuff security | AI48: 0.29589602 | AJ48: Stuff security | AK48: 0.40286211 | AL48: Stuff security | AM48: 0.33538531 | AN48: Stuff security | AO48: 0.38953994 | AP48: Stuff security | AQ48: 0.36791585 | AR48: Stuff security | AS48: 0.38662211 | AT48: Stuff security | AU48: 0.38345557 | AV48: Stuff security | AW48: 0.33333333 | AX48: Stuff security | AY48: 0.40979236 | AZ48: Stuff security | BA48: 0.36270228 | BB48: Stuff security
A50: Level 8S | B50: Space for sleeping, Space for eating, Recreation
A51: All | C51: Academia | E51: NonAcademia | G51: NGO | I51: NonNGO | K51: AcadNGO | M51: NonAcadNGO | O51: Yes | Q51: Some | S51: No | U51: YesSome | W51: Anyexp | Y51: Noexp | AA51: Sospp | AC51: Nonsospp | AE51: Engr | AG51: NonEngr | AI51: Social | AK51: Nonsocial | AM51: Physical | AO51: Nonphysical | AQ51: Nathaz | AS51: Nonnathaz | AU51: Disman | AW51: Nondisman | AY51: Lgaumo | BA51: Nonlgaumo
A52: 0.54495679 | B52: Space for sleeping | C52: 0.54979708 | D52: Space for sleeping | E52: 0.53012762 | F52: Space for sleeping | G52: 0.56983302 | H52: Space for sleeping | I52: 0.5334331 | J52: Space for sleeping | K52: 0.54907533 | L52: Space for sleeping | M52: 0.48553955 | N52: Space for sleeping | O52: 0.55684137 | P52: Space for sleeping | Q52: 0.53212267 | R52: Space for sleeping | S52: 0.542635 | T52: Space for sleeping | U52: 0.54599116 | V52: Space for sleeping | W52: 0.55100951 | X52: Space for sleeping | Y52: 0.5313512 | Z52: Space for sleeping | AA52: 0.50671933 | AB52: Space for sleeping | AC52: 0.56619946 | AD52: Space for sleeping | AE52: 0.54120067 | AF52: Space for sleeping | AG52: 0.54726594 | AH52: Space for sleeping | AI52: 0.51139599 | AJ52: Space for sleeping | AK52: 0.55500621 | AL52: Space for sleeping | AM52: 0.50277427 | AN52: Space for sleeping | AO52: 0.55761027 | AP52: Space for sleeping | AQ52: 0.5640209 | AR52: Space for sleeping | AS52: 0.52246281 | AT52: Space for sleeping | AU52: 0.56083796 | AV52: Space for sleeping | AW52: 0.44064869 | AX52: Space for sleeping | AY52: 0.53348975 | AZ52: Space for sleeping | BA52: 0.54984088 | BB52: Space for sleeping
A53: 0.29724049 | B53: Space for eating | C53: 0.28668292 | D53: Space for eating | E53: 0.32724968 | F53: Space for eating | G53: 0.25970051 | H53: Space for eating | I53: 0.31424134 | J53: Space for eating | K53: 0.2929798 | L53: Space for eating | M53: 0.3601909 | N53: Space for eating | O53: 0.29915914 | P53: Space for eating | Q53: 0.27897637 | R53: Space for eating | S53: 0.30995299 | T53: Space for eating | U53: 0.28995338 | V53: Space for eating | W53: 0.2836524 | X53: Space for eating | Y53: 0.32536035 | Z53: Space for eating | AA53: 0.30352829 | AB53: Space for eating | AC53: 0.29252327 | AD53: Space for eating | AE53: 0.31682716 | AF53: Space for eating | AG53: 0.27532004 | AH53: Space for eating | AI53: 0.32945086 | AJ53: Space for eating | AK53: 0.28776848 | AL53: Space for eating | AM53: 0.33456787 | AN53: Space for eating | AO53: 0.28628038 | AP53: Space for eating | AQ53: 0.29344178 | AR53: Space for eating | AS53: 0.30078194 | AT53: Space for eating | AU53: 0.28537657 | AV53: Space for eating | AW53: 0.37749467 | AX53: Space for eating | AY53: 0.30799661 | AZ53: Space for eating | BA53: 0.29269033 | BB53: Space for eating
A54: 0.15780271 | B54: Recreation | C54: 0.16352 | D54: Recreation | E54: 0.1426227 | F54: Recreation | G54: 0.17046647 | H54: Recreation | I54: 0.15232556 | J54: Recreation | K54: 0.15794487 | L54: Recreation | M54: 0.15426956 | N54: Recreation | O54: 0.14399949 | P54: Recreation | Q54: 0.18890096 | R54: Recreation | S54: 0.147412 | T54: Recreation | U54: 0.16405546 | V54: Recreation | W54: 0.16533809 | X54: Recreation | Y54: 0.14328846 | Z54: Recreation | AA54: 0.18975238 | AB54: Recreation | AC54: 0.14127727 | AD54: Recreation | AE54: 0.14197217 | AF54: Recreation | AG54: 0.17741402 | AH54: Recreation | AI54: 0.15915315 | AJ54: Recreation | AK54: 0.15722531 | AL54: Recreation | AM54: 0.16265786 | AN54: Recreation | AO54: 0.15610935 | AP54: Recreation | AQ54: 0.14253733 | AR54: Recreation | AS54: 0.17675525 | AT54: Recreation | AU54: 0.15378546 | AV54: Recreation | AW54: 0.18185664 | AX54: Recreation | AY54: 0.15851364 | AZ54: Recreation | BA54: 0.15746879 | BB54: Recreation
A56: Level 9S | B56: Medical services, Storage of supplies, Registration
A57: All | C57: Academia | E57: NonAcademia | G57: NGO | I57: NonNGO | K57: AcadNGO | M57: NonAcadNGO | O57: Yes | Q57: Some | S57: No | U57: YesSome | W57: Anyexp | Y57: Noexp | AA57: Sospp | AC57: Nonsospp | AE57: Engr | AG57: NonEngr | AI57: Social | AK57: Nonsocial | AM57: Physical | AO57: Nonphysical | AQ57: Nathaz | AS57: Nonnathaz | AU57: Disman | AW57: Nondisman | AY57: Lgaumo | BA57: Nonlgaumo
A58: 0.45816608 | B58: Medical services | C58: 0.49781087 | D58: Medical services | E58: 0.35200157 | F58: Medical services | G58: 0.38932621 | H58: Medical services | I58: 0.48672449 | J58: Medical services | K58: 0.45778067 | L58: Medical services | M58: 0.4563727 | N58: Medical services | O58: 0.54010434 | P58: Medical services | Q58: 0.38000718 | R58: Medical services | S58: 0.44761536 | T58: Medical services | U58: 0.46390362 | V58: Medical services | W58: 0.48828193 | X58: Medical services | Y58: 0.39881986 | Z58: Medical services | AA58: 0.50513332 | AB58: Medical services | AC58: 0.43121234 | AD58: Medical services | AE58: 0.51043173 | AF58: Medical services | AG58: 0.39887367 | AH58: Medical services | AI58: 0.42357432 | AJ58: Medical services | AK58: 0.46854528 | AL58: Medical services | AM58: 0.38253595 | AN58: Registration | AO58: 0.49139425 | AP58: Medical services | AQ58: 0.46743948 | AR58: Medical services | AS58: 0.44756804 | AT58: Medical services | AU58: 0.45227504 | AV58: Medical services | AW58: 0.49627904 | AX58: Medical services | AY58: 0.45657997 | AZ58: Medical services | BA58: 0.45561391 | BB58: Medical services
A59: 0.31821313 | B59: Storage of supplies | C59: 0.30282669 | D59: Storage of supplies | E59: 0.35200157 | F59: Storage of supplies | G59: 0.31443459 | H59: Storage of supplies | I59: 0.31688211 | J59: Storage of supplies | K59: 0.32282233 | L59: Storage of supplies | M59: 0.28749678 | N59: Registration | O59: 0.24657335 | P59: Storage of supplies | Q59: 0.37687953 | R59: Storage of supplies | S59: 0.34015378 | T59: Storage of supplies | U59: 0.30584435 | V59: Storage of supplies | W59: 0.29599343 | X59: Storage of supplies | Y59: 0.36361303 | Z59: Storage of supplies | AA59: 0.28571261 | AB59: Storage of supplies | AC59: 0.33729671 | AD59: Storage of supplies | AE59: 0.29942708 | AF59: Storage of supplies | AG59: 0.33600804 | AH59: Storage of supplies | AI59: 0.35829999 | AJ59: Storage of supplies | AK59: 0.30646992 | AL59: Storage of supplies | AM59: 0.33710799 | AN59: Medical services | AO59: 0.32308093 | AP59: Storage of supplies | AQ59: 0.31560493 | AR59: Storage of supplies | AS59: 0.32105898 | AT59: Storage of supplies | AU59: 0.31950405 | AV59: Storage of supplies | AW59: 0.3086458 | AX59: Storage of supplies | AY59: 0.28045462 | AZ59: Registration | BA59: 0.34287888 | BB59: Storage of supplies
A60: 0.22362079 | B60: Registration | C60: 0.19936244 | D60: Registration | E60: 0.29599686 | F60: Registration | G60: 0.2962392 | H60: Registration | I60: 0.1963934 | J60: Registration | K60: 0.219397 | L60: Registration | M60: 0.25613052 | N60: Storage of supplies | O60: 0.21332231 | P60: Registration | Q60: 0.24311329 | R60: Registration | S60: 0.21223086 | T60: Registration | U60: 0.23025202 | V60: Registration | W60: 0.21572464 | X60: Registration | Y60: 0.23756711 | Z60: Registration | AA60: 0.20915407 | AB60: Registration | AC60: 0.23149095 | AD60: Registration | AE60: 0.19014119 | AF60: Registration | AG60: 0.26511829 | AH60: Registration | AI60: 0.2181257 | AJ60: Registration | AK60: 0.2249848 | AL60: Registration | AM60: 0.28035606 | AN60: Storage of supplies | AO60: 0.18552482 | AP60: Registration | AQ60: 0.21695559 | AR60: Registration | AS60: 0.23137298 | AT60: Registration | AU60: 0.22822091 | AV60: Registration | AW60: 0.19507517 | AX60: Registration | AY60: 0.26296541 | AZ60: Storage of supplies | BA60: 0.2015072 | BB60: Registration
A62: Level 10S | B62: Size, Multiple spaces
A63: All | C63: Academia | E63: NonAcademia | G63: NGO | I63: NonNGO | K63: AcadNGO | M63: NonAcadNGO | O63: Yes | Q63: Some | S63: No | U63: YesSome | W63: Anyexp | Y63: Noexp | AA63: Sospp | AC63: Nonsospp | AE63: Engr | AG63: NonEngr | AI63: Social | AK63: Nonsocial | AM63: Physical | AO63: Nonphysical | AQ63: Nathaz | AS63: Nonnathaz | AU63: Disman | AW63: Nondisman | AY63: Lgaumo | BA63: Nonlgaumo
A64: 0.51384274 | B64: Multiple spaces | C64: 0.51100285 | D64: Multiple spaces | E64: 0.52164731 | F64: Multiple spaces | G64: 0.5333939 | H64: Multiple spaces | I64: 0.50544718 | J64: Multiple spaces | K64: 0.50116255 | L64: Size | M64: 0.71010205 | N64: Multiple spaces | O64: 0.60783068 | P64: Multiple spaces | Q64: 0.51126102 | R64: Size | S64: 0.55242047 | T64: Size | U64: 0.55213302 | V64: Multiple spaces | W64: 0.51863705 | X64: Multiple spaces | Y64: 0.50424737 | Z64: Multiple spaces | AA64: 0.63674248 | AB64: Multiple spaces | AC64: 0.559094 | AD64: Size | AE64: 0.51450707 | AF64: Size | AG64: 0.54612327 | AH64: Multiple spaces | AI64: 0.53497242 | AJ64: Multiple spaces | AK64: 0.50739864 | AL64: Multiple spaces | AM64: 0.52473505 | AN64: Size | AO64: 0.52557225 | AP64: Multiple spaces | AQ64: 0.53610902 | AR64: Size | AS64: 0.57053643 | AT64: Multiple spaces | AU64: 0.50931053 | AV64: Multiple spaces | AW64: 0.54321362 | AX64: Multiple spaces | AY64: 0.55250351 | AZ64: Multiple spaces | BA64: 0.50280433 | BB64: Size
A65: 0.48615726 | B65: Size | C65: 0.48899715 | D65: Size | E65: 0.47835269 | F65: Size | G65: 0.4666061 | H65: Size | I65: 0.49455282 | J65: Size | K65: 0.49883745 | L65: Multiple spaces | M65: 0.28989795 | N65: Size | O65: 0.39216932 | P65: Size | Q65: 0.48873898 | R65: Multiple spaces | S65: 0.44757953 | T65: Multiple spaces | U65: 0.44786698 | V65: Size | W65: 0.48136295 | X65: Size | Y65: 0.49575263 | Z65: Size | AA65: 0.36325752 | AB65: Size | AC65: 0.440906 | AD65: Multiple spaces | AE65: 0.48549293 | AF65: Multiple spaces | AG65: 0.45387673 | AH65: Size | AI65: 0.46502758 | AJ65: Size | AK65: 0.49260136 | AL65: Size | AM65: 0.47526495 | AN65: Multiple spaces | AO65: 0.47442775 | AP65: Size | AQ65: 0.46389098 | AR65: Multiple spaces | AS65: 0.42946357 | AT65: Size | AU65: 0.49068947 | AV65: Size | AW65: 0.45678638 | AX65: Size | AY65: 0.44749649 | AZ65: Size | BA65: 0.49719567 | BB65: Multiple spaces

Sheet Hub_AllGroups_sorted
A1: Hub
A2: Level 1H | B2: Hazard at location, Physical Vulnerability, Accessibility, Communications, Working Environment
A3: All | C3: Academia | E3: NonAcademia | G3: NGO | I3: NonNGO | K3: AcadNGO | M3: NonAcadNGO | O3: Yes | Q3: Some | S3: No | U3: YesSome | W3: Anyexp | Y3: Noexp | AA3: Uospp | AC3: Nonuospp | AE3: Engr | AG3: NonEngr | AI3: Social | AK3: Nonsocial | AM3: Physical | AO3: Nonphysical | AQ3: Nathaz | AS3: Nonnathaz | AU3: Disman | AW3: Nondisman | AY3: Lgaumo | BA3: Nonlgaumo
A4: 0.23998457 | B4: Hazard | C4: 0.24531504 | D4: Hazard | E4: 0.23736065 | F4: Vulnerability | G4: 0.2614514 | H4: Hazard | I4: 0.23589406 | J4: Accessibility | K4: 0.24241738 | L4: Hazard | M4: 0.24273316 | N4: Accessibility | O4: 0.27218336 | P4: Hazard | Q4: 0.24029176 | R4: Vulnerability | S4: 0.25686394 | T4: Vulnerability | U4: 0.24803134 | V4: Hazard | W4: 0.23851922 | X4: Hazard | Y4: 0.24185253 | Z4: Hazard | AA4: 0.24609621 | AB4: Hazard | AC4: 0.23688574 | AD4: Vulnerability | AE4: 0.24245632 | AF4: Hazard | AG4: 0.23634301 | AH4: Hazard | AI4: 0.2378514 | AJ4: Vulnerability | AK4: 0.24905573 | AL4: Hazard | AM4: 0.25954212 | AN4: Vulnerability | AO4: 0.25153561 | AP4: Hazard | AQ4: 0.23904152 | AR4: Vulnerability | AS4: 0.23986417 | AT4: Hazard | AU4: 0.25565888 | AV4: Hazard | AW4: 0.25498772 | AX4: Vulnerability | AY4: 0.28027648 | AZ4: Hazard | BA4: 0.23460427 | BB4: Vulnerability
A5: 0.22134204 | B5: Vulnerability | C5: 0.22880884 | D5: Accessibility | E5: 0.22460701 | F5: Hazard | G5: 0.20303837 | H5: Vulnerability | I5: 0.22986478 | J5: Hazard | K5: 0.22600416 | L5: Vulnerability | M5: 0.20353565 | N5: Hazard | O5: 0.2030287 | P5: Working Environment | Q5: 0.22597775 | R5: Accessibility | S5: 0.22447737 | T5: Hazard | U5: 0.21509048 | V5: Accessibility | W5: 0.219926 | X5: Accessibility | Y5: 0.24021063 | Z5: Vulnerability | AA5: 0.21565195 | AB5: Accessibility | AC5: 0.2334538 | AD5: Hazard | AE5: 0.22770894 | AF5: Accessibility | AG5: 0.21543339 | AH5: Vulnerability | AI5: 0.22253132 | AJ5: Accessibility | AK5: 0.21755773 | AL5: Accessibility | AM5: 0.25737497 | AN5: Accessibility | AO5: 0.20909633 | AP5: Vulnerability | AQ5: 0.2383964 | AR5: Hazard | AS5: 0.20565428 | AT5: Accessibility | AU5: 0.21498088 | AV5: Vulnerability | AW5: 0.24306467 | AX5: Accessibility | AY5: 0.20331381 | AZ5: Accessibility | BA5: 0.22520421 | BB5: Accessibility
A6: 0.21899004 | B6: Accessibility | C6: 0.21520837 | D6: Vulnerability | E6: 0.19615294 | F6: Communications | G6: 0.20010717 | H6: Communications | I6: 0.22872152 | J6: Vulnerability | K6: 0.21697013 | L6: Accessibility | M6: 0.19927809 | N6: Communications | O6: 0.20252054 | P6: Accessibility | Q6: 0.2197705 | R6: Hazard | S6: 0.22361205 | T6: Accessibility | U6: 0.20190671 | V6: Vulnerability | W6: 0.20936403 | X6: Vulnerability | Y6: 0.21696556 | Z6: Accessibility | AA6: 0.20637641 | AB6: Vulnerability | AC6: 0.22186016 | AD6: Accessibility | AE6: 0.22652502 | AF6: Vulnerability | AG6: 0.20895046 | AH6: Accessibility | AI6: 0.21086832 | AJ6: Hazard | AK6: 0.21619161 | AL6: Vulnerability | AM6: 0.19998303 | AN6: Hazard | AO6: 0.20676023 | AP6: Accessibility | AQ6: 0.2301293 | AR6: Accessibility | AS6: 0.20173061 | AT6: Vulnerability | AU6: 0.21393422 | AV6: Accessibility | AW6: 0.21908512 | AX6: Working Environment | AY6: 0.19175641 | AZ6: Vulnerability | BA6: 0.22377198 | BB6: Hazard
A7: 0.16685964 | B7: Communications | C7: 0.15693373 | D7: Communications | E7: 0.19267046 | F7: Accessibility | G7: 0.182117 | H7: Accessibility | I7: 0.15353121 | J7: Communications | K7: 0.16452055 | L7: Communications | M7: 0.19403608 | N7: Working Environment | O7: 0.17008688 | P7: Vulnerability | Q7: 0.17440663 | R7: Communications | S7: 0.17083821 | T7: Communications | U7: 0.17133635 | V7: Working Environment | W7: 0.17476051 | X7: Communications | Y7: 0.15529521 | Z7: Communications | AA7: 0.16675016 | AB7: Working Environment | AC7: 0.16813338 | AD7: Communications | AE7: 0.15305653 | AF7: Communications | AG7: 0.18360827 | AH7: Communications | AI7: 0.18939104 | AJ7: Communications | AK7: 0.16023675 | AL7: Communications | AM7: 0.1804669 | AN7: Communications | AO7: 0.17105001 | AP7: Working Environment | AQ7: 0.15975762 | AR7: Communications | AS7: 0.17864771 | AT7: Working Environment | AU7: 0.17188386 | AV7: Communications | AW7: 0.1516166 | AX7: Hazard | AY7: 0.17498702 | AZ7: Communications | BA7: 0.16286223 | BB7: Communications
A8: 0.1528237 | B8: Working Environment | C8: 0.15373402 | D8: Working Environment | E8: 0.14920894 | F8: Working Environment | G8: 0.15328606 | H8: Working Environment | I8: 0.15198842 | J8: Working Environment | K8: 0.15008778 | L8: Working Environment | M8: 0.16041702 | N8: Vulnerability | O8: 0.15218051 | P8: Communications | Q8: 0.13955337 | R8: Working Environment | S8: 0.12420844 | T8: Working Environment | U8: 0.16363512 | V8: Communications | W8: 0.15743025 | X8: Working Environment | Y8: 0.14567607 | Z8: Working Environment | AA8: 0.16512527 | AB8: Communications | AC8: 0.13966692 | AD8: Working Environment | AE8: 0.15025319 | AF8: Working Environment | AG8: 0.15566487 | AH8: Working Environment | AI8: 0.13935791 | AJ8: Working Environment | AK8: 0.15695818 | AL8: Working Environment | AM8: 0.10263298 | AN8: Working Environment | AO8: 0.16155782 | AP8: Communications | AQ8: 0.13267516 | AR8: Working Environment | AS8: 0.17410323 | AT8: Communications | AU8: 0.14354216 | AV8: Working Environment | AW8: 0.13124589 | AX8: Communications | AY8: 0.14966627 | AZ8: Working Environment | BA8: 0.1535573 | BB8: Working Environment
A10: Level 2H | B10: Transport option for receivers, Transport option for suppliers, Immediate availability, Easy to find
A11: All | C11: Academia | E11: NonAcademia | G11: NGO | I11: NonNGO | K11: AcadNGO | M11: NonAcadNGO | O11: Yes | Q11: Some | S11: No | U11: YesSome | W11: Anyexp | Y11: Noexp | AA11: Uospp | AC11: Nonuospp | AE11: Engr | AG11: NonEngr | AI11: Social | AK11: Nonsocial | AM11: Physical | AO11: Nonphysical | AQ11: Nathaz | AS11: Nonnathaz | AU11: Disman | AW11: Nondisman | AY11: Lgaumo | BA11: Nonlgaumo
A12: 0.28795408 | B12: Immediate availability | C12: 0.31996334 | D12: Immediate availability | E12: 0.33175677 | F12: Transport options-suppliers | G12: 0.29792077 | H12: Transport options-receivers | I12: 0.30265682 | J12: Immediate availability | K12: 0.28579772 | L12: Immediate availability | M12: 0.31928853 | N12: Immediate availability | O12: 0.35014692 | P12: Immediate availability | Q12: 0.27209533 | R12: Transport options-suppliers | S12: 0.28153685 | T12: Transport options-receivers | U12: 0.30392176 | V12: Immediate availability | W12: 0.31312054 | X12: Immediate availability | Y12: 0.28759923 | Z12: Transport options-receivers | AA12: 0.2888607 | AB12: Immediate availability | AC12: 0.28653687 | AD12: Immediate availability | AE12: 0.28853191 | AF12: Transport options-receivers | AG12: 0.29185917 | AH12: Immediate availability | AI12: 0.28298893 | AJ12: Transport options-suppliers | AK12: 0.28928586 | AL12: Immediate availability | AM12: 0.29560175 | AN12: Transport options-receivers | AO12: 0.30846494 | AP12: Immediate availability | AQ12: 0.276722 | AR12: Transport options-receivers | AS12: 0.30825646 | AT12: Immediate availability | AU12: 0.29258104 | AV12: Immediate availability | AW12: 0.31960943 | AX12: Transport options-receivers | AY12: 0.30191654 | AZ12: Transport options-receivers | BA12: 0.2904708 | BB12: Immediate availability
A13: 0.26951434 | B13: Transport options-receivers | C13: 0.26284011 | D13: Transport options-receivers | E13: 0.27792766 | F13: Transport options-receivers | G13: 0.26959195 | H13: Transport options-suppliers | I13: 0.25714353 | J13: Transport options-receivers | K13: 0.27122327 | L13: Transport options-receivers | M13: 0.24536961 | N13: Transport options-receivers | O13: 0.2617582 | P13: Transport options-receivers | Q13: 0.25851482 | R13: Transport options-receivers | S13: 0.26433575 | T13: Transport options-suppliers | U13: 0.26221567 | V13: Transport options-receivers | W13: 0.25718578 | X13: Transport options-receivers | Y13: 0.25293758 | Z13: Transport options-suppliers | AA13: 0.28195267 | AB13: Transport options-receivers | AC13: 0.25734981 | AD13: Transport options-receivers | AE13: 0.2836797 | AF13: Immediate availability | AG13: 0.24823127 | AH13: Transport options-receivers | AI13: 0.28161872 | AJ13: Immediate availability | AK13: 0.27145405 | AL13: Transport options-receivers | AM13: 0.27054175 | AN13: Transport options-suppliers | AO13: 0.26093404 | AP13: Transport options-receivers | AQ13: 0.2708271 | AR13: Immediate availability | AS13: 0.2608336 | AT13: Transport options-receivers | AU13: 0.26221985 | AV13: Transport options-receivers | AW13: 0.25660912 | AX13: Immediate availability | AY13: 0.28123439 | AZ13: Immediate availability | BA13: 0.25630944 | BB13: Transport options-receivers
A14: 0.24270972 | B14: Transport options-suppliers | C14: 0.21366533 | D14: Transport options-suppliers | E14: 0.20746274 | F14: Immediate availability | G14: 0.25394454 | H14: Immediate availability | I14: 0.23122338 | J14: Transport options-suppliers | K14: 0.24245507 | L14: Transport options-suppliers | M14: 0.24536961 | N14: Transport options-suppliers | O14: 0.19599945 | P14: Transport options-suppliers | Q14: 0.2559941 | R14: Immediate availability | S14: 0.26109171 | T14: Immediate availability | U14: 0.23047239 | V14: Transport options-suppliers | W14: 0.23523589 | X14: Transport options-suppliers | Y14: 0.25238027 | Z14: Immediate availability | AA14: 0.24184435 | AB14: Transport options-suppliers | AC14: 0.24319759 | AD14: Transport options-suppliers | AE14: 0.2456219 | AF14: Transport options-suppliers | AG14: 0.23863773 | AH14: Transport options-suppliers | AI14: 0.26164471 | AJ14: Transport options-receivers | AK14: 0.23114768 | AL14: Transport options-suppliers | AM14: 0.22654188 | AN14: Immediate availability | AO14: 0.23383909 | AP14: Transport options-suppliers | AQ14: 0.25405584 | AR14: Transport options-suppliers | AS14: 0.22992889 | AT14: Transport options-suppliers | AU14: 0.2467195 | AV14: Transport options-suppliers | AW14: 0.21659063 | AX14: Transport options-suppliers | AY14: 0.22610959 | AZ14: Transport options-suppliers | BA14: 0.24976047 | BB14: Transport options-suppliers
A15: 0.19982186 | B15: Easy to find | C15: 0.20353122 | D15: Easy to find | E15: 0.18285283 | F15: Easy to find | G15: 0.17854275 | H15: Easy to find | I15: 0.20897626 | J15: Easy to find | K15: 0.20052394 | L15: Easy to find | M15: 0.18997225 | N15: Easy to find | O15: 0.19209542 | P15: Easy to find | Q15: 0.21339574 | R15: Easy to find | S15: 0.19303569 | T15: Easy to find | U15: 0.20339019 | V15: Easy to find | W15: 0.1944578 | X15: Easy to find | Y15: 0.20708292 | Z15: Easy to find | AA15: 0.18734229 | AB15: Easy to find | AC15: 0.21291572 | AD15: Easy to find | AE15: 0.18216649 | AF15: Easy to find | AG15: 0.22127182 | AH15: Easy to find | AI15: 0.17374763 | AJ15: Easy to find | AK15: 0.20811241 | AL15: Easy to find | AM15: 0.20731462 | AN15: Easy to find | AO15: 0.19676194 | AP15: Easy to find | AQ15: 0.19839506 | AR15: Easy to find | AS15: 0.20098105 | AT15: Easy to find | AU15: 0.19847962 | AV15: Easy to find | AW15: 0.20719083 | AX15: Easy to find | AY15: 0.19073948 | AZ15: Easy to find | BA15: 0.20345928 | BB15: Easy to find
A17: Level 3H | B17: Utilities, Space, Security, Health & Safety, Food & drink
A18: All | C18: Academia | E18: NonAcademia | G18: NGO | I18: NonNGO | K18: AcadNGO | M18: NonAcadNGO | O18: Yes | Q18: Some | S18: No | U18: YesSome | W18: Anyexp | Y18: Noexp | AA18: Uospp | AC18: Nonuospp | AE18: Engr | AG18: NonEngr | AI18: Social | AK18: Nonsocial | AM18: Physical | AO18: Nonphysical | AQ18: Nathaz | AS18: Nonnathaz | AU18: Disman | AW18: Nondisman | AY18: Lgaumo | BA18: Nonlgaumo
A19: 0.25247263 | B19: Security | C19: 0.25145147 | D19: Security | E19: 0.25462801 | F19: Security | G19: 0.2431998 | H19: Security | I19: 0.25533825 | J19: Security | K19: 0.25437953 | L19: Security | M19: 0.28208065 | N19: Space | O19: 0.24822035 | P19: Security | Q19: 0.25421433 | R19: Security | S19: 0.25187107 | T19: Security | U19: 0.25203441 | V19: Security | W19: 0.27322348 | X19: Security | Y19: 0.25349831 | Z19: Utilities | AA19: 0.26370328 | AB19: Security | AC19: 0.2447742 | AD19: Utilities | AE19: 0.22969873 | AF19: Utilities | AG19: 0.28685604 | AH19: Security | AI19: 0.27847195 | AJ19: Security | AK19: 0.24447476 | AL19: Security | AM19: 0.26902832 | AN19: Security | AO19: 0.24632381 | AP19: Security | AQ19: 0.2393618 | AR19: Utilities | AS19: 0.26717275 | AT19: Security | AU19: 0.25123935 | AV19: Security | AW19: 0.25204042 | AX19: Food & drink | AY19: 0.24850547 | AZ19: Security | BA19: 0.25115923 | BB19: Security
A20: 0.21220909 | B20: Utilities | C20: 0.20835019 | D20: Utilities | E20: 0.22259433 | F20: Utilities | G20: 0.22450849 | H20: Health & Safety | I20: 0.21397971 | J20: Utilities | K20: 0.21116985 | L20: Utilities | M20: 0.2192592 | N20: Utilities | O20: 0.22516247 | P20: Space | Q20: 0.21720344 | R20: Utilities | S20: 0.24310119 | T20: Utilities | U20: 0.20392967 | V20: Space | W20: 0.21149719 | X20: Space | Y20: 0.22036419 | Z20: Security | AA20: 0.20783181 | AB20: Space | AC20: 0.23973927 | AD20: Security | AE20: 0.22405041 | AF20: Security | AG20: 0.19247391 | AH20: Utilities | AI20: 0.22046807 | AJ20: Utilities | AK20: 0.20940645 | AL20: Utilities | AM20: 0.23520161 | AN20: Utilities | AO20: 0.20452964 | AP20: Utilities | AQ20: 0.23872647 | AR20: Security | AS20: 0.19879302 | AT20: Health & Safety | AU20: 0.21104263 | AV20: Utilities | AW20: 0.24870894 | AX20: Security | AY20: 0.23569714 | AZ20: Space | BA20: 0.22216428 | BB20: Utilities
A21: 0.19827903 | B21: Space | C21: 0.20170358 | D21: Space | E21: 0.18852983 | F21: Space | G21: 0.20599267 | H21: Utilities | I21: 0.2039792 | J21: Space | K21: 0.19287294 | L21: Space | M21: 0.2192592 | N21: Security | O21: 0.20890711 | P21: Health & Safety | Q21: 0.18213554 | R21: Food & drink | S21: 0.18783778 | T21: Space | U21: 0.19562503 | V21: Utilities | W21: 0.18793261 | X21: Health & Safety | Y21: 0.18539769 | Z21: Food & drink | AA21: 0.19646095 | AB21: Health & Safety | AC21: 0.1879242 | AD21: Space | AE21: 0.20849361 | AF21: Space | AG21: 0.19108952 | AH21: Health & Safety | AI21: 0.16895355 | AJ21: Space | AK21: 0.20764889 | AL21: Space | AM21: 0.21024649 | AN21: Space | AO21: 0.1937419 | AP21: Space | AQ21: 0.20195368 | AR21: Space | AS21: 0.19290717 | AT21: Space | AU21: 0.20955233 | AV21: Space | AW21: 0.21195355 | AX21: Utilities | AY21: 0.22261391 | AZ21: Health & Safety | BA21: 0.18397174 | BB21: Food & drink
A22: 0.17894127 | B22: Health & Safety | C22: 0.18581354 | D22: Health & Safety | E22: 0.1734052 | F22: Food & drink | G22: 0.18382268 | H22: Space | I22: 0.16479307 | J22: Food & drink | K22: 0.18445639 | L22: Health & Safety | M22: 0.16669365 | N22: Food & drink | O22: 0.17629332 | P22: Utilities | Q22: 0.18044639 | R22: Space | S22: 0.16328314 | T22: Health & Safety | U22: 0.18824623 | V22: Health & Safety | W22: 0.18673625 | X22: Utilities | Y22: 0.17726744 | Z22: Space | AA22: 0.18254506 | AB22: Utilities | AC22: 0.16589147 | AD22: Food & drink | AE22: 0.17011045 | AF22: Food & drink | AG22: 0.1855347 | AH22: Space | AI22: 0.1665434 | AJ22: Food & drink | AK22: 0.18305829 | AL22: Health & Safety | AM22: 0.179811 | AN22: Health & Safety | AO22: 0.17770271 | AP22: Food & drink | AQ22: 0.16223996 | AR22: Health & Safety | AS22: 0.18383895 | AT22: Utilities | AU22: 0.18190384 | AV22: Health & Safety | AW22: 0.15546959 | AX22: Health & Safety | AY22: 0.18505331 | AZ22: Utilities | BA22: 0.1817618 | BB22: Space
A23: 0.15809797 | B23: Food & drink | C23: 0.15268121 | D23: Food & drink | E23: 0.16084263 | F23: Health & Safety | G23: 0.14247637 | H23: Food & drink | I23: 0.16190977 | J23: Health & Safety | K23: 0.15712128 | L23: Food & drink | M23: 0.1127073 | N23: Health & Safety | O23: 0.14141675 | P23: Food & drink | Q23: 0.1660003 | R23: Health & Safety | S23: 0.15390681 | T23: Food & drink | U23: 0.16016466 | V23: Food & drink | W23: 0.14061047 | X23: Food & drink | Y23: 0.16347237 | Z23: Health & Safety | AA23: 0.14945891 | AB23: Food & drink | AC23: 0.16167085 | AD23: Health & Safety | AE23: 0.16764679 | AF23: Health & Safety | AG23: 0.14404582 | AH23: Food & drink | AI23: 0.16556303 | AJ23: Health & Safety | AK23: 0.15541161 | AL23: Food & drink | AM23: 0.10571259 | AN23: Food & drink | AO23: 0.17770194 | AP23: Health & Safety | AQ23: 0.15771808 | AR23: Food & drink | AS23: 0.15728811 | AT23: Food & drink | AU23: 0.14626185 | AV23: Food & drink | AW23: 0.1318275 | AX23: Space | AY23: 0.10813017 | AZ23: Food & drink | BA23: 0.16094295 | BB23: Health & Safety
A25: Level 4H | B25: Sanitation, Heating/Cooling, Refuse, Power
A26: All | C26: Academia | E26: NonAcademia | G26: NGO | I26: NonNGO | K26: AcadNGO | M26: NonAcadNGO | O26: Yes | Q26: Some | S26: No | U26: YesSome | W26: Anyexp | Y26: Noexp | AA26: Uospp | AC26: Nonuospp | AE26: Engr | AG26: NonEngr | AI26: Social | AK26: Nonsocial | AM26: Physical | AO26: Nonphysical | AQ26: Nathaz | AS26: Nonnathaz | AU26: Disman | AW26: Nondisman | AY26: Lgaumo | BA26: Nonlgaumo
A27: 0.34704959 | B27: Sanitation | C27: 0.34356196 | D27: Sanitation | E27: 0.354988 | F27: Sanitation | G27: 0.37310498 | H27: Sanitation | I27: 0.3361246 | J27: Sanitation | K27: 0.34230971 | L27: Sanitation | M27: 0.40624306 | N27: Sanitation | O27: 0.36062188 | P27: Sanitation | Q27: 0.31815057 | R27: Sanitation | S27: 0.35678322 | T27: Sanitation | U27: 0.34127231 | V27: Sanitation | W27: 0.3632765 | X27: Sanitation | Y27: 0.32057643 | Z27: Sanitation | AA27: 0.37750354 | AB27: Sanitation | AC27: 0.31714472 | AD27: Sanitation | AE27: 0.34561678 | AF27: Sanitation | AG27: 0.34745212 | AH27: Sanitation | AI27: 0.36038284 | AJ27: Sanitation | AK27: 0.34235459 | AL27: Sanitation | AM27: 0.31861974 | AN27: Sanitation | AO27: 0.35495987 | AP27: Sanitation | AQ27: 0.34109465 | AR27: Sanitation | AS27: 0.35133933 | AT27: Sanitation | AU27: 0.33787512 | AV27: Sanitation | AW27: 0.40878456 | AX27: Sanitation | AY27: 0.35660478 | AZ27: Sanitation | BA27: 0.34289089 | BB27: Sanitation
A28: 0.25205818 | B28: Power | C28: 0.24246437 | D28: Power | E28: 0.27921778 | F28: Power | G28: 0.24312881 | H28: Power | I28: 0.25573172 | J28: Power | K28: 0.24936049 | L28: Power | M28: 0.28109383 | N28: Power | O28: 0.25526381 | P28: Power | Q28: 0.25211826 | R28: Refuse | S28: 0.26195013 | T28: Power | U28: 0.24632058 | V28: Power | W28: 0.24786628 | X28: Power | Y28: 0.25554099 | Z28: Power | AA28: 0.24988761 | AB28: Power | AC28: 0.25260108 | AD28: Power | AE28: 0.27378285 | AF28: Power | AG28: 0.22848936 | AH28: Power | AI28: 0.27035369 | AJ28: Power | AK28: 0.24621939 | AL28: Power | AM28: 0.26137503 | AN28: Refuse | AO28: 0.25602683 | AP28: Power | AQ28: 0.28212001 | AR28: Power | AS28: 0.2250891 | AT28: Heating/Cooling | AU28: 0.25923677 | AV28: Power | AW28: 0.20793139 | AX28: Power | AY28: 0.26232026 | AZ28: Power | BA28: 0.24754464 | BB28: Power
A29: 0.20433315 | B29: Refuse | C29: 0.21374583 | D29: Refuse | E29: 0.18603096 | F29: Heating/Cooling | G29: 0.1933047 | H29: Heating/Cooling | I29: 0.21041361 | J29: Refuse | K29: 0.21230704 | L29: Refuse | M29: 0.1971883 | N29: Heating/Cooling | O29: 0.2031656 | P29: Heating/Cooling | Q29: 0.23499212 | R29: Power | S29: 0.19063332 | T29: Heating/Cooling | U29: 0.21253704 | V29: Refuse | W29: 0.21876514 | X29: Refuse | Y29: 0.24158515 | Z29: Heating/Cooling | AA29: 0.20146989 | AB29: Refuse | AC29: 0.22443814 | AD29: Heating/Cooling | AE29: 0.19080871 | AF29: Heating/Cooling | AG29: 0.22139497 | AH29: Refuse | AI29: 0.21185546 | AJ29: Refuse | AK29: 0.20979087 | AL29: Heating/Cooling | AM29: 0.23673355 | AN29: Power | AO29: 0.20009637 | AP29: Heating/Cooling | AQ29: 0.20333282 | AR29: Refuse | AS29: 0.21981497 | AT29: Power | AU29: 0.20596582 | AV29: Refuse | AW29: 0.19164203 | AX29: Heating/Cooling | AY29: 0.19345914 | AZ29: Heating/Cooling | BA29: 0.21187018 | BB29: Refuse
A30: 0.19655908 | B30: Heating/Cooling | C30: 0.20022784 | D30: Heating/Cooling | E30: 0.17976326 | F30: Refuse | G30: 0.19046151 | H30: Refuse | I30: 0.19773007 | J30: Heating/Cooling | K30: 0.19602276 | L30: Heating/Cooling | M30: 0.11547481 | N30: Refuse | O30: 0.1809487 | P30: Refuse | Q30: 0.19473906 | R30: Heating/Cooling | S30: 0.19063332 | T30: Refuse | U30: 0.19987007 | V30: Heating/Cooling | W30: 0.17009208 | X30: Heating/Cooling | Y30: 0.18229743 | Z30: Refuse | AA30: 0.17113896 | AB30: Heating/Cooling | AC30: 0.20581605 | AD30: Refuse | AE30: 0.18979166 | AF30: Refuse | AG30: 0.20266356 | AH30: Heating/Cooling | AI30: 0.15740801 | AJ30: Heating/Cooling | AK30: 0.20163515 | AL30: Refuse | AM30: 0.18327168 | AN30: Heating/Cooling | AO30: 0.18891692 | AP30: Refuse | AQ30: 0.17345252 | AR30: Heating/Cooling | AS30: 0.2037566 | AT30: Refuse | AU30: 0.19692229 | AV30: Heating/Cooling | AW30: 0.19164203 | AX30: Refuse | AY30: 0.18761581 | AZ30: Refuse | BA30: 0.19769429 | BB30: Heating/Cooling
A32: Level 5H | B32: Original building function, Trasport storage, Storage of supplies, Inventory recording
A33: All | C33: Academia | E33: NonAcademia | G33: NGO | I33: NonNGO | K33: AcadNGO | M33: NonAcadNGO | O33: Yes | Q33: Some | S33: No | U33: YesSome | W33: Anyexp | Y33: Noexp | AA33: Uospp | AC33: Nonuospp | AE33: Engr | AG33: NonEngr | AI33: Social | AK33: Nonsocial | AM33: Physical | AO33: Nonphysical | AQ33: Nathaz | AS33: Nonnathaz | AU33: Disman | AW33: Nondisman | AY33: Lgaumo | BA33: Nonlgaumo
A34: 0.34914377 | B34: Storage of supplies | C34: 0.33184645 | D34: Storage of supplies | E34: 0.39237786 | F34: Storage of supplies | G34: 0.35351441 | H34: Storage of supplies | I34: 0.34683694 | J34: Storage of supplies | K34: 0.3484187 | L34: Storage of supplies | M34: 0.35870117 | N34: Storage of supplies | O34: 0.30846567 | P34: Original building function | Q34: 0.39521374 | R34: Storage of supplies | S34: 0.34386329 | T34: Storage of supplies | U34: 0.34965887 | V34: Storage of supplies | W34: 0.34333556 | X34: Storage of supplies | Y34: 0.3540456 | Z34: Storage of supplies | AA34: 0.32964671 | AB34: Storage of supplies | AC34: 0.36433004 | AD34: Storage of supplies | AE34: 0.34719903 | AF34: Storage of supplies | AG34: 0.34852322 | AH34: Storage of supplies | AI34: 0.35825127 | AJ34: Storage of supplies | AK34: 0.34514003 | AL34: Storage of supplies | AM34: 0.33874564 | AN34: Storage of supplies | AO34: 0.34989188 | AP34: Storage of supplies | AQ34: 0.35677721 | AR34: Storage of supplies | AS34: 0.33564183 | AT34: Storage of supplies | AU34: 0.3571702 | AV34: Storage of supplies | AW34: 0.37380396 | AX34: Original building function | AY34: 0.29262902 | AZ34: Storage of supplies | BA34: 0.37474054 | BB34: Storage of supplies
A35: 0.24574941 | B35: Transport storage | C35: 0.2483147 | D35: Transport storage | E35: 0.23297994 | F35: Transport storage | G35: 0.24660676 | H35: Transport storage | I35: 0.24520972 | J35: Transport storage | K35: 0.24455663 | L35: Transport storage | M35: 0.26276338 | N35: Transport storage | O35: 0.30287266 | P35: Storage of supplies | Q35: 0.22032061 | R35: Inventory recording | S35: 0.26483731 | T35: Transport storage | U35: 0.23512833 | V35: Original building function | W35: 0.23856145 | X35: Original building function | Y35: 0.28065317 | Z35: Transport storage | AA35: 0.26167868 | AB35: Original building function | AC35: 0.26927294 | AD35: Transport storage | AE35: 0.2756569 | AF35: Transport storage | AG35: 0.22639057 | AH35: Inventory recording | AI35: 0.24126395 | AJ35: Inventory recording | AK35: 0.25705011 | AL35: Transport storage | AM35: 0.27120357 | AN35: Transport storage | AO35: 0.23694012 | AP35: Transport storage | AQ35: 0.28527908 | AR35: Transport storage | AS35: 0.24399028 | AT35: Original building function | AU35: 0.25538906 | AV35: Transport storage | AW35: 0.27812179 | AX35: Storage of supplies | AY35: 0.26198956 | AZ35: Transport storage | BA35: 0.23804673 | BB35: Transport storage
A36: 0.20883143 | B36: Original building function | C36: 0.23575334 | D36: Original building function | E36: 0.22874779 | F36: Inventory recording | G36: 0.21056096 | H36: Inventory recording | I36: 0.21767855 | J36: Original building function | K36: 0.21001395 | L36: Original building function | M36: 0.19273369 | N36: Original building function | O36: 0.24180892 | P36: Transport storage | Q36: 0.21724115 | R36: Transport storage | S36: 0.2227268 | T36: Inventory recording | U36: 0.23402587 | V36: Transport storage | W36: 0.22325491 | X36: Transport storage | Y36: 0.1961829 | Z36: Inventory recording | AA36: 0.22099596 | AB36: Transport storage | AC36: 0.20219354 | AD36: Inventory recording | AE36: 0.20515194 | AF36: Original building function | AG36: 0.21374077 | AH36: Transport storage | AI36: 0.20996078 | AJ36: Transport storage | AK36: 0.21412345 | AL36: Original building function | AM36: 0.24144292 | AN36: Inventory recording | AO36: 0.23013345 | AP36: Original building function | AQ36: 0.1798911 | AR36: Original building function | AS36: 0.21616249 | AT36: Inventory recording | AU36: 0.19862847 | AV36: Inventory recording | AW36: 0.17854651 | AX36: Transport storage | AY36: 0.22457786 | AZ36: Inventory recording | BA36: 0.20276866 | BB36: Original building function
A37: 0.19627538 | B37: Inventory recording | C37: 0.18408551 | D37: Inventory recording | E37: 0.14589441 | F37: Original building function | G37: 0.18931787 | H37: Original building function | I37: 0.19027479 | J37: Inventory recording | K37: 0.19701072 | L37: Inventory recording | M37: 0.18580177 | N37: Inventory recording | O37: 0.14685276 | P37: Inventory recording | Q37: 0.1672245 | R37: Original building function | S37: 0.1685726 | T37: Original building function | U37: 0.18118694 | V37: Inventory recording | W37: 0.19484808 | X37: Inventory recording | Y37: 0.16911833 | Z37: Original building function | AA37: 0.18767865 | AB37: Inventory recording | AC37: 0.16420348 | AD37: Original building function | AE37: 0.17199213 | AF37: Inventory recording | AG37: 0.21134544 | AH37: Original building function | AI37: 0.19052401 | AJ37: Original building function | AK37: 0.18368641 | AL37: Inventory recording | AM37: 0.14860786 | AN37: Original building function | AO37: 0.18303455 | AP37: Inventory recording | AQ37: 0.1780526 | AR37: Inventory recording | AS37: 0.2042054 | AT37: Transport storage | AU37: 0.18881227 | AV37: Original building function | AW37: 0.16952774 | AX37: Inventory recording | AY37: 0.22080356 | AZ37: Original building function | BA37: 0.18444407 | BB37: Inventory recording
A39: Level 6H | B39: Personal security, Stuff security
A40: All | C40: Academia | E40: NonAcademia | G40: NGO | I40: NonNGO | K40: AcadNGO | M40: NonAcadNGO | O40: Yes | Q40: Some | S40: No | U40: YesSome | W40: Anyexp | Y40: Noexp | AA40: Uospp | AC40: Nonuospp | AE40: Engr | AG40: NonEngr | AI40: Social | AK40: Nonsocial | AM40: Physical | AO40: Nonphysical | AQ40: Nathaz | AS40: Nonnathaz | AU40: Disman | AW40: Nondisman | AY40: Lgaumo | BA40: Nonlgaumo
A41: 0.53906919 | B41: Personal security | C41: 0.51606793 | D41: Personal security | E41: 0.60119021 | F41: Personal security | G41: 0.69169259 | H41: Personal security | I41: 0.5306107 | J41: Stuff security | K41: 0.55157035 | L41: Personal security | M41: 0.6339746 | N41: Stuff security | O41: 0.52116978 | P41: Stuff security | Q41: 0.59509818 | R41: Personal security | S41: 0.5471198 | T41: Personal security | U41: 0.53439871 | V41: Personal security | W41: 0.58190323 | X41: Personal security | Y41: 0.52607555 | Z41: Stuff security | AA41: 0.58673875 | AB41: Personal security | AC41: 0.50932585 | AD41: Stuff security | AE41: 0.56157358 | AF41: Stuff security | AG41: 0.64987233 | AH41: Personal security | AI41: 0.65158279 | AJ41: Personal security | AK41: 0.50343313 | AL41: Personal security | AM41: 0.5 | AN41: Personal security | AO41: 0.55088711 | AP41: Personal security | AQ41: 0.54460301 | AR41: Stuff security | AS41: 0.63181375 | AT41: Personal security | AU41: 0.53843109 | AV41: Personal security | AW41: 0.54321362 | AX41: Personal security | AY41: 0.62245436 | AZ41: Personal security | BA41: 0.50235796 | BB41: Personal security
A42: 0.46093081 | B42: Stuff security | C42: 0.48393207 | D42: Stuff security | E42: 0.39880979 | F42: Stuff security | G42: 0.30830741 | H42: Stuff security | I42: 0.4693893 | J42: Personal security | K42: 0.44842965 | L42: Stuff security | M42: 0.3660254 | N42: Personal security | O42: 0.47883022 | P42: Personal security | Q42: 0.40490182 | R42: Stuff security | S42: 0.4528802 | T42: Stuff security | U42: 0.46560129 | V42: Stuff security | W42: 0.41809677 | X42: Stuff security | Y42: 0.47392445 | Z42: Personal security | AA42: 0.41326125 | AB42: Stuff security | AC42: 0.49067415 | AD42: Personal security | AE42: 0.43842642 | AF42: Personal security | AG42: 0.35012767 | AH42: Stuff security | AI42: 0.34841721 | AJ42: Stuff security | AK42: 0.49656687 | AL42: Stuff security | AM42: 0.5 | AN42: Stuff security | AO42: 0.44911289 | AP42: Stuff security | AQ42: 0.45539699 | AR42: Personal security | AS42: 0.36818625 | AT42: Stuff security | AU42: 0.46156891 | AV42: Stuff security | AW42: 0.45678638 | AX42: Stuff security | AY42: 0.37754564 | AZ42: Stuff security | BA42: 0.49764204 | BB42: Stuff security
A44: Level 7H | B44: Drinking water, Food
A45: All | C45: Academia | E45: NonAcademia | G45: NGO | I45: NonNGO | K45: AcadNGO | M45: NonAcadNGO | O45: Yes | Q45: Some | S45: No | U45: YesSome | W45: Anyexp | Y45: Noexp | AA45: Uospp | AC45: Nonuospp | AE45: Engr | AG45: NonEngr | AI45: Social | AK45: Nonsocial | AM45: Physical | AO45: Nonphysical | AQ45: Nathaz | AS45: Nonnathaz | AU45: Disman | AW45: Nondisman | AY45: Lgaumo | BA45: Nonlgaumo
A46: 0.61763918 | B46: Drinking water | C46: 0.60979425 | D46: Drinking water | E46: 0.63888858 | F46: Drinking water | G46: 0.69321972 | H46: Drinking water | I46: 0.58314047 | J46: Drinking water | K46: 0.62569512 | L46: Drinking water | M46: 0.5 | N46: Drinking water | O46: 0.59558923 | P46: Drinking water | Q46: 0.62413808 | R46: Drinking water | S46: 0.63203746 | T46: Drinking water | U46: 0.60920609 | V46: Drinking water | W46: 0.60434197 | X46: Drinking water | Y46: 0.63725376 | Z46: Drinking water | AA46: 0.59138129 | AB46: Drinking water | AC46: 0.64322768 | AD46: Drinking water | AE46: 0.58757149 | AF46: Drinking water | AG46: 0.65092053 | AH46: Drinking water | AI46: 0.63483799 | AJ46: Drinking water | AK46: 0.61234344 | AL46: Drinking water | AM46: 0.6252591 | AN46: Drinking water | AO46: 0.61530835 | AP46: Drinking water | AQ46: 0.60839685 | AR46: Drinking water | AS46: 0.62809826 | AT46: Drinking water | AU46: 0.63490437 | AV46: Drinking water | AW46: 0.5 | AX46: Drinking water | AY46: 0.6346462 | AZ46: Drinking water | BA46: 0.61025851 | BB46: Drinking water
A47: 0.38236082 | B47: Food | C47: 0.39020575 | D47: Food | E47: 0.36111142 | F47: Food | G47: 0.30678028 | H47: Food | I47: 0.41685953 | J47: Food | K47: 0.37430488 | L47: Food | M47: 0.5 | N47: Food | O47: 0.40441077 | P47: Food | Q47: 0.37586192 | R47: Food | S47: 0.36796254 | T47: Food | U47: 0.39079391 | V47: Food | W47: 0.39565803 | X47: Food | Y47: 0.36274624 | Z47: Food | AA47: 0.40861871 | AB47: Food | AC47: 0.35677232 | AD47: Food | AE47: 0.41242851 | AF47: Food | AG47: 0.34907947 | AH47: Food | AI47: 0.36516201 | AJ47: Food | AK47: 0.38765656 | AL47: Food | AM47: 0.3747409 | AN47: Food | AO47: 0.38469165 | AP47: Food | AQ47: 0.39160315 | AR47: Food | AS47: 0.37190174 | AT47: Food | AU47: 0.36509563 | AV47: Food | AW47: 0.5 | AX47: Food | AY47: 0.3653538 | AZ47: Food | BA47: 0.38974149 | BB47: Food

Sheet Submission
A1: Article title: A method for determining the suitability of schools as evacuation shelters and aid distribution hubs following disasters: Case study from Cagayan de Oro, Philippines
A2: Journal: Natural Hazards
A3: Authors: Alexandra Tsioulou1, Joanna Faure Walker2, Dexter Sumaylo Lo3, and Rebekah Yore2
A4: Affiliation:
A5: 1 Corresponding author, Willis Towers Watson, London, UK, alexandra.tsioulou.14@ucl.ac.uk
A6: 2 Institute for Risk and Disaster Reduction, University College London, London, UK
A7: 3 Engineering Resource Center, Xavier University, Cagayan de Oro, Philippines
A9: Caption : Weights and ranks for the different criteria for all subgroups for the evacuation shelter and distribution hub

Sheet ShelterWeightsSectorExperience
A1: Table 1a Weights for all different subgroups for the evacuation shelter based on sector and experience of participants. Colours in this table vary from red to yellow depending on the weight values within each subgroup.
A2: The colours grade from red through orange and yellow to denote high values down to low values of weights.
B3: All participants | C3: Academia | D3: Non Academia | E3: NGO | F3: Non NGO | G3: Experience in the Philippines | H3: Some experience in the Philippines | I3: No experience in the Philippines | J3: Experience and some experience in the Philippines | K3: Any experience with shelters | L3: No experience with shelters | M3: Practical experience with shelters | N3: No practical experience with shelters
A4: Main criteria
A5: Hazard | B5: 0.21756826 | C5: 0.23089929 | D5: 0.1800915 | E5: 0.14079264 | F5: 0.25795469 | G5: 0.19858158 | H5: 0.19562866 | I5: 0.25579806 | J5: 0.19741646 | K5: 0.2173881 | L5: 0.2173943 | M5: 0.19127726 | N5: 0.23259919
A6: Vulnerability | B6: 0.24647524 | C6: 0.24506107 | D6: 0.24414969 | E6: 0.27503267 | F6: 0.23115976 | G6: 0.22930136 | H6: 0.26781837 | I6: 0.24323842 | J6: 0.24736211 | K6: 0.2541125 | L6: 0.2312431 | M6: 0.2322197 | N6: 0.25322337
A7: Accessibility | B7: 0.16 | C7: 0.14832183 | D7: 0.16856921 | E7: 0.1580842 | F7: 0.1502486 | G7: 0.17047303 | H7: 0.15278661 | I7: 0.14128389 | J7: 0.16215447 | K7: 0.14868907 | L7: 0.16615839 | M7: 0.14556775 | N7: 0.15874509
A8: Communications | B8: 0.13420757 | C8: 0.11887319 | D8: 0.18260194 | E8: 0.17815847 | F8: 0.1168741 | G8: 0.13948387 | H8: 0.13595414 | I8: 0.1272925 | J8: 0.13804628 | K8: 0.13533794 | L8: 0.1315076 | M8: 0.17185777 | N8: 0.11552374
A9: Living Environment | B9: 0.12388639 | C9: 0.13798264 | D9: 0.090229595 | E9: 0.11511636 | F9: 0.12593761 | G9: 0.13808608 | H9: 0.11354452 | I9: 0.11892088 | J9: 0.12610989 | K9: 0.12585418 | L9: 0.12004799 | M9: 0.13941287 | N9: 0.11498552
A10: Access to supplies | B10: 0.12347304 | C10: 0.11886198 | D10: 0.13435807 | E10: 0.13281566 | F10: 0.11782524 | G10: 0.12407408 | H10: 0.1342677 | I10: 0.11346624 | J10: 0.12891078 | K10: 0.11861821 | L10: 0.13364861 | M10: 0.11966464 | N10: 0.12492308
A11: Subcriteria with respect to Accessibility
A12: Proximity to affected | B12: 0.39437314 | C12: 0.38927208 | D12: 0.40807742 | E12: 0.44009244 | F12: 0.37371907 | G12: 0.41177174 | H12: 0.3575258 | I12: 0.40741896 | J12: 0.38574959 | K12: 0.40083736 | L12: 0.38150309 | M12: 0.43116773 | N12: 0.37354116
A13: Transport options | B13: 0.36 | C13: 0.36355423 | D13: 0.3317499 | E13: 0.28679898 | F13: 0.38626718 | G13: 0.32287503 | H13: 0.36293536 | I13: 0.37666232 | J13: 0.34182531 | K13: 0.34857405 | L13: 0.367785 | M13: 0.32813963 | N13: 0.37047372
A14: Easy to find | B14: 0.250685 | C14: 0.2471737 | D14: 0.26017268 | E14: 0.27310858 | F14: 0.24001375 | G14: 0.26535323 | H14: 0.27953884 | I14: 0.21591872 | J14: 0.2724251 | K14: 0.25058858 | L14: 0.25071191 | M14: 0.24069264 | N14: 0.25598512
A15: Subcriteria with respect to Living Environment
A16: Utilities | B16: 0.29291267 | C16: 0.28065038 | D16: 0.32746489 | E16: 0.30014166 | F16: 0.28829594 | G16: 0.31086038 | H16: 0.27730362 | I16: 0.28574447 | J16: 0.2948555 | K16: 0.31221421 | L16: 0.25268466 | M16: 0.29176314 | N16: 0.29282851
A17: Space | B17: 0.20226488 | C17: 0.20790136 | D17: 0.18694235 | E17: 0.15541492 | F17: 0.22492775 | G17: 0.2265291 | H17: 0.23506865 | I17: 0.15887637 | J17: 0.23080921 | K17: 0.22239901 | L17: 0.16391171 | M17: 0.18786428 | N17: 0.21038568
A18: Security | B18: 0.22078011 | C18: 0.22064981 | D18: 0.22031572 | E18: 0.21998004 | F18: 0.2198522 | G18: 0.18405304 | H18: 0.2228981 | I18: 0.25430262 | J18: 0.2018436 | K18: 0.19776912 | L18: 0.26969696 | M18: 0.20105544 | N18: 0.23216157
A19: Health & Safety | B19: 0.29 | C19: 0.29079845 | D19: 0.26527704 | E19: 0.32446338 | F19: 0.26692411 | G19: 0.27855747 | H19: 0.26472962 | I19: 0.30107654 | J19: 0.2724917 | K19: 0.26761765 | L19: 0.31370666 | M19: 0.31931713 | N19: 0.26462424
A20: Subcriteria with respect to Access to supplies
A21: Water | B21: 0.40663322 | C21: 0.41426747 | D21: 0.38548077 | E21: 0.42632433 | F21: 0.39707827 | G21: 0.41295578 | H21: 0.4250765 | I21: 0.38592398 | J21: 0.41870648 | K21: 0.41349682 | L21: 0.39274642 | M21: 0.37762928 | N21: 0.42223426
A22: Food | B22: 0.26670322 | C22: 0.25779865 | D22: 0.2919616 | E22: 0.22943106 | F22: 0.28390485 | G22: 0.25836805 | H22: 0.26297881 | I22: 0.27723039 | J22: 0.26054801 | K22: 0.25882587 | L22: 0.28303339 | M22: 0.24472066 | N22: 0.27914899
A23: Medical | B23: 0.2015994 | C23: 0.20104 | D23: 0.20267172 | E23: 0.20343171 | F23: 0.20046671 | G23: 0.2003982 | H23: 0.19915523 | I23: 0.20411992 | J23: 0.20000813 | K23: 0.2022349 | L23: 0.20013692 | M23: 0.23826043 | N23: 0.18201379
A24: Bedding | B24: 0.12 | C24: 0.12689388 | D24: 0.11988591 | E24: 0.14081289 | F24: 0.11855017 | G24: 0.12827797 | H24: 0.11278945 | I24: 0.13272571 | J24: 0.12073739 | K24: 0.12544241 | L24: 0.12408327 | M24: 0.13938964 | N24: 0.11660297
A25: Subcriteria with respect to Utilities
A26: Sanitation | B26: 0.35795227 | C26: 0.36348999 | D26: 0.34221155 | E26: 0.34139385 | F26: 0.36466993 | G26: 0.3821935 | H26: 0.33974004 | I26: 0.34483063 | J26: 0.36293343 | K26: 0.35288838 | L26: 0.36501974 | M26: 0.35626015 | N26: 0.35764735
A27: Washing | B27: 0.20131593 | C27: 0.20487189 | D27: 0.19131281 | E27: 0.18549104 | F27: 0.20795671 | G27: 0.22543892 | H27: 0.21623269 | I27: 0.1684244 | J27: 0.2216129 | K27: 0.21792107 | L27: 0.16999524 | M27: 0.22053105 | N27: 0.18984734
A28: Heating/Cooling | B28: 0.13125283 | C28: 0.12919852 | D28: 0.13669557 | E28: 0.15335794 | F28: 0.12274181 | G28: 0.12617445 | H28: 0.12712504 | I28: 0.13651056 | J28: 0.12716493 | K28: 0.13909222 | L28: 0.11576566 | M28: 0.15116058 | N28: 0.12059193
A29: Refuse | B29: 0.14558783 | C29: 0.13881898 | D29: 0.16555245 | E29: 0.15354591 | F29: 0.14187135 | G29: 0.12200015 | H29: 0.18091851 | I29: 0.14051781 | J29: 0.14743905 | K29: 0.13903987 | L29: 0.1579722 | M29: 0.12428044 | N29: 0.15874164
A30: Power | B30: 0.16389114 | C30: 0.16362061 | D30: 0.16422762 | E30: 0.16621126 | F30: 0.1627602 | G30: 0.14419298 | H30: 0.13598372 | I30: 0.2097166 | J30: 0.14084969 | K30: 0.15105846 | L30: 0.19124716 | M30: 0.14776779 | N30: 0.17317174
A31: Subcriteria with respect to Space
A32: Original bldg function | B32: 0.29539054 | C32: 0.32280857 | D32: 0.22343684 | E32: 0.26186752 | F32: 0.30781142 | G32: 0.40028497 | H32: 0.22991433 | I32: 0.2661099 | J32: 0.31316493 | K32: 0.3161233 | L32: 0.25638111 | M32: 0.398225 | N32: 0.24298495
A33: Space for people | B33: 0.46912656 | C33: 0.47151935 | D33: 0.44666343 | E33: 0.41757499 | F33: 0.48800484 | G33: 0.39770687 | H33: 0.51157103 | I33: 0.49126532 | J33: 0.45585383 | K33: 0.45734158 | L33: 0.49067958 | M33: 0.37811129 | N33: 0.51976975
A34: Space for admin | B34: 0.23 | C34: 0.20567208 | D34: 0.32989973 | E34: 0.3205575 | F34: 0.20418374 | G34: 0.20200816 | H34: 0.25851465 | I34: 0.24262478 | J34: 0.23098124 | K34: 0.22653512 | L34: 0.2529393 | M34: 0.22366371 | N34: 0.2372453
A35: Subcriteria with respect to Security
A36: Personal security | B36: 0.62340014 | C36: 0.60782053 | D36: 0.66487153 | E36: 0.63735634 | F36: 0.61735409 | G36: 0.50719156 | H36: 0.6820031 | I36: 0.67351813 | J36: 0.59304284 | K36: 0.58578644 | L36: 0.69399619 | M36: 0.54446537 | N36: 0.66653456
A37: Stuff security | B37: 0.37659986 | C37: 0.39217947 | D37: 0.33512847 | E37: 0.36264366 | F37: 0.38264591 | G37: 0.49280844 | H37: 0.3179969 | I37: 0.32648187 | J37: 0.40695716 | K37: 0.41421356 | L37: 0.30600381 | M37: 0.45553463 | N37: 0.33346544
A38: Subcriteria with respect to Space for people
A39: Space for sleeping | B39: 0.54495679 | C39: 0.54979708 | D39: 0.53012762 | E39: 0.56983302 | F39: 0.5334331 | G39: 0.55684137 | H39: 0.53212267 | I39: 0.542635 | J39: 0.54599116 | K39: 0.55100951 | L39: 0.5313512 | M39: 0.50671933 | N39: 0.56619946
A40: Space for eating | B40: 0.29724049 | C40: 0.28668292 | D40: 0.32724968 | E40: 0.25970051 | F40: 0.31424134 | G40: 0.29915914 | H40: 0.27897637 | I40: 0.30995299 | J40: 0.28995338 | K40: 0.2836524 | L40: 0.32536035 | M40: 0.30352829 | N40: 0.29252327
A41: Recreation | B41: 0.15780271 | C41: 0.16352 | D41: 0.1426227 | E41: 0.17046647 | F41: 0.15232556 | G41: 0.14399949 | H41: 0.18890096 | I41: 0.147412 | J41: 0.16405546 | K41: 0.16533809 | L41: 0.14328846 | M41: 0.18975238 | N41: 0.14127727
A42: Subcriteria with respect to Space for administration
A43: Medical services | B43: 0.45816608 | C43: 0.49781087 | D43: 0.35200157 | E43: 0.38932621 | F43: 0.48672449 | G43: 0.54010434 | H43: 0.38000718 | I43: 0.44761536 | J43: 0.46390362 | K43: 0.48828193 | L43: 0.39881986 | M43: 0.50513332 | N43: 0.43121234
A44: Storage of supplies | B44: 0.31821313 | C44: 0.30282669 | D44: 0.35200157 | E44: 0.31443459 | F44: 0.31688211 | G44: 0.24657335 | H44: 0.37687953 | I44: 0.34015378 | J44: 0.30584435 | K44: 0.29599343 | L44: 0.36361303 | M44: 0.28571261 | N44: 0.33729671
A45: Registration | B45: 0.22362079 | C45: 0.19936244 | D45: 0.29599686 | E45: 0.2962392 | F45: 0.1963934 | G45: 0.21332231 | H45: 0.24311329 | I45: 0.21223086 | J45: 0.23025202 | K45: 0.21572464 | L45: 0.23756711 | M45: 0.20915407 | N45: 0.23149095
A46: Subcriteria with respect to Space for sleeping
A47: Size | B47: 0.48615726 | C47: 0.48899715 | D47: 0.47835269 | E47: 0.4666061 | F47: 0.49455282 | G47: 0.39216932 | H47: 0.51126102 | I47: 0.55242047 | J47: 0.44786698 | K47: 0.48136295 | L47: 0.49575263 | M47: 0.36325752 | N47: 0.559094
A48: Multiple spaces | B48: 0.51384274 | C48: 0.51100285 | D48: 0.52164731 | E48: 0.5333939 | F48: 0.50544718 | G48: 0.60783068 | H48: 0.48873898 | I48: 0.44757953 | J48: 0.55213302 | K48: 0.51863705 | L48: 0.50424737 | M48: 0.63674248 | N48: 0.440906

Sheet ShelterWeightsBackground
A1: Table 1b Weights for all different subgroups for the evacuation shelter based on background of participants. Colours in this table vary from red to yellow depending on the weight values within each subgroup.
A2: The colours grade from red through orange and yellow to denote high values down to low values of weights.
B3: Engineering | C3: Non Engineering | D3: Social Sciences | E3: Non Social Sciences | F3: Physical Sciences | G3: Non Physical Sciences | H3: Natural hazards | I3: Non Natural hazards | J3: Disaster management | K3: Non Disaster management | L3: Other disciplines | M3: Non other disciplines
B4: Main criteria
A5: Hazard | B5: 0.25013337 | C5: 0.18363808 | D5: 0.2267287 | E5: 0.21439966 | F5: 0.20065845 | G5: 0.22200842 | H5: 0.23511777 | I5: 0.19765996 | J5: 0.22341812 | K5: 0.17973642 | L5: 0.18960326 | M5: 0.22959865
A6: Vulnerability | B6: 0.2304014 | C6: 0.26326664 | D6: 0.2172647 | E6: 0.25576513 | F6: 0.30211901 | G6: 0.23066913 | H6: 0.24655665 | I6: 0.24436317 | J6: 0.24680247 | K6: 0.23804421 | L6: 0.25364022 | M6: 0.2430716
A7: Accessibility | B7: 0.15920957 | C7: 0.14729062 | D7: 0.1635382 | E7: 0.15141276 | F7: 0.16346253 | G7: 0.15113262 | H7: 0.16191374 | I7: 0.14515095 | J7: 0.15681173 | K7: 0.13597776 | L7: 0.16494687 | M7: 0.14914069
A8: Communications | B8: 0.11508158 | C8: 0.15791639 | D8: 0.11875865 | E8: 0.13906039 | F8: 0.10573307 | G8: 0.14363584 | H8: 0.11104213 | I8: 0.16519571 | J8: 0.13774769 | K8: 0.1107422 | L8: 0.15751834 | M8: 0.12530558
A9: Living Environment | B9: 0.11611246 | C9: 0.13183934 | D9: 0.13631354 | E9: 0.12007723 | F9: 0.11299195 | G9: 0.12693943 | H9: 0.12452972 | I9: 0.12188384 | J9: 0.11863178 | K9: 0.16097893 | L9: 0.12645639 | M9: 0.1222552
A10: Access to supplies | B10: 0.12906163 | C10: 0.11604893 | D10: 0.13739621 | E10: 0.11928483 | F10: 0.11503499 | G10: 0.12561456 | H10: 0.12083999 | I10: 0.12574637 | J10: 0.1165882 | K10: 0.17452048 | L10: 0.10783492 | M10: 0.13062829
A11: Subcriteria with respect to Accessibility
A12: Proximity to affected | B12: 0.38505225 | C12: 0.39975044 | D12: 0.42904653 | E12: 0.38400175 | F12: 0.33996181 | G12: 0.41138861 | H12: 0.33659707 | I12: 0.46279833 | J12: 0.37588764 | K12: 0.51732123 | L12: 0.4345953 | M12: 0.37502329
A13: Transport options | B13: 0.40014085 | C13: 0.3052636 | D13: 0.33862984 | E13: 0.35969944 | F13: 0.36838847 | G13: 0.349916 | H13: 0.41000543 | I13: 0.29473836 | J13: 0.35973985 | K13: 0.31231025 | L13: 0.27845726 | M13: 0.39044076
A14: Easy to find | B14: 0.2148069 | C14: 0.29498597 | D14: 0.23232363 | E14: 0.25629881 | F14: 0.29164972 | G14: 0.23869539 | H14: 0.2533975 | I14: 0.2424633 | J14: 0.26437251 | K14: 0.17036853 | L14: 0.28694743 | M14: 0.23453596
A15: Subcriteria with respect to Living Environment
A16: Utilities | B16: 0.28526713 | C16: 0.30102168 | D16: 0.31645776 | E16: 0.28396249 | F16: 0.33244766 | G16: 0.28076026 | H16: 0.31227153 | I16: 0.26803113 | J16: 0.29994286 | K16: 0.24513848 | L16: 0.33519753 | M16: 0.27532521
A17: Space | B17: 0.22395675 | C17: 0.17913438 | D17: 0.135616 | E17: 0.22676052 | F17: 0.21551371 | G17: 0.19765124 | H17: 0.23739334 | I17: 0.16559716 | J17: 0.20985103 | K17: 0.15545492 | L17: 0.18027871 | M17: 0.2114572
A18: Security | B18: 0.20823283 | C18: 0.23494228 | D18: 0.26130297 | E18: 0.20821758 | F18: 0.22601931 | G18: 0.21839552 | H18: 0.20325285 | I18: 0.23853504 | J18: 0.21789856 | K18: 0.23470775 | L18: 0.1850244 | M18: 0.23679822
A19: Health & Safety | B19: 0.28254328 | C19: 0.28490166 | D19: 0.28662328 | E19: 0.2810594 | F19: 0.22601931 | G19: 0.30319298 | H19: 0.24708229 | I19: 0.32783668 | J19: 0.27230754 | K19: 0.36469885 | L19: 0.29949935 | M19: 0.27641936
A20: Subcriteria with respect to Access to supplies
A21: Water | B21: 0.39263761 | C21: 0.42141009 | D21: 0.36757852 | E21: 0.41860755 | F21: 0.44856283 | G21: 0.39347573 | H21: 0.4179834 | I21: 0.3930712 | J21: 0.40746067 | K21: 0.40120406 | L21: 0.41674029 | M21: 0.40226712
A22: Food | B22: 0.27962969 | C22: 0.2519332 | D22: 0.29116549 | E22: 0.25922216 | F22: 0.26486516 | G22: 0.26643999 | H22: 0.27440825 | I22: 0.25758673 | J22: 0.26382954 | K22: 0.28615039 | L22: 0.25416542 | M22: 0.27222033
A23: Medical | B23: 0.21369696 | C23: 0.18811272 | D23: 0.22351807 | E23: 0.19497881 | F23: 0.15692083 | G23: 0.21679169 | H23: 0.19394968 | I23: 0.21020451 | J23: 0.20423536 | K23: 0.18426275 | L23: 0.19767205 | M23: 0.20319825
A24: Bedding | B24: 0.11403574 | C24: 0.13854399 | D24: 0.11773792 | E24: 0.12719148 | F24: 0.12965118 | G24: 0.12329259 | H24: 0.11365867 | I24: 0.13913756 | J24: 0.12447443 | K24: 0.12838281 | L24: 0.13142224 | M24: 0.12231431
A25: Subcriteria with respect to Utilities
A26: Sanitation | B26: 0.38034684 | C26: 0.33200086 | D26: 0.29239969 | E26: 0.37852254 | F26: 0.33601277 | G26: 0.3640817 | H26: 0.37406348 | I26: 0.33937988 | J26: 0.35607796 | K26: 0.36607871 | L26: 0.34002746 | M26: 0.36510967
A27: Washing | B27: 0.21261938 | C27: 0.18807072 | D27: 0.20312573 | E27: 0.19970187 | F27: 0.23436253 | G27: 0.19194925 | H27: 0.20630754 | I27: 0.19527455 | J27: 0.19579618 | K27: 0.23682708 | L27: 0.20185311 | M27: 0.1993595
A28: Heating/Cooling | B28: 0.12106503 | C28: 0.14321244 | D28: 0.12665791 | E28: 0.13195454 | F28: 0.14436964 | G28: 0.12731209 | H28: 0.1304241 | I28: 0.1317774 | J28: 0.13595849 | K28: 0.10383682 | L28: 0.17607276 | M28: 0.11538203
A29: Refuse | B29: 0.13324176 | C29: 0.15998217 | D29: 0.16851613 | E29: 0.13850702 | F29: 0.13391454 | G29: 0.1491295 | H29: 0.13362256 | I29: 0.16010815 | J29: 0.15077367 | K29: 0.11371371 | L29: 0.12516421 | M29: 0.1543101
A30: Power | B30: 0.15272699 | C30: 0.17673381 | D30: 0.20930054 | E30: 0.15131404 | F30: 0.15134053 | G30: 0.16752746 | H30: 0.15558232 | I30: 0.17346003 | J30: 0.1613937 | K30: 0.17954368 | L30: 0.15688246 | M30: 0.16583871
A31: Subcriteria with respect to Space
A32: Original building function | B32: 0.32249162 | C32: 0.26417023 | D32: 0.26173031 | E32: 0.30607022 | F32: 0.24713552 | G32: 0.31111436 | H32: 0.26550038 | I32: 0.32952193 | J32: 0.26636825 | K32: 0.50750725 | L32: 0.30600263 | M32: 0.29055039
A33: Space for people | B33: 0.47885492 | C33: 0.45306216 | D33: 0.47945892 | E33: 0.46541862 | F33: 0.50420526 | G33: 0.45783282 | H33: 0.51984261 | I33: 0.4119807 | J33: 0.47473071 | K33: 0.38095301 | L33: 0.43690954 | M33: 0.48297705
A34: Space for admin | B34: 0.19865345 | C34: 0.28276761 | D34: 0.25881077 | E34: 0.22851116 | F34: 0.24865922 | G34: 0.23105282 | H34: 0.21465701 | I34: 0.25849736 | J34: 0.25890103 | K34: 0.11153974 | L34: 0.25708782 | M34: 0.22647256
A35: Subcriteria with respect to Security
A36: Personal security | B36: 0.62195314 | C36: 0.62505117 | D36: 0.70410398 | E36: 0.59713789 | F36: 0.66461469 | G36: 0.61046006 | H36: 0.63208415 | I36: 0.61337789 | J36: 0.61654443 | K36: 0.66666667 | L36: 0.59020764 | M36: 0.63729772
A37: Stuff security | B37: 0.37804686 | C37: 0.37494883 | D37: 0.29589602 | E37: 0.40286211 | F37: 0.33538531 | G37: 0.38953994 | H37: 0.36791585 | I37: 0.38662211 | J37: 0.38345557 | K37: 0.33333333 | L37: 0.40979236 | M37: 0.36270228
A38: Subcriteria with respect to Space for people
A39: Space for sleeping | B39: 0.54120067 | C39: 0.54726594 | D39: 0.51139599 | E39: 0.55500621 | F39: 0.50277427 | G39: 0.55761027 | H39: 0.5640209 | I39: 0.52246281 | J39: 0.56083796 | K39: 0.44064869 | L39: 0.53348975 | M39: 0.54984088
A40: Space for eating | B40: 0.31682716 | C40: 0.27532004 | D40: 0.32945086 | E40: 0.28776848 | F40: 0.33456787 | G40: 0.28628038 | H40: 0.29344178 | I40: 0.30078194 | J40: 0.28537657 | K40: 0.37749467 | L40: 0.30799661 | M40: 0.29269033
A41: Recreation | B41: 0.14197217 | C41: 0.17741402 | D41: 0.15915315 | E41: 0.15722531 | F41: 0.16265786 | G41: 0.15610935 | H41: 0.14253733 | I41: 0.17675525 | J41: 0.15378546 | K41: 0.18185664 | L41: 0.15851364 | M41: 0.15746879
A42: Subcriteria with respect to Space for administration
A43: Medical services | B43: 0.51043173 | C43: 0.39887367 | D43: 0.42357432 | E43: 0.46854528 | F43: 0.33710799 | G43: 0.49139425 | H43: 0.46743948 | I43: 0.44756804 | J43: 0.45227504 | K43: 0.49627904 | L43: 0.45657997 | M43: 0.45561391
A44: Storage of supplies | B44: 0.29942708 | C44: 0.33600804 | D44: 0.35829999 | E44: 0.30646992 | F44: 0.28035606 | G44: 0.32308093 | H44: 0.31560493 | I44: 0.32105898 | J44: 0.31950405 | K44: 0.3086458 | L44: 0.26296541 | M44: 0.34287888
A45: Registration | B45: 0.19014119 | C45: 0.26511829 | D45: 0.2181257 | E45: 0.2249848 | F45: 0.38253595 | G45: 0.18552482 | H45: 0.21695559 | I45: 0.23137298 | J45: 0.22822091 | K45: 0.19507517 | L45: 0.28045462 | M45: 0.2015072
A46: Subcriteria with respect to Space for sleeping
A47: Size | B47: 0.51450707 | C47: 0.45387673 | D47: 0.46502758 | E47: 0.49260136 | F47: 0.52473505 | G47: 0.47442775 | H47: 0.53610902 | I47: 0.42946357 | J47: 0.49068947 | K47: 0.45678638 | L47: 0.44749649 | M47: 0.50280433
A48: Multiple spaces | B48: 0.48549293 | C48: 0.54612327 | D48: 0.53497242 | E48: 0.50739864 | F48: 0.47526495 | G48: 0.52557225 | H48: 0.46389098 | I48: 0.57053643 | J48: 0.50931053 | K48: 0.54321362 | L48: 0.55250351 | M48: 0.49719567

Sheet ShelterRanksSectorExperience
A1: Table 2a Ranked factors (criteria) for the evacuation shelter based on sector and experience of participants.
A2: Colours in this table align with the criteria colours in Figures 3a and 4a in the manuscript with darker shades for subcriteria corresponding to higher rankings.
A3: All participants | B3: Academia | C3: Non Academia | D3: NGO | E3: Non NGO | F3: Experience in the Philippines | G3: Some experience in the Philippines | H3: No experience in the Philippines | I3: Experience and some experience in the Philippines | J3: Any experience with shelters | K3: No experience with shelters | L3: Practical experience with shelters | M3: Non practical experience with shelters
A4: Main criteria
A5: =Shelter_AllGroups_sorted!$B4 -> Vulnerability | B5: =Shelter_AllGroups_sorted!$D4 -> Vulnerability | C5: =Shelter_AllGroups_sorted!$F4 -> Vulnerability | D5: =Shelter_AllGroups_sorted!$H4 -> Vulnerability | E5: =Shelter_AllGroups_sorted!$J4 -> Hazard | F5: =Shelter_AllGroups_sorted!$P4 -> Vulnerability | G5: =Shelter_AllGroups_sorted!$R4 -> Vulnerability | H5: =Shelter_AllGroups_sorted!$T4 -> Hazard | I5: =Shelter_AllGroups_sorted!$V4 -> Vulnerability | J5: =Shelter_AllGroups_sorted!$X4 -> Vulnerability | K5: =Shelter_AllGroups_sorted!$Z4 -> Vulnerability | L5: =Shelter_AllGroups_sorted!$AB4 -> Vulnerability | M5: =Shelter_AllGroups_sorted!$AD4 -> Vulnerability
A6: =Shelter_AllGroups_sorted!$B5 -> Hazard | B6: =Shelter_AllGroups_sorted!$D5 -> Hazard | C6: =Shelter_AllGroups_sorted!$F5 -> Communications | D6: =Shelter_AllGroups_sorted!$H5 -> Communications | E6: =Shelter_AllGroups_sorted!$J5 -> Vulnerability | F6: =Shelter_AllGroups_sorted!$P5 -> Hazard | G6: =Shelter_AllGroups_sorted!$R5 -> Hazard | H6: =Shelter_AllGroups_sorted!$T5 -> Vulnerability | I6: =Shelter_AllGroups_sorted!$V5 -> Hazard | J6: =Shelter_AllGroups_sorted!$X5 -> Hazard | K6: =Shelter_AllGroups_sorted!$Z5 -> Hazard | L6: =Shelter_AllGroups_sorted!$AB5 -> Hazard | M6: =Shelter_AllGroups_sorted!$AD5 -> Hazard
A7: =Shelter_AllGroups_sorted!$B6 -> Accessibility | B7: =Shelter_AllGroups_sorted!$D6 -> Accessibility | C7: =Shelter_AllGroups_sorted!$F6 -> Hazard | D7: =Shelter_AllGroups_sorted!$H6 -> Accessibility | E7: =Shelter_AllGroups_sorted!$J6 -> Accessibility | F7: =Shelter_AllGroups_sorted!$P6 -> Accessibility | G7: =Shelter_AllGroups_sorted!$R6 -> Accessibility | H7: =Shelter_AllGroups_sorted!$T6 -> Accessibility | I7: =Shelter_AllGroups_sorted!$V6 -> Accessibility | J7: =Shelter_AllGroups_sorted!$X6 -> Accessibility | K7: =Shelter_AllGroups_sorted!$Z6 -> Accessibility | L7: =Shelter_AllGroups_sorted!$AB6 -> Communications | M7: =Shelter_AllGroups_sorted!$AD6 -> Accessibility
A8: =Shelter_AllGroups_sorted!$B7 -> Communications | B8: =Shelter_AllGroups_sorted!$D7 -> Living Environment | C8: =Shelter_AllGroups_sorted!$F7 -> Accessibility | D8: =Shelter_AllGroups_sorted!$H7 -> Hazard | E8: =Shelter_AllGroups_sorted!$J7 -> Living Environment | F8: =Shelter_AllGroups_sorted!$P7 -> Communications | G8: =Shelter_AllGroups_sorted!$R7 -> Communications | H8: =Shelter_AllGroups_sorted!$T7 -> Communications | I8: =Shelter_AllGroups_sorted!$V7 -> Communications | J8: =Shelter_AllGroups_sorted!$X7 -> Communications | K8: =Shelter_AllGroups_sorted!$Z7 -> Access to supplies | L8: =Shelter_AllGroups_sorted!$AB7 -> Accessibility | M8: =Shelter_AllGroups_sorted!$AD7 -> Access to supplies
A9: =Shelter_AllGroups_sorted!$B8 -> Living Environment | B9: =Shelter_AllGroups_sorted!$D8 -> Communications | C9: =Shelter_AllGroups_sorted!$F8 -> Access to supplies | D9: =Shelter_AllGroups_sorted!$H8 -> Access to supplies | E9: =Shelter_AllGroups_sorted!$J8 -> Access to supplies | F9: =Shelter_AllGroups_sorted!$P8 -> Living Environment | G9: =Shelter_AllGroups_sorted!$R8 -> Access to supplies | H9: =Shelter_AllGroups_sorted!$T8 -> Living Environment | I9: =Shelter_AllGroups_sorted!$V8 -> Access to supplies | J9: =Shelter_AllGroups_sorted!$X8 -> Living Environment | K9: =Shelter_AllGroups_sorted!$Z8 -> Communications | L9: =Shelter_AllGroups_sorted!$AB8 -> Living Environment | M9: =Shelter_AllGroups_sorted!$AD8 -> Communications
A10: =Shelter_AllGroups_sorted!$B9 -> Access to supplies | B10: =Shelter_AllGroups_sorted!$D9 -> Access to supplies | C10: =Shelter_AllGroups_sorted!$F9 -> Living Environment | D10: =Shelter_AllGroups_sorted!$H9 -> Living Environment | E10: =Shelter_AllGroups_sorted!$J9 -> Communications | F10: =Shelter_AllGroups_sorted!$P9 -> Access to supplies | G10: =Shelter_AllGroups_sorted!$R9 -> Living Environment | H10: =Shelter_AllGroups_sorted!$T9 -> Access to supplies | I10: =Shelter_AllGroups_sorted!$V9 -> Living Environment | J10: =Shelter_AllGroups_sorted!$X9 -> Access to supplies | K10: =Shelter_AllGroups_sorted!$Z9 -> Living Environment | L10: =Shelter_AllGroups_sorted!$AB9 -> Access to supplies | M10: =Shelter_AllGroups_sorted!$AD9 -> Living Environment
A11: Subcriteria with respect to Accessibility
A12: =Shelter_AllGroups_sorted!$B13 -> Proximity to affected | B12: =Shelter_AllGroups_sorted!$D13 -> Proximity to affected | C12: =Shelter_AllGroups_sorted!$F13 -> Proximity to affected | D12: =Shelter_AllGroups_sorted!$H13 -> Proximity to affected | E12: =Shelter_AllGroups_sorted!$J13 -> Transport options | F12: =Shelter_AllGroups_sorted!$P13 -> Proximity to affected | G12: =Shelter_AllGroups_sorted!$R13 -> Transport options | H12: =Shelter_AllGroups_sorted!$T13 -> Proximity to affected | I12: =Shelter_AllGroups_sorted!$V13 -> Proximity to affected | J12: =Shelter_AllGroups_sorted!$X13 -> Proximity to affected | K12: =Shelter_AllGroups_sorted!$Z13 -> Proximity to affected | L12: =Shelter_AllGroups_sorted!$AB13 -> Proximity to affected | M12: =Shelter_AllGroups_sorted!$AD13 -> Proximity to affected
A13: =Shelter_AllGroups_sorted!$B14 -> Transport options | B13: =Shelter_AllGroups_sorted!$D14 -> Transport options | C13: =Shelter_AllGroups_sorted!$F14 -> Transport options | D13: =Shelter_AllGroups_sorted!$H14 -> Transport options | E13: =Shelter_AllGroups_sorted!$J14 -> Proximity to affected | F13: =Shelter_AllGroups_sorted!$P14 -> Transport options | G13: =Shelter_AllGroups_sorted!$R14 -> Proximity to affected | H13: =Shelter_AllGroups_sorted!$T14 -> Transport options | I13: =Shelter_AllGroups_sorted!$V14 -> Transport options | J13: =Shelter_AllGroups_sorted!$X14 -> Transport options | K13: =Shelter_AllGroups_sorted!$Z14 -> Transport options | L13: =Shelter_AllGroups_sorted!$AB14 -> Transport options | M13: =Shelter_AllGroups_sorted!$AD14 -> Transport options
A14: =Shelter_AllGroups_sorted!$B15 -> Easy to find | B14: =Shelter_AllGroups_sorted!$D15 -> Easy to find | C14: =Shelter_AllGroups_sorted!$F15 -> Easy to find | D14: =Shelter_AllGroups_sorted!$H15 -> Easy to find | E14: =Shelter_AllGroups_sorted!$J15 -> Easy to find | F14: =Shelter_AllGroups_sorted!$P15 -> Easy to find | G14: =Shelter_AllGroups_sorted!$R15 -> Easy to find | H14: =Shelter_AllGroups_sorted!$T15 -> Easy to find | I14: =Shelter_AllGroups_sorted!$V15 -> Easy to find | J14: =Shelter_AllGroups_sorted!$X15 -> Easy to find | K14: =Shelter_AllGroups_sorted!$Z15 -> Easy to find | L14: =Shelter_AllGroups_sorted!$AB15 -> Easy to find | M14: =Shelter_AllGroups_sorted!$AD15 -> Easy to find
A15: Subcriteria with respect to Living Environment
A16: =Shelter_AllGroups_sorted!$B19 -> Utilities | B16: =Shelter_AllGroups_sorted!$D19 -> Health & Safety | C16: =Shelter_AllGroups_sorted!$F19 -> Utilities | D16: =Shelter_AllGroups_sorted!$H19 -> Health & Safety | E16: =Shelter_AllGroups_sorted!$J19 -> Utilities | F16: =Shelter_AllGroups_sorted!$P19 -> Utilities | G16: =Shelter_AllGroups_sorted!$R19 -> Utilities | H16: =Shelter_AllGroups_sorted!$T19 -> Health & Safety | I16: =Shelter_AllGroups_sorted!$V19 -> Utilities | J16: =Shelter_AllGroups_sorted!$X19 -> Utilities | K16: =Shelter_AllGroups_sorted!$Z19 -> Health & Safety | L16: =Shelter_AllGroups_sorted!$AB19 -> Health & Safety | M16: =Shelter_AllGroups_sorted!$AD19 -> Utilities
A17: =Shelter_AllGroups_sorted!$B20 -> Health & Safety | B17: =Shelter_AllGroups_sorted!$D20 -> Utilities | C17: =Shelter_AllGroups_sorted!$F20 -> Health & Safety | D17: =Shelter_AllGroups_sorted!$H20 -> Utilities | E17: =Shelter_AllGroups_sorted!$J20 -> Health & Safety | F17: =Shelter_AllGroups_sorted!$P20 -> Health & Safety | G17: =Shelter_AllGroups_sorted!$R20 -> Health & Safety | H17: =Shelter_AllGroups_sorted!$T20 -> Utilities | I17: =Shelter_AllGroups_sorted!$V20 -> Health & Safety | J17: =Shelter_AllGroups_sorted!$X20 -> Health & Safety | K17: =Shelter_AllGroups_sorted!$Z20 -> Security | L17: =Shelter_AllGroups_sorted!$AB20 -> Utilities | M17: =Shelter_AllGroups_sorted!$AD20 -> Health & Safety
A18: =Shelter_AllGroups_sorted!$B21 -> Security | B18: =Shelter_AllGroups_sorted!$D21 -> Security | C18: =Shelter_AllGroups_sorted!$F21 -> Security | D18: =Shelter_AllGroups_sorted!$H21 -> Security | E18: =Shelter_AllGroups_sorted!$J21 -> Space | F18: =Shelter_AllGroups_sorted!$P21 -> Space | G18: =Shelter_AllGroups_sorted!$R21 -> Space | H18: =Shelter_AllGroups_sorted!$T21 -> Security | I18: =Shelter_AllGroups_sorted!$V21 -> Space | J18: =Shelter_AllGroups_sorted!$X21 -> Space | K18: =Shelter_AllGroups_sorted!$Z21 -> Utilities | L18: =Shelter_AllGroups_sorted!$AB21 -> Security | M18: =Shelter_AllGroups_sorted!$AD21 -> Security
A19: =Shelter_AllGroups_sorted!$B22 -> Space | B19: =Shelter_AllGroups_sorted!$D22 -> Space | C19: =Shelter_AllGroups_sorted!$F22 -> Space | D19: =Shelter_AllGroups_sorted!$H22 -> Space | E19: =Shelter_AllGroups_sorted!$J22 -> Security | F19: =Shelter_AllGroups_sorted!$P22 -> Security | G19: =Shelter_AllGroups_sorted!$R22 -> Security | H19: =Shelter_AllGroups_sorted!$T22 -> Space | I19: =Shelter_AllGroups_sorted!$V22 -> Security | J19: =Shelter_AllGroups_sorted!$X22 -> Security | K19: =Shelter_AllGroups_sorted!$Z22 -> Space | L19: =Shelter_AllGroups_sorted!$AB22 -> Space | M19: =Shelter_AllGroups_sorted!$AD22 -> Space
A20: Subcriteria with respect to Access to supplies
A21: =Shelter_AllGroups_sorted!$B26 -> Water | B21: =Shelter_AllGroups_sorted!$D26 -> Water | C21: =Shelter_AllGroups_sorted!$F26 -> Water | D21: =Shelter_AllGroups_sorted!$H26 -> Water | E21: =Shelter_AllGroups_sorted!$J26 -> Water | F21: =Shelter_AllGroups_sorted!$P26 -> Water | G21: =Shelter_AllGroups_sorted!$R26 -> Water | H21: =Shelter_AllGroups_sorted!$T26 -> Water | I21: =Shelter_AllGroups_sorted!$V26 -> Water | J21: =Shelter_AllGroups_sorted!$X26 -> Water | K21: =Shelter_AllGroups_sorted!$Z26 -> Water | L21: =Shelter_AllGroups_sorted!$AB26 -> Water | M21: =Shelter_AllGroups_sorted!$AD26 -> Water
A22: =Shelter_AllGroups_sorted!$B27 -> Food | B22: =Shelter_AllGroups_sorted!$D27 -> Food | C22: =Shelter_AllGroups_sorted!$F27 -> Food | D22: =Shelter_AllGroups_sorted!$H27 -> Food | E22: =Shelter_AllGroups_sorted!$J27 -> Food | F22: =Shelter_AllGroups_sorted!$P27 -> Food | G22: =Shelter_AllGroups_sorted!$R27 -> Food | H22: =Shelter_AllGroups_sorted!$T27 -> Food | I22: =Shelter_AllGroups_sorted!$V27 -> Food | J22: =Shelter_AllGroups_sorted!$X27 -> Food | K22: =Shelter_AllGroups_sorted!$Z27 -> Food | L22: =Shelter_AllGroups_sorted!$AB27 -> Food | M22: =Shelter_AllGroups_sorted!$AD27 -> Food
A23: =Shelter_AllGroups_sorted!$B28 -> Medical | B23: =Shelter_AllGroups_sorted!$D28 -> Medical | C23: =Shelter_AllGroups_sorted!$F28 -> Medical | D23: =Shelter_AllGroups_sorted!$H28 -> Medical | E23: =Shelter_AllGroups_sorted!$J28 -> Medical | F23: =Shelter_AllGroups_sorted!$P28 -> Medical | G23: =Shelter_AllGroups_sorted!$R28 -> Medical | H23: =Shelter_AllGroups_sorted!$T28 -> Medical | I23: =Shelter_AllGroups_sorted!$V28 -> Medical | J23: =Shelter_AllGroups_sorted!$X28 -> Medical | K23: =Shelter_AllGroups_sorted!$Z28 -> Medical | L23: =Shelter_AllGroups_sorted!$AB28 -> Medical | M23: =Shelter_AllGroups_sorted!$AD28 -> Medical
A24: =Shelter_AllGroups_sorted!$B29 -> Bedding | B24: =Shelter_AllGroups_sorted!$D29 -> Bedding | C24: =Shelter_AllGroups_sorted!$F29 -> Bedding | D24: =Shelter_AllGroups_sorted!$H29 -> Bedding | E24: =Shelter_AllGroups_sorted!$J29 -> Bedding | F24: =Shelter_AllGroups_sorted!$P29 -> Bedding | G24: =Shelter_AllGroups_sorted!$R29 -> Bedding | H24: =Shelter_AllGroups_sorted!$T29 -> Bedding | I24: =Shelter_AllGroups_sorted!$V29 -> Bedding | J24: =Shelter_AllGroups_sorted!$X29 -> Bedding | K24: =Shelter_AllGroups_sorted!$Z29 -> Bedding | L24: =Shelter_AllGroups_sorted!$AB29 -> Bedding | M24: =Shelter_AllGroups_sorted!$AD29 -> Bedding
A25: Subcriteria with respect to Utilities
A26: =Shelter_AllGroups_sorted!$B33 -> Sanitation | B26: =Shelter_AllGroups_sorted!$D33 -> Sanitation | C26: =Shelter_AllGroups_sorted!$F33 -> Sanitation | D26: =Shelter_AllGroups_sorted!$H33 -> Sanitation | E26: =Shelter_AllGroups_sorted!$J33 -> Sanitation | F26: =Shelter_AllGroups_sorted!$P33 -> Sanitation | G26: =Shelter_AllGroups_sorted!$R33 -> Sanitation | H26: =Shelter_AllGroups_sorted!$T33 -> Sanitation | I26: =Shelter_AllGroups_sorted!$V33 -> Sanitation | J26: =Shelter_AllGroups_sorted!$X33 -> Sanitation | K26: =Shelter_AllGroups_sorted!$Z33 -> Sanitation | L26: =Shelter_AllGroups_sorted!$AB33 -> Sanitation | M26: =Shelter_AllGroups_sorted!$AD33 -> Sanitation
A27: =Shelter_AllGroups_sorted!$B34 -> Washing | B27: =Shelter_AllGroups_sorted!$D34 -> Washing | C27: =Shelter_AllGroups_sorted!$F34 -> Washing | D27: =Shelter_AllGroups_sorted!$H34 -> Washing | E27: =Shelter_AllGroups_sorted!$J34 -> Washing | F27: =Shelter_AllGroups_sorted!$P34 -> Washing | G27: =Shelter_AllGroups_sorted!$R34 -> Washing | H27: =Shelter_AllGroups_sorted!$T34 -> Power | I27: =Shelter_AllGroups_sorted!$V34 -> Washing | J27: =Shelter_AllGroups_sorted!$X34 -> Washing | K27: =Shelter_AllGroups_sorted!$Z34 -> Power | L27: =Shelter_AllGroups_sorted!$AB34 -> Washing | M27: =Shelter_AllGroups_sorted!$AD34 -> Washing
A28: =Shelter_AllGroups_sorted!$B35 -> Power | B28: =Shelter_AllGroups_sorted!$D35 -> Power | C28: =Shelter_AllGroups_sorted!$F35 -> Refuse | D28: =Shelter_AllGroups_sorted!$H35 -> Power | E28: =Shelter_AllGroups_sorted!$J35 -> Power | F28: =Shelter_AllGroups_sorted!$P35 -> Power | G28: =Shelter_AllGroups_sorted!$R35 -> Refuse | H28: =Shelter_AllGroups_sorted!$T35 -> Washing | I28: =Shelter_AllGroups_sorted!$V35 -> Refuse | J28: =Shelter_AllGroups_sorted!$X35 -> Power | K28: =Shelter_AllGroups_sorted!$Z35 -> Washing | L28: =Shelter_AllGroups_sorted!$AB35 -> Heating/Cooling | M28: =Shelter_AllGroups_sorted!$AD35 -> Power
A29: =Shelter_AllGroups_sorted!$B36 -> Refuse | B29: =Shelter_AllGroups_sorted!$D36 -> Refuse | C29: =Shelter_AllGroups_sorted!$F36 -> Power | D29: =Shelter_AllGroups_sorted!$H36 -> Refuse | E29: =Shelter_AllGroups_sorted!$J36 -> Refuse | F29: =Shelter_AllGroups_sorted!$P36 -> Heating/Cooling | G29: =Shelter_AllGroups_sorted!$R36 -> Power | H29: =Shelter_AllGroups_sorted!$T36 -> Refuse | I29: =Shelter_AllGroups_sorted!$V36 -> Power | J29: =Shelter_AllGroups_sorted!$X36 -> Heating/Cooling | K29: =Shelter_AllGroups_sorted!$Z36 -> Refuse | L29: =Shelter_AllGroups_sorted!$AB36 -> Power | M29: =Shelter_AllGroups_sorted!$AD36 -> Refuse
A30: =Shelter_AllGroups_sorted!$B37 -> Heating/Cooling | B30: =Shelter_AllGroups_sorted!$D37 -> Heating/Cooling | C30: =Shelter_AllGroups_sorted!$F37 -> Heating/Cooling | D30: =Shelter_AllGroups_sorted!$H37 -> Heating/Cooling | E30: =Shelter_AllGroups_sorted!$J37 -> Heating/Cooling | F30: =Shelter_AllGroups_sorted!$P37 -> Refuse | G30: =Shelter_AllGroups_sorted!$R37 -> Heating/Cooling | H30: =Shelter_AllGroups_sorted!$T37 -> Heating/Cooling | I30: =Shelter_AllGroups_sorted!$V37 -> Heating/Cooling | J30: =Shelter_AllGroups_sorted!$X37 -> Refuse | K30: =Shelter_AllGroups_sorted!$Z37 -> Heating/Cooling | L30: =Shelter_AllGroups_sorted!$AB37 -> Refuse | M30: =Shelter_AllGroups_sorted!$AD37 -> Heating/Cooling
A31: Subcriteria with respect to Space
A32: =Shelter_AllGroups_sorted!$B41 -> Space for people | B32: =Shelter_AllGroups_sorted!$D41 -> Space for people | C32: =Shelter_AllGroups_sorted!$F41 -> Space for people | D32: =Shelter_AllGroups_sorted!$H41 -> Space for people | E32: =Shelter_AllGroups_sorted!$J41 -> Space for people | F32: =Shelter_AllGroups_sorted!$P41 -> Original building function | G32: =Shelter_AllGroups_sorted!$R41 -> Space for people | H32: =Shelter_AllGroups_sorted!$T41 -> Space for people | I32: =Shelter_AllGroups_sorted!$V41 -> Space for people | J32: =Shelter_AllGroups_sorted!$X41 -> Space for people | K32: =Shelter_AllGroups_sorted!$Z41 -> Space for people | L32: =Shelter_AllGroups_sorted!$AB41 -> Original building function | M32: =Shelter_AllGroups_sorted!$AD41 -> Space for people
A33: =Shelter_AllGroups_sorted!$B42 -> Original building function | B33: =Shelter_AllGroups_sorted!$D42 -> Original building function | C33: =Shelter_AllGroups_sorted!$F42 -> Space for admin | D33: =Shelter_AllGroups_sorted!$H42 -> Space for admin | E33: =Shelter_AllGroups_sorted!$J42 -> Original building function | F33: =Shelter_AllGroups_sorted!$P42 -> Space for people | G33: =Shelter_AllGroups_sorted!$R42 -> Space for admin | H33: =Shelter_AllGroups_sorted!$T42 -> Original building function | I33: =Shelter_AllGroups_sorted!$V42 -> Original building function | J33: =Shelter_AllGroups_sorted!$X42 -> Original building function | K33: =Shelter_AllGroups_sorted!$Z42 -> Original building function | L33: =Shelter_AllGroups_sorted!$AB42 -> Space for people | M33: =Shelter_AllGroups_sorted!$AD42 -> Original building function
A34: =Shelter_AllGroups_sorted!$B43 -> Space for admin | B34: =Shelter_AllGroups_sorted!$D43 -> Space for admin | C34: =Shelter_AllGroups_sorted!$F43 -> Original building function | D34: =Shelter_AllGroups_sorted!$H43 -> Original building function | E34: =Shelter_AllGroups_sorted!$J43 -> Space for admin | F34: =Shelter_AllGroups_sorted!$P43 -> Space for admin | G34: =Shelter_AllGroups_sorted!$R43 -> Original building function | H34: =Shelter_AllGroups_sorted!$T43 -> Space for admin | I34: =Shelter_AllGroups_sorted!$V43 -> Space for admin | J34: =Shelter_AllGroups_sorted!$X43 -> Space for admin | K34: =Shelter_AllGroups_sorted!$Z43 -> Space for admin | L34: =Shelter_AllGroups_sorted!$AB43 -> Space for admin | M34: =Shelter_AllGroups_sorted!$AD43 -> Space for admin
A35: Subcriteria with respect to Security
A36: =Shelter_AllGroups_sorted!$B47 -> Personal security | B36: =Shelter_AllGroups_sorted!$D47 -> Personal security | C36: =Shelter_AllGroups_sorted!$F47 -> Personal security | D36: =Shelter_AllGroups_sorted!$H47 -> Personal security | E36: =Shelter_AllGroups_sorted!$J47 -> Personal security | F36: =Shelter_AllGroups_sorted!$P47 -> Personal security | G36: =Shelter_AllGroups_sorted!$R47 -> Personal security | H36: =Shelter_AllGroups_sorted!$T47 -> Personal security | I36: =Shelter_AllGroups_sorted!$V47 -> Personal security | J36: =Shelter_AllGroups_sorted!$X47 -> Personal security | K36: =Shelter_AllGroups_sorted!$Z47 -> Personal security | L36: =Shelter_AllGroups_sorted!$AB47 -> Personal security | M36: =Shelter_AllGroups_sorted!$AD47 -> Personal security
A37: =Shelter_AllGroups_sorted!$B48 -> Stuff security | B37: =Shelter_AllGroups_sorted!$D48 -> Stuff security | C37: =Shelter_AllGroups_sorted!$F48 -> Stuff security | D37: =Shelter_AllGroups_sorted!$H48 -> Stuff security | E37: =Shelter_AllGroups_sorted!$J48 -> Stuff security | F37: =Shelter_AllGroups_sorted!$P48 -> Stuff security | G37: =Shelter_AllGroups_sorted!$R48 -> Stuff security | H37: =Shelter_AllGroups_sorted!$T48 -> Stuff security | I37: =Shelter_AllGroups_sorted!$V48 -> Stuff security | J37: =Shelter_AllGroups_sorted!$X48 -> Stuff security | K37: =Shelter_AllGroups_sorted!$Z48 -> Stuff security | L37: =Shelter_AllGroups_sorted!$AB48 -> Stuff security | M37: =Shelter_AllGroups_sorted!$AD48 -> Stuff security
A38: Subcriteria with respect to Security
A39: =Shelter_AllGroups_sorted!$B52 -> Space for sleeping | B39: =Shelter_AllGroups_sorted!$D52 -> Space for sleeping | C39: =Shelter_AllGroups_sorted!$F52 -> Space for sleeping | D39: =Shelter_AllGroups_sorted!$H52 -> Space for sleeping | E39: =Shelter_AllGroups_sorted!$J52 -> Space for sleeping | F39: =Shelter_AllGroups_sorted!$P52 -> Space for sleeping | G39: =Shelter_AllGroups_sorted!$R52 -> Space for sleeping | H39: =Shelter_AllGroups_sorted!$T52 -> Space for sleeping | I39: =Shelter_AllGroups_sorted!$V52 -> Space for sleeping | J39: =Shelter_AllGroups_sorted!$X52 -> Space for sleeping | K39: =Shelter_AllGroups_sorted!$Z52 -> Space for sleeping | L39: =Shelter_AllGroups_sorted!$AB52 -> Space for sleeping | M39: =Shelter_AllGroups_sorted!$AD52 -> Space for sleeping
A40: =Shelter_AllGroups_sorted!$B53 -> Space for eating | B40: =Shelter_AllGroups_sorted!$D53 -> Space for eating | C40: =Shelter_AllGroups_sorted!$F53 -> Space for eating | D40: =Shelter_AllGroups_sorted!$H53 -> Space for eating | E40: =Shelter_AllGroups_sorted!$J53 -> Space for eating | F40: =Shelter_AllGroups_sorted!$P53 -> Space for eating | G40: =Shelter_AllGroups_sorted!$R53 -> Space for eating | H40: =Shelter_AllGroups_sorted!$T53 -> Space for eating | I40: =Shelter_AllGroups_sorted!$V53 -> Space for eating | J40: =Shelter_AllGroups_sorted!$X53 -> Space for eating | K40: =Shelter_AllGroups_sorted!$Z53 -> Space for eating | L40: =Shelter_AllGroups_sorted!$AB53 -> Space for eating | M40: =Shelter_AllGroups_sorted!$AD53 -> Space for eating
A41: =Shelter_AllGroups_sorted!$B54 -> Recreation | B41: =Shelter_AllGroups_sorted!$D54 -> Recreation | C41: =Shelter_AllGroups_sorted!$F54 -> Recreation | D41: =Shelter_AllGroups_sorted!$H54 -> Recreation | E41: =Shelter_AllGroups_sorted!$J54 -> Recreation | F41: =Shelter_AllGroups_sorted!$P54 -> Recreation | G41: =Shelter_AllGroups_sorted!$R54 -> Recreation | H41: =Shelter_AllGroups_sorted!$T54 -> Recreation | I41: =Shelter_AllGroups_sorted!$V54 -> Recreation | J41: =Shelter_AllGroups_sorted!$X54 -> Recreation | K41: =Shelter_AllGroups_sorted!$Z54 -> Recreation | L41: =Shelter_AllGroups_sorted!$AB54 -> Recreation | M41: =Shelter_AllGroups_sorted!$AD54 -> Recreation
A42: Subcriteria with respect to Space for administration
A43: =Shelter_AllGroups_sorted!$B58 -> Medical services | B43: =Shelter_AllGroups_sorted!$D58 -> Medical services | C43: =Shelter_AllGroups_sorted!$F58 -> Medical services | D43: =Shelter_AllGroups_sorted!$H58 -> Medical services | E43: =Shelter_AllGroups_sorted!$J58 -> Medical services | F43: =Shelter_AllGroups_sorted!$P58 -> Medical services | G43: =Shelter_AllGroups_sorted!$R58 -> Medical services | H43: =Shelter_AllGroups_sorted!$T58 -> Medical services | I43: =Shelter_AllGroups_sorted!$V58 -> Medical services | J43: =Shelter_AllGroups_sorted!$X58 -> Medical services | K43: =Shelter_AllGroups_sorted!$Z58 -> Medical services | L43: =Shelter_AllGroups_sorted!$AB58 -> Medical services | M43: =Shelter_AllGroups_sorted!$AD58 -> Medical services
A44: =Shelter_AllGroups_sorted!$B59 -> Storage of supplies | B44: =Shelter_AllGroups_sorted!$D59 -> Storage of supplies | C44: =Shelter_AllGroups_sorted!$F59 -> Storage of supplies | D44: =Shelter_AllGroups_sorted!$H59 -> Storage of supplies | E44: =Shelter_AllGroups_sorted!$J59 -> Storage of supplies | F44: =Shelter_AllGroups_sorted!$P59 -> Storage of supplies | G44: =Shelter_AllGroups_sorted!$R59 -> Storage of supplies | H44: =Shelter_AllGroups_sorted!$T59 -> Storage of supplies | I44: =Shelter_AllGroups_sorted!$V59 -> Storage of supplies | J44: =Shelter_AllGroups_sorted!$X59 -> Storage of supplies | K44: =Shelter_AllGroups_sorted!$Z59 -> Storage of supplies | L44: =Shelter_AllGroups_sorted!$AB59 -> Storage of supplies | M44: =Shelter_AllGroups_sorted!$AD59 -> Storage of supplies
A45: =Shelter_AllGroups_sorted!$B60 -> Registration | B45: =Shelter_AllGroups_sorted!$D60 -> Registration | C45: =Shelter_AllGroups_sorted!$F60 -> Registration | D45: =Shelter_AllGroups_sorted!$H60 -> Registration | E45: =Shelter_AllGroups_sorted!$J60 -> Registration | F45: =Shelter_AllGroups_sorted!$P60 -> Registration | G45: =Shelter_AllGroups_sorted!$R60 -> Registration | H45: =Shelter_AllGroups_sorted!$T60 -> Registration | I45: =Shelter_AllGroups_sorted!$V60 -> Registration | J45: =Shelter_AllGroups_sorted!$X60 -> Registration | K45: =Shelter_AllGroups_sorted!$Z60 -> Registration | L45: =Shelter_AllGroups_sorted!$AB60 -> Registration | M45: =Shelter_AllGroups_sorted!$AD60 -> Registration
A46: Subcriteria with respect to Space for sleeping
A47: =Shelter_AllGroups_sorted!$B64 -> Multiple spaces | B47: =Shelter_AllGroups_sorted!$D64 -> Multiple spaces | C47: =Shelter_AllGroups_sorted!$F64 -> Multiple spaces | D47: =Shelter_AllGroups_sorted!$H64 -> Multiple spaces | E47: =Shelter_AllGroups_sorted!$J64 -> Multiple spaces | F47: =Shelter_AllGroups_sorted!$P64 -> Multiple spaces | G47: =Shelter_AllGroups_sorted!$R64 -> Size | H47: =Shelter_AllGroups_sorted!$T64 -> Size | I47: =Shelter_AllGroups_sorted!$V64 -> Multiple spaces | J47: =Shelter_AllGroups_sorted!$X64 -> Multiple spaces | K47: =Shelter_AllGroups_sorted!$Z64 -> Multiple spaces | L47: =Shelter_AllGroups_sorted!$AB64 -> Multiple spaces | M47: =Shelter_AllGroups_sorted!$AD64 -> Size
A48: =Shelter_AllGroups_sorted!$B65 -> Size | B48: =Shelter_AllGroups_sorted!$D65 -> Size | C48: =Shelter_AllGroups_sorted!$F65 -> Size | D48: =Shelter_AllGroups_sorted!$H65 -> Size | E48: =Shelter_AllGroups_sorted!$J65 -> Size | F48: =Shelter_AllGroups_sorted!$P65 -> Size | G48: =Shelter_AllGroups_sorted!$R65 -> Multiple spaces | H48: =Shelter_AllGroups_sorted!$T65 -> Multiple spaces | I48: =Shelter_AllGroups_sorted!$V65 -> Size | J48: =Shelter_AllGroups_sorted!$X65 -> Size | K48: =Shelter_AllGroups_sorted!$Z65 -> Size | L48: =Shelter_AllGroups_sorted!$AB65 -> Size | M48: =Shelter_AllGroups_sorted!$AD65 -> Multiple spaces

Sheet ShelterRanksBackground
A1: Table 2b Ranked factors (criteria) for the evacuation shelter based on background of participants.
A2: Colours in this table align with the criteria colours in Figures 3a and 4a in the manuscript with darker shades for subcriteria corresponding to higher rankings.
A3: Engineering | B3: Non Engineering | C3: Social Sciences | D3: Non Social Sciences | E3: Physical Sciences | F3: Non Physical Sciences | G3: Natural hazards | H3: Non Natural hazards | I3: Disaster management | J3: Non Disaster management | K3: Other disciplines | L3: Non other disciplines
A4: Main criteria
A5: =Shelter_AllGroups_sorted!$AF4 -> Hazard | B5: =Shelter_AllGroups_sorted!$AH4 -> Vulnerability | C5: =Shelter_AllGroups_sorted!$AJ4 -> Hazard | D5: =Shelter_AllGroups_sorted!$AL4 -> Vulnerability | E5: =Shelter_AllGroups_sorted!$AN4 -> Vulnerability | F5: =Shelter_AllGroups_sorted!$AP4 -> Vulnerability | G5: =Shelter_AllGroups_sorted!$AR4 -> Vulnerability | H5: =Shelter_AllGroups_sorted!$AT4 -> Vulnerability | I5: =Shelter_AllGroups_sorted!$AV4 -> Vulnerability | J5: =Shelter_AllGroups_sorted!$AX4 -> Vulnerability | K5: =Shelter_AllGroups_sorted!$AZ4 -> Vulnerability | L5: =Shelter_AllGroups_sorted!$BB4 -> Vulnerability
A6: =Shelter_AllGroups_sorted!$AF5 -> Vulnerability | B6: =Shelter_AllGroups_sorted!$AH5 -> Hazard | C6: =Shelter_AllGroups_sorted!$AJ5 -> Vulnerability | D6: =Shelter_AllGroups_sorted!$AL5 -> Hazard | E6: =Shelter_AllGroups_sorted!$AN5 -> Hazard | F6: =Shelter_AllGroups_sorted!$AP5 -> Hazard | G6: =Shelter_AllGroups_sorted!$AR5 -> Hazard | H6: =Shelter_AllGroups_sorted!$AT5 -> Hazard | I6: =Shelter_AllGroups_sorted!$AV5 -> Hazard | J6: =Shelter_AllGroups_sorted!$AX5 -> Hazard | K6: =Shelter_AllGroups_sorted!$AZ5 -> Hazard | L6: =Shelter_AllGroups_sorted!$BB5 -> Hazard
A7: =Shelter_AllGroups_sorted!$AF6 -> Accessibility | B7: =Shelter_AllGroups_sorted!$AH6 -> Communications | C7: =Shelter_AllGroups_sorted!$AJ6 -> Accessibility | D7: =Shelter_AllGroups_sorted!$AL6 -> Accessibility | E7: =Shelter_AllGroups_sorted!$AN6 -> Accessibility | F7: =Shelter_AllGroups_sorted!$AP6 -> Accessibility | G7: =Shelter_AllGroups_sorted!$AR6 -> Accessibility | H7: =Shelter_AllGroups_sorted!$AT6 -> Communications | I7: =Shelter_AllGroups_sorted!$AV6 -> Accessibility | J7: =Shelter_AllGroups_sorted!$AX6 -> Access to supplies | K7: =Shelter_AllGroups_sorted!$AZ6 -> Accessibility | L7: =Shelter_AllGroups_sorted!$BB6 -> Accessibility
A8: =Shelter_AllGroups_sorted!$AF7 -> Access to supplies | B8: =Shelter_AllGroups_sorted!$AH7 -> Accessibility | C8: =Shelter_AllGroups_sorted!$AJ7 -> Access to supplies | D8: =Shelter_AllGroups_sorted!$AL7 -> Communications | E8: =Shelter_AllGroups_sorted!$AN7 -> Access to supplies | F8: =Shelter_AllGroups_sorted!$AP7 -> Communications | G8: =Shelter_AllGroups_sorted!$AR7 -> Living Environment | H8: =Shelter_AllGroups_sorted!$AT7 -> Accessibility | I8: =Shelter_AllGroups_sorted!$AV7 -> Communications | J8: =Shelter_AllGroups_sorted!$AX7 -> Living Environment | K8: =Shelter_AllGroups_sorted!$AZ7 -> Communications | L8: =Shelter_AllGroups_sorted!$BB7 -> Access to supplies
A9: =Shelter_AllGroups_sorted!$AF8 -> Living Environment | B9: =Shelter_AllGroups_sorted!$AH8 -> Living Environment | C9: =Shelter_AllGroups_sorted!$AJ8 -> Living Environment | D9: =Shelter_AllGroups_sorted!$AL8 -> Living Environment | E9: =Shelter_AllGroups_sorted!$AN8 -> Living Environment | F9: =Shelter_AllGroups_sorted!$AP8 -> Living Environment | G9: =Shelter_AllGroups_sorted!$AR8 -> Access to supplies | H9: =Shelter_AllGroups_sorted!$AT8 -> Access to supplies | I9: =Shelter_AllGroups_sorted!$AV8 -> Living Environment | J9: =Shelter_AllGroups_sorted!$AX8 -> Accessibility | K9: =Shelter_AllGroups_sorted!$AZ8 -> Living Environment | L9: =Shelter_AllGroups_sorted!$BB8 -> Communications
A10: =Shelter_AllGroups_sorted!$AF9 -> Communications | B10: =Shelter_AllGroups_sorted!$AH9 -> Access to supplies | C10: =Shelter_AllGroups_sorted!$AJ9 -> Communications | D10: =Shelter_AllGroups_sorted!$AL9 -> Access to supplies | E10: =Shelter_AllGroups_sorted!$AN9 -> Communications | F10: =Shelter_AllGroups_sorted!$AP9 -> Access to supplies | G10: =Shelter_AllGroups_sorted!$AR9 -> Communications | H10: =Shelter_AllGroups_sorted!$AT9 -> Living Environment | I10: =Shelter_AllGroups_sorted!$AV9 -> Access to supplies | J10: =Shelter_AllGroups_sorted!$AX9 -> Communications | K10: =Shelter_AllGroups_sorted!$AZ9 -> Access to supplies | L10: =Shelter_AllGroups_sorted!$BB9 -> Living Environment
A11: Subcriteria with respect to Accessibility
A12: =Shelter_AllGroups_sorted!$AF13 -> Transport options | B12: =Shelter_AllGroups_sorted!$AH13 -> Proximity to affected | C12: =Shelter_AllGroups_sorted!$AJ13 -> Proximity to affected | D12: =Shelter_AllGroups_sorted!$AL13 -> Proximity to affected | E12: =Shelter_AllGroups_sorted!$AN13 -> Transport options | F12: =Shelter_AllGroups_sorted!$AP13 -> Proximity to affected | G12: =Shelter_AllGroups_sorted!$AR13 -> Transport options | H12: =Shelter_AllGroups_sorted!$AT13 -> Proximity to affected | I12: =Shelter_AllGroups_sorted!$AV13 -> Proximity to affected | J12: =Shelter_AllGroups_sorted!$AX13 -> Proximity to affected | K12: =Shelter_AllGroups_sorted!$AZ13 -> Proximity to affected | L12: =Shelter_AllGroups_sorted!$BB13 -> Transport options
A13: =Shelter_AllGroups_sorted!$AF14 -> Proximity to affected | B13: =Shelter_AllGroups_sorted!$AH14 -> Transport options | C13: =Shelter_AllGroups_sorted!$AJ14 -> Transport options | D13: =Shelter_AllGroups_sorted!$AL14 -> Transport options | E13: =Shelter_AllGroups_sorted!$AN14 -> Proximity to affected | F13: =Shelter_AllGroups_sorted!$AP14 -> Transport options | G13: =Shelter_AllGroups_sorted!$AR14 -> Proximity to affected | H13: =Shelter_AllGroups_sorted!$AT14 -> Transport options | I13: =Shelter_AllGroups_sorted!$AV14 -> Transport options | J13: =Shelter_AllGroups_sorted!$AX14 -> Transport options | K13: =Shelter_AllGroups_sorted!$AZ14 -> Easy to find | L13: =Shelter_AllGroups_sorted!$BB14 -> Proximity to affected
A14: =Shelter_AllGroups_sorted!$AF15 -> Easy to find | B14: =Shelter_AllGroups_sorted!$AH15 -> Easy to find | C14: =Shelter_AllGroups_sorted!$AJ15 -> Easy to find | D14: =Shelter_AllGroups_sorted!$AL15 -> Easy to find | E14: =Shelter_AllGroups_sorted!$AN15 -> Easy to find | F14: =Shelter_AllGroups_sorted!$AP15 -> Easy to find | G14: =Shelter_AllGroups_sorted!$AR15 -> Easy to find | H14: =Shelter_AllGroups_sorted!$AT15 -> Easy to find | I14: =Shelter_AllGroups_sorted!$AV15 -> Easy to find | J14: =Shelter_AllGroups_sorted!$AX15 -> Easy to find | K14: =Shelter_AllGroups_sorted!$AZ15 -> Transport options | L14: =Shelter_AllGroups_sorted!$BB15 -> Easy to find
A15: Subcriteria with respect to Living Environment
A16: =Shelter_AllGroups_sorted!$AF19 -> Utilities | B16: =Shelter_AllGroups_sorted!$AH19 -> Utilities | C16: =Shelter_AllGroups_sorted!$AJ19 -> Utilities | D16: =Shelter_AllGroups_sorted!$AL19 -> Utilities | E16: =Shelter_AllGroups_sorted!$AN19 -> Utilities | F16: =Shelter_AllGroups_sorted!$AP19 -> Health & Safety | G16: =Shelter_AllGroups_sorted!$AR19 -> Utilities | H16: =Shelter_AllGroups_sorted!$AT19 -> Health & Safety | I16: =Shelter_AllGroups_sorted!$AV19 -> Utilities | J16: =Shelter_AllGroups_sorted!$AX19 -> Health & Safety | K16: =Shelter_AllGroups_sorted!$AZ19 -> Utilities | L16: =Shelter_AllGroups_sorted!$BB19 -> Health & Safety
A17: =Shelter_AllGroups_sorted!$AF20 -> Health & Safety | B17: =Shelter_AllGroups_sorted!$AH20 -> Health & Safety | C17: =Shelter_AllGroups_sorted!$AJ20 -> Health & Safety | D17: =Shelter_AllGroups_sorted!$AL20 -> Health & Safety | E17: =Shelter_AllGroups_sorted!$AN20 -> Security | F17: =Shelter_AllGroups_sorted!$AP20 -> Utilities | G17: =Shelter_AllGroups_sorted!$AR20 -> Health & Safety | H17: =Shelter_AllGroups_sorted!$AT20 -> Utilities | I17: =Shelter_AllGroups_sorted!$AV20 -> Health & Safety | J17: =Shelter_AllGroups_sorted!$AX20 -> Utilities | K17: =Shelter_AllGroups_sorted!$AZ20 -> Health & Safety | L17: =Shelter_AllGroups_sorted!$BB20 -> Utilities
A18: =Shelter_AllGroups_sorted!$AF21 -> Space | B18: =Shelter_AllGroups_sorted!$AH21 -> Security | C18: =Shelter_AllGroups_sorted!$AJ21 -> Security | D18: =Shelter_AllGroups_sorted!$AL21 -> Space | E18: =Shelter_AllGroups_sorted!$AN21 -> Health & Safety | F18: =Shelter_AllGroups_sorted!$AP21 -> Security | G18: =Shelter_AllGroups_sorted!$AR21 -> Space | H18: =Shelter_AllGroups_sorted!$AT21 -> Security | I18: =Shelter_AllGroups_sorted!$AV21 -> Security | J18: =Shelter_AllGroups_sorted!$AX21 -> Security | K18: =Shelter_AllGroups_sorted!$AZ21 -> Security | L18: =Shelter_AllGroups_sorted!$BB21 -> Security
A19: =Shelter_AllGroups_sorted!$AF22 -> Security | B19: =Shelter_AllGroups_sorted!$AH22 -> Space | C19: =Shelter_AllGroups_sorted!$AJ22 -> Space | D19: =Shelter_AllGroups_sorted!$AL22 -> Security | E19: =Shelter_AllGroups_sorted!$AN22 -> Space | F19: =Shelter_AllGroups_sorted!$AP22 -> Space | G19: =Shelter_AllGroups_sorted!$AR22 -> Security | H19: =Shelter_AllGroups_sorted!$AT22 -> Space | I19: =Shelter_AllGroups_sorted!$AV22 -> Space | J19: =Shelter_AllGroups_sorted!$AX22 -> Space | K19: =Shelter_AllGroups_sorted!$AZ22 -> Space | L19: =Shelter_AllGroups_sorted!$BB22 -> Space
A20: Subcriteria with respect to Access to supplies
A21: =Shelter_AllGroups_sorted!$AF26 -> Water | B21: =Shelter_AllGroups_sorted!$AH26 -> Water | C21: =Shelter_AllGroups_sorted!$AJ26 -> Water | D21: =Shelter_AllGroups_sorted!$AL26 -> Water | E21: =Shelter_AllGroups_sorted!$AN26 -> Water | F21: =Shelter_AllGroups_sorted!$AP26 -> Water | G21: =Shelter_AllGroups_sorted!$AR26 -> Water | H21: =Shelter_AllGroups_sorted!$AT26 -> Water | I21: =Shelter_AllGroups_sorted!$AV26 -> Water | J21: =Shelter_AllGroups_sorted!$AX26 -> Water | K21: =Shelter_AllGroups_sorted!$AZ26 -> Water | L21: =Shelter_AllGroups_sorted!$BB26 -> Water
A22: =Shelter_AllGroups_sorted!$AF27 -> Food | B22: =Shelter_AllGroups_sorted!$AH27 -> Food | C22: =Shelter_AllGroups_sorted!$AJ27 -> Food | D22: =Shelter_AllGroups_sorted!$AL27 -> Food | E22: =Shelter_AllGroups_sorted!$AN27 -> Food | F22: =Shelter_AllGroups_sorted!$AP27 -> Food | G22: =Shelter_AllGroups_sorted!$AR27 -> Food | H22: =Shelter_AllGroups_sorted!$AT27 -> Food | I22: =Shelter_AllGroups_sorted!$AV27 -> Food | J22: =Shelter_AllGroups_sorted!$AX27 -> Food | K22: =Shelter_AllGroups_sorted!$AZ27 -> Food | L22: =Shelter_AllGroups_sorted!$BB27 -> Food
A23: =Shelter_AllGroups_sorted!$AF28 -> Medical | B23: =Shelter_AllGroups_sorted!$AH28 -> Medical | C23: =Shelter_AllGroups_sorted!$AJ28 -> Medical | D23: =Shelter_AllGroups_sorted!$AL28 -> Medical | E23: =Shelter_AllGroups_sorted!$AN28 -> Medical | F23: =Shelter_AllGroups_sorted!$AP28 -> Medical | G23: =Shelter_AllGroups_sorted!$AR28 -> Medical | H23: =Shelter_AllGroups_sorted!$AT28 -> Medical | I23: =Shelter_AllGroups_sorted!$AV28 -> Medical | J23: =Shelter_AllGroups_sorted!$AX28 -> Medical | K23: =Shelter_AllGroups_sorted!$AZ28 -> Medical | L23: =Shelter_AllGroups_sorted!$BB28 -> Medical
A24: =Shelter_AllGroups_sorted!$AF29 -> Bedding | B24: =Shelter_AllGroups_sorted!$AH29 -> Bedding | C24: =Shelter_AllGroups_sorted!$AJ29 -> Bedding | D24: =Shelter_AllGroups_sorted!$AL29 -> Bedding | E24: =Shelter_AllGroups_sorted!$AN29 -> Bedding | F24: =Shelter_AllGroups_sorted!$AP29 -> Bedding | G24: =Shelter_AllGroups_sorted!$AR29 -> Bedding | H24: =Shelter_AllGroups_sorted!$AT29 -> Bedding | I24: =Shelter_AllGroups_sorted!$AV29 -> Bedding | J24: =Shelter_AllGroups_sorted!$AX29 -> Bedding | K24: =Shelter_AllGroups_sorted!$AZ29 -> Bedding | L24: =Shelter_AllGroups_sorted!$BB29 -> Bedding
A25: Subcriteria with respect to Utilities
A26: =Shelter_AllGroups_sorted!$AF33 -> Sanitation | B26: =Shelter_AllGroups_sorted!$AH33 -> Sanitation | C26: =Shelter_AllGroups_sorted!$AJ33 -> Sanitation | D26: =Shelter_AllGroups_sorted!$AL33 -> Sanitation | E26: =Shelter_AllGroups_sorted!$AN33 -> Sanitation | F26: =Shelter_AllGroups_sorted!$AP33 -> Sanitation | G26: =Shelter_AllGroups_sorted!$AR33 -> Sanitation | H26: =Shelter_AllGroups_sorted!$AT33 -> Sanitation | I26: =Shelter_AllGroups_sorted!$AV33 -> Sanitation | J26: =Shelter_AllGroups_sorted!$AX33 -> Sanitation | K26: =Shelter_AllGroups_sorted!$AZ33 -> Sanitation | L26: =Shelter_AllGroups_sorted!$BB33 -> Sanitation
A27: =Shelter_AllGroups_sorted!$AF34 -> Washing | B27: =Shelter_AllGroups_sorted!$AH34 -> Washing | C27: =Shelter_AllGroups_sorted!$AJ34 -> Power | D27: =Shelter_AllGroups_sorted!$AL34 -> Washing | E27: =Shelter_AllGroups_sorted!$AN34 -> Washing | F27: =Shelter_AllGroups_sorted!$AP34 -> Washing | G27: =Shelter_AllGroups_sorted!$AR34 -> Washing | H27: =Shelter_AllGroups_sorted!$AT34 -> Washing | I27: =Shelter_AllGroups_sorted!$AV34 -> Washing | J27: =Shelter_AllGroups_sorted!$AX34 -> Washing | K27: =Shelter_AllGroups_sorted!$AZ34 -> Washing | L27: =Shelter_AllGroups_sorted!$BB34 -> Washing
A28: =Shelter_AllGroups_sorted!$AF35 -> Power | B28: =Shelter_AllGroups_sorted!$AH35 -> Power | C28: =Shelter_AllGroups_sorted!$AJ35 -> Washing | D28: =Shelter_AllGroups_sorted!$AL35 -> Power | E28: =Shelter_AllGroups_sorted!$AN35 -> Power | F28: =Shelter_AllGroups_sorted!$AP35 -> Power | G28: =Shelter_AllGroups_sorted!$AR35 -> Power | H28: =Shelter_AllGroups_sorted!$AT35 -> Power | I28: =Shelter_AllGroups_sorted!$AV35 -> Power | J28: =Shelter_AllGroups_sorted!$AX35 -> Power | K28: =Shelter_AllGroups_sorted!$AZ35 -> Heating/Cooling | L28: =Shelter_AllGroups_sorted!$BB35 -> Power
A29: =Shelter_AllGroups_sorted!$AF36 -> Refuse | B29: =Shelter_AllGroups_sorted!$AH36 -> Refuse | C29: =Shelter_AllGroups_sorted!$AJ36 -> Refuse | D29: =Shelter_AllGroups_sorted!$AL36 -> Refuse | E29: =Shelter_AllGroups_sorted!$AN36 -> Heating/Cooling | F29: =Shelter_AllGroups_sorted!$AP36 -> Refuse | G29: =Shelter_AllGroups_sorted!$AR36 -> Refuse | H29: =Shelter_AllGroups_sorted!$AT36 -> Refuse | I29: =Shelter_AllGroups_sorted!$AV36 -> Refuse | J29: =Shelter_AllGroups_sorted!$AX36 -> Refuse | K29: =Shelter_AllGroups_sorted!$AZ36 -> Power | L29: =Shelter_AllGroups_sorted!$BB36 -> Refuse
A30: =Shelter_AllGroups_sorted!$AF37 -> Heating/Cooling | B30: =Shelter_AllGroups_sorted!$AH37 -> Heating/Cooling | C30: =Shelter_AllGroups_sorted!$AJ37 -> Heating/Cooling | D30: =Shelter_AllGroups_sorted!$AL37 -> Heating/Cooling | E30: =Shelter_AllGroups_sorted!$AN37 -> Refuse | F30: =Shelter_AllGroups_sorted!$AP37 -> Heating/Cooling | G30: =Shelter_AllGroups_sorted!$AR37 -> Heating/Cooling | H30: =Shelter_AllGroups_sorted!$AT37 -> Heating/Cooling | I30: =Shelter_AllGroups_sorted!$AV37 -> Heating/Cooling | J30: =Shelter_AllGroups_sorted!$AX37 -> Heating/Cooling | K30: =Shelter_AllGroups_sorted!$AZ37 -> Refuse | L30: =Shelter_AllGroups_sorted!$BB37 -> Heating/Cooling
A31: Subcriteria with respect to Space
A32: =Shelter_AllGroups_sorted!$AF41 -> Space for people | B32: =Shelter_AllGroups_sorted!$AH41 -> Space for people | C32: =Shelter_AllGroups_sorted!$AJ41 -> Space for people | D32: =Shelter_AllGroups_sorted!$AL41 -> Space for people | E32: =Shelter_AllGroups_sorted!$AN41 -> Space for people | F32: =Shelter_AllGroups_sorted!$AP41 -> Space for people | G32: =Shelter_AllGroups_sorted!$AR41 -> Space for people | H32: =Shelter_AllGroups_sorted!$AT41 -> Space for people | I32: =Shelter_AllGroups_sorted!$AV41 -> Space for people | J32: =Shelter_AllGroups_sorted!$AX41 -> Original building function | K32: =Shelter_AllGroups_sorted!$AZ41 -> Space for people | L32: =Shelter_AllGroups_sorted!$BB41 -> Space for people
A33: =Shelter_AllGroups_sorted!$AF42 -> Original building function | B33: =Shelter_AllGroups_sorted!$AH42 -> Space for admin | C33: =Shelter_AllGroups_sorted!$AJ42 -> Original building function | D33: =Shelter_AllGroups_sorted!$AL42 -> Original building function | E33: =Shelter_AllGroups_sorted!$AN42 -> Space for admin | F33: =Shelter_AllGroups_sorted!$AP42 -> Original building function | G33: =Shelter_AllGroups_sorted!$AR42 -> Original building function | H33: =Shelter_AllGroups_sorted!$AT42 -> Original building function | I33: =Shelter_AllGroups_sorted!$AV42 -> Original building function | J33: =Shelter_AllGroups_sorted!$AX42 -> Space for people | K33: =Shelter_AllGroups_sorted!$AZ42 -> Original building function | L33: =Shelter_AllGroups_sorted!$BB42 -> Original building function
A34: =Shelter_AllGroups_sorted!$AF43 -> Space for admin | B34: =Shelter_AllGroups_sorted!$AH43 -> Original building function | C34: =Shelter_AllGroups_sorted!$AJ43 -> Space for admin | D34: =Shelter_AllGroups_sorted!$AL43 -> Space for admin | E34: =Shelter_AllGroups_sorted!$AN43 -> Original building function | F34: =Shelter_AllGroups_sorted!$AP43 -> Space for admin | G34: =Shelter_AllGroups_sorted!$AR43 -> Space for admin | H34: =Shelter_AllGroups_sorted!$AT43 -> Space for admin | I34: =Shelter_AllGroups_sorted!$AV43 -> Space for admin | J34: =Shelter_AllGroups_sorted!$AX43 -> Space for admin | K34: =Shelter_AllGroups_sorted!$AZ43 -> Space for admin | L34: =Shelter_AllGroups_sorted!$BB43 -> Space for admin
A35: Subcriteria with respect to Security
A36: =Shelter_AllGroups_sorted!$AF47 -> Personal security | B36: =Shelter_AllGroups_sorted!$AH47 -> Personal security | C36: =Shelter_AllGroups_sorted!$AJ47 -> Personal security | D36: =Shelter_AllGroups_sorted!$AL47 -> Personal security | E36: =Shelter_AllGroups_sorted!$AN47 -> Personal security | F36: =Shelter_AllGroups_sorted!$AP47 -> Personal security | G36: =Shelter_AllGroups_sorted!$AR47 -> Personal security | H36: =Shelter_AllGroups_sorted!$AT47 -> Personal security | I36: =Shelter_AllGroups_sorted!$AV47 -> Personal security | J36: =Shelter_AllGroups_sorted!$AX47 -> Personal security | K36: =Shelter_AllGroups_sorted!$AZ47 -> Personal security | L36: =Shelter_AllGroups_sorted!$BB47 -> Personal security
A37: =Shelter_AllGroups_sorted!$AF48 -> Stuff security | B37: =Shelter_AllGroups_sorted!$AH48 -> Stuff security | C37: =Shelter_AllGroups_sorted!$AJ48 -> Stuff security | D37: =Shelter_AllGroups_sorted!$AL48 -> Stuff security | E37: =Shelter_AllGroups_sorted!$AN48 -> Stuff security | F37: =Shelter_AllGroups_sorted!$AP48 -> Stuff security | G37: =Shelter_AllGroups_sorted!$AR48 -> Stuff security | H37: =Shelter_AllGroups_sorted!$AT48 -> Stuff security | I37: =Shelter_AllGroups_sorted!$AV48 -> Stuff security | J37: =Shelter_AllGroups_sorted!$AX48 -> Stuff security | K37: =Shelter_AllGroups_sorted!$AZ48 -> Stuff security | L37: =Shelter_AllGroups_sorted!$BB48 -> Stuff security
A38: Subcriteria with respect to Security
A39: =Shelter_AllGroups_sorted!$AF52 -> Space for sleeping | B39: =Shelter_AllGroups_sorted!$AH52 -> Space for sleeping | C39: =Shelter_AllGroups_sorted!$AJ52 -> Space for sleeping | D39: =Shelter_AllGroups_sorted!$AL52 -> Space for sleeping | E39: =Shelter_AllGroups_sorted!$AN52 -> Space for sleeping | F39: =Shelter_AllGroups_sorted!$AP52 -> Space for sleeping | G39: =Shelter_AllGroups_sorted!$AR52 -> Space for sleeping | H39: =Shelter_AllGroups_sorted!$AT52 -> Space for sleeping | I39: =Shelter_AllGroups_sorted!$AV52 -> Space for sleeping | J39: =Shelter_AllGroups_sorted!$AX52 -> Space for sleeping | K39: =Shelter_AllGroups_sorted!$AZ52 -> Space for sleeping | L39: =Shelter_AllGroups_sorted!$BB52 -> Space for sleeping
A40: =Shelter_AllGroups_sorted!$AF53 -> Space for eating | B40: =Shelter_AllGroups_sorted!$AH53 -> Space for eating | C40: =Shelter_AllGroups_sorted!$AJ53 -> Space for eating | D40: =Shelter_AllGroups_sorted!$AL53 -> Space for eating | E40: =Shelter_AllGroups_sorted!$AN53 -> Space for eating | F40: =Shelter_AllGroups_sorted!$AP53 -> Space for eating | G40: =Shelter_AllGroups_sorted!$AR53 -> Space for eating | H40: =Shelter_AllGroups_sorted!$AT53 -> Space for eating | I40: =Shelter_AllGroups_sorted!$AV53 -> Space for eating | J40: =Shelter_AllGroups_sorted!$AX53 -> Space for eating | K40: =Shelter_AllGroups_sorted!$AZ53 -> Space for eating | L40: =Shelter_AllGroups_sorted!$BB53 -> Space for eating
A41: =Shelter_AllGroups_sorted!$AF54 -> Recreation | B41: =Shelter_AllGroups_sorted!$AH54 -> Recreation | C41: =Shelter_AllGroups_sorted!$AJ54 -> Recreation | D41: =Shelter_AllGroups_sorted!$AL54 -> Recreation | E41: =Shelter_AllGroups_sorted!$AN54 -> Recreation | F41: =Shelter_AllGroups_sorted!$AP54 -> Recreation | G41: =Shelter_AllGroups_sorted!$AR54 -> Recreation | H41: =Shelter_AllGroups_sorted!$AT54 -> Recreation | I41: =Shelter_AllGroups_sorted!$AV54 -> Recreation | J41: =Shelter_AllGroups_sorted!$AX54 -> Recreation | K41: =Shelter_AllGroups_sorted!$AZ54 -> Recreation | L41: =Shelter_AllGroups_sorted!$BB54 -> Recreation
A42: Subcriteria with respect to Space for administration
A43: =Shelter_AllGroups_sorted!$AF58 -> Medical services | B43: =Shelter_AllGroups_sorted!$AH58 -> Medical services | C43: =Shelter_AllGroups_sorted!$AJ58 -> Medical services | D43: =Shelter_AllGroups_sorted!$AL58 -> Medical services | E43: =Shelter_AllGroups_sorted!$AN58 -> Registration | F43: =Shelter_AllGroups_sorted!$AP58 -> Medical services | G43: =Shelter_AllGroups_sorted!$AR58 -> Medical services | H43: =Shelter_AllGroups_sorted!$AT58 -> Medical services | I43: =Shelter_AllGroups_sorted!$AV58 -> Medical services | J43: =Shelter_AllGroups_sorted!$AX58 -> Medical services | K43: =Shelter_AllGroups_sorted!$AZ58 -> Medical services | L43: =Shelter_AllGroups_sorted!$BB58 -> Medical services
A44: =Shelter_AllGroups_sorted!$AF59 -> Storage of supplies | B44: =Shelter_AllGroups_sorted!$AH59 -> Storage of supplies | C44: =Shelter_AllGroups_sorted!$AJ59 -> Storage of supplies | D44: =Shelter_AllGroups_sorted!$AL59 -> Storage of supplies | E44: =Shelter_AllGroups_sorted!$AN59 -> Medical services | F44: =Shelter_AllGroups_sorted!$AP59 -> Storage of supplies | G44: =Shelter_AllGroups_sorted!$AR59 -> Storage of supplies | H44: =Shelter_AllGroups_sorted!$AT59 -> Storage of supplies | I44: =Shelter_AllGroups_sorted!$AV59 -> Storage of supplies | J44: =Shelter_AllGroups_sorted!$AX59 -> Storage of supplies | K44: =Shelter_AllGroups_sorted!$AZ59 -> Registration | L44: =Shelter_AllGroups_sorted!$BB59 -> Storage of supplies
A45: =Shelter_AllGroups_sorted!$AF60 -> Registration | B45: =Shelter_AllGroups_sorted!$AH60 -> Registration | C45: =Shelter_AllGroups_sorted!$AJ60 -> Registration | D45: =Shelter_AllGroups_sorted!$AL60 -> Registration | E45: =Shelter_AllGroups_sorted!$AN60 -> Storage of supplies | F45: =Shelter_AllGroups_sorted!$AP60 -> Registration | G45: =Shelter_AllGroups_sorted!$AR60 -> Registration | H45: =Shelter_AllGroups_sorted!$AT60 -> Registration | I45: =Shelter_AllGroups_sorted!$AV60 -> Registration | J45: =Shelter_AllGroups_sorted!$AX60 -> Registration | K45: =Shelter_AllGroups_sorted!$AZ60 -> Storage of supplies | L45: =Shelter_AllGroups_sorted!$BB60 -> Registration
A46: Subcriteria with respect to Space for sleeping
A47: =Shelter_AllGroups_sorted!$AF64 -> Size | B47: =Shelter_AllGroups_sorted!$AH64 -> Multiple spaces | C47: =Shelter_AllGroups_sorted!$AJ64 -> Multiple spaces | D47: =Shelter_AllGroups_sorted!$AL64 -> Multiple spaces | E47: =Shelter_AllGroups_sorted!$AN64 -> Size | F47: =Shelter_AllGroups_sorted!$AP64 -> Multiple spaces | G47: =Shelter_AllGroups_sorted!$AR64 -> Size | H47: =Shelter_AllGroups_sorted!$AT64 -> Multiple spaces | I47: =Shelter_AllGroups_sorted!$AV64 -> Multiple spaces | J47: =Shelter_AllGroups_sorted!$AX64 -> Multiple spaces | K47: =Shelter_AllGroups_sorted!$AZ64 -> Multiple spaces | L47: =Shelter_AllGroups_sorted!$BB64 -> Size
A48: =Shelter_AllGroups_sorted!$AF65 -> Multiple spaces | B48: =Shelter_AllGroups_sorted!$AH65 -> Size | C48: =Shelter_AllGroups_sorted!$AJ65 -> Size | D48: =Shelter_AllGroups_sorted!$AL65 -> Size | E48: =Shelter_AllGroups_sorted!$AN65 -> Multiple spaces | F48: =Shelter_AllGroups_sorted!$AP65 -> Size | G48: =Shelter_AllGroups_sorted!$AR65 -> Multiple spaces | H48: =Shelter_AllGroups_sorted!$AT65 -> Size | I48: =Shelter_AllGroups_sorted!$AV65 -> Size | J48: =Shelter_AllGroups_sorted!$AX65 -> Size | K48: =Shelter_AllGroups_sorted!$AZ65 -> Size | L48: =Shelter_AllGroups_sorted!$BB65 -> Multiple spaces

Sheet HubWeightsSectorExperience
A1: Table 3a Weights for all different subgroups for the distribution hub based on sector and experience of participants. Colours in this table vary from red to yellow depending on the weight values within each subgroup.
A2: The colours grade from red through orange and yellow to denote high values down to low values of weights.
B3: All participants | C3: Academia | D3: Non Academia | E3: NGO | F3: Non NGO | G3: Experience in the Philippines | H3: Some experience in the Philippines | I3: No experience in the Philippines | J3: Experience and some experience in the Philippines | K3: Any experience with hubs | L3: No experience with hubs | M3: Practical experience with hubs | N3: No practical experience with hubs
A4: Main criteria
A5: Hazard at location | B5: 0.23998457 | C5: 0.24531504 | D5: 0.22460701 | E5: 0.2614514 | F5: 0.22986478 | G5: 0.27218336 | H5: 0.2197705 | I5: 0.22447737 | J5: 0.24803134 | K5: 0.23851922 | L5: 0.24185253 | M5: 0.24609621 | N5: 0.2334538
A6: Physical Vulnerability | B6: 0.22134204 | C6: 0.21520837 | D6: 0.23736065 | E6: 0.20303837 | F6: 0.22872152 | G6: 0.17008688 | H6: 0.24029176 | I6: 0.25686394 | J6: 0.20190671 | K6: 0.20936403 | L6: 0.24021063 | M6: 0.20637641 | N6: 0.23688574
A7: Accessibility | B7: 0.21899004 | C7: 0.22880884 | D7: 0.19267046 | E7: 0.182117 | F7: 0.23589406 | G7: 0.20252054 | H7: 0.22597775 | I7: 0.22361205 | J7: 0.21509048 | K7: 0.219926 | L7: 0.21696556 | M7: 0.21565195 | N7: 0.22186016
A8: Communications | B8: 0.16685964 | C8: 0.15693373 | D8: 0.19615294 | E8: 0.20010717 | F8: 0.15353121 | G8: 0.15218051 | H8: 0.17440663 | I8: 0.17083821 | J8: 0.16363512 | K8: 0.17476051 | L8: 0.15529521 | M8: 0.16512527 | N8: 0.16813338
A9: Working Environment | B9: 0.1528237 | C9: 0.15373402 | D9: 0.14920894 | E9: 0.15328606 | F9: 0.15198842 | G9: 0.2030287 | H9: 0.13955337 | I9: 0.12420844 | J9: 0.17133635 | K9: 0.15743025 | L9: 0.14567607 | M9: 0.16675016 | N9: 0.13966692
A10: Subcriteria with respect to Accessibility
A11: Transport options-receivers | B11: 0.26951434 | C11: 0.26284011 | D11: 0.27792766 | E11: 0.29792077 | F11: 0.25714353 | G11: 0.2617582 | H11: 0.25851482 | I11: 0.28153685 | J11: 0.26221567 | K11: 0.25718578 | L11: 0.28759923 | M11: 0.28195267 | N11: 0.25734981
A12: Transport options-suppliers | B12: 0.24270972 | C12: 0.21366533 | D12: 0.33175677 | E12: 0.26959195 | F12: 0.23122338 | G12: 0.19599945 | H12: 0.27209533 | I12: 0.26433575 | J12: 0.23047239 | K12: 0.23523589 | L12: 0.25293758 | M12: 0.24184435 | N12: 0.24319759
A13: Immediate availability | B13: 0.28795408 | C13: 0.31996334 | D13: 0.20746274 | E13: 0.25394454 | F13: 0.30265682 | G13: 0.35014692 | H13: 0.2559941 | I13: 0.26109171 | J13: 0.30392176 | K13: 0.31312054 | L13: 0.25238027 | M13: 0.2888607 | N13: 0.28653687
A14: Easy to find | B14: 0.19982186 | C14: 0.20353122 | D14: 0.18285283 | E14: 0.17854275 | F14: 0.20897626 | G14: 0.19209542 | H14: 0.21339574 | I14: 0.19303569 | J14: 0.20339019 | K14: 0.1944578 | L14: 0.20708292 | M14: 0.18734229 | N14: 0.21291572
A15: Subcriteria with respect to Working Environment
A16: Utilities | B16: 0.21220909 | C16: 0.20835019 | D16: 0.22259433 | E16: 0.20599267 | F16: 0.21397971 | G16: 0.17629332 | H16: 0.21720344 | I16: 0.24310119 | J16: 0.19562503 | K16: 0.18673625 | L16: 0.25349831 | M16: 0.18254506 | N16: 0.2447742
A17: Space | B17: 0.19827903 | C17: 0.20170358 | D17: 0.18852983 | E17: 0.18382268 | F17: 0.2039792 | G17: 0.22516247 | H17: 0.18044639 | I17: 0.18783778 | J17: 0.20392967 | K17: 0.21149719 | L17: 0.17726744 | M17: 0.20783181 | N17: 0.1879242
A18: Security | B18: 0.25247263 | C18: 0.25145147 | D18: 0.25462801 | E18: 0.2431998 | F18: 0.25533825 | G18: 0.24822035 | H18: 0.25421433 | I18: 0.25187107 | J18: 0.25203441 | K18: 0.27322348 | L18: 0.22036419 | M18: 0.26370328 | N18: 0.23973927
A19: Health & Safety | B19: 0.17894127 | C19: 0.18581354 | D19: 0.16084263 | E19: 0.22450849 | F19: 0.16190977 | G19: 0.20890711 | H19: 0.1660003 | I19: 0.16328314 | J19: 0.18824623 | K19: 0.18793261 | L19: 0.16347237 | M19: 0.19646095 | N19: 0.16167085
A20: Food & drink | B20: 0.15809797 | C20: 0.15268121 | D20: 0.1734052 | E20: 0.14247637 | F20: 0.16479307 | G20: 0.14141675 | H20: 0.18213554 | I20: 0.15390681 | J20: 0.16016466 | K20: 0.14061047 | L20: 0.18539769 | M20: 0.14945891 | N20: 0.16589147
A21: Subcriteria with respect to Utilities
A22: Sanitation | B22: 0.34704959 | C22: 0.34356196 | D22: 0.354988 | E22: 0.37310498 | F22: 0.3361246 | G22: 0.36062188 | H22: 0.31815057 | I22: 0.35678322 | J22: 0.34127231 | K22: 0.3632765 | L22: 0.32057643 | M22: 0.37750354 | N22: 0.31714472
A23: Heating/Cooling | B23: 0.19655908 | C23: 0.20022784 | D23: 0.18603096 | E23: 0.1933047 | F23: 0.19773007 | G23: 0.2031656 | H23: 0.19473906 | I23: 0.19063332 | J23: 0.19987007 | K23: 0.17009208 | L23: 0.24158515 | M23: 0.17113896 | N23: 0.22443814
A24: Refuse | B24: 0.20433315 | C24: 0.21374583 | D24: 0.17976326 | E24: 0.19046151 | F24: 0.21041361 | G24: 0.1809487 | H24: 0.25211826 | I24: 0.19063332 | J24: 0.21253704 | K24: 0.21876514 | L24: 0.18229743 | M24: 0.20146989 | N24: 0.20581605
A25: Power | B25: 0.25205818 | C25: 0.24246437 | D25: 0.27921778 | E25: 0.24312881 | F25: 0.25573172 | G25: 0.25526381 | H25: 0.23499212 | I25: 0.26195013 | J25: 0.24632058 | K25: 0.24786628 | L25: 0.25554099 | M25: 0.24988761 | N25: 0.25260108
A26: Subcriteria with respect to Space
A27: Original building function | B27: 0.20883143 | C27: 0.23575334 | D27: 0.14589441 | E27: 0.18931787 | F27: 0.21767855 | G27: 0.30846567 | H27: 0.1672245 | I27: 0.1685726 | J27: 0.23512833 | K27: 0.23856145 | L27: 0.16911833 | M27: 0.26167868 | N27: 0.16420348
A28: Trasport storage | B28: 0.24 | C28: 0.2483147 | D28: 0.23297994 | E28: 0.24660676 | F28: 0.24520972 | G28: 0.24180892 | H28: 0.21724115 | I28: 0.26483731 | J28: 0.23402587 | K28: 0.22325491 | L28: 0.28065317 | M28: 0.22099596 | N28: 0.26927294
A29: Storage of supplies | B29: 0.34914377 | C29: 0.33184645 | D29: 0.39237786 | E29: 0.35351441 | F29: 0.34683694 | G29: 0.30287266 | H29: 0.39521374 | I29: 0.34386329 | J29: 0.34965887 | K29: 0.34333556 | L29: 0.3540456 | M29: 0.32964671 | N29: 0.36433004
A30: Inventory recording | B30: 0.19627538 | C30: 0.18408551 | D30: 0.22874779 | E30: 0.21056096 | F30: 0.19027479 | G30: 0.14685276 | H30: 0.22032061 | I30: 0.2227268 | J30: 0.18118694 | K30: 0.19484808 | L30: 0.1961829 | M30: 0.18767865 | N30: 0.20219354
A31: Subcriteria with respect to Security
A32: Personal security | B32: 0.53906919 | C32: 0.51606793 | D32: 0.60119021 | E32: 0.69169259 | F32: 0.4693893 | G32: 0.47883022 | H32: 0.59509818 | I32: 0.5471198 | J32: 0.53439871 | K32: 0.58190323 | L32: 0.47392445 | M32: 0.58673875 | N32: 0.49067415
A33: Stuff security | B33: 0.46093081 | C33: 0.48393207 | D33: 0.39880979 | E33: 0.30830741 | F33: 0.5306107 | G33: 0.52116978 | H33: 0.40490182 | I33: 0.4528802 | J33: 0.46560129 | K33: 0.41809677 | L33: 0.52607555 | M33: 0.41326125 | N33: 0.50932585
A34: Subcriteria with respect to Food & drink
A35: Drinking water | B35: 0.61763918 | C35: 0.60979425 | D35: 0.63888858 | E35: 0.69321972 | F35: 0.58314047 | G35: 0.59558923 | H35: 0.62413808 | I35: 0.63203746 | J35: 0.60920609 | K35: 0.60434197 | L35: 0.63725376 | M35: 0.59138129 | N35: 0.64322768
A36: Food | B36: 0.38236082 | C36: 0.39020575 | D36: 0.36111142 | E36: 0.30678028 | F36: 0.41685953 | G36: 0.40441077 | H36: 0.37586192 | I36: 0.36796254 | J36: 0.39079391 | K36: 0.39565803 | L36: 0.36274624 | M36: 0.40861871 | N36: 0.35677232

Sheet HubWeightsBackground
A1: Table 3b Weights for all different subgroups for the distribution hub based on background of participants. Colours in this table vary from red to yellow depending on the weight values within each subgroup.
A2: The colours grade from red through orange and yellow to denote high values down to low values of weights.
B3: Engineering | C3: Non Engineering | D3: Social Sciences | E3: Non Social Sciences | F3: Physical Sciences | G3: Non Physical Sciences | H3: Natural hazards | I3: Non Natural hazards | J3: Disaster management | K3: Non Disaster management | L3: Other disciplines | M3: Non other disciplines
B4: Main criteria
A5: Hazard at location | B5: 0.24245632 | C5: 0.23634301 | D5: 0.21086832 | E5: 0.24905573 | F5: 0.19998303 | G5: 0.25153561 | H5: 0.2383964 | I5: 0.23986417 | J5: 0.25565888 | K5: 0.1516166 | L5: 0.28027648 | M5: 0.22377198
A6: Physical Vulnerability | B6: 0.22652502 | C6: 0.21543339 | D6: 0.2378514 | E6: 0.21619161 | F6: 0.25954212 | G6: 0.20909633 | H6: 0.23904152 | I6: 0.20173061 | J6: 0.21498088 | K6: 0.25498772 | L6: 0.19175641 | M6: 0.23460427
A7: Accessibility | B7: 0.22770894 | C7: 0.20895046 | D7: 0.22253132 | E7: 0.21755773 | F7: 0.25737497 | G7: 0.20676023 | H7: 0.2301293 | I7: 0.20565428 | J7: 0.21393422 | K7: 0.24306467 | L7: 0.20331381 | M7: 0.22520421
A8: Communications | B8: 0.15305653 | C8: 0.18360827 | D8: 0.18939104 | E8: 0.16023675 | F8: 0.1804669 | G8: 0.16155782 | H8: 0.15975762 | I8: 0.17410323 | J8: 0.17188386 | K8: 0.13124589 | L8: 0.17498702 | M8: 0.16286223
A9: Working Environment | B9: 0.15025319 | C9: 0.15566487 | D9: 0.13935791 | E9: 0.15695818 | F9: 0.10263298 | G9: 0.17105001 | H9: 0.13267516 | I9: 0.17864771 | J9: 0.14354216 | K9: 0.21908512 | L9: 0.14966627 | M9: 0.1535573
B10: Subcriteria with respect to Accessibility
A11: Transport options-receivers | B11: 0.28853191 | C11: 0.24823127 | D11: 0.26164471 | E11: 0.27145405 | F11: 0.29560175 | G11: 0.26093404 | H11: 0.276722 | I11: 0.2608336 | J11: 0.26221985 | K11: 0.31960943 | L11: 0.30191654 | M11: 0.25630944
A12: Transport options-suppliers | B12: 0.2456219 | C12: 0.23863773 | D12: 0.28298893 | E12: 0.23114768 | F12: 0.27054175 | G12: 0.23383909 | H12: 0.25405584 | I12: 0.22992889 | J12: 0.2467195 | K12: 0.21659063 | L12: 0.22610959 | M12: 0.24976047
A13: Immediate availability | B13: 0.2836797 | C13: 0.29185917 | D13: 0.28161872 | E13: 0.28928586 | F13: 0.22654188 | G13: 0.30846494 | H13: 0.2708271 | I13: 0.30825646 | J13: 0.29258104 | K13: 0.25660912 | L13: 0.28123439 | M13: 0.2904708
A14: Easy to find | B14: 0.18216649 | C14: 0.22127182 | D14: 0.17374763 | E14: 0.20811241 | F14: 0.20731462 | G14: 0.19676194 | H14: 0.19839506 | I14: 0.20098105 | J14: 0.19847962 | K14: 0.20719083 | L14: 0.19073948 | M14: 0.20345928
B15: Subcriteria with respect to Working Environment
A16: Utilities | B16: 0.22969873 | C16: 0.19247391 | D16: 0.22046807 | E16: 0.20940645 | F16: 0.23520161 | G16: 0.20452964 | H16: 0.2393618 | I16: 0.18383895 | J16: 0.21104263 | K16: 0.21195355 | L16: 0.18505331 | M16: 0.22216428
A17: Space | B17: 0.20849361 | C17: 0.1855347 | D17: 0.16895355 | E17: 0.20764889 | F17: 0.21024649 | G17: 0.1937419 | H17: 0.20195368 | I17: 0.19290717 | J17: 0.20955233 | K17: 0.1318275 | L17: 0.23569714 | M17: 0.1817618
A18: Security | B18: 0.22405041 | C18: 0.28685604 | D18: 0.27847195 | E18: 0.24447476 | F18: 0.26902832 | G18: 0.24632381 | H18: 0.23872647 | I18: 0.26717275 | J18: 0.25123935 | K18: 0.24870894 | L18: 0.24850547 | M18: 0.25115923
A19: Health & Safety | B19: 0.16764679 | C19: 0.19108952 | D19: 0.16556303 | E19: 0.18305829 | F19: 0.179811 | G19: 0.17770194 | H19: 0.16223996 | I19: 0.19879302 | J19: 0.18190384 | K19: 0.15546959 | L19: 0.22261391 | M19: 0.16094295
A20: Food & drink | B20: 0.17011045 | C20: 0.14404582 | D20: 0.1665434 | E20: 0.15541161 | F20: 0.10571259 | G20: 0.17770271 | H20: 0.15771808 | I20: 0.15728811 | J20: 0.14626185 | K20: 0.25204042 | L20: 0.10813017 | M20: 0.18397174
B21: Subcriteria with respect to Utilities
A22: Sanitation | B22: 0.34561678 | C22: 0.34745212 | D22: 0.36038284 | E22: 0.34235459 | F22: 0.31861974 | G22: 0.35495987 | H22: 0.34109465 | I22: 0.35133933 | J22: 0.33787512 | K22: 0.40878456 | L22: 0.35660478 | M22: 0.34289089
A23: Heating/Cooling | B23: 0.19080871 | C23: 0.20266356 | D23: 0.15740801 | E23: 0.20979087 | F23: 0.18327168 | G23: 0.20009637 | H23: 0.17345252 | I23: 0.2250891 | J23: 0.19692229 | K23: 0.19164203 | L23: 0.19345914 | M23: 0.19769429
A24: Refuse | B24: 0.18979166 | C24: 0.22139497 | D24: 0.21185546 | E24: 0.20163515 | F24: 0.26137503 | G24: 0.18891692 | H24: 0.20333282 | I24: 0.2037566 | J24: 0.20596582 | K24: 0.19164203 | L24: 0.18761581 | M24: 0.21187018
A25: Power | B25: 0.27378285 | C25: 0.22848936 | D25: 0.27035369 | E25: 0.24621939 | F25: 0.23673355 | G25: 0.25602683 | H25: 0.28212001 | I25: 0.21981497 | J25: 0.25923677 | K25: 0.20793139 | L25: 0.26232026 | M25: 0.24754464
B26: Subcriteria with respect to Space
A27: Original building function | B27: 0.20515194 | C27: 0.21134544 | D27: 0.19052401 | E27: 0.21412345 | F27: 0.14860786 | G27: 0.23013345 | H27: 0.1798911 | I27: 0.24399028 | J27: 0.18881227 | K27: 0.37380396 | L27: 0.22080356 | M27: 0.20276866
A28: Trasport storage | B28: 0.2756569 | C28: 0.21374077 | D28: 0.20996078 | E28: 0.25705011 | F28: 0.27120357 | G28: 0.23694012 | H28: 0.28527908 | I28: 0.2042054 | J28: 0.25538906 | K28: 0.17854651 | L28: 0.26198956 | M28: 0.23804673
A29: Storage of supplies | B29: 0.34719903 | C29: 0.34852322 | D29: 0.35825127 | E29: 0.34514003 | F29: 0.33874564 | G29: 0.34989188 | H29: 0.35677721 | I29: 0.33564183 | J29: 0.3571702 | K29: 0.27812179 | L29: 0.29262902 | M29: 0.37474054
A30: Inventory recording | B30: 0.17199213 | C30: 0.22639057 | D30: 0.24126395 | E30: 0.18368641 | F30: 0.24144292 | G30: 0.18303455 | H30: 0.1780526 | I30: 0.21616249 | J30: 0.19862847 | K30: 0.16952774 | L30: 0.22457786 | M30: 0.18444407
B31: Subcriteria with respect to Security
A32: Personal security | B32: 0.43842642 | C32: 0.64987233 | D32: 0.65158279 | E32: 0.50343313 | F32: 0.5 | G32: 0.55088711 | H32: 0.45539699 | I32: 0.63181375 | J32: 0.53843109 | K32: 0.54321362 | L32: 0.62245436 | M32: 0.50235796
A33: Stuff security | B33: 0.56157358 | C33: 0.35012767 | D33: 0.34841721 | E33: 0.49656687 | F33: 0.5 | G33: 0.44911289 | H33: 0.54460301 | I33: 0.36818625 | J33: 0.46156891 | K33: 0.45678638 | L33: 0.37754564 | M33: 0.49764204
B34: Subcriteria with respect to Food & drink
A35: Drinking water | B35: 0.58757149 | C35: 0.65092053 | D35: 0.63483799 | E35: 0.61234344 | F35: 0.6252591 | G35: 0.61530835 | H35: 0.60839685 | I35: 0.62809826 | J35: 0.63490437 | K35: 0.5 | L35: 0.6346462 | M35: 0.61025851
A36: Food | B36: 0.41242851 | C36: 0.34907947 | D36: 0.36516201 | E36: 0.38765656 | F36: 0.3747409 | G36: 0.38469165 | H36: 0.39160315 | I36: 0.37190174 | J36: 0.36509563 | K36: 0.5 | L36: 0.3653538 | M36: 0.38974149

Sheet HubRanksSectorExperience
A1: Table 4a Ranked factors (criteria) for the distribution hub based on sector and experience of participants.
A2: Colours in this table align with the criteria colours in Figures 3b and 4b in the manuscript with darker shades for subcriteria corresponding to higher rankings.
A3: All participants | B3: Academia | C3: Non Academia | D3: NGO | E3: Non NGO | F3: Experience in the Philippines | G3: Some experience in the Philippines | H3: No experience in the Philippines | I3: Experience and some experience in the Philippines | J3: Any experience with hubs | K3: No experience with hubs | L3: Practical experience with hubs | M3: Non practical experience with hubs
A4: Main criteria
A5: =Hub_AllGroups_sorted!$B4 -> Hazard | B5: =Hub_AllGroups_sorted!$D4 -> Hazard | C5: =Hub_AllGroups_sorted!$F4 -> Vulnerability | D5: =Hub_AllGroups_sorted!$H4 -> Hazard | E5: =Hub_AllGroups_sorted!$J4 -> Accessibility | F5: =Hub_AllGroups_sorted!$P4 -> Hazard | G5: =Hub_AllGroups_sorted!$R4 -> Vulnerability | H5: =Hub_AllGroups_sorted!$T4 -> Vulnerability | I5: =Hub_AllGroups_sorted!$V4 -> Hazard | J5: =Hub_AllGroups_sorted!$X4 -> Hazard | K5: =Hub_AllGroups_sorted!$Z4 -> Hazard | L5: =Hub_AllGroups_sorted!$AB4 -> Hazard | M5: =Hub_AllGroups_sorted!$AD4 -> Vulnerability
A6: =Hub_AllGroups_sorted!$B5 -> Vulnerability | B6: =Hub_AllGroups_sorted!$D5 -> Accessibility | C6: =Hub_AllGroups_sorted!$F5 -> Hazard | D6: =Hub_AllGroups_sorted!$H5 -> Vulnerability | E6: =Hub_AllGroups_sorted!$J5 -> Hazard | F6: =Hub_AllGroups_sorted!$P5 -> Working Environment | G6: =Hub_AllGroups_sorted!$R5 -> Accessibility | H6: =Hub_AllGroups_sorted!$T5 -> Hazard | I6: =Hub_AllGroups_sorted!$V5 -> Accessibility | J6: =Hub_AllGroups_sorted!$X5 -> Accessibility | K6: =Hub_AllGroups_sorted!$Z5 -> Vulnerability | L6: =Hub_AllGroups_sorted!$AB5 -> Accessibility | M6: =Hub_AllGroups_sorted!$AD5 -> Hazard
A7: =Hub_AllGroups_sorted!$B6 -> Accessibility | B7: =Hub_AllGroups_sorted!$D6 -> Vulnerability | C7: =Hub_AllGroups_sorted!$F6 -> Communications | D7: =Hub_AllGroups_sorted!$H6 -> Communications | E7: =Hub_AllGroups_sorted!$J6 -> Vulnerability | F7: =Hub_AllGroups_sorted!$P6 -> Accessibility | G7: =Hub_AllGroups_sorted!$R6 -> Hazard | H7: =Hub_AllGroups_sorted!$T6 -> Accessibility | I7: =Hub_AllGroups_sorted!$V6 -> Vulnerability | J7: =Hub_AllGroups_sorted!$X6 -> Vulnerability | K7: =Hub_AllGroups_sorted!$Z6 -> Accessibility | L7: =Hub_AllGroups_sorted!$AB6 -> Vulnerability | M7: =Hub_AllGroups_sorted!$AD6 -> Accessibility
A8: =Hub_AllGroups_sorted!$B7 -> Communications | B8: =Hub_AllGroups_sorted!$D7 -> Communications | C8: =Hub_AllGroups_sorted!$F7 -> Accessibility | D8: =Hub_AllGroups_sorted!$H7 -> Accessibility | E8: =Hub_AllGroups_sorted!$J7 -> Communications | F8: =Hub_AllGroups_sorted!$P7 -> Vulnerability | G8: =Hub_AllGroups_sorted!$R7 -> Communications | H8: =Hub_AllGroups_sorted!$T7 -> Communications | I8: =Hub_AllGroups_sorted!$V7 -> Working Environment | J8: =Hub_AllGroups_sorted!$X7 -> Communications | K8: =Hub_AllGroups_sorted!$Z7 -> Communications | L8: =Hub_AllGroups_sorted!$AB7 -> Working Environment | M8: =Hub_AllGroups_sorted!$AD7 -> Communications
A9: =Hub_AllGroups_sorted!$B8 -> Working Environment | B9: =Hub_AllGroups_sorted!$D8 -> Working Environment | C9: =Hub_AllGroups_sorted!$F8 -> Working Environment | D9: =Hub_AllGroups_sorted!$H8 -> Working Environment | E9: =Hub_AllGroups_sorted!$J8 -> Working Environment | F9: =Hub_AllGroups_sorted!$P8 -> Communications | G9: =Hub_AllGroups_sorted!$R8 -> Working Environment | H9: =Hub_AllGroups_sorted!$T8 -> Working Environment | I9: =Hub_AllGroups_sorted!$V8 -> Communications | J9: =Hub_AllGroups_sorted!$X8 -> Working Environment | K9: =Hub_AllGroups_sorted!$Z8 -> Working Environment | L9: =Hub_AllGroups_sorted!$AB8 -> Communications | M9: =Hub_AllGroups_sorted!$AD8 -> Working Environment
A10: Subcriteria with respect to Accessibility
A11: =Hub_AllGroups_sorted!$B12 -> Immediate availability | B11: =Hub_AllGroups_sorted!$D12 -> Immediate availability | C11: =Hub_AllGroups_sorted!$F12 -> Transport options-suppliers | D11: =Hub_AllGroups_sorted!$H12 -> Transport options-receivers | E11: =Hub_AllGroups_sorted!$J12 -> Immediate availability | F11: =Hub_AllGroups_sorted!$P12 -> Immediate availability | G11: =Hub_AllGroups_sorted!$R12 -> Transport options-suppliers | H11: =Hub_AllGroups_sorted!$T12 -> Transport options-receivers | I11: =Hub_AllGroups_sorted!$V12 -> Immediate availability | J11: =Hub_AllGroups_sorted!$X12 -> Immediate availability | K11: =Hub_AllGroups_sorted!$Z12 -> Transport options-receivers | L11: =Hub_AllGroups_sorted!$AB12 -> Immediate availability | M11: =Hub_AllGroups_sorted!$AD12 -> Immediate availability
A12: =Hub_AllGroups_sorted!$B13 -> Transport options-receivers | B12: =Hub_AllGroups_sorted!$D13 -> Transport options-receivers | C12: =Hub_AllGroups_sorted!$F13 -> Transport options-receivers | D12: =Hub_AllGroups_sorted!$H13 -> Transport options-suppliers | E12: =Hub_AllGroups_sorted!$J13 -> Transport options-receivers | F12: =Hub_AllGroups_sorted!$P13 -> Transport options-receivers | G12: =Hub_AllGroups_sorted!$R13 -> Transport options-receivers | H12: =Hub_AllGroups_sorted!$T13 -> Transport options-suppliers | I12: =Hub_AllGroups_sorted!$V13 -> Transport options-receivers | J12: =Hub_AllGroups_sorted!$X13 -> Transport options-receivers | K12: =Hub_AllGroups_sorted!$Z13 -> Transport options-suppliers | L12: =Hub_AllGroups_sorted!$AB13 -> Transport options-receivers | M12: =Hub_AllGroups_sorted!$AD13 -> Transport options-receivers
A13: =Hub_AllGroups_sorted!$B14 -> Transport options-suppliers | B13: =Hub_AllGroups_sorted!$D14 -> Transport options-suppliers | C13: =Hub_AllGroups_sorted!$F14 -> Immediate availability | D13: =Hub_AllGroups_sorted!$H14 -> Immediate availability | E13: =Hub_AllGroups_sorted!$J14 -> Transport options-suppliers | F13: =Hub_AllGroups_sorted!$P14 -> Transport options-suppliers | G13: =Hub_AllGroups_sorted!$R14 -> Immediate availability | H13: =Hub_AllGroups_sorted!$T14 -> Immediate availability | I13: =Hub_AllGroups_sorted!$V14 -> Transport options-suppliers | J13: =Hub_AllGroups_sorted!$X14 -> Transport options-suppliers | K13: =Hub_AllGroups_sorted!$Z14 -> Immediate availability | L13: =Hub_AllGroups_sorted!$AB14 -> Transport options-suppliers | M13: =Hub_AllGroups_sorted!$AD14 -> Transport options-suppliers
A14: =Hub_AllGroups_sorted!$B15 -> Easy to find | B14: =Hub_AllGroups_sorted!$D15 -> Easy to find | C14: =Hub_AllGroups_sorted!$F15 -> Easy to find | D14: =Hub_AllGroups_sorted!$H15 -> Easy to find | E14: =Hub_AllGroups_sorted!$J15 -> Easy to find | F14: =Hub_AllGroups_sorted!$P15 -> Easy to find | G14: =Hub_AllGroups_sorted!$R15 -> Easy to find | H14: =Hub_AllGroups_sorted!$T15 -> Easy to find | I14: =Hub_AllGroups_sorted!$V15 -> Easy to find | J14: =Hub_AllGroups_sorted!$X15 -> Easy to find | K14: =Hub_AllGroups_sorted!$Z15 -> Easy to find | L14: =Hub_AllGroups_sorted!$AB15 -> Easy to find | M14: =Hub_AllGroups_sorted!$AD15 -> Easy to find
A15: Subcriteria with respect to Working Environment
A16: =Hub_AllGroups_sorted!$B19 -> Security | B16: =Hub_AllGroups_sorted!$D19 -> Security | C16: =Hub_AllGroups_sorted!$F19 -> Security | D16: =Hub_AllGroups_sorted!$H19 -> Security | E16: =Hub_AllGroups_sorted!$J19 -> Security | F16: =Hub_AllGroups_sorted!$P19 -> Security | G16: =Hub_AllGroups_sorted!$R19 -> Security | H16: =Hub_AllGroups_sorted!$T19 -> Security | I16: =Hub_AllGroups_sorted!$V19 -> Security | J16: =Hub_AllGroups_sorted!$X19 -> Security | K16: =Hub_AllGroups_sorted!$Z19 -> Utilities | L16: =Hub_AllGroups_sorted!$AB19 -> Security | M16: =Hub_AllGroups_sorted!$AD19 -> Utilities
A17: =Hub_AllGroups_sorted!$B20 -> Utilities | B17: =Hub_AllGroups_sorted!$D20 -> Utilities | C17: =Hub_AllGroups_sorted!$F20 -> Utilities | D17: =Hub_AllGroups_sorted!$H20 -> Health & Safety | E17: =Hub_AllGroups_sorted!$J20 -> Utilities | F17: =Hub_AllGroups_sorted!$P20 -> Space | G17: =Hub_AllGroups_sorted!$R20 -> Utilities | H17: =Hub_AllGroups_sorted!$T20 -> Utilities | I17: =Hub_AllGroups_sorted!$V20 -> Space | J17: =Hub_AllGroups_sorted!$X20 -> Space | K17: =Hub_AllGroups_sorted!$Z20 -> Security | L17: =Hub_AllGroups_sorted!$AB20 -> Space | M17: =Hub_AllGroups_sorted!$AD20 -> Security
A18: =Hub_AllGroups_sorted!$B21 -> Space | B18: =Hub_AllGroups_sorted!$D21 -> Space | C18: =Hub_AllGroups_sorted!$F21 -> Space | D18: =Hub_AllGroups_sorted!$H21 -> Utilities | E18: =Hub_AllGroups_sorted!$J21 -> Space | F18: =Hub_AllGroups_sorted!$P21 -> Health & Safety | G18: =Hub_AllGroups_sorted!$R21 -> Food & drink | H18: =Hub_AllGroups_sorted!$T21 -> Space | I18: =Hub_AllGroups_sorted!$V21 -> Utilities | J18: =Hub_AllGroups_sorted!$X21 -> Health & Safety | K18: =Hub_AllGroups_sorted!$Z21 -> Food & drink | L18: =Hub_AllGroups_sorted!$AB21 -> Health & Safety | M18: =Hub_AllGroups_sorted!$AD21 -> Space
A19: =Hub_AllGroups_sorted!$B22 -> Health & Safety | B19: =Hub_AllGroups_sorted!$D22 -> Health & Safety | C19: =Hub_AllGroups_sorted!$F22 -> Food & drink | D19: =Hub_AllGroups_sorted!$H22 -> Space | E19: =Hub_AllGroups_sorted!$J22 -> Food & drink | F19: =Hub_AllGroups_sorted!$P22 -> Utilities | G19: =Hub_AllGroups_sorted!$R22 -> Space | H19: =Hub_AllGroups_sorted!$T22 -> Health & Safety | I19: =Hub_AllGroups_sorted!$V22 -> Health & Safety | J19: =Hub_AllGroups_sorted!$X22 -> Utilities | K19: =Hub_AllGroups_sorted!$Z22 -> Space | L19: =Hub_AllGroups_sorted!$AB22 -> Utilities | M19: =Hub_AllGroups_sorted!$AD22 -> Food & drink
A20: =Hub_AllGroups_sorted!$B23 -> Food & drink | B20: =Hub_AllGroups_sorted!$D23 -> Food & drink | C20: =Hub_AllGroups_sorted!$F23 -> Health & Safety | D20: =Hub_AllGroups_sorted!$H23 -> Food & drink | E20: =Hub_AllGroups_sorted!$J23 -> Health & Safety | F20: =Hub_AllGroups_sorted!$P23 -> Food & drink | G20: =Hub_AllGroups_sorted!$R23 -> Health & Safety | H20: =Hub_AllGroups_sorted!$T23 -> Food & drink | I20: =Hub_AllGroups_sorted!$V23 -> Food & drink | J20: =Hub_AllGroups_sorted!$X23 -> Food & drink | K20: =Hub_AllGroups_sorted!$Z23 -> Health & Safety | L20: =Hub_AllGroups_sorted!$AB23 -> Food & drink | M20: =Hub_AllGroups_sorted!$AD23 -> Health & Safety
A21: Subcriteria with respect to Utilities
A22: =Hub_AllGroups_sorted!$B27 -> Sanitation | B22: =Hub_AllGroups_sorted!$D27 -> Sanitation | C22: =Hub_AllGroups_sorted!$F27 -> Sanitation | D22: =Hub_AllGroups_sorted!$H27 -> Sanitation | E22: =Hub_AllGroups_sorted!$J27 -> Sanitation | F22: =Hub_AllGroups_sorted!$P27 -> Sanitation | G22: =Hub_AllGroups_sorted!$R27 -> Sanitation | H22: =Hub_AllGroups_sorted!$T27 -> Sanitation | I22: =Hub_AllGroups_sorted!$V27 -> Sanitation | J22: =Hub_AllGroups_sorted!$X27 -> Sanitation | K22: =Hub_AllGroups_sorted!$Z27 -> Sanitation | L22: =Hub_AllGroups_sorted!$AB27 -> Sanitation | M22: =Hub_AllGroups_sorted!$AD27 -> Sanitation
A23: =Hub_AllGroups_sorted!$B28 -> Power | B23: =Hub_AllGroups_sorted!$D28 -> Power | C23: =Hub_AllGroups_sorted!$F28 -> Power | D23: =Hub_AllGroups_sorted!$H28 -> Power | E23: =Hub_AllGroups_sorted!$J28 -> Power | F23: =Hub_AllGroups_sorted!$P28 -> Power | G23: =Hub_AllGroups_sorted!$R28 -> Refuse | H23: =Hub_AllGroups_sorted!$T28 -> Power | I23: =Hub_AllGroups_sorted!$V28 -> Power | J23: =Hub_AllGroups_sorted!$X28 -> Power | K23: =Hub_AllGroups_sorted!$Z28 -> Power | L23: =Hub_AllGroups_sorted!$AB28 -> Power | M23: =Hub_AllGroups_sorted!$AD28 -> Power
A24: =Hub_AllGroups_sorted!$B29 -> Refuse | B24: =Hub_AllGroups_sorted!$D29 -> Refuse | C24: =Hub_AllGroups_sorted!$F29 -> Heating/Cooling | D24: =Hub_AllGroups_sorted!$H29 -> Heating/Cooling | E24: =Hub_AllGroups_sorted!$J29 -> Refuse | F24: =Hub_AllGroups_sorted!$P29 -> Heating/Cooling | G24: =Hub_AllGroups_sorted!$R29 -> Power | H24: =Hub_AllGroups_sorted!$T29 -> Heating/Cooling | I24: =Hub_AllGroups_sorted!$V29 -> Refuse | J24: =Hub_AllGroups_sorted!$X29 -> Refuse | K24: =Hub_AllGroups_sorted!$Z29 -> Heating/Cooling | L24: =Hub_AllGroups_sorted!$AB29 -> Refuse | M24: =Hub_AllGroups_sorted!$AD29 -> Heating/Cooling
A25: =Hub_AllGroups_sorted!$B30 -> Heating/Cooling | B25: =Hub_AllGroups_sorted!$D30 -> Heating/Cooling | C25: =Hub_AllGroups_sorted!$F30 -> Refuse | D25: =Hub_AllGroups_sorted!$H30 -> Refuse | E25: =Hub_AllGroups_sorted!$J30 -> Heating/Cooling | F25: =Hub_AllGroups_sorted!$P30 -> Refuse | G25: =Hub_AllGroups_sorted!$R30 -> Heating/Cooling | H25: =Hub_AllGroups_sorted!$T30 -> Refuse | I25: =Hub_AllGroups_sorted!$V30 -> Heating/Cooling | J25: =Hub_AllGroups_sorted!$X30 -> Heating/Cooling | K25: =Hub_AllGroups_sorted!$Z30 -> Refuse | L25: =Hub_AllGroups_sorted!$AB30 -> Heating/Cooling | M25: =Hub_AllGroups_sorted!$AD30 -> Refuse
A26: Subcriteria with respect to Space
A27: =Hub_AllGroups_sorted!$B34 -> Storage of supplies | B27: =Hub_AllGroups_sorted!$D34 -> Storage of supplies | C27: =Hub_AllGroups_sorted!$F34 -> Storage of supplies | D27: =Hub_AllGroups_sorted!$H34 -> Storage of supplies | E27: =Hub_AllGroups_sorted!$J34 -> Storage of supplies | F27: =Hub_AllGroups_sorted!$P34 -> Original building function | G27: =Hub_AllGroups_sorted!$R34 -> Storage of supplies | H27: =Hub_AllGroups_sorted!$T34 -> Storage of supplies | I27: =Hub_AllGroups_sorted!$V34 -> Storage of supplies | J27: =Hub_AllGroups_sorted!$X34 -> Storage of supplies | K27: =Hub_AllGroups_sorted!$Z34 -> Storage of supplies | L27: =Hub_AllGroups_sorted!$AB34 -> Storage of supplies | M27: =Hub_AllGroups_sorted!$AD34 -> Storage of supplies
A28: =Hub_AllGroups_sorted!$B35 -> Transport storage | B28: =Hub_AllGroups_sorted!$D35 -> Transport storage | C28: =Hub_AllGroups_sorted!$F35 -> Transport storage | D28: =Hub_AllGroups_sorted!$H35 -> Transport storage | E28: =Hub_AllGroups_sorted!$J35 -> Transport storage | F28: =Hub_AllGroups_sorted!$P35 -> Storage of supplies | G28: =Hub_AllGroups_sorted!$R35 -> Inventory recording | H28: =Hub_AllGroups_sorted!$T35 -> Transport storage | I28: =Hub_AllGroups_sorted!$V35 -> Original building function | J28: =Hub_AllGroups_sorted!$X35 -> Original building function | K28: =Hub_AllGroups_sorted!$Z35 -> Transport storage | L28: =Hub_AllGroups_sorted!$AB35 -> Original building function | M28: =Hub_AllGroups_sorted!$AD35 -> Transport storage
A29: =Hub_AllGroups_sorted!$B36 -> Original building function | B29: =Hub_AllGroups_sorted!$D36 -> Original building function | C29: =Hub_AllGroups_sorted!$F36 -> Inventory recording | D29: =Hub_AllGroups_sorted!$H36 -> Inventory recording | E29: =Hub_AllGroups_sorted!$J36 -> Original building function | F29: =Hub_AllGroups_sorted!$P36 -> Transport storage | G29: =Hub_AllGroups_sorted!$R36 -> Transport storage | H29: =Hub_AllGroups_sorted!$T36 -> Inventory recording | I29: =Hub_AllGroups_sorted!$V36 -> Transport storage | J29: =Hub_AllGroups_sorted!$X36 -> Transport storage | K29: =Hub_AllGroups_sorted!$Z36 -> Inventory recording | L29: =Hub_AllGroups_sorted!$AB36 -> Transport storage | M29: =Hub_AllGroups_sorted!$AD36 -> Inventory recording
A30: =Hub_AllGroups_sorted!$B37 -> Inventory recording | B30: =Hub_AllGroups_sorted!$D37 -> Inventory recording | C30: =Hub_AllGroups_sorted!$F37 -> Original building function | D30: =Hub_AllGroups_sorted!$H37 -> Original building function | E30: =Hub_AllGroups_sorted!$J37 -> Inventory recording | F30: =Hub_AllGroups_sorted!$P37 -> Inventory recording | G30: =Hub_AllGroups_sorted!$R37 -> Original building function | H30: =Hub_AllGroups_sorted!$T37 -> Original building function | I30: =Hub_AllGroups_sorted!$V37 -> Inventory recording | J30: =Hub_AllGroups_sorted!$X37 -> Inventory recording | K30: =Hub_AllGroups_sorted!$Z37 -> Original building function | L30: =Hub_AllGroups_sorted!$AB37 -> Inventory recording | M30: =Hub_AllGroups_sorted!$AD37 -> Original building function
A31: Subcriteria with respect to Security
A32: =Hub_AllGroups_sorted!$B41 -> Personal security | B32: =Hub_AllGroups_sorted!$D41 -> Personal security | C32: =Hub_AllGroups_sorted!$F41 -> Personal security | D32: =Hub_AllGroups_sorted!$H41 -> Personal security | E32: =Hub_AllGroups_sorted!$J41 -> Stuff security | F32: =Hub_AllGroups_sorted!$P41 -> Stuff security | G32: =Hub_AllGroups_sorted!$R41 -> Personal security | H32: =Hub_AllGroups_sorted!$T41 -> Personal security | I32: =Hub_AllGroups_sorted!$V41 -> Personal security | J32: =Hub_AllGroups_sorted!$X41 -> Personal security | K32: =Hub_AllGroups_sorted!$Z41 -> Stuff security | L32: =Hub_AllGroups_sorted!$AB41 -> Personal security | M32: =Hub_AllGroups_sorted!$AD41 -> Stuff security
A33: =Hub_AllGroups_sorted!$B42 -> Stuff security | B33: =Hub_AllGroups_sorted!$D42 -> Stuff security | C33: =Hub_AllGroups_sorted!$F42 -> Stuff security | D33: =Hub_AllGroups_sorted!$H42 -> Stuff security | E33: =Hub_AllGroups_sorted!$J42 -> Personal security | F33: =Hub_AllGroups_sorted!$P42 -> Personal security | G33: =Hub_AllGroups_sorted!$R42 -> Stuff security | H33: =Hub_AllGroups_sorted!$T42 -> Stuff security | I33: =Hub_AllGroups_sorted!$V42 -> Stuff security | J33: =Hub_AllGroups_sorted!$X42 -> Stuff security | K33: =Hub_AllGroups_sorted!$Z42 -> Personal security | L33: =Hub_AllGroups_sorted!$AB42 -> Stuff security | M33: =Hub_AllGroups_sorted!$AD42 -> Personal security
A34: Subcriteria with respect to Food & drink
A35: =Hub_AllGroups_sorted!$B46 -> Drinking water | B35: =Hub_AllGroups_sorted!$D46 -> Drinking water | C35: =Hub_AllGroups_sorted!$F46 -> Drinking water | D35: =Hub_AllGroups_sorted!$H46 -> Drinking water | E35: =Hub_AllGroups_sorted!$J46 -> Drinking water | F35: =Hub_AllGroups_sorted!$P46 -> Drinking water | G35: =Hub_AllGroups_sorted!$R46 -> Drinking water | H35: =Hub_AllGroups_sorted!$T46 -> Drinking water | I35: =Hub_AllGroups_sorted!$V46 -> Drinking water | J35: =Hub_AllGroups_sorted!$X46 -> Drinking water | K35: =Hub_AllGroups_sorted!$Z46 -> Drinking water | L35: =Hub_AllGroups_sorted!$AB46 -> Drinking water | M35: =Hub_AllGroups_sorted!$AD46 -> Drinking water
A36: =Hub_AllGroups_sorted!$B47 -> Food | B36: =Hub_AllGroups_sorted!$D47 -> Food | C36: =Hub_AllGroups_sorted!$F47 -> Food | D36: =Hub_AllGroups_sorted!$H47 -> Food | E36: =Hub_AllGroups_sorted!$J47 -> Food | F36: =Hub_AllGroups_sorted!$P47 -> Food | G36: =Hub_AllGroups_sorted!$R47 -> Food | H36: =Hub_AllGroups_sorted!$T47 -> Food | I36: =Hub_AllGroups_sorted!$V47 -> Food | J36: =Hub_AllGroups_sorted!$X47 -> Food | K36: =Hub_AllGroups_sorted!$Z47 -> Food | L36: =Hub_AllGroups_sorted!$AB47 -> Food | M36: =Hub_AllGroups_sorted!$AD47 -> Food

Sheet HubRanksBackground
A1: Table 4b Ranked factors (criteria) for the distribution hub based on background of participants.
A2: Colours in this table align with the criteria colours in Figures 3b and 4b in the manuscript with darker shades for subcriteria corresponding to higher rankings.
A3: Engineering | B3: Non Engineering | C3: Social Sciences | D3: Non Social Sciences | E3: Physical Sciences | F3: Non Physical Sciences | G3: Natural hazards | H3: Non Natural hazards | I3: Disaster management | J3: Non Disaster management | K3: Other disciplines | L3: Non other disciplines
A4: Main criteria
A5: =Hub_AllGroups_sorted!$AF4 -> Hazard | B5: =Hub_AllGroups_sorted!$AH4 -> Hazard | C5: =Hub_AllGroups_sorted!$AJ4 -> Vulnerability | D5: =Hub_AllGroups_sorted!$AL4 -> Hazard | E5: =Hub_AllGroups_sorted!$AN4 -> Vulnerability | F5: =Hub_AllGroups_sorted!$AP4 -> Hazard | G5: =Hub_AllGroups_sorted!$AR4 -> Vulnerability | H5: =Hub_AllGroups_sorted!$AT4 -> Hazard | I5: =Hub_AllGroups_sorted!$AV4 -> Hazard | J5: =Hub_AllGroups_sorted!$AX4 -> Vulnerability | K5: =Hub_AllGroups_sorted!$AZ4 -> Hazard | L5: =Hub_AllGroups_sorted!$BB4 -> Vulnerability
A6: =Hub_AllGroups_sorted!$AF5 -> Accessibility | B6: =Hub_AllGroups_sorted!$AH5 -> Vulnerability | C6: =Hub_AllGroups_sorted!$AJ5 -> Accessibility | D6: =Hub_AllGroups_sorted!$AL5 -> Accessibility | E6: =Hub_AllGroups_sorted!$AN5 -> Accessibility | F6: =Hub_AllGroups_sorted!$AP5 -> Vulnerability | G6: =Hub_AllGroups_sorted!$AR5 -> Hazard | H6: =Hub_AllGroups_sorted!$AT5 -> Accessibility | I6: =Hub_AllGroups_sorted!$AV5 -> Vulnerability | J6: =Hub_AllGroups_sorted!$AX5 -> Accessibility | K6: =Hub_AllGroups_sorted!$AZ5 -> Accessibility | L6: =Hub_AllGroups_sorted!$BB5 -> Accessibility
A7: =Hub_AllGroups_sorted!$AF6 -> Vulnerability | B7: =Hub_AllGroups_sorted!$AH6 -> Accessibility | C7: =Hub_AllGroups_sorted!$AJ6 -> Hazard | D7: =Hub_AllGroups_sorted!$AL6 -> Vulnerability | E7: =Hub_AllGroups_sorted!$AN6 -> Hazard | F7: =Hub_AllGroups_sorted!$AP6 -> Accessibility | G7: =Hub_AllGroups_sorted!$AR6 -> Accessibility | H7: =Hub_AllGroups_sorted!$AT6 -> Vulnerability | I7: =Hub_AllGroups_sorted!$AV6 -> Accessibility | J7: =Hub_AllGroups_sorted!$AX6 -> Working Environment | K7: =Hub_AllGroups_sorted!$AZ6 -> Vulnerability | L7: =Hub_AllGroups_sorted!$BB6 -> Hazard
A8: =Hub_AllGroups_sorted!$AF7 -> Communications | B8: =Hub_AllGroups_sorted!$AH7 -> Communications | C8: =Hub_AllGroups_sorted!$AJ7 -> Communications | D8: =Hub_AllGroups_sorted!$AL7 -> Communications | E8: =Hub_AllGroups_sorted!$AN7 -> Communications | F8: =Hub_AllGroups_sorted!$AP7 -> Working Environment | G8: =Hub_AllGroups_sorted!$AR7 -> Communications | H8: =Hub_AllGroups_sorted!$AT7 -> Working Environment | I8: =Hub_AllGroups_sorted!$AV7 -> Communications | J8: =Hub_AllGroups_sorted!$AX7 -> Hazard | K8: =Hub_AllGroups_sorted!$AZ7 -> Communications | L8: =Hub_AllGroups_sorted!$BB7 -> Communications
A9: =Hub_AllGroups_sorted!$AF8 -> Working Environment | B9: =Hub_AllGroups_sorted!$AH8 -> Working Environment | C9: =Hub_AllGroups_sorted!$AJ8 -> Working Environment | D9: =Hub_AllGroups_sorted!$AL8 -> Working Environment | E9: =Hub_AllGroups_sorted!$AN8 -> Working Environment | F9: =Hub_AllGroups_sorted!$AP8 -> Communications | G9: =Hub_AllGroups_sorted!$AR8 -> Working Environment | H9: =Hub_AllGroups_sorted!$AT8 -> Communications | I9: =Hub_AllGroups_sorted!$AV8 -> Working Environment | J9: =Hub_AllGroups_sorted!$AX8 -> Communications | K9: =Hub_AllGroups_sorted!$AZ8 -> Working Environment | L9: =Hub_AllGroups_sorted!$BB8 -> Working Environment
A10: Subcriteria with respect to Accessibility
A11: =Hub_AllGroups_sorted!$AF12 -> Transport options-receivers | B11: =Hub_AllGroups_sorted!$AH12 -> Immediate availability | C11: =Hub_AllGroups_sorted!$AJ12 -> Transport options-suppliers | D11: =Hub_AllGroups_sorted!$AL12 -> Immediate availability | E11: =Hub_AllGroups_sorted!$AN12 -> Transport options-receivers | F11: =Hub_AllGroups_sorted!$AP12 -> Immediate availability | G11: =Hub_AllGroups_sorted!$AR12 -> Transport options-receivers | H11: =Hub_AllGroups_sorted!$AT12 -> Immediate availability | I11: =Hub_AllGroups_sorted!$AV12 -> Immediate availability | J11: =Hub_AllGroups_sorted!$AX12 -> Transport options-receivers | K11: =Hub_AllGroups_sorted!$AZ12 -> Transport options-receivers | L11: =Hub_AllGroups_sorted!$BB12 -> Immediate availability
A12: =Hub_AllGroups_sorted!$AF13 -> Immediate availability | B12: =Hub_AllGroups_sorted!$AH13 -> Transport options-receivers | C12: =Hub_AllGroups_sorted!$AJ13 -> Immediate availability | D12: =Hub_AllGroups_sorted!$AL13 -> Transport options-receivers | E12: =Hub_AllGroups_sorted!$AN13 -> Transport options-suppliers | F12: =Hub_AllGroups_sorted!$AP13 -> Transport options-receivers | G12: =Hub_AllGroups_sorted!$AR13 -> Immediate availability | H12: =Hub_AllGroups_sorted!$AT13 -> Transport options-receivers | I12: =Hub_AllGroups_sorted!$AV13 -> Transport options-receivers | J12: =Hub_AllGroups_sorted!$AX13 -> Immediate availability | K12: =Hub_AllGroups_sorted!$AZ13 -> Immediate availability | L12: =Hub_AllGroups_sorted!$BB13 -> Transport options-receivers
A13: =Hub_AllGroups_sorted!$AF14 -> Transport options-suppliers | B13: =Hub_AllGroups_sorted!$AH14 -> Transport options-suppliers | C13: =Hub_AllGroups_sorted!$AJ14 -> Transport options-receivers | D13: =Hub_AllGroups_sorted!$AL14 -> Transport options-suppliers | E13: =Hub_AllGroups_sorted!$AN14 -> Immediate availability | F13: =Hub_AllGroups_sorted!$AP14 -> Transport options-suppliers | G13: =Hub_AllGroups_sorted!$AR14 -> Transport options-suppliers | H13: =Hub_AllGroups_sorted!$AT14 -> Transport options-suppliers | I13: =Hub_AllGroups_sorted!$AV14 -> Transport options-suppliers | J13: =Hub_AllGroups_sorted!$AX14 -> Transport options-suppliers | K13: =Hub_AllGroups_sorted!$AZ14 -> Transport options-suppliers | L13: =Hub_AllGroups_sorted!$BB14 -> Transport options-suppliers
A14: =Hub_AllGroups_sorted!$AF15 -> Easy to find | B14: =Hub_AllGroups_sorted!$AH15 -> Easy to find | C14: =Hub_AllGroups_sorted!$AJ15 -> Easy to find | D14: =Hub_AllGroups_sorted!$AL15 -> Easy to find | E14: =Hub_AllGroups_sorted!$AN15 -> Easy to find | F14: =Hub_AllGroups_sorted!$AP15 -> Easy to find | G14: =Hub_AllGroups_sorted!$AR15 -> Easy to find | H14: =Hub_AllGroups_sorted!$AT15 -> Easy to find | I14: =Hub_AllGroups_sorted!$AV15 -> Easy to find | J14: =Hub_AllGroups_sorted!$AX15 -> Easy to find | K14: =Hub_AllGroups_sorted!$AZ15 -> Easy to find | L14: =Hub_AllGroups_sorted!$BB15 -> Easy to find
A15: Subcriteria with respect to Working Environment
A16: =Hub_AllGroups_sorted!$AF19 -> Utilities | B16: =Hub_AllGroups_sorted!$AH19 -> Security | C16: =Hub_AllGroups_sorted!$AJ19 -> Security | D16: =Hub_AllGroups_sorted!$AL19 -> Security | E16: =Hub_AllGroups_sorted!$AN19 -> Security | F16: =Hub_AllGroups_sorted!$AP19 -> Security | G16: =Hub_AllGroups_sorted!$AR19 -> Utilities | H16: =Hub_AllGroups_sorted!$AT19 -> Security | I16: =Hub_AllGroups_sorted!$AV19 -> Security | J16: =Hub_AllGroups_sorted!$AX19 -> Food & drink | K16: =Hub_AllGroups_sorted!$AZ19 -> Security | L16: =Hub_AllGroups_sorted!$BB19 -> Security
A17: =Hub_AllGroups_sorted!$AF20 -> Security | B17: =Hub_AllGroups_sorted!$AH20 -> Utilities | C17: =Hub_AllGroups_sorted!$AJ20 -> Utilities | D17: =Hub_AllGroups_sorted!$AL20 -> Utilities | E17: =Hub_AllGroups_sorted!$AN20 -> Utilities | F17: =Hub_AllGroups_sorted!$AP20 -> Utilities | G17: =Hub_AllGroups_sorted!$AR20 -> Security | H17: =Hub_AllGroups_sorted!$AT20 -> Health & Safety | I17: =Hub_AllGroups_sorted!$AV20 -> Utilities | J17: =Hub_AllGroups_sorted!$AX20 -> Security | K17: =Hub_AllGroups_sorted!$AZ20 -> Space | L17: =Hub_AllGroups_sorted!$BB20 -> Utilities
A18: =Hub_AllGroups_sorted!$AF21 -> Space | B18: =Hub_AllGroups_sorted!$AH21 -> Health & Safety | C18: =Hub_AllGroups_sorted!$AJ21 -> Space | D18: =Hub_AllGroups_sorted!$AL21 -> Space | E18: =Hub_AllGroups_sorted!$AN21 -> Space | F18: =Hub_AllGroups_sorted!$AP21 -> Space | G18: =Hub_AllGroups_sorted!$AR21 -> Space | H18: =Hub_AllGroups_sorted!$AT21 -> Space | I18: =Hub_AllGroups_sorted!$AV21 -> Space | J18: =Hub_AllGroups_sorted!$AX21 -> Utilities | K18: =Hub_AllGroups_sorted!$AZ21 -> Health & Safety | L18: =Hub_AllGroups_sorted!$BB21 -> Food & drink
A19: =Hub_AllGroups_sorted!$AF22 -> Food & drink | B19: =Hub_AllGroups_sorted!$AH22 -> Space | C19: =Hub_AllGroups_sorted!$AJ22 -> Food & drink | D19: =Hub_AllGroups_sorted!$AL22 -> Health & Safety | E19: =Hub_AllGroups_sorted!$AN22 -> Health & Safety | F19: =Hub_AllGroups_sorted!$AP22 -> Food & drink | G19: =Hub_AllGroups_sorted!$AR22 -> Health & Safety | H19: =Hub_AllGroups_sorted!$AT22 -> Utilities | I19: =Hub_AllGroups_sorted!$AV22 -> Health & Safety | J19: =Hub_AllGroups_sorted!$AX22 -> Health & Safety | K19: =Hub_AllGroups_sorted!$AZ22 -> Utilities | L19: =Hub_AllGroups_sorted!$BB22 -> Space
