Workbook

Sheet All
B1: Shelter | J1: Hub
B2: Level 1S | J2: Level 1H
B3: 0.21756826 | C3: 0.24647524 | D3: 0.1543895 | E3: 0.13420757 | F3: 0.12388639 | G3: 0.12347304 | J3: 0.23998457 | K3: 0.22134204 | L3: 0.21899004 | M3: 0.16685964 | N3: 0.1528237
B5: Level 2S | J5: Level 2H
B6: 0.39437314 | C6: 0.35494186 | D6: 0.250685 | J6: 0.26951434 | K6: 0.24270972 | L6: 0.28795408 | M6: 0.19982186
B8: Level 3S | J8: Level 3H
B9: 0.29291267 | C9: 0.20226488 | D9: 0.22078011 | E9: 0.28404235 | J9: 0.21220909 | K9: 0.19827903 | L9: 0.25247263 | M9: 0.17894127 | N9: 0.15809797
B11: Level 4S | J11: Level 4H
B12: 0.40663322 | C12: 0.26670322 | D12: 0.2015994 | E12: 0.12506416 | J12: 0.34704959 | K12: 0.19655908 | L12: 0.20433315 | M12: 0.25205818
B14: Level 5S | J14: Level 5H
B15: 0.35795227 | C15: 0.20131593 | D15: 0.13125283 | E15: 0.14558783 | F15: 0.16389114 | J15: 0.20883143 | K15: 0.24574941 | L15: 0.34914377 | M15: 0.19627538
B17: Level 6S | J17: Level 6H
B18: 0.29539054 | C18: 0.46912656 | D18: 0.2354829 | J18: 0.53906919 | K18: 0.46093081
B20: Level 7S | J20: Level 7H
B21: 0.62340014 | C21: 0.37659986 | J21: 0.61763918 | K21: 0.38236082
B23: Level 8S
B24: 0.54495679 | C24: 0.29724049 | D24: 0.15780271
B26: Level 9S
B27: 0.45816608 | C27: 0.31821313 | D27: 0.22362079
B29: Level 10S
B30: 0.48615726 | C30: 0.51384274

Sheet Academia
B1: Shelter | J1: Hub
B2: Level 1S | J2: Level 1H
B3: 0.23089929 | C3: 0.24506107 | D3: 0.14832183 | E3: 0.11887319 | F3: 0.13798264 | G3: 0.11886198 | J3: 0.24531504 | K3: 0.21520837 | L3: 0.22880884 | M3: 0.15693373 | N3: 0.15373402
B5: Level 2S | J5: Level 2H
B6: 0.38927208 | C6: 0.36355423 | D6: 0.2471737 | J6: 0.26284011 | K6: 0.21366533 | L6: 0.31996334 | M6: 0.20353122
B8: Level 3S | J8: Level 3H
B9: 0.28065038 | C9: 0.20790136 | D9: 0.22064981 | E9: 0.29079845 | J9: 0.20835019 | K9: 0.20170358 | L9: 0.25145147 | M9: 0.18581354 | N9: 0.15268121
B11: Level 4S | J11: Level 4H
B12: 0.41426747 | C12: 0.25779865 | D12: 0.20104 | E12: 0.12689388 | J12: 0.34356196 | K12: 0.20022784 | L12: 0.21374583 | M12: 0.24246437
B14: Level 5S | J14: Level 5H
B15: 0.36348999 | C15: 0.20487189 | D15: 0.12919852 | E15: 0.13881898 | F15: 0.16362061 | J15: 0.23575334 | K15: 0.2483147 | L15: 0.33184645 | M15: 0.18408551
B17: Level 6S | J17: Level 6H
B18: 0.32280857 | C18: 0.47151935 | D18: 0.20567208 | J18: 0.51606793 | K18: 0.48393207
B20: Level 7S | J20: Level 7H
B21: 0.60782053 | C21: 0.39217947 | J21: 0.60979425 | K21: 0.39020575
B23: Level 8S
B24: 0.54979708 | C24: 0.28668292 | D24: 0.16352
B26: Level 9S
B27: 0.49781087 | C27: 0.30282669 | D27: 0.19936244
B29: Level 10S
B30: 0.48899715 | C30: 0.51100285

Sheet NonAcademia
B1: Shelter | J1: Hub
B2: Level 1S | J2: Level 1H
B3: 0.1800915 | C3: 0.24414969 | D3: 0.16856921 | E3: 0.18260194 | F3: 0.090229595 | G3: 0.13435807 | J3: 0.22460701 | K3: 0.23736065 | L3: 0.19267046 | M3: 0.19615294 | N3: 0.14920894
B5: Level 2S | J5: Level 2H
B6: 0.40807742 | C6: 0.3317499 | D6: 0.26017268 | J6: 0.27792766 | K6: 0.33175677 | L6: 0.20746274 | M6: 0.18285283
B8: Level 3S | J8: Level 3H
B9: 0.32746489 | C9: 0.18694235 | D9: 0.22031572 | E9: 0.26527704 | J9: 0.22259433 | K9: 0.18852983 | L9: 0.25462801 | M9: 0.16084263 | N9: 0.1734052
B11: Level 4S | J11: Level 4H
B12: 0.38548077 | C12: 0.2919616 | D12: 0.20267172 | E12: 0.11988591 | J12: 0.354988 | K12: 0.18603096 | L12: 0.17976326 | M12: 0.27921778
B14: Level 5S | J14: Level 5H
B15: 0.34221155 | C15: 0.19131281 | D15: 0.13669557 | E15: 0.16555245 | F15: 0.16422762 | J15: 0.14589441 | K15: 0.23297994 | L15: 0.39237786 | M15: 0.22874779
B17: Level 6S | J17: Level 6H
B18: 0.22343684 | C18: 0.44666343 | D18: 0.32989973 | J18: 0.60119021 | K18: 0.39880979
B20: Level 7S | J20: Level 7H
B21: 0.66487153 | C21: 0.33512847 | J21: 0.63888858 | K21: 0.36111142
B23: Level 8S
B24: 0.53012762 | C24: 0.32724968 | D24: 0.1426227
B26: Level 9S
B27: 0.35200157 | C27: 0.35200157 | D27: 0.29599686
B29: Level 10S
B30: 0.47835269 | C30: 0.52164731

Sheet NGO
B1: Shelter | J1: Hub
B2: Level 1S | J2: Level 1H
B3: 0.14079264 | C3: 0.27503267 | D3: 0.1580842 | E3: 0.17815847 | F3: 0.11511636 | G3: 0.13281566 | J3: 0.2614514 | K3: 0.20303837 | L3: 0.182117 | M3: 0.20010717 | N3: 0.15328606
B5: Level 2S | J5: Level 2H
B6: 0.44009244 | C6: 0.28679898 | D6: 0.27310858 | J6: 0.29792077 | K6: 0.26959195 | L6: 0.25394454 | M6: 0.17854275
B8: Level 3S | J8: Level 3H
B9: 0.30014166 | C9: 0.15541492 | D9: 0.21998004 | E9: 0.32446338 | J9: 0.20599267 | K9: 0.18382268 | L9: 0.2431998 | M9: 0.22450849 | N9: 0.14247637
B11: Level 4S | J11: Level 4H
B12: 0.42632433 | C12: 0.22943106 | D12: 0.20343171 | E12: 0.14081289 | J12: 0.37310498 | K12: 0.1933047 | L12: 0.19046151 | M12: 0.24312881
B14: Level 5S | J14: Level 5H
B15: 0.34139385 | C15: 0.18549104 | D15: 0.15335794 | E15: 0.15354591 | F15: 0.16621126 | J15: 0.18931787 | K15: 0.24660676 | L15: 0.35351441 | M15: 0.21056096
B17: Level 6S | J17: Level 6H
B18: 0.26186752 | C18: 0.41757499 | D18: 0.3205575 | J18: 0.69169259 | K18: 0.30830741
B20: Level 7S | J20: Level 7H
B21: 0.63735634 | C21: 0.36264366 | J21: 0.69321972 | K21: 0.30678028
B23: Level 8S
B24: 0.56983302 | C24: 0.25970051 | D24: 0.17046647
B26: Level 9S
B27: 0.38932621 | C27: 0.31443459 | D27: 0.2962392
B29: Level 10S
B30: 0.4666061 | C30: 0.5333939

Sheet NonNGO
B1: Shelter | J1: Hub
B2: Level 1S | J2: Level 1H
B3: 0.25795469 | C3: 0.23115976 | D3: 0.1502486 | E3: 0.1168741 | F3: 0.12593761 | G3: 0.11782524 | J3: 0.22986478 | K3: 0.22872152 | L3: 0.23589406 | M3: 0.15353121 | N3: 0.15198842
B5: Level 2S | J5: Level 2H
B6: 0.37371907 | C6: 0.38626718 | D6: 0.24001375 | J6: 0.25714353 | K6: 0.23122338 | L6: 0.30265682 | M6: 0.20897626
B8: Level 3S | J8: Level 3H
B9: 0.28829594 | C9: 0.22492775 | D9: 0.2198522 | E9: 0.26692411 | J9: 0.21397971 | K9: 0.2039792 | L9: 0.25533825 | M9: 0.16190977 | N9: 0.16479307
B11: Level 4S | J11: Level 4H
B12: 0.39707827 | C12: 0.28390485 | D12: 0.20046671 | E12: 0.11855017 | J12: 0.3361246 | K12: 0.19773007 | L12: 0.21041361 | M12: 0.25573172
B14: Level 5S | J14: Level 5H
B15: 0.36466993 | C15: 0.20795671 | D15: 0.12274181 | E15: 0.14187135 | F15: 0.1627602 | J15: 0.21767855 | K15: 0.24520972 | L15: 0.34683694 | M15: 0.19027479
B17: Level 6S | J17: Level 6H
B18: 0.30781142 | C18: 0.48800484 | D18: 0.20418374 | J18: 0.4693893 | K18: 0.5306107
B20: Level 7S | J20: Level 7H
B21: 0.61735409 | C21: 0.38264591 | J21: 0.58314047 | K21: 0.41685953
B23: Level 8S
B24: 0.5334331 | C24: 0.31424134 | D24: 0.15232556
B26: Level 9S
B27: 0.48672449 | C27: 0.31688211 | D27: 0.1963934
B29: Level 10S
B30: 0.49455282 | C30: 0.50544718

Sheet AcadNGO
B1: Shelter | J1: Hub
B2: Level 1S | J2: Level 1H
B3: 0.21729127 | C3: 0.24844976 | D3: 0.15045893 | E3: 0.13160859 | F3: 0.12745875 | G3: 0.12473269 | J3: 0.24241738 | K3: 0.22600416 | L3: 0.21697013 | M3: 0.16452055 | N3: 0.15008778
B5: Level 2S | J5: Level 2H
B6: 0.38918929 | C6: 0.36529611 | D6: 0.24551461 | J6: 0.27122327 | K6: 0.24245507 | L6: 0.28579772 | M6: 0.20052394
B8: Level 3S | J8: Level 3H
B9: 0.28285978 | C9: 0.197518 | D9: 0.22874219 | E9: 0.29088003 | J9: 0.21116985 | K9: 0.19287294 | L9: 0.25437953 | M9: 0.18445639 | N9: 0.15712128
B11: Level 4S | J11: Level 4H
B12: 0.41322757 | C12: 0.26299263 | D12: 0.19847584 | E12: 0.12530396 | J12: 0.34230971 | K12: 0.19602276 | L12: 0.21230704 | M12: 0.24936049
B14: Level 5S | J14: Level 5H
B15: 0.35482322 | C15: 0.2019677 | D15: 0.12884873 | E15: 0.14863862 | F15: 0.16572172 | J15: 0.21001395 | K15: 0.24455663 | L15: 0.3484187 | M15: 0.19701072
B17: Level 6S | J17: Level 6H
B18: 0.29353768 | C18: 0.48184442 | D18: 0.2246179 | J18: 0.55157035 | K18: 0.44842965
B20: Level 7S | J20: Level 7H
B21: 0.63755343 | C21: 0.36244657 | J21: 0.62569512 | K21: 0.37430488
B23: Level 8S
B24: 0.54907533 | C24: 0.2929798 | D24: 0.15794487
B26: Level 9S
B27: 0.45778067 | C27: 0.32282233 | D27: 0.219397
B29: Level 10S
B30: 0.50116255 | C30: 0.49883745

Sheet NonAcadNGO
B1: Shelter | J1: Hub
B2: Level 1S | J2: Level 1H
B3: 0.21456811 | C3: 0.21456811 | D3: 0.21456811 | E3: 0.17146873 | F3: 0.080894603 | G3: 0.10393234 | J3: 0.20353565 | K3: 0.16041702 | L3: 0.24273316 | M3: 0.19927809 | N3: 0.19403608
B5: Level 2S | J5: Level 2H
B6: 0.45308184 | C6: 0.22654092 | D6: 0.32037724 | J6: 0.24536961 | K6: 0.24536961 | L6: 0.31928853 | M6: 0.18997225
B8: Level 3S | J8: Level 3H
B9: 0.43259097 | C9: 0.25746963 | D9: 0.12289556 | E9: 0.18704385 | J9: 0.2192592 | K9: 0.28208065 | L9: 0.2192592 | M9: 0.1127073 | N9: 0.16669365
B11: Level 4S | J11: Level 4H
B12: 0.31747352 | C12: 0.31747352 | D12: 0.24579718 | E12: 0.11925578 | J12: 0.40624306 | K12: 0.1971883 | L12: 0.11547481 | M12: 0.28109383
B14: Level 5S | J14: Level 5H
B15: 0.39716897 | C15: 0.18863668 | D15: 0.16701356 | E15: 0.10840962 | F15: 0.13877117 | J15: 0.19273369 | K15: 0.26276338 | L15: 0.35870117 | M15: 0.18580177
B17: Level 6S | J17: Level 6H
B18: 0.29289322 | C18: 0.29289322 | D18: 0.41421356 | J18: 0.3660254 | K18: 0.6339746
B20: Level 7S | J20: Level 7H
B21: 0.41421356 | C21: 0.58578644 | J21: 0.5 | K21: 0.5
B23: Level 8S
B24: 0.48553955 | C24: 0.3601909 | D24: 0.15426956
B26: Level 9S
B27: 0.4563727 | C27: 0.25613052 | D27: 0.28749678
B29: Level 10S
B30: 0.28989795 | C30: 0.71010205

Sheet Yes
B1: Shelter | J1: Hub
B2: Level 1S | J2: Level 1H
B3: 0.19858158 | C3: 0.22930136 | D3: 0.17047303 | E3: 0.13948387 | F3: 0.13808608 | G3: 0.12407408 | J3: 0.27218336 | K3: 0.17008688 | L3: 0.20252054 | M3: 0.15218051 | N3: 0.2030287
B5: Level 2S | J5: Level 2H
B6: 0.41177174 | C6: 0.32287503 | D6: 0.26535323 | J6: 0.2617582 | K6: 0.19599945 | L6: 0.35014692 | M6: 0.19209542
B8: Level 3S | J8: Level 3H
B9: 0.31086038 | C9: 0.2265291 | D9: 0.18405304 | E9: 0.27855747 | J9: 0.17629332 | K9: 0.22516247 | L9: 0.24822035 | M9: 0.20890711 | N9: 0.14141675
B11: Level 4S | J11: Level 4H
B12: 0.41295578 | C12: 0.25836805 | D12: 0.2003982 | E12: 0.12827797 | J12: 0.36062188 | K12: 0.2031656 | L12: 0.1809487 | M12: 0.25526381
B14: Level 5S | J14: Level 5H
B15: 0.3821935 | C15: 0.22543892 | D15: 0.12617445 | E15: 0.12200015 | F15: 0.14419298 | J15: 0.30846567 | K15: 0.24180892 | L15: 0.30287266 | M15: 0.14685276
B17: Level 6S | J17: Level 6H
B18: 0.40028497 | C18: 0.39770687 | D18: 0.20200816 | J18: 0.47883022 | K18: 0.52116978
B20: Level 7S | J20: Level 7H
B21: 0.50719156 | C21: 0.49280844 | J21: 0.59558923 | K21: 0.40441077
B23: Level 8S
B24: 0.55684137 | C24: 0.29915914 | D24: 0.14399949
B26: Level 9S
B27: 0.54010434 | C27: 0.24657335 | D27: 0.21332231
B29: Level 10S
B30: 0.39216932 | C30: 0.60783068

Sheet Some
B1: Shelter | J1: Hub
B2: Level 1S | J2: Level 1H
B3: 0.19562866 | C3: 0.26781837 | D3: 0.15278661 | E3: 0.13595414 | F3: 0.11354452 | G3: 0.1342677 | J3: 0.2197705 | K3: 0.24029176 | L3: 0.22597775 | M3: 0.17440663 | N3: 0.13955337
B5: Level 2S | J5: Level 2H
B6: 0.3575258 | C6: 0.36293536 | D6: 0.27953884 | J6: 0.25851482 | K6: 0.27209533 | L6: 0.2559941 | M6: 0.21339574
B8: Level 3S | J8: Level 3H
B9: 0.27730362 | C9: 0.23506865 | D9: 0.2228981 | E9: 0.26472962 | J9: 0.21720344 | K9: 0.18044639 | L9: 0.25421433 | M9: 0.1660003 | N9: 0.18213554
B11: Level 4S | J11: Level 4H
B12: 0.4250765 | C12: 0.26297881 | D12: 0.19915523 | E12: 0.11278945 | J12: 0.31815057 | K12: 0.19473906 | L12: 0.25211826 | M12: 0.23499212
B14: Level 5S | J14: Level 5H
B15: 0.33974004 | C15: 0.21623269 | D15: 0.12712504 | E15: 0.18091851 | F15: 0.13598372 | J15: 0.1672245 | K15: 0.21724115 | L15: 0.39521374 | M15: 0.22032061
B17: Level 6S | J17: Level 6H
B18: 0.22991433 | C18: 0.51157103 | D18: 0.25851465 | J18: 0.59509818 | K18: 0.40490182
B20: Level 7S | J20: Level 7H
B21: 0.6820031 | C21: 0.3179969 | J21: 0.62413808 | K21: 0.37586192
B23: Level 8S
B24: 0.53212267 | C24: 0.27897637 | D24: 0.18890096
B26: Level 9S
B27: 0.38000718 | C27: 0.37687953 | D27: 0.24311329
B29: Level 10S
B30: 0.51126102 | C30: 0.48873898

Sheet No
B1: Shelter | J1: Hub
B2: Level 1S | J2: Level 1H
B3: 0.25579806 | C3: 0.24323842 | D3: 0.14128389 | E3: 0.1272925 | F3: 0.11892088 | G3: 0.11346624 | J3: 0.22447737 | K3: 0.25686394 | L3: 0.22361205 | M3: 0.17083821 | N3: 0.12420844
B5: Level 2S | J5: Level 2H
B6: 0.40741896 | C6: 0.37666232 | D6: 0.21591872 | J6: 0.28153685 | K6: 0.26433575 | L6: 0.26109171 | M6: 0.19303569
B8: Level 3S | J8: Level 3H
B9: 0.28574447 | C9: 0.15887637 | D9: 0.25430262 | E9: 0.30107654 | J9: 0.24310119 | K9: 0.18783778 | L9: 0.25187107 | M9: 0.16328314 | N9: 0.15390681
B11: Level 4S | J11: Level 4H
B12: 0.38592398 | C12: 0.27723039 | D12: 0.20411992 | E12: 0.13272571 | J12: 0.35678322 | K12: 0.19063332 | L12: 0.19063332 | M12: 0.26195013
B14: Level 5S | J14: Level 5H
B15: 0.34483063 | C15: 0.1684244 | D15: 0.13651056 | E15: 0.14051781 | F15: 0.2097166 | J15: 0.1685726 | K15: 0.26483731 | L15: 0.34386329 | M15: 0.2227268
B17: Level 6S | J17: Level 6H
B18: 0.2661099 | C18: 0.49126532 | D18: 0.24262478 | J18: 0.5471198 | K18: 0.4528802
B20: Level 7S | J20: Level 7H
B21: 0.67351813 | C21: 0.32648187 | J21: 0.63203746 | K21: 0.36796254
B23: Level 8S
B24: 0.542635 | C24: 0.30995299 | D24: 0.147412
B26: Level 9S
B27: 0.44761536 | C27: 0.34015378 | D27: 0.21223086
B29: Level 10S
B30: 0.55242047 | C30: 0.44757953

Sheet YesSome
B1: Shelter | J1: Hub
B2: Level 1S | J2: Level 1H
B3: 0.19741646 | C3: 0.24736211 | D3: 0.16215447 | E3: 0.13804628 | F3: 0.12610989 | G3: 0.12891078 | J3: 0.24803134 | K3: 0.20190671 | L3: 0.21509048 | M3: 0.16363512 | N3: 0.17133635
B5: Level 2S | J5: Level 2H
B6: 0.38574959 | C6: 0.34182531 | D6: 0.2724251 | J6: 0.26221567 | K6: 0.23047239 | L6: 0.30392176 | M6: 0.20339019
B8: Level 3S | J8: Level 3H
B9: 0.2948555 | C9: 0.23080921 | D9: 0.2018436 | E9: 0.2724917 | J9: 0.19562503 | K9: 0.20392967 | L9: 0.25203441 | M9: 0.18824623 | N9: 0.16016466
B11: Level 4S | J11: Level 4H
B12: 0.41870648 | C12: 0.26054801 | D12: 0.20000813 | E12: 0.12073739 | J12: 0.34127231 | K12: 0.19987007 | L12: 0.21253704 | M12: 0.24632058
B14: Level 5S | J14: Level 5H
B15: 0.36293343 | C15: 0.2216129 | D15: 0.12716493 | E15: 0.14743905 | F15: 0.14084969 | J15: 0.23512833 | K15: 0.23402587 | L15: 0.34965887 | M15: 0.18118694
B17: Level 6S | J17: Level 6H
B18: 0.31316493 | C18: 0.45585383 | D18: 0.23098124 | J18: 0.53439871 | K18: 0.46560129
B20: Level 7S | J20: Level 7H
B21: 0.59304284 | C21: 0.40695716 | J21: 0.60920609 | K21: 0.39079391
B23: Level 8S
B24: 0.54599116 | C24: 0.28995338 | D24: 0.16405546
B26: Level 9S
B27: 0.46390362 | C27: 0.30584435 | D27: 0.23025202
B29: Level 10S
B30: 0.44786698 | C30: 0.55213302

Sheet Shelter_AllGroups_sorted
A1: Shelter
A2: Level 1S | B2: Hazard at location, Physical Vulnerability, Accessibility, Communications, Living Environment, Access to supplies
A3: All | C3: Academia | E3: NonAcademia | G3: NGO | I3: NonNGO | K3: AcadNGO | M3: NonAcadNGO | O3: Yes | Q3: Some | S3: No | U3: YesSome | W3: Anyexp | Y3: Noexp | AA3: Sospp | AC3: Nonsospp | AE3: Engr | AG3: NonEngr | AI3: Social | AK3: Nonsocial | AM3: Physical | AO3: Nonphysical | AQ3: Nathaz | AS3: Nonnathaz | AU3: Disman | AW3: Nondisman | AY3: Lgaumo | BA3: Nonlgaumo
A4: 0.24647524 | B4: Vulnerability | C4: 0.24506107 | D4: Vulnerability | E4: 0.24414969 | F4: Vulnerability | G4: 0.27503267 | H4: Vulnerability | I4: 0.25795469 | J4: Hazard | K4: 0.24844976 | L4: Vulnerability | M4: 0.21456811 | N4: Hazard | O4: 0.22930136 | P4: Vulnerability | Q4: 0.26781837 | R4: Vulnerability | S4: 0.25579806 | T4: Hazard | U4: 0.24736211 | V4: Vulnerability | W4: 0.2541125 | X4: Vulnerability | Y4: 0.2312431 | Z4: Vulnerability | AA4: 0.2322197 | AB4: Vulnerability | AC4: 0.25322337 | AD4: Vulnerability | AE4: 0.25013337 | AF4: Hazard | AG4: 0.26326664 | AH4: Vulnerability | AI4: 0.2267287 | AJ4: Hazard | AK4: 0.25576513 | AL4: Vulnerability | AM4: 0.30211901 | AN4: Vulnerability | AO4: 0.23066913 | AP4: Vulnerability | AQ4: 0.24655665 | AR4: Vulnerability | AS4: 0.24436317 | AT4: Vulnerability | AU4: 0.24680247 | AV4: Vulnerability | AW4: 0.23804421 | AX4: Vulnerability | AY4: 0.25364022 | AZ4: Vulnerability | BA4: 0.2430716 | BB4: Vulnerability
A5: 0.21756826 | B5: Hazard | C5: 0.23089929 | D5: Hazard | E5: 0.18260194 | F5: Communications | G5: 0.17815847 | H5: Communications | I5: 0.23115976 | J5: Vulnerability | K5: 0.21729127 | L5: Hazard | M5: 0.21456811 | N5: Vulnerability | O5: 0.19858158 | P5: Hazard | Q5: 0.19562866 | R5: Hazard | S5: 0.24323842 | T5: Vulnerability | U5: 0.19741646 | V5: Hazard | W5: 0.2173881 | X5: Hazard | Y5: 0.2173943 | Z5: Hazard | AA5: 0.19127726 | AB5: Hazard | AC5: 0.23259919 | AD5: Hazard | AE5: 0.2304014 | AF5: Vulnerability | AG5: 0.18363808 | AH5: Hazard | AI5: 0.2172647 | AJ5: Vulnerability | AK5: 0.21439966 | AL5: Hazard | AM5: 0.20065845 | AN5: Hazard | AO5: 0.22200842 | AP5: Hazard | AQ5: 0.23511777 | AR5: Hazard | AS5: 0.19765996 | AT5: Hazard | AU5: 0.22341812 | AV5: Hazard | AW5: 0.17973642 | AX5: Hazard | AY5: 0.18960326 | AZ5: Hazard | BA5: 0.22959865 | BB5: Hazard
A6: 0.1543895 | B6: Accessibility | C6: 0.14832183 | D6: Accessibility | E6: 0.1800915 | F6: Hazard | G6: 0.1580842 | H6: Accessibility | I6: 0.1502486 | J6: Accessibility | K6: 0.15045893 | L6: Accessibility | M6: 0.21456811 | N6: Accessibility | O6: 0.17047303 | P6: Accessibility | Q6: 0.15278661 | R6: Accessibility | S6: 0.14128389 | T6: Accessibility | U6: 0.16215447 | V6: Accessibility | W6: 0.14868907 | X6: Accessibility | Y6: 0.16615839 | Z6: Accessibility | AA6: 0.17185777 | AB6: Communications | AC6: 0.15874509 | AD6: Accessibility | AE6: 0.15920957 | AF6: Accessibility | AG6: 0.15791639 | AH6: Communications | AI6: 0.1635382 | AJ6: Accessibility | AK6: 0.15141276 | AL6: Accessibility | AM6: 0.16346253 | AN6: Accessibility | AO6: 0.15113262 | AP6: Accessibility | AQ6: 0.16191374 | AR6: Accessibility | AS6: 0.16519571 | AT6: Communications | AU6: 0.15681173 | AV6: Accessibility | AW6: 0.17452048 | AX6: Access to supplies | AY6: 0.16494687 | AZ6: Accessibility | BA6: 0.14914069 | BB6: Accessibility
A7: 0.13420757 | B7: Communications | C7: 0.13798264 | D7: Living Environment | E7: 0.16856921 | F7: Accessibility | G7: 0.14079264 | H7: Hazard | I7: 0.12593761 | J7: Living Environment | K7: 0.13160859 | L7: Communications | M7: 0.17146873 | N7: Communications | O7: 0.13948387 | P7: Communications | Q7: 0.13595414 | R7: Communications | S7: 0.1272925 | T7: Communications | U7: 0.13804628 | V7: Communications | W7: 0.13533794 | X7: Communications | Y7: 0.13364861 | Z7: Access to supplies | AA7: 0.14556775 | AB7: Accessibility | AC7: 0.12492308 | AD7: Access to supplies | AE7: 0.12906163 | AF7: Access to supplies | AG7: 0.14729062 | AH7: Accessibility | AI7: 0.13739621 | AJ7: Access to supplies | AK7: 0.13906039 | AL7: Communications | AM7: 0.11503499 | AN7: Access to supplies | AO7: 0.14363584 | AP7: Communications | AQ7: 0.12452972 | AR7: Living Environment | AS7: 0.14515095 | AT7: Accessibility | AU7: 0.13774769 | AV7: Communications | AW7: 0.16097893 | AX7: Living Environment | AY7: 0.15751834 | AZ7: Communications | BA7: 0.13062829 | BB7: Access to supplies
A8: 0.12388639 | B8: Living Environment | C8: 0.11887319 | D8: Communications | E8: 0.13435807 | F8: Access to supplies | G8: 0.13281566 | H8: Access to supplies | I8: 0.11782524 | J8: Access to supplies | K8: 0.12745875 | L8: Living Environment | M8: 0.10393234 | N8: Access to supplies | O8: 0.13808608 | P8: Living Environment | Q8: 0.1342677 | R8: Access to supplies | S8: 0.11892088 | T8: Living Environment | U8: 0.12891078 | V8: Access to supplies | W8: 0.12585418 | X8: Living Environment | Y8: 0.1315076 | Z8: Communications | AA8: 0.13941287 | AB8: Living Environment | AC8: 0.11552374 | AD8: Communications | AE8: 0.11611246 | AF8: Living Environment | AG8: 0.13183934 | AH8: Living Environment | AI8: 0.13631354 | AJ8: Living Environment | AK8: 0.12007723 | AL8: Living Environment | AM8: 0.11299195 | AN8: Living Environment | AO8: 0.12693943 | AP8: Living Environment | AQ8: 0.12083999 | AR8: Access to supplies | AS8: 0.12574637 | AT8: Access to supplies | AU8: 0.11863178 | AV8: Living Environment | AW8: 0.13597776 | AX8: Accessibility | AY8: 0.12645639 | AZ8: Living Environment | BA8: 0.12530558 | BB8: Communications
A9: 0.12347304 | B9: Access to supplies | C9: 0.11886198 | D9: Access to supplies | E9: 0.090229595 | F9: Living Environment | G9: 0.11511636 | H9: Living Environment | I9: 0.1168741 | J9: Communications | K9: 0.12473269 | L9: Access to supplies | M9: 0.080894603 | N9: Living Environment | O9: 0.12407408 | P9: Access to supplies | Q9: 0.11354452 | R9: Living Environment | S9: 0.11346624 | T9: Access to supplies | U9: 0.12610989 | V9: Living Environment | W9: 0.11861821 | X9: Access to supplies | Y9: 0.12004799 | Z9: Living Environment | AA9: 0.11966464 | AB9: Access to supplies | AC9: 0.11498552 | AD9: Living Environment | AE9: 0.11508158 | AF9: Communications | AG9: 0.11604893 | AH9: Access to supplies | AI9: 0.11875865 | AJ9: Communications | AK9: 0.11928483 | AL9: Access to supplies | AM9: 0.10573307 | AN9: Communications | AO9: 0.12561456 | AP9: Access to supplies | AQ9: 0.11104213 | AR9: Communications | AS9: 0.12188384 | AT9: Living Environment | AU9: 0.1165882 | AV9: Access to supplies | AW9: 0.1107422 | AX9: Communications | AY9: 0.10783492 | AZ9: Access to supplies | BA9: 0.1222552 | BB9: Living Environment
A11: Level 2S | B11: Proximity to affected, Transport options, Easy to find
A12: All | C12: Academia | E12: NonAcademia | G12: NGO | I12: NonNGO | K12: AcadNGO | M12: NonAcadNGO | O12: Yes | Q12: Some | S12: No | U12: YesSome | W12: Anyexp | Y12: Noexp | AA12: Sospp | AC12: Nonsospp | AE12: Engr | AG12: NonEngr | AI12: Social | AK12: Nonsocial | AM12: Physical | AO12: Nonphysical | AQ12: Nathaz | AS12: Nonnathaz | AU12: Disman | AW12: Nondisman | AY12: Lgaumo | BA12: Nonlgaumo
A13: 0.39437314 | B13: Proximity to affected | C13: 0.38927208 | D13: Proximity to affected | E13: 0.40807742 | F13: Proximity to affected | G13: 0.44009244 | H13: Proximity to affected | I13: 0.38626718 | J13: Transport options | K13: 0.38918929 | L13: Proximity to affected | M13: 0.45308184 | N13: Proximity to affected | O13: 0.41177174 | P13: Proximity to affected | Q13: 0.36293536 | R13: Transport options | S13: 0.40741896 | T13: Proximity to affected | U13: 0.38574959 | V13: Proximity to affected | W13: 0.40083736 | X13: Proximity to affected | Y13: 0.38150309 | Z13: Proximity to affected | AA13: 0.43116773 | AB13: Proximity to affected | AC13: 0.37354116 | AD13: Proximity to affected | AE13: 0.40014085 | AF13: Transport options | AG13: 0.39975044 | AH13: Proximity to affected | AI13: 0.42904653 | AJ13: Proximity to affected | AK13: 0.38400175 | AL13: Proximity to affected | AM13: 0.36838847 | AN13: Transport options | AO13: 0.41138861 | AP13: Proximity to affected | AQ13: 0.41000543 | AR13: Transport options | AS13: 0.46279833 | AT13: Proximity to affected | AU13: 0.37588764 | AV13: Proximity to affected | AW13: 0.51732123 | AX13: Proximity to affected | AY13: 0.4345953 | AZ13: Proximity to affected | BA13: 0.39044076 | BB13: Transport options
A14: 0.35494186 | B14: Transport options | C14: 0.36355423 | D14: Transport options | E14: 0.3317499 | F14: Transport options | G14: 0.28679898 | H14: Transport options | I14: 0.37371907 | J14: Proximity to affected | K14: 0.36529611 | L14: Transport options | M14: 0.32037724 | N14: Easy to find | O14: 0.32287503 | P14: Transport options | Q14: 0.3575258 | R14: Proximity to affected | S14: 0.37666232 | T14: Transport options | U14: 0.34182531 | V14: Transport options | W14: 0.34857405 | X14: Transport options | Y14: 0.367785 | Z14: Transport options | AA14: 0.32813963 | AB14: Transport options | AC14: 0.37047372 | AD14: Transport options | AE14: 0.38505225 | AF14: Proximity to affected | AG14: 0.3052636 | AH14: Transport options | AI14: 0.33862984 | AJ14: Transport options | AK14: 0.35969944 | AL14: Transport options | AM14: 0.33996181 | AN14: Proximity to affected | AO14: 0.349916 | AP14: Transport options | AQ14: 0.33659707 | AR14: Proximity to affected | AS14: 0.29473836 | AT14: Transport options | AU14: 0.35973985 | AV14: Transport options | AW14: 0.31231025 | AX14: Transport options | AY14: 0.28694743 | AZ14: Easy to find | BA14: 0.37502329 | BB14: Proximity to affected
A15: 0.250685 | B15: Easy to find | C15: 0.2471737 | D15: Easy to find | E15: 0.26017268 | F15: Easy to find | G15: 0.27310858 | H15: Easy to find | I15: 0.24001375 | J15: Easy to find | K15: 0.24551461 | L15: Easy to find | M15: 0.22654092 | N15: Transport options | O15: 0.26535323 | P15: Easy to find | Q15: 0.27953884 | R15: Easy to find | S15: 0.21591872 | T15: Easy to find | U15: 0.2724251 | V15: Easy to find | W15: 0.25058858 | X15: Easy to find | Y15: 0.25071191 | Z15: Easy to find | AA15: 0.24069264 | AB15: Easy to find | AC15: 0.25598512 | AD15: Easy to find | AE15: 0.2148069 | AF15: Easy to find | AG15: 0.29498597 | AH15: Easy to find | AI15: 0.23232363 | AJ15: Easy to find | AK15: 0.25629881 | AL15: Easy to find | AM15: 0.29164972 | AN15: Easy to find | AO15: 0.23869539 | AP15: Easy to find | AQ15: 0.2533975 | AR15: Easy to find | AS15: 0.2424633 | AT15: Easy to find | AU15: 0.26437251 | AV15: Easy to find | AW15: 0.17036853 | AX15: Easy to find | AY15: 0.27845726 | AZ15: Transport options | BA15: 0.23453596 | BB15: Easy to find
A17: Level 3S | B17: Utilities, Space, Security, Health & Safety
A18: All | C18: Academia | E18: NonAcademia | G18: NGO | I18: NonNGO | K18: AcadNGO | M18: NonAcadNGO | O18: Yes | Q18: Some | S18: No | U18: YesSome | W18: Anyexp | Y18: Noexp | AA18: Sospp | AC18: Nonsospp | AE18: Engr | AG18: NonEngr | AI18: Social | AK18: Nonsocial | AM18: Physical | AO18: Nonphysical | AQ18: Nathaz | AS18: Nonnathaz | AU18: Disman | AW18: Nondisman | AY18: Lgaumo | BA18: Nonlgaumo
A19: 0.29291267 | B19: Utilities | C19: 0.29079845 | D19: Health & Safety | E19: 0.32746489 | F19: Utilities | G19: 0.32446338 | H19: Health & Safety | I19: 0.28829594 | J19: Utilities | K19: 0.29088003 | L19: Health & Safety | M19: 0.43259097 | N19: Utilities | O19: 0.31086038 | P19: Utilities | Q19: 0.27730362 | R19: Utilities | S19: 0.30107654 | T19: Health & Safety | U19: 0.2948555 | V19: Utilities | W19: 0.31221421 | X19: Utilities | Y19: 0.31370666 | Z19: Health & Safety | AA19: 0.31931713 | AB19: Health & Safety | AC19: 0.29282851 | AD19: Utilities | AE19: 0.28526713 | AF19: Utilities | AG19: 0.30102168 | AH19: Utilities | AI19: 0.31645776 | AJ19: Utilities | AK19: 0.28396249 | AL19: Utilities | AM19: 0.33244766 | AN19: Utilities | AO19: 0.30319298 | AP19: Health & Safety | AQ19: 0.31227153 | AR19: Utilities | AS19: 0.32783668 | AT19: Health & Safety | AU19: 0.29994286 | AV19: Utilities | AW19: 0.36469885 | AX19: Health & Safety | AY19: 0.33519753 | AZ19: Utilities | BA19: 0.27641936 | BB19: Health & Safety
A20: 0.28404235 | B20: Health & Safety | C20: 0.28065038 | D20: Utilities | E20: 0.26527704 | F20: Health & Safety | G20: 0.30014166 | H20: Utilities | I20: 0.26692411 | J20: Health & Safety | K20: 0.28285978 | L20: Utilities | M20: 0.25746963 | N20: Space | O20: 0.27855747 | P20: Health & Safety | Q20: 0.26472962 | R20: Health & Safety | S20: 0.28574447 | T20: Utilities | U20: 0.2724917 | V20: Health & Safety | W20: 0.26761765 | X20: Health & Safety | Y20: 0.26969696 | Z20: Security | AA20: 0.29176314 | AB20: Utilities | AC20: 0.26462424 | AD20: Health & Safety | AE20: 0.28254328 | AF20: Health & Safety | AG20: 0.28490166 | AH20: Health & Safety | AI20: 0.28662328 | AJ20: Health & Safety | AK20: 0.2810594 | AL20: Health & Safety | AM20: 0.22601931 | AN20: Security | AO20: 0.28076026 | AP20: Utilities | AQ20: 0.24708229 | AR20: Health & Safety | AS20: 0.26803113 | AT20: Utilities | AU20: 0.27230754 | AV20: Health & Safety | AW20: 0.24513848 | AX20: Utilities | AY20: 0.29949935 | AZ20: Health & Safety | BA20: 0.27532521 | BB20: Utilities
A21: 0.22078011 | B21: Security | C21: 0.22064981 | D21: Security | E21: 0.22031572 | F21: Security | G21: 0.21998004 | H21: Security | I21: 0.22492775 | J21: Space | K21: 0.22874219 | L21: Security | M21: 0.18704385 | N21: Health & Safety | O21: 0.2265291 | P21: Space | Q21: 0.23506865 | R21: Space | S21: 0.25430262 | T21: Security | U21: 0.23080921 | V21: Space | W21: 0.22239901 | X21: Space | Y21: 0.25268466 | Z21: Utilities | AA21: 0.20105544 | AB21: Security | AC21: 0.23216157 | AD21: Security | AE21: 0.22395675 | AF21: Space | AG21: 0.23494228 | AH21: Security | AI21: 0.26130297 | AJ21: Security | AK21: 0.22676052 | AL21: Space | AM21: 0.22601931 | AN21: Health & Safety | AO21: 0.21839552 | AP21: Security | AQ21: 0.23739334 | AR21: Space | AS21: 0.23853504 | AT21: Security | AU21: 0.21789856 | AV21: Security | AW21: 0.23470775 | AX21: Security | AY21: 0.1850244 | AZ21: Security | BA21: 0.23679822 | BB21: Security
A22: 0.20226488 | B22: Space | C22: 0.20790136 | D22: Space | E22: 0.18694235 | F22: Space | G22: 0.15541492 | H22: Space | I22: 0.2198522 | J22: Security | K22: 0.197518 | L22: Space | M22: 0.12289556 | N22: Security | O22: 0.18405304 | P22: Security | Q22: 0.2228981 | R22: Security | S22: 0.15887637 | T22: Space | U22: 0.2018436 | V22: Security | W22: 0.19776912 | X22: Security | Y22: 0.16391171 | Z22: Space | AA22: 0.18786428 | AB22: Space | AC22: 0.21038568 | AD22: Space | AE22: 0.20823283 | AF22: Security | AG22: 0.17913438 | AH22: Space | AI22: 0.135616 | AJ22: Space | AK22: 0.20821758 | AL22: Security | AM22: 0.21551371 | AN22: Space | AO22: 0.19765124 | AP22: Space | AQ22: 0.20325285 | AR22: Security | AS22: 0.16559716 | AT22: Space | AU22: 0.20985103 | AV22: Space | AW22: 0.15545492 | AX22: Space | AY22: 0.18027871 | AZ22: Space | BA22: 0.2114572 | BB22: Space
A24: Level 4S | B24: Water, Food, Medical, Bedding
A25: All | C25: Academia | E25: NonAcademia | G25: NGO | I25: NonNGO | K25: AcadNGO | M25: NonAcadNGO | O25: Yes | Q25: Some | S25: No | U25: YesSome | W25: Anyexp | Y25: Noexp | AA25: Sospp | AC25: Nonsospp | AE25: Engr | AG25: NonEngr | AI25: Social | AK25: Nonsocial | AM25: Physical | AO25: Nonphysical | AQ25: Nathaz | AS25: Nonnathaz | AU25: Disman | AW25: Nondisman | AY25: Lgaumo | BA25: Nonlgaumo
A26: 0.40663322 | B26: Water | C26: 0.41426747 | D26: Water | E26: 0.38548077 | F26: Water | G26: 0.42632433 | H26: Water | I26: 0.39707827 | J26: Water | K26: 0.41322757 | L26: Water | M26: 0.31747352 | N26: Water | O26: 0.41295578 | P26: Water | Q26: 0.4250765 | R26: Water | S26: 0.38592398 | T26: Water | U26: 0.41870648 | V26: Water | W26: 0.41349682 | X26: Water | Y26: 0.39274642 | Z26: Water | AA26: 0.37762928 | AB26: Water | AC26: 0.42223426 | AD26: Water | AE26: 0.39263761 | AF26: Water | AG26: 0.42141009 | AH26: Water | AI26: 0.36757852 | AJ26: Water | AK26: 0.41860755 | AL26: Water | AM26: 0.44856283 | AN26: Water | AO26: 0.39347573 | AP26: Water | AQ26: 0.4179834 | AR26: Water | AS26: 0.3930712 | AT26: Water | AU26: 0.40746067 | AV26: Water | AW26: 0.40120406 | AX26: Water | AY26: 0.41674029 | AZ26: Water | BA26: 0.40226712 | BB26: Water
A27: 0.26670322 | B27: Food | C27: 0.25779865 | D27: Food | E27: 0.2919616 | F27: Food | G27: 0.22943106 | H27: Food | I27: 0.28390485 | J27: Food | K27: 0.26299263 | L27: Food | M27: 0.31747352 | N27: Food | O27: 0.25836805 | P27: Food | Q27: 0.26297881 | R27: Food | S27: 0.27723039 | T27: Food | U27: 0.26054801 | V27: Food | W27: 0.25882587 | X27: Food | Y27: 0.28303339 | Z27: Food | AA27: 0.24472066 | AB27: Food | AC27: 0.27914899 | AD27: Food | AE27: 0.27962969 | AF27: Food | AG27: 0.2519332 | AH27: Food | AI27: 0.29116549 | AJ27: Food | AK27: 0.25922216 | AL27: Food | AM27: 0.26486516 | AN27: Food | AO27: 0.26643999 | AP27: Food | AQ27: 0.27440825 | AR27: Food | AS27: 0.25758673 | AT27: Food | AU27: 0.26382954 | AV27: Food | AW27: 0.28615039 | AX27: Food | AY27: 0.25416542 | AZ27: Food | BA27: 0.27222033 | BB27: Food
A28: 0.2015994 | B28: Medical | C28: 0.20104 | D28: Medical | E28: 0.20267172 | F28: Medical | G28: 0.20343171 | H28: Medical | I28: 0.20046671 | J28: Medical | K28: 0.19847584 | L28: Medical | M28: 0.24579718 | N28: Medical | O28: 0.2003982 | P28: Medical | Q28: 0.19915523 | R28: Medical | S28: 0.20411992 | T28: Medical | U28: 0.20000813 | V28: Medical | W28: 0.2022349 | X28: Medical | Y28: 0.20013692 | Z28: Medical | AA28: 0.23826043 | AB28: Medical | AC28: 0.18201379 | AD28: Medical | AE28: 0.21369696 | AF28: Medical | AG28: 0.18811272 | AH28: Medical | AI28: 0.22351807 | AJ28: Medical | AK28: 0.19497881 | AL28: Medical | AM28: 0.15692083 | AN28: Medical | AO28: 0.21679169 | AP28: Medical | AQ28: 0.19394968 | AR28: Medical | AS28: 0.21020451 | AT28: Medical | AU28: 0.20423536 | AV28: Medical | AW28: 0.18426275 | AX28: Medical | AY28: 0.19767205 | AZ28: Medical | BA28: 0.20319825 | BB28: Medical
A29: 0.12506416 | B29: Bedding | C29: 0.12689388 | D29: Bedding | E29: 0.11988591 | F29: Bedding | G29: 0.14081289 | H29: Bedding | I29: 0.11855017 | J29: Bedding | K29: 0.12530396 | L29: Bedding | M29: 0.11925578 | N29: Bedding | O29: 0.12827797 | P29: Bedding | Q29: 0.11278945 | R29: Bedding | S29: 0.13272571 | T29: Bedding | U29: 0.12073739 | V29: Bedding | W29: 0.12544241 | X29: Bedding | Y29: 0.12408327 | Z29: Bedding | AA29: 0.13938964 | AB29: Bedding | AC29: 0.11660297 | AD29: Bedding | AE29: 0.11403574 | AF29: Bedding | AG29: 0.13854399 | AH29: Bedding | AI29: 0.11773792 | AJ29: Bedding | AK29: 0.12719148 | AL29: Bedding | AM29: 0.12965118 | AN29: Bedding | AO29: 0.12329259 | AP29: Bedding | AQ29: 0.11365867 | AR29: Bedding | AS29: 0.13913756 | AT29: Bedding | AU29: 0.12447443 | AV29: Bedding | AW29: 0.12838281 | AX29: Bedding | AY29: 0.13142224 | AZ29: Bedding | BA29: 0.12231431 | BB29: Bedding
A31: Level 5S | B31: Sanitation, Washing, Heating/Cooling, Refuse, Power
A32: All | C32: Academia | E32: NonAcademia | G32: NGO | I32: NonNGO | K32: AcadNGO | M32: NonAcadNGO | O32: Yes | Q32: Some | S32: No | U32: YesSome | W32: Anyexp | Y32: Noexp | AA32: Sospp | AC32: Nonsospp | AE32: Engr | AG32: NonEngr | AI32: Social | AK32: Nonsocial | AM32: Physical | AO32: Nonphysical | AQ32: Nathaz | AS32: Nonnathaz | AU32: Disman | AW32: Nondisman | AY32: Lgaumo | BA32: Nonlgaumo
A33: 0.35795227 | B33: Sanitation | C33: 0.36348999 | D33: Sanitation | E33: 0.34221155 | F33: Sanitation | G33: 0.34139385 | H33: Sanitation | I33: 0.36466993 | J33: Sanitation | K33: 0.35482322 | L33: Sanitation | M33: 0.39716897 | N33: Sanitation | O33: 0.3821935 | P33: Sanitation | Q33: 0.33974004 | R33: Sanitation | S33: 0.34483063 | T33: Sanitation | U33: 0.36293343 | V33: Sanitation | W33: 0.35288838 | X33: Sanitation | Y33: 0.36501974 | Z33: Sanitation | AA33: 0.35626015 | AB33: Sanitation | AC33: 0.35764735 | AD33: Sanitation | AE33: 0.38034684 | AF33: Sanitation | AG33: 0.33200086 | AH33: Sanitation | AI33: 0.29239969 | AJ33: Sanitation | AK33: 0.37852254 | AL33: Sanitation | AM33: 0.33601277 | AN33: Sanitation | AO33: 0.3640817 | AP33: Sanitation | AQ33: 0.37406348 | AR33: Sanitation | AS33: 0.33937988 | AT33: Sanitation | AU33: 0.35607796 | AV33: Sanitation | AW33: 0.36607871 | AX33: Sanitation | AY33: 0.34002746 | AZ33: Sanitation | BA33: 0.36510967 | BB33: Sanitation
A34: 0.20131593 | B34: Washing | C34: 0.20487189 | D34: Washing | E34: 0.19131281 | F34: Washing | G34: 0.18549104 | H34: Washing | I34: 0.20795671 | J34: Washing | K34: 0.2019677 | L34: Washing | M34: 0.18863668 | N34: Washing | O34: 0.22543892 | P34: Washing | Q34: 0.21623269 | R34: Washing | S34: 0.2097166 | T34: Power | U34: 0.2216129 | V34: Washing | W34: 0.21792107 | X34: Washing | Y34: 0.19124716 | Z34: Power | AA34: 0.22053105 | AB34: Washing | AC34: 0.18984734 | AD34: Washing | AE34: 0.21261938 | AF34: Washing | AG34: 0.18807072 | AH34: Washing | AI34: 0.20930054 | AJ34: Power | AK34: 0.19970187 | AL34: Washing | AM34: 0.23436253 | AN34: Washing | AO34: 0.19194925 | AP34: Washing | AQ34: 0.20630754 | AR34: Washing | AS34: 0.19527455 | AT34: Washing | AU34: 0.19579618 | AV34: Washing | AW34: 0.23682708 | AX34: Washing | AY34: 0.20185311 | AZ34: Washing | BA34: 0.1993595 | BB34: Washing
A35: 0.16389114 | B35: Power | C35: 0.16362061 | D35: Power | E35: 0.16555245 | F35: Refuse | G35: 0.16621126 | H35: Power | I35: 0.1627602 | J35: Power | K35: 0.16572172 | L35: Power | M35: 0.16701356 | N35: Heating/Cooling | O35: 0.14419298 | P35: Power | Q35: 0.18091851 | R35: Refuse | S35: 0.1684244 | T35: Washing | U35: 0.14743905 | V35: Refuse | W35: 0.15105846 | X35: Power | Y35: 0.16999524 | Z35: Washing | AA35: 0.15116058 | AB35: Heating/Cooling | AC35: 0.17317174 | AD35: Power | AE35: 0.15272699 | AF35: Power | AG35: 0.17673381 | AH35: Power | AI35: 0.20312573 | AJ35: Washing | AK35: 0.15131404 | AL35: Power | AM35: 0.15134053 | AN35: Power | AO35: 0.16752746 | AP35: Power | AQ35: 0.15558232 | AR35: Power | AS35: 0.17346003 | AT35: Power | AU35: 0.1613937 | AV35: Power | AW35: 0.17954368 | AX35: Power | AY35: 0.17607276 | AZ35: Heating/Cooling | BA35: 0.16583871 | BB35: Power
A36: 0.14558783 | B36: Refuse | C36: 0.13881898 | D36: Refuse | E36: 0.16422762 | F36: Power | G36: 0.15354591 | H36: Refuse | I36: 0.14187135 | J36: Refuse | K36: 0.14863862 | L36: Refuse | M36: 0.13877117 | N36: Power | O36: 0.12617445 | P36: Heating/Cooling | Q36: 0.13598372 | R36: Power | S36: 0.14051781 | T36: Refuse | U36: 0.14084969 | V36: Power | W36: 0.13909222 | X36: Heating/Cooling | Y36: 0.1579722 | Z36: Refuse | AA36: 0.14776779 | AB36: Power | AC36: 0.15874164 | AD36: Refuse | AE36: 0.13324176 | AF36: Refuse | AG36: 0.15998217 | AH36: Refuse | AI36: 0.16851613 | AJ36: Refuse | AK36: 0.13850702 | AL36: Refuse | AM36: 0.14436964 | AN36: Heating/Cooling | AO36: 0.1491295 | AP36: Refuse | AQ36: 0.13362256 | AR36: Refuse | AS36: 0.16010815 | AT36: Refuse | AU36: 0.15077367 | AV36: Refuse | AW36: 0.11371371 | AX36: Refuse | AY36: 0.15688246 | AZ36: Power | BA36: 0.1543101 | BB36: Refuse
A37: 0.13125283 | B37: Heating/Cooling | C37: 0.12919852 | D37: Heating/Cooling | E37: 0.13669557 | F37: Heating/Cooling | G37: 0.15335794 | H37: Heating/Cooling | I37: 0.12274181 | J37: Heating/Cooling | K37: 0.12884873 | L37: Heating/Cooling | M37: 0.10840962 | N37: Refuse | O37: 0.12200015 | P37: Refuse | Q37: 0.12712504 | R37: Heating/Cooling | S37: 0.13651056 | T37: Heating/Cooling | U37: 0.12716493 | V37: Heating/Cooling | W37: 0.13903987 | X37: Refuse | Y37: 0.11576566 | Z37: Heating/Cooling | AA37: 0.12428044 | AB37: Refuse | AC37: 0.12059193 | AD37: Heating/Cooling | AE37: 0.12106503 | AF37: Heating/Cooling | AG37: 0.14321244 | AH37: Heating/Cooling | AI37: 0.12665791 | AJ37: Heating/Cooling | AK37: 0.13195454 | AL37: Heating/Cooling | AM37: 0.13391454 | AN37: Refuse | AO37: 0.12731209 | AP37: Heating/Cooling | AQ37: 0.1304241 | AR37: Heating/Cooling | AS37: 0.1317774 | AT37: Heating/Cooling | AU37: 0.13595849 | AV37: Heating/Cooling | AW37: 0.10383682 | AX37: Heating/Cooling | AY37: 0.12516421 | AZ37: Refuse | BA37: 0.11538203 | BB37: Heating/Cooling
A39: Level 6S | C39: Original building function, Space for people, Space for admin
A40: All | C40: Academia | E40: NonAcademia | G40: NGO | I40: NonNGO | K40: AcadNGO | M40: NonAcadNGO | O40: Yes | Q40: Some | S40: No | U40: YesSome | W40: Anyexp | Y40: Noexp | AA40: Sospp | AC40: Nonsospp | AE40: Engr | AG40: NonEngr | AI40: Social | AK40: Nonsocial | AM40: Physical | AO40: Nonphysical | AQ40: Nathaz | AS40: Nonnathaz | AU40: Disman | AW40: Nondisman | AY40: Lgaumo | BA40: Nonlgaumo
A41: 0.46912656 | B41: Space for people | C41: 0.47151935 | D41: Space for people | E41: 0.44666343 | F41: Space for people | G41: 0.41757499 | H41: Space for people | I41: 0.48800484 | J41: Space for people | K41: 0.48184442 | L41: Space for people | M41: 0.41421356 | N41: Space for admin | O41: 0.40028497 | P41: Original building function | Q41: 0.51157103 | R41: Space for people | S41: 0.49126532 | T41: Space for people | U41: 0.45585383 | V41: Space for people | W41: 0.45734158 | X41: Space for people | Y41: 0.49067958 | Z41: Space for people | AA41: 0.398225 | AB41: Original building function | AC41: 0.51976975 | AD41: Space for people | AE41: 0.47885492 | AF41: Space for people | AG41: 0.45306216 | AH41: Space for people | AI41: 0.47945892 | AJ41: Space for people | AK41: 0.46541862 | AL41: Space for people | AM41: 0.50420526 | AN41: Space for people | AO41: 0.45783282 | AP41: Space for people | AQ41: 0.51984261 | AR41: Space for people | AS41: 0.4119807 | AT41: Space for people | AU41: 0.47473071 | AV41: Space for people | AW41: 0.50750725 | AX41: Original building function | AY41: 0.43690954 | AZ41: Space for people | BA41: 0.48297705 | BB41: Space for people
A42: 0.29539054 | B42: Original building function | C42: 0.32280857 | D42: Original building function | E42: 0.32989973 | F42: Space for admin | G42: 0.3205575 | H42: Space for admin | I42: 0.30781142 | J42: Original building function | K42: 0.29353768 | L42: Original building function | M42: 0.29289322 | N42: Original building function | O42: 0.39770687 | P42: Space for people | Q42: 0.25851465 | R42: Space for admin | S42: 0.2661099 | T42: Original building function | U42: 0.31316493 | V42: Original building function | W42: 0.3161233 | X42: Original building function | Y42: 0.25638111 | Z42: Original building function | AA42: 0.37811129 | AB42: Space for people | AC42: 0.24298495 | AD42: Original building function | AE42: 0.32249162 | AF42: Original building function | AG42: 0.28276761 | AH42: Space for admin | AI42: 0.26173031 | AJ42: Original building function | AK42: 0.30607022 | AL42: Original building function | AM42: 0.24865922 | AN42: Space for admin | AO42: 0.31111436 | AP42: Original building function | AQ42: 0.26550038 | AR42: Original building function | AS42: 0.32952193 | AT42: Original building function | AU42: 0.26636825 | AV42: Original building function | AW42: 0.38095301 | AX42: Space for people | AY42: 0.30600263 | AZ42: Original building function | BA42: 0.29055039 | BB42: Original building function
A43: 0.2354829 | B43: Space for admin | C43: 0.20567208 | D43: Space for admin | E43: 0.22343684 | F43: Original building function | G43: 0.26186752 | H43: Original building function | I43: 0.20418374 | J43: Space for admin | K43: 0.2246179 | L43: Space for admin | M43: 0.29289322 | N43: Space for people | O43: 0.20200816 | P43: Space for admin | Q43: 0.22991433 | R43: Original building function | S43: 0.24262478 | T43: Space for admin | U43: 0.23098124 | V43: Space for admin | W43: 0.22653512 | X43: Space for admin | Y43: 0.2529393 | Z43: Space for admin | AA43: 0.22366371 | AB43: Space for admin | AC43: 0.2372453 | AD43: Space for admin | AE43: 0.19865345 | AF43: Space for admin | AG43: 0.26417023 | AH43: Original building function | AI43: 0.25881077 | AJ43: Space for admin | AK43: 0.22851116 | AL43: Space for admin | AM43: 0.24713552 | AN43: Original building function | AO43: 0.23105282 | AP43: Space for admin | AQ43: 0.21465701 | AR43: Space for admin | AS43: 0.25849736 | AT43: Space for admin | AU43: 0.25890103 | AV43: Space for admin | AW43: 0.11153974 | AX43: Space for admin | AY43: 0.25708782 | AZ43: Space for admin | BA43: 0.22647256 | BB43: Space for admin
A45: Level 7S | C45: Personal security, Stuff security
A46: All | C46: Academia | E46: NonAcademia | G46: NGO | I46: NonNGO | K46: AcadNGO | M46: NonAcadNGO | O46: Yes | Q46: Some | S46: No | U46: YesSome | W46: Anyexp | Y46: Noexp | AA46: Sospp | AC46: Nonsospp | AE46: Engr | AG46: NonEngr | AI46: Social | AK46: Nonsocial | AM46: Physical | AO46: Nonphysical | AQ46: Nathaz | AS46: Nonnathaz | AU46: Disman | AW46: Nondisman | AY46: Lgaumo | BA46: Nonlgaumo
...

Sheet Hub_AllGroups_sorted
A1: Hub
A2: Level 1H | B2: Hazard at location, Physical Vulnerability, Accessibility, Communications, Working Environment
A3: All | C3: Academia | E3: NonAcademia | G3: NGO | I3: NonNGO | K3: AcadNGO | M3: NonAcadNGO | O3: Yes | Q3: Some | S3: No | U3: YesSome | W3: Anyexp | Y3: Noexp | AA3: Uospp | AC3: Nonuospp | AE3: Engr | AG3: NonEngr | AI3: Social | AK3: Nonsocial | AM3: Physical | AO3: Nonphysical | AQ3: Nathaz | AS3: Nonnathaz | AU3: Disman | AW3: Nondisman | AY3: Lgaumo | BA3: Nonlgaumo
A4: 0.23998457 | B4: Hazard | C4: 0.24531504 | D4: Hazard | E4: 0.23736065 | F4: Vulnerability | G4: 0.2614514 | H4: Hazard | I4: 0.23589406 | J4: Accessibility | K4: 0.24241738 | L4: Hazard | M4: 0.24273316 | N4: Accessibility | O4: 0.27218336 | P4: Hazard | Q4: 0.24029176 | R4: Vulnerability | S4: 0.25686394 | T4: Vulnerability | U4: 0.24803134 | V4: Hazard | W4: 0.23851922 | X4: Hazard | Y4: 0.24185253 | Z4: Hazard | AA4: 0.24609621 | AB4: Hazard | AC4: 0.23688574 | AD4: Vulnerability | AE4: 0.24245632 | AF4: Hazard | AG4: 0.23634301 | AH4: Hazard | AI4: 0.2378514 | AJ4: Vulnerability | AK4: 0.24905573 | AL4: Hazard | AM4: 0.25954212 | AN4: Vulnerability | AO4: 0.25153561 | AP4: Hazard | AQ4: 0.23904152 | AR4: Vulnerability | AS4: 0.23986417 | AT4: Hazard | AU4: 0.25565888 | AV4: Hazard | AW4: 0.25498772 | AX4: Vulnerability | AY4: 0.28027648 | AZ4: Hazard | BA4: 0.23460427 | BB4: Vulnerability
A5: 0.22134204 | B5: Vulnerability | C5: 0.22880884 | D5: Accessibility | E5: 0.22460701 | F5: Hazard | G5: 0.20303837 | H5: Vulnerability | I5: 0.22986478 | J5: Hazard | K5: 0.22600416 | L5: Vulnerability | M5: 0.20353565 | N5: Hazard | O5: 0.2030287 | P5: Working Environment | Q5: 0.22597775 | R5: Accessibility | S5: 0.22447737 | T5: Hazard | U5: 0.21509048 | V5: Accessibility | W5: 0.219926 | X5: Accessibility | Y5: 0.24021063 | Z5: Vulnerability | AA5: 0.21565195 | AB5: Accessibility | AC5: 0.2334538 | AD5: Hazard | AE5: 0.22770894 | AF5: Accessibility | AG5: 0.21543339 | AH5: Vulnerability | AI5: 0.22253132 | AJ5: Accessibility | AK5: 0.21755773 | AL5: Accessibility | AM5: 0.25737497 | AN5: Accessibility | AO5: 0.20909633 | AP5: Vulnerability | AQ5: 0.2383964 | AR5: Hazard | AS5: 0.20565428 | AT5: Accessibility | AU5: 0.21498088 | AV5: Vulnerability | AW5: 0.24306467 | AX5: Accessibility | AY5: 0.20331381 | AZ5: Accessibility | BA5: 0.22520421 | BB5: Accessibility
A6: 0.21899004 | B6: Accessibility | C6: 0.21520837 | D6: Vulnerability | E6: 0.19615294 | F6: Communications | G6: 0.20010717 | H6: Communications | I6: 0.22872152 | J6: Vulnerability | K6: 0.21697013 | L6: Accessibility | M6: 0.19927809 | N6: Communications | O6: 0.20252054 | P6: Accessibility | Q6: 0.2197705 | R6: Hazard | S6: 0.22361205 | T6: Accessibility | U6: 0.20190671 | V6: Vulnerability | W6: 0.20936403 | X6: Vulnerability | Y6: 0.21696556 | Z6: Accessibility | AA6: 0.20637641 | AB6: Vulnerability | AC6: 0.22186016 | AD6: Accessibility | AE6: 0.22652502 | AF6: Vulnerability | AG6: 0.20895046 | AH6: Accessibility | AI6: 0.21086832 | AJ6: Hazard | AK6: 0.21619161 | AL6: Vulnerability | AM6: 0.19998303 | AN6: Hazard | AO6: 0.20676023 | AP6: Accessibility | AQ6: 0.2301293 | AR6: Accessibility | AS6: 0.20173061 | AT6: Vulnerability | AU6: 0.21393422 | AV6: Accessibility | AW6: 0.21908512 | AX6: Working Environment | AY6: 0.19175641 | AZ6: Vulnerability | BA6: 0.22377198 | BB6: Hazard
A7: 0.16685964 | B7: Communications | C7: 0.15693373 | D7: Communications | E7: 0.19267046 | F7: Accessibility | G7: 0.182117 | H7: Accessibility | I7: 0.15353121 | J7: Communications | K7: 0.16452055 | L7: Communications | M7: 0.19403608 | N7: Working Environment | O7: 0.17008688 | P7: Vulnerability | Q7: 0.17440663 | R7: Communications | S7: 0.17083821 | T7: Communications | U7: 0.17133635 | V7: Working Environment | W7: 0.17476051 | X7: Communications | Y7: 0.15529521 | Z7: Communications | AA7: 0.16675016 | AB7: Working Environment | AC7: 0.16813338 | AD7: Communications | AE7: 0.15305653 | AF7: Communications | AG7: 0.18360827 | AH7: Communications | AI7: 0.18939104 | AJ7: Communications | AK7: 0.16023675 | AL7: Communications | AM7: 0.1804669 | AN7: Communications | AO7: 0.17105001 | AP7: Working Environment | AQ7: 0.15975762 | AR7: Communications | AS7: 0.17864771 | AT7: Working Environment | AU7: 0.17188386 | AV7: Communications | AW7: 0.1516166 | AX7: Hazard | AY7: 0.17498702 | AZ7: Communications | BA7: 0.16286223 | BB7: Communications
A8: 0.1528237 | B8: Working Environment | C8: 0.15373402 | D8: Working Environment | E8: 0.14920894 | F8: Working Environment | G8: 0.15328606 | H8: Working Environment | I8: 0.15198842 | J8: Working Environment | K8: 0.15008778 | L8: Working Environment | M8: 0.16041702 | N8: Vulnerability | O8: 0.15218051 | P8: Communications | Q8: 0.13955337 | R8: Working Environment | S8: 0.12420844 | T8: Working Environment | U8: 0.16363512 | V8: Communications | W8: 0.15743025 | X8: Working Environment | Y8: 0.14567607 | Z8: Working Environment | AA8: 0.16512527 | AB8: Communications | AC8: 0.13966692 | AD8: Working Environment | AE8: 0.15025319 | AF8: Working Environment | AG8: 0.15566487 | AH8: Working Environment | AI8: 0.13935791 | AJ8: Working Environment | AK8: 0.15695818 | AL8: Working Environment | AM8: 0.10263298 | AN8: Working Environment | AO8: 0.16155782 | AP8: Communications | AQ8: 0.13267516 | AR8: Working Environment | AS8: 0.17410323 | AT8: Communications | AU8: 0.14354216 | AV8: Working Environment | AW8: 0.13124589 | AX8: Communications | AY8: 0.14966627 | AZ8: Working Environment | BA8: 0.1535573 | BB8: Working Environment
A10: Level 2H | B10: Transport option for receivers, Transport option for suppliers, Immediate availability, Easy to find
A11: All | C11: Academia | E11: NonAcademia | G11: NGO | I11: NonNGO | K11: AcadNGO | M11: NonAcadNGO | O11: Yes | Q11: Some | S11: No | U11: YesSome | W11: Anyexp | Y11: Noexp | AA11: Uospp | AC11: Nonuospp | AE11: Engr | AG11: NonEngr | AI11: Social | AK11: Nonsocial | AM11: Physical | AO11: Nonphysical | AQ11: Nathaz | AS11: Nonnathaz | AU11: Disman | AW11: Nondisman | AY11: Lgaumo | BA11: Nonlgaumo
A12: 0.28795408 | B12: Immediate availability | C12: 0.31996334 | D12: Immediate availability | E12: 0.33175677 | F12: Transport options-suppliers | G12: 0.29792077 | H12: Transport options-receivers | I12: 0.30265682 | J12: Immediate availability | K12: 0.28579772 | L12: Immediate availability | M12: 0.31928853 | N12: Immediate availability | O12: 0.35014692 | P12: Immediate availability | Q12: 0.27209533 | R12: Transport options-suppliers | S12: 0.28153685 | T12: Transport options-receivers | U12: 0.30392176 | V12: Immediate availability | W12: 0.31312054 | X12: Immediate availability | Y12: 0.28759923 | Z12: Transport options-receivers | AA12: 0.2888607 | AB12: Immediate availability | AC12: 0.28653687 | AD12: Immediate availability | AE12: 0.28853191 | AF12: Transport options-receivers | AG12: 0.29185917 | AH12: Immediate availability | AI12: 0.28298893 | AJ12: Transport options-suppliers | AK12: 0.28928586 | AL12: Immediate availability | AM12: 0.29560175 | AN12: Transport options-receivers | AO12: 0.30846494 | AP12: Immediate availability | AQ12: 0.276722 | AR12: Transport options-receivers | AS12: 0.30825646 | AT12: Immediate availability | AU12: 0.29258104 | AV12: Immediate availability | AW12: 0.31960943 | AX12: Transport options-receivers | AY12: 0.30191654 | AZ12: Transport options-receivers | BA12: 0.2904708 | BB12: Immediate availability
A13: 0.26951434 | B13: Transport options-receivers | C13: 0.26284011 | D13: Transport options-receivers | E13: 0.27792766 | F13: Transport options-receivers | G13: 0.26959195 | H13: Transport options-suppliers | I13: 0.25714353 | J13: Transport options-receivers | K13: 0.27122327 | L13: Transport options-receivers | M13: 0.24536961 | N13: Transport options-receivers | O13: 0.2617582 | P13: Transport options-receivers | Q13: 0.25851482 | R13: Transport options-receivers | S13: 0.26433575 | T13: Transport options-suppliers | U13: 0.26221567 | V13: Transport options-receivers | W13: 0.25718578 | X13: Transport options-receivers | Y13: 0.25293758 | Z13: Transport options-suppliers | AA13: 0.28195267 | AB13: Transport options-receivers | AC13: 0.25734981 | AD13: Transport options-receivers | AE13: 0.2836797 | AF13: Immediate availability | AG13: 0.24823127 | AH13: Transport options-receivers | AI13: 0.28161872 | AJ13: Immediate availability | AK13: 0.27145405 | AL13: Transport options-receivers | AM13: 0.27054175 | AN13: Transport options-suppliers | AO13: 0.26093404 | AP13: Transport options-receivers | AQ13: 0.2708271 | AR13: Immediate availability | AS13: 0.2608336 | AT13: Transport options-receivers | AU13: 0.26221985 | AV13: Transport options-receivers | AW13: 0.25660912 | AX13: Immediate availability | AY13: 0.28123439 | AZ13: Immediate availability | BA13: 0.25630944 | BB13: Transport options-receivers
A14: 0.24270972 | B14: Transport options-suppliers | C14: 0.21366533 | D14: Transport options-suppliers | E14: 0.20746274 | F14: Immediate availability | G14: 0.25394454 | H14: Immediate availability | I14: 0.23122338 | J14: Transport options-suppliers | K14: 0.24245507 | L14: Transport options-suppliers | M14: 0.24536961 | N14: Transport options-suppliers | O14: 0.19599945 | P14: Transport options-suppliers | Q14: 0.2559941 | R14: Immediate availability | S14: 0.26109171 | T14: Immediate availability | U14: 0.23047239 | V14: Transport options-suppliers | W14: 0.23523589 | X14: Transport options-suppliers | Y14: 0.25238027 | Z14: Immediate availability | AA14: 0.24184435 | AB14: Transport options-suppliers | AC14: 0.24319759 | AD14: Transport options-suppliers | AE14: 0.2456219 | AF14: Transport options-suppliers | AG14: 0.23863773 | AH14: Transport options-suppliers | AI14: 0.26164471 | AJ14: Transport options-receivers | AK14: 0.23114768 | AL14: Transport options-suppliers | AM14: 0.22654188 | AN14: Immediate availability | AO14: 0.23383909 | AP14: Transport options-suppliers | AQ14: 0.25405584 | AR14: Transport options-suppliers | AS14: 0.22992889 | AT14: Transport options-suppliers | AU14: 0.2467195 | AV14: Transport options-suppliers | AW14: 0.21659063 | AX14: Transport options-suppliers | AY14: 0.22610959 | AZ14: Transport options-suppliers | BA14: 0.24976047 | BB14: Transport options-suppliers
A15: 0.19982186 | B15: Easy to find | C15: 0.20353122 | D15: Easy to find | E15: 0.18285283 | F15: Easy to find | G15: 0.17854275 | H15: Easy to find | I15: 0.20897626 | J15: Easy to find | K15: 0.20052394 | L15: Easy to find | M15: 0.18997225 | N15: Easy to find | O15: 0.19209542 | P15: Easy to find | Q15: 0.21339574 | R15: Easy to find | S15: 0.19303569 | T15: Easy to find | U15: 0.20339019 | V15: Easy to find | W15: 0.1944578 | X15: Easy to find | Y15: 0.20708292 | Z15: Easy to find | AA15: 0.18734229 | AB15: Easy to find | AC15: 0.21291572 | AD15: Easy to find | AE15: 0.18216649 | AF15: Easy to find | AG15: 0.22127182 | AH15: Easy to find | AI15: 0.17374763 | AJ15: Easy to find | AK15: 0.20811241 | AL15: Easy to find | AM15: 0.20731462 | AN15: Easy to find | AO15: 0.19676194 | AP15: Easy to find | AQ15: 0.19839506 | AR15: Easy to find | AS15: 0.20098105 | AT15: Easy to find | AU15: 0.19847962 | AV15: Easy to find | AW15: 0.20719083 | AX15: Easy to find | AY15: 0.19073948 | AZ15: Easy to find | BA15: 0.20345928 | BB15: Easy to find
A17: Level 3H | B17: Utilities, Space, Security, Health & Safety, Food & drink
A18: All | C18: Academia | E18: NonAcademia | G18: NGO | I18: NonNGO | K18: AcadNGO | M18: NonAcadNGO | O18: Yes | Q18: Some | S18: No | U18: YesSome | W18: Anyexp | Y18: Noexp | AA18: Uospp | AC18: Nonuospp | AE18: Engr | AG18: NonEngr | AI18: Social | AK18: Nonsocial | AM18: Physical | AO18: Nonphysical | AQ18: Nathaz | AS18: Nonnathaz | AU18: Disman | AW18: Nondisman | AY18: Lgaumo | BA18: Nonlgaumo
A19: 0.25247263 | B19: Security | C19: 0.25145147 | D19: Security | E19: 0.25462801 | F19: Security | G19: 0.2431998 | H19: Security | I19: 0.25533825 | J19: Security | K19: 0.25437953 | L19: Security | M19: 0.28208065 | N19: Space | O19: 0.24822035 | P19: Security | Q19: 0.25421433 | R19: Security | S19: 0.25187107 | T19: Security | U19: 0.25203441 | V19: Security | W19: 0.27322348 | X19: Security | Y19: 0.25349831 | Z19: Utilities | AA19: 0.26370328 | AB19: Security | AC19: 0.2447742 | AD19: Utilities | AE19: 0.22969873 | AF19: Utilities | AG19: 0.28685604 | AH19: Security | AI19: 0.27847195 | AJ19: Security | AK19: 0.24447476 | AL19: Security | AM19: 0.26902832 | AN19: Security | AO19: 0.24632381 | AP19: Security | AQ19: 0.2393618 | AR19: Utilities | AS19: 0.26717275 | AT19: Security | AU19: 0.25123935 | AV19: Security | AW19: 0.25204042 | AX19: Food & drink | AY19: 0.24850547 | AZ19: Security | BA19: 0.25115923 | BB19: Security
A20: 0.21220909 | B20: Utilities | C20: 0.20835019 | D20: Utilities | E20: 0.22259433 | F20: Utilities | G20: 0.22450849 | H20: Health & Safety | I20: 0.21397971 | J20: Utilities | K20: 0.21116985 | L20: Utilities | M20: 0.2192592 | N20: Utilities | O20: 0.22516247 | P20: Space | Q20: 0.21720344 | R20: Utilities | S20: 0.24310119 | T20: Utilities | U20: 0.20392967 | V20: Space | W20: 0.21149719 | X20: Space | Y20: 0.22036419 | Z20: Security | AA20: 0.20783181 | AB20: Space | AC20: 0.23973927 | AD20: Security | AE20: 0.22405041 | AF20: Security | AG20: 0.19247391 | AH20: Utilities | AI20: 0.22046807 | AJ20: Utilities | AK20: 0.20940645 | AL20: Utilities | AM20: 0.23520161 | AN20: Utilities | AO20: 0.20452964 | AP20: Utilities | AQ20: 0.23872647 | AR20: Security | AS20: 0.19879302 | AT20: Health & Safety | AU20: 0.21104263 | AV20: Utilities | AW20: 0.24870894 | AX20: Security | AY20: 0.23569714 | AZ20: Space | BA20: 0.22216428 | BB20: Utilities
A21: 0.19827903 | B21: Space | C21: 0.20170358 | D21: Space | E21: 0.18852983 | F21: Space | G21: 0.20599267 | H21: Utilities | I21: 0.2039792 | J21: Space | K21: 0.19287294 | L21: Space | M21: 0.2192592 | N21: Security | O21: 0.20890711 | P21: Health & Safety | Q21: 0.18213554 | R21: Food & drink | S21: 0.18783778 | T21: Space | U21: 0.19562503 | V21: Utilities | W21: 0.18793261 | X21: Health & Safety | Y21: 0.18539769 | Z21: Food & drink | AA21: 0.19646095 | AB21: Health & Safety | AC21: 0.1879242 | AD21: Space | AE21: 0.20849361 | AF21: Space | AG21: 0.19108952 | AH21: Health & Safety | AI21: 0.16895355 | AJ21: Space | AK21: 0.20764889 | AL21: Space | AM21: 0.21024649 | AN21: Space | AO21: 0.1937419 | AP21: Space | AQ21: 0.20195368 | AR21: Space | AS21: 0.19290717 | AT21: Space | AU21: 0.20955233 | AV21: Space | AW21: 0.21195355 | AX21: Utilities | AY21: 0.22261391 | AZ21: Health & Safety | BA21: 0.18397174 | BB21: Food & drink
A22: 0.17894127 | B22: Health & Safety | C22: 0.18581354 | D22: Health & Safety | E22: 0.1734052 | F22: Food & drink | G22: 0.18382268 | H22: Space | I22: 0.16479307 | J22: Food & drink | K22: 0.18445639 | L22: Health & Safety | M22: 0.16669365 | N22: Food & drink | O22: 0.17629332 | P22: Utilities | Q22: 0.18044639 | R22: Space | S22: 0.16328314 | T22: Health & Safety | U22: 0.18824623 | V22: Health & Safety | W22: 0.18673625 | X22: Utilities | Y22: 0.17726744 | Z22: Space | AA22: 0.18254506 | AB22: Utilities | AC22: 0.16589147 | AD22: Food & drink | AE22: 0.17011045 | AF22: Food & drink | AG22: 0.1855347 | AH22: Space | AI22: 0.1665434 | AJ22: Food & drink | AK22: 0.18305829 | AL22: Health & Safety | AM22: 0.179811 | AN22: Health & Safety | AO22: 0.17770271 | AP22: Food & drink | AQ22: 0.16223996 | AR22: Health & Safety | AS22: 0.18383895 | AT22: Utilities | AU22: 0.18190384 | AV22: Health & Safety | AW22: 0.15546959 | AX22: Health & Safety | AY22: 0.18505331 | AZ22: Utilities | BA22: 0.1817618 | BB22: Space
