Workbook

Sheet Standardizing estimates
C1: =IFERROR(MID(CELL("filename",A1),FIND("]",CELL("filename",A1))+1,256),"Gem projektmappen og navngiv dit ark") -> Standardizing estimates
A3: Stringency studies
C6: Effect on COVID-19 mortality | D6: Estimate | E6: Standard error | F6: 1/SE | G6: “Good” bias dimensions | H6: =I377 -> Largest weight equal to 2nd largest | I6: =J377 -> Lowest weight equal to 2nd lowest | J6: =L377 -> Highest (least negative) estimate equal to 2nd highest | K6: =K377 -> Smallest (most negative) estimate equal to 2nd smallest | L6: 1/SE^2
C7: =C25 -> Bjørnskov (2021) | D7: =AVERAGE(G25:H25) -> -0.0030820447 | E7: =E25/D25*D7 -> 0.008218786 | F7: =1/E7 -> 121.67247 | G7: =SUM(T25:AA25) -> 7 | L7: =1/E7^2 -> 14804.19
C8: =C26 -> Shiva and Molana (2021) | D8: =AVERAGE(G26:H26) -> -0.040159765 | E8: =E26/D26*D8 -> 0.0039495967 | F8: =1/E8 -> 253.19041 | G8: =SUM(T26:AA26) -> 7 | H8: =(SUMPRODUCT(F7:F14,D7:D14)-F8*D8+LARGE(F7:F14,2)*D8)/(SUM(F7:F14)-F8+LARGE(F7:F14,2)) -> -0.03151128 | L8: =1/E8^2 -> 64105.382
C9: =C27 -> Chisadza et al. (2021) | D9: =AVERAGE(G27:H27) -> 0.11715265 | E9: =E27/D27*D9 -> 0.014418787 | F9: =1/E9 -> 69.35396 | G9: =SUM(T27:AA27) -> 4 | J9: =(SUMPRODUCT(F7:F14,D7:D14)-F9*D9+F9*LARGE(D7:D14,2))/SUM(F7:F14) -> -0.043554808 | L9: =1/E9^2 -> 4809.9718
C10: =C28 -> Goldstein et al. (2021) | D10: =AVERAGE(G28:H28) -> -0.075420108 | E10: =E28/D28*D10 -> 0.019724466 | F10: =1/E10 -> 50.698458 | G10: =SUM(T28:AA28) -> 6 | L10: =1/E10^2 -> 2570.3337
C11: =C29 -> Fuller et al. (2021) | D11: =AVERAGE(G29:H29) -> -0.35345826 | E11: =E29/D29*D11 -> 0.0908532 | F11: =1/E11 -> 11.006767 | G11: =SUM(T29:AA29) -> 3 | I11: =(SUMPRODUCT(F7:F14,D7:D14)-F11*D11+SMALL(F7:F14,2)*D11)/(SUM(F7:F14)-F11+SMALL(F7:F14,2)) -> -0.037070899 | K11: =(SUMPRODUCT(F7:F14,D7:D14)-F11*D11+F11*SMALL(D7:D14,2))/SUM(F7:F14) -> -0.029620472 | L11: =1/E11^2 -> 121.14892
C12: =C30 -> Ashraf (2020) | D12: =AVERAGE(G30:H30) -> -0.024009082 | E12: =E30/D30*D12 -> 0.0055315055 | F12: =1/E12 -> 180.78261 | G12: =SUM(T30:AA30) -> 4 | L12: =1/E12^2 -> 32682.352
C13: =C31 -> Yang et al. (2021) | D13: =AVERAGE(G31:H31) -> -0.16329011 | E13: =E31/D31*D13 -> 0.045232718 | F13: =1/E13 -> 22.107891 | G13: =SUM(T31:AA31) -> 5 | L13: =1/E13^2 -> 488.75885
C14: =C32 -> Hale et al. (2021) | D14: =AVERAGE(G32:H32) -> -0.16869018 | E14: =E32/D32*D14 -> 0.02811503 | F14: =1/E14 -> 35.568164 | G14: =SUM(T32:AA32) -> 7 | L14: =1/E14^2 -> 1265.0943
C15: =$C$33 -> Precision-weighted average (arithmetic average / median) | D15: =TEXT(SUMPRODUCT(F7:F14,D7:D14)/SUM(F7:F14),"0.0%") & " (" & TEXT(AVERAGE(D7:D14),"0.0%") & "/"&TEXT(MEDIAN(D7:D14),"0.0%") & "/" & TEXT(SUMPRODUCT(L7:L14,D7:D14)/SUM(L7:L14),"0.0%")&")" -> -3.2% (-8.9%/-5.8%/-2.8%) | H15: =SUM(H7:H14) -> -0.03151128 | I15: =SUM(I7:I14) -> -0.037070899 | J15: =SUM(J7:J14) -> -0.043554808 | K15: =SUM(K7:K14) -> -0.029620472
C16: Sensitivity analysis (quality adjusted PWA) | D16: =TEXT(MIN(H15:K15),"0.0%") &" to "&TEXT(MAX(H15:K15),"0.0%")&" ("&TEXT(D64,"0.0%")&")" -> -4.4% to -3.0% (-3.8%)
C17: Data for checks and use other places | D17: =SUMPRODUCT(F7:F14,$D7:$D14)/SUM(F7:F14) -> -0.03235254 | E17: =AVERAGE(D7:D14) -> -0.088869613 | F17: =MEDIAN(D7:D14) -> -0.057789937 | L17: =SUMPRODUCT(L7:L14,$D7:$D14)/SUM(L7:L14) -> -0.027895972
D18: =MAX(H15:K15) -> -0.029620472 | E18: =MIN(I15:L15) -> -0.043554808
B22: Original estimates and standard errors
B23: No. | C23: Study | D23: Estimate and standard error | G23: Common measure (relative to recommendation policy) | L23: Input data for groupings | T23: Groupings
D24: Estimate | E24: SE | F24: Unit | G24: Europe | H24: United states | L24: Last date of data | M24: Early effect | N24: Field of research | O24: Publication status | P24: Lagged vs. no lag of policy effect | Q24: Fixed/random vs. no fixed/random effects | R24: Public vs. own data. | S24: Handling vs. no handling of causality | T24: Peer-reviewed | U24: Long data series | V24: No early effect | W24: Lagged | X24: Fixed/random effects | Y24: Public data | Z24: Handling of causality | AA24: Social Science | AB24: Super study | AC24: Quality index | AD24: 1/SE*QI
B25: =B537 -> 1 | C25: =D537 -> Bjørnskov (2021) | D25: =F540 -> -0.006 | E25: =G540 -> 0.016 | F25: % fewer deaths per 1% increase in stringency | G25: =D540 -> -0.0031714983 | H25: =E540 -> -0.0029925912 | K25: =C25 -> Bjørnskov (2021) | L25: 44012 | M25: <8 days | N25: Economics | O25: Peer-review | P25: Yes | Q25: Yes | R25: OxCGRT stringency index | S25: Instrument variable | T25: =IF(O25=Input!$J$5,1,0) -> 1 | U25: =IF(L25>Input!$V$5,1,0) -> 1 | V25: =INDEX(Input!$Y$5:$Y$10,MATCH(M25,Input!$X$5:$X$10,0)) -> 0 | W25: =IF(P25=Input!$AD$5,1,0) -> 1 | X25: =IF(Q25=Input!$AD$5,1,0) -> 1 | Y25: =IFERROR(INDEX(Input!$Q$5:$Q$14,MATCH(R25,Input!$P$5:$P$14,0)),0) -> 1 | Z25: =IFERROR(INDEX(Input!$AB$5:$AB$9,MATCH(S25,Input!$AA$5:$AA$9,0)),0) -> 1 | AA25: =INDEX(Input!$D$4:$D$28,MATCH(N25,Input!$C$4:$C$28,0)) -> 1 | AB25: =IF(MIN(W25,X25,Z25)=1,1,0) -> 1 | AC25: =(SUM(T25:AA25)/COUNT(T25:AA25))^2 -> 0.765625 | AD25: =F7*AC25 -> 93.155486
B26: =B559 -> 14 | C26: =D559 -> Shiva and Molana (2021) | D26: =D562 -> -0.001331 | E26: =E562 -> 0.0001309 | F26: % fewer deaths per stringency point | G26: =D570 -> -0.041630381 | H26: =E570 -> -0.038689149 | K26: =C26 -> Shiva and Molana (2021) | L26: 43990 | M26: 15-21 days | N26: Government | O26: Peer-review | P26: Yes | Q26: Yes | R26: OxCGRT stringency index | S26: Does not handle causality | T26: =IF(O26=Input!$J$5,1,0) -> 1 | U26: =IF(L26>Input!$V$5,1,0) -> 1 | V26: =INDEX(Input!$Y$5:$Y$10,MATCH(M26,Input!$X$5:$X$10,0)) -> 1 | W26: =IF(P26=Input!$AD$5,1,0) -> 1 | X26: =IF(Q26=Input!$AD$5,1,0) -> 1 | Y26: =IFERROR(INDEX(Input!$Q$5:$Q$14,MATCH(R26,Input!$P$5:$P$14,0)),0) -> 1 | Z26: =IFERROR(INDEX(Input!$AB$5:$AB$9,MATCH(S26,Input!$AA$5:$AA$9,0)),0) -> 0 | AA26: =INDEX(Input!$D$4:$D$28,MATCH(N26,Input!$C$4:$C$28,0)) -> 1 | AB26: =IF(MIN(W26,X26,Z26)=1,1,0) -> 0 | AC26: =(SUM(T26:AA26)/COUNT(T26:AA26))^2 -> 0.765625 | AD26: =F8*AC26 -> 193.8489
B27: =B701 -> 49 | C27: =D701 -> Chisadza et al. (2021) | D27: =E704 -> 0.013 | E27: =F704 -> 0.0016 | F27: % fewer deaths per stringency point | G27: =D723 -> 0.094089562 | H27: =E723 -> 0.14021573 | K27: =C27 -> Chisadza et al. (2021) | L27: 44075 | M27: n/a | N27: Economics | O27: Peer-review | P27: No | Q27: no | R27: OxCGRT stringency index | S27: Does not handle causality | T27: =IF(O27=Input!$J$5,1,0) -> 1 | U27: =IF(L27>Input!$V$5,1,0) -> 1 | V27: =INDEX(Input!$Y$5:$Y$10,MATCH(M27,Input!$X$5:$X$10,0)) -> 0 | W27: =IF(P27=Input!$AD$5,1,0) -> 0 | X27: =IF(Q27=Input!$AD$5,1,0) -> 0 | Y27: =IFERROR(INDEX(Input!$Q$5:$Q$14,MATCH(R27,Input!$P$5:$P$14,0)),0) -> 1 | Z27: =IFERROR(INDEX(Input!$AB$5:$AB$9,MATCH(S27,Input!$AA$5:$AA$9,0)),0) -> 0 | AA27: =INDEX(Input!$D$4:$D$28,MATCH(N27,Input!$C$4:$C$28,0)) -> 1 | AB27: =IF(MIN(W27,X27,Z27)=1,1,0) -> 0 | AC27: =(SUM(T27:AA27)/COUNT(T27:AA27))^2 -> 0.25 | AD27: =F9*AC27 -> 17.33849
B28: =B1091 -> 89 | C28: =D1091 -> Goldstein et al. (2021) | D28: =D1099 -> -1.1534091 | E28: =D1100 -> 0.30164871 | F28: deaths/million per stringency point | G28: =E1127 -> -0.092460756 | H28: =F1127 -> -0.05837946 | K28: =C28 -> Goldstein et al. (2021) | L28: 44196 | M28: <8 days | N28: International Development | O28: WP | P28: Yes | Q28: Yes | R28: OxCGRT stringency index | S28: Lag dependent (>2 weeks) | T28: =IF(O28=Input!$J$5,1,0) -> 0 | U28: =IF(L28>Input!$V$5,1,0) -> 1 | V28: =INDEX(Input!$Y$5:$Y$10,MATCH(M28,Input!$X$5:$X$10,0)) -> 0 | W28: =IF(P28=Input!$AD$5,1,0) -> 1 | X28: =IF(Q28=Input!$AD$5,1,0) -> 1 | Y28: =IFERROR(INDEX(Input!$Q$5:$Q$14,MATCH(R28,Input!$P$5:$P$14,0)),0) -> 1 | Z28: =IFERROR(INDEX(Input!$AB$5:$AB$9,MATCH(S28,Input!$AA$5:$AA$9,0)),0) -> 1 | AA28: =INDEX(Input!$D$4:$D$28,MATCH(N28,Input!$C$4:$C$28,0)) -> 1 | AB28: =IF(MIN(W28,X28,Z28)=1,1,0) -> 1 | AC28: =(SUM(T28:AA28)/COUNT(T28:AA28))^2 -> 0.5625 | AD28: =F10*AC28 -> 28.517883
B29: =B1198 -> 99 | C29: =D1198 -> Fuller et al. (2021) | D29: =D1202 -> -0.54585153 | E29: =H1202 -> 0.14030612 | F29: deaths/million per stringency point | G29: =D1210 -> -0.40984608 | H29: =E1210 -> -0.29707044 | K29: =C29 -> Fuller et al. (2021) | L29: 44012 | M29: n/a | N29: Epidemiology | O29: WP | P29: Yes | Q29: No | R29: OxCGRT stringency index | S29: Does not handle causality | T29: =IF(O29=Input!$J$5,1,0) -> 0 | U29: =IF(L29>Input!$V$5,1,0) -> 1 | V29: =INDEX(Input!$Y$5:$Y$10,MATCH(M29,Input!$X$5:$X$10,0)) -> 0 | W29: =IF(P29=Input!$AD$5,1,0) -> 1 | X29: =IF(Q29=Input!$AD$5,1,0) -> 0 | Y29: =IFERROR(INDEX(Input!$Q$5:$Q$14,MATCH(R29,Input!$P$5:$P$14,0)),0) -> 1 | Z29: =IFERROR(INDEX(Input!$AB$5:$AB$9,MATCH(S29,Input!$AA$5:$AA$9,0)),0) -> 0 | AA29: =INDEX(Input!$D$4:$D$28,MATCH(N29,Input!$C$4:$C$28,0)) -> 0 | AB29: =IF(MIN(W29,X29,Z29)=1,1,0) -> 0 | AC29: =(SUM(T29:AA29)/COUNT(T29:AA29))^2 -> 0.140625 | AD29: =F11*AC29 -> 1.5478266
B30: =B1212 -> 102 | C30: =D1212 -> Ashraf (2020) | D30: =C1217 -> -0.1995 | E30: =F1217 -> 0.045963247 | F30: deaths/million per stringency point | G30: =D1227 -> -0.028140137 | H30: =E1227 -> -0.019878027 | K30: =C30 -> Ashraf (2020) | L30: 43971 | M30: n/a | N30: Economics | O30: WP | P30: No | Q30: Yes | R30: OxCGRT stringency index | S30: Other model handling | T30: =IF(O30=Input!$J$5,1,0) -> 0 | U30: =IF(L30>Input!$V$5,1,0) -> 0 | V30: =INDEX(Input!$Y$5:$Y$10,MATCH(M30,Input!$X$5:$X$10,0)) -> 0 | W30: =IF(P30=Input!$AD$5,1,0) -> 0 | X30: =IF(Q30=Input!$AD$5,1,0) -> 1 | Y30: =IFERROR(INDEX(Input!$Q$5:$Q$14,MATCH(R30,Input!$P$5:$P$14,0)),0) -> 1 | Z30: =IFERROR(INDEX(Input!$AB$5:$AB$9,MATCH(S30,Input!$AA$5:$AA$9,0)),0) -> 1 | AA30: =INDEX(Input!$D$4:$D$28,MATCH(N30,Input!$C$4:$C$28,0)) -> 1 | AB30: =IF(MIN(W30,X30,Z30)=1,1,0) -> 0 | AC30: =(SUM(T30:AA30)/COUNT(T30:AA30))^2 -> 0.25 | AD30: =F12*AC30 -> 45.195653
B31: =B1395 -> 137 | C31: =D1395 -> Yang et al. (2021) | D31: =D1399 -> -0.018 | E31: =F1399 -> 0.0049861496 | F31: deaths/million per stringency point | G31: =H1399 -> -0.19681305 | H31: =I1399 -> -0.12976717 | K31: =C31 -> Yang et al. (2021) | L31: 44168 | M31: <8 days | N31: Economics | O31: Peer-review | P31: Yes | Q31: No | R31: OxCGRT stringency index | S31: Does not handle causality | T31: =IF(O31=Input!$J$5,1,0) -> 1 | U31: =IF(L31>Input!$V$5,1,0) -> 1 | V31: =INDEX(Input!$Y$5:$Y$10,MATCH(M31,Input!$X$5:$X$10,0)) -> 0 | W31: =IF(P31=Input!$AD$5,1,0) -> 1 | X31: =IF(Q31=Input!$AD$5,1,0) -> 0 | Y31: =IFERROR(INDEX(Input!$Q$5:$Q$14,MATCH(R31,Input!$P$5:$P$14,0)),0) -> 1 | Z31: =IFERROR(INDEX(Input!$AB$5:$AB$9,MATCH(S31,Input!$AA$5:$AA$9,0)),0) -> 0 | AA31: =INDEX(Input!$D$4:$D$28,MATCH(N31,Input!$C$4:$C$28,0)) -> 1 | AB31: =IF(MIN(W31,X31,Z31)=1,1,0) -> 0 | AC31: =(SUM(T31:AA31)/COUNT(T31:AA31))^2 -> 0.390625 | AD31: =F13*AC31 -> 8.635895
B32: =B1418 -> 146 | C32: =D1418 -> Hale et al. (2021) | D32: =E1422 -> -0.006 | E32: =F1422 -> 0.001 | F32: % fewer deaths per stringency point | G32: =D1432 -> -0.17443174 | H32: =E1432 -> -0.16294862 | K32: =C32 -> Hale et al. (2021) | L32: 44266 | M32: n/a | N32: Government | O32: Peer-review | P32: Yes | Q32: Yes | R32: OxCGRT stringency index | S32: Other model handling | T32: =IF(O32=Input!$J$5,1,0) -> 1 | U32: =IF(L32>Input!$V$5,1,0) -> 1 | V32: =INDEX(Input!$Y$5:$Y$10,MATCH(M32,Input!$X$5:$X$10,0)) -> 0 | W32: =IF(P32=Input!$AD$5,1,0) -> 1 | X32: =IF(Q32=Input!$AD$5,1,0) -> 1 | Y32: =IFERROR(INDEX(Input!$Q$5:$Q$14,MATCH(R32,Input!$P$5:$P$14,0)),0) -> 1 | Z32: =IFERROR(INDEX(Input!$AB$5:$AB$9,MATCH(S32,Input!$AA$5:$AA$9,0)),0) -> 1 | AA32: =INDEX(Input!$D$4:$D$28,MATCH(N32,Input!$C$4:$C$28,0)) -> 1 | AB32: =IF(MIN(W32,X32,Z32)=1,1,0) -> 1 | AC32: =(SUM(T32:AA32)/COUNT(T32:AA32))^2 -> 0.765625 | AD32: =F14*AC32 -> 27.231876
C33: Precision-weighted average (arithmetic average / median)
D36: Precision-weighted average | E36: Arithmetic average | F36: Median
C37: Peer-reviewed vs. working papers
B38: 1 | C38: =G38&" ["&COUNTIFS($T$25:$T$32,B38)&"]" -> Peer-reviewed [5] | D38: =SUMPRODUCT(D7:D14,F7:F14,T25:T32)/SUMPRODUCT(F7:F14,T25:T32) -> -0.023965407 | E38: =AVERAGEIF($T$25:$T$32,$B38,D$7:D$14) -> -0.051613891 | F38: {=MEDIAN(IF($T$25:$T$32=$B38,D$7:D$14))} -> -0.040159765 | G38: Peer-reviewed
B39: 0 | C39: =G39&" ["&COUNTIFS($T$25:$T$32,B39)&"]" -> Working paper [3] | D39: {=SUMPRODUCT(D7:D14,F7:F14,1-T25:T32)/SUMPRODUCT(F7:F14,1-T25:T32)} -> -0.049711938 | E39: =AVERAGEIF($T$25:$T$32,$B39,D$7:D$14) -> -0.15096248 | F39: {=MEDIAN(IF($T$25:$T$32=$B39,D$7:D$14))} -> -0.075420108 | G39: Working paper
C40: Long vs. short data period
B41: 1 | C41: =G41&" ["&COUNTIFS($U$25:$U$32,B41)&"]" -> Data serie ends after 31 May 2020 [7] | D41: =SUMPRODUCT(D7:D14,F7:F14,U25:U32)/SUMPRODUCT(F7:F14,U25:U32) -> -0.035028831 | E41: =AVERAGEIF($U$25:$U$32,$B41,D$7:D$14) -> -0.098135403 | F41: {=MEDIAN(IF($U$25:$U$32=$B41,D$7:D$14))} -> -0.075420108 | G41: Data serie ends after 31 May 2020
B42: 0 | C42: =G42&" ["&COUNTIFS($U$25:$U$32,B42)&"]" -> Data serie ends before 31 May 2020 [1] | D42: =SUMPRODUCT(D7:D14,F7:F14,1-U25:U32)/SUMPRODUCT(F7:F14,1-U25:U32) -> -0.024009082 | E42: =AVERAGEIF($U$25:$U$32,$B42,D$7:D$14) -> -0.024009082 | F42: {=MEDIAN(IF($U$25:$U$32=$B42,D$7:D$14))} -> -0.024009082 | G42: Data serie ends before 31 May 2020
C43: No early effect on deaths
B44: 1 | C44: =G44&" ["&COUNTIFS($V$25:$V$32,B44)&"]" -> Does not find an effect within the first 14 days [1] | D44: =SUMPRODUCT(D7:D14,F7:F14,V25:V32)/SUMPRODUCT(F7:F14,V25:V32) -> -0.040159765 | E44: =AVERAGEIF($V$25:$V$32,$B44,D$7:D$14) -> -0.040159765 | F44: {=MEDIAN(IF($V$25:$V$32=$B44,D$7:D$14))} -> -0.040159765 | G44: Does not find an effect within the first 14 days
B45: 0 | C45: =G45&" ["&COUNTIFS($V$25:$V$32,B45)&"]" -> Finds effect within the first 14 days (including n/a) [7] | D45: =SUMPRODUCT(D7:D14,F7:F14,1-V25:V32)/SUMPRODUCT(F7:F14,1-V25:V32) -> -0.028328205 | E45: =AVERAGEIF($V$25:$V$32,$B45,D$7:D$14) -> -0.095828163 | F45: {=MEDIAN(IF($V$25:$V$32=$B45,D$7:D$14))} -> -0.075420108 | G45: Finds effect within the first 14 days (including n/a)
C46: Lagged vs. no lag of policy implementation
B47: 1 | C47: =G47&" ["&COUNTIFS($W$25:$W$32,B47)&"]" -> Lagged policy implementation [6] | D47: =SUMPRODUCT(D7:D14,F7:F14,W25:W32)/SUMPRODUCT(F7:F14,W25:W32) -> -0.056383435 | E47: =AVERAGEIF($W$25:$W$32,$B47,D$7:D$14) -> -0.13401674 | F47: {=MEDIAN(IF($W$25:$W$32=$B47,D$7:D$14))} -> -0.11935511 | G47: Lagged policy implementation
B48: 0 | C48: =G48&" ["&COUNTIFS($W$25:$W$32,B48)&"]" -> No lag of policy implementation [2] | D48: {=SUMPRODUCT(D7:D14,F7:F14,1-W25:W32)/SUMPRODUCT(F7:F14,1-W25:W32)} -> 0.015130037 | E48: =AVERAGEIF($W$25:$W$32,$B48,D$7:D$14) -> 0.046571782 | F48: {=MEDIAN(IF($W$25:$W$32=$B48,D$7:D$14))} -> 0.046571782 | G48: No lag of policy implementation
...

Sheet Selective reporting
C1: =IFERROR(MID(CELL("filename",A1),FIND("]",CELL("filename",A1))+1,256),"Gem projektmappen og navngiv dit ark") -> Selective reporting
B3: Table
C5: Study | D5: Estimate | E5: SE | F5: Estimate type | G5: Internal PWA
C6: Stringency studies
C7: =IF(C186="","",C186) -> Bjørnskov (2021) | D7: =D186 -> -0.0030820447 | E7: =F186 -> 0.008218786 | F7: =IF(I186<>0,"Main",IF(J186<>0,"Average","")) -> Main | G7: =IF(K186<>0,K186,"") -> -0.0015737854
C8: =IF(C187="","",C187) | D8: =D187 -> 0.26364657 | E8: =F187 -> 0.1845526 | F8: =IF(I187<>0,"Main",IF(J187<>0,"Average","")) | G8: =IF(K187<>0,K187,"")
C9: =IF(C188="","",C188) | D9: =D188 -> -0.31127008 | E9: =F188 -> 0.23510825 | F9: =IF(I188<>0,"Main",IF(J188<>0,"Average","")) | G9: =IF(K188<>0,K188,"")
C10: =IF(C189="","",C189) | D10: =D189 -> 0.031186852 | E10: =F189 -> 0.51458305 | F10: =IF(I189<>0,"Main",IF(J189<>0,"Average","")) | G10: =IF(K189<>0,K189,"")
C11: =IF(C190="","",C190) -> Shiva and Molana (2021) | D11: =D190 -> -0.040159765 | E11: =F190 -> 0.0039495967 | F11: =IF(I190<>0,"Main",IF(J190<>0,"Average","")) -> Main | G11: =IF(K190<>0,K190,"") -> -0.031556405
D12: =D191 -> -0.024566776 | E12: =F191 -> 0.0045988567 | F12: =IF(I191<>0,"Main",IF(J191<>0,"Average","")) | G12: =IF(K191<>0,K191,"")
D13: =D192 -> -0.025062285 | E13: =F192 -> 0.0031411479 | F13: =IF(I192<>0,"Main",IF(J192<>0,"Average","")) | G13: =IF(K192<>0,K192,"")
D14: =D193 -> -0.036327365 | E14: =F193 -> 0.0033860394 | F14: =IF(I193<>0,"Main",IF(J193<>0,"Average","")) | G14: =IF(K193<>0,K193,"")
C15: =IF(C194="","",C194) -> Chisadza et al. (2021) | D15: =D194 -> 0.11715265 | E15: =F194 -> 0.014418787 | F15: =IF(I194<>0,"Main",IF(J194<>0,"Average","")) -> Main | G15: =IF(K194<>0,K194,"") -> 0.12817756
C16: =IF(C195="","",C195) | D16: =D195 -> 0.49251291 | E16: =F195 -> 0.060616974 | F16: =IF(I195<>0,"Main",IF(J195<>0,"Average","")) | G16: =IF(K195<>0,K195,"")
C17: =IF(C196="","",C196) | D17: =D196 -> 0.079971233 | E17: =F196 -> 0.0098426133 | F17: =IF(I196<>0,"Main",IF(J196<>0,"Average","")) | G17: =IF(K196<>0,K196,"")
C18: =IF(C197="","",C197) | D18: =D197 -> 0.063482747 | E18: =F197 -> 0.0078132612 | F18: =IF(I197<>0,"Main",IF(J197<>0,"Average","")) | G18: =IF(K197<>0,K197,"")
C19: =IF(C198="","",C198) | D19: =D198 -> 0.26878555 | E19: =F198 -> 0.033081298 | F19: =IF(I198<>0,"Main",IF(J198<>0,"Average","")) | G19: =IF(K198<>0,K198,"")
C20: =IF(C199="","",C199) | D20: =D199 -> 0.23438175 | E20: =F199 -> 0.028846985 | F20: =IF(I199<>0,"Main",IF(J199<>0,"Average","")) | G20: =IF(K199<>0,K199,"")
C21: =IF(C200="","",C200) -> Goldstein et al. (2021) | D21: =D200 -> -0.075420108 | E21: =F200 -> 0.019724466 | F21: =IF(I200<>0,"Main",IF(J200<>0,"Average","")) -> Main | G21: =IF(K200<>0,K200,"") -> -0.076482596
C22: =IF(C201="","",C201) | D22: =D201 -> -0.077749763 | E22: =F201 -> 0.015948968 | F22: =IF(I201<>0,"Main",IF(J201<>0,"Average","")) | G22: =IF(K201<>0,K201,"")
C23: =IF(C202="","",C202) | D23: =D202 -> -0.076020352 | E23: =F202 -> 0.01806711 | F23: =IF(I202<>0,"Main",IF(J202<>0,"Average","")) | G23: =IF(K202<>0,K202,"")
C24: =IF(C203="","",C203) -> Fuller et al. (2021) | D24: =D203 -> -0.35345826 | E24: =F203 -> 0.0908532 | F24: =IF(I203<>0,"Main",IF(J203<>0,"Average","")) -> Main | G24: =IF(K203<>0,K203,"") -> -0.35345826
C25: =IF(C204="","",C204) -> Ashraf (2020) | D25: =D204 -> -0.024009082 | E25: =F204 -> 0.0055315055 | F25: =IF(I204<>0,"Main",IF(J204<>0,"Average","")) -> Average | G25: =IF(K204<>0,K204,"") -> -0.038412243
C26: =IF(C205="","",C205) | D26: =D205 -> -0.008925237 | E26: =F205 -> 0.0079471289 | F26: =IF(I205<>0,"Main",IF(J205<>0,"Average","")) | G26: =IF(K205<>0,K205,"")
... C28: =IF(C207="","",C207) -> Yang et al. (2021) | D28: =D207 -> -0.16329011 | E28: =F207 -> 0.045232718 | F28: =IF(I207<>0,"Main",IF(J207<>0,"Average","")) -> Main | G28: =IF(K207<>0,K207,"") -> 0.16692069
D29: =D208 -> 0.28636005 | E29: =F208 -> 0.071057085 | F29: =IF(I208<>0,"Main",IF(J208<>0,"Average","")) | G29: =IF(K208<>0,K208,"")
D30: =D209 -> 0.53785126 | E30: =F209 -> 0.088901035 | F30: =IF(I209<>0,"Main",IF(J209<>0,"Average","")) | G30: =IF(K209<>0,K209,"")
D31: =D210 -> 0.26785129 | E31: =F210 -> 0.069752939 | F31: =IF(I210<>0,"Main",IF(J210<>0,"Average","")) | G31: =IF(K210<>0,K210,"")
C32: =IF(C211="","",C211) -> Hale et al. (2021) | D32: =D211 -> -0.16869018 | E32: =F211 -> 0.02811503 | F32: =IF(I211<>0,"Main",IF(J211<>0,"Average","")) -> Main | G32: =IF(K211<>0,K211,"") -> -0.20050668
C33: =IF(C212="","",C212) | D33: =D212 -> -0.14269705 | E33: =F212 -> 0.028539409 | F33: =IF(I212<>0,"Main",IF(J212<>0,"Average","")) | G33: =IF(K212<>0,K212,"")
C34: =IF(C213="","",C213) | D34: =D213 -> -0.11589 | E34: =F213 -> 0.028972499 | F34: =IF(I213<>0,"Main",IF(J213<>0,"Average","")) | G34: =IF(K213<>0,K213,"")
C35: =IF(C214="","",C214) | D35: =D214 -> -0.47608502 | E35: =F214 -> 0.045341431 | F35: =IF(I214<>0,"Main",IF(J214<>0,"Average","")) | G35: =IF(K214<>0,K214,"")
C36: =IF(C215="","",C215) -> SIPO studies
C37: =IF(C216="","",C216) -> Chernozhukov et al. (2021) | D37: =D216 -> -0.17695473 | E37: =F216 -> 0.14259447 | F37: =IF(I216<>0,"Main",IF(J216<>0,"Average","")) -> Main | G37: =IF(K216<>0,K216,"") -> -0.17695473
C38: =IF(C217="","",C217) -> Stokes et al. (2020) | D38: =D217 -> 0.048995231 | E38: =F217 -> 0.028033413 | F38: =IF(I217<>0,"Main",IF(J217<>0,"Average","")) -> Main | G38: =IF(K217<>0,K217,"") -> 0.010527598
C39: =IF(C218="","",C218) | D39: =D218 -> -0.019405789 | E39: =F218 -> 0.0071933162 | F39: =IF(I218<>0,"Main",IF(J218<>0,"Average","")) | G39: =IF(K218<>0,K218,"")
C40: =IF(C219="","",C219) | D40: =D219 -> 0.020000131 | E40: =F219 -> 0.036798711 | F40: =IF(I219<>0,"Main",IF(J219<>0,"Average","")) | G40: =IF(K219<>0,K219,"")
C41: =IF(C220="","",C220) | D41: =D220 -> 0.019400658 | E41: =F220 -> 0.036186624 | F41: =IF(I220<>0,"Main",IF(J220<>0,"Average","")) | G41: =IF(K220<>0,K220,"")
C42: =IF(C221="","",C221) | D42: =D221 -> 0.0081582411 | E42: =F221 -> 0.068817816 | F42: =IF(I221<>0,"Main",IF(J221<>0,"Average","")) | G42: =IF(K221<>0,K221,"")
C43: =IF(C222="","",C222) | D43: =D222 -> 0.022800402 | E43: =F222 -> 0.039000687 | F43: =IF(I222<>0,"Main",IF(J222<>0,"Average","")) | G43: =IF(K222<>0,K222,"")
...

Sheet Input
C1: =IFERROR(MID(CELL("filename",A1),FIND("]",CELL("filename",A1))+1,256),"Gem projektmappen og navngiv dit ark") -> Input
C3: Field of research/expertise | D3: Social science | U3: Definition early data | X3: Definition early effect | AA3: Handling of causality | AD3: Lag lockdown to death AND Fixed/Random effects
C4: Ophthalmology | D4: 0 | F4: NPI type | H4: Measure | J4: Publication status | L4: Included in meta-analysis | N4: Reason to exclude | P4: Data sources for NPI's | Q4: Public data = 1 | R4: Verified? | V4: Value | X4: Earliest (large & significant) effect | Y4: No early effect = 1 | AA4: Values | AB4: Handling = 1 | AD4: Values
C5: Environment | D5: 0 | F5: Stringency | H5: Excess mortality | J5: Peer-review | L5: Yes | N5: Duplicate | P5: OxCGRT stringency index | Q5: 1 | R5: =IF(Q5=1,"Verified","Unverified") -> Verified | U5: Early data = before | V5: 43982 | X5: Finds no effect | Y5: 1 | AA5: Instrument variable | AB5: 1 | AD5: Yes
C6: Medicine | D6: 0 | F6: SIPO | H6: COVID-19 deaths | J6: WP | L6: No | N6: Timing | P6: OxCGRT data | Q6: 1 | R6: =IF(Q6=1,"Verified","Unverified") -> Verified | X6: <8 days | Y6: 0 | AA6: Lag dependent (>2 weeks) | AB6: 1 | AD6: No
C7: Evolutionary Biology and Environment | D7: 0 | F7: Specific NPIs | H7: Growth rates | J7: Vetted | L7: Undecided | N7: Not mortality | P7: Other official source | Q7: 1 | R7: =IF(Q7=1,"Verified","Unverified") -> Verified | X7: 8-14 days | Y7: 0 | AA7: Other model handling | AB7: 1
C8: Human Toxicology | D8: 0 | F8: Other | H8: Reproduction rate, Rt | N8: Modelling | P8: Own data | Q8: 0 | R8: =IF(Q8=1,"Verified","Unverified") -> Unverified | X8: 15-21 days | Y8: 1 | AA8: Argumentation | AB8: 1
C9: Epidemiology | D9: 0 | H9: Other | N9: Descriptive | P9: Other research data | Q9: 0 | R9: =IF(Q9=1,"Verified","Unverified") -> Unverified | X9: >21 days | Y9: 1 | AA9: Does not handle causality | AB9: 0
C10: Anesthesiology | D10: 0 | N10: Social distancing - not lockdown | P10: Other data | Q10: 0 | R10: =IF(Q10=1,"Verified","Unverified") -> Unverified | X10: n/a | Y10: 0
C11: Economics | D11: 1 | N11: Time series approach | P11: New York Times | Q11: 1 | R11: =IF(Q11=1,"Verified","Unverified") -> Verified
C12: Public Health | D12: 1 | N12: Student paper | R12: =IF(Q12=1,"Verified","Unverified") -> Unverified
C13: Management | D13: 1 | N13: Not lockdown | R13: =IF(Q13=1,"Verified","Unverified") -> Unverified
C14: Government | D14: 1 | F14: Value used for n/a's | H14: n/a | N14: Not diff-in-diff | R14: =IF(Q14=1,"Verified","Unverified") -> Unverified
C15: International Development | D15: 1 | N15: Not Europe, US, or Latin America
C16: Public policy | D16: 1 | F16: Significance levels
C17: Mathematical Modelling | D17: 0 | F17: Level | G17: t-value | H17: Symbol
C18: Social work | D18: 1 | F18: 0.05 | G18: 1.96 | H18: ¤
C19: Disease Ecology | D19: 0 | F19: 0.01 | G19: 2.58 | H19: ¤¤
C20: Political Science | D20: 1
C21: Health Science | D21: 1
C22: Infectious Disease | D22: 0
C23: Engineering | D23: 0
C24: Psychiatry | D24: 0
