Workbook

Sheet ISmatrix
A1: Original data from GC-MS
C2: Blank1 | D2: Blank2 | E2: Blank3 | F2: Mito_atp4_1 | G2: Mito_atp4_2 | H2: Mito_atp4_3 | I2: Mito_sdh2_1 | J2: Mito_sdh2_2 | K2: Mito_sdh2_3 | L2: Cyto_atp4_1 | M2: Cyto_atp4_2 | N2: Cyto_atp4_3 | O2: Cyto_sdh2_1 | P2: Cyto_sdh2_2 | Q2: Cyto_sdh2_3 | R2: Mito_WT_1 | S2: Mito_WT_2 | T2: Mito_WT_3 | U2: Cyto_WT_1 | V2: Cyto_WT_2 | W2: Cyto_WT_3
A3: SC26_285mz_10.3051min | B3: Blank1/MET1.ELU | C3: 1372 | D3: 1388 | E3: 0 | F3: 0 | G3: 0 | H3: 0 | I3: 0 | J3: 0 | K3: 0 | L3: 0 | M3: 0 | N3: 0 | O3: 0 | P3: 0 | Q3: 0 | R3: 0 | S3: 0 | T3: 0 | U3: 0 | V3: 0 | W3: 0 | X3: =COUNTIF(H3:W3,0) -> 16
A4: SC40_147mz_10.4225min | B4: Blank1/MET1.ELU | C4: 13148 | D4: 6588 | E4: 0 | F4: 0 | G4: 0 | H4: 0 | I4: 0 | J4: 0 | K4: 0 | L4: 25811 | M4: 0 | N4: 0 | O4: 0 | P4: 0 | Q4: 0 | R4: 0 | S4: 0 | T4: 0 | U4: 0 | V4: 0 | W4: 0 | X4: =COUNTIF(H4:W4,0) -> 15
A5: SC64_204mz_10.6205min | B5: Blank1/MET1.ELU | C5: 132433 | D5: 0 | E5: 97173 | F5: 115458 | G5: 0 | H5: 118294 | I5: 175508 | J5: 0 | K5: 106901 | L5: 98105 | M5: 113438 | N5: 0 | O5: 126849 | P5: 96241 | Q5: 178638 | R5: 131774 | S5: 109091 | T5: 109051 | U5: 127581 | V5: 95897 | W5: 107141 | X5: =COUNTIF(H5:W5,0) -> 2
A6: SC133_113mz_11.201min | B6: Blank1/MET1.ELU | C6: 5597 | D6: 0 | E6: 4366 | F6: 0 | G6: 0 | H6: 0 | I6: 0 | J6: 0 | K6: 0 | L6: 0 | M6: 0 | N6: 0 | O6: 0 | P6: 0 | Q6: 0 | R6: 0 | S6: 0 | T6: 0 | U6: 0 | V6: 0 | W6: 0 | X6: =COUNTIF(H6:W6,0) -> 16
A7: SC854_211mz_17.2525min | B7: Blank1/MET1.ELU | C7: 1019 | D7: 595 | E7: 0 | F7: 0 | G7: 0 | H7: 0 | I7: 0 | J7: 0 | K7: 0 | L7: 0 | M7: 0 | N7: 0 | O7: 0 | P7: 0 | Q7: 0 | R7: 0 | S7: 0 | T7: 0 | U7: 0 | V7: 0 | W7: 0 | X7: =COUNTIF(H7:W7,0) -> 16
A8: SC1388_85mz_21.7304min | B8: Blank1/MET1.ELU | C8: 662 | D8: 0 | E8: 341 | F8: 0 | G8: 0 | H8: 0 | I8: 0 | J8: 0 | K8: 0 | L8: 0 | M8: 0 | N8: 0 | O8: 0 | P8: 0 | Q8: 0 | R8: 0 | S8: 0 | T8: 0 | U8: 0 | V8: 0 | W8: 0 | X8: =COUNTIF(H8:W8,0) -> 16
A9: SC1689_188mz_24.2512min | B9: Blank1/MET1.ELU | C9: 3038 | D9: 1552 | E9: 499 | F9: 0 | G9: 0 | H9: 0 | I9: 0 | J9: 0 | K9: 0 | L9: 0 | M9: 0 | N9: 0 | O9: 0 | P9: 0 | Q9: 0 | R9: 1307 | S9: 1711 | T9: 1676 | U9: 0 | V9: 0 | W9: 0 | X9: =COUNTIF(H9:W9,0) -> 13
A10: SC3009_121mz_35.3284min | B10: Blank1/MET1.ELU | C10: 203 | D10: 439 | E10: 0 | F10: 0 | G10: 0 | H10: 0 | I10: 0 | J10: 0 | K10: 0 | L10: 0 | M10: 0 | N10: 0 | O10: 0 | P10: 0 | Q10: 0 | R10: 0 | S10: 0 | T10: 0 | U10: 0 | V10: 0 | W10: 0 | X10: =COUNTIF(H10:W10,0) -> 16
A11: SC394_73mz_13.3919min | B11: Blank1/MET2.ELU | C11: 7062 | D11: 4336 | E11: 0 | F11: 0 | G11: 0 | H11: 0 | I11: 0 | J11: 0 | K11: 0 | L11: 0 | M11: 0 | N11: 0 | O11: 0 | P11: 0 | Q11: 0 | R11: 0 | S11: 0 | T11: 0 | U11: 0 | V11: 0 | W11: 0 | X11: =COUNTIF(H11:W11,0) -> 16
A12: SC438_244mz_13.7576min | B12: Blank1/MET2.ELU | C12: 16982 | D12: 30655 | E12: 33216 | F12: 0 | G12: 0 | H12: 0 | I12: 0 | J12: 0 | K12: 0 | L12: 0 | M12: 0 | N12: 0 | O12: 0 | P12: 0 | Q12: 0 | R12: 0 | S12: 0 | T12: 0 | U12: 0 | V12: 0 | W12: 0 | X12: =COUNTIF(H12:W12,0) -> 16
A13: SC516_70mz_14.417min | B13: Blank1/MET2.ELU | C13: 1869 | D13: 897 | E13: 0 | F13: 0 | G13: 0 | H13: 0 | I13: 0 | J13: 0 | K13: 0 | L13: 0 | M13: 0 | N13: 0 | O13: 0 | P13: 0 | Q13: 0 | R13: 0 | S13: 0 | T13: 0 | U13: 0 | V13: 0 | W13: 0 | X13: =COUNTIF(H13:W13,0) -> 16
A14: SC699_241mz_15.9462min | B14: Blank1/MET2.ELU | C14: 0 | D14: 8087 | E14: 0 | F14: 0 | G14: 0 | H14: 0 | I14: 0 | J14: 0 | K14: 0 | L14: 0 | M14: 0 | N14: 0 | O14: 0 | P14: 36102 | Q14: 0 | R14: 0 | S14: 0 | T14: 0 | U14: 0 | V14: 0 | W14: 0 | X14: =COUNTIF(H14:W14,0) -> 15
... A3361: SC4279_73mz_45.9828min | B3361: Y6/6_3.ELU | C3361: 0 | D3361: 0 | E3361: 0 | F3361: 0 | G3361: 0 | H3361: 0 | I3361: 0 | J3361: 0 | K3361: 0 | L3361: 0 | M3361: 0 | N3361: 0 | O3361: 0 | P3361: 0 | Q3361: 0 | R3361: 0 | S3361: 0 | T3361: 0 | U3361: 0 | V3361: 0 | W3361: 0 | X3361: =COUNTIF(H3361:W3361,0) -> 16

Sheet Filter and Annotation
A1: Filter and annotation
C2: Name | D2: RI_Exp | E2: RI_DB | F2: RI_dif | G2: Blank1 | H2: Blank2 | I2: Blank3 | J2: Mito_atp4_1 | K2: Mito_atp4_2 | L2: Mito_atp4_3 | M2: Mito_sdh2_1 | N2: Mito_sdh2_2 | O2: Mito_sdh2_3 | P2: Cyto_atp4_1 | Q2: Cyto_atp4_2 | R2: Cyto_atp4_3 | S2: Cyto_sdh2_1 | T2: Cyto_sdh2_2 | U2: Cyto_sdh2_3 | V2: Mito_WT_1 | W2: Mito_WT_2 | X2: Mito_WT_3 | Y2: Cyto_WT_1 | Z2: Cyto_WT_2 | AA2: Cyto_WT_3
A3: SC1014_73mz_18.5929min | B3: Blank1/MET2.ELU | C3: Glycerol | D3: 1285 | E3: 1289 | F3: =(D3-E3)/E3 -> -0.0031031808 | G3: 26311 | H3: 29190 | I3: 29533 | J3: 45971 | K3: 52010 | L3: 55115 | M3: 36732 | N3: 38848 | O3: 39408 | P3: 378115 | Q3: 397471 | R3: 361562 | S3: 340430 | T3: 329645 | U3: 319574 | V3: 102343 | W3: 142734 | X3: 138759 | Y3: 169403 | Z3: 156188 | AA3: 147871
A4: SC574_73mz_14.9054min | B4: M1/M1_1.ELU | C4: NA | F4: =(D4-E4)/E4 -> #DIV/0! | G4: 8552447 | H4: 7694144 | I4: 8484452 | J4: 39169898 | K4: 40271492 | L4: 37980352 | M4: 28232280 | N4: 29958086 | O4: 28129806 | P4: 7617525 | Q4: 7546793 | R4: 8941203 | S4: 2322495 | T4: 2649264 | U4: 5526023 | V4: 29425846 | W4: 25630241 | X4: 25717039 | Y4: 2439516 | Z4: 3803658 | AA4: 4034049
A5: SC1999_357mz_26.8575min | B5: M1/M1_1.ELU | C5: NA | G5: 0 | H5: 0 | I5: 0 | J5: 400183 | K5: 759171 | L5: 374360 | M5: 600566 | N5: 290231 | O5: 658263 | P5: 1383909 | Q5: 1230916 | R5: 1181441 | S5: 271717 | T5: 0 | U5: 0 | V5: 588469 | W5: 490329 | X5: 504617 | Y5: 597365 | Z5: 372542 | AA5: 169835
A6: SC3260_174mz_37.4364min | B6: M1/M1_1.ELU | C6: NA | F6: =(D6-E6)/E6 -> #DIV/0! | G6: 0 | H6: 0 | I6: 0 | J6: 110323 | K6: 0 | L6: 109253 | M6: 89834 | N6: 0 | O6: 106507 | P6: 778799 | Q6: 688552 | R6: 660816 | S6: 448025 | T6: 478257 | U6: 408551 | V6: 194522 | W6: 192411 | X6: 201072 | Y6: 893824 | Z6: 761792 | AA6: 752825
A7: SC1025_299mz_18.6818min | B7: M2/M2_2.ELU | C7: Phosphate | D7: 1289 | E7: 1286 | F7: =(D7-E7)/E7 -> 0.0023328149 | G7: 36410698 | H7: 26806983 | I7: 22095550 | J7: 159079911 | K7: 153049333 | L7: 159987767 | M7: 195756953 | N7: 205968199 | O7: 197073596 | P7: 516534162 | Q7: 517833437 | R7: 337919093 | S7: 652425596 | T7: 389308831 | U7: 588546288 | V7: 211005532 | W7: 234579885 | X7: 0 | Y7: 640941823 | Z7: 367297309 | AA7: 622632836
A8: SC2747_179mz_33.1312min | B8: M2/M2_2.ELU | C8: Tyrosine 2TMS | D8: 1901 | E8: 1904 | F8: =(D8-E8)/E8 -> -0.0015756303 | G8: 0 | H8: 0 | I8: 0 | J8: 84215 | K8: 103855 | L8: 129000 | M8: 178749 | N8: 170614 | O8: 198735 | P8: 204691 | Q8: 426486 | R8: 529862 | S8: 242860 | T8: 329739 | U8: 398628 | V8: 225505 | W8: 238252 | X8: 277505 | Y8: 0 | Z8: 0 | AA8: 824290
A9: SC4598_204mz_48.6594min | B9: M2/M2_2.ELU | C9: NA | G9: 0 | H9: 0 | I9: 0 | J9: 454931 | K9: 491580 | L9: 348580 | M9: 493204 | N9: 491394 | O9: 460076 | P9: 14216873 | Q9: 15824961 | R9: 13731773 | S9: 20377677 | T9: 19380851 | U9: 19987692 | V9: 617505 | W9: 810999 | X9: 742100 | Y9: 14656899 | Z9: 16787205 | AA9: 16226231
A10: SC2836_73mz_33.8738min | B10: M2/M2_3.ELU | C10: Lysine 4TMS | D10: 1941 | E10: 1922 | F10: =(D10-E10)/E10 -> 0.0098855359 | G10: 0 | H10: 0 | I10: 0 | J10: 9540365 | K10: 7456621 | L10: 5187813 | M10: 4842268 | N10: 5779229 | O10: 3872635 | P10: 349861535 | Q10: 345264893 | R10: 327536583 | S10: 425810814 | T10: 415791036 | U10: 381961080 | V10: 7122812 | W10: 8837719 | X10: 4544314 | Y10: 580876606 | Z10: 557917371 | AA10: 514767314
A11: SC825_144mz_17.0051min | B11: M3/M3_1.ELU | C11: Valine 2TMS | D11: 1224 | E11: 1227 | F11: =(D11-E11)/E11 -> -0.0024449878 | G11: 0 | H11: 0 | I11: 0 | J11: 288259 | K11: 290371 | L11: 294579 | M11: 461162 | N11: 510997 | O11: 482592 | P11: 2587700 | Q11: 2045223 | R11: 2861376 | S11: 2564127 | T11: 2938988 | U11: 3262170 | V11: 568220 | W11: 563517 | X11: 411591 | Y11: 4292809 | Z11: 4543125 | AA11: 3924703
A12: SC3706_73mz_41.1784min | B12: M3/M3_2.ELU | C12: Phenyl-glucose | D12: 2310 | E12: 2350 | F12: =(D12-E12)/E12 -> -0.017021277 | G12: 19485554 | H12: 19461629 | I12: 19905350 | J12: 22470695 | K12: 22802421 | L12: 22289673 | M12: 20917719 | N12: 20920092 | O12: 20134630 | P12: 7026029 | Q12: 7464554 | R12: 7324685 | S12: 7668758 | T12: 7433213 | U12: 7362716 | V12: 19323683 | W12: 20710069 | X12: 20339979 | Y12: 12924778 | Z12: 14338155 | AA12: 14091919
A13: SC1574_174mz_23.2896min | B13: M3/M3_2.ELU | C13: NA | F13: =(D13-E13)/E13 -> #DIV/0! | G13: 19578 | H13: 0 | I13: 0 | J13: 317686 | K13: 255871 | L13: 264776 | M13: 388221 | N13: 375369 | O13: 348484 | P13: 402174 | Q13: 343294 | R13: 348295 | S13: 264337 | T13: 218995 | U13: 183818 | V13: 560163 | W13: 462655 | X13: 464812 | Y13: 228051 | Z13: 0 | AA13: 0
A14: SC1970_126mz_26.6132min | B14: M3/M3_2.ELU | C14: NA | F14: =(D14-E14)/E14 -> #DIV/0! | G14: 0 | H14: 0 | I14: 0 | J14: 73654 | K14: 74155 | L14: 81619 | M14: 90326 | N14: 97582 | O14: 95871 | P14: 665186 | Q14: 536886 | R14: 268128 | S14: 776942 | T14: 657734 | U14: 606862 | V14: 174225 | W14: 132792 | X14: 87977 | Y14: 992660 | Z14: 0 | AA14: 571814
A15: SC2928_73mz_34.6487min | B15: M3/M3_2.ELU | C15: Sorbitol | D15: 1920 | E15: 1980 | F15: =(D15-E15)/E15 -> -0.03030303 | G15: 0 | H15: 0 | I15: 0 | J15: 34761960 | K15: 33513614 | L15: 32570240 | M15: 28981803 | N15: 29164975 | O15: 27702295 | P15: 554351560 | Q15: 549937607 | R15: 571281656 | S15: 234705307 | T15: 229275976 | U15: 224965527 | V15: 34637864 | W15: 33169441 | X15: 34072465 | Y15: 418468203 | Z15: 449536841 | AA15: 435839986
A16: SC3790_73mz_41.8772min | B16: M3/M3_2.ELU | C16: NA | F16: =(D16-E16)/E16 -> #DIV/0! | G16: 0 | H16: 0 | I16: 0 | J16: 814773 | K16: 1852604 | L16: 2223068 | M16: 1546616 | N16: 2239777 | O16: 2680377 | P16: 0 | Q16: 0 | R16: 0 | S16: 0 | T16: 0 | U16: 0 | V16: 1513777 | W16: 2239463 | X16: 3149408 | Y16: 0 | Z16: 0 | AA16: 0
A17: SC3893_290mz_42.7397min | B17: M4/M4_1.ELU | C17: EDTA | F17: =(D17-E17)/E17 -> #DIV/0! | G17: 0 | H17: 0 | I17: 0 | J17: 168140047 | K17: 151459853 | L17: 121009370 | M17: 78693462 | N17: 77989851 | O17: 69128534 | P17: 679670568 | Q17: 701952312 | R17: 705115985 | S17: 722056001 | T17: 735072344 | U17: 733880691 | V17: 239002335 | W17: 248726848 | X17: 222651376 | Y17: 623864506 | Z17: 743461564 | AA17: 687149599
A18: SC619_86mz_15.2777min | B18: M4/M4_2.ELU | C18: Leucine TMS | D18: 1167 | E18: 1164 | F18: =(D18-E18)/E18 -> 0.0025773196 | G18: 0 | H18: 0 | I18: 0 | J18: 0 | K18: 97839 | L18: 126947 | M18: 116963 | N18: 129107 | O18: 175660 | P18: 2851589 | Q18: 3432509 | R18: 3561271 | S18: 3246637 | T18: 3327545 | U18: 3702506 | V18: 87809 | W18: 268505 | X18: 298464 | Y18: 7725865 | Z18: 8765569 | AA18: 8328882
A19: SC1077_180mz_19.1231min | B19: M4/M4_3.ELU | C19: Nicotinic acid | D19: 1309 | E19: 1305 | F19: =(D19-E19)/E19 -> 0.0030651341 | G19: 33686 | H19: 12511 | I19: 12476 | J19: 19708 | K19: 0 | L19: 40002 | M19: 40546 | N19: 49803 | O19: 53394 | P19: 256563 | Q19: 257390 | R19: 284462 | S19: 642524 | T19: 652791 | U19: 627324 | V19: 203178 | W19: 242043 | X19: 201020 | Y19: 573838 | Z19: 582913 | AA19: 620797
A20: SC3042_73mz_35.6026min | B20: M4/M4_3.ELU | C20: Palmitoleic acid | D20: 2027 | E20: 2031 | F20: =(D20-E20)/E20 -> -0.0019694732 | G20: 1328651 | H20: 273310 | I20: 154233 | J20: 14270800 | K20: 14292608 | L20: 14732852 | M20: 22042294 | N20: 21867096 | O20: 21679620 | P20: 6809341 | Q20: 6690189 | R20: 6748886 | S20: 6441255 | T20: 5745321 | U20: 5852270 | V20: 15610914 | W20: 16196479 | X20: 18275953 | Y20: 4002905 | Z20: 3741999 | AA20: 3906223
A21: SC3516_73mz_39.5805min | B21: M4/M4_3.ELU | C21: NA | F21: =(D21-E21)/E21 -> #DIV/0! | G21: 0 | H21: 0 | I21: 0 | J21: 142347119 | K21: 137170111 | L21: 135348195 | M21: 161964471 | N21: 163832431 | O21: 160301812 | P21: 7006281 | Q21: 7171690 | R21: 6229528 | S21: 7085577 | T21: 5589190 | U21: 5053745 | V21: 107596848 | W21: 107902673 | X21: 114064929 | Y21: 0 | Z21: 0 | AA21: 0
A22: SC2866_73mz_34.1279min | B22: M4/M4_3.ELU | C22: Glucose | D22: 1876 | E22: 1954 | F22: =(D22-E22)/E22 -> -0.039918117 | G22: 0 | H22: 0 | I22: 0 | J22: 149615 | K22: 183637 | L22: 190409 | M22: 265365 | N22: 276385 | O22: 286794 | P22: 2518151 | Q22: 0 | R22: 2803874 | S22: 0 | T22: 0 | U22: 0 | V22: 144530 | W22: 162853 | X22: 140062 | Y22: 1417895 | Z22: 1389079 | AA22: 1184265
A23: SC12_132mz_10.1842min | B23: M5/M5_1.ELU | C23: NA | F23: =(D23-E23)/E23 -> #DIV/0! | G23: 37139 | H23: 34435 | I23: 0 | J23: 0 | K23: 18678 | L23: 0 | M23: 18806 | N23: 0 | O23: 0 | P23: 0 | Q23: 0 | R23: 37102 | S23: 16691 | T23: 0 | U23: 19406 | V23: 0 | W23: 0 | X23: 57627 | Y23: 31584 | Z23: 36484 | AA23: 86042
A24: SC318_73mz_12.757min | B24: M5/M5_1.ELU | C24: NA | F24: =(D24-E24)/E24 -> #DIV/0! | G24: 557590 | H24: 475289 | I24: 472770 | J24: 500918 | K24: 511814 | L24: 496512 | M24: 450308 | N24: 453968 | O24: 465348 | P24: 394711 | Q24: 379615 | R24: 0 | S24: 419237 | T24: 499475 | U24: 0 | V24: 468725 | W24: 495666 | X24: 506059 | Y24: 0 | Z24: 454489 | AA24: 432386
A25: SC2622_285mz_32.0802min | B25: M5/M5_1.ELU | C25: Myristic acid | D25: 1850 | E25: 1852 | F25: =(D25-E25)/E25 -> -0.0010799136 | G25: 74335 | H25: 40503 | I25: 46918 | J25: 351451 | K25: 343647 | L25: 481146 | M25: 603740 | N25: 613525 | O25: 589753 | P25: 159702 | Q25: 140259 | R25: 161742 | S25: 211477 | T25: 0 | U25: 174942 | V25: 1387217 | W25: 1503330 | X25: 1514438 | Y25: 0 | Z25: 0 | AA25: 0
A26: SC141_75mz_11.273min | B26: M5/M5_2.ELU | C26: NA | F26: =(D26-E26)/E26 -> #DIV/0! | G26: 0 | H26: 0 | I26: 0 | J26: 1202712 | K26: 1368619 | L26: 1342974 | M26: 2014661 | N26: 2230725 | O26: 2217212 | P26: 204512 | Q26: 0 | R26: 179717 | S26: 209503 | T26: 194694 | U26: 189540 | V26: 1143278 | W26: 1333734 | X26: 1436132 | Y26: 89259 | Z26: 0 | AA26: 85671
A27: SC921_110mz_17.8085min | B27: M5/M5_2.ELU | C27: NA | F27: =(D27-E27)/E27 -> #DIV/0! | G27: 0 | H27: 0 | I27: 0 | J27: 87656 | K27: 106617 | L27: 118032 | M27: 308356 | N27: 349386 | O27: 345297 | P27: 172119 | Q27: 195864 | R27: 183093 | S27: 199185 | T27: 209441 | U27: 202979 | V27: 463567 | W27: 442528 | X27: 431708 | Y27: 0 | Z27: 0 | AA27: 456671
A28: SC1017_205mz_18.6172min | B28: M5/M5_2.ELU | C28: NA | F28: =(D28-E28)/E28 -> #DIV/0! | G28: 519541 | H28: 0 | I28: 0 | J28: 926037 | K28: 905661 | L28: 1074066 | M28: 849992 | N28: 0 | O28: 762045 | P28: 9010633 | Q28: 6248760 | R28: 5952477 | S28: 3843035 | T28: 6627984 | U28: 0 | V28: 2068740 | W28: 0 | X28: 1972255 | Y28: 0 | Z28: 0 | AA28: 0
A29: SC1098_142mz_19.2934min | B29: M5/M5_2.ELU | C29: Proline | D29: 1305 | E29: 1311 | F29: =(D29-E29)/E29 -> -0.004576659 | G29: 0 | H29: 0 | I29: 0 | J29: 217440 | K29: 150582 | L29: 108333 | M29: 131120 | N29: 170667 | O29: 141599 | P29: 328672 | Q29: 157704 | R29: 111488 | S29: 96626 | T29: 73364 | U29: 126507 | V29: 239563 | W29: 121382 | X29: 82717 | Y29: 248748 | Z29: 268885 | AA29: 359773
A30: SC2376_73mz_30.019min | B30: M5/M5_3.ELU | C30: Ribitol | D30: 1747 | E30: 1753 | F30: =(D30-E30)/E30 -> -0.0034227039 | G30: 32819670 | H30: 33376212 | I30: 33270949 | J30: 35520565 | K30: 33600491 | L30: 35211005 | M30: 31889707 | N30: 32543327 | O30: 28910233 | P30: 11281943 | Q30: 11709761 | R30: 12048029 | S30: 13213804 | T30: 12520723 | U30: 12540104 | V30: 30052173 | W30: 29296545 | X30: 33050931 | Y30: 23370217 | Z30: 25008975 | AA30: 24751690
A31: SC293_174mz_12.5438min | B31: M6/M6_1.ELU | C31: NA | F31: =(D31-E31)/E31 -> #DIV/0! | G31: 78565 | H31: 65140 | I31: 56853 | J31: 72479 | K31: 91505 | L31: 68769 | M31: 65672 | N31: 52758 | O31: 58622 | P31: 49868 | Q31: 31501 | R31: 0 | S31: 46070 | T31: 23746 | U31: 0 | V31: 73668 | W31: 45401 | X31: 78963 | Y31: 0 | Z31: 52175 | AA31: 62620
A32: SC4524_73mz_48.0395min | B32: M6/M6_1.ELU | C32: NA | F32: =(D32-E32)/E32 -> #DIV/0! | G32: 13179484 | H32: 12787997 | I32: 12438070 | J32: 18965694 | K32: 18325097 | L32: 18411121 | M32: 15539985 | N32: 16781568 | O32: 15411733 | P32: 4403107 | Q32: 4802370 | R32: 5518140 | S32: 4192776 | T32: 4181573 | U32: 4372787 | V32: 15075205 | W32: 17053276 | X32: 16309459 | Y32: 9079473 | Z32: 10386024 | AA32: 9674855
A33: SC532_147mz_14.5529min | B33: M6/M6_1.ELU | C33: Oxalic acid | D33: 1136 | E33: 1137 | F33: =(D33-E33)/E33 -> -0.00087950748 | G33: 0 | H33: 0 | I33: 0 | J33: 943262 | K33: 932962 | L33: 817807 | M33: 1340762 | N33: 1298969 | O33: 1109372 | P33: 10798326 | Q33: 12603885 | R33: 12772751 | S33: 14773604 | T33: 14364381 | U33: 15149713 | V33: 2023305 | W33: 2163158 | X33: 2189591 | Y33: 18205663 | Z33: 20946943 | AA33: 19412905
A34: SC5695_129mz_57.8567min | B34: M6/M6_1.ELU | C34: NA | F34: =(D34-E34)/E34 -> #DIV/0! | G34: 0 | H34: 0 | I34: 0 | J34: 0 | K34: 0 | L34: 0 | M34: 113246 | N34: 210526 | O34: 282869 | P34: 0 | Q34: 0 | R34: 0 | S34: 0 | T34: 0 | U34: 0 | V34: 212870 | W34: 239079 | X34: 304584 | Y34: 0 | Z34: 0 | AA34: 0
A35: SC80_221mz_10.7539min | B35: M6/M6_2.ELU | C35: Boric acid | D35: 1010 | E35: 998 | F35: =(D35-E35)/E35 -> 0.012024048 | G35: 16992433 | H35: 15475636 | I35: 13838183 | J35: 23462732 | K35: 20039733 | L35: 19263210 | M35: 2771544 | N35: 2936555 | O35: 2501232 | P35: 13134033 | Q35: 13513156 | R35: 13266199 | S35: 5123235 | T35: 3726225 | U35: 5544586 | V35: 30056801 | W35: 15033401 | X35: 15036540 | Y35: 2611164 | Z35: 2650913 | AA35: 2434710
A36: SC1471_373mz_22.4258min | B36: M6/M6_2.ELU | C36: NA | F36: =(D36-E36)/E36 -> #DIV/0! | G36: 11379 | H36: 11044 | I36: 15429 | J36: 96622 | K36: 84308 | L36: 115025 | M36: 231745 | N36: 188975 | O36: 234021 | P36: 1761867 | Q36: 2295521 | R36: 1458171 | S36: 3838406 | T36: 3421371 | U36: 1435266 | V36: 426258 | W36: 177323 | X36: 427229 | Y36: 2823647 | Z36: 2050789 | AA36: 922552
A37: SC4517_361mz_47.9793min | B37: M6/M6_2.ELU | C37: NA | G37: 0 | H37: 0 | I37: 0 | J37: 7037952 | K37: 7509298 | L37: 7047448 | M37: 11272247 | N37: 12158564 | O37: 10973512 | P37: 59031088 | Q37: 63563620 | R37: 58287418 | S37: 69509011 | T37: 65573788 | U37: 66716144 | V37: 8095987 | W37: 9312451 | X37: 9042881 | Y37: 32633028 | Z37: 37686942 | AA37: 36295079
A38: SC6041_647mz_60.7626min | B38: S1/S1_1.ELU | C38: NA | F38: =(D38-E38)/E38 -> #DIV/0! | G38: 43441 | H38: 34645 | I38: 14176 | J38: 90302 | K38: 120460 | L38: 63288 | M38: 0 | N38: 74833 | O38: 30745 | P38: 189647 | Q38: 262111 | R38: 164330 | S38: 84003 | T38: 67805 | U38: 152395 | V38: 93381 | W38: 41215 | X38: 39913 | Y38: 91578 | Z38: 101995 | AA38: 0
A39: SC1662_160mz_24.027min | B39: S1/S1_1.ELU | C39: NA | F39: =(D39-E39)/E39 -> #DIV/0! | G39: 0 | H39: 0 | I39: 0 | J39: 21350 | K39: 19409 | L39: 22885 | M39: 33880 | N39: 33334 | O39: 30675 | P39: 51446 | Q39: 54086 | R39: 52423 | S39: 53774 | T39: 53267 | U39: 37206 | V39: 76605 | W39: 53226 | X39: 49126 | Y39: 114037 | Z39: 110341 | AA39: 0
A40: SC1795_84mz_25.1461min | B40: S1/S1_1.ELU | C40: Glutamate 2TMS | D40: 1539 | E40: 1528 | F40: =(#REF!-D40)/D40 -> #REF! | G40: 0 | H40: 0 | I40: 0 | J40: 428901 | K40: 541955 | L40: 636777 | M40: 0 | N40: 616695 | O40: 719145 | P40: 3840774 | Q40: 4790486 | R40: 4625911 | S40: 7756437 | T40: 6210456 | U40: 9125808 | V40: 1539673 | W40: 2266775 | X40: 2213431 | Y40: 22155888 | Z40: 12562980 | AA40: 36273622
A41: SC2059_246mz_27.359min | B41: S1/S1_1.ELU | C41: Glutamate 3TMS | D41: 1632 | E41: 1651 | F41: =(D41-E41)/E41 -> -0.011508177 | G41: 0 | H41: 0 | I41: 0 | J41: 2398925 | K41: 2130654 | L41: 2257034 | M41: 2093163 | N41: 2104566 | O41: 1941514 | P41: 29996517 | Q41: 29056077 | R41: 25858759 | S41: 33597758 | T41: 31407444 | U41: 29170109 | V41: 6286534 | W41: 5340375 | X41: 5384906 | Y41: 99994524 | Z41: 91686930 | AA41: 81140911
A42: SC2989_204mz_35.1638min | B42: S1/S1_1.ELU | C42: Glucopyranose | D42: 1931 | E42: 2007 | F42: =(D42-E42)/E42 -> -0.037867464 | G42: 0 | H42: 0 | I42: 0 | J42: 0 | K42: 0 | L42: 0 | M42: 0 | N42: 0 | O42: 0 | P42: 6362886 | Q42: 6906003 | R42: 6953661 | S42: 12491281 | T42: 12754158 | U42: 12120431 | V42: 0 | W42: 0 | X42: 0 | Y42: 5392765 | Z42: 6169403 | AA42: 5435094
A43: SC7_151mz_10.1422min | B43: S1/S1_1.ELU | C43: NA | F43: =(D43-E43)/E43 -> #DIV/0! | G43: 0 | H43: 0 | I43: 517170 | J43: 0 | K43: 0 | L43: 804974 | M43: 0 | N43: 0 | O43: 1003885 | P43: 4943224 | Q43: 3264605 | R43: 3639064 | S43: 7576369 | T43: 6617953 | U43: 6865931 | V43: 0 | W43: 1551117 | X43: 1325156 | Y43: 7923513 | Z43: 8003463 | AA43: 6221790
A44: SC883_174mz_17.4942min | B44: S1/S1_2.ELU | C44: Ethanolamine 3TMS | D44: 1266 | E44: 1245 | F44: =(D44-E44)/E44 -> 0.01686747 | G44: 1042780 | H44: 354671 | I44: 138224 | J44: 1577953 | K44: 1764845 | L44: 1635269 | M44: 1423388 | N44: 1596328 | O44: 1448332 | P44: 1596293 | Q44: 1572902 | R44: 1549927 | S44: 1899871 | T44: 1950830 | U44: 1900542 | V44: 1645676 | W44: 1657873 | X44: 1404576 | Y44: 1725563 | Z44: 1836667 | AA44: 1623795
A45: SC1450_234mz_22.2488min | B45: S1/S1_2.ELU | C45: TRIS | F45: =(D45-E45)/E45 -> #DIV/0! | G45: 0 | H45: 0 | I45: 0 | J45: 502287 | K45: 596096 | L45: 720641 | M45: 525734 | N45: 601005 | O45: 727234 | P45: 9993791 | Q45: 11326648 | R45: 14086131 | S45: 11099247 | T45: 11291790 | U45: 11766197 | V45: 3052239 | W45: 3672266 | X45: 3823113 | Y45: 63769168 | Z45: 80973402 | AA45: 85066441
A46: SC1766_306mz_24.9038min | B46: S1/S1_2.ELU | C46: TRIS | F46: =(D46-E46)/E46 -> #DIV/0! | G46: 0 | H46: 0 | I46: 0 | J46: 1671528 | K46: 1508641 | L46: 1395542 | M46: 1282923 | N46: 1320930 | O46: 1115580 | P46: 23274538 | Q46: 23008581 | R46: 17759659 | S46: 17246363 | T46: 16880407 | U46: 14605279 | V46: 5904658 | W46: 4538015 | X46: 4161929 | Y46: 101825123 | Z46: 83371639 | AA46: 71203714
A47: SC3350_243mz_38.1864min | B47: S1/S1_2.ELU | C47: NA | F47: =(D47-E47)/E47 -> #DIV/0! | G47: 79822 | H47: 0 | I47: 0 | J47: 17637546 | K47: 14467812 | L47: 13051331 | M47: 13100744 | N47: 11334074 | O47: 10449884 | P47: 67599198 | Q47: 73934416 | R47: 106836614 | S47: 98591661 | T47: 116386039 | U47: 132000083 | V47: 14345884 | W47: 13998076 | X47: 16766385 | Y47: 177839685 | Z47: 180020365 | AA47: 176853882
A48: SC4299_73mz_46.1514min | B48: S1/S1_2.ELU | C48: Adenosine 4TMS | D48: 2647 | E48: 2673 | F48: =(D48-E48)/E48 -> -0.0097268986 | G48: 0 | H48: 0 | I48: 0 | J48: 150005 | K48: 196428 | L48: 185143 | M48: 174886 | N48: 206729 | O48: 183785 | P48: 14458878 | Q48: 15663578 | R48: 14295300 | S48: 22465555 | T48: 20426506 | U48: 20574655 | V48: 509885 | W48: 628409 | X48: 587614 | Y48: 24508723 | Z48: 30495536 | AA48: 26733443
A49: SC2142_73mz_28.0529min | B49: S1/S1_2.ELU | C49: NA | F49: =(D49-E49)/E49 -> #DIV/0! | G49: 0 | H49: 0 | I49: 0 | J49: 0 | K49: 0 | L49: 0 | M49: 0 | N49: 0 | O49: 0 | P49: 291386 | Q49: 335598 | R49: 377430 | S49: 339305 | T49: 427107 | U49: 333478 | V49: 61610 | W49: 0 | X49: 100293 | Y49: 844467 | Z49: 913852 | AA49: 739945
A50: SC2173_73mz_28.3121min | B50: S1/S1_2.ELU | C50: NA | F50: =(D50-E50)/E50 -> #DIV/0! | G50: 0 | H50: 0 | I50: 0 | J50: 0 | K50: 0 | L50: 0 | M50: 55290 | N50: 0 | O50: 0 | P50: 292562 | Q50: 286394 | R50: 269219 | S50: 331402 | T50: 298326 | U50: 274181 | V50: 0 | W50: 0 | X50: 77470 | Y50: 381010 | Z50: 500580 | AA50: 362614
A51: SC3374_73mz_38.3877min | B51: S1/S1_2.ELU | C51: NA | F51: =(D51-E51)/E51 -> #DIV/0! | G51: 0 | H51: 0 | I51: 0 | J51: 0 | K51: 0 | L51: 0 | M51: 0 | N51: 0 | O51: 0 | P51: 611869 | Q51: 655191 | R51: 572733 | S51: 1641730 | T51: 1428849 | U51: 1321006 | V51: 0 | W51: 0 | X51: 0 | Y51: 4707303 | Z51: 4793604 | AA51: 4050878
A52: SC4225_174mz_45.529min | B52: S1/S1_2.ELU | C52: NA | F52: =(D52-E52)/E52 -> #DIV/0! | G52: 0 | H52: 0 | I52: 0 | J52: 0 | K52: 0 | L52: 0 | M52: 0 | N52: 0 | O52: 0 | P52: 213590 | Q52: 259255 | R52: 244616 | S52: 177349 | T52: 232842 | U52: 220099 | V52: 0 | W52: 0 | X52: 53403 | Y52: 822722 | Z52: 972824 | AA52: 845375
A53: SC1492_228mz_22.5994min | B53: S1/S1_3.ELU | C53: NA | F53: =(D53-E53)/E53 -> #DIV/0! | G53: 3994601 | H53: 3971049 | I53: 4235022 | J53: 4374846 | K53: 4565372 | L53: 5008334 | M53: 3973978 | N53: 4205789 | O53: 4218366 | P53: 4463487 | Q53: 4736461 | R53: 4655990 | S53: 4282658 | T53: 4801351 | U53: 4578238 | V53: 5123307 | W53: 4725071 | X53: 4793128 | Y53: 4399108 | Z53: 4214722 | AA53: 4643846
A54: SC2420_174mz_30.3849min | B54: S1/S1_3.ELU | C54: Ornithine 3TMS | D54: 1751 | E54: 1770 | F54: =(D54-E54)/E54 -> -0.010734463 | G54: 0 | H54: 0 | I54: 0 | J54: 77809 | K54: 0 | L54: 0 | M54: 127574 | N54: 119892 | O54: 125761 | P54: 939006 | Q54: 1357099 | R54: 932599 | S54: 847676 | T54: 1190901 | U54: 1543189 | V54: 279482 | W54: 551687 | X54: 510471 | Y54: 734383 | Z54: 1534333 | AA54: 0
A55: SC1886_73mz_25.9062min | B55: S1/S1_3.ELU | C55: Cysteine 3TMS | D55: 1568 | E55: 1570 | F55: =(D55-E55)/E55 -> -0.0012738854 | G55: 0 | H55: 0 | I55: 0 | J55: 0 | K55: 0 | L55: 0 | M55: 59999 | N55: 0 | O55: 0 | P55: 456627 | Q55: 484930 | R55: 321415 | S55: 378764 | T55: 342304 | U55: 236397 | V55: 130368 | W55: 122249 | X55: 147640 | Y55: 1276340 | Z55: 1124336 | AA55: 860080
A56: SC703_241mz_15.9807min | B56: S2/S2_1.ELU | C56: NA | F56: =(D56-E56)/E56 -> #DIV/0! | G56: 24456 | H56: 0 | I56: 0 | J56: 47608 | K56: 62873 | L56: 69629 | M56: 71697 | N56: 103402 | O56: 113274 | P56: 26858 | Q56: 34394 | R56: 36408 | S56: 29578 | T56: 0 | U56: 34567 | V56: 111789 | W56: 148541 | X56: 147127 | Y56: 54432 | Z56: 58518 | AA56: 60725
A57: SC3265_73mz_37.4716min | B57: S2/S2_1.ELU | C57: Myo-Inositol | D57: 2113 | E57: 2134 | F57: =(D57-E57)/E57 -> -0.0098406748 | G57: 0 | H57: 0 | I57: 0 | J57: 2289792 | K57: 2274001 | L57: 2548488 | M57: 7821308 | N57: 7802137 | O57: 7802447 | P57: 4399383 | Q57: 4530467 | R57: 4652541 | S57: 8250829 | T57: 8033747 | U57: 8051598 | V57: 6689555 | W57: 6819190 | X57: 7449480 | Y57: 11035158 | Z57: 11788378 | AA57: 11410756
A58: SC1029_300mz_18.7213min | B58: S2/S2_1.ELU | C58: NA | F58: =(D58-E58)/E58 -> #DIV/0! | G58: 0 | H58: 0 | I58: 0 | J58: 94153328 | K58: 0 | L58: 0 | M58: 0 | N58: 136551794 | O58: 0 | P58: 313546157 | Q58: 253803496 | R58: 365701748 | S58: 512319477 | T58: 346381435 | U58: 517683396 | V58: 180153363 | W58: 179334568 | X58: 183894816 | Y58: 483564326 | Z58: 522155937 | AA58: 512793941
A59: SC1721_100mz_24.5229min | B59: S2/S2_1.ELU | C59: Asparagine 2TMS | D59: 1514 | E59: 1501 | F59: =(#REF!-D59)/D59 -> #REF! | G59: 0 | H59: 0 | I59: 0 | J59: 0 | K59: 0 | L59: 0 | M59: 0 | N59: 0 | O59: 0 | P59: 89958 | Q59: 89630 | R59: 0 | S59: 106866 | T59: 165056 | U59: 93394 | V59: 0 | W59: 0 | X59: 0 | Y59: 378356 | Z59: 216622 | AA59: 119140
A60: SC2209_451mz_28.6199min | B60: S2/S2_2.ELU | C60: Pyrophosphate | D60: 1677 | E60: 1690 | F60: =(D60-E60)/E60 -> -0.0076923077 | G60: 258750 | H60: 99690 | I60: 30477 | J60: 7892932 | K60: 7809963 | L60: 7959515 | M60: 9464436 | N60: 10868880 | O60: 11319053 | P60: 23600985 | Q60: 19231666 | R60: 14517578 | S60: 686647 | T60: 566004 | U60: 497998 | V60: 19397239 | W60: 19034127 | X60: 20145997 | Y60: 3124810 | Z60: 3392096 | AA60: 3092446
A61: SC1565_229mz_23.216min | B61: S2/S2_2.ELU | C61: NA | F61: =(D61-E61)/E61 -> #DIV/0! | G61: 0 | H61: 0 | I61: 0 | J61: 42951 | K61: 0 | L61: 0 | M61: 83158 | N61: 105885 | O61: 96926 | P61: 0 | Q61: 0 | R61: 0 | S61: 0 | T61: 0 | U61: 316641 | V61: 80940 | W61: 70089 | X61: 76210 | Y61: 699362 | Z61: 542729 | AA61: 500203
A62: SC1599_160mz_23.497min | B62: S2/S2_2.ELU | C62: NA | F62: =(D62-E62)/E62 -> #DIV/0! | G62: 0 | H62: 0 | I62: 0 | J62: 503907 | K62: 443578 | L62: 363663 | M62: 337228 | N62: 287255 | O62: 263943 | P62: 2204930 | Q62: 2585632 | R62: 3187596 | S62: 4537230 | T62: 4065882 | U62: 4490683 | V62: 331218 | W62: 339904 | X62: 409317 | Y62: 5159296 | Z62: 5014153 | AA62: 7117407
A63: SC2649_329mz_32.3109min | B63: S2/S2_2.ELU | C63: NA | F63: =(D63-E63)/E63 -> #DIV/0! | G63: 0 | H63: 0 | I63: 0 | J63: 32368 | K63: 12171 | L63: 40447 | M63: 0 | N63: 0 | O63: 0 | P63: 456919 | Q63: 337785 | R63: 239377 | S63: 371442 | T63: 382052 | U63: 329296 | V63: 0 | W63: 0 | X63: 0 | Y63: 146891 | Z63: 255684 | AA63: 0
A64: SC1907_73mz_26.084min | B64: S2/S2_2.ELU | C64: NA | F64: =(D64-E64)/E64 -> #DIV/0! | G64: 0 | H64: 0 | I64: 0 | J64: 0 | K64: 0 | L64: 0 | M64: 0 | N64: 0 | O64: 0 | P64: 114513 | Q64: 194623 | R64: 211860 | S64: 302552 | T64: 372099 | U64: 199282 | V64: 0 | W64: 0 | X64: 0 | Y64: 376472 | Z64: 370402 | AA64: 289574
A65: SC2860_154mz_34.0784min | B65: S2/S2_2.ELU | C65: Histidine 3TMS | D65: 1942 | E65: 1952 | F65: =(D65-E65)/E65 -> -0.0051229508 | G65: 0 | H65: 0 | I65: 0 | J65: 0 | K65: 0 | L65: 0 | M65: 0 | N65: 0 | O65: 0 | P65: 0 | Q65: 0 | R65: 0 | S65: 0 | T65: 0 | U65: 0 | V65: 0 | W65: 0 | X65: 0 | Y65: 0 | Z65: 0 | AA65: 5397789
A66: SC595_147mz_15.0746min | B66: S2/S2_3.ELU | C66: NA | F66: =(D66-E66)/E66 -> #DIV/0! | G66: 61685 | H66: 31897 | I66: 19223 | J66: 0 | K66: 38644 | L66: 54025 | M66: 36460 | N66: 43522 | O66: 38128 | P66: 67336 | Q66: 34702 | R66: 0 | S66: 120248 | T66: 92184 | U66: 46273 | V66: 28430 | W66: 40820 | X66: 0 | Y66: 74772 | Z66: 81940 | AA66: 45055
A67: SC1444_56mz_22.1974min | B67: S2/S2_3.ELU | C67: Methionine | D67: 1416 | E67: 1419 | F67: =(D67-E67)/E67 -> -0.0021141649 | G67: 0 | H67: 0 | I67: 0 | J67: 0 | K67: 0 | L67: 0 | M67: 0 | N67: 0 | O67: 0 | P67: 139299 | Q67: 0 | R67: 0 | S67: 152740 | T67: 183773 | U67: 0 | V67: 0 | W67: 0 | X67: 0 | Y67: 281581 | Z67: 379338 | AA67: 981479
A68: SC3320_327mz_37.9355min | B68: S3/S3_1.ELU | C68: NA | F68: =(D68-E68)/E68 -> #DIV/0! | G68: 10625 | H68: 7493 | I68: 6108 | J68: 120306 | K68: 136454 | L68: 134965 | M68: 110176 | N68: 106713 | O68: 121838 | P68: 52455 | Q68: 47149 | R68: 50483 | S68: 24035 | T68: 0 | U68: 18989 | V68: 158847 | W68: 158926 | X68: 193917 | Y68: 33084 | Z68: 0 | AA68: 0
A69: SC304_174mz_12.6362min | B69: S3/S3_1.ELU | C69: NA | F69: =(D69-E69)/E69 -> #DIV/0! | G69: 0 | H69: 0 | I69: 0 | J69: 48524 | K69: 51085 | L69: 0 | M69: 41796 | N69: 0 | O69: 0 | P69: 0 | Q69: 38947 | R69: 35206 | S69: 0 | T69: 0 | U69: 29151 | V69: 45375 | W69: 46695 | X69: 0 | Y69: 35713 | Z69: 33736 | AA69: 39080
A70: SC2459_73mz_30.7145min | B70: S3/S3_2.ELU | C70: Glycerolphosphate | D70: 1780 | E70: 1785 | F70: =(D70-E70)/E70 -> -0.0028011204 | G70: 0 | H70: 0 | I70: 0 | J70: 1804068 | K70: 1840094 | L70: 2064313 | M70: 3252666 | N70: 3322577 | O70: 3351685 | P70: 2219296 | Q70: 2107548 | R70: 1897994 | S70: 1761751 | T70: 1691539 | U70: 1562162 | V70: 2466559 | W70: 2654877 | X70: 2736528 | Y70: 2894800 | Z70: 2724264 | AA70: 2387774
A71: SC3413_232mz_38.7189min | B71: S3/S3_2.ELU | C71: NA | F71: =(D71-E71)/E71 -> #DIV/0! | G71: 0 | H71: 0 | I71: 0 | J71: 3883306 | K71: 3220440 | L71: 2372647 | M71: 1071347 | N71: 1101124 | O71: 705039 | P71: 49404889 | Q71: 40987712 | R71: 27503033 | S71: 159558563 | T71: 102528490 | U71: 72744911 | V71: 1083899 | W71: 809949 | X71: 377362 | Y71: 95944040 | Z71: 25951420 | AA71: 15900123
A72: SC1480_73mz_22.4995min | B72: S3/S3_2.ELU | C72: Aspartate 2 TMS | D72: 1420 | E72: 1432 | F72: =(D72-E72)/E72 -> -0.0083798883 | G72: 0 | H72: 0 | I72: 0 | J72: 0 | K72: 95528 | L72: 94175 | M72: 164975 | N72: 205958 | O72: 222103 | P72: 721674 | Q72: 822104 | R72: 758715 | S72: 1304840 | T72: 1331629 | U72: 1746903 | V72: 291396 | W72: 391452 | X72: 327082 | Y72: 3393869 | Z72: 4545473 | AA72: 9967690
A73: SC689_70mz_15.8674min | B73: S3/S3_2.ELU | C73: Proline | D73: 1176 | E73: 1185 | F73: =(D73-E73)/E73 -> -0.0075949367 | G73: 0 | H73: 0 | I73: 0 | J73: 0 | K73: 0 | L73: 48506 | M73: 0 | N73: 0 | O73: 0 | P73: 332697 | Q73: 329970 | R73: 344040 | S73: 333733 | T73: 326473 | U73: 409863 | V73: 0 | W73: 87780 | X73: 96851 | Y73: 1124471 | Z73: 1870744 | AA73: 1496366
A74: SC3051_311mz_35.6805min | B74: S3/S3_2.ELU | C74: NA | F74: =(D74-E74)/E74 -> #DIV/0! | G74: 0 | H74: 0 | I74: 0 | J74: 0 | K74: 0 | L74: 0 | M74: 0 | N74: 0 | O74: 0 | P74: 0 | Q74: 65143 | R74: 0 | S74: 68639 | T74: 47690 | U74: 34395 | V74: 24643 | W74: 0 | X74: 0 | Y74: 0 | Z74: 0 | AA74: 0
A75: SC1638_73mz_23.8266min | B75: S3/S3_3.ELU | C75: Aminomalonic acid | D75: 1485 | E75: 1486 | F75: =(D75-E75)/E75 -> -0.00067294751 | G75: 0 | H75: 0 | I75: 0 | J75: 103738 | K75: 98568 | L75: 104764 | M75: 79676 | N75: 88599 | O75: 74426 | P75: 323285 | Q75: 359547 | R75: 383341 | S75: 203494 | T75: 239265 | U75: 132260 | V75: 83734 | W75: 86031 | X75: 82393 | Y75: 185179 | Z75: 257404 | AA75: 234733
A76: SC1074_73mz_19.0996min | B76: S3/S3_3.ELU | C76: NA | F76: =(D76-E76)/E76 -> #DIV/0! | G76: 0 | H76: 0 | I76: 0 | J76: 17337 | K76: 13163 | L76: 22585 | M76: 0 | N76: 22865 | O76: 25403 | P76: 265027 | Q76: 300391 | R76: 344947 | S76: 413002 | T76: 393129 | U76: 364745 | V76: 36322 | W76: 44793 | X76: 55022 | Y76: 436082 | Z76: 399671 | AA76: 457838
A77: SC239_152mz_12.0909min | B77: S3/S3_3.ELU | C77: NA | F77: =(D77-E77)/E77 -> #DIV/0! | G77: 0 | H77: 0 | I77: 0 | J77: 0 | K77: 0 | L77: 0 | M77: 167685 | N77: 0 | O77: 0 | P77: 0 | Q77: 916498 | R77: 894810 | S77: 1351614 | T77: 1258538 | U77: 1214385 | V77: 0 | W77: 263524 | X77: 249261 | Y77: 1521838 | Z77: 1542523 | AA77: 1437164
A78: SC1710_73mz_24.4289min | B78: S3/S3_3.ELU | C78: NA | F78: =(D78-E78)/E78 -> #DIV/0! | G78: 0 | H78: 0 | I78: 0 | J78: 0 | K78: 0 | L78: 0 | M78: 0 | N78: 0 | O78: 0 | P78: 0 | Q78: 0 | R78: 0 | S78: 184076 | T78: 148155 | U78: 147382 | V78: 0 | W78: 0 | X78: 0 | Y78: 165915 | Z78: 162252 | AA78: 36858
A79: SC1131_174mz_19.576min | B79: S4/S4_1.ELU | C79: Glycine | D79: 1315 | E79: 1321 | F79: =(D79-E79)/E79 -> -0.0045420136 | G79: 0 | H79: 0 | I79: 0 | J79: 2209386 | K79: 2385722 | L79: 2282796 | M79: 0 | N79: 0 | O79: 0 | P79: 23866502 | Q79: 0 | R79: 0 | S79: 0 | T79: 0 | U79: 0 | V79: 1403603 | W79: 1492866 | X79: 979191 | Y79: 25375797 | Z79: 23035733 | AA79: 20179374
A80: SC1783_232mz_25.0429min | B80: S4/S4_1.ELU | C80: Aspartate3TMS | D80: 1522 | E80: 1535 | F80: =(D80-E80)/E80 -> -0.0084690554 | G80: 0 | H80: 0 | I80: 0 | J80: 1612508 | K80: 1463322 | L80: 1290967 | M80: 1536611 | N80: 1526742 | O80: 1448956 | P80: 9673330 | Q80: 10240993 | R80: 12447341 | S80: 19288062 | T80: 14990273 | U80: 15423102 | V80: 2365396 | W80: 2078961 | X80: 2266327 | Y80: 25753752 | Z80: 25160677 | AA80: 12090513
A81: SC2911_405mz_34.5053min | B81: S4/S4_1.ELU | C81: NA | F81: =(D81-E81)/E81 -> #DIV/0! | G81: 0 | H81: 0 | I81: 0 | J81: 0 | K81: 0 | L81: 0 | M81: 0 | N81: 15570 | O81: 0 | P81: 652119 | Q81: 755956 | R81: 720788 | S81: 850238 | T81: 882483 | U81: 909722 | V81: 0 | W81: 0 | X81: 0 | Y81: 434104 | Z81: 489877 | AA81: 392853
A82: SC1851_73mz_25.6118min | B82: S4/S4_2.ELU | C82: NA | F82: =(D82-E82)/E82 -> #DIV/0! | G82: 0 | H82: 0 | I82: 0 | J82: 0 | K82: 0 | L82: 0 | M82: 0 | N82: 0 | O82: 0 | P82: 432472 | Q82: 561024 | R82: 381552 | S82: 562356 | T82: 582886 | U82: 471595 | V82: 157699 | W82: 186780 | X82: 191933 | Y82: 1082462 | Z82: 1033907 | AA82: 1133797
A83: SC1399_73mz_21.8209min | B83: S4/S4_2.ELU | C83: NA | F83: =(D83-E83)/E83 -> #DIV/0! | G83: 0 | H83: 0 | I83: 0 | J83: 0 | K83: 0 | L83: 0 | M83: 0 | N83: 0 | O83: 0 | P83: 602957 | Q83: 757369 | R83: 683076 | S83: 730399 | T83: 653319 | U83: 560448 | V83: 0 | W83: 0 | X83: 0 | Y83: 894917 | Z83: 929789 | AA83: 938746
A84: SC2638_331mz_32.2144min | B84: S4/S4_2.ELU | C84: NA | F84: =(D84-E84)/E84 -> #DIV/0! | G84: 0 | H84: 0 | I84: 0 | J84: 0 | K84: 0 | L84: 0 | M84: 45088 | N84: 57315 | O84: 0 | P84: 3546085 | Q84: 3615144 | R84: 3582089 | S84: 3521963 | T84: 3361828 | U84: 3370954 | V84: 0 | W84: 0 | X84: 0 | Y84: 1554174 | Z84: 1701619 | AA84: 955216
A85: SC1383_73mz_21.6848min | B85: S4/S4_3.ELU | C85: Threonine | D85: 1367 | E85: 1399 | F85: =(D85-E85)/E85 -> -0.022873481 | G85: 0 | H85: 0 | I85: 0 | J85: 713593 | K85: 613781 | L85: 781178 | M85: 754276 | N85: 613300 | O85: 617688 | P85: 6608116 | Q85: 7380802 | R85: 5348618 | S85: 7199926 | T85: 5889392 | U85: 3324688 | V85: 1002248 | W85: 906172 | X85: 779621 | Y85: 11868509 | Z85: 7030220 | AA85: 6545937
A86: SC1131_147mz_19.5737min | B86: S5/S5_1.ELU | C86: Glycine | D86: 1315 | E86: 1321 | F86: =(D86-E86)/E86 -> -0.0045420136 | G86: 0 | H86: 0 | I86: 0 | J86: 961998 | K86: 1476022 | L86: 1228150 | M86: 1917917 | N86: 1800239 | O86: 0 | P86: 16321821 | Q86: 14808883 | R86: 13284998 | S86: 18801332 | T86: 21818104 | U86: 22002014 | V86: 764349 | W86: 0 | X86: 0 | Y86: 0 | Z86: 0 | AA86: 7659578
A87: SC4863_204mz_50.8793min | B87: S5/S5_1.ELU | C87: Galactinol | D87: 2946 | E87: 3019 | F87: =(D87-E87)/E87 -> -0.024180192 | G87: 0 | H87: 0 | I87: 0 | J87: 0 | K87: 0 | L87: 0 | M87: 0 | N87: 0 | O87: 0 | P87: 724501 | Q87: 802955 | R87: 776664 | S87: 1034817 | T87: 1021752 | U87: 974988 | V87: 0 | W87: 0 | X87: 0 | Y87: 499697 | Z87: 550504 | AA87: 587230
A88: SC1648_73mz_23.9123min | B88: S5/S5_1.ELU | C88: NA | F88: =(D88-E88)/E88 -> #DIV/0! | G88: 0 | H88: 0 | I88: 0 | J88: 0 | K88: 0 | L88: 0 | M88: 0 | N88: 0 | O88: 0 | P88: 1236991 | Q88: 600511 | R88: 0 | S88: 1339554 | T88: 1165766 | U88: 984733 | V88: 0 | W88: 0 | X88: 0 | Y88: 1521663 | Z88: 1371035 | AA88: 1316275
A89: SC974_73mz_18.2582min | B89: S5/S5_2.ELU | C89: NA | F89: =(D89-E89)/E89 -> #DIV/0! | G89: 0 | H89: 0 | I89: 0 | J89: 533856 | K89: 628363 | L89: 757074 | M89: 697014 | N89: 723968 | O89: 811059 | P89: 9024239 | Q89: 9553875 | R89: 9649586 | S89: 11607457 | T89: 12725931 | U89: 12794952 | V89: 1174896 | W89: 1258736 | X89: 1457919 | Y89: 13625172 | Z89: 13248902 | AA89: 12390591
A90: SC2509_73mz_31.1339min | B90: S5/S5_2.ELU | C90: 2-Phosphoglycerate | D90: 1797 | E90: 1804 | F90: =(D90-E90)/E90 -> -0.0038802661 | G90: 0 | H90: 0 | I90: 0 | J90: 0 | K90: 0 | L90: 0 | M90: 0 | N90: 0 | O90: 0 | P90: 0 | Q90: 0 | R90: 0 | S90: 174633 | T90: 175229 | U90: 181271 | V90: 0 | W90: 0 | X90: 0 | Y90: 519934 | Z90: 566185 | AA90: 329840
A91: SC3731_387mz_41.384min | B91: S5/S5_2.ELU | C91: Glucosephosphate | D91: 2324 | E91: 1362 | F91: =(D91-E91)/E91 -> 0.70631424 | G91: 0 | H91: 0 | I91: 0 | J91: 0 | K91: 0 | L91: 0 | M91: 0 | N91: 17051 | O91: 0 | P91: 0 | Q91: 0 | R91: 0 | S91: 156722 | T91: 0 | U91: 32109 | V91: 0 | W91: 13384 | X91: 19966 | Y91: 222401 | Z91: 208315 | AA91: 342424
A92: SC3754_387mz_41.5769min | B92: S5/S5_2.ELU | C92: Glucosephosphate | D92: 2324 | E92: 1362 | F92: =(D92-E92)/E92 -> 0.70631424 | G92: 0 | H92: 0 | I92: 0 | J92: 0 | K92: 0 | L92: 0 | M92: 0 | N92: 0 | O92: 0 | P92: 167863 | Q92: 0 | R92: 0 | S92: 646482 | T92: 794653 | U92: 663229 | V92: 0 | W92: 0 | X92: 0 | Y92: 515588 | Z92: 773843 | AA92: 686076
A93: SC2537_73mz_31.3687min | B93: S6/S6_1.ELU | C93: NA | F93: =(D93-E93)/E93 -> #DIV/0! | G93: 0 | H93: 0 | I93: 0 | J93: 7845257 | K93: 7534411 | L93: 7746498 | M93: 5042594 | N93: 5056914 | O93: 5198990 | P93: 65635283 | Q93: 67806173 | R93: 65797592 | S93: 36793582 | T93: 37890993 | U93: 36079415 | V93: 1437694 | W93: 1485044 | X93: 1580878 | Y93: 13831287 | Z93: 14917374 | AA93: 13775467
A94: SC3682_73mz_40.9779min | B94: S6/S6_1.ELU | C94: NA | F94: =(D94-E94)/E94 -> #DIV/0! | G94: 0 | H94: 0 | I94: 0 | J94: 0 | K94: 0 | L94: 0 | M94: 0 | N94: 235955 | O94: 0 | P94: 2711447 | Q94: 2828810 | R94: 2684187 | S94: 4255301 | T94: 3523595 | U94: 3942472 | V94: 616599 | W94: 685463 | X94: 634791 | Y94: 12961497 | Z94: 13369637 | AA94: 14452108
A95: SC73_77mz_10.6959min | B95: S6/S6_2.ELU | C95: NA | F95: =(D95-E95)/E95 -> #DIV/0! | G95: 1644048 | H95: 1287492 | I95: 1965815 | J95: 2161178 | K95: 2563935 | L95: 3174891 | M95: 2282581 | N95: 2544659 | O95: 2647747 | P95: 4570772 | Q95: 11193836 | R95: 4131244 | S95: 6922985 | T95: 7131209 | U95: 5028823 | V95: 2558092 | W95: 9672141 | X95: 2505447 | Y95: 14127650 | Z95: 8177616 | AA95: 15986411
A96: SC85_159mz_10.7957min | B96: S6/S6_2.ELU | C96: NA | F96: =(D96-E96)/E96 -> #DIV/0! | G96: 68174261 | H96: 69199026 | I96: 65922187 | J96: 66259629 | K96: 66592055 | L96: 71576808 | M96: 74404036 | N96: 70028237 | O96: 71572663 | P96: 58188811 | Q96: 61485503 | R96: 66663922 | S96: 64250147 | T96: 69253340 | U96: 65774763 | V96: 67022587 | W96: 68621415 | X96: 66168238 | Y96: 61271082 | Z96: 65472225 | AA96: 63159544
A97: SC316_147mz_12.736min | B97: S6/S6_2.ELU | C97: Lactate | D97: 1066 | E97: 1071 | F97: =(D97-E97)/E97 -> -0.0046685341 | G97: 465786 | H97: 433736 | I97: 388159 | J97: 1104757 | K97: 1121909 | L97: 1152150 | M97: 513117 | N97: 409746 | O97: 400675 | P97: 19040062 | Q97: 21788343 | R97: 20555048 | S97: 1538104 | T97: 1354954 | U97: 1336043 | V97: 566408 | W97: 643370 | X97: 527941 | Y97: 928848 | Z97: 659704 | AA97: 816177
A98: SC6_73mz_10.1372min | B98: S6/S6_2.ELU | C98: NA | F98: =(D98-E98)/E98 -> #DIV/0! | G98: 0 | H98: 1354866 | I98: 1248436 | J98: 0 | K98: 6478769 | L98: 6260047 | M98: 0 | N98: 1347147 | O98: 652739 | P98: 7170897 | Q98: 7782492 | R98: 7567452 | S98: 7627032 | T98: 4120104 | U98: 6728947 | V98: 0 | W98: 1244287 | X98: 1315610 | Y98: 9577069 | Z98: 5543389 | AA98: 9146468
A99: SC1009_158mz_18.5493min | B99: S6/S6_2.ELU | C99: Leucine 2TMS | D99: 1279 | E99: 1284 | F99: =(D99-E99)/E99 -> -0.003894081 | G99: 0 | H99: 0 | I99: 0 | J99: 371164 | K99: 307508 | L99: 278816 | M99: 428099 | N99: 492879 | O99: 368769 | P99: 3051127 | Q99: 2007737 | R99: 2028822 | S99: 1453449 | T99: 1320001 | U99: 1367510 | V99: 769913 | W99: 363695 | X99: 0 | Y99: 2809184 | Z99: 2729858 | AA99: 3225587
A100: SC2824_73mz_33.7764min | B100: S6/S6_2.ELU | C100: Glucose | D100: 1883 | E100: 1937 | F100: =(D100-E100)/E100 -> -0.027878162 | G100: 0 | H100: 0 | I100: 0 | J100: 978273 | K100: 965272 | L100: 984473 | M100: 2283778 | N100: 2453966 | O100: 2215504 | P100: 16048346 | Q100: 16925041 | R100: 15960957 | S100: 24729863 | T100: 23898901 | U100: 23620249 | V100: 1145608 | W100: 1231571 | X100: 1148374 | Y100: 3649812 | Z100: 6665986 | AA100: 2483859
...

Sheet Annotation
A1: Annotated data matrix
C2: Name | D2: RI_Exp | E2: RI_DB | F2: RI_dif | G2: Blank1 | H2: Blank2 | I2: Blank3 | J2: Average_Blank | K2: Mito_atp4_1 | L2: Mito_atp4_2 | M2: Mito_atp4_3 | N2: Mito_sdh2_1 | O2: Mito_sdh2_2 | P2: Mito_sdh2_3 | Q2: Cyto_atp4_1 | R2: Cyto_atp4_2 | S2: Cyto_atp4_3 | T2: Cyto_sdh2_1 | U2: Cyto_sdh2_2 | V2: Cyto_sdh2_3 | W2: Mito_WT_1 | X2: Mito_WT_2 | Y2: Mito_WT_3 | Z2: Cyto_WT_1 | AA2: Cyto_WT_2 | AB2: Cyto_WT_3
A3: SC1014_73mz_18.5929min | B3: Blank1/MET2.ELU | C3: Glycerol | D3: 1285 | E3: 1289 | F3: =(D3-E3)/E3 -> -0.0031031808 | G3: 26311 | H3: 29190 | I3: 29533 | J3: =AVERAGE(G3:I3) -> 28344.667 | K3: 45971 | L3: 52010 | M3: 55115 | N3: 36732 | O3: 38848 | P3: 39408 | Q3: 378115 | R3: 397471 | S3: 361562 | T3: 340430 | U3: 329645 | V3: 319574 | W3: 102343 | X3: 142734 | Y3: 138759 | Z3: 169403 | AA3: 156188 | AB3: 147871
A4: SC1999_357mz_26.8575min | B4: M1/M1_1.ELU | C4: NA | G4: 0 | H4: 0 | I4: 0 | J4: =AVERAGE(G4:I4) -> 0 | K4: 400183 | L4: 759171 | M4: 374360 | N4: 600566 | O4: 290231 | P4: 658263 | Q4: 1383909 | R4: 1230916 | S4: 1181441 | T4: 271717 | U4: 0 | V4: 0 | W4: 588469 | X4: 490329 | Y4: 504617 | Z4: 597365 | AA4: 372542 | AB4: 169835
A5: SC1025_299mz_18.6818min | B5: M2/M2_2.ELU | C5: Phosphate | D5: 1289 | E5: 1286 | F5: =(D5-E5)/E5 -> 0.0023328149 | G5: 36410698 | H5: 26806983 | I5: 22095550 | J5: =AVERAGE(G5:I5) -> 28437744 | K5: 159079911 | L5: 153049333 | M5: 159987767 | N5: 195756953 | O5: 205968199 | P5: 197073596 | Q5: 516534162 | R5: 517833437 | S5: 337919093 | T5: 652425596 | U5: 389308831 | V5: 588546288 | W5: 211005532 | X5: 234579885 | Y5: 0 | Z5: 640941823 | AA5: 367297309 | AB5: 622632836
A6: SC2747_179mz_33.1312min | B6: M2/M2_2.ELU | C6: Tyrosine 2TMS | D6: 1901 | E6: 1904 | F6: =(D6-E6)/E6 -> -0.0015756303 | G6: 0 | H6: 0 | I6: 0 | J6: =AVERAGE(G6:I6) -> 0 | K6: 84215 | L6: 103855 | M6: 129000 | N6: 178749 | O6: 170614 | P6: 198735 | Q6: 204691 | R6: 426486 | S6: 529862 | T6: 242860 | U6: 329739 | V6: 398628 | W6: 225505 | X6: 238252 | Y6: 277505 | Z6: 0 | AA6: 0 | AB6: 824290
A7: SC2836_73mz_33.8738min | B7: M2/M2_3.ELU | C7: Lysine 4TMS | D7: 1941 | E7: 1922 | F7: =(D7-E7)/E7 -> 0.0098855359 | G7: 0 | H7: 0 | I7: 0 | J7: =AVERAGE(G7:I7) -> 0 | K7: 9540365 | L7: 7456621 | M7: 5187813 | N7: 4842268 | O7: 5779229 | P7: 3872635 | Q7: 349861535 | R7: 345264893 | S7: 327536583 | T7: 425810814 | U7: 415791036 | V7: 381961080 | W7: 7122812 | X7: 8837719 | Y7: 4544314 | Z7: 580876606 | AA7: 557917371 | AB7: 514767314
A8: SC825_144mz_17.0051min | B8: M3/M3_1.ELU | C8: Valine 2TMS | D8: 1224 | E8: 1227 | F8: =(D8-E8)/E8 -> -0.0024449878 | G8: 0 | H8: 0 | I8: 0 | J8: =AVERAGE(G8:I8) -> 0 | K8: 288259 | L8: 290371 | M8: 294579 | N8: 461162 | O8: 510997 | P8: 482592 | Q8: 2587700 | R8: 2045223 | S8: 2861376 | T8: 2564127 | U8: 2938988 | V8: 3262170 | W8: 568220 | X8: 563517 | Y8: 411591 | Z8: 4292809 | AA8: 4543125 | AB8: 3924703
A9: SC3706_73mz_41.1784min | B9: M3/M3_2.ELU | C9: Phenyl-glucose | D9: 2310 | E9: 2350 | F9: =(D9-E9)/E9 -> -0.017021277 | G9: 19485554 | H9: 19461629 | I9: 19905350 | J9: =AVERAGE(G9:I9) -> 19617511 | K9: 22470695 | L9: 22802421 | M9: 22289673 | N9: 20917719 | O9: 20920092 | P9: 20134630 | Q9: 7026029 | R9: 7464554 | S9: 7324685 | T9: 7668758 | U9: 7433213 | V9: 7362716 | W9: 19323683 | X9: 20710069 | Y9: 20339979 | Z9: 12924778 | AA9: 14338155 | AB9: 14091919
A10: SC2928_73mz_34.6487min | B10: M3/M3_2.ELU | C10: Sorbitol | D10: 1944 | E10: 1980 | F10: =(D10-E10)/E10 -> -0.018181818 | G10: 0 | H10: 0 | I10: 0 | J10: =AVERAGE(G10:I10) -> 0 | K10: 34761960 | L10: 33513614 | M10: 32570240 | N10: 28981803 | O10: 29164975 | P10: 27702295 | Q10: 554351560 | R10: 549937607 | S10: 571281656 | T10: 234705307 | U10: 229275976 | V10: 224965527 | W10: 34637864 | X10: 33169441 | Y10: 34072465 | Z10: 418468203 | AA10: 449536841 | AB10: 435839986
A11: SC3893_290mz_42.7397min | B11: M4/M4_1.ELU | C11: EDTA | F11: =(D11-E11)/E11 -> #DIV/0! | G11: 0 | H11: 0 | I11: 0 | J11: =AVERAGE(G11:I11) -> 0 | K11: 168140047 | L11: 151459853 | M11: 121009370 | N11: 78693462 | O11: 77989851 | P11: 69128534 | Q11: 679670568 | R11: 701952312 | S11: 705115985 | T11: 722056001 | U11: 735072344 | V11: 733880691 | W11: 239002335 | X11: 248726848 | Y11: 222651376 | Z11: 623864506 | AA11: 743461564 | AB11: 687149599
A12: SC619_86mz_15.2777min | B12: M4/M4_2.ELU | C12: Leucine TMS | D12: 1167 | E12: 1164 | F12: =(D12-E12)/E12 -> 0.0025773196 | G12: 0 | H12: 0 | I12: 0 | J12: =AVERAGE(G12:I12) -> 0 | K12: 0 | L12: 97839 | M12: 126947 | N12: 116963 | O12: 129107 | P12: 175660 | Q12: 2851589 | R12: 3432509 | S12: 3561271 | T12: 3246637 | U12: 3327545 | V12: 3702506 | W12: 87809 | X12: 268505 | Y12: 298464 | Z12: 7725865 | AA12: 8765569 | AB12: 8328882
A13: SC1077_180mz_19.1231min | B13: M4/M4_3.ELU | C13: Nicotinic acid | D13: 1309 | E13: 1305 | F13: =(D13-E13)/E13 -> 0.0030651341 | G13: 33686 | H13: 12511 | I13: 12476 | J13: =AVERAGE(G13:I13) -> 19557.667 | K13: 19708 | L13: 0 | M13: 40002 | N13: 40546 | O13: 49803 | P13: 53394 | Q13: 256563 | R13: 257390 | S13: 284462 | T13: 642524 | U13: 652791 | V13: 627324 | W13: 203178 | X13: 242043 | Y13: 201020 | Z13: 573838 | AA13: 582913 | AB13: 620797
A14: SC3042_73mz_35.6026min | B14: M4/M4_3.ELU | C14: Palmitoleic acid | D14: 2027 | E14: 2031 | F14: =(D14-E14)/E14 -> -0.0019694732 | G14: 1328651 | H14: 273310 | I14: 154233 | J14: =AVERAGE(G14:I14) -> 585398 | K14: 14270800 | L14: 14292608 | M14: 14732852 | N14: 22042294 | O14: 21867096 | P14: 21679620 | Q14: 6809341 | R14: 6690189 | S14: 6748886 | T14: 6441255 | U14: 5745321 | V14: 5852270 | W14: 15610914 | X14: 16196479 | Y14: 18275953 | Z14: 4002905 | AA14: 3741999 | AB14: 3906223
A15: SC2866_73mz_34.1279min | B15: M4/M4_3.ELU | C15: Glucose | D15: 1876 | E15: 1954 | F15: =(D15-E15)/E15 -> -0.039918117 | G15: 0 | H15: 0 | I15: 0 | J15: =AVERAGE(G15:I15) -> 0 | K15: 149615 | L15: 183637 | M15: 190409 | N15: 265365 | O15: 276385 | P15: 286794 | Q15: 2518151 | R15: 0 | S15: 2803874 | T15: 0 | U15: 0 | V15: 0 | W15: 144530 | X15: 162853 | Y15: 140062 | Z15: 1417895 | AA15: 1389079 | AB15: 1184265
A16: SC2622_285mz_32.0802min | B16: M5/M5_1.ELU | C16: Myristic acid | D16: 1850 | E16: 1852 | F16: =(D16-E16)/E16 -> -0.0010799136 | G16: 74335 | H16: 40503 | I16: 46918 | J16: =AVERAGE(G16:I16) -> 53918.667 | K16: 351451 | L16: 343647 | M16: 481146 | N16: 603740 | O16: 613525 | P16: 589753 | Q16: 159702 | R16: 140259 | S16: 161742 | T16: 211477 | U16: 0 | V16: 174942 | W16: 1387217 | X16: 1503330 | Y16: 1514438 | Z16: 0 | AA16: 0 | AB16: 0
A17: SC1098_142mz_19.2934min | B17: M5/M5_2.ELU | C17: Proline | D17: 1305 | E17: 1311 | F17: =(D17-E17)/E17 -> -0.004576659 | G17: 0 | H17: 0 | I17: 0 | J17: =AVERAGE(G17:I17) -> 0 | K17: 217440 | L17: 150582 | M17: 108333 | N17: 131120 | O17: 170667 | P17: 141599 | Q17: 328672 | R17: 157704 | S17: 111488 | T17: 96626 | U17: 73364 | V17: 126507 | W17: 239563 | X17: 121382 | Y17: 82717 | Z17: 248748 | AA17: 268885 | AB17: 359773
A18: SC2376_73mz_30.019min | B18: M5/M5_3.ELU | C18: Ribitol | D18: 1747 | E18: 1753 | F18: =(D18-E18)/E18 -> -0.0034227039 | G18: 32819670 | H18: 33376212 | I18: 33270949 | J18: =AVERAGE(G18:I18) -> 33155610 | K18: 35520565 | L18: 33600491 | M18: 35211005 | N18: 31889707 | O18: 32543327 | P18: 28910233 | Q18: 11281943 | R18: 11709761 | S18: 12048029 | T18: 13213804 | U18: 12520723 | V18: 12540104 | W18: 30052173 | X18: 29296545 | Y18: 33050931 | Z18: 23370217 | AA18: 25008975 | AB18: 24751690
A19: SC532_147mz_14.5529min | B19: M6/M6_1.ELU | C19: Oxalic acid | D19: 1136 | E19: 1137 | F19: =(D19-E19)/E19 -> -0.00087950748 | G19: 0 | H19: 0 | I19: 0 | J19: =AVERAGE(G19:I19) -> 0 | K19: 943262 | L19: 932962 | M19: 817807 | N19: 1340762 | O19: 1298969 | P19: 1109372 | Q19: 10798326 | R19: 12603885 | S19: 12772751 | T19: 14773604 | U19: 14364381 | V19: 15149713 | W19: 2023305 | X19: 2163158 | Y19: 2189591 | Z19: 18205663 | AA19: 20946943 | AB19: 19412905
A20: SC80_221mz_10.7539min | B20: M6/M6_2.ELU | C20: Boric acid | D20: 1010 | E20: 998 | F20: =(D20-E20)/E20 -> 0.012024048 | G20: 16992433 | H20: 15475636 | I20: 13838183 | J20: =AVERAGE(G20:I20) -> 15435417 | K20: 23462732 | L20: 20039733 | M20: 19263210 | N20: 2771544 | O20: 2936555 | P20: 2501232 | Q20: 13134033 | R20: 13513156 | S20: 13266199 | T20: 5123235 | U20: 3726225 | V20: 5544586 | W20: 30056801 | X20: 15033401 | Y20: 15036540 | Z20: 2611164 | AA20: 2650913 | AB20: 2434710
A21: SC1795_84mz_25.1461min | B21: S1/S1_1.ELU | C21: Glutamate 3TMS | D21: 1539 | E21: 1528 | F21: =(D21-E21)/E21 -> 0.0071989529 | G21: 0 | H21: 0 | I21: 0 | J21: =AVERAGE(G21:I21) -> 0 | K21: 428901 | L21: 541955 | M21: 636777 | N21: 0 | O21: 616695 | P21: 719145 | Q21: 3840774 | R21: 4790486 | S21: 4625911 | T21: 7756437 | U21: 6210456 | V21: 9125808 | W21: 1539673 | X21: 2266775 | Y21: 2213431 | Z21: 22155888 | AA21: 12562980 | AB21: 36273622
A22: SC2059_246mz_27.359min | B22: S1/S1_1.ELU | C22: Glutamate 2TMS | D22: 1651 | E22: 1633 | F22: =(D22-E22)/E22 -> 0.011022658 | G22: 0 | H22: 0 | I22: 0 | J22: =AVERAGE(G22:I22) -> 0 | K22: 2398925 | L22: 2130654 | M22: 2257034 | N22: 2093163 | O22: 2104566 | P22: 1941514 | Q22: 29996517 | R22: 29056077 | S22: 25858759 | T22: 33597758 | U22: 31407444 | V22: 29170109 | W22: 6286534 | X22: 5340375 | Y22: 5384906 | Z22: 99994524 | AA22: 91686930 | AB22: 81140911
A23: SC2989_204mz_35.1638min | B23: S1/S1_1.ELU | C23: Glucopyranose | D23: 1931 | E23: 2007 | F23: =(D23-E23)/E23 -> -0.037867464 | G23: 0 | H23: 0 | I23: 0 | J23: =AVERAGE(G23:I23) -> 0 | K23: 0 | L23: 0 | M23: 0 | N23: 0 | O23: 0 | P23: 0 | Q23: 6362886 | R23: 6906003 | S23: 6953661 | T23: 12491281 | U23: 12754158 | V23: 12120431 | W23: 0 | X23: 0 | Y23: 0 | Z23: 5392765 | AA23: 6169403 | AB23: 5435094
A24: SC883_174mz_17.4942min | B24: S1/S1_2.ELU | C24: Ethanolamine 3TMS | D24: 1266 | E24: 1245 | F24: =(D24-E24)/E24 -> 0.01686747 | G24: 1042780 | H24: 354671 | I24: 138224 | J24: =AVERAGE(G24:I24) -> 511891.67 | K24: 1577953 | L24: 1764845 | M24: 1635269 | N24: 1423388 | O24: 1596328 | P24: 1448332 | Q24: 1596293 | R24: 1572902 | S24: 1549927 | T24: 1899871 | U24: 1950830 | V24: 1900542 | W24: 1645676 | X24: 1657873 | Y24: 1404576 | Z24: 1725563 | AA24: 1836667 | AB24: 1623795
A25: SC1450_234mz_22.2488min | B25: S1/S1_2.ELU | C25: TRIS | F25: =(D25-E25)/E25 -> #DIV/0! | G25: 0 | H25: 0 | I25: 0 | J25: =AVERAGE(G25:I25) -> 0 | K25: 502287 | L25: 596096 | M25: 720641 | N25: 525734 | O25: 601005 | P25: 727234 | Q25: 9993791 | R25: 11326648 | S25: 14086131 | T25: 11099247 | U25: 11291790 | V25: 11766197 | W25: 3052239 | X25: 3672266 | Y25: 3823113 | Z25: 63769168 | AA25: 80973402 | AB25: 85066441
A26: SC1766_306mz_24.9038min | B26: S1/S1_2.ELU | C26: TRIS | F26: =(D26-E26)/E26 -> #DIV/0! | G26: 0 | H26: 0 | I26: 0 | J26: =AVERAGE(G26:I26) -> 0 | K26: 1671528 | L26: 1508641 | M26: 1395542 | N26: 1282923 | O26: 1320930 | P26: 1115580 | Q26: 23274538 | R26: 23008581 | S26: 17759659 | T26: 17246363 | U26: 16880407 | V26: 14605279 | W26: 5904658 | X26: 4538015 | Y26: 4161929 | Z26: 101825123 | AA26: 83371639 | AB26: 71203714
A27: SC4299_73mz_46.1514min | B27: S1/S1_2.ELU | C27: Adenosine 4TMS | D27: 2647 | E27: 2673 | F27: =(D27-E27)/E27 -> -0.0097268986 | G27: 0 | H27: 0 | I27: 0 | J27: =AVERAGE(G27:I27) -> 0 | K27: 150005 | L27: 196428 | M27: 185143 | N27: 174886 | O27: 206729 | P27: 183785 | Q27: 14458878 | R27: 15663578 | S27: 14295300 | T27: 22465555 | U27: 20426506 | V27: 20574655 | W27: 509885 | X27: 628409 | Y27: 587614 | Z27: 24508723 | AA27: 30495536 | AB27: 26733443
A28: SC2420_174mz_30.3849min | B28: S1/S1_3.ELU | C28: Ornithine 3TMS | D28: 1770 | E28: 1610 | F28: =(D28-E28)/E28 -> 0.099378882 | G28: 0 | H28: 0 | I28: 0 | J28: =AVERAGE(G28:I28) -> 0 | K28: 77809 | L28: 0 | M28: 0 | N28: 127574 | O28: 119892 | P28: 125761 | Q28: 939006 | R28: 1357099 | S28: 932599 | T28: 847676 | U28: 1190901 | V28: 1543189 | W28: 279482 | X28: 551687 | Y28: 510471 | Z28: 734383 | AA28: 1534333 | AB28: 0
A29: SC1886_73mz_25.9062min | B29: S1/S1_3.ELU | C29: Cysteine 3TMS | D29: 1568 | E29: 1570 | F29: =(D29-E29)/E29 -> -0.0012738854 | G29: 0 | H29: 0 | I29: 0 | J29: =AVERAGE(G29:I29) -> 0 | K29: 0 | L29: 0 | M29: 0 | N29: 59999 | O29: 67354 | P29: 0 | Q29: 456627 | R29: 484930 | S29: 321415 | T29: 378764 | U29: 342304 | V29: 236397 | W29: 130368 | X29: 122249 | Y29: 147640 | Z29: 1276340 | AA29: 1124336 | AB29: 860080
A30: SC3265_73mz_37.4716min | B30: S2/S2_1.ELU | C30: Myo-Inositol | D30: 2113 | E30: 2134 | F30: =(D30-E30)/E30 -> -0.0098406748 | G30: 0 | H30: 0 | I30: 0 | J30: =AVERAGE(G30:I30) -> 0 | K30: 2289792 | L30: 2274001 | M30: 2548488 | N30: 7821308 | O30: 7802137 | P30: 7802447 | Q30: 4399383 | R30: 4530467 | S30: 4652541 | T30: 8250829 | U30: 8033747 | V30: 8051598 | W30: 6689555 | X30: 6819190 | Y30: 7449480 | Z30: 11035158 | AA30: 11788378 | AB30: 11410756
A31: SC1721_100mz_24.5229min | B31: S2/S2_1.ELU | C31: Asparagine 2TMS | D31: 1514 | E31: 1501 | F31: =(D31-E31)/E31 -> 0.0086608927 | G31: 0 | H31: 0 | I31: 0 | J31: =AVERAGE(G31:I31) -> 0 | K31: 0 | L31: 0 | M31: 0 | N31: 0 | O31: 0 | P31: 0 | Q31: 89958 | R31: 89630 | S31: 0 | T31: 106866 | U31: 165056 | V31: 93394 | W31: 0 | X31: 0 | Y31: 0 | Z31: 378356 | AA31: 216622 | AB31: 119140
A32: SC2209_451mz_28.6199min | B32: S2/S2_2.ELU | C32: Pyrophosphate | D32: 1677 | E32: 1690 | F32: =(D32-E32)/E32 -> -0.0076923077 | G32: 258750 | H32: 99690 | I32: 30477 | J32: =AVERAGE(G32:I32) -> 129639 | K32: 7892932 | L32: 7809963 | M32: 7959515 | N32: 9464436 | O32: 10868880 | P32: 11319053 | Q32: 23600985 | R32: 19231666 | S32: 14517578 | T32: 686647 | U32: 566004 | V32: 497998 | W32: 19397239 | X32: 19034127 | Y32: 20145997 | Z32: 3124810 | AA32: 3392096 | AB32: 3092446
A33: SC2860_154mz_34.0784min | B33: S2/S2_2.ELU | C33: Histidine 3TMS | D33: 1942 | E33: 1952 | F33: =(D33-E33)/E33 -> -0.0051229508 | G33: 0 | H33: 0 | I33: 0 | J33: =AVERAGE(G33:I33) -> 0 | K33: 0 | L33: 0 | M33: 0 | N33: 0 | O33: 0 | P33: 0 | Q33: 0 | R33: 0 | S33: 0 | T33: 0 | U33: 0 | V33: 0 | W33: 0 | X33: 0 | Y33: 0 | Z33: 5452606 | AA33: 3663168 | AB33: 5397789
A34: SC1444_56mz_22.1974min | B34: S2/S2_3.ELU | C34: Methionine | D34: 1416 | E34: 1419 | F34: =(D34-E34)/E34 -> -0.0021141649 | G34: 0 | H34: 0 | I34: 0 | J34: =AVERAGE(G34:I34) -> 0 | K34: 0 | L34: 0 | M34: 0 | N34: 0 | O34: 0 | P34: 0 | Q34: 139299 | R34: 0 | S34: 0 | T34: 152740 | U34: 183773 | V34: 0 | W34: 0 | X34: 0 | Y34: 0 | Z34: 281581 | AA34: 379338 | AB34: 981479
A35: SC2459_73mz_30.7145min | B35: S3/S3_2.ELU | C35: Glycerolphosphate | D35: 1780 | E35: 1785 | F35: =(D35-E35)/E35 -> -0.0028011204 | G35: 0 | H35: 0 | I35: 0 | J35: =AVERAGE(G35:I35) -> 0 | K35: 1804068 | L35: 1840094 | M35: 2064313 | N35: 3252666 | O35: 3322577 | P35: 3351685 | Q35: 2219296 | R35: 2107548 | S35: 1897994 | T35: 1761751 | U35: 1691539 | V35: 1562162 | W35: 2466559 | X35: 2654877 | Y35: 2736528 | Z35: 2894800 | AA35: 2724264 | AB35: 2387774
A36: SC1480_73mz_22.4995min | B36: S3/S3_2.ELU | C36: Aspartate 2 TMS | D36: 1420 | E36: 1432 | F36: =(D36-E36)/E36 -> -0.0083798883 | G36: 0 | H36: 0 | I36: 0 | J36: =AVERAGE(G36:I36) -> 0 | K36: 0 | L36: 95528 | M36: 94175 | N36: 164975 | O36: 205958 | P36: 222103 | Q36: 721674 | R36: 822104 | S36: 758715 | T36: 1304840 | U36: 1331629 | V36: 1746903 | W36: 291396 | X36: 391452 | Y36: 327082 | Z36: 3393869 | AA36: 4545473 | AB36: 9967690
A37: SC689_70mz_15.8674min | B37: S3/S3_2.ELU | C37: Proline | D37: 1176 | E37: 1185 | F37: =(D37-E37)/E37 -> -0.0075949367 | G37: 0 | H37: 0 | I37: 0 | J37: =AVERAGE(G37:I37) -> 0 | K37: 0 | L37: 0 | M37: 48506 | N37: 0 | O37: 0 | P37: 0 | Q37: 332697 | R37: 329970 | S37: 344040 | T37: 333733 | U37: 326473 | V37: 409863 | W37: 0 | X37: 87780 | Y37: 96851 | Z37: 1124471 | AA37: 1870744 | AB37: 1496366
A38: SC1638_73mz_23.8266min | B38: S3/S3_3.ELU | C38: Aminomalonic acid | D38: 1485 | E38: 1486 | F38: =(D38-E38)/E38 -> -0.00067294751 | G38: 0 | H38: 0 | I38: 0 | J38: =AVERAGE(G38:I38) -> 0 | K38: 103738 | L38: 98568 | M38: 104764 | N38: 79676 | O38: 88599 | P38: 74426 | Q38: 323285 | R38: 359547 | S38: 383341 | T38: 203494 | U38: 239265 | V38: 132260 | W38: 83734 | X38: 86031 | Y38: 82393 | Z38: 185179 | AA38: 257404 | AB38: 234733
... A55: SC3967_73mz_43.3645min | B55: S6/S6_3.ELU | C55: Uridine | D55: 2469 | E55: 2487 | F55: =(D55-E55)/E55 -> -0.0072376357 | G55: 0 | H55: 0 | I55: 0 | J55: =AVERAGE(G55:I55) -> 0 | K55: 0 | L55: 0 | M55: 0 | N55: 0 | O55: 0 | P55: 0 | Q55: 2680603 | R55: 3809420 | S55: 3310629 | T55: 5201983 | U55: 4867150 | V55: 5277221 | W55: 0 | X55: 0 | Y55: 0 | Z55: 14491977 | AA55: 15757735 | AB55: 15176874
A56: SC2555_265mz_31.5181min | B56: S6/S6_3.ELU | C56: NA | G56: 0 | H56: 0 | I56: 0 | J56: =AVERAGE(G56:I56) -> 0 | K56: 0 | L56: 0 | M56: 0 | N56: 0 | O56: 0 | P56: 0 | Q56: 411678 | R56: 0 | S56: 0 | T56: 931353 | U56: 221773 | V56: 740866 | W56: 30828 | X56: 30235 | Y56: 32641 | Z56: 1618054 | AA56: 1444323 | AB56: 1725060
A57: SC2592_73mz_31.8278min | B57: Y1/1_1.ELU | C57: Citrate | D57: 1845 | E57: 1843 | F57: =(D57-E57)/E57 -> 0.0010851872 | G57: 0 | H57: 0 | I57: 0 | J57: =AVERAGE(G57:I57) -> 0 | K57: 1660358 | L57: 1616927 | M57: 1656251 | N57: 0 | O57: 0 | P57: 0 | Q57: 15822517 | R57: 16466140 | S57: 16546340 | T57: 0 | U57: 0 | V57: 0 | W57: 1858195 | X57: 1915458 | Y57: 1916847 | Z57: 16916978 | AA57: 17971982 | AB57: 17644981
A58: SC3444_73mz_38.9774min | B58: Y1/1_2.ELU | C58: Oleic acid | D58: 2222 | E58: 2222 | F58: =(D58-E58)/E58 -> 0 | G58: 617847 | H58: 176546 | I58: 112154 | J58: =AVERAGE(G58:I58) -> 302182.33 | K58: 7379592 | L58: 7222172 | M58: 7409295 | N58: 9046803 | O58: 8721781 | P58: 8866868 | Q58: 1830415 | R58: 1829787 | S58: 1787864 | T58: 1566384 | U58: 1499736 | V58: 1427805 | W58: 5445104 | X58: 5274833 | Y58: 6701895 | Z58: 0 | AA58: 0 | AB58: 0
A59: SC2873_218mz_34.1866min | B59: Y1/1_2.ELU | C59: Tyrosine 3TMS | D59: 1959 | E59: 1961 | F59: =(D59-E59)/E59 -> -0.0010198878 | G59: 0 | H59: 0 | I59: 0 | J59: =AVERAGE(G59:I59) -> 0 | K59: 261717 | L59: 213877 | M59: 207878 | N59: 281402 | O59: 313068 | P59: 235051 | Q59: 10272288 | R59: 10545063 | S59: 10371451 | T59: 13440352 | U59: 13067935 | V59: 12665533 | W59: 384817 | X59: 390230 | Y59: 273226 | Z59: 25561553 | AA59: 25764362 | AB59: 25079589
A60: SC4163_371mz_45.0063min | B60: Y1/1_2.ELU | C60: Monopalmitin | D60: 2607 | E60: 1599 | F60: =(D60-E60)/E60 -> 0.630394 | G60: 0 | H60: 0 | I60: 0 | J60: =AVERAGE(G60:I60) -> 0 | K60: 87393 | L60: 98995 | M60: 126090 | N60: 137673 | O60: 162882 | P60: 175576 | Q60: 0 | R60: 0 | S60: 0 | T60: 0 | U60: 0 | V60: 0 | W60: 142624 | X60: 202322 | Y60: 218598 | Z60: 0 | AA60: 0 | AB60: 0
A61: SC2565_73mz_31.6013min | B61: Y1/1_2.ELU | C61: 3-Phosphoglycerate | D61: 1792 | E61: 1832 | F61: =(D61-E61)/E61 -> -0.021834061 | G61: 0 | H61: 0 | I61: 0 | J61: =AVERAGE(G61:I61) -> 0 | K61: 0 | L61: 0 | M61: 0 | N61: 103730 | O61: 101730 | P61: 114007 | Q61: 461561 | R61: 387893 | S61: 541619 | T61: 2149670 | U61: 2211379 | V61: 2456639 | W61: 333241 | X61: 371464 | Y61: 364707 | Z61: 6983679 | AA61: 7701985 | AB61: 7359369
A62: SC3473_218mz_39.2223min | B62: Y1/1_2.ELU | C62: Cystathionine | D62: 2208 | E62: 2237 | F62: =(D62-E62)/E62 -> -0.012963791 | G62: 0 | H62: 0 | I62: 0 | J62: =AVERAGE(G62:I62) -> 0 | K62: 0 | L62: 0 | M62: 0 | N62: 683361 | O62: 731109 | P62: 500134 | Q62: 0 | R62: 0 | S62: 0 | T62: 0 | U62: 4104433 | V62: 3878159 | W62: 0 | X62: 0 | Y62: 0 | Z62: 4904258 | AA62: 2801080 | AB62: 5643725
A63: SC736_147mz_16.2594min | B63: Y1/1_3.ELU | C63: Mimosine | D63: 1201 | E63: 1202 | F63: =(D63-E63)/E63 -> -0.00083194676 | G63: 0 | H63: 0 | I63: 0 | J63: =AVERAGE(G63:I63) -> 0 | K63: 1412941 | L63: 1399114 | M63: 1343999 | N63: 1774020 | O63: 1899939 | P63: 1555290 | Q63: 126541 | R63: 0 | S63: 49771 | T63: 211196 | U63: 197239 | V63: 0 | W63: 1234145 | X63: 963061 | Y63: 615156 | Z63: 0 | AA63: 0 | AB63: 229733
A64: SC4177_73mz_45.1289min | B64: Y1/1_3.ELU | C64: NA | G64: 0 | H64: 0 | I64: 0 | J64: =AVERAGE(G64:I64) -> 0 | K64: 0 | L64: 0 | M64: 0 | N64: 0 | O64: 0 | P64: 0 | Q64: 614982 | R64: 626931 | S64: 694686 | T64: 817232 | U64: 772781 | V64: 759541 | W64: 0 | X64: 0 | Y64: 0 | Z64: 1261740 | AA64: 1369527 | AB64: 1264560
A65: SC2037_142mz_27.1736min | B65: Y2/2_1.ELU | C65: Ornithine 3TMS | D65: 1610 | E65: 1628 | F65: =(D65-E65)/E65 -> -0.011056511 | G65: 0 | H65: 0 | I65: 0 | J65: =AVERAGE(G65:I65) -> 0 | K65: 367499 | L65: 305121 | M65: 281167 | N65: 0 | O65: 199250 | P65: 0 | Q65: 7151719 | R65: 3929624 | S65: 1654143 | T65: 9805100 | U65: 7754802 | V65: 5329444 | W65: 452960 | X65: 0 | Y65: 0 | Z65: 15538849 | AA65: 10139276 | AB65: 7343804
A66: SC2691_73mz_32.6623min | B66: Y2/2_1.ELU | C66: Fructose | D66: 1875 | E66: 1885 | F66: =(D66-E66)/E66 -> -0.0053050398 | G66: 0 | H66: 0 | I66: 0 | J66: =AVERAGE(G66:I66) -> 0 | K66: 0 | L66: 0 | M66: 0 | N66: 0 | O66: 0 | P66: 0 | Q66: 183966 | R66: 0 | S66: 0 | T66: 454017 | U66: 0 | V66: 287612 | W66: 0 | X66: 66367 | Y66: 138126 | Z66: 0 | AA66: 405029 | AB66: 0
A67: SC5534_69mz_56.5113min | B67: Y2/2_2.ELU | C67: 14-Demethyllanosterol | F67: =(D67-E67)/E67 -> #DIV/0! | G67: 0 | H67: 0 | I67: 0 | J67: =AVERAGE(G67:I67) -> 0 | K67: 679514 | L67: 790706 | M67: 561199 | N67: 619133 | O67: 635071 | P67: 592819 | Q67: 0 | R67: 0 | S67: 0 | T67: 0 | U67: 0 | V67: 0 | W67: 3085863 | X67: 2808380 | Y67: 2844343 | Z67: 0 | AA67: 0 | AB67: 0
A68: SC1947_73mz_26.4229min | B68: Y2/2_2.ELU | C68: Isopropylmalate | D68: 1563 | E68: 1594 | F68: =(D68-E68)/E68 -> -0.01944793 | G68: 0 | H68: 0 | I68: 0 | J68: =AVERAGE(G68:I68) -> 0 | K68: 0 | L68: 0 | M68: 86295 | N68: 170378 | O68: 190006 | P68: 213728 | Q68: 1629472 | R68: 2009267 | S68: 1870660 | T68: 3052913 | U68: 3159223 | V68: 2905621 | W68: 363993 | X68: 444869 | Y68: 448336 | Z68: 9062633 | AA68: 8881455 | AB68: 8509261
A69: SC1978_73mz_26.6771min | B69: Y2/2_2.ELU | C69: Asparagine 2TMS | D69: 1589 | E69: 1605 | F69: =(D69-E69)/E69 -> -0.0099688474 | G69: 0 | H69: 0 | I69: 0 | J69: =AVERAGE(G69:I69) -> 0 | K69: 0 | L69: 0 | M69: 0 | N69: 0 | O69: 0 | P69: 0 | Q69: 0 | R69: 145963 | S69: 227920 | T69: 0 | U69: 137420 | V69: 184474 | W69: 0 | X69: 0 | Y69: 0 | Z69: 0 | AA69: 0 | AB69: 405664
A70: SC1584_128mz_23.3736min | B70: Y2/2_3.ELU | C70: Ornithine-1,5-lactam | D70: 1454 | E70: 1467 | F70: =(D70-E70)/E70 -> -0.0088616224 | G70: 0 | H70: 0 | I70: 0 | J70: =AVERAGE(G70:I70) -> 0 | K70: 0 | L70: 0 | M70: 0 | N70: 0 | O70: 0 | P70: 0 | Q70: 0 | R70: 0 | S70: 0 | T70: 0 | U70: 0 | V70: 0 | W70: 0 | X70: 0 | Y70: 0 | Z70: 0 | AA70: 0 | AB70: 0
A71: SC2237_73mz_28.8515min | B71: Y3/3_1.ELU | C71: Ribose | D71: 1668 | E71: 1704 | F71: =(D71-E71)/E71 -> -0.021126761 | G71: 0 | H71: 0 | I71: 0 | J71: =AVERAGE(G71:I71) -> 0 | K71: 26078 | L71: 0 | M71: 59147 | N71: 40708 | O71: 0 | P71: 49575 | Q71: 171697 | R71: 307574 | S71: 299069 | T71: 0 | U71: 0 | V71: 0 | W71: 81504 | X71: 80423 | Y71: 116012 | Z71: 665430 | AA71: 671072 | AB71: 376861
A72: SC3047_73mz_35.6479min | B72: Y3/3_1.ELU | C72: Gluconic acid | D72: 2043 | E72: 2038 | F72: =(D72-E72)/E72 -> 0.0024533857 | G72: 0 | H72: 0 | I72: 0 | J72: =AVERAGE(G72:I72) -> 0 | K72: 0 | L72: 0 | M72: 0 | N72: 0 | O72: 0 | P72: 0 | Q72: 527485 | R72: 544610 | S72: 528456 | T72: 312765 | U72: 242413 | V72: 196694 | W72: 155968 | X72: 159123 | Y72: 0 | Z72: 1489073 | AA72: 1496085 | AB72: 1413636
A73: SC1847_120mz_25.5833min | B73: Y3/3_1.ELU | C73: Phenylalanine | D73: 1559 | E73: 1559 | F73: =(D73-E73)/E73 -> 0 | G73: 0 | H73: 0 | I73: 0 | J73: =AVERAGE(G73:I73) -> 0 | K73: 0 | L73: 0 | M73: 0 | N73: 41535 | O73: 0 | P73: 0 | Q73: 604838 | R73: 802224 | S73: 0 | T73: 910754 | U73: 1131974 | V73: 1194259 | W73: 0 | X73: 79761 | Y73: 0 | Z73: 2010389 | AA73: 2024796 | AB73: 0
A74: SC1216_241mz_20.2901min | B74: Y3/3_2.ELU | C74: Uracil | D74: 1343 | E74: 1350 | F74: =(D74-E74)/E74 -> -0.0051851852 | G74: 14219 | H74: 13858 | I74: 20550 | J74: =AVERAGE(G74:I74) -> 16209 | K74: 95100 | L74: 69801 | M74: 57981 | N74: 33012 | O74: 29593 | P74: 26934 | Q74: 1178830 | R74: 1010595 | S74: 1009929 | T74: 4981881 | U74: 2263155 | V74: 1947454 | W74: 95022 | X74: 75309 | Y74: 62220 | Z74: 7802169 | AA74: 4221539 | AB74: 4052986
A75: SC5485_69mz_56.1003min | B75: Y3/3_2.ELU | C75: Lanosterol | D75: 3420 | E75: 3391 | F75: =(D75-E75)/E75 -> 0.0085520495 | G75: 0 | H75: 0 | I75: 0 | J75: =AVERAGE(G75:I75) -> 0 | K75: 4228529 | L75: 4456598 | M75: 3819032 | N75: 3974434 | O75: 4521222 | P75: 3608725 | Q75: 0 | R75: 326457 | S75: 0 | T75: 0 | U75: 0 | V75: 0 | W75: 2185180 | X75: 2356157 | Y75: 2533072 | Z75: 0 | AA75: 0 | AB75: 0
A76: SC3921_73mz_42.978min | B76: Y3/3_2.ELU | C76: D-Glycero-D-gulo-Heptose | D76: 2492 | E76: 2467 | F76: =(D76-E76)/E76 -> 0.010133766 | G76: 0 | H76: 0 | I76: 0 | J76: =AVERAGE(G76:I76) -> 0 | K76: 0 | L76: 0 | M76: 0 | N76: 1177725 | O76: 1042585 | P76: 904145 | Q76: 2052242 | R76: 2213331 | S76: 2001850 | T76: 2232581 | U76: 1741782 | V76: 0 | W76: 1728894 | X76: 1499579 | Y76: 1663876 | Z76: 3394811 | AA76: 3649415 | AB76: 3394843
A77: SC2700_264mz_32.7354min | B77: Y3/3_2.ELU | C77: Adenine | D77: 1880 | E77: 1888 | F77: =(D77-E77)/E77 -> -0.0042372881 | G77: 5714 | H77: 0 | I77: 0 | J77: =AVERAGE(G77:I77) -> 1904.6667 | K77: 33687 | L77: 16831 | M77: 0 | N77: 27414 | O77: 0 | P77: 0 | Q77: 174343 | R77: 121096 | S77: 240534 | T77: 511350 | U77: 262325 | V77: 247961 | W77: 0 | X77: 0 | Y77: 0 | Z77: 345947 | AA77: 362229 | AB77: 361325
A78: SC1075_73mz_19.1073min | B78: Y3/3_2.ELU | C78: Threonine 2TMS | D78: 1292 | E78: 1307 | F78: =(D78-E78)/E78 -> -0.011476664 | G78: 0 | H78: 0 | I78: 0 | J78: =AVERAGE(G78:I78) -> 0 | K78: 627085 | L78: 634182 | M78: 573552 | N78: 790133 | O78: 953890 | P78: 892333 | Q78: 4269857 | R78: 3426273 | S78: 4012157 | T78: 3592024 | U78: 3945585 | V78: 5517299 | W78: 1175653 | X78: 868404 | Y78: 1000698 | Z78: 0 | AA78: 0 | AB78: 0
A79: SC2922_73mz_34.5977min | B79: Y3/3_2.ELU | C79: Galactitol | D79: 1944 | E79: 1982 | F79: =(D79-E79)/E79 -> -0.019172553 | G79: 0 | H79: 0 | I79: 0 | J79: =AVERAGE(G79:I79) -> 0 | K79: 0 | L79: 0 | M79: 0 | N79: 0 | O79: 0 | P79: 0 | Q79: 317293307 | R79: 0 | S79: 271766984 | T79: 0 | U79: 0 | V79: 0 | W79: 0 | X79: 0 | Y79: 0 | Z79: 0 | AA79: 0 | AB79: 0
... A85: SC683_86mz_15.818min | B85: Y3/3_3.ELU | C85: Isoleucine | D85: 1179 | E85: 1186 | F85: =(D85-E85)/E85 -> -0.0059021922 | G85: 0 | H85: 0 | I85: 0 | J85: =AVERAGE(G85:I85) -> 0 | K85: 0 | L85: 0 | M85: 29865 | N85: 0 | O85: 0 | P85: 108125 | Q85: 1506606 | R85: 1686991 | S85: 1930277 | T85: 2534926 | U85: 2798960 | V85: 2967250 | W85: 0 | X85: 152066 | Y85: 207992 | Z85: 5184545 | AA85: 6205859 | AB85: 6164768
A86: SC1211_184mz_20.2472min | B86: Y4/4_2.ELU | C86: Porphine | E86: 1348 | F86: =(D86-E86)/E86 -> -1 | G86: 204711 | H86: 182863 | I86: 164646 | J86: =AVERAGE(G86:I86) -> 184073.33 | K86: 2265614 | L86: 2208246 | M86: 2502579 | N86: 2320355 | O86: 2286137 | P86: 2414605 | Q86: 692777 | R86: 665340 | S86: 866028 | T86: 906883 | U86: 1001884 | V86: 978308 | W86: 3757262 | X86: 4027969 | Y86: 3769235 | Z86: 472321 | AA86: 531689 | AB86: 762127
A87: SC1784_156mz_25.0522min | B87: Y4/4_2.ELU | C87: Pyroglutamate | D87: 1522 | E87: 1536 | F87: =(D87-E87)/E87 -> -0.0091145833 | G87: 214803 | H87: 84360 | I87: 67869 | J87: =AVERAGE(G87:I87) -> 122344 | K87: 1038332 | L87: 1106490 | M87: 1393842 | N87: 1266025 | O87: 1207945 | P87: 1259581 | Q87: 8596854 | R87: 10641557 | S87: 13080507 | T87: 10674083 | U87: 11033587 | V87: 10033210 | W87: 2392964 | X87: 3065162 | Y87: 3597411 | Z87: 41369743 | AA87: 38480570 | AB87: 39013095
A88: SC492_102mz_14.2107min | B88: Y4/4_2.ELU | C88: Glycine 2TMS | D88: 1105 | E88: 1127 | F88: =(D88-E88)/E88 -> -0.019520852 | G88: 0 | H88: 0 | I88: 0 | J88: =AVERAGE(G88:I88) -> 0 | K88: 0 | L88: 376245 | M88: 309320 | N88: 0 | O88: 406090 | P88: 482508 | Q88: 1762722 | R88: 2869698 | S88: 2936337 | T88: 1106851 | U88: 1263960 | V88: 1670714 | W88: 401839 | X88: 497162 | Y88: 640674 | Z88: 4013312 | AA88: 5059500 | AB88: 4772991
A89: SC1641_179mz_23.8552min | B89: Y4/4_2.ELU | C89: 1-Methyl nicotinamide | D89: 1489 | E89: 1486 | F89: =(D89-E89)/E89 -> 0.0020188425 | G89: 0 | H89: 0 | I89: 0 | J89: =AVERAGE(G89:I89) -> 0 | K89: 6409 | L89: 5973 | M89: 7126 | N89: 53947 | O89: 56236 | P89: 52225 | Q89: 36690 | R89: 38855 | S89: 37023 | T89: 57463 | U89: 54302 | V89: 53669 | W89: 24873 | X89: 24088 | Y89: 22631 | Z89: 86448 | AA89: 88718 | AB89: 78934
A90: SC5004_73mz_52.0594min | B90: Y4/4_2.ELU | C90: AMP | D90: 3115 | E90: 3113 | F90: =(D90-E90)/E90 -> 0.00064246707 | G90: 0 | H90: 0 | I90: 0 | J90: =AVERAGE(G90:I90) -> 0 | K90: 0 | L90: 0 | M90: 0 | N90: 239025 | O90: 267331 | P90: 232787 | Q90: 103259 | R90: 141094 | S90: 137121 | T90: 291801 | U90: 382930 | V90: 301949 | W90: 221546 | X90: 276241 | Y90: 162086 | Z90: 1036856 | AA90: 1197363 | AB90: 1022950
A91: SC2461_156mz_30.7305min | B91: Y4/4_2.ELU | C91: Glutamine 3TMS | D91: 1768 | E91: 1789 | F91: =(D91-E91)/E91 -> -0.011738401 | G91: 0 | H91: 0 | I91: 0 | J91: =AVERAGE(G91:I91) -> 0 | K91: 0 | L91: 0 | M91: 0 | N91: 0 | O91: 0 | P91: 0 | Q91: 0 | R91: 0 | S91: 0 | T91: 0 | U91: 0 | V91: 660112 | W91: 0 | X91: 0 | Y91: 0 | Z91: 0 | AA91: 2486127 | AB91: 2225064
A92: SC351_147mz_13.0339min | B92: Y4/4_3.ELU | C92: Glycolic acid | D92: 1081 | E92: 1084 | F92: =(D92-E92)/E92 -> -0.0027675277 | G92: 32707 | H92: 25164 | I92: 12778 | J92: =AVERAGE(G92:I92) -> 23549.667 | K92: 243677 | L92: 253754 | M92: 246028 | N92: 199912 | O92: 184502 | P92: 182972 | Q92: 935014 | R92: 1210860 | S92: 1311337 | T92: 2068907 | U92: 1429584 | V92: 1382890 | W92: 230049 | X92: 231349 | Y92: 257817 | Z92: 2109028 | AA92: 1684327 | AB92: 1604356
A93: SC2194_73mz_28.4875min | B93: Y4/4_3.ELU | C93: Asparagine 3TMS | D93: 1670 | E93: 1687 | F93: =(D93-E93)/E93 -> -0.01007706 | G93: 0 | H93: 0 | I93: 0 | J93: =AVERAGE(G93:I93) -> 0 | K93: 0 | L93: 0 | M93: 0 | N93: 0 | O93: 0 | P93: 0 | Q93: 2524548 | R93: 2240784 | S93: 1436519 | T93: 2399312 | U93: 2402043 | V93: 2195555 | W93: 0 | X93: 0 | Y93: 0 | Z93: 5369067 | AA93: 4005086 | AB93: 3100526
A94: SC2585_157mz_31.77min | B94: Y4/4_3.ELU | C94: Citrulline | D94: 1815 | E94: 1840 | F94: =(D94-E94)/E94 -> -0.013586957 | G94: 0 | H94: 0 | I94: 0 | J94: =AVERAGE(G94:I94) -> 0 | K94: 0 | L94: 0 | M94: 0 | N94: 0 | O94: 0 | P94: 0 | Q94: 0 | R94: 0 | S94: 0 | T94: 0 | U94: 0 | V94: 0 | W94: 0 | X94: 0 | Y94: 0 | Z94: 0 | AA94: 0 | AB94: 0
A95: SC624_147mz_15.3239min | B95: Y5/5_1.ELU | C95: Hydroxybutyric acid | D95: 1148 | E95: 1168 | F95: =(D95-E95)/E95 -> -0.017123288 | G95: 0 | H95: 0 | I95: 0 | J95: =AVERAGE(G95:I95) -> 0 | K95: 0 | L95: 0 | M95: 0 | N95: 0 | O95: 0 | P95: 0 | Q95: 84602 | R95: 73065 | S95: 84917 | T95: 117044 | U95: 117512 | V95: 119601 | W95: 0 | X95: 0 | Y95: 0 | Z95: 179156 | AA95: 198797 | AB95: 134175
A96: SC3072_313mz_35.8586min | B96: Y5/5_2.ELU | C96: Palmitic acid | D96: 2050 | E96: 2049 | F96: =(D96-E96)/E96 -> 0.00048804295 | G96: 5058613 | H96: 4264124 | I96: 4237473 | J96: =AVERAGE(G96:I96) -> 4520070 | K96: 12816949 | L96: 12704895 | M96: 14885765 | N96: 19274052 | O96: 19505022 | P96: 19145780 | Q96: 6190784 | R96: 6389972 | S96: 6397626 | T96: 7710137 | U96: 7428842 | V96: 7408742 | W96: 12109480 | X96: 14051549 | Y96: 14826252 | Z96: 5325119 | AA96: 5675379 | AB96: 5635555
A97: SC1193_73mz_20.0905min | B97: Y5/5_2.ELU | C97: Glyceric acid | D97: 1344 | E97: 1343 | F97: =(D97-E97)/E97 -> 0.00074460164 | G97: 0 | H97: 0 | I97: 0 | J97: =AVERAGE(G97:I97) -> 0 | K97: 0 | L97: 0 | M97: 0 | N97: 0 | O97: 0 | P97: 0 | Q97: 237934 | R97: 226906 | S97: 288271 | T97: 471528 | U97: 401053 | V97: 421701 | W97: 0 | X97: 70978 | Y97: 0 | Z97: 1081849 | AA97: 1047643 | AB97: 1063483
A98: SC2580_142mz_31.7255min | B98: Y5/5_2.ELU | C98: Ornithine | D98: 1798 | E98: 1838 | F98: =(D98-E98)/E98 -> -0.021762786 | G98: 0 | H98: 0 | I98: 0 | J98: =AVERAGE(G98:I98) -> 0 | K98: 340683 | L98: 266205 | M98: 537905 | N98: 220047 | O98: 372560 | P98: 320840 | Q98: 5424501 | R98: 6747133 | S98: 8774608 | T98: 15515005 | U98: 11254299 | V98: 12293039 | W98: 501398 | X98: 1120314 | Y98: 704482 | Z98: 28867151 | AA98: 30227987 | AB98: 22518266
... A110: SC2282_84mz_29.2273min | B110: Y6/6_3.ELU | C110: Lysine 3TMS | D110: 1721 | E110: 1945 | F110: =(D110-E110)/E110 -> -0.1151671 | G110: 0 | H110: 0 | I110: 0 | J110: =AVERAGE(G110:I110) -> 0 | K110: 0 | L110: 0 | M110: 0 | N110: 0 | O110: 0 | P110: 0 | Q110: 8440962 | R110: 6071362 | S110: 8468383 | T110: 12634153 | U110: 13695336 | V110: 13475885 | W110: 0 | X110: 0 | Y110: 0 | Z110: 16712135 | AA110: 19795657 | AB110: 13001322

Sheet Blank substraction
A1: Data matrix with blank substraction
A2: Name | B2: Mito_atp4_1 | C2: Mito_atp4_2 | D2: Mito_atp4_3 | E2: Mito_sdh2_1 | F2: Mito_sdh2_2 | G2: Mito_sdh2_3 | H2: Cyto_atp4_1 | I2: Cyto_atp4_2 | J2: Cyto_atp4_3 | K2: Cyto_sdh2_1 | L2: Cyto_sdh2_2 | M2: Cyto_sdh2_3 | N2: Mito_WT_1 | O2: Mito_WT_2 | P2: Mito_WT_3 | Q2: Cyto_WT_1 | R2: Cyto_WT_2 | S2: Cyto_WT_3
A3: 1-Methyl nicotinamide | B3: =Annotation!K89-Annotation!$J89 -> 6409 | C3: =Annotation!L89-Annotation!$J89 -> 5973 | D3: =Annotation!M89-Annotation!$J89 -> 7126 | E3: =Annotation!N89-Annotation!$J89 -> 53947 | F3: =Annotation!O89-Annotation!$J89 -> 56236 | G3: =Annotation!P89-Annotation!$J89 -> 52225 | H3: =Annotation!Q89-Annotation!$J89 -> 36690 | I3: =Annotation!R89-Annotation!$J89 -> 38855 | ... S3: =Annotation!AB89-Annotation!$J89 -> 78934
A4: 2-Ketoglutarate | B4: 0 | C4: 0 | D4: 0 | E4: 0 | F4: 0 | G4: 0 | H4: 9061 | I4: 9351 | J4: 9494 | K4: 4704 | L4: 4403 | M4: 4113 | N4: 0 | O4: 0 | P4: 0 | Q4: 14871 | R4: 15780 | S4: 16179
A5: 2-Phosphoglycerate | B5: =Annotation!K44-Annotation!$J44 -> 0 | C5: =Annotation!L44-Annotation!$J44 -> 0 | D5: =Annotation!M44-Annotation!$J44 -> 0 | E5: =Annotation!N44-Annotation!$J44 -> 0 | F5: =Annotation!O44-Annotation!$J44 -> 0 | G5: =Annotation!P44-Annotation!$J44 -> 0 | H5: =Annotation!Q44-Annotation!$J44 -> 0 | I5: =Annotation!R44-Annotation!$J44 -> 0 | ... S5: =Annotation!AB44-Annotation!$J44 -> 329840
A6: 3-Phosphoglycerate | B6: =Annotation!K61-Annotation!$J61 -> 0 | C6: =Annotation!L61-Annotation!$J61 -> 0 | D6: =Annotation!M61-Annotation!$J61 -> 0 | E6: =Annotation!N61-Annotation!$J61 -> 103730 | F6: =Annotation!O61-Annotation!$J61 -> 101730 | G6: =Annotation!P61-Annotation!$J61 -> 114007 | H6: =Annotation!Q61-Annotation!$J61 -> 461561 | I6: =Annotation!R61-Annotation!$J61 -> 387893 | ... S6: =Annotation!AB61-Annotation!$J61 -> 7359369
A7: 14-Demethyllanosterol | B7: =Annotation!K67-Annotation!$J67 -> 679514 | C7: =Annotation!L67-Annotation!$J67 -> 790706 | D7: =Annotation!M67-Annotation!$J67 -> 561199 | E7: =Annotation!N67-Annotation!$J67 -> 619133 | F7: =Annotation!O67-Annotation!$J67 -> 635071 | G7: =Annotation!P67-Annotation!$J67 -> 592819 | H7: =Annotation!Q67-Annotation!$J67 -> 0 | I7: =Annotation!R67-Annotation!$J67 -> 0 | ... S7: =Annotation!AB67-Annotation!$J67 -> 0
A8: Adenine | B8: =Annotation!K77-Annotation!$J77 -> 31782.333 | C8: =Annotation!L77-Annotation!$J77 -> 14926.333 | D8: 0 | E8: =Annotation!N77-Annotation!$J77 -> 25509.333 | F8: 0 | G8: 0 | H8: =Annotation!Q77-Annotation!$J77 -> 172438.33 | I8: =Annotation!R77-Annotation!$J77 -> 119191.33 | J8: =Annotation!S77-Annotation!$J77 -> 238629.33 | K8: =Annotation!T77-Annotation!$J77 -> 509445.33 | L8: =Annotation!U77-Annotation!$J77 -> 260420.33 | M8: =Annotation!V77-Annotation!$J77 -> 246056.33 | N8: 0 | O8: 0 | P8: 0 | Q8: =Annotation!Z77-Annotation!$J77 -> 344042.33 | R8: =Annotation!AA77-Annotation!$J77 -> 360324.33 | S8: =Annotation!AB77-Annotation!$J77 -> 359420.33
A9: Adenosine | B9: =Annotation!K27-Annotation!$J27 -> 150005 | C9: =Annotation!L27-Annotation!$J27 -> 196428 | D9: =Annotation!M27-Annotation!$J27 -> 185143 | E9: =Annotation!N27-Annotation!$J27 -> 174886 | F9: =Annotation!O27-Annotation!$J27 -> 206729 | G9: =Annotation!P27-Annotation!$J27 -> 183785 | H9: =Annotation!Q27-Annotation!$J27 -> 14458878 | I9: =Annotation!R27-Annotation!$J27 -> 15663578 | ... S9: =Annotation!AB27-Annotation!$J27 -> 26733443
A10: Alanine | B10: =Annotation!K100-Annotation!$J100 -> 1240113 | C10: =Annotation!L100-Annotation!$J100 -> 1348705 | D10: =Annotation!M100-Annotation!$J100 -> 1344492 | E10: =Annotation!N100-Annotation!$J100 -> 1120152 | F10: =Annotation!O100-Annotation!$J100 -> 1140764 | G10: =Annotation!P100-Annotation!$J100 -> 1214784 | H10: =Annotation!Q100-Annotation!$J100 -> 9849222 | I10: =Annotation!R100-Annotation!$J100 -> 10052331 | ... S10: =Annotation!AB100-Annotation!$J100 -> 8081377
A11: Aminomalonic acid | B11: =Annotation!K38-Annotation!$J38 -> 103738 | C11: =Annotation!L38-Annotation!$J38 -> 98568 | D11: =Annotation!M38-Annotation!$J38 -> 104764 | E11: =Annotation!N38-Annotation!$J38 -> 79676 | F11: =Annotation!O38-Annotation!$J38 -> 88599 | G11: =Annotation!P38-Annotation!$J38 -> 74426 | H11: =Annotation!Q38-Annotation!$J38 -> 323285 | I11: =Annotation!R38-Annotation!$J38 -> 359547 | ... S11: =Annotation!AB38-Annotation!$J38 -> 234733
A12: AMP | B12: =Annotation!K90-Annotation!$J90 -> 0 | C12: =Annotation!L90-Annotation!$J90 -> 0 | D12: =Annotation!M90-Annotation!$J90 -> 0 | E12: =Annotation!N90-Annotation!$J90 -> 239025 | F12: =Annotation!O90-Annotation!$J90 -> 267331 | G12: =Annotation!P90-Annotation!$J90 -> 232787 | H12: =Annotation!Q90-Annotation!$J90 -> 103259 | I12: =Annotation!R90-Annotation!$J90 -> 141094 | ... S12: =Annotation!AB90-Annotation!$J90 -> 1022950
A13: Asparagine | B13: 0 | C13: 0 | D13: 0 | E13: 0 | F13: 0 | G13: 0 | H13: 2614506 | I13: 2476377 | J13: 1664439 | K13: 2506178 | L13: 2704519 | M13: 2473423 | N13: 0 | O13: 0 | P13: 0 | Q13: 5747423 | R13: 4221708 | S13: 3625330
A14: Aspartate | B14: 1612508 | C14: 1558850 | D14: 1385142 | E14: 1701586 | F14: 1732700 | G14: 1671059 | H14: 10395004 | I14: 11063097 | J14: 13206056 | K14: 20592902 | L14: 16321902 | M14: 17170005 | N14: 2656792 | O14: 2470413 | P14: 2593409 | Q14: 29147621 | R14: 29706150 | S14: 22058203
A15: Benzoic acid | B15: =Annotation!K106-Annotation!$J106 -> 10886.333 | C15: =Annotation!L106-Annotation!$J106 -> 20610.333 | D15: =Annotation!M106-Annotation!$J106 -> 54668.333 | E15: 0 | F15: =Annotation!O106-Annotation!$J106 -> 17792.333 | G15: =Annotation!P106-Annotation!$J106 -> 18372.333 | H15: =Annotation!Q106-Annotation!$J106 -> 14696.333 | I15: =Annotation!R106-Annotation!$J106 -> 36809.333 | J15: =Annotation!S106-Annotation!$J106 -> 60545.333 | K15: =Annotation!T106-Annotation!$J106 -> 70308.333 | L15: =Annotation!U106-Annotation!$J106 -> 82740.333 | M15: =Annotation!V106-Annotation!$J106 -> 62683.333 | ... P15: =Annotation!Y106-Annotation!$J106 -> 41600.333 | Q15: 0 | R15: 0 | S15: 0
A16: Citrate | B16: =Annotation!K57-Annotation!$J57 -> 1660358 | C16: =Annotation!L57-Annotation!$J57 -> 1616927 | D16: =Annotation!M57-Annotation!$J57 -> 1656251 | E16: =Annotation!N57-Annotation!$J57 -> 0 | F16: =Annotation!O57-Annotation!$J57 -> 0 | G16: =Annotation!P57-Annotation!$J57 -> 0 | H16: =Annotation!Q57-Annotation!$J57 -> 15822517 | I16: =Annotation!R57-Annotation!$J57 -> 16466140 | ... S16: =Annotation!AB57-Annotation!$J57 -> 17644981
A17: Citrulline | B17: 0 | C17: 0 | D17: 0 | E17: 0 | F17: 0 | G17: 0 | H17: 646722 | I17: 489185 | J17: 430925 | K17: 1240232 | L17: 1092461 | M17: 928982 | N17: 0 | O17: 0 | P17: 0 | Q17: 1747077 | R17: 1513357 | S17: 1394918
A18: Cystathionine | B18: 0 | C18: 0 | D18: 0 | E18: 683361 | F18: 731109 | G18: 599487 | H18: 629448 | I18: 591936 | J18: 617625 | K18: 4603533 | L18: 4104433 | M18: 3878159 | N18: 0 | O18: 0 | P18: 0 | Q18: 4904258 | R18: 2801080 | S18: 5643725
A19: Cysteine | B19: =Annotation!K29-Annotation!$J29 -> 0 | C19: =Annotation!L29-Annotation!$J29 -> 0 | D19: =Annotation!M29-Annotation!$J29 -> 0 | E19: =Annotation!N29-Annotation!$J29 -> 59999 | F19: 67354 | G19: =Annotation!P29-Annotation!$J29 -> 0 | H19: =Annotation!Q29-Annotation!$J29 -> 456627 | I19: =Annotation!R29-Annotation!$J29 -> 484930 | J19: =Annotation!S29-Annotation!$J29 -> 321415 | K19: =Annotation!T29-Annotation!$J29 -> 378764 | L19: =Annotation!U29-Annotation!$J29 -> 342304 | M19: =Annotation!V29-Annotation!$J29 -> 236397 | N19: =Annotation!W29-Annotation!$J29 -> 130368 | ... S19: =Annotation!AB29-Annotation!$J29 -> 860080
A20: D-Glycero-D-gulo-Heptose | B20: =Annotation!K76-Annotation!$J76 -> 0 | C20: =Annotation!L76-Annotation!$J76 -> 0 | D20: =Annotation!M76-Annotation!$J76 -> 0 | E20: =Annotation!N76-Annotation!$J76 -> 1177725 | F20: =Annotation!O76-Annotation!$J76 -> 1042585 | G20: =Annotation!P76-Annotation!$J76 -> 904145 | H20: =Annotation!Q76-Annotation!$J76 -> 2052242 | I20: =Annotation!R76-Annotation!$J76 -> 2213331 | ... S20: =Annotation!AB76-Annotation!$J76 -> 3394843
A21: Ergosterol | B21: =Annotation!K105-Annotation!$J105 -> 32485419 | C21: =Annotation!L105-Annotation!$J105 -> 33921566 | D21: =Annotation!M105-Annotation!$J105 -> 29396588 | E21: =Annotation!N105-Annotation!$J105 -> 29428423 | F21: =Annotation!O105-Annotation!$J105 -> 28240000 | G21: =Annotation!P105-Annotation!$J105 -> 24866968 | H21: =Annotation!Q105-Annotation!$J105 -> 2013030 | I21: =Annotation!R105-Annotation!$J105 -> 2139074 | ... S21: =Annotation!AB105-Annotation!$J105 -> 433329
A22: Ethanolamine 3TMS | B22: =Annotation!K24-Annotation!$J24 -> 1066061.3 | C22: =Annotation!L24-Annotation!$J24 -> 1252953.3 | D22: =Annotation!M24-Annotation!$J24 -> 1123377.3 | E22: =Annotation!N24-Annotation!$J24 -> 911496.33 | F22: =Annotation!O24-Annotation!$J24 -> 1084436.3 | G22: =Annotation!P24-Annotation!$J24 -> 936440.33 | H22: =Annotation!Q24-Annotation!$J24 -> 1084401.3 | I22: =Annotation!R24-Annotation!$J24 -> 1061010.3 | ... S22: =Annotation!AB24-Annotation!$J24 -> 1111903.3
A23: Fructose | B23: =Annotation!K66-Annotation!$J66 -> 0 | C23: =Annotation!L66-Annotation!$J66 -> 0 | D23: =Annotation!M66-Annotation!$J66 -> 0 | E23: =Annotation!N66-Annotation!$J66 -> 0 | F23: =Annotation!O66-Annotation!$J66 -> 0 | G23: =Annotation!P66-Annotation!$J66 -> 0 | H23: =Annotation!Q66-Annotation!$J66 -> 183966 | I23: =Annotation!R66-Annotation!$J66 -> 0 | ... S23: =Annotation!AB66-Annotation!$J66 -> 0
A24: Fumarate | B24: =Annotation!K104-Annotation!$J104 -> 25492.333 | C24: =Annotation!L104-Annotation!$J104 -> 21456.333 | D24: =Annotation!M104-Annotation!$J104 -> 24493.333 | E24: =Annotation!N104-Annotation!$J104 -> 6609.3333 | F24: =Annotation!O104-Annotation!$J104 -> 6034.3333 | G24: =Annotation!P104-Annotation!$J104 -> 5539.3333 | H24: =Annotation!Q104-Annotation!$J104 -> 76316.333 | I24: =Annotation!R104-Annotation!$J104 -> 75518.333 | ... S24: =Annotation!AB104-Annotation!$J104 -> 164730.33
A25: Sorbitol | B25: =Annotation!K43-Annotation!$J43 -> 0 | C25: =Annotation!L43-Annotation!$J43 -> 0 | D25: =Annotation!M43-Annotation!$J43 -> 0 | E25: =Annotation!N43-Annotation!$J43 -> 0 | F25: =Annotation!O43-Annotation!$J43 -> 0 | G25: =Annotation!P43-Annotation!$J43 -> 0 | H25: =Annotation!Q43-Annotation!$J43 -> 724501 | I25: =Annotation!R43-Annotation!$J43 -> 802955 | ... S25: =Annotation!AB43-Annotation!$J43 -> 587230
A26: Galactitol | B26: =Annotation!K10-Annotation!$J10 -> 34761960 | C26: =Annotation!L10-Annotation!$J10 -> 33513614 | D26: =Annotation!M10-Annotation!$J10 -> 32570240 | E26: =Annotation!N10-Annotation!$J10 -> 28981803 | F26: =Annotation!O10-Annotation!$J10 -> 29164975 | G26: =Annotation!P10-Annotation!$J10 -> 27702295 | H26: =Annotation!Q10-Annotation!$J10 -> 554351560 | I26: =Annotation!R10-Annotation!$J10 -> 549937607 | ... S26: =Annotation!AB10-Annotation!$J10 -> 435839986
A27: Galactitol | B27: =Annotation!K79-Annotation!$J79 -> 0 | C27: =Annotation!L79-Annotation!$J79 -> 0 | D27: =Annotation!M79-Annotation!$J79 -> 0 | E27: =Annotation!N79-Annotation!$J79 -> 0 | F27: =Annotation!O79-Annotation!$J79 -> 0 | G27: =Annotation!P79-Annotation!$J79 -> 0 | H27: =Annotation!Q79-Annotation!$J79 -> 317293307 | I27: =Annotation!R79-Annotation!$J79 -> 0 | ... S27: =Annotation!AB79-Annotation!$J79 -> 0
A28: Gluconic acid | B28: =Annotation!K72-Annotation!$J72 -> 0 | C28: =Annotation!L72-Annotation!$J72 -> 0 | D28: =Annotation!M72-Annotation!$J72 -> 0 | E28: =Annotation!N72-Annotation!$J72 -> 0 | F28: =Annotation!O72-Annotation!$J72 -> 0 | G28: =Annotation!P72-Annotation!$J72 -> 0 | H28: =Annotation!Q72-Annotation!$J72 -> 527485 | I28: =Annotation!R72-Annotation!$J72 -> 544610 | ... S28: =Annotation!AB72-Annotation!$J72 -> 1413636
A29: Glucopyranose | B29: =Annotation!K23-Annotation!$J23 -> 0 | C29: =Annotation!L23-Annotation!$J23 -> 0 | D29: =Annotation!M23-Annotation!$J23 -> 0 | E29: =Annotation!N23-Annotation!$J23 -> 0 | F29: =Annotation!O23-Annotation!$J23 -> 0 | G29: =Annotation!P23-Annotation!$J23 -> 0 | H29: =Annotation!Q23-Annotation!$J23 -> 6362886 | I29: =Annotation!R23-Annotation!$J23 -> 6906003 | ... S29: =Annotation!AB23-Annotation!$J23 -> 5435094
A30: Glucose | B30: =Annotation!K15-Annotation!$J15 -> 149615 | C30: =Annotation!L15-Annotation!$J15 -> 183637 | D30: =Annotation!M15-Annotation!$J15 -> 190409 | E30: =Annotation!N15-Annotation!$J15 -> 265365 | F30: =Annotation!O15-Annotation!$J15 -> 276385 | G30: =Annotation!P15-Annotation!$J15 -> 286794 | H30: =Annotation!Q15-Annotation!$J15 -> 2518151 | I30: =Annotation!R15-Annotation!$J15 -> 0 | ... S30: =Annotation!AB15-Annotation!$J15 -> 1184265
A31: Glucose | B31: =Annotation!K49-Annotation!$J49 -> 978273 | C31: =Annotation!L49-Annotation!$J49 -> 965272 | D31: =Annotation!M49-Annotation!$J49 -> 984473 | E31: =Annotation!N49-Annotation!$J49 -> 2283778 | F31: =Annotation!O49-Annotation!$J49 -> 2453966 | G31: =Annotation!P49-Annotation!$J49 -> 2215504 | H31: =Annotation!Q49-Annotation!$J49 -> 16048346 | I31: =Annotation!R49-Annotation!$J49 -> 16925041 | ... S31: =Annotation!AB49-Annotation!$J49 -> 2483859
A32: Glucosephosphate | B32: =Annotation!K45-Annotation!$J45 -> 0 | C32: =Annotation!L45-Annotation!$J45 -> 0 | D32: =Annotation!M45-Annotation!$J45 -> 0 | E32: =Annotation!N45-Annotation!$J45 -> 0 | F32: =Annotation!O45-Annotation!$J45 -> 17051 | G32: =Annotation!P45-Annotation!$J45 -> 0 | H32: =Annotation!Q45-Annotation!$J45 -> 0 | I32: =Annotation!R45-Annotation!$J45 -> 0 | ... S32: =Annotation!AB45-Annotation!$J45 -> 342424
A33: Mannose-6P | B33: 0 | C33: 0 | D33: 0 | E33: 0 | F33: 0 | G33: 0 | H33: 167863 | I33: 172227 | J33: 168113 | K33: 646482 | L33: 794653 | M33: 663229 | N33: 0 | O33: 0 | P33: 0 | Q33: 515588 | R33: 773843 | S33: 686076
A34: Glutamate | B34: 2827826 | C34: 2672609 | D34: 2893811 | E34: 2093163 | F34: 2721261 | G34: 2660659 | H34: 33837291 | I34: 33846563 | J34: 30484670 | K34: 41354195 | L34: 37617900 | M34: 38295917 | N34: 7826207 | O34: 7607150 | P34: 7598337 | Q34: 122150412 | R34: 104249910 | S34: 117414533
A35: Glutamine | B35: 0 | C35: 0 | D35: 0 | E35: 0 | F35: 0 | G35: 0 | H35: 0 | I35: 0 | J35: 0 | K35: 487973 | L35: 482659 | M35: 660112 | N35: 0 | O35: 0 | P35: 0 | Q35: 1562808 | R35: 2486127 | S35: 2225064
A36: Glyceric acid | B36: 16748 | C36: 25752 | D36: 20974 | E36: 33263 | F36: 38978 | G36: 33528 | H36: =Annotation!Q97-Annotation!$J97 -> 237934 | I36: =Annotation!R97-Annotation!$J97 -> 226906 | J36: =Annotation!S97-Annotation!$J97 -> 288271 | K36: =Annotation!T97-Annotation!$J97 -> 471528 | L36: =Annotation!U97-Annotation!$J97 -> 401053 | M36: =Annotation!V97-Annotation!$J97 -> 421701 | N36: 67645 | O36: =Annotation!X97-Annotation!$J97 -> 70978 | P36: 63216 | Q36: =Annotation!Z97-Annotation!$J97 -> 1081849 | R36: =Annotation!AA97-Annotation!$J97 -> 1047643 | S36: =Annotation!AB97-Annotation!$J97 -> 1063483
A37: Glycerol | B37: =Annotation!K3-Annotation!$J3 -> 17626.333 | C37: =Annotation!L3-Annotation!$J3 -> 23665.333 | D37: =Annotation!M3-Annotation!$J3 -> 26770.333 | E37: =Annotation!N3-Annotation!$J3 -> 8387.3333 | F37: =Annotation!O3-Annotation!$J3 -> 10503.333 | G37: =Annotation!P3-Annotation!$J3 -> 11063.333 | H37: =Annotation!Q3-Annotation!$J3 -> 349770.33 | I37: =Annotation!R3-Annotation!$J3 -> 369126.33 | ... S37: =Annotation!AB3-Annotation!$J3 -> 119526.33
A38: Glycerolphosphate | B38: =Annotation!K35-Annotation!$J35 -> 1804068 | C38: =Annotation!L35-Annotation!$J35 -> 1840094 | D38: =Annotation!M35-Annotation!$J35 -> 2064313 | E38: =Annotation!N35-Annotation!$J35 -> 3252666 | F38: =Annotation!O35-Annotation!$J35 -> 3322577 | G38: =Annotation!P35-Annotation!$J35 -> 3351685 | H38: =Annotation!Q35-Annotation!$J35 -> 2219296 | I38: =Annotation!R35-Annotation!$J35 -> 2107548 | ... S38: =Annotation!AB35-Annotation!$J35 -> 2387774
A39: Glycine | B39: 1519916 | C39: 1469567 | D39: 1568427 | E39: 586566 | F39: 588041 | G39: 482508 | H39: 15316986 | I39: 12602055 | J39: 5128626 | K39: 15472043 | L39: 10190377 | M39: 6377931 | N39: 1403603 | O39: 1492866 | P39: 979191 | Q39: 25375797 | R39: 23035733 | S39: 20179374
A40: Glycolic acid | B40: =Annotation!K92-Annotation!$J92 -> 220127.33 | C40: =Annotation!L92-Annotation!$J92 -> 230204.33 | D40: =Annotation!M92-Annotation!$J92 -> 222478.33 | E40: =Annotation!N92-Annotation!$J92 -> 176362.33 | F40: =Annotation!O92-Annotation!$J92 -> 160952.33 | G40: =Annotation!P92-Annotation!$J92 -> 159422.33 | H40: =Annotation!Q92-Annotation!$J92 -> 911464.33 | I40: =Annotation!R92-Annotation!$J92 -> 1187310.3 | ... S40: =Annotation!AB92-Annotation!$J92 -> 1580806.3
A41: Histidine 3TMS | B41: =Annotation!K33-Annotation!$J33 -> 0 | C41: =Annotation!L33-Annotation!$J33 -> 0 | D41: =Annotation!M33-Annotation!$J33 -> 0 | E41: =Annotation!N33-Annotation!$J33 -> 0 | F41: =Annotation!O33-Annotation!$J33 -> 0 | G41: =Annotation!P33-Annotation!$J33 -> 0 | H41: =Annotation!Q33-Annotation!$J33 -> 0 | I41: =Annotation!R33-Annotation!$J33 -> 0 | ... S41: =Annotation!AB33-Annotation!$J33 -> 5397789
A42: Homocysteine | B42: =Annotation!K84-Annotation!$J84 -> 0 | C42: =Annotation!L84-Annotation!$J84 -> 0 | D42: =Annotation!M84-Annotation!$J84 -> 0 | E42: =Annotation!N84-Annotation!$J84 -> 0 | F42: =Annotation!O84-Annotation!$J84 -> 0 | G42: =Annotation!P84-Annotation!$J84 -> 0 | H42: =Annotation!Q84-Annotation!$J84 -> 0 | I42: =Annotation!R84-Annotation!$J84 -> 0 | ... S42: =Annotation!AB84-Annotation!$J84 -> 0
A43: Homoserine | B43: 0 | C43: 0 | D43: 0 | E43: 0 | F43: 0 | G43: 0 | H43: 68277 | I43: 32286 | J43: 23968 | K43: 97267 | L43: 95572 | M43: 73751 | N43: 0 | O43: 0 | P43: 0 | Q43: 76565 | R43: 82727 | S43: 79694
A44: Hydroxybutyric acid | B44: =Annotation!K95-Annotation!$J95 -> 0 | C44: =Annotation!L95-Annotation!$J95 -> 0 | D44: =Annotation!M95-Annotation!$J95 -> 0 | E44: =Annotation!N95-Annotation!$J95 -> 0 | F44: =Annotation!O95-Annotation!$J95 -> 0 | G44: =Annotation!P95-Annotation!$J95 -> 0 | H44: =Annotation!Q95-Annotation!$J95 -> 84602 | I44: =Annotation!R95-Annotation!$J95 -> 73065 | ... S44: =Annotation!AB95-Annotation!$J95 -> 134175
A45: Hydroxyglutaric acid | B45: 19031 | C45: 18266 | D45: 19385 | E45: 2703 | F45: 5008 | G45: 5024 | H45: 219141 | I45: 226873 | J45: 230113 | K45: 47658 | L45: 47822 | M45: 45892 | N45: 7216 | O45: 7197 | P45: 6909 | Q45: 36909 | R45: 39877 | S45: 36829
A46: Isoleucine | B46: =Annotation!K85-Annotation!$J85 -> 0 | C46: =Annotation!L85-Annotation!$J85 -> 0 | D46: =Annotation!M85-Annotation!$J85 -> 29865 | E46: =Annotation!N85-Annotation!$J85 -> 0 | F46: =Annotation!O85-Annotation!$J85 -> 0 | G46: =Annotation!P85-Annotation!$J85 -> 108125 | H46: =Annotation!Q85-Annotation!$J85 -> 1506606 | I46: =Annotation!R85-Annotation!$J85 -> 1686991 | ... S46: =Annotation!AB85-Annotation!$J85 -> 6164768
A47: Isopropylmalate | B47: =Annotation!K68-Annotation!$J68 -> 0 | C47: =Annotation!L68-Annotation!$J68 -> 0 | D47: =Annotation!M68-Annotation!$J68 -> 86295 | E47: =Annotation!N68-Annotation!$J68 -> 170378 | F47: =Annotation!O68-Annotation!$J68 -> 190006 | G47: =Annotation!P68-Annotation!$J68 -> 213728 | H47: =Annotation!Q68-Annotation!$J68 -> 1629472 | I47: =Annotation!R68-Annotation!$J68 -> 2009267 | ... S47: =Annotation!AB68-Annotation!$J68 -> 8509261
A48: Lactate | B48: =Annotation!K47-Annotation!$J47 -> 675530 | C48: =Annotation!L47-Annotation!$J47 -> 692682 | D48: =Annotation!M47-Annotation!$J47 -> 722923 | E48: =Annotation!N47-Annotation!$J47 -> 83890 | F48: 0 | G48: 0 | H48: =Annotation!Q47-Annotation!$J47 -> 18610835 | I48: =Annotation!R47-Annotation!$J47 -> 21359116 | J48: =Annotation!S47-Annotation!$J47 -> 20125821 | K48: =Annotation!T47-Annotation!$J47 -> 1108877 | L48: =Annotation!U47-Annotation!$J47 -> 925727 | M48: =Annotation!V47-Annotation!$J47 -> 906816 | N48: =Annotation!W47-Annotation!$J47 -> 137181 | O48: =Annotation!X47-Annotation!$J47 -> 214143 | ... S48: =Annotation!AB47-Annotation!$J47 -> 386950
A49: Lanosterol | B49: =Annotation!K75-Annotation!$J75 -> 4228529 | C49: =Annotation!L75-Annotation!$J75 -> 4456598 | D49: =Annotation!M75-Annotation!$J75 -> 3819032 | E49: =Annotation!N75-Annotation!$J75 -> 3974434 | F49: =Annotation!O75-Annotation!$J75 -> 4521222 | G49: =Annotation!P75-Annotation!$J75 -> 3608725 | H49: =Annotation!Q75-Annotation!$J75 -> 0 | I49: =Annotation!R75-Annotation!$J75 -> 326457 | ... S49: =Annotation!AB75-Annotation!$J75 -> 0
A50: Leucine 2TMS | B50: =Annotation!K48-Annotation!$J48 -> 371164 | C50: =Annotation!L48-Annotation!$J48 -> 307508 | D50: =Annotation!M48-Annotation!$J48 -> 278816 | E50: =Annotation!N48-Annotation!$J48 -> 428099 | F50: =Annotation!O48-Annotation!$J48 -> 492879 | G50: =Annotation!P48-Annotation!$J48 -> 368769 | H50: =Annotation!Q48-Annotation!$J48 -> 3051127 | I50: =Annotation!R48-Annotation!$J48 -> 2007737 | ... S50: =Annotation!AB48-Annotation!$J48 -> 3225587
A51: Leucine TMS | B51: =Annotation!K12-Annotation!$J12 -> 0 | C51: =Annotation!L12-Annotation!$J12 -> 97839 | D51: =Annotation!M12-Annotation!$J12 -> 126947 | E51: =Annotation!N12-Annotation!$J12 -> 116963 | F51: =Annotation!O12-Annotation!$J12 -> 129107 | G51: =Annotation!P12-Annotation!$J12 -> 175660 | H51: =Annotation!Q12-Annotation!$J12 -> 2851589 | I51: =Annotation!R12-Annotation!$J12 -> 3432509 | ... S51: =Annotation!AB12-Annotation!$J12 -> 8328882
A52: Lysine 3TMS | B52: =Annotation!K81-Annotation!$J81 -> 6147443 | C52: =Annotation!L81-Annotation!$J81 -> 6544539 | D52: =Annotation!M81-Annotation!$J81 -> 7313079 | E52: =Annotation!N81-Annotation!$J81 -> 7374063 | F52: =Annotation!O81-Annotation!$J81 -> 6595763 | G52: =Annotation!P81-Annotation!$J81 -> 6840414 | H52: =Annotation!Q81-Annotation!$J81 -> 10875065 | I52: =Annotation!R81-Annotation!$J81 -> 14117819 | ... S52: =Annotation!AB81-Annotation!$J81 -> 8292526
A53: Lysine 4TMS | B53: =Annotation!K7-Annotation!$J7 -> 9540365 | C53: =Annotation!L7-Annotation!$J7 -> 7456621 | D53: =Annotation!M7-Annotation!$J7 -> 5187813 | E53: =Annotation!N7-Annotation!$J7 -> 4842268 | F53: =Annotation!O7-Annotation!$J7 -> 5779229 | G53: =Annotation!P7-Annotation!$J7 -> 3872635 | H53: =Annotation!Q7-Annotation!$J7 -> 349861535 | I53: =Annotation!R7-Annotation!$J7 -> 345264893 | ... S53: =Annotation!AB7-Annotation!$J7 -> 514767314
A54: Malate | B54: =Annotation!K80-Annotation!$J80 -> 247942 | C54: =Annotation!L80-Annotation!$J80 -> 235373 | D54: =Annotation!M80-Annotation!$J80 -> 247625 | E54: =Annotation!N80-Annotation!$J80 -> 0 | F54: =Annotation!O80-Annotation!$J80 -> 0 | G54: =Annotation!P80-Annotation!$J80 -> 0 | H54: =Annotation!Q80-Annotation!$J80 -> 1183534 | I54: =Annotation!R80-Annotation!$J80 -> 1221023 | ... S54: =Annotation!AB80-Annotation!$J80 -> 8053428
A55: Methionine | B55: =Annotation!K34-Annotation!$J34 -> 0 | C55: =Annotation!L34-Annotation!$J34 -> 0 | D55: =Annotation!M34-Annotation!$J34 -> 0 | E55: =Annotation!N34-Annotation!$J34 -> 0 | F55: =Annotation!O34-Annotation!$J34 -> 0 | G55: =Annotation!P34-Annotation!$J34 -> 0 | H55: =Annotation!Q34-Annotation!$J34 -> 139299 | I55: =Annotation!R34-Annotation!$J34 -> 0 | ... S55: =Annotation!AB34-Annotation!$J34 -> 981479
A56: Methionine sulfoxide | B56: =Annotation!K101-Annotation!$J101 -> 0 | C56: =Annotation!L101-Annotation!$J101 -> 0 | D56: =Annotation!M101-Annotation!$J101 -> 0 | E56: =Annotation!N101-Annotation!$J101 -> 0 | F56: =Annotation!O101-Annotation!$J101 -> 0 | G56: =Annotation!P101-Annotation!$J101 -> 0 | H56: =Annotation!Q101-Annotation!$J101 -> 0 | I56: =Annotation!R101-Annotation!$J101 -> 0 | ... S56: =Annotation!AB101-Annotation!$J101 -> 0
A57: Mimosine | B57: =Annotation!K63-Annotation!$J63 -> 1412941 | C57: =Annotation!L63-Annotation!$J63 -> 1399114 | D57: =Annotation!M63-Annotation!$J63 -> 1343999 | E57: =Annotation!N63-Annotation!$J63 -> 1774020 | F57: =Annotation!O63-Annotation!$J63 -> 1899939 | G57: =Annotation!P63-Annotation!$J63 -> 1555290 | H57: =Annotation!Q63-Annotation!$J63 -> 126541 | I57: =Annotation!R63-Annotation!$J63 -> 0 | ... S57: =Annotation!AB63-Annotation!$J63 -> 229733
A58: Monopalmitin | B58: =Annotation!K60-Annotation!$J60 -> 87393 | C58: =Annotation!L60-Annotation!$J60 -> 98995 | D58: =Annotation!M60-Annotation!$J60 -> 126090 | E58: =Annotation!N60-Annotation!$J60 -> 137673 | F58: =Annotation!O60-Annotation!$J60 -> 162882 | G58: =Annotation!P60-Annotation!$J60 -> 175576 | H58: =Annotation!Q60-Annotation!$J60 -> 0 | I58: =Annotation!R60-Annotation!$J60 -> 0 | ... S58: =Annotation!AB60-Annotation!$J60 -> 0
A59: Myo-Inositol | B59: =Annotation!K30-Annotation!$J30 -> 2289792 | C59: =Annotation!L30-Annotation!$J30 -> 2274001 | D59: =Annotation!M30-Annotation!$J30 -> 2548488 | E59: =Annotation!N30-Annotation!$J30 -> 7821308 | F59: =Annotation!O30-Annotation!$J30 -> 7802137 | G59: =Annotation!P30-Annotation!$J30 -> 7802447 | H59: =Annotation!Q30-Annotation!$J30 -> 4399383 | I59: =Annotation!R30-Annotation!$J30 -> 4530467 | ... S59: =Annotation!AB30-Annotation!$J30 -> 11410756
A60: Myo-Inositol-P | B60: 473873 | C60: 743078 | D60: 379729 | E60: 420167 | F60: 652013 | G60: 461550 | H60: 0 | I60: 0 | J60: 0 | K60: 0 | L60: 0 | M60: 0 | N60: 590970 | O60: 367652 | P60: 657125 | Q60: 0 | R60: 0 | S60: 0
A61: Myristic acid | B61: =Annotation!K16-Annotation!$J16 -> 297532.33 | C61: =Annotation!L16-Annotation!$J16 -> 289728.33 | D61: =Annotation!M16-Annotation!$J16 -> 427227.33 | E61: =Annotation!N16-Annotation!$J16 -> 549821.33 | F61: =Annotation!O16-Annotation!$J16 -> 559606.33 | G61: =Annotation!P16-Annotation!$J16 -> 535834.33 | H61: =Annotation!Q16-Annotation!$J16 -> 105783.33 | I61: =Annotation!R16-Annotation!$J16 -> 86340.333 | ... K61: =Annotation!T16-Annotation!$J16 -> 157558.33 | L61: 0 | M61: =Annotation!V16-Annotation!$J16 -> 121023.33 | N61: =Annotation!W16-Annotation!$J16 -> 1333298.3 | O61: =Annotation!X16-Annotation!$J16 -> 1449411.3 | P61: =Annotation!Y16-Annotation!$J16 -> 1460519.3 | Q61: 0 | R61: 0 | S61: 0
A62: Nicotinic acid | B62: =Annotation!K13-Annotation!$J13 -> 150.33333 | C62: 0 | D62: =Annotation!M13-Annotation!$J13 -> 20444.333 | E62: =Annotation!N13-Annotation!$J13 -> 20988.333 | F62: =Annotation!O13-Annotation!$J13 -> 30245.333 | G62: =Annotation!P13-Annotation!$J13 -> 33836.333 | H62: =Annotation!Q13-Annotation!$J13 -> 237005.33 | I62: =Annotation!R13-Annotation!$J13 -> 237832.33 | J62: =Annotation!S13-Annotation!$J13 -> 264904.33 | K62: =Annotation!T13-Annotation!$J13 -> 622966.33 | ... S62: =Annotation!AB13-Annotation!$J13 -> 601239.33
A63: Oleic acid | B63: =Annotation!K58-Annotation!$J58 -> 7077409.7 | C63: =Annotation!L58-Annotation!$J58 -> 6919989.7 | D63: =Annotation!M58-Annotation!$J58 -> 7107112.7 | E63: =Annotation!N58-Annotation!$J58 -> 8744620.7 | F63: =Annotation!O58-Annotation!$J58 -> 8419598.7 | G63: =Annotation!P58-Annotation!$J58 -> 8564685.7 | H63: =Annotation!Q58-Annotation!$J58 -> 1528232.7 | I63: =Annotation!R58-Annotation!$J58 -> 1527604.7 | ... P63: =Annotation!Y58-Annotation!$J58 -> 6399712.7 | Q63: 0 | R63: 0 | S63: 0
A64: Ornithine | B64: =Annotation!K98-Annotation!$J98 -> 340683 | C64: =Annotation!L98-Annotation!$J98 -> 266205 | D64: =Annotation!M98-Annotation!$J98 -> 537905 | E64: =Annotation!N98-Annotation!$J98 -> 220047 | F64: =Annotation!O98-Annotation!$J98 -> 372560 | G64: =Annotation!P98-Annotation!$J98 -> 320840 | H64: =Annotation!Q98-Annotation!$J98 -> 5424501 | I64: =Annotation!R98-Annotation!$J98 -> 6747133 | ... S64: =Annotation!AB98-Annotation!$J98 -> 22518266
A65: Ornithine-1,5-lactam | B65: =Annotation!K70-Annotation!$J70 -> 0 | C65: =Annotation!L70-Annotation!$J70 -> 0 | D65: =Annotation!M70-Annotation!$J70 -> 0 | E65: =Annotation!N70-Annotation!$J70 -> 0 | F65: =Annotation!O70-Annotation!$J70 -> 0 | G65: =Annotation!P70-Annotation!$J70 -> 0 | H65: =Annotation!Q70-Annotation!$J70 -> 0 | I65: =Annotation!R70-Annotation!$J70 -> 0 | ... S65: =Annotation!AB70-Annotation!$J70 -> 0
A66: Orotic acid | B66: =Annotation!K102-Annotation!$J102 -> 1570802 | C66: =Annotation!L102-Annotation!$J102 -> 1504051 | D66: =Annotation!M102-Annotation!$J102 -> 1495597 | E66: =Annotation!N102-Annotation!$J102 -> 1441349 | F66: =Annotation!O102-Annotation!$J102 -> 1467733 | G66: =Annotation!P102-Annotation!$J102 -> 1523332 | H66: =Annotation!Q102-Annotation!$J102 -> 19324900 | I66: =Annotation!R102-Annotation!$J102 -> 20194556 | ... S66: =Annotation!AB102-Annotation!$J102 -> 33923500
A67: Oxalic acid | B67: =Annotation!K19-Annotation!$J19 -> 943262 | C67: =Annotation!L19-Annotation!$J19 -> 932962 | D67: =Annotation!M19-Annotation!$J19 -> 817807 | E67: =Annotation!N19-Annotation!$J19 -> 1340762 | F67: =Annotation!O19-Annotation!$J19 -> 1298969 | G67: =Annotation!P19-Annotation!$J19 -> 1109372 | H67: =Annotation!Q19-Annotation!$J19 -> 10798326 | I67: =Annotation!R19-Annotation!$J19 -> 12603885 | ... S67: =Annotation!AB19-Annotation!$J19 -> 19412905
A68: Palmitic acid | B68: =Annotation!K96-Annotation!$J96 -> 8296879 | C68: =Annotation!L96-Annotation!$J96 -> 8184825 | D68: =Annotation!M96-Annotation!$J96 -> 10365695 | E68: =Annotation!N96-Annotation!$J96 -> 14753982 | F68: =Annotation!O96-Annotation!$J96 -> 14984952 | G68: =Annotation!P96-Annotation!$J96 -> 14625710 | H68: =Annotation!Q96-Annotation!$J96 -> 1670714 | I68: =Annotation!R96-Annotation!$J96 -> 1869902 | ... S68: =Annotation!AB96-Annotation!$J96 -> 1115485
A69: Palmitoleic acid | B69: =Annotation!K14-Annotation!$J14 -> 13685402 | C69: =Annotation!L14-Annotation!$J14 -> 13707210 | D69: =Annotation!M14-Annotation!$J14 -> 14147454 | E69: =Annotation!N14-Annotation!$J14 -> 21456896 | F69: =Annotation!O14-Annotation!$J14 -> 21281698 | G69: =Annotation!P14-Annotation!$J14 -> 21094222 | H69: =Annotation!Q14-Annotation!$J14 -> 6223943 | I69: =Annotation!R14-Annotation!$J14 -> 6104791 | ... S69: =Annotation!AB14-Annotation!$J14 -> 3320825
A70: PEP | B70: 0 | C70: 0 | D70: 0 | E70: 0 | F70: 0 | G70: 0 | H70: 4299 | I70: 3823 | J70: 3892 | K70: 14007 | L70: 13726 | M70: 13611 | N70: 0 | O70: 0 | P70: 0 | Q70: 51110 | R70: 55550 | S70: 53261
A71: Phenylalanine | B71: 336607 | C71: 318385 | D71: 334208 | E71: 424323 | F71: 449412 | G71: 393301 | H71: 8263910 | I71: 7286553 | J71: 6878813 | K71: 8541685 | L71: 8250343 | M71: 7813467 | N71: 547092 | O71: 485972 | P71: 512919 | Q71: 16477503 | R71: 16447464 | S71: 11648941
A72: Phosphate | B72: =Annotation!K5-Annotation!$J5 -> 1.3064217e+08 | C72: =Annotation!L5-Annotation!$J5 -> 1.2461159e+08 | D72: =Annotation!M5-Annotation!$J5 -> 1.3155002e+08 | E72: =Annotation!N5-Annotation!$J5 -> 1.6731921e+08 | F72: =Annotation!O5-Annotation!$J5 -> 1.7753046e+08 | G72: =Annotation!P5-Annotation!$J5 -> 1.6863585e+08 | H72: =Annotation!Q5-Annotation!$J5 -> 4.8809642e+08 | I72: =Annotation!R5-Annotation!$J5 -> 4.8939569e+08 | ... O72: =Annotation!X5-Annotation!$J5 -> 2.0614214e+08 | P72: 0 | Q72: =Annotation!Z5-Annotation!$J5 -> 6.1250408e+08 | R72: =Annotation!AA5-Annotation!$J5 -> 3.3885957e+08 | S72: =Annotation!AB5-Annotation!$J5 -> 5.9419509e+08
A73: Phytosphingosine | B73: =Annotation!K82-Annotation!$J82 -> 251593 | C73: =Annotation!L82-Annotation!$J82 -> 350614 | D73: =Annotation!M82-Annotation!$J82 -> 277995 | E73: =Annotation!N82-Annotation!$J82 -> 282366 | F73: =Annotation!O82-Annotation!$J82 -> 333384 | G73: =Annotation!P82-Annotation!$J82 -> 304651 | H73: =Annotation!Q82-Annotation!$J82 -> 0 | I73: =Annotation!R82-Annotation!$J82 -> 0 | ... S73: =Annotation!AB82-Annotation!$J82 -> 0
A74: Porphine | B74: =Annotation!K86-Annotation!$J86 -> 2081540.7 | C74: =Annotation!L86-Annotation!$J86 -> 2024172.7 | D74: =Annotation!M86-Annotation!$J86 -> 2318505.7 | E74: =Annotation!N86-Annotation!$J86 -> 2136281.7 | F74: =Annotation!O86-Annotation!$J86 -> 2102063.7 | G74: =Annotation!P86-Annotation!$J86 -> 2230531.7 | H74: =Annotation!Q86-Annotation!$J86 -> 508703.67 | I74: =Annotation!R86-Annotation!$J86 -> 481266.67 | ... S74: =Annotation!AB86-Annotation!$J86 -> 578053.67
A75: Proline | B75: =Annotation!K17-Annotation!$J17 -> 217440 | C75: =Annotation!L17-Annotation!$J17 -> 150582 | D75: =Annotation!M17-Annotation!$J17 -> 108333 | E75: =Annotation!N17-Annotation!$J17 -> 131120 | F75: =Annotation!O17-Annotation!$J17 -> 170667 | G75: =Annotation!P17-Annotation!$J17 -> 141599 | H75: =Annotation!Q17-Annotation!$J17 -> 328672 | I75: =Annotation!R17-Annotation!$J17 -> 157704 | ... S75: =Annotation!AB17-Annotation!$J17 -> 359773
A76: Pyroglutamate | B76: =Annotation!K87-Annotation!$J87 -> 915988 | C76: =Annotation!L87-Annotation!$J87 -> 984146 | D76: =Annotation!M87-Annotation!$J87 -> 1271498 | E76: =Annotation!N87-Annotation!$J87 -> 1143681 | F76: =Annotation!O87-Annotation!$J87 -> 1085601 | G76: =Annotation!P87-Annotation!$J87 -> 1137237 | H76: =Annotation!Q87-Annotation!$J87 -> 8474510 | I76: =Annotation!R87-Annotation!$J87 -> 10519213 | ... S76: =Annotation!AB87-Annotation!$J87 -> 38890751
A77: Pyrophosphate | B77: =Annotation!K32-Annotation!$J32 -> 7763293 | C77: =Annotation!L32-Annotation!$J32 -> 7680324 | D77: =Annotation!M32-Annotation!$J32 -> 7829876 | E77: =Annotation!N32-Annotation!$J32 -> 9334797 | F77: =Annotation!O32-Annotation!$J32 -> 10739241 | G77: =Annotation!P32-Annotation!$J32 -> 11189414 | H77: =Annotation!Q32-Annotation!$J32 -> 23471346 | I77: =Annotation!R32-Annotation!$J32 -> 19102027 | ... S77: =Annotation!AB32-Annotation!$J32 -> 2962807
A78: Pyruvate | B78: =Annotation!K54-Annotation!$J54 -> 193671 | C78: =Annotation!L54-Annotation!$J54 -> 206783 | D78: =Annotation!M54-Annotation!$J54 -> 218463 | E78: =Annotation!N54-Annotation!$J54 -> 7997 | F78: =Annotation!O54-Annotation!$J54 -> 19104 | G78: =Annotation!P54-Annotation!$J54 -> 24205 | H78: =Annotation!Q54-Annotation!$J54 -> 951630 | I78: =Annotation!R54-Annotation!$J54 -> 1060251 | ... S78: =Annotation!AB54-Annotation!$J54 -> 1019268
A79: Ribose | B79: =Annotation!K71-Annotation!$J71 -> 26078 | C79: =Annotation!L71-Annotation!$J71 -> 0 | D79: =Annotation!M71-Annotation!$J71 -> 59147 | E79: =Annotation!N71-Annotation!$J71 -> 40708 | F79: =Annotation!O71-Annotation!$J71 -> 0 | G79: =Annotation!P71-Annotation!$J71 -> 49575 | H79: =Annotation!Q71-Annotation!$J71 -> 171697 | I79: =Annotation!R71-Annotation!$J71 -> 307574 | ... S79: =Annotation!AB71-Annotation!$J71 -> 376861
A80: Serine | B80: 778061 | C80: 777369 | D80: 732118 | E80: 770217 | F80: 771214 | G80: 812756 | H80: 8141880 | I80: 7568729 | J80: 7256817 | K80: 6445933 | L80: 5761127 | M80: 5448772 | N80: 1147458 | O80: 1213887 | P80: 824697 | Q80: 14312744 | R80: 15121585 | S80: 14413266
A81: Squalene | B81: 617829 | C81: 705892 | D81: 642915 | E81: 2002226 | F81: 2186741 | G81: 2050424 | H81: 0 | I81: 0 | J81: 0 | K81: 0 | L81: 0 | M81: 0 | N81: 949970 | O81: 1452176 | P81: 1185767 | Q81: 0 | R81: 0 | S81: 0
A82: Succinate | B82: 32062 | C82: 33938 | D82: 32991 | E82: 46623 | F82: 47326 | G82: 47406 | H82: 349059 | I82: 360001 | J82: 354326 | K82: 609366 | L82: 603443 | M82: 576693 | N82: 15565 | O82: 15448 | P82: 15389 | Q82: 191454 | R82: 193239 | S82: 190524
A83: Spemidine | B83: =Annotation!K51-Annotation!$J51 -> 0 | C83: =Annotation!L51-Annotation!$J51 -> 0 | D83: =Annotation!M51-Annotation!$J51 -> 0 | E83: =Annotation!N51-Annotation!$J51 -> 0 | F83: =Annotation!O51-Annotation!$J51 -> 0 | G83: =Annotation!P51-Annotation!$J51 -> 0 | H83: =Annotation!Q51-Annotation!$J51 -> 2886644 | I83: =Annotation!R51-Annotation!$J51 -> 2851040 | ... S83: =Annotation!AB51-Annotation!$J51 -> 4934145
A84: Threonine | B84: 1340678 | C84: 1247963 | D84: 1354730 | E84: 1544409 | F84: 1567190 | G84: 1510021 | H84: 10877973 | I84: 10807075 | J84: 9360775 | K84: 10791950 | L84: 9834977 | M84: 8841987 | N84: 2177901 | O84: 1774576 | P84: 1780319 | Q84: 11868509 | R84: 7030220 | S84: 6545937
A85: Trehalose | B85: =Annotation!K99-Annotation!$J99 -> 1798667 | C85: =Annotation!L99-Annotation!$J99 -> 1887895 | D85: =Annotation!M99-Annotation!$J99 -> 1767760 | E85: =Annotation!N99-Annotation!$J99 -> 8904806 | F85: =Annotation!O99-Annotation!$J99 -> 9217759 | G85: =Annotation!P99-Annotation!$J99 -> 8268312 | H85: =Annotation!Q99-Annotation!$J99 -> 26017066 | I85: =Annotation!R99-Annotation!$J99 -> 27872909 | ... S85: =Annotation!AB99-Annotation!$J99 -> 7386802
A86: Tyrosine 3TMS | B86: =Annotation!K59-Annotation!$J59 -> 261717 | C86: =Annotation!L59-Annotation!$J59 -> 213877 | D86: =Annotation!M59-Annotation!$J59 -> 207878 | E86: =Annotation!N59-Annotation!$J59 -> 281402 | F86: =Annotation!O59-Annotation!$J59 -> 313068 | G86: =Annotation!P59-Annotation!$J59 -> 235051 | H86: =Annotation!Q59-Annotation!$J59 -> 10272288 | I86: =Annotation!R59-Annotation!$J59 -> 10545063 | ... S86: =Annotation!AB59-Annotation!$J59 -> 25079589
A87: Uracil | B87: =Annotation!K74-Annotation!$J74 -> 78891 | C87: =Annotation!L74-Annotation!$J74 -> 53592 | D87: =Annotation!M74-Annotation!$J74 -> 41772 | E87: =Annotation!N74-Annotation!$J74 -> 16803 | F87: =Annotation!O74-Annotation!$J74 -> 13384 | G87: =Annotation!P74-Annotation!$J74 -> 10725 | H87: =Annotation!Q74-Annotation!$J74 -> 1162621 | I87: =Annotation!R74-Annotation!$J74 -> 994386 | ... S87: =Annotation!AB74-Annotation!$J74 -> 4036777
A88: Uridine | B88: =Annotation!K55-Annotation!$J55 -> 0 | C88: =Annotation!L55-Annotation!$J55 -> 0 | D88: =Annotation!M55-Annotation!$J55 -> 0 | E88: =Annotation!N55-Annotation!$J55 -> 0 | F88: =Annotation!O55-Annotation!$J55 -> 0 | G88: =Annotation!P55-Annotation!$J55 -> 0 | H88: =Annotation!Q55-Annotation!$J55 -> 2680603 | I88: =Annotation!R55-Annotation!$J55 -> 3809420 | ... S88: =Annotation!AB55-Annotation!$J55 -> 15176874
A89: Valine | B89: 429898 | C89: 459012 | D89: 470593 | E89: 712547 | F89: 789159 | G89: 798698 | H89: 5164297 | I89: 5346868 | J89: 5795724 | K89: 7699149 | L89: 8182344 | M89: 8092459 | N89: 816553 | O89: 890803 | P89: 738682 | Q89: 12491770 | R89: 13135643 | S89: 12064407
A93: Phenyl-glucose | B93: 22470695 | C93: 22802421 | D93: 22289673 | E93: 20917719 | F93: 20920092 | G93: 20134630 | H93: 7026029 | I93: 7464554 | J93: 7324685 | K93: 7668758 | L93: 7433213 | M93: 7362716 | N93: 19323683 | O93: 20710069 | P93: 20339979 | Q93: 12924778 | R93: 14338155 | S93: 14091919
A94: Ribitol | B94: 35520565 | C94: 33600491 | D94: 35211005 | E94: 31889707 | F94: 32543327 | G94: 28910233 | H94: 11281943 | I94: 11709761 | J94: 12048029 | K94: 13213804 | L94: 12520723 | M94: 12540104 | N94: 30052173 | O94: 29296545 | P94: 33050931 | Q94: 23370217 | R94: 25008975 | S94: 24751690

Sheet Summary
A1: Summary of annotated data matrix
A2: Name | B2: Mito_atp4_1 | C2: Mito_atp4_2 | D2: Mito_atp4_3 | E2: Mito_sdh2_1 | F2: Mito_sdh2_2 | G2: Mito_sdh2_3 | H2: Cyto_atp4_1 | I2: Cyto_atp4_2 | J2: Cyto_atp4_3 | K2: Cyto_sdh2_1 | L2: Cyto_sdh2_2 | M2: Cyto_sdh2_3 | N2: Mito_WT_1 | O2: Mito_WT_2 | P2: Mito_WT_3 | Q2: Cyto_WT_1 | R2: Cyto_WT_2 | S2: Cyto_WT_3
A3: 1-Methyl nicotinamide | B3: =Annotation!K89-Annotation!$J89 -> 6409 | C3: =Annotation!L89-Annotation!$J89 -> 5973 | D3: =Annotation!M89-Annotation!$J89 -> 7126 | E3: =Annotation!N89-Annotation!$J89 -> 53947 | F3: =Annotation!O89-Annotation!$J89 -> 56236 | G3: =Annotation!P89-Annotation!$J89 -> 52225 | H3: =Annotation!Q89-Annotation!$J89 -> 36690 | I3: =Annotation!R89-Annotation!$J89 -> 38855 | ... S3: =Annotation!AB89-Annotation!$J89 -> 78934
A4: 2-Ketoglutarate | B4: 0 | C4: 0 | D4: 0 | E4: 0 | F4: 0 | G4: 0 | H4: 9061 | I4: 9351 | J4: 9494 | K4: 4704 | L4: 4403 | M4: 4113 | N4: 0 | O4: 0 | P4: 0 | Q4: 14871 | R4: 15780 | S4: 16179
A5: 2-Phosphoglycerate | B5: =Annotation!K44-Annotation!$J44 -> 0 | C5: =Annotation!L44-Annotation!$J44 -> 0 | D5: =Annotation!M44-Annotation!$J44 -> 0 | E5: =Annotation!N44-Annotation!$J44 -> 0 | F5: =Annotation!O44-Annotation!$J44 -> 0 | G5: =Annotation!P44-Annotation!$J44 -> 0 | H5: =Annotation!Q44-Annotation!$J44 -> 0 | I5: =Annotation!R44-Annotation!$J44 -> 0 | ... S5: =Annotation!AB44-Annotation!$J44 -> 329840
A6: 3-Phosphoglycerate | B6: =Annotation!K61-Annotation!$J61 -> 0 | C6: =Annotation!L61-Annotation!$J61 -> 0 | D6: =Annotation!M61-Annotation!$J61 -> 0 | E6: =Annotation!N61-Annotation!$J61 -> 103730 | F6: =Annotation!O61-Annotation!$J61 -> 101730 | G6: =Annotation!P61-Annotation!$J61 -> 114007 | H6: =Annotation!Q61-Annotation!$J61 -> 461561 | I6: =Annotation!R61-Annotation!$J61 -> 387893 | ... S6: =Annotation!AB61-Annotation!$J61 -> 7359369
A7: 14-Demethyllanosterol | B7: =Annotation!K67-Annotation!$J67 -> 679514 | C7: =Annotation!L67-Annotation!$J67 -> 790706 | D7: =Annotation!M67-Annotation!$J67 -> 561199 | E7: =Annotation!N67-Annotation!$J67 -> 619133 | F7: =Annotation!O67-Annotation!$J67 -> 635071 | G7: =Annotation!P67-Annotation!$J67 -> 592819 | H7: =Annotation!Q67-Annotation!$J67 -> 0 | I7: =Annotation!R67-Annotation!$J67 -> 0 | ... S7: =Annotation!AB67-Annotation!$J67 -> 0
A8: Adenine | B8: =Annotation!K77-Annotation!$J77 -> 31782.333 | C8: =Annotation!L77-Annotation!$J77 -> 14926.333 | D8: 0 | E8: =Annotation!N77-Annotation!$J77 -> 25509.333 | F8: 0 | G8: 0 | H8: =Annotation!Q77-Annotation!$J77 -> 172438.33 | I8: =Annotation!R77-Annotation!$J77 -> 119191.33 | J8: =Annotation!S77-Annotation!$J77 -> 238629.33 | K8: =Annotation!T77-Annotation!$J77 -> 509445.33 | L8: =Annotation!U77-Annotation!$J77 -> 260420.33 | M8: =Annotation!V77-Annotation!$J77 -> 246056.33 | N8: 0 | O8: 0 | P8: 0 | Q8: =Annotation!Z77-Annotation!$J77 -> 344042.33 | R8: =Annotation!AA77-Annotation!$J77 -> 360324.33 | S8: =Annotation!AB77-Annotation!$J77 -> 359420.33
A9: Adenosine | B9: =Annotation!K27-Annotation!$J27 -> 150005 | C9: =Annotation!L27-Annotation!$J27 -> 196428 | D9: =Annotation!M27-Annotation!$J27 -> 185143 | E9: =Annotation!N27-Annotation!$J27 -> 174886 | F9: =Annotation!O27-Annotation!$J27 -> 206729 | G9: =Annotation!P27-Annotation!$J27 -> 183785 | H9: =Annotation!Q27-Annotation!$J27 -> 14458878 | I9: =Annotation!R27-Annotation!$J27 -> 15663578 | ... S9: =Annotation!AB27-Annotation!$J27 -> 26733443
A10: Alanine | B10: =Annotation!K100-Annotation!$J100 -> 1240113 | C10: =Annotation!L100-Annotation!$J100 -> 1348705 | D10: =Annotation!M100-Annotation!$J100 -> 1344492 | E10: =Annotation!N100-Annotation!$J100 -> 1120152 | F10: =Annotation!O100-Annotation!$J100 -> 1140764 | G10: =Annotation!P100-Annotation!$J100 -> 1214784 | H10: =Annotation!Q100-Annotation!$J100 -> 9849222 | I10: =Annotation!R100-Annotation!$J100 -> 10052331 | ... S10: =Annotation!AB100-Annotation!$J100 -> 8081377
A11: Aminomalonic acid | B11: =Annotation!K38-Annotation!$J38 -> 103738 | C11: =Annotation!L38-Annotation!$J38 -> 98568 | D11: =Annotation!M38-Annotation!$J38 -> 104764 | E11: =Annotation!N38-Annotation!$J38 -> 79676 | F11: =Annotation!O38-Annotation!$J38 -> 88599 | G11: =Annotation!P38-Annotation!$J38 -> 74426 | H11: =Annotation!Q38-Annotation!$J38 -> 323285 | I11: =Annotation!R38-Annotation!$J38 -> 359547 | ... S11: =Annotation!AB38-Annotation!$J38 -> 234733
A12: AMP | B12: =Annotation!K90-Annotation!$J90 -> 0 | C12: =Annotation!L90-Annotation!$J90 -> 0 | D12: =Annotation!M90-Annotation!$J90 -> 0 | E12: =Annotation!N90-Annotation!$J90 -> 239025 | F12: =Annotation!O90-Annotation!$J90 -> 267331 | G12: =Annotation!P90-Annotation!$J90 -> 232787 | H12: =Annotation!Q90-Annotation!$J90 -> 103259 | I12: =Annotation!R90-Annotation!$J90 -> 141094 | ... S12: =Annotation!AB90-Annotation!$J90 -> 1022950
A13: Asparagine | B13: 0 | C13: 0 | D13: 0 | E13: 0 | F13: 0 | G13: 0 | H13: 2614506 | I13: 2476377 | J13: 1664439 | K13: 2506178 | L13: 2704519 | M13: 2473423 | N13: 0 | O13: 0 | P13: 0 | Q13: 5747423 | R13: 4221708 | S13: 3625330
A14: Aspartate | B14: 1612508 | C14: 1558850 | D14: 1385142 | E14: 1701586 | F14: 1732700 | G14: 1671059 | H14: 10395004 | I14: 11063097 | J14: 13206056 | K14: 20592902 | L14: 16321902 | M14: 17170005 | N14: 2656792 | O14: 2470413 | P14: 2593409 | Q14: 29147621 | R14: 29706150 | S14: 22058203
A15: Citrate | B15: =Annotation!K57-Annotation!$J57 -> 1660358 | C15: =Annotation!L57-Annotation!$J57 -> 1616927 | D15: =Annotation!M57-Annotation!$J57 -> 1656251 | E15: =Annotation!N57-Annotation!$J57 -> 0 | F15: =Annotation!O57-Annotation!$J57 -> 0 | G15: =Annotation!P57-Annotation!$J57 -> 0 | H15: =Annotation!Q57-Annotation!$J57 -> 15822517 | I15: =Annotation!R57-Annotation!$J57 -> 16466140 | ... S15: =Annotation!AB57-Annotation!$J57 -> 17644981
A16: Citrulline | B16: 0 | C16: 0 | D16: 0 | E16: 0 | F16: 0 | G16: 0 | H16: 646722 | I16: 489185 | J16: 430925 | K16: 1240232 | L16: 1092461 | M16: 928982 | N16: 0 | O16: 0 | P16: 0 | Q16: 1747077 | R16: 1513357 | S16: 1394918
A17: Cystathionine | B17: 0 | C17: 0 | D17: 0 | E17: 683361 | F17: 731109 | G17: 599487 | H17: 629448 | I17: 591936 | J17: 617625 | K17: 4603533 | L17: 4104433 | M17: 3878159 | N17: 0 | O17: 0 | P17: 0 | Q17: 4904258 | R17: 2801080 | S17: 5643725
A18: Cysteine | B18: =Annotation!K29-Annotation!$J29 -> 0 | C18: =Annotation!L29-Annotation!$J29 -> 0 | D18: =Annotation!M29-Annotation!$J29 -> 0 | E18: =Annotation!N29-Annotation!$J29 -> 59999 | F18: 67354 | G18: =Annotation!P29-Annotation!$J29 -> 0 | H18: =Annotation!Q29-Annotation!$J29 -> 456627 | I18: =Annotation!R29-Annotation!$J29 -> 484930 | J18: =Annotation!S29-Annotation!$J29 -> 321415 | K18: =Annotation!T29-Annotation!$J29 -> 378764 | L18: =Annotation!U29-Annotation!$J29 -> 342304 | M18: =Annotation!V29-Annotation!$J29 -> 236397 | N18: =Annotation!W29-Annotation!$J29 -> 130368 | ... S18: =Annotation!AB29-Annotation!$J29 -> 860080
A19: D-Glycero-D-gulo-Heptose | B19: =Annotation!K76-Annotation!$J76 -> 0 | C19: =Annotation!L76-Annotation!$J76 -> 0 | D19: =Annotation!M76-Annotation!$J76 -> 0 | E19: =Annotation!N76-Annotation!$J76 -> 1177725 | F19: =Annotation!O76-Annotation!$J76 -> 1042585 | G19: =Annotation!P76-Annotation!$J76 -> 904145 | H19: =Annotation!Q76-Annotation!$J76 -> 2052242 | I19: =Annotation!R76-Annotation!$J76 -> 2213331 | ... S19: =Annotation!AB76-Annotation!$J76 -> 3394843
A20: Ergosterol | B20: =Annotation!K105-Annotation!$J105 -> 32485419 | C20: =Annotation!L105-Annotation!$J105 -> 33921566 | D20: =Annotation!M105-Annotation!$J105 -> 29396588 | E20: =Annotation!N105-Annotation!$J105 -> 29428423 | F20: =Annotation!O105-Annotation!$J105 -> 28240000 | G20: =Annotation!P105-Annotation!$J105 -> 24866968 | H20: =Annotation!Q105-Annotation!$J105 -> 2013030 | I20: =Annotation!R105-Annotation!$J105 -> 2139074 | ... S20: =Annotation!AB105-Annotation!$J105 -> 433329
A21: Fructose | B21: =Annotation!K66-Annotation!$J66 -> 0 | C21: =Annotation!L66-Annotation!$J66 -> 0 | D21: =Annotation!M66-Annotation!$J66 -> 0 | E21: =Annotation!N66-Annotation!$J66 -> 0 | F21: =Annotation!O66-Annotation!$J66 -> 0 | G21: =Annotation!P66-Annotation!$J66 -> 0 | H21: =Annotation!Q66-Annotation!$J66 -> 183966 | I21: =Annotation!R66-Annotation!$J66 -> 0 | ... S21: =Annotation!AB66-Annotation!$J66 -> 0
A22: Fumarate | B22: =Annotation!K104-Annotation!$J104 -> 25492.333 | C22: =Annotation!L104-Annotation!$J104 -> 21456.333 | D22: =Annotation!M104-Annotation!$J104 -> 24493.333 | E22: =Annotation!N104-Annotation!$J104 -> 6609.3333 | F22: =Annotation!O104-Annotation!$J104 -> 6034.3333 | G22: =Annotation!P104-Annotation!$J104 -> 5539.3333 | H22: =Annotation!Q104-Annotation!$J104 -> 76316.333 | I22: =Annotation!R104-Annotation!$J104 -> 75518.333 | ... S22: =Annotation!AB104-Annotation!$J104 -> 164730.33
A23: Galactinol | B23: =Annotation!K43-Annotation!$J43 -> 0 | C23: =Annotation!L43-Annotation!$J43 -> 0 | D23: =Annotation!M43-Annotation!$J43 -> 0 | E23: =Annotation!N43-Annotation!$J43 -> 0 | F23: =Annotation!O43-Annotation!$J43 -> 0 | G23: =Annotation!P43-Annotation!$J43 -> 0 | H23: =Annotation!Q43-Annotation!$J43 -> 724501 | I23: =Annotation!R43-Annotation!$J43 -> 802955 | ... S23: =Annotation!AB43-Annotation!$J43 -> 587230
A24: Gluconic acid | B24: =Annotation!K72-Annotation!$J72 -> 0 | C24: =Annotation!L72-Annotation!$J72 -> 0 | D24: =Annotation!M72-Annotation!$J72 -> 0 | E24: =Annotation!N72-Annotation!$J72 -> 0 | F24: =Annotation!O72-Annotation!$J72 -> 0 | G24: =Annotation!P72-Annotation!$J72 -> 0 | H24: =Annotation!Q72-Annotation!$J72 -> 527485 | I24: =Annotation!R72-Annotation!$J72 -> 544610 | ... S24: =Annotation!AB72-Annotation!$J72 -> 1413636
A25: Glucose | B25: =Annotation!K49-Annotation!$J49 -> 978273 | C25: =Annotation!L49-Annotation!$J49 -> 965272 | D25: =Annotation!M49-Annotation!$J49 -> 984473 | E25: =Annotation!N49-Annotation!$J49 -> 2283778 | F25: =Annotation!O49-Annotation!$J49 -> 2453966 | G25: =Annotation!P49-Annotation!$J49 -> 2215504 | H25: =Annotation!Q49-Annotation!$J49 -> 16048346 | I25: =Annotation!R49-Annotation!$J49 -> 16925041 | ... S25: =Annotation!AB49-Annotation!$J49 -> 2483859
A26: Mannose-6P | B26: 0 | C26: 0 | D26: 0 | E26: 0 | F26: 0 | G26: 0 | H26: 167863 | I26: 172227 | J26: 168113 | K26: 646482 | L26: 794653 | M26: 663229 | N26: 0 | O26: 0 | P26: 0 | Q26: 515588 | R26: 773843 | S26: 686076
A27: Glutamate | B27: 2827826 | C27: 2672609 | D27: 2893811 | E27: 2093163 | F27: 2721261 | G27: 2660659 | H27: 33837291 | I27: 33846563 | J27: 30484670 | K27: 41354195 | L27: 37617900 | M27: 38295917 | N27: 7826207 | O27: 7607150 | P27: 7598337 | Q27: 122150412 | R27: 104249910 | S27: 117414533
A28: Glutamine | B28: 0 | C28: 0 | D28: 0 | E28: 0 | F28: 0 | G28: 0 | H28: 0 | I28: 0 | J28: 0 | K28: 487973 | L28: 482659 | M28: 660112 | N28: 0 | O28: 0 | P28: 0 | Q28: 1562808 | R28: 2486127 | S28: 2225064
A29: Glyceric acid | B29: 16748 | C29: 25752 | D29: 20974 | E29: 33263 | F29: 38978 | G29: 33528 | H29: =Annotation!Q97-Annotation!$J97 -> 237934 | I29: =Annotation!R97-Annotation!$J97 -> 226906 | J29: =Annotation!S97-Annotation!$J97 -> 288271 | K29: =Annotation!T97-Annotation!$J97 -> 471528 | L29: =Annotation!U97-Annotation!$J97 -> 401053 | M29: =Annotation!V97-Annotation!$J97 -> 421701 | N29: 67645 | O29: =Annotation!X97-Annotation!$J97 -> 70978 | P29: 63216 | Q29: =Annotation!Z97-Annotation!$J97 -> 1081849 | R29: =Annotation!AA97-Annotation!$J97 -> 1047643 | S29: =Annotation!AB97-Annotation!$J97 -> 1063483
A30: Glycerol | B30: =Annotation!K3-Annotation!$J3 -> 17626.333 | C30: =Annotation!L3-Annotation!$J3 -> 23665.333 | D30: =Annotation!M3-Annotation!$J3 -> 26770.333 | E30: =Annotation!N3-Annotation!$J3 -> 8387.3333 | F30: =Annotation!O3-Annotation!$J3 -> 10503.333 | G30: =Annotation!P3-Annotation!$J3 -> 11063.333 | H30: =Annotation!Q3-Annotation!$J3 -> 349770.33 | I30: =Annotation!R3-Annotation!$J3 -> 369126.33 | ... S30: =Annotation!AB3-Annotation!$J3 -> 119526.33
A31: Glycerolphosphate | B31: =Annotation!K35-Annotation!$J35 -> 1804068 | C31: =Annotation!L35-Annotation!$J35 -> 1840094 | D31: =Annotation!M35-Annotation!$J35 -> 2064313 | E31: =Annotation!N35-Annotation!$J35 -> 3252666 | F31: =Annotation!O35-Annotation!$J35 -> 3322577 | G31: =Annotation!P35-Annotation!$J35 -> 3351685 | H31: =Annotation!Q35-Annotation!$J35 -> 2219296 | I31: =Annotation!R35-Annotation!$J35 -> 2107548 | ... S31: =Annotation!AB35-Annotation!$J35 -> 2387774
A32: Glycine | B32: 1519916 | C32: 1469567 | D32: 1568427 | E32: 586566 | F32: 588041 | G32: 482508 | H32: 15316986 | I32: 12602055 | J32: 5128626 | K32: 15472043 | L32: 10190377 | M32: 6377931 | N32: 1403603 | O32: 1492866 | P32: 979191 | Q32: 25375797 | R32: 23035733 | S32: 20179374
A33: Glycolic acid | B33: =Annotation!K92-Annotation!$J92 -> 220127.33 | C33: =Annotation!L92-Annotation!$J92 -> 230204.33 | D33: =Annotation!M92-Annotation!$J92 -> 222478.33 | E33: =Annotation!N92-Annotation!$J92 -> 176362.33 | F33: =Annotation!O92-Annotation!$J92 -> 160952.33 | G33: =Annotation!P92-Annotation!$J92 -> 159422.33 | H33: =Annotation!Q92-Annotation!$J92 -> 911464.33 | I33: =Annotation!R92-Annotation!$J92 -> 1187310.3 | ... S33: =Annotation!AB92-Annotation!$J92 -> 1580806.3
A34: Histidine | B34: =Annotation!K33-Annotation!$J33 -> 0 | C34: =Annotation!L33-Annotation!$J33 -> 0 | D34: =Annotation!M33-Annotation!$J33 -> 0 | E34: =Annotation!N33-Annotation!$J33 -> 0 | F34: =Annotation!O33-Annotation!$J33 -> 0 | G34: =Annotation!P33-Annotation!$J33 -> 0 | H34: =Annotation!Q33-Annotation!$J33 -> 0 | I34: =Annotation!R33-Annotation!$J33 -> 0 | ... S34: =Annotation!AB33-Annotation!$J33 -> 5397789
A35: Homocysteine | B35: =Annotation!K84-Annotation!$J84 -> 0 | C35: =Annotation!L84-Annotation!$J84 -> 0 | D35: =Annotation!M84-Annotation!$J84 -> 0 | E35: =Annotation!N84-Annotation!$J84 -> 0 | F35: =Annotation!O84-Annotation!$J84 -> 0 | G35: =Annotation!P84-Annotation!$J84 -> 0 | H35: =Annotation!Q84-Annotation!$J84 -> 0 | I35: =Annotation!R84-Annotation!$J84 -> 0 | ... S35: =Annotation!AB84-Annotation!$J84 -> 0
A36: Homoserine | B36: 0 | C36: 0 | D36: 0 | E36: 0 | F36: 0 | G36: 0 | H36: 68277 | I36: 32286 | J36: 23968 | K36: 97267 | L36: 95572 | M36: 73751 | N36: 0 | O36: 0 | P36: 0 | Q36: 76565 | R36: 82727 | S36: 79694
A37: Hydroxybutyric acid | B37: =Annotation!K95-Annotation!$J95 -> 0 | C37: =Annotation!L95-Annotation!$J95 -> 0 | D37: =Annotation!M95-Annotation!$J95 -> 0 | E37: =Annotation!N95-Annotation!$J95 -> 0 | F37: =Annotation!O95-Annotation!$J95 -> 0 | G37: =Annotation!P95-Annotation!$J95 -> 0 | H37: =Annotation!Q95-Annotation!$J95 -> 84602 | I37: =Annotation!R95-Annotation!$J95 -> 73065 | ... S37: =Annotation!AB95-Annotation!$J95 -> 134175
A38: Hydroxyglutaric acid | B38: 19031 | C38: 18266 | D38: 19385 | E38: 2703 | F38: 5008 | G38: 5024 | H38: 219141 | I38: 226873 | J38: 230113 | K38: 47658 | L38: 47822 | M38: 45892 | N38: 7216 | O38: 7197 | P38: 6909 | Q38: 36909 | R38: 39877 | S38: 36829
A39: Isoleucine | B39: =Annotation!K85-Annotation!$J85 -> 0 | C39: =Annotation!L85-Annotation!$J85 -> 0 | D39: =Annotation!M85-Annotation!$J85 -> 29865 | E39: =Annotation!N85-Annotation!$J85 -> 0 | F39: =Annotation!O85-Annotation!$J85 -> 0 | G39: =Annotation!P85-Annotation!$J85 -> 108125 | H39: =Annotation!Q85-Annotation!$J85 -> 1506606 | I39: =Annotation!R85-Annotation!$J85 -> 1686991 | ... S39: =Annotation!AB85-Annotation!$J85 -> 6164768
A40: Isopropylmalate | B40: =Annotation!K68-Annotation!$J68 -> 0 | C40: =Annotation!L68-Annotation!$J68 -> 0 | D40: =Annotation!M68-Annotation!$J68 -> 86295 | E40: =Annotation!N68-Annotation!$J68 -> 170378 | F40: =Annotation!O68-Annotation!$J68 -> 190006 | G40: =Annotation!P68-Annotation!$J68 -> 213728 | H40: =Annotation!Q68-Annotation!$J68 -> 1629472 | I40: =Annotation!R68-Annotation!$J68 -> 2009267 | ... S40: =Annotation!AB68-Annotation!$J68 -> 8509261
A41: Lactate | B41: =Annotation!K47-Annotation!$J47 -> 675530 | C41: =Annotation!L47-Annotation!$J47 -> 692682 | D41: =Annotation!M47-Annotation!$J47 -> 722923 | E41: =Annotation!N47-Annotation!$J47 -> 83890 | F41: 0 | G41: 0 | H41: =Annotation!Q47-Annotation!$J47 -> 18610835 | I41: =Annotation!R47-Annotation!$J47 -> 21359116 | J41: =Annotation!S47-Annotation!$J47 -> 20125821 | K41: =Annotation!T47-Annotation!$J47 -> 1108877 | L41: =Annotation!U47-Annotation!$J47 -> 925727 | M41: =Annotation!V47-Annotation!$J47 -> 906816 | N41: =Annotation!W47-Annotation!$J47 -> 137181 | O41: =Annotation!X47-Annotation!$J47 -> 214143 | ... S41: =Annotation!AB47-Annotation!$J47 -> 386950
A42: Lanosterol | B42: =Annotation!K75-Annotation!$J75 -> 4228529 | C42: =Annotation!L75-Annotation!$J75 -> 4456598 | D42: =Annotation!M75-Annotation!$J75 -> 3819032 | E42: =Annotation!N75-Annotation!$J75 -> 3974434 | F42: =Annotation!O75-Annotation!$J75 -> 4521222 | G42: =Annotation!P75-Annotation!$J75 -> 3608725 | H42: =Annotation!Q75-Annotation!$J75 -> 0 | I42: =Annotation!R75-Annotation!$J75 -> 326457 | ... S42: =Annotation!AB75-Annotation!$J75 -> 0
A43: Leucine | B43: =Annotation!K12-Annotation!$J12 -> 0 | C43: =Annotation!L12-Annotation!$J12 -> 97839 | D43: =Annotation!M12-Annotation!$J12 -> 126947 | E43: =Annotation!N12-Annotation!$J12 -> 116963 | F43: =Annotation!O12-Annotation!$J12 -> 129107 | G43: =Annotation!P12-Annotation!$J12 -> 175660 | H43: =Annotation!Q12-Annotation!$J12 -> 2851589 | I43: =Annotation!R12-Annotation!$J12 -> 3432509 | ... S43: =Annotation!AB12-Annotation!$J12 -> 8328882
A44: Lysine | B44: 6147443 | C44: 6544539 | D44: 7313079 | E44: 7374063 | F44: 6595763 | G44: 6840414 | H44: 10875065 | I44: 14117819 | J44: 17787755 | K44: 9342949 | L44: 9935325 | M44: 9878922 | N44: 10870052 | O44: 8725190 | P44: 10287032 | Q44: 7257676 | R44: 8143931 | S44: 8292526
A45: Malate | B45: =Annotation!K80-Annotation!$J80 -> 247942 | C45: =Annotation!L80-Annotation!$J80 -> 235373 | D45: =Annotation!M80-Annotation!$J80 -> 247625 | E45: =Annotation!N80-Annotation!$J80 -> 0 | F45: =Annotation!O80-Annotation!$J80 -> 0 | G45: =Annotation!P80-Annotation!$J80 -> 0 | H45: =Annotation!Q80-Annotation!$J80 -> 1183534 | I45: =Annotation!R80-Annotation!$J80 -> 1221023 | ... S45: =Annotation!AB80-Annotation!$J80 -> 8053428
A46: Methionine | B46: =Annotation!K34-Annotation!$J34 -> 0 | C46: =Annotation!L34-Annotation!$J34 -> 0 | D46: =Annotation!M34-Annotation!$J34 -> 0 | E46: =Annotation!N34-Annotation!$J34 -> 0 | F46: =Annotation!O34-Annotation!$J34 -> 0 | G46: =Annotation!P34-Annotation!$J34 -> 0 | H46: =Annotation!Q34-Annotation!$J34 -> 139299 | I46: =Annotation!R34-Annotation!$J34 -> 0 | ... S46: =Annotation!AB34-Annotation!$J34 -> 981479
A47: Methionine sulfoxide | B47: =Annotation!K101-Annotation!$J101 -> 0 | C47: =Annotation!L101-Annotation!$J101 -> 0 | D47: =Annotation!M101-Annotation!$J101 -> 0 | E47: =Annotation!N101-Annotation!$J101 -> 0 | F47: =Annotation!O101-Annotation!$J101 -> 0 | G47: =Annotation!P101-Annotation!$J101 -> 0 | H47: =Annotation!Q101-Annotation!$J101 -> 0 | I47: =Annotation!R101-Annotation!$J101 -> 0 | ... S47: =Annotation!AB101-Annotation!$J101 -> 0
A48: Monopalmitin | B48: =Annotation!K60-Annotation!$J60 -> 87393 | C48: =Annotation!L60-Annotation!$J60 -> 98995 | D48: =Annotation!M60-Annotation!$J60 -> 126090 | E48: =Annotation!N60-Annotation!$J60 -> 137673 | F48: =Annotation!O60-Annotation!$J60 -> 162882 | G48: =Annotation!P60-Annotation!$J60 -> 175576 | H48: =Annotation!Q60-Annotation!$J60 -> 0 | I48: =Annotation!R60-Annotation!$J60 -> 0 | ... S48: =Annotation!AB60-Annotation!$J60 -> 0
A49: Myo-Inositol | B49: =Annotation!K30-Annotation!$J30 -> 2289792 | C49: =Annotation!L30-Annotation!$J30 -> 2274001 | D49: =Annotation!M30-Annotation!$J30 -> 2548488 | E49: =Annotation!N30-Annotation!$J30 -> 7821308 | F49: =Annotation!O30-Annotation!$J30 -> 7802137 | G49: =Annotation!P30-Annotation!$J30 -> 7802447 | H49: =Annotation!Q30-Annotation!$J30 -> 4399383 | I49: =Annotation!R30-Annotation!$J30 -> 4530467 | ... S49: =Annotation!AB30-Annotation!$J30 -> 11410756
A50: Myo-Inositol-P | B50: 473873 | C50: 743078 | D50: 379729 | E50: 420167 | F50: 652013 | G50: 461550 | H50: 0 | I50: 0 | J50: 0 | K50: 0 | L50: 0 | M50: 0 | N50: 590970 | O50: 367652 | P50: 657125 | Q50: 0 | R50: 0 | S50: 0
A51: Myristic acid | B51: =Annotation!K16-Annotation!$J16 -> 297532.33 | C51: =Annotation!L16-Annotation!$J16 -> 289728.33 | D51: =Annotation!M16-Annotation!$J16 -> 427227.33 | E51: =Annotation!N16-Annotation!$J16 -> 549821.33 | F51: =Annotation!O16-Annotation!$J16 -> 559606.33 | G51: =Annotation!P16-Annotation!$J16 -> 535834.33 | H51: =Annotation!Q16-Annotation!$J16 -> 105783.33 | I51: =Annotation!R16-Annotation!$J16 -> 86340.333 | ... K51: =Annotation!T16-Annotation!$J16 -> 157558.33 | L51: 0 | M51: =Annotation!V16-Annotation!$J16 -> 121023.33 | N51: =Annotation!W16-Annotation!$J16 -> 1333298.3 | O51: =Annotation!X16-Annotation!$J16 -> 1449411.3 | P51: =Annotation!Y16-Annotation!$J16 -> 1460519.3 | Q51: 0 | R51: 0 | S51: 0
A52: Nicotinic acid | B52: =Annotation!K13-Annotation!$J13 -> 150.33333 | C52: 0 | D52: =Annotation!M13-Annotation!$J13 -> 20444.333 | E52: =Annotation!N13-Annotation!$J13 -> 20988.333 | F52: =Annotation!O13-Annotation!$J13 -> 30245.333 | G52: =Annotation!P13-Annotation!$J13 -> 33836.333 | H52: =Annotation!Q13-Annotation!$J13 -> 237005.33 | I52: =Annotation!R13-Annotation!$J13 -> 237832.33 | J52: =Annotation!S13-Annotation!$J13 -> 264904.33 | K52: =Annotation!T13-Annotation!$J13 -> 622966.33 | ... S52: =Annotation!AB13-Annotation!$J13 -> 601239.33
A53: Oleic acid | B53: =Annotation!K58-Annotation!$J58 -> 7077409.7 | C53: =Annotation!L58-Annotation!$J58 -> 6919989.7 | D53: =Annotation!M58-Annotation!$J58 -> 7107112.7 | E53: =Annotation!N58-Annotation!$J58 -> 8744620.7 | F53: =Annotation!O58-Annotation!$J58 -> 8419598.7 | G53: =Annotation!P58-Annotation!$J58 -> 8564685.7 | H53: =Annotation!Q58-Annotation!$J58 -> 1528232.7 | I53: =Annotation!R58-Annotation!$J58 -> 1527604.7 | ... P53: =Annotation!Y58-Annotation!$J58 -> 6399712.7 | Q53: 0 | R53: 0 | S53: 0
A54: Ornithine | B54: =Annotation!K98-Annotation!$J98 -> 340683 | C54: =Annotation!L98-Annotation!$J98 -> 266205 | D54: =Annotation!M98-Annotation!$J98 -> 537905 | E54: =Annotation!N98-Annotation!$J98 -> 220047 | F54: =Annotation!O98-Annotation!$J98 -> 372560 | G54: =Annotation!P98-Annotation!$J98 -> 320840 | H54: =Annotation!Q98-Annotation!$J98 -> 5424501 | I54: =Annotation!R98-Annotation!$J98 -> 6747133 | ... S54: =Annotation!AB98-Annotation!$J98 -> 22518266
A55: Ornithine-1,5-lactam | B55: =Annotation!K70-Annotation!$J70 -> 0 | C55: =Annotation!L70-Annotation!$J70 -> 0 | D55: =Annotation!M70-Annotation!$J70 -> 0 | E55: =Annotation!N70-Annotation!$J70 -> 0 | F55: =Annotation!O70-Annotation!$J70 -> 0 | G55: =Annotation!P70-Annotation!$J70 -> 0 | H55: =Annotation!Q70-Annotation!$J70 -> 0 | I55: =Annotation!R70-Annotation!$J70 -> 0 | ... S55: =Annotation!AB70-Annotation!$J70 -> 0
A56: Orotic acid | B56: =Annotation!K102-Annotation!$J102 -> 1570802 | C56: =Annotation!L102-Annotation!$J102 -> 1504051 | D56: =Annotation!M102-Annotation!$J102 -> 1495597 | E56: =Annotation!N102-Annotation!$J102 -> 1441349 | F56: =Annotation!O102-Annotation!$J102 -> 1467733 | G56: =Annotation!P102-Annotation!$J102 -> 1523332 | H56: =Annotation!Q102-Annotation!$J102 -> 19324900 | I56: =Annotation!R102-Annotation!$J102 -> 20194556 | ... S56: =Annotation!AB102-Annotation!$J102 -> 33923500
A57: Palmitic acid | B57: =Annotation!K96-Annotation!$J96 -> 8296879 | C57: =Annotation!L96-Annotation!$J96 -> 8184825 | D57: =Annotation!M96-Annotation!$J96 -> 10365695 | E57: =Annotation!N96-Annotation!$J96 -> 14753982 | F57: =Annotation!O96-Annotation!$J96 -> 14984952 | G57: =Annotation!P96-Annotation!$J96 -> 14625710 | H57: =Annotation!Q96-Annotation!$J96 -> 1670714 | I57: =Annotation!R96-Annotation!$J96 -> 1869902 | ... S57: =Annotation!AB96-Annotation!$J96 -> 1115485
A58: Palmitoleic acid | B58: =Annotation!K14-Annotation!$J14 -> 13685402 | C58: =Annotation!L14-Annotation!$J14 -> 13707210 | D58: =Annotation!M14-Annotation!$J14 -> 14147454 | E58: =Annotation!N14-Annotation!$J14 -> 21456896 | F58: =Annotation!O14-Annotation!$J14 -> 21281698 | G58: =Annotation!P14-Annotation!$J14 -> 21094222 | H58: =Annotation!Q14-Annotation!$J14 -> 6223943 | I58: =Annotation!R14-Annotation!$J14 -> 6104791 | ... S58: =Annotation!AB14-Annotation!$J14 -> 3320825
A59: PEP | B59: 0 | C59: 0 | D59: 0 | E59: 0 | F59: 0 | G59: 0 | H59: 4299 | I59: 3823 | J59: 3892 | K59: 14007 | L59: 13726 | M59: 13611 | N59: 0 | O59: 0 | P59: 0 | Q59: 51110 | R59: 55550 | S59: 53261
A60: Phenylalanine | B60: 336607 | C60: 318385 | D60: 334208 | E60: 424323 | F60: 449412 | G60: 393301 | H60: 8263910 | I60: 7286553 | J60: 6878813 | K60: 8541685 | L60: 8250343 | M60: 7813467 | N60: 547092 | O60: 485972 | P60: 512919 | Q60: 16477503 | R60: 16447464 | S60: 11648941
A61: Phytosphingosine | B61: =Annotation!K82-Annotation!$J82 -> 251593 | C61: =Annotation!L82-Annotation!$J82 -> 350614 | D61: =Annotation!M82-Annotation!$J82 -> 277995 | E61: =Annotation!N82-Annotation!$J82 -> 282366 | F61: =Annotation!O82-Annotation!$J82 -> 333384 | G61: =Annotation!P82-Annotation!$J82 -> 304651 | H61: =Annotation!Q82-Annotation!$J82 -> 0 | I61: =Annotation!R82-Annotation!$J82 -> 0 | ... S61: =Annotation!AB82-Annotation!$J82 -> 0
A62: Porphine | B62: =Annotation!K86-Annotation!$J86 -> 2081540.7 | C62: =Annotation!L86-Annotation!$J86 -> 2024172.7 | D62: =Annotation!M86-Annotation!$J86 -> 2318505.7 | E62: =Annotation!N86-Annotation!$J86 -> 2136281.7 | F62: =Annotation!O86-Annotation!$J86 -> 2102063.7 | G62: =Annotation!P86-Annotation!$J86 -> 2230531.7 | H62: =Annotation!Q86-Annotation!$J86 -> 508703.67 | I62: =Annotation!R86-Annotation!$J86 -> 481266.67 | ... S62: =Annotation!AB86-Annotation!$J86 -> 578053.67
A63: Proline | B63: =Annotation!K17-Annotation!$J17 -> 217440 | C63: =Annotation!L17-Annotation!$J17 -> 150582 | D63: =Annotation!M17-Annotation!$J17 -> 108333 | E63: =Annotation!N17-Annotation!$J17 -> 131120 | F63: =Annotation!O17-Annotation!$J17 -> 170667 | G63: =Annotation!P17-Annotation!$J17 -> 141599 | H63: =Annotation!Q17-Annotation!$J17 -> 328672 | I63: =Annotation!R17-Annotation!$J17 -> 157704 | ... S63: =Annotation!AB17-Annotation!$J17 -> 359773
A64: Pyroglutamate | B64: =Annotation!K87-Annotation!$J87 -> 915988 | C64: =Annotation!L87-Annotation!$J87 -> 984146 | D64: =Annotation!M87-Annotation!$J87 -> 1271498 | E64: =Annotation!N87-Annotation!$J87 -> 1143681 | F64: =Annotation!O87-Annotation!$J87 -> 1085601 | G64: =Annotation!P87-Annotation!$J87 -> 1137237 | H64: =Annotation!Q87-Annotation!$J87 -> 8474510 | I64: =Annotation!R87-Annotation!$J87 -> 10519213 | ... S64: =Annotation!AB87-Annotation!$J87 -> 38890751
A65: Pyrophosphate | B65: =Annotation!K32-Annotation!$J32 -> 7763293 | C65: =Annotation!L32-Annotation!$J32 -> 7680324 | D65: =Annotation!M32-Annotation!$J32 -> 7829876 | E65: =Annotation!N32-Annotation!$J32 -> 9334797 | F65: =Annotation!O32-Annotation!$J32 -> 10739241 | G65: =Annotation!P32-Annotation!$J32 -> 11189414 | H65: =Annotation!Q32-Annotation!$J32 -> 23471346 | I65: =Annotation!R32-Annotation!$J32 -> 19102027 | ... S65: =Annotation!AB32-Annotation!$J32 -> 2962807
A66: Pyruvate | B66: =Annotation!K54-Annotation!$J54 -> 193671 | C66: =Annotation!L54-Annotation!$J54 -> 206783 | D66: =Annotation!M54-Annotation!$J54 -> 218463 | E66: =Annotation!N54-Annotation!$J54 -> 7997 | F66: =Annotation!O54-Annotation!$J54 -> 19104 | G66: =Annotation!P54-Annotation!$J54 -> 24205 | H66: =Annotation!Q54-Annotation!$J54 -> 951630 | I66: =Annotation!R54-Annotation!$J54 -> 1060251 | ... S66: =Annotation!AB54-Annotation!$J54 -> 1019268
A67: Ribose | B67: =Annotation!K71-Annotation!$J71 -> 26078 | C67: =Annotation!L71-Annotation!$J71 -> 0 | D67: =Annotation!M71-Annotation!$J71 -> 59147 | E67: =Annotation!N71-Annotation!$J71 -> 40708 | F67: =Annotation!O71-Annotation!$J71 -> 0 | G67: =Annotation!P71-Annotation!$J71 -> 49575 | H67: =Annotation!Q71-Annotation!$J71 -> 171697 | I67: =Annotation!R71-Annotation!$J71 -> 307574 | ... S67: =Annotation!AB71-Annotation!$J71 -> 376861
A68: Serine | B68: 778061 | C68: 777369 | D68: 732118 | E68: 770217 | F68: 771214 | G68: 812756 | H68: 8141880 | I68: 7568729 | J68: 7256817 | K68: 6445933 | L68: 5761127 | M68: 5448772 | N68: 1147458 | O68: 1213887 | P68: 824697 | Q68: 14312744 | R68: 15121585 | S68: 14413266
A69: Squalene | B69: 617829 | C69: 705892 | D69: 642915 | E69: 2002226 | F69: 2186741 | G69: 2050424 | H69: 0 | I69: 0 | J69: 0 | K69: 0 | L69: 0 | M69: 0 | N69: 949970 | O69: 1452176 | P69: 1185767 | Q69: 0 | R69: 0 | S69: 0
A70: Succinate | B70: 32062 | C70: 33938 | D70: 32991 | E70: 46623 | F70: 47326 | G70: 47406 | H70: 349059 | I70: 360001 | J70: 354326 | K70: 609366 | L70: 603443 | M70: 576693 | N70: 15565 | O70: 15448 | P70: 15389 | Q70: 191454 | R70: 193239 | S70: 190524
A71: Threonine | B71: 1340678 | C71: 1247963 | D71: 1354730 | E71: 1544409 | F71: 1567190 | G71: 1510021 | H71: 10877973 | I71: 10807075 | J71: 9360775 | K71: 10791950 | L71: 9834977 | M71: 8841987 | N71: 2177901 | O71: 1774576 | P71: 1780319 | Q71: 11868509 | R71: 7030220 | S71: 6545937
A72: Trehalose | B72: =Annotation!K99-Annotation!$J99 -> 1798667 | C72: =Annotation!L99-Annotation!$J99 -> 1887895 | D72: =Annotation!M99-Annotation!$J99 -> 1767760 | E72: =Annotation!N99-Annotation!$J99 -> 8904806 | F72: =Annotation!O99-Annotation!$J99 -> 9217759 | G72: =Annotation!P99-Annotation!$J99 -> 8268312 | H72: =Annotation!Q99-Annotation!$J99 -> 26017066 | I72: =Annotation!R99-Annotation!$J99 -> 27872909 | ... S72: =Annotation!AB99-Annotation!$J99 -> 7386802
A73: Tyrosine | B73: =Annotation!K59-Annotation!$J59 -> 261717 | C73: =Annotation!L59-Annotation!$J59 -> 213877 | D73: =Annotation!M59-Annotation!$J59 -> 207878 | E73: =Annotation!N59-Annotation!$J59 -> 281402 | F73: =Annotation!O59-Annotation!$J59 -> 313068 | G73: =Annotation!P59-Annotation!$J59 -> 235051 | H73: =Annotation!Q59-Annotation!$J59 -> 10272288 | I73: =Annotation!R59-Annotation!$J59 -> 10545063 | ... S73: =Annotation!AB59-Annotation!$J59 -> 25079589
A74: Uracil | B74: =Annotation!K74-Annotation!$J74 -> 78891 | C74: =Annotation!L74-Annotation!$J74 -> 53592 | D74: =Annotation!M74-Annotation!$J74 -> 41772 | E74: =Annotation!N74-Annotation!$J74 -> 16803 | F74: =Annotation!O74-Annotation!$J74 -> 13384 | G74: =Annotation!P74-Annotation!$J74 -> 10725 | H74: =Annotation!Q74-Annotation!$J74 -> 1162621 | I74: =Annotation!R74-Annotation!$J74 -> 994386 | ... S74: =Annotation!AB74-Annotation!$J74 -> 4036777
A75: Uridine | B75: =Annotation!K55-Annotation!$J55 -> 0 | C75: =Annotation!L55-Annotation!$J55 -> 0 | D75: =Annotation!M55-Annotation!$J55 -> 0 | E75: =Annotation!N55-Annotation!$J55 -> 0 | F75: =Annotation!O55-Annotation!$J55 -> 0 | G75: =Annotation!P55-Annotation!$J55 -> 0 | H75: =Annotation!Q55-Annotation!$J55 -> 2680603 | I75: =Annotation!R55-Annotation!$J55 -> 3809420 | ... S75: =Annotation!AB55-Annotation!$J55 -> 15176874
A76: Valine | B76: 429898 | C76: 459012 | D76: 470593 | E76: 712547 | F76: 789159 | G76: 798698 | H76: 5164297 | I76: 5346868 | J76: 5795724 | K76: 7699149 | L76: 8182344 | M76: 8092459 | N76: 816553 | O76: 890803 | P76: 738682 | Q76: 12491770 | R76: 13135643 | S76: 12064407

Sheet Intern Norm
A1: Internal standard normalisation of data matrix
A2: Name | B2: Mito_atp4_1 | C2: Mito_atp4_2 | D2: Mito_atp4_3 | E2: Mito_sdh2_1 | F2: Mito_sdh2_2 | G2: Mito_sdh2_3 | H2: Cyto_atp4_1 | I2: Cyto_atp4_2 | J2: Cyto_atp4_3 | K2: Cyto_sdh2_1 | L2: Cyto_sdh2_2 | M2: Cyto_sdh2_3 | N2: Mito_WT_1 | O2: Mito_WT_2 | P2: Mito_WT_3 | Q2: Cyto_WT_1 | R2: Cyto_WT_2 | S2: Cyto_WT_3
A3: 1-Methyl nicotinamide | B3: =Summary!B3/'Blank substraction'!B$93 -> 0.00028521592 | C3: =Summary!C3/'Blank substraction'!C$93 -> 0.00026194587 | D3: =Summary!D3/'Blank substraction'!D$93 -> 0.00031969962 | E3: =Summary!E3/'Blank substraction'!E$93 -> 0.0025790097 | F3: =Summary!F3/'Blank substraction'!F$93 -> 0.0026881335 | G3: =Summary!G3/'Blank substraction'!G$93 -> 0.0025937899 | H3: =Summary!H3/'Blank substraction'!H$93 -> 0.0052220109 | I3: =Summary!I3/'Blank substraction'!I$93 -> 0.0052052675 | ... S3: =Summary!S3/'Blank substraction'!S$93 -> 0.0056013663
A4: 2-Ketoglutarate | B4: =Summary!B4/'Blank substraction'!B$93 -> 0 | C4: =Summary!C4/'Blank substraction'!C$93 -> 0 | D4: =Summary!D4/'Blank substraction'!D$93 -> 0 | E4: =Summary!E4/'Blank substraction'!E$93 -> 0 | F4: =Summary!F4/'Blank substraction'!F$93 -> 0 | G4: =Summary!G4/'Blank substraction'!G$93 -> 0 | H4: =Summary!H4/'Blank substraction'!H$93 -> 0.0012896332 | I4: =Summary!I4/'Blank substraction'!I$93 -> 0.0012527205 | ... S4: =Summary!S4/'Blank substraction'!S$93 -> 0.0011481048
A5: 2-Phosphoglycerate | B5: =Summary!B5/'Blank substraction'!B$93 -> 0 | C5: =Summary!C5/'Blank substraction'!C$93 -> 0 | D5: =Summary!D5/'Blank substraction'!D$93 -> 0 | E5: =Summary!E5/'Blank substraction'!E$93 -> 0 | F5: =Summary!F5/'Blank substraction'!F$93 -> 0 | G5: =Summary!G5/'Blank substraction'!G$93 -> 0 | H5: =Summary!H5/'Blank substraction'!H$93 -> 0 | I5: =Summary!I5/'Blank substraction'!I$93 -> 0 | ... S5: =Summary!S5/'Blank substraction'!S$93 -> 0.023406322
A6: 3-Phosphoglycerate | B6: =Summary!B6/'Blank substraction'!B$93 -> 0 | C6: =Summary!C6/'Blank substraction'!C$93 -> 0 | D6: =Summary!D6/'Blank substraction'!D$93 -> 0 | E6: =Summary!E6/'Blank substraction'!E$93 -> 0.0049589537 | F6: =Summary!F6/'Blank substraction'!F$93 -> 0.0048627893 | G6: =Summary!G6/'Blank substraction'!G$93 -> 0.0056622347 | H6: =Summary!H6/'Blank substraction'!H$93 -> 0.065693011 | I6: =Summary!I6/'Blank substraction'!I$93 -> 0.051964659 | ... S6: =Summary!S6/'Blank substraction'!S$93 -> 0.52224037
A7: 14-Demethyllanosterol | B7: =Summary!B7/'Blank substraction'!B$93 -> 0.030240008 | C7: =Summary!C7/'Blank substraction'!C$93 -> 0.034676406 | D7: =Summary!D7/'Blank substraction'!D$93 -> 0.025177534 | E7: =Summary!E7/'Blank substraction'!E$93 -> 0.029598495 | F7: =Summary!F7/'Blank substraction'!F$93 -> 0.030356989 | G7: =Summary!G7/'Blank substraction'!G$93 -> 0.029442756 | H7: =Summary!H7/'Blank substraction'!H$93 -> 0 | I7: =Summary!I7/'Blank substraction'!I$93 -> 0 | ... S7: =Summary!S7/'Blank substraction'!S$93 -> 0
A8: Adenine | B8: =Summary!B8/'Blank substraction'!B$93 -> 0.0014143903 | C8: =Summary!C8/'Blank substraction'!C$93 -> 0.00065459424 | D8: =Summary!D8/'Blank substraction'!D$93 -> 0 | E8: =Summary!E8/'Blank substraction'!E$93 -> 0.0012195084 | F8: =Summary!F8/'Blank substraction'!F$93 -> 0 | G8: =Summary!G8/'Blank substraction'!G$93 -> 0 | H8: =Summary!H8/'Blank substraction'!H$93 -> 0.024542787 | I8: =Summary!I8/'Blank substraction'!I$93 -> 0.015967643 | ... S8: =Summary!S8/'Blank substraction'!S$93 -> 0.025505421
A9: Adenosine | B9: =Summary!B9/'Blank substraction'!B$93 -> 0.0066755835 | C9: =Summary!C9/'Blank substraction'!C$93 -> 0.0086143485 | D9: =Summary!D9/'Blank substraction'!D$93 -> 0.0083062232 | E9: =Summary!E9/'Blank substraction'!E$93 -> 0.008360663 | F9: =Summary!F9/'Blank substraction'!F$93 -> 0.0098818399 | G9: =Summary!G9/'Blank substraction'!G$93 -> 0.0091278062 | H9: =Summary!H9/'Blank substraction'!H$93 -> 2.0579018 | I9: =Summary!I9/'Blank substraction'!I$93 -> 2.0983944 | ... S9: =Summary!S9/'Blank substraction'!S$93 -> 1.8970761
A10: Alanine | B10: =Summary!B10/'Blank substraction'!B$93 -> 0.055188013 | C10: =Summary!C10/'Blank substraction'!C$93 -> 0.059147448 | D10: =Summary!D10/'Blank substraction'!D$93 -> 0.060319054 | E10: =Summary!E10/'Blank substraction'!E$93 -> 0.05355039 | F10: =Summary!F10/'Blank substraction'!F$93 -> 0.054529588 | G10: =Summary!G10/'Blank substraction'!G$93 -> 0.060333068 | H10: =Summary!H10/'Blank substraction'!H$93 -> 1.4018191 | I10: =Summary!I10/'Blank substraction'!I$93 -> 1.3466754 | ... S10: =Summary!S10/'Blank substraction'!S$93 -> 0.57347598
A11: Aminomalonic acid | B11: =Summary!B11/'Blank substraction'!B$93 -> 0.0046165906 | C11: =Summary!C11/'Blank substraction'!C$93 -> 0.0043226989 | D11: =Summary!D11/'Blank substraction'!D$93 -> 0.0047001138 | E11: =Summary!E11/'Blank substraction'!E$93 -> 0.0038090195 | F11: =Summary!F11/'Blank substraction'!F$93 -> 0.0042351152 | G11: =Summary!G11/'Blank substraction'!G$93 -> 0.0036964176 | H11: =Summary!H11/'Blank substraction'!H$93 -> 0.046012477 | I11: =Summary!I11/'Blank substraction'!I$93 -> 0.048167245 | ... S11: =Summary!S11/'Blank substraction'!S$93 -> 0.016657277
A12: AMP | B12: =Summary!B12/'Blank substraction'!B$93 -> 0 | C12: =Summary!C12/'Blank substraction'!C$93 -> 0 | D12: =Summary!D12/'Blank substraction'!D$93 -> 0 | E12: =Summary!E12/'Blank substraction'!E$93 -> 0.011426915 | F12: =Summary!F12/'Blank substraction'!F$93 -> 0.012778672 | G12: =Summary!G12/'Blank substraction'!G$93 -> 0.011561524 | H12: =Summary!H12/'Blank substraction'!H$93 -> 0.014696637 | I12: =Summary!I12/'Blank substraction'!I$93 -> 0.018901866 | ... S12: =Summary!S12/'Blank substraction'!S$93 -> 0.072591249
A13: Asparagine | B13: =Summary!B13/'Blank substraction'!B$93 -> 0 | C13: =Summary!C13/'Blank substraction'!C$93 -> 0 | D13: =Summary!D13/'Blank substraction'!D$93 -> 0 | E13: =Summary!E13/'Blank substraction'!E$93 -> 0 | F13: =Summary!F13/'Blank substraction'!F$93 -> 0 | G13: =Summary!G13/'Blank substraction'!G$93 -> 0 | H13: =Summary!H13/'Blank substraction'!H$93 -> 0.37211717 | I13: =Summary!I13/'Blank substraction'!I$93 -> 0.3317515 | ... S13: =Summary!S13/'Blank substraction'!S$93 -> 0.25726305
A14: Aspartate | B14: =Summary!B14/'Blank substraction'!B$93 -> 0.071760486 | C14: =Summary!C14/'Blank substraction'!C$93 -> 0.068363355 | D14: =Summary!D14/'Blank substraction'!D$93 -> 0.062142769 | E14: =Summary!E14/'Blank substraction'!E$93 -> 0.081346632 | F14: =Summary!F14/'Blank substraction'!F$93 -> 0.082824684 | G14: =Summary!G14/'Blank substraction'!G$93 -> 0.082994274 | H14: =Summary!H14/'Blank substraction'!H$93 -> 1.4794992 | I14: =Summary!I14/'Blank substraction'!I$93 -> 1.4820841 | ... S14: =Summary!S14/'Blank substraction'!S$93 -> 1.5653087
... A34: Histidine | B34: =Summary!B34/'Blank substraction'!B$93 -> 0 | C34: =Summary!C34/'Blank substraction'!C$93 -> 0 | D34: =Summary!D34/'Blank substraction'!D$93 -> 0 | E34: =Summary!E34/'Blank substraction'!E$93 -> 0 | F34: =Summary!F34/'Blank substraction'!F$93 -> 0 | G34: =Summary!G34/'Blank substraction'!G$93 -> 0 | H34: =Summary!H34/'Blank substraction'!H$93 -> 0 | I34: =Summary!I34/'Blank substraction'!I$93 -> 0 | ... S34: =Summary!S34/'Blank substraction'!S$93 -> 0.38304144
A35: Homoserine | B35: =Summary!B36/'Blank substraction'!B$93 -> 0 | C35: =Summary!C36/'Blank substraction'!C$93 -> 0 | D35: =Summary!D36/'Blank substraction'!D$93 -> 0 | E35: =Summary!E36/'Blank substraction'!E$93 -> 0 | F35: =Summary!F36/'Blank substraction'!F$93 -> 0 | G35: =Summary!G36/'Blank substraction'!G$93 -> 0 | H35: =Summary!H36/'Blank substraction'!H$93 -> 0.0097177225 | I35: =Summary!I36/'Blank substraction'!I$93 -> 0.0043252417 | ... S35: =Summary!S36/'Blank substraction'!S$93 -> 0.0056552979
A36: Hydroxybutyric acid | B36: =Summary!B37/'Blank substraction'!B$93 -> 0 | C36: =Summary!C37/'Blank substraction'!C$93 -> 0 | D36: =Summary!D37/'Blank substraction'!D$93 -> 0 | E36: =Summary!E37/'Blank substraction'!E$93 -> 0 | F36: =Summary!F37/'Blank substraction'!F$93 -> 0 | G36: =Summary!G37/'Blank substraction'!G$93 -> 0 | H36: =Summary!H37/'Blank substraction'!H$93 -> 0.012041226 | I36: =Summary!I37/'Blank substraction'!I$93 -> 0.0097882606 | ... S36: =Summary!S37/'Blank substraction'!S$93 -> 0.0095214144
A37: Hydroxyglutaric acid | B37: =Summary!B38/'Blank substraction'!B$93 -> 0.0008469253 | C37: =Summary!C38/'Blank substraction'!C$93 -> 0.00080105529 | D37: =Summary!D38/'Blank substraction'!D$93 -> 0.00086968526 | E37: =Summary!E38/'Blank substraction'!E$93 -> 0.00012922059 | F37: =Summary!F38/'Blank substraction'!F$93 -> 0.00023938709 | G37: =Summary!G38/'Blank substraction'!G$93 -> 0.00024952035 | H37: =Summary!H38/'Blank substraction'!H$93 -> 0.03118988 | I37: =Summary!I38/'Blank substraction'!I$93 -> 0.030393376 | ... S37: =Summary!S38/'Blank substraction'!S$93 -> 0.0026134837
A38: Isoleucine | B38: =Summary!B39/'Blank substraction'!B$93 -> 0 | C38: =Summary!C39/'Blank substraction'!C$93 -> 0 | D38: =Summary!D39/'Blank substraction'!D$93 -> 0.0013398581 | E38: =Summary!E39/'Blank substraction'!E$93 -> 0 | F38: =Summary!F39/'Blank substraction'!F$93 -> 0 | G38: =Summary!G39/'Blank substraction'!G$93 -> 0.0053701012 | H38: =Summary!H39/'Blank substraction'!H$93 -> 0.21443208 | I38: =Summary!I39/'Blank substraction'!I$93 -> 0.22600024 | ... S38: =Summary!S39/'Blank substraction'!S$93 -> 0.43746831
A39: Isopropylmalate | B39: =Summary!B40/'Blank substraction'!B$93 -> 0 | C39: =Summary!C40/'Blank substraction'!C$93 -> 0 | D39: =Summary!D40/'Blank substraction'!D$93 -> 0.0038715238 | E39: =Summary!E40/'Blank substraction'!E$93 -> 0.008145152 | F39: =Summary!F40/'Blank substraction'!F$93 -> 0.0090824648 | G39: =Summary!G40/'Blank substraction'!G$93 -> 0.010614945 | H39: =Summary!H40/'Blank substraction'!H$93 -> 0.23191934 | I39: =Summary!I40/'Blank substraction'!I$93 -> 0.26917442 | ... S39: =Summary!S40/'Blank substraction'!S$93 -> 0.60383976
A40: Lactate | B40: =Summary!B41/'Blank substraction'!B$93 -> 0.030062711 | C40: =Summary!C41/'Blank substraction'!C$93 -> 0.030377564 | D40: =Summary!D41/'Blank substraction'!D$93 -> 0.032433091 | E40: =Summary!E41/'Blank substraction'!E$93 -> 0.0040104755 | F40: =Summary!F41/'Blank substraction'!F$93 -> 0 | G40: =Summary!G41/'Blank substraction'!G$93 -> 0 | H40: =Summary!H41/'Blank substraction'!H$93 -> 2.6488412 | I40: =Summary!I41/'Blank substraction'!I$93 -> 2.8614055 | ... S40: =Summary!S41/'Blank substraction'!S$93 -> 0.027459
A41: Lanosterol | B41: =Summary!B42/'Blank substraction'!B$93 -> 0.18817972 | C41: =Summary!C42/'Blank substraction'!C$93 -> 0.19544407 | D41: =Summary!D42/'Blank substraction'!D$93 -> 0.17133639 | E41: =Summary!E42/'Blank substraction'!E$93 -> 0.19000322 | F41: =Summary!F42/'Blank substraction'!F$93 -> 0.21611865 | G41: =Summary!G42/'Blank substraction'!G$93 -> 0.17922976 | H41: =Summary!H42/'Blank substraction'!H$93 -> 0 | I41: =Summary!I42/'Blank substraction'!I$93 -> 0.043734294 | ... S41: =Summary!S42/'Blank substraction'!S$93 -> 0
A42: Leucine | B42: =Summary!B43/'Blank substraction'!B$93 -> 0 | C42: =Summary!C43/'Blank substraction'!C$93 -> 0.0042907286 | D42: =Summary!D43/'Blank substraction'!D$93 -> 0.0056953281 | E42: =Summary!E43/'Blank substraction'!E$93 -> 0.0055915753 | F42: =Summary!F43/'Blank substraction'!F$93 -> 0.0061714356 | G42: =Summary!G43/'Blank substraction'!G$93 -> 0.0087242726 | H42: =Summary!H43/'Blank substraction'!H$93 -> 0.40586069 | I42: =Summary!I43/'Blank substraction'!I$93 -> 0.45984114 | ... S42: =Summary!S43/'Blank substraction'!S$93 -> 0.59103959
A43: Lysine | B43: =Summary!B44/'Blank substraction'!B$93 -> 0.27357601 | C43: =Summary!C44/'Blank substraction'!C$93 -> 0.28701071 | D43: =Summary!D44/'Blank substraction'!D$93 -> 0.3280927 | E43: =Summary!E44/'Blank substraction'!E$93 -> 0.35252711 | F43: =Summary!F44/'Blank substraction'!F$93 -> 0.31528365 | G43: =Summary!G44/'Blank substraction'!G$93 -> 0.33973378 | H43: =Summary!H44/'Blank substraction'!H$93 -> 1.5478252 | I43: =Summary!I44/'Blank substraction'!I$93 -> 1.8913145 | ... S43: =Summary!S44/'Blank substraction'!S$93 -> 0.58845967
A44: Malate | B44: =Summary!B45/'Blank substraction'!B$93 -> 0.011034016 | C44: =Summary!C45/'Blank substraction'!C$93 -> 0.010322281 | D44: =Summary!D45/'Blank substraction'!D$93 -> 0.011109405 | E44: =Summary!E45/'Blank substraction'!E$93 -> 0 | F44: =Summary!F45/'Blank substraction'!F$93 -> 0 | G44: =Summary!G45/'Blank substraction'!G$93 -> 0 | H44: =Summary!H45/'Blank substraction'!H$93 -> 0.16844992 | I44: =Summary!I45/'Blank substraction'!I$93 -> 0.16357615 | ... S44: =Summary!S45/'Blank substraction'!S$93 -> 0.57149264
A45: Methionine | B45: =Summary!B46/'Blank substraction'!B$93 -> 0 | C45: =Summary!C46/'Blank substraction'!C$93 -> 0 | D45: =Summary!D46/'Blank substraction'!D$93 -> 0 | E45: =Summary!E46/'Blank substraction'!E$93 -> 0 | F45: =Summary!F46/'Blank substraction'!F$93 -> 0 | G45: =Summary!G46/'Blank substraction'!G$93 -> 0 | H45: =Summary!H46/'Blank substraction'!H$93 -> 0.019826135 | I45: =Summary!I46/'Blank substraction'!I$93 -> 0 | ... S45: =Summary!S46/'Blank substraction'!S$93 -> 0.069648357
A46: Methionine sulfoxide | B46: =Summary!B47/'Blank substraction'!B$93 -> 0 | C46: =Summary!C47/'Blank substraction'!C$93 -> 0 | D46: =Summary!D47/'Blank substraction'!D$93 -> 0 | E46: =Summary!E47/'Blank substraction'!E$93 -> 0 | F46: =Summary!F47/'Blank substraction'!F$93 -> 0 | G46: =Summary!G47/'Blank substraction'!G$93 -> 0 | H46: =Summary!H47/'Blank substraction'!H$93 -> 0 | I46: =Summary!I47/'Blank substraction'!I$93 -> 0 | ... S46: =Summary!S47/'Blank substraction'!S$93 -> 0
... A53: Ornithine | B53: =Summary!B54/'Blank substraction'!B$93 -> 0.015161213 | C53: =Summary!C54/'Blank substraction'!C$93 -> 0.011674418 | D53: =Summary!D54/'Blank substraction'!D$93 -> 0.024132476 | E53: =Summary!E54/'Blank substraction'!E$93 -> 0.010519646 | F53: =Summary!F54/'Blank substraction'!F$93 -> 0.017808717 | G53: =Summary!G54/'Blank substraction'!G$93 -> 0.015934735 | H53: =Summary!H54/'Blank substraction'!H$93 -> 0.77205787 | I53: =Summary!I54/'Blank substraction'!I$93 -> 0.90388964 | ... S53: =Summary!S54/'Blank substraction'!S$93 -> 1.597956
A54: Orotic acid | B54: =Summary!B56/'Blank substraction'!B$93 -> 0.069904469 | C54: =Summary!C56/'Blank substraction'!C$93 -> 0.065960145 | D54: =Summary!D56/'Blank substraction'!D$93 -> 0.067098203 | E54: =Summary!E56/'Blank substraction'!E$93 -> 0.068905649 | F54: =Summary!F56/'Blank substraction'!F$93 -> 0.070159013 | G54: =Summary!G56/'Blank substraction'!G$93 -> 0.075657313 | H54: =Summary!H56/'Blank substraction'!H$93 -> 2.7504726 | I54: =Summary!I56/'Blank substraction'!I$93 -> 2.7053935 | ... S54: =Summary!S56/'Blank substraction'!S$93 -> 2.4073017
A55: Palmitic acid | B55: =Summary!B57/'Blank substraction'!B$93 -> 0.36923108 | C55: =Summary!C57/'Blank substraction'!C$93 -> 0.35894544 | D55: =Summary!D57/'Blank substraction'!D$93 -> 0.46504473 | E55: =Summary!E57/'Blank substraction'!E$93 -> 0.70533417 | F55: =Summary!F57/'Blank substraction'!F$93 -> 0.71629475 | G55: =Summary!G57/'Blank substraction'!G$93 -> 0.72639577 | H55: =Summary!H57/'Blank substraction'!H$93 -> 0.23778923 | I55: =Summary!I57/'Blank substraction'!I$93 -> 0.25050418 | ... S55: =Summary!S57/'Blank substraction'!S$93 -> 0.079157778
A56: Palmitoleic acid | B56: =Summary!B58/'Blank substraction'!B$93 -> 0.60903332 | C56: =Summary!C58/'Blank substraction'!C$93 -> 0.60112959 | D56: =Summary!D58/'Blank substraction'!D$93 -> 0.63470891 | E56: =Summary!E58/'Blank substraction'!E$93 -> 1.0257761 | F56: =Summary!F58/'Blank substraction'!F$93 -> 1.0172851 | G56: =Summary!G58/'Blank substraction'!G$93 -> 1.0476588 | H56: =Summary!H58/'Blank substraction'!H$93 -> 0.88584078 | I56: =Summary!I58/'Blank substraction'!I$93 -> 0.81783734 | ... S56: =Summary!S58/'Blank substraction'!S$93 -> 0.23565456
A57: PEP | B57: =Summary!B59/'Blank substraction'!B$93 -> 0 | C57: =Summary!C59/'Blank substraction'!C$93 -> 0 | D57: =Summary!D59/'Blank substraction'!D$93 -> 0 | E57: =Summary!E59/'Blank substraction'!E$93 -> 0 | F57: =Summary!F59/'Blank substraction'!F$93 -> 0 | G57: =Summary!G59/'Blank substraction'!G$93 -> 0 | H57: =Summary!H59/'Blank substraction'!H$93 -> 0.00061186767 | I57: =Summary!I59/'Blank substraction'!I$93 -> 0.00051215384 | ... S57: =Summary!S59/'Blank substraction'!S$93 -> 0.003779542
A58: Phenylalanine | B58: =Summary!B60/'Blank substraction'!B$93 -> 0.014979821 | C58: =Summary!C60/'Blank substraction'!C$93 -> 0.013962772 | D58: =Summary!D60/'Blank substraction'!D$93 -> 0.014993849 | E58: =Summary!E60/'Blank substraction'!E$93 -> 0.020285338 | F58: =Summary!F60/'Blank substraction'!F$93 -> 0.021482315 | G58: =Summary!G60/'Blank substraction'!G$93 -> 0.01953356 | H58: =Summary!H60/'Blank substraction'!H$93 -> 1.176185 | I58: =Summary!I60/'Blank substraction'!I$93 -> 0.97615383 | ... S58: =Summary!S60/'Blank substraction'!S$93 -> 0.82663979
A59: Phytosphingosine | B59: =Summary!B61/'Blank substraction'!B$93 -> 0.011196494 | C59: =Summary!C61/'Blank substraction'!C$93 -> 0.015376174 | D59: =Summary!D61/'Blank substraction'!D$93 -> 0.012471919 | E59: =Summary!E61/'Blank substraction'!E$93 -> 0.013498891 | F59: =Summary!F61/'Blank substraction'!F$93 -> 0.015936068 | G59: =Summary!G61/'Blank substraction'!G$93 -> 0.015130698 | H59: =Summary!H61/'Blank substraction'!H$93 -> 0 | I59: =Summary!I61/'Blank substraction'!I$93 -> 0 | ... S59: =Summary!S61/'Blank substraction'!S$93 -> 0
A60: Porphine | B60: =Summary!B62/'Blank substraction'!B$93 -> 0.092633569 | C60: =Summary!C62/'Blank substraction'!C$93 -> 0.088770077 | D60: =Summary!D62/'Blank substraction'!D$93 -> 0.10401703 | E60: =Summary!E62/'Blank substraction'!E$93 -> 0.10212785 | F60: =Summary!F62/'Blank substraction'!F$93 -> 0.10048061 | G60: =Summary!G62/'Blank substraction'!G$93 -> 0.11078086 | H60: =Summary!H62/'Blank substraction'!H$93 -> 0.072402728 | I60: =Summary!I62/'Blank substraction'!I$93 -> 0.0644736 | ... S60: =Summary!S62/'Blank substraction'!S$93 -> 0.041020223
A61: Proline | B61: =Summary!B63/'Blank substraction'!B$93 -> 0.0096766032 | C61: =Summary!C63/'Blank substraction'!C$93 -> 0.0066037725 | D61: =Summary!D63/'Blank substraction'!D$93 -> 0.0048602328 | E61: =Summary!E63/'Blank substraction'!E$93 -> 0.0062683699 | F61: =Summary!F63/'Blank substraction'!F$93 -> 0.0081580425 | G61: =Summary!G63/'Blank substraction'!G$93 -> 0.00703261 | H61: =Summary!H63/'Blank substraction'!H$93 -> 0.046779198 | I61: =Summary!I63/'Blank substraction'!I$93 -> 0.021127049 | ... S61: =Summary!S63/'Blank substraction'!S$93 -> 0.025530448
A62: Pyroglutamate | B62: =Summary!B64/'Blank substraction'!B$93 -> 0.04076367 | C62: =Summary!C64/'Blank substraction'!C$93 -> 0.043159715 | D62: =Summary!D64/'Blank substraction'!D$93 -> 0.057044264 | E62: =Summary!E64/'Blank substraction'!E$93 -> 0.054675225 | F62: =Summary!F64/'Blank substraction'!F$93 -> 0.051892745 | G62: =Summary!G64/'Blank substraction'!G$93 -> 0.056481644 | H62: =Summary!H64/'Blank substraction'!H$93 -> 1.2061593 | I62: =Summary!I64/'Blank substraction'!I$93 -> 1.4092219 | ... S62: =Summary!S64/'Blank substraction'!S$93 -> 2.759791
A63: Pyrophosphate | B63: =Summary!B65/'Blank substraction'!B$93 -> 0.34548522 | C63: =Summary!C65/'Blank substraction'!C$93 -> 0.33682055 | D63: =Summary!D65/'Blank substraction'!D$93 -> 0.35127819 | E63: =Summary!E65/'Blank substraction'!E$93 -> 0.44626266 | F63: =Summary!F65/'Blank substraction'!F$93 -> 0.51334578 | G63: =Summary!G65/'Blank substraction'!G$93 -> 0.5557298 | H63: =Summary!H65/'Blank substraction'!H$93 -> 3.3406275 | I63: =Summary!I65/'Blank substraction'!I$93 -> 2.5590313 | ... S63: =Summary!S65/'Blank substraction'!S$93 -> 0.21024865
A64: Pyruvate | B64: =Summary!B66/'Blank substraction'!B$93 -> 0.0086188255 | C64: =Summary!C66/'Blank substraction'!C$93 -> 0.0090684669 | D64: =Summary!D66/'Blank substraction'!D$93 -> 0.0098010859 | E64: =Summary!E66/'Blank substraction'!E$93 -> 0.00038230746 | F64: =Summary!F66/'Blank substraction'!F$93 -> 0.0009131891 | G64: =Summary!G66/'Blank substraction'!G$93 -> 0.0012021577 | H64: =Summary!H66/'Blank substraction'!H$93 -> 0.13544351 | I64: =Summary!I66/'Blank substraction'!I$93 -> 0.14203809 | ... S64: =Summary!S66/'Blank substraction'!S$93 -> 0.072329964
A65: Ribose | B65: =Summary!B67/'Blank substraction'!B$93 -> 0.0011605338 | C65: =Summary!C67/'Blank substraction'!C$93 -> 0 | D65: =Summary!D67/'Blank substraction'!D$93 -> 0.0026535607 | E65: =Summary!E67/'Blank substraction'!E$93 -> 0.0019461013 | F65: =Summary!F67/'Blank substraction'!F$93 -> 0 | G65: =Summary!G67/'Blank substraction'!G$93 -> 0.0024621759 | H65: =Summary!H67/'Blank substraction'!H$93 -> 0.024437275 | I65: =Summary!I67/'Blank substraction'!I$93 -> 0.041204605 | ... S65: =Summary!S67/'Blank substraction'!S$93 -> 0.026743057
... A74: Valine | B74: =Summary!B76/'Blank substraction'!B$93 -> 0.019131495 | C74: =Summary!C76/'Blank substraction'!C$93 -> 0.020129968 | D74: =Summary!D76/'Blank substraction'!D$93 -> 0.021112602 | E74: =Summary!E76/'Blank substraction'!E$93 -> 0.034064278 | F74: =Summary!F76/'Blank substraction'!F$93 -> 0.03772254 | G74: =Summary!G76/'Blank substraction'!G$93 -> 0.039667876 | H74: =Summary!H76/'Blank substraction'!H$93 -> 0.73502358 | I74: =Summary!I76/'Blank substraction'!I$93 -> 0.71630107 | ... S74: =Summary!S76/'Blank substraction'!S$93 -> 0.85612236

Sheet Factor
A1: Factor multiplication of cytoplasmic fraction based on applied volume and calulated volume
A2: Name | B2: Mito_atp4_1 | C2: Mito_atp4_2 | D2: Mito_atp4_3 | E2: Mito_sdh2_1 | F2: Mito_sdh2_2 | G2: Mito_sdh2_3 | H2: Cyto_atp4_1 | I2: Cyto_atp4_2 | J2: Cyto_atp4_3 | K2: Cyto_sdh2_1 | L2: Cyto_sdh2_2 | M2: Cyto_sdh2_3 | N2: Mito_WT_1 | O2: Mito_WT_2 | P2: Mito_WT_3 | Q2: Cyto_WT_1 | R2: Cyto_WT_2 | S2: Cyto_WT_3
A3: 1-Methyl nicotinamide | B3: =Summary!B3/'Blank substraction'!B$93 -> 0.00028521592 | C3: =Summary!C3/'Blank substraction'!C$93 -> 0.00026194587 | D3: =Summary!D3/'Blank substraction'!D$93 -> 0.00031969962 | E3: =Summary!E3/'Blank substraction'!E$93 -> 0.0025790097 | F3: =Summary!F3/'Blank substraction'!F$93 -> 0.0026881335 | G3: =Summary!G3/'Blank substraction'!G$93 -> 0.0025937899 | H3: ='Intern Norm'!H3*1.488 -> 0.0077703522 | I3: ='Intern Norm'!I3*1.488 -> 0.007745438 | J3: ='Intern Norm'!J3*1.488 -> 0.0075211731 | K3: ='Intern Norm'!K3*1.258 -> 0.0094263574 | L3: ='Intern Norm'!L3*1.258 -> 0.0091900926 | M3: ='Intern Norm'!M3*1.258 -> 0.0091699316 | N3: =Summary!N3/'Blank substraction'!N$93 -> 0.001287177 | O3: =Summary!O3/'Blank substraction'!O$93 -> 0.0011631057 | P3: =Summary!P3/'Blank substraction'!P$93 -> 0.0011126364 | Q3: ='Intern Norm'!Q3*2.95 -> 0.019731217 | R3: ='Intern Norm'!R3*2.95 -> 0.018253262 | S3: ='Intern Norm'!S3*2.95 -> 0.016524031
A4: 2-Ketoglutarate | B4: =Summary!B4/'Blank substraction'!B$93 -> 0 | C4: =Summary!C4/'Blank substraction'!C$93 -> 0 | D4: =Summary!D4/'Blank substraction'!D$93 -> 0 | E4: =Summary!E4/'Blank substraction'!E$93 -> 0 | F4: =Summary!F4/'Blank substraction'!F$93 -> 0 | G4: =Summary!G4/'Blank substraction'!G$93 -> 0 | H4: ='Intern Norm'!H4*1.488 -> 0.0019189741 | I4: ='Intern Norm'!I4*1.488 -> 0.0018640481 | J4: ='Intern Norm'!J4*1.488 -> 0.0019286935 | K4: ='Intern Norm'!K4*1.258 -> 0.00077165455 | L4: ='Intern Norm'!L4*1.258 -> 0.00074516552 | M4: ='Intern Norm'!M4*1.258 -> 0.00070275072 | N4: =Summary!N4/'Blank substraction'!N$93 -> 0 | O4: =Summary!O4/'Blank substraction'!O$93 -> 0 | P4: =Summary!P4/'Blank substraction'!P$93 -> 0 | Q4: ='Intern Norm'!Q4*2.95 -> 0.003394213 | R4: ='Intern Norm'!R4*2.95 -> 0.003246652 | S4: ='Intern Norm'!S4*2.95 -> 0.0033869092
A5: 2-Phosphoglycerate | B5: =Summary!B5/'Blank substraction'!B$93 -> 0 | C5: =Summary!C5/'Blank substraction'!C$93 -> 0 | D5: =Summary!D5/'Blank substraction'!D$93 -> 0 | E5: =Summary!E5/'Blank substraction'!E$93 -> 0 | F5: =Summary!F5/'Blank substraction'!F$93 -> 0 | G5: =Summary!G5/'Blank substraction'!G$93 -> 0 | H5: ='Intern Norm'!H5*1.488 -> 0 | I5: ='Intern Norm'!I5*1.488 -> 0 | J5: ='Intern Norm'!J5*1.488 -> 0 | K5: ='Intern Norm'!K5*1.258 -> 0.028647183 | L5: ='Intern Norm'!L5*1.258 -> 0.029655827 | M5: ='Intern Norm'!M5*1.258 -> 0.030972119 | N5: =Summary!N5/'Blank substraction'!N$93 -> 0 | O5: =Summary!O5/'Blank substraction'!O$93 -> 0 | P5: =Summary!P5/'Blank substraction'!P$93 -> 0 | Q5: ='Intern Norm'!Q5*2.95 -> 0.11867169 | R5: ='Intern Norm'!R5*2.95 -> 0.11648959 | S5: ='Intern Norm'!S5*2.95 -> 0.069048651
A6: 3-Phosphoglycerate | B6: =Summary!B6/'Blank substraction'!B$93 -> 0 | C6: =Summary!C6/'Blank substraction'!C$93 -> 0 | D6: =Summary!D6/'Blank substraction'!D$93 -> 0 | E6: =Summary!E6/'Blank substraction'!E$93 -> 0.0049589537 | F6: =Summary!F6/'Blank substraction'!F$93 -> 0.0048627893 | G6: =Summary!G6/'Blank substraction'!G$93 -> 0.0056622347 | H6: ='Intern Norm'!H6*1.488 -> 0.0977512 | I6: ='Intern Norm'!I6*1.488 -> 0.077323412 | J6: ='Intern Norm'!J6*1.488 -> 0.11002918 | K6: ='Intern Norm'!K6*1.258 -> 0.35263661 | L6: ='Intern Norm'!L6*1.258 -> 0.37425468 | M6: ='Intern Norm'!M6*1.258 -> 0.41974346 | N6: =Summary!N6/'Blank substraction'!N$93 -> 0.017245211 | O6: =Summary!O6/'Blank substraction'!O$93 -> 0.017936396 | P6: =Summary!P6/'Blank substraction'!P$93 -> 0.017930549 | Q6: ='Intern Norm'!Q6*2.95 -> 1.5939812 | R6: ='Intern Norm'!R6*2.95 -> 1.5846429 | S6: ='Intern Norm'!S6*2.95 -> 1.5406091
A7: 14-Demethyllanosterol | B7: =Summary!B7/'Blank substraction'!B$93 -> 0.030240008 | C7: =Summary!C7/'Blank substraction'!C$93 -> 0.034676406 | D7: =Summary!D7/'Blank substraction'!D$93 -> 0.025177534 | E7: =Summary!E7/'Blank substraction'!E$93 -> 0.029598495 | F7: =Summary!F7/'Blank substraction'!F$93 -> 0.030356989 | G7: =Summary!G7/'Blank substraction'!G$93 -> 0.029442756 | H7: ='Intern Norm'!H7*1.488 -> 0 | I7: ='Intern Norm'!I7*1.488 -> 0 | J7: ='Intern Norm'!J7*1.488 -> 0 | K7: ='Intern Norm'!K7*1.258 -> 0 | L7: ='Intern Norm'!L7*1.258 -> 0 | M7: ='Intern Norm'!M7*1.258 -> 0 | N7: =Summary!N7/'Blank substraction'!N$93 -> 0.15969332 | O7: =Summary!O7/'Blank substraction'!O$93 -> 0.13560457 | P7: =Summary!P7/'Blank substraction'!P$93 -> 0.13984002 | Q7: ='Intern Norm'!Q7*2.95 -> 0 | R7: ='Intern Norm'!R7*2.95 -> 0 | S7: ='Intern Norm'!S7*2.95 -> 0
A8: Adenine | B8: =Summary!B8/'Blank substraction'!B$93 -> 0.0014143903 | C8: =Summary!C8/'Blank substraction'!C$93 -> 0.00065459424 | D8: =Summary!D8/'Blank substraction'!D$93 -> 0 | E8: =Summary!E8/'Blank substraction'!E$93 -> 0.0012195084 | F8: =Summary!F8/'Blank substraction'!F$93 -> 0 | G8: =Summary!G8/'Blank substraction'!G$93 -> 0 | H8: ='Intern Norm'!H8*1.488 -> 0.036519667 | I8: ='Intern Norm'!I8*1.488 -> 0.023759853 | J8: ='Intern Norm'!J8*1.488 -> 0.048477231 | K8: ='Intern Norm'!K8*1.258 -> 0.083570538 | L8: ='Intern Norm'!L8*1.258 -> 0.044073643 | M8: ='Intern Norm'!M8*1.258 -> 0.042041397 | N8: =Summary!N8/'Blank substraction'!N$93 -> 0 | O8: =Summary!O8/'Blank substraction'!O$93 -> 0 | P8: =Summary!P8/'Blank substraction'!P$93 -> 0 | Q8: ='Intern Norm'!Q8*2.95 -> 0.078525518 | R8: ='Intern Norm'!R8*2.95 -> 0.074134837 | S8: ='Intern Norm'!S8*2.95 -> 0.075240993
A9: Adenosine | B9: =Summary!B9/'Blank substraction'!B$93 -> 0.0066755835 | C9: =Summary!C9/'Blank substraction'!C$93 -> 0.0086143485 | D9: =Summary!D9/'Blank substraction'!D$93 -> 0.0083062232 | E9: =Summary!E9/'Blank substraction'!E$93 -> 0.008360663 | F9: =Summary!F9/'Blank substraction'!F$93 -> 0.0098818399 | G9: =Summary!G9/'Blank substraction'!G$93 -> 0.0091278062 | H9: ='Intern Norm'!H9*1.488 -> 3.0621579 | I9: ='Intern Norm'!I9*1.488 -> 3.1224108 | J9: ='Intern Norm'!J9*1.488 -> 2.9040712 | K9: ='Intern Norm'!K9*1.258 -> 3.6852993 | L9: ='Intern Norm'!L9*1.258 -> 3.4569902 | M9: ='Intern Norm'!M9*1.258 -> 3.5154033 | N9: =Summary!N9/'Blank substraction'!N$93 -> 0.026386533 | O9: =Summary!O9/'Blank substraction'!O$93 -> 0.030343163 | P9: =Summary!P9/'Blank substraction'!P$93 -> 0.028889607 | Q9: ='Intern Norm'!Q9*2.95 -> 5.5939632 | R9: ='Intern Norm'!R9*2.95 -> 6.2742962 | S9: ='Intern Norm'!S9*2.95 -> 5.5963745
A10: Alanine | B10: =Summary!B10/'Blank substraction'!B$93 -> 0.055188013 | C10: =Summary!C10/'Blank substraction'!C$93 -> 0.059147448 | D10: =Summary!D10/'Blank substraction'!D$93 -> 0.060319054 | E10: =Summary!E10/'Blank substraction'!E$93 -> 0.05355039 | F10: =Summary!F10/'Blank substraction'!F$93 -> 0.054529588 | G10: =Summary!G10/'Blank substraction'!G$93 -> 0.060333068 | H10: ='Intern Norm'!H10*1.488 -> 2.0859069 | I10: ='Intern Norm'!I10*1.488 -> 2.0038529 | J10: ='Intern Norm'!J10*1.488 -> 1.7338186 | K10: ='Intern Norm'!K10*1.258 -> 1.6735517 | L10: ='Intern Norm'!L10*1.258 -> 1.6725799 | M10: ='Intern Norm'!M10*1.258 -> 1.4948547 | N10: =Summary!N10/'Blank substraction'!N$93 -> 0.064512754 | O10: =Summary!O10/'Blank substraction'!O$93 -> 0.042609901 | P10: =Summary!P10/'Blank substraction'!P$93 -> 0.0025773871 | Q10: ='Intern Norm'!Q10*2.95 -> 2.8453413 | R10: ='Intern Norm'!R10*2.95 -> 2.3699103 | S10: ='Intern Norm'!S10*2.95 -> 1.6917541
A11: Aminomalonic acid | B11: =Summary!B11/'Blank substraction'!B$93 -> 0.0046165906 | C11: =Summary!C11/'Blank substraction'!C$93 -> 0.0043226989 | D11: =Summary!D11/'Blank substraction'!D$93 -> 0.0047001138 | E11: =Summary!E11/'Blank substraction'!E$93 -> 0.0038090195 | F11: =Summary!F11/'Blank substraction'!F$93 -> 0.0042351152 | G11: =Summary!G11/'Blank substraction'!G$93 -> 0.0036964176 | H11: ='Intern Norm'!H11*1.488 -> 0.068466566 | I11: ='Intern Norm'!I11*1.488 -> 0.07167286 | J11: ='Intern Norm'!J11*1.488 -> 0.077875213 | K11: ='Intern Norm'!K11*1.258 -> 0.033381605 | L11: ='Intern Norm'!L11*1.258 -> 0.040493306 | M11: ='Intern Norm'!M11*1.258 -> 0.022598058 | N11: =Summary!N11/'Blank substraction'!N$93 -> 0.0043332319 | O11: =Summary!O11/'Blank substraction'!O$93 -> 0.0041540663 | P11: =Summary!P11/'Blank substraction'!P$93 -> 0.0040507908 | Q11: ='Intern Norm'!Q11*2.95 -> 0.042265952 | R11: ='Intern Norm'!R11*2.95 -> 0.05295952 | S11: ='Intern Norm'!S11*2.95 -> 0.049138968
A12: AMP | B12: =Summary!B12/'Blank substraction'!B$93 -> 0 | C12: =Summary!C12/'Blank substraction'!C$93 -> 0 | D12: =Summary!D12/'Blank substraction'!D$93 -> 0 | E12: =Summary!E12/'Blank substraction'!E$93 -> 0.011426915 | F12: =Summary!F12/'Blank substraction'!F$93 -> 0.012778672 | G12: =Summary!G12/'Blank substraction'!G$93 -> 0.011561524 | H12: ='Intern Norm'!H12*1.488 -> 0.021868596 | I12: ='Intern Norm'!I12*1.488 -> 0.028125977 | J12: ='Intern Norm'!J12*1.488 -> 0.027855948 | K12: ='Intern Norm'!K12*1.258 -> 0.047867681 | L12: ='Intern Norm'!L12*1.258 -> 0.064807229 | M12: ='Intern Norm'!M12*1.258 -> 0.051591266 | N12: =Summary!N12/'Blank substraction'!N$93 -> 0.011464999 | O12: =Summary!O12/'Blank substraction'!O$93 -> 0.013338488 | P12: =Summary!P12/'Blank substraction'!P$93 -> 0.0079688381 | Q12: ='Intern Norm'!Q12*2.95 -> 0.23665592 | R12: ='Intern Norm'!R12*2.95 -> 0.24635114 | S12: ='Intern Norm'!S12*2.95 -> 0.21414418
A13: Asparagine | B13: =Summary!B13/'Blank substraction'!B$93 -> 0 | C13: =Summary!C13/'Blank substraction'!C$93 -> 0 | D13: =Summary!D13/'Blank substraction'!D$93 -> 0 | E13: =Summary!E13/'Blank substraction'!E$93 -> 0 | F13: =Summary!F13/'Blank substraction'!F$93 -> 0 | G13: =Summary!G13/'Blank substraction'!G$93 -> 0 | H13: ='Intern Norm'!H13*1.488 -> 0.55371034 | I13: ='Intern Norm'!I13*1.488 -> 0.49364623 | J13: ='Intern Norm'!J13*1.488 -> 0.33812857 | K13: ='Intern Norm'!K13*1.258 -> 0.41111897 | L13: ='Intern Norm'!L13*1.258 -> 0.4577139 | M13: ='Intern Norm'!M13*1.258 -> 0.42261119 | N13: =Summary!N13/'Blank substraction'!N$93 -> 0 | O13: =Summary!O13/'Blank substraction'!O$93 -> 0 | P13: =Summary!P13/'Blank substraction'!P$93 -> 0 | Q13: ='Intern Norm'!Q13*2.95 -> 1.3118135 | R13: ='Intern Norm'!R13*2.95 -> 0.86859422 | S13: ='Intern Norm'!S13*2.95 -> 0.75892598
A14: Aspartate | B14: =Summary!B14/'Blank substraction'!B$93 -> 0.071760486 | C14: =Summary!C14/'Blank substraction'!C$93 -> 0.068363355 | D14: =Summary!D14/'Blank substraction'!D$93 -> 0.062142769 | E14: =Summary!E14/'Blank substraction'!E$93 -> 0.081346632 | F14: =Summary!F14/'Blank substraction'!F$93 -> 0.082824684 | G14: =Summary!G14/'Blank substraction'!G$93 -> 0.082994274 | H14: ='Intern Norm'!H14*1.488 -> 2.2014947 | I14: ='Intern Norm'!I14*1.488 -> 2.2053412 | J14: ='Intern Norm'!J14*1.488 -> 2.6827927 | K14: ='Intern Norm'!K14*1.258 -> 3.3781051 | L14: ='Intern Norm'!L14*1.258 -> 2.7623254 | M14: ='Intern Norm'!M14*1.258 -> 2.9336818 | N14: =Summary!N14/'Blank substraction'!N$93 -> 0.1374889 | O14: =Summary!O14/'Blank substraction'!O$93 -> 0.1192856 | P14: =Summary!P14/'Blank substraction'!P$93 -> 0.12750303 | Q14: ='Intern Norm'!Q14*2.95 -> 6.6527628 | R14: ='Intern Norm'!R14*2.95 -> 6.1118842 | S14: ='Intern Norm'!S14*2.95 -> 4.6176606
... A34: Histidine | B34: =Summary!B34/'Blank substraction'!B$93 -> 0 | C34: =Summary!C34/'Blank substraction'!C$93 -> 0 | D34: =Summary!D34/'Blank substraction'!D$93 -> 0 | E34: =Summary!E34/'Blank substraction'!E$93 -> 0 | F34: =Summary!F34/'Blank substraction'!F$93 -> 0 | G34: =Summary!G34/'Blank substraction'!G$93 -> 0 | H34: ='Intern Norm'!H34*1.488 -> 0 | I34: ='Intern Norm'!I34*1.488 -> 0 | J34: ='Intern Norm'!J34*1.488 -> 0 | K34: ='Intern Norm'!K34*1.258 -> 0 | L34: ='Intern Norm'!L34*1.258 -> 0 | M34: ='Intern Norm'!M34*1.258 -> 0 | N34: =Summary!N34/'Blank substraction'!N$93 -> 0 | O34: =Summary!O34/'Blank substraction'!O$93 -> 0 | P34: =Summary!P34/'Blank substraction'!P$93 -> 0 | Q34: ='Intern Norm'!Q34*2.95 -> 1.2445233 | R34: ='Intern Norm'!R34*2.95 -> 0.75367755 | S34: ='Intern Norm'!S34*2.95 -> 1.1299723
A35: Homoserine | B35: =Summary!B36/'Blank substraction'!B$93 -> 0 | C35: =Summary!C36/'Blank substraction'!C$93 -> 0 | D35: =Summary!D36/'Blank substraction'!D$93 -> 0 | E35: =Summary!E36/'Blank substraction'!E$93 -> 0 | F35: =Summary!F36/'Blank substraction'!F$93 -> 0 | G35: =Summary!G36/'Blank substraction'!G$93 -> 0 | H35: ='Intern Norm'!H35*1.488 -> 0.014459971 | I35: ='Intern Norm'!I35*1.488 -> 0.0064359596 | J35: ='Intern Norm'!J35*1.488 -> 0.0048690673 | K35: ='Intern Norm'!K35*1.258 -> 0.015955894 | L35: ='Intern Norm'!L35*1.258 -> 0.016174644 | M35: ='Intern Norm'!M35*1.258 -> 0.012601159 | N35: =Summary!N36/'Blank substraction'!N$93 -> 0 | O35: =Summary!O36/'Blank substraction'!O$93 -> 0 | P35: =Summary!P36/'Blank substraction'!P$93 -> 0 | Q35: ='Intern Norm'!Q35*2.95 -> 0.017475484 | R35: ='Intern Norm'!R35*2.95 -> 0.017020645 | S35: ='Intern Norm'!S35*2.95 -> 0.016683129
A36: Hydroxybutyric acid | B36: =Summary!B37/'Blank substraction'!B$93 -> 0 | C36: =Summary!C37/'Blank substraction'!C$93 -> 0 | D36: =Summary!D37/'Blank substraction'!D$93 -> 0 | E36: =Summary!E37/'Blank substraction'!E$93 -> 0 | F36: =Summary!F37/'Blank substraction'!F$93 -> 0 | G36: =Summary!G37/'Blank substraction'!G$93 -> 0 | H36: ='Intern Norm'!H36*1.488 -> 0.017917344 | I36: ='Intern Norm'!I36*1.488 -> 0.014564932 | J36: ='Intern Norm'!J36*1.488 -> 0.017250775 | K36: ='Intern Norm'!K36*1.258 -> 0.019200156 | L36: ='Intern Norm'!L36*1.258 -> 0.019887779 | M36: ='Intern Norm'!M36*1.258 -> 0.02043513 | N36: =Summary!N37/'Blank substraction'!N$93 -> 0 | O36: =Summary!O37/'Blank substraction'!O$93 -> 0 | P36: =Summary!P37/'Blank substraction'!P$93 -> 0 | Q36: ='Intern Norm'!Q36*2.95 -> 0.04089124 | R36: ='Intern Norm'!R36*2.95 -> 0.040901437 | S36: ='Intern Norm'!S36*2.95 -> 0.028088172
A37: Hydroxyglutaric acid | B37: =Summary!B38/'Blank substraction'!B$93 -> 0.0008469253 | C37: =Summary!C38/'Blank substraction'!C$93 -> 0.00080105529 | D37: =Summary!D38/'Blank substraction'!D$93 -> 0.00086968526 | E37: =Summary!E38/'Blank substraction'!E$93 -> 0.00012922059 | F37: =Summary!F38/'Blank substraction'!F$93 -> 0.00023938709 | G37: =Summary!G38/'Blank substraction'!G$93 -> 0.00024952035 | H37: ='Intern Norm'!H37*1.488 -> 0.046410541 | I37: ='Intern Norm'!I37*1.488 -> 0.045225344 | J37: ='Intern Norm'!J37*1.488 -> 0.046747149 | K37: ='Intern Norm'!K37*1.258 -> 0.0078179236 | L37: ='Intern Norm'!L37*1.258 -> 0.0080934148 | M37: ='Intern Norm'!M37*1.258 -> 0.0078411467 | N37: =Summary!N38/'Blank substraction'!N$93 -> 0.00037342778 | O37: =Summary!O38/'Blank substraction'!O$93 -> 0.00034751212 | P37: =Summary!P38/'Blank substraction'!P$93 -> 0.00033967587 | Q37: ='Intern Norm'!Q37*2.95 -> 0.0084242491 | R37: ='Intern Norm'!R37*2.95 -> 0.0082044831 | S37: ='Intern Norm'!S37*2.95 -> 0.0077097768
A38: Isoleucine | B38: =Summary!B39/'Blank substraction'!B$93 -> 0 | C38: =Summary!C39/'Blank substraction'!C$93 -> 0 | D38: =Summary!D39/'Blank substraction'!D$93 -> 0.0013398581 | E38: =Summary!E39/'Blank substraction'!E$93 -> 0 | F38: =Summary!F39/'Blank substraction'!F$93 -> 0 | G38: =Summary!G39/'Blank substraction'!G$93 -> 0.0053701012 | H38: ='Intern Norm'!H38*1.488 -> 0.31907493 | I38: ='Intern Norm'!I38*1.488 -> 0.33628836 | J38: ='Intern Norm'!J38*1.488 -> 0.3921332 | K38: ='Intern Norm'!K38*1.258 -> 0.41583486 | L38: ='Intern Norm'!L38*1.258 -> 0.47369713 | M38: ='Intern Norm'!M38*1.258 -> 0.50698689 | N38: =Summary!N39/'Blank substraction'!N$93 -> 0 | O38: =Summary!O39/'Blank substraction'!O$93 -> 0.0073426119 | P38: =Summary!P39/'Blank substraction'!P$93 -> 0.010225773 | Q38: ='Intern Norm'!Q38*2.95 -> 1.1833401 | R38: ='Intern Norm'!R38*2.95 -> 1.2768229 | S38: ='Intern Norm'!S38*2.95 -> 1.2905315
A39: Isopropylmalate | B39: =Summary!B40/'Blank substraction'!B$93 -> 0 | C39: =Summary!C40/'Blank substraction'!C$93 -> 0 | D39: =Summary!D40/'Blank substraction'!D$93 -> 0.0038715238 | E39: =Summary!E40/'Blank substraction'!E$93 -> 0.008145152 | F39: =Summary!F40/'Blank substraction'!F$93 -> 0.0090824648 | G39: =Summary!G40/'Blank substraction'!G$93 -> 0.010614945 | H39: ='Intern Norm'!H39*1.488 -> 0.34509598 | I39: ='Intern Norm'!I39*1.488 -> 0.40053154 | J39: ='Intern Norm'!J39*1.488 -> 0.38002209 | K39: ='Intern Norm'!K39*1.258 -> 0.50080659 | L39: ='Intern Norm'!L39*1.258 -> 0.53466819 | M39: ='Intern Norm'!M39*1.258 -> 0.49645691 | N39: =Summary!N40/'Blank substraction'!N$93 -> 0.018836627 | O39: =Summary!O40/'Blank substraction'!O$93 -> 0.021480807 | P39: =Summary!P40/'Blank substraction'!P$93 -> 0.022042107 | Q39: ='Intern Norm'!Q39*2.95 -> 2.0684895 | R39: ='Intern Norm'!R39*2.95 -> 1.8273127 | S39: ='Intern Norm'!S39*2.95 -> 1.7813273
A40: Lactate | B40: =Summary!B41/'Blank substraction'!B$93 -> 0.030062711 | C40: =Summary!C41/'Blank substraction'!C$93 -> 0.030377564 | D40: =Summary!D41/'Blank substraction'!D$93 -> 0.032433091 | E40: =Summary!E41/'Blank substraction'!E$93 -> 0.0040104755 | F40: =Summary!F41/'Blank substraction'!F$93 -> 0 | G40: =Summary!G41/'Blank substraction'!G$93 -> 0 | H40: ='Intern Norm'!H40*1.488 -> 3.9414757 | I40: ='Intern Norm'!I40*1.488 -> 4.2577714 | J40: ='Intern Norm'!J40*1.488 -> 4.0885337 | K40: ='Intern Norm'!K40*1.258 -> 0.18190263 | L40: ='Intern Norm'!L40*1.258 -> 0.15667042 | M40: ='Intern Norm'!M40*1.258 -> 0.15493936 | N40: =Summary!N41/'Blank substraction'!N$93 -> 0.0070991125 | O40: =Summary!O41/'Blank substraction'!O$93 -> 0.010340043 | P40: =Summary!P41/'Blank substraction'!P$93 -> 0.0048532007 | Q40: ='Intern Norm'!Q40*2.95 -> 0.11403538 | R40: ='Intern Norm'!R40*2.95 -> 0.047419431 | S40: ='Intern Norm'!S40*2.95 -> 0.081004049
A41: Lanosterol | B41: =Summary!B42/'Blank substraction'!B$93 -> 0.18817972 | C41: =Summary!C42/'Blank substraction'!C$93 -> 0.19544407 | D41: =Summary!D42/'Blank substraction'!D$93 -> 0.17133639 | E41: =Summary!E42/'Blank substraction'!E$93 -> 0.19000322 | F41: =Summary!F42/'Blank substraction'!F$93 -> 0.21611865 | G41: =Summary!G42/'Blank substraction'!G$93 -> 0.17922976 | H41: ='Intern Norm'!H41*1.488 -> 0 | I41: ='Intern Norm'!I41*1.488 -> 0.06507663 | J41: ='Intern Norm'!J41*1.488 -> 0 | K41: ='Intern Norm'!K41*1.258 -> 0 | L41: ='Intern Norm'!L41*1.258 -> 0 | M41: ='Intern Norm'!M41*1.258 -> 0 | N41: =Summary!N42/'Blank substraction'!N$93 -> 0.113083 | O41: =Summary!O42/'Blank substraction'!O$93 -> 0.11376867 | P41: =Summary!P42/'Blank substraction'!P$93 -> 0.12453661 | Q41: ='Intern Norm'!Q41*2.95 -> 0 | R41: ='Intern Norm'!R41*2.95 -> 0 | S41: ='Intern Norm'!S41*2.95 -> 0
A42: Leucine | B42: =Summary!B43/'Blank substraction'!B$93 -> 0 | C42: =Summary!C43/'Blank substraction'!C$93 -> 0.0042907286 | D42: =Summary!D43/'Blank substraction'!D$93 -> 0.0056953281 | E42: =Summary!E43/'Blank substraction'!E$93 -> 0.0055915753 | F42: =Summary!F43/'Blank substraction'!F$93 -> 0.0061714356 | G42: =Summary!G43/'Blank substraction'!G$93 -> 0.0087242726 | H42: ='Intern Norm'!H42*1.488 -> 0.60392071 | I42: ='Intern Norm'!I42*1.488 -> 0.68424361 | J42: ='Intern Norm'!J42*1.488 -> 0.72346746 | K42: ='Intern Norm'!K42*1.258 -> 0.5325855 | L42: ='Intern Norm'!L42*1.258 -> 0.56315507 | M42: ='Intern Norm'!M42*1.258 -> 0.63261337 | N42: =Summary!N43/'Blank substraction'!N$93 -> 0.004544113 | O42: =Summary!O43/'Blank substraction'!O$93 -> 0.01296495 | P42: =Summary!P43/'Blank substraction'!P$93 -> 0.014673761 | Q42: ='Intern Norm'!Q42*2.95 -> 1.7633805 | R42: ='Intern Norm'!R42*2.95 -> 1.8034697 | S42: ='Intern Norm'!S42*2.95 -> 1.7435668
A43: Lysine | B43: =Summary!B44/'Blank substraction'!B$93 -> 0.27357601 | C43: =Summary!C44/'Blank substraction'!C$93 -> 0.28701071 | D43: =Summary!D44/'Blank substraction'!D$93 -> 0.3280927 | E43: =Summary!E44/'Blank substraction'!E$93 -> 0.35252711 | F43: =Summary!F44/'Blank substraction'!F$93 -> 0.31528365 | G43: =Summary!G44/'Blank substraction'!G$93 -> 0.33973378 | H43: ='Intern Norm'!H43*1.488 -> 2.303164 | I43: ='Intern Norm'!I43*1.488 -> 2.8142759 | J43: ='Intern Norm'!J43*1.488 -> 3.6135587 | K43: ='Intern Norm'!K43*1.258 -> 1.532638 | L43: ='Intern Norm'!L43*1.258 -> 1.6814585 | M43: ='Intern Norm'!M43*1.258 -> 1.6879211 | N43: =Summary!N44/'Blank substraction'!N$93 -> 0.56252486 | O43: =Summary!O44/'Blank substraction'!O$93 -> 0.42130183 | P43: =Summary!P44/'Blank substraction'!P$93 -> 0.50575431 | Q43: ='Intern Norm'!Q43*2.95 -> 1.6565193 | R43: ='Intern Norm'!R43*2.95 -> 1.675571 | S43: ='Intern Norm'!S43*2.95 -> 1.735956
A44: Malate | B44: =Summary!B45/'Blank substraction'!B$93 -> 0.011034016 | C44: =Summary!C45/'Blank substraction'!C$93 -> 0.010322281 | D44: =Summary!D45/'Blank substraction'!D$93 -> 0.011109405 | E44: =Summary!E45/'Blank substraction'!E$93 -> 0 | F44: =Summary!F45/'Blank substraction'!F$93 -> 0 | G44: =Summary!G45/'Blank substraction'!G$93 -> 0 | H44: ='Intern Norm'!H44*1.488 -> 0.25065348 | I44: ='Intern Norm'!I44*1.488 -> 0.24340131 | J44: ='Intern Norm'!J44*1.488 -> 0.25715269 | K44: ='Intern Norm'!K44*1.258 -> 0 | L44: ='Intern Norm'!L44*1.258 -> 0 | M44: ='Intern Norm'!M44*1.258 -> 0 | N44: =Summary!N45/'Blank substraction'!N$93 -> 0.012469414 | O44: =Summary!O45/'Blank substraction'!O$93 -> 0.010904841 | P44: =Summary!P45/'Blank substraction'!P$93 -> 0.010145537 | Q44: ='Intern Norm'!Q44*2.95 -> 1.8776081 | R44: ='Intern Norm'!R44*2.95 -> 1.6320951 | S44: ='Intern Norm'!S44*2.95 -> 1.6859033
A45: Methionine | B45: =Summary!B46/'Blank substraction'!B$93 -> 0 | C45: =Summary!C46/'Blank substraction'!C$93 -> 0 | D45: =Summary!D46/'Blank substraction'!D$93 -> 0 | E45: =Summary!E46/'Blank substraction'!E$93 -> 0 | F45: =Summary!F46/'Blank substraction'!F$93 -> 0 | G45: =Summary!G46/'Blank substraction'!G$93 -> 0 | H45: ='Intern Norm'!H45*1.488 -> 0.029501289 | I45: ='Intern Norm'!I45*1.488 -> 0 | J45: ='Intern Norm'!J45*1.488 -> 0 | K45: ='Intern Norm'!K45*1.258 -> 0.025055807 | L45: ='Intern Norm'!L45*1.258 -> 0.031101817 | M45: ='Intern Norm'!M45*1.258 -> 0 | N45: =Summary!N46/'Blank substraction'!N$93 -> 0 | O45: =Summary!O46/'Blank substraction'!O$93 -> 0 | P45: =Summary!P46/'Blank substraction'!P$93 -> 0 | Q45: ='Intern Norm'!Q45*2.95 -> 0.064269108 | R45: ='Intern Norm'!R45*2.95 -> 0.078046799 | S45: ='Intern Norm'!S45*2.95 -> 0.20546265
A46: Methionine sulfoxide | B46: =Summary!B47/'Blank substraction'!B$93 -> 0 | C46: =Summary!C47/'Blank substraction'!C$93 -> 0 | D46: =Summary!D47/'Blank substraction'!D$93 -> 0 | E46: =Summary!E47/'Blank substraction'!E$93 -> 0 | F46: =Summary!F47/'Blank substraction'!F$93 -> 0 | G46: =Summary!G47/'Blank substraction'!G$93 -> 0 | H46: ='Intern Norm'!H46*1.488 -> 0 | I46: ='Intern Norm'!I46*1.488 -> 0 | J46: ='Intern Norm'!J46*1.488 -> 0 | K46: ='Intern Norm'!K46*1.258 -> 0 | L46: ='Intern Norm'!L46*1.258 -> 0 | M46: ='Intern Norm'!M46*1.258 -> 0 | N46: =Summary!N47/'Blank substraction'!N$93 -> 0 | O46: =Summary!O47/'Blank substraction'!O$93 -> 0 | P46: =Summary!P47/'Blank substraction'!P$93 -> 0 | Q46: ='Intern Norm'!Q46*2.95 -> 0 | R46: ='Intern Norm'!R46*2.95 -> 0.020512339 | S46: ='Intern Norm'!S46*2.95 -> 0
... A53: Ornithine | B53: =Summary!B54/'Blank substraction'!B$93 -> 0.015161213 | C53: =Summary!C54/'Blank substraction'!C$93 -> 0.011674418 | D53: =Summary!D54/'Blank substraction'!D$93 -> 0.024132476 | E53: =Summary!E54/'Blank substraction'!E$93 -> 0.010519646 | F53: =Summary!F54/'Blank substraction'!F$93 -> 0.017808717 | G53: =Summary!G54/'Blank substraction'!G$93 -> 0.015934735 | H53: ='Intern Norm'!H53*1.488 -> 1.1488221 | I53: ='Intern Norm'!I53*1.488 -> 1.3449878 | J53: ='Intern Norm'!J53*1.488 -> 1.7825499 | K53: ='Intern Norm'!K53*1.258 -> 2.5451157 | L53: ='Intern Norm'!L53*1.258 -> 1.9046822 | M53: ='Intern Norm'!M53*1.258 -> 2.1003992 | N53: =Summary!N54/'Blank substraction'!N$93 -> 0.025947331 | O53: =Summary!O54/'Blank substraction'!O$93 -> 0.054095136 | P53: =Summary!P54/'Blank substraction'!P$93 -> 0.034635336 | Q53: ='Intern Norm'!Q53*2.95 -> 6.5887472 | R53: ='Intern Norm'!R53*2.95 -> 6.2192494 | S53: ='Intern Norm'!S53*2.95 -> 4.7139701
A54: Orotic acid | B54: =Summary!B56/'Blank substraction'!B$93 -> 0.069904469 | C54: =Summary!C56/'Blank substraction'!C$93 -> 0.065960145 | D54: =Summary!D56/'Blank substraction'!D$93 -> 0.067098203 | E54: =Summary!E56/'Blank substraction'!E$93 -> 0.068905649 | F54: =Summary!F56/'Blank substraction'!F$93 -> 0.070159013 | G54: =Summary!G56/'Blank substraction'!G$93 -> 0.075657313 | H54: ='Intern Norm'!H54*1.488 -> 4.0927032 | I54: ='Intern Norm'!I54*1.488 -> 4.0256256 | J54: ='Intern Norm'!J54*1.488 -> 4.1111771 | K54: ='Intern Norm'!K54*1.258 -> 4.3038371 | L54: ='Intern Norm'!L54*1.258 -> 4.3259723 | M54: ='Intern Norm'!M54*1.258 -> 4.2886452 | N54: =Summary!N56/'Blank substraction'!N$93 -> 0.078537358 | O54: =Summary!O56/'Blank substraction'!O$93 -> 0.071117146 | P54: =Summary!P56/'Blank substraction'!P$93 -> 0.083353429 | Q54: ='Intern Norm'!Q54*2.95 -> 7.2464549 | R54: ='Intern Norm'!R54*2.95 -> 6.9247642 | S54: ='Intern Norm'!S54*2.95 -> 7.1015399
A55: Palmitic acid | B55: =Summary!B57/'Blank substraction'!B$93 -> 0.36923108 | C55: =Summary!C57/'Blank substraction'!C$93 -> 0.35894544 | D55: =Summary!D57/'Blank substraction'!D$93 -> 0.46504473 | E55: =Summary!E57/'Blank substraction'!E$93 -> 0.70533417 | F55: =Summary!F57/'Blank substraction'!F$93 -> 0.71629475 | G55: =Summary!G57/'Blank substraction'!G$93 -> 0.72639577 | H55: ='Intern Norm'!H55*1.488 -> 0.35383037 | I55: ='Intern Norm'!I55*1.488 -> 0.37275022 | J55: ='Intern Norm'!J55*1.488 -> 0.381423 | K55: ='Intern Norm'!K55*1.258 -> 0.52330564 | L55: ='Intern Norm'!L55*1.258 -> 0.49228176 | M55: ='Intern Norm'!M55*1.258 -> 0.49356099 | N55: =Summary!N57/'Blank substraction'!N$93 -> 0.39275173 | O55: =Summary!O57/'Blank substraction'!O$93 -> 0.46023405 | P55: =Summary!P57/'Blank substraction'!P$93 -> 0.5066958 | Q55: ='Intern Norm'!Q55*2.95 -> 0.18374742 | R55: ='Intern Norm'!R55*2.95 -> 0.23769875 | S55: ='Intern Norm'!S55*2.95 -> 0.23351545
A56: Palmitoleic acid | B56: =Summary!B58/'Blank substraction'!B$93 -> 0.60903332 | C56: =Summary!C58/'Blank substraction'!C$93 -> 0.60112959 | D56: =Summary!D58/'Blank substraction'!D$93 -> 0.63470891 | E56: =Summary!E58/'Blank substraction'!E$93 -> 1.0257761 | F56: =Summary!F58/'Blank substraction'!F$93 -> 1.0172851 | G56: =Summary!G58/'Blank substraction'!G$93 -> 1.0476588 | H56: ='Intern Norm'!H56*1.488 -> 1.3181311 | I56: ='Intern Norm'!I56*1.488 -> 1.216942 | J56: ='Intern Norm'!J56*1.488 -> 1.2521044 | K56: ='Intern Norm'!K56*1.258 -> 0.96060772 | L56: ='Intern Norm'!L56*1.258 -> 0.87326747 | M56: ='Intern Norm'!M56*1.258 -> 0.89990229 | N56: =Summary!N58/'Blank substraction'!N$93 -> 0.77756999 | O56: =Summary!O58/'Blank substraction'!O$93 -> 0.75379184 | P56: =Summary!P58/'Blank substraction'!P$93 -> 0.86974303 | Q56: ='Intern Norm'!Q56*2.95 -> 0.78002467 | R56: ='Intern Norm'!R56*2.95 -> 0.64945406 | S56: ='Intern Norm'!S56*2.95 -> 0.69518096
A57: PEP | B57: =Summary!B59/'Blank substraction'!B$93 -> 0 | C57: =Summary!C59/'Blank substraction'!C$93 -> 0 | D57: =Summary!D59/'Blank substraction'!D$93 -> 0 | E57: =Summary!E59/'Blank substraction'!E$93 -> 0 | F57: =Summary!F59/'Blank substraction'!F$93 -> 0 | G57: =Summary!G59/'Blank substraction'!G$93 -> 0 | H57: ='Intern Norm'!H57*1.488 -> 0.00091045909 | I57: ='Intern Norm'!I57*1.488 -> 0.00076208491 | J57: ='Intern Norm'!J57*1.488 -> 0.00079065462 | K57: ='Intern Norm'!K57*1.258 -> 0.0022977392 | L57: ='Intern Norm'!L57*1.258 -> 0.0023229938 | M57: ='Intern Norm'!M57*1.258 -> 0.0023255872 | N57: =Summary!N59/'Blank substraction'!N$93 -> 0 | O57: =Summary!O59/'Blank substraction'!O$93 -> 0 | P57: =Summary!P59/'Blank substraction'!P$93 -> 0 | Q57: ='Intern Norm'!Q57*2.95 -> 0.011665539 | R57: ='Intern Norm'!R57*2.95 -> 0.01142912 | S57: ='Intern Norm'!S57*2.95 -> 0.011149649
A58: Phenylalanine | B58: =Summary!B60/'Blank substraction'!B$93 -> 0.014979821 | C58: =Summary!C60/'Blank substraction'!C$93 -> 0.013962772 | D58: =Summary!D60/'Blank substraction'!D$93 -> 0.014993849 | E58: =Summary!E60/'Blank substraction'!E$93 -> 0.020285338 | F58: =Summary!F60/'Blank substraction'!F$93 -> 0.021482315 | G58: =Summary!G60/'Blank substraction'!G$93 -> 0.01953356 | H58: ='Intern Norm'!H58*1.488 -> 1.7501633 | I58: ='Intern Norm'!I58*1.488 -> 1.4525169 | J58: ='Intern Norm'!J58*1.488 -> 1.3974217 | K58: ='Intern Norm'!K58*1.258 -> 1.4011969 | L58: ='Intern Norm'!L58*1.258 -> 1.3962914 | M58: ='Intern Norm'!M58*1.258 -> 1.3350157 | N58: =Summary!N60/'Blank substraction'!N$93 -> 0.028311994 | O58: =Summary!O60/'Blank substraction'!O$93 -> 0.023465494 | P58: =Summary!P60/'Blank substraction'!P$93 -> 0.025217283 | Q58: ='Intern Norm'!Q58*2.95 -> 3.7608873 | R58: ='Intern Norm'!R58*2.95 -> 3.3839792 | S58: ='Intern Norm'!S58*2.95 -> 2.4385874
A59: Phytosphingosine | B59: =Summary!B61/'Blank substraction'!B$93 -> 0.011196494 | C59: =Summary!C61/'Blank substraction'!C$93 -> 0.015376174 | D59: =Summary!D61/'Blank substraction'!D$93 -> 0.012471919 | E59: =Summary!E61/'Blank substraction'!E$93 -> 0.013498891 | F59: =Summary!F61/'Blank substraction'!F$93 -> 0.015936068 | G59: =Summary!G61/'Blank substraction'!G$93 -> 0.015130698 | H59: ='Intern Norm'!H59*1.488 -> 0 | I59: ='Intern Norm'!I59*1.488 -> 0 | J59: ='Intern Norm'!J59*1.488 -> 0 | K59: ='Intern Norm'!K59*1.258 -> 0 | L59: ='Intern Norm'!L59*1.258 -> 0 | M59: ='Intern Norm'!M59*1.258 -> 0 | N59: =Summary!N61/'Blank substraction'!N$93 -> 0.015695145 | O59: =Summary!O61/'Blank substraction'!O$93 -> 0.01650854 | P59: =Summary!P61/'Blank substraction'!P$93 -> 0.012349767 | Q59: ='Intern Norm'!Q59*2.95 -> 0 | R59: ='Intern Norm'!R59*2.95 -> 0 | S59: ='Intern Norm'!S59*2.95 -> 0
A60: Porphine | B60: =Summary!B62/'Blank substraction'!B$93 -> 0.092633569 | C60: =Summary!C62/'Blank substraction'!C$93 -> 0.088770077 | D60: =Summary!D62/'Blank substraction'!D$93 -> 0.10401703 | E60: =Summary!E62/'Blank substraction'!E$93 -> 0.10212785 | F60: =Summary!F62/'Blank substraction'!F$93 -> 0.10048061 | G60: =Summary!G62/'Blank substraction'!G$93 -> 0.11078086 | H60: ='Intern Norm'!H60*1.488 -> 0.10773526 | I60: ='Intern Norm'!I60*1.488 -> 0.095936716 | J60: ='Intern Norm'!J60*1.488 -> 0.13853818 | K60: ='Intern Norm'!K60*1.258 -> 0.11857129 | L60: ='Intern Norm'!L60*1.258 -> 0.13840661 | M60: ='Intern Norm'!M60*1.258 -> 0.13570362 | N60: =Summary!N62/'Blank substraction'!N$93 -> 0.1849124 | O60: =Summary!O62/'Blank substraction'!O$93 -> 0.18560516 | P60: =Summary!P62/'Blank substraction'!P$93 -> 0.17626182 | Q60: ='Intern Norm'!Q60*2.95 -> 0.065790733 | R60: ='Intern Norm'!R60*2.95 -> 0.071520096 | S60: ='Intern Norm'!S60*2.95 -> 0.12100966
A61: Proline | B61: =Summary!B63/'Blank substraction'!B$93 -> 0.0096766032 | C61: =Summary!C63/'Blank substraction'!C$93 -> 0.0066037725 | D61: =Summary!D63/'Blank substraction'!D$93 -> 0.0048602328 | E61: =Summary!E63/'Blank substraction'!E$93 -> 0.0062683699 | F61: =Summary!F63/'Blank substraction'!F$93 -> 0.0081580425 | G61: =Summary!G63/'Blank substraction'!G$93 -> 0.00703261 | H61: ='Intern Norm'!H61*1.488 -> 0.069607446 | I61: ='Intern Norm'!I61*1.488 -> 0.031437049 | J61: ='Intern Norm'!J61*1.488 -> 0.022648639 | K61: ='Intern Norm'!K61*1.258 -> 0.015850742 | L61: ='Intern Norm'!L61*1.258 -> 0.012416153 | M61: ='Intern Norm'!M61*1.258 -> 0.021615095 | N61: =Summary!N63/'Blank substraction'!N$93 -> 0.012397378 | O61: =Summary!O63/'Blank substraction'!O$93 -> 0.0058610138 | P61: =Summary!P63/'Blank substraction'!P$93 -> 0.00406672 | Q61: ='Intern Norm'!Q61*2.95 -> 0.05677518 | R61: ='Intern Norm'!R61*2.95 -> 0.055321675 | S61: ='Intern Norm'!S61*2.95 -> 0.075314821
A62: Pyroglutamate | B62: =Summary!B64/'Blank substraction'!B$93 -> 0.04076367 | C62: =Summary!C64/'Blank substraction'!C$93 -> 0.043159715 | D62: =Summary!D64/'Blank substraction'!D$93 -> 0.057044264 | E62: =Summary!E64/'Blank substraction'!E$93 -> 0.054675225 | F62: =Summary!F64/'Blank substraction'!F$93 -> 0.051892745 | G62: =Summary!G64/'Blank substraction'!G$93 -> 0.056481644 | H62: ='Intern Norm'!H62*1.488 -> 1.794765 | I62: ='Intern Norm'!I62*1.488 -> 2.0969222 | J62: ='Intern Norm'!J62*1.488 -> 2.6324336 | K62: ='Intern Norm'!K62*1.258 -> 1.7309306 | L62: ='Intern Norm'!L62*1.258 -> 1.8466232 | M62: ='Intern Norm'!M62*1.258 -> 1.6933791 | N62: =Summary!N64/'Blank substraction'!N$93 -> 0.11750452 | O62: =Summary!O64/'Blank substraction'!O$93 -> 0.142096 | P62: =Summary!P64/'Blank substraction'!P$93 -> 0.17084909 | Q62: ='Intern Norm'!Q62*2.95 -> 9.4144617 | R62: ='Intern Norm'!R62*2.95 -> 7.8920033 | S62: ='Intern Norm'!S62*2.95 -> 8.1413834
A63: Pyrophosphate | B63: =Summary!B65/'Blank substraction'!B$93 -> 0.34548522 | C63: =Summary!C65/'Blank substraction'!C$93 -> 0.33682055 | D63: =Summary!D65/'Blank substraction'!D$93 -> 0.35127819 | E63: =Summary!E65/'Blank substraction'!E$93 -> 0.44626266 | F63: =Summary!F65/'Blank substraction'!F$93 -> 0.51334578 | G63: =Summary!G65/'Blank substraction'!G$93 -> 0.5557298 | H63: ='Intern Norm'!H63*1.488 -> 4.9708538 | I63: ='Intern Norm'!I63*1.488 -> 3.8078385 | J63: ='Intern Norm'!J63*1.488 -> 2.9228906 | K63: ='Intern Norm'!K63*1.258 -> 0.091372823 | L63: ='Intern Norm'!L63*1.258 -> 0.073850591 | M63: ='Intern Norm'!M63*1.258 -> 0.062938136 | N63: =Summary!N65/'Blank substraction'!N$93 -> 0.99709771 | O63: =Summary!O65/'Blank substraction'!O$93 -> 0.91281627 | P63: =Summary!P65/'Blank substraction'!P$93 -> 0.98408941 | Q63: ='Intern Norm'!Q63*2.95 -> 0.68362911 | R63: ='Intern Norm'!R63*2.95 -> 0.67123337 | S63: ='Intern Norm'!S63*2.95 -> 0.62023353
