Workbook

Sheet ISmatrix
A1: Original data from GC-MS
C2: Blank1 | D2: Blank2 | E2: Blank3 | F2: Mito_atp4_1 | G2: Mito_atp4_2 | H2: Mito_atp4_3 | I2: Mito_sdh2_1 | J2: Mito_sdh2_2 | K2: Mito_sdh2_3 | L2: Cyto_atp4_1 | M2: Cyto_atp4_2 | N2: Cyto_atp4_3 | O2: Cyto_sdh2_1 | P2: Cyto_sdh2_2 | Q2: Cyto_sdh2_3 | R2: Mito_WT_1 | S2: Mito_WT_2 | T2: Mito_WT_3 | U2: Cyto_WT_1 | V2: Cyto_WT_2 | W2: Cyto_WT_3
A3: SC26_285mz_10.3051min | B3: Blank1/MET1.ELU | C3: 1372 | D3: 1388 | E3: 0 | F3: 0 | G3: 0 | H3: 0 | I3: 0 | J3: 0 | K3: 0 | L3: 0 | M3: 0 | N3: 0 | O3: 0 | P3: 0 | Q3: 0 | R3: 0 | S3: 0 | T3: 0 | U3: 0 | V3: 0 | W3: 0 | X3: =COUNTIF(H3:W3,0) -> 16
A4: SC40_147mz_10.4225min | B4: Blank1/MET1.ELU | C4: 13148 | D4: 6588 | E4: 0 | F4: 0 | G4: 0 | H4: 0 | I4: 0 | J4: 0 | K4: 0 | L4: 25811 | M4: 0 | N4: 0 | O4: 0 | P4: 0 | Q4: 0 | R4: 0 | S4: 0 | T4: 0 | U4: 0 | V4: 0 | W4: 0 | X4: =COUNTIF(H4:W4,0) -> 15
A5: SC64_204mz_10.6205min | B5: Blank1/MET1.ELU | C5: 132433 | D5: 0 | E5: 97173 | F5: 115458 | G5: 0 | H5: 118294 | I5: 175508 | J5: 0 | K5: 106901 | L5: 98105 | M5: 113438 | N5: 0 | O5: 126849 | P5: 96241 | Q5: 178638 | R5: 131774 | S5: 109091 | T5: 109051 | U5: 127581 | V5: 95897 | W5: 107141 | X5: =COUNTIF(H5:W5,0) -> 2
A6: SC133_113mz_11.201min | B6: Blank1/MET1.ELU | C6: 5597 | D6: 0 | E6: 4366 | F6: 0 | G6: 0 | H6: 0 | I6: 0 | J6: 0 | K6: 0 | L6: 0 | M6: 0 | N6: 0 | O6: 0 | P6: 0 | Q6: 0 | R6: 0 | S6: 0 | T6: 0 | U6: 0 | V6: 0 | W6: 0 | X6: =COUNTIF(H6:W6,0) -> 16
A7: SC854_211mz_17.2525min | B7: Blank1/MET1.ELU | C7: 1019 | D7: 595 | E7: 0 | F7: 0 | G7: 0 | H7: 0 | I7: 0 | J7: 0 | K7: 0 | L7: 0 | M7: 0 | N7: 0 | O7: 0 | P7: 0 | Q7: 0 | R7: 0 | S7: 0 | T7: 0 | U7: 0 | V7: 0 | W7: 0 | X7: =COUNTIF(H7:W7,0) -> 16
A8: SC1388_85mz_21.7304min | B8: Blank1/MET1.ELU | C8: 662 | D8: 0 | E8: 341 | F8: 0 | G8: 0 | H8: 0 | I8: 0 | J8: 0 | K8: 0 | L8: 0 | M8: 0 | N8: 0 | O8: 0 | P8: 0 | Q8: 0 | R8: 0 | S8: 0 | T8: 0 | U8: 0 | V8: 0 | W8: 0 | X8: =COUNTIF(H8:W8,0) -> 16
A9: SC1689_188mz_24.2512min | B9: Blank1/MET1.ELU | C9: 3038 | D9: 1552 | E9: 499 | F9: 0 | G9: 0 | H9: 0 | I9: 0 | J9: 0 | K9: 0 | L9: 0 | M9: 0 | N9: 0 | O9: 0 | P9: 0 | Q9: 0 | R9: 1307 | S9: 1711 | T9: 1676 | U9: 0 | V9: 0 | W9: 0 | X9: =COUNTIF(H9:W9,0) -> 13
A10: SC3009_121mz_35.3284min | B10: Blank1/MET1.ELU | C10: 203 | D10: 439 | E10: 0 | F10: 0 | G10: 0 | H10: 0 | I10: 0 | J10: 0 | K10: 0 | L10: 0 | M10: 0 | N10: 0 | O10: 0 | P10: 0 | Q10: 0 | R10: 0 | S10: 0 | T10: 0 | U10: 0 | V10: 0 | W10: 0 | X10: =COUNTIF(H10:W10,0) -> 16
A11: SC394_73mz_13.3919min | B11: Blank1/MET2.ELU | C11: 7062 | D11: 4336 | E11: 0 | F11: 0 | G11: 0 | H11: 0 | I11: 0 | J11: 0 | K11: 0 | L11: 0 | M11: 0 | N11: 0 | O11: 0 | P11: 0 | Q11: 0 | R11: 0 | S11: 0 | T11: 0 | U11: 0 | V11: 0 | W11: 0 | X11: =COUNTIF(H11:W11,0) -> 16
A12: SC438_244mz_13.7576min | B12: Blank1/MET2.ELU | C12: 16982 | D12: 30655 | E12: 33216 | F12: 0 | G12: 0 | H12: 0 | I12: 0 | J12: 0 | K12: 0 | L12: 0 | M12: 0 | N12: 0 | O12: 0 | P12: 0 | Q12: 0 | R12: 0 | S12: 0 | T12: 0 | U12: 0 | V12: 0 | W12: 0 | X12: =COUNTIF(H12:W12,0) -> 16
A13: SC516_70mz_14.417min | B13: Blank1/MET2.ELU | C13: 1869 | D13: 897 | E13: 0 | F13: 0 | G13: 0 | H13: 0 | I13: 0 | J13: 0 | K13: 0 | L13: 0 | M13: 0 | N13: 0 | O13: 0 | P13: 0 | Q13: 0 | R13: 0 | S13: 0 | T13: 0 | U13: 0 | V13: 0 | W13: 0 | X13: =COUNTIF(H13:W13,0) -> 16
A14: SC699_241mz_15.9462min | B14: Blank1/MET2.ELU | C14: 0 | D14: 8087 | E14: 0 | F14: 0 | G14: 0 | H14: 0 | I14: 0 | J14: 0 | K14: 0 | L14: 0 | M14: 0 | N14: 0 | O14: 0 | P14: 36102 | Q14: 0 | R14: 0 | S14: 0 | T14: 0 | U14: 0 | V14: 0 | W14: 0 | X14: =COUNTIF(H14:W14,0) -> 15
... A3361: SC4279_73mz_45.9828min | B3361: Y6/6_3.ELU | C3361: 0 | D3361: 0 | E3361: 0 | F3361: 0 | G3361: 0 | H3361: 0 | I3361: 0 | J3361: 0 | K3361: 0 | L3361: 0 | M3361: 0 | N3361: 0 | O3361: 0 | P3361: 0 | Q3361: 0 | R3361: 0 | S3361: 0 | T3361: 0 | U3361: 0 | V3361: 0 | W3361: 0 | X3361: =COUNTIF(H3361:W3361,0) -> 16

Sheet Filter and Annotation
A1: Filter and annotation
C2: Name | D2: RI_Exp | E2: RI_DB | F2: RI_dif | G2: Blank1 | H2: Blank2 | I2: Blank3 | J2: Mito_atp4_1 | K2: Mito_atp4_2 | L2: Mito_atp4_3 | M2: Mito_sdh2_1 | N2: Mito_sdh2_2 | O2: Mito_sdh2_3 | P2: Cyto_atp4_1 | Q2: Cyto_atp4_2 | R2: Cyto_atp4_3 | S2: Cyto_sdh2_1 | T2: Cyto_sdh2_2 | U2: Cyto_sdh2_3 | V2: Mito_WT_1 | W2: Mito_WT_2 | X2: Mito_WT_3 | Y2: Cyto_WT_1 | Z2: Cyto_WT_2 | AA2: Cyto_WT_3
A3: SC1014_73mz_18.5929min | B3: Blank1/MET2.ELU | C3: Glycerol | D3: 1285 | E3: 1289 | F3: =(D3-E3)/E3 -> -0.0031031808 | G3: 26311 | H3: 29190 | I3: 29533 | J3: 45971 | K3: 52010 | L3: 55115 | M3: 36732 | N3: 38848 | O3: 39408 | P3: 378115 | Q3: 397471 | R3: 361562 | S3: 340430 | T3: 329645 | U3: 319574 | V3: 102343 | W3: 142734 | X3: 138759 | Y3: 169403 | Z3: 156188 | AA3: 147871
A4: SC574_73mz_14.9054min | B4: M1/M1_1.ELU | C4: NA | F4: =(D4-E4)/E4 -> #DIV/0! | G4: 8552447 | H4: 7694144 | I4: 8484452 | J4: 39169898 | K4: 40271492 | L4: 37980352 | M4: 28232280 | N4: 29958086 | O4: 28129806 | P4: 7617525 | Q4: 7546793 | R4: 8941203 | S4: 2322495 | T4: 2649264 | U4: 5526023 | V4: 29425846 | W4: 25630241 | X4: 25717039 | Y4: 2439516 | Z4: 3803658 | AA4: 4034049
A5: SC1999_357mz_26.8575min | B5: M1/M1_1.ELU | C5: NA | G5: 0 | H5: 0 | I5: 0 | J5: 400183 | K5: 759171 | L5: 374360 | M5: 600566 | N5: 290231 | O5: 658263 | P5: 1383909 | Q5: 1230916 | R5: 1181441 | S5: 271717 | T5: 0 | U5: 0 | V5: 588469 | W5: 490329 | X5: 504617 | Y5: 597365 | Z5: 372542 | AA5: 169835
A6: SC3260_174mz_37.4364min | B6: M1/M1_1.ELU | C6: NA | F6: =(D6-E6)/E6 -> #DIV/0! | G6: 0 | H6: 0 | I6: 0 | J6: 110323 | K6: 0 | L6: 109253 | M6: 89834 | N6: 0 | O6: 106507 | P6: 778799 | Q6: 688552 | R6: 660816 | S6: 448025 | T6: 478257 | U6: 408551 | V6: 194522 | W6: 192411 | X6: 201072 | Y6: 893824 | Z6: 761792 | AA6: 752825
A7: SC1025_299mz_18.6818min | B7: M2/M2_2.ELU | C7: Phosphate | D7: 1289 | E7: 1286 | F7: =(D7-E7)/E7 -> 0.0023328149 | G7: 36410698 | H7: 26806983 | I7: 22095550 | J7: 159079911 | K7: 153049333 | L7: 159987767 | M7: 195756953 | N7: 205968199 | O7: 197073596 | P7: 516534162 | Q7: 517833437 | R7: 337919093 | S7: 652425596 | T7: 389308831 | U7: 588546288 | V7: 211005532 | W7: 234579885 | X7: 0 | Y7: 640941823 | Z7: 367297309 | AA7: 622632836
A8: SC2747_179mz_33.1312min | B8: M2/M2_2.ELU | C8: Tyrosine 2TMS | D8: 1901 | E8: 1904 | F8: =(D8-E8)/E8 -> -0.0015756303 | G8: 0 | H8: 0 | I8: 0 | J8: 84215 | K8: 103855 | L8: 129000 | M8: 178749 | N8: 170614 | O8: 198735 | P8: 204691 | Q8: 426486 | R8: 529862 | S8: 242860 | T8: 329739 | U8: 398628 | V8: 225505 | W8: 238252 | X8: 277505 | Y8: 0 | Z8: 0 | AA8: 824290
A9: SC4598_204mz_48.6594min | B9: M2/M2_2.ELU | C9: NA | G9: 0 | H9: 0 | I9: 0 | J9: 454931 | K9: 491580 | L9: 348580 | M9: 493204 | N9: 491394 | O9: 460076 | P9: 14216873 | Q9: 15824961 | R9: 13731773 | S9: 20377677 | T9: 19380851 | U9: 19987692 | V9: 617505 | W9: 810999 | X9: 742100 | Y9: 14656899 | Z9: 16787205 | AA9: 16226231
A10: SC2836_73mz_33.8738min | B10: M2/M2_3.ELU | C10: Lysine 4TMS | D10: 1941 | E10: 1922 | F10: =(D10-E10)/E10 -> 0.0098855359 | G10: 0 | H10: 0 | I10: 0 | J10: 9540365 | K10: 7456621 | L10: 5187813 | M10: 4842268 | N10: 5779229 | O10: 3872635 | P10: 349861535 | Q10: 345264893 | R10: 327536583 | S10: 425810814 | T10: 415791036 | U10: 381961080 | V10: 7122812 | W10: 8837719 | X10: 4544314 | Y10: 580876606 | Z10: 557917371 | AA10: 514767314
A11: SC825_144mz_17.0051min | B11: M3/M3_1.ELU | C11: Valine 2TMS | D11: 1224 | E11: 1227 | F11: =(D11-E11)/E11 -> -0.0024449878 | G11: 0 | H11: 0 | I11: 0 | J11: 288259 | K11: 290371 | L11: 294579 | M11: 461162 | N11: 510997 | O11: 482592 | P11: 2587700 | Q11: 2045223 | R11: 2861376 | S11: 2564127 | T11: 2938988 | U11: 3262170 | V11: 568220 | W11: 563517 | X11: 411591 | Y11: 4292809 | Z11: 4543125 | AA11: 3924703
A12: SC3706_73mz_41.1784min | B12: M3/M3_2.ELU | C12: Phenyl-glucose | D12: 2310 | E12: 2350 | F12: =(D12-E12)/E12 -> -0.017021277 | G12: 19485554 | H12: 19461629 | I12: 19905350 | J12: 22470695 | K12: 22802421 | L12: 22289673 | M12: 20917719 | N12: 20920092 | O12: 20134630 | P12: 7026029 | Q12: 7464554 | R12: 7324685 | S12: 7668758 | T12: 7433213 | U12: 7362716 | V12: 19323683 | W12: 20710069 | X12: 20339979 | Y12: 12924778 | Z12: 14338155 | AA12: 14091919
A13: SC1574_174mz_23.2896min | B13: M3/M3_2.ELU | C13: NA | F13: =(D13-E13)/E13 -> #DIV/0! | G13: 19578 | H13: 0 | I13: 0 | J13: 317686 | K13: 255871 | L13: 264776 | M13: 388221 | N13: 375369 | O13: 348484 | P13: 402174 | Q13: 343294 | R13: 348295 | S13: 264337 | T13: 218995 | U13: 183818 | V13: 560163 | W13: 462655 | X13: 464812 | Y13: 228051 | Z13: 0 | AA13: 0
A14: SC1970_126mz_26.6132min | B14: M3/M3_2.ELU | C14: NA | F14: =(D14-E14)/E14 -> #DIV/0! | G14: 0 | H14: 0 | I14: 0 | J14: 73654 | K14: 74155 | L14: 81619 | M14: 90326 | N14: 97582 | O14: 95871 | P14: 665186 | Q14: 536886 | R14: 268128 | S14: 776942 | T14: 657734 | U14: 606862 | V14: 174225 | W14: 132792 | X14: 87977 | Y14: 992660 | Z14: 0 | AA14: 571814
A15: SC2928_73mz_34.6487min | B15: M3/M3_2.ELU | C15: Sorbitol | D15: 1920 | E15: 1980 | F15: =(D15-E15)/E15 -> -0.03030303 | G15: 0 | H15: 0 | I15: 0 | J15: 34761960 | K15: 33513614 | L15: 32570240 | M15: 28981803 | N15: 29164975 | O15: 27702295 | P15: 554351560 | Q15: 549937607 | R15: 571281656 | S15: 234705307 | T15: 229275976 | U15: 224965527 | V15: 34637864 | W15: 33169441 | X15: 34072465 | Y15: 418468203 | Z15: 449536841 | AA15: 435839986
A16: SC3790_73mz_41.8772min | B16: M3/M3_2.ELU | C16: NA | F16: =(D16-E16)/E16 -> #DIV/0! | G16: 0 | H16: 0 | I16: 0 | J16: 814773 | K16: 1852604 | L16: 2223068 | M16: 1546616 | N16: 2239777 | O16: 2680377 | P16: 0 | Q16: 0 | R16: 0 | S16: 0 | T16: 0 | U16: 0 | V16: 1513777 | W16: 2239463 | X16: 3149408 | Y16: 0 | Z16: 0 | AA16: 0
A17: SC3893_290mz_42.7397min | B17: M4/M4_1.ELU | C17: EDTA | F17: =(D17-E17)/E17 -> #DIV/0! | G17: 0 | H17: 0 | I17: 0 | J17: 168140047 | K17: 151459853 | L17: 121009370 | M17: 78693462 | N17: 77989851 | O17: 69128534 | P17: 679670568 | Q17: 701952312 | R17: 705115985 | S17: 722056001 | T17: 735072344 | U17: 733880691 | V17: 239002335 | W17: 248726848 | X17: 222651376 | Y17: 623864506 | Z17: 743461564 | AA17: 687149599
A18: SC619_86mz_15.2777min | B18: M4/M4_2.ELU | C18: Leucine TMS | D18: 1167 | E18: 1164 | F18: =(D18-E18)/E18 -> 0.0025773196 | G18: 0 | H18: 0 | I18: 0 | J18: 0 | K18: 97839 | L18: 126947 | M18: 116963 | N18: 129107 | O18: 175660 | P18: 2851589 | Q18: 3432509 | R18: 3561271 | S18: 3246637 | T18: 3327545 | U18: 3702506 | V18: 87809 | W18: 268505 | X18: 298464 | Y18: 7725865 | Z18: 8765569 | AA18: 8328882
A19: SC1077_180mz_19.1231min | B19: M4/M4_3.ELU | C19: Nicotinic acid | D19: 1309 | E19: 1305 | F19: =(D19-E19)/E19 -> 0.0030651341 | G19: 33686 | H19: 12511 | I19: 12476 | J19: 19708 | K19: 0 | L19: 40002 | M19: 40546 | N19: 49803 | O19: 53394 | P19: 256563 | Q19: 257390 | R19: 284462 | S19: 642524 | T19: 652791 | U19: 627324 | V19: 203178 | W19: 242043 | X19: 201020 | Y19: 573838 | Z19: 582913 | AA19: 620797
A20: SC3042_73mz_35.6026min | B20: M4/M4_3.ELU | C20: Palmitoleic acid | D20: 2027 | E20: 2031 | F20: =(D20-E20)/E20 -> -0.0019694732 | G20: 1328651 | H20: 273310 | I20: 154233 | J20: 14270800 | K20: 14292608 | L20: 14732852 | M20: 22042294 | N20: 21867096 | O20: 21679620 | P20: 6809341 | Q20: 6690189 | R20: 6748886 | S20: 6441255 | T20: 5745321 | U20: 5852270 | V20: 15610914 | W20: 16196479 | X20: 18275953 | Y20: 4002905 | Z20: 3741999 | AA20: 3906223
A21: SC3516_73mz_39.5805min | B21: M4/M4_3.ELU | C21: NA | F21: =(D21-E21)/E21 -> #DIV/0! | G21: 0 | H21: 0 | I21: 0 | J21: 142347119 | K21: 137170111 | L21: 135348195 | M21: 161964471 | N21: 163832431 | O21: 160301812 | P21: 7006281 | Q21: 7171690 | R21: 6229528 | S21: 7085577 | T21: 5589190 | U21: 5053745 | V21: 107596848 | W21: 107902673 | X21: 114064929 | Y21: 0 | Z21: 0 | AA21: 0
A22: SC2866_73mz_34.1279min | B22: M4/M4_3.ELU | C22: Glucose | D22: 1876 | E22: 1954 | F22: =(D22-E22)/E22 -> -0.039918117 | G22: 0 | H22: 0 | I22: 0 | J22: 149615 | K22: 183637 | L22: 190409 | M22: 265365 | N22: 276385 | O22: 286794 | P22: 2518151 | Q22: 0 | R22: 2803874 | S22: 0 | T22: 0 | U22: 0 | V22: 144530 | W22: 162853 | X22: 140062 | Y22: 1417895 | Z22: 1389079 | AA22: 1184265
A23: SC12_132mz_10.1842min | B23: M5/M5_1.ELU | C23: NA | F23: =(D23-E23)/E23 -> #DIV/0! | G23: 37139 | H23: 34435 | I23: 0 | J23: 0 | K23: 18678 | L23: 0 | M23: 18806 | N23: 0 | O23: 0 | P23: 0 | Q23: 0 | R23: 37102 | S23: 16691 | T23: 0 | U23: 19406 | V23: 0 | W23: 0 | X23: 57627 | Y23: 31584 | Z23: 36484 | AA23: 86042
A24: SC318_73mz_12.757min | B24: M5/M5_1.ELU | C24: NA | F24: =(D24-E24)/E24 -> #DIV/0! | G24: 557590 | H24: 475289 | I24: 472770 | J24: 500918 | K24: 511814 | L24: 496512 | M24: 450308 | N24: 453968 | O24: 465348 | P24: 394711 | Q24: 379615 | R24: 0 | S24: 419237 | T24: 499475 | U24: 0 | V24: 468725 | W24: 495666 | X24: 506059 | Y24: 0 | Z24: 454489 | AA24: 432386
A25: SC2622_285mz_32.0802min | B25: M5/M5_1.ELU | C25: Myristic acid | D25: 1850 | E25: 1852 | F25: =(D25-E25)/E25 -> -0.0010799136 | G25: 74335 | H25: 40503 | I25: 46918 | J25: 351451 | K25: 343647 | L25: 481146 | M25: 603740 | N25: 613525 | O25: 589753 | P25: 159702 | Q25: 140259 | R25: 161742 | S25: 211477 | T25: 0 | U25: 174942 | V25: 1387217 | W25: 1503330 | X25: 1514438 | Y25: 0 | Z25: 0 | AA25: 0
A26: SC141_75mz_11.273min | B26: M5/M5_2.ELU | C26: NA | F26: =(D26-E26)/E26 -> #DIV/0! | G26: 0 | H26: 0 | I26: 0 | J26: 1202712 | K26: 1368619 | L26: 1342974 | M26: 2014661 | N26: 2230725 | O26: 2217212 | P26: 204512 | Q26: 0 | R26: 179717 | S26: 209503 | T26: 194694 | U26: 189540 | V26: 1143278 | W26: 1333734 | X26: 1436132 | Y26: 89259 | Z26: 0 | AA26: 85671
A27: SC921_110mz_17.8085min | B27: M5/M5_2.ELU | C27: NA | F27: =(D27-E27)/E27 -> #DIV/0! | G27: 0 | H27: 0 | I27: 0 | J27: 87656 | K27: 106617 | L27: 118032 | M27: 308356 | N27: 349386 | O27: 345297 | P27: 172119 | Q27: 195864 | R27: 183093 | S27: 199185 | T27: 209441 | U27: 202979 | V27: 463567 | W27: 442528 | X27: 431708 | Y27: 0 | Z27: 0 | AA27: 456671
A28: SC1017_205mz_18.6172min | B28: M5/M5_2.ELU | C28: NA | F28: =(D28-E28)/E28 -> #DIV/0! | G28: 519541 | H28: 0 | I28: 0 | J28: 926037 | K28: 905661 | L28: 1074066 | M28: 849992 | N28: 0 | O28: 762045 | P28: 9010633 | Q28: 6248760 | R28: 5952477 | S28: 3843035 | T28: 6627984 | U28: 0 | V28: 2068740 | W28: 0 | X28: 1972255 | Y28: 0 | Z28: 0 | AA28: 0
A29: SC1098_142mz_19.2934min | B29: M5/M5_2.ELU | C29: Proline | D29: 1305 | E29: 1311 | F29: =(D29-E29)/E29 -> -0.004576659 | G29: 0 | H29: 0 | I29: 0 | J29: 217440 | K29: 150582 | L29: 108333 | M29: 131120 | N29: 170667 | O29: 141599 | P29: 328672 | Q29: 157704 | R29: 111488 | S29: 96626 | T29: 73364 | U29: 126507 | V29: 239563 | W29: 121382 | X29: 82717 | Y29: 248748 | Z29: 268885 | AA29: 359773
A30: SC2376_73mz_30.019min | B30: M5/M5_3.ELU | C30: Ribitol | D30: 1747 | E30: 1753 | F30: =(D30-E30)/E30 -> -0.0034227039 | G30: 32819670 | H30: 33376212 | I30: 33270949 | J30: 35520565 | K30: 33600491 | L30: 35211005 | M30: 31889707 | N30: 32543327 | O30: 28910233 | P30: 11281943 | Q30: 11709761 | R30: 12048029 | S30: 13213804 | T30: 12520723 | U30: 12540104 | V30: 30052173 | W30: 29296545 | X30: 33050931 | Y30: 23370217 | Z30: 25008975 | AA30: 24751690
A31: SC293_174mz_12.5438min | B31: M6/M6_1.ELU | C31: NA | F31: =(D31-E31)/E31 -> #DIV/0! | G31: 78565 | H31: 65140 | I31: 56853 | J31: 72479 | K31: 91505 | L31: 68769 | M31: 65672 | N31: 52758 | O31: 58622 | P31: 49868 | Q31: 31501 | R31: 0 | S31: 46070 | T31: 23746 | U31: 0 | V31: 73668 | W31: 45401 | X31: 78963 | Y31: 0 | Z31: 52175 | AA31: 62620
A32: SC4524_73mz_48.0395min | B32: M6/M6_1.ELU | C32: NA | F32: =(D32-E32)/E32 -> #DIV/0! | G32: 13179484 | H32: 12787997 | I32: 12438070 | J32: 18965694 | K32: 18325097 | L32: 18411121 | M32: 15539985 | N32: 16781568 | O32: 15411733 | P32: 4403107 | Q32: 4802370 | R32: 5518140 | S32: 4192776 | T32: 4181573 | U32: 4372787 | V32: 15075205 | W32: 17053276 | X32: 16309459 | Y32: 9079473 | Z32: 10386024 | AA32: 9674855
A33: SC532_147mz_14.5529min | B33: M6/M6_1.ELU | C33: Oxalic acid | D33: 1136 | E33: 1137 | F33: =(D33-E33)/E33 -> -0.00087950748 | G33: 0 | H33: 0 | I33: 0 | J33: 943262 | K33: 932962 | L33: 817807 | M33: 1340762 | N33: 1298969 | O33: 1109372 | P33: 10798326 | Q33: 12603885 | R33: 12772751 | S33: 14773604 | T33: 14364381 | U33: 15149713 | V33: 2023305 | W33: 2163158 | X33: 2189591 | Y33: 18205663 | Z33: 20946943 | AA33: 19412905
A34: SC5695_129mz_57.8567min | B34: M6/M6_1.ELU | C34: NA | F34: =(D34-E34)/E34 -> #DIV/0! | G34: 0 | H34: 0 | I34: 0 | J34: 0 | K34: 0 | L34: 0 | M34: 113246 | N34: 210526 | O34: 282869 | P34: 0 | Q34: 0 | R34: 0 | S34: 0 | T34: 0 | U34: 0 | V34: 212870 | W34: 239079 | X34: 304584 | Y34: 0 | Z34: 0 | AA34: 0
A35: SC80_221mz_10.7539min | B35: M6/M6_2.ELU | C35: Boric acid | D35: 1010 | E35: 998 | F35: =(D35-E35)/E35 -> 0.012024048 | G35: 16992433 | H35: 15475636 | I35: 13838183 | J35: 23462732 | K35: 20039733 | L35: 19263210 | M35: 2771544 | N35: 2936555 | O35: 2501232 | P35: 13134033 | Q35: 13513156 | R35: 13266199 | S35: 5123235 | T35: 3726225 | U35: 5544586 | V35: 30056801 | W35: 15033401 | X35: 15036540 | Y35: 2611164 | Z35: 2650913 | AA35: 2434710
A36: SC1471_373mz_22.4258min | B36: M6/M6_2.ELU | C36: NA | F36: =(D36-E36)/E36 -> #DIV/0! | G36: 11379 | H36: 11044 | I36: 15429 | J36: 96622 | K36: 84308 | L36: 115025 | M36: 231745 | N36: 188975 | O36: 234021 | P36: 1761867 | Q36: 2295521 | R36: 1458171 | S36: 3838406 | T36: 3421371 | U36: 1435266 | V36: 426258 | W36: 177323 | X36: 427229 | Y36: 2823647 | Z36: 2050789 | AA36: 922552
A37: SC4517_361mz_47.9793min | B37: M6/M6_2.ELU | C37: NA | G37: 0 | H37: 0 | I37: 0 | J37: 7037952 | K37: 7509298 | L37: 7047448 | M37: 11272247 | N37: 12158564 | O37: 10973512 | P37: 59031088 | Q37: 63563620 | R37: 58287418 | S37: 69509011 | T37: 65573788 | U37: 66716144 | V37: 8095987 | W37: 9312451 | X37: 9042881 | Y37: 32633028 | Z37: 37686942 | AA37: 36295079
A38: SC6041_647mz_60.7626min | B38: S1/S1_1.ELU | C38: NA | F38: =(D38-E38)/E38 -> #DIV/0! | G38: 43441 | H38: 34645 | I38: 14176 | J38: 90302 | K38: 120460 | L38: 63288 | M38: 0 | N38: 74833 | O38: 30745 | P38: 189647 | Q38: 262111 | R38: 164330 | S38: 84003 | T38: 67805 | U38: 152395 | V38: 93381 | W38: 41215 | X38: 39913 | Y38: 91578 | Z38: 101995 | AA38: 0
A39: SC1662_160mz_24.027min | B39: S1/S1_1.ELU | C39: NA | F39: =(D39-E39)/E39 -> #DIV/0! | G39: 0 | H39: 0 | I39: 0 | J39: 21350 | K39: 19409 | L39: 22885 | M39: 33880 | N39: 33334 | O39: 30675 | P39: 51446 | Q39: 54086 | R39: 52423 | S39: 53774 | T39: 53267 | U39: 37206 | V39: 76605 | W39: 53226 | X39: 49126 | Y39: 114037 | Z39: 110341 | AA39: 0
A40: SC1795_84mz_25.1461min | B40: S1/S1_1.ELU | C40: Glutamate 2TMS | D40: 1539 | E40: 1528 | F40: =(#REF!-D40)/D40 -> #REF! | G40: 0 | H40: 0 | I40: 0 | J40: 428901 | K40: 541955 | L40: 636777 | M40: 0 | N40: 616695 | O40: 719145 | P40: 3840774 | Q40: 4790486 | R40: 4625911 | S40: 7756437 | T40: 6210456 | U40: 9125808 | V40: 1539673 | W40: 2266775 | X40: 2213431 | Y40: 22155888 | Z40: 12562980 | AA40: 36273622
...

Sheet Annotation
A1: Annotated data matrix
C2: Name | D2: RI_Exp | E2: RI_DB | F2: RI_dif | G2: Blank1 | H2: Blank2 | I2: Blank3 | J2: Average_Blank | K2: Mito_atp4_1 | L2: Mito_atp4_2 | M2: Mito_atp4_3 | N2: Mito_sdh2_1 | O2: Mito_sdh2_2 | P2: Mito_sdh2_3 | Q2: Cyto_atp4_1 | R2: Cyto_atp4_2 | S2: Cyto_atp4_3 | T2: Cyto_sdh2_1 | U2: Cyto_sdh2_2 | V2: Cyto_sdh2_3 | W2: Mito_WT_1 | X2: Mito_WT_2 | Y2: Mito_WT_3 | Z2: Cyto_WT_1 | AA2: Cyto_WT_2 | AB2: Cyto_WT_3
A3: SC1014_73mz_18.5929min | B3: Blank1/MET2.ELU | C3: Glycerol | D3: 1285 | E3: 1289 | F3: =(D3-E3)/E3 -> -0.0031031808 | G3: 26311 | H3: 29190 | I3: 29533 | J3: =AVERAGE(G3:I3) -> 28344.667 | K3: 45971 | L3: 52010 | M3: 55115 | N3: 36732 | O3: 38848 | P3: 39408 | Q3: 378115 | R3: 397471 | S3: 361562 | T3: 340430 | U3: 329645 | V3: 319574 | W3: 102343 | X3: 142734 | Y3: 138759 | Z3: 169403 | AA3: 156188 | AB3: 147871
A4: SC1999_357mz_26.8575min | B4: M1/M1_1.ELU | C4: NA | G4: 0 | H4: 0 | I4: 0 | J4: =AVERAGE(G4:I4) -> 0 | K4: 400183 | L4: 759171 | M4: 374360 | N4: 600566 | O4: 290231 | P4: 658263 | Q4: 1383909 | R4: 1230916 | S4: 1181441 | T4: 271717 | U4: 0 | V4: 0 | W4: 588469 | X4: 490329 | Y4: 504617 | Z4: 597365 | AA4: 372542 | AB4: 169835
A5: SC1025_299mz_18.6818min | B5: M2/M2_2.ELU | C5: Phosphate | D5: 1289 | E5: 1286 | F5: =(D5-E5)/E5 -> 0.0023328149 | G5: 36410698 | H5: 26806983 | I5: 22095550 | J5: =AVERAGE(G5:I5) -> 28437744 | K5: 159079911 | L5: 153049333 | M5: 159987767 | N5: 195756953 | O5: 205968199 | P5: 197073596 | Q5: 516534162 | R5: 517833437 | S5: 337919093 | T5: 652425596 | U5: 389308831 | V5: 588546288 | W5: 211005532 | X5: 234579885 | Y5: 0 | Z5: 640941823 | AA5: 367297309 | AB5: 622632836
A6: SC2747_179mz_33.1312min | B6: M2/M2_2.ELU | C6: Tyrosine 2TMS | D6: 1901 | E6: 1904 | F6: =(D6-E6)/E6 -> -0.0015756303 | G6: 0 | H6: 0 | I6: 0 | J6: =AVERAGE(G6:I6) -> 0 | K6: 84215 | L6: 103855 | M6: 129000 | N6: 178749 | O6: 170614 | P6: 198735 | Q6: 204691 | R6: 426486 | S6: 529862 | T6: 242860 | U6: 329739 | V6: 398628 | W6: 225505 | X6: 238252 | Y6: 277505 | Z6: 0 | AA6: 0 | AB6: 824290
A7: SC2836_73mz_33.8738min | B7: M2/M2_3.ELU | C7: Lysine 4TMS | D7: 1941 | E7: 1922 | F7: =(D7-E7)/E7 -> 0.0098855359 | G7: 0 | H7: 0 | I7: 0 | J7: =AVERAGE(G7:I7) -> 0 | K7: 9540365 | L7: 7456621 | M7: 5187813 | N7: 4842268 | O7: 5779229 | P7: 3872635 | Q7: 349861535 | R7: 345264893 | S7: 327536583 | T7: 425810814 | U7: 415791036 | V7: 381961080 | W7: 7122812 | X7: 8837719 | Y7: 4544314 | Z7: 580876606 | AA7: 557917371 | AB7: 514767314
A8: SC825_144mz_17.0051min | B8: M3/M3_1.ELU | C8: Valine 2TMS | D8: 1224 | E8: 1227 | F8: =(D8-E8)/E8 -> -0.0024449878 | G8: 0 | H8: 0 | I8: 0 | J8: =AVERAGE(G8:I8) -> 0 | K8: 288259 | L8: 290371 | M8: 294579 | N8: 461162 | O8: 510997 | P8: 482592 | Q8: 2587700 | R8: 2045223 | S8: 2861376 | T8: 2564127 | U8: 2938988 | V8: 3262170 | W8: 568220 | X8: 563517 | Y8: 411591 | Z8: 4292809 | AA8: 4543125 | AB8: 3924703
A9: SC3706_73mz_41.1784min | B9: M3/M3_2.ELU | C9: Phenyl-glucose | D9: 2310 | E9: 2350 | F9: =(D9-E9)/E9 -> -0.017021277 | G9: 19485554 | H9: 19461629 | I9: 19905350 | J9: =AVERAGE(G9:I9) -> 19617511 | K9: 22470695 | L9: 22802421 | M9: 22289673 | N9: 20917719 | O9: 20920092 | P9: 20134630 | Q9: 7026029 | R9: 7464554 | S9: 7324685 | T9: 7668758 | U9: 7433213 | V9: 7362716 | W9: 19323683 | X9: 20710069 | Y9: 20339979 | Z9: 12924778 | AA9: 14338155 | AB9: 14091919
A10: SC2928_73mz_34.6487min | B10: M3/M3_2.ELU | C10: Sorbitol | D10: 1944 | E10: 1980 | F10: =(D10-E10)/E10 -> -0.018181818 | G10: 0 | H10: 0 | I10: 0 | J10: =AVERAGE(G10:I10) -> 0 | K10: 34761960 | L10: 33513614 | M10: 32570240 | N10: 28981803 | O10: 29164975 | P10: 27702295 | Q10: 554351560 | R10: 549937607 | S10: 571281656 | T10: 234705307 | U10: 229275976 | V10: 224965527 | W10: 34637864 | X10: 33169441 | Y10: 34072465 | Z10: 418468203 | AA10: 449536841 | AB10: 435839986
A11: SC3893_290mz_42.7397min | B11: M4/M4_1.ELU | C11: EDTA | F11: =(D11-E11)/E11 -> #DIV/0! | G11: 0 | H11: 0 | I11: 0 | J11: =AVERAGE(G11:I11) -> 0 | K11: 168140047 | L11: 151459853 | M11: 121009370 | N11: 78693462 | O11: 77989851 | P11: 69128534 | Q11: 679670568 | R11: 701952312 | S11: 705115985 | T11: 722056001 | U11: 735072344 | V11: 733880691 | W11: 239002335 | X11: 248726848 | Y11: 222651376 | Z11: 623864506 | AA11: 743461564 | AB11: 687149599
A12: SC619_86mz_15.2777min | B12: M4/M4_2.ELU | C12: Leucine TMS | D12: 1167 | E12: 1164 | F12: =(D12-E12)/E12 -> 0.0025773196 | G12: 0 | H12: 0 | I12: 0 | J12: =AVERAGE(G12:I12) -> 0 | K12: 0 | L12: 97839 | M12: 126947 | N12: 116963 | O12: 129107 | P12: 175660 | Q12: 2851589 | R12: 3432509 | S12: 3561271 | T12: 3246637 | U12: 3327545 | V12: 3702506 | W12: 87809 | X12: 268505 | Y12: 298464 | Z12: 7725865 | AA12: 8765569 | AB12: 8328882
A13: SC1077_180mz_19.1231min | B13: M4/M4_3.ELU | C13: Nicotinic acid | D13: 1309 | E13: 1305 | F13: =(D13-E13)/E13 -> 0.0030651341 | G13: 33686 | H13: 12511 | I13: 12476 | J13: =AVERAGE(G13:I13) -> 19557.667 | K13: 19708 | L13: 0 | M13: 40002 | N13: 40546 | O13: 49803 | P13: 53394 | Q13: 256563 | R13: 257390 | S13: 284462 | T13: 642524 | U13: 652791 | V13: 627324 | W13: 203178 | X13: 242043 | Y13: 201020 | Z13: 573838 | AA13: 582913 | AB13: 620797
A14: SC3042_73mz_35.6026min | B14: M4/M4_3.ELU | C14: Palmitoleic acid | D14: 2027 | E14: 2031 | F14: =(D14-E14)/E14 -> -0.0019694732 | G14: 1328651 | H14: 273310 | I14: 154233 | J14: =AVERAGE(G14:I14) -> 585398 | K14: 14270800 | L14: 14292608 | M14: 14732852 | N14: 22042294 | O14: 21867096 | P14: 21679620 | Q14: 6809341 | R14: 6690189 | S14: 6748886 | T14: 6441255 | U14: 5745321 | V14: 5852270 | W14: 15610914 | X14: 16196479 | Y14: 18275953 | Z14: 4002905 | AA14: 3741999 | AB14: 3906223
A15: SC2866_73mz_34.1279min | B15: M4/M4_3.ELU | C15: Glucose | D15: 1876 | E15: 1954 | F15: =(D15-E15)/E15 -> -0.039918117 | G15: 0 | H15: 0 | I15: 0 | J15: =AVERAGE(G15:I15) -> 0 | K15: 149615 | L15: 183637 | M15: 190409 | N15: 265365 | O15: 276385 | P15: 286794 | Q15: 2518151 | R15: 0 | S15: 2803874 | T15: 0 | U15: 0 | V15: 0 | W15: 144530 | X15: 162853 | Y15: 140062 | Z15: 1417895 | AA15: 1389079 | AB15: 1184265
A16: SC2622_285mz_32.0802min | B16: M5/M5_1.ELU | C16: Myristic acid | D16: 1850 | E16: 1852 | F16: =(D16-E16)/E16 -> -0.0010799136 | G16: 74335 | H16: 40503 | I16: 46918 | J16: =AVERAGE(G16:I16) -> 53918.667 | K16: 351451 | L16: 343647 | M16: 481146 | N16: 603740 | O16: 613525 | P16: 589753 | Q16: 159702 | R16: 140259 | S16: 161742 | T16: 211477 | U16: 0 | V16: 174942 | W16: 1387217 | X16: 1503330 | Y16: 1514438 | Z16: 0 | AA16: 0 | AB16: 0
A17: SC1098_142mz_19.2934min | B17: M5/M5_2.ELU | C17: Proline | D17: 1305 | E17: 1311 | F17: =(D17-E17)/E17 -> -0.004576659 | G17: 0 | H17: 0 | I17: 0 | J17: =AVERAGE(G17:I17) -> 0 | K17: 217440 | L17: 150582 | M17: 108333 | N17: 131120 | O17: 170667 | P17: 141599 | Q17: 328672 | R17: 157704 | S17: 111488 | T17: 96626 | U17: 73364 | V17: 126507 | W17: 239563 | X17: 121382 | Y17: 82717 | Z17: 248748 | AA17: 268885 | AB17: 359773
A18: SC2376_73mz_30.019min | B18: M5/M5_3.ELU | C18: Ribitol | D18: 1747 | E18: 1753 | F18: =(D18-E18)/E18 -> -0.0034227039 | G18: 32819670 | H18: 33376212 | I18: 33270949 | J18: =AVERAGE(G18:I18) -> 33155610 | K18: 35520565 | L18: 33600491 | M18: 35211005 | N18: 31889707 | O18: 32543327 | P18: 28910233 | Q18: 11281943 | R18: 11709761 | S18: 12048029 | T18: 13213804 | U18: 12520723 | V18: 12540104 | W18: 30052173 | X18: 29296545 | Y18: 33050931 | Z18: 23370217 | AA18: 25008975 | AB18: 24751690
A19: SC532_147mz_14.5529min | B19: M6/M6_1.ELU | C19: Oxalic acid | D19: 1136 | E19: 1137 | F19: =(D19-E19)/E19 -> -0.00087950748 | G19: 0 | H19: 0 | I19: 0 | J19: =AVERAGE(G19:I19) -> 0 | K19: 943262 | L19: 932962 | M19: 817807 | N19: 1340762 | O19: 1298969 | P19: 1109372 | Q19: 10798326 | R19: 12603885 | S19: 12772751 | T19: 14773604 | U19: 14364381 | V19: 15149713 | W19: 2023305 | X19: 2163158 | Y19: 2189591 | Z19: 18205663 | AA19: 20946943 | AB19: 19412905
A20: SC80_221mz_10.7539min | B20: M6/M6_2.ELU | C20: Boric acid | D20: 1010 | E20: 998 | F20: =(D20-E20)/E20 -> 0.012024048 | G20: 16992433 | H20: 15475636 | I20: 13838183 | J20: =AVERAGE(G20:I20) -> 15435417 | K20: 23462732 | L20: 20039733 | M20: 19263210 | N20: 2771544 | O20: 2936555 | P20: 2501232 | Q20: 13134033 | R20: 13513156 | S20: 13266199 | T20: 5123235 | U20: 3726225 | V20: 5544586 | W20: 30056801 | X20: 15033401 | Y20: 15036540 | Z20: 2611164 | AA20: 2650913 | AB20: 2434710
A21: SC1795_84mz_25.1461min | B21: S1/S1_1.ELU | C21: Glutamate 3TMS | D21: 1539 | E21: 1528 | F21: =(D21-E21)/E21 -> 0.0071989529 | G21: 0 | H21: 0 | I21: 0 | J21: =AVERAGE(G21:I21) -> 0 | K21: 428901 | L21: 541955 | M21: 636777 | N21: 0 | O21: 616695 | P21: 719145 | Q21: 3840774 | R21: 4790486 | S21: 4625911 | T21: 7756437 | U21: 6210456 | V21: 9125808 | W21: 1539673 | X21: 2266775 | Y21: 2213431 | Z21: 22155888 | AA21: 12562980 | AB21: 36273622
A22: SC2059_246mz_27.359min | B22: S1/S1_1.ELU | C22: Glutamate 2TMS | D22: 1651 | E22: 1633 | F22: =(D22-E22)/E22 -> 0.011022658 | G22: 0 | H22: 0 | I22: 0 | J22: =AVERAGE(G22:I22) -> 0 | K22: 2398925 | L22: 2130654 | M22: 2257034 | N22: 2093163 | O22: 2104566 | P22: 1941514 | Q22: 29996517 | R22: 29056077 | S22: 25858759 | T22: 33597758 | U22: 31407444 | V22: 29170109 | W22: 6286534 | X22: 5340375 | Y22: 5384906 | Z22: 99994524 | AA22: 91686930 | AB22: 81140911
A23: SC2989_204mz_35.1638min | B23: S1/S1_1.ELU | C23: Glucopyranose | D23: 1931 | E23: 2007 | F23: =(D23-E23)/E23 -> -0.037867464 | G23: 0 | H23: 0 | I23: 0 | J23: =AVERAGE(G23:I23) -> 0 | K23: 0 | L23: 0 | M23: 0 | N23: 0 | O23: 0 | P23: 0 | Q23: 6362886 | R23: 6906003 | S23: 6953661 | T23: 12491281 | U23: 12754158 | V23: 12120431 | W23: 0 | X23: 0 | Y23: 0 | Z23: 5392765 | AA23: 6169403 | AB23: 5435094
A24: SC883_174mz_17.4942min | B24: S1/S1_2.ELU | C24: Ethanolamine 3TMS | D24: 1266 | E24: 1245 | F24: =(D24-E24)/E24 -> 0.01686747 | G24: 1042780 | H24: 354671 | I24: 138224 | J24: =AVERAGE(G24:I24) -> 511891.67 | K24: 1577953 | L24: 1764845 | M24: 1635269 | N24: 1423388 | O24: 1596328 | P24: 1448332 | Q24: 1596293 | R24: 1572902 | S24: 1549927 | T24: 1899871 | U24: 1950830 | V24: 1900542 | W24: 1645676 | X24: 1657873 | Y24: 1404576 | Z24: 1725563 | AA24: 1836667 | AB24: 1623795
A25: SC1450_234mz_22.2488min | B25: S1/S1_2.ELU | C25: TRIS | F25: =(D25-E25)/E25 -> #DIV/0! | G25: 0 | H25: 0 | I25: 0 | J25: =AVERAGE(G25:I25) -> 0 | K25: 502287 | L25: 596096 | M25: 720641 | N25: 525734 | O25: 601005 | P25: 727234 | Q25: 9993791 | R25: 11326648 | S25: 14086131 | T25: 11099247 | U25: 11291790 | V25: 11766197 | W25: 3052239 | X25: 3672266 | Y25: 3823113 | Z25: 63769168 | AA25: 80973402 | AB25: 85066441
A26: SC1766_306mz_24.9038min | B26: S1/S1_2.ELU | C26: TRIS | F26: =(D26-E26)/E26 -> #DIV/0! | G26: 0 | H26: 0 | I26: 0 | J26: =AVERAGE(G26:I26) -> 0 | K26: 1671528 | L26: 1508641 | M26: 1395542 | N26: 1282923 | O26: 1320930 | P26: 1115580 | Q26: 23274538 | R26: 23008581 | S26: 17759659 | T26: 17246363 | U26: 16880407 | V26: 14605279 | W26: 5904658 | X26: 4538015 | Y26: 4161929 | Z26: 101825123 | AA26: 83371639 | AB26: 71203714
A27: SC4299_73mz_46.1514min | B27: S1/S1_2.ELU | C27: Adenosine 4TMS | D27: 2647 | E27: 2673 | F27: =(D27-E27)/E27 -> -0.0097268986 | G27: 0 | H27: 0 | I27: 0 | J27: =AVERAGE(G27:I27) -> 0 | K27: 150005 | L27: 196428 | M27: 185143 | N27: 174886 | O27: 206729 | P27: 183785 | Q27: 14458878 | R27: 15663578 | S27: 14295300 | T27: 22465555 | U27: 20426506 | V27: 20574655 | W27: 509885 | X27: 628409 | Y27: 587614 | Z27: 24508723 | AA27: 30495536 | AB27: 26733443
A28: SC2420_174mz_30.3849min | B28: S1/S1_3.ELU | C28: Ornithine 3TMS | D28: 1770 | E28: 1610 | F28: =(D28-E28)/E28 -> 0.099378882 | G28: 0 | H28: 0 | I28: 0 | J28: =AVERAGE(G28:I28) -> 0 | K28: 77809 | L28: 0 | M28: 0 | N28: 127574 | O28: 119892 | P28: 125761 | Q28: 939006 | R28: 1357099 | S28: 932599 | T28: 847676 | U28: 1190901 | V28: 1543189 | W28: 279482 | X28: 551687 | Y28: 510471 | Z28: 734383 | AA28: 1534333 | AB28: 0
A29: SC1886_73mz_25.9062min | B29: S1/S1_3.ELU | C29: Cysteine 3TMS | D29: 1568 | E29: 1570 | F29: =(D29-E29)/E29 -> -0.0012738854 | G29: 0 | H29: 0 | I29: 0 | J29: =AVERAGE(G29:I29) -> 0 | K29: 0 | L29: 0 | M29: 0 | N29: 59999 | O29: 67354 | P29: 0 | Q29: 456627 | R29: 484930 | S29: 321415 | T29: 378764 | U29: 342304 | V29: 236397 | W29: 130368 | X29: 122249 | Y29: 147640 | Z29: 1276340 | AA29: 1124336 | AB29: 860080
A30: SC3265_73mz_37.4716min | B30: S2/S2_1.ELU | C30: Myo-Inositol | D30: 2113 | E30: 2134 | F30: =(D30-E30)/E30 -> -0.0098406748 | G30: 0 | H30: 0 | I30: 0 | J30: =AVERAGE(G30:I30) -> 0 | K30: 2289792 | L30: 2274001 | M30: 2548488 | N30: 7821308 | O30: 7802137 | P30: 7802447 | Q30: 4399383 | R30: 4530467 | S30: 4652541 | T30: 8250829 | U30: 8033747 | V30: 8051598 | W30: 6689555 | X30: 6819190 | Y30: 7449480 | Z30: 11035158 | AA30: 11788378 | AB30: 11410756
A31: SC1721_100mz_24.5229min | B31: S2/S2_1.ELU | C31: Asparagine 2TMS | D31: 1514 | E31: 1501 | F31: =(D31-E31)/E31 -> 0.0086608927 | G31: 0 | H31: 0 | I31: 0 | J31: =AVERAGE(G31:I31) -> 0 | K31: 0 | L31: 0 | M31: 0 | N31: 0 | O31: 0 | P31: 0 | Q31: 89958 | R31: 89630 | S31: 0 | T31: 106866 | U31: 165056 | V31: 93394 | W31: 0 | X31: 0 | Y31: 0 | Z31: 378356 | AA31: 216622 | AB31: 119140
A32: SC2209_451mz_28.6199min | B32: S2/S2_2.ELU | C32: Pyrophosphate | D32: 1677 | E32: 1690 | F32: =(D32-E32)/E32 -> -0.0076923077 | G32: 258750 | H32: 99690 | I32: 30477 | J32: =AVERAGE(G32:I32) -> 129639 | K32: 7892932 | L32: 7809963 | M32: 7959515 | N32: 9464436 | O32: 10868880 | P32: 11319053 | Q32: 23600985 | R32: 19231666 | S32: 14517578 | T32: 686647 | U32: 566004 | V32: 497998 | W32: 19397239 | X32: 19034127 | Y32: 20145997 | Z32: 3124810 | AA32: 3392096 | AB32: 3092446
A33: SC2860_154mz_34.0784min | B33: S2/S2_2.ELU | C33: Histidine 3TMS | D33: 1942 | E33: 1952 | F33: =(D33-E33)/E33 -> -0.0051229508 | G33: 0 | H33: 0 | I33: 0 | J33: =AVERAGE(G33:I33) -> 0 | K33: 0 | L33: 0 | M33: 0 | N33: 0 | O33: 0 | P33: 0 | Q33: 0 | R33: 0 | S33: 0 | T33: 0 | U33: 0 | V33: 0 | W33: 0 | X33: 0 | Y33: 0 | Z33: 5452606 | AA33: 3663168 | AB33: 5397789
A34: SC1444_56mz_22.1974min | B34: S2/S2_3.ELU | C34: Methionine | D34: 1416 | E34: 1419 | F34: =(D34-E34)/E34 -> -0.0021141649 | G34: 0 | H34: 0 | I34: 0 | J34: =AVERAGE(G34:I34) -> 0 | K34: 0 | L34: 0 | M34: 0 | N34: 0 | O34: 0 | P34: 0 | Q34: 139299 | R34: 0 | S34: 0 | T34: 152740 | U34: 183773 | V34: 0 | W34: 0 | X34: 0 | Y34: 0 | Z34: 281581 | AA34: 379338 | AB34: 981479
A35: SC2459_73mz_30.7145min | B35: S3/S3_2.ELU | C35: Glycerolphosphate | D35: 1780 | E35: 1785 | F35: =(D35-E35)/E35 -> -0.0028011204 | G35: 0 | H35: 0 | I35: 0 | J35: =AVERAGE(G35:I35) -> 0 | K35: 1804068 | L35: 1840094 | M35: 2064313 | N35: 3252666 | O35: 3322577 | P35: 3351685 | Q35: 2219296 | R35: 2107548 | S35: 1897994 | T35: 1761751 | U35: 1691539 | V35: 1562162 | W35: 2466559 | X35: 2654877 | Y35: 2736528 | Z35: 2894800 | AA35: 2724264 | AB35: 2387774
A36: SC1480_73mz_22.4995min | B36: S3/S3_2.ELU | C36: Aspartate 2 TMS | D36: 1420 | E36: 1432 | F36: =(D36-E36)/E36 -> -0.0083798883 | G36: 0 | H36: 0 | I36: 0 | J36: =AVERAGE(G36:I36) -> 0 | K36: 0 | L36: 95528 | M36: 94175 | N36: 164975 | O36: 205958 | P36: 222103 | Q36: 721674 | R36: 822104 | S36: 758715 | T36: 1304840 | U36: 1331629 | V36: 1746903 | W36: 291396 | X36: 391452 | Y36: 327082 | Z36: 3393869 | AA36: 4545473 | AB36: 9967690
A37: SC689_70mz_15.8674min | B37: S3/S3_2.ELU | C37: Proline | D37: 1176 | E37: 1185 | F37: =(D37-E37)/E37 -> -0.0075949367 | G37: 0 | H37: 0 | I37: 0 | J37: =AVERAGE(G37:I37) -> 0 | K37: 0 | L37: 0 | M37: 48506 | N37: 0 | O37: 0 | P37: 0 | Q37: 332697 | R37: 329970 | S37: 344040 | T37: 333733 | U37: 326473 | V37: 409863 | W37: 0 | X37: 87780 | Y37: 96851 | Z37: 1124471 | AA37: 1870744 | AB37: 1496366
A38: SC1638_73mz_23.8266min | B38: S3/S3_3.ELU | C38: Aminomalonic acid | D38: 1485 | E38: 1486 | F38: =(D38-E38)/E38 -> -0.00067294751 | G38: 0 | H38: 0 | I38: 0 | J38: =AVERAGE(G38:I38) -> 0 | K38: 103738 | L38: 98568 | M38: 104764 | N38: 79676 | O38: 88599 | P38: 74426 | Q38: 323285 | R38: 359547 | S38: 383341 | T38: 203494 | U38: 239265 | V38: 132260 | W38: 83734 | X38: 86031 | Y38: 82393 | Z38: 185179 | AA38: 257404 | AB38: 234733
... A55: SC3967_73mz_43.3645min | B55: S6/S6_3.ELU | C55: Uridine | D55: 2469 | E55: 2487 | F55: =(D55-E55)/E55 -> -0.0072376357 | G55: 0 | H55: 0 | I55: 0 | J55: =AVERAGE(G55:I55) -> 0 | K55: 0 | L55: 0 | M55: 0 | N55: 0 | O55: 0 | P55: 0 | Q55: 2680603 | R55: 3809420 | S55: 3310629 | T55: 5201983 | U55: 4867150 | V55: 5277221 | W55: 0 | X55: 0 | Y55: 0 | Z55: 14491977 | AA55: 15757735 | AB55: 15176874
A56: SC2555_265mz_31.5181min | B56: S6/S6_3.ELU | C56: NA | G56: 0 | H56: 0 | I56: 0 | J56: =AVERAGE(G56:I56) -> 0 | K56: 0 | L56: 0 | M56: 0 | N56: 0 | O56: 0 | P56: 0 | Q56: 411678 | R56: 0 | S56: 0 | T56: 931353 | U56: 221773 | V56: 740866 | W56: 30828 | X56: 30235 | Y56: 32641 | Z56: 1618054 | AA56: 1444323 | AB56: 1725060
...

Sheet Blank substraction
A1: Data matrix with blank substraction
A2: Name | B2: Mito_atp4_1 | C2: Mito_atp4_2 | D2: Mito_atp4_3 | E2: Mito_sdh2_1 | F2: Mito_sdh2_2 | G2: Mito_sdh2_3 | H2: Cyto_atp4_1 | I2: Cyto_atp4_2 | J2: Cyto_atp4_3 | K2: Cyto_sdh2_1 | L2: Cyto_sdh2_2 | M2: Cyto_sdh2_3 | N2: Mito_WT_1 | O2: Mito_WT_2 | P2: Mito_WT_3 | Q2: Cyto_WT_1 | R2: Cyto_WT_2 | S2: Cyto_WT_3
A3: 1-Methyl nicotinamide | B3: =Annotation!K89-Annotation!$J89 -> 6409 | C3: =Annotation!L89-Annotation!$J89 -> 5973 | D3: =Annotation!M89-Annotation!$J89 -> 7126 | E3: =Annotation!N89-Annotation!$J89 -> 53947 | F3: =Annotation!O89-Annotation!$J89 -> 56236 | G3: =Annotation!P89-Annotation!$J89 -> 52225 | H3: =Annotation!Q89-Annotation!$J89 -> 36690 | I3: =Annotation!R89-Annotation!$J89 -> 38855 | ... S3: =Annotation!AB89-Annotation!$J89 -> 78934
A4: 2-Ketoglutarate | B4: 0 | C4: 0 | D4: 0 | E4: 0 | F4: 0 | G4: 0 | H4: 9061 | I4: 9351 | J4: 9494 | K4: 4704 | L4: 4403 | M4: 4113 | N4: 0 | O4: 0 | P4: 0 | Q4: 14871 | R4: 15780 | S4: 16179
A5: 2-Phosphoglycerate | B5: =Annotation!K44-Annotation!$J44 -> 0 | C5: =Annotation!L44-Annotation!$J44 -> 0 | D5: =Annotation!M44-Annotation!$J44 -> 0 | E5: =Annotation!N44-Annotation!$J44 -> 0 | F5: =Annotation!O44-Annotation!$J44 -> 0 | G5: =Annotation!P44-Annotation!$J44 -> 0 | H5: =Annotation!Q44-Annotation!$J44 -> 0 | I5: =Annotation!R44-Annotation!$J44 -> 0 | ... S5: =Annotation!AB44-Annotation!$J44 -> 329840
A6: 3-Phosphoglycerate | B6: =Annotation!K61-Annotation!$J61 -> 0 | C6: =Annotation!L61-Annotation!$J61 -> 0 | D6: =Annotation!M61-Annotation!$J61 -> 0 | E6: =Annotation!N61-Annotation!$J61 -> 103730 | F6: =Annotation!O61-Annotation!$J61 -> 101730 | G6: =Annotation!P61-Annotation!$J61 -> 114007 | H6: =Annotation!Q61-Annotation!$J61 -> 461561 | I6: =Annotation!R61-Annotation!$J61 -> 387893 | ... S6: =Annotation!AB61-Annotation!$J61 -> 7359369
A7: 14-Demethyllanosterol | B7: =Annotation!K67-Annotation!$J67 -> 679514 | C7: =Annotation!L67-Annotation!$J67 -> 790706 | D7: =Annotation!M67-Annotation!$J67 -> 561199 | E7: =Annotation!N67-Annotation!$J67 -> 619133 | F7: =Annotation!O67-Annotation!$J67 -> 635071 | G7: =Annotation!P67-Annotation!$J67 -> 592819 | H7: =Annotation!Q67-Annotation!$J67 -> 0 | I7: =Annotation!R67-Annotation!$J67 -> 0 | ... S7: =Annotation!AB67-Annotation!$J67 -> 0
A8: Adenine | B8: =Annotation!K77-Annotation!$J77 -> 31782.333 | C8: =Annotation!L77-Annotation!$J77 -> 14926.333 | D8: 0 | E8: =Annotation!N77-Annotation!$J77 -> 25509.333 | F8: 0 | G8: 0 | H8: =Annotation!Q77-Annotation!$J77 -> 172438.33 | I8: =Annotation!R77-Annotation!$J77 -> 119191.33 | J8: =Annotation!S77-Annotation!$J77 -> 238629.33 | K8: =Annotation!T77-Annotation!$J77 -> 509445.33 | L8: =Annotation!U77-Annotation!$J77 -> 260420.33 | M8: =Annotation!V77-Annotation!$J77 -> 246056.33 | N8: 0 | O8: 0 | P8: 0 | Q8: =Annotation!Z77-Annotation!$J77 -> 344042.33 | R8: =Annotation!AA77-Annotation!$J77 -> 360324.33 | S8: =Annotation!AB77-Annotation!$J77 -> 359420.33
A9: Adenosine | B9: =Annotation!K27-Annotation!$J27 -> 150005 | C9: =Annotation!L27-Annotation!$J27 -> 196428 | D9: =Annotation!M27-Annotation!$J27 -> 185143 | E9: =Annotation!N27-Annotation!$J27 -> 174886 | F9: =Annotation!O27-Annotation!$J27 -> 206729 | G9: =Annotation!P27-Annotation!$J27 -> 183785 | H9: =Annotation!Q27-Annotation!$J27 -> 14458878 | I9: =Annotation!R27-Annotation!$J27 -> 15663578 | ... S9: =Annotation!AB27-Annotation!$J27 -> 26733443
A10: Alanine | B10: =Annotation!K100-Annotation!$J100 -> 1240113 | C10: =Annotation!L100-Annotation!$J100 -> 1348705 | D10: =Annotation!M100-Annotation!$J100 -> 1344492 | E10: =Annotation!N100-Annotation!$J100 -> 1120152 | F10: =Annotation!O100-Annotation!$J100 -> 1140764 | G10: =Annotation!P100-Annotation!$J100 -> 1214784 | H10: =Annotation!Q100-Annotation!$J100 -> 9849222 | I10: =Annotation!R100-Annotation!$J100 -> 10052331 | ... S10: =Annotation!AB100-Annotation!$J100 -> 8081377
A11: Aminomalonic acid | B11: =Annotation!K38-Annotation!$J38 -> 103738 | C11: =Annotation!L38-Annotation!$J38 -> 98568 | D11: =Annotation!M38-Annotation!$J38 -> 104764 | E11: =Annotation!N38-Annotation!$J38 -> 79676 | F11: =Annotation!O38-Annotation!$J38 -> 88599 | G11: =Annotation!P38-Annotation!$J38 -> 74426 | H11: =Annotation!Q38-Annotation!$J38 -> 323285 | I11: =Annotation!R38-Annotation!$J38 -> 359547 | ... S11: =Annotation!AB38-Annotation!$J38 -> 234733
A12: AMP | B12: =Annotation!K90-Annotation!$J90 -> 0 | C12: =Annotation!L90-Annotation!$J90 -> 0 | D12: =Annotation!M90-Annotation!$J90 -> 0 | E12: =Annotation!N90-Annotation!$J90 -> 239025 | F12: =Annotation!O90-Annotation!$J90 -> 267331 | G12: =Annotation!P90-Annotation!$J90 -> 232787 | H12: =Annotation!Q90-Annotation!$J90 -> 103259 | I12: =Annotation!R90-Annotation!$J90 -> 141094 | ... S12: =Annotation!AB90-Annotation!$J90 -> 1022950
A13: Asparagine | B13: 0 | C13: 0 | D13: 0 | E13: 0 | F13: 0 | G13: 0 | H13: 2614506 | I13: 2476377 | J13: 1664439 | K13: 2506178 | L13: 2704519 | M13: 2473423 | N13: 0 | O13: 0 | P13: 0 | Q13: 5747423 | R13: 4221708 | S13: 3625330
A14: Aspartate | B14: 1612508 | C14: 1558850 | D14: 1385142 | E14: 1701586 | F14: 1732700 | G14: 1671059 | H14: 10395004 | I14: 11063097 | J14: 13206056 | K14: 20592902 | L14: 16321902 | M14: 17170005 | N14: 2656792 | O14: 2470413 | P14: 2593409 | Q14: 29147621 | R14: 29706150 | S14: 22058203
A15: Benzoic acid | B15: =Annotation!K106-Annotation!$J106 -> 10886.333 | C15: =Annotation!L106-Annotation!$J106 -> 20610.333 | D15: =Annotation!M106-Annotation!$J106 -> 54668.333 | E15: 0 | F15: =Annotation!O106-Annotation!$J106 -> 17792.333 | G15: =Annotation!P106-Annotation!$J106 -> 18372.333 | H15: =Annotation!Q106-Annotation!$J106 -> 14696.333 | I15: =Annotation!R106-Annotation!$J106 -> 36809.333 | J15: =Annotation!S106-Annotation!$J106 -> 60545.333 | K15: =Annotation!T106-Annotation!$J106 -> 70308.333 | L15: =Annotation!U106-Annotation!$J106 -> 82740.333 | M15: =Annotation!V106-Annotation!$J106 -> 62683.333 | ... P15: =Annotation!Y106-Annotation!$J106 -> 41600.333 | Q15: 0 | R15: 0 | S15: 0
A16: Citrate | B16: =Annotation!K57-Annotation!$J57 -> 1660358 | C16: =Annotation!L57-Annotation!$J57 -> 1616927 | D16: =Annotation!M57-Annotation!$J57 -> 1656251 | E16: =Annotation!N57-Annotation!$J57 -> 0 | F16: =Annotation!O57-Annotation!$J57 -> 0 | G16: =Annotation!P57-Annotation!$J57 -> 0 | H16: =Annotation!Q57-Annotation!$J57 -> 15822517 | I16: =Annotation!R57-Annotation!$J57 -> 16466140 | ... S16: =Annotation!AB57-Annotation!$J57 -> 17644981
A17: Citrulline | B17: 0 | C17: 0 | D17: 0 | E17: 0 | F17: 0 | G17: 0 | H17: 646722 | I17: 489185 | J17: 430925 | K17: 1240232 | L17: 1092461 | M17: 928982 | N17: 0 | O17: 0 | P17: 0 | Q17: 1747077 | R17: 1513357 | S17: 1394918
A18: Cystathionine | B18: 0 | C18: 0 | D18: 0 | E18: 683361 | F18: 731109 | G18: 599487 | H18: 629448 | I18: 591936 | J18: 617625 | K18: 4603533 | L18: 4104433 | M18: 3878159 | N18: 0 | O18: 0 | P18: 0 | Q18: 4904258 | R18: 2801080 | S18: 5643725
A19: Cysteine | B19: =Annotation!K29-Annotation!$J29 -> 0 | C19: =Annotation!L29-Annotation!$J29 -> 0 | D19: =Annotation!M29-Annotation!$J29 -> 0 | E19: =Annotation!N29-Annotation!$J29 -> 59999 | F19: 67354 | G19: =Annotation!P29-Annotation!$J29 -> 0 | H19: =Annotation!Q29-Annotation!$J29 -> 456627 | I19: =Annotation!R29-Annotation!$J29 -> 484930 | J19: =Annotation!S29-Annotation!$J29 -> 321415 | K19: =Annotation!T29-Annotation!$J29 -> 378764 | L19: =Annotation!U29-Annotation!$J29 -> 342304 | M19: =Annotation!V29-Annotation!$J29 -> 236397 | N19: =Annotation!W29-Annotation!$J29 -> 130368 | ... S19: =Annotation!AB29-Annotation!$J29 -> 860080
A20: D-Glycero-D-gulo-Heptose | B20: =Annotation!K76-Annotation!$J76 -> 0 | C20: =Annotation!L76-Annotation!$J76 -> 0 | D20: =Annotation!M76-Annotation!$J76 -> 0 | E20: =Annotation!N76-Annotation!$J76 -> 1177725 | F20: =Annotation!O76-Annotation!$J76 -> 1042585 | G20: =Annotation!P76-Annotation!$J76 -> 904145 | H20: =Annotation!Q76-Annotation!$J76 -> 2052242 | I20: =Annotation!R76-Annotation!$J76 -> 2213331 | ... S20: =Annotation!AB76-Annotation!$J76 -> 3394843
A21: Ergosterol | B21: =Annotation!K105-Annotation!$J105 -> 32485419 | C21: =Annotation!L105-Annotation!$J105 -> 33921566 | D21: =Annotation!M105-Annotation!$J105 -> 29396588 | E21: =Annotation!N105-Annotation!$J105 -> 29428423 | F21: =Annotation!O105-Annotation!$J105 -> 28240000 | G21: =Annotation!P105-Annotation!$J105 -> 24866968 | H21: =Annotation!Q105-Annotation!$J105 -> 2013030 | I21: =Annotation!R105-Annotation!$J105 -> 2139074 | ... S21: =Annotation!AB105-Annotation!$J105 -> 433329
A22: Ethanolamine 3TMS | B22: =Annotation!K24-Annotation!$J24 -> 1066061.3 | C22: =Annotation!L24-Annotation!$J24 -> 1252953.3 | D22: =Annotation!M24-Annotation!$J24 -> 1123377.3 | E22: =Annotation!N24-Annotation!$J24 -> 911496.33 | F22: =Annotation!O24-Annotation!$J24 -> 1084436.3 | G22: =Annotation!P24-Annotation!$J24 -> 936440.33 | H22: =Annotation!Q24-Annotation!$J24 -> 1084401.3 | I22: =Annotation!R24-Annotation!$J24 -> 1061010.3 | ... S22: =Annotation!AB24-Annotation!$J24 -> 1111903.3
A23: Fructose | B23: =Annotation!K66-Annotation!$J66 -> 0 | C23: =Annotation!L66-Annotation!$J66 -> 0 | D23: =Annotation!M66-Annotation!$J66 -> 0 | E23: =Annotation!N66-Annotation!$J66 -> 0 | F23: =Annotation!O66-Annotation!$J66 -> 0 | G23: =Annotation!P66-Annotation!$J66 -> 0 | H23: =Annotation!Q66-Annotation!$J66 -> 183966 | I23: =Annotation!R66-Annotation!$J66 -> 0 | ... S23: =Annotation!AB66-Annotation!$J66 -> 0
A24: Fumarate | B24: =Annotation!K104-Annotation!$J104 -> 25492.333 | C24: =Annotation!L104-Annotation!$J104 -> 21456.333 | D24: =Annotation!M104-Annotation!$J104 -> 24493.333 | E24: =Annotation!N104-Annotation!$J104 -> 6609.3333 | F24: =Annotation!O104-Annotation!$J104 -> 6034.3333 | G24: =Annotation!P104-Annotation!$J104 -> 5539.3333 | H24: =Annotation!Q104-Annotation!$J104 -> 76316.333 | I24: =Annotation!R104-Annotation!$J104 -> 75518.333 | ... S24: =Annotation!AB104-Annotation!$J104 -> 164730.33
A25: Sorbitol | B25: =Annotation!K43-Annotation!$J43 -> 0 | C25: =Annotation!L43-Annotation!$J43 -> 0 | D25: =Annotation!M43-Annotation!$J43 -> 0 | E25: =Annotation!N43-Annotation!$J43 -> 0 | F25: =Annotation!O43-Annotation!$J43 -> 0 | G25: =Annotation!P43-Annotation!$J43 -> 0 | H25: =Annotation!Q43-Annotation!$J43 -> 724501 | I25: =Annotation!R43-Annotation!$J43 -> 802955 | ... S25: =Annotation!AB43-Annotation!$J43 -> 587230
A26: Galactitol | B26: =Annotation!K10-Annotation!$J10 -> 34761960 | C26: =Annotation!L10-Annotation!$J10 -> 33513614 | D26: =Annotation!M10-Annotation!$J10 -> 32570240 | E26: =Annotation!N10-Annotation!$J10 -> 28981803 | F26: =Annotation!O10-Annotation!$J10 -> 29164975 | G26: =Annotation!P10-Annotation!$J10 -> 27702295 | H26: =Annotation!Q10-Annotation!$J10 -> 554351560 | I26: =Annotation!R10-Annotation!$J10 -> 549937607 | ... S26: =Annotation!AB10-Annotation!$J10 -> 435839986
A27: Galactitol | B27: =Annotation!K79-Annotation!$J79 -> 0 | C27: =Annotation!L79-Annotation!$J79 -> 0 | D27: =Annotation!M79-Annotation!$J79 -> 0 | E27: =Annotation!N79-Annotation!$J79 -> 0 | F27: =Annotation!O79-Annotation!$J79 -> 0 | G27: =Annotation!P79-Annotation!$J79 -> 0 | H27: =Annotation!Q79-Annotation!$J79 -> 317293307 | I27: =Annotation!R79-Annotation!$J79 -> 0 | ... S27: =Annotation!AB79-Annotation!$J79 -> 0
A28: Gluconic acid | B28: =Annotation!K72-Annotation!$J72 -> 0 | C28: =Annotation!L72-Annotation!$J72 -> 0 | D28: =Annotation!M72-Annotation!$J72 -> 0 | E28: =Annotation!N72-Annotation!$J72 -> 0 | F28: =Annotation!O72-Annotation!$J72 -> 0 | G28: =Annotation!P72-Annotation!$J72 -> 0 | H28: =Annotation!Q72-Annotation!$J72 -> 527485 | I28: =Annotation!R72-Annotation!$J72 -> 544610 | ... S28: =Annotation!AB72-Annotation!$J72 -> 1413636
A29: Glucopyranose | B29: =Annotation!K23-Annotation!$J23 -> 0 | C29: =Annotation!L23-Annotation!$J23 -> 0 | D29: =Annotation!M23-Annotation!$J23 -> 0 | E29: =Annotation!N23-Annotation!$J23 -> 0 | F29: =Annotation!O23-Annotation!$J23 -> 0 | G29: =Annotation!P23-Annotation!$J23 -> 0 | H29: =Annotation!Q23-Annotation!$J23 -> 6362886 | I29: =Annotation!R23-Annotation!$J23 -> 6906003 | ... S29: =Annotation!AB23-Annotation!$J23 -> 5435094
A30: Glucose | B30: =Annotation!K15-Annotation!$J15 -> 149615 | C30: =Annotation!L15-Annotation!$J15 -> 183637 | D30: =Annotation!M15-Annotation!$J15 -> 190409 | E30: =Annotation!N15-Annotation!$J15 -> 265365 | F30: =Annotation!O15-Annotation!$J15 -> 276385 | G30: =Annotation!P15-Annotation!$J15 -> 286794 | H30: =Annotation!Q15-Annotation!$J15 -> 2518151 | I30: =Annotation!R15-Annotation!$J15 -> 0 | ... S30: =Annotation!AB15-Annotation!$J15 -> 1184265
A31: Glucose | B31: =Annotation!K49-Annotation!$J49 -> 978273 | C31: =Annotation!L49-Annotation!$J49 -> 965272 | D31: =Annotation!M49-Annotation!$J49 -> 984473 | E31: =Annotation!N49-Annotation!$J49 -> 2283778 | F31: =Annotation!O49-Annotation!$J49 -> 2453966 | G31: =Annotation!P49-Annotation!$J49 -> 2215504 | H31: =Annotation!Q49-Annotation!$J49 -> 16048346 | I31: =Annotation!R49-Annotation!$J49 -> 16925041 | ... S31: =Annotation!AB49-Annotation!$J49 -> 2483859
A32: Glucosephosphate | B32: =Annotation!K45-Annotation!$J45 -> 0 | C32: =Annotation!L45-Annotation!$J45 -> 0 | D32: =Annotation!M45-Annotation!$J45 -> 0 | E32: =Annotation!N45-Annotation!$J45 -> 0 | F32: =Annotation!O45-Annotation!$J45 -> 17051 | G32: =Annotation!P45-Annotation!$J45 -> 0 | H32: =Annotation!Q45-Annotation!$J45 -> 0 | I32: =Annotation!R45-Annotation!$J45 -> 0 | ... S32: =Annotation!AB45-Annotation!$J45 -> 342424
A33: Mannose-6P | B33: 0 | C33: 0 | D33: 0 | E33: 0 | F33: 0 | G33: 0 | H33: 167863 | I33: 172227 | J33: 168113 | K33: 646482 | L33: 794653 | M33: 663229 | N33: 0 | O33: 0 | P33: 0 | Q33: 515588 | R33: 773843 | S33: 686076
A34: Glutamate | B34: 2827826 | C34: 2672609 | D34: 2893811 | E34: 2093163 | F34: 2721261 | G34: 2660659 | H34: 33837291 | I34: 33846563 | J34: 30484670 | K34: 41354195 | L34: 37617900 | M34: 38295917 | N34: 7826207 | O34: 7607150 | P34: 7598337 | Q34: 122150412 | R34: 104249910 | S34: 117414533
A35: Glutamine | B35: 0 | C35: 0 | D35: 0 | E35: 0 | F35: 0 | G35: 0 | H35: 0 | I35: 0 | J35: 0 | K35: 487973 | L35: 482659 | M35: 660112 | N35: 0 | O35: 0 | P35: 0 | Q35: 1562808 | R35: 2486127 | S35: 2225064
A36: Glyceric acid | B36: 16748 | C36: 25752 | D36: 20974 | E36: 33263 | F36: 38978 | G36: 33528 | H36: =Annotation!Q97-Annotation!$J97 -> 237934 | I36: =Annotation!R97-Annotation!$J97 -> 226906 | J36: =Annotation!S97-Annotation!$J97 -> 288271 | K36: =Annotation!T97-Annotation!$J97 -> 471528 | L36: =Annotation!U97-Annotation!$J97 -> 401053 | M36: =Annotation!V97-Annotation!$J97 -> 421701 | N36: 67645 | O36: =Annotation!X97-Annotation!$J97 -> 70978 | P36: 63216 | Q36: =Annotation!Z97-Annotation!$J97 -> 1081849 | R36: =Annotation!AA97-Annotation!$J97 -> 1047643 | S36: =Annotation!AB97-Annotation!$J97 -> 1063483
A37: Glycerol | B37: =Annotation!K3-Annotation!$J3 -> 17626.333 | C37: =Annotation!L3-Annotation!$J3 -> 23665.333 | D37: =Annotation!M3-Annotation!$J3 -> 26770.333 | E37: =Annotation!N3-Annotation!$J3 -> 8387.3333 | F37: =Annotation!O3-Annotation!$J3 -> 10503.333 | G37: =Annotation!P3-Annotation!$J3 -> 11063.333 | H37: =Annotation!Q3-Annotation!$J3 -> 349770.33 | I37: =Annotation!R3-Annotation!$J3 -> 369126.33 | ... S37: =Annotation!AB3-Annotation!$J3 -> 119526.33
A38: Glycerolphosphate | B38: =Annotation!K35-Annotation!$J35 -> 1804068 | C38: =Annotation!L35-Annotation!$J35 -> 1840094 | D38: =Annotation!M35-Annotation!$J35 -> 2064313 | E38: =Annotation!N35-Annotation!$J35 -> 3252666 | F38: =Annotation!O35-Annotation!$J35 -> 3322577 | G38: =Annotation!P35-Annotation!$J35 -> 3351685 | H38: =Annotation!Q35-Annotation!$J35 -> 2219296 | I38: =Annotation!R35-Annotation!$J35 -> 2107548 | ... S38: =Annotation!AB35-Annotation!$J35 -> 2387774
A39: Glycine | B39: 1519916 | C39: 1469567 | D39: 1568427 | E39: 586566 | F39: 588041 | G39: 482508 | H39: 15316986 | I39: 12602055 | J39: 5128626 | K39: 15472043 | L39: 10190377 | M39: 6377931 | N39: 1403603 | O39: 1492866 | P39: 979191 | Q39: 25375797 | R39: 23035733 | S39: 20179374
A40: Glycolic acid | B40: =Annotation!K92-Annotation!$J92 -> 220127.33 | C40: =Annotation!L92-Annotation!$J92 -> 230204.33 | D40: =Annotation!M92-Annotation!$J92 -> 222478.33 | E40: =Annotation!N92-Annotation!$J92 -> 176362.33 | F40: =Annotation!O92-Annotation!$J92 -> 160952.33 | G40: =Annotation!P92-Annotation!$J92 -> 159422.33 | H40: =Annotation!Q92-Annotation!$J92 -> 911464.33 | I40: =Annotation!R92-Annotation!$J92 -> 1187310.3 | ... S40: =Annotation!AB92-Annotation!$J92 -> 1580806.3
...

Sheet Summary
A1: Summary of annotated data matrix
A2: Name | B2: Mito_atp4_1 | C2: Mito_atp4_2 | D2: Mito_atp4_3 | E2: Mito_sdh2_1 | F2: Mito_sdh2_2 | G2: Mito_sdh2_3 | H2: Cyto_atp4_1 | I2: Cyto_atp4_2 | J2: Cyto_atp4_3 | K2: Cyto_sdh2_1 | L2: Cyto_sdh2_2 | M2: Cyto_sdh2_3 | N2: Mito_WT_1 | O2: Mito_WT_2 | P2: Mito_WT_3 | Q2: Cyto_WT_1 | R2: Cyto_WT_2 | S2: Cyto_WT_3
A3: 1-Methyl nicotinamide | B3: =Annotation!K89-Annotation!$J89 -> 6409 | C3: =Annotation!L89-Annotation!$J89 -> 5973 | D3: =Annotation!M89-Annotation!$J89 -> 7126 | E3: =Annotation!N89-Annotation!$J89 -> 53947 | F3: =Annotation!O89-Annotation!$J89 -> 56236 | G3: =Annotation!P89-Annotation!$J89 -> 52225 | H3: =Annotation!Q89-Annotation!$J89 -> 36690 | I3: =Annotation!R89-Annotation!$J89 -> 38855 | ... S3: =Annotation!AB89-Annotation!$J89 -> 78934
A4: 2-Ketoglutarate | B4: 0 | C4: 0 | D4: 0 | E4: 0 | F4: 0 | G4: 0 | H4: 9061 | I4: 9351 | J4: 9494 | K4: 4704 | L4: 4403 | M4: 4113 | N4: 0 | O4: 0 | P4: 0 | Q4: 14871 | R4: 15780 | S4: 16179
A5: 2-Phosphoglycerate | B5: =Annotation!K44-Annotation!$J44 -> 0 | C5: =Annotation!L44-Annotation!$J44 -> 0 | D5: =Annotation!M44-Annotation!$J44 -> 0 | E5: =Annotation!N44-Annotation!$J44 -> 0 | F5: =Annotation!O44-Annotation!$J44 -> 0 | G5: =Annotation!P44-Annotation!$J44 -> 0 | H5: =Annotation!Q44-Annotation!$J44 -> 0 | I5: =Annotation!R44-Annotation!$J44 -> 0 | ... S5: =Annotation!AB44-Annotation!$J44 -> 329840
A6: 3-Phosphoglycerate | B6: =Annotation!K61-Annotation!$J61 -> 0 | C6: =Annotation!L61-Annotation!$J61 -> 0 | D6: =Annotation!M61-Annotation!$J61 -> 0 | E6: =Annotation!N61-Annotation!$J61 -> 103730 | F6: =Annotation!O61-Annotation!$J61 -> 101730 | G6: =Annotation!P61-Annotation!$J61 -> 114007 | H6: =Annotation!Q61-Annotation!$J61 -> 461561 | I6: =Annotation!R61-Annotation!$J61 -> 387893 | ... S6: =Annotation!AB61-Annotation!$J61 -> 7359369
A7: 14-Demethyllanosterol | B7: =Annotation!K67-Annotation!$J67 -> 679514 | C7: =Annotation!L67-Annotation!$J67 -> 790706 | D7: =Annotation!M67-Annotation!$J67 -> 561199 | E7: =Annotation!N67-Annotation!$J67 -> 619133 | F7: =Annotation!O67-Annotation!$J67 -> 635071 | G7: =Annotation!P67-Annotation!$J67 -> 592819 | H7: =Annotation!Q67-Annotation!$J67 -> 0 | I7: =Annotation!R67-Annotation!$J67 -> 0 | ... S7: =Annotation!AB67-Annotation!$J67 -> 0
A8: Adenine | B8: =Annotation!K77-Annotation!$J77 -> 31782.333 | C8: =Annotation!L77-Annotation!$J77 -> 14926.333 | D8: 0 | E8: =Annotation!N77-Annotation!$J77 -> 25509.333 | F8: 0 | G8: 0 | H8: =Annotation!Q77-Annotation!$J77 -> 172438.33 | I8: =Annotation!R77-Annotation!$J77 -> 119191.33 | J8: =Annotation!S77-Annotation!$J77 -> 238629.33 | K8: =Annotation!T77-Annotation!$J77 -> 509445.33 | L8: =Annotation!U77-Annotation!$J77 -> 260420.33 | M8: =Annotation!V77-Annotation!$J77 -> 246056.33 | N8: 0 | O8: 0 | P8: 0 | Q8: =Annotation!Z77-Annotation!$J77 -> 344042.33 | R8: =Annotation!AA77-Annotation!$J77 -> 360324.33 | S8: =Annotation!AB77-Annotation!$J77 -> 359420.33
A9: Adenosine | B9: =Annotation!K27-Annotation!$J27 -> 150005 | C9: =Annotation!L27-Annotation!$J27 -> 196428 | D9: =Annotation!M27-Annotation!$J27 -> 185143 | E9: =Annotation!N27-Annotation!$J27 -> 174886 | F9: =Annotation!O27-Annotation!$J27 -> 206729 | G9: =Annotation!P27-Annotation!$J27 -> 183785 | H9: =Annotation!Q27-Annotation!$J27 -> 14458878 | I9: =Annotation!R27-Annotation!$J27 -> 15663578 | ... S9: =Annotation!AB27-Annotation!$J27 -> 26733443
A10: Alanine | B10: =Annotation!K100-Annotation!$J100 -> 1240113 | C10: =Annotation!L100-Annotation!$J100 -> 1348705 | D10: =Annotation!M100-Annotation!$J100 -> 1344492 | E10: =Annotation!N100-Annotation!$J100 -> 1120152 | F10: =Annotation!O100-Annotation!$J100 -> 1140764 | G10: =Annotation!P100-Annotation!$J100 -> 1214784 | H10: =Annotation!Q100-Annotation!$J100 -> 9849222 | I10: =Annotation!R100-Annotation!$J100 -> 10052331 | ... S10: =Annotation!AB100-Annotation!$J100 -> 8081377
A11: Aminomalonic acid | B11: =Annotation!K38-Annotation!$J38 -> 103738 | C11: =Annotation!L38-Annotation!$J38 -> 98568 | D11: =Annotation!M38-Annotation!$J38 -> 104764 | E11: =Annotation!N38-Annotation!$J38 -> 79676 | F11: =Annotation!O38-Annotation!$J38 -> 88599 | G11: =Annotation!P38-Annotation!$J38 -> 74426 | H11: =Annotation!Q38-Annotation!$J38 -> 323285 | I11: =Annotation!R38-Annotation!$J38 -> 359547 | ... S11: =Annotation!AB38-Annotation!$J38 -> 234733
A12: AMP | B12: =Annotation!K90-Annotation!$J90 -> 0 | C12: =Annotation!L90-Annotation!$J90 -> 0 | D12: =Annotation!M90-Annotation!$J90 -> 0 | E12: =Annotation!N90-Annotation!$J90 -> 239025 | F12: =Annotation!O90-Annotation!$J90 -> 267331 | G12: =Annotation!P90-Annotation!$J90 -> 232787 | H12: =Annotation!Q90-Annotation!$J90 -> 103259 | I12: =Annotation!R90-Annotation!$J90 -> 141094 | ... S12: =Annotation!AB90-Annotation!$J90 -> 1022950
A13: Asparagine | B13: 0 | C13: 0 | D13: 0 | E13: 0 | F13: 0 | G13: 0 | H13: 2614506 | I13: 2476377 | J13: 1664439 | K13: 2506178 | L13: 2704519 | M13: 2473423 | N13: 0 | O13: 0 | P13: 0 | Q13: 5747423 | R13: 4221708 | S13: 3625330
A14: Aspartate | B14: 1612508 | C14: 1558850 | D14: 1385142 | E14: 1701586 | F14: 1732700 | G14: 1671059 | H14: 10395004 | I14: 11063097 | J14: 13206056 | K14: 20592902 | L14: 16321902 | M14: 17170005 | N14: 2656792 | O14: 2470413 | P14: 2593409 | Q14: 29147621 | R14: 29706150 | S14: 22058203
A15: Citrate | B15: =Annotation!K57-Annotation!$J57 -> 1660358 | C15: =Annotation!L57-Annotation!$J57 -> 1616927 | D15: =Annotation!M57-Annotation!$J57 -> 1656251 | E15: =Annotation!N57-Annotation!$J57 -> 0 | F15: =Annotation!O57-Annotation!$J57 -> 0 | G15: =Annotation!P57-Annotation!$J57 -> 0 | H15: =Annotation!Q57-Annotation!$J57 -> 15822517 | I15: =Annotation!R57-Annotation!$J57 -> 16466140 | ... S15: =Annotation!AB57-Annotation!$J57 -> 17644981
A16: Citrulline | B16: 0 | C16: 0 | D16: 0 | E16: 0 | F16: 0 | G16: 0 | H16: 646722 | I16: 489185 | J16: 430925 | K16: 1240232 | L16: 1092461 | M16: 928982 | N16: 0 | O16: 0 | P16: 0 | Q16: 1747077 | R16: 1513357 | S16: 1394918
A17: Cystathionine | B17: 0 | C17: 0 | D17: 0 | E17: 683361 | F17: 731109 | G17: 599487 | H17: 629448 | I17: 591936 | J17: 617625 | K17: 4603533 | L17: 4104433 | M17: 3878159 | N17: 0 | O17: 0 | P17: 0 | Q17: 4904258 | R17: 2801080 | S17: 5643725
A18: Cysteine | B18: =Annotation!K29-Annotation!$J29 -> 0 | C18: =Annotation!L29-Annotation!$J29 -> 0 | D18: =Annotation!M29-Annotation!$J29 -> 0 | E18: =Annotation!N29-Annotation!$J29 -> 59999 | F18: 67354 | G18: =Annotation!P29-Annotation!$J29 -> 0 | H18: =Annotation!Q29-Annotation!$J29 -> 456627 | I18: =Annotation!R29-Annotation!$J29 -> 484930 | J18: =Annotation!S29-Annotation!$J29 -> 321415 | K18: =Annotation!T29-Annotation!$J29 -> 378764 | L18: =Annotation!U29-Annotation!$J29 -> 342304 | M18: =Annotation!V29-Annotation!$J29 -> 236397 | N18: =Annotation!W29-Annotation!$J29 -> 130368 | ... S18: =Annotation!AB29-Annotation!$J29 -> 860080
