Workbook

Sheet FoodKcal
B1: Brazil | I1: Russia | P1: India | W1: China
B2: Wheat | C2: abs | D2: Kcal per gram | E2: gram per Kcal | I2: Wheat | J2: abs | K2: Kcal per gram | L2: gram per Kcal | P2: Wheat | Q2: abs | R2: Kcal per gram | S2: gram per Kcal | W2: Wheat | X2: abs | Y2: Kcal per gram | Z2: gram per Kcal
B3: g | C3: 141.91781 | I3: g | J3: 366.0274 | P3: g | Q3: 151.23288 | W3: g | X3: 184.93151
B4: Carb | C4: 334.7 | D4: =C4/C3 -> 2.3584073 | E4: =C3/C4 -> 0.42401496 | I4: Carb | J4: 887.8 | K4: =J4/J3 -> 2.4255015 | L4: =J3/J4 -> 0.41228587 | P4: Carb | Q4: 396 | R4: =Q4/Q3 -> 2.6184783 | S4: =Q3/Q4 -> 0.3819012 | W4: Carb | X4: 485.5 | Y4: =X4/X3 -> 2.6252963 | Z4: =X3/X4 -> 0.38090939
B5: Protein | C5: 40.8 | D5: =C5/C3 -> 0.28749035 | E5: =C3/C5 -> 3.4783777 | G5: =C3/SUM(C4:C6) -> 0.36482727 | I5: Protein | J5: 124.4 | K5: =J5/J3 -> 0.33986527 | L5: =J3/J5 -> 2.9423424 | N5: =J3/SUM(J4:J6) -> 0.35161133 | P5: Protein | Q5: 55.2 | R5: =Q5/Q3 -> 0.365 | S5: =Q3/Q5 -> 2.739726 | U5: =Q3/SUM(Q4:Q6) -> 0.32108891 | W5: Protein | X5: 75.6 | Y5: =X5/X3 -> 0.4088 | Z5: =X3/X5 -> 2.446184 | AB5: =X3/SUM(X4:X6) -> 0.31397539
B6: Fat | C6: 13.5 | D6: =C6/C3 -> 0.095125483 | E6: =C3/C6 -> 10.51243 | I6: Fat | J6: 28.8 | K6: =J6/J3 -> 0.078682635 | L6: =J3/J6 -> 12.709285 | P6: Fat | Q6: 19.8 | R6: =Q6/Q3 -> 0.13092391 | S6: =Q3/Q6 -> 7.6380241 | W6: Fat | X6: 27.9 | Y6: =X6/X3 -> 0.15086667 | Z6: =X3/X6 -> 6.6283694
B8: Rice | C8: abs | D8: Kcal per gram | E8: gram per Kcal | I8: Rice | J8: abs | K8: Kcal per gram | L8: gram per Kcal | P8: Rice | Q8: abs | R8: Kcal per gram | S8: gram per Kcal | W8: Rice | X8: abs | Y8: Kcal per gram | Z8: gram per Kcal
B9: g | C9: 107.67123 | I9: g | J9: 13.424658 | P9: g | Q9: 196.16438 | W9: g | X9: 207.67123
B10: Carb | C10: 361.1 | D10: =C10/C9 -> 3.3537277 | E10: =C9/C10 -> 0.29817567 | I10: Carb | J10: 42.5 | K10: =J10/J9 -> 3.1658163 | L10: =J9/J10 -> 0.31587429 | P10: Carb | Q10: 641.4 | R10: =Q10/Q9 -> 3.2697067 | S10: =Q9/Q10 -> 0.30583783 | W10: Carb | X10: 701 | Y10: =X10/X9 -> 3.3755277 | Z10: =X9/X10 -> 0.29624998
B11: Protein | C11: 31.6 | D11: =C11/C9 -> 0.29348601 | E11: =C9/C11 -> 3.4073175 | G11: =C9/(SUM(C10:C12)) -> 0.26985271 | I11: Protein | J11: 3.6 | K11: =J11/J9 -> 0.26816327 | L11: =J9/J11 -> 3.7290715 | N11: =J9/(SUM(J10:J12)) -> 0.28563101 | P11: Protein | Q11: 53.2 | R11: =Q11/Q9 -> 0.27120112 | S11: =Q9/Q11 -> 3.6873004 | U11: =Q9/(SUM(Q10:Q12)) -> 0.27667755 | W11: Protein | X11: 58 | Y11: =X11/X9 -> 0.2792876 | Z11: =X9/X11 -> 3.5805385 | AB11: =X9/(SUM(X10:X12)) -> 0.26421276
B12: Fat | C12: 6.3 | D12: =C12/C9 -> 0.05851145 | E12: =C9/C12 -> 17.090672 | I12: Fat | J12: 0.9 | K12: =J12/J9 -> 0.067040816 | L12: =J9/J12 -> 14.916286 | P12: Fat | Q12: 14.4 | R12: =Q12/Q9 -> 0.073407821 | S12: =Q9/Q12 -> 13.622527 | W12: Fat | X12: 27 | Y12: =X12/X9 -> 0.13001319 | Z12: =X9/X12 -> 7.6915271
B14: Potato | C14: abs | D14: Kcal per gram | E14: gram per Kcal | I14: Potato | J14: abs | K14: Kcal per gram | L14: gram per Kcal | P14: Potato | Q14: abs | R14: Kcal per gram | S14: gram per Kcal | W14: Sweet Potato | X14: abs | Y14: Kcal per gram | Z14: gram per Kcal
B15: g | C15: 41.643836 | I15: g | J15: 301.64384 | P15: g | Q15: 51.780822 | W15: g | X15: 102.73973
B16: Carb | C16: 23.1 | D16: =C16/C15 -> 0.55470395 | E16: =C15/C16 -> 1.8027634 | I16: Carb | J16: 180.1 | K16: =J16/J15 -> 0.59706176 | L16: =J15/J16 -> 1.6748686 | P16: Carb | Q16: 30.9 | R16: =Q16/Q15 -> 0.59674603 | S16: =Q15/Q16 -> 1.6757548 | W16: Carb | X16: 95.3 | Y16: =X16/X15 -> 0.92758667 | Z16: =X15/X16 -> 1.0780664
B17: Protein | C17: 4 | D17: =C17/C15 -> 0.096052632 | E17: =C15/C17 -> 10.410959 | G17: =C15/SUM(C16:C18) -> 1.4872798 | I17: Protein | J17: 19.2 | K17: =J17/J15 -> 0.063651226 | L17: =J15/J17 -> 15.710616 | N17: =J15/SUM(J16:J18) -> 1.4932863 | P17: Protein | Q17: 3.2 | R17: =Q17/Q15 -> 0.061798942 | S17: =Q15/Q17 -> 16.181507 | U17: =Q15/SUM(Q16:Q18) -> 1.4794521 | W17: Protein | X17: 4 | Y17: =X17/X15 -> 0.038933333 | Z17: =X15/X17 -> 25.684932 | AB17: =X15/SUM(X16:X18) -> 1.0072522
B18: Fat | C18: 0.9 | D18: =C18/C15 -> 0.021611842 | E18: =C15/C18 -> 46.270928 | I18: Fat | J18: 2.7 | K18: =J18/J15 -> 0.0089509537 | L18: =J15/J18 -> 111.71994 | P18: Fat | Q18: 0.9 | R18: =Q18/Q15 -> 0.017380952 | S18: =Q15/Q18 -> 57.534247 | W18: Fat | X18: 2.7 | Y18: =X18/X15 -> 0.02628 | Z18: =X15/X18 -> 38.05175
B20: Soy oil | C20: abs | D20: Kcal per gram | E20: gram per Kcal | I20: Sunflower oil | J20: abs | K20: Kcal per gram | L20: gram per Kcal | P20: Soya Oil | Q20: abs | R20: Kcal per gram | S20: gram per Kcal | W20: Soya Oil | X20: abs | Y20: Kcal per gram | Z20: gram per Kcal
B21: g | C21: 38.082192 | I21: g | J21: 28.219178 | P21: g | Q21: 4.109589 | W21: g | X21: 6.3013699
B22: Carb | C22: 0 | D22: =C22/C21 -> 0 | E22: 0 | I22: Carb | J22: 0 | K22: =J22/J21 -> 0 | L22: 0 | P22: Carb | Q22: 0 | R22: =Q22/Q21 -> 0 | S22: 0 | W22: Carb | X22: 0 | Y22: =X22/X21 -> 0 | Z22: 0
B23: Protein | C23: 0 | D23: =C23/C21 -> 0 | E23: 0 | G23: =C21/SUM(C22:C24) -> 0.11076845 | I23: Protein | J23: 0.4 | K23: =J23/J21 -> 0.014174757 | L23: 0 | N23: =J21/SUM(J22:J24) -> 0.11342113 | P23: Protein | Q23: 0 | R23: =Q23/Q21 -> 0 | S23: 0 | U23: =Q21/SUM(Q22:Q24) -> 0.11415525 | W23: Protein | X23: 0 | Y23: =X23/X21 -> 0 | Z23: 0 | AB23: =X21/SUM(X22:X24) -> 0.11113527
B24: Fat | C24: 343.8 | D24: =C24/C21 -> 9.0278417 | E24: =C21/C24 -> 0.11076845 | I24: Fat | J24: 248.4 | K24: =J24/J21 -> 8.8025243 | L24: =J21/J24 -> 0.11360378 | P24: Fat | Q24: 36 | R24: =Q24/Q21 -> 8.76 | S24: =Q21/Q24 -> 0.11415525 | W24: Fat | X24: 56.7 | Y24: =X24/X21 -> 8.9980435 | Z24: =X21/X24 -> 0.11113527
B26: Poultry | C26: abs | D26: Kcal per gram | E26: gram per Kcal | I26: Pelagic Fish | J26: abs | K26: Kcal per gram | L26: gram per Kcal | P26: Chicken | Q26: abs | R26: Kcal per gram | S26: gram per Kcal | W26: Fish | X26: abs | Y26: Kcal per gram | Z26: gram per Kcal
B27: g | C27: 75.342466 | I27: g | J27: 19.726027 | P27: g | Q27: 3.5616438 | W27: g | X27: 31.780822
B28: Carb | C28: 2.3 | D28: =C28/C27 -> 0.030527273 | E28: =C27/C28 -> 32.757594 | I28: Carb | J28: 0.9 | K28: =J28/J27 -> 0.045625 | L28: =J27/J28 -> 21.917808 | P28: Carb | Q28: 0 | R28: =Q28/Q27 -> 0 | S28: =Q27/Q28 -> #DIV/0! | W28: Carb | X28: 0.8 | Y28: =X28/X27 -> 0.025172414 | Z28: =X27/X28 -> 39.726027
B29: Protein | C29: 35.6 | D29: =C29/C27 -> 0.47250909 | E29: =C27/C29 -> 2.1163614 | I29: Protein | J29: 10 | K29: =J29/J27 -> 0.50694444 | L29: =J27/J29 -> 1.9726027 | N29: =J27/SUM(J28:J30) -> 1.038212 | P29: Protein | Q29: 1.6 | R29: =Q29/Q27 -> 0.44923077 | S29: =Q27/Q29 -> 2.2260274 | U29: =Q27/SUM(Q28:Q30) -> 0.82828926 | W29: Protein | X29: 14 | Y29: =X29/X27 -> 0.44051724 | Z29: =X27/X29 -> 2.2700587 | AB29: =X27/SUM(X28:X30) -> 1.4445828
B30: Fat | C30: 80.1 | D30: =C30/C27 -> 1.0631455 | E30: =C27/C30 -> 0.94060507 | I30: Fat | J30: 8.1 | K30: =J30/J27 -> 0.410625 | L30: =J27/J30 -> 2.435312 | P30: Fat | Q30: 2.7 | R30: =Q30/Q27 -> 0.75807692 | S30: =Q27/Q30 -> 1.3191273 | W30: Fat | X30: 7.2 | Y30: =X30/X27 -> 0.22655172 | Z30: =X27/X30 -> 4.414003
B32: Cabbage | C32: abs | D32: Kcal per gram | E32: gram per Kcal | I32: Cabbage | J32: abs | K32: Kcal per gram | L32: gram per Kcal | P32: Tomato | Q32: abs | R32: Kcal per gram | S32: gram per Kcal | W32: Cabbage | X32: abs | Y32: Kcal per gram | Z32: gram per Kcal
B33: g | C33: 100 | I33: g | J33: 100 | P33: g | Q33: 19.178082 | W33: g | X33: 100
B34: Carb | C34: =6*4 -> 24 | D34: =C34/C33 -> 0.24 | E34: =C33/C34 -> 4.1666667 | I34: Carb | J34: =6*4 -> 24 | K34: =J34/J33 -> 0.24 | L34: =J33/J34 -> 4.1666667 | P34: Carb | Q34: 2.2 | R34: =Q34/Q33 -> 0.11471429 | S34: =Q33/Q34 -> 8.7173101 | W34: Carb | X34: =6*4 -> 24 | Y34: =X34/X33 -> 0.24 | Z34: =X33/X34 -> 4.1666667
B35: Protein | C35: =1.3*4 -> 5.2 | D35: =C35/C33 -> 0.052 | E35: =C33/C35 -> 19.230769 | I35: Protein | J35: =1.3*4 -> 5.2 | K35: =J35/J33 -> 0.052 | L35: =J33/J35 -> 19.230769 | P35: Protein | Q35: 0.8 | R35: =Q35/Q33 -> 0.041714286 | S35: =Q33/Q35 -> 23.972603 | W35: Protein | X35: =1.3*4 -> 5.2 | Y35: =X35/X33 -> 0.052 | Z35: =X33/X35 -> 19.230769
B36: Fat | C36: =0.1*9 -> 0.9 | D36: =C36/C33 -> 0.009 | E36: =C33/C36 -> 111.11111 | I36: Fat | J36: =0.1*9 -> 0.9 | K36: =J36/J33 -> 0.009 | L36: =J33/J36 -> 111.11111 | P36: Fat | Q36: 0 | R36: =Q36/Q33 -> 0 | S36: 0 | W36: Fat | X36: =0.1*9 -> 0.9 | Y36: =X36/X33 -> 0.009 | Z36: 0
B38: Carrots | C38: abs | D38: Kcal per gram | E38: gram per Kcal | I38: Carrots | J38: abs | K38: Kcal per gram | L38: gram per Kcal | P38: Spinach | Q38: abs | R38: Kcal per gram | S38: gram per Kcal | W38: Onions | X38: abs | Y38: Kcal per gram | Z38: gram per Kcal
B39: g | C39: 100 | I39: g | J39: 100 | P39: g | Q39: 100 | W39: g | X39: 33.69863
B40: Carb | C40: =10*4 -> 40 | D40: =C40/C39 -> 0.4 | E40: =C39/C40 -> 2.5 | I40: Carb | J40: =10*4 -> 40 | K40: =J40/J39 -> 0.4 | L40: =J39/J40 -> 2.5 | P40: Carb | Q40: =3.6*4 -> 14.4 | R40: =Q40/Q39 -> 0.144 | S40: =Q39/Q40 -> 6.9444444 | W40: Carb | X40: 10.1 | Y40: =X40/X39 -> 0.29971545 | Z40: =X39/X40 -> 3.336498
B41: Protein | C41: =0.9*4 -> 3.6 | D41: =C41/C39 -> 0.036 | E41: =C39/C41 -> 27.777778 | I41: Protein | J41: =0.9*4 -> 3.6 | K41: =J41/J39 -> 0.036 | L41: =J39/J41 -> 27.777778 | P41: Protein | Q41: =2.9*4 -> 11.6 | R41: =Q41/Q39 -> 0.116 | S41: =Q39/Q41 -> 8.6206897 | W41: Protein | X41: 2 | Y41: =X41/X39 -> 0.059349593 | Z41: =X39/X41 -> 16.849315
B42: Fat | C42: =0.2*9 -> 1.8 | D42: =C42/C39 -> 0.018 | E42: =C39/C42 -> 55.555556 | I42: Fat | J42: =0.2*9 -> 1.8 | K42: =J42/J39 -> 0.018 | L42: =J39/J42 -> 55.555556 | P42: Fat | Q42: =0.4*9 -> 3.6 | R42: =Q42/Q39 -> 0.036 | S42: =Q39/Q42 -> 27.777778 | W42: Fat | X42: 0.9 | Y42: =X42/X39 -> 0.026707317 | Z42: =X39/X42 -> 37.442922
B44: Onions | C44: abs | D44: Kcal per gram | E44: gram per Kcal | I44: Onions | J44: abs | K44: Kcal per gram | L44: gram per Kcal | P44: Onions | Q44: abs | R44: Kcal per gram | S44: gram per Kcal | W44: Chinese Cabbage | X44: abs | Y44: Kcal per gram | Z44: gram per Kcal
B45: g | C45: 16.164384 | I45: g | J45: 41.643836 | P45: g | Q45: 19.452055 | W45: g | X45: 100
B46: Carb | C46: 6.2 | D46: =C46/C45 -> 0.38355932 | E46: =C45/C46 -> 2.6071586 | I46: Carb | J46: 10.1 | K46: =J46/J45 -> 0.24253289 | L46: =J45/J46 -> 4.123152 | P46: Carb | Q46: 5.8 | R46: =Q46/Q45 -> 0.29816901 | S46: =Q45/Q46 -> 3.3538026 | W46: Carb | X46: =2.2*4 -> 8.8 | Y46: =X46/X45 -> 0.088 | Z46: =X45/X46 -> 11.363636
B47: Protein | C47: 0.8 | D47: =C47/C45 -> 0.049491525 | E47: =C45/C47 -> 20.205479 | I47: Protein | J47: 2 | K47: =J47/J45 -> 0.048026316 | L47: =J45/J47 -> 20.821918 | P47: Protein | Q47: 1.2 | R47: =Q47/Q45 -> 0.061690141 | S47: =Q45/Q47 -> 16.210046 | W47: Protein | X47: =1.5*4 -> 6 | Y47: =X47/X45 -> 0.06 | Z47: =X45/X47 -> 16.666667
...

Sheet Living Wage
A3: Kcal | B3: 2100
A4: Carb | B4: =B3*0.65 -> 1365
A5: Protein | B5: =B3*0.125 -> 262.5
A6: Fat | B6: =B3-B5-B4 -> 472.5 | C6: Brazil | D6: upper middle | O6: Russia | P6: upper middle | AA6: India | AB6: Low income | AM6: China | AN6: lower middle
C10: Specific Food | D10: Proportions (W/I) | E10: Proportions (W/O) | F10: Price | G10: Cost | I10: Kcal Protein | J10: Kcal Carb | K10: Kcal Fat | L10: Kcal | M10: g | O10: Specific Food | P10: Proportions (W/I) | Q10: Proportions (W/O) | R10: Price | S10: Cost | U10: Kcal Protein | V10: Kcal Carb | W10: Kcal Fat | X10: Kcal | Y10: g | AA10: Specific Food | AB10: Proportions (W/I) | AC10: Proportions (W/O) | AD10: Price | AE10: Cost | AG10: Kcal Protein | AH10: Kcal Carb | AI10: Kcal Fat | AJ10: Kcal | AK10: g | AM10: Specific Food | AN10: Proportions (W/I) | AO10: Proportions (W/O) | AP10: Price | AQ10: Cost | AS10: Kcal Protein | AT10: Kcal Carb | AU10: Kcal Fat | AV10: Kcal | AW10: g
B11: % | I11: =I12/$L12 -> 0.124998 | J11: =J12/$L12 -> 0.61117082 | K11: =K12/$L12 -> 0.26314938 | L11: =L12/$L12 -> 1 | U11: =U12/$X12 -> 0.12497866 | V11: =V12/$X12 -> 0.64317756 | W11: =W12/$X12 -> 0.23184378 | X11: =X12/X12 -> 1 | AG11: =AG12/$AJ12 -> 0.12500144 | AH11: =AH12/$AJ12 -> 0.63716775 | AI11: =AI12/$AJ12 -> 0.23783082 | AJ11: =AJ12/AJ12 -> 1 | AS11: =AS12/$AJ12 -> 0.12500144 | AT11: =AT12/$AJ12 -> 0.62375885 | AU11: =AU12/$AJ12 -> 0.25128827 | AV11: =AV12/AV12 -> 1
B12: Totals | G12: =SUM(G13:G35) -> 2.617975 | H12: =SUM(H13:H35) -> 1.0801765 | I12: =SUM(I13:I35) -> 262.5 | J12: =SUM(J13:J35) -> 1283.4793 | K12: =SUM(K13:K35) -> 552.62256 | L12: =SUM(L13:L35) -> 2100.0337 | M12: =SUM(M14:M35) -> 1287.1582 | S12: =SUM(S13:S35) -> 28.546694 | T12: =SUM(T14:T35) -> 1.0094111 | U12: =SUM(U13:U35) -> 262.5 | V12: =SUM(V13:V35) -> 1350.9035 | W12: =SUM(W13:W35) -> 486.95507 | X12: =SUM(X13:X35) -> 2100.3586 | Y12: =SUM(Y14:Y35) -> 1505.8004 | AE12: =SUM(AE13:AE35) -> 28.219906 | AF12: =AE12*0.02207 -> 0.62281334 | AG12: =SUM(AG13:AG35) -> 262.5 | AH12: =SUM(AH13:AH35) -> 1338.0369 | AI12: =SUM(AI13:AI35) -> 499.43897 | AJ12: =SUM(AJ13:AJ35) -> 2099.9758 | AK12: =SUM(AK14:AK35) -> 1256.5679 | AQ12: =SUM(AQ13:AQ35) -> 6.9526573 | AR12: =AQ12*0.12205 -> 0.84857183 | AS12: =SUM(AS13:AS35) -> 262.5 | AT12: =SUM(AT13:AT35) -> 1309.8785 | AU12: =SUM(AU13:AU35) -> 527.69929 | AV12: =SUM(AV13:AV35) -> 2100.0778 | AW12: =SUM(AW14:AW35) -> 1230.2624
B14: Cereals | C14: Wheat | D14: 0.49 | F14: 0.00104 | G14: =F14*M14 -> 0.19521178 | H14: =G14*0.4126 -> 0.080544379 | I14: =M14*FoodKcal!D5 -> 53.962982 | J14: =M14*FoodKcal!D4 -> 442.68162 | K14: =M14*FoodKcal!D6 -> 17.855398 | L14: =$B$3/2*D14 -> 514.5 | M14: =L14*FoodKcal!G5 -> 187.70363 | O14: Wheat | P14: 0.94 | R14: 0.0127 | S14: =R14*Y14 -> 4.4074129 | T14: =S14*0.03536 -> 0.15584612 | U14: =Y14*FoodKcal!K5 -> 117.94697 | V14: =Y14*FoodKcal!K4 -> 841.74697 | W14: =Y14*FoodKcal!K6 -> 27.306052 | X14: =$B$3/2*P14 -> 987 | Y14: =X14*FoodKcal!N5 -> 347.04039 | AA14: Wheat | AB14: 0.4 | AD14: 0.013 | AE14: =AD14*AK14 -> 1.7531454 | AF14: =AE14*0.02207 -> 0.03869192 | AG14: =AK14*FoodKcal!R5 -> 49.22293 | AH14: =AK14*FoodKcal!R4 -> 353.12102 | AI14: =AK14*FoodKcal!R6 -> 17.656051 | AJ14: 420 | AK14: =AJ14*FoodKcal!U5 -> 134.85734 | AM14: Wheat | AN14: 0.43 | AP14: 0.00263 | AQ14: =AP14*AW14 -> 0.37282851 | AR14: =AQ14*0.12205 -> 0.04550372 | AS14: =AW14*FoodKcal!Y5 -> 57.951443 | AT14: =AW14*FoodKcal!Y4 -> 372.16171 | AU14: =AW14*FoodKcal!Y6 -> 21.386842 | AV14: =B3/2*AN14 -> 451.5 | AW14: =AV14*FoodKcal!AB5 -> 141.75989
C15: Rice | D15: 0.51 | F15: 0.0014 | G15: =F15*M15 -> 0.20230858 | H15: =G15*0.4126 -> 0.08347252 | I15: =M15*FoodKcal!D11 -> 42.410526 | J15: =M15*FoodKcal!D10 -> 484.63421 | K15: =M15*FoodKcal!D12 -> 8.4552632 | L15: =$B$3/2*D15 -> 535.5 | M15: =L15*FoodKcal!G11 -> 144.50613 | O15: Rice | P15: 0.06 | R15: 0.0142 | S15: =R15*Y15 -> 0.2555255 | T15: =S15*0.03536 -> 0.0090353818 | U15: =Y15*FoodKcal!K11 -> 4.8255319 | V15: =Y15*FoodKcal!K10 -> 56.968085 | W15: =Y15*FoodKcal!K12 -> 1.206383 | X15: =$B$3/2*P15 -> 63 | Y15: =X15*FoodKcal!N11 -> 17.994754 | AA15: Rice | AB15: 0.6 | AD15: 0.0327 | AE15: =AD15*AK15 -> 5.6998342 | AF15: =AE15*0.02207 -> 0.12579534 | AG15: =AK15*FoodKcal!R11 -> 47.272214 | AH15: =AK15*FoodKcal!R10 -> 569.9323 | AI15: =AK15*FoodKcal!R12 -> 12.795487 | AJ15: 630 | AK15: =AJ15*FoodKcal!U11 -> 174.30686 | AM15: Rice | AN15: 0.57 | AP15: 0.00278 | AQ15: =AP15*AW15 -> 0.43960512 | AR15: =AQ15*0.12205 -> 0.053653805 | AS15: =AW15*FoodKcal!Y11 -> 44.164122 | AT15: =AW15*FoodKcal!Y10 -> 533.77672 | AU15: =AW15*FoodKcal!Y12 -> 20.55916 | AV15: =B3/2*AN15 -> 598.5 | AW15: =AV15*FoodKcal!AB11 -> 158.13134
B17: Roots/Tubers | C17: Potato | E17: 0.05 | F17: 0.00088 | G17: =F17*M17 -> 0.13742466 | H17: =G17*0.4126 -> 0.056701414 | I17: =M17*FoodKcal!D17 -> 15 | J17: =M17*FoodKcal!D16 -> 86.625 | K17: =M17*FoodKcal!D18 -> 3.375 | L17: =B3*E17 -> 105 | M17: =L17*FoodKcal!G17 -> 156.16438 | O17: Potato | Q17: 0.08 | R17: 0.00143 | S17: =R17*Y17 -> 0.3587471 | T17: =S17*0.03536 -> 0.012685298 | U17: =Y17*FoodKcal!K17 -> 15.968317 | V17: =Y17*FoodKcal!K16 -> 149.78614 | W17: =Y17*FoodKcal!K18 -> 2.2455446 | X17: =$B$3*Q17 -> 168 | Y17: =X17*FoodKcal!N17 -> 250.8721 | AA17: Potato | AC17: 0.02 | AD17: 0.0101 | AE17: =AD17*AK17 -> 0.62758356 | AF17: =AE17*0.02207 -> 0.013850769 | AG17: =AK17*FoodKcal!R17 -> 3.84 | AH17: =AK17*FoodKcal!R16 -> 37.08 | AI17: =AK17*FoodKcal!R18 -> 1.08 | AJ17: =$B$3*AC17 -> 42 | AK17: =AJ17*FoodKcal!U17 -> 62.136986 | AM17: Sweet Potato | AO17: 0.07 | AP17: 0.00147 | AQ17: =AP17*AW17 -> 0.21765713 | AR17: =AQ17*0.12205 -> 0.026565053 | AS17: =AW17*FoodKcal!Y17 -> 5.7647059 | AT17: =AW17*FoodKcal!Y16 -> 137.34412 | AU17: =AW17*FoodKcal!Y18 -> 3.8911765 | AV17: =$B$3*AO17 -> 147 | AW17: =AV17*FoodKcal!AB17 -> 148.06608
H18: =G18*0.4126 -> 0
B19: Pulses | G19: =M19*F19 -> 0 | I19: 0 | R19: =X19*Q19 -> 0 | S19: =Y19*R19 -> 0 | AA19: Split Peas | AC19: 0.06 | AD19: 0.0306 | AE19: =AK19*AD19 -> 1.2483885 | AF19: =AE19*0.02207 -> 0.027551935 | AG19: =AK19*FoodKcal!R71 -> 36.654545 | AH19: =AK19*FoodKcal!R70 -> 79.036364 | AI19: =AK19*FoodKcal!R72 -> 10.309091 | AJ19: =$B$3*AC19 -> 126 | AK19: =AJ19*FoodKcal!U71 -> 40.797011 | AM19: Beancurd | AO19: 0.03 | AP19: 0.00199 | AQ19: =AW19*AP19 -> 0.037059625 | AR19: =AQ19*0.12205 -> 0.0045231272 | AS19: =AW19*FoodKcal!Y71 -> 23.873684 | AT19: =AW19*FoodKcal!Y70 -> 19.728947 | AU19: =AW19*FoodKcal!Y72 -> 19.397368 | AV19: =$B$3*AO19 -> 63 | AW19: =AV19*FoodKcal!AB71 -> 18.622927
B21: Oil | C21: Salad/Cooking Oil | F21: 0.0022 | G21: =M21*F21 -> 0.052027939 | H21: =G21*0.4126 -> 0.021466728 | I21: 0 | J21: 0 | K21: 213.5 | L21: =K21 -> 213.5 | M21: =L21*FoodKcal!E24 -> 23.649063 | O21: Salad/Cooking Oil | R21: 0.0397 | S21: =Y21*R21 -> 1.3981253 | T21: =S21*0.03536 -> 0.049437711 | U21: 0 | V21: 0 | W21: =X21 -> 310.5 | X21: 310.5 | Y21: =X21*FoodKcal!N23 -> 35.217262 | AA21: Soya Oil | AD21: 0.0545 | AE21: =AK21*AD21 -> 2.4232591 | AF21: =AE21*0.02207 -> 0.053481329 | AG21: 0 | AH21: 0 | AI21: =AJ21 -> 389.5 | AJ21: 389.5 | AK21: =AJ21*FoodKcal!U23 -> 44.46347 | AM21: Soya Oil | AP21: 0.00897 | AQ21: =AW21*AP21 -> 0.38778763 | AR21: =AQ21*0.12205 -> 0.047329481 | AS21: 0 | AT21: 0 | AU21: =AV21 -> 389 | AV21: 389 | AW21: =AV21*FoodKcal!AB23 -> 43.23162
B23: Meat/Fish | C23: Poultry | F23: 0.00447 | G23: =M23*F23 -> 1.2448556 | H23: =G23*0.4126 -> 0.51362741 | I23: =262.5-I14-I15-I17-I21-I29-I30-I31-I32-I33-I35-I24 -> 131.58961 | J23: =M23*FoodKcal!D28 -> 8.5015762 | K23: =M23*FoodKcal!D30 -> 296.07663 | L23: =SUM(I23:K23) -> 436.16782 | M23: =I23*FoodKcal!E29 -> 278.49118 | O23: Fish,Fresh | R23: 0.0656 | S23: =Y23*R23 -> 8.9744804 | T23: =S23*0.03536 -> 0.31733763 | U23: =B5-U14-U15-U17-U21-U24-U29-U30-U31-U32-U33-U35 -> 69.353095 | V23: =Y23*FoodKcal!K28 -> 6.2417785 | W23: =Y23*FoodKcal!K30 -> 56.176007 | X23: =SUM(U23:W23) -> 131.77088 | Y23: =U23*FoodKcal!L29 -> 136.8061 | AA23: Poultry | AD23: 0.0456 | AE23: =AK23*AD23 -> 2.3212423 | AF23: =AE23*0.02207 -> 0.051229817 | AG23: =262.5-AG14-AG15-AG17-AG19-AG21-AG24-AG29-AG30-AG31-AG32-AG33 -> 61.457316 | AH23: =AK23*FoodKcal!V28 -> 0 | AI23: =AK23*FoodKcal!V30 -> 0 | AJ23: =SUM(AG23:AI23) -> 61.457316 | AK23: =AG23*FoodKcal!U29 -> 50.904435 | AM23: Fish | AP23: 0.00963 | AQ23: =AW23*AP23 -> 2.3863789 | AR23: =AQ23*0.12205 -> 0.29125754 | AS23: =262.5-AS14-AS15-AS17-AS19-AS21-AS24-AS29-AS30-AS31-AS32-AS33 -> 109.16314 | AT23: =AW23*FoodKcal!Y28 -> 6.2378937 | AU23: =AW23*FoodKcal!Y30 -> 56.141044 | AV23: =SUM(AS23:AU23) -> 171.54208 | AW23: =AS23*FoodKcal!Z29 -> 247.80674
B24: Milk | C24: Milk | E24: 0.01 | F24: ='[1]Common Classification per gram'!$J$45 -> 0.00154 | G24: =M24*F24 -> 0.048731507 | H24: =G24*0.4126 -> 0.02010662 | I24: =M24*FoodKcal!D77 -> 4.0854545 | J24: =M24*FoodKcal!D76 -> 6.1186364 | K24: =M24*FoodKcal!D78 -> 9.3640909 | L24: =B3*0.01 -> 21 | M24: =L24*FoodKcal!AB77 -> 31.643836 | O24: Milk NP | Q24: 0.08 | R24: 0.0138 | S24: =Y24*R24 -> 3.820803 | T24: =S24*0.03536 -> 0.13510359 | U24: =Y24*FoodKcal!K77 -> 40.165517 | V24: =Y24*FoodKcal!K76 -> 44.413793 | W24: =Y24*FoodKcal!K78 -> 83.42069 | X24: =B3*0.08 -> 168 | Y24: =X24*FoodKcal!N77 -> 276.86978 | AA24: Milk, NP | AD24: 0.0246 | AE24: =AK24*AD24 -> 7.5793033 | AF24: =AE24*0.02207 -> 0.16727522 | AG24: =AK24*FoodKcal!R77 -> 43.885714 | AH24: =AK24*FoodKcal!R76 -> 60.857143 | AI24: =AK24*FoodKcal!R78 -> 63.257143 | AJ24: =B3*0.08 -> 168 | AK24: =AJ24*FoodKcal!U77 -> 308.10176 | AM24: milk | AP24: 0.00407 | AQ24: =AW24*AP24 -> 0.12879041 | AR24: =AQ24*0.12205 -> 0.01571887 | AS24: =AW24*FoodKcal!Y77 -> 4.4 | AT24: =AW24*FoodKcal!Y76 -> 5.8 | AU24: =AW24*FoodKcal!Y78 -> 10.8 | AV24: =B3*0.01 -> 21 | AW24: =AV24*FoodKcal!AB77 -> 31.643836
B25: Salt | F25: 0.000815 | G25: =M25*F25 -> 0.004075 | H25: =G25*0.4126 -> 0.001681345 | M25: 5 | O25: Salt | R25: 0.005 | S25: =Y25*R25 -> 0.025 | T25: =S25*0.03536 -> 0.000884 | Y25: 5 | AA25: Salt | AD25: 0.00423 | AE25: =AK25*AD25 -> 0.02115 | AF25: =AE25*0.02207 -> 0.0004667805 | AK25: 5 | AM25: Salt | AP25: 0.00179 | AQ25: =AW25*AP25 -> 0.00895 | AR25: =AQ25*0.12205 -> 0.0010923475 | AW25: 5
B27: Tea/Coffee | C27: Coffee | F27: 0.0101 | G27: =M27*F27 -> 0.303 | H27: =G27*0.4126 -> 0.1250178 | M27: 30 | O27: Tea | R27: 0.192 | S27: =Y27*R27 -> 1.152 | T27: =S27*0.03536 -> 0.04073472 | Y27: 6 | AA27: Tea | AD27: 0.174 | AE27: =AK27*AD27 -> 1.044 | AF27: =AE27*0.02207 -> 0.02304108 | AK27: 6 | AM27: Green Tea | AP27: 0.267 | AQ27: =AW27*AP27 -> 1.602 | AR27: =AQ27*0.12205 -> 0.1955241 | AW27: 6
B29: Veg | C29: Cabbage | F29: 0.000903 | G29: =M29*F29 -> 0.07224 | H29: =G29*0.4126 -> 0.029806224 | I29: =M29*FoodKcal!D35 -> 4.16 | J29: =M29*FoodKcal!D34 -> 19.2 | K29: =M29*FoodKcal!D36 -> 0.72 | L29: =SUM(I29:K29) -> 24.08 | M29: 80 | O29: Cabbage | R29: 0.00887 | S29: =Y29*R29 -> 0.7096 | T29: =S29*0.03536 -> 0.025091456 | U29: =Y29*FoodKcal!K35 -> 4.16 | V29: =Y29*FoodKcal!K34 -> 19.2 | W29: =Y29*FoodKcal!K36 -> 0.72 | X29: =SUM(U29:W29) -> 24.08 | Y29: 80 | AA29: Tomatoes | AD29: 0.0159 | AE29: =AK29*AD29 -> 1.272 | AF29: =AE29*0.02207 -> 0.02807304 | AG29: =AK29*FoodKcal!R35 -> 3.3371429 | AH29: =AK29*FoodKcal!R34 -> 9.1771429 | AI29: =AK29*FoodKcal!R36 -> 0 | AJ29: =SUM(AG29:AI29) -> 12.514286 | AK29: 80 | AM29: Cabbage | AP29: 0.00148 | AQ29: =AW29*AP29 -> 0.1184 | AR29: =AQ29*0.12205 -> 0.01445072 | AS29: =AW29*FoodKcal!Y35 -> 4.16 | AT29: =AW29*FoodKcal!Y34 -> 19.2 | AU29: =AW29*FoodKcal!Y36 -> 0.72 | AV29: =SUM(AS29:AU29) -> 24.08 | AW29: 80
C30: Carrots | F30: 0.00109 | G30: =M30*F30 -> 0.0872 | H30: =G30*0.4126 -> 0.03597872 | I30: =M30*FoodKcal!D41 -> 2.88 | J30: =M30*FoodKcal!D40 -> 32 | K30: =M30*FoodKcal!D42 -> 1.44 | L30: =SUM(I30:K30) -> 36.32 | M30: 80 | O30: Carrots | R30: 0.0118 | S30: =Y30*R30 -> 0.944 | T30: =S30*0.03536 -> 0.03337984 | U30: =Y30*FoodKcal!K41 -> 2.88 | V30: =Y30*FoodKcal!K40 -> 32 | W30: =Y30*FoodKcal!K42 -> 1.44 | X30: =SUM(U30:W30) -> 36.32 | Y30: 80 | AA30: Spinach | AD30: 0.01177 | AE30: =AK30*AD30 -> 0.9416 | AF30: =AE30*0.02207 -> 0.020781112 | AG30: =AK30*FoodKcal!R41 -> 9.28 | AH30: =AK30*FoodKcal!R40 -> 11.52 | AI30: =AK30*FoodKcal!R42 -> 2.88 | AJ30: =SUM(AG30:AI30) -> 23.68 | AK30: 80 | AM30: Onions | AP30: 0.00166 | AQ30: =AW30*AP30 -> 0.1328 | AR30: =AQ30*0.12205 -> 0.01620824 | AS30: =AW30*FoodKcal!Y41 -> 4.7479675 | AT30: =AW30*FoodKcal!Y40 -> 23.977236 | AU30: =AW30*FoodKcal!Y42 -> 2.1365854 | AV30: =SUM(AS30:AU30) -> 30.861789 | AW30: 80
C31: Onions | F31: 0.00133 | G31: =M31*F31 -> 0.1064 | H31: =G31*0.4126 -> 0.04390064 | I31: =M31*FoodKcal!D47 -> 3.959322 | J31: =M31*FoodKcal!D46 -> 30.684746 | K31: =M31*FoodKcal!D48 -> 0 | L31: =SUM(I31:K31) -> 34.644068 | M31: 80 | O31: Onions | R31: 0.0112 | S31: =Y31*R31 -> 0.896 | T31: =S31*0.03536 -> 0.03168256 | U31: =Y31*FoodKcal!K47 -> 3.8421053 | V31: =Y31*FoodKcal!K46 -> 19.402632 | W31: =Y31*FoodKcal!K48 -> 1.7289474 | X31: =SUM(U31:W31) -> 24.973684 | Y31: 80 | AA31: Onions | AD31: 0.0182 | AE31: =AK31*AD31 -> 1.456 | AF31: =AE31*0.02207 -> 0.03213392 | AG31: =AK31*FoodKcal!R47 -> 4.9352113 | AH31: =AK31*FoodKcal!R46 -> 23.853521 | AI31: =AK31*FoodKcal!R48 -> 0 | AJ31: =SUM(AG31:AI31) -> 28.788732 | AK31: 80 | AM31: Chinese Cabbage | AP31: 0.00132 | AQ31: =AW31*AP31 -> 0.1056 | AR31: =AQ31*0.12205 -> 0.01288848 | AS31: =AW31*FoodKcal!Y47 -> 4.8 | AT31: =AW31*FoodKcal!Y46 -> 7.04 | AU31: =AW31*FoodKcal!Y48 -> 1.44 | AV31: =SUM(AS31:AU31) -> 13.28 | AW31: 80
C32: Bannana | F32: 0.000865 | G32: =M32*F32 -> 0.0692 | H32: =G32*0.4126 -> 0.02855192 | I32: =M32*FoodKcal!D53 -> 2.7715254 | J32: =M32*FoodKcal!D52 -> 46.818983 | K32: =M32*FoodKcal!D54 -> 0.89084746 | L32: =SUM(I32:K32) -> 50.481356 | M32: 80 | O32: Bannana | R32: 0.0292 | S32: =Y32*R32 -> 2.336 | T32: =S32*0.03536 -> 0.08260096 | U32: =Y32*FoodKcal!K53 -> 2.7715254 | V32: =Y32*FoodKcal!K52 -> 46.818983 | W32: =Y32*FoodKcal!K54 -> 0.89084746 | X32: =SUM(U32:W32) -> 50.481356 | Y32: 80 | AA32: Bannana | AD32: 0.00736 | AE32: =AK32*AD32 -> 0.5888 | AF32: =AE32*0.02207 -> 0.012994816 | AG32: =AK32*FoodKcal!R53 -> 2.6149254 | AH32: =AK32*FoodKcal!R52 -> 45.543284 | AI32: =AK32*FoodKcal!R54 -> 1.961194 | AJ32: =SUM(AG32:AI32) -> 50.119403 | AK32: 80 | AM32: Bannana | AP32: 0.00634 | AQ32: =AW32*AP32 -> 0.5072 | AR32: =AQ32*0.12205 -> 0.06190376 | AS32: =AW32*FoodKcal!Y53 -> 2.4851064 | AT32: =AW32*FoodKcal!Y52 -> 47.217021 | AU32: =AW32*FoodKcal!Y54 -> 0 | AV32: =SUM(AS32:AU32) -> 49.702128 | AW32: 80
C33: Oranges | F33: 0.000745 | G33: =M33*F33 -> 0.0596 | H33: =G33*0.4126 -> 0.02459096 | I33: =M33*FoodKcal!D59 -> 1.6805755 | J33: =M33*FoodKcal!D58 -> 19.431655 | K33: =M33*FoodKcal!D60 -> 0.94532374 | L33: =SUM(I33:K33) -> 22.057554 | M33: 80 | O33: Apples | R33: 0.0334 | S33: =Y33*R33 -> 2.672 | T33: =S33*0.03536 -> 0.09448192 | U33: =Y33*FoodKcal!K59 -> 0.58693467 | V33: =Y33*FoodKcal!K58 -> 27.439196 | W33: =Y33*FoodKcal!K60 -> 1.320603 | X33: =SUM(U33:W33) -> 29.346734 | Y33: 80 | AA33: Lemon | AD33: 0.00767 | AE33: =AK33*AD33 -> 0.6136 | AF33: =AE33*0.02207 -> 0.013542152 | AG33: =AK33*FoodKcal!R59 -> 0 | AH33: =AK33*FoodKcal!R58 -> 41.714286 | AI33: =AK33*FoodKcal!R60 -> 0 | AJ33: =SUM(AG33:AI33) -> 41.714286 | AK33: 80 | AM33: Apples | AP33: 0.00396 | AQ33: =AW33*AP33 -> 0.3168 | AR33: =AQ33*0.12205 -> 0.03866544 | AS33: =AW33*FoodKcal!Y59 -> 0.98983051 | AT33: =AW33*FoodKcal!Y58 -> 31.427119 | AU33: =AW33*FoodKcal!Y60 -> 2.2271186 | AV33: =SUM(AS33:AU33) -> 34.644068 | AW33: 80
B35: Sugar | C35: White Sugar | F35: 0.00119 | G35: =F35*M35 -> 0.0357 | H35: =G35*0.4126 -> 0.01472982 | I35: 0 | J35: =M35*FoodKcal!D64 -> 106.78288 | K35: 0 | L35: =SUM(I35:K35) -> 106.78288 | M35: 30 | O35: White Sugar | R35: 0.0199 | S35: =R35*Y35 -> 0.597 | T35: =S35*0.03536 -> 0.02110992 | U35: 0 | V35: =Y35*FoodKcal!K64 -> 106.88594 | W35: 0 | X35: =SUM(U35:W35) -> 106.88594 | Y35: 30 | AA35: White Sugar | AD35: 0.021 | AE35: =AD35*AK35 -> 0.63 | AF35: =AE35*0.02207 -> 0.0139041 | AG35: 0 | AH35: =AK35*FoodKcal!R64 -> 106.20181 | AI35: 0 | AJ35: =SUM(AG35:AI35) -> 106.20181 | AK35: 30 | AM35: White Sugar | AP35: 0.00636 | AQ35: =AP35*AW35 -> 0.1908 | AR35: =AQ35*0.12205 -> 0.02328714 | AS35: 0 | AT35: =AW35*FoodKcal!Y64 -> 105.96774 | AU35: 0 | AV35: =SUM(AS35:AU35) -> 105.96774 | AW35: 30
B38: Food Share | C38: 0.5 | O38: 0.5 | R38: =O38*4+2.37*0.5 -> 3.185 | AA38: 0.7 | AM38: 0.6
B40: Total required income | C40: =G12/C38 -> 5.2359501 | O40: =S12*(1+1-O38) -> 42.820041 | AA40: =AE12/AA38 -> 40.314152 | AM40: =AQ12/AM38 -> 11.587762
B41: Family size
B43: Family multiplier | C43: 3.185 | O43: 3.185 | AA43: 3.51 | AM43: 3.35
C45: =C40*C43 -> 16.676501 | O45: =O43*O40 -> 136.38183 | AA45: =AA43*AA40 -> 141.50267 | AM45: =AM43*AM40 -> 38.819003
B47: margin | C47: 0.1 | O47: 0.1 | AA47: 0.1 | AM47: 0.1
B49: Daily Living Wage | C49: =C45*(1+C47) -> 18.344151 | O49: =O45*(1+O47) -> 150.02002 | AA49: =AA45*(1+AA47) -> 155.65294 | AM49: =AM45*(1+AM47) -> 42.700904
B51: annual Living wage | C51: =C49*365 -> 6695.6151 | D51: =C51/2400 -> 2.7898396 | O51: =O49*365 -> 54757.306 | P51: =O51/2400 -> 22.815544 | AA51: =AA49*365 -> 56813.324 | AB51: =AA51/2400 -> 23.672218 | AM51: =AM49*365 -> 15585.83 | AN51: =AM51/2400 -> 6.4940958
B52: annual Living wage usd | C52: =C51*0.4126 -> 2762.6108 | D52: =D51*0.4126 -> 1.1510878 | O52: =O51* 0.03536 -> 1936.2183 | P52: =P51* 0.03536 -> 0.80675763 | AA52: =AA51*0.0226828 -> 1288.6853 | AB52: =AA52/2400 -> 0.53695219 | AM52: =AM51*0.12205 -> 1902.2505 | AN52: =AM52/2400 -> 0.79260439

Sheet Cost per unit
C1: Brazil | G1: Russia | K1: India | O1: China
B2: Meat Fish | C2: cost/gram | D2: protein/gram | E2: gram/gram protein | F2: cost per gram protein | G2: cost/gram | H2: protein/gram | I2: gram/gram protein | J2: cost per gram protein | K2: cost/gram | L2: protein/gram | M2: gram/gram protein | N2: cost per gram protein | O2: cost/gram | P2: protein/gram | Q2: gram/gram protein | R2: cost per gram protein
B3: 16 Round of beef 1 kg | C3: 0.009865 | D3: 0.54598338 | E3: =1/D3 -> 1.8315576 | F3: =E3*C3 -> 0.018068316 | G3: 0 | I3: =1/H3 -> #DIV/0! | J3: =I3*G3 -> #DIV/0! | K3: 0 | M3: =1/L3 -> #DIV/0! | N3: =M3*K3 -> #DIV/0! | O3: 0 | Q3: =1/P3 -> #DIV/0! | R3: =Q3*O3 -> #DIV/0!
B4: 17 Beef, stewing 1 kg | C4: 0.00538 | D4: 0.54598338 | E4: =1/D4 -> 1.8315576 | F4: =E4*C4 -> 0.0098537798 | G4: 0 | I4: =1/H4 -> #DIV/0! | J4: =I4*G4 -> #DIV/0! | K4: 0 | M4: =1/L4 -> #DIV/0! | N4: =M4*K4 -> #DIV/0! | O4: 0 | Q4: =1/P4 -> #DIV/0! | R4: =Q4*O4 -> #DIV/0!
B5: 18 Beef | C5: 0 | D5: 0.54598338 | E5: =1/D5 -> 1.8315576 | F5: =E5*C5 -> 0 | G5: 0 | I5: =1/H5 -> #DIV/0! | J5: =I5*G5 -> #DIV/0! | K5: 0 | M5: =1/L5 -> #DIV/0! | N5: =M5*K5 -> #DIV/0! | O5: 0 | Q5: =1/P5 -> #DIV/0! | R5: =Q5*O5 -> #DIV/0!
B6: (a) with bone 1 kg | C6: 0.00447 | D6: 0.54598338 | E6: =1/D6 -> 1.8315576 | F6: =E6*C6 -> 0.0081870624 | G6: 0.11334 | H6: 0.58708995 | I6: =1/H6 -> 1.7033165 | J6: =I6*G6 -> 0.19305389 | K6: 0.044 | L6: 0.51529412 | M6: =1/L6 -> 1.9406393 | N6: =M6*K6 -> 0.085388128 | O6: 0 | P6: 0.53956522 | Q6: =1/P6 -> 1.8533441 | R6: =Q6*O6 -> 0
B7: (b) without bone 1 kg | C7: 0.0056 | D7: 0.54598338 | E7: =1/D7 -> 1.8315576 | F7: =E7*C7 -> 0.010256722 | G7: 0.16418 | H7: 0.58708995 | I7: =1/H7 -> 1.7033165 | J7: =I7*G7 -> 0.2796505 | K7: 0 | L7: 0.51529412 | M7: =1/L7 -> 1.9406393 | N7: =M7*K7 -> 0 | O7: 0.013080261 | P7: 0.53956522 | Q7: =1/P7 -> 1.8533441 | R7: =Q7*O7 -> 0.024242224
B8: 19 Corned beef 340 g | C8: 0 | E8: =1/D8 -> #DIV/0! | F8: =E8*C8 -> #DIV/0! | G8: 0 | I8: =1/H8 -> #DIV/0! | J8: =I8*G8 -> #DIV/0! | K8: 0 | M8: =1/L8 -> #DIV/0! | N8: =M8*K8 -> #DIV/0! | O8: 0 | Q8: =1/P8 -> #DIV/0! | R8: =Q8*O8 -> #DIV/0!
B9: 20 Veal, leg 1 kg | C9: 0 | E9: =1/D9 -> #DIV/0! | F9: =E9*C9 -> #DIV/0! | G9: 0 | I9: =1/H9 -> #DIV/0! | J9: =I9*G9 -> #DIV/0! | K9: 0 | M9: =1/L9 -> #DIV/0! | N9: =M9*K9 -> #DIV/0! | O9: 0 | Q9: =1/P9 -> #DIV/0! | R9: =Q9*O9 -> #DIV/0!
B10: 21 Lamb, leg 1 kg | C10: 0.020925 | E10: =1/D10 -> #DIV/0! | F10: =E10*C10 -> #DIV/0! | G10: 0 | I10: =1/H10 -> #DIV/0! | J10: =I10*G10 -> #DIV/0! | K10: 0 | M10: =1/L10 -> #DIV/0! | N10: =M10*K10 -> #DIV/0! | O10: 0 | Q10: =1/P10 -> #DIV/0! | R10: =Q10*O10 -> #DIV/0!
B11: 22 Mutton, stewing 1 kg | C11: 0 | D11: 0.48666667 | E11: =1/D11 -> 2.0547945 | G11: 0.13614 | H11: 0.56153846 | I11: =1/H11 -> 1.7808219 | J11: =I11*G11 -> 0.2424411 | K11: 0.13846 | L11: 0.62571429 | M11: =1/L11 -> 1.5981735 | N11: =M11*K11 -> 0.22128311 | O11: 0.018244562 | P11: 0.57357143 | Q11: =1/P11 -> 1.743462 | R11: =Q11*O11 -> 0.031808702
B12: 23 Pork chops, loin 1 kg | C12: 0.008115 | E12: =1/D12 -> #DIV/0! | F12: =E12*C12 -> #DIV/0! | G12: 0 | I12: =1/H12 -> #DIV/0! | J12: =I12*G12 -> #DIV/0! | K12: 0 | M12: =1/L12 -> #DIV/0! | N12: =M12*K12 -> #DIV/0! | O12: 0 | Q12: =1/P12 -> #DIV/0! | R12: =Q12*O12 -> #DIV/0!
B13: 24 Pork | C13: 0 | E13: =1/D13 -> #DIV/0! | F13: =E13*C13 -> #DIV/0! | G13: 0 | I13: =1/H13 -> #DIV/0! | J13: =I13*G13 -> #DIV/0! | K13: 0 | M13: =1/L13 -> #DIV/0! | N13: =M13*K13 -> #DIV/0! | O13: 0 | Q13: =1/P13 -> #DIV/0! | R13: =Q13*O13 -> #DIV/0!
B14: (a) with bone a) 1 kg | C14: 0.008015 | D14: 0.38647059 | E14: =1/D14 -> 2.587519 | F14: =E14*C14 -> 0.020738965 | G14: 0.1293 | H14: 0.3723 | I14: =1/H14 -> 2.6860059 | J14: =I14*G14 -> 0.34730056 | K14: 0 | L14: 0.48666667 | M14: =1/L14 -> 2.0547945 | N14: =M14*K14 -> 0 | O14: 0 | P14: 0.43929204 | Q14: =1/P14 -> 2.27639 | R14: =Q14*O14 -> 0
B15: (b) without bone b) 1 kg | C15: 0.01114 | D15: 0.38647059 | E15: =1/D15 -> 2.587519 | F15: =E15*C15 -> 0.028824962 | G15: 0.18036 | H15: 0.3723 | I15: =1/H15 -> 2.6860059 | J15: =I15*G15 -> 0.48444803 | K15: 0 | L15: 0.48666667 | M15: =1/L15 -> 2.0547945 | N15: =M15*K15 -> 0 | O15: 0.015493486 | P15: 0.43929204 | Q15: =1/P15 -> 2.27639 | R15: =Q15*O15 -> 0.035269217
B16: 25 Ham, cooked 500 g | C16: 0.012775 | E16: =1/D16 -> #DIV/0! | F16: =E16*C16 -> #DIV/0! | G16: 0 | I16: =1/H16 -> #DIV/0! | J16: =I16*G16 -> #DIV/0! | K16: 0 | M16: =1/L16 -> #DIV/0! | N16: =M16*K16 -> #DIV/0! | O16: 0 | Q16: =1/P16 -> #DIV/0! | R16: =Q16*O16 -> #DIV/0!
B17: 26 Bacon, side 250 g | C17: 0.012685 | E17: =1/D17 -> #DIV/0! | F17: =E17*C17 -> #DIV/0! | G17: 0 | I17: =1/H17 -> #DIV/0! | J17: =I17*G17 -> #DIV/0! | K17: 0 | M17: =1/L17 -> #DIV/0! | N17: =M17*K17 -> #DIV/0! | O17: 0 | Q17: =1/P17 -> #DIV/0! | R17: =Q17*O17 -> #DIV/0!
B18: 27 Chicken, cleaned 1 kg | C18: 0.00353 | D18: 0.47250909 | E18: =1/D18 -> 2.1163614 | F18: =E18*C18 -> 0.0074707557 | G18: 0.08338 | H18: 0.49535714 | I18: =1/H18 -> 2.0187455 | J18: =I18*G18 -> 0.168323 | K18: 0 | M18: =1/L18 -> #DIV/0! | N18: =M18*K18 -> #DIV/0! | O18: 0.011242721 | P18: 0.47096774 | Q18: =1/P18 -> 2.1232877 | R18: =Q18*O18 -> 0.023871531
B19: 28 Chicken, live 1 kg | C19: 0 | E19: =1/D19 -> #DIV/0! | F19: =E19*C19 -> #DIV/0! | G19: 0 | I19: =1/H19 -> #DIV/0! | J19: =I19*G19 -> #DIV/0! | K19: 0.04558 | L19: 0.5475 | M19: =1/L19 -> 1.826484 | N19: =M19*K19 -> 0.083251142 | O19: 0 | P19: 0.47096774 | Q19: =1/P19 -> 2.1232877 | R19: =Q19*O19 -> 0
B20: 29 Duck, cleaned 1 kg | C20: 0 | E20: =1/D20 -> #DIV/0! | F20: =E20*C20 -> #DIV/0! | G20: 0 | I20: =1/H20 -> #DIV/0! | J20: =I20*G20 -> #DIV/0! | K20: 0 | M20: =1/L20 -> #DIV/0! | N20: =M20*K20 -> #DIV/0! | O20: 0 | Q20: =1/P20 -> #DIV/0! | R20: =Q20*O20 -> #DIV/0!
B21: 30 Fish, fresh 1 kg | C21: 0.00504 | D21: 0.3959322 | E21: =1/D21 -> 2.5256849 | F21: =E21*C21 -> 0.012729452 | G21: 0.06563 | H21: 0.58805556 | I21: =1/H21 -> 1.7005196 | J21: =I21*G21 -> 0.1116051 | K21: 0.2391 | L21: 0.42263158 | M21: =1/L21 -> 2.366127 | N21: =M21*K21 -> 0.56574097 | O21: 0.0096300277 | P21: 0.45885714 | Q21: =1/P21 -> 2.1793275 | R21: =Q21*O21 -> 0.020986984
B22: 31 Cod, frozen 500 g | C22: 0 | E22: =1/D22 -> #DIV/0! | F22: =E22*C22 -> #DIV/0! | G22: 0 | I22: =1/H22 -> #DIV/0! | J22: =I22*G22 -> #DIV/0! | K22: 0 | M22: =1/L22 -> #DIV/0! | N22: =M22*K22 -> #DIV/0! | O22: 0 | Q22: =1/P22 -> #DIV/0! | R22: =Q22*O22 -> #DIV/0!
