Workbook

Sheet Authors
C2: Can multinational companies play an effective role in collecting life cycle inventory data? A confectionery case study by Nestlé
C3: J. H. Miah a,b,*, A. Griffiths c, R. McNeill d, , S. Halvorson e, U. Schenker f, N.D. Espinoza-Orias f, S. Morse b, A. Yang g, and J. Sadhukhan b
C4: a Nestlé UK Ltd, Rowan Drive, Fawdon, Newcastle Upon Tyne, NE3 3TR, UK
C5: b Centre for Environmental Strategy (CES), Faculty of Engineering & Physical Sciences, University of Surrey, Guildford, GU2 7XH, UK
C6: c Nestlé UK Ltd, Group Technical and Production, Haxby Road, York, YO91 1XY, UK
C7: d Nestlé Confectionery Product & Technology Centre (PTC), Haxby Road, York, YO91 1XY, UK
C8: e Nestlé Research Centre (NRC), CT-Nutrition, Health, Wellness & Sustainability, 1000 Lausanne 26, Switzerland
C9: f Nestlé Research Centre (NRC), Sustainability & Novel Packaging, 1000 Lausanne 26, Switzerland
C10: g Department of Engineering Science, University of Oxford, Parks Road, Oxford, OX1 3PJ, UK
C12: E-mail address: j.miah@surrey.ac.uk (J.H. Miah)

Sheet Modelling information
B3: LCA tool: | C3: GaBi 6.0
B6: Energy profiles:
B8: RER: hard coal, burned in industrial furnace 1-10MW
B9: RER: heat, at cogen 1MWe lean burn, allocation exergy
B10: RER: heat, natural gas, at industrial furnace >100kW
B11: RER: heavy fuel oil, burned in industrial furnace 1MW, non-modulating
B12: RER: light fuel oil, burned in industrial furnace 1MW, non-modulating
B13: RER: natural gas, burned in industrial furnace >100kW
B14: CH: heat, softwood chips from industry, at furnace 1000kW
B15: Electricity, medium voltage, production (profile matched to closest country)

Sheet Aggregated LCI
C4: Crude oil | D4: 42-44 | E4: MJ/kg | F4: http://www.world-nuclear.org/info/Facts-and-Figures/Heat-values-of-various-fuels/
C5: average | D5: 43 | E5: MJ/kg
C7: Hard black coal | D7: 23.9 | E7: MJ/kg | F7: http://www.world-nuclear.org/info/Facts-and-Figures/Heat-values-of-various-fuels/
C9: Coconut shell | D9: 3500-4000 | E9: kcal/kg | F9: http://www.biofuelresource.com/coconut-shell/
C10: Coconut shell | D10: 15.7 | E10: MJ/kg
A12: NO | B12: Material name | C12: Location | D12: Boundary | E12: Electricity (kWh/ton) | F12: Electricity (kWh/kg) | G12: Electricity (MJ/kg) | H12: Natural Gas (kWh/ton) | I12: Natural Gas (MJ/kg) | J12: Crude Oil (ton/ton) | K12: Crude Oil (MJ/kg) | L12: Coal (ton/ton) | M12: Coal (MJ/kg) | N12: Biomass (ton/ton) | O12: Biomass (MJ/kg) | P12: Water (m3/ton) | Q12: Solid Waste (ton/ton)
A14: 1 | B14: Aluminium foil | C14: ENGLAND | D14: Gate – to – gate | E14: 254 | F14: =E14/1000 -> 0.254 | G14: =(E14/1000)*3.6 -> 0.9144 | H14: 3430 | I14: =(H14/1000)*3.6 -> 12.348 | J14: 0 | K14: =J14*$D$5 -> 0 | L14: 0 | M14: =L14*$D$7 -> 0 | N14: 0 | O14: =(N14/1000)*$D$10 -> 0 | P14: 0 | Q14: -
A15: 2 | B15: Aluminium foil | C15: ENGLAND | D15: Gate – to – gate | E15: 424 | F15: =E15/1000 -> 0.424 | G15: =(E15/1000)*3.6 -> 1.5264 | H15: 546 | I15: =(H15/1000)*3.6 -> 1.9656 | J15: 0 | K15: =J15*$D$5 -> 0 | L15: 0 | M15: =L15*$D$7 -> 0 | N15: 0 | O15: =(N15/1000)*$D$10 -> 0 | P15: 0 | Q15: 0
A16: 3 | B16: Apple grape juice concentrate | C16: SPAIN | D16: Gate – to – gate | E16: 182 | F16: =E16/1000 -> 0.182 | G16: =(E16/1000)*3.6 -> 0.6552 | H16: 2089 | I16: =(H16/1000)*3.6 -> 7.5204 | J16: 0 | K16: =J16*$D$5 -> 0 | L16: 0 | M16: =L16*$D$7 -> 0 | N16: 0 | O16: =(N16/1000)*$D$10 -> 0 | P16: 1.85b | Q16: 0.129
A17: 4 | B17: Apple juice concentrate | C17: POLAND | D17: Gate – to – gate | E17: 472 | F17: =E17/1000 -> 0.472 | G17: =(E17/1000)*3.6 -> 1.6992 | H17: 861 | I17: =(H17/1000)*3.6 -> 3.0996 | J17: 0 | K17: =J17*$D$5 -> 0 | L17: 0 | M17: =L17*$D$7 -> 0 | N17: 0 | O17: =(N17/1000)*$D$10 -> 0 | P17: 25.8ce | Q17: 0.1
A18: 5 | B18: Apple liquid flavour | C18: GERMANY | D18: Gate – to – gate | E18: 94 | F18: =E18/1000 -> 0.094 | G18: =(E18/1000)*3.6 -> 0.3384 | H18: 789.37872 | I18: =(H18/1000)*3.6 -> 2.8417634 | J18: 0 | K18: =J18*$D$5 -> 0 | L18: 0 | M18: =L18*$D$7 -> 0 | N18: 0 | O18: =(N18/1000)*$D$10 -> 0 | P18: 6.12b | Q18: 0.521
A19: 6 | B19: Biscuit shortcake milk chocolate coated | C19: ENGLAND | D19: Gate – to – gate | E19: 597 | F19: =E19/1000 -> 0.597 | G19: =(E19/1000)*3.6 -> 2.1492 | H19: 234 | I19: =(H19/1000)*3.6 -> 0.8424 | J19: 0 | K19: =J19*$D$5 -> 0 | L19: 0 | M19: =L19*$D$7 -> 0 | N19: 0 | O19: =(N19/1000)*$D$10 -> 0 | P19: 0.572b | Q19: 0.0156
A20: 7 | B20: Blackcurrant liquid flavour | C20: GERMANY | D20: Gate – to – gate | E20: 611 | F20: =E20/1000 -> 0.611 | G20: =(E20/1000)*3.6 -> 2.1996 | H20: 1361 | I20: =(H20/1000)*3.6 -> 4.8996 | J20: 0 | K20: =J20*$D$5 -> 0 | L20: 0 | M20: =L20*$D$7 -> 0 | N20: 0 | O20: =(N20/1000)*$D$10 -> 0 | P20: 7.77b | Q20: 0.03235
A21: 8 | B21: Blackcurrant liquid flavour | C21: GERMANY | D21: Gate – to – gate | E21: 94 | F21: =E21/1000 -> 0.094 | G21: =(E21/1000)*3.6 -> 0.3384 | H21: 789.37872 | I21: =(H21/1000)*3.6 -> 2.8417634 | J21: 0 | K21: =J21*$D$5 -> 0 | L21: 0 | M21: =L21*$D$7 -> 0 | N21: 0 | O21: =(N21/1000)*$D$10 -> 0 | P21: 6.12b | Q21: 0.521
A22: 9 | B22: Blackcurrant liquid flavour | C22: SWITZERLAND | D22: Gate – to – gate | E22: 1028 | F22: =E22/1000 -> 1.028 | G22: =(E22/1000)*3.6 -> 3.7008 | H22: 2722 | I22: =(H22/1000)*3.6 -> 9.7992 | J22: 0 | K22: =J22*$D$5 -> 0 | L22: 0 | M22: =L22*$D$7 -> 0 | N22: 0 | O22: =(N22/1000)*$D$10 -> 0 | P22: 28.96bc | Q22: 0.02811
A23: 10 | B23: Polypropylene film | C23: ENGLAND | D23: Gate – to – gate | E23: 1143 | F23: =E23/1000 -> 1.143 | G23: =(E23/1000)*3.6 -> 4.1148 | H23: 3379 | I23: =(H23/1000)*3.6 -> 12.1644 | J23: 0 | K23: =J23*$D$5 -> 0 | L23: 0 | M23: =L23*$D$7 -> 0 | N23: 0 | O23: =(N23/1000)*$D$10 -> 0 | P23: 0.227b | Q23: 0.0721
A24: 11 | B24: Polypropylene film | C24: ENGLAND | D24: Gate – to – gate | E24: 1143 | F24: =E24/1000 -> 1.143 | G24: =(E24/1000)*3.6 -> 4.1148 | H24: 3379 | I24: =(H24/1000)*3.6 -> 12.1644 | J24: 0 | K24: =J24*$D$5 -> 0 | L24: 0 | M24: =L24*$D$7 -> 0 | N24: 0 | O24: =(N24/1000)*$D$10 -> 0 | P24: 0.186b | Q24: 0.0721
A25: 12 | B25: Polypropylene film | C25: ENGLAND | D25: Gate – to – gate | E25: 788 | F25: =E25/1000 -> 0.788 | G25: =(E25/1000)*3.6 -> 2.8368 | H25: 931 | I25: =(H25/1000)*3.6 -> 3.3516 | J25: 0 | K25: =J25*$D$5 -> 0 | L25: 0 | M25: =L25*$D$7 -> 0 | N25: 0 | O25: =(N25/1000)*$D$10 -> 0 | P25: 0.517b | Q25: 0.0822
A26: 13 | B26: Polypropylene film | C26: ENGLAND | D26: Gate – to – gate | E26: 788 | F26: =E26/1000 -> 0.788 | G26: =(E26/1000)*3.6 -> 2.8368 | H26: 931 | I26: =(H26/1000)*3.6 -> 3.3516 | J26: 0 | K26: =J26*$D$5 -> 0 | L26: 0 | M26: =L26*$D$7 -> 0 | N26: 0 | O26: =(N26/1000)*$D$10 -> 0 | P26: 0.478b | Q26: 0.0822
A27: 14 | B27: BOPP metallised film | C27: ENGLAND | D27: Gate – to – gate | E27: 1143 | F27: =E27/1000 -> 1.143 | G27: =(E27/1000)*3.6 -> 4.1148 | H27: 3379 | I27: =(H27/1000)*3.6 -> 12.1644 | J27: 0 | K27: =J27*$D$5 -> 0 | L27: 0 | M27: =L27*$D$7 -> 0 | N27: 0 | O27: =(N27/1000)*$D$10 -> 0 | P27: 0.227b | Q27: 0.0721
... A30: 17 | B30: Cocoa liquor | C30: ENGLAND | D30: Gate – to – gate | E30: 211 | F30: =E30/1000 -> 0.211 | G30: =(E30/1000)*3.6 -> 0.7596 | H30: 317 | I30: =(H30/1000)*3.6 -> 1.1412 | J30: 0 | K30: =J30*$D$5 -> 0 | L30: 0 | M30: =L30*$D$7 -> 0 | N30: 0 | O30: =(N30/1000)*$D$10 -> 0 | P30: 0.0571b | Q30: 0.13
A31: 18 | B31: Coconut powder | C31: PHILIPPINIES | D31: Gate – to – gate | E31: 500 | F31: =E31/1000 -> 0.5 | G31: =(E31/1000)*3.6 -> 1.8 | H31: 0 | I31: =(H31/1000)*3.6 -> 0 | J31: 0 | K31: =J31*$D$5 -> 0 | L31: 0 | M31: =L31*$D$7 -> 0 | N31: 1.41 | O31: =N31*$D$10 -> 22.137 | P31: 23.55c | Q31: 0.044
A32: 19 | B32: Corrugated board (single face) | C32: ENGLAND | D32: Gate – to – gate | E32: 821 | F32: =E32/1000 -> 0.821 | G32: =(E32/1000)*3.6 -> 2.9556 | H32: 0 | I32: =(H32/1000)*3.6 -> 0 | J32: 0 | K32: =J32*$D$5 -> 0 | L32: 0 | M32: =L32*$D$7 -> 0 | N32: 0 | O32: =(N32/1000)*$D$10 -> 0 | P32: 0 | Q32: 0
A33: 20 | B33: Corrugated board (single wall) | C33: SCOTLAND | D33: Gate – to – gate | E33: 279 | F33: =E33/1000 -> 0.279 | G33: =(E33/1000)*3.6 -> 1.0044 | H33: 539 | I33: =(H33/1000)*3.6 -> 1.9404 | J33: 0 | K33: =J33*$D$5 -> 0 | L33: 0 | M33: =L33*$D$7 -> 0 | N33: 0 | O33: =(N33/1000)*$D$10 -> 0 | P33: 0.792b | Q33: 0.00585
A34: 21 | B34: Corrugated board (single wall) | C34: ENGLAND | D34: Gate – to – gate | E34: 172 | F34: =E34/1000 -> 0.172 | G34: =(E34/1000)*3.6 -> 0.6192 | H34: 482 | I34: =(H34/1000)*3.6 -> 1.7352 | J34: 0 | K34: =J34*$D$5 -> 0 | L34: 0 | M34: =L34*$D$7 -> 0 | N34: 0 | O34: =(N34/1000)*$D$10 -> 0 | P34: 0.398b | Q34: 0.193
A35: 22 | B35: Corrugated board (single wall) | C35: ENGLAND | D35: Gate – to – gate | E35: 268 | F35: =E35/1000 -> 0.268 | G35: =(E35/1000)*3.6 -> 0.9648 | H35: 388 | I35: =(H35/1000)*3.6 -> 1.3968 | J35: 0 | K35: =J35*$D$5 -> 0 | L35: 0 | M35: =L35*$D$7 -> 0 | N35: 0 | O35: =(N35/1000)*$D$10 -> 0 | P35: 0.571b | Q35: 0.244
A36: 23 | B36: Flour Wheat | C36: SCOTLAND | D36: Gate – to – gate | E36: 119 | F36: =E36/1000 -> 0.119 | G36: =(E36/1000)*3.6 -> 0.4284 | H36: 0 | I36: =(H36/1000)*3.6 -> 0 | J36: 0 | K36: =J36*$D$5 -> 0 | L36: 0 | M36: =L36*$D$7 -> 0 | N36: 0 | O36: =(N36/1000)*$D$10 -> 0 | P36: 0.0200b | Q36: 0
A37: 24 | B37: Flour Wheat Wholemeal Unbleached | C37: SCOTLAND | D37: Gate – to – gate | E37: 119 | F37: =E37/1000 -> 0.119 | G37: =(E37/1000)*3.6 -> 0.4284 | H37: 0 | I37: =(H37/1000)*3.6 -> 0 | J37: 0 | K37: =J37*$D$5 -> 0 | L37: 0 | M37: =L37*$D$7 -> 0 | N37: 0 | O37: =(N37/1000)*$D$10 -> 0 | P37: 0.0174b | Q37: 0
A38: 25 | B38: Flour whole oats | C38: ENGLAND | D38: Gate – to – gate | E38: 61.57 | F38: =E38/1000 -> 0.06157 | G38: =(E38/1000)*3.6 -> 0.221652 | H38: 163 | I38: =(H38/1000)*3.6 -> 0.5868 | J38: 0 | K38: =J38*$D$5 -> 0 | L38: 0 | M38: =L38*$D$7 -> 0 | N38: 0 | O38: =(N38/1000)*$D$10 -> 0 | P38: 0.122b | Q38: 0.00163
A39: 26 | B39: Gelatine bovine powder | C39: ITALY | D39: Gate – to – gate | E39: 1011 | F39: =E39/1000 -> 1.011 | G39: =(E39/1000)*3.6 -> 3.6396 | H39: 6459 | I39: =(H39/1000)*3.6 -> 23.2524 | J39: 0 | K39: =J39*$D$5 -> 0 | L39: 0 | M39: =L39*$D$7 -> 0 | N39: 0 | O39: =(N39/1000)*$D$10 -> 0 | P39: 236.69bcd | Q39: 0.113
A40: 27 | B40: Granulated [white] Sugar | C40: ENGLAND | D40: Gate – to – gate | E40: 0.888 | F40: =E40/1000 -> 0.000888 | G40: =(E40/1000)*3.6 -> 0.0031968 | H40: 3981 | I40: =(H40/1000)*3.6 -> 14.3316 | J40: 0 | K40: =J40*$D$5 -> 0 | L40: 0 | M40: =L40*$D$7 -> 0 | N40: 0 | O40: =(N40/1000)*$D$10 -> 0 | P40: 0.449b | Q40: 3.78e-05
A41: 28 | B41: Granulated [white] Sugar | C41: FRANCE | D41: Gate – to – gate | E41: 13.21 | F41: =E41/1000 -> 0.01321 | G41: =(E41/1000)*3.6 -> 0.047556 | H41: 568.15 | I41: =(H41/1000)*3.6 -> 2.04534 | J41: 0 | K41: =J41*$D$5 -> 0 | L41: 0 | M41: =L41*$D$7 -> 0 | N41: 0 | O41: =(N41/1000)*$D$10 -> 0 | P41: 1.55bcd | Q41: 0.000342
A42: 29 | B42: Gum arabic powder | C42: FRANCE | D42: Gate – to – gate | E42: 289 | F42: =E42/1000 -> 0.289 | G42: =(E42/1000)*3.6 -> 1.0404 | H42: 3134 | I42: =(H42/1000)*3.6 -> 11.2824 | J42: 0 | K42: =J42*$D$5 -> 0 | L42: 0 | M42: =L42*$D$7 -> 0 | N42: 0 | O42: =(N42/1000)*$D$10 -> 0 | P42: 3.58b | Q42: 0.0025
A43: 30 | B43: Gum arabic powder | C43: ENGLAND | D43: Gate – to – gate | E43: 775 | F43: =E43/1000 -> 0.775 | G43: =(E43/1000)*3.6 -> 2.79 | H43: 3559 | I43: =(H43/1000)*3.6 -> 12.8124 | J43: 0 | K43: =J43*$D$5 -> 0 | L43: 0 | M43: =L43*$D$7 -> 0 | N43: 0 | O43: =(N43/1000)*$D$10 -> 0 | P43: 11.42b | Q43: 0.0216
A44: 31 | B44: Gum arabic powder | C44: FRANCE | D44: Gate – to – gate | E44: 560 | F44: =E44/1000 -> 0.56 | G44: =(E44/1000)*3.6 -> 2.016 | H44: 2800 | I44: =(H44/1000)*3.6 -> 10.08 | J44: 0 | K44: =J44*$D$5 -> 0 | L44: 0 | M44: =L44*$D$7 -> 0 | N44: 0 | O44: =(N44/1000)*$D$10 -> 0 | P44: 4.8b | Q44: 0.024
A45: 32 | B45: Laminate film; aluminium & BOPP | C45: AUSTRIA | D45: Gate – to – gate | E45: 1779 | F45: =E45/1000 -> 1.779 | G45: =(E45/1000)*3.6 -> 6.4044 | H45: 1696 | I45: =(H45/1000)*3.6 -> 6.1056 | J45: 0 | K45: =J45*$D$5 -> 0 | L45: 0 | M45: =L45*$D$7 -> 0 | N45: 0 | O45: =(N45/1000)*$D$10 -> 0 | P45: 0 | Q45: 0.2487
A46: 33 | B46: Laminate film; aluminium & Paper | C46: AUSTRIA | D46: Gate – to – gate | E46: 1386 | F46: =E46/1000 -> 1.386 | G46: =(E46/1000)*3.6 -> 4.9896 | H46: 3707 | I46: =(H46/1000)*3.6 -> 13.3452 | J46: 0 | K46: =J46*$D$5 -> 0 | L46: 0 | M46: =L46*$D$7 -> 0 | N46: 0 | O46: =(N46/1000)*$D$10 -> 0 | P46: 0 | Q46: 0.234
A47: 34 | B47: Laminate film; aluminium & Paper | C47: AUSTRIA | D47: Gate – to – gate | E47: 1619 | F47: =E47/1000 -> 1.619 | G47: =(E47/1000)*3.6 -> 5.8284 | H47: 3748 | I47: =(H47/1000)*3.6 -> 13.4928 | J47: 0 | K47: =J47*$D$5 -> 0 | L47: 0 | M47: =L47*$D$7 -> 0 | N47: 0 | O47: =(N47/1000)*$D$10 -> 0 | P47: 0 | Q47: 0.316
A48: 35 | B48: Laminate film; aluminium & Paper | C48: ENGLAND | D48: Gate – to – gate | E48: 424 | F48: =E48/1000 -> 0.424 | G48: =(E48/1000)*3.6 -> 1.5264 | H48: 546 | I48: =(H48/1000)*3.6 -> 1.9656 | J48: 0 | K48: =J48*$D$5 -> 0 | L48: 0 | M48: =L48*$D$7 -> 0 | N48: 0 | O48: =(N48/1000)*$D$10 -> 0 | P48: 0 | Q48: 0
A49: 36 | B49: Lecithin | C49: SPAIN | D49: Gate – to – gate | E49: 230 | F49: =E49/1000 -> 0.23 | G49: =(E49/1000)*3.6 -> 0.828 | H49: 744 | I49: =(H49/1000)*3.6 -> 2.6784 | J49: 0 | K49: =J49*$D$5 -> 0 | L49: 0 | M49: =L49*$D$7 -> 0 | N49: 0 | O49: =(N49/1000)*$D$10 -> 0 | P49: 1.76b | Q49: 0.0634
A50: 37 | B50: Lemon liquid flavour | C50: GERMANY | D50: Gate – to – gate | E50: 611 | F50: =E50/1000 -> 0.611 | G50: =(E50/1000)*3.6 -> 2.1996 | H50: 1361 | I50: =(H50/1000)*3.6 -> 4.8996 | J50: 0 | K50: =J50*$D$5 -> 0 | L50: 0 | M50: =L50*$D$7 -> 0 | N50: 0 | O50: =(N50/1000)*$D$10 -> 0 | P50: 7.77b | Q50: 0.03235
A51: 38 | B51: Lemon liquid flavour | C51: GERMANY | D51: Gate – to – gate | E51: 94 | F51: =E51/1000 -> 0.094 | G51: =(E51/1000)*3.6 -> 0.3384 | H51: 789.37872 | I51: =(H51/1000)*3.6 -> 2.8417634 | J51: 0 | K51: =J51*$D$5 -> 0 | L51: 0 | M51: =L51*$D$7 -> 0 | N51: 0 | O51: =(N51/1000)*$D$10 -> 0 | P51: 6.12b | Q51: 0.521
A52: 39 | B52: Lime liquid flavour | C52: GERMANY | D52: Gate – to – gate | E52: 611 | F52: =E52/1000 -> 0.611 | G52: =(E52/1000)*3.6 -> 2.1996 | H52: 1361 | I52: =(H52/1000)*3.6 -> 4.8996 | J52: 0 | K52: =J52*$D$5 -> 0 | L52: 0 | M52: =L52*$D$7 -> 0 | N52: 0 | O52: =(N52/1000)*$D$10 -> 0 | P52: 7.77b | Q52: 0.03235
A53: 40 | B53: Liquid refined sugar | C53: ENGLAND | D53: Gate – to – gate | E53: 37 | F53: =E53/1000 -> 0.037 | G53: =(E53/1000)*3.6 -> 0.1332 | H53: 5.73 | I53: =(H53/1000)*3.6 -> 0.020628 | J53: 0 | K53: =J53*$D$5 -> 0 | L53: 0 | M53: =L53*$D$7 -> 0 | N53: 0 | O53: =(N53/1000)*$D$10 -> 0 | P53: 0.34b | Q53: 0.0013
A54: 41 | B54: Malt liquid extract | C54: SCOTLAND | D54: Gate – to – gate | E54: 96 | F54: =E54/1000 -> 0.096 | G54: =(E54/1000)*3.6 -> 0.3456 | H54: 2098 | I54: =(H54/1000)*3.6 -> 7.5528 | J54: 0 | K54: =J54*$D$5 -> 0 | L54: 0 | M54: =L54*$D$7 -> 0 | N54: 0 | O54: =(N54/1000)*$D$10 -> 0 | P54: 2.7b | Q54: 1
A55: 42 | B55: Milk Skimmed Powder | C55: ENGLAND | D55: Gate – to – gate | E55: 339 | F55: =E55/1000 -> 0.339 | G55: =(E55/1000)*3.6 -> 1.2204 | H55: 1114 | I55: =(H55/1000)*3.6 -> 4.0104 | J55: 0 | K55: =J55*$D$5 -> 0 | L55: 0 | M55: =L55*$D$7 -> 0 | N55: 0 | O55: =(N55/1000)*$D$10 -> 0 | P55: 2.59b | Q55: 0
A56: 43 | B56: Multilayer - Plastics; (1) OPP, (2) PP | C56: ENGLAND | D56: Gate – to – gate | E56: 441 | F56: =E56/1000 -> 0.441 | G56: =(E56/1000)*3.6 -> 1.5876 | H56: 472 | I56: =(H56/1000)*3.6 -> 1.6992 | J56: 0 | K56: =J56*$D$5 -> 0 | L56: 0 | M56: =L56*$D$7 -> 0 | N56: 0 | O56: =(N56/1000)*$D$10 -> 0 | P56: 0.175b | Q56: 0.088
A57: 44 | B57: Orange liquid flavour | C57: GERMANY | D57: Gate – to – gate | E57: 611 | F57: =E57/1000 -> 0.611 | G57: =(E57/1000)*3.6 -> 2.1996 | H57: 1361 | I57: =(H57/1000)*3.6 -> 4.8996 | J57: 0 | K57: =J57*$D$5 -> 0 | L57: 0 | M57: =L57*$D$7 -> 0 | N57: 0 | O57: =(N57/1000)*$D$10 -> 0 | P57: 7.77b | Q57: 0.03235
A58: 45 | B58: Orange liquid flavour | C58: GERMANY | D58: Gate – to – gate | E58: 611 | F58: =E58/1000 -> 0.611 | G58: =(E58/1000)*3.6 -> 2.1996 | H58: 1361 | I58: =(H58/1000)*3.6 -> 4.8996 | J58: 0 | K58: =J58*$D$5 -> 0 | L58: 0 | M58: =L58*$D$7 -> 0 | N58: 0 | O58: =(N58/1000)*$D$10 -> 0 | P58: 7.77b | Q58: 0.03235
A59: 46 | B59: Paper and fiber board | C59: ENGLAND | D59: Gate – to – gate | E59: 1002 | F59: =E59/1000 -> 1.002 | G59: =(E59/1000)*3.6 -> 3.6072 | H59: 312 | I59: =(H59/1000)*3.6 -> 1.1232 | J59: 0 | K59: =J59*$D$5 -> 0 | L59: 0 | M59: =L59*$D$7 -> 0 | N59: 0 | O59: =(N59/1000)*$D$10 -> 0 | P59: 52.63b | Q59: 0.295
A60: 47 | B60: Paper and fiberboard | C60: ENGLAND | D60: Gate – to – gate | E60: 632 | F60: =E60/1000 -> 0.632 | G60: =(E60/1000)*3.6 -> 2.2752 | H60: 941 | I60: =(H60/1000)*3.6 -> 3.3876 | J60: 0 | K60: =J60*$D$5 -> 0 | L60: 0 | M60: =L60*$D$7 -> 0 | N60: 0 | O60: =(N60/1000)*$D$10 -> 0 | P60: 0 | Q60: -
A61: 48 | B61: Peppermint oil | C61: SWITZERLAND | D61: Gate – to – gate | E61: 1028 | F61: =E61/1000 -> 1.028 | G61: =(E61/1000)*3.6 -> 3.7008 | H61: 2722 | I61: =(H61/1000)*3.6 -> 9.7992 | J61: 0 | K61: =J61*$D$5 -> 0 | L61: 0 | M61: =L61*$D$7 -> 0 | N61: 0 | O61: =(N61/1000)*$D$10 -> 0 | P61: 28.96bc | Q61: 0.02811
A62: 49 | B62: Polypropylene film | C62: ENGLAND | D62: Gate – to – gate | E62: 1143 | F62: =E62/1000 -> 1.143 | G62: =(E62/1000)*3.6 -> 4.1148 | H62: 3379 | I62: =(H62/1000)*3.6 -> 12.1644 | J62: 0 | K62: =J62*$D$5 -> 0 | L62: 0 | M62: =L62*$D$7 -> 0 | N62: 0 | O62: =(N62/1000)*$D$10 -> 0 | P62: 0.199b | Q62: 0.0721
A63: 50 | B63: Solid fiber board | C63: ENGLAND | D63: Gate – to – gate | E63: 1139 | F63: =E63/1000 -> 1.139 | G63: =(E63/1000)*3.6 -> 4.1004 | H63: 355 | I63: =(H63/1000)*3.6 -> 1.278 | J63: 0 | K63: =J63*$D$5 -> 0 | L63: 0 | M63: =L63*$D$7 -> 0 | N63: 0 | O63: =(N63/1000)*$D$10 -> 0 | P63: 59.84b | Q63: 0.295
A64: 51 | B64: Strawberry juice concentrate | C64: POLAND | D64: Gate – to – gate | E64: 150 | F64: =E64/1000 -> 0.15 | G64: =(E64/1000)*3.6 -> 0.54 | H64: 2312 | I64: =(H64/1000)*3.6 -> 8.3232 | J64: 0 | K64: =J64*$D$5 -> 0 | L64: 0 | M64: =L64*$D$7 -> 0 | N64: 0 | O64: =(N64/1000)*$D$10 -> 0 | P64: 4b | Q64: 0.3
A65: 52 | B65: Strawberry juice concentrate | C65: POLAND | D65: Gate – to – gate | E65: 472 | F65: =E65/1000 -> 0.472 | G65: =(E65/1000)*3.6 -> 1.6992 | H65: 861 | I65: =(H65/1000)*3.6 -> 3.0996 | J65: 0 | K65: =J65*$D$5 -> 0 | L65: 0 | M65: =L65*$D$7 -> 0 | N65: 0 | O65: =(N65/1000)*$D$10 -> 0 | P65: 25.8ce | Q65: 0.1
A66: 53 | B66: Strawberry liquid flavour | C66: SWITZERLAND | D66: Gate – to – gate | E66: 260 | F66: =E66/1000 -> 0.26 | G66: =(E66/1000)*3.6 -> 0.936 | H66: 641 | I66: =(H66/1000)*3.6 -> 2.3076 | J66: 0 | K66: =J66*$D$5 -> 0 | L66: 0 | M66: =L66*$D$7 -> 0 | N66: 0 | O66: =(N66/1000)*$D$10 -> 0 | P66: 41b | Q66: 0.285
A67: 54 | B67: Strawberry liquid flavour | C67: SWITZERLAND | D67: Gate – to – gate | E67: 1028 | F67: =E67/1000 -> 1.028 | G67: =(E67/1000)*3.6 -> 3.7008 | H67: 2722 | I67: =(H67/1000)*3.6 -> 9.7992 | J67: 0 | K67: =J67*$D$5 -> 0 | L67: 0 | M67: =L67*$D$7 -> 0 | N67: 0 | O67: =(N67/1000)*$D$10 -> 0 | P67: 28.96bc | Q67: 0.02811
A68: 55 | B68: Sugar Black Liquid | C68: ENGLAND | D68: Gate – to – gate | E68: 0.888 | F68: =E68/1000 -> 0.000888 | G68: =(E68/1000)*3.6 -> 0.0031968 | H68: 3981 | I68: =(H68/1000)*3.6 -> 14.3316 | J68: 0 | K68: =J68*$D$5 -> 0 | L68: 0 | M68: =L68*$D$7 -> 0 | N68: 0 | O68: =(N68/1000)*$D$10 -> 0 | P68: 0.449b | Q68: 3.78e-05
A69: 56 | B69: Sugar Black Liquid | C69: ENGLAND | D69: Gate – to – gate | E69: 31 | F69: =E69/1000 -> 0.031 | G69: =(E69/1000)*3.6 -> 0.1116 | H69: 5.73 | I69: =(H69/1000)*3.6 -> 0.020628 | J69: 0 | K69: =J69*$D$5 -> 0 | L69: 0 | M69: =L69*$D$7 -> 0 | N69: 0 | O69: =(N69/1000)*$D$10 -> 0 | P69: 0.18b | Q69: 0.00182
A70: 57 | B70: Sugar icing | C70: ENGLAND | D70: Gate – to – gate | E70: 0.888 | F70: =E70/1000 -> 0.000888 | G70: =(E70/1000)*3.6 -> 0.0031968 | H70: 3981 | I70: =(H70/1000)*3.6 -> 14.3316 | J70: 0 | K70: =J70*$D$5 -> 0 | L70: 0 | M70: =L70*$D$7 -> 0 | N70: 0 | O70: =(N70/1000)*$D$10 -> 0 | P70: 0.449b | Q70: 3.78e-05
A71: 58 | B71: Sugar Invert Liquid | C71: ENGLAND | D71: Gate – to – gate | E71: 21 | F71: =E71/1000 -> 0.021 | G71: =(E71/1000)*3.6 -> 0.0756 | H71: 5.73 | I71: =(H71/1000)*3.6 -> 0.020628 | J71: 0 | K71: =J71*$D$5 -> 0 | L71: 0 | M71: =L71*$D$7 -> 0 | N71: 0 | O71: =(N71/1000)*$D$10 -> 0 | P71: 0.22b | Q71: 0.0015
A72: 59 | B72: Sugar White Liquid | C72: ENGLAND | D72: Gate – to – gate | E72: 0.888 | F72: =E72/1000 -> 0.000888 | G72: =(E72/1000)*3.6 -> 0.0031968 | H72: 3981 | I72: =(H72/1000)*3.6 -> 14.3316 | J72: 0 | K72: =J72*$D$5 -> 0 | L72: 0 | M72: =L72*$D$7 -> 0 | N72: 0 | O72: =(N72/1000)*$D$10 -> 0 | P72: 0.449b | Q72: 3.78e-05
... A79: 66 | B79: Whey permeate powder | C79: ENGLAND | D79: Gate – to – gate | E79: 1114 | F79: =E79/1000 -> 1.114 | G79: =(E79/1000)*3.6 -> 4.0104 | H79: 3993 | I79: =(H79/1000)*3.6 -> 14.3748 | J79: 0 | K79: =J79*$D$5 -> 0 | L79: 0 | M79: =L79*$D$7 -> 0 | N79: 0 | O79: =(N79/1000)*$D$10 -> 0 | P79: 30c | Q79: 0
A80: 67 | B80: Wrapper paper | C80: ENGLAND | D80: Gate – to – gate | E80: 632 | F80: =E80/1000 -> 0.632 | G80: =(E80/1000)*3.6 -> 2.2752 | H80: 941 | I80: =(H80/1000)*3.6 -> 3.3876 | J80: 0 | K80: =J80*$D$5 -> 0 | L80: 0 | M80: =L80*$D$7 -> 0 | N80: 0 | O80: =(N80/1000)*$D$10 -> 0 | P80: 0 | Q80: -
A81: 68 | B81: Confectionery factory | C81: ENGLAND | D81: Gate – to – gate | E81: 1405 | F81: =E81/1000 -> 1.405 | G81: =(E81/1000)*3.6 -> 5.058 | H81: 920 | I81: =(H81/1000)*3.6 -> 3.312 | J81: 0 | K81: =J81*$D$5 -> 0 | L81: 0 | M81: =L81*$D$7 -> 0 | N81: 0 | O81: =(N81/1000)*$D$10 -> 0 | P81: 3.49 | Q81: 0.041
A82: 69 | B82: Chocolate confectionery products | C82: ENGLAND | D82: Gate – to – gate | E82: 1220 | F82: =E82/1000 -> 1.22 | G82: =(E82/1000)*3.6 -> 4.392 | H82: 934 | I82: =(H82/1000)*3.6 -> 3.3624 | J82: 0 | K82: =J82*$D$5 -> 0 | L82: 0 | M82: =L82*$D$7 -> 0 | N82: 0 | O82: =(N82/1000)*$D$10 -> 0 | P82: 3.58 | Q82: 0.057
A83: 70 | B83: Sugar confectionery products | C83: ENGLAND | D83: Gate – to – gate | E83: 1672 | F83: =E83/1000 -> 1.672 | G83: =(E83/1000)*3.6 -> 6.0192 | H83: 876 | I83: =(H83/1000)*3.6 -> 3.1536 | J83: 0 | K83: =J83*$D$5 -> 0 | L83: 0 | M83: =L83*$D$7 -> 0 | N83: 0 | O83: =(N83/1000)*$D$10 -> 0 | P83: 4.09 | Q83: 0.032
A84: 71 | B84: Biscuit confectionery products | C84: ENGLAND | D84: Gate – to – gate | E84: 1650 | F84: =E84/1000 -> 1.65 | G84: =(E84/1000)*3.6 -> 5.94 | H84: 983 | I84: =(H84/1000)*3.6 -> 3.5388 | J84: 0 | K84: =J84*$D$5 -> 0 | L84: 0 | M84: =L84*$D$7 -> 0 | N84: 0 | O84: =(N84/1000)*$D$10 -> 0 | P84: 1.52 | Q84: 0.042
A85: 72 | B85: Milk crumb | C85: SCOTLAND | D85: Gate – to – gate | E85: 199.6 | F85: =E85/1000 -> 0.1996 | G85: =(E85/1000)*3.6 -> 0.71856 | H85: 638.704 | I85: =(H85/1000)*3.6 -> 2.2993344 | J85: 0 | K85: =J85*$D$5 -> 0 | L85: 0 | M85: =L85*$D$7 -> 0 | N85: 0 | O85: =(N85/1000)*$D$10 -> 0 | P85: - | Q85: -
A86: 73 | B86: Milk Chocolate | C86: ENGLAND | D86: Gate – to – gate | E86: 202.5 | F86: =E86/1000 -> 0.2025 | G86: =(E86/1000)*3.6 -> 0.729 | H86: 156.36364 | I86: =(H86/1000)*3.6 -> 0.5629091 | J86: 0 | K86: =(J86/1000)*$D$5 -> 0 | L86: 0 | M86: =L86*$D$7 -> 0 | N86: 0 | O86: =(N86/1000)*$D$10 -> 0 | P86: 0.252 | Q86: -
A87: 74 | B87: Wafer flavour | C87: GERMANY | D87: Gate – to – gate | E87: 611 | F87: =E87/1000 -> 0.611 | G87: =(E87/1000)*3.6 -> 2.1996 | H87: 1361 | I87: =(H87/1000)*3.6 -> 4.8996 | J87: 0 | K87: =J87*$D$5 -> 0 | L87: 0 | M87: =L87*$D$7 -> 0 | N87: 0 | O87: =(N87/1000)*$D$10 -> 0 | P87: 7.77b | Q87: 0.03235

Sheet Overview LCIA
C3: LCIA CATEGORY | E3: CML 2001 - Nov. 2010 | F3: CML 2001 - Nov. 2010 | G3: CML 2001 - Nov. 2010 | H3: Impact 2002+ | I3: Impact 2002+ | J3: Impact 2002+ | K3: ReCiPe 1.07 | L3: ReCiPe 1.07 | M3: ReCiPe 1.07 | N3: TRACI 2.1 | O3: TRACI 2.1 | P3: TRACI 2.1
A4: NO | B4: Material name | C4: Location | D4: Boundary | E4: Global Warming Potential, excl biogenic carbon (GWP 100 years) [kg CO2-Equiv.] | F4: Abiotic Depletion (ADP elements) [kg Sb-Equiv.] | G4: Ozone Layer Depletion Potential (ODP, steady state) [kg R11-Equiv.] | H4: Aquatic acidification - Midpoint [kg SO2-Eq. to air] | I4: Terrestrial ecotoxicity - Midpoint [kg TEG-Eq. to soil] | J4: Aquatic eutrophication - Midpoint [kg PO4-Eq. to water] | K4: Agricultural land occupation [m2a] | L4: Urban land occupation [m2a] | M4: Water depletion [m3] | N4: Human Health Particulate Air [kg PM2,5-Equiv.] | O4: Human toxicity, cancer (recommended) [CTUh] | P4: Resources, Fossil fuels [MJ surplus energy]
A6: 1 | B6: Aluminium foil | C6: ENGLAND | D6: Gate – to – gate | E6: ='1. Aluminium Foil'!C12 -> 1.0345688 | F6: ='1. Aluminium Foil'!C6 -> 5.0548349e-08 | G6: ='1. Aluminium Foil'!C15 -> 1.3082291e-07 | H6: ='1. Aluminium Foil'!C21 -> 0.0006768113 | I6: ='1. Aluminium Foil'!C32 -> 0.60006698 | J6: ='1. Aluminium Foil'!C23 -> 0.00016946767 | K6: ='1. Aluminium Foil'!C52 -> 0.0030701625 | L6: ='1. Aluminium Foil'!C68 -> 0.00099820961 | M6: ='1. Aluminium Foil'!C69 -> 0.31419316 | N6: ='1. Aluminium Foil'!C78 -> 0.0001298138 | O6: ='1. Aluminium Foil'!C79 -> 2.2068496e-11 | P6: ='1. Aluminium Foil'!#REF! -> #REF!
A7: 2 | B7: Aluminium foil | C7: ENGLAND | D7: Gate – to – gate | E7: ='2. Aluminium Foil'!C11 -> 0.39231255 | F7: ='2. Aluminium Foil'!C5 -> 2.3700772e-08 | G7: ='2. Aluminium Foil'!C14 -> 2.6576105e-08 | H7: ='2. Aluminium Foil'!C20 -> 0.00060707284 | I7: ='2. Aluminium Foil'!C31 -> 0.40828644 | J7: ='2. Aluminium Foil'!C22 -> 0.00022238206 | K7: ='2. Aluminium Foil'!C51 -> 0.0046593043 | L7: ='2. Aluminium Foil'!C67 -> 0.0011472161 | M7: ='2. Aluminium Foil'!C68 -> 0.37741497 | N7: ='2. Aluminium Foil'!C77 -> 0.0001412899 | O7: ='2. Aluminium Foil'!C78 -> 6.874312e-12 | P7: ='2. Aluminium Foil'!C81 -> 0.56783553
A8: 3 | B8: Apple grape juice concentrate | C8: SPAIN | D8: Gate – to – gate | E8: ='3. Apple Juice Conc'!C11 -> 0.63080205 | F8: ='3. Apple Juice Conc'!C5 -> 3.4600402e-08 | G8: ='3. Apple Juice Conc'!C14 -> 8.2827212e-08 | H8: ='3. Apple Juice Conc'!C20 -> 0.00081900668 | I8: ='3. Apple Juice Conc'!C31 -> 0.47903297 | J8: ='3. Apple Juice Conc'!C22 -> 0.00014211363 | K8: ='3. Apple Juice Conc'!C51 -> 0.0021437218 | L8: ='3. Apple Juice Conc'!C67 -> 0.00060608534 | M8: ='3. Apple Juice Conc'!C68 -> 0.80889769 | N8: ='3. Apple Juice Conc'!C77 -> 0.00012692779 | O8: ='3. Apple Juice Conc'!C78 -> 1.4982193e-11 | P8: ='3. Apple Juice Conc'!C81 -> 1.3386662
A9: 4 | B9: Apple juice concentrate | C9: POLAND | D9: Gate – to – gate | E9: ='4. Apple Juice Conc'!C11 -> 0.74864401 | F9: ='4. Apple Juice Conc'!C5 -> 3.0394643e-08 | G9: ='4. Apple Juice Conc'!C14 -> 3.664485e-08 | H9: ='4. Apple Juice Conc'!C20 -> 0.0024089408 | I9: ='4. Apple Juice Conc'!C31 -> 0.76953653 | J9: ='4. Apple Juice Conc'!C22 -> 0.0017250935 | K9: ='4. Apple Juice Conc'!C51 -> 0.011102996 | L9: ='4. Apple Juice Conc'!C67 -> 0.0021652626 | M9: ='4. Apple Juice Conc'!C68 -> 0.52537487 | N9: ='4. Apple Juice Conc'!C77 -> 0.00039576594 | O9: ='4. Apple Juice Conc'!C78 -> 1.2223262e-11 | P9: ='4. Apple Juice Conc'!C81 -> 0.61542782
A10: 5 | B10: Apple liquid flavour | C10: GERMANY | D10: Gate – to – gate | E10: ='5. Apple liquid flavour'!C11 -> 0.26640378 | F10: ='5. Apple liquid flavour'!C5 -> 1.4749396e-08 | G10: ='5. Apple liquid flavour'!C14 -> 3.1876713e-08 | H10: ='5. Apple liquid flavour'!C20 -> 0.00012898714 | I10: ='5. Apple liquid flavour'!C31 -> 0.14891701 | J10: ='5. Apple liquid flavour'!C22 -> 0.00024583497 | K10: ='5. Apple liquid flavour'!C51 -> 0.00092223962 | L10: ='5. Apple liquid flavour'!C67 -> 0.00027946513 | M10: ='5. Apple liquid flavour'!C68 -> 0.18158679 | N10: ='5. Apple liquid flavour'!C77 -> 3.1665843e-05 | O10: ='5. Apple liquid flavour'!C78 -> 5.5039663e-12 | P10: ='5. Apple liquid flavour'!C81 -> 0.49708172
A11: 6 | B11: Biscuit shortcake milk chocolate coated | C11: ENGLAND | D11: Gate – to – gate | E11: ='6. Biscuit Shortcake'!C11 -> 0.41396005 | F11: ='6. Biscuit Shortcake'!C5 -> 2.7077948e-08 | G11: ='6. Biscuit Shortcake'!C14 -> 1.7527036e-08 | H11: ='6. Biscuit Shortcake'!C20 -> 0.00080055716 | I11: ='6. Biscuit Shortcake'!C31 -> 0.51333199 | J11: ='6. Biscuit Shortcake'!C22 -> 0.00030684262 | K11: ='6. Biscuit Shortcake'!C51 -> 0.0065120904 | L11: ='6. Biscuit Shortcake'!C67 -> 0.0015614661 | M11: ='6. Biscuit Shortcake'!C68 -> 0.51615492 | N11: ='6. Biscuit Shortcake'!C77 -> 0.00019111818 | O11: ='6. Biscuit Shortcake'!C79 -> 2.9113171e-12 | P11: ='6. Biscuit Shortcake'!C81 -> 0.47645479
A12: 7 | B12: Blackcurrant liquid flavour | C12: GERMANY | D12: Gate – to – gate | E12: ='7. Blackcurrant liq flav'!C11 -> 0.74706191 | F12: ='7. Blackcurrant liq flav'!C5 -> 5.1077683e-08 | G12: ='7. Blackcurrant liq flav'!C14 -> 6.7233229e-08 | H12: ='7. Blackcurrant liq flav'!C20 -> 0.00046445437 | I12: ='7. Blackcurrant liq flav'!C31 -> 0.54447203 | J12: ='7. Blackcurrant liq flav'!C22 -> 0.0014894693 | K12: ='7. Blackcurrant liq flav'!C51 -> 0.0055482272 | L12: ='7. Blackcurrant liq flav'!C67 -> 0.0013916256 | M12: ='7. Blackcurrant liq flav'!C68 -> 1.2965979 | N12: ='7. Blackcurrant liq flav'!C77 -> 0.00014939486 | O12: ='7. Blackcurrant liq flav'!C78 -> 1.3805437e-11 | P12: ='7. Blackcurrant liq flav'!C81 -> 0.96338614
A13: 8 | B13: Blackcurrant liquid flavour | C13: GERMANY | D13: Gate – to – gate | E13: ='8. Blackcurrant liq flav'!C11 -> 0.2642619 | F13: ='8. Blackcurrant liq flav'!C5 -> 1.4647108e-08 | G13: ='8. Blackcurrant liq flav'!C14 -> 3.1803461e-08 | H13: ='8. Blackcurrant liq flav'!C20 -> 0.00012993859 | I13: ='8. Blackcurrant liq flav'!C31 -> 0.15015669 | J13: ='8. Blackcurrant liq flav'!C22 -> 0.00023591907 | K13: ='8. Blackcurrant liq flav'!C51 -> 0.00090567665 | L13: ='8. Blackcurrant liq flav'!C67 -> 0.00027217354 | M13: ='8. Blackcurrant liq flav'!C68 -> 0.21593076 | N13: ='8. Blackcurrant liq flav'!C77 -> 3.142065e-05 | O13: ='8. Blackcurrant liq flav'!C78 -> 5.4764431e-12 | P13: ='8. Blackcurrant liq flav'!C81 -> 0.49673496
A14: 9 | B14: Blackcurrant liquid flavour | C14: SWITZERLAND | D14: Gate – to – gate | E14: ='9. Blackcurrant liq flav'!C11 -> 0.83338672 | F14: ='9. Blackcurrant liq flav'!C5 -> 7.4543492e-08 | G14: ='9. Blackcurrant liq flav'!C14 -> 1.1884986e-07 | H14: ='9. Blackcurrant liq flav'!C20 -> 0.0006933516 | I14: ='9. Blackcurrant liq flav'!C31 -> 0.85017209 | J14: ='9. Blackcurrant liq flav'!C22 -> 0.00037161597 | K14: ='9. Blackcurrant liq flav'!C51 -> 0.0023530806 | L14: ='9. Blackcurrant liq flav'!C67 -> 0.00077762759 | M14: ='9. Blackcurrant liq flav'!C68 -> 8.0298731 | N14: ='9. Blackcurrant liq flav'!C77 -> 0.00015941738 | O14: ='9. Blackcurrant liq flav'!C78 -> 1.8848623e-11 | P14: ='9. Blackcurrant liq flav'!C81 -> 1.7471679
A15: 10 | B15: Polypropylene film | C15: ENGLAND | D15: Gate – to – gate | E15: ='10. Polypropylene film'!C11 -> 1.5478637 | F15: ='10. Polypropylene film'!C5 -> 8.6181458e-08 | G15: ='10. Polypropylene film'!C14 -> 1.4210082e-07 | H15: ='10. Polypropylene film'!C20 -> 0.0018285373 | I15: ='10. Polypropylene film'!C31 -> 1.3186208 | J15: ='10. Polypropylene film'!C22 -> 0.00062171493 | K15: ='10. Polypropylene film'!C51 -> 0.01273141 | L15: ='10. Polypropylene film'!C67 -> 0.0032832954 | M15: ='10. Polypropylene film'!C68 -> 1.0714413 | N15: ='10. Polypropylene film'!C77 -> 0.00040858311 | O15: ='10. Polypropylene film'!C78 -> 2.953865e-11 | P15: ='10. Polypropylene film'!C81 -> 2.675029
A16: 11 | B16: Polypropylene film | C16: ENGLAND | D16: Gate – to – gate | E16: ='11. Polypropylene film'!C11 -> 1.5478637 | F16: ='11. Polypropylene film'!C5 -> 8.6181458e-08 | G16: ='11. Polypropylene film'!C14 -> 1.4210082e-07 | H16: ='11. Polypropylene film'!C20 -> 0.0018285373 | I16: ='11. Polypropylene film'!C31 -> 1.3186208 | J16: ='11. Polypropylene film'!C22 -> 0.00062171493 | K16: ='11. Polypropylene film'!C51 -> 0.01273141 | L16: ='11. Polypropylene film'!C67 -> 0.0032832954 | M16: ='11. Polypropylene film'!C68 -> 1.0714413 | N16: ='11. Polypropylene film'!C77 -> 0.00040858311 | O16: ='11. Polypropylene film'!C78 -> 2.953865e-11 | P16: ='11. Polypropylene film'!C81 -> 2.675029
A17: 12 | B17: Polypropylene film | C17: ENGLAND | D17: Gate – to – gate | E17: ='12. Polypropylene film'!C11 -> 0.70683123 | F17: ='12. Polypropylene film'!C5 -> 4.3034832e-08 | G17: ='12. Polypropylene film'!C14 -> 4.6189911e-08 | H17: ='12. Polypropylene film'!C20 -> 0.0011195141 | I17: ='12. Polypropylene film'!C31 -> 0.74889172 | J17: ='12. Polypropylene film'!C22 -> 0.00041228498 | K17: ='12. Polypropylene film'!C51 -> 0.0086515 | L17: ='12. Polypropylene film'!C67 -> 0.0021234259 | M17: ='12. Polypropylene film'!C68 -> 0.69896741 | N17: ='12. Polypropylene film'!C77 -> 0.00026132728 | O17: ='12. Polypropylene film'!C78 -> 1.2275691e-11 | P17: ='12. Polypropylene film'!C81 -> 1.0033222
A18: 13 | B18: Polypropylene film | C18: ENGLAND | D18: Gate – to – gate | E18: ='13. Polypropylene film'!C11 -> 0.70683123 | F18: ='13. Polypropylene film'!C5 -> 4.3034832e-08 | G18: ='13. Polypropylene film'!C14 -> 4.6189911e-08 | H18: ='13. Polypropylene film'!C20 -> 0.0011195141 | I18: ='13. Polypropylene film'!C31 -> 0.74889172 | J18: ='13. Polypropylene film'!C22 -> 0.00041228498 | K18: ='13. Polypropylene film'!C51 -> 0.0086515 | L18: ='13. Polypropylene film'!C67 -> 0.0021234259 | M18: ='13. Polypropylene film'!C68 -> 0.69896741 | N18: ='13. Polypropylene film'!C77 -> 0.00026132728 | O18: ='13. Polypropylene film'!C78 -> 1.2275691e-11 | P18: ='13. Polypropylene film'!C81 -> 1.0033222
A19: 14 | B19: BOPP metallised film | C19: ENGLAND | D19: Gate – to – gate | E19: ='14. BOPP metal film'!C11 -> 1.5478637 | F19: ='14. BOPP metal film'!C5 -> 8.6181458e-08 | G19: ='14. BOPP metal film'!C14 -> 1.4210082e-07 | H19: ='14. BOPP metal film'!C20 -> 0.0018285373 | I19: ='14. BOPP metal film'!C31 -> 1.3186208 | J19: ='14. BOPP metal film'!C22 -> 0.00062171493 | K19: ='14. BOPP metal film'!C51 -> 0.01273141 | L19: ='14. BOPP metal film'!C67 -> 0.0032832954 | M19: ='14. BOPP metal film'!C68 -> 1.0714413 | N19: ='14. BOPP metal film'!C77 -> 0.00040858311 | O19: ='14. BOPP metal film'!C78 -> 2.953865e-11 | P19: ='14. BOPP metal film'!C81 -> 2.675029
A20: 15 | B20: Cocoa butter (bean processing site) | C20: GERMANY | D20: Gate – to – gate | E20: ='15. Cocoa butter (bean site)'!C11 -> 0.19377186 | F20: ='15. Cocoa butter (bean site)'!C5 -> 1.3375051e-08 | G20: ='15. Cocoa butter (bean site)'!C14 -> 1.7142041e-08 | H20: ='15. Cocoa butter (bean site)'!C20 -> 0.00012174088 | I20: ='15. Cocoa butter (bean site)'!C31 -> 0.14279502 | J20: ='15. Cocoa butter (bean site)'!C22 -> 0.0003971038 | K20: ='15. Cocoa butter (bean site)'!C51 -> 0.0014782045 | L20: ='15. Cocoa butter (bean site)'!C67 -> 0.00036910277 | M20: ='15. Cocoa butter (bean site)'!C68 -> 0.345292 | N20: ='15. Cocoa butter (bean site)'!C77 -> 3.9542713e-05 | O20: ='15. Cocoa butter (bean site)'!C78 -> 3.5588907e-12 | P20: ='15. Cocoa butter (bean site)'!C81 -> 0.24411051
A21: 16 | B21: Cocoa butter (non-bean processing site) | C21: ENGLAND | D21: Gate – to – gate | E21: ='16. Cocoa butter (non-bean site'!C11 -> 0.099729437 | F21: ='16. Cocoa butter (non-bean site'!C5 -> 4.9904995e-09 | G21: ='16. Cocoa butter (non-bean site'!C14 -> 1.2012429e-08 | H21: ='16. Cocoa butter (non-bean site'!C20 -> 7.4348736e-05 | I21: ='16. Cocoa butter (non-bean site'!C31 -> 0.062541388 | J21: ='16. Cocoa butter (non-bean site'!C22 -> 2.0445073e-05 | K21: ='16. Cocoa butter (non-bean site'!C51 -> 0.00038677795 | L21: ='16. Cocoa butter (non-bean site'!C67 -> 0.00011619969 | M21: ='16. Cocoa butter (non-bean site'!C68 -> 0.036998748 | N21: ='16. Cocoa butter (non-bean site'!C77 -> 1.4906045e-05 | O21: ='16. Cocoa butter (non-bean site'!C78 -> 2.0885123e-12 | P21: ='16. Cocoa butter (non-bean site'!C81 -> 0.20569149
A22: 17 | B22: Coconut powder | C22: PHILIPPINIES | D22: Gate – to – gate | E22: ='17. Coconut powder'!C11 -> 0.24612045 | F22: ='17. Coconut powder'!C5 -> 1.8808157e-07 | G22: ='17. Coconut powder'!C14 -> 1.2806198e-08 | H22: ='17. Coconut powder'!C20 -> 0.00092225689 | I22: ='17. Coconut powder'!C31 -> 46.959863 | J22: ='17. Coconut powder'!C22 -> 0.00060081969 | K22: ='17. Coconut powder'!C51 -> 0.38726925 | L22: ='17. Coconut powder'!C67 -> 0.0056687084 | M22: ='17. Coconut powder'!C68 -> 11.212139 | N22: ='17. Coconut powder'!C77 -> 0.0019755431 | O22: ='17. Coconut powder'!C78 -> 8.8005755e-11 | P22: ='17. Coconut powder'!C81 -> 0.16671991
A23: 18 | B23: Corrugated board (single face) | C23: ENGLAND | D23: Gate – to – gate | E23: ='18. Corrugated board (SF)'!C11 -> 0.48659292 | F23: ='18. Corrugated board (SF)'!C5 -> 3.3478541e-08 | G23: ='18. Corrugated board (SF)'!C14 -> 1.2220258e-08 | H23: ='18. Corrugated board (SF)'!C20 -> 0.0010685491 | I23: ='18. Corrugated board (SF)'!C31 -> 0.66917554 | J23: ='18. Corrugated board (SF)'!C22 -> 0.00041822409 | K23: ='18. Corrugated board (SF)'!C51 -> 0.0089266364 | L23: ='18. Corrugated board (SF)'!C67 -> 0.0021151834 | M23: ='18. Corrugated board (SF)'!C68 -> 0.70070984 | N23: ='18. Corrugated board (SF)'!C77 -> 0.00025815575 | O23: ='18. Corrugated board (SF)'!C78 -> 7.1807409e-12 | P23: ='18. Corrugated board (SF)'!C81 -> 0.46223652
A24: 19 | B24: Corrugated board (single wall) | C24: SCOTLAND | D24: Gate – to – gate | E24: ='19. Corrugated board (SF)'!C11 -> 0.30422605 | F24: ='19. Corrugated board (SF)'!C5 -> 1.7690367e-08 | G24: ='19. Corrugated board (SF)'!C14 -> 2.4109233e-08 | H24: ='19. Corrugated board (SF)'!C20 -> 0.00041751121 | I24: ='19. Corrugated board (SF)'!C31 -> 0.289146 | J24: ='19. Corrugated board (SF)'!C22 -> 0.00014842053 | K24: ='19. Corrugated board (SF)'!C51 -> 0.0030819871 | L24: ='19. Corrugated board (SF)'!C67 -> 0.00077281013 | M24: ='19. Corrugated board (SF)'!C68 -> 0.25342326 | N24: ='19. Corrugated board (SF)'!C77 -> 9.5574683e-05 | O24: ='19. Corrugated board (SF)'!C78 -> 5.5578823e-12 | P24: ='19. Corrugated board (SF)'!C81 -> 0.48118622
A25: 20 | B25: Corrugated board (single wall) | C25: ENGLAND | D25: Gate – to – gate | E25: ='20. Corrugated board (SF)'!C11 -> 0.22649272 | F25: ='20. Corrugated board (SF)'!C5 -> 1.2676284e-08 | G25: ='20. Corrugated board (SF)'!C14 -> 2.0459217e-08 | H25: ='20. Corrugated board (SF)'!C20 -> 0.00027264154 | I25: ='20. Corrugated board (SF)'!C31 -> 0.19556811 | J25: ='20. Corrugated board (SF)'!C22 -> 9.3264819e-05 | K25: ='20. Corrugated board (SF)'!C51 -> 0.0019135936 | L25: ='20. Corrugated board (SF)'!C67 -> 0.00049157279 | M25: ='20. Corrugated board (SF)'!C68 -> 0.16052307 | N25: ='20. Corrugated board (SF)'!C77 -> 6.1120696e-05 | O25: ='20. Corrugated board (SF)'!C78 -> 4.3006167e-12 | P25: ='20. Corrugated board (SF)'!C81 -> 0.38753061
A26: 21 | B26: Corrugated board (single wall) | C26: ENGLAND | D26: Gate – to – gate | E26: ='21. Corrugated board (SF)'!C11 -> 0.25905272 | F26: ='21. Corrugated board (SF)'!C5 -> 1.5484482e-08 | G26: ='21. Corrugated board (SF)'!C14 -> 1.839062e-08 | H26: ='21. Corrugated board (SF)'!C20 -> 0.00038805589 | I26: ='21. Corrugated board (SF)'!C31 -> 0.26299471 | J26: ='21. Corrugated board (SF)'!C22 -> 0.00014106464 | K26: ='21. Corrugated board (SF)'!C51 -> 0.0029488985 | L26: ='21. Corrugated board (SF)'!C67 -> 0.000729437 | M26: ='21. Corrugated board (SF)'!C68 -> 0.23977579 | N26: ='21. Corrugated board (SF)'!C77 -> 8.9931968e-05 | O26: ='21. Corrugated board (SF)'!C78 -> 4.5938717e-12 | P26: ='21. Corrugated board (SF)'!C81 -> 0.38477835
A27: 22 | B27: Flour Wheat | C27: SCOTLAND | D27: Gate – to – gate | E27: ='22. Flour wheat'!C11 -> 0.070529303 | F27: ='22. Flour wheat'!C5 -> 4.8525535e-09 | G27: ='22. Flour wheat'!C14 -> 1.7712676e-09 | H27: ='22. Flour wheat'!C20 -> 0.00015488104 | I27: ='22. Flour wheat'!C31 -> 0.096993776 | J27: ='22. Flour wheat'!C22 -> 6.061957e-05 | K27: ='22. Flour wheat'!C51 -> 0.001293873 | L27: ='22. Flour wheat'!C67 -> 0.00030658566 | M27: ='22. Flour wheat'!C68 -> 0.10156452 | N27: ='22. Flour wheat'!C77 -> 3.7418434e-05 | O27: ='22. Flour wheat'!C78 -> 1.0408138e-12 | P27: ='22. Flour wheat'!C81 -> 0.06699896
A28: 23 | B28: Flour Wheat Wholemeal Unbleached | C28: SCOTLAND | D28: Gate – to – gate | E28: ='23. Flour wheat wholemeal'!C11 -> 0.070529303 | F28: ='23. Flour wheat wholemeal'!C5 -> 4.8525535e-09 | G28: ='23. Flour wheat wholemeal'!C14 -> 1.7712676e-09 | H28: ='23. Flour wheat wholemeal'!C20 -> 0.00015488104 | I28: ='23. Flour wheat wholemeal'!C31 -> 0.096993776 | J28: ='23. Flour wheat wholemeal'!C22 -> 6.061957e-05 | K28: ='23. Flour wheat wholemeal'!C51 -> 0.001293873 | L28: ='23. Flour wheat wholemeal'!C67 -> 0.00030658566 | M28: ='23. Flour wheat wholemeal'!C68 -> 0.10156452 | N28: ='23. Flour wheat wholemeal'!C77 -> 3.7418434e-05 | O28: ='23. Flour wheat wholemeal'!C78 -> 1.0408138e-12 | P28: ='23. Flour wheat wholemeal'!C81 -> 0.06699896
A29: 24 | B29: Flour whole oats | C29: ENGLAND | D29: Gate – to – gate | E29: ='24. Flour whole oats'!C11 -> 0.078724386 | F29: ='24. Flour whole oats'!C5 -> 4.4307329e-09 | G29: ='24. Flour whole oats'!C14 -> 6.9856683e-09 | H29: ='24. Flour whole oats'!C20 -> 9.6674969e-05 | I29: ='24. Flour whole oats'!C31 -> 0.068960817 | J29: ='24. Flour whole oats'!C22 -> 3.3278917e-05 | K29: ='24. Flour whole oats'!C51 -> 0.00068417905 | L29: ='24. Flour whole oats'!C67 -> 0.00017505113 | M29: ='24. Flour whole oats'!C68 -> 0.057202489 | N29: ='24. Flour whole oats'!C77 -> 2.1746188e-05 | O29: ='24. Flour whole oats'!C78 -> 1.4866646e-12 | P29: ='24. Flour whole oats'!C81 -> 0.13323282
A30: 25 | B30: Gelatine bovine powder | C30: ITALY | D30: Gate – to – gate | E30: ='25. Gelatine powder'!C11 -> 2.2448086 | F30: ='25. Gelatine powder'!C5 -> 1.1929593e-07 | G30: ='25. Gelatine powder'!C14 -> 2.90404e-07 | H30: ='25. Gelatine powder'!C20 -> 0.0025490531 | I30: ='25. Gelatine powder'!C31 -> 1.5839592 | J30: ='25. Gelatine powder'!C22 -> 0.00049050677 | K30: ='25. Gelatine powder'!C51 -> 0.0033715221 | L30: ='25. Gelatine powder'!C67 -> 0.0020734242 | M30: ='25. Gelatine powder'!C68 -> 4.0412514 | N30: ='25. Gelatine powder'!C77 -> 0.00037329094 | O30: ='25. Gelatine powder'!C78 -> 5.6787568e-11 | P30: ='25. Gelatine powder'!C81 -> 4.7500719
A31: 26 | B31: Granulated [white] Sugar | C31: ENGLAND | D31: Gate – to – gate | E31: ='26. Granulated sugar'!C11 -> 1.0262842 | F31: ='26. Granulated sugar'!C5 -> 4.6670553e-08 | G31: ='26. Granulated sugar'!C14 -> 1.4742334e-07 | H31: ='26. Granulated sugar'!C20 -> 0.00040288873 | I31: ='26. Granulated sugar'!C31 -> 0.45677545 | J31: ='26. Granulated sugar'!C22 -> 4.6955814e-05 | K31: ='26. Granulated sugar'!C51 -> 0.00036755752 | L31: ='26. Granulated sugar'!C67 -> 0.00040122651 | M31: ='26. Granulated sugar'!C68 -> 0.11378317 | N31: ='26. Granulated sugar'!C77 -> 5.8232618e-05 | O31: ='26. Granulated sugar'!C78 -> 2.303663e-11 | P31: ='26. Granulated sugar'!C81 -> 2.3945305
A32: 27 | B32: Granulated [white] Sugar | C32: FRANCE | D32: Gate – to – gate | E32: ='27. Granulated sugar'!C11 -> 0.14795994 | F32: ='27. Granulated sugar'!C5 -> 7.2698043e-09 | G32: ='27. Granulated sugar'!C14 -> 2.1150381e-08 | H32: ='27. Granulated sugar'!C20 -> 6.2040655e-05 | I32: ='27. Granulated sugar'!C31 -> 0.073986985 | J32: ='27. Granulated sugar'!C22 -> 8.3368048e-06 | K32: ='27. Granulated sugar'!C51 -> 7.4242387e-05 | L32: ='27. Granulated sugar'!C67 -> 6.4540917e-05 | M32: ='27. Granulated sugar'!C68 -> 0.072986917 | N32: ='27. Granulated sugar'!C77 -> 9.8884133e-06 | O32: ='27. Granulated sugar'!C78 -> 3.3258649e-12 | P32: ='27. Granulated sugar'!C81 -> 0.34345653
A33: 28 | B33: Gum arabic powder | C33: FRANCE | D33: Gate – to – gate | E33: ='28. Gum arabic powder'!C11 -> 0.8340947 | F33: ='28. Gum arabic powder'!C5 -> 4.980135e-08 | G33: ='28. Gum arabic powder'!C14 -> 1.1740051e-07 | H33: ='28. Gum arabic powder'!C20 -> 0.00041621048 | I33: ='28. Gum arabic powder'!C31 -> 0.550321 | J33: ='28. Gum arabic powder'!C22 -> 7.3451107e-05 | K33: ='28. Gum arabic powder'!C51 -> 0.00078582712 | L33: ='28. Gum arabic powder'!C67 -> 0.00047745531 | M33: ='28. Gum arabic powder'!C68 -> 1.3319952 | N33: ='28. Gum arabic powder'!C77 -> 8.0574283e-05 | O33: ='28. Gum arabic powder'!C78 -> 1.8815127e-11 | P33: ='28. Gum arabic powder'!C81 -> 1.9058115
A34: 29 | B34: Gum arabic powder | C34: ENGLAND | D34: Gate – to – gate | E34: ='29. Gum arabic powder'!C11 -> 1.3762841 | F34: ='29. Gum arabic powder'!C5 -> 7.3290547e-08 | G34: ='29. Gum arabic powder'!C14 -> 1.4330972e-07 | H34: ='29. Gum arabic powder'!C20 -> 0.0013677998 | I34: ='29. Gum arabic powder'!C31 -> 1.0393599 | J34: ='29. Gum arabic powder'!C22 -> 0.0004363621 | K34: ='29. Gum arabic powder'!C51 -> 0.0087464231 | L34: ='29. Gum arabic powder'!C67 -> 0.0023532941 | M34: ='29. Gum arabic powder'!C68 -> 0.76248616 | N34: ='29. Gum arabic powder'!C77 -> 0.00029549769 | O34: ='29. Gum arabic powder'!C78 -> 2.7364574e-11 | P34: ='29. Gum arabic powder'!C81 -> 2.5764307
A35: 30 | B35: Gum arabic powder | C35: FRANCE | D35: Gate – to – gate | E35: ='30. Gum arabic powder'!C11 -> 0.77319617 | F35: ='30. Gum arabic powder'!C5 -> 5.8173381e-08 | G35: ='30. Gum arabic powder'!C14 -> 1.0633648e-07 | H35: ='30. Gum arabic powder'!C20 -> 0.00047632435 | I35: ='30. Gum arabic powder'!C31 -> 0.69154942 | J35: ='30. Gum arabic powder'!C22 -> 0.00010410747 | K35: ='30. Gum arabic powder'!C51 -> 0.0012285597 | L35: ='30. Gum arabic powder'!C67 -> 0.00059729598 | M35: ='30. Gum arabic powder'!C68 -> 2.4881364 | N35: ='30. Gum arabic powder'!C77 -> 0.00010849977 | O35: ='30. Gum arabic powder'!C78 -> 1.7531578e-11 | P35: ='30. Gum arabic powder'!C81 -> 1.725333
A36: 31 | B36: Laminate film; aluminium & BOPP | C36: AUSTRIA | D36: Gate – to – gate | E36: ='31. Laminate film (al & BOPP)'!C11 -> 1.1399507 | F36: ='31. Laminate film (al & BOPP)'!C5 -> 9.5004616e-08 | G36: ='31. Laminate film (al & BOPP)'!C14 -> 1.311302e-07 | H36: ='31. Laminate film (al & BOPP)'!C20 -> 0.00092099776 | I36: ='31. Laminate film (al & BOPP)'!C31 -> 1.2646512 | J36: ='31. Laminate film (al & BOPP)'!C22 -> 0.0014302403 | K36: ='31. Laminate film (al & BOPP)'!C51 -> 0.013357365 | L36: ='31. Laminate film (al & BOPP)'!C67 -> 0.002253383 | M36: ='31. Laminate film (al & BOPP)'!C68 -> 30.351392 | N36: ='31. Laminate film (al & BOPP)'!C77 -> 0.00030891593 | O36: ='31. Laminate film (al & BOPP)'!C78 -> 2.5649128e-11 | P36: ='31. Laminate film (al & BOPP)'!C81 -> 1.6669371
A37: 32 | B37: Laminate film; aluminium & Paper | C37: AUSTRIA | D37: Gate – to – gate | E37: ='32. Laminate film (al & paper)'!C11 -> 1.5029887 | F37: ='32. Laminate film (al & paper)'!C5 -> 1.0197089e-07 | G37: ='32. Laminate film (al & paper)'!C14 -> 1.9052349e-07 | H37: ='32. Laminate film (al & paper)'!C20 -> 0.00095834846 | I37: ='32. Laminate film (al & paper)'!C31 -> 1.2586452 | J37: ='32. Laminate film (al & paper)'!C22 -> 0.0011421604 | K37: ='32. Laminate film (al & paper)'!C51 -> 0.010621117 | L37: ='32. Laminate film (al & paper)'!C67 -> 0.0019947207 | M37: ='32. Laminate film (al & paper)'!C68 -> 23.714197 | N37: ='32. Laminate film (al & paper)'!C77 -> 0.00027541184 | O37: ='32. Laminate film (al & paper)'!C78 -> 3.3787046e-11 | P37: ='32. Laminate film (al & paper)'!C81 -> 2.7337354
A38: 33 | B38: Laminate film; aluminium & Paper | C38: AUSTRIA | D38: Gate – to – gate | E38: ='33. Laminate film (al & paper)'!C11 -> 1.6050299 | F38: ='33. Laminate film (al & paper)'!C5 -> 1.1226524e-07 | G38: ='33. Laminate film (al & paper)'!C14 -> 2.0090615e-07 | H38: ='33. Laminate film (al & paper)'!C20 -> 0.0010604643 | I38: ='33. Laminate film (al & paper)'!C31 -> 1.4032675 | J38: ='33. Laminate film (al & paper)'!C22 -> 0.0013273399 | K38: ='33. Laminate film (al & paper)'!C51 -> 0.012354074 | L38: ='33. Laminate film (al & paper)'!C67 -> 0.002271471 | M38: ='33. Laminate film (al & paper)'!C68 -> 27.684186 | N38: ='33. Laminate film (al & paper)'!C77 -> 0.00031320117 | O38: ='33. Laminate film (al & paper)'!C78 -> 3.6085341e-11 | P38: ='33. Laminate film (al & paper)'!C81 -> 2.8417554
A39: 34 | B39: Laminate film; aluminium & Paper | C39: ENGLAND | D39: Gate – to – gate | E39: ='34. Laminate film (al & paper)'!C11 -> 0.39231255 | F39: ='34. Laminate film (al & paper)'!C5 -> 2.3700772e-08 | G39: ='34. Laminate film (al & paper)'!C14 -> 2.6576105e-08 | H39: ='34. Laminate film (al & paper)'!C20 -> 0.00060707284 | I39: ='34. Laminate film (al & paper)'!C31 -> 0.40828644 | J39: ='34. Laminate film (al & paper)'!C22 -> 0.00022238206 | K39: ='34. Laminate film (al & paper)'!C51 -> 0.0046593043 | L39: ='34. Laminate film (al & paper)'!C67 -> 0.0011472161 | M39: ='34. Laminate film (al & paper)'!C68 -> 0.37741497 | N39: ='34. Laminate film (al & paper)'!C77 -> 0.0001412899 | O39: ='34. Laminate film (al & paper)'!C78 -> 6.874312e-12 | P39: ='34. Laminate film (al & paper)'!C81 -> 0.56783553
A40: 35 | B40: Lecithin | C40: SPAIN | D40: Gate – to – gate | E40: ='35. Lecithin'!C11 -> 0.30874798 | F40: ='35. Lecithin'!C5 -> 2.1520621e-08 | G40: ='35. Lecithin'!C14 -> 3.4481731e-08 | H40: ='35. Lecithin'!C20 -> 0.0008437214 | I40: ='35. Lecithin'!C31 -> 0.3882202 | J40: ='35. Lecithin'!C22 -> 0.00015745131 | K40: ='35. Lecithin'!C51 -> 0.0025386821 | L40: ='35. Lecithin'!C67 -> 0.00057597548 | M40: ='35. Lecithin'!C68 -> 0.96841582 | N40: ='35. Lecithin'!C77 -> 0.00013280847 | O40: ='35. Lecithin'!C78 -> 7.9682396e-12 | P40: ='35. Lecithin'!C81 -> 0.55179213
A41: 36 | B41: Lemon liquid flavour | C41: GERMANY | D41: Gate – to – gate | E41: ='36. Lemon liq flav'!C11 -> 0.74706191 | F41: ='36. Lemon liq flav'!C5 -> 5.1077683e-08 | G41: ='36. Lemon liq flav'!C14 -> 6.7233229e-08 | H41: ='36. Lemon liq flav'!C20 -> 0.00046445437 | I41: ='36. Lemon liq flav'!C31 -> 0.54447203 | J41: ='36. Lemon liq flav'!C22 -> 0.0014894693 | K41: ='36. Lemon liq flav'!C51 -> 0.0055482272 | L41: ='36. Lemon liq flav'!C67 -> 0.0013916256 | M41: ='36. Lemon liq flav'!C68 -> 1.2965979 | N41: ='36. Lemon liq flav'!C77 -> 0.00014939486 | O41: ='36. Lemon liq flav'!C78 -> 1.3805437e-11 | P41: ='36. Lemon liq flav'!C81 -> 0.96338614
A42: 37 | B42: Lemon liquid flavour | C42: GERMANY | D42: Gate – to – gate | E42: ='37. Lemon liq flav'!C11 -> 0.2642619 | F42: ='37. Lemon liq flav'!C5 -> 1.4647108e-08 | G42: ='37. Lemon liq flav'!C14 -> 3.1803461e-08 | H42: ='37. Lemon liq flav'!C20 -> 0.00012993859 | I42: ='37. Lemon liq flav'!C31 -> 0.15015669 | J42: ='37. Lemon liq flav'!C22 -> 0.00023591907 | K42: ='37. Lemon liq flav'!C51 -> 0.00090567665 | L42: ='37. Lemon liq flav'!C67 -> 0.00027217354 | M42: ='37. Lemon liq flav'!C68 -> 0.21593076 | N42: ='37. Lemon liq flav'!C77 -> 3.142065e-05 | O42: ='37. Lemon liq flav'!C78 -> 5.4764431e-12 | P42: ='37. Lemon liq flav'!C81 -> 0.49673496
A43: 38 | B43: Lime liquid flavour | C43: GERMANY | D43: Gate – to – gate | E43: ='38. Lime liq flav'!C11 -> 0.74706191 | F43: ='38. Lime liq flav'!C5 -> 5.1077683e-08 | G43: ='38. Lime liq flav'!C14 -> 6.7233229e-08 | H43: ='38. Lime liq flav'!C20 -> 0.00046445437 | I43: ='38. Lime liq flav'!C31 -> 0.54447203 | J43: ='38. Lime liq flav'!C22 -> 0.0014894693 | K43: ='38. Lime liq flav'!C51 -> 0.0055482272 | L43: ='38. Lime liq flav'!C67 -> 0.0013916256 | M43: ='38. Lime liq flav'!C68 -> 1.2965979 | N43: ='38. Lime liq flav'!C77 -> 0.00014939486 | O43: ='38. Lime liq flav'!C78 -> 1.3805437e-11 | P43: ='38. Lime liq flav'!C81 -> 0.96338614
A44: 39 | B44: Liquid refined sugar | C44: ENGLAND | D44: Gate – to – gate | E44: ='39. Liquid refined sugar'!C11 -> 0.023360902 | F44: ='39. Liquid refined sugar'!C5 -> 1.5738634e-09 | G44: ='39. Liquid refined sugar'!C14 -> 7.5646666e-10 | H44: ='39. Liquid refined sugar'!C20 -> 4.8716979e-05 | I44: ='39. Liquid refined sugar'!C31 -> 0.030794228 | J44: ='39. Liquid refined sugar'!C22 -> 1.8913005e-05 | K44: ='39. Liquid refined sugar'!C51 -> 0.00040279616 | L44: ='39. Liquid refined sugar'!C67 -> 9.5881742e-05 | M44: ='39. Liquid refined sugar'!C68 -> 0.031736631 | N44: ='39. Liquid refined sugar'!C77 -> 1.1715187e-05 | O44: ='39. Liquid refined sugar'!C78 -> 3.5575516e-13 | P44: ='39. Liquid refined sugar'!C81 -> 0.024172894
A45: 40 | B45: Malt liquid extract | C45: SCOTLAND | D45: Gate – to – gate | E45: ='40. Malt extract'!C11 -> 0.59733529 | F45: ='40. Malt extract'!C5 -> 2.8484748e-08 | G45: ='40. Malt extract'!C14 -> 7.9094407e-08 | H45: ='40. Malt extract'!C20 -> 0.00033660579 | I45: ='40. Malt extract'!C31 -> 0.31852552 | J45: ='40. Malt extract'!C22 -> 7.3404308e-05 | K45: ='40. Malt extract'!C51 -> 0.0012323636 | L45: ='40. Malt extract'!C67 -> 0.00045751714 | M45: ='40. Malt extract'!C68 -> 0.14148366 | N45: ='40. Malt extract'!C77 -> 6.0720014e-05 | O45: ='40. Malt extract'!C78 -> 1.2972789e-11 | P45: ='40. Malt extract'!C81 -> 1.3153846
A46: 41 | B46: Milk Skimmed Powder | C46: ENGLAND | D46: Gate – to – gate | E46: ='41. Milk skimmed powder'!C11 -> 0.48796003 | F46: ='41. Milk skimmed powder'!C5 -> 2.6873466e-08 | G46: ='41. Milk skimmed powder'!C14 -> 4.6296025e-08 | H46: ='41. Milk skimmed powder'!C20 -> 0.0005536337 | I46: ='41. Milk skimmed powder'!C31 -> 0.40392809 | J46: ='41. Milk skimmed powder'!C22 -> 0.00018570254 | K46: ='41. Milk skimmed powder'!C51 -> 0.0037860598 | L46: ='41. Milk skimmed powder'!C67 -> 0.00098501871 | M46: ='41. Milk skimmed powder'!C68 -> 0.32095901 | N46: ='41. Milk skimmed powder'!C77 -> 0.00012281262 | O46: ='41. Milk skimmed powder'!C78 -> 9.4092322e-12 | P46: ='41. Milk skimmed powder'!C81 -> 0.86079018
A47: 42 | B47: Multilayer - Plastics; (1) OPP, (2) PP | C47: ENGLAND | D47: Gate – to – gate | E47: ='42. Multilayer plastics'!C11 -> 0.38306126 | F47: ='42. Multilayer plastics'!C5 -> 2.3515329e-08 | G47: ='42. Multilayer plastics'!C14 -> 2.4051702e-08 | H47: ='42. Multilayer plastics'!C20 -> 0.00062162941 | I47: ='42. Multilayer plastics'!C31 -> 0.41354995 | J47: ='42. Multilayer plastics'!C22 -> 0.0002301658 | K47: ='42. Multilayer plastics'!C51 -> 0.0048373999 | L47: ='42. Multilayer plastics'!C67 -> 0.0011834974 | M47: ='42. Multilayer plastics'!C68 -> 0.38979461 | N47: ='42. Multilayer plastics'!C77 -> 0.00014554346 | O47: ='42. Multilayer plastics'!C78 -> 6.5890992e-12 | P47: ='42. Multilayer plastics'!C81 -> 0.53229947
A48: 43 | B48: Orange liquid flavour | C48: GERMANY | D48: Gate – to – gate | E48: ='43 & 44. Orange liq flav'!C11 -> 0.74706191 | F48: ='43 & 44. Orange liq flav'!C5 -> 5.1077683e-08 | G48: ='43 & 44. Orange liq flav'!C14 -> 6.7233229e-08 | H48: ='43 & 44. Orange liq flav'!C20 -> 0.00046445437 | I48: ='43 & 44. Orange liq flav'!C31 -> 0.54447203 | J48: ='43 & 44. Orange liq flav'!C22 -> 0.0014894693 | K48: ='43 & 44. Orange liq flav'!C51 -> 0.0055482272 | L48: ='43 & 44. Orange liq flav'!C67 -> 0.0013916256 | M48: ='43 & 44. Orange liq flav'!C68 -> 1.2965979 | N48: ='43 & 44. Orange liq flav'!C77 -> 0.00014939486 | O48: ='43 & 44. Orange liq flav'!C78 -> 1.3805437e-11 | P48: ='43 & 44. Orange liq flav'!C81 -> 0.96338614
A49: 44 | B49: Orange liquid flavour | C49: GERMANY | D49: Gate – to – gate | E49: =E48 -> 0.74706191 | F49: =F48 -> 5.1077683e-08 | G49: =G48 -> 6.7233229e-08 | H49: =H48 -> 0.00046445437 | I49: ='43 & 44. Orange liq flav'!C31 -> 0.54447203 | J49: =J48 -> 0.0014894693 | K49: =K48 -> 0.0055482272 | L49: =L48 -> 0.0013916256 | M49: =M48 -> 1.2965979 | N49: =N48 -> 0.00014939486 | O49: =O48 -> 1.3805437e-11 | P49: =P48 -> 0.96338614
A50: 45 | B50: Paper and fiber board | C50: ENGLAND | D50: Gate – to – gate | E50: ='45. Paper and fiberboard'!C10 -> 0.67403947 | F50: ='45. Paper and fiberboard'!C4 -> 4.4504149e-08 | G50: ='45. Paper and fiberboard'!C13 -> 2.6435609e-08 | H50: ='45. Paper and fiberboard'!C19 -> 0.001335523 | I50: ='45. Paper and fiberboard'!C30 -> 0.85234785 | J50: ='45. Paper and fiberboard'!C21 -> 0.00051406157 | K50: ='45. Paper and fiberboard'!C50 -> 0.010922601 | L50: ='45. Paper and fiberboard'!C66 -> 0.0026126829 | M50: ='45. Paper and fiberboard'!C67 -> 0.86402413 | N50: ='45. Paper and fiberboard'!C76 -> 0.00031959901 | O50: ='45. Paper and fiberboard'!C77 -> 1.0563711e-11 | P50: ='45. Paper and fiberboard'!C80 -> 0.75125445
A51: 46 | B51: Paper and fiberboard | C51: ENGLAND | D51: Gate – to – gate | E51: ='46. Paper and fiberboard'!C11 -> 0.6172359 | F51: ='46. Paper and fiberboard'!C5 -> 3.6803674e-08 | G51: ='46. Paper and fiberboard'!C14 -> 4.4279386e-08 | H51: ='46. Paper and fiberboard'!C20 -> 0.00091759814 | I51: ='46. Paper and fiberboard'!C31 -> 0.62301322 | J51: ='46. Paper and fiberboard'!C22 -> 0.00033294712 | K51: ='46. Paper and fiberboard'!C51 -> 0.0069563294 | L51: ='46. Paper and fiberboard'!C67 -> 0.0017226289 | M51: ='46. Paper and fiberboard'!C68 -> 0.5661395 | N51: ='46. Paper and fiberboard'!C77 -> 0.00021243631 | O51: ='46. Paper and fiberboard'!C78 -> 1.0975544e-11 | P51: ='46. Paper and fiberboard'!C81 -> 0.92217418
A52: 47 | B52: Peppermint oil | C52: SWITZERLAND | D52: Gate – to – gate | E52: ='47. Peppermint oil'!C12 -> 0.83338672 | F52: ='47. Peppermint oil'!C6 -> 7.4543492e-08 | G52: ='47. Peppermint oil'!C15 -> 1.1884986e-07 | H52: ='47. Peppermint oil'!C21 -> 0.0006933516 | I52: ='47. Peppermint oil'!C32 -> 0.85017209 | J52: ='47. Peppermint oil'!C23 -> 0.00037161597 | K52: ='47. Peppermint oil'!C52 -> 0.0023530806 | L52: ='47. Peppermint oil'!C68 -> 0.00077762759 | M52: ='47. Peppermint oil'!C69 -> 8.0298731 | N52: ='47. Peppermint oil'!C78 -> 0.00015941738 | O52: ='47. Peppermint oil'!C79 -> 1.8848623e-11 | P52: ='47. Peppermint oil'!C82 -> 1.7471679
A53: 48 | B53: Polypropylene film | C53: ENGLAND | D53: Gate – to – gate | E53: ='48. Polypropylene film'!C12 -> 1.5478637 | F53: ='48. Polypropylene film'!C6 -> 8.6181458e-08 | G53: ='48. Polypropylene film'!C15 -> 1.4210082e-07 | H53: ='48. Polypropylene film'!C21 -> 0.0018285373 | I53: ='48. Polypropylene film'!C32 -> 1.3186208 | J53: ='48. Polypropylene film'!C23 -> 0.00062171493 | K53: ='48. Polypropylene film'!C52 -> 0.01273141 | L53: ='48. Polypropylene film'!C68 -> 0.0032832954 | M53: ='48. Polypropylene film'!C69 -> 1.0714413 | N53: ='48. Polypropylene film'!C78 -> 0.00040858311 | O53: ='48. Polypropylene film'!C79 -> 2.953865e-11 | P53: ='48. Polypropylene film'!C82 -> 2.675029
A54: 49 | B54: Solid fiber board | C54: ENGLAND | D54: Gate – to – gate | E54: ='49. Solid fiberboard'!C12 -> 0.76669006 | F54: ='49. Solid fiberboard'!C6 -> 5.0611393e-08 | G54: ='49. Solid fiberboard'!C15 -> 3.012069e-08 | H54: ='49. Solid fiberboard'!C21 -> 0.0015183169 | I54: ='49. Solid fiberboard'!C32 -> 0.96910494 | J54: ='49. Solid fiberboard'!C23 -> 0.00058436972 | K54: ='49. Solid fiberboard'!C52 -> 0.012416182 | L54: ='49. Solid fiberboard'!C68 -> 0.0029700972 | M54: ='49. Solid fiberboard'!C69 -> 0.98221332 | N54: ='49. Solid fiberboard'!C78 -> 0.00036332445 | O54: ='49. Solid fiberboard'!C79 -> 1.2019085e-11 | P54: ='49. Solid fiberboard'!C82 -> 0.85511798
A55: 50 | B55: Strawberry juice concentrate | C55: POLAND | D55: Gate – to – gate | E55: ='50. Strawberry juice conc'!C12 -> 0.76295215 | F55: ='50. Strawberry juice conc'!C6 -> 3.3529168e-08 | G55: ='50. Strawberry juice conc'!C15 -> 8.7097685e-08 | H55: ='50. Strawberry juice conc'!C21 -> 0.0009711808 | I55: ='50. Strawberry juice conc'!C32 -> 0.47798678 | J55: ='50. Strawberry juice conc'!C23 -> 0.00057203173 | K55: ='50. Strawberry juice conc'!C52 -> 0.0037116874 | L55: ='50. Strawberry juice conc'!C68 -> 0.00089231045 | M55: ='50. Strawberry juice conc'!C69 -> 0.2248145 | N55: ='50. Strawberry juice conc'!C78 -> 0.0001554366 | O55: ='50. Strawberry juice conc'!C79 -> 1.5671867e-11 | P55: ='50. Strawberry juice conc'!C82 -> 1.4209687
A56: 51 | B56: Strawberry juice concentrate | C56: POLAND | D56: Gate – to – gate | E56: ='51. Strawberry juice conc'!C12 -> 0.74864401 | F56: ='51. Strawberry juice conc'!C6 -> 3.0394643e-08 | G56: ='51. Strawberry juice conc'!C15 -> 3.664485e-08 | H56: ='51. Strawberry juice conc'!C21 -> 0.0024089408 | I56: ='51. Strawberry juice conc'!C32 -> 0.76953653 | J56: ='51. Strawberry juice conc'!C23 -> 0.0017250935 | K56: ='51. Strawberry juice conc'!C52 -> 0.011102996 | L56: ='51. Strawberry juice conc'!C68 -> 0.0021652626 | M56: ='51. Strawberry juice conc'!C69 -> 0.52537487 | N56: ='51. Strawberry juice conc'!C78 -> 0.00039576594 | O56: ='51. Strawberry juice conc'!C79 -> 1.2223262e-11 | P56: ='51. Strawberry juice conc'!C82 -> 0.61542782
A57: 52 | B57: Strawberry liquid flavour | C57: SWITZERLAND | D57: Gate – to – gate | E57: ='52. Strawberry liq flav'!C12 -> 0.19871022 | F57: ='52. Strawberry liq flav'!C6 -> 1.8304737e-08 | G57: ='52. Strawberry liq flav'!C15 -> 2.8324953e-08 | H57: ='52. Strawberry liq flav'!C21 -> 0.00017063472 | I57: ='52. Strawberry liq flav'!C32 -> 0.20965841 | J57: ='52. Strawberry liq flav'!C23 -> 9.344134e-05 | K57: ='52. Strawberry liq flav'!C52 -> 0.00059092621 | L57: ='52. Strawberry liq flav'!C68 -> 0.00019198254 | M57: ='52. Strawberry liq flav'!C69 -> 2.029572 | N57: ='52. Strawberry liq flav'!C78 -> 3.9637722e-05 | O57: ='52. Strawberry liq flav'!C79 -> 4.496216e-12 | P57: ='52. Strawberry liq flav'!C82 -> 0.41372381
A58: 53 | B58: Strawberry liquid flavour | C58: SWITZERLAND | D58: Gate – to – gate | E58: ='53. Strawberry liq flav'!C11 -> 0.83338672 | F58: ='53. Strawberry liq flav'!C5 -> 7.4543492e-08 | G58: ='53. Strawberry liq flav'!C14 -> 1.1884986e-07 | H58: ='53. Strawberry liq flav'!C20 -> 0.0006933516 | I58: ='53. Strawberry liq flav'!C31 -> 0.85017209 | J58: ='53. Strawberry liq flav'!C22 -> 0.00037161597 | K58: ='53. Strawberry liq flav'!C51 -> 0.0023530806 | L58: ='53. Strawberry liq flav'!C67 -> 0.00077762759 | M58: ='53. Strawberry liq flav'!C68 -> 8.0298731 | N58: ='53. Strawberry liq flav'!C77 -> 0.00015941738 | O58: ='53. Strawberry liq flav'!C78 -> 1.8848623e-11 | P58: ='53. Strawberry liq flav'!C81 -> 1.7471679
A59: 54 | B59: Sugar Black Liquid | C59: ENGLAND | D59: Gate – to – gate | E59: ='54. Sugar black liq'!C12 -> 1.0262842 | F59: ='54. Sugar black liq'!C6 -> 4.6670553e-08 | G59: ='54. Sugar black liq'!C15 -> 1.4742334e-07 | H59: ='54. Sugar black liq'!C21 -> 0.00040288873 | I59: ='54. Sugar black liq'!C32 -> 0.45677545 | J59: ='54. Sugar black liq'!C23 -> 4.6955814e-05 | K59: ='54. Sugar black liq'!C52 -> 0.00036755752 | L59: ='54. Sugar black liq'!C68 -> 0.00040122651 | M59: ='54. Sugar black liq'!C69 -> 0.11378317 | N59: ='54. Sugar black liq'!C78 -> 5.8232618e-05 | O59: ='54. Sugar black liq'!C79 -> 2.303663e-11 | P59: ='54. Sugar black liq'!C82 -> 2.3945305
A60: 55 | B60: Sugar Black Liquid | C60: ENGLAND | D60: Gate – to – gate | E60: ='55. Sugar black liq'!C12 -> 0.019804803 | F60: ='55. Sugar black liq'!C6 -> 1.3291969e-09 | G60: ='55. Sugar black liq'!C15 -> 6.6715905e-10 | H60: ='55. Sugar black liq'!C21 -> 4.0907851e-05 | I60: ='55. Sugar black liq'!C32 -> 0.025903785 | J60: ='55. Sugar black liq'!C23 -> 1.5856556e-05 | K60: ='55. Sugar black liq'!C52 -> 0.00033755887 | L60: ='55. Sugar black liq'!C68 -> 8.0423641e-05 | M60: ='55. Sugar black liq'!C69 -> 0.026615731 | N60: ='55. Sugar black liq'!C78 -> 9.8285434e-06 | O60: ='55. Sugar black liq'!C79 -> 3.0327715e-13 | P60: ='55. Sugar black liq'!C82 -> 0.020794795
A61: 56 | B61: Sugar icing | C61: ENGLAND | D61: Gate – to – gate | E61: ='56. Sugar icing'!C12 -> 1.0262842 | F61: ='56. Sugar icing'!C6 -> 4.6670553e-08 | G61: ='56. Sugar icing'!C15 -> 1.4742334e-07 | H61: ='56. Sugar icing'!C21 -> 0.00040288873 | I61: ='56. Sugar icing'!C32 -> 0.45677545 | J61: ='56. Sugar icing'!C23 -> 4.6955814e-05 | K61: ='56. Sugar icing'!C52 -> 0.00036755752 | L61: ='56. Sugar icing'!C68 -> 0.00040122651 | M61: ='56. Sugar icing'!C69 -> 0.11378317 | N61: ='56. Sugar icing'!C78 -> 5.8232618e-05 | O61: ='56. Sugar icing'!C79 -> 2.303663e-11 | P61: ='56. Sugar icing'!C82 -> 2.3945305
A62: 57 | B62: Sugar Invert Liquid | C62: ENGLAND | D62: Gate – to – gate | E62: ='57. Sugar invert liq'!C11 -> 0.013877971 | F62: ='57. Sugar invert liq'!C5 -> 9.2141928e-10 | G62: ='57. Sugar invert liq'!C14 -> 5.1831303e-10 | H62: ='57. Sugar invert liq'!C20 -> 2.7892637e-05 | I62: ='57. Sugar invert liq'!C31 -> 0.017753048 | J62: ='57. Sugar invert liq'!C22 -> 1.0762475e-05 | K62: ='57. Sugar invert liq'!C51 -> 0.00022883004 | L62: ='57. Sugar invert liq'!C67 -> 5.466014e-05 | M62: ='57. Sugar invert liq'!C68 -> 0.018080897 | N62: ='57. Sugar invert liq'!C77 -> 6.6841371e-06 | O62: ='57. Sugar invert liq'!C78 -> 2.158138e-13 | P62: ='57. Sugar invert liq'!C81 -> 0.015164631
A63: 58 | B63: Sugar White Liquid | C63: ENGLAND | D63: Gate – to – gate | E63: ='58. Sugar white liq'!C12 -> 1.0262842 | F63: ='58. Sugar white liq'!C6 -> 4.6670553e-08 | G63: ='58. Sugar white liq'!C15 -> 1.4742334e-07 | H63: ='58. Sugar white liq'!C21 -> 0.00040288873 | I63: ='58. Sugar white liq'!C32 -> 0.45677545 | J63: ='58. Sugar white liq'!C23 -> 4.6955814e-05 | K63: ='58. Sugar white liq'!C52 -> 0.00036755752 | L63: ='58. Sugar white liq'!C68 -> 0.00040122651 | M63: ='58. Sugar white liq'!C69 -> 0.11378317 | N63: ='58. Sugar white liq'!C78 -> 5.8232618e-05 | O63: ='58. Sugar white liq'!C79 -> 2.303663e-11 | P63: ='58. Sugar white liq'!C82 -> 2.3945305
A64: 59 | B64: Sugar White Liquid | C64: ENGLAND | D64: Gate – to – gate | E64: ='59. Sugar white liq'!C12 -> 0.023360902 | F64: ='59. Sugar white liq'!C6 -> 1.5738634e-09 | G64: ='59. Sugar white liq'!C15 -> 7.5646666e-10 | H64: ='59. Sugar white liq'!C21 -> 4.8716979e-05 | I64: ='59. Sugar white liq'!C32 -> 0.030794228 | J64: ='59. Sugar white liq'!C23 -> 1.8913005e-05 | K64: ='59. Sugar white liq'!C52 -> 0.00040279616 | L64: ='59. Sugar white liq'!C68 -> 9.5881742e-05 | M64: ='59. Sugar white liq'!C69 -> 0.031736631 | N64: ='59. Sugar white liq'!C78 -> 1.1715187e-05 | O64: ='59. Sugar white liq'!C79 -> 3.5575516e-13 | P64: ='59. Sugar white liq'!C82 -> 0.024172894
A65: 60 | B65: Toffee liquid flavour | C65: GERMANY | D65: Gate – to – gate | E65: ='60. Toffee liquid flav'!C11 -> 0.74706191 | F65: ='60. Toffee liquid flav'!C5 -> 5.1077683e-08 | G65: ='60. Toffee liquid flav'!C14 -> 6.7233229e-08 | H65: ='60. Toffee liquid flav'!C20 -> 0.00046445437 | I65: ='60. Toffee liquid flav'!C31 -> 0.54447203 | J65: ='60. Toffee liquid flav'!C22 -> 0.0014894693 | K65: ='60. Toffee liquid flav'!C51 -> 0.0055482272 | L65: ='60. Toffee liquid flav'!C67 -> 0.0013916256 | M65: ='60. Toffee liquid flav'!C68 -> 1.2965979 | N65: ='60. Toffee liquid flav'!C77 -> 0.00014939486 | O65: ='60. Toffee liquid flav'!C78 -> 1.3805437e-11 | P65: ='60. Toffee liquid flav'!C81 -> 0.96338614
A66: 61 | B66: Vanilla liquid flavour | C66: FRANCE | D66: Gate – to – gate | E66: ='61. Vanilla liquid flavour'!C11 -> 0.12982897 | F66: ='61. Vanilla liquid flavour'!C5 -> 2.579946e-08 | G66: ='61. Vanilla liquid flavour'!C14 -> 1.4527648e-08 | H66: ='61. Vanilla liquid flavour'!C20 -> 0.00020080556 | I66: ='61. Vanilla liquid flavour'!C31 -> 0.35830894 | J66: ='61. Vanilla liquid flavour'!C22 -> 6.5568338e-05 | K66: ='61. Vanilla liquid flavour'!C51 -> 0.00087395906 | L66: ='61. Vanilla liquid flavour'!C67 -> 0.00030682636 | M66: ='61. Vanilla liquid flavour'!C68 -> 2.0911323 | N66: ='61. Vanilla liquid flavour'!C77 -> 6.3354324e-05 | O66: ='61. Vanilla liquid flavour'!C78 -> 3.064148e-12 | P66: ='61. Vanilla liquid flavour'!C81 -> 0.23452343
A67: 62 | B67: Vanilla liquid flavour | C67: GERMANY | D67: Gate – to – gate | E67: ='62. Vanilla liq flav'!C11 -> 0.2642619 | F67: ='62. Vanilla liq flav'!C5 -> 1.4647108e-08 | G67: ='62. Vanilla liq flav'!C14 -> 3.1803461e-08 | H67: ='62. Vanilla liq flav'!C20 -> 0.00012993859 | I67: ='62. Vanilla liq flav'!C31 -> 0.15015669 | J67: ='62. Vanilla liq flav'!C22 -> 0.00023591907 | K67: ='62. Vanilla liq flav'!C51 -> 0.00090567665 | L67: ='62. Vanilla liq flav'!C67 -> 0.00027217354 | M67: ='62. Vanilla liq flav'!C68 -> 0.21593076 | N67: ='62. Vanilla liq flav'!C77 -> 3.142065e-05 | O67: ='62. Vanilla liq flav'!C78 -> 5.4764431e-12 | P67: ='62. Vanilla liq flav'!C81 -> 0.49673496
A68: 63 | B68: Vanilla liquid flavour | C68: FRANCE | D68: Gate – to – gate | E68: ='63. Vanilla liq flav'!C11 -> 0.15406352 | F68: ='63. Vanilla liq flav'!C5 -> 3.0683319e-08 | G68: ='63. Vanilla liq flav'!C14 -> 1.7225341e-08 | H68: ='63. Vanilla liq flav'!C20 -> 0.00023880145 | I68: ='63. Vanilla liq flav'!C31 -> 0.42621999 | J68: ='63. Vanilla liq flav'!C22 -> 7.8011626e-05 | K68: ='63. Vanilla liq flav'!C51 -> 0.0010399287 | L68: ='63. Vanilla liq flav'!C67 -> 0.00036497617 | M68: ='63. Vanilla liq flav'!C68 -> 2.4885714 | N68: ='63. Vanilla liq flav'!C77 -> 7.5371815e-05 | O68: ='63. Vanilla liq flav'!C78 -> 3.6366284e-12 | P68: ='63. Vanilla liq flav'!C81 -> 0.27806674
A69: 64 | B69: Whey permeate powder | C69: Ireland | D69: Gate – to – gate | E69: ='64. Whey permeate powder'!C11 -> 1.0295831 | F69: ='64. Whey permeate powder'!C5 -> 4.8367275e-08 | G69: ='64. Whey permeate powder'!C14 -> 4.264571e-08 | H69: ='64. Whey permeate powder'!C20 -> 0.0046052915 | I69: ='64. Whey permeate powder'!C31 -> 2.7104472 | J69: ='64. Whey permeate powder'!C22 -> 0.0007826038 | K69: ='64. Whey permeate powder'!C51 -> 0.015117685 | L69: ='64. Whey permeate powder'!C67 -> 0.0041433501 | M69: ='64. Whey permeate powder'!C68 -> 0.81677982 | N69: ='64. Whey permeate powder'!C77 -> 0.00078599479 | O69: ='64. Whey permeate powder'!C78 -> 3.3121652e-11 | P69: ='64. Whey permeate powder'!C81 -> 0.7665806
A70: 65 | B70: Whey permeate powder | C70: ENGLAND | D70: Gate – to – gate | E70: ='65. Whey permeate powder'!C12 -> 1.6888703 | F70: ='65. Whey permeate powder'!C6 -> 9.219094e-08 | G70: ='65. Whey permeate powder'!C15 -> 1.6440304e-07 | H70: ='65. Whey permeate powder'!C21 -> 0.0018527492 | I70: ='65. Whey permeate powder'!C32 -> 1.3653168 | J70: ='65. Whey permeate powder'!C23 -> 0.00061411395 | K70: ='65. Whey permeate powder'!C52 -> 0.012471292 | L70: ='65. Whey permeate powder'!C68 -> 0.0032701063 | M70: ='65. Whey permeate powder'!C69 -> 1.0641212 | N70: ='65. Whey permeate powder'!C78 -> 0.00040840202 | O70: ='65. Whey permeate powder'!C79 -> 3.2836561e-11 | P70: ='65. Whey permeate powder'!C82 -> 3.0279135
A71: 66 | B71: Wrapper paper | C71: ENGLAND | D71: Gate – to – gate | E71: ='66. Wrapper paper'!C12 -> 0.6172359 | F71: ='66. Wrapper paper'!C6 -> 3.6803674e-08 | G71: ='66. Wrapper paper'!C15 -> 4.4279386e-08 | H71: ='66. Wrapper paper'!C21 -> 0.00091759814 | I71: ='66. Wrapper paper'!C32 -> 0.62301322 | J71: ='66. Wrapper paper'!C23 -> 0.00033294712 | K71: ='66. Wrapper paper'!C52 -> 0.0069563294 | L71: ='66. Wrapper paper'!C68 -> 0.0017226289 | M71: ='66. Wrapper paper'!C69 -> 0.5661395 | N71: ='66. Wrapper paper'!C78 -> 0.00021243631 | O71: ='66. Wrapper paper'!C79 -> 1.0975544e-11 | P71: ='66. Wrapper paper'!C82 -> 0.92217418
A72: 67 | B72: Confectionery factory | C72: ENGLAND | D72: Gate – to – gate | E72: ='67. Confectionary factory'!C10 -> 0.58860139 | F72: ='67. Confectionary factory'!C4 -> 3.4215439e-08 | G72: ='67. Confectionary factory'!C13 -> 4.6701241e-08 | H72: ='67. Confectionary factory'!C20 -> 0.00080692938 | I72: ='67. Confectionary factory'!C31 -> 0.5589866 | J72: ='67. Confectionary factory'!C22 -> 0.00028677288 | K72: ='67. Confectionary factory'!C52 -> 0.0059543924 | L72: ='67. Confectionary factory'!C68 -> 0.0014933289 | M72: ='67. Confectionary factory'!C69 -> 0.48968385 | N72: ='67. Confectionary factory'!C80 -> 0.00018468969 | O72: ='67. Confectionary factory'!C81 -> 1.075674e-11
A73: 68 | B73: Chocolate confectionery products | C73: ENGLAND | D73: Gate – to – gate | E73: ='68. Chocolate confectionery'!C9 -> 0.42456999 | F73: ='68. Chocolate confectionery'!C3 -> 2.5001313e-08 | G73: ='68. Chocolate confectionery'!C12 -> 3.205524e-08 | H73: ='68. Chocolate confectionery'!C18 -> 0.0006068735 | I73: ='68. Chocolate confectionery'!C29 -> 0.41600928 | J73: ='68. Chocolate confectionery'!C20 -> 0.00021805402 | K73: ='68. Chocolate confectionery'!C49 -> 0.0045425664 | L73: ='68. Chocolate confectionery'!C65 -> 0.0011316115 | M73: ='68. Chocolate confectionery'!C66 -> 0.37151119 | N73: ='68. Chocolate confectionery'!C75 -> 0.00013974092 | O73: ='68. Chocolate confectionery'!C76 -> 7.6532272e-12
A74: 69 | B74: Sugar confectionery products | C74: ENGLAND | D74: Gate – to – gate | E74: ='69. Sugar confectionery'!C10 -> 0.78493614 | F74: ='69. Sugar confectionery'!C4 -> 4.4566205e-08 | G74: ='69. Sugar confectionery'!C13 -> 6.7676443e-08 | H74: ='69. Sugar confectionery'!C19 -> 0.0009939711 | I74: ='69. Sugar confectionery'!C30 -> 0.70308836 | J74: ='69. Sugar confectionery'!C21 -> 0.00034537531 | K74: ='69. Sugar confectionery'!C50 -> 0.0071215034 | L74: ='69. Sugar confectionery'!C66 -> 0.0018113094 | M74: ='69. Sugar confectionery'!C67 -> 0.59249967 | N74: ='69. Sugar confectionery'!C76 -> 0.00022472061 | O74: ='69. Sugar confectionery'!C77 -> 1.4694915e-11
A75: 70 | B75: Chocolate biscuit confectionery products | C75: ENGLAND | D75: Gate – to – gate | E75: ='70. Chocolate biscuit confec'!C10 -> 0.62309591 | F75: ='70. Chocolate biscuit confec'!C4 -> 3.8743813e-08 | G75: ='70. Chocolate biscuit confec'!C13 -> 3.6616549e-08 | H75: ='70. Chocolate biscuit confec'!C19 -> 0.0010492906 | I75: ='70. Chocolate biscuit confec'!C30 -> 0.69235818 | J75: ='70. Chocolate biscuit confec'!C21 -> 0.00039159994 | K75: ='70. Chocolate biscuit confec'!C50 -> 0.0082489705 | L75: ='70. Chocolate biscuit confec'!C66 -> 0.002008755 | M75: ='70. Chocolate biscuit confec'!C67 -> 0.66215465 | N75: ='70. Chocolate biscuit confec'!C76 -> 0.00024676297 | O75: ='70. Chocolate biscuit confec'!C77 -> 1.0555375e-11
A76: 71 | B76: Wafer confectionery products | C76: ENGLAND | D76: Gate – to – gate | E76: ='71. Wafer confectionery'!C10 -> 0.78793085 | F76: ='71. Wafer confectionery'!C4 -> 4.5089663e-08 | G76: ='71. Wafer confectionery'!C13 -> 6.6138716e-08 | H76: ='71. Wafer confectionery'!C19 -> 0.0010250872 | I76: ='71. Wafer confectionery'!C30 -> 0.71986369 | J76: ='71. Wafer confectionery'!C21 -> 0.00035902216 | K76: ='71. Wafer confectionery'!C50 -> 0.0074211987 | L76: ='71. Wafer confectionery'!C66 -> 0.0018781577 | M76: ='71. Wafer confectionery'!C67 -> 0.61489862 | N76: ='71. Wafer confectionery'!C76 -> 0.00023275655 | O76: ='71. Wafer confectionery'!C77 -> 1.4634475e-11
A77: 72 | B77: Milk crumb | C77: SCOTLAND | D77: Gate – to – gate | E77: ='72. Milk crumb'!C12 -> 0.28293622 | F77: ='72. Milk crumb'!C6 -> 1.5624167e-08 | G77: ='72. Milk crumb'!C15 -> 2.6630651e-08 | H77: ='72. Milk crumb'!C21 -> 0.00032426279 | I77: ='72. Milk crumb'!C32 -> 0.23588613 | J77: ='72. Milk crumb'!C23 -> 0.00010914179 | K77: ='72. Milk crumb'!C52 -> 0.0022276715 | L77: ='72. Milk crumb'!C68 -> 0.00057827012 | M77: ='72. Milk crumb'!C69 -> 0.18849611 | N77: ='72. Milk crumb'!C78 -> 7.206401e-05 | O77: ='72. Milk crumb'!C79 -> 5.4419572e-12 | P77: ='72. Milk crumb'!C82 -> 0.49662584
A78: 73 | B78: Milk Chocolate | C78: ENGLAND | D78: Gate – to – gate | E78: ='73. Milk chocolate'!C12 -> 0.1601038 | F78: ='73. Milk chocolate'!C6 -> 1.0079913e-08 | G78: ='73. Milk chocolate'!C15 -> 8.7747507e-09 | H78: ='73. Milk chocolate'!C21 -> 0.00027925735 | I78: ='73. Milk chocolate'!C32 -> 0.18287441 | J78: ='73. Milk chocolate'!C23 -> 0.00010497245 | K78: ='73. Milk chocolate'!C52 -> 0.0022157451 | L78: ='73. Milk chocolate'!C68 -> 0.00053730096 | M78: ='73. Milk chocolate'!C69 -> 0.17724728 | N78: ='73. Milk chocolate'!C78 -> 6.5938979e-05 | O78: ='73. Milk chocolate'!C79 -> 2.6710744e-12 | P78: ='73. Milk chocolate'!C82 -> 0.20756681
A79: 74 | B79: Wafer flavour | C79: GERMANY | D79: Gate – to – gate | E79: ='74. Wafer flavour'!C11 -> 0.74706191 | F79: ='74. Wafer flavour'!C5 -> 5.1077683e-08 | G79: ='74. Wafer flavour'!C14 -> 6.7233229e-08 | H79: ='74. Wafer flavour'!C20 -> 0.00046445437 | I79: ='74. Wafer flavour'!C31 -> 0.54447203 | J79: ='74. Wafer flavour'!C22 -> 0.0014894693 | K79: ='74. Wafer flavour'!C51 -> 0.0055482272 | L79: ='74. Wafer flavour'!C67 -> 0.0013916256 | M79: ='74. Wafer flavour'!C68 -> 1.2965979 | N79: ='74. Wafer flavour'!C77 -> 0.00014939486 | O79: ='74. Wafer flavour'!C78 -> 1.3805437e-11 | P79: ='74. Wafer flavour'!C81 -> 0.96338614
A80: 75 | B80: Cereal | C80: ENGLAND | D80: Gate – to – gate | E80: ='75. Cereal'!C11 -> 0.44243759 | F80: ='75. Cereal'!C6 -> 2.7206426e-08 | G80: ='75. Cereal'!C15 -> 2.3259086e-08 | H80: ='75. Cereal'!C21 -> 0.00076178049 | I80: ='75. Cereal'!C32 -> 0.49600568 | J80: ='75. Cereal'!C23 -> 0.00028545129 | K80: ='75. Cereal'!C52 -> 0.0060676964 | L80: ='75. Cereal'!C68 -> 0.0014719973 | M80: ='75. Cereal'!C69 -> 0.48141522 | N80: ='75. Cereal'!C78 -> 0.0001817888 | O80: ='75. Cereal'!C79 -> 5.0306938e-12 | P80: ='75. Cereal'!C82 -> 0.556108

Sheet 1. Aluminium Foil
C4: 1. Aluminium foil
A5: CML 2001 - Nov. 2010 | B5: CML 2001 - Nov. 2010 | C5: 0
B6: CML2001 - Nov. 2010, Abiotic Depletion (ADP elements) [kg Sb-Equiv.] | C6: 5.0548349e-08
B7: CML2001 - Nov. 2010, Abiotic Depletion (ADP fossil) [MJ] | C7: 16.492746
B8: CML2001 - Nov. 2010, Acidification Potential (AP) [kg SO2-Equiv.] | C8: 0.0012017532
B9: CML2001 - Nov. 2010, Eutrophication Potential (EP) [kg Phosphate-Equiv.] | C9: 0.0002957596
B10: CML2001 - Nov. 2010, Freshwater Aquatic Ecotoxicity Pot. (FAETP inf.) [kg DCB-Equiv.] | C10: 0.035821198
B11: CML2001 - Nov. 2010, Global Warming Potential (GWP 100 years) [kg CO2-Equiv.] | C11: 1.0341572
B12: CML2001 - Nov. 2010, Global Warming Potential, excl biogenic carbon (GWP 100 years) [kg CO2-Equiv.] | C12: 1.0345688
B13: CML2001 - Nov. 2010, Human Toxicity Potential (HTP inf.) [kg DCB-Equiv.] | C13: 0.052662598
B14: CML2001 - Nov. 2010, Marine Aquatic Ecotoxicity Pot. (MAETP inf.) [kg DCB-Equiv.] | C14: 163.37018
B15: CML2001 - Nov. 2010, Ozone Layer Depletion Potential (ODP, steady state) [kg R11-Equiv.] | C15: 1.3082291e-07
B16: CML2001 - Nov. 2010, Photochem. Ozone Creation Potential (POCP) [kg Ethene-Equiv.] | C16: 0.00018629703
B17: CML2001 - Nov. 2010, Terrestric Ecotoxicity Potential (TETP inf.) [kg DCB-Equiv.] | C17: 0.000657369
A20: Impact 2002+ | B20: Impact 2002+ | C20: 0
B21: I02+ v2.1 - Aquatic acidification - Midpoint [kg SO2-Eq. to air] | C21: 0.0006768113
B22: I02+ v2.1 - Aquatic ecotoxicity - Midpoint [kg TEG-Eq. to water] | C22: 350.91827
B23: I02+ v2.1 - Aquatic eutrophication - Midpoint [kg PO4-Eq. to water] | C23: 0.00016946767
B24: I02+ v2.1 - Carcinogens - Midpoint [kg C2H3Cl-Eq. to air] | C24: 0.00050315414
B25: I02+ v2.1 - Global warming 500yr - Midpoint [kg CO2-Eq. to air] | C25: 0.99038663
B26: I02+ v2.1 - Ionizing radiation - Midpoint [Bq C-14-Eq. to air] | C26: 7.7807255
B27: I02+ v2.1 - Non-carcinogens - Midpoint [kg C2H3Cl-Eq. to air] | C27: 0.0056504597
B28: I02+ v2.1 - Ozone layer depletion - Midpoint [kg CFC-11-Eq. to air] | C28: 1.3082291e-07
B29: I02+ v2.1 - Photochemical oxidation - Midpoint [kg C2H4-Eq. to air] | C29: 0.00016604933
B30: I02+ v2.1 - Respiratory effects - Midpoint [kg PM2.5-Eq. to air] | C30: 0.00019873931
B31: I02+ v2.1 - Terrestrial acidification/nutrification - Midpoint [kg SO2-Eq. to air] | C31: 0.0051121181
B32: I02+ v2.1 - Terrestrial ecotoxicity - Midpoint [kg TEG-Eq. to soil] | C32: 0.60006698
A34: ReCiPe 1.07 | B34: ReCiPe 1.07 | C34: 0
B35: ReCiPe 1.07 Endpoint (H) - Agricultural land occupation [species.yr] | C35: 3.6868695e-11
B36: ReCiPe 1.07 Endpoint (H) - Climate change Ecosystems [species.yr] | C36: 8.2028987e-09
B37: ReCiPe 1.07 Endpoint (H) - Climate change Human Health [DALY] | C37: 1.4483718e-06
B38: ReCiPe 1.07 Endpoint (H) - Fossil depletion [$] | C38: 0.061653692
B39: ReCiPe 1.07 Endpoint (H) - Freshwater ecotoxicity [species.yr] | C39: 7.5997002e-13
B40: ReCiPe 1.07 Endpoint (H) - Freshwater eutrophication [species.yr] | C40: 2.4818193e-12
B41: ReCiPe 1.07 Endpoint (H) - Human toxicity [DALY] | C41: 5.8330176e-09
B42: ReCiPe 1.07 Endpoint (H) - Ionising radiation [DALY] | C42: 4.2768905e-07
B43: ReCiPe 1.07 Endpoint (H) - Marine ecotoxicity [species.yr] | C43: 1.9768542e-13
B44: ReCiPe 1.07 Endpoint (H) - Metal depletion [$] | C44: 0.00027201451
B45: ReCiPe 1.07 Endpoint (H) - Natural land transformation [species.yr] | C45: 2.0806378e-10
B46: ReCiPe 1.07 Endpoint (H) - Ozone depletion [DALY] | C46: 3.4802008e-10
... B69: ReCiPe 1.07 Midpoint (H) - Water depletion [m3] | C69: 0.31419316
A71: TRACI 2.1 | B71: TRACI 2.1 | C71: 0
B72: TRACI 2.1, Acidification Air [kg SO2-Equiv.] | C72: 0.0012390794
B73: TRACI 2.1, Acidification Water [kg SO2-Equiv.] | C73: 3.0696384e-07
B74: TRACI 2.1, Ecotoxicity (recommended) [CTUeco] | C74: 0.00011453744
B75: TRACI 2.1, Eutrophication Air [kg N-Equiv.] | C75: 3.6085186e-05
B76: TRACI 2.1, Eutrophication Water [kg N-Equiv.] | C76: 0.00042853167
B77: TRACI 2.1, Global Warming Air [kg CO2-Equiv.] | C77: 1.0345193
B78: TRACI 2.1, Human Health Particulate Air [kg PM2,5-Equiv.] | C78: 0.0001298138
B79: TRACI 2.1, Human toxicity, cancer (recommended) [CTUh] | C79: 2.2068496e-11
B80: TRACI 2.1, Human toxicity, non-canc. (recommended) [CTUh] | C80: 4.7474566e-12
B81: TRACI 2.1, Ozone Depletion Air [kg CFC 11-Equiv.] | C81: 1.5426743e-07
B82: TRACI 2.1, Resources, Fossil fuels [MJ surplus energy] | C82: 2.2062495
B83: TRACI 2.1, Smog Air [kg O3-Equiv.] | C83: 0.020712566

Sheet 2. Aluminium Foil
C3: 2. Aluminium foil
A4: CML 2001 - Nov. 2010 | B4: CML 2001 - Nov. 2010 | C4: 0
B5: CML2001 - Nov. 2010, Abiotic Depletion (ADP elements) [kg Sb-Equiv.] | C5: 2.3700772e-08
B6: CML2001 - Nov. 2010, Abiotic Depletion (ADP fossil) [MJ] | C6: 6.463652
B7: CML2001 - Nov. 2010, Acidification Potential (AP) [kg SO2-Equiv.] | C7: 0.00097731721
B8: CML2001 - Nov. 2010, Eutrophication Potential (EP) [kg Phosphate-Equiv.] | C8: 0.00031371239
B9: CML2001 - Nov. 2010, Freshwater Aquatic Ecotoxicity Pot. (FAETP inf.) [kg DCB-Equiv.] | C9: 0.04556741
B10: CML2001 - Nov. 2010, Global Warming Potential (GWP 100 years) [kg CO2-Equiv.] | C10: 0.39166034
B11: CML2001 - Nov. 2010, Global Warming Potential, excl biogenic carbon (GWP 100 years) [kg CO2-Equiv.] | C11: 0.39231255
B12: CML2001 - Nov. 2010, Human Toxicity Potential (HTP inf.) [kg DCB-Equiv.] | C12: 0.05694372
B13: CML2001 - Nov. 2010, Marine Aquatic Ecotoxicity Pot. (MAETP inf.) [kg DCB-Equiv.] | C13: 235.12816
B14: CML2001 - Nov. 2010, Ozone Layer Depletion Potential (ODP, steady state) [kg R11-Equiv.] | C14: 2.6576105e-08
B15: CML2001 - Nov. 2010, Photochem. Ozone Creation Potential (POCP) [kg Ethene-Equiv.] | C15: 7.9180763e-05
B16: CML2001 - Nov. 2010, Terrestric Ecotoxicity Potential (TETP inf.) [kg DCB-Equiv.] | C16: 0.00047087061
A19: Impact 2002+ | B19: Impact 2002+ | C19: 0
B20: I02+ v2.1 - Aquatic acidification - Midpoint [kg SO2-Eq. to air] | C20: 0.00060707284
B21: I02+ v2.1 - Aquatic ecotoxicity - Midpoint [kg TEG-Eq. to water] | C21: 447.00252
B22: I02+ v2.1 - Aquatic eutrophication - Midpoint [kg PO4-Eq. to water] | C22: 0.00022238206
B23: I02+ v2.1 - Carcinogens - Midpoint [kg C2H3Cl-Eq. to air] | C23: 0.00062930896
B24: I02+ v2.1 - Global warming 500yr - Midpoint [kg CO2-Eq. to air] | C24: 0.37559264
B25: I02+ v2.1 - Ionizing radiation - Midpoint [Bq C-14-Eq. to air] | C25: 11.642764
B26: I02+ v2.1 - Non-carcinogens - Midpoint [kg C2H3Cl-Eq. to air] | C26: 0.0070251276
B27: I02+ v2.1 - Ozone layer depletion - Midpoint [kg CFC-11-Eq. to air] | C27: 2.6576105e-08
B28: I02+ v2.1 - Photochemical oxidation - Midpoint [kg C2H4-Eq. to air] | C28: 4.3005043e-05
B29: I02+ v2.1 - Respiratory effects - Midpoint [kg PM2.5-Eq. to air] | C29: 0.00016100997
B30: I02+ v2.1 - Terrestrial acidification/nutrification - Midpoint [kg SO2-Eq. to air] | C30: 0.0035051832
B31: I02+ v2.1 - Terrestrial ecotoxicity - Midpoint [kg TEG-Eq. to soil] | C31: 0.40828644
A33: ReCiPe 1.07 | B33: ReCiPe 1.07 | C33: 0
B34: ReCiPe 1.07 Endpoint (H) - Agricultural land occupation [species.yr] | C34: 5.5899581e-11
B35: ReCiPe 1.07 Endpoint (H) - Climate change Ecosystems [species.yr] | C35: 3.1104538e-09
B36: ReCiPe 1.07 Endpoint (H) - Climate change Human Health [DALY] | C36: 5.4920705e-07
B37: ReCiPe 1.07 Endpoint (H) - Fossil depletion [$] | C37: 0.02069224
B38: ReCiPe 1.07 Endpoint (H) - Freshwater ecotoxicity [species.yr] | C38: 9.6652155e-13
B39: ReCiPe 1.07 Endpoint (H) - Freshwater eutrophication [species.yr] | C39: 3.2565953e-12
B40: ReCiPe 1.07 Endpoint (H) - Human toxicity [DALY] | C40: 5.7473271e-09
B41: ReCiPe 1.07 Endpoint (H) - Ionising radiation [DALY] | C41: 6.3857053e-07
B42: ReCiPe 1.07 Endpoint (H) - Marine ecotoxicity [species.yr] | C42: 2.1472852e-13
B43: ReCiPe 1.07 Endpoint (H) - Metal depletion [$] | C43: 0.00011242322
B44: ReCiPe 1.07 Endpoint (H) - Natural land transformation [species.yr] | C44: 5.4269324e-11
B45: ReCiPe 1.07 Endpoint (H) - Ozone depletion [DALY] | C45: 6.9498108e-11
... B68: ReCiPe 1.07 Midpoint (H) - Water depletion [m3] | C68: 0.37741497
A70: TRACI 2.1 | B70: TRACI 2.1 | C70: 0
B71: TRACI 2.1, Acidification Air [kg SO2-Equiv.] | C71: 0.00096870316
B72: TRACI 2.1, Acidification Water [kg SO2-Equiv.] | C72: 2.9773784e-07
B73: TRACI 2.1, Ecotoxicity (recommended) [CTUeco] | C73: 6.5383998e-05
B74: TRACI 2.1, Eutrophication Air [kg N-Equiv.] | C74: 2.3630001e-05
B75: TRACI 2.1, Eutrophication Water [kg N-Equiv.] | C75: 0.00055819724
B76: TRACI 2.1, Global Warming Air [kg CO2-Equiv.] | C76: 0.39226613
B77: TRACI 2.1, Human Health Particulate Air [kg PM2,5-Equiv.] | C77: 0.0001412899
B78: TRACI 2.1, Human toxicity, cancer (recommended) [CTUh] | C78: 6.874312e-12
B79: TRACI 2.1, Human toxicity, non-canc. (recommended) [CTUh] | C79: 2.4695043e-12
B80: TRACI 2.1, Ozone Depletion Air [kg CFC 11-Equiv.] | C80: 3.1388349e-08
B81: TRACI 2.1, Resources, Fossil fuels [MJ surplus energy] | C81: 0.56783553
B82: TRACI 2.1, Smog Air [kg O3-Equiv.] | C82: 0.013029158

Sheet 3. Apple Juice Conc
C3: 3. Apple Grape Concentrate
A4: CML 2001 - Nov. 2010 | B4: CML 2001 - Nov. 2010 | C4: 0
B5: CML2001 - Nov. 2010, Abiotic Depletion (ADP elements) [kg Sb-Equiv.] | C5: 3.4600402e-08
B6: CML2001 - Nov. 2010, Abiotic Depletion (ADP fossil) [MJ] | C6: 10.151429
B7: CML2001 - Nov. 2010, Acidification Potential (AP) [kg SO2-Equiv.] | C7: 0.0012933871
B8: CML2001 - Nov. 2010, Eutrophication Potential (EP) [kg Phosphate-Equiv.] | C8: 0.00024301904
B9: CML2001 - Nov. 2010, Freshwater Aquatic Ecotoxicity Pot. (FAETP inf.) [kg DCB-Equiv.] | C9: 0.031552708
B10: CML2001 - Nov. 2010, Global Warming Potential (GWP 100 years) [kg CO2-Equiv.] | C10: 0.63055183
B11: CML2001 - Nov. 2010, Global Warming Potential, excl biogenic carbon (GWP 100 years) [kg CO2-Equiv.] | C11: 0.63080205
B12: CML2001 - Nov. 2010, Human Toxicity Potential (HTP inf.) [kg DCB-Equiv.] | C12: 0.045679537
B13: CML2001 - Nov. 2010, Marine Aquatic Ecotoxicity Pot. (MAETP inf.) [kg DCB-Equiv.] | C13: 154.79879
B14: CML2001 - Nov. 2010, Ozone Layer Depletion Potential (ODP, steady state) [kg R11-Equiv.] | C14: 8.2827212e-08
B15: CML2001 - Nov. 2010, Photochem. Ozone Creation Potential (POCP) [kg Ethene-Equiv.] | C15: 0.00013881553
B16: CML2001 - Nov. 2010, Terrestric Ecotoxicity Potential (TETP inf.) [kg DCB-Equiv.] | C16: 0.00053727727
A19: Impact 2002+ | B19: Impact 2002+ | C19: 0
B20: I02+ v2.1 - Aquatic acidification - Midpoint [kg SO2-Eq. to air] | C20: 0.00081900668
B21: I02+ v2.1 - Aquatic ecotoxicity - Midpoint [kg TEG-Eq. to water] | C21: 449.61814
B22: I02+ v2.1 - Aquatic eutrophication - Midpoint [kg PO4-Eq. to water] | C22: 0.00014211363
B23: I02+ v2.1 - Carcinogens - Midpoint [kg C2H3Cl-Eq. to air] | C23: 0.00040033582
B24: I02+ v2.1 - Global warming 500yr - Midpoint [kg CO2-Eq. to air] | C24: 0.60391342
B25: I02+ v2.1 - Ionizing radiation - Midpoint [Bq C-14-Eq. to air] | C25: 6.1198113
B26: I02+ v2.1 - Non-carcinogens - Midpoint [kg C2H3Cl-Eq. to air] | C26: 0.0049319027
B27: I02+ v2.1 - Ozone layer depletion - Midpoint [kg CFC-11-Eq. to air] | C27: 8.2827212e-08
B28: I02+ v2.1 - Photochemical oxidation - Midpoint [kg C2H4-Eq. to air] | C28: 0.00010372352
B29: I02+ v2.1 - Respiratory effects - Midpoint [kg PM2.5-Eq. to air] | C29: 0.00019262855
B30: I02+ v2.1 - Terrestrial acidification/nutrification - Midpoint [kg SO2-Eq. to air] | C30: 0.0043347925
B31: I02+ v2.1 - Terrestrial ecotoxicity - Midpoint [kg TEG-Eq. to soil] | C31: 0.47903297
A33: ReCiPe 1.07 | B33: ReCiPe 1.07 | C33: 0
B34: ReCiPe 1.07 Endpoint (H) - Agricultural land occupation [species.yr] | C34: 2.5742059e-11
B35: ReCiPe 1.07 Endpoint (H) - Climate change Ecosystems [species.yr] | C35: 5.0012879e-09
B36: ReCiPe 1.07 Endpoint (H) - Climate change Human Health [DALY] | C36: 8.8306886e-07
B37: ReCiPe 1.07 Endpoint (H) - Fossil depletion [$] | C37: 0.037406442
B38: ReCiPe 1.07 Endpoint (H) - Freshwater ecotoxicity [species.yr] | C38: 6.4624575e-13
B39: ReCiPe 1.07 Endpoint (H) - Freshwater eutrophication [species.yr] | C39: 2.0810792e-12
B40: ReCiPe 1.07 Endpoint (H) - Human toxicity [DALY] | C40: 4.7411963e-09
B41: ReCiPe 1.07 Endpoint (H) - Ionising radiation [DALY] | C41: 3.350132e-07
B42: ReCiPe 1.07 Endpoint (H) - Marine ecotoxicity [species.yr] | C42: 1.5396353e-13
B43: ReCiPe 1.07 Endpoint (H) - Metal depletion [$] | C43: 0.00018565104
B44: ReCiPe 1.07 Endpoint (H) - Natural land transformation [species.yr] | C44: 1.3933518e-10
B45: ReCiPe 1.07 Endpoint (H) - Ozone depletion [DALY] | C45: 2.2012011e-10
... B68: ReCiPe 1.07 Midpoint (H) - Water depletion [m3] | C68: 0.80889769
A70: TRACI 2.1 | B70: TRACI 2.1 | C70: 0
B71: TRACI 2.1, Acidification Air [kg SO2-Equiv.] | C71: 0.0012664249
B72: TRACI 2.1, Acidification Water [kg SO2-Equiv.] | C72: 1.5467334e-07
B73: TRACI 2.1, Ecotoxicity (recommended) [CTUeco] | C73: 8.8674339e-05
B74: TRACI 2.1, Eutrophication Air [kg N-Equiv.] | C74: 2.8597044e-05
B75: TRACI 2.1, Eutrophication Water [kg N-Equiv.] | C75: 0.0003598996
B76: TRACI 2.1, Global Warming Air [kg CO2-Equiv.] | C76: 0.63056698
B77: TRACI 2.1, Human Health Particulate Air [kg PM2,5-Equiv.] | C77: 0.00012692779
B78: TRACI 2.1, Human toxicity, cancer (recommended) [CTUh] | C78: 1.4982193e-11
B79: TRACI 2.1, Human toxicity, non-canc. (recommended) [CTUh] | C79: 3.1525676e-12
B80: TRACI 2.1, Ozone Depletion Air [kg CFC 11-Equiv.] | C80: 9.7873449e-08
B81: TRACI 2.1, Resources, Fossil fuels [MJ surplus energy] | C81: 1.3386662
B82: TRACI 2.1, Smog Air [kg O3-Equiv.] | C82: 0.016347444

Sheet 4. Apple Juice Conc
C3: 4. Apple Juice Concentrate
A4: CML 2001 - Nov. 2010 | B4: CML 2001 - Nov. 2010 | C4: 0
B5: CML2001 - Nov. 2010, Abiotic Depletion (ADP elements) [kg Sb-Equiv.] | C5: 3.0394643e-08
B6: CML2001 - Nov. 2010, Abiotic Depletion (ADP fossil) [MJ] | C6: 9.3419378
B7: CML2001 - Nov. 2010, Acidification Potential (AP) [kg SO2-Equiv.] | C7: 0.0033429764
B8: CML2001 - Nov. 2010, Eutrophication Potential (EP) [kg Phosphate-Equiv.] | C8: 0.0019149251
B9: CML2001 - Nov. 2010, Freshwater Aquatic Ecotoxicity Pot. (FAETP inf.) [kg DCB-Equiv.] | C9: 0.33752784
B10: CML2001 - Nov. 2010, Global Warming Potential (GWP 100 years) [kg CO2-Equiv.] | C10: 0.74663757
B11: CML2001 - Nov. 2010, Global Warming Potential, excl biogenic carbon (GWP 100 years) [kg CO2-Equiv.] | C11: 0.74864401
B12: CML2001 - Nov. 2010, Human Toxicity Potential (HTP inf.) [kg DCB-Equiv.] | C12: 0.27533239
B13: CML2001 - Nov. 2010, Marine Aquatic Ecotoxicity Pot. (MAETP inf.) [kg DCB-Equiv.] | C13: 1168.1464
B14: CML2001 - Nov. 2010, Ozone Layer Depletion Potential (ODP, steady state) [kg R11-Equiv.] | C14: 3.664485e-08
B15: CML2001 - Nov. 2010, Photochem. Ozone Creation Potential (POCP) [kg Ethene-Equiv.] | C15: 0.00019476607
B16: CML2001 - Nov. 2010, Terrestric Ecotoxicity Potential (TETP inf.) [kg DCB-Equiv.] | C16: 0.0015504015
A19: Impact 2002+ | B19: Impact 2002+ | C19: 0
B20: I02+ v2.1 - Aquatic acidification - Midpoint [kg SO2-Eq. to air] | C20: 0.0024089408
B21: I02+ v2.1 - Aquatic ecotoxicity - Midpoint [kg TEG-Eq. to water] | C21: 6258.812
B22: I02+ v2.1 - Aquatic eutrophication - Midpoint [kg PO4-Eq. to water] | C22: 0.0017250935
B23: I02+ v2.1 - Carcinogens - Midpoint [kg C2H3Cl-Eq. to air] | C23: 0.003224243
B24: I02+ v2.1 - Global warming 500yr - Midpoint [kg CO2-Eq. to air] | C24: 0.71504631
B25: I02+ v2.1 - Ionizing radiation - Midpoint [Bq C-14-Eq. to air] | C25: 1.5291854
B26: I02+ v2.1 - Non-carcinogens - Midpoint [kg C2H3Cl-Eq. to air] | C26: 0.045244021
B27: I02+ v2.1 - Ozone layer depletion - Midpoint [kg CFC-11-Eq. to air] | C27: 3.664485e-08
B28: I02+ v2.1 - Photochemical oxidation - Midpoint [kg C2H4-Eq. to air] | C28: 6.6333483e-05
B29: I02+ v2.1 - Respiratory effects - Midpoint [kg PM2.5-Eq. to air] | C29: 0.00044817382
B30: I02+ v2.1 - Terrestrial acidification/nutrification - Midpoint [kg SO2-Eq. to air] | C30: 0.0077095793
B31: I02+ v2.1 - Terrestrial ecotoxicity - Midpoint [kg TEG-Eq. to soil] | C31: 0.76953653
A33: ReCiPe 1.07 | B33: ReCiPe 1.07 | C33: 0
B34: ReCiPe 1.07 Endpoint (H) - Agricultural land occupation [species.yr] | C34: 1.3318653e-10
B35: ReCiPe 1.07 Endpoint (H) - Climate change Ecosystems [species.yr] | C35: 5.9355892e-09
B36: ReCiPe 1.07 Endpoint (H) - Climate change Human Health [DALY] | C36: 1.0480368e-06
B37: ReCiPe 1.07 Endpoint (H) - Fossil depletion [$] | C37: 0.036068386
B38: ReCiPe 1.07 Endpoint (H) - Freshwater ecotoxicity [species.yr] | C38: 7.2437952e-12
B39: ReCiPe 1.07 Endpoint (H) - Freshwater eutrophication [species.yr] | C39: 2.5271841e-11
B40: ReCiPe 1.07 Endpoint (H) - Human toxicity [DALY] | C40: 2.1602851e-08
B41: ReCiPe 1.07 Endpoint (H) - Ionising radiation [DALY] | C41: 8.0230129e-08
B42: ReCiPe 1.07 Endpoint (H) - Marine ecotoxicity [species.yr] | C42: 1.446414e-12
B43: ReCiPe 1.07 Endpoint (H) - Metal depletion [$] | C43: 0.00015922279
B44: ReCiPe 1.07 Endpoint (H) - Natural land transformation [species.yr] | C44: 8.4990915e-11
B45: ReCiPe 1.07 Endpoint (H) - Ozone depletion [DALY] | C45: 9.7583341e-11
... B68: ReCiPe 1.07 Midpoint (H) - Water depletion [m3] | C68: 0.52537487
A70: TRACI 2.1 | B70: TRACI 2.1 | C70: 0
B71: TRACI 2.1, Acidification Air [kg SO2-Equiv.] | C71: 0.0030942978
B72: TRACI 2.1, Acidification Water [kg SO2-Equiv.] | C72: 3.0756061e-07
B73: TRACI 2.1, Ecotoxicity (recommended) [CTUeco] | C73: 7.4129385e-05
B74: TRACI 2.1, Eutrophication Air [kg N-Equiv.] | C74: 4.3652531e-05
B75: TRACI 2.1, Eutrophication Water [kg N-Equiv.] | C75: 0.0042372012
B76: TRACI 2.1, Global Warming Air [kg CO2-Equiv.] | C76: 0.74850129
B77: TRACI 2.1, Human Health Particulate Air [kg PM2,5-Equiv.] | C77: 0.00039576594
B78: TRACI 2.1, Human toxicity, cancer (recommended) [CTUh] | C78: 1.2223262e-11
B79: TRACI 2.1, Human toxicity, non-canc. (recommended) [CTUh] | C79: 3.8498695e-12
B80: TRACI 2.1, Ozone Depletion Air [kg CFC 11-Equiv.] | C80: 4.339415e-08
B81: TRACI 2.1, Resources, Fossil fuels [MJ surplus energy] | C81: 0.61542782
B82: TRACI 2.1, Smog Air [kg O3-Equiv.] | C82: 0.024613528

Sheet 5. Apple liquid flavour
C3: 5. Apple liquid flavour
A4: CML 2001 - Nov. 2010 | B4: CML 2001 - Nov. 2010 | C4: 0
B5: CML2001 - Nov. 2010, Abiotic Depletion (ADP elements) [kg Sb-Equiv.] | C5: 1.4749396e-08
B6: CML2001 - Nov. 2010, Abiotic Depletion (ADP fossil) [MJ] | C6: 4.1964041
B7: CML2001 - Nov. 2010, Acidification Potential (AP) [kg SO2-Equiv.] | C7: 0.00024086619
B8: CML2001 - Nov. 2010, Eutrophication Potential (EP) [kg Phosphate-Equiv.] | C8: 0.00028011804
B9: CML2001 - Nov. 2010, Freshwater Aquatic Ecotoxicity Pot. (FAETP inf.) [kg DCB-Equiv.] | C9: 0.041191302
B10: CML2001 - Nov. 2010, Global Warming Potential (GWP 100 years) [kg CO2-Equiv.] | C10: 0.26626018
B11: CML2001 - Nov. 2010, Global Warming Potential, excl biogenic carbon (GWP 100 years) [kg CO2-Equiv.] | C11: 0.26640378
B12: CML2001 - Nov. 2010, Human Toxicity Potential (HTP inf.) [kg DCB-Equiv.] | C12: 0.03162416
B13: CML2001 - Nov. 2010, Marine Aquatic Ecotoxicity Pot. (MAETP inf.) [kg DCB-Equiv.] | C13: 108.18644
B14: CML2001 - Nov. 2010, Ozone Layer Depletion Potential (ODP, steady state) [kg R11-Equiv.] | C14: 3.1876713e-08
B15: CML2001 - Nov. 2010, Photochem. Ozone Creation Potential (POCP) [kg Ethene-Equiv.] | C15: 4.3490408e-05
B16: CML2001 - Nov. 2010, Terrestric Ecotoxicity Potential (TETP inf.) [kg DCB-Equiv.] | C16: 0.00020496204
A19: Impact 2002+ | B19: Impact 2002+ | C19: 0
B20: I02+ v2.1 - Aquatic acidification - Midpoint [kg SO2-Eq. to air] | C20: 0.00012898714
B21: I02+ v2.1 - Aquatic ecotoxicity - Midpoint [kg TEG-Eq. to water] | C21: 436.33203
B22: I02+ v2.1 - Aquatic eutrophication - Midpoint [kg PO4-Eq. to water] | C22: 0.00024583497
B23: I02+ v2.1 - Carcinogens - Midpoint [kg C2H3Cl-Eq. to air] | C23: 0.00037057934
B24: I02+ v2.1 - Global warming 500yr - Midpoint [kg CO2-Eq. to air] | C24: 0.25499022
B25: I02+ v2.1 - Ionizing radiation - Midpoint [Bq C-14-Eq. to air] | C25: 2.7741591
B26: I02+ v2.1 - Non-carcinogens - Midpoint [kg C2H3Cl-Eq. to air] | C26: 0.0048110025
B27: I02+ v2.1 - Ozone layer depletion - Midpoint [kg CFC-11-Eq. to air] | C27: 3.1876713e-08
B28: I02+ v2.1 - Photochemical oxidation - Midpoint [kg C2H4-Eq. to air] | C28: 4.0977783e-05
B29: I02+ v2.1 - Respiratory effects - Midpoint [kg PM2.5-Eq. to air] | C29: 4.2774436e-05
B30: I02+ v2.1 - Terrestrial acidification/nutrification - Midpoint [kg SO2-Eq. to air] | C30: 0.0011127379
B31: I02+ v2.1 - Terrestrial ecotoxicity - Midpoint [kg TEG-Eq. to soil] | C31: 0.14891701
A33: ReCiPe 1.07 | B33: ReCiPe 1.07 | C33: 0
B34: ReCiPe 1.07 Endpoint (H) - Agricultural land occupation [species.yr] | C34: 1.1070891e-11
B35: ReCiPe 1.07 Endpoint (H) - Climate change Ecosystems [species.yr] | C35: 2.1121613e-09
B36: ReCiPe 1.07 Endpoint (H) - Climate change Human Health [DALY] | C36: 3.7294065e-07
B37: ReCiPe 1.07 Endpoint (H) - Fossil depletion [$] | C37: 0.015174813
B38: ReCiPe 1.07 Endpoint (H) - Freshwater ecotoxicity [species.yr] | C38: 9.467155e-13
B39: ReCiPe 1.07 Endpoint (H) - Freshwater eutrophication [species.yr] | C39: 3.6012521e-12
B40: ReCiPe 1.07 Endpoint (H) - Human toxicity [DALY] | C40: 2.1480464e-09
B41: ReCiPe 1.07 Endpoint (H) - Ionising radiation [DALY] | C41: 1.005734e-07
B42: ReCiPe 1.07 Endpoint (H) - Marine ecotoxicity [species.yr] | C42: 1.9612126e-13
B43: ReCiPe 1.07 Endpoint (H) - Metal depletion [$] | C43: 7.369568e-05
B44: ReCiPe 1.07 Endpoint (H) - Natural land transformation [species.yr] | C44: 5.0562958e-11
B45: ReCiPe 1.07 Endpoint (H) - Ozone depletion [DALY] | C45: 8.3786834e-11
... B68: ReCiPe 1.07 Midpoint (H) - Water depletion [m3] | C68: 0.18158679
A70: TRACI 2.1 | B70: TRACI 2.1 | C70: 0
B71: TRACI 2.1, Acidification Air [kg SO2-Equiv.] | C71: 0.00025366116
B72: TRACI 2.1, Acidification Water [kg SO2-Equiv.] | C72: 6.3069071e-08
B73: TRACI 2.1, Ecotoxicity (recommended) [CTUeco] | C73: 2.9417889e-05
B74: TRACI 2.1, Eutrophication Air [kg N-Equiv.] | C74: 8.0113409e-06
B75: TRACI 2.1, Eutrophication Water [kg N-Equiv.] | C75: 0.00060523593
B76: TRACI 2.1, Global Warming Air [kg CO2-Equiv.] | C76: 0.26630504
B77: TRACI 2.1, Human Health Particulate Air [kg PM2,5-Equiv.] | C77: 3.1665843e-05
B78: TRACI 2.1, Human toxicity, cancer (recommended) [CTUh] | C78: 5.5039663e-12
B79: TRACI 2.1, Human toxicity, non-canc. (recommended) [CTUh] | C79: 1.3687884e-12
B80: TRACI 2.1, Ozone Depletion Air [kg CFC 11-Equiv.] | C80: 3.7462591e-08
B81: TRACI 2.1, Resources, Fossil fuels [MJ surplus energy] | C81: 0.49708172
B82: TRACI 2.1, Smog Air [kg O3-Equiv.] | C82: 0.0046128628

Sheet 6. Biscuit Shortcake
C3: 6. Biscuit shortcake
A4: CML 2001 - Nov. 2010 | B4: CML 2001 - Nov. 2010 | C4: 0
B5: CML2001 - Nov. 2010, Abiotic Depletion (ADP elements) [kg Sb-Equiv.] | C5: 2.7077948e-08
B6: CML2001 - Nov. 2010, Abiotic Depletion (ADP fossil) [MJ] | C6: 6.915976
B7: CML2001 - Nov. 2010, Acidification Potential (AP) [kg SO2-Equiv.] | C7: 0.0012693859
B8: CML2001 - Nov. 2010, Eutrophication Potential (EP) [kg Phosphate-Equiv.] | C8: 0.00042304507
B9: CML2001 - Nov. 2010, Freshwater Aquatic Ecotoxicity Pot. (FAETP inf.) [kg DCB-Equiv.] | C9: 0.062684089
B10: CML2001 - Nov. 2010, Global Warming Potential (GWP 100 years) [kg CO2-Equiv.] | C10: 0.41304532
B11: CML2001 - Nov. 2010, Global Warming Potential, excl biogenic carbon (GWP 100 years) [kg CO2-Equiv.] | C11: 0.41396005
B12: CML2001 - Nov. 2010, Human Toxicity Potential (HTP inf.) [kg DCB-Equiv.] | C12: 0.076966322
B13: CML2001 - Nov. 2010, Marine Aquatic Ecotoxicity Pot. (MAETP inf.) [kg DCB-Equiv.] | C13: 327.16692
B14: CML2001 - Nov. 2010, Ozone Layer Depletion Potential (ODP, steady state) [kg R11-Equiv.] | C14: 1.7527036e-08
B15: CML2001 - Nov. 2010, Photochem. Ozone Creation Potential (POCP) [kg Ethene-Equiv.] | C15: 8.7447113e-05
B16: CML2001 - Nov. 2010, Terrestric Ecotoxicity Potential (TETP inf.) [kg DCB-Equiv.] | C16: 0.00059802195
A19: Impact 2002+ | B19: Impact 2002+ | C19: 0
B20: I02+ v2.1 - Aquatic acidification - Midpoint [kg SO2-Eq. to air] | C20: 0.00080055716
B21: I02+ v2.1 - Aquatic ecotoxicity - Midpoint [kg TEG-Eq. to water] | C21: 614.99453
B22: I02+ v2.1 - Aquatic eutrophication - Midpoint [kg PO4-Eq. to water] | C22: 0.00030684262
B23: I02+ v2.1 - Carcinogens - Midpoint [kg C2H3Cl-Eq. to air] | C23: 0.00086423684
B24: I02+ v2.1 - Global warming 500yr - Midpoint [kg CO2-Eq. to air] | C24: 0.39633313
B25: I02+ v2.1 - Ionizing radiation - Midpoint [Bq C-14-Eq. to air] | C25: 16.253683
B26: I02+ v2.1 - Non-carcinogens - Midpoint [kg C2H3Cl-Eq. to air] | C26: 0.0096418621
B27: I02+ v2.1 - Ozone layer depletion - Midpoint [kg CFC-11-Eq. to air] | C27: 1.7527036e-08
B28: I02+ v2.1 - Photochemical oxidation - Midpoint [kg C2H4-Eq. to air] | C28: 3.6264552e-05
B29: I02+ v2.1 - Respiratory effects - Midpoint [kg PM2.5-Eq. to air] | C29: 0.0002089968
B30: I02+ v2.1 - Terrestrial acidification/nutrification - Midpoint [kg SO2-Eq. to air] | C30: 0.0044138529
B31: I02+ v2.1 - Terrestrial ecotoxicity - Midpoint [kg TEG-Eq. to soil] | C31: 0.51333199
A33: ReCiPe 1.07 | B33: ReCiPe 1.07 | C33: 0
B34: ReCiPe 1.07 Endpoint (H) - Agricultural land occupation [species.yr] | C34: 7.8122206e-11
B35: ReCiPe 1.07 Endpoint (H) - Climate change Ecosystems [species.yr] | C35: 3.2820325e-09
B36: ReCiPe 1.07 Endpoint (H) - Climate change Human Health [DALY] | C36: 5.7950216e-07
B37: ReCiPe 1.07 Endpoint (H) - Fossil depletion [$] | C37: 0.020607227
B38: ReCiPe 1.07 Endpoint (H) - Freshwater ecotoxicity [species.yr] | C38: 1.3295501e-12
B39: ReCiPe 1.07 Endpoint (H) - Freshwater eutrophication [species.yr] | C39: 4.4934289e-12
B40: ReCiPe 1.07 Endpoint (H) - Human toxicity [DALY] | C40: 7.6785654e-09
B41: ReCiPe 1.07 Endpoint (H) - Ionising radiation [DALY] | C41: 8.9130285e-07
B42: ReCiPe 1.07 Endpoint (H) - Marine ecotoxicity [species.yr] | C42: 2.9038727e-13
B43: ReCiPe 1.07 Endpoint (H) - Metal depletion [$] | C43: 0.00012286083
B44: ReCiPe 1.07 Endpoint (H) - Natural land transformation [species.yr] | C44: 4.6019311e-11
B45: ReCiPe 1.07 Endpoint (H) - Ozone depletion [DALY] | C45: 4.4811014e-11
... B68: ReCiPe 1.07 Midpoint (H) - Water depletion [m3] | C68: 0.51615492
A70: TRACI 2.1 | B70: TRACI 2.1 | C70: 0
B71: TRACI 2.1, Acidification Air [kg SO2-Equiv.] | C71: 0.0012499016
B72: TRACI 2.1, Acidification Water [kg SO2-Equiv.] | C72: 3.9695609e-07
B73: TRACI 2.1, Ecotoxicity (recommended) [CTUeco] | C73: 7.9013588e-05
B74: TRACI 2.1, Eutrophication Air [kg N-Equiv.] | C74: 2.9474915e-05
B75: TRACI 2.1, Eutrophication Water [kg N-Equiv.] | C75: 0.00076965414
B76: TRACI 2.1, Global Warming Air [kg CO2-Equiv.] | C76: 0.41389843
B77: TRACI 2.1, Human Health Particulate Air [kg PM2,5-Equiv.] | C77: 0.00019111818
B78: TRACI 2.1, Human toxicity, cancer (recommended) [CTUh] | C78: 6.5714743e-12
B79: TRACI 2.1, Human toxicity, non-canc. (recommended) [CTUh] | C79: 2.9113171e-12
B80: TRACI 2.1, Ozone Depletion Air [kg CFC 11-Equiv.] | C80: 2.0742989e-08
B81: TRACI 2.1, Resources, Fossil fuels [MJ surplus energy] | C81: 0.47645479
B82: TRACI 2.1, Smog Air [kg O3-Equiv.] | C82: 0.016110695

Sheet 7. Blackcurrant liq flav
C3: 7. Blackcurrant liquid flavour
A4: CML 2001 - Nov. 2010 | B4: CML 2001 - Nov. 2010 | C4: 0
B5: CML2001 - Nov. 2010, Abiotic Depletion (ADP elements) [kg Sb-Equiv.] | C5: 5.1077683e-08
B6: CML2001 - Nov. 2010, Abiotic Depletion (ADP fossil) [MJ] | C6: 11.890272
B7: CML2001 - Nov. 2010, Acidification Potential (AP) [kg SO2-Equiv.] | C7: 0.0008253775
B8: CML2001 - Nov. 2010, Eutrophication Potential (EP) [kg Phosphate-Equiv.] | C8: 0.0016230824
B9: CML2001 - Nov. 2010, Freshwater Aquatic Ecotoxicity Pot. (FAETP inf.) [kg DCB-Equiv.] | C9: 0.24748237
B10: CML2001 - Nov. 2010, Global Warming Potential (GWP 100 years) [kg CO2-Equiv.] | C10: 0.74619045
B11: CML2001 - Nov. 2010, Global Warming Potential, excl biogenic carbon (GWP 100 years) [kg CO2-Equiv.] | C11: 0.74706191
B12: CML2001 - Nov. 2010, Human Toxicity Potential (HTP inf.) [kg DCB-Equiv.] | C12: 0.17795488
B13: CML2001 - Nov. 2010, Marine Aquatic Ecotoxicity Pot. (MAETP inf.) [kg DCB-Equiv.] | C13: 652.22085
B14: CML2001 - Nov. 2010, Ozone Layer Depletion Potential (ODP, steady state) [kg R11-Equiv.] | C14: 6.7233229e-08
B15: CML2001 - Nov. 2010, Photochem. Ozone Creation Potential (POCP) [kg Ethene-Equiv.] | C15: 0.00011371758
B16: CML2001 - Nov. 2010, Terrestric Ecotoxicity Potential (TETP inf.) [kg DCB-Equiv.] | C16: 0.00086167207
A19: Impact 2002+ | B19: Impact 2002+ | C19: 0
B20: I02+ v2.1 - Aquatic acidification - Midpoint [kg SO2-Eq. to air] | C20: 0.00046445437
B21: I02+ v2.1 - Aquatic ecotoxicity - Midpoint [kg TEG-Eq. to water] | C21: 2610.3518
B22: I02+ v2.1 - Aquatic eutrophication - Midpoint [kg PO4-Eq. to water] | C22: 0.0014894693
B23: I02+ v2.1 - Carcinogens - Midpoint [kg C2H3Cl-Eq. to air] | C23: 0.0021859842
B24: I02+ v2.1 - Global warming 500yr - Midpoint [kg CO2-Eq. to air] | C24: 0.71502222
B25: I02+ v2.1 - Ionizing radiation - Midpoint [Bq C-14-Eq. to air] | C25: 18.313577
B26: I02+ v2.1 - Non-carcinogens - Midpoint [kg C2H3Cl-Eq. to air] | C26: 0.028517427
B27: I02+ v2.1 - Ozone layer depletion - Midpoint [kg CFC-11-Eq. to air] | C27: 6.7233229e-08
B28: I02+ v2.1 - Photochemical oxidation - Midpoint [kg C2H4-Eq. to air] | C28: 9.5191992e-05
B29: I02+ v2.1 - Respiratory effects - Midpoint [kg PM2.5-Eq. to air] | C29: 0.00015452421
B30: I02+ v2.1 - Terrestrial acidification/nutrification - Midpoint [kg SO2-Eq. to air] | C30: 0.0035813407
B31: I02+ v2.1 - Terrestrial ecotoxicity - Midpoint [kg TEG-Eq. to soil] | C31: 0.54447203
A33: ReCiPe 1.07 | B33: ReCiPe 1.07 | C33: 0
B34: ReCiPe 1.07 Endpoint (H) - Agricultural land occupation [species.yr] | C34: 6.6564497e-11
B35: ReCiPe 1.07 Endpoint (H) - Climate change Ecosystems [species.yr] | C35: 5.9225969e-09
B36: ReCiPe 1.07 Endpoint (H) - Climate change Human Health [DALY] | C36: 1.0457421e-06
B37: ReCiPe 1.07 Endpoint (H) - Fossil depletion [$] | C37: 0.038217918
B38: ReCiPe 1.07 Endpoint (H) - Freshwater ecotoxicity [species.yr] | C38: 5.6969212e-12
B39: ReCiPe 1.07 Endpoint (H) - Freshwater eutrophication [species.yr] | C39: 2.1819287e-11
B40: ReCiPe 1.07 Endpoint (H) - Human toxicity [DALY] | C40: 1.0799752e-08
B41: ReCiPe 1.07 Endpoint (H) - Ionising radiation [DALY] | C41: 7.0711123e-07
B42: ReCiPe 1.07 Endpoint (H) - Marine ecotoxicity [species.yr] | C42: 1.1444844e-12
B43: ReCiPe 1.07 Endpoint (H) - Metal depletion [$] | C43: 0.00023014446
B44: ReCiPe 1.07 Endpoint (H) - Natural land transformation [species.yr] | C44: 1.1455269e-10
B45: ReCiPe 1.07 Endpoint (H) - Ozone depletion [DALY] | C45: 1.7187208e-10
... B68: ReCiPe 1.07 Midpoint (H) - Water depletion [m3] | C68: 1.2965979
A70: TRACI 2.1 | B70: TRACI 2.1 | C70: 0
B71: TRACI 2.1, Acidification Air [kg SO2-Equiv.] | C71: 0.00085550438
B72: TRACI 2.1, Acidification Water [kg SO2-Equiv.] | C72: 2.4946007e-07
B73: TRACI 2.1, Ecotoxicity (recommended) [CTUeco] | C73: 9.7876895e-05
B74: TRACI 2.1, Eutrophication Air [kg N-Equiv.] | C74: 2.544083e-05
B75: TRACI 2.1, Eutrophication Water [kg N-Equiv.] | C75: 0.0036614881
B76: TRACI 2.1, Global Warming Air [kg CO2-Equiv.] | C76: 0.74647593
B77: TRACI 2.1, Human Health Particulate Air [kg PM2,5-Equiv.] | C77: 0.00014939486
B78: TRACI 2.1, Human toxicity, cancer (recommended) [CTUh] | C78: 1.3805437e-11
B79: TRACI 2.1, Human toxicity, non-canc. (recommended) [CTUh] | C79: 4.8550133e-12
B80: TRACI 2.1, Ozone Depletion Air [kg CFC 11-Equiv.] | C80: 7.8549577e-08
B81: TRACI 2.1, Resources, Fossil fuels [MJ surplus energy] | C81: 0.96338614
B82: TRACI 2.1, Smog Air [kg O3-Equiv.] | C82: 0.014319324

Sheet 8. Blackcurrant liq flav
C3: 8. Blackcurrant liquid flavour
A4: CML 2001 - Nov. 2010 | B4: CML 2001 - Nov. 2010 | C4: 0
B5: CML2001 - Nov. 2010, Abiotic Depletion (ADP elements) [kg Sb-Equiv.] | C5: 1.4647108e-08
B6: CML2001 - Nov. 2010, Abiotic Depletion (ADP fossil) [MJ] | C6: 4.186386
B7: CML2001 - Nov. 2010, Acidification Potential (AP) [kg SO2-Equiv.] | C7: 0.00024208245
B8: CML2001 - Nov. 2010, Eutrophication Potential (EP) [kg Phosphate-Equiv.] | C8: 0.00026984365
B9: CML2001 - Nov. 2010, Freshwater Aquatic Ecotoxicity Pot. (FAETP inf.) [kg DCB-Equiv.] | C9: 0.039666159
B10: CML2001 - Nov. 2010, Global Warming Potential (GWP 100 years) [kg CO2-Equiv.] | C10: 0.26412393
B11: CML2001 - Nov. 2010, Global Warming Potential, excl biogenic carbon (GWP 100 years) [kg CO2-Equiv.] | C11: 0.2642619
B12: CML2001 - Nov. 2010, Human Toxicity Potential (HTP inf.) [kg DCB-Equiv.] | C12: 0.030842206
B13: CML2001 - Nov. 2010, Marine Aquatic Ecotoxicity Pot. (MAETP inf.) [kg DCB-Equiv.] | C13: 104.54673
B14: CML2001 - Nov. 2010, Ozone Layer Depletion Potential (ODP, steady state) [kg R11-Equiv.] | C14: 3.1803461e-08
B15: CML2001 - Nov. 2010, Photochem. Ozone Creation Potential (POCP) [kg Ethene-Equiv.] | C15: 4.343e-05
B16: CML2001 - Nov. 2010, Terrestric Ecotoxicity Potential (TETP inf.) [kg DCB-Equiv.] | C16: 0.00020265664
A19: Impact 2002+ | B19: Impact 2002+ | C19: 0
B20: I02+ v2.1 - Aquatic acidification - Midpoint [kg SO2-Eq. to air] | C20: 0.00012993859
B21: I02+ v2.1 - Aquatic ecotoxicity - Midpoint [kg TEG-Eq. to water] | C21: 417.12005
B22: I02+ v2.1 - Aquatic eutrophication - Midpoint [kg PO4-Eq. to water] | C22: 0.00023591907
B23: I02+ v2.1 - Carcinogens - Midpoint [kg C2H3Cl-Eq. to air] | C23: 0.00035986817
B24: I02+ v2.1 - Global warming 500yr - Midpoint [kg CO2-Eq. to air] | C24: 0.25295166
B25: I02+ v2.1 - Ionizing radiation - Midpoint [Bq C-14-Eq. to air] | C25: 2.9680165
B26: I02+ v2.1 - Non-carcinogens - Midpoint [kg C2H3Cl-Eq. to air] | C26: 0.0046566156
B27: I02+ v2.1 - Ozone layer depletion - Midpoint [kg CFC-11-Eq. to air] | C27: 3.1803461e-08
B28: I02+ v2.1 - Photochemical oxidation - Midpoint [kg C2H4-Eq. to air] | C28: 4.0845792e-05
B29: I02+ v2.1 - Respiratory effects - Midpoint [kg PM2.5-Eq. to air] | C29: 4.2876396e-05
B30: I02+ v2.1 - Terrestrial acidification/nutrification - Midpoint [kg SO2-Eq. to air] | C30: 0.0011135746
B31: I02+ v2.1 - Terrestrial ecotoxicity - Midpoint [kg TEG-Eq. to soil] | C31: 0.15015669
A33: ReCiPe 1.07 | B33: ReCiPe 1.07 | C33: 0
B34: ReCiPe 1.07 Endpoint (H) - Agricultural land occupation [species.yr] | C34: 1.0872276e-11
B35: ReCiPe 1.07 Endpoint (H) - Climate change Ecosystems [species.yr] | C35: 2.0951855e-09
B36: ReCiPe 1.07 Endpoint (H) - Climate change Human Health [DALY] | C36: 3.6994326e-07
B37: ReCiPe 1.07 Endpoint (H) - Fossil depletion [$] | C37: 0.015079393
B38: ReCiPe 1.07 Endpoint (H) - Freshwater ecotoxicity [species.yr] | C38: 9.1024831e-13
B39: ReCiPe 1.07 Endpoint (H) - Freshwater eutrophication [species.yr] | C39: 3.4559741e-12
B40: ReCiPe 1.07 Endpoint (H) - Human toxicity [DALY] | C40: 2.10788e-09
B41: ReCiPe 1.07 Endpoint (H) - Ionising radiation [DALY] | C41: 1.1721869e-07
B42: ReCiPe 1.07 Endpoint (H) - Marine ecotoxicity [species.yr] | C42: 1.8897091e-13
B43: ReCiPe 1.07 Endpoint (H) - Metal depletion [$] | C43: 7.3631683e-05
B44: ReCiPe 1.07 Endpoint (H) - Natural land transformation [species.yr] | C44: 5.0410957e-11
B45: ReCiPe 1.07 Endpoint (H) - Ozone depletion [DALY] | C45: 8.3664602e-11
... B68: ReCiPe 1.07 Midpoint (H) - Water depletion [m3] | C68: 0.21593076
A70: TRACI 2.1 | B70: TRACI 2.1 | C70: 0
B71: TRACI 2.1, Acidification Air [kg SO2-Equiv.] | C71: 0.00025465239
B72: TRACI 2.1, Acidification Water [kg SO2-Equiv.] | C72: 6.2397004e-08
B73: TRACI 2.1, Ecotoxicity (recommended) [CTUeco] | C73: 2.9134326e-05
B74: TRACI 2.1, Eutrophication Air [kg N-Equiv.] | C74: 8.0096628e-06
B75: TRACI 2.1, Eutrophication Water [kg N-Equiv.] | C75: 0.00058088803
B76: TRACI 2.1, Global Warming Air [kg CO2-Equiv.] | C76: 0.2641677
B77: TRACI 2.1, Human Health Particulate Air [kg PM2,5-Equiv.] | C77: 3.142065e-05
B78: TRACI 2.1, Human toxicity, cancer (recommended) [CTUh] | C78: 5.4764431e-12
B79: TRACI 2.1, Human toxicity, non-canc. (recommended) [CTUh] | C79: 1.3572932e-12
B80: TRACI 2.1, Ozone Depletion Air [kg CFC 11-Equiv.] | C80: 3.7384675e-08
B81: TRACI 2.1, Resources, Fossil fuels [MJ surplus energy] | C81: 0.49673496
B82: TRACI 2.1, Smog Air [kg O3-Equiv.] | C82: 0.0046136341

Sheet 9. Blackcurrant liq flav
C3: 9. Blackcurrant liquid flavour
A4: CML 2001 - Nov. 2010 | B4: CML 2001 - Nov. 2010 | C4: 0
B5: CML2001 - Nov. 2010, Abiotic Depletion (ADP elements) [kg Sb-Equiv.] | C5: 7.4543492e-08
B6: CML2001 - Nov. 2010, Abiotic Depletion (ADP fossil) [MJ] | C6: 19.646631
B7: CML2001 - Nov. 2010, Acidification Potential (AP) [kg SO2-Equiv.] | C7: 0.0011518662
B8: CML2001 - Nov. 2010, Eutrophication Potential (EP) [kg Phosphate-Equiv.] | C8: 0.00048554769
B9: CML2001 - Nov. 2010, Freshwater Aquatic Ecotoxicity Pot. (FAETP inf.) [kg DCB-Equiv.] | C9: 0.078930846
B10: CML2001 - Nov. 2010, Global Warming Potential (GWP 100 years) [kg CO2-Equiv.] | C10: 0.83311355
B11: CML2001 - Nov. 2010, Global Warming Potential, excl biogenic carbon (GWP 100 years) [kg CO2-Equiv.] | C11: 0.83338672
B12: CML2001 - Nov. 2010, Human Toxicity Potential (HTP inf.) [kg DCB-Equiv.] | C12: 0.12608752
B13: CML2001 - Nov. 2010, Marine Aquatic Ecotoxicity Pot. (MAETP inf.) [kg DCB-Equiv.] | C13: 229.95495
B14: CML2001 - Nov. 2010, Ozone Layer Depletion Potential (ODP, steady state) [kg R11-Equiv.] | C14: 1.1884986e-07
B15: CML2001 - Nov. 2010, Photochem. Ozone Creation Potential (POCP) [kg Ethene-Equiv.] | C15: 0.00016257131
B16: CML2001 - Nov. 2010, Terrestric Ecotoxicity Potential (TETP inf.) [kg DCB-Equiv.] | C16: 0.0011345744
A19: Impact 2002+ | B19: Impact 2002+ | C19: 0
B20: I02+ v2.1 - Aquatic acidification - Midpoint [kg SO2-Eq. to air] | C20: 0.0006933516
B21: I02+ v2.1 - Aquatic ecotoxicity - Midpoint [kg TEG-Eq. to water] | C21: 1119.091
B22: I02+ v2.1 - Aquatic eutrophication - Midpoint [kg PO4-Eq. to water] | C22: 0.00037161597
B23: I02+ v2.1 - Carcinogens - Midpoint [kg C2H3Cl-Eq. to air] | C23: 0.0012481453
B24: I02+ v2.1 - Global warming 500yr - Midpoint [kg CO2-Eq. to air] | C24: 0.79766638
B25: I02+ v2.1 - Ionizing radiation - Midpoint [Bq C-14-Eq. to air] | C25: 72.23757
B26: I02+ v2.1 - Non-carcinogens - Midpoint [kg C2H3Cl-Eq. to air] | C26: 0.015059086
B27: I02+ v2.1 - Ozone layer depletion - Midpoint [kg CFC-11-Eq. to air] | C27: 1.1884986e-07
B28: I02+ v2.1 - Photochemical oxidation - Midpoint [kg C2H4-Eq. to air] | C28: 0.00014099199
B29: I02+ v2.1 - Respiratory effects - Midpoint [kg PM2.5-Eq. to air] | C29: 0.00020455887
B30: I02+ v2.1 - Terrestrial acidification/nutrification - Midpoint [kg SO2-Eq. to air] | C30: 0.0043314068
B31: I02+ v2.1 - Terrestrial ecotoxicity - Midpoint [kg TEG-Eq. to soil] | C31: 0.85017209
A33: ReCiPe 1.07 | B33: ReCiPe 1.07 | C33: 0
B34: ReCiPe 1.07 Endpoint (H) - Agricultural land occupation [species.yr] | C34: 2.8269265e-11
B35: ReCiPe 1.07 Endpoint (H) - Climate change Ecosystems [species.yr] | C35: 6.6073696e-09
B36: ReCiPe 1.07 Endpoint (H) - Climate change Human Health [DALY] | C36: 1.1666517e-06
B37: ReCiPe 1.07 Endpoint (H) - Fossil depletion [$] | C37: 0.049201755
B38: ReCiPe 1.07 Endpoint (H) - Freshwater ecotoxicity [species.yr] | C38: 1.6458641e-12
B39: ReCiPe 1.07 Endpoint (H) - Freshwater eutrophication [species.yr] | C39: 5.4424755e-12
B40: ReCiPe 1.07 Endpoint (H) - Human toxicity [DALY] | C40: 8.5648633e-09
B41: ReCiPe 1.07 Endpoint (H) - Ionising radiation [DALY] | C41: 4.2812421e-06
B42: ReCiPe 1.07 Endpoint (H) - Marine ecotoxicity [species.yr] | C42: 4.0961433e-13
B43: ReCiPe 1.07 Endpoint (H) - Metal depletion [$] | C43: 0.000383094
B44: ReCiPe 1.07 Endpoint (H) - Natural land transformation [species.yr] | C44: 1.8071339e-10
B45: ReCiPe 1.07 Endpoint (H) - Ozone depletion [DALY] | C45: 3.0662627e-10
... B68: ReCiPe 1.07 Midpoint (H) - Water depletion [m3] | C68: 8.0298731
A70: TRACI 2.1 | B70: TRACI 2.1 | C70: 0
B71: TRACI 2.1, Acidification Air [kg SO2-Equiv.] | C71: 0.0011559102
B72: TRACI 2.1, Acidification Water [kg SO2-Equiv.] | C72: 2.0877826e-07
B73: TRACI 2.1, Ecotoxicity (recommended) [CTUeco] | C73: 0.00011009145
B74: TRACI 2.1, Eutrophication Air [kg N-Equiv.] | C74: 2.9643149e-05
B75: TRACI 2.1, Eutrophication Water [kg N-Equiv.] | C75: 0.00092472175
B76: TRACI 2.1, Global Warming Air [kg CO2-Equiv.] | C76: 0.83290026
B77: TRACI 2.1, Human Health Particulate Air [kg PM2,5-Equiv.] | C77: 0.00015941738
B78: TRACI 2.1, Human toxicity, cancer (recommended) [CTUh] | C78: 1.8848623e-11
B79: TRACI 2.1, Human toxicity, non-canc. (recommended) [CTUh] | C79: 5.8429226e-12
B80: TRACI 2.1, Ozone Depletion Air [kg CFC 11-Equiv.] | C80: 1.3912286e-07
B81: TRACI 2.1, Resources, Fossil fuels [MJ surplus energy] | C81: 1.7471679
B82: TRACI 2.1, Smog Air [kg O3-Equiv.] | C82: 0.017063732

Sheet 10. Polypropylene film
C3: 10. Polypropylene film
A4: CML 2001 - Nov. 2010 | B4: CML 2001 - Nov. 2010 | C4: 0
B5: CML2001 - Nov. 2010, Abiotic Depletion (ADP elements) [kg Sb-Equiv.] | C5: 8.6181458e-08
B6: CML2001 - Nov. 2010, Abiotic Depletion (ADP fossil) [MJ] | C6: 25.163411
B7: CML2001 - Nov. 2010, Acidification Potential (AP) [kg SO2-Equiv.] | C7: 0.0030125137
B8: CML2001 - Nov. 2010, Eutrophication Potential (EP) [kg Phosphate-Equiv.] | C8: 0.00091181191
B9: CML2001 - Nov. 2010, Freshwater Aquatic Ecotoxicity Pot. (FAETP inf.) [kg DCB-Equiv.] | C9: 0.12806532
B10: CML2001 - Nov. 2010, Global Warming Potential (GWP 100 years) [kg CO2-Equiv.] | C10: 1.5460927
B11: CML2001 - Nov. 2010, Global Warming Potential, excl biogenic carbon (GWP 100 years) [kg CO2-Equiv.] | C11: 1.5478637
B12: CML2001 - Nov. 2010, Human Toxicity Potential (HTP inf.) [kg DCB-Equiv.] | C12: 0.16488122
B13: CML2001 - Nov. 2010, Marine Aquatic Ecotoxicity Pot. (MAETP inf.) [kg DCB-Equiv.] | C13: 647.65411
B14: CML2001 - Nov. 2010, Ozone Layer Depletion Potential (ODP, steady state) [kg R11-Equiv.] | C14: 1.4210082e-07
B15: CML2001 - Nov. 2010, Photochem. Ozone Creation Potential (POCP) [kg Ethene-Equiv.] | C15: 0.00029860295
B16: CML2001 - Nov. 2010, Terrestric Ecotoxicity Potential (TETP inf.) [kg DCB-Equiv.] | C16: 0.0014994802
A19: Impact 2002+ | B19: Impact 2002+ | C19: 0
B20: I02+ v2.1 - Aquatic acidification - Midpoint [kg SO2-Eq. to air] | C20: 0.0018285373
B21: I02+ v2.1 - Aquatic ecotoxicity - Midpoint [kg TEG-Eq. to water] | C21: 1255.9897
B22: I02+ v2.1 - Aquatic eutrophication - Midpoint [kg PO4-Eq. to water] | C22: 0.00062171493
B23: I02+ v2.1 - Carcinogens - Midpoint [kg C2H3Cl-Eq. to air] | C23: 0.0017738255
B24: I02+ v2.1 - Global warming 500yr - Midpoint [kg CO2-Eq. to air] | C24: 1.4818404
B25: I02+ v2.1 - Ionizing radiation - Midpoint [Bq C-14-Eq. to air] | C25: 31.880307
B26: I02+ v2.1 - Non-carcinogens - Midpoint [kg C2H3Cl-Eq. to air] | C26: 0.019822263
B27: I02+ v2.1 - Ozone layer depletion - Midpoint [kg CFC-11-Eq. to air] | C27: 1.4210082e-07
B28: I02+ v2.1 - Photochemical oxidation - Midpoint [kg C2H4-Eq. to air] | C28: 0.00020195504
B29: I02+ v2.1 - Respiratory effects - Midpoint [kg PM2.5-Eq. to air] | C29: 0.00049676473
B30: I02+ v2.1 - Terrestrial acidification/nutrification - Midpoint [kg SO2-Eq. to air] | C30: 0.011296267
B31: I02+ v2.1 - Terrestrial ecotoxicity - Midpoint [kg TEG-Eq. to soil] | C31: 1.3186208
A33: ReCiPe 1.07 | B33: ReCiPe 1.07 | C33: 0
B34: ReCiPe 1.07 Endpoint (H) - Agricultural land occupation [species.yr] | C34: 1.5276521e-10
B35: ReCiPe 1.07 Endpoint (H) - Climate change Ecosystems [species.yr] | C35: 1.2272443e-08
B36: ReCiPe 1.07 Endpoint (H) - Climate change Human Health [DALY] | C36: 2.1669231e-06
B37: ReCiPe 1.07 Endpoint (H) - Fossil depletion [$] | C37: 0.085986154
B38: ReCiPe 1.07 Endpoint (H) - Freshwater ecotoxicity [species.yr] | C38: 2.7164753e-12
B39: ReCiPe 1.07 Endpoint (H) - Freshwater eutrophication [species.yr] | C39: 9.1045514e-12
B40: ReCiPe 1.07 Endpoint (H) - Human toxicity [DALY] | C40: 1.695896e-08
B41: ReCiPe 1.07 Endpoint (H) - Ionising radiation [DALY] | C41: 1.749115e-06
B42: ReCiPe 1.07 Endpoint (H) - Marine ecotoxicity [species.yr] | C42: 6.2119744e-13
B43: ReCiPe 1.07 Endpoint (H) - Metal depletion [$] | C43: 0.00042856712
B44: ReCiPe 1.07 Endpoint (H) - Natural land transformation [species.yr] | C44: 2.5394622e-10
B45: ReCiPe 1.07 Endpoint (H) - Ozone depletion [DALY] | C45: 3.7522639e-10
... B68: ReCiPe 1.07 Midpoint (H) - Water depletion [m3] | C68: 1.0714413
A70: TRACI 2.1 | B70: TRACI 2.1 | C70: 0
B71: TRACI 2.1, Acidification Air [kg SO2-Equiv.] | C71: 0.0030153451
B72: TRACI 2.1, Acidification Water [kg SO2-Equiv.] | C72: 8.81487e-07
B73: TRACI 2.1, Ecotoxicity (recommended) [CTUeco] | C73: 0.00022247536
B74: TRACI 2.1, Eutrophication Air [kg N-Equiv.] | C74: 7.7147853e-05
B75: TRACI 2.1, Eutrophication Water [kg N-Equiv.] | C75: 0.0015624895
B76: TRACI 2.1, Global Warming Air [kg CO2-Equiv.] | C76: 1.5477253
B77: TRACI 2.1, Human Health Particulate Air [kg PM2,5-Equiv.] | C77: 0.00040858311
B78: TRACI 2.1, Human toxicity, cancer (recommended) [CTUh] | C78: 2.953865e-11
B79: TRACI 2.1, Human toxicity, non-canc. (recommended) [CTUh] | C79: 8.6611685e-12
B80: TRACI 2.1, Ozone Depletion Air [kg CFC 11-Equiv.] | C80: 1.6768191e-07
B81: TRACI 2.1, Resources, Fossil fuels [MJ surplus energy] | C81: 2.675029
B82: TRACI 2.1, Smog Air [kg O3-Equiv.] | C82: 0.043038216

Sheet 11. Polypropylene film
C3: 11. Polypropylene film
A4: CML 2001 - Nov. 2010 | B4: CML 2001 - Nov. 2010 | C4: 0
B5: CML2001 - Nov. 2010, Abiotic Depletion (ADP elements) [kg Sb-Equiv.] | C5: 8.6181458e-08
B6: CML2001 - Nov. 2010, Abiotic Depletion (ADP fossil) [MJ] | C6: 25.163411
B7: CML2001 - Nov. 2010, Acidification Potential (AP) [kg SO2-Equiv.] | C7: 0.0030125137
B8: CML2001 - Nov. 2010, Eutrophication Potential (EP) [kg Phosphate-Equiv.] | C8: 0.00091181191
B9: CML2001 - Nov. 2010, Freshwater Aquatic Ecotoxicity Pot. (FAETP inf.) [kg DCB-Equiv.] | C9: 0.12806532
B10: CML2001 - Nov. 2010, Global Warming Potential (GWP 100 years) [kg CO2-Equiv.] | C10: 1.5460927
B11: CML2001 - Nov. 2010, Global Warming Potential, excl biogenic carbon (GWP 100 years) [kg CO2-Equiv.] | C11: 1.5478637
B12: CML2001 - Nov. 2010, Human Toxicity Potential (HTP inf.) [kg DCB-Equiv.] | C12: 0.16488122
B13: CML2001 - Nov. 2010, Marine Aquatic Ecotoxicity Pot. (MAETP inf.) [kg DCB-Equiv.] | C13: 647.65411
B14: CML2001 - Nov. 2010, Ozone Layer Depletion Potential (ODP, steady state) [kg R11-Equiv.] | C14: 1.4210082e-07
B15: CML2001 - Nov. 2010, Photochem. Ozone Creation Potential (POCP) [kg Ethene-Equiv.] | C15: 0.00029860295
B16: CML2001 - Nov. 2010, Terrestric Ecotoxicity Potential (TETP inf.) [kg DCB-Equiv.] | C16: 0.0014994802
A19: Impact 2002+ | B19: Impact 2002+ | C19: 0
B20: I02+ v2.1 - Aquatic acidification - Midpoint [kg SO2-Eq. to air] | C20: 0.0018285373
B21: I02+ v2.1 - Aquatic ecotoxicity - Midpoint [kg TEG-Eq. to water] | C21: 1255.9897
B22: I02+ v2.1 - Aquatic eutrophication - Midpoint [kg PO4-Eq. to water] | C22: 0.00062171493
B23: I02+ v2.1 - Carcinogens - Midpoint [kg C2H3Cl-Eq. to air] | C23: 0.0017738255
B24: I02+ v2.1 - Global warming 500yr - Midpoint [kg CO2-Eq. to air] | C24: 1.4818404
B25: I02+ v2.1 - Ionizing radiation - Midpoint [Bq C-14-Eq. to air] | C25: 31.880307
B26: I02+ v2.1 - Non-carcinogens - Midpoint [kg C2H3Cl-Eq. to air] | C26: 0.019822263
B27: I02+ v2.1 - Ozone layer depletion - Midpoint [kg CFC-11-Eq. to air] | C27: 1.4210082e-07
B28: I02+ v2.1 - Photochemical oxidation - Midpoint [kg C2H4-Eq. to air] | C28: 0.00020195504
B29: I02+ v2.1 - Respiratory effects - Midpoint [kg PM2.5-Eq. to air] | C29: 0.00049676473
B30: I02+ v2.1 - Terrestrial acidification/nutrification - Midpoint [kg SO2-Eq. to air] | C30: 0.011296267
B31: I02+ v2.1 - Terrestrial ecotoxicity - Midpoint [kg TEG-Eq. to soil] | C31: 1.3186208
A33: ReCiPe 1.07 | B33: ReCiPe 1.07 | C33: 0
B34: ReCiPe 1.07 Endpoint (H) - Agricultural land occupation [species.yr] | C34: 1.5276521e-10
B35: ReCiPe 1.07 Endpoint (H) - Climate change Ecosystems [species.yr] | C35: 1.2272443e-08
B36: ReCiPe 1.07 Endpoint (H) - Climate change Human Health [DALY] | C36: 2.1669231e-06
B37: ReCiPe 1.07 Endpoint (H) - Fossil depletion [$] | C37: 0.085986154
B38: ReCiPe 1.07 Endpoint (H) - Freshwater ecotoxicity [species.yr] | C38: 2.7164753e-12
B39: ReCiPe 1.07 Endpoint (H) - Freshwater eutrophication [species.yr] | C39: 9.1045514e-12
B40: ReCiPe 1.07 Endpoint (H) - Human toxicity [DALY] | C40: 1.695896e-08
B41: ReCiPe 1.07 Endpoint (H) - Ionising radiation [DALY] | C41: 1.749115e-06
B42: ReCiPe 1.07 Endpoint (H) - Marine ecotoxicity [species.yr] | C42: 6.2119744e-13
B43: ReCiPe 1.07 Endpoint (H) - Metal depletion [$] | C43: 0.00042856712
B44: ReCiPe 1.07 Endpoint (H) - Natural land transformation [species.yr] | C44: 2.5394622e-10
B45: ReCiPe 1.07 Endpoint (H) - Ozone depletion [DALY] | C45: 3.7522639e-10
... B68: ReCiPe 1.07 Midpoint (H) - Water depletion [m3] | C68: 1.0714413
A70: TRACI 2.1 | B70: TRACI 2.1 | C70: 0
B71: TRACI 2.1, Acidification Air [kg SO2-Equiv.] | C71: 0.0030153451
B72: TRACI 2.1, Acidification Water [kg SO2-Equiv.] | C72: 8.81487e-07
B73: TRACI 2.1, Ecotoxicity (recommended) [CTUeco] | C73: 0.00022247536
B74: TRACI 2.1, Eutrophication Air [kg N-Equiv.] | C74: 7.7147853e-05
B75: TRACI 2.1, Eutrophication Water [kg N-Equiv.] | C75: 0.0015624895
B76: TRACI 2.1, Global Warming Air [kg CO2-Equiv.] | C76: 1.5477253
B77: TRACI 2.1, Human Health Particulate Air [kg PM2,5-Equiv.] | C77: 0.00040858311
B78: TRACI 2.1, Human toxicity, cancer (recommended) [CTUh] | C78: 2.953865e-11
B79: TRACI 2.1, Human toxicity, non-canc. (recommended) [CTUh] | C79: 8.6611685e-12
B80: TRACI 2.1, Ozone Depletion Air [kg CFC 11-Equiv.] | C80: 1.6768191e-07
B81: TRACI 2.1, Resources, Fossil fuels [MJ surplus energy] | C81: 2.675029
B82: TRACI 2.1, Smog Air [kg O3-Equiv.] | C82: 0.043038216

Sheet 12. Polypropylene film
C3: 12. Polypropylene film
A4: CML 2001 - Nov. 2010 | B4: CML 2001 - Nov. 2010 | C4: 0
B5: CML2001 - Nov. 2010, Abiotic Depletion (ADP elements) [kg Sb-Equiv.] | C5: 4.3034832e-08
B6: CML2001 - Nov. 2010, Abiotic Depletion (ADP fossil) [MJ] | C6: 11.660986
B7: CML2001 - Nov. 2010, Acidification Potential (AP) [kg SO2-Equiv.] | C7: 0.0017991632
B8: CML2001 - Nov. 2010, Eutrophication Potential (EP) [kg Phosphate-Equiv.] | C8: 0.00058002709
B9: CML2001 - Nov. 2010, Freshwater Aquatic Ecotoxicity Pot. (FAETP inf.) [kg DCB-Equiv.] | C9: 0.084449104
B10: CML2001 - Nov. 2010, Global Warming Potential (GWP 100 years) [kg CO2-Equiv.] | C10: 0.70561967
B11: CML2001 - Nov. 2010, Global Warming Potential, excl biogenic carbon (GWP 100 years) [kg CO2-Equiv.] | C11: 0.70683123
B12: CML2001 - Nov. 2010, Human Toxicity Potential (HTP inf.) [kg DCB-Equiv.] | C12: 0.1053125
B13: CML2001 - Nov. 2010, Marine Aquatic Ecotoxicity Pot. (MAETP inf.) [kg DCB-Equiv.] | C13: 436.35612
B14: CML2001 - Nov. 2010, Ozone Layer Depletion Potential (ODP, steady state) [kg R11-Equiv.] | C14: 4.6189911e-08
B15: CML2001 - Nov. 2010, Photochem. Ozone Creation Potential (POCP) [kg Ethene-Equiv.] | C15: 0.00014328755
B16: CML2001 - Nov. 2010, Terrestric Ecotoxicity Potential (TETP inf.) [kg DCB-Equiv.] | C16: 0.00086465183
A19: Impact 2002+ | B19: Impact 2002+ | C19: 0
B20: I02+ v2.1 - Aquatic acidification - Midpoint [kg SO2-Eq. to air] | C20: 0.0011195141
B21: I02+ v2.1 - Aquatic ecotoxicity - Midpoint [kg TEG-Eq. to water] | C21: 828.43348
B22: I02+ v2.1 - Aquatic eutrophication - Midpoint [kg PO4-Eq. to water] | C22: 0.00041228498
B23: I02+ v2.1 - Carcinogens - Midpoint [kg C2H3Cl-Eq. to air] | C23: 0.0011660495
B24: I02+ v2.1 - Global warming 500yr - Midpoint [kg CO2-Eq. to air] | C24: 0.67670941
B25: I02+ v2.1 - Ionizing radiation - Midpoint [Bq C-14-Eq. to air] | C25: 21.615509
B26: I02+ v2.1 - Non-carcinogens - Midpoint [kg C2H3Cl-Eq. to air] | C26: 0.013015955
B27: I02+ v2.1 - Ozone layer depletion - Midpoint [kg CFC-11-Eq. to air] | C27: 4.6189911e-08
B28: I02+ v2.1 - Photochemical oxidation - Midpoint [kg C2H4-Eq. to air] | C28: 7.6015645e-05
B29: I02+ v2.1 - Respiratory effects - Midpoint [kg PM2.5-Eq. to air] | C29: 0.00029638552
B30: I02+ v2.1 - Terrestrial acidification/nutrification - Midpoint [kg SO2-Eq. to air] | C30: 0.0064304176
B31: I02+ v2.1 - Terrestrial ecotoxicity - Midpoint [kg TEG-Eq. to soil] | C31: 0.74889172
A33: ReCiPe 1.07 | B33: ReCiPe 1.07 | C33: 0
B34: ReCiPe 1.07 Endpoint (H) - Agricultural land occupation [species.yr] | C34: 1.0379462e-10
B35: ReCiPe 1.07 Endpoint (H) - Climate change Ecosystems [species.yr] | C35: 5.6041096e-09
B36: ReCiPe 1.07 Endpoint (H) - Climate change Human Health [DALY] | C36: 9.8950717e-07
B37: ReCiPe 1.07 Endpoint (H) - Fossil depletion [$] | C37: 0.037083857
B38: ReCiPe 1.07 Endpoint (H) - Freshwater ecotoxicity [species.yr] | C38: 1.7912288e-12
B39: ReCiPe 1.07 Endpoint (H) - Freshwater eutrophication [species.yr] | C39: 6.0375582e-12
B40: ReCiPe 1.07 Endpoint (H) - Human toxicity [DALY] | C40: 1.0614759e-08
B41: ReCiPe 1.07 Endpoint (H) - Ionising radiation [DALY] | C41: 1.1855193e-06
B42: ReCiPe 1.07 Endpoint (H) - Marine ecotoxicity [species.yr] | C42: 3.9714695e-13
B43: ReCiPe 1.07 Endpoint (H) - Metal depletion [$] | C43: 0.00020323486
B44: ReCiPe 1.07 Endpoint (H) - Natural land transformation [species.yr] | C44: 9.5967573e-11
B45: ReCiPe 1.07 Endpoint (H) - Ozone depletion [DALY] | C45: 1.2062471e-10
... B68: ReCiPe 1.07 Midpoint (H) - Water depletion [m3] | C68: 0.69896741
A70: TRACI 2.1 | B70: TRACI 2.1 | C70: 0
B71: TRACI 2.1, Acidification Air [kg SO2-Equiv.] | C71: 0.0017819703
B72: TRACI 2.1, Acidification Water [kg SO2-Equiv.] | C72: 5.4975971e-07
B73: TRACI 2.1, Ecotoxicity (recommended) [CTUeco] | C73: 0.00011941554
B74: TRACI 2.1, Eutrophication Air [kg N-Equiv.] | C74: 4.3305111e-05
B75: TRACI 2.1, Eutrophication Water [kg N-Equiv.] | C75: 0.0010347813
B76: TRACI 2.1, Global Warming Air [kg CO2-Equiv.] | C76: 0.70674556
B77: TRACI 2.1, Human Health Particulate Air [kg PM2,5-Equiv.] | C77: 0.00026132728
B78: TRACI 2.1, Human toxicity, cancer (recommended) [CTUh] | C78: 1.2275691e-11
B79: TRACI 2.1, Human toxicity, non-canc. (recommended) [CTUh] | C79: 4.4984916e-12
B80: TRACI 2.1, Ozone Depletion Air [kg CFC 11-Equiv.] | C80: 5.4560508e-08
B81: TRACI 2.1, Resources, Fossil fuels [MJ surplus energy] | C81: 1.0033222
B82: TRACI 2.1, Smog Air [kg O3-Equiv.] | C82: 0.023854929

Sheet 13. Polypropylene film
C3: 13. Polypropylene film
A4: CML 2001 - Nov. 2010 | B4: CML 2001 - Nov. 2010 | C4: 0
B5: CML2001 - Nov. 2010, Abiotic Depletion (ADP elements) [kg Sb-Equiv.] | C5: 4.3034832e-08
B6: CML2001 - Nov. 2010, Abiotic Depletion (ADP fossil) [MJ] | C6: 11.660986
B7: CML2001 - Nov. 2010, Acidification Potential (AP) [kg SO2-Equiv.] | C7: 0.0017991632
B8: CML2001 - Nov. 2010, Eutrophication Potential (EP) [kg Phosphate-Equiv.] | C8: 0.00058002709
B9: CML2001 - Nov. 2010, Freshwater Aquatic Ecotoxicity Pot. (FAETP inf.) [kg DCB-Equiv.] | C9: 0.084449104
B10: CML2001 - Nov. 2010, Global Warming Potential (GWP 100 years) [kg CO2-Equiv.] | C10: 0.70561967
B11: CML2001 - Nov. 2010, Global Warming Potential, excl biogenic carbon (GWP 100 years) [kg CO2-Equiv.] | C11: 0.70683123
B12: CML2001 - Nov. 2010, Human Toxicity Potential (HTP inf.) [kg DCB-Equiv.] | C12: 0.1053125
B13: CML2001 - Nov. 2010, Marine Aquatic Ecotoxicity Pot. (MAETP inf.) [kg DCB-Equiv.] | C13: 436.35612
B14: CML2001 - Nov. 2010, Ozone Layer Depletion Potential (ODP, steady state) [kg R11-Equiv.] | C14: 4.6189911e-08
B15: CML2001 - Nov. 2010, Photochem. Ozone Creation Potential (POCP) [kg Ethene-Equiv.] | C15: 0.00014328755
B16: CML2001 - Nov. 2010, Terrestric Ecotoxicity Potential (TETP inf.) [kg DCB-Equiv.] | C16: 0.00086465183
A19: Impact 2002+ | B19: Impact 2002+ | C19: 0
B20: I02+ v2.1 - Aquatic acidification - Midpoint [kg SO2-Eq. to air] | C20: 0.0011195141
B21: I02+ v2.1 - Aquatic ecotoxicity - Midpoint [kg TEG-Eq. to water] | C21: 828.43348
B22: I02+ v2.1 - Aquatic eutrophication - Midpoint [kg PO4-Eq. to water] | C22: 0.00041228498
B23: I02+ v2.1 - Carcinogens - Midpoint [kg C2H3Cl-Eq. to air] | C23: 0.0011660495
B24: I02+ v2.1 - Global warming 500yr - Midpoint [kg CO2-Eq. to air] | C24: 0.67670941
B25: I02+ v2.1 - Ionizing radiation - Midpoint [Bq C-14-Eq. to air] | C25: 21.615509
B26: I02+ v2.1 - Non-carcinogens - Midpoint [kg C2H3Cl-Eq. to air] | C26: 0.013015955
B27: I02+ v2.1 - Ozone layer depletion - Midpoint [kg CFC-11-Eq. to air] | C27: 4.6189911e-08
B28: I02+ v2.1 - Photochemical oxidation - Midpoint [kg C2H4-Eq. to air] | C28: 7.6015645e-05
B29: I02+ v2.1 - Respiratory effects - Midpoint [kg PM2.5-Eq. to air] | C29: 0.00029638552
B30: I02+ v2.1 - Terrestrial acidification/nutrification - Midpoint [kg SO2-Eq. to air] | C30: 0.0064304176
B31: I02+ v2.1 - Terrestrial ecotoxicity - Midpoint [kg TEG-Eq. to soil] | C31: 0.74889172
A33: ReCiPe 1.07 | B33: ReCiPe 1.07 | C33: 0
B34: ReCiPe 1.07 Endpoint (H) - Agricultural land occupation [species.yr] | C34: 1.0379462e-10
B35: ReCiPe 1.07 Endpoint (H) - Climate change Ecosystems [species.yr] | C35: 5.6041096e-09
B36: ReCiPe 1.07 Endpoint (H) - Climate change Human Health [DALY] | C36: 9.8950717e-07
B37: ReCiPe 1.07 Endpoint (H) - Fossil depletion [$] | C37: 0.037083857
B38: ReCiPe 1.07 Endpoint (H) - Freshwater ecotoxicity [species.yr] | C38: 1.7912288e-12
B39: ReCiPe 1.07 Endpoint (H) - Freshwater eutrophication [species.yr] | C39: 6.0375582e-12
B40: ReCiPe 1.07 Endpoint (H) - Human toxicity [DALY] | C40: 1.0614759e-08
B41: ReCiPe 1.07 Endpoint (H) - Ionising radiation [DALY] | C41: 1.1855193e-06
B42: ReCiPe 1.07 Endpoint (H) - Marine ecotoxicity [species.yr] | C42: 3.9714695e-13
B43: ReCiPe 1.07 Endpoint (H) - Metal depletion [$] | C43: 0.00020323486
B44: ReCiPe 1.07 Endpoint (H) - Natural land transformation [species.yr] | C44: 9.5967573e-11
B45: ReCiPe 1.07 Endpoint (H) - Ozone depletion [DALY] | C45: 1.2062471e-10
... B68: ReCiPe 1.07 Midpoint (H) - Water depletion [m3] | C68: 0.69896741
A70: TRACI 2.1 | B70: TRACI 2.1 | C70: 0
B71: TRACI 2.1, Acidification Air [kg SO2-Equiv.] | C71: 0.0017819703
B72: TRACI 2.1, Acidification Water [kg SO2-Equiv.] | C72: 5.4975971e-07
B73: TRACI 2.1, Ecotoxicity (recommended) [CTUeco] | C73: 0.00011941554
B74: TRACI 2.1, Eutrophication Air [kg N-Equiv.] | C74: 4.3305111e-05
B75: TRACI 2.1, Eutrophication Water [kg N-Equiv.] | C75: 0.0010347813
B76: TRACI 2.1, Global Warming Air [kg CO2-Equiv.] | C76: 0.70674556
B77: TRACI 2.1, Human Health Particulate Air [kg PM2,5-Equiv.] | C77: 0.00026132728
B78: TRACI 2.1, Human toxicity, cancer (recommended) [CTUh] | C78: 1.2275691e-11
B79: TRACI 2.1, Human toxicity, non-canc. (recommended) [CTUh] | C79: 4.4984916e-12
B80: TRACI 2.1, Ozone Depletion Air [kg CFC 11-Equiv.] | C80: 5.4560508e-08
B81: TRACI 2.1, Resources, Fossil fuels [MJ surplus energy] | C81: 1.0033222
B82: TRACI 2.1, Smog Air [kg O3-Equiv.] | C82: 0.023854929

Sheet 14. BOPP metal film
C3: 14. BOPP metalised film
A4: CML 2001 - Nov. 2010 | B4: CML 2001 - Nov. 2010 | C4: 0
B5: CML2001 - Nov. 2010, Abiotic Depletion (ADP elements) [kg Sb-Equiv.] | C5: 8.6181458e-08
B6: CML2001 - Nov. 2010, Abiotic Depletion (ADP fossil) [MJ] | C6: 25.163411
B7: CML2001 - Nov. 2010, Acidification Potential (AP) [kg SO2-Equiv.] | C7: 0.0030125137
B8: CML2001 - Nov. 2010, Eutrophication Potential (EP) [kg Phosphate-Equiv.] | C8: 0.00091181191
B9: CML2001 - Nov. 2010, Freshwater Aquatic Ecotoxicity Pot. (FAETP inf.) [kg DCB-Equiv.] | C9: 0.12806532
B10: CML2001 - Nov. 2010, Global Warming Potential (GWP 100 years) [kg CO2-Equiv.] | C10: 1.5460927
B11: CML2001 - Nov. 2010, Global Warming Potential, excl biogenic carbon (GWP 100 years) [kg CO2-Equiv.] | C11: 1.5478637
B12: CML2001 - Nov. 2010, Human Toxicity Potential (HTP inf.) [kg DCB-Equiv.] | C12: 0.16488122
B13: CML2001 - Nov. 2010, Marine Aquatic Ecotoxicity Pot. (MAETP inf.) [kg DCB-Equiv.] | C13: 647.65411
B14: CML2001 - Nov. 2010, Ozone Layer Depletion Potential (ODP, steady state) [kg R11-Equiv.] | C14: 1.4210082e-07
B15: CML2001 - Nov. 2010, Photochem. Ozone Creation Potential (POCP) [kg Ethene-Equiv.] | C15: 0.00029860295
B16: CML2001 - Nov. 2010, Terrestric Ecotoxicity Potential (TETP inf.) [kg DCB-Equiv.] | C16: 0.0014994802
A19: Impact 2002+ | B19: Impact 2002+ | C19: 0
B20: I02+ v2.1 - Aquatic acidification - Midpoint [kg SO2-Eq. to air] | C20: 0.0018285373
B21: I02+ v2.1 - Aquatic ecotoxicity - Midpoint [kg TEG-Eq. to water] | C21: 1255.9897
B22: I02+ v2.1 - Aquatic eutrophication - Midpoint [kg PO4-Eq. to water] | C22: 0.00062171493
B23: I02+ v2.1 - Carcinogens - Midpoint [kg C2H3Cl-Eq. to air] | C23: 0.0017738255
B24: I02+ v2.1 - Global warming 500yr - Midpoint [kg CO2-Eq. to air] | C24: 1.4818404
B25: I02+ v2.1 - Ionizing radiation - Midpoint [Bq C-14-Eq. to air] | C25: 31.880307
B26: I02+ v2.1 - Non-carcinogens - Midpoint [kg C2H3Cl-Eq. to air] | C26: 0.019822263
B27: I02+ v2.1 - Ozone layer depletion - Midpoint [kg CFC-11-Eq. to air] | C27: 1.4210082e-07
B28: I02+ v2.1 - Photochemical oxidation - Midpoint [kg C2H4-Eq. to air] | C28: 0.00020195504
B29: I02+ v2.1 - Respiratory effects - Midpoint [kg PM2.5-Eq. to air] | C29: 0.00049676473
B30: I02+ v2.1 - Terrestrial acidification/nutrification - Midpoint [kg SO2-Eq. to air] | C30: 0.011296267
B31: I02+ v2.1 - Terrestrial ecotoxicity - Midpoint [kg TEG-Eq. to soil] | C31: 1.3186208
A33: ReCiPe 1.07 | B33: ReCiPe 1.07 | C33: 0
B34: ReCiPe 1.07 Endpoint (H) - Agricultural land occupation [species.yr] | C34: 1.5276521e-10
B35: ReCiPe 1.07 Endpoint (H) - Climate change Ecosystems [species.yr] | C35: 1.2272443e-08
B36: ReCiPe 1.07 Endpoint (H) - Climate change Human Health [DALY] | C36: 2.1669231e-06
B37: ReCiPe 1.07 Endpoint (H) - Fossil depletion [$] | C37: 0.085986154
B38: ReCiPe 1.07 Endpoint (H) - Freshwater ecotoxicity [species.yr] | C38: 2.7164753e-12
B39: ReCiPe 1.07 Endpoint (H) - Freshwater eutrophication [species.yr] | C39: 9.1045514e-12
B40: ReCiPe 1.07 Endpoint (H) - Human toxicity [DALY] | C40: 1.695896e-08
B41: ReCiPe 1.07 Endpoint (H) - Ionising radiation [DALY] | C41: 1.749115e-06
B42: ReCiPe 1.07 Endpoint (H) - Marine ecotoxicity [species.yr] | C42: 6.2119744e-13
B43: ReCiPe 1.07 Endpoint (H) - Metal depletion [$] | C43: 0.00042856712
B44: ReCiPe 1.07 Endpoint (H) - Natural land transformation [species.yr] | C44: 2.5394622e-10
B45: ReCiPe 1.07 Endpoint (H) - Ozone depletion [DALY] | C45: 3.7522639e-10
... B68: ReCiPe 1.07 Midpoint (H) - Water depletion [m3] | C68: 1.0714413
A70: TRACI 2.1 | B70: TRACI 2.1 | C70: 0
B71: TRACI 2.1, Acidification Air [kg SO2-Equiv.] | C71: 0.0030153451
B72: TRACI 2.1, Acidification Water [kg SO2-Equiv.] | C72: 8.81487e-07
B73: TRACI 2.1, Ecotoxicity (recommended) [CTUeco] | C73: 0.00022247536
B74: TRACI 2.1, Eutrophication Air [kg N-Equiv.] | C74: 7.7147853e-05
B75: TRACI 2.1, Eutrophication Water [kg N-Equiv.] | C75: 0.0015624895
B76: TRACI 2.1, Global Warming Air [kg CO2-Equiv.] | C76: 1.5477253
B77: TRACI 2.1, Human Health Particulate Air [kg PM2,5-Equiv.] | C77: 0.00040858311
B78: TRACI 2.1, Human toxicity, cancer (recommended) [CTUh] | C78: 2.953865e-11
B79: TRACI 2.1, Human toxicity, non-canc. (recommended) [CTUh] | C79: 8.6611685e-12
B80: TRACI 2.1, Ozone Depletion Air [kg CFC 11-Equiv.] | C80: 1.6768191e-07
B81: TRACI 2.1, Resources, Fossil fuels [MJ surplus energy] | C81: 2.675029
B82: TRACI 2.1, Smog Air [kg O3-Equiv.] | C82: 0.043038216

Sheet 15. Cocoa butter (bean site)
C3: 15. Cocoa butter (bean processing site)
A4: CML 2001 - Nov. 2010 | B4: CML 2001 - Nov. 2010 | C4: 0
B5: CML2001 - Nov. 2010, Abiotic Depletion (ADP elements) [kg Sb-Equiv.] | C5: 1.3375051e-08
B6: CML2001 - Nov. 2010, Abiotic Depletion (ADP fossil) [MJ] | C6: 3.0848079
B7: CML2001 - Nov. 2010, Acidification Potential (AP) [kg SO2-Equiv.] | C7: 0.00021593122
B8: CML2001 - Nov. 2010, Eutrophication Potential (EP) [kg Phosphate-Equiv.] | C8: 0.00043225381
B9: CML2001 - Nov. 2010, Freshwater Aquatic Ecotoxicity Pot. (FAETP inf.) [kg DCB-Equiv.] | C9: 0.06596339
B10: CML2001 - Nov. 2010, Global Warming Potential (GWP 100 years) [kg CO2-Equiv.] | C10: 0.19353952
B11: CML2001 - Nov. 2010, Global Warming Potential, excl biogenic carbon (GWP 100 years) [kg CO2-Equiv.] | C11: 0.19377186
B12: CML2001 - Nov. 2010, Human Toxicity Potential (HTP inf.) [kg DCB-Equiv.] | C12: 0.047345841
B13: CML2001 - Nov. 2010, Marine Aquatic Ecotoxicity Pot. (MAETP inf.) [kg DCB-Equiv.] | C13: 173.84111
B14: CML2001 - Nov. 2010, Ozone Layer Depletion Potential (ODP, steady state) [kg R11-Equiv.] | C14: 1.7142041e-08
B15: CML2001 - Nov. 2010, Photochem. Ozone Creation Potential (POCP) [kg Ethene-Equiv.] | C15: 2.9377332e-05
B16: CML2001 - Nov. 2010, Terrestric Ecotoxicity Potential (TETP inf.) [kg DCB-Equiv.] | C16: 0.00022727938
A19: Impact 2002+ | B19: Impact 2002+ | C19: 0
B20: I02+ v2.1 - Aquatic acidification - Midpoint [kg SO2-Eq. to air] | C20: 0.00012174088
B21: I02+ v2.1 - Aquatic ecotoxicity - Midpoint [kg TEG-Eq. to water] | C21: 695.804
B22: I02+ v2.1 - Aquatic eutrophication - Midpoint [kg PO4-Eq. to water] | C22: 0.0003971038
B23: I02+ v2.1 - Carcinogens - Midpoint [kg C2H3Cl-Eq. to air] | C23: 0.00058229567
B24: I02+ v2.1 - Global warming 500yr - Midpoint [kg CO2-Eq. to air] | C24: 0.18546059
B25: I02+ v2.1 - Ionizing radiation - Midpoint [Bq C-14-Eq. to air] | C25: 4.8800476
B26: I02+ v2.1 - Non-carcinogens - Midpoint [kg C2H3Cl-Eq. to air] | C26: 0.0075977922
B27: I02+ v2.1 - Ozone layer depletion - Midpoint [kg CFC-11-Eq. to air] | C27: 1.7142041e-08
B28: I02+ v2.1 - Photochemical oxidation - Midpoint [kg C2H4-Eq. to air] | C28: 2.4425314e-05
B29: I02+ v2.1 - Respiratory effects - Midpoint [kg PM2.5-Eq. to air] | C29: 4.0516365e-05
B30: I02+ v2.1 - Terrestrial acidification/nutrification - Midpoint [kg SO2-Eq. to air] | C30: 0.0009345951
B31: I02+ v2.1 - Terrestrial ecotoxicity - Midpoint [kg TEG-Eq. to soil] | C31: 0.14279502
A33: ReCiPe 1.07 | B33: ReCiPe 1.07 | C33: 0
B34: ReCiPe 1.07 Endpoint (H) - Agricultural land occupation [species.yr] | C34: 1.7734423e-11
B35: ReCiPe 1.07 Endpoint (H) - Climate change Ecosystems [species.yr] | C35: 1.536189e-09
B36: ReCiPe 1.07 Endpoint (H) - Climate change Human Health [DALY] | C36: 2.7124208e-07
B37: ReCiPe 1.07 Endpoint (H) - Fossil depletion [$] | C37: 0.0098551654
B38: ReCiPe 1.07 Endpoint (H) - Freshwater ecotoxicity [species.yr] | C38: 1.5185498e-12
B39: ReCiPe 1.07 Endpoint (H) - Freshwater eutrophication [species.yr] | C39: 5.8171876e-12
B40: ReCiPe 1.07 Endpoint (H) - Human toxicity [DALY] | C40: 2.8645932e-09
B41: ReCiPe 1.07 Endpoint (H) - Ionising radiation [DALY] | C41: 1.883281e-07
B42: ReCiPe 1.07 Endpoint (H) - Marine ecotoxicity [species.yr] | C42: 3.0484347e-13
B43: ReCiPe 1.07 Endpoint (H) - Metal depletion [$] | C43: 5.9982399e-05
B44: ReCiPe 1.07 Endpoint (H) - Natural land transformation [species.yr] | C44: 2.9346531e-11
B45: ReCiPe 1.07 Endpoint (H) - Ozone depletion [DALY] | C45: 4.3733691e-11
... B68: ReCiPe 1.07 Midpoint (H) - Water depletion [m3] | C68: 0.345292
A70: TRACI 2.1 | B70: TRACI 2.1 | C70: 0
B71: TRACI 2.1, Acidification Air [kg SO2-Equiv.] | C71: 0.0002236747
B72: TRACI 2.1, Acidification Water [kg SO2-Equiv.] | C72: 6.5661062e-08
B73: TRACI 2.1, Ecotoxicity (recommended) [CTUeco] | C73: 2.5590268e-05
B74: TRACI 2.1, Eutrophication Air [kg N-Equiv.] | C74: 6.63543e-06
B75: TRACI 2.1, Eutrophication Water [kg N-Equiv.] | C75: 0.00097614567
B76: TRACI 2.1, Global Warming Air [kg CO2-Equiv.] | C76: 0.19361569
B77: TRACI 2.1, Human Health Particulate Air [kg PM2,5-Equiv.] | C77: 3.9542713e-05
B78: TRACI 2.1, Human toxicity, cancer (recommended) [CTUh] | C78: 3.5588907e-12
B79: TRACI 2.1, Human toxicity, non-canc. (recommended) [CTUh] | C79: 1.2726123e-12
B80: TRACI 2.1, Ozone Depletion Air [kg CFC 11-Equiv.] | C80: 2.0018855e-08
B81: TRACI 2.1, Resources, Fossil fuels [MJ surplus energy] | C81: 0.24411051
B82: TRACI 2.1, Smog Air [kg O3-Equiv.] | C82: 0.0037308385

Sheet 16. Cocoa butter (non-bean site
C3: 16. Cocoa butter (non-bean processing site)
A4: CML 2001 - Nov. 2010 | B4: CML 2001 - Nov. 2010 | C4: 0
B5: CML2001 - Nov. 2010, Abiotic Depletion (ADP elements) [kg Sb-Equiv.] | C5: 4.9904995e-09
B6: CML2001 - Nov. 2010, Abiotic Depletion (ADP fossil) [MJ] | C6: 1.5952981
B7: CML2001 - Nov. 2010, Acidification Potential (AP) [kg SO2-Equiv.] | C7: 0.00012940001
B8: CML2001 - Nov. 2010, Eutrophication Potential (EP) [kg Phosphate-Equiv.] | C8: 3.3748078e-05
B9: CML2001 - Nov. 2010, Freshwater Aquatic Ecotoxicity Pot. (FAETP inf.) [kg DCB-Equiv.] | C9: 0.0042841913
B10: CML2001 - Nov. 2010, Global Warming Potential (GWP 100 years) [kg CO2-Equiv.] | C10: 0.09967687
B11: CML2001 - Nov. 2010, Global Warming Potential, excl biogenic carbon (GWP 100 years) [kg CO2-Equiv.] | C11: 0.099729437
B12: CML2001 - Nov. 2010, Human Toxicity Potential (HTP inf.) [kg DCB-Equiv.] | C12: 0.006037323
B13: CML2001 - Nov. 2010, Marine Aquatic Ecotoxicity Pot. (MAETP inf.) [kg DCB-Equiv.] | C13: 20.248596
B14: CML2001 - Nov. 2010, Ozone Layer Depletion Potential (ODP, steady state) [kg R11-Equiv.] | C14: 1.2012429e-08
B15: CML2001 - Nov. 2010, Photochem. Ozone Creation Potential (POCP) [kg Ethene-Equiv.] | C15: 1.8180316e-05
B16: CML2001 - Nov. 2010, Terrestric Ecotoxicity Potential (TETP inf.) [kg DCB-Equiv.] | C16: 6.9126794e-05
A19: Impact 2002+ | B19: Impact 2002+ | C19: 0
B20: I02+ v2.1 - Aquatic acidification - Midpoint [kg SO2-Eq. to air] | C20: 7.4348736e-05
B21: I02+ v2.1 - Aquatic ecotoxicity - Midpoint [kg TEG-Eq. to water] | C21: 41.985353
B22: I02+ v2.1 - Aquatic eutrophication - Midpoint [kg PO4-Eq. to water] | C22: 2.0445073e-05
B23: I02+ v2.1 - Carcinogens - Midpoint [kg C2H3Cl-Eq. to air] | C23: 5.9897728e-05
B24: I02+ v2.1 - Global warming 500yr - Midpoint [kg CO2-Eq. to air] | C24: 0.095471293
B25: I02+ v2.1 - Ionizing radiation - Midpoint [Bq C-14-Eq. to air] | C25: 0.97591669
B26: I02+ v2.1 - Non-carcinogens - Midpoint [kg C2H3Cl-Eq. to air] | C26: 0.00067156312
B27: I02+ v2.1 - Ozone layer depletion - Midpoint [kg CFC-11-Eq. to air] | C27: 1.2012429e-08
B28: I02+ v2.1 - Photochemical oxidation - Midpoint [kg C2H4-Eq. to air] | C28: 1.5487956e-05
B29: I02+ v2.1 - Respiratory effects - Midpoint [kg PM2.5-Eq. to air] | C29: 2.138352e-05
B30: I02+ v2.1 - Terrestrial acidification/nutrification - Midpoint [kg SO2-Eq. to air] | C30: 0.00053350424
B31: I02+ v2.1 - Terrestrial ecotoxicity - Midpoint [kg TEG-Eq. to soil] | C31: 0.062541388
A33: ReCiPe 1.07 | B33: ReCiPe 1.07 | C33: 0
B34: ReCiPe 1.07 Endpoint (H) - Agricultural land occupation [species.yr] | C34: 4.6433363e-12
B35: ReCiPe 1.07 Endpoint (H) - Climate change Ecosystems [species.yr] | C35: 7.9073265e-10
B36: ReCiPe 1.07 Endpoint (H) - Climate change Human Health [DALY] | C36: 1.396183e-07
B37: ReCiPe 1.07 Endpoint (H) - Fossil depletion [$] | C37: 0.0058734111
B38: ReCiPe 1.07 Endpoint (H) - Freshwater ecotoxicity [species.yr] | C38: 9.088617e-14
B39: ReCiPe 1.07 Endpoint (H) - Freshwater eutrophication [species.yr] | C39: 2.9941015e-13
B40: ReCiPe 1.07 Endpoint (H) - Human toxicity [DALY] | C40: 6.5415739e-10
B41: ReCiPe 1.07 Endpoint (H) - Ionising radiation [DALY] | C41: 5.3607414e-08
B42: ReCiPe 1.07 Endpoint (H) - Marine ecotoxicity [species.yr] | C42: 2.268824e-14
B43: ReCiPe 1.07 Endpoint (H) - Metal depletion [$] | C43: 2.6462412e-05
B44: ReCiPe 1.07 Endpoint (H) - Natural land transformation [species.yr] | C44: 1.9416731e-11
B45: ReCiPe 1.07 Endpoint (H) - Ozone depletion [DALY] | C45: 3.1924722e-11
... B68: ReCiPe 1.07 Midpoint (H) - Water depletion [m3] | C68: 0.036998748
A70: TRACI 2.1 | B70: TRACI 2.1 | C70: 0
B71: TRACI 2.1, Acidification Air [kg SO2-Equiv.] | C71: 0.00013240649
B72: TRACI 2.1, Acidification Water [kg SO2-Equiv.] | C72: 3.4302613e-08
B73: TRACI 2.1, Ecotoxicity (recommended) [CTUeco] | C73: 1.1611494e-05
B74: TRACI 2.1, Eutrophication Air [kg N-Equiv.] | C74: 3.7369731e-06
B75: TRACI 2.1, Eutrophication Water [kg N-Equiv.] | C75: 5.159176e-05
B76: TRACI 2.1, Global Warming Air [kg CO2-Equiv.] | C76: 0.099723947
B77: TRACI 2.1, Human Health Particulate Air [kg PM2,5-Equiv.] | C77: 1.4906045e-05
B78: TRACI 2.1, Human toxicity, cancer (recommended) [CTUh] | C78: 2.0885123e-12
B79: TRACI 2.1, Human toxicity, non-canc. (recommended) [CTUh] | C79: 4.7503219e-13
B80: TRACI 2.1, Ozone Depletion Air [kg CFC 11-Equiv.] | C80: 1.4166443e-08
B81: TRACI 2.1, Resources, Fossil fuels [MJ surplus energy] | C81: 0.20569149
B82: TRACI 2.1, Smog Air [kg O3-Equiv.] | C82: 0.0021311054

Sheet 17. Coconut powder
C3: 17. Cocount powder
A4: CML 2001 - Nov. 2010 | B4: CML 2001 - Nov. 2010 | C4: 0
B5: CML2001 - Nov. 2010, Abiotic Depletion (ADP elements) [kg Sb-Equiv.] | C5: 1.8808157e-07
B6: CML2001 - Nov. 2010, Abiotic Depletion (ADP fossil) [MJ] | C6: 4.5529126
B7: CML2001 - Nov. 2010, Acidification Potential (AP) [kg SO2-Equiv.] | C7: 0.0026061708
B8: CML2001 - Nov. 2010, Eutrophication Potential (EP) [kg Phosphate-Equiv.] | C8: 0.0010721703
B9: CML2001 - Nov. 2010, Freshwater Aquatic Ecotoxicity Pot. (FAETP inf.) [kg DCB-Equiv.] | C9: 0.10153965
B10: CML2001 - Nov. 2010, Global Warming Potential (GWP 100 years) [kg CO2-Equiv.] | C10: 0.24727214
B11: CML2001 - Nov. 2010, Global Warming Potential, excl biogenic carbon (GWP 100 years) [kg CO2-Equiv.] | C11: 0.24612045
B12: CML2001 - Nov. 2010, Human Toxicity Potential (HTP inf.) [kg DCB-Equiv.] | C12: 0.19196216
B13: CML2001 - Nov. 2010, Marine Aquatic Ecotoxicity Pot. (MAETP inf.) [kg DCB-Equiv.] | C13: 331.93535
B14: CML2001 - Nov. 2010, Ozone Layer Depletion Potential (ODP, steady state) [kg R11-Equiv.] | C14: 1.2806198e-08
B15: CML2001 - Nov. 2010, Photochem. Ozone Creation Potential (POCP) [kg Ethene-Equiv.] | C15: 0.00024174953
B16: CML2001 - Nov. 2010, Terrestric Ecotoxicity Potential (TETP inf.) [kg DCB-Equiv.] | C16: 0.0069811525
A19: Impact 2002+ | B19: Impact 2002+ | C19: 0
B20: I02+ v2.1 - Aquatic acidification - Midpoint [kg SO2-Eq. to air] | C20: 0.00092225689
B21: I02+ v2.1 - Aquatic ecotoxicity - Midpoint [kg TEG-Eq. to water] | C21: 1714.7639
B22: I02+ v2.1 - Aquatic eutrophication - Midpoint [kg PO4-Eq. to water] | C22: 0.00060081969
B23: I02+ v2.1 - Carcinogens - Midpoint [kg C2H3Cl-Eq. to air] | C23: 0.0038614715
B24: I02+ v2.1 - Global warming 500yr - Midpoint [kg CO2-Eq. to air] | C24: 0.23100462
B25: I02+ v2.1 - Ionizing radiation - Midpoint [Bq C-14-Eq. to air] | C25: 18.713961
B26: I02+ v2.1 - Non-carcinogens - Midpoint [kg C2H3Cl-Eq. to air] | C26: 0.051583759
B27: I02+ v2.1 - Ozone layer depletion - Midpoint [kg CFC-11-Eq. to air] | C27: 1.2806198e-08
B28: I02+ v2.1 - Photochemical oxidation - Midpoint [kg C2H4-Eq. to air] | C28: 9.9321767e-05
B29: I02+ v2.1 - Respiratory effects - Midpoint [kg PM2.5-Eq. to air] | C29: 0.0021250031
B30: I02+ v2.1 - Terrestrial acidification/nutrification - Midpoint [kg SO2-Eq. to air] | C30: 0.018487708
B31: I02+ v2.1 - Terrestrial ecotoxicity - Midpoint [kg TEG-Eq. to soil] | C31: 46.959863
A33: ReCiPe 1.07 | B33: ReCiPe 1.07 | C33: 0
B34: ReCiPe 1.07 Endpoint (H) - Agricultural land occupation [species.yr] | C34: 4.6451232e-09
B35: ReCiPe 1.07 Endpoint (H) - Climate change Ecosystems [species.yr] | C35: 1.9510936e-09
B36: ReCiPe 1.07 Endpoint (H) - Climate change Human Health [DALY] | C36: 3.44499e-07
B37: ReCiPe 1.07 Endpoint (H) - Fossil depletion [$] | C37: 0.010450424
B38: ReCiPe 1.07 Endpoint (H) - Freshwater ecotoxicity [species.yr] | C38: 2.9135714e-12
B39: ReCiPe 1.07 Endpoint (H) - Freshwater eutrophication [species.yr] | C39: 8.4371748e-12
B40: ReCiPe 1.07 Endpoint (H) - Human toxicity [DALY] | C40: 3.2690621e-07
B41: ReCiPe 1.07 Endpoint (H) - Ionising radiation [DALY] | C41: 1.0590639e-06
B42: ReCiPe 1.07 Endpoint (H) - Marine ecotoxicity [species.yr] | C42: 6.6367711e-13
B43: ReCiPe 1.07 Endpoint (H) - Metal depletion [$] | C43: 0.00063505691
B44: ReCiPe 1.07 Endpoint (H) - Natural land transformation [species.yr] | C44: 1.2312584e-10
B45: ReCiPe 1.07 Endpoint (H) - Ozone depletion [DALY] | C45: 3.1461271e-11
... B68: ReCiPe 1.07 Midpoint (H) - Water depletion [m3] | C68: 11.212139
A70: TRACI 2.1 | B70: TRACI 2.1 | C70: 0
B71: TRACI 2.1, Acidification Air [kg SO2-Equiv.] | C71: 0.0030721411
B72: TRACI 2.1, Acidification Water [kg SO2-Equiv.] | C72: 7.8052004e-06
B73: TRACI 2.1, Ecotoxicity (recommended) [CTUeco] | C73: 0.00057185349
B74: TRACI 2.1, Eutrophication Air [kg N-Equiv.] | C74: 0.00015140578
B75: TRACI 2.1, Eutrophication Water [kg N-Equiv.] | C75: 0.0012098975
B76: TRACI 2.1, Global Warming Air [kg CO2-Equiv.] | C76: 0.24570838
B77: TRACI 2.1, Human Health Particulate Air [kg PM2,5-Equiv.] | C77: 0.0019755431
B78: TRACI 2.1, Human toxicity, cancer (recommended) [CTUh] | C78: 8.8005755e-11
B79: TRACI 2.1, Human toxicity, non-canc. (recommended) [CTUh] | C79: 2.3603403e-11
B80: TRACI 2.1, Ozone Depletion Air [kg CFC 11-Equiv.] | C80: 1.5618863e-08
B81: TRACI 2.1, Resources, Fossil fuels [MJ surplus energy] | C81: 0.16671991
B82: TRACI 2.1, Smog Air [kg O3-Equiv.] | C82: 0.077667045

Sheet 18. Corrugated board (SF)
C3: 18. Corrugated board (single face)
A4: CML 2001 - Nov. 2010 | B4: CML 2001 - Nov. 2010 | C4: 0
B5: CML2001 - Nov. 2010, Abiotic Depletion (ADP elements) [kg Sb-Equiv.] | C5: 3.3478541e-08
B6: CML2001 - Nov. 2010, Abiotic Depletion (ADP fossil) [MJ] | C6: 8.2056994
B7: CML2001 - Nov. 2010, Acidification Potential (AP) [kg SO2-Equiv.] | C7: 0.0016819358
B8: CML2001 - Nov. 2010, Eutrophication Potential (EP) [kg Phosphate-Equiv.] | C8: 0.00057062407
B9: CML2001 - Nov. 2010, Freshwater Aquatic Ecotoxicity Pot. (FAETP inf.) [kg DCB-Equiv.] | C9: 0.08532223
B10: CML2001 - Nov. 2010, Global Warming Potential (GWP 100 years) [kg CO2-Equiv.] | C10: 0.48533714
B11: CML2001 - Nov. 2010, Global Warming Potential, excl biogenic carbon (GWP 100 years) [kg CO2-Equiv.] | C11: 0.48659292
B12: CML2001 - Nov. 2010, Human Toxicity Potential (HTP inf.) [kg DCB-Equiv.] | C12: 0.10392638
B13: CML2001 - Nov. 2010, Marine Aquatic Ecotoxicity Pot. (MAETP inf.) [kg DCB-Equiv.] | C13: 447.59453
B14: CML2001 - Nov. 2010, Ozone Layer Depletion Potential (ODP, steady state) [kg R11-Equiv.] | C14: 1.2220258e-08
B15: CML2001 - Nov. 2010, Photochem. Ozone Creation Potential (POCP) [kg Ethene-Equiv.] | C15: 0.00010589699
B16: CML2001 - Nov. 2010, Terrestric Ecotoxicity Potential (TETP inf.) [kg DCB-Equiv.] | C16: 0.00078359318
A19: Impact 2002+ | B19: Impact 2002+ | C19: 0
B20: I02+ v2.1 - Aquatic acidification - Midpoint [kg SO2-Eq. to air] | C20: 0.0010685491
B21: I02+ v2.1 - Aquatic ecotoxicity - Midpoint [kg TEG-Eq. to water] | C21: 837.14814
B22: I02+ v2.1 - Aquatic eutrophication - Midpoint [kg PO4-Eq. to water] | C22: 0.00041822409
B23: I02+ v2.1 - Carcinogens - Midpoint [kg C2H3Cl-Eq. to air] | C23: 0.001175459
B24: I02+ v2.1 - Global warming 500yr - Midpoint [kg CO2-Eq. to air] | C24: 0.46588563
B25: I02+ v2.1 - Ionizing radiation - Midpoint [Bq C-14-Eq. to air] | C25: 22.268857
B26: I02+ v2.1 - Non-carcinogens - Midpoint [kg C2H3Cl-Eq. to air] | C26: 0.013110448
B27: I02+ v2.1 - Ozone layer depletion - Midpoint [kg CFC-11-Eq. to air] | C27: 1.2220258e-08
B28: I02+ v2.1 - Photochemical oxidation - Midpoint [kg C2H4-Eq. to air] | C28: 3.536302e-05
B29: I02+ v2.1 - Respiratory effects - Midpoint [kg PM2.5-Eq. to air] | C29: 0.00027683612
B30: I02+ v2.1 - Terrestrial acidification/nutrification - Midpoint [kg SO2-Eq. to air] | C30: 0.0057584412
B31: I02+ v2.1 - Terrestrial ecotoxicity - Midpoint [kg TEG-Eq. to soil] | C31: 0.66917554
A33: ReCiPe 1.07 | B33: ReCiPe 1.07 | C33: 0
B34: ReCiPe 1.07 Endpoint (H) - Agricultural land occupation [species.yr] | C34: 1.0708466e-10
B35: ReCiPe 1.07 Endpoint (H) - Climate change Ecosystems [species.yr] | C35: 3.8578506e-09
B36: ReCiPe 1.07 Endpoint (H) - Climate change Human Health [DALY] | C36: 6.8117309e-07
B37: ReCiPe 1.07 Endpoint (H) - Fossil depletion [$] | C37: 0.023245052
B38: ReCiPe 1.07 Endpoint (H) - Freshwater ecotoxicity [species.yr] | C38: 1.8096941e-12
B39: ReCiPe 1.07 Endpoint (H) - Freshwater eutrophication [species.yr] | C39: 6.1244968e-12
B40: ReCiPe 1.07 Endpoint (H) - Human toxicity [DALY] | C40: 1.0312459e-08
B41: ReCiPe 1.07 Endpoint (H) - Ionising radiation [DALY] | C41: 1.2210588e-06
B42: ReCiPe 1.07 Endpoint (H) - Marine ecotoxicity [species.yr] | C42: 3.9220212e-13
B43: ReCiPe 1.07 Endpoint (H) - Metal depletion [$] | C43: 0.00014779294
B44: ReCiPe 1.07 Endpoint (H) - Natural land transformation [species.yr] | C44: 4.5130628e-11
B45: ReCiPe 1.07 Endpoint (H) - Ozone depletion [DALY] | C45: 2.9938304e-11
... B68: ReCiPe 1.07 Midpoint (H) - Water depletion [m3] | C68: 0.70070984
A70: TRACI 2.1 | B70: TRACI 2.1 | C70: 0
B71: TRACI 2.1, Acidification Air [kg SO2-Equiv.] | C71: 0.0016507469
B72: TRACI 2.1, Acidification Water [kg SO2-Equiv.] | C72: 5.3259784e-07
B73: TRACI 2.1, Ecotoxicity (recommended) [CTUeco] | C73: 0.00010086567
B74: TRACI 2.1, Eutrophication Air [kg N-Equiv.] | C74: 3.8266255e-05
B75: TRACI 2.1, Eutrophication Water [kg N-Equiv.] | C75: 0.0010486997
B76: TRACI 2.1, Global Warming Air [kg CO2-Equiv.] | C76: 0.48651043
B77: TRACI 2.1, Human Health Particulate Air [kg PM2,5-Equiv.] | C77: 0.00025815575
B78: TRACI 2.1, Human toxicity, cancer (recommended) [CTUh] | C78: 7.1807409e-12
B79: TRACI 2.1, Human toxicity, non-canc. (recommended) [CTUh] | C79: 3.6656886e-12
B80: TRACI 2.1, Ozone Depletion Air [kg CFC 11-Equiv.] | C80: 1.4516395e-08
B81: TRACI 2.1, Resources, Fossil fuels [MJ surplus energy] | C81: 0.46223652
B82: TRACI 2.1, Smog Air [kg O3-Equiv.] | C82: 0.020820713

Sheet 19. Corrugated board (SF)
C3: 19. Corrugated board (single face)
A4: CML 2001 - Nov. 2010 | B4: CML 2001 - Nov. 2010 | C4: 0
B5: CML2001 - Nov. 2010, Abiotic Depletion (ADP elements) [kg Sb-Equiv.] | C5: 1.7690367e-08
B6: CML2001 - Nov. 2010, Abiotic Depletion (ADP fossil) [MJ] | C6: 4.980515
B7: CML2001 - Nov. 2010, Acidification Potential (AP) [kg SO2-Equiv.] | C7: 0.00067860878
B8: CML2001 - Nov. 2010, Eutrophication Potential (EP) [kg Phosphate-Equiv.] | C8: 0.00021264265
B9: CML2001 - Nov. 2010, Freshwater Aquatic Ecotoxicity Pot. (FAETP inf.) [kg DCB-Equiv.] | C9: 0.030475426
B10: CML2001 - Nov. 2010, Global Warming Potential (GWP 100 years) [kg CO2-Equiv.] | C10: 0.30379568
B11: CML2001 - Nov. 2010, Global Warming Potential, excl biogenic carbon (GWP 100 years) [kg CO2-Equiv.] | C11: 0.30422605
B12: CML2001 - Nov. 2010, Human Toxicity Potential (HTP inf.) [kg DCB-Equiv.] | C12: 0.038539057
B13: CML2001 - Nov. 2010, Marine Aquatic Ecotoxicity Pot. (MAETP inf.) [kg DCB-Equiv.] | C13: 156.01628
B14: CML2001 - Nov. 2010, Ozone Layer Depletion Potential (ODP, steady state) [kg R11-Equiv.] | C14: 2.4109233e-08
B15: CML2001 - Nov. 2010, Photochem. Ozone Creation Potential (POCP) [kg Ethene-Equiv.] | C15: 6.0104926e-05
B16: CML2001 - Nov. 2010, Terrestric Ecotoxicity Potential (TETP inf.) [kg DCB-Equiv.] | C16: 0.00033146921
A19: Impact 2002+ | B19: Impact 2002+ | C19: 0
B20: I02+ v2.1 - Aquatic acidification - Midpoint [kg SO2-Eq. to air] | C20: 0.00041751121
B21: I02+ v2.1 - Aquatic ecotoxicity - Midpoint [kg TEG-Eq. to water] | C21: 298.92724
B22: I02+ v2.1 - Aquatic eutrophication - Midpoint [kg PO4-Eq. to water] | C22: 0.00014842053
B23: I02+ v2.1 - Carcinogens - Midpoint [kg C2H3Cl-Eq. to air] | C23: 0.00042136773
B24: I02+ v2.1 - Global warming 500yr - Midpoint [kg CO2-Eq. to air] | C24: 0.2912551
B25: I02+ v2.1 - Ionizing radiation - Midpoint [Bq C-14-Eq. to air] | C25: 7.7076101
B26: I02+ v2.1 - Non-carcinogens - Midpoint [kg C2H3Cl-Eq. to air] | C26: 0.0047057675
B27: I02+ v2.1 - Ozone layer depletion - Midpoint [kg CFC-11-Eq. to air] | C27: 2.4109233e-08
B28: I02+ v2.1 - Photochemical oxidation - Midpoint [kg C2H4-Eq. to air] | C28: 3.638266e-05
B29: I02+ v2.1 - Respiratory effects - Midpoint [kg PM2.5-Eq. to air] | C29: 0.00011184215
B30: I02+ v2.1 - Terrestrial acidification/nutrification - Midpoint [kg SO2-Eq. to air] | C30: 0.002480072
B31: I02+ v2.1 - Terrestrial ecotoxicity - Midpoint [kg TEG-Eq. to soil] | C31: 0.289146
A33: ReCiPe 1.07 | B33: ReCiPe 1.07 | C33: 0
B34: ReCiPe 1.07 Endpoint (H) - Agricultural land occupation [species.yr] | C34: 3.697786e-11
B35: ReCiPe 1.07 Endpoint (H) - Climate change Ecosystems [species.yr] | C35: 2.4120771e-09
B36: ReCiPe 1.07 Endpoint (H) - Climate change Human Health [DALY] | C36: 4.2589603e-07
B37: ReCiPe 1.07 Endpoint (H) - Fossil depletion [$] | C37: 0.016454544
B38: ReCiPe 1.07 Endpoint (H) - Freshwater ecotoxicity [species.yr] | C38: 6.4641839e-13
B39: ReCiPe 1.07 Endpoint (H) - Freshwater eutrophication [species.yr] | C39: 2.1734981e-12
B40: ReCiPe 1.07 Endpoint (H) - Human toxicity [DALY] | C40: 3.9195844e-09
B41: ReCiPe 1.07 Endpoint (H) - Ionising radiation [DALY] | C41: 4.2279334e-07
B42: ReCiPe 1.07 Endpoint (H) - Marine ecotoxicity [species.yr] | C42: 1.4527472e-13
B43: ReCiPe 1.07 Endpoint (H) - Metal depletion [$] | C43: 8.5771245e-05
B44: ReCiPe 1.07 Endpoint (H) - Natural land transformation [species.yr] | C44: 4.5827128e-11
B45: ReCiPe 1.07 Endpoint (H) - Ozone depletion [DALY] | C45: 6.3387695e-11
... B68: ReCiPe 1.07 Midpoint (H) - Water depletion [m3] | C68: 0.25342326
A70: TRACI 2.1 | B70: TRACI 2.1 | C70: 0
B71: TRACI 2.1, Acidification Air [kg SO2-Equiv.] | C71: 0.000675389
B72: TRACI 2.1, Acidification Water [kg SO2-Equiv.] | C72: 2.0332826e-07
B73: TRACI 2.1, Ecotoxicity (recommended) [CTUeco] | C73: 4.7367295e-05
B74: TRACI 2.1, Eutrophication Air [kg N-Equiv.] | C74: 1.681275e-05
B75: TRACI 2.1, Eutrophication Water [kg N-Equiv.] | C75: 0.00037272946
B76: TRACI 2.1, Global Warming Air [kg CO2-Equiv.] | C76: 0.30419425
B77: TRACI 2.1, Human Health Particulate Air [kg PM2,5-Equiv.] | C77: 9.5574683e-05
B78: TRACI 2.1, Human toxicity, cancer (recommended) [CTUh] | C78: 5.5578823e-12
B79: TRACI 2.1, Human toxicity, non-canc. (recommended) [CTUh] | C79: 1.8133154e-12
B80: TRACI 2.1, Ozone Depletion Air [kg CFC 11-Equiv.] | C80: 2.8460722e-08
B81: TRACI 2.1, Resources, Fossil fuels [MJ surplus energy] | C81: 0.48118622
B82: TRACI 2.1, Smog Air [kg O3-Equiv.] | C82: 0.0093172646

Sheet 20. Corrugated board (SF)
C3: 20. Corrugated board (single face)
A4: CML 2001 - Nov. 2010 | B4: CML 2001 - Nov. 2010 | C4: 0
B5: CML2001 - Nov. 2010, Abiotic Depletion (ADP elements) [kg Sb-Equiv.] | C5: 1.2676284e-08
B6: CML2001 - Nov. 2010, Abiotic Depletion (ADP fossil) [MJ] | C6: 3.6850985
B7: CML2001 - Nov. 2010, Acidification Potential (AP) [kg SO2-Equiv.] | C7: 0.0004483692
B8: CML2001 - Nov. 2010, Eutrophication Potential (EP) [kg Phosphate-Equiv.] | C8: 0.00013634316
B9: CML2001 - Nov. 2010, Freshwater Aquatic Ecotoxicity Pot. (FAETP inf.) [kg DCB-Equiv.] | C9: 0.019202856
B10: CML2001 - Nov. 2010, Global Warming Potential (GWP 100 years) [kg CO2-Equiv.] | C10: 0.22622638
B11: CML2001 - Nov. 2010, Global Warming Potential, excl biogenic carbon (GWP 100 years) [kg CO2-Equiv.] | C11: 0.22649272
B12: CML2001 - Nov. 2010, Human Toxicity Potential (HTP inf.) [kg DCB-Equiv.] | C12: 0.024662304
B13: CML2001 - Nov. 2010, Marine Aquatic Ecotoxicity Pot. (MAETP inf.) [kg DCB-Equiv.] | C13: 97.278648
B14: CML2001 - Nov. 2010, Ozone Layer Depletion Potential (ODP, steady state) [kg R11-Equiv.] | C14: 2.0459217e-08
B15: CML2001 - Nov. 2010, Photochem. Ozone Creation Potential (POCP) [kg Ethene-Equiv.] | C15: 4.3817099e-05
B16: CML2001 - Nov. 2010, Terrestric Ecotoxicity Potential (TETP inf.) [kg DCB-Equiv.] | C16: 0.0002226247
A19: Impact 2002+ | B19: Impact 2002+ | C19: 0
B20: I02+ v2.1 - Aquatic acidification - Midpoint [kg SO2-Eq. to air] | C20: 0.00027264154
B21: I02+ v2.1 - Aquatic ecotoxicity - Midpoint [kg TEG-Eq. to water] | C21: 188.33405
B22: I02+ v2.1 - Aquatic eutrophication - Midpoint [kg PO4-Eq. to water] | C22: 9.3264819e-05
B23: I02+ v2.1 - Carcinogens - Midpoint [kg C2H3Cl-Eq. to air] | C23: 0.00026591251
B24: I02+ v2.1 - Global warming 500yr - Midpoint [kg CO2-Eq. to air] | C24: 0.21683228
B25: I02+ v2.1 - Ionizing radiation - Midpoint [Bq C-14-Eq. to air] | C25: 4.7909027
B26: I02+ v2.1 - Non-carcinogens - Midpoint [kg C2H3Cl-Eq. to air] | C26: 0.002971278
B27: I02+ v2.1 - Ozone layer depletion - Midpoint [kg CFC-11-Eq. to air] | C27: 2.0459217e-08
B28: I02+ v2.1 - Photochemical oxidation - Midpoint [kg C2H4-Eq. to air] | C28: 2.9261955e-05
B29: I02+ v2.1 - Respiratory effects - Midpoint [kg PM2.5-Eq. to air] | C29: 7.3930957e-05
B30: I02+ v2.1 - Terrestrial acidification/nutrification - Midpoint [kg SO2-Eq. to air] | C30: 0.0016756444
B31: I02+ v2.1 - Terrestrial ecotoxicity - Midpoint [kg TEG-Eq. to soil] | C31: 0.19556811
A33: ReCiPe 1.07 | B33: ReCiPe 1.07 | C33: 0
B34: ReCiPe 1.07 Endpoint (H) - Agricultural land occupation [species.yr] | C34: 2.2961088e-11
B35: ReCiPe 1.07 Endpoint (H) - Climate change Ecosystems [species.yr] | C35: 1.7957758e-09
B36: ReCiPe 1.07 Endpoint (H) - Climate change Human Health [DALY] | C36: 3.170769e-07
B37: ReCiPe 1.07 Endpoint (H) - Fossil depletion [$] | C37: 0.012543064
B38: ReCiPe 1.07 Endpoint (H) - Freshwater ecotoxicity [species.yr] | C38: 4.073227e-13
B39: ReCiPe 1.07 Endpoint (H) - Freshwater eutrophication [species.yr] | C39: 1.3657928e-12
B40: ReCiPe 1.07 Endpoint (H) - Human toxicity [DALY] | C40: 2.5327788e-09
B41: ReCiPe 1.07 Endpoint (H) - Ionising radiation [DALY] | C41: 2.6284573e-07
B42: ReCiPe 1.07 Endpoint (H) - Marine ecotoxicity [species.yr] | C42: 9.292308e-14
B43: ReCiPe 1.07 Endpoint (H) - Metal depletion [$] | C43: 6.2844935e-05
B44: ReCiPe 1.07 Endpoint (H) - Natural land transformation [species.yr] | C44: 3.6801963e-11
B45: ReCiPe 1.07 Endpoint (H) - Ozone depletion [DALY] | C45: 5.3999913e-11
... B68: ReCiPe 1.07 Midpoint (H) - Water depletion [m3] | C68: 0.16052307
A70: TRACI 2.1 | B70: TRACI 2.1 | C70: 0
B71: TRACI 2.1, Acidification Air [kg SO2-Equiv.] | C71: 0.0004484535
B72: TRACI 2.1, Acidification Water [kg SO2-Equiv.] | C72: 1.3161273e-07
B73: TRACI 2.1, Ecotoxicity (recommended) [CTUeco] | C73: 3.2872085e-05
B74: TRACI 2.1, Eutrophication Air [kg N-Equiv.] | C74: 1.1432898e-05
B75: TRACI 2.1, Eutrophication Water [kg N-Equiv.] | C75: 0.00023436801
B76: TRACI 2.1, Global Warming Air [kg CO2-Equiv.] | C76: 0.22647206
B77: TRACI 2.1, Human Health Particulate Air [kg PM2,5-Equiv.] | C77: 6.1120696e-05
B78: TRACI 2.1, Human toxicity, cancer (recommended) [CTUh] | C78: 4.3006167e-12
B79: TRACI 2.1, Human toxicity, non-canc. (recommended) [CTUh] | C79: 1.2770542e-12
B80: TRACI 2.1, Ozone Depletion Air [kg CFC 11-Equiv.] | C80: 2.4143289e-08
B81: TRACI 2.1, Resources, Fossil fuels [MJ surplus energy] | C81: 0.38753061
B82: TRACI 2.1, Smog Air [kg O3-Equiv.] | C82: 0.0063726141

Sheet 21. Corrugated board (SF)
C3: 21. Corrugated board (single face)
A4: CML 2001 - Nov. 2010 | B4: CML 2001 - Nov. 2010 | C4: 0
B5: CML2001 - Nov. 2010, Abiotic Depletion (ADP elements) [kg Sb-Equiv.] | C5: 1.5484482e-08
B6: CML2001 - Nov. 2010, Abiotic Depletion (ADP fossil) [MJ] | C6: 4.2604348
B7: CML2001 - Nov. 2010, Acidification Potential (AP) [kg SO2-Equiv.] | C7: 0.00062627978
B8: CML2001 - Nov. 2010, Eutrophication Potential (EP) [kg Phosphate-Equiv.] | C8: 0.00019978438
B9: CML2001 - Nov. 2010, Freshwater Aquatic Ecotoxicity Pot. (FAETP inf.) [kg DCB-Equiv.] | C9: 0.028920179
B10: CML2001 - Nov. 2010, Global Warming Potential (GWP 100 years) [kg CO2-Equiv.] | C10: 0.25864018
B11: CML2001 - Nov. 2010, Global Warming Potential, excl biogenic carbon (GWP 100 years) [kg CO2-Equiv.] | C11: 0.25905272
B12: CML2001 - Nov. 2010, Human Toxicity Potential (HTP inf.) [kg DCB-Equiv.] | C12: 0.036249828
B13: CML2001 - Nov. 2010, Marine Aquatic Ecotoxicity Pot. (MAETP inf.) [kg DCB-Equiv.] | C13: 148.93079
B14: CML2001 - Nov. 2010, Ozone Layer Depletion Potential (ODP, steady state) [kg R11-Equiv.] | C14: 1.839062e-08
B15: CML2001 - Nov. 2010, Photochem. Ozone Creation Potential (POCP) [kg Ethene-Equiv.] | C15: 5.1972827e-05
B16: CML2001 - Nov. 2010, Terrestric Ecotoxicity Potential (TETP inf.) [kg DCB-Equiv.] | C16: 0.00030282719
A19: Impact 2002+ | B19: Impact 2002+ | C19: 0
B20: I02+ v2.1 - Aquatic acidification - Midpoint [kg SO2-Eq. to air] | C20: 0.00038805589
B21: I02+ v2.1 - Aquatic ecotoxicity - Midpoint [kg TEG-Eq. to water] | C21: 283.69161
B22: I02+ v2.1 - Aquatic eutrophication - Midpoint [kg PO4-Eq. to water] | C22: 0.00014106464
B23: I02+ v2.1 - Carcinogens - Midpoint [kg C2H3Cl-Eq. to air] | C23: 0.00039951934
B24: I02+ v2.1 - Global warming 500yr - Midpoint [kg CO2-Eq. to air] | C24: 0.24801094
B25: I02+ v2.1 - Ionizing radiation - Midpoint [Bq C-14-Eq. to air] | C25: 7.3702774
B26: I02+ v2.1 - Non-carcinogens - Midpoint [kg C2H3Cl-Eq. to air] | C26: 0.0044603967
B27: I02+ v2.1 - Ozone layer depletion - Midpoint [kg CFC-11-Eq. to air] | C27: 1.839062e-08
B28: I02+ v2.1 - Photochemical oxidation - Midpoint [kg C2H4-Eq. to air] | C28: 2.9126772e-05
B29: I02+ v2.1 - Respiratory effects - Midpoint [kg PM2.5-Eq. to air] | C29: 0.0001031881
B30: I02+ v2.1 - Terrestrial acidification/nutrification - Midpoint [kg SO2-Eq. to air] | C30: 0.0022572902
B31: I02+ v2.1 - Terrestrial ecotoxicity - Midpoint [kg TEG-Eq. to soil] | C31: 0.26299471
A33: ReCiPe 1.07 | B33: ReCiPe 1.07 | C33: 0
B34: ReCiPe 1.07 Endpoint (H) - Agricultural land occupation [species.yr] | C34: 3.5379623e-11
B35: ReCiPe 1.07 Endpoint (H) - Climate change Ecosystems [species.yr] | C35: 2.0539062e-09
B36: ReCiPe 1.07 Endpoint (H) - Climate change Human Health [DALY] | C36: 3.6265442e-07
B37: ReCiPe 1.07 Endpoint (H) - Fossil depletion [$] | C37: 0.013761758
B38: ReCiPe 1.07 Endpoint (H) - Freshwater ecotoxicity [species.yr] | C38: 6.1342275e-13
B39: ReCiPe 1.07 Endpoint (H) - Freshwater eutrophication [species.yr] | C39: 2.0657726e-12
B40: ReCiPe 1.07 Endpoint (H) - Human toxicity [DALY] | C40: 3.6658699e-09
B41: ReCiPe 1.07 Endpoint (H) - Ionising radiation [DALY] | C41: 4.0425053e-07
B42: ReCiPe 1.07 Endpoint (H) - Marine ecotoxicity [species.yr] | C42: 1.3668165e-13
B43: ReCiPe 1.07 Endpoint (H) - Metal depletion [$] | C43: 7.3896588e-05
B44: ReCiPe 1.07 Endpoint (H) - Natural land transformation [species.yr] | C44: 3.6735433e-11
B45: ReCiPe 1.07 Endpoint (H) - Ozone depletion [DALY] | C45: 4.817449e-11
... B68: ReCiPe 1.07 Midpoint (H) - Water depletion [m3] | C68: 0.23977579
A70: TRACI 2.1 | B70: TRACI 2.1 | C70: 0
B71: TRACI 2.1, Acidification Air [kg SO2-Equiv.] | C71: 0.0006214239
B72: TRACI 2.1, Acidification Water [kg SO2-Equiv.] | C72: 1.8997517e-07
B73: TRACI 2.1, Ecotoxicity (recommended) [CTUeco] | C73: 4.2372212e-05
B74: TRACI 2.1, Eutrophication Air [kg N-Equiv.] | C74: 1.5239881e-05
B75: TRACI 2.1, Eutrophication Water [kg N-Equiv.] | C75: 0.00035412754
B76: TRACI 2.1, Global Warming Air [kg CO2-Equiv.] | C76: 0.25902307
B77: TRACI 2.1, Human Health Particulate Air [kg PM2,5-Equiv.] | C77: 8.9931968e-05
B78: TRACI 2.1, Human toxicity, cancer (recommended) [CTUh] | C78: 4.5938717e-12
B79: TRACI 2.1, Human toxicity, non-canc. (recommended) [CTUh] | C79: 1.6062079e-12
B80: TRACI 2.1, Ozone Depletion Air [kg CFC 11-Equiv.] | C80: 2.1717301e-08
B81: TRACI 2.1, Resources, Fossil fuels [MJ surplus energy] | C81: 0.38477835
B82: TRACI 2.1, Smog Air [kg O3-Equiv.] | C82: 0.0084143039

Sheet 22. Flour wheat
C3: 22. Flour wheat
A4: CML 2001 - Nov. 2010 | B4: CML 2001 - Nov. 2010 | C4: 0
B5: CML2001 - Nov. 2010, Abiotic Depletion (ADP elements) [kg Sb-Equiv.] | C5: 4.8525535e-09
B6: CML2001 - Nov. 2010, Abiotic Depletion (ADP fossil) [MJ] | C6: 1.1893767
B7: CML2001 - Nov. 2010, Acidification Potential (AP) [kg SO2-Equiv.] | C7: 0.0002437885
B8: CML2001 - Nov. 2010, Eutrophication Potential (EP) [kg Phosphate-Equiv.] | C8: 8.2709213e-05
B9: CML2001 - Nov. 2010, Freshwater Aquatic Ecotoxicity Pot. (FAETP inf.) [kg DCB-Equiv.] | C9: 0.012367047
B10: CML2001 - Nov. 2010, Global Warming Potential (GWP 100 years) [kg CO2-Equiv.] | C10: 0.070347283
B11: CML2001 - Nov. 2010, Global Warming Potential, excl biogenic carbon (GWP 100 years) [kg CO2-Equiv.] | C11: 0.070529303
B12: CML2001 - Nov. 2010, Human Toxicity Potential (HTP inf.) [kg DCB-Equiv.] | C12: 0.015063628
B13: CML2001 - Nov. 2010, Marine Aquatic Ecotoxicity Pot. (MAETP inf.) [kg DCB-Equiv.] | C13: 64.876674
B14: CML2001 - Nov. 2010, Ozone Layer Depletion Potential (ODP, steady state) [kg R11-Equiv.] | C14: 1.7712676e-09
B15: CML2001 - Nov. 2010, Photochem. Ozone Creation Potential (POCP) [kg Ethene-Equiv.] | C15: 1.5349259e-05
B16: CML2001 - Nov. 2010, Terrestric Ecotoxicity Potential (TETP inf.) [kg DCB-Equiv.] | C16: 0.00011357806
A19: Impact 2002+ | B19: Impact 2002+ | C19: 0
B20: I02+ v2.1 - Aquatic acidification - Midpoint [kg SO2-Eq. to air] | C20: 0.00015488104
B21: I02+ v2.1 - Aquatic ecotoxicity - Midpoint [kg TEG-Eq. to water] | C21: 121.3406
B22: I02+ v2.1 - Aquatic eutrophication - Midpoint [kg PO4-Eq. to water] | C22: 6.061957e-05
B23: I02+ v2.1 - Carcinogens - Midpoint [kg C2H3Cl-Eq. to air] | C23: 0.00017037713
B24: I02+ v2.1 - Global warming 500yr - Midpoint [kg CO2-Eq. to air] | C24: 0.06752788
B25: I02+ v2.1 - Ionizing radiation - Midpoint [Bq C-14-Eq. to air] | C25: 3.2277636
B26: I02+ v2.1 - Non-carcinogens - Midpoint [kg C2H3Cl-Eq. to air] | C26: 0.0019002964
B27: I02+ v2.1 - Ozone layer depletion - Midpoint [kg CFC-11-Eq. to air] | C27: 1.7712676e-09
B28: I02+ v2.1 - Photochemical oxidation - Midpoint [kg C2H4-Eq. to air] | C28: 5.1256995e-06
B29: I02+ v2.1 - Respiratory effects - Midpoint [kg PM2.5-Eq. to air] | C29: 4.0126064e-05
B30: I02+ v2.1 - Terrestrial acidification/nutrification - Midpoint [kg SO2-Eq. to air] | C30: 0.00083465835
B31: I02+ v2.1 - Terrestrial ecotoxicity - Midpoint [kg TEG-Eq. to soil] | C31: 0.096993776
A33: ReCiPe 1.07 | B33: ReCiPe 1.07 | C33: 0
B34: ReCiPe 1.07 Endpoint (H) - Agricultural land occupation [species.yr] | C34: 1.5521406e-11
B35: ReCiPe 1.07 Endpoint (H) - Climate change Ecosystems [species.yr] | C35: 5.5917689e-10
B36: ReCiPe 1.07 Endpoint (H) - Climate change Human Health [DALY] | C36: 9.8732763e-08
B37: ReCiPe 1.07 Endpoint (H) - Fossil depletion [$] | C37: 0.0033692584
B38: ReCiPe 1.07 Endpoint (H) - Freshwater ecotoxicity [species.yr] | C38: 2.6230646e-13
B39: ReCiPe 1.07 Endpoint (H) - Freshwater eutrophication [species.yr] | C39: 8.8771635e-13
B40: ReCiPe 1.07 Endpoint (H) - Human toxicity [DALY] | C40: 1.4947414e-09
B41: ReCiPe 1.07 Endpoint (H) - Ionising radiation [DALY] | C41: 1.7698659e-07
B42: ReCiPe 1.07 Endpoint (H) - Marine ecotoxicity [species.yr] | C42: 5.6847811e-14
B43: ReCiPe 1.07 Endpoint (H) - Metal depletion [$] | C43: 2.1421875e-05
B44: ReCiPe 1.07 Endpoint (H) - Natural land transformation [species.yr] | C44: 6.5414673e-12
B45: ReCiPe 1.07 Endpoint (H) - Ozone depletion [DALY] | C45: 4.3394132e-12
... B68: ReCiPe 1.07 Midpoint (H) - Water depletion [m3] | C68: 0.10156452
A70: TRACI 2.1 | B70: TRACI 2.1 | C70: 0
B71: TRACI 2.1, Acidification Air [kg SO2-Equiv.] | C71: 0.00023926783
B72: TRACI 2.1, Acidification Water [kg SO2-Equiv.] | C72: 7.7197494e-08
B73: TRACI 2.1, Ecotoxicity (recommended) [CTUeco] | C73: 1.4619993e-05
B74: TRACI 2.1, Eutrophication Air [kg N-Equiv.] | C74: 5.5465095e-06
B75: TRACI 2.1, Eutrophication Water [kg N-Equiv.] | C75: 0.00015200398
B76: TRACI 2.1, Global Warming Air [kg CO2-Equiv.] | C76: 0.070517346
B77: TRACI 2.1, Human Health Particulate Air [kg PM2,5-Equiv.] | C77: 3.7418434e-05
B78: TRACI 2.1, Human toxicity, cancer (recommended) [CTUh] | C78: 1.0408138e-12
B79: TRACI 2.1, Human toxicity, non-canc. (recommended) [CTUh] | C79: 5.3132392e-13
B80: TRACI 2.1, Ozone Depletion Air [kg CFC 11-Equiv.] | C80: 2.1040816e-09
B81: TRACI 2.1, Resources, Fossil fuels [MJ surplus energy] | C81: 0.06699896
B82: TRACI 2.1, Smog Air [kg O3-Equiv.] | C82: 0.0030178621

Sheet 23. Flour wheat wholemeal
C3: 23. Flour wheat wholemeal
A4: CML 2001 - Nov. 2010 | B4: CML 2001 - Nov. 2010 | C4: 0
B5: CML2001 - Nov. 2010, Abiotic Depletion (ADP elements) [kg Sb-Equiv.] | C5: 4.8525535e-09
B6: CML2001 - Nov. 2010, Abiotic Depletion (ADP fossil) [MJ] | C6: 1.1893767
B7: CML2001 - Nov. 2010, Acidification Potential (AP) [kg SO2-Equiv.] | C7: 0.0002437885
B8: CML2001 - Nov. 2010, Eutrophication Potential (EP) [kg Phosphate-Equiv.] | C8: 8.2709213e-05
B9: CML2001 - Nov. 2010, Freshwater Aquatic Ecotoxicity Pot. (FAETP inf.) [kg DCB-Equiv.] | C9: 0.012367047
B10: CML2001 - Nov. 2010, Global Warming Potential (GWP 100 years) [kg CO2-Equiv.] | C10: 0.070347283
B11: CML2001 - Nov. 2010, Global Warming Potential, excl biogenic carbon (GWP 100 years) [kg CO2-Equiv.] | C11: 0.070529303
B12: CML2001 - Nov. 2010, Human Toxicity Potential (HTP inf.) [kg DCB-Equiv.] | C12: 0.015063628
B13: CML2001 - Nov. 2010, Marine Aquatic Ecotoxicity Pot. (MAETP inf.) [kg DCB-Equiv.] | C13: 64.876674
B14: CML2001 - Nov. 2010, Ozone Layer Depletion Potential (ODP, steady state) [kg R11-Equiv.] | C14: 1.7712676e-09
B15: CML2001 - Nov. 2010, Photochem. Ozone Creation Potential (POCP) [kg Ethene-Equiv.] | C15: 1.5349259e-05
B16: CML2001 - Nov. 2010, Terrestric Ecotoxicity Potential (TETP inf.) [kg DCB-Equiv.] | C16: 0.00011357806
A19: Impact 2002+ | B19: Impact 2002+ | C19: 0
B20: I02+ v2.1 - Aquatic acidification - Midpoint [kg SO2-Eq. to air] | C20: 0.00015488104
B21: I02+ v2.1 - Aquatic ecotoxicity - Midpoint [kg TEG-Eq. to water] | C21: 121.3406
B22: I02+ v2.1 - Aquatic eutrophication - Midpoint [kg PO4-Eq. to water] | C22: 6.061957e-05
B23: I02+ v2.1 - Carcinogens - Midpoint [kg C2H3Cl-Eq. to air] | C23: 0.00017037713
B24: I02+ v2.1 - Global warming 500yr - Midpoint [kg CO2-Eq. to air] | C24: 0.06752788
B25: I02+ v2.1 - Ionizing radiation - Midpoint [Bq C-14-Eq. to air] | C25: 3.2277636
B26: I02+ v2.1 - Non-carcinogens - Midpoint [kg C2H3Cl-Eq. to air] | C26: 0.0019002964
B27: I02+ v2.1 - Ozone layer depletion - Midpoint [kg CFC-11-Eq. to air] | C27: 1.7712676e-09
B28: I02+ v2.1 - Photochemical oxidation - Midpoint [kg C2H4-Eq. to air] | C28: 5.1256995e-06
B29: I02+ v2.1 - Respiratory effects - Midpoint [kg PM2.5-Eq. to air] | C29: 4.0126064e-05
B30: I02+ v2.1 - Terrestrial acidification/nutrification - Midpoint [kg SO2-Eq. to air] | C30: 0.00083465835
B31: I02+ v2.1 - Terrestrial ecotoxicity - Midpoint [kg TEG-Eq. to soil] | C31: 0.096993776
A33: ReCiPe 1.07 | B33: ReCiPe 1.07 | C33: 0
B34: ReCiPe 1.07 Endpoint (H) - Agricultural land occupation [species.yr] | C34: 1.5521406e-11
B35: ReCiPe 1.07 Endpoint (H) - Climate change Ecosystems [species.yr] | C35: 5.5917689e-10
B36: ReCiPe 1.07 Endpoint (H) - Climate change Human Health [DALY] | C36: 9.8732763e-08
B37: ReCiPe 1.07 Endpoint (H) - Fossil depletion [$] | C37: 0.0033692584
B38: ReCiPe 1.07 Endpoint (H) - Freshwater ecotoxicity [species.yr] | C38: 2.6230646e-13
B39: ReCiPe 1.07 Endpoint (H) - Freshwater eutrophication [species.yr] | C39: 8.8771635e-13
B40: ReCiPe 1.07 Endpoint (H) - Human toxicity [DALY] | C40: 1.4947414e-09
B41: ReCiPe 1.07 Endpoint (H) - Ionising radiation [DALY] | C41: 1.7698659e-07
B42: ReCiPe 1.07 Endpoint (H) - Marine ecotoxicity [species.yr] | C42: 5.6847811e-14
B43: ReCiPe 1.07 Endpoint (H) - Metal depletion [$] | C43: 2.1421875e-05
B44: ReCiPe 1.07 Endpoint (H) - Natural land transformation [species.yr] | C44: 6.5414673e-12
B45: ReCiPe 1.07 Endpoint (H) - Ozone depletion [DALY] | C45: 4.3394132e-12
... B68: ReCiPe 1.07 Midpoint (H) - Water depletion [m3] | C68: 0.10156452
A70: TRACI 2.1 | B70: TRACI 2.1 | C70: 0
B71: TRACI 2.1, Acidification Air [kg SO2-Equiv.] | C71: 0.00023926783
B72: TRACI 2.1, Acidification Water [kg SO2-Equiv.] | C72: 7.7197494e-08
B73: TRACI 2.1, Ecotoxicity (recommended) [CTUeco] | C73: 1.4619993e-05
B74: TRACI 2.1, Eutrophication Air [kg N-Equiv.] | C74: 5.5465095e-06
B75: TRACI 2.1, Eutrophication Water [kg N-Equiv.] | C75: 0.00015200398
B76: TRACI 2.1, Global Warming Air [kg CO2-Equiv.] | C76: 0.070517346
B77: TRACI 2.1, Human Health Particulate Air [kg PM2,5-Equiv.] | C77: 3.7418434e-05
B78: TRACI 2.1, Human toxicity, cancer (recommended) [CTUh] | C78: 1.0408138e-12
B79: TRACI 2.1, Human toxicity, non-canc. (recommended) [CTUh] | C79: 5.3132392e-13
B80: TRACI 2.1, Ozone Depletion Air [kg CFC 11-Equiv.] | C80: 2.1040816e-09
B81: TRACI 2.1, Resources, Fossil fuels [MJ surplus energy] | C81: 0.06699896
B82: TRACI 2.1, Smog Air [kg O3-Equiv.] | C82: 0.0030178621

Sheet 24. Flour whole oats
C3: 24. Oat flour
A4: CML 2001 - Nov. 2010 | B4: CML 2001 - Nov. 2010 | C4: 0
B5: CML2001 - Nov. 2010, Abiotic Depletion (ADP elements) [kg Sb-Equiv.] | C5: 4.4307329e-09
B6: CML2001 - Nov. 2010, Abiotic Depletion (ADP fossil) [MJ] | C6: 1.2820095
B7: CML2001 - Nov. 2010, Acidification Potential (AP) [kg SO2-Equiv.] | C7: 0.00015868756
B8: CML2001 - Nov. 2010, Eutrophication Potential (EP) [kg Phosphate-Equiv.] | C8: 4.8488889e-05
B9: CML2001 - Nov. 2010, Freshwater Aquatic Ecotoxicity Pot. (FAETP inf.) [kg DCB-Equiv.] | C9: 0.0068488778
B10: CML2001 - Nov. 2010, Global Warming Potential (GWP 100 years) [kg CO2-Equiv.] | C10: 0.078629108
B11: CML2001 - Nov. 2010, Global Warming Potential, excl biogenic carbon (GWP 100 years) [kg CO2-Equiv.] | C11: 0.078724386
B12: CML2001 - Nov. 2010, Human Toxicity Potential (HTP inf.) [kg DCB-Equiv.] | C12: 0.0087736743
B13: CML2001 - Nov. 2010, Marine Aquatic Ecotoxicity Pot. (MAETP inf.) [kg DCB-Equiv.] | C13: 34.756128
B14: CML2001 - Nov. 2010, Ozone Layer Depletion Potential (ODP, steady state) [kg R11-Equiv.] | C14: 6.9856683e-09
B15: CML2001 - Nov. 2010, Photochem. Ozone Creation Potential (POCP) [kg Ethene-Equiv.] | C15: 1.5276487e-05
B16: CML2001 - Nov. 2010, Terrestric Ecotoxicity Potential (TETP inf.) [kg DCB-Equiv.] | C16: 7.8587851e-05
A19: Impact 2002+ | B19: Impact 2002+ | C19: 0
B20: I02+ v2.1 - Aquatic acidification - Midpoint [kg SO2-Eq. to air] | C20: 9.6674969e-05
B21: I02+ v2.1 - Aquatic ecotoxicity - Midpoint [kg TEG-Eq. to water] | C21: 67.172446
B22: I02+ v2.1 - Aquatic eutrophication - Midpoint [kg PO4-Eq. to water] | C22: 3.3278917e-05
B23: I02+ v2.1 - Carcinogens - Midpoint [kg C2H3Cl-Eq. to air] | C23: 9.4816259e-05
B24: I02+ v2.1 - Global warming 500yr - Midpoint [kg CO2-Eq. to air] | C24: 0.075366793
B25: I02+ v2.1 - Ionizing radiation - Midpoint [Bq C-14-Eq. to air] | C25: 1.7126048
B26: I02+ v2.1 - Non-carcinogens - Midpoint [kg C2H3Cl-Eq. to air] | C26: 0.0010593718
B27: I02+ v2.1 - Ozone layer depletion - Midpoint [kg CFC-11-Eq. to air] | C27: 6.9856683e-09
B28: I02+ v2.1 - Photochemical oxidation - Midpoint [kg C2H4-Eq. to air] | C28: 1.0062065e-05
B29: I02+ v2.1 - Respiratory effects - Midpoint [kg PM2.5-Eq. to air] | C29: 2.6163803e-05
B30: I02+ v2.1 - Terrestrial acidification/nutrification - Midpoint [kg SO2-Eq. to air] | C30: 0.00059096067
B31: I02+ v2.1 - Terrestrial ecotoxicity - Midpoint [kg TEG-Eq. to soil] | C31: 0.068960817
A33: ReCiPe 1.07 | B33: ReCiPe 1.07 | C33: 0
B34: ReCiPe 1.07 Endpoint (H) - Agricultural land occupation [species.yr] | C34: 8.2093202e-12
B35: ReCiPe 1.07 Endpoint (H) - Climate change Ecosystems [species.yr] | C35: 6.2417549e-10
B36: ReCiPe 1.07 Endpoint (H) - Climate change Human Health [DALY] | C36: 1.1020954e-07
B37: ReCiPe 1.07 Endpoint (H) - Fossil depletion [$] | C37: 0.0043450735
B38: ReCiPe 1.07 Endpoint (H) - Freshwater ecotoxicity [species.yr] | C38: 1.4527495e-13
B39: ReCiPe 1.07 Endpoint (H) - Freshwater eutrophication [species.yr] | C39: 4.873443e-13
B40: ReCiPe 1.07 Endpoint (H) - Human toxicity [DALY] | C40: 8.9961546e-10
B41: ReCiPe 1.07 Endpoint (H) - Ionising radiation [DALY] | C41: 9.3956782e-08
B42: ReCiPe 1.07 Endpoint (H) - Marine ecotoxicity [species.yr] | C42: 3.3060088e-14
B43: ReCiPe 1.07 Endpoint (H) - Metal depletion [$] | C43: 2.189421e-05
B44: ReCiPe 1.07 Endpoint (H) - Natural land transformation [species.yr] | C44: 1.2657379e-11
B45: ReCiPe 1.07 Endpoint (H) - Ozone depletion [DALY] | C45: 1.8428762e-11
... B68: ReCiPe 1.07 Midpoint (H) - Water depletion [m3] | C68: 0.057202489
A70: TRACI 2.1 | B70: TRACI 2.1 | C70: 0
B71: TRACI 2.1, Acidification Air [kg SO2-Equiv.] | C71: 0.00015859275
B72: TRACI 2.1, Acidification Water [kg SO2-Equiv.] | C72: 4.6734446e-08
B73: TRACI 2.1, Ecotoxicity (recommended) [CTUeco] | C73: 1.1545341e-05
B74: TRACI 2.1, Eutrophication Air [kg N-Equiv.] | C74: 4.028067e-06
B75: TRACI 2.1, Eutrophication Water [kg N-Equiv.] | C75: 8.3618632e-05
B76: TRACI 2.1, Global Warming Air [kg CO2-Equiv.] | C76: 0.078717054
B77: TRACI 2.1, Human Health Particulate Air [kg PM2,5-Equiv.] | C77: 2.1746188e-05
B78: TRACI 2.1, Human toxicity, cancer (recommended) [CTUh] | C78: 1.4866646e-12
B79: TRACI 2.1, Human toxicity, non-canc. (recommended) [CTUh] | C79: 4.4752686e-13
B80: TRACI 2.1, Ozone Depletion Air [kg CFC 11-Equiv.] | C80: 8.2439494e-09
B81: TRACI 2.1, Resources, Fossil fuels [MJ surplus energy] | C81: 0.13323282
B82: TRACI 2.1, Smog Air [kg O3-Equiv.] | C82: 0.0022432029

Sheet 25. Gelatine powder
C3: 25. Gelatine bovine powder
A4: CML 2001 - Nov. 2010 | B4: CML 2001 - Nov. 2010 | C4: 0
B5: CML2001 - Nov. 2010, Abiotic Depletion (ADP elements) [kg Sb-Equiv.] | C5: 1.1929593e-07
B6: CML2001 - Nov. 2010, Abiotic Depletion (ADP fossil) [MJ] | C6: 34.602632
B7: CML2001 - Nov. 2010, Acidification Potential (AP) [kg SO2-Equiv.] | C7: 0.0041307608
B8: CML2001 - Nov. 2010, Eutrophication Potential (EP) [kg Phosphate-Equiv.] | C8: 0.00087296128
B9: CML2001 - Nov. 2010, Freshwater Aquatic Ecotoxicity Pot. (FAETP inf.) [kg DCB-Equiv.] | C9: 0.098489473
B10: CML2001 - Nov. 2010, Global Warming Potential (GWP 100 years) [kg CO2-Equiv.] | C10: 2.2442644
B11: CML2001 - Nov. 2010, Global Warming Potential, excl biogenic carbon (GWP 100 years) [kg CO2-Equiv.] | C11: 2.2448086
B12: CML2001 - Nov. 2010, Human Toxicity Potential (HTP inf.) [kg DCB-Equiv.] | C12: 0.14759615
B13: CML2001 - Nov. 2010, Marine Aquatic Ecotoxicity Pot. (MAETP inf.) [kg DCB-Equiv.] | C13: 387.72891
B14: CML2001 - Nov. 2010, Ozone Layer Depletion Potential (ODP, steady state) [kg R11-Equiv.] | C14: 2.90404e-07
B15: CML2001 - Nov. 2010, Photochem. Ozone Creation Potential (POCP) [kg Ethene-Equiv.] | C15: 0.0004955371
B16: CML2001 - Nov. 2010, Terrestric Ecotoxicity Potential (TETP inf.) [kg DCB-Equiv.] | C16: 0.0023988601
A19: Impact 2002+ | B19: Impact 2002+ | C19: 0
B20: I02+ v2.1 - Aquatic acidification - Midpoint [kg SO2-Eq. to air] | C20: 0.0025490531
B21: I02+ v2.1 - Aquatic ecotoxicity - Midpoint [kg TEG-Eq. to water] | C21: 742.58158
B22: I02+ v2.1 - Aquatic eutrophication - Midpoint [kg PO4-Eq. to water] | C22: 0.00049050677
B23: I02+ v2.1 - Carcinogens - Midpoint [kg C2H3Cl-Eq. to air] | C23: 0.0011668225
B24: I02+ v2.1 - Global warming 500yr - Midpoint [kg CO2-Eq. to air] | C24: 2.1549046
B25: I02+ v2.1 - Ionizing radiation - Midpoint [Bq C-14-Eq. to air] | C25: 12.282339
B26: I02+ v2.1 - Non-carcinogens - Midpoint [kg C2H3Cl-Eq. to air] | C26: 0.01320918
B27: I02+ v2.1 - Ozone layer depletion - Midpoint [kg CFC-11-Eq. to air] | C27: 2.90404e-07
B28: I02+ v2.1 - Photochemical oxidation - Midpoint [kg C2H4-Eq. to air] | C28: 0.00040080684
B29: I02+ v2.1 - Respiratory effects - Midpoint [kg PM2.5-Eq. to air] | C29: 0.00059430749
B30: I02+ v2.1 - Terrestrial acidification/nutrification - Midpoint [kg SO2-Eq. to air] | C30: 0.014698194
B31: I02+ v2.1 - Terrestrial ecotoxicity - Midpoint [kg TEG-Eq. to soil] | C31: 1.5839592
A33: ReCiPe 1.07 | B33: ReCiPe 1.07 | C33: 0
B34: ReCiPe 1.07 Endpoint (H) - Agricultural land occupation [species.yr] | C34: 4.05492e-11
B35: ReCiPe 1.07 Endpoint (H) - Climate change Ecosystems [species.yr] | C35: 1.7798257e-08
B36: ReCiPe 1.07 Endpoint (H) - Climate change Human Health [DALY] | C36: 3.1426059e-06
B37: ReCiPe 1.07 Endpoint (H) - Fossil depletion [$] | C37: 0.13120509
B38: ReCiPe 1.07 Endpoint (H) - Freshwater ecotoxicity [species.yr] | C38: 2.1306403e-12
B39: ReCiPe 1.07 Endpoint (H) - Freshwater eutrophication [species.yr] | C39: 7.185154e-12
B40: ReCiPe 1.07 Endpoint (H) - Human toxicity [DALY] | C40: 1.4317115e-08
B41: ReCiPe 1.07 Endpoint (H) - Ionising radiation [DALY] | C41: 7.3532528e-07
B42: ReCiPe 1.07 Endpoint (H) - Marine ecotoxicity [species.yr] | C42: 5.2178747e-13
B43: ReCiPe 1.07 Endpoint (H) - Metal depletion [$] | C43: 0.00064147574
B44: ReCiPe 1.07 Endpoint (H) - Natural land transformation [species.yr] | C44: 5.4269651e-10
B45: ReCiPe 1.07 Endpoint (H) - Ozone depletion [DALY] | C45: 7.7320675e-10
... B68: ReCiPe 1.07 Midpoint (H) - Water depletion [m3] | C68: 4.0412514
A70: TRACI 2.1 | B70: TRACI 2.1 | C70: 0
B71: TRACI 2.1, Acidification Air [kg SO2-Equiv.] | C71: 0.0040872104
B72: TRACI 2.1, Acidification Water [kg SO2-Equiv.] | C72: 6.947349e-07
B73: TRACI 2.1, Ecotoxicity (recommended) [CTUeco] | C73: 0.00042048136
B74: TRACI 2.1, Eutrophication Air [kg N-Equiv.] | C74: 9.866023e-05
B75: TRACI 2.1, Eutrophication Water [kg N-Equiv.] | C75: 0.0012784291
B76: TRACI 2.1, Global Warming Air [kg CO2-Equiv.] | C76: 2.2440899
B77: TRACI 2.1, Human Health Particulate Air [kg PM2,5-Equiv.] | C77: 0.00037329094
B78: TRACI 2.1, Human toxicity, cancer (recommended) [CTUh] | C78: 5.6787568e-11
B79: TRACI 2.1, Human toxicity, non-canc. (recommended) [CTUh] | C79: 1.1344412e-11
B80: TRACI 2.1, Ozone Depletion Air [kg CFC 11-Equiv.] | C80: 3.4463733e-07
B81: TRACI 2.1, Resources, Fossil fuels [MJ surplus energy] | C81: 4.7500719
B82: TRACI 2.1, Smog Air [kg O3-Equiv.] | C82: 0.056411602

Sheet 26. Granulated sugar
C3: 26. Granulated sugar
A4: CML 2001 - Nov. 2010 | B4: CML 2001 - Nov. 2010 | C4: 0
B5: CML2001 - Nov. 2010, Abiotic Depletion (ADP elements) [kg Sb-Equiv.] | C5: 4.6670553e-08
B6: CML2001 - Nov. 2010, Abiotic Depletion (ADP fossil) [MJ] | C6: 16.200124
B7: CML2001 - Nov. 2010, Acidification Potential (AP) [kg SO2-Equiv.] | C7: 0.00079246152
B8: CML2001 - Nov. 2010, Eutrophication Potential (EP) [kg Phosphate-Equiv.] | C8: 0.00013895171
B9: CML2001 - Nov. 2010, Freshwater Aquatic Ecotoxicity Pot. (FAETP inf.) [kg DCB-Equiv.] | C9: 0.011027535
B10: CML2001 - Nov. 2010, Global Warming Potential (GWP 100 years) [kg CO2-Equiv.] | C10: 1.0262561
B11: CML2001 - Nov. 2010, Global Warming Potential, excl biogenic carbon (GWP 100 years) [kg CO2-Equiv.] | C11: 1.0262842
B12: CML2001 - Nov. 2010, Human Toxicity Potential (HTP inf.) [kg DCB-Equiv.] | C12: 0.023910627
B13: CML2001 - Nov. 2010, Marine Aquatic Ecotoxicity Pot. (MAETP inf.) [kg DCB-Equiv.] | C13: 29.369127
B14: CML2001 - Nov. 2010, Ozone Layer Depletion Potential (ODP, steady state) [kg R11-Equiv.] | C14: 1.4742334e-07
B15: CML2001 - Nov. 2010, Photochem. Ozone Creation Potential (POCP) [kg Ethene-Equiv.] | C15: 0.00017826457
B16: CML2001 - Nov. 2010, Terrestric Ecotoxicity Potential (TETP inf.) [kg DCB-Equiv.] | C16: 0.00048231451
A19: Impact 2002+ | B19: Impact 2002+ | C19: 0
B20: I02+ v2.1 - Aquatic acidification - Midpoint [kg SO2-Eq. to air] | C20: 0.00040288873
B21: I02+ v2.1 - Aquatic ecotoxicity - Midpoint [kg TEG-Eq. to water] | C21: 107.5652
B22: I02+ v2.1 - Aquatic eutrophication - Midpoint [kg PO4-Eq. to water] | C22: 4.6955814e-05
B23: I02+ v2.1 - Carcinogens - Midpoint [kg C2H3Cl-Eq. to air] | C23: 0.00016312732
B24: I02+ v2.1 - Global warming 500yr - Midpoint [kg CO2-Eq. to air] | C24: 0.98242972
B25: I02+ v2.1 - Ionizing radiation - Midpoint [Bq C-14-Eq. to air] | C25: 1.0581822
B26: I02+ v2.1 - Non-carcinogens - Midpoint [kg C2H3Cl-Eq. to air] | C26: 0.0018641601
B27: I02+ v2.1 - Ozone layer depletion - Midpoint [kg CFC-11-Eq. to air] | C27: 1.4742334e-07
B28: I02+ v2.1 - Photochemical oxidation - Midpoint [kg C2H4-Eq. to air] | C28: 0.00018001465
B29: I02+ v2.1 - Respiratory effects - Midpoint [kg PM2.5-Eq. to air] | C29: 0.00013152287
B30: I02+ v2.1 - Terrestrial acidification/nutrification - Midpoint [kg SO2-Eq. to air] | C30: 0.0038707781
B31: I02+ v2.1 - Terrestrial ecotoxicity - Midpoint [kg TEG-Eq. to soil] | C31: 0.45677545
A33: ReCiPe 1.07 | B33: ReCiPe 1.07 | C33: 0
B34: ReCiPe 1.07 Endpoint (H) - Agricultural land occupation [species.yr] | C34: 4.4542414e-12
B35: ReCiPe 1.07 Endpoint (H) - Climate change Ecosystems [species.yr] | C35: 8.1373022e-09
B36: ReCiPe 1.07 Endpoint (H) - Climate change Human Health [DALY] | C36: 1.4367899e-06
B37: ReCiPe 1.07 Endpoint (H) - Fossil depletion [$] | C37: 0.063218893
B38: ReCiPe 1.07 Endpoint (H) - Freshwater ecotoxicity [species.yr] | C38: 2.3412543e-13
B39: ReCiPe 1.07 Endpoint (H) - Freshwater eutrophication [species.yr] | C39: 6.8776896e-13
B40: ReCiPe 1.07 Endpoint (H) - Human toxicity [DALY] | C40: 3.077381e-09
B41: ReCiPe 1.07 Endpoint (H) - Ionising radiation [DALY] | C41: 5.9243318e-08
B42: ReCiPe 1.07 Endpoint (H) - Marine ecotoxicity [species.yr] | C42: 8.901075e-14
B43: ReCiPe 1.07 Endpoint (H) - Metal depletion [$] | C43: 0.00026273013
B44: ReCiPe 1.07 Endpoint (H) - Natural land transformation [species.yr] | C44: 2.2526921e-10
B45: ReCiPe 1.07 Endpoint (H) - Ozone depletion [DALY] | C45: 3.9310115e-10
... B68: ReCiPe 1.07 Midpoint (H) - Water depletion [m3] | C68: 0.11378317
A70: TRACI 2.1 | B70: TRACI 2.1 | C70: 0
B71: TRACI 2.1, Acidification Air [kg SO2-Equiv.] | C71: 0.00084693436
B72: TRACI 2.1, Acidification Water [kg SO2-Equiv.] | C72: 1.6556177e-07
B73: TRACI 2.1, Ecotoxicity (recommended) [CTUeco] | C73: 9.6800905e-05
B74: TRACI 2.1, Eutrophication Air [kg N-Equiv.] | C74: 2.8175087e-05
B75: TRACI 2.1, Eutrophication Water [kg N-Equiv.] | C75: 0.00012190798
B76: TRACI 2.1, Global Warming Air [kg CO2-Equiv.] | C76: 1.0262563
B77: TRACI 2.1, Human Health Particulate Air [kg PM2,5-Equiv.] | C77: 5.8232618e-05
B78: TRACI 2.1, Human toxicity, cancer (recommended) [CTUh] | C78: 2.303663e-11
B79: TRACI 2.1, Human toxicity, non-canc. (recommended) [CTUh] | C79: 4.1966447e-12
B80: TRACI 2.1, Ozone Depletion Air [kg CFC 11-Equiv.] | C80: 1.738048e-07
B81: TRACI 2.1, Resources, Fossil fuels [MJ surplus energy] | C81: 2.3945305
B82: TRACI 2.1, Smog Air [kg O3-Equiv.] | C82: 0.016581593

Sheet 27. Granulated sugar
C3: 27. Granulated sugar
A4: CML 2001 - Nov. 2010 | B4: CML 2001 - Nov. 2010 | C4: 0
B5: CML2001 - Nov. 2010, Abiotic Depletion (ADP elements) [kg Sb-Equiv.] | C5: 7.2698043e-09
B6: CML2001 - Nov. 2010, Abiotic Depletion (ADP fossil) [MJ] | C6: 2.4693068
B7: CML2001 - Nov. 2010, Acidification Potential (AP) [kg SO2-Equiv.] | C7: 0.00012008964
B8: CML2001 - Nov. 2010, Eutrophication Potential (EP) [kg Phosphate-Equiv.] | C8: 2.2076209e-05
B9: CML2001 - Nov. 2010, Freshwater Aquatic Ecotoxicity Pot. (FAETP inf.) [kg DCB-Equiv.] | C9: 0.0020799971
B10: CML2001 - Nov. 2010, Global Warming Potential (GWP 100 years) [kg CO2-Equiv.] | C10: 0.14795386
B11: CML2001 - Nov. 2010, Global Warming Potential, excl biogenic carbon (GWP 100 years) [kg CO2-Equiv.] | C11: 0.14795994
B12: CML2001 - Nov. 2010, Human Toxicity Potential (HTP inf.) [kg DCB-Equiv.] | C12: 0.004951671
B13: CML2001 - Nov. 2010, Marine Aquatic Ecotoxicity Pot. (MAETP inf.) [kg DCB-Equiv.] | C13: 5.9958911
B14: CML2001 - Nov. 2010, Ozone Layer Depletion Potential (ODP, steady state) [kg R11-Equiv.] | C14: 2.1150381e-08
B15: CML2001 - Nov. 2010, Photochem. Ozone Creation Potential (POCP) [kg Ethene-Equiv.] | C15: 2.5934751e-05
B16: CML2001 - Nov. 2010, Terrestric Ecotoxicity Potential (TETP inf.) [kg DCB-Equiv.] | C16: 8.0413305e-05
A19: Impact 2002+ | B19: Impact 2002+ | C19: 0
B20: I02+ v2.1 - Aquatic acidification - Midpoint [kg SO2-Eq. to air] | C20: 6.2040655e-05
B21: I02+ v2.1 - Aquatic ecotoxicity - Midpoint [kg TEG-Eq. to water] | C21: 24.431965
B22: I02+ v2.1 - Aquatic eutrophication - Midpoint [kg PO4-Eq. to water] | C22: 8.3368048e-06
B23: I02+ v2.1 - Carcinogens - Midpoint [kg C2H3Cl-Eq. to air] | C23: 3.8656112e-05
B24: I02+ v2.1 - Global warming 500yr - Midpoint [kg CO2-Eq. to air] | C24: 0.14164561
B25: I02+ v2.1 - Ionizing radiation - Midpoint [Bq C-14-Eq. to air] | C25: 1.6140303
B26: I02+ v2.1 - Non-carcinogens - Midpoint [kg C2H3Cl-Eq. to air] | C26: 0.00043708743
B27: I02+ v2.1 - Ozone layer depletion - Midpoint [kg CFC-11-Eq. to air] | C27: 2.1150381e-08
B28: I02+ v2.1 - Photochemical oxidation - Midpoint [kg C2H4-Eq. to air] | C28: 2.5929754e-05
B29: I02+ v2.1 - Respiratory effects - Midpoint [kg PM2.5-Eq. to air] | C29: 2.020079e-05
B30: I02+ v2.1 - Terrestrial acidification/nutrification - Midpoint [kg SO2-Eq. to air] | C30: 0.00057518337
B31: I02+ v2.1 - Terrestrial ecotoxicity - Midpoint [kg TEG-Eq. to soil] | C31: 0.073986985
A33: ReCiPe 1.07 | B33: ReCiPe 1.07 | C33: 0
B34: ReCiPe 1.07 Endpoint (H) - Agricultural land occupation [species.yr] | C34: 8.9717495e-13
B35: ReCiPe 1.07 Endpoint (H) - Climate change Ecosystems [species.yr] | C35: 1.1731574e-09
B36: ReCiPe 1.07 Endpoint (H) - Climate change Human Health [DALY] | C36: 2.0714244e-07
B37: ReCiPe 1.07 Endpoint (H) - Fossil depletion [$] | C37: 0.0090912883
B38: ReCiPe 1.07 Endpoint (H) - Freshwater ecotoxicity [species.yr] | C38: 4.2622395e-14
B39: ReCiPe 1.07 Endpoint (H) - Freshwater eutrophication [species.yr] | C39: 1.2209002e-13
B40: ReCiPe 1.07 Endpoint (H) - Human toxicity [DALY] | C40: 5.2501028e-10
B41: ReCiPe 1.07 Endpoint (H) - Ionising radiation [DALY] | C41: 9.9952591e-08
B42: ReCiPe 1.07 Endpoint (H) - Marine ecotoxicity [species.yr] | C42: 1.4721495e-14
B43: ReCiPe 1.07 Endpoint (H) - Metal depletion [$] | C43: 4.0453234e-05
B44: ReCiPe 1.07 Endpoint (H) - Natural land transformation [species.yr] | C44: 3.2473568e-11
B45: ReCiPe 1.07 Endpoint (H) - Ozone depletion [DALY] | C45: 5.6395298e-11
... B68: ReCiPe 1.07 Midpoint (H) - Water depletion [m3] | C68: 0.072986917
A70: TRACI 2.1 | B70: TRACI 2.1 | C70: 0
B71: TRACI 2.1, Acidification Air [kg SO2-Equiv.] | C71: 0.00012767147
B72: TRACI 2.1, Acidification Water [kg SO2-Equiv.] | C72: 2.4719756e-08
B73: TRACI 2.1, Ecotoxicity (recommended) [CTUeco] | C73: 1.4420006e-05
B74: TRACI 2.1, Eutrophication Air [kg N-Equiv.] | C74: 4.1703263e-06
B75: TRACI 2.1, Eutrophication Water [kg N-Equiv.] | C75: 2.1529891e-05
B76: TRACI 2.1, Global Warming Air [kg CO2-Equiv.] | C76: 0.14795403
B77: TRACI 2.1, Human Health Particulate Air [kg PM2,5-Equiv.] | C77: 9.8884133e-06
B78: TRACI 2.1, Human toxicity, cancer (recommended) [CTUh] | C78: 3.3258649e-12
B79: TRACI 2.1, Human toxicity, non-canc. (recommended) [CTUh] | C79: 6.4183673e-13
B80: TRACI 2.1, Ozone Depletion Air [kg CFC 11-Equiv.] | C80: 2.4938133e-08
B81: TRACI 2.1, Resources, Fossil fuels [MJ surplus energy] | C81: 0.34345653
B82: TRACI 2.1, Smog Air [kg O3-Equiv.] | C82: 0.002447745

Sheet 28. Gum arabic powder
C3: 28. Gum arabic powder
A4: CML 2001 - Nov. 2010 | B4: CML 2001 - Nov. 2010 | C4: 0
B5: CML2001 - Nov. 2010, Abiotic Depletion (ADP elements) [kg Sb-Equiv.] | C5: 4.980135e-08
B6: CML2001 - Nov. 2010, Abiotic Depletion (ADP fossil) [MJ] | C6: 16.093279
B7: CML2001 - Nov. 2010, Acidification Potential (AP) [kg SO2-Equiv.] | C7: 0.00077513362
B8: CML2001 - Nov. 2010, Eutrophication Potential (EP) [kg Phosphate-Equiv.] | C8: 0.00015891515
B9: CML2001 - Nov. 2010, Freshwater Aquatic Ecotoxicity Pot. (FAETP inf.) [kg DCB-Equiv.] | C9: 0.019888596
B10: CML2001 - Nov. 2010, Global Warming Potential (GWP 100 years) [kg CO2-Equiv.] | C10: 0.83402431
B11: CML2001 - Nov. 2010, Global Warming Potential, excl biogenic carbon (GWP 100 years) [kg CO2-Equiv.] | C11: 0.8340947
