Workbook

Sheet Authors
C2: Can multinational companies play an effective role in collecting life cycle inventory data? A confectionery case study by Nestlé
C3: J. H. Miah a,b,*, A. Griffiths c, R. McNeill d, , S. Halvorson e, U. Schenker f, N.D. Espinoza-Orias f, S. Morse b, A. Yang g, and J. Sadhukhan b
C4: a Nestlé UK Ltd, Rowan Drive, Fawdon, Newcastle Upon Tyne, NE3 3TR, UK
C5: b Centre for Environmental Strategy (CES), Faculty of Engineering & Physical Sciences, University of Surrey, Guildford, GU2 7XH, UK
C6: c Nestlé UK Ltd, Group Technical and Production, Haxby Road, York, YO91 1XY, UK
C7: d Nestlé Confectionery Product & Technology Centre (PTC), Haxby Road, York, YO91 1XY, UK
C8: e Nestlé Research Centre (NRC), CT-Nutrition, Health, Wellness & Sustainability, 1000 Lausanne 26, Switzerland
C9: f Nestlé Research Centre (NRC), Sustainability & Novel Packaging, 1000 Lausanne 26, Switzerland
C10: g Department of Engineering Science, University of Oxford, Parks Road, Oxford, OX1 3PJ, UK
C12: E-mail address: j.miah@surrey.ac.uk (J.H. Miah)

Sheet Modelling information
B3: LCA tool: | C3: GaBi 6.0
B6: Energy profiles:
B8: RER: hard coal, burned in industrial furnace 1-10MW
B9: RER: heat, at cogen 1MWe lean burn, allocation exergy
B10: RER: heat, natural gas, at industrial furnace >100kW
B11: RER: heavy fuel oil, burned in industrial furnace 1MW, non-modulating
B12: RER: light fuel oil, burned in industrial furnace 1MW, non-modulating
B13: RER: natural gas, burned in industrial furnace >100kW
B14: CH: heat, softwood chips from industry, at furnace 1000kW
B15: Electricity, medium voltage, production (profile matched to closest country)

Sheet Aggregated LCI
C4: Crude oil | D4: 42-44 | E4: MJ/kg | F4: http://www.world-nuclear.org/info/Facts-and-Figures/Heat-values-of-various-fuels/
C5: average | D5: 43 | E5: MJ/kg
C7: Hard black coal | D7: 23.9 | E7: MJ/kg | F7: http://www.world-nuclear.org/info/Facts-and-Figures/Heat-values-of-various-fuels/
C9: Coconut shell | D9: 3500-4000 | E9: kcal/kg | F9: http://www.biofuelresource.com/coconut-shell/
C10: Coconut shell | D10: 15.7 | E10: MJ/kg
A12: NO | B12: Material name | C12: Location | D12: Boundary | E12: Electricity (kWh/ton) | F12: Electricity (kWh/kg) | G12: Electricity (MJ/kg) | H12: Natural Gas (kWh/ton) | I12: Natural Gas (MJ/kg) | J12: Crude Oil (ton/ton) | K12: Crude Oil (MJ/kg) | L12: Coal (ton/ton) | M12: Coal (MJ/kg) | N12: Biomass (ton/ton) | O12: Biomass (MJ/kg) | P12: Water (m3/ton) | Q12: Solid Waste (ton/ton)
A14: 1 | B14: Aluminium foil | C14: ENGLAND | D14: Gate – to – gate | E14: 254 | F14: =E14/1000 -> 0.254 | G14: =(E14/1000)*3.6 -> 0.9144 | H14: 3430 | I14: =(H14/1000)*3.6 -> 12.348 | J14: 0 | K14: =J14*$D$5 -> 0 | L14: 0 | M14: =L14*$D$7 -> 0 | N14: 0 | O14: =(N14/1000)*$D$10 -> 0 | P14: 0 | Q14: -
A15: 2 | B15: Aluminium foil | C15: ENGLAND | D15: Gate – to – gate | E15: 424 | F15: =E15/1000 -> 0.424 | G15: =(E15/1000)*3.6 -> 1.5264 | H15: 546 | I15: =(H15/1000)*3.6 -> 1.9656 | J15: 0 | K15: =J15*$D$5 -> 0 | L15: 0 | M15: =L15*$D$7 -> 0 | N15: 0 | O15: =(N15/1000)*$D$10 -> 0 | P15: 0 | Q15: 0
A16: 3 | B16: Apple grape juice concentrate | C16: SPAIN | D16: Gate – to – gate | E16: 182 | F16: =E16/1000 -> 0.182 | G16: =(E16/1000)*3.6 -> 0.6552 | H16: 2089 | I16: =(H16/1000)*3.6 -> 7.5204 | J16: 0 | K16: =J16*$D$5 -> 0 | L16: 0 | M16: =L16*$D$7 -> 0 | N16: 0 | O16: =(N16/1000)*$D$10 -> 0 | P16: 1.85b | Q16: 0.129
A17: 4 | B17: Apple juice concentrate | C17: POLAND | D17: Gate – to – gate | E17: 472 | F17: =E17/1000 -> 0.472 | G17: =(E17/1000)*3.6 -> 1.6992 | H17: 861 | I17: =(H17/1000)*3.6 -> 3.0996 | J17: 0 | K17: =J17*$D$5 -> 0 | L17: 0 | M17: =L17*$D$7 -> 0 | N17: 0 | O17: =(N17/1000)*$D$10 -> 0 | P17: 25.8ce | Q17: 0.1
A18: 5 | B18: Apple liquid flavour | C18: GERMANY | D18: Gate – to – gate | E18: 94 | F18: =E18/1000 -> 0.094 | G18: =(E18/1000)*3.6 -> 0.3384 | H18: 789.37872 | I18: =(H18/1000)*3.6 -> 2.8417634 | J18: 0 | K18: =J18*$D$5 -> 0 | L18: 0 | M18: =L18*$D$7 -> 0 | N18: 0 | O18: =(N18/1000)*$D$10 -> 0 | P18: 6.12b | Q18: 0.521
A19: 6 | B19: Biscuit shortcake milk chocolate coated | C19: ENGLAND | D19: Gate – to – gate | E19: 597 | F19: =E19/1000 -> 0.597 | G19: =(E19/1000)*3.6 -> 2.1492 | H19: 234 | I19: =(H19/1000)*3.6 -> 0.8424 | J19: 0 | K19: =J19*$D$5 -> 0 | L19: 0 | M19: =L19*$D$7 -> 0 | N19: 0 | O19: =(N19/1000)*$D$10 -> 0 | P19: 0.572b | Q19: 0.0156
A20: 7 | B20: Blackcurrant liquid flavour | C20: GERMANY | D20: Gate – to – gate | E20: 611 | F20: =E20/1000 -> 0.611 | G20: =(E20/1000)*3.6 -> 2.1996 | H20: 1361 | I20: =(H20/1000)*3.6 -> 4.8996 | J20: 0 | K20: =J20*$D$5 -> 0 | L20: 0 | M20: =L20*$D$7 -> 0 | N20: 0 | O20: =(N20/1000)*$D$10 -> 0 | P20: 7.77b | Q20: 0.03235
A21: 8 | B21: Blackcurrant liquid flavour | C21: GERMANY | D21: Gate – to – gate | E21: 94 | F21: =E21/1000 -> 0.094 | G21: =(E21/1000)*3.6 -> 0.3384 | H21: 789.37872 | I21: =(H21/1000)*3.6 -> 2.8417634 | J21: 0 | K21: =J21*$D$5 -> 0 | L21: 0 | M21: =L21*$D$7 -> 0 | N21: 0 | O21: =(N21/1000)*$D$10 -> 0 | P21: 6.12b | Q21: 0.521
A22: 9 | B22: Blackcurrant liquid flavour | C22: SWITZERLAND | D22: Gate – to – gate | E22: 1028 | F22: =E22/1000 -> 1.028 | G22: =(E22/1000)*3.6 -> 3.7008 | H22: 2722 | I22: =(H22/1000)*3.6 -> 9.7992 | J22: 0 | K22: =J22*$D$5 -> 0 | L22: 0 | M22: =L22*$D$7 -> 0 | N22: 0 | O22: =(N22/1000)*$D$10 -> 0 | P22: 28.96bc | Q22: 0.02811
A23: 10 | B23: Polypropylene film | C23: ENGLAND | D23: Gate – to – gate | E23: 1143 | F23: =E23/1000 -> 1.143 | G23: =(E23/1000)*3.6 -> 4.1148 | H23: 3379 | I23: =(H23/1000)*3.6 -> 12.1644 | J23: 0 | K23: =J23*$D$5 -> 0 | L23: 0 | M23: =L23*$D$7 -> 0 | N23: 0 | O23: =(N23/1000)*$D$10 -> 0 | P23: 0.227b | Q23: 0.0721
A24: 11 | B24: Polypropylene film | C24: ENGLAND | D24: Gate – to – gate | E24: 1143 | F24: =E24/1000 -> 1.143 | G24: =(E24/1000)*3.6 -> 4.1148 | H24: 3379 | I24: =(H24/1000)*3.6 -> 12.1644 | J24: 0 | K24: =J24*$D$5 -> 0 | L24: 0 | M24: =L24*$D$7 -> 0 | N24: 0 | O24: =(N24/1000)*$D$10 -> 0 | P24: 0.186b | Q24: 0.0721
A25: 12 | B25: Polypropylene film | C25: ENGLAND | D25: Gate – to – gate | E25: 788 | F25: =E25/1000 -> 0.788 | G25: =(E25/1000)*3.6 -> 2.8368 | H25: 931 | I25: =(H25/1000)*3.6 -> 3.3516 | J25: 0 | K25: =J25*$D$5 -> 0 | L25: 0 | M25: =L25*$D$7 -> 0 | N25: 0 | O25: =(N25/1000)*$D$10 -> 0 | P25: 0.517b | Q25: 0.0822
A26: 13 | B26: Polypropylene film | C26: ENGLAND | D26: Gate – to – gate | E26: 788 | F26: =E26/1000 -> 0.788 | G26: =(E26/1000)*3.6 -> 2.8368 | H26: 931 | I26: =(H26/1000)*3.6 -> 3.3516 | J26: 0 | K26: =J26*$D$5 -> 0 | L26: 0 | M26: =L26*$D$7 -> 0 | N26: 0 | O26: =(N26/1000)*$D$10 -> 0 | P26: 0.478b | Q26: 0.0822
A27: 14 | B27: BOPP metallised film | C27: ENGLAND | D27: Gate – to – gate | E27: 1143 | F27: =E27/1000 -> 1.143 | G27: =(E27/1000)*3.6 -> 4.1148 | H27: 3379 | I27: =(H27/1000)*3.6 -> 12.1644 | J27: 0 | K27: =J27*$D$5 -> 0 | L27: 0 | M27: =L27*$D$7 -> 0 | N27: 0 | O27: =(N27/1000)*$D$10 -> 0 | P27: 0.227b | Q27: 0.0721
... A30: 17 | B30: Cocoa liquor | C30: ENGLAND | D30: Gate – to – gate | E30: 211 | F30: =E30/1000 -> 0.211 | G30: =(E30/1000)*3.6 -> 0.7596 | H30: 317 | I30: =(H30/1000)*3.6 -> 1.1412 | J30: 0 | K30: =J30*$D$5 -> 0 | L30: 0 | M30: =L30*$D$7 -> 0 | N30: 0 | O30: =(N30/1000)*$D$10 -> 0 | P30: 0.0571b | Q30: 0.13
A31: 18 | B31: Coconut powder | C31: PHILIPPINIES | D31: Gate – to – gate | E31: 500 | F31: =E31/1000 -> 0.5 | G31: =(E31/1000)*3.6 -> 1.8 | H31: 0 | I31: =(H31/1000)*3.6 -> 0 | J31: 0 | K31: =J31*$D$5 -> 0 | L31: 0 | M31: =L31*$D$7 -> 0 | N31: 1.41 | O31: =N31*$D$10 -> 22.137 | P31: 23.55c | Q31: 0.044
A32: 19 | B32: Corrugated board (single face) | C32: ENGLAND | D32: Gate – to – gate | E32: 821 | F32: =E32/1000 -> 0.821 | G32: =(E32/1000)*3.6 -> 2.9556 | H32: 0 | I32: =(H32/1000)*3.6 -> 0 | J32: 0 | K32: =J32*$D$5 -> 0 | L32: 0 | M32: =L32*$D$7 -> 0 | N32: 0 | O32: =(N32/1000)*$D$10 -> 0 | P32: 0 | Q32: 0
A33: 20 | B33: Corrugated board (single wall) | C33: SCOTLAND | D33: Gate – to – gate | E33: 279 | F33: =E33/1000 -> 0.279 | G33: =(E33/1000)*3.6 -> 1.0044 | H33: 539 | I33: =(H33/1000)*3.6 -> 1.9404 | J33: 0 | K33: =J33*$D$5 -> 0 | L33: 0 | M33: =L33*$D$7 -> 0 | N33: 0 | O33: =(N33/1000)*$D$10 -> 0 | P33: 0.792b | Q33: 0.00585
A34: 21 | B34: Corrugated board (single wall) | C34: ENGLAND | D34: Gate – to – gate | E34: 172 | F34: =E34/1000 -> 0.172 | G34: =(E34/1000)*3.6 -> 0.6192 | H34: 482 | I34: =(H34/1000)*3.6 -> 1.7352 | J34: 0 | K34: =J34*$D$5 -> 0 | L34: 0 | M34: =L34*$D$7 -> 0 | N34: 0 | O34: =(N34/1000)*$D$10 -> 0 | P34: 0.398b | Q34: 0.193
A35: 22 | B35: Corrugated board (single wall) | C35: ENGLAND | D35: Gate – to – gate | E35: 268 | F35: =E35/1000 -> 0.268 | G35: =(E35/1000)*3.6 -> 0.9648 | H35: 388 | I35: =(H35/1000)*3.6 -> 1.3968 | J35: 0 | K35: =J35*$D$5 -> 0 | L35: 0 | M35: =L35*$D$7 -> 0 | N35: 0 | O35: =(N35/1000)*$D$10 -> 0 | P35: 0.571b | Q35: 0.244
A36: 23 | B36: Flour Wheat | C36: SCOTLAND | D36: Gate – to – gate | E36: 119 | F36: =E36/1000 -> 0.119 | G36: =(E36/1000)*3.6 -> 0.4284 | H36: 0 | I36: =(H36/1000)*3.6 -> 0 | J36: 0 | K36: =J36*$D$5 -> 0 | L36: 0 | M36: =L36*$D$7 -> 0 | N36: 0 | O36: =(N36/1000)*$D$10 -> 0 | P36: 0.0200b | Q36: 0
A37: 24 | B37: Flour Wheat Wholemeal Unbleached | C37: SCOTLAND | D37: Gate – to – gate | E37: 119 | F37: =E37/1000 -> 0.119 | G37: =(E37/1000)*3.6 -> 0.4284 | H37: 0 | I37: =(H37/1000)*3.6 -> 0 | J37: 0 | K37: =J37*$D$5 -> 0 | L37: 0 | M37: =L37*$D$7 -> 0 | N37: 0 | O37: =(N37/1000)*$D$10 -> 0 | P37: 0.0174b | Q37: 0
A38: 25 | B38: Flour whole oats | C38: ENGLAND | D38: Gate – to – gate | E38: 61.57 | F38: =E38/1000 -> 0.06157 | G38: =(E38/1000)*3.6 -> 0.221652 | H38: 163 | I38: =(H38/1000)*3.6 -> 0.5868 | J38: 0 | K38: =J38*$D$5 -> 0 | L38: 0 | M38: =L38*$D$7 -> 0 | N38: 0 | O38: =(N38/1000)*$D$10 -> 0 | P38: 0.122b | Q38: 0.00163
A39: 26 | B39: Gelatine bovine powder | C39: ITALY | D39: Gate – to – gate | E39: 1011 | F39: =E39/1000 -> 1.011 | G39: =(E39/1000)*3.6 -> 3.6396 | H39: 6459 | I39: =(H39/1000)*3.6 -> 23.2524 | J39: 0 | K39: =J39*$D$5 -> 0 | L39: 0 | M39: =L39*$D$7 -> 0 | N39: 0 | O39: =(N39/1000)*$D$10 -> 0 | P39: 236.69bcd | Q39: 0.113
A40: 27 | B40: Granulated [white] Sugar | C40: ENGLAND | D40: Gate – to – gate | E40: 0.888 | F40: =E40/1000 -> 0.000888 | G40: =(E40/1000)*3.6 -> 0.0031968 | H40: 3981 | I40: =(H40/1000)*3.6 -> 14.3316 | J40: 0 | K40: =J40*$D$5 -> 0 | L40: 0 | M40: =L40*$D$7 -> 0 | N40: 0 | O40: =(N40/1000)*$D$10 -> 0 | P40: 0.449b | Q40: 3.78e-05
A41: 28 | B41: Granulated [white] Sugar | C41: FRANCE | D41: Gate – to – gate | E41: 13.21 | F41: =E41/1000 -> 0.01321 | G41: =(E41/1000)*3.6 -> 0.047556 | H41: 568.15 | I41: =(H41/1000)*3.6 -> 2.04534 | J41: 0 | K41: =J41*$D$5 -> 0 | L41: 0 | M41: =L41*$D$7 -> 0 | N41: 0 | O41: =(N41/1000)*$D$10 -> 0 | P41: 1.55bcd | Q41: 0.000342
A42: 29 | B42: Gum arabic powder | C42: FRANCE | D42: Gate – to – gate | E42: 289 | F42: =E42/1000 -> 0.289 | G42: =(E42/1000)*3.6 -> 1.0404 | H42: 3134 | I42: =(H42/1000)*3.6 -> 11.2824 | J42: 0 | K42: =J42*$D$5 -> 0 | L42: 0 | M42: =L42*$D$7 -> 0 | N42: 0 | O42: =(N42/1000)*$D$10 -> 0 | P42: 3.58b | Q42: 0.0025
A43: 30 | B43: Gum arabic powder | C43: ENGLAND | D43: Gate – to – gate | E43: 775 | F43: =E43/1000 -> 0.775 | G43: =(E43/1000)*3.6 -> 2.79 | H43: 3559 | I43: =(H43/1000)*3.6 -> 12.8124 | J43: 0 | K43: =J43*$D$5 -> 0 | L43: 0 | M43: =L43*$D$7 -> 0 | N43: 0 | O43: =(N43/1000)*$D$10 -> 0 | P43: 11.42b | Q43: 0.0216
A44: 31 | B44: Gum arabic powder | C44: FRANCE | D44: Gate – to – gate | E44: 560 | F44: =E44/1000 -> 0.56 | G44: =(E44/1000)*3.6 -> 2.016 | H44: 2800 | I44: =(H44/1000)*3.6 -> 10.08 | J44: 0 | K44: =J44*$D$5 -> 0 | L44: 0 | M44: =L44*$D$7 -> 0 | N44: 0 | O44: =(N44/1000)*$D$10 -> 0 | P44: 4.8b | Q44: 0.024
A45: 32 | B45: Laminate film; aluminium & BOPP | C45: AUSTRIA | D45: Gate – to – gate | E45: 1779 | F45: =E45/1000 -> 1.779 | G45: =(E45/1000)*3.6 -> 6.4044 | H45: 1696 | I45: =(H45/1000)*3.6 -> 6.1056 | J45: 0 | K45: =J45*$D$5 -> 0 | L45: 0 | M45: =L45*$D$7 -> 0 | N45: 0 | O45: =(N45/1000)*$D$10 -> 0 | P45: 0 | Q45: 0.2487
A46: 33 | B46: Laminate film; aluminium & Paper | C46: AUSTRIA | D46: Gate – to – gate | E46: 1386 | F46: =E46/1000 -> 1.386 | G46: =(E46/1000)*3.6 -> 4.9896 | H46: 3707 | I46: =(H46/1000)*3.6 -> 13.3452 | J46: 0 | K46: =J46*$D$5 -> 0 | L46: 0 | M46: =L46*$D$7 -> 0 | N46: 0 | O46: =(N46/1000)*$D$10 -> 0 | P46: 0 | Q46: 0.234
A47: 34 | B47: Laminate film; aluminium & Paper | C47: AUSTRIA | D47: Gate – to – gate | E47: 1619 | F47: =E47/1000 -> 1.619 | G47: =(E47/1000)*3.6 -> 5.8284 | H47: 3748 | I47: =(H47/1000)*3.6 -> 13.4928 | J47: 0 | K47: =J47*$D$5 -> 0 | L47: 0 | M47: =L47*$D$7 -> 0 | N47: 0 | O47: =(N47/1000)*$D$10 -> 0 | P47: 0 | Q47: 0.316
A48: 35 | B48: Laminate film; aluminium & Paper | C48: ENGLAND | D48: Gate – to – gate | E48: 424 | F48: =E48/1000 -> 0.424 | G48: =(E48/1000)*3.6 -> 1.5264 | H48: 546 | I48: =(H48/1000)*3.6 -> 1.9656 | J48: 0 | K48: =J48*$D$5 -> 0 | L48: 0 | M48: =L48*$D$7 -> 0 | N48: 0 | O48: =(N48/1000)*$D$10 -> 0 | P48: 0 | Q48: 0
A49: 36 | B49: Lecithin | C49: SPAIN | D49: Gate – to – gate | E49: 230 | F49: =E49/1000 -> 0.23 | G49: =(E49/1000)*3.6 -> 0.828 | H49: 744 | I49: =(H49/1000)*3.6 -> 2.6784 | J49: 0 | K49: =J49*$D$5 -> 0 | L49: 0 | M49: =L49*$D$7 -> 0 | N49: 0 | O49: =(N49/1000)*$D$10 -> 0 | P49: 1.76b | Q49: 0.0634
...

Sheet Overview LCIA
C3: LCIA CATEGORY | E3: CML 2001 - Nov. 2010 | F3: CML 2001 - Nov. 2010 | G3: CML 2001 - Nov. 2010 | H3: Impact 2002+ | I3: Impact 2002+ | J3: Impact 2002+ | K3: ReCiPe 1.07 | L3: ReCiPe 1.07 | M3: ReCiPe 1.07 | N3: TRACI 2.1 | O3: TRACI 2.1 | P3: TRACI 2.1
A4: NO | B4: Material name | C4: Location | D4: Boundary | E4: Global Warming Potential, excl biogenic carbon (GWP 100 years) [kg CO2-Equiv.] | F4: Abiotic Depletion (ADP elements) [kg Sb-Equiv.] | G4: Ozone Layer Depletion Potential (ODP, steady state) [kg R11-Equiv.] | H4: Aquatic acidification - Midpoint [kg SO2-Eq. to air] | I4: Terrestrial ecotoxicity - Midpoint [kg TEG-Eq. to soil] | J4: Aquatic eutrophication - Midpoint [kg PO4-Eq. to water] | K4: Agricultural land occupation [m2a] | L4: Urban land occupation [m2a] | M4: Water depletion [m3] | N4: Human Health Particulate Air [kg PM2,5-Equiv.] | O4: Human toxicity, cancer (recommended) [CTUh] | P4: Resources, Fossil fuels [MJ surplus energy]
A6: 1 | B6: Aluminium foil | C6: ENGLAND | D6: Gate – to – gate | E6: ='1. Aluminium Foil'!C12 -> 1.0345688 | F6: ='1. Aluminium Foil'!C6 -> 5.0548349e-08 | G6: ='1. Aluminium Foil'!C15 -> 1.3082291e-07 | H6: ='1. Aluminium Foil'!C21 -> 0.0006768113 | I6: ='1. Aluminium Foil'!C32 -> 0.60006698 | J6: ='1. Aluminium Foil'!C23 -> 0.00016946767 | K6: ='1. Aluminium Foil'!C52 -> 0.0030701625 | L6: ='1. Aluminium Foil'!C68 -> 0.00099820961 | M6: ='1. Aluminium Foil'!C69 -> 0.31419316 | N6: ='1. Aluminium Foil'!C78 -> 0.0001298138 | O6: ='1. Aluminium Foil'!C79 -> 2.2068496e-11 | P6: ='1. Aluminium Foil'!#REF! -> #REF!
A7: 2 | B7: Aluminium foil | C7: ENGLAND | D7: Gate – to – gate | E7: ='2. Aluminium Foil'!C11 -> 0.39231255 | F7: ='2. Aluminium Foil'!C5 -> 2.3700772e-08 | G7: ='2. Aluminium Foil'!C14 -> 2.6576105e-08 | H7: ='2. Aluminium Foil'!C20 -> 0.00060707284 | I7: ='2. Aluminium Foil'!C31 -> 0.40828644 | J7: ='2. Aluminium Foil'!C22 -> 0.00022238206 | K7: ='2. Aluminium Foil'!C51 -> 0.0046593043 | L7: ='2. Aluminium Foil'!C67 -> 0.0011472161 | M7: ='2. Aluminium Foil'!C68 -> 0.37741497 | N7: ='2. Aluminium Foil'!C77 -> 0.0001412899 | O7: ='2. Aluminium Foil'!C78 -> 6.874312e-12 | P7: ='2. Aluminium Foil'!C81 -> 0.56783553
A8: 3 | B8: Apple grape juice concentrate | C8: SPAIN | D8: Gate – to – gate | E8: ='3. Apple Juice Conc'!C11 -> 0.63080205 | F8: ='3. Apple Juice Conc'!C5 -> 3.4600402e-08 | G8: ='3. Apple Juice Conc'!C14 -> 8.2827212e-08 | H8: ='3. Apple Juice Conc'!C20 -> 0.00081900668 | I8: ='3. Apple Juice Conc'!C31 -> 0.47903297 | J8: ='3. Apple Juice Conc'!C22 -> 0.00014211363 | K8: ='3. Apple Juice Conc'!C51 -> 0.0021437218 | L8: ='3. Apple Juice Conc'!C67 -> 0.00060608534 | M8: ='3. Apple Juice Conc'!C68 -> 0.80889769 | N8: ='3. Apple Juice Conc'!C77 -> 0.00012692779 | O8: ='3. Apple Juice Conc'!C78 -> 1.4982193e-11 | P8: ='3. Apple Juice Conc'!C81 -> 1.3386662
A9: 4 | B9: Apple juice concentrate | C9: POLAND | D9: Gate – to – gate | E9: ='4. Apple Juice Conc'!C11 -> 0.74864401 | F9: ='4. Apple Juice Conc'!C5 -> 3.0394643e-08 | G9: ='4. Apple Juice Conc'!C14 -> 3.664485e-08 | H9: ='4. Apple Juice Conc'!C20 -> 0.0024089408 | I9: ='4. Apple Juice Conc'!C31 -> 0.76953653 | J9: ='4. Apple Juice Conc'!C22 -> 0.0017250935 | K9: ='4. Apple Juice Conc'!C51 -> 0.011102996 | L9: ='4. Apple Juice Conc'!C67 -> 0.0021652626 | M9: ='4. Apple Juice Conc'!C68 -> 0.52537487 | N9: ='4. Apple Juice Conc'!C77 -> 0.00039576594 | O9: ='4. Apple Juice Conc'!C78 -> 1.2223262e-11 | P9: ='4. Apple Juice Conc'!C81 -> 0.61542782
A10: 5 | B10: Apple liquid flavour | C10: GERMANY | D10: Gate – to – gate | E10: ='5. Apple liquid flavour'!C11 -> 0.26640378 | F10: ='5. Apple liquid flavour'!C5 -> 1.4749396e-08 | G10: ='5. Apple liquid flavour'!C14 -> 3.1876713e-08 | H10: ='5. Apple liquid flavour'!C20 -> 0.00012898714 | I10: ='5. Apple liquid flavour'!C31 -> 0.14891701 | J10: ='5. Apple liquid flavour'!C22 -> 0.00024583497 | K10: ='5. Apple liquid flavour'!C51 -> 0.00092223962 | L10: ='5. Apple liquid flavour'!C67 -> 0.00027946513 | M10: ='5. Apple liquid flavour'!C68 -> 0.18158679 | N10: ='5. Apple liquid flavour'!C77 -> 3.1665843e-05 | O10: ='5. Apple liquid flavour'!C78 -> 5.5039663e-12 | P10: ='5. Apple liquid flavour'!C81 -> 0.49708172
A11: 6 | B11: Biscuit shortcake milk chocolate coated | C11: ENGLAND | D11: Gate – to – gate | E11: ='6. Biscuit Shortcake'!C11 -> 0.41396005 | F11: ='6. Biscuit Shortcake'!C5 -> 2.7077948e-08 | G11: ='6. Biscuit Shortcake'!C14 -> 1.7527036e-08 | H11: ='6. Biscuit Shortcake'!C20 -> 0.00080055716 | I11: ='6. Biscuit Shortcake'!C31 -> 0.51333199 | J11: ='6. Biscuit Shortcake'!C22 -> 0.00030684262 | K11: ='6. Biscuit Shortcake'!C51 -> 0.0065120904 | L11: ='6. Biscuit Shortcake'!C67 -> 0.0015614661 | M11: ='6. Biscuit Shortcake'!C68 -> 0.51615492 | N11: ='6. Biscuit Shortcake'!C77 -> 0.00019111818 | O11: ='6. Biscuit Shortcake'!C79 -> 2.9113171e-12 | P11: ='6. Biscuit Shortcake'!C81 -> 0.47645479
A12: 7 | B12: Blackcurrant liquid flavour | C12: GERMANY | D12: Gate – to – gate | E12: ='7. Blackcurrant liq flav'!C11 -> 0.74706191 | F12: ='7. Blackcurrant liq flav'!C5 -> 5.1077683e-08 | G12: ='7. Blackcurrant liq flav'!C14 -> 6.7233229e-08 | H12: ='7. Blackcurrant liq flav'!C20 -> 0.00046445437 | I12: ='7. Blackcurrant liq flav'!C31 -> 0.54447203 | J12: ='7. Blackcurrant liq flav'!C22 -> 0.0014894693 | K12: ='7. Blackcurrant liq flav'!C51 -> 0.0055482272 | L12: ='7. Blackcurrant liq flav'!C67 -> 0.0013916256 | M12: ='7. Blackcurrant liq flav'!C68 -> 1.2965979 | N12: ='7. Blackcurrant liq flav'!C77 -> 0.00014939486 | O12: ='7. Blackcurrant liq flav'!C78 -> 1.3805437e-11 | P12: ='7. Blackcurrant liq flav'!C81 -> 0.96338614
A13: 8 | B13: Blackcurrant liquid flavour | C13: GERMANY | D13: Gate – to – gate | E13: ='8. Blackcurrant liq flav'!C11 -> 0.2642619 | F13: ='8. Blackcurrant liq flav'!C5 -> 1.4647108e-08 | G13: ='8. Blackcurrant liq flav'!C14 -> 3.1803461e-08 | H13: ='8. Blackcurrant liq flav'!C20 -> 0.00012993859 | I13: ='8. Blackcurrant liq flav'!C31 -> 0.15015669 | J13: ='8. Blackcurrant liq flav'!C22 -> 0.00023591907 | K13: ='8. Blackcurrant liq flav'!C51 -> 0.00090567665 | L13: ='8. Blackcurrant liq flav'!C67 -> 0.00027217354 | M13: ='8. Blackcurrant liq flav'!C68 -> 0.21593076 | N13: ='8. Blackcurrant liq flav'!C77 -> 3.142065e-05 | O13: ='8. Blackcurrant liq flav'!C78 -> 5.4764431e-12 | P13: ='8. Blackcurrant liq flav'!C81 -> 0.49673496
A14: 9 | B14: Blackcurrant liquid flavour | C14: SWITZERLAND | D14: Gate – to – gate | E14: ='9. Blackcurrant liq flav'!C11 -> 0.83338672 | F14: ='9. Blackcurrant liq flav'!C5 -> 7.4543492e-08 | G14: ='9. Blackcurrant liq flav'!C14 -> 1.1884986e-07 | H14: ='9. Blackcurrant liq flav'!C20 -> 0.0006933516 | I14: ='9. Blackcurrant liq flav'!C31 -> 0.85017209 | J14: ='9. Blackcurrant liq flav'!C22 -> 0.00037161597 | K14: ='9. Blackcurrant liq flav'!C51 -> 0.0023530806 | L14: ='9. Blackcurrant liq flav'!C67 -> 0.00077762759 | M14: ='9. Blackcurrant liq flav'!C68 -> 8.0298731 | N14: ='9. Blackcurrant liq flav'!C77 -> 0.00015941738 | O14: ='9. Blackcurrant liq flav'!C78 -> 1.8848623e-11 | P14: ='9. Blackcurrant liq flav'!C81 -> 1.7471679
A15: 10 | B15: Polypropylene film | C15: ENGLAND | D15: Gate – to – gate | E15: ='10. Polypropylene film'!C11 -> 1.5478637 | F15: ='10. Polypropylene film'!C5 -> 8.6181458e-08 | G15: ='10. Polypropylene film'!C14 -> 1.4210082e-07 | H15: ='10. Polypropylene film'!C20 -> 0.0018285373 | I15: ='10. Polypropylene film'!C31 -> 1.3186208 | J15: ='10. Polypropylene film'!C22 -> 0.00062171493 | K15: ='10. Polypropylene film'!C51 -> 0.01273141 | L15: ='10. Polypropylene film'!C67 -> 0.0032832954 | M15: ='10. Polypropylene film'!C68 -> 1.0714413 | N15: ='10. Polypropylene film'!C77 -> 0.00040858311 | O15: ='10. Polypropylene film'!C78 -> 2.953865e-11 | P15: ='10. Polypropylene film'!C81 -> 2.675029
A16: 11 | B16: Polypropylene film | C16: ENGLAND | D16: Gate – to – gate | E16: ='11. Polypropylene film'!C11 -> 1.5478637 | F16: ='11. Polypropylene film'!C5 -> 8.6181458e-08 | G16: ='11. Polypropylene film'!C14 -> 1.4210082e-07 | H16: ='11. Polypropylene film'!C20 -> 0.0018285373 | I16: ='11. Polypropylene film'!C31 -> 1.3186208 | J16: ='11. Polypropylene film'!C22 -> 0.00062171493 | K16: ='11. Polypropylene film'!C51 -> 0.01273141 | L16: ='11. Polypropylene film'!C67 -> 0.0032832954 | M16: ='11. Polypropylene film'!C68 -> 1.0714413 | N16: ='11. Polypropylene film'!C77 -> 0.00040858311 | O16: ='11. Polypropylene film'!C78 -> 2.953865e-11 | P16: ='11. Polypropylene film'!C81 -> 2.675029
A17: 12 | B17: Polypropylene film | C17: ENGLAND | D17: Gate – to – gate | E17: ='12. Polypropylene film'!C11 -> 0.70683123 | F17: ='12. Polypropylene film'!C5 -> 4.3034832e-08 | G17: ='12. Polypropylene film'!C14 -> 4.6189911e-08 | H17: ='12. Polypropylene film'!C20 -> 0.0011195141 | I17: ='12. Polypropylene film'!C31 -> 0.74889172 | J17: ='12. Polypropylene film'!C22 -> 0.00041228498 | K17: ='12. Polypropylene film'!C51 -> 0.0086515 | L17: ='12. Polypropylene film'!C67 -> 0.0021234259 | M17: ='12. Polypropylene film'!C68 -> 0.69896741 | N17: ='12. Polypropylene film'!C77 -> 0.00026132728 | O17: ='12. Polypropylene film'!C78 -> 1.2275691e-11 | P17: ='12. Polypropylene film'!C81 -> 1.0033222
A18: 13 | B18: Polypropylene film | C18: ENGLAND | D18: Gate – to – gate | E18: ='13. Polypropylene film'!C11 -> 0.70683123 | F18: ='13. Polypropylene film'!C5 -> 4.3034832e-08 | G18: ='13. Polypropylene film'!C14 -> 4.6189911e-08 | H18: ='13. Polypropylene film'!C20 -> 0.0011195141 | I18: ='13. Polypropylene film'!C31 -> 0.74889172 | J18: ='13. Polypropylene film'!C22 -> 0.00041228498 | K18: ='13. Polypropylene film'!C51 -> 0.0086515 | L18: ='13. Polypropylene film'!C67 -> 0.0021234259 | M18: ='13. Polypropylene film'!C68 -> 0.69896741 | N18: ='13. Polypropylene film'!C77 -> 0.00026132728 | O18: ='13. Polypropylene film'!C78 -> 1.2275691e-11 | P18: ='13. Polypropylene film'!C81 -> 1.0033222
A19: 14 | B19: BOPP metallised film | C19: ENGLAND | D19: Gate – to – gate | E19: ='14. BOPP metal film'!C11 -> 1.5478637 | F19: ='14. BOPP metal film'!C5 -> 8.6181458e-08 | G19: ='14. BOPP metal film'!C14 -> 1.4210082e-07 | H19: ='14. BOPP metal film'!C20 -> 0.0018285373 | I19: ='14. BOPP metal film'!C31 -> 1.3186208 | J19: ='14. BOPP metal film'!C22 -> 0.00062171493 | K19: ='14. BOPP metal film'!C51 -> 0.01273141 | L19: ='14. BOPP metal film'!C67 -> 0.0032832954 | M19: ='14. BOPP metal film'!C68 -> 1.0714413 | N19: ='14. BOPP metal film'!C77 -> 0.00040858311 | O19: ='14. BOPP metal film'!C78 -> 2.953865e-11 | P19: ='14. BOPP metal film'!C81 -> 2.675029
A20: 15 | B20: Cocoa butter (bean processing site) | C20: GERMANY | D20: Gate – to – gate | E20: ='15. Cocoa butter (bean site)'!C11 -> 0.19377186 | F20: ='15. Cocoa butter (bean site)'!C5 -> 1.3375051e-08 | G20: ='15. Cocoa butter (bean site)'!C14 -> 1.7142041e-08 | H20: ='15. Cocoa butter (bean site)'!C20 -> 0.00012174088 | I20: ='15. Cocoa butter (bean site)'!C31 -> 0.14279502 | J20: ='15. Cocoa butter (bean site)'!C22 -> 0.0003971038 | K20: ='15. Cocoa butter (bean site)'!C51 -> 0.0014782045 | L20: ='15. Cocoa butter (bean site)'!C67 -> 0.00036910277 | M20: ='15. Cocoa butter (bean site)'!C68 -> 0.345292 | N20: ='15. Cocoa butter (bean site)'!C77 -> 3.9542713e-05 | O20: ='15. Cocoa butter (bean site)'!C78 -> 3.5588907e-12 | P20: ='15. Cocoa butter (bean site)'!C81 -> 0.24411051
A21: 16 | B21: Cocoa butter (non-bean processing site) | C21: ENGLAND | D21: Gate – to – gate | E21: ='16. Cocoa butter (non-bean site'!C11 -> 0.099729437 | F21: ='16. Cocoa butter (non-bean site'!C5 -> 4.9904995e-09 | G21: ='16. Cocoa butter (non-bean site'!C14 -> 1.2012429e-08 | H21: ='16. Cocoa butter (non-bean site'!C20 -> 7.4348736e-05 | I21: ='16. Cocoa butter (non-bean site'!C31 -> 0.062541388 | J21: ='16. Cocoa butter (non-bean site'!C22 -> 2.0445073e-05 | K21: ='16. Cocoa butter (non-bean site'!C51 -> 0.00038677795 | L21: ='16. Cocoa butter (non-bean site'!C67 -> 0.00011619969 | M21: ='16. Cocoa butter (non-bean site'!C68 -> 0.036998748 | N21: ='16. Cocoa butter (non-bean site'!C77 -> 1.4906045e-05 | O21: ='16. Cocoa butter (non-bean site'!C78 -> 2.0885123e-12 | P21: ='16. Cocoa butter (non-bean site'!C81 -> 0.20569149
A22: 17 | B22: Coconut powder | C22: PHILIPPINIES | D22: Gate – to – gate | E22: ='17. Coconut powder'!C11 -> 0.24612045 | F22: ='17. Coconut powder'!C5 -> 1.8808157e-07 | G22: ='17. Coconut powder'!C14 -> 1.2806198e-08 | H22: ='17. Coconut powder'!C20 -> 0.00092225689 | I22: ='17. Coconut powder'!C31 -> 46.959863 | J22: ='17. Coconut powder'!C22 -> 0.00060081969 | K22: ='17. Coconut powder'!C51 -> 0.38726925 | L22: ='17. Coconut powder'!C67 -> 0.0056687084 | M22: ='17. Coconut powder'!C68 -> 11.212139 | N22: ='17. Coconut powder'!C77 -> 0.0019755431 | O22: ='17. Coconut powder'!C78 -> 8.8005755e-11 | P22: ='17. Coconut powder'!C81 -> 0.16671991
A23: 18 | B23: Corrugated board (single face) | C23: ENGLAND | D23: Gate – to – gate | E23: ='18. Corrugated board (SF)'!C11 -> 0.48659292 | F23: ='18. Corrugated board (SF)'!C5 -> 3.3478541e-08 | G23: ='18. Corrugated board (SF)'!C14 -> 1.2220258e-08 | H23: ='18. Corrugated board (SF)'!C20 -> 0.0010685491 | I23: ='18. Corrugated board (SF)'!C31 -> 0.66917554 | J23: ='18. Corrugated board (SF)'!C22 -> 0.00041822409 | K23: ='18. Corrugated board (SF)'!C51 -> 0.0089266364 | L23: ='18. Corrugated board (SF)'!C67 -> 0.0021151834 | M23: ='18. Corrugated board (SF)'!C68 -> 0.70070984 | N23: ='18. Corrugated board (SF)'!C77 -> 0.00025815575 | O23: ='18. Corrugated board (SF)'!C78 -> 7.1807409e-12 | P23: ='18. Corrugated board (SF)'!C81 -> 0.46223652
A24: 19 | B24: Corrugated board (single wall) | C24: SCOTLAND | D24: Gate – to – gate | E24: ='19. Corrugated board (SF)'!C11 -> 0.30422605 | F24: ='19. Corrugated board (SF)'!C5 -> 1.7690367e-08 | G24: ='19. Corrugated board (SF)'!C14 -> 2.4109233e-08 | H24: ='19. Corrugated board (SF)'!C20 -> 0.00041751121 | I24: ='19. Corrugated board (SF)'!C31 -> 0.289146 | J24: ='19. Corrugated board (SF)'!C22 -> 0.00014842053 | K24: ='19. Corrugated board (SF)'!C51 -> 0.0030819871 | L24: ='19. Corrugated board (SF)'!C67 -> 0.00077281013 | M24: ='19. Corrugated board (SF)'!C68 -> 0.25342326 | N24: ='19. Corrugated board (SF)'!C77 -> 9.5574683e-05 | O24: ='19. Corrugated board (SF)'!C78 -> 5.5578823e-12 | P24: ='19. Corrugated board (SF)'!C81 -> 0.48118622
A25: 20 | B25: Corrugated board (single wall) | C25: ENGLAND | D25: Gate – to – gate | E25: ='20. Corrugated board (SF)'!C11 -> 0.22649272 | F25: ='20. Corrugated board (SF)'!C5 -> 1.2676284e-08 | G25: ='20. Corrugated board (SF)'!C14 -> 2.0459217e-08 | H25: ='20. Corrugated board (SF)'!C20 -> 0.00027264154 | I25: ='20. Corrugated board (SF)'!C31 -> 0.19556811 | J25: ='20. Corrugated board (SF)'!C22 -> 9.3264819e-05 | K25: ='20. Corrugated board (SF)'!C51 -> 0.0019135936 | L25: ='20. Corrugated board (SF)'!C67 -> 0.00049157279 | M25: ='20. Corrugated board (SF)'!C68 -> 0.16052307 | N25: ='20. Corrugated board (SF)'!C77 -> 6.1120696e-05 | O25: ='20. Corrugated board (SF)'!C78 -> 4.3006167e-12 | P25: ='20. Corrugated board (SF)'!C81 -> 0.38753061
A26: 21 | B26: Corrugated board (single wall) | C26: ENGLAND | D26: Gate – to – gate | E26: ='21. Corrugated board (SF)'!C11 -> 0.25905272 | F26: ='21. Corrugated board (SF)'!C5 -> 1.5484482e-08 | G26: ='21. Corrugated board (SF)'!C14 -> 1.839062e-08 | H26: ='21. Corrugated board (SF)'!C20 -> 0.00038805589 | I26: ='21. Corrugated board (SF)'!C31 -> 0.26299471 | J26: ='21. Corrugated board (SF)'!C22 -> 0.00014106464 | K26: ='21. Corrugated board (SF)'!C51 -> 0.0029488985 | L26: ='21. Corrugated board (SF)'!C67 -> 0.000729437 | M26: ='21. Corrugated board (SF)'!C68 -> 0.23977579 | N26: ='21. Corrugated board (SF)'!C77 -> 8.9931968e-05 | O26: ='21. Corrugated board (SF)'!C78 -> 4.5938717e-12 | P26: ='21. Corrugated board (SF)'!C81 -> 0.38477835
A27: 22 | B27: Flour Wheat | C27: SCOTLAND | D27: Gate – to – gate | E27: ='22. Flour wheat'!C11 -> 0.070529303 | F27: ='22. Flour wheat'!C5 -> 4.8525535e-09 | G27: ='22. Flour wheat'!C14 -> 1.7712676e-09 | H27: ='22. Flour wheat'!C20 -> 0.00015488104 | I27: ='22. Flour wheat'!C31 -> 0.096993776 | J27: ='22. Flour wheat'!C22 -> 6.061957e-05 | K27: ='22. Flour wheat'!C51 -> 0.001293873 | L27: ='22. Flour wheat'!C67 -> 0.00030658566 | M27: ='22. Flour wheat'!C68 -> 0.10156452 | N27: ='22. Flour wheat'!C77 -> 3.7418434e-05 | O27: ='22. Flour wheat'!C78 -> 1.0408138e-12 | P27: ='22. Flour wheat'!C81 -> 0.06699896
A28: 23 | B28: Flour Wheat Wholemeal Unbleached | C28: SCOTLAND | D28: Gate – to – gate | E28: ='23. Flour wheat wholemeal'!C11 -> 0.070529303 | F28: ='23. Flour wheat wholemeal'!C5 -> 4.8525535e-09 | G28: ='23. Flour wheat wholemeal'!C14 -> 1.7712676e-09 | H28: ='23. Flour wheat wholemeal'!C20 -> 0.00015488104 | I28: ='23. Flour wheat wholemeal'!C31 -> 0.096993776 | J28: ='23. Flour wheat wholemeal'!C22 -> 6.061957e-05 | K28: ='23. Flour wheat wholemeal'!C51 -> 0.001293873 | L28: ='23. Flour wheat wholemeal'!C67 -> 0.00030658566 | M28: ='23. Flour wheat wholemeal'!C68 -> 0.10156452 | N28: ='23. Flour wheat wholemeal'!C77 -> 3.7418434e-05 | O28: ='23. Flour wheat wholemeal'!C78 -> 1.0408138e-12 | P28: ='23. Flour wheat wholemeal'!C81 -> 0.06699896
A29: 24 | B29: Flour whole oats | C29: ENGLAND | D29: Gate – to – gate | E29: ='24. Flour whole oats'!C11 -> 0.078724386 | F29: ='24. Flour whole oats'!C5 -> 4.4307329e-09 | G29: ='24. Flour whole oats'!C14 -> 6.9856683e-09 | H29: ='24. Flour whole oats'!C20 -> 9.6674969e-05 | I29: ='24. Flour whole oats'!C31 -> 0.068960817 | J29: ='24. Flour whole oats'!C22 -> 3.3278917e-05 | K29: ='24. Flour whole oats'!C51 -> 0.00068417905 | L29: ='24. Flour whole oats'!C67 -> 0.00017505113 | M29: ='24. Flour whole oats'!C68 -> 0.057202489 | N29: ='24. Flour whole oats'!C77 -> 2.1746188e-05 | O29: ='24. Flour whole oats'!C78 -> 1.4866646e-12 | P29: ='24. Flour whole oats'!C81 -> 0.13323282
A30: 25 | B30: Gelatine bovine powder | C30: ITALY | D30: Gate – to – gate | E30: ='25. Gelatine powder'!C11 -> 2.2448086 | F30: ='25. Gelatine powder'!C5 -> 1.1929593e-07 | G30: ='25. Gelatine powder'!C14 -> 2.90404e-07 | H30: ='25. Gelatine powder'!C20 -> 0.0025490531 | I30: ='25. Gelatine powder'!C31 -> 1.5839592 | J30: ='25. Gelatine powder'!C22 -> 0.00049050677 | K30: ='25. Gelatine powder'!C51 -> 0.0033715221 | L30: ='25. Gelatine powder'!C67 -> 0.0020734242 | M30: ='25. Gelatine powder'!C68 -> 4.0412514 | N30: ='25. Gelatine powder'!C77 -> 0.00037329094 | O30: ='25. Gelatine powder'!C78 -> 5.6787568e-11 | P30: ='25. Gelatine powder'!C81 -> 4.7500719
A31: 26 | B31: Granulated [white] Sugar | C31: ENGLAND | D31: Gate – to – gate | E31: ='26. Granulated sugar'!C11 -> 1.0262842 | F31: ='26. Granulated sugar'!C5 -> 4.6670553e-08 | G31: ='26. Granulated sugar'!C14 -> 1.4742334e-07 | H31: ='26. Granulated sugar'!C20 -> 0.00040288873 | I31: ='26. Granulated sugar'!C31 -> 0.45677545 | J31: ='26. Granulated sugar'!C22 -> 4.6955814e-05 | K31: ='26. Granulated sugar'!C51 -> 0.00036755752 | L31: ='26. Granulated sugar'!C67 -> 0.00040122651 | M31: ='26. Granulated sugar'!C68 -> 0.11378317 | N31: ='26. Granulated sugar'!C77 -> 5.8232618e-05 | O31: ='26. Granulated sugar'!C78 -> 2.303663e-11 | P31: ='26. Granulated sugar'!C81 -> 2.3945305
A32: 27 | B32: Granulated [white] Sugar | C32: FRANCE | D32: Gate – to – gate | E32: ='27. Granulated sugar'!C11 -> 0.14795994 | F32: ='27. Granulated sugar'!C5 -> 7.2698043e-09 | G32: ='27. Granulated sugar'!C14 -> 2.1150381e-08 | H32: ='27. Granulated sugar'!C20 -> 6.2040655e-05 | I32: ='27. Granulated sugar'!C31 -> 0.073986985 | J32: ='27. Granulated sugar'!C22 -> 8.3368048e-06 | K32: ='27. Granulated sugar'!C51 -> 7.4242387e-05 | L32: ='27. Granulated sugar'!C67 -> 6.4540917e-05 | M32: ='27. Granulated sugar'!C68 -> 0.072986917 | N32: ='27. Granulated sugar'!C77 -> 9.8884133e-06 | O32: ='27. Granulated sugar'!C78 -> 3.3258649e-12 | P32: ='27. Granulated sugar'!C81 -> 0.34345653
A33: 28 | B33: Gum arabic powder | C33: FRANCE | D33: Gate – to – gate | E33: ='28. Gum arabic powder'!C11 -> 0.8340947 | F33: ='28. Gum arabic powder'!C5 -> 4.980135e-08 | G33: ='28. Gum arabic powder'!C14 -> 1.1740051e-07 | H33: ='28. Gum arabic powder'!C20 -> 0.00041621048 | I33: ='28. Gum arabic powder'!C31 -> 0.550321 | J33: ='28. Gum arabic powder'!C22 -> 7.3451107e-05 | K33: ='28. Gum arabic powder'!C51 -> 0.00078582712 | L33: ='28. Gum arabic powder'!C67 -> 0.00047745531 | M33: ='28. Gum arabic powder'!C68 -> 1.3319952 | N33: ='28. Gum arabic powder'!C77 -> 8.0574283e-05 | O33: ='28. Gum arabic powder'!C78 -> 1.8815127e-11 | P33: ='28. Gum arabic powder'!C81 -> 1.9058115
A34: 29 | B34: Gum arabic powder | C34: ENGLAND | D34: Gate – to – gate | E34: ='29. Gum arabic powder'!C11 -> 1.3762841 | F34: ='29. Gum arabic powder'!C5 -> 7.3290547e-08 | G34: ='29. Gum arabic powder'!C14 -> 1.4330972e-07 | H34: ='29. Gum arabic powder'!C20 -> 0.0013677998 | I34: ='29. Gum arabic powder'!C31 -> 1.0393599 | J34: ='29. Gum arabic powder'!C22 -> 0.0004363621 | K34: ='29. Gum arabic powder'!C51 -> 0.0087464231 | L34: ='29. Gum arabic powder'!C67 -> 0.0023532941 | M34: ='29. Gum arabic powder'!C68 -> 0.76248616 | N34: ='29. Gum arabic powder'!C77 -> 0.00029549769 | O34: ='29. Gum arabic powder'!C78 -> 2.7364574e-11 | P34: ='29. Gum arabic powder'!C81 -> 2.5764307
A35: 30 | B35: Gum arabic powder | C35: FRANCE | D35: Gate – to – gate | E35: ='30. Gum arabic powder'!C11 -> 0.77319617 | F35: ='30. Gum arabic powder'!C5 -> 5.8173381e-08 | G35: ='30. Gum arabic powder'!C14 -> 1.0633648e-07 | H35: ='30. Gum arabic powder'!C20 -> 0.00047632435 | I35: ='30. Gum arabic powder'!C31 -> 0.69154942 | J35: ='30. Gum arabic powder'!C22 -> 0.00010410747 | K35: ='30. Gum arabic powder'!C51 -> 0.0012285597 | L35: ='30. Gum arabic powder'!C67 -> 0.00059729598 | M35: ='30. Gum arabic powder'!C68 -> 2.4881364 | N35: ='30. Gum arabic powder'!C77 -> 0.00010849977 | O35: ='30. Gum arabic powder'!C78 -> 1.7531578e-11 | P35: ='30. Gum arabic powder'!C81 -> 1.725333
A36: 31 | B36: Laminate film; aluminium & BOPP | C36: AUSTRIA | D36: Gate – to – gate | E36: ='31. Laminate film (al & BOPP)'!C11 -> 1.1399507 | F36: ='31. Laminate film (al & BOPP)'!C5 -> 9.5004616e-08 | G36: ='31. Laminate film (al & BOPP)'!C14 -> 1.311302e-07 | H36: ='31. Laminate film (al & BOPP)'!C20 -> 0.00092099776 | I36: ='31. Laminate film (al & BOPP)'!C31 -> 1.2646512 | J36: ='31. Laminate film (al & BOPP)'!C22 -> 0.0014302403 | K36: ='31. Laminate film (al & BOPP)'!C51 -> 0.013357365 | L36: ='31. Laminate film (al & BOPP)'!C67 -> 0.002253383 | M36: ='31. Laminate film (al & BOPP)'!C68 -> 30.351392 | N36: ='31. Laminate film (al & BOPP)'!C77 -> 0.00030891593 | O36: ='31. Laminate film (al & BOPP)'!C78 -> 2.5649128e-11 | P36: ='31. Laminate film (al & BOPP)'!C81 -> 1.6669371
A37: 32 | B37: Laminate film; aluminium & Paper | C37: AUSTRIA | D37: Gate – to – gate | E37: ='32. Laminate film (al & paper)'!C11 -> 1.5029887 | F37: ='32. Laminate film (al & paper)'!C5 -> 1.0197089e-07 | G37: ='32. Laminate film (al & paper)'!C14 -> 1.9052349e-07 | H37: ='32. Laminate film (al & paper)'!C20 -> 0.00095834846 | I37: ='32. Laminate film (al & paper)'!C31 -> 1.2586452 | J37: ='32. Laminate film (al & paper)'!C22 -> 0.0011421604 | K37: ='32. Laminate film (al & paper)'!C51 -> 0.010621117 | L37: ='32. Laminate film (al & paper)'!C67 -> 0.0019947207 | M37: ='32. Laminate film (al & paper)'!C68 -> 23.714197 | N37: ='32. Laminate film (al & paper)'!C77 -> 0.00027541184 | O37: ='32. Laminate film (al & paper)'!C78 -> 3.3787046e-11 | P37: ='32. Laminate film (al & paper)'!C81 -> 2.7337354
A38: 33 | B38: Laminate film; aluminium & Paper | C38: AUSTRIA | D38: Gate – to – gate | E38: ='33. Laminate film (al & paper)'!C11 -> 1.6050299 | F38: ='33. Laminate film (al & paper)'!C5 -> 1.1226524e-07 | G38: ='33. Laminate film (al & paper)'!C14 -> 2.0090615e-07 | H38: ='33. Laminate film (al & paper)'!C20 -> 0.0010604643 | I38: ='33. Laminate film (al & paper)'!C31 -> 1.4032675 | J38: ='33. Laminate film (al & paper)'!C22 -> 0.0013273399 | K38: ='33. Laminate film (al & paper)'!C51 -> 0.012354074 | L38: ='33. Laminate film (al & paper)'!C67 -> 0.002271471 | M38: ='33. Laminate film (al & paper)'!C68 -> 27.684186 | N38: ='33. Laminate film (al & paper)'!C77 -> 0.00031320117 | O38: ='33. Laminate film (al & paper)'!C78 -> 3.6085341e-11 | P38: ='33. Laminate film (al & paper)'!C81 -> 2.8417554
A39: 34 | B39: Laminate film; aluminium & Paper | C39: ENGLAND | D39: Gate – to – gate | E39: ='34. Laminate film (al & paper)'!C11 -> 0.39231255 | F39: ='34. Laminate film (al & paper)'!C5 -> 2.3700772e-08 | G39: ='34. Laminate film (al & paper)'!C14 -> 2.6576105e-08 | H39: ='34. Laminate film (al & paper)'!C20 -> 0.00060707284 | I39: ='34. Laminate film (al & paper)'!C31 -> 0.40828644 | J39: ='34. Laminate film (al & paper)'!C22 -> 0.00022238206 | K39: ='34. Laminate film (al & paper)'!C51 -> 0.0046593043 | L39: ='34. Laminate film (al & paper)'!C67 -> 0.0011472161 | M39: ='34. Laminate film (al & paper)'!C68 -> 0.37741497 | N39: ='34. Laminate film (al & paper)'!C77 -> 0.0001412899 | O39: ='34. Laminate film (al & paper)'!C78 -> 6.874312e-12 | P39: ='34. Laminate film (al & paper)'!C81 -> 0.56783553
A40: 35 | B40: Lecithin | C40: SPAIN | D40: Gate – to – gate | E40: ='35. Lecithin'!C11 -> 0.30874798 | F40: ='35. Lecithin'!C5 -> 2.1520621e-08 | G40: ='35. Lecithin'!C14 -> 3.4481731e-08 | H40: ='35. Lecithin'!C20 -> 0.0008437214 | I40: ='35. Lecithin'!C31 -> 0.3882202 | J40: ='35. Lecithin'!C22 -> 0.00015745131 | K40: ='35. Lecithin'!C51 -> 0.0025386821 | L40: ='35. Lecithin'!C67 -> 0.00057597548 | M40: ='35. Lecithin'!C68 -> 0.96841582 | N40: ='35. Lecithin'!C77 -> 0.00013280847 | O40: ='35. Lecithin'!C78 -> 7.9682396e-12 | P40: ='35. Lecithin'!C81 -> 0.55179213
A41: 36 | B41: Lemon liquid flavour | C41: GERMANY | D41: Gate – to – gate | E41: ='36. Lemon liq flav'!C11 -> 0.74706191 | F41: ='36. Lemon liq flav'!C5 -> 5.1077683e-08 | G41: ='36. Lemon liq flav'!C14 -> 6.7233229e-08 | H41: ='36. Lemon liq flav'!C20 -> 0.00046445437 | I41: ='36. Lemon liq flav'!C31 -> 0.54447203 | J41: ='36. Lemon liq flav'!C22 -> 0.0014894693 | K41: ='36. Lemon liq flav'!C51 -> 0.0055482272 | L41: ='36. Lemon liq flav'!C67 -> 0.0013916256 | M41: ='36. Lemon liq flav'!C68 -> 1.2965979 | N41: ='36. Lemon liq flav'!C77 -> 0.00014939486 | O41: ='36. Lemon liq flav'!C78 -> 1.3805437e-11 | P41: ='36. Lemon liq flav'!C81 -> 0.96338614
A42: 37 | B42: Lemon liquid flavour | C42: GERMANY | D42: Gate – to – gate | E42: ='37. Lemon liq flav'!C11 -> 0.2642619 | F42: ='37. Lemon liq flav'!C5 -> 1.4647108e-08 | G42: ='37. Lemon liq flav'!C14 -> 3.1803461e-08 | H42: ='37. Lemon liq flav'!C20 -> 0.00012993859 | I42: ='37. Lemon liq flav'!C31 -> 0.15015669 | J42: ='37. Lemon liq flav'!C22 -> 0.00023591907 | K42: ='37. Lemon liq flav'!C51 -> 0.00090567665 | L42: ='37. Lemon liq flav'!C67 -> 0.00027217354 | M42: ='37. Lemon liq flav'!C68 -> 0.21593076 | N42: ='37. Lemon liq flav'!C77 -> 3.142065e-05 | O42: ='37. Lemon liq flav'!C78 -> 5.4764431e-12 | P42: ='37. Lemon liq flav'!C81 -> 0.49673496
A43: 38 | B43: Lime liquid flavour | C43: GERMANY | D43: Gate – to – gate | E43: ='38. Lime liq flav'!C11 -> 0.74706191 | F43: ='38. Lime liq flav'!C5 -> 5.1077683e-08 | G43: ='38. Lime liq flav'!C14 -> 6.7233229e-08 | H43: ='38. Lime liq flav'!C20 -> 0.00046445437 | I43: ='38. Lime liq flav'!C31 -> 0.54447203 | J43: ='38. Lime liq flav'!C22 -> 0.0014894693 | K43: ='38. Lime liq flav'!C51 -> 0.0055482272 | L43: ='38. Lime liq flav'!C67 -> 0.0013916256 | M43: ='38. Lime liq flav'!C68 -> 1.2965979 | N43: ='38. Lime liq flav'!C77 -> 0.00014939486 | O43: ='38. Lime liq flav'!C78 -> 1.3805437e-11 | P43: ='38. Lime liq flav'!C81 -> 0.96338614
...

Sheet 1. Aluminium Foil
C4: 1. Aluminium foil
A5: CML 2001 - Nov. 2010 | B5: CML 2001 - Nov. 2010 | C5: 0
B6: CML2001 - Nov. 2010, Abiotic Depletion (ADP elements) [kg Sb-Equiv.] | C6: 5.0548349e-08
B7: CML2001 - Nov. 2010, Abiotic Depletion (ADP fossil) [MJ] | C7: 16.492746
B8: CML2001 - Nov. 2010, Acidification Potential (AP) [kg SO2-Equiv.] | C8: 0.0012017532
B9: CML2001 - Nov. 2010, Eutrophication Potential (EP) [kg Phosphate-Equiv.] | C9: 0.0002957596
B10: CML2001 - Nov. 2010, Freshwater Aquatic Ecotoxicity Pot. (FAETP inf.) [kg DCB-Equiv.] | C10: 0.035821198
B11: CML2001 - Nov. 2010, Global Warming Potential (GWP 100 years) [kg CO2-Equiv.] | C11: 1.0341572
B12: CML2001 - Nov. 2010, Global Warming Potential, excl biogenic carbon (GWP 100 years) [kg CO2-Equiv.] | C12: 1.0345688
B13: CML2001 - Nov. 2010, Human Toxicity Potential (HTP inf.) [kg DCB-Equiv.] | C13: 0.052662598
B14: CML2001 - Nov. 2010, Marine Aquatic Ecotoxicity Pot. (MAETP inf.) [kg DCB-Equiv.] | C14: 163.37018
B15: CML2001 - Nov. 2010, Ozone Layer Depletion Potential (ODP, steady state) [kg R11-Equiv.] | C15: 1.3082291e-07
B16: CML2001 - Nov. 2010, Photochem. Ozone Creation Potential (POCP) [kg Ethene-Equiv.] | C16: 0.00018629703
B17: CML2001 - Nov. 2010, Terrestric Ecotoxicity Potential (TETP inf.) [kg DCB-Equiv.] | C17: 0.000657369
A20: Impact 2002+ | B20: Impact 2002+ | C20: 0
B21: I02+ v2.1 - Aquatic acidification - Midpoint [kg SO2-Eq. to air] | C21: 0.0006768113
B22: I02+ v2.1 - Aquatic ecotoxicity - Midpoint [kg TEG-Eq. to water] | C22: 350.91827
B23: I02+ v2.1 - Aquatic eutrophication - Midpoint [kg PO4-Eq. to water] | C23: 0.00016946767
B24: I02+ v2.1 - Carcinogens - Midpoint [kg C2H3Cl-Eq. to air] | C24: 0.00050315414
B25: I02+ v2.1 - Global warming 500yr - Midpoint [kg CO2-Eq. to air] | C25: 0.99038663
B26: I02+ v2.1 - Ionizing radiation - Midpoint [Bq C-14-Eq. to air] | C26: 7.7807255
B27: I02+ v2.1 - Non-carcinogens - Midpoint [kg C2H3Cl-Eq. to air] | C27: 0.0056504597
B28: I02+ v2.1 - Ozone layer depletion - Midpoint [kg CFC-11-Eq. to air] | C28: 1.3082291e-07
B29: I02+ v2.1 - Photochemical oxidation - Midpoint [kg C2H4-Eq. to air] | C29: 0.00016604933
B30: I02+ v2.1 - Respiratory effects - Midpoint [kg PM2.5-Eq. to air] | C30: 0.00019873931
B31: I02+ v2.1 - Terrestrial acidification/nutrification - Midpoint [kg SO2-Eq. to air] | C31: 0.0051121181
B32: I02+ v2.1 - Terrestrial ecotoxicity - Midpoint [kg TEG-Eq. to soil] | C32: 0.60006698
A34: ReCiPe 1.07 | B34: ReCiPe 1.07 | C34: 0
B35: ReCiPe 1.07 Endpoint (H) - Agricultural land occupation [species.yr] | C35: 3.6868695e-11
B36: ReCiPe 1.07 Endpoint (H) - Climate change Ecosystems [species.yr] | C36: 8.2028987e-09
B37: ReCiPe 1.07 Endpoint (H) - Climate change Human Health [DALY] | C37: 1.4483718e-06
B38: ReCiPe 1.07 Endpoint (H) - Fossil depletion [$] | C38: 0.061653692
B39: ReCiPe 1.07 Endpoint (H) - Freshwater ecotoxicity [species.yr] | C39: 7.5997002e-13
B40: ReCiPe 1.07 Endpoint (H) - Freshwater eutrophication [species.yr] | C40: 2.4818193e-12
B41: ReCiPe 1.07 Endpoint (H) - Human toxicity [DALY] | C41: 5.8330176e-09
B42: ReCiPe 1.07 Endpoint (H) - Ionising radiation [DALY] | C42: 4.2768905e-07
B43: ReCiPe 1.07 Endpoint (H) - Marine ecotoxicity [species.yr] | C43: 1.9768542e-13
B44: ReCiPe 1.07 Endpoint (H) - Metal depletion [$] | C44: 0.00027201451
B45: ReCiPe 1.07 Endpoint (H) - Natural land transformation [species.yr] | C45: 2.0806378e-10
B46: ReCiPe 1.07 Endpoint (H) - Ozone depletion [DALY] | C46: 3.4802008e-10
...

Sheet 2. Aluminium Foil
C3: 2. Aluminium foil
A4: CML 2001 - Nov. 2010 | B4: CML 2001 - Nov. 2010 | C4: 0
B5: CML2001 - Nov. 2010, Abiotic Depletion (ADP elements) [kg Sb-Equiv.] | C5: 2.3700772e-08
B6: CML2001 - Nov. 2010, Abiotic Depletion (ADP fossil) [MJ] | C6: 6.463652
B7: CML2001 - Nov. 2010, Acidification Potential (AP) [kg SO2-Equiv.] | C7: 0.00097731721
B8: CML2001 - Nov. 2010, Eutrophication Potential (EP) [kg Phosphate-Equiv.] | C8: 0.00031371239
B9: CML2001 - Nov. 2010, Freshwater Aquatic Ecotoxicity Pot. (FAETP inf.) [kg DCB-Equiv.] | C9: 0.04556741
B10: CML2001 - Nov. 2010, Global Warming Potential (GWP 100 years) [kg CO2-Equiv.] | C10: 0.39166034
B11: CML2001 - Nov. 2010, Global Warming Potential, excl biogenic carbon (GWP 100 years) [kg CO2-Equiv.] | C11: 0.39231255
B12: CML2001 - Nov. 2010, Human Toxicity Potential (HTP inf.) [kg DCB-Equiv.] | C12: 0.05694372
B13: CML2001 - Nov. 2010, Marine Aquatic Ecotoxicity Pot. (MAETP inf.) [kg DCB-Equiv.] | C13: 235.12816
B14: CML2001 - Nov. 2010, Ozone Layer Depletion Potential (ODP, steady state) [kg R11-Equiv.] | C14: 2.6576105e-08
B15: CML2001 - Nov. 2010, Photochem. Ozone Creation Potential (POCP) [kg Ethene-Equiv.] | C15: 7.9180763e-05
B16: CML2001 - Nov. 2010, Terrestric Ecotoxicity Potential (TETP inf.) [kg DCB-Equiv.] | C16: 0.00047087061
A19: Impact 2002+ | B19: Impact 2002+ | C19: 0
B20: I02+ v2.1 - Aquatic acidification - Midpoint [kg SO2-Eq. to air] | C20: 0.00060707284
B21: I02+ v2.1 - Aquatic ecotoxicity - Midpoint [kg TEG-Eq. to water] | C21: 447.00252
B22: I02+ v2.1 - Aquatic eutrophication - Midpoint [kg PO4-Eq. to water] | C22: 0.00022238206
B23: I02+ v2.1 - Carcinogens - Midpoint [kg C2H3Cl-Eq. to air] | C23: 0.00062930896
B24: I02+ v2.1 - Global warming 500yr - Midpoint [kg CO2-Eq. to air] | C24: 0.37559264
B25: I02+ v2.1 - Ionizing radiation - Midpoint [Bq C-14-Eq. to air] | C25: 11.642764
B26: I02+ v2.1 - Non-carcinogens - Midpoint [kg C2H3Cl-Eq. to air] | C26: 0.0070251276
B27: I02+ v2.1 - Ozone layer depletion - Midpoint [kg CFC-11-Eq. to air] | C27: 2.6576105e-08
B28: I02+ v2.1 - Photochemical oxidation - Midpoint [kg C2H4-Eq. to air] | C28: 4.3005043e-05
B29: I02+ v2.1 - Respiratory effects - Midpoint [kg PM2.5-Eq. to air] | C29: 0.00016100997
B30: I02+ v2.1 - Terrestrial acidification/nutrification - Midpoint [kg SO2-Eq. to air] | C30: 0.0035051832
B31: I02+ v2.1 - Terrestrial ecotoxicity - Midpoint [kg TEG-Eq. to soil] | C31: 0.40828644
A33: ReCiPe 1.07 | B33: ReCiPe 1.07 | C33: 0
B34: ReCiPe 1.07 Endpoint (H) - Agricultural land occupation [species.yr] | C34: 5.5899581e-11
B35: ReCiPe 1.07 Endpoint (H) - Climate change Ecosystems [species.yr] | C35: 3.1104538e-09
B36: ReCiPe 1.07 Endpoint (H) - Climate change Human Health [DALY] | C36: 5.4920705e-07
B37: ReCiPe 1.07 Endpoint (H) - Fossil depletion [$] | C37: 0.02069224
B38: ReCiPe 1.07 Endpoint (H) - Freshwater ecotoxicity [species.yr] | C38: 9.6652155e-13
B39: ReCiPe 1.07 Endpoint (H) - Freshwater eutrophication [species.yr] | C39: 3.2565953e-12
B40: ReCiPe 1.07 Endpoint (H) - Human toxicity [DALY] | C40: 5.7473271e-09
B41: ReCiPe 1.07 Endpoint (H) - Ionising radiation [DALY] | C41: 6.3857053e-07
B42: ReCiPe 1.07 Endpoint (H) - Marine ecotoxicity [species.yr] | C42: 2.1472852e-13
B43: ReCiPe 1.07 Endpoint (H) - Metal depletion [$] | C43: 0.00011242322
B44: ReCiPe 1.07 Endpoint (H) - Natural land transformation [species.yr] | C44: 5.4269324e-11
B45: ReCiPe 1.07 Endpoint (H) - Ozone depletion [DALY] | C45: 6.9498108e-11
...

Sheet 3. Apple Juice Conc
C3: 3. Apple Grape Concentrate
A4: CML 2001 - Nov. 2010 | B4: CML 2001 - Nov. 2010 | C4: 0
B5: CML2001 - Nov. 2010, Abiotic Depletion (ADP elements) [kg Sb-Equiv.] | C5: 3.4600402e-08
B6: CML2001 - Nov. 2010, Abiotic Depletion (ADP fossil) [MJ] | C6: 10.151429
B7: CML2001 - Nov. 2010, Acidification Potential (AP) [kg SO2-Equiv.] | C7: 0.0012933871
B8: CML2001 - Nov. 2010, Eutrophication Potential (EP) [kg Phosphate-Equiv.] | C8: 0.00024301904
B9: CML2001 - Nov. 2010, Freshwater Aquatic Ecotoxicity Pot. (FAETP inf.) [kg DCB-Equiv.] | C9: 0.031552708
B10: CML2001 - Nov. 2010, Global Warming Potential (GWP 100 years) [kg CO2-Equiv.] | C10: 0.63055183
B11: CML2001 - Nov. 2010, Global Warming Potential, excl biogenic carbon (GWP 100 years) [kg CO2-Equiv.] | C11: 0.63080205
B12: CML2001 - Nov. 2010, Human Toxicity Potential (HTP inf.) [kg DCB-Equiv.] | C12: 0.045679537
B13: CML2001 - Nov. 2010, Marine Aquatic Ecotoxicity Pot. (MAETP inf.) [kg DCB-Equiv.] | C13: 154.79879
B14: CML2001 - Nov. 2010, Ozone Layer Depletion Potential (ODP, steady state) [kg R11-Equiv.] | C14: 8.2827212e-08
B15: CML2001 - Nov. 2010, Photochem. Ozone Creation Potential (POCP) [kg Ethene-Equiv.] | C15: 0.00013881553
B16: CML2001 - Nov. 2010, Terrestric Ecotoxicity Potential (TETP inf.) [kg DCB-Equiv.] | C16: 0.00053727727
A19: Impact 2002+ | B19: Impact 2002+ | C19: 0
B20: I02+ v2.1 - Aquatic acidification - Midpoint [kg SO2-Eq. to air] | C20: 0.00081900668
B21: I02+ v2.1 - Aquatic ecotoxicity - Midpoint [kg TEG-Eq. to water] | C21: 449.61814
B22: I02+ v2.1 - Aquatic eutrophication - Midpoint [kg PO4-Eq. to water] | C22: 0.00014211363
B23: I02+ v2.1 - Carcinogens - Midpoint [kg C2H3Cl-Eq. to air] | C23: 0.00040033582
B24: I02+ v2.1 - Global warming 500yr - Midpoint [kg CO2-Eq. to air] | C24: 0.60391342
B25: I02+ v2.1 - Ionizing radiation - Midpoint [Bq C-14-Eq. to air] | C25: 6.1198113
B26: I02+ v2.1 - Non-carcinogens - Midpoint [kg C2H3Cl-Eq. to air] | C26: 0.0049319027
B27: I02+ v2.1 - Ozone layer depletion - Midpoint [kg CFC-11-Eq. to air] | C27: 8.2827212e-08
B28: I02+ v2.1 - Photochemical oxidation - Midpoint [kg C2H4-Eq. to air] | C28: 0.00010372352
B29: I02+ v2.1 - Respiratory effects - Midpoint [kg PM2.5-Eq. to air] | C29: 0.00019262855
B30: I02+ v2.1 - Terrestrial acidification/nutrification - Midpoint [kg SO2-Eq. to air] | C30: 0.0043347925
B31: I02+ v2.1 - Terrestrial ecotoxicity - Midpoint [kg TEG-Eq. to soil] | C31: 0.47903297
A33: ReCiPe 1.07 | B33: ReCiPe 1.07 | C33: 0
B34: ReCiPe 1.07 Endpoint (H) - Agricultural land occupation [species.yr] | C34: 2.5742059e-11
B35: ReCiPe 1.07 Endpoint (H) - Climate change Ecosystems [species.yr] | C35: 5.0012879e-09
B36: ReCiPe 1.07 Endpoint (H) - Climate change Human Health [DALY] | C36: 8.8306886e-07
B37: ReCiPe 1.07 Endpoint (H) - Fossil depletion [$] | C37: 0.037406442
B38: ReCiPe 1.07 Endpoint (H) - Freshwater ecotoxicity [species.yr] | C38: 6.4624575e-13
B39: ReCiPe 1.07 Endpoint (H) - Freshwater eutrophication [species.yr] | C39: 2.0810792e-12
B40: ReCiPe 1.07 Endpoint (H) - Human toxicity [DALY] | C40: 4.7411963e-09
B41: ReCiPe 1.07 Endpoint (H) - Ionising radiation [DALY] | C41: 3.350132e-07
B42: ReCiPe 1.07 Endpoint (H) - Marine ecotoxicity [species.yr] | C42: 1.5396353e-13
B43: ReCiPe 1.07 Endpoint (H) - Metal depletion [$] | C43: 0.00018565104
B44: ReCiPe 1.07 Endpoint (H) - Natural land transformation [species.yr] | C44: 1.3933518e-10
B45: ReCiPe 1.07 Endpoint (H) - Ozone depletion [DALY] | C45: 2.2012011e-10
...

Sheet 4. Apple Juice Conc
C3: 4. Apple Juice Concentrate
A4: CML 2001 - Nov. 2010 | B4: CML 2001 - Nov. 2010 | C4: 0
B5: CML2001 - Nov. 2010, Abiotic Depletion (ADP elements) [kg Sb-Equiv.] | C5: 3.0394643e-08
B6: CML2001 - Nov. 2010, Abiotic Depletion (ADP fossil) [MJ] | C6: 9.3419378
B7: CML2001 - Nov. 2010, Acidification Potential (AP) [kg SO2-Equiv.] | C7: 0.0033429764
B8: CML2001 - Nov. 2010, Eutrophication Potential (EP) [kg Phosphate-Equiv.] | C8: 0.0019149251
B9: CML2001 - Nov. 2010, Freshwater Aquatic Ecotoxicity Pot. (FAETP inf.) [kg DCB-Equiv.] | C9: 0.33752784
B10: CML2001 - Nov. 2010, Global Warming Potential (GWP 100 years) [kg CO2-Equiv.] | C10: 0.74663757
B11: CML2001 - Nov. 2010, Global Warming Potential, excl biogenic carbon (GWP 100 years) [kg CO2-Equiv.] | C11: 0.74864401
B12: CML2001 - Nov. 2010, Human Toxicity Potential (HTP inf.) [kg DCB-Equiv.] | C12: 0.27533239
B13: CML2001 - Nov. 2010, Marine Aquatic Ecotoxicity Pot. (MAETP inf.) [kg DCB-Equiv.] | C13: 1168.1464
B14: CML2001 - Nov. 2010, Ozone Layer Depletion Potential (ODP, steady state) [kg R11-Equiv.] | C14: 3.664485e-08
B15: CML2001 - Nov. 2010, Photochem. Ozone Creation Potential (POCP) [kg Ethene-Equiv.] | C15: 0.00019476607
B16: CML2001 - Nov. 2010, Terrestric Ecotoxicity Potential (TETP inf.) [kg DCB-Equiv.] | C16: 0.0015504015
A19: Impact 2002+ | B19: Impact 2002+ | C19: 0
B20: I02+ v2.1 - Aquatic acidification - Midpoint [kg SO2-Eq. to air] | C20: 0.0024089408
B21: I02+ v2.1 - Aquatic ecotoxicity - Midpoint [kg TEG-Eq. to water] | C21: 6258.812
B22: I02+ v2.1 - Aquatic eutrophication - Midpoint [kg PO4-Eq. to water] | C22: 0.0017250935
B23: I02+ v2.1 - Carcinogens - Midpoint [kg C2H3Cl-Eq. to air] | C23: 0.003224243
B24: I02+ v2.1 - Global warming 500yr - Midpoint [kg CO2-Eq. to air] | C24: 0.71504631
B25: I02+ v2.1 - Ionizing radiation - Midpoint [Bq C-14-Eq. to air] | C25: 1.5291854
B26: I02+ v2.1 - Non-carcinogens - Midpoint [kg C2H3Cl-Eq. to air] | C26: 0.045244021
B27: I02+ v2.1 - Ozone layer depletion - Midpoint [kg CFC-11-Eq. to air] | C27: 3.664485e-08
B28: I02+ v2.1 - Photochemical oxidation - Midpoint [kg C2H4-Eq. to air] | C28: 6.6333483e-05
B29: I02+ v2.1 - Respiratory effects - Midpoint [kg PM2.5-Eq. to air] | C29: 0.00044817382
B30: I02+ v2.1 - Terrestrial acidification/nutrification - Midpoint [kg SO2-Eq. to air] | C30: 0.0077095793
B31: I02+ v2.1 - Terrestrial ecotoxicity - Midpoint [kg TEG-Eq. to soil] | C31: 0.76953653
A33: ReCiPe 1.07 | B33: ReCiPe 1.07 | C33: 0
B34: ReCiPe 1.07 Endpoint (H) - Agricultural land occupation [species.yr] | C34: 1.3318653e-10
B35: ReCiPe 1.07 Endpoint (H) - Climate change Ecosystems [species.yr] | C35: 5.9355892e-09
B36: ReCiPe 1.07 Endpoint (H) - Climate change Human Health [DALY] | C36: 1.0480368e-06
B37: ReCiPe 1.07 Endpoint (H) - Fossil depletion [$] | C37: 0.036068386
B38: ReCiPe 1.07 Endpoint (H) - Freshwater ecotoxicity [species.yr] | C38: 7.2437952e-12
B39: ReCiPe 1.07 Endpoint (H) - Freshwater eutrophication [species.yr] | C39: 2.5271841e-11
B40: ReCiPe 1.07 Endpoint (H) - Human toxicity [DALY] | C40: 2.1602851e-08
B41: ReCiPe 1.07 Endpoint (H) - Ionising radiation [DALY] | C41: 8.0230129e-08
B42: ReCiPe 1.07 Endpoint (H) - Marine ecotoxicity [species.yr] | C42: 1.446414e-12
B43: ReCiPe 1.07 Endpoint (H) - Metal depletion [$] | C43: 0.00015922279
B44: ReCiPe 1.07 Endpoint (H) - Natural land transformation [species.yr] | C44: 8.4990915e-11
B45: ReCiPe 1.07 Endpoint (H) - Ozone depletion [DALY] | C45: 9.7583341e-11
...

Sheet 5. Apple liquid flavour
C3: 5. Apple liquid flavour
A4: CML 2001 - Nov. 2010 | B4: CML 2001 - Nov. 2010 | C4: 0
B5: CML2001 - Nov. 2010, Abiotic Depletion (ADP elements) [kg Sb-Equiv.] | C5: 1.4749396e-08
B6: CML2001 - Nov. 2010, Abiotic Depletion (ADP fossil) [MJ] | C6: 4.1964041
B7: CML2001 - Nov. 2010, Acidification Potential (AP) [kg SO2-Equiv.] | C7: 0.00024086619
B8: CML2001 - Nov. 2010, Eutrophication Potential (EP) [kg Phosphate-Equiv.] | C8: 0.00028011804
B9: CML2001 - Nov. 2010, Freshwater Aquatic Ecotoxicity Pot. (FAETP inf.) [kg DCB-Equiv.] | C9: 0.041191302
B10: CML2001 - Nov. 2010, Global Warming Potential (GWP 100 years) [kg CO2-Equiv.] | C10: 0.26626018
B11: CML2001 - Nov. 2010, Global Warming Potential, excl biogenic carbon (GWP 100 years) [kg CO2-Equiv.] | C11: 0.26640378
B12: CML2001 - Nov. 2010, Human Toxicity Potential (HTP inf.) [kg DCB-Equiv.] | C12: 0.03162416
B13: CML2001 - Nov. 2010, Marine Aquatic Ecotoxicity Pot. (MAETP inf.) [kg DCB-Equiv.] | C13: 108.18644
B14: CML2001 - Nov. 2010, Ozone Layer Depletion Potential (ODP, steady state) [kg R11-Equiv.] | C14: 3.1876713e-08
B15: CML2001 - Nov. 2010, Photochem. Ozone Creation Potential (POCP) [kg Ethene-Equiv.] | C15: 4.3490408e-05
B16: CML2001 - Nov. 2010, Terrestric Ecotoxicity Potential (TETP inf.) [kg DCB-Equiv.] | C16: 0.00020496204
A19: Impact 2002+ | B19: Impact 2002+ | C19: 0
B20: I02+ v2.1 - Aquatic acidification - Midpoint [kg SO2-Eq. to air] | C20: 0.00012898714
B21: I02+ v2.1 - Aquatic ecotoxicity - Midpoint [kg TEG-Eq. to water] | C21: 436.33203
B22: I02+ v2.1 - Aquatic eutrophication - Midpoint [kg PO4-Eq. to water] | C22: 0.00024583497
B23: I02+ v2.1 - Carcinogens - Midpoint [kg C2H3Cl-Eq. to air] | C23: 0.00037057934
B24: I02+ v2.1 - Global warming 500yr - Midpoint [kg CO2-Eq. to air] | C24: 0.25499022
B25: I02+ v2.1 - Ionizing radiation - Midpoint [Bq C-14-Eq. to air] | C25: 2.7741591
B26: I02+ v2.1 - Non-carcinogens - Midpoint [kg C2H3Cl-Eq. to air] | C26: 0.0048110025
B27: I02+ v2.1 - Ozone layer depletion - Midpoint [kg CFC-11-Eq. to air] | C27: 3.1876713e-08
B28: I02+ v2.1 - Photochemical oxidation - Midpoint [kg C2H4-Eq. to air] | C28: 4.0977783e-05
B29: I02+ v2.1 - Respiratory effects - Midpoint [kg PM2.5-Eq. to air] | C29: 4.2774436e-05
B30: I02+ v2.1 - Terrestrial acidification/nutrification - Midpoint [kg SO2-Eq. to air] | C30: 0.0011127379
B31: I02+ v2.1 - Terrestrial ecotoxicity - Midpoint [kg TEG-Eq. to soil] | C31: 0.14891701
A33: ReCiPe 1.07 | B33: ReCiPe 1.07 | C33: 0
B34: ReCiPe 1.07 Endpoint (H) - Agricultural land occupation [species.yr] | C34: 1.1070891e-11
B35: ReCiPe 1.07 Endpoint (H) - Climate change Ecosystems [species.yr] | C35: 2.1121613e-09
B36: ReCiPe 1.07 Endpoint (H) - Climate change Human Health [DALY] | C36: 3.7294065e-07
B37: ReCiPe 1.07 Endpoint (H) - Fossil depletion [$] | C37: 0.015174813
B38: ReCiPe 1.07 Endpoint (H) - Freshwater ecotoxicity [species.yr] | C38: 9.467155e-13
B39: ReCiPe 1.07 Endpoint (H) - Freshwater eutrophication [species.yr] | C39: 3.6012521e-12
B40: ReCiPe 1.07 Endpoint (H) - Human toxicity [DALY] | C40: 2.1480464e-09
B41: ReCiPe 1.07 Endpoint (H) - Ionising radiation [DALY] | C41: 1.005734e-07
B42: ReCiPe 1.07 Endpoint (H) - Marine ecotoxicity [species.yr] | C42: 1.9612126e-13
B43: ReCiPe 1.07 Endpoint (H) - Metal depletion [$] | C43: 7.369568e-05
B44: ReCiPe 1.07 Endpoint (H) - Natural land transformation [species.yr] | C44: 5.0562958e-11
B45: ReCiPe 1.07 Endpoint (H) - Ozone depletion [DALY] | C45: 8.3786834e-11
...

Sheet 6. Biscuit Shortcake
C3: 6. Biscuit shortcake
A4: CML 2001 - Nov. 2010 | B4: CML 2001 - Nov. 2010 | C4: 0
B5: CML2001 - Nov. 2010, Abiotic Depletion (ADP elements) [kg Sb-Equiv.] | C5: 2.7077948e-08
B6: CML2001 - Nov. 2010, Abiotic Depletion (ADP fossil) [MJ] | C6: 6.915976
B7: CML2001 - Nov. 2010, Acidification Potential (AP) [kg SO2-Equiv.] | C7: 0.0012693859
B8: CML2001 - Nov. 2010, Eutrophication Potential (EP) [kg Phosphate-Equiv.] | C8: 0.00042304507
B9: CML2001 - Nov. 2010, Freshwater Aquatic Ecotoxicity Pot. (FAETP inf.) [kg DCB-Equiv.] | C9: 0.062684089
B10: CML2001 - Nov. 2010, Global Warming Potential (GWP 100 years) [kg CO2-Equiv.] | C10: 0.41304532
B11: CML2001 - Nov. 2010, Global Warming Potential, excl biogenic carbon (GWP 100 years) [kg CO2-Equiv.] | C11: 0.41396005
B12: CML2001 - Nov. 2010, Human Toxicity Potential (HTP inf.) [kg DCB-Equiv.] | C12: 0.076966322
B13: CML2001 - Nov. 2010, Marine Aquatic Ecotoxicity Pot. (MAETP inf.) [kg DCB-Equiv.] | C13: 327.16692
