Workbook

Sheet Title

Sheet Content
A1: This document contains the following supplementary results and data:
A2: Table S1: | B2: Description of Environmental Impacts
A3: Table S2: | B3: LCIA results of Basalt Rock dust Fertiliser
A4: Table S3: | B4: LCIA Results of Single Superphosphate fertiliser
A5: Table S4: | B5: LCIA Results of Triple Superphosphate Fertiliser
A6: Table S5: | B6: LCIA Results of Potassium Chloride fertiliser
A7: Table S6: | B7: LCIA Results of Potassium Carbonate Fertiliser
A8: Table S7: | B8: LCIA Results of Potassium Hydroxide Fertiliser
A9: Table S8: | B9: Overall LCIA Impact of Fertilisers
A10: Table S9: | B10: Uncertainty Runs using Monte Carlo Analysis
A11: Table S10a: | B11: Results of Uncertainty Analysis (Deterministic LCA)
A12: Table S10b: | B12: Results of Uncertainty Analysis (Impact Category Relevance)
A13: Table S11: | B13: Substitution Scenarios (Hypothetical)

Sheet Table S1
B1: Table S1: Description of Environmental Impacts | C1: Unit
B2: Global warming potential: Measure of greenhouse gas emissions over 100 years | C2: kg CO2-e Carbon dioxide equivalent
B3: Acidification Potential: Measures of potential release of acid into surface waters and soils | C3: kg NO2-e Sulphur Oxide eqivalent
B4: Eutrophication Potential: Measures of water pollution caused by increased nutrients | C4: kg NO2-e Nitrogen Oxide eqivalent
B5: Land use: Measures of land occupation and loss of biodiversity | C5: M2a Square-metre-years
B6: Fresh water aquatic ecotoxicity (FAETP 100a): Measures of fresh water ecosystems impact from toxic emissions to water within 100-year period | C6: 1, 4 DCB Dichlorobenzene equivalent
B7: Fresh water sediment ecotoxicity (FSETP 100a): Measures of fresh water sediment ecosystem impact from toxic emissions to water within a 100-year period | C7: 1, 4 DCB Dichlorobenzene equivalent
B8: Marine water aquatic ecotoxicity (MAETP 100a): Measures of toxic substances released on marine aquatic ecosystem | C8: 1, 4 DCB Dichlorobenzene equivalent
B9: Marine water sediment ecotoxicity (MSETP 100a): Measures of toxic substance release on marine sediment ecosystem | C9: 1, 4 DCB Dichlorobenzene equivalent
B10: Human Toxicity Impact (HTP 100a): Measures of harmful toxic substances release to humans within a 100-year period | C10: 1, 4 DCB Dichlorobenzene equivalent
B11: Terrestrial ecotoxicity (TAETP 100a): Measures of toxic substances release to terrestrial ecosystem within a 100-year period | C11: 1, 4 DCB Dichlorobenzene equivalent
B12: Ionising radiation: Measures of exposure to harmful rays (gamma, alpha, etc) to humans | C12: DALYs Disability-adjusted-life-years
B13: Malodous air: Measures of air pollution
B14: Damage to Ecosystem Quality: expressed as the loss of species over a certain area, during a certain time | C14: % plant species *m2* yr
B15: Damage to Human Health: expressed as the number of year life lost and the number of years lived disabled. | C15: DALYs Disability-adjusted-life-years
B16: Damage to Resources: on resources is a measure of the surplus or extra energy required in the future to extract minerals and fossil resources. | C16: MJ surplus energy

Sheet Table S2
A1: Table S2: LCIA Results of BasaltRock Dust Fertiliser
A3: Unit Process Exchanges(material and energy) for 1kg of basalt | B3: Qty | C3: Unit for Qty | D3: Climate change/kg | E3: Climate change impact | F3: Acidification/kg | G3: Acidification impact | H3: Eutrophication/kg | I3: Eutrophication Impact | J3: FAETP/kg | K3: FAETP impact | L3: FSETP/kg | M3: FSETP impact | N3: MAETP/kg | O3: MAETP impact | P3: MSETP/kg | Q3: MSETP impact | R3: Terrestrial ecotoxicity | S3: Terrestrial ecotoxity | T3: Human Toxicity/kg | U3: HTP impact | V3: Ionising Radiation | W3: Ionising Radiation impact | X3: Maladous air | Y3: Maladous air impact | Z3: Land use | AA3: Land use impact | AB3: Ecosystem quality | AC3: Ecosystem quality impact | AD3: Human health | AE3: Human Health impact | AF3: Resources | AG3: Resources impact
A4: alkyd paint, white, without solvent, in 60% solution state | B4: 2.9996e-06 | C4: kg | D4: 6.7269 | E4: =B4*D4 -> 2.0178009e-05 | F4: 0.03772 | G4: =B4*F4 -> 1.1314491e-07 | H4: 0.01715 | I4: =B4*H4 -> 5.144314e-08 | J4: 3.2889 | K4: =B4*J4 -> 9.8653844e-06 | L4: 7.1171 | M4: =B4*L4 -> 2.1348453e-05 | N4: 9.782 | O4: =B4*N4 -> 2.9342087e-05 | P4: 10.86 | Q4: =B4*P4 -> 3.2575656e-05 | R4: 0.21938 | S4: =B4*R4 -> 6.5805225e-07 | T4: 3.8814 | U4: =B4*T4 -> 1.1642647e-05 | V4: 6.4733e-09 | W4: =B4*V4 -> 1.9417311e-14 | X4: 387490 | Y4: =B4*X4 -> 1.162315 | Z4: 1.9559 | AA4: =B4*Z4 -> 5.8669176e-06 | AB4: 0.2439 | AC4: =B4*AB4 -> 7.3160244e-07 | AD4: 0.21012 | AE4: =B4*AD4 -> 6.3027595e-07 | AF4: 0.17128 | AG4: =B4*AF4 -> 5.1377149e-07
A5: blasting | B5: 7.729e-05 | C5: kg | D5: 5.7949 | E5: =B5*D5 -> 0.00044788782 | F5: 0.28571 | G5: =B5*F5 -> 2.2082526e-05 | H5: 0.67679 | I5: =B5*H5 -> 5.2309099e-05 | J5: 1.6868 | K5: =B5*J5 -> 0.00013037277 | L5: 3.5877 | M5: =B5*L5 -> 0.00027729333 | N5: 6.4004 | O5: =B5*N5 -> 0.00049468692 | P5: 6.7955 | Q5: =B5*P5 -> 0.0005252242 | R5: 0.012005 | S5: =B5*R5 -> 9.2786645e-07 | T5: 5.1797 | U5: =B5*T5 -> 0.00040033901 | V5: 3.5567e-09 | W5: =B5*V5 -> 2.7489734e-13 | X5: 129080 | Y5: =B5*X5 -> 9.9765932 | Z5: 0.36724 | AA5: =B5*Z5 -> 2.838398e-05 | AB5: 0.4087 | AC5: =B5*AB5 -> 3.1588423e-05 | AD5: 0.89722 | AE5: =B5*AD5 -> 6.9346134e-05 | AF5: 0.11808 | AG5: =B5*AF5 -> 9.1264032e-06
A6: chemical, organic | B6: 3.5995e-07 | C6: kg | D6: 1.9032 | E6: =B6*D6 -> 6.8505684e-07 | F6: 0.0073567 | G6: =B6*F6 -> 2.6480442e-09 | H6: 0.0049324 | I6: =B6*H6 -> 1.7754174e-09 | J6: 0.35089 | K6: =B6*J6 -> 1.2630286e-07 | L6: 0.71151 | M6: =B6*L6 -> 2.5610802e-07 | N6: 1.3674 | O6: =B6*N6 -> 4.9219563e-07 | P6: 1.3881 | Q6: =B6*P6 -> 4.9964659e-07 | R6: 0.00037065 | S6: =B6*R6 -> 1.3341547e-10 | T6: 1.9919 | U6: =B6*T6 -> 7.169844e-07 | V6: 1.6657e-09 | W6: =B6*V6 -> 5.9956871e-16 | X6: 36912 | Y6: =B6*X6 -> 0.013286474 | Z6: 0.039068 | AA6: =B6*Z6 -> 1.4062527e-08 | AB6: 0.011828 | AC6: =B6*AB6 -> 4.2574886e-09 | AD6: 0.042353 | AE6: =B6*AD6 -> 1.5244962e-08 | AF6: 0.15723 | AG6: =B6*AF6 -> 5.6594939e-08
A7: diesel, burned in building machine (crushing and grinding) | B7: 0.041394 | C7: MJ | D7: 0.092972 | E7: =B7*D7 -> 0.003848483 | F7: 0.0006977 | G7: =B7*F7 -> 2.8880594e-05 | H7: 0.0013015 | I7: =B7*H7 -> 5.3874291e-05 | J7: 0.0050382 | K7: =B7*J7 -> 0.00020855125 | L7: 0.011174 | M7: =B7*L7 -> 0.00046253656 | N7: 0.021417 | O7: =B7*N7 -> 0.0008865353 | P7: 0.024258 | Q7: =B7*P7 -> 0.0010041357 | R7: 8.77e-06 | S7: =B7*R7 -> 3.6302538e-07 | T7: 0.057452 | U7: =B7*T7 -> 0.0023781681 | V7: 1.2985e-10 | W7: =B7*V7 -> 5.3750109e-12 | X7: 146.94 | Y7: =B7*X7 -> 6.0824344 | Z7: 0.00044385 | AA7: =B7*Z7 -> 1.8372727e-05 | AB7: 0.00074614 | AC7: =B7*AB7 -> 3.0885719e-05 | AD7: 0.0039958 | AE7: =B7*AD7 -> 0.00016540215 | AF7: 0.0037296 | AG7: =B7*AF7 -> 0.00015438306
A8: electricity, medium voltage (mining) | B8: 0.0062092 | C8: kWh | D8: 0.44363 | E8: =B8*D8 -> 0.0027545874 | F8: 0.0021365 | G8: =B8*F8 -> 1.3265956e-05 | H8: 0.0010767 | I8: =B8*H8 -> 6.6854456e-06 | J8: 0.26844 | K8: =B8*J8 -> 0.0016667976 | L8: 0.57791 | M8: =B8*L8 -> 0.0035883588 | N8: 0.94176 | O8: =B8*N8 -> 0.0058475762 | P8: 0.99191 | Q8: =B8*P8 -> 0.0061589676 | R8: 0.00015262 | S8: =B8*R8 -> 9.476481e-07 | T8: 0.075934 | U8: =B8*T8 -> 0.00047148939 | V8: 4.9062e-09 | W8: =B8*V8 -> 3.0463577e-11 | X8: 2996.8 | Y8: =B8*X8 -> 18.607731 | Z8: 0.050367 | AA8: =B8*Z8 -> 0.00031273878 | AB8: 0.0078863 | AC8: =B8*AB8 -> 4.8967614e-05 | AD8: 0.010615 | AE8: =B8*AD8 -> 6.5910658e-05 | AF8: 0.011951 | AG8: =B8*AF8 -> 7.4206149e-05
A9: heat, district or industrial, other than natural gas | B9: 0.00029731 | C9: MJ | D9: 0.071548 | E9: =B9*D9 -> 2.1271936e-05 | F9: 0.00048863 | G9: =B9*F9 -> 1.4527459e-07 | H9: 0.00019918 | I9: =B9*H9 -> 5.9218206e-08 | J9: 0.012114 | K9: =B9*J9 -> 3.6016133e-06 | L9: 0.025181 | M9: =B9*L9 -> 7.4865631e-06 | N9: 0.053936 | O9: =B9*N9 -> 1.6035712e-05 | P9: 0.054987 | Q9: =B9*P9 -> 1.6348185e-05 | R9: 5.5198e-05 | S9: =B9*R9 -> 1.6410917e-08 | T9: 0.02196 | U9: =B9*T9 -> 6.5289276e-06 | V9: 1.1763e-10 | W9: =B9*V9 -> 3.4972575e-14 | X9: 255.51 | Y9: =B9*X9 -> 0.075965678 | Z9: 0.028254 | AA9: =B9*Z9 -> 8.4001967e-06 | AB9: 0.0033687 | AC9: =B9*AB9 -> 1.0015482e-06 | AD9: 0.0037308 | AE9: =B9*AD9 -> 1.1092041e-06 | AF9: 0.0019807 | AG9: =B9*AF9 -> 5.8888192e-07
A10: lubricating oil | B10: 5.3993e-05 | C10: kg | D10: 1.4356 | E10: =B10*D10 -> 7.7512351e-05 | F10: 0.0090509 | G10: =B10*F10 -> 4.8868524e-07 | H10: 0.0042753 | I10: =B10*H10 -> 2.3083627e-07 | J10: 0.41839 | K10: =B10*J10 -> 2.2590131e-05 | L10: 0.87321 | M10: =B10*L10 -> 4.7147228e-05 | N10: 1.6166 | O10: =B10*N10 -> 8.7285084e-05 | P10: 1.6742 | Q10: =B10*P10 -> 9.0395081e-05 | R10: 0.00047705 | S10: =B10*R10 -> 2.5757361e-08 | T10: 0.72134 | U10: =B10*T10 -> 3.8947311e-05 | V10: 6.1223e-09 | W10: =B10*V10 -> 3.3056134e-13 | X10: 13259 | Y10: =B10*X10 -> 0.71589319 | Z10: 0.065921 | AA10: =B10*Z10 -> 3.5592726e-06 | AB10: 0.01501 | AC10: =B10*AB10 -> 8.1043493e-07 | AD10: 0.044834 | AE10: =B10*AD10 -> 2.4207222e-06 | AF10: 0.17792 | AG10: =B10*AF10 -> 9.6064346e-06
A13: Basalt is exploited in open-pit quarries..The module includes a mining step and a subsequent benefication step comprising crushing, washing and classification.

Sheet Table S3
A1: Table S3: LCIA Results of Single Superphosphate Fertiliser
A3: Unit Process Exchanges(material and energy) for 1kg of single superphosphate (SSP) | B3: Qty | C3: Unit for Qty | D3: Climate change/kg | E3: Climate change impact | F3: Acidification/kg | G3: Acidification impact | H3: Eutrophication/kg | I3: Eutrophication Impact | J3: FAETP/kg | K3: FAETP impact | L3: FSETP/kg | M3: FSETP impact | N3: MAETP/kg | O3: MAETP impact | P3: MSETP/kg | Q3: MSETP impact | R3: Terrestrial ecotoxicity | S3: Terrestrial ecotoxity | T3: Human Toxicity/kg | U3: HTP impact | V3: Ionising Radiation | W3: Ionising Radiation impact | X3: Maladous air | Y3: Maladous air impact | Z3: Land use | AA3: Land use impact | AB3: Ecosystem quality | AC3: Ecosystem quality impact | AD3: Human health | AE3: Human Health impact | AF3: Resources | AG3: Resources impact
A4: Sulfuric acid | B4: 1.75 | C4: kg | D4: 0.16111 | E4: =B4*D4 -> 0.2819425 | F4: 0.0075276 | G4: =B4*F4 -> 0.0131733 | H4: 0.0014334 | I4: =B4*H4 -> 0.00250845 | J4: 0.21349 | K4: =B4*J4 -> 0.3736075 | L4: 0.42998 | M4: =B4*L4 -> 0.752465 | N4: 0.76953 | O4: =B4*N4 -> 1.3466775 | P4: 0.78345 | Q4: =B4*P4 -> 1.3710375 | R4: 0.00010046 | S4: =B4*R4 -> 0.000175805 | T4: 0.19908 | U4: =B4*T4 -> 0.34839 | V4: 6.4523e-10 | W4: =B4*V4 -> 1.1291525e-09 | X4: 3478 | Y4: =B4*X4 -> 6086.5 | Z4: 0.020748 | AA4: =B4*Z4 -> 0.036309 | AB4: 0.0075799 | AC4: =B4*AB4 -> 0.013264825 | AD4: 0.025633 | AE4: =B4*AD4 -> 0.04485775 | AF4: 0.019058 | AG4: =B4*AF4 -> 0.0333515
A5: electricity, medium voltage | B5: 1.85 | C5: kWh | D5: 0.44363 | E5: =B5*D5 -> 0.8207155 | F5: 0.0021365 | G5: =B5*F5 -> 0.003952525 | H5: 0.0010767 | I5: =B5*H5 -> 0.001991895 | J5: 0.26844 | K5: =B5*J5 -> 0.496614 | L5: 0.57791 | M5: =B5*L5 -> 1.0691335 | N5: 0.94176 | O5: =B5*N5 -> 1.742256 | P5: 0.99191 | Q5: =B5*P5 -> 1.8350335 | R5: 0.00015262 | S5: =B5*R5 -> 0.000282347 | T5: 0.075934 | U5: =B5*T5 -> 0.1404779 | V5: 4.9062e-09 | W5: =B5*V5 -> 9.07647e-09 | X5: 2996.8 | Y5: =B5*X5 -> 5544.08 | Z5: 0.050367 | AA5: =B5*Z5 -> 0.09317895 | AB5: 0.0078863 | AC5: =B5*AB5 -> 0.014589655 | AD5: 0.010615 | AE5: =B5*AD5 -> 0.01963775 | AF5: 0.011951 | AG5: =B5*AF5 -> 0.02210935
A6: phosphate rock, as P2O5, beneficiated, dry | B6: 1 | C6: kg | D6: 0.30681 | E6: =B6*D6 -> 0.30681 | F6: 0.0021911 | G6: =B6*F6 -> 0.0021911 | H6: 0.0015411 | I6: =B6*H6 -> 0.0015411 | J6: 0.073962 | K6: =B6*J6 -> 0.073962 | L6: 0.15617 | M6: =B6*L6 -> 0.15617 | N6: 0.28175 | O6: =B6*N6 -> 0.28175 | P6: 0.30484 | Q6: =B6*P6 -> 0.30484 | R6: 0.0030955 | S6: =B6*R6 -> 0.0030955 | T6: 0.097928 | U6: =B6*T6 -> 0.097928 | V6: 7.997e-10 | W6: =B6*V6 -> 7.997e-10 | X6: 2717.7 | Y6: =B6*X6 -> 2717.7 | Z6: 0.040273 | AA6: =B6*Z6 -> 0.040273 | AB6: 0.0034569 | AC6: =B6*AB6 -> 0.0034569 | AD6: 0.023351 | AE6: =B6*AD6 -> 0.023351 | AF6: 0.0096706 | AG6: =B6*AF6 -> 0.0096706
A9: Refers to 1 kg P2O5, resp. 4.76 kg single superphosphate with a P2O5-content of 21.0%The unit process inventory takes into account the production of single superphosphate from sulphuric acid and rock phosphate. Transports of raw materials and intermediate products to the fertiliser plant were included as well as the transport of the fertiliser product from the factory to the regional department store. Production and waste treatment of catalysts, coating and packaging of the final fertiliser products were not included.

Sheet Table S4
A1: Table S4: LCIA Results of Triple Superphiosphate Fertiliser
A3: Unit Process Exchanges(material and energy) for 1kg triple superphosphate (TSP) | B3: Qty | C3: Unit for Qty | D3: Climate change/kg | E3: Climate change impact | F3: Acidification/kg | G3: Acidification impact | H3: Eutrophication/kg | I3: Eutrophication Impact | J3: FAETP/kg | K3: FAETP impact | L3: FSETP/kg | M3: FSETP impact | N3: MAETP/kg | O3: MAETP impact | P3: MSETP/kg | Q3: MSETP impact | R3: Terrestrial ecotoxicity | S3: Terrestrial ecotoxity | T3: Human Toxicity/kg | U3: HTP impact | V3: Ionising Radiation | W3: Ionising Radiation impact | X3: Maladous air | Y3: Maladous air impact | Z3: Land use | AA3: Land use impact | AB3: Ecosystem quality | AC3: Ecosystem quality impact | AD3: Human health | AE3: Human Health impact | AF3: Resources | AG3: Resources impact
A4: electricity, medium voltage | B4: 0.752 | C4: kWh | D4: 0.44363 | E4: =B4*D4 -> 0.33360976 | F4: 0.0021365 | G4: =B4*F4 -> 0.001606648 | H4: 0.0010767 | I4: =B4*H4 -> 0.0008096784 | J4: 0.26844 | K4: =B4*J4 -> 0.20186688 | L4: 0.57791 | M4: =B4*L4 -> 0.43458832 | N4: 0.94176 | O4: =B4*N4 -> 0.70820352 | P4: 0.99191 | Q4: =B4*P4 -> 0.74591632 | R4: 0.00015262 | S4: =B4*R4 -> 0.00011477024 | T4: 0.075934 | U4: =B4*T4 -> 0.057102368 | V4: 4.9062e-09 | W4: =B4*V4 -> 3.6894624e-09 | X4: 2996.8 | Y4: =B4*X4 -> 2253.5936 | Z4: 0.050367 | AA4: =B4*Z4 -> 0.037875984 | AB4: 0.0078863 | AC4: =B4*AB4 -> 0.0059304976 | AD4: 0.010615 | AE4: =B4*AD4 -> 0.00798248 | AF4: 0.011951 | AG4: =B4*AF4 -> 0.008987152
A5: heat, district or industrial, natural gas | B5: 1.46 | C5: MJ | D5: 0.071548 | E5: =B5*D5 -> 0.10446008 | F5: 0.00048863 | G5: =B5*F5 -> 0.0007133998 | H5: 0.00019918 | I5: =B5*H5 -> 0.0002908028 | J5: 0.012114 | K5: =B5*J5 -> 0.01768644 | L5: 0.025181 | M5: =B5*L5 -> 0.03676426 | N5: 0.053936 | O5: =B5*N5 -> 0.07874656 | P5: 0.054987 | Q5: =B5*P5 -> 0.08028102 | R5: 5.5198e-05 | S5: =B5*R5 -> 8.058908e-05 | T5: 0.02196 | U5: =B5*T5 -> 0.0320616 | V5: 1.1763e-10 | W5: =B5*V5 -> 1.717398e-10 | X5: 255.51 | Y5: =B5*X5 -> 373.0446 | Z5: 0.028254 | AA5: =B5*Z5 -> 0.04125084 | AB5: 0.0033687 | AC5: =B5*AB5 -> 0.004918302 | AD5: 0.0037308 | AE5: =B5*AD5 -> 0.005446968 | AF5: 0.0019807 | AG5: =B5*AF5 -> 0.002891822
A6: phosphoric acid, fertiliser grade, without water, in 70% solution state | B6: 0.966 | C6: kg | D6: 0.95223 | E6: =B6*D6 -> 0.91985418 | F6: 0.018932 | G6: =B6*F6 -> 0.018288312 | H6: 0.0048973 | I6: =B6*H6 -> 0.0047307918 | J6: 0.59467 | K6: =B6*J6 -> 0.57445122 | L6: 1.2147 | M6: =B6*L6 -> 1.1734002 | N6: 2.3308 | O6: =B6*N6 -> 2.2515528 | P6: 2.4642 | Q6: =B6*P6 -> 2.3804172 | R6: 0.0047555 | S6: =B6*R6 -> 0.004593813 | T6: 0.55949 | U6: =B6*T6 -> 0.54046734 | V6: 2.7562e-09 | W6: =B6*V6 -> 2.6624892e-09 | X6: 13368 | Y6: =B6*X6 -> 12913.488 | Z6: 0.54227 | AA6: =B6*Z6 -> 0.52383282 | AB6: 0.020673 | AC6: =B6*AB6 -> 0.019970118 | AD6: 0.094591 | AE6: =B6*AD6 -> 0.091374906 | AF6: 0.057439 | AG6: =B6*AF6 -> 0.055486074
A7: phosphate rock, as P2O5, beneficiated, dry | B7: 0.3 | C7: kg | D7: 0.30681 | E7: =B7*D7 -> 0.092043 | F7: 0.0021911 | G7: =B7*F7 -> 0.00065733 | H7: 0.0015411 | I7: =B7*H7 -> 0.00046233 | J7: 0.073962 | K7: =B7*J7 -> 0.0221886 | L7: 0.15617 | M7: =B7*L7 -> 0.046851 | N7: 0.28175 | O7: =B7*N7 -> 0.084525 | P7: 0.30484 | Q7: =B7*P7 -> 0.091452 | R7: 0.0030955 | S7: =B7*R7 -> 0.00092865 | T7: 0.097928 | U7: =B7*T7 -> 0.0293784 | V7: 7.997e-10 | W7: =B7*V7 -> 2.3991e-10 | X7: 2717.7 | Y7: =B7*X7 -> 815.31 | Z7: 0.040273 | AA7: =B7*Z7 -> 0.0120819 | AB7: 0.0034569 | AC7: =B7*AB7 -> 0.00103707 | AD7: 0.023351 | AE7: =B7*AD7 -> 0.0070053 | AF7: 0.0096706 | AG7: =B7*AF7 -> 0.00290118
A9: Refers to 1 kg P2O5, resp. 2.08 kg triple superphosphate with a P2O5-content of 48.0%The unit process inventory takes into account the production of triple superphosphate from phosphoric acid and rock phosphate. Transports of raw materials and intermediate products to the fertiliser plant as well as the transport of the fertiliser product from the factory to the regional department store were included. Production and waste treatment of catalysts, coating and packaging of the final fertiliser products were not included.

Sheet Table S5
A1: Table S5: LCIA Results of Potassium Chloride Fertiliser
A3: Unit Process Exchanges(material and energy) for 1kg of Potassium chloride (KCl) | B3: Qty | C3: Unit for Qty | D3: Climate change/kg | E3: Climate change impact | F3: Acidification/kg | G3: Acidification impact | H3: Eutrophication/kg | I3: Eutrophication Impact | J3: FAETP/kg | K3: FAETP impact | L3: FSETP/kg | M3: FSETP impact | N3: MAETP/kg | O3: MAETP impact | P3: MSETP/kg | Q3: MSETP impact | R3: Terrestrial ecotoxicity | S3: Terrestrial ecotoxity | T3: Human Toxicity/kg | U3: HTP impact | V3: Ionising Radiation | W3: Ionising Radiation impact | X3: Maladous air | Y3: Maladous air impact | Z3: Land use | AA3: Land use impact | AB3: Ecosystem quality | AC3: Ecosystem quality impact | AD3: Human health | AE3: Human Health impact | AF3: Resources | AG3: Resources impact
A4: diesel, burned in building machine | B4: 0.040298 | C4: MJ | D4: 0.092972 | E4: =B4*D4 -> 0.0037465857 | F4: 0.0006977 | G4: =B4*F4 -> 2.8115915e-05 | H4: 0.0013015 | I4: =B4*H4 -> 5.2447847e-05 | J4: 0.0050382 | K4: =B4*J4 -> 0.00020302938 | L4: 0.011174 | M4: =B4*L4 -> 0.00045028985 | N4: 0.021417 | O4: =B4*N4 -> 0.00086306227 | P4: 0.024258 | Q4: =B4*P4 -> 0.00097754888 | R4: 8.77e-06 | S4: =B4*R4 -> 3.5341346e-07 | T4: 0.057452 | U4: =B4*T4 -> 0.0023152007 | V4: 1.2073e-10 | W4: =B4*V4 -> 4.8651775e-12 | X4: 145.82 | Y4: =B4*X4 -> 5.8762544 | Z4: 0.00044385 | AA4: =B4*Z4 -> 1.7886267e-05 | AB4: 0.00074614 | AC4: =B4*AB4 -> 3.006795e-05 | AD4: 0.0039958 | AE4: =B4*AD4 -> 0.00016102275 | AF4: 0.0037296 | AG4: =B4*AF4 -> 0.00015029542
A5: electricity, medium voltage | B5: 0.11999 | C5: kWh | D5: 0.73794 | E5: =B5*D5 -> 0.088545421 | F5: 0.002867 | G5: =B5*F5 -> 0.00034401133 | H5: 0.0013014 | I5: =B5*H5 -> 0.00015615499 | J5: 0.71603 | K5: =B5*J5 -> 0.08591644 | L5: 1.5228 | M5: =B5*L5 -> 0.18272077 | N5: 2.4845 | O5: =B5*N5 -> 0.29811516 | P5: 2.5529 | Q5: =B5*P5 -> 0.30632247 | R5: 0.00011713 | S5: =B5*R5 -> 1.4054429e-05 | T5: 0.077522 | U5: =B5*T5 -> 0.0093018648 | V5: 5.1317e-11 | W5: =B5*V5 -> 6.1575268e-12 | X5: 4909.3 | Y5: =B5*X5 -> 589.06691 | Z5: 0.0020338 | AA5: =B5*Z5 -> 0.00024403566 | AB5: 0.0034878 | AC5: =B5*AB5 -> 0.00041850112 | AD5: 0.014929 | AE5: =B5*AD5 -> 0.0017913307 | AF5: 0.016894 | AG5: =B5*AF5 -> 0.0020271111
A6: salt tailing from potash mine | B6: -4.5798 | C6: kg | D6: 0.011456 | E6: =B6*D6 -> -0.052466189 | F6: 7.3582e-05 | G6: =B6*F6 -> -0.00033699084 | H6: 8.813e-05 | I6: =B6*H6 -> -0.00040361777 | J6: 0.001565 | K6: =B6*J6 -> -0.007167387 | L6: 0.0033657 | M6: =B6*L6 -> -0.015414233 | N6: 0.0067822 | O6: =B6*N6 -> -0.03106112 | P6: 0.0073821 | Q6: =B6*P6 -> -0.033808542 | R6: 4.1223e-06 | S6: =B6*R6 -> -1.887931e-05 | T6: 0.0044815 | U6: =B6*T6 -> -0.020524374 | V6: 2.9943e-11 | W6: =B6*V6 -> -1.3713295e-10 | X6: 202.51 | Y6: =B6*X6 -> -927.4553 | Z6: 0.0066172 | AA6: =B6*Z6 -> -0.030305453 | AB6: 0.00057268 | AC6: =B6*AB6 -> -0.0026227599 | AD6: 0.00036679 | AE6: =B6*AD6 -> -0.0016798248 | AF6: 0.0008506 | AG6: =B6*AF6 -> -0.0038955779
A7: heat, district or industrial, natural gas | B7: 0.87095 | C7: MJ | D7: 0.036587 | E7: =B7*D7 -> 0.031865448 | F7: 4.5424e-05 | G7: =B7*F7 -> 3.9562033e-05 | H7: 4.0173e-05 | I7: =B7*H7 -> 3.4988674e-05 | J7: 0.0011161 | K7: =B7*J7 -> 0.0009720673 | L7: 0.0023758 | M7: =B7*L7 -> 0.002069203 | N7: 0.0042832 | O7: =B7*N7 -> 0.003730453 | P7: 0.0044685 | Q7: =B7*P7 -> 0.0038918401 | R7: 1.7153e-06 | S7: =B7*R7 -> 1.4939405e-06 | T7: 0.0039164 | U7: =B7*T7 -> 0.0034109886 | V7: 2.4189e-12 | W7: =B7*V7 -> 2.106741e-12 | X7: 2039.3 | Y7: =B7*X7 -> 1776.1283 | Z7: 8.395e-05 | AA7: =B7*Z7 -> 7.3116252e-05 | AB7: 5.552e-05 | AC7: =B7*AB7 -> 4.8355144e-05 | AD7: 0.00027932 | AE7: =B7*AD7 -> 0.00024327375 | AF7: 0.0017428 | AG7: =B7*AF7 -> 0.0015178917
A11: Potassium chloride production process starting from underground mining of potash salts.This activity ends with dried potassium chloride at factory gate. the dataset includes the mining of potash salts, the processes of concentration of the potassium chloride, conditioning and drying. The use of the resource sylvinite was accounted for as well as the disposal of the salt residues on heaps and to rivers. Treatment of other wastes was included. Infrastructure was included by means of a proxy module. Coating and packaging of the final fertiliser products were not included.

Sheet Table S6
A1: Table S6: LCIA Results of Potassium Carbonate Fertiliser
A3: Unit Process Exchanges(material and energy) for 1kg of potassium carbonate (K2CO3) | B3: Qty | C3: Unit for Qty | D3: Climate change/kg | E3: Climate change impact | F3: Acidification/kg | G3: Acidification impact | H3: Eutrophication/kg | I3: Eutrophication Impact | J3: FAETP/kg | K3: FAETP impact | L3: FSETP/kg | M3: FSETP impact | N3: MAETP/kg | O3: MAETP impact | P3: MSETP/kg | Q3: MSETP impact | R3: Terrestrial ecotoxicity | S3: Terrestrial ecotoxity | T3: Human Toxicity/kg | U3: HTP impact | V3: Ionising Radiation | W3: Ionising Radiation impact | X3: Maladous air | Y3: Maladous air impact | Z3: Land use | AA3: Land use impact | AB3: Ecosystem quality | AC3: Ecosystem quality impact | AD3: Human health | AE3: Human Health impact | AF3: Resources | AG3: Resources impact
A4: carbon dioxide, liquid | B4: 0.27726 | C4: kg | D4: 0.87572 | E4: =B4*D4 -> 0.24280213 | F4: 0.0028314 | G4: =B4*F4 -> 0.00078503396 | H4: 0.0015144 | I4: =B4*H4 -> 0.00041988254 | J4: 0.25061 | K4: =B4*J4 -> 0.069484129 | L4: 0.52507 | M4: =B4*L4 -> 0.14558091 | N4: 0.91191 | O4: =B4*N4 -> 0.25283617 | P4: 0.942 | Q4: =B4*P4 -> 0.26117892 | R4: 0.00014977 | S4: =B4*R4 -> 4.152523e-05 | T4: 1.1868 | U4: =B4*T4 -> 0.32905217 | V4: 9.37e-10 | W4: =B4*V4 -> 2.5979262e-10 | X4: 8734.3 | Y4: =B4*X4 -> 2421.672 | Z4: 0.033398 | AA4: =B4*Z4 -> 0.0092599295 | AB4: 0.0072312 | AC4: =B4*AB4 -> 0.0020049225 | AD4: 0.02461 | AE4: =B4*AD4 -> 0.0068233686 | AF4: 0.020686 | AG4: =B4*AF4 -> 0.0057354004
A5: electricity, medium voltage | B5: 0.416 | C5: kWh | D5: 0.77564 | E5: =B5*D5 -> 0.32266624 | F5: 0.0034254 | G5: =B5*F5 -> 0.0014249664 | H5: 0.0018931 | I5: =B5*H5 -> 0.0007875296 | J5: 0.28764 | K5: =B5*J5 -> 0.11965824 | L5: 0.6172 | M5: =B5*L5 -> 0.2567552 | N5: 1.0227 | O5: =B5*N5 -> 0.4254432 | P5: 1.069 | Q5: =B5*P5 -> 0.444704 | R5: 0.00012921 | S5: =B5*R5 -> 5.375136e-05 | T5: 0.12502 | U5: =B5*T5 -> 0.05200832 | V5: 2.2479e-09 | W5: =B5*V5 -> 9.351264e-10 | X5: 4103.6 | Y5: =B5*X5 -> 1707.0976 | Z5: 0.022279 | AA5: =B5*Z5 -> 0.009268064 | AB5: 0.004777 | AC5: =B5*AB5 -> 0.001987232 | AD5: 0.026277 | AE5: =B5*AD5 -> 0.010931232 | AF5: 0.02079 | AG5: =B5*AF5 -> 0.00864864
A6: heat, from steam, in chemical industry | B6: 0.167 | C6: MJ | D6: 0.12435 | E6: =B6*D6 -> 0.02076645 | F6: 0.00042777 | G6: =B6*F6 -> 7.143759e-05 | H6: 0.00018108 | I6: =B6*H6 -> 3.024036e-05 | J6: 0.012802 | K6: =B6*J6 -> 0.002137934 | L6: 0.02728 | M6: =B6*L6 -> 0.00455576 | N6: 0.051429 | O6: =B6*N6 -> 0.008588643 | P6: 0.05395 | Q6: =B6*P6 -> 0.00900965 | R6: 1.0827e-05 | S6: =B6*R6 -> 1.808109e-06 | T6: 0.018386 | U6: =B6*T6 -> 0.003070462 | V6: 7.1459e-11 | W6: =B6*V6 -> 1.1933653e-11 | X6: 1324.2 | Y6: =B6*X6 -> 221.1414 | Z6: 0.00093486 | AA6: =B6*Z6 -> 0.00015612162 | AB6: 0.00038629 | AC6: =B6*AB6 -> 6.451043e-05 | AD6: 0.0016824 | AE6: =B6*AD6 -> 0.0002809608 | AF6: 0.0043094 | AG6: =B6*AF6 -> 0.0007196698
A7: nitrogen, liquid | B7: 0.014909 | C7: kg | D7: 0.48029 | E7: =B7*D7 -> 0.0071606436 | F7: 0.0021053 | G7: =B7*F7 -> 3.1387918e-05 | H7: 0.0011932 | I7: =B7*H7 -> 1.7789419e-05 | J7: 0.16605 | K7: =B7*J7 -> 0.0024756394 | L7: 0.35608 | M7: =B7*L7 -> 0.0053087967 | N7: 0.5924 | O7: =B7*N7 -> 0.0088320916 | P7: 0.61847 | Q7: =B7*P7 -> 0.0092207692 | R7: 7.2022e-05 | S7: =B7*R7 -> 1.073776e-06 | T7: 0.078847 | U7: =B7*T7 -> 0.0011755299 | V7: 9.8504e-10 | W7: =B7*V7 -> 1.4685961e-11 | X7: 2516.5 | Y7: =B7*X7 -> 37.518498 | Z7: 0.0097911 | AA7: =B7*Z7 -> 0.00014597551 | AB7: 0.002433 | AC7: =B7*AB7 -> 3.6273597e-05 | AD7: 0.016767 | AE7: =B7*AD7 -> 0.0002499792 | AF7: 0.032123 | AG7: =B7*AF7 -> 0.00047892181
A12: Potassium carbonate is used as a fertilizer for acidic soil.From the reception of potassium hydroxide and carbon dioxide at the factory gate.This activity ends with the production of potassium carbonate. The system includes the process with consumption of raw materials, energy, infrastructure and land use as well as the generation of emissions to air and water.

Sheet Table S7
A1: Table S7: LCIA Results of Potassium Hydroxide Fertiliser
A3: Unit Process Exchanges(material and energy) for 1kg of Potassium hydroxide (KOH) | B3: Qty | C3: Unit for Qty | D3: Climate change/kg | E3: Climate change impact | F3: Acidification/kg | G3: Acidification impact | H3: Eutrophication/kg | I3: Eutrophication Impact | J3: FAETP/kg | K3: FAETP impact | L3: FSETP/kg | M3: FSETP impact | N3: MAETP/kg | O3: MAETP impact | P3: MSETP/kg | Q3: MSETP impact | R3: Terrestrial ecotoxicity | S3: Terrestrial ecotoxity | T3: Human Toxicity/kg | U3: HTP impact | V3: Ionising Radiation | W3: Ionising Radiation impact | X3: Maladous air | Y3: Maladous air impact | Z3: Land use | AA3: Land use impact | AB3: Ecosystem quality | AC3: Ecosystem quality impact | AD3: Human health | AE3: Human Health impact | AF3: Resources | AG3: Resources impact
A4: potassium chloride, as K2O | B4: 0.040298 | C4: MJ | D4: 0.4525 | E4: =B4*D4 -> 0.018234845 | F4: 0.0021967 | G4: =B4*F4 -> 8.8522617e-05 | H4: 0.0017285 | I4: =B4*H4 -> 6.9655093e-05 | J4: 0.71179 | K4: =B4*J4 -> 0.028683713 | L4: 1.637 | M4: =B4*L4 -> 0.065967826 | N4: 2.4239 | O4: =B4*N4 -> 0.097678322 | P4: 2.9111 | Q4: =B4*P4 -> 0.11731151 | R4: 0.00024188 | S4: =B4*R4 -> 9.7472802e-06 | T4: 0.65955 | U4: =B4*T4 -> 0.026578546 | V4: 3.4873e-10 | W4: =B4*V4 -> 1.4053122e-11 | X4: 11316 | Y4: =B4*X4 -> 456.01217 | Z4: 0.066088 | AA4: =B4*Z4 -> 0.0026632142 | AB4: 0.016005 | AC4: =B4*AB4 -> 0.00064496949 | AD4: 0.020816 | AE4: =B4*AD4 -> 0.00083884317 | AF4: 0.020537 | AG4: =B4*AF4 -> 0.00082760003
A5: electricity, medium voltage | B5: 0.11999 | C5: kWh | D5: 0.73794 | E5: =B5*D5 -> 0.088545421 | F5: 0.002867 | G5: =B5*F5 -> 0.00034401133 | H5: 0.0013014 | I5: =B5*H5 -> 0.00015615499 | J5: 0.71603 | K5: =B5*J5 -> 0.08591644 | L5: 1.5228 | M5: =B5*L5 -> 0.18272077 | N5: 2.4845 | O5: =B5*N5 -> 0.29811516 | P5: 2.5529 | Q5: =B5*P5 -> 0.30632247 | R5: 0.00011713 | S5: =B5*R5 -> 1.4054429e-05 | T5: 0.077522 | U5: =B5*T5 -> 0.0093018648 | V5: 5.1317e-11 | W5: =B5*V5 -> 6.1575268e-12 | X5: 4909.3 | Y5: =B5*X5 -> 589.06691 | Z5: 0.0020338 | AA5: =B5*Z5 -> 0.00024403566 | AB5: 0.0034878 | AC5: =B5*AB5 -> 0.00041850112 | AD5: 0.014929 | AE5: =B5*AD5 -> 0.0017913307 | AF5: 0.016894 | AG5: =B5*AF5 -> 0.0020271111
A6: salt tailing from potash mine | B6: -4.5798 | C6: kg | D6: 0.011456 | E6: =B6*D6 -> -0.052466189 | F6: 7.3582e-05 | G6: =B6*F6 -> -0.00033699084 | H6: 8.813e-05 | I6: =B6*H6 -> -0.00040361777 | J6: 0.001565 | K6: =B6*J6 -> -0.007167387 | L6: 0.0033657 | M6: =B6*L6 -> -0.015414233 | N6: 0.0067822 | O6: =B6*N6 -> -0.03106112 | P6: 0.0073821 | Q6: =B6*P6 -> -0.033808542 | R6: 4.1223e-06 | S6: =B6*R6 -> -1.887931e-05 | T6: 0.0044815 | U6: =B6*T6 -> -0.020524374 | V6: 2.9943e-11 | W6: =B6*V6 -> -1.3713295e-10 | X6: 202.51 | Y6: =B6*X6 -> -927.4553 | Z6: 0.0066172 | AA6: =B6*Z6 -> -0.030305453 | AB6: 0.00057268 | AC6: =B6*AB6 -> -0.0026227599 | AD6: 0.00036679 | AE6: =B6*AD6 -> -0.0016798248 | AF6: 0.0008506 | AG6: =B6*AF6 -> -0.0038955779
A7: heat, district or industrial, natural gas | B7: 0.87095 | C7: MJ | D7: 0.036587 | E7: =B7*D7 -> 0.031865448 | F7: 4.5424e-05 | G7: =B7*F7 -> 3.9562033e-05 | H7: 4.0173e-05 | I7: =B7*H7 -> 3.4988674e-05 | J7: 0.0011161 | K7: =B7*J7 -> 0.0009720673 | L7: 0.0023758 | M7: =B7*L7 -> 0.002069203 | N7: 0.0042832 | O7: =B7*N7 -> 0.003730453 | P7: 0.0044685 | Q7: =B7*P7 -> 0.0038918401 | R7: 1.7153e-06 | S7: =B7*R7 -> 1.4939405e-06 | T7: 0.0039164 | U7: =B7*T7 -> 0.0034109886 | V7: 2.4189e-12 | W7: =B7*V7 -> 2.106741e-12 | X7: 2039.3 | Y7: =B7*X7 -> 1776.1283 | Z7: 8.395e-05 | AA7: =B7*Z7 -> 7.3116252e-05 | AB7: 5.552e-05 | AC7: =B7*AB7 -> 4.8355144e-05 | AD7: 0.00027932 | AE7: =B7*AD7 -> 0.00024327375 | AF7: 0.0017428 | AG7: =B7*AF7 -> 0.0015178917
A12: This dataset represents the production of 1 kg of pure potassium hydroxide (KOH), which is commercialized in the form of a 85.6% aqueous solution.The activity starts when the raw materials enter the process.This activity ends with the production of potassium hydroxide. The dataset includes all precursors, ancillary materials, emissions and estimated infrastructure.

Sheet Table S8
A1: Table S8: Overall LCIA Impact of Fertilisers
C2: Basalt | D2: SSP | E2: TSP | F2: KCl | G2: K2CO3 | H2: KOH
A3: Climate change impact | B3: CC-I | C3: 0.0072 | D3: 1.409468 | E3: 1.449967 | F3: 0.176624 | G3: 0.593395 | H3: 1.513526
A4: Acidification impact | B4: A-I | C4: 6.5e-05 | D4: 0.019316925 | E4: 0.02126569 | F4: 0.000749 | G4: 0.002313 | H4: 0.006545
A5: Eutrophication Impact | B5: EU-I | C5: 0.00011 | D5: 0.006041445 | E5: 0.006293603 | F5: 0.000647 | G5: 0.001255 | H5: 0.003568
A6: Land use impact | B6: LU-I | C6: 0.00038 | D6: 0.9441835 | E6: 0.81619314 | F6: 0.03064 | G6: 0.01883 | H6: 0.200784
A7: FAETP impact | B7: FAETP | C7: 0.002 | D7: 1.9777685 | E7: 1.6916038 | F7: 0.094259 | G7: 0.193756 | H7: 0.661182
A8: FSETP impact | B8: FSETP | C8: 0.0044 | D8: 3.3706835 | E8: 3.1230279 | F8: 0.200654 | G8: 0.412201 | H8: 1.405023
A9: MAETP impact | B9: MAETP | C9: 0.0074 | D9: 3.510911 | E9: 3.2980665 | F9: 0.33377 | G9: 0.6957 | H9: 2.397498
A10: MSETP impact | B10: MSETP | C10: 0.0078 | D10: 0.003553652 | E10: 0.005717822 | F10: 0.345 | G10: 0.724113 | H10: 2.501579
A11: HTP impact | B11: HTP | C11: 0.0033 | D11: 0.5867959 | E11: 0.65900971 | F11: 0.035552 | G11: 0.385306 | H11: 0.489483
A12: Terrestrial ecotoxicity | B12: TE-I | C12: 2.9e-06 | D12: 1.10053e-08 | E12: 6.7636e-09 | F12: 3.48e-05 | G12: 9.82e-05 | H12: 0.000522
A13: Ionising Radiation impact | B13: IR-I | C13: 3.6e-11 | D13: 14348.28 | E13: 16355.436 | F13: 1.5e-10 | G13: 1.22e-09 | H13: 9.78e-09
A14: Maladous air impact | B14: MA-I | C14: 37 | D14: 0.16976095 | E14: 0.61504154 | F14: 3298.527 | G14: 4387.43 | H14: 17865.2
... A17: Resources impact | B17: RE-I | C17: 0.000244 | D17: 0.06513145 | E17: 0.070266228 | F17: 0.007591 | G17: 0.015583 | H17: 0.050588

Sheet Table S9
A1: Table S9: Uncertainty Runs Using Monte Carlo Analysis
A2: Alpha | B2: 0.05 | C2: Climate change | I2: Acidification impact | O2: Eutrophication Impact | U2: Land use impact | AA2: FAETP impact | AG2: FSETP impact | AM2: MAETP impact | AS2: MSETP impact | AY2: HTP impact | BE2: Terrestrial ecotoxicity | BK2: Ionising Radiation impact | BQ2: Maladous air impact | BW2: Ecosystem quality impact | CC2: Human Health impact | CI2: Resources impact
A3: d_o | B3: 0.2 | C3: Basalt | D3: SSP | E3: TSP | F3: KCl | G3: K2CO3 | H3: KOH | I3: Basalt | J3: SSP | K3: TSP | L3: KCl | M3: K2CO3 | N3: KOH | O3: Basalt | P3: SSP | Q3: TSP | R3: KCl | S3: K2CO3 | T3: KOH | U3: Basalt | V3: SSP | W3: TSP | X3: KCl | Y3: K2CO3 | Z3: KOH | AA3: Basalt | AB3: SSP | AC3: TSP | AD3: KCl | AE3: K2CO3 | AF3: KOH | AG3: Basalt | AH3: SSP | AI3: TSP | AJ3: KCl | AK3: K2CO3 | AL3: KOH | AM3: Basalt | AN3: SSP | AO3: TSP | AP3: KCl | AQ3: K2CO3 | AR3: KOH | AS3: Basalt | AT3: SSP | AU3: TSP | AV3: KCl | AW3: K2CO3 | AX3: KOH | AY3: Basalt | AZ3: SSP | BA3: TSP | BB3: KCl | BC3: K2CO3 | BD3: KOH | BE3: Basalt | BF3: SSP | BG3: TSP | BH3: KCl | BI3: K2CO3 | BJ3: KOH | BK3: Basalt | BL3: SSP | BM3: TSP | BN3: KCl | BO3: K2CO3 | BP3: KOH | BQ3: Basalt | BR3: SSP | BS3: TSP | BT3: KCl | BU3: K2CO3 | BV3: KOH | BW3: Basalt | BX3: SSP | BY3: TSP | BZ3: KCl | CA3: K2CO3 | CB3: KOH | CC3: Basalt | CD3: SSP | CE3: TSP | CF3: KCl | CG3: K2CO3 | CH3: KOH | CI3: Basalt | CJ3: SSP | CK3: TSP | CL3: KCl | CM3: K2CO3 | CN3: KOH
B4: Output of | C4: ='Table S8'!C3 -> 0.0072 | D4: ='Table S8'!D3 -> 1.409468 | E4: ='Table S8'!E3 -> 1.449967 | F4: ='Table S8'!F3 -> 0.176624 | G4: ='Table S8'!G3 -> 0.593395 | H4: ='Table S8'!H3 -> 1.513526 | I4: ='Table S8'!C4 -> 6.5e-05 | J4: ='Table S8'!D4 -> 0.019316925 | K4: ='Table S8'!E4 -> 0.02126569 | L4: ='Table S8'!F4 -> 0.000749 | M4: ='Table S8'!G4 -> 0.002313 | N4: ='Table S8'!H4 -> 0.006545 | O4: ='Table S8'!C5 -> 0.00011 | P4: ='Table S8'!D5 -> 0.006041445 | Q4: ='Table S8'!E5 -> 0.006293603 | R4: ='Table S8'!F5 -> 0.000647 | S4: ='Table S8'!G5 -> 0.001255 | T4: ='Table S8'!H5 -> 0.003568 | U4: ='Table S8'!C6 -> 0.00038 | V4: ='Table S8'!D6 -> 0.9441835 | W4: ='Table S8'!E6 -> 0.81619314 | X4: ='Table S8'!F6 -> 0.03064 | Y4: ='Table S8'!G6 -> 0.01883 | Z4: ='Table S8'!H6 -> 0.200784 | AA4: ='Table S8'!C7 -> 0.002 | AB4: ='Table S8'!D7 -> 1.9777685 | AC4: ='Table S8'!E7 -> 1.6916038 | AD4: ='Table S8'!F7 -> 0.094259 | AE4: ='Table S8'!G7 -> 0.193756 | AF4: ='Table S8'!H7 -> 0.661182 | AG4: ='Table S8'!C8 -> 0.0044 | AH4: ='Table S8'!D8 -> 3.3706835 | AI4: ='Table S8'!E8 -> 3.1230279 | AJ4: ='Table S8'!F8 -> 0.200654 | AK4: ='Table S8'!G8 -> 0.412201 | AL4: ='Table S8'!H8 -> 1.405023 | AM4: ='Table S8'!C9 -> 0.0074 | AN4: ='Table S8'!D9 -> 3.510911 | AO4: ='Table S8'!E9 -> 3.2980665 | AP4: ='Table S8'!F9 -> 0.33377 | AQ4: ='Table S8'!G9 -> 0.6957 | AR4: ='Table S8'!H9 -> 2.397498 | AS4: ='Table S8'!C10 -> 0.0078 | AT4: ='Table S8'!D10 -> 0.003553652 | AU4: ='Table S8'!E10 -> 0.005717822 | AV4: ='Table S8'!F10 -> 0.345 | AW4: ='Table S8'!G10 -> 0.724113 | AX4: ='Table S8'!H10 -> 2.501579 | AY4: ='Table S8'!C11 -> 0.0033 | AZ4: ='Table S8'!D11 -> 0.5867959 | BA4: ='Table S8'!E11 -> 0.65900971 | BB4: ='Table S8'!F11 -> 0.035552 | BC4: ='Table S8'!G11 -> 0.385306 | BD4: ='Table S8'!H11 -> 0.489483 | BE4: ='Table S8'!C12 -> 2.9e-06 | BF4: ='Table S8'!D12 -> 1.10053e-08 | BG4: ='Table S8'!E12 -> 6.7636e-09 | BH4: ='Table S8'!F12 -> 3.48e-05 | BI4: ='Table S8'!G12 -> 9.82e-05 | BJ4: ='Table S8'!H12 -> 0.000522 | BK4: ='Table S8'!C13 -> 3.6e-11 | BL4: ='Table S8'!D13 -> 14348.28 | BM4: ='Table S8'!E13 -> 16355.436 | BN4: ='Table S8'!F13 -> 1.5e-10 | BO4: ='Table S8'!G13 -> 1.22e-09 | BP4: ='Table S8'!H13 -> 9.78e-09 | BQ4: ='Table S8'!C14 -> 37 | BR4: ='Table S8'!D14 -> 0.16976095 | BS4: ='Table S8'!E14 -> 0.61504154 | BT4: ='Table S8'!F14 -> 3298.527 | BU4: ='Table S8'!G14 -> 4387.43 | BV4: ='Table S8'!H14 -> 17865.2 | BW4: ='Table S8'!C15 -> 0.000115 | BX4: ='Table S8'!D15 -> 0.03131138 | BY4: ='Table S8'!E15 -> 0.031855988 | BZ4: ='Table S8'!F15 -> 0.00312 | CA4: ='Table S8'!G15 -> 0.004093 | CB4: ='Table S8'!H15 -> 0.02913 | CC4: ='Table S8'!C16 -> 0.000309 | CD4: ='Table S8'!D16 -> 0.0878465 | CE4: ='Table S8'!E16 -> 0.11180965 | CF4: ='Table S8'!F16 -> 0.003875 | CG4: ='Table S8'!G16 -> 0.018286 | CH4: ='Table S8'!H16 -> 0.040726 | CI4: ='Table S8'!C17 -> 0.000244 | CJ4: ='Table S8'!D17 -> 0.06513145 | CK4: ='Table S8'!E17 -> 0.070266228 | CL4: ='Table S8'!F17 -> 0.007591 | CM4: ='Table S8'!G17 -> 0.015583 | CN4: ='Table S8'!H17 -> 0.050588
B6: 1 | C6: 0.0069873888 | D6: 1.454117 | E6: 1.5024783 | F6: 0.17669636 | G6: 0.60999819 | H6: 1.5421583 | I6: 6.7018744e-05 | J6: 0.019444351 | K6: 0.021534435 | L6: 0.00076296132 | M6: 0.0023239899 | N6: 0.0063999709 | O6: 0.00010588117 | P6: 0.0063288515 | Q6: 0.0061616169 | R6: 0.00065850098 | S6: 0.0012046792 | T6: 0.0035541624 | U6: 0.0003764681 | V6: 0.9664839 | W6: 0.8473721 | X6: 0.029114529 | Y6: 0.019336787 | Z6: 0.21000108 | AA6: 0.0019874733 | AB6: 2.0235906 | AC6: 1.6917194 | AD6: 0.091554696 | AE6: 0.18927447 | AF6: 0.65518123 | AG6: 0.0044031737 | AH6: 3.3362807 | AI6: 3.0572467 | AJ6: 0.20056863 | AK6: 0.40722223 | AL6: 1.3672865 | AM6: 0.0072108568 | AN6: 3.6434061 | AO6: 3.3736597 | AP6: 0.31788096 | AQ6: 0.72605198 | AR6: 2.4845003 | AS6: 0.0079191606 | AT6: 0.0035438259 | AU6: 0.0055690811 | AV6: 0.33483308 | AW6: 0.73140726 | AX6: 2.6148205 | AY6: 0.0033150106 | AZ6: 0.56042103 | BA6: 0.68179229 | BB6: 0.036387639 | BC6: 0.38051129 | BD6: 0.48823223 | BE6: 2.793782e-06 | BF6: 1.1231489e-08 | BG6: 6.5708996e-09 | BH6: 3.4436722e-05 | BI6: 9.8123698e-05 | BJ6: 0.00050625679 | BK6: 3.7239973e-11 | BL6: 14068.651 | BM6: 16694.261 | BN6: 1.5083177e-10 | BO6: 1.2130617e-09 | BP6: 9.8400305e-09 | BQ6: 37.792856 | BR6: 0.16975658 | BS6: 0.58546199 | BT6: 3293.2312 | BU6: 4549.9595 | BV6: 18459.971 | BW6: 0.00012007952 | BX6: 0.032639823 | BY6: 0.032411329 | BZ6: 0.0032342888 | CA6: 0.004011263 | CB6: 0.028886233 | CC6: 0.00030415813 | CD6: 0.085564249 | CE6: 0.11286591 | CF6: 0.0040122606 | CG6: 0.018683508 | CH6: 0.039220907 | CI6: 0.0002415418 | CJ6: 0.065872308 | CK6: 0.0691562 | CL6: 0.0075225334 | CM6: 0.016079068 | CN6: 0.051409903
B7: 2 | C7: 0.0070927287 | D7: 1.4149781 | E7: 1.5224092 | F7: 0.16862583 | G7: 0.6078952 | H7: 1.5538108 | I7: 6.2254436e-05 | J7: 0.019201004 | K7: 0.020534983 | L7: 0.00077856931 | M7: 0.00220138 | N7: 0.0064620314 | O7: 0.00010638406 | P7: 0.0061314581 | Q7: 0.0065379693 | R7: 0.00064899558 | S7: 0.0012169959 | T7: 0.0035336702 | U7: 0.00038715413 | V7: 0.92200705 | W7: 0.822733 | X7: 0.030037473 | Y7: 0.018037059 | Z7: 0.20201433 | AA7: 0.0020688318 | AB7: 1.8833422 | AC7: 1.6846429 | AD7: 0.090311876 | AE7: 0.18948465 | AF7: 0.67025039 | AG7: 0.0043262136 | AH7: 3.4291998 | AI7: 3.2019433 | AJ7: 0.1923268 | AK7: 0.40868493 | AL7: 1.4522724 | AM7: 0.0072259035 | AN7: 3.6528659 | AO7: 3.1583379 | AP7: 0.3223801 | AQ7: 0.68493901 | AR7: 2.3895459 | AS7: 0.008042375 | AT7: 0.0033796688 | AU7: 0.0054649236 | AV7: 0.33214308 | AW7: 0.73026668 | AX7: 2.4347152 | AY7: 0.0034601336 | AZ7: 0.60582056 | BA7: 0.63012433 | BB7: 0.037036404 | BC7: 0.37815159 | BD7: 0.49398901 | BE7: 2.9581639e-06 | BF7: 1.096596e-08 | BG7: 6.6219695e-09 | BH7: 3.3136682e-05 | BI7: 0.00010278511 | BJ7: 0.00054305304 | BK7: 3.6288088e-11 | BL7: 14517.006 | BM7: 16066.959 | BN7: 1.4666666e-10 | BO7: 1.2460046e-09 | BP7: 9.719608e-09 | BQ7: 36.491356 | BR7: 0.17065287 | BS7: 0.63938292 | BT7: 3205.4133 | BU7: 4318.5016 | BV7: 18316.126 | BW7: 0.00011120599 | BX7: 0.032492237 | BY7: 0.030919842 | BZ7: 0.0031194295 | CA7: 0.0041750826 | CB7: 0.029903521 | CC7: 0.00031267345 | CD7: 0.084417215 | CE7: 0.11318617 | CF7: 0.0037616212 | CG7: 0.018009019 | CH7: 0.041410078 | CI7: 0.00023491051 | CJ7: 0.065645745 | CK7: 0.072839613 | CL7: 0.0073824162 | CM7: 0.016064387 | CN7: 0.048186183
B8: 3 | C8: 0.0071234869 | D8: 1.4159661 | E8: 1.4205754 | F8: 0.18466838 | G8: 0.57758895 | H8: 1.4612864 | I8: 6.3476843e-05 | J8: 0.018483007 | K8: 0.020965057 | L8: 0.00075766426 | M8: 0.0022203127 | N8: 0.0066969532 | O8: 0.00011263232 | P8: 0.0060294779 | Q8: 0.006558194 | R8: 0.00062983625 | S8: 0.0013128108 | T8: 0.0037261708 | U8: 0.00038756461 | V8: 0.97441865 | W8: 0.84159206 | X8: 0.031717213 | Y8: 0.018638174 | Z8: 0.20423425 | AA8: 0.0019739139 | AB8: 1.9454914 | AC8: 1.7159229 | AD8: 0.097567943 | AE8: 0.19956503 | AF8: 0.64421785 | AG8: 0.0042991575 | AH8: 3.2362534 | AI8: 3.2772848 | AJ8: 0.20159279 | AK8: 0.42182116 | AL8: 1.3355408 | AM8: 0.0073710776 | AN8: 3.5610975 | AO8: 3.3218108 | AP8: 0.33473377 | AQ8: 0.69255607 | AR8: 2.4363309 | AS8: 0.008134921 | AT8: 0.0036646172 | AU8: 0.0058693983 | AV8: 0.33214941 | AW8: 0.73199368 | AX8: 2.3975167 | AY8: 0.0032077381 | AZ8: 0.59797303 | BA8: 0.67298755 | BB8: 0.033939393 | BC8: 0.36886747 | BD8: 0.50126201 | BE8: 2.7778739e-06 | BF8: 1.0557116e-08 | BG8: 6.9012773e-09 | BH8: 3.349361e-05 | BI8: 9.5319518e-05 | BJ8: 0.00054453611 | BK8: 3.6149468e-11 | BL8: 14447.347 | BM8: 17044.999 | BN8: 1.5638511e-10 | BO8: 1.229491e-09 | BP8: 9.5783905e-09 | BQ8: 35.620045 | BR8: 0.16709478 | BS8: 0.5880402 | BT8: 3214.9222 | BU8: 4564.4251 | BV8: 18440.448 | BW8: 0.00011333257 | BX8: 0.030484856 | BY8: 0.031894243 | BZ8: 0.0030657493 | CA8: 0.004159812 | CB8: 0.028648889 | CC8: 0.00031954171 | CD8: 0.085927747 | CE8: 0.10772378 | CF8: 0.0037516136 | CG8: 0.019010718 | CH8: 0.040341415 | CI8: 0.00025239879 | CJ8: 0.064932408 | CK8: 0.067128428 | CL8: 0.0079598731 | CM8: 0.01535387 | CN8: 0.051153648
B9: 4 | C9: 0.0070146275 | D9: 1.4317563 | E9: 1.4258821 | F9: 0.1826154 | G9: 0.5928973 | H9: 1.5168882 | I9: 6.1983297e-05 | J9: 0.019567977 | K9: 0.021082626 | L9: 0.00075650824 | M9: 0.0023539292 | N9: 0.0063615424 | O9: 0.00011034199 | P9: 0.0062158738 | Q9: 0.0063476517 | R9: 0.00067633649 | S9: 0.001232446 | T9: 0.0035593949 | U9: 0.00039491298 | V9: 0.9585741 | W9: 0.79989807 | X9: 0.031320331 | Y9: 0.019747725 | Z9: 0.2106754 | AA9: 0.0019925303 | AB9: 1.9265762 | AC9: 1.6812907 | AD9: 0.090472833 | AE9: 0.18639115 | AF9: 0.6653689 | AG9: 0.0043067303 | AH9: 3.4476441 | AI9: 3.1537669 | AJ9: 0.20743128 | AK9: 0.41404865 | AL9: 1.3446816 | AM9: 0.0072350402 | AN9: 3.6850793 | AO9: 3.4592536 | AP9: 0.33633462 | AQ9: 0.67468709 | AR9: 2.4645178 | AS9: 0.0081216895 | AT9: 0.0034321465 | AU9: 0.0059025892 | AV9: 0.33396071 | AW9: 0.72181038 | AX9: 2.5819996 | AY9: 0.0034451225 | AZ9: 0.56361502 | BA9: 0.64389537 | BB9: 0.034553482 | BC9: 0.37410554 | BD9: 0.50267848 | BE9: 2.7961301e-06 | BF9: 1.1195772e-08 | BG9: 6.5333787e-09 | BH9: 3.5436981e-05 | BI9: 0.00010121227 | BJ9: 0.00051519261 | BK9: 3.7702674e-11 | BL9: 13949.156 | BM9: 16621.479 | BN9: 1.4463581e-10 | BO9: 1.264364e-09 | BP9: 9.5514022e-09 | BQ9: 37.301571 | BR9: 0.17473137 | BS9: 0.62817836 | BT9: 3298.6327 | BU9: 4313.1502 | BV9: 17905.345 | BW9: 0.00011523828 | BX9: 0.031800285 | BY9: 0.032719409 | BZ9: 0.002994892 | CA9: 0.0042170518 | CB9: 0.029663782 | CC9: 0.00031041459 | CD9: 0.091588784 | CE9: 0.11182491 | CF9: 0.0038456595 | CG9: 0.018003823 | CH9: 0.039987781 | CI9: 0.00023923094 | CJ9: 0.063525371 | CK9: 0.069264187 | CL9: 0.0075945208 | CM9: 0.015264787 | CN9: 0.049459995
B10: 5 | C10: 0.0069568114 | D10: 1.3860997 | E10: 1.4513987 | F10: 0.16806828 | G10: 0.60004545 | H10: 1.5176736 | I10: 6.6281453e-05 | J10: 0.018863296 | K10: 0.021542732 | L10: 0.00073184636 | M10: 0.002208461 | N10: 0.0068261114 | O10: 0.00010597637 | P10: 0.0058711113 | Q10: 0.0060515083 | R10: 0.00063588573 | S10: 0.0012861106 | T10: 0.0036988703 | U10: 0.00039270211 | V10: 0.9441853 | W10: 0.85022878 | X10: 0.031810708 | Y10: 0.019122763 | Z10: 0.1989369 | AA10: 0.0020721341 | AB10: 1.90772 | AC10: 1.6082929 | AD10: 0.095697546 | AE10: 0.19200594 | AF10: 0.68345914 | AG10: 0.0042696309 | AH10: 3.2927788 | AI10: 3.2198131 | AJ10: 0.20415028 | AK10: 0.4055857 | AL10: 1.3876078 | AM10: 0.0076525768 | AN10: 3.3490919 | AO10: 3.1880169 | AP10: 0.34909726 | AQ10: 0.67112014 | AR10: 2.3680729 | AS10: 0.0080315175 | AT10: 0.003627031 | AU10: 0.0054981937 | AV10: 0.36191994 | AW10: 0.72212594 | AX10: 2.4256817 | AY10: 0.0034509212 | AZ10: 0.57860407 | BA10: 0.6291741 | BB10: 0.035571022 | BC10: 0.36877139 | BD10: 0.4727563 | BE10: 2.7760342e-06 | BF10: 1.0562059e-08 | BG10: 6.8760357e-09 | BH10: 3.3290897e-05 | BI10: 9.7081023e-05 | BJ10: 0.00051984031 | BK10: 3.6392386e-11 | BL10: 14229.451 | BM10: 16523.718 | BN10: 1.5315789e-10 | BO10: 1.1901657e-09 | BP10: 1.0084055e-08 | BQ10: 36.237385 | BR10: 0.17264489 | BS10: 0.59004829 | BT10: 3295.4567 | BU10: 4176.0516 | BV10: 17929.416 | BW10: 0.000119723 | BX10: 0.030206411 | BY10: 0.032766825 | BZ10: 0.002996948 | CA10: 0.004281231 | CB10: 0.028425237 | CC10: 0.00030235364 | CD10: 0.083878023 | CE10: 0.10878297 | CF10: 0.0039260787 | CG10: 0.017747676 | CH10: 0.040687485 | CI10: 0.00024732826 | CJ10: 0.063788966 | CK10: 0.070354325 | CL10: 0.0075603722 | CM10: 0.015583167 | CN10: 0.050940077
B11: 6 | C11: 0.0073467733 | D11: 1.4136082 | E11: 1.5029039 | F11: 0.17501754 | G11: 0.58783374 | H11: 1.4714861 | I11: 6.6832877e-05 | J11: 0.019604845 | K11: 0.020683793 | L11: 0.00073147315 | M11: 0.0022842649 | N11: 0.0064215044 | O11: 0.00011080961 | P11: 0.006153471 | Q11: 0.0063990626 | R11: 0.00065113054 | S11: 0.0012728694 | T11: 0.0035610529 | U11: 0.00038660179 | V11: 0.97235166 | W11: 0.83805998 | X11: 0.029246839 | Y11: 0.019502123 | Z11: 0.19862954 | AA11: 0.0020915588 | AB11: 1.9780153 | AC11: 1.6850566 | AD11: 0.097279915 | AE11: 0.2018878 | AF11: 0.65585862 | AG11: 0.0042068383 | AH11: 3.343382 | AI11: 3.0757678 | AJ11: 0.20614003 | AK11: 0.41379373 | AL11: 1.3869078 | AM11: 0.0071612022 | AN11: 3.6275933 | AO11: 3.2421041 | AP11: 0.34496325 | AQ11: 0.71379264 | AR11: 2.2972699 | AS11: 0.0079432816 | AT11: 0.0035359391 | AU11: 0.0059884047 | AV11: 0.34579518 | AW11: 0.70171033 | AX11: 2.579506 | AY11: 0.0033309068 | AZ11: 0.61310768 | BA11: 0.6526881 | BB11: 0.035344994 | BC11: 0.39106935 | BD11: 0.47444612 | BE11: 2.8616547e-06 | BF11: 1.0814371e-08 | BG11: 6.560678e-09 | BH11: 3.5447721e-05 | BI11: 9.8784111e-05 | BJ11: 0.00051635305 | BK11: 3.6698574e-11 | BL11: 14309.622 | BM11: 15592.237 | BN11: 1.503567e-10 | BO11: 1.2573738e-09 | BP11: 1.0184174e-08 | BQ11: 36.845285 | BR11: 0.1628144 | BS11: 0.61077173 | BT11: 3408.8655 | BU11: 4411.2182 | BV11: 18550.243 | BW11: 0.00011529322 | BX11: 0.030390473 | BY11: 0.031044658 | BZ11: 0.0029888002 | CA11: 0.0039453803 | CB11: 0.029148542 | CC11: 0.0003040329 | CD11: 0.086531664 | CE11: 0.10694795 | CF11: 0.0037368137 | CG11: 0.018781826 | CH11: 0.042404211 | CI11: 0.0002349421 | CJ11: 0.065572741 | CK11: 0.067461323 | CL11: 0.0073754878 | CM11: 0.01491249 | CN11: 0.048746762
B12: 7 | C12: 0.0070122116 | D12: 1.3732763 | E12: 1.5097997 | F12: 0.18450782 | G12: 0.62075839 | H12: 1.5471907 | I12: 6.350448e-05 | J12: 0.019441358 | K12: 0.0203325 | L12: 0.00074672002 | M12: 0.0023902938 | N12: 0.0066632268 | O12: 0.00010710315 | P12: 0.0061483653 | Q12: 0.0064738544 | R12: 0.00063148058 | S12: 0.0012189341 | T12: 0.0036826844 | U12: 0.00038280599 | V12: 0.97148684 | W12: 0.81555872 | X12: 0.030757227 | Y12: 0.019242782 | Z12: 0.20892584 | AA12: 0.0020040848 | AB12: 1.9927288 | AC12: 1.6421947 | AD12: 0.093600317 | AE12: 0.19818139 | AF12: 0.6714792 | AG12: 0.0044710374 | AH12: 3.3087638 | AI12: 3.1689036 | AJ12: 0.19728104 | AK12: 0.42268793 | AL12: 1.4363231 | AM12: 0.0074166336 | AN12: 3.5367737 | AO12: 3.1672276 | AP12: 0.33722792 | AQ12: 0.71656899 | AR12: 2.4664591 | AS12: 0.0074910514 | AT12: 0.0036840721 | AU12: 0.005743118 | AV12: 0.32794268 | AW12: 0.73624623 | AX12: 2.6102135 | AY12: 0.0032224261 | AZ12: 0.57628886 | BA12: 0.68225036 | BB12: 0.035364524 | BC12: 0.37360319 | BD12: 0.49921717 | BE12: 2.9556507e-06 | BF12: 1.0583969e-08 | BG12: 6.4285059e-09 | BH12: 3.6032627e-05 | BI12: 9.9038286e-05 | BJ12: 0.00054622404 | BK12: 3.6418879e-11 | BL12: 14622.801 | BM12: 17154.724 | BN12: 1.5103353e-10 | BO12: 1.23874e-09 | BP12: 9.9859894e-09 | BQ12: 36.305637 | BR12: 0.16362962 | BS12: 0.58711699 | BT12: 3407.3089 | BU12: 4581.3969 | BV12: 17456.525 | BW12: 0.00012026483 | BX12: 0.031239267 | BY12: 0.031118011 | BZ12: 0.0029845922 | CA12: 0.0039459579 | CB12: 0.029280428 | CC12: 0.00031604577 | CD12: 0.087487102 | CE12: 0.11106896 | CF12: 0.0039342039 | CG12: 0.019165314 | CH12: 0.039624324 | CI12: 0.00023379232 | CJ12: 0.066727792 | CK12: 0.068758236 | CL12: 0.0077863284 | CM12: 0.015448598 | CN12: 0.05066714
B13: 8 | C13: 0.0068865581 | D13: 1.453767 | E13: 1.3814133 | F13: 0.18407735 | G13: 0.59864539 | H13: 1.5546153 | I13: 6.7520099e-05 | J13: 0.018904354 | K13: 0.02197665 | L13: 0.00076414933 | M13: 0.0023009224 | N13: 0.0066203474 | O13: 0.00010897625 | P13: 0.0058925964 | Q13: 0.0061867379 | R13: 0.00064377813 | S13: 0.0012948744 | T13: 0.0037198835 | U13: 0.00038905411 | V13: 0.89728001 | W13: 0.79070857 | X13: 0.031759221 | Y13: 0.019088165 | Z13: 0.19420333 | AA13: 0.0020048366 | AB13: 1.997209 | AC13: 1.6556877 | AD13: 0.096726381 | AE13: 0.19401661 | AF13: 0.62936164 | AG13: 0.0045078858 | AH13: 3.3289826 | AI13: 3.0058664 | AJ13: 0.20558097 | AK13: 0.42451079 | AL13: 1.4372831 | AM13: 0.0074260301 | AN13: 3.3553097 | AO13: 3.1367489 | AP13: 0.34241103 | AQ13: 0.70619036 | AR13: 2.3357662 | AS13: 0.0081232321 | AT13: 0.0035096112 | AU13: 0.0059905921 | AV13: 0.33054246 | AW13: 0.72243943 | AX13: 2.3943051 | AY13: 0.003161918 | AZ13: 0.58112868 | BA13: 0.63321849 | BB13: 0.035162022 | BC13: 0.39810943 | BD13: 0.49702371 | BE13: 2.7559354e-06 | BF13: 1.1338878e-08 | BG13: 6.4345398e-09 | BH13: 3.4673065e-05 | BI13: 0.00010022734 | BJ13: 0.00051729492 | BK13: 3.6349785e-11 | BL13: 14905.638 | BM13: 16308.251 | BN13: 1.4518528e-10 | BO13: 1.2033832e-09 | BP13: 9.8539751e-09 | BQ13: 36.612728 | BR13: 0.17384618 | BS13: 0.61788417 | BT13: 3402.4909 | BU13: 4497.3801 | BV13: 18051.254 | BW13: 0.00011161303 | BX13: 0.031100175 | BY13: 0.032146802 | BZ13: 0.0030194362 | CA13: 0.0042249748 | CB13: 0.029802482 | CC13: 0.00031940797 | CD13: 0.087319254 | CE13: 0.10784074 | CF13: 0.0037952444 | CG13: 0.018587362 | CH13: 0.04163226 | CI13: 0.00024104834 | CJ13: 0.066242596 | CK13: 0.070908845 | CL13: 0.0079015716 | CM13: 0.016312306 | CN13: 0.048130253
B14: 9 | C14: 0.0069831931 | D14: 1.3424158 | E14: 1.4948472 | F14: 0.18227874 | G14: 0.59702375 | H14: 1.5236791 | I14: 6.3739015e-05 | J14: 0.019130693 | K14: 0.021231604 | L14: 0.00075742921 | M14: 0.0022749011 | N14: 0.0063918094 | O14: 0.00011475905 | P14: 0.0059593311 | Q14: 0.0065761896 | R14: 0.00067337387 | S14: 0.0012811237 | T14: 0.0036581377 | U14: 0.00036750406 | V14: 0.90102459 | W14: 0.82142779 | X14: 0.030937832 | Y14: 0.018397819 | Z14: 0.20963236 | AA14: 0.0020072947 | AB14: 1.9218671 | AC14: 1.7291637 | AD14: 0.094242949 | AE14: 0.19411582 | AF14: 0.63504949 | AG14: 0.0042883332 | AH14: 3.2637992 | AI14: 3.2622606 | AJ14: 0.1990473 | AK14: 0.42344919 | AL14: 1.4494269 | AM14: 0.0070763299 | AN14: 3.4971748 | AO14: 3.1772654 | AP14: 0.34695585 | AQ14: 0.68111652 | AR14: 2.443607 | AS14: 0.007975265 | AT14: 0.0035434823 | AU14: 0.0056363803 | AV14: 0.35481967 | AW14: 0.75711831 | AX14: 2.511288 | AY14: 0.0033444263 | AZ14: 0.5864014 | BA14: 0.66539782 | BB14: 0.03615234 | BC14: 0.37712831 | BD14: 0.47635698 | BE14: 2.8057803e-06 | BF14: 1.1000399e-08 | BG14: 6.9470141e-09 | BH14: 3.469057e-05 | BI14: 9.7295801e-05 | BJ14: 0.00053797908 | BK14: 3.6611349e-11 | BL14: 13999.063 | BM14: 16842.016 | BN14: 1.4496445e-10 | BO14: 1.1849569e-09 | BP14: 9.4312133e-09 | BQ14: 38.151177 | BR14: 0.17257629 | BS14: 0.61456608 | BT14: 3456.8946 | BU14: 4385.8182 | BV14: 18453.947 | BW14: 0.00011449965 | BX14: 0.032526669 | BY14: 0.032619187 | BZ14: 0.0032734296 | CA14: 0.0039548187 | CB14: 0.028374579 | CC14: 0.00031006595 | CD14: 0.089475711 | CE14: 0.11404536 | CF14: 0.003725309 | CG14: 0.019142541 | CH14: 0.039942073 | CI14: 0.00024015837 | CJ14: 0.062468745 | CK14: 0.067537381 | CL14: 0.0073740715 | CM14: 0.015233768 | CN14: 0.051282958
B15: 10 | C15: 0.0070788734 | D15: 1.473524 | E15: 1.4985701 | F15: 0.18220172 | G15: 0.60967815 | H15: 1.5688967 | I15: 6.6845507e-05 | J15: 0.019886714 | K15: 0.021051249 | L15: 0.00074426498 | M15: 0.0022334271 | N15: 0.0062887758 | O15: 0.00011242931 | P15: 0.0058248009 | Q15: 0.0065787489 | R15: 0.00067407252 | S15: 0.00121771 | T15: 0.0036354671 | U15: 0.00039634267 | V15: 0.95100608 | W15: 0.77995468 | X15: 0.031312488 | Y15: 0.019556893 | Z15: 0.19846301 | AA15: 0.0020257852 | AB15: 1.9642676 | AC15: 1.7732628 | AD15: 0.092207986 | AE15: 0.18536542 | AF15: 0.65408246 | AG15: 0.0043359757 | AH15: 3.4745492 | AI15: 3.1468951 | AJ15: 0.20075331 | AK15: 0.39417071 | AL15: 1.4035744 | AM15: 0.0073303154 | AN15: 3.4218848 | AO15: 3.2341367 | AP15: 0.31872852 | AQ15: 0.68724705 | AR15: 2.3856369 | AS15: 0.0081597936 | AT15: 0.0033896785 | AU15: 0.0056133523 | AV15: 0.34849465 | AW15: 0.76027201 | AX15: 2.4504854 | AY15: 0.0033425643 | AZ15: 0.5595019 | BA15: 0.65757573 | BB15: 0.036951369 | BC15: 0.40104429 | BD15: 0.50903256 | BE15: 2.9902825e-06 | BF15: 1.1441477e-08 | BG15: 6.7543694e-09 | BH15: 3.4855401e-05 | BI15: 0.00010043269 | BJ15: 0.00051249944 | BK15: 3.6983756e-11 | BL15: 13726.634 | BM15: 15676.174 | BN15: 1.5670662e-10 | BO15: 1.1755699e-09 | BP15: 9.3435367e-09 | BQ15: 38.183092 | BR15: 0.17655858 | BS15: 0.60756138 | BT15: 3378.2577 | BU15: 4318.2219 | BV15: 17524.161 | BW15: 0.00011085827 | BX15: 0.029756988 | BY15: 0.032461064 | BZ15: 0.0031109373 | CA15: 0.0039766096 | CB15: 0.030181836 | CC15: 0.00029990318 | CD15: 0.090823779 | CE15: 0.11678668 | CF15: 0.0039398419 | CG15: 0.018496136 | CH15: 0.040296493 | CI15: 0.00023284031 | CJ15: 0.06789912 | CK15: 0.070278146 | CL15: 0.0078699501 | CM15: 0.015072909 | CN15: 0.051876976
B16: 11 | C16: 0.0073718694 | D16: 1.4108532 | E16: 1.4033044 | F16: 0.18496587 | G16: 0.60377011 | H16: 1.5069299 | I16: 6.4853091e-05 | J16: 0.018704412 | K16: 0.02135301 | L16: 0.00076570771 | M16: 0.0023975156 | N16: 0.0064393481 | O16: 0.00011020091 | P16: 0.0057720722 | Q16: 0.006131877 | R16: 0.00065151612 | S16: 0.0013139449 | T16: 0.0034352447 | U16: 0.00036568029 | V16: 0.93974674 | W16: 0.82711886 | X16: 0.030272848 | Y16: 0.018651145 | Z16: 0.20380255 | AA16: 0.002017776 | AB16: 2.0231564 | AC16: 1.678979 | AD16: 0.093559996 | AE16: 0.20301832 | AF16: 0.67843356 | AG16: 0.0044624273 | AH16: 3.2581992 | AI16: 3.0925721 | AJ16: 0.1951112 | AK16: 0.40748465 | AL16: 1.3899467 | AM16: 0.0072757366 | AN16: 3.4527997 | AO16: 3.3775146 | AP16: 0.34010509 | AQ16: 0.68390174 | AR16: 2.3790796 | AS16: 0.0076965598 | AT16: 0.0035401587 | AU16: 0.0055904982 | AV16: 0.33239976 | AW16: 0.74052448 | AX16: 2.4525028 | AY16: 0.0032011695 | AZ16: 0.60098865 | BA16: 0.671741 | BB16: 0.037028574 | BC16: 0.37843571 | BD16: 0.49227185 | BE16: 3.0057341e-06 | BF16: 1.1377383e-08 | BG16: 6.9009672e-09 | BH16: 3.5918518e-05 | BI16: 9.8142745e-05 | BJ16: 0.00050689794 | BK16: 3.6354249e-11 | BL16: 14254.806 | BM16: 15879.303 | BN16: 1.4853547e-10 | BO16: 1.2779378e-09 | BP16: 9.8057163e-09 | BQ16: 35.479545 | BR16: 0.16325673 | BS16: 0.61670497 | BT16: 3223.909 | BU16: 4250.9709 | BV16: 17986.729 | BW16: 0.00011793676 | BX16: 0.031595132 | BY16: 0.032327045 | BZ16: 0.0031725635 | CA16: 0.0042320014 | CB16: 0.028494022 | CC16: 0.00030437749 | CD16: 0.088915096 | CE16: 0.10797037 | CF16: 0.0038650923 | CG16: 0.018550464 | CH16: 0.041074563 | CI16: 0.0002325761 | CJ16: 0.063579039 | CK16: 0.069700928 | CL16: 0.0075402467 | CM16: 0.015147144 | CN16: 0.051384736
B17: 12 | C17: 0.0069055053 | D17: 1.3496657 | E17: 1.3969095 | F17: 0.18463225 | G17: 0.59975794 | H17: 1.4600246 | I17: 6.5638047e-05 | J17: 0.018372672 | K17: 0.021063708 | L17: 0.00075343879 | M17: 0.002263472 | N17: 0.0066234607 | O17: 0.00010687189 | P17: 0.0060260958 | Q17: 0.0062460079 | R17: 0.00066671265 | S17: 0.0012855251 | T17: 0.0035796632 | U17: 0.0003972798 | V17: 0.93566763 | W17: 0.83376291 | X17: 0.03138456 | Y17: 0.017926121 | Z17: 0.20274312 | AA17: 0.0019901146 | AB17: 1.9056555 | AC17: 1.7194181 | AD17: 0.093008962 | AE17: 0.19197274 | AF17: 0.63272368 | AG17: 0.0044968078 | AH17: 3.4721531 | AI17: 2.9848205 | AJ17: 0.19516228 | AK17: 0.40949409 | AL17: 1.4130025 | AM17: 0.0074290513 | AN17: 3.6811857 | AO17: 3.3457993 | AP17: 0.34873166 | AQ17: 0.6815706 | AR17: 2.4463896 | AS17: 0.0079984361 | AT17: 0.0035916664 | AU17: 0.0059026134 | AV17: 0.34212736 | AW17: 0.75438595 | AX17: 2.4342008 | AY17: 0.0032949058 | AZ17: 0.5604893 | BA17: 0.67361618 | BB17: 0.035078054 | BC17: 0.39355211 | BD17: 0.51232994 | BE17: 2.8166386e-06 | BF17: 1.0686604e-08 | BG17: 6.4399416e-09 | BH17: 3.5846082e-05 | BI17: 0.00010159781 | BJ17: 0.00050591823 | BK17: 3.5684245e-11 | BL17: 14733.248 | BM17: 15832.856 | BN17: 1.4573524e-10 | BO17: 1.2010271e-09 | BP17: 9.9633985e-09 | BQ17: 36.642216 | BR17: 0.16377671 | BS17: 0.61747782 | BT17: 3213.7565 | BU17: 4289.9094 | BV17: 17366.462 | BW17: 0.00011664314 | BX17: 0.032846915 | BY17: 0.030311865 | BZ17: 0.0031801326 | CA17: 0.0039412478 | CB17: 0.028474915 | CC17: 0.00030770819 | CD17: 0.090420632 | CE17: 0.107857 | CF17: 0.0037428485 | CG17: 0.018680361 | CH17: 0.041384777 | CI17: 0.0002329848 | CJ17: 0.06503325 | CK17: 0.070036853 | CL17: 0.0079431169 | CM17: 0.016314939 | CN17: 0.051166339
... B1005: 1000 | C1005: 0.007141955 | D1005: 1.3832685 | E1005: 1.5042316 | F1005: 0.16867841 | G1005: 0.59459567 | H1005: 1.5522136 | I1005: 6.5193006e-05 | J1005: 0.01939949 | K1005: 0.020661123 | L1005: 0.00073412848 | M1005: 0.0022146237 | N1005: 0.0067241187 | O1005: 0.00011290618 | P1005: 0.005876288 | Q1005: 0.0060679985 | R1005: 0.00067148614 | S1005: 0.0012663539 | T1005: 0.0036342457 | U1005: 0.0003854779 | V1005: 0.92663256 | W1005: 0.78887292 | X1005: 0.029538793 | Y1005: 0.017924052 | Z1005: 0.2016291 | AA1005: 0.0020974962 | AB1005: 1.9587723 | AC1005: 1.6245461 | AD1005: 0.096314243 | AE1005: 0.2010035 | AF1005: 0.63885781 | AG1005: 0.0045678035 | AH1005: 3.4911285 | AI1005: 3.0395911 | AJ1005: 0.19998077 | AK1005: 0.43260329 | AL1005: 1.340865 | AM1005: 0.0074610356 | AN1005: 3.4933503 | AO1005: 3.4396232 | AP1005: 0.35014885 | AQ1005: 0.68232594 | AR1005: 2.3069019 | AS1005: 0.0075955983 | AT1005: 0.0033806269 | AU1005: 0.0058952632 | AV1005: 0.34162219 | AW1005: 0.74697213 | AX1005: 2.5123353 | AY1005: 0.0032929869 | AZ1005: 0.56484233 | BA1005: 0.6720791 | BB1005: 0.034460518 | BC1005: 0.38459086 | BD1005: 0.5024503 | BE1005: 2.8897338e-06 | BF1005: 1.141253e-08 | BG1005: 6.9894863e-09 | BH1005: 3.4785487e-05 | BI1005: 9.7483917e-05 | BJ1005: 0.00054334741 | BK1005: 3.4937791e-11 | BL1005: 14490.645 | BM1005: 16338.16 | BN1005: 1.5328681e-10 | BO1005: 1.202915e-09 | BP1005: 1.0108193e-08 | BQ1005: 36.129397 | BR1005: 0.1695463 | BS1005: 0.63253122 | BT1005: 3264.5095 | BU1005: 4528.086 | BV1005: 18054.818 | BW1005: 0.0001201115 | BX1005: 0.030766581 | BY1005: 0.032605484 | BZ1005: 0.0030010721 | CA1005: 0.003895081 | CB1005: 0.02870034 | CC1005: 0.0003029181 | CD1005: 0.084378259 | CE1005: 0.1148138 | CF1005: 0.0037155551 | CG1005: 0.01832966 | CH1005: 0.041828837 | CI1005: 0.00023401565 | CJ1005: 0.06621935 | CK1005: 0.072660928 | CL1005: 0.00788454 | CM1005: 0.015564001 | CN1005: 0.051928222
B1007: Average | C1007: =AVERAGE(C6:C1005) -> 0.0071962703 | D1007: =AVERAGE(D6:D1005) -> 1.4082005 | E1007: =AVERAGE(E6:E1005) -> 1.449667 | F1007: =AVERAGE(F6:F1005) -> 0.17677482 | G1007: =AVERAGE(G6:G1005) -> 0.59369977 | H1007: =AVERAGE(H6:H1005) -> 1.5117197 | I1007: =AVERAGE(I6:I1005) -> 6.4993365e-05 | J1007: =AVERAGE(J6:J1005) -> 0.019330333 | ... CN1007: =AVERAGE(CN6:CN1005) -> 0.050581741
B1008: Max | C1008: =MAX(C6:C1005) -> 0.0075598743 | D1008: =MAX(D6:D1005) -> 1.4798652 | E1008: =MAX(E6:E1005) -> 1.5224092 | F1008: =MAX(F6:F1005) -> 0.18544775 | G1008: =MAX(G6:G1005) -> 0.6229959 | H1008: =MAX(H6:H1005) -> 1.5890592 | I1008: =MAX(I6:I1005) -> 6.8248078e-05 | J1008: =MAX(J6:J1005) -> 0.020281355 | ... CN1008: =MAX(CN6:CN1005) -> 0.053101803
B1009: Min | C1009: =MIN(C6:C1005) -> 0.0068408922 | D1009: =MIN(D6:D1005) -> 1.3390088 | E1009: =MIN(E6:E1005) -> 1.3781449 | F1009: =MIN(F6:F1005) -> 0.16785184 | G1009: =MIN(G6:G1005) -> 0.56375019 | H1009: =MIN(H6:H1005) -> 1.4380871 | I1009: =MIN(I6:I1005) -> 6.1758453e-05 | J1009: =MIN(J6:J1005) -> 0.018351094 | ... CN1009: =MIN(CN6:CN1005) -> 0.048060195
B1010: Std | C1010: =STDEVA(C6:C1005) -> 0.00020820122 | D1010: =STDEVA(D6:D1005) -> 0.040979686 | E1010: =STDEVA(E6:E1005) -> 0.041579648 | F1010: =STDEVA(F6:F1005) -> 0.0050746848 | G1010: =STDEVA(G6:G1005) -> 0.017447813 | H1010: =STDEVA(H6:H1005) -> 0.043435379 | I1010: =STDEVA(I6:I1005) -> 1.871371e-06 | J1010: =STDEVA(J6:J1005) -> 0.00055078104 | ... CN1010: =STDEVA(CN6:CN1005) -> 0.0014688825
B1012: n | C1012: =COUNT(C6:C1005) -> 1000 | D1012: =COUNT(D6:D1005) -> 1000 | E1012: =COUNT(E6:E1005) -> 1000 | F1012: =COUNT(F6:F1005) -> 1000 | G1012: =COUNT(G6:G1005) -> 1000 | H1012: =COUNT(H6:H1005) -> 1000 | I1012: =COUNT(I6:I1005) -> 1000 | J1012: =COUNT(J6:J1005) -> 1000 | ... CN1012: =COUNT(CN6:CN1005) -> 1000
B1013: d | C1013: =(C1007/C1010)-$B$3 -> 34.364016 | D1013: =(D1007/D1010)-$B$3 -> 34.163379 | E1013: =(E1007/E1010)-$B$3 -> 34.664821 | F1013: =(F1007/F1010)-$B$3 -> 34.634639 | G1013: =(G1007/G1010)-$B$3 -> 33.827175 | H1013: =(H1007/H1010)-$B$3 -> 34.603878 | I1013: =(I1007/I1010)-$B$3 -> 34.530348 | J1013: =(J1007/J1010)-$B$3 -> 34.89622 | ... CN1013: =(CN1007/CN1010)-$B$3 -> 34.235525
B1014: t | C1014: =C1013/(SQRT(1/C1012)) -> 1086.6856 | D1014: =D1013/(SQRT(1/D1012)) -> 1080.3409 | E1014: =E1013/(SQRT(1/E1012)) -> 1096.1979 | F1014: =F1013/(SQRT(1/F1012)) -> 1095.2435 | G1014: =G1013/(SQRT(1/G1012)) -> 1069.7092 | H1014: =H1013/(SQRT(1/H1012)) -> 1094.2707 | I1014: =I1013/(SQRT(1/I1012)) -> 1091.9455 | J1014: =J1013/(SQRT(1/J1012)) -> 1103.5154 | ... CN1014: =CN1013/(SQRT(1/CN1012)) -> 1082.6224
B1015: p | C1015: =_xlfn.T.DIST.RT(C1014,C1012-1) -> 0 | D1015: =_xlfn.T.DIST.RT(D1014,D1012-1) -> 0 | E1015: =_xlfn.T.DIST.RT(E1014,E1012-1) -> 0 | F1015: =_xlfn.T.DIST.RT(F1014,F1012-1) -> 0 | G1015: =_xlfn.T.DIST.RT(G1014,G1012-1) -> 0 | H1015: =_xlfn.T.DIST.RT(H1014,H1012-1) -> 0 | I1015: =_xlfn.T.DIST.RT(I1014,I1012-1) -> 0 | J1015: =_xlfn.T.DIST.RT(J1014,J1012-1) -> 0 | ... CN1015: =_xlfn.T.DIST.RT(CN1014,CN1012-1) -> 0
B1016: sign. higher? | C1016: =IF(C1015<$B$2,"yes","no") -> yes | D1016: =IF(D1015<$B$2,"yes","no") -> yes | E1016: =IF(E1015<$B$2,"yes","no") -> yes | F1016: =IF(F1015<$B$2,"yes","no") -> yes | G1016: =IF(G1015<$B$2,"yes","no") -> yes | H1016: =IF(H1015<$B$2,"yes","no") -> yes | I1016: =IF(I1015<$B$2,"yes","no") -> yes | J1016: =IF(J1015<$B$2,"yes","no") -> yes | ... CN1016: =IF(CN1015<$B$2,"yes","no") -> yes

Sheet Table S10a
A1: Table S10: Results of Uncertainty Analysis (Deterministic LCA)
A2: Deterministic results (scaled to the maximum results per impact) for comparative LCA of six alternatives fertilizers
B3: Basalt | C3: SSP | D3: TSP | E3: KCl | F3: K2CO3 | G3: KOH | P3: Deterministic LCA (Based on point values)
A4: Climate change impact | B4: ='Table S8'!C3/(MAX('Table S8'!$C$3:$H$3)) -> 0.0047571036 | C4: ='Table S8'!D3/(MAX('Table S8'!$C$3:$H$3)) -> 0.93124796 | D4: ='Table S8'!E3/(MAX('Table S8'!$C$3:$H$3)) -> 0.95800602 | E4: ='Table S8'!F3/(MAX('Table S8'!$C$3:$H$3)) -> 0.11669704 | F4: ='Table S8'!G3/(MAX('Table S8'!$C$3:$H$3)) -> 0.39206132 | G4: ='Table S8'!H3/(MAX('Table S8'!$C$3:$H$3)) -> 1 | P4: Does j have a lower impact than k?
A5: Acidification impact | B5: ='Table S8'!C4/(MAX('Table S8'!$C$4:$H$4)) -> 0.0030565667 | C5: ='Table S8'!D4/(MAX('Table S8'!$C$4:$H$4)) -> 0.90836107 | D5: ='Table S8'!E4/(MAX('Table S8'!$C$4:$H$4)) -> 1 | E5: ='Table S8'!F4/(MAX('Table S8'!$C$4:$H$4)) -> 0.035221053 | F5: ='Table S8'!G4/(MAX('Table S8'!$C$4:$H$4)) -> 0.10876675 | G5: ='Table S8'!H4/(MAX('Table S8'!$C$4:$H$4)) -> 0.30777276 | P5: Interpretation of yes and no:
A6: Eutrophication Impact | B6: ='Table S8'!C5/(MAX('Table S8'!$C$5:$H$5)) -> 0.017478065 | C6: ='Table S8'!D5/(MAX('Table S8'!$C$5:$H$5)) -> 0.95993424 | D6: ='Table S8'!E5/(MAX('Table S8'!$C$5:$H$5)) -> 1 | E6: ='Table S8'!F5/(MAX('Table S8'!$C$5:$H$5)) -> 0.1028028 | F6: ='Table S8'!G5/(MAX('Table S8'!$C$5:$H$5)) -> 0.19940883 | G6: ='Table S8'!H5/(MAX('Table S8'!$C$5:$H$5)) -> 0.56692486 | P6: The score in the row j is lower than the score in the column k:
A7: Land use impact | B7: ='Table S8'!C6/(MAX('Table S8'!$C$6:$H$6)) -> 0.00040246414 | C7: ='Table S8'!D6/(MAX('Table S8'!$C$6:$H$6)) -> 1 | D7: ='Table S8'!E6/(MAX('Table S8'!$C$6:$H$6)) -> 0.86444334 | E7: ='Table S8'!F6/(MAX('Table S8'!$C$6:$H$6)) -> 0.032451319 | F7: ='Table S8'!G6/(MAX('Table S8'!$C$6:$H$6)) -> 0.019943157 | G7: ='Table S8'!H6/(MAX('Table S8'!$C$6:$H$6)) -> 0.21265358 | P7: yes if true, no if false.
A8: FAETP impact | B8: ='Table S8'!C7/(MAX('Table S8'!$C$7:$H$7)) -> 0.0010112407 | C8: ='Table S8'!D7/(MAX('Table S8'!$C$7:$H$7)) -> 1 | D8: ='Table S8'!E7/(MAX('Table S8'!$C$7:$H$7)) -> 0.85530929 | E8: ='Table S8'!F7/(MAX('Table S8'!$C$7:$H$7)) -> 0.047659269 | F8: ='Table S8'!G7/(MAX('Table S8'!$C$7:$H$7)) -> 0.097966976 | G8: ='Table S8'!H7/(MAX('Table S8'!$C$7:$H$7)) -> 0.33430707
A9: FSETP impact | B9: ='Table S8'!C8/(MAX('Table S8'!$C$8:$H$8)) -> 0.0013053732 | C9: ='Table S8'!D8/(MAX('Table S8'!$C$8:$H$8)) -> 1 | D9: ='Table S8'!E8/(MAX('Table S8'!$C$8:$H$8)) -> 0.92652659 | E9: ='Table S8'!F8/(MAX('Table S8'!$C$8:$H$8)) -> 0.059529173 | F9: ='Table S8'!G8/(MAX('Table S8'!$C$8:$H$8)) -> 0.12229003 | G9: ='Table S8'!H8/(MAX('Table S8'!$C$8:$H$8)) -> 0.41683623 | P9: Climate change impact
A10: MAETP impact | B10: ='Table S8'!C9/(MAX('Table S8'!$C$9:$H$9)) -> 0.0021077151 | C10: ='Table S8'!D9/(MAX('Table S8'!$C$9:$H$9)) -> 1 | D10: ='Table S8'!E9/(MAX('Table S8'!$C$9:$H$9)) -> 0.93937629 | E10: ='Table S8'!F9/(MAX('Table S8'!$C$9:$H$9)) -> 0.095066494 | F10: ='Table S8'!G9/(MAX('Table S8'!$C$9:$H$9)) -> 0.1981537 | G10: ='Table S8'!H9/(MAX('Table S8'!$C$9:$H$9)) -> 0.68287063 | J10: Basalt | K10: SSP | L10: TSP | M10: KCl | N10: K2CO3 | O10: KOH | P10: j↓ k→ | Q10: Basalt | R10: SSP | S10: TSP | T10: KCl | U10: K2CO3 | V10: KOH
A11: MSETP impact | B11: ='Table S8'!C10/(MAX('Table S8'!$C$10:$H$10)) -> 0.0031180307 | C11: ='Table S8'!D10/(MAX('Table S8'!$C$10:$H$10)) -> 0.0014205636 | D11: ='Table S8'!E10/(MAX('Table S8'!$C$10:$H$10)) -> 0.0022856852 | E11: ='Table S8'!F10/(MAX('Table S8'!$C$10:$H$10)) -> 0.13791289 | F11: ='Table S8'!G10/(MAX('Table S8'!$C$10:$H$10)) -> 0.28946238 | G11: ='Table S8'!H10/(MAX('Table S8'!$C$10:$H$10)) -> 1 | J11: =B4 -> 0.0047571036 | K11: =C4 -> 0.93124796 | L11: =D4 -> 0.95800602 | M11: =E4 -> 0.11669704 | N11: =F4 -> 0.39206132 | O11: =G4 -> 1 | P11: =Q10 -> Basalt | R11: =IF(J11<K11,"yes","no") -> yes | S11: =IF(J11<L11,"yes","no") -> yes | T11: =IF(J11<M11,"yes","no") -> yes | U11: =IF(J11<N11,"yes","no") -> yes | V11: =IF(J11<O11,"yes","no") -> yes
A12: HTP impact | B12: ='Table S8'!C11/(MAX('Table S8'!$C$11:$H$11)) -> 0.0050075135 | C12: ='Table S8'!D11/(MAX('Table S8'!$C$11:$H$11)) -> 0.89042072 | D12: ='Table S8'!E11/(MAX('Table S8'!$C$11:$H$11)) -> 1 | E12: ='Table S8'!F11/(MAX('Table S8'!$C$11:$H$11)) -> 0.053947612 | F12: ='Table S8'!G11/(MAX('Table S8'!$C$11:$H$11)) -> 0.58467424 | G12: ='Table S8'!H11/(MAX('Table S8'!$C$11:$H$11)) -> 0.74275537 | P12: =R10 -> SSP | Q12: =IF(K11<J11,"yes","no") -> no | S12: =IF(K11<L11,"yes","no") -> yes | T12: =IF(K11<M11,"yes","no") -> no | U12: =IF(K11<N11,"yes","no") -> no | V12: =IF(K11<O11,"yes","no") -> yes
A13: Terrestrial ecotoxicity | B13: ='Table S8'!C12/(MAX('Table S8'!$C$12:$H$12)) -> 0.0055555556 | C13: ='Table S8'!D12/(MAX('Table S8'!$C$12:$H$12)) -> 2.108295e-05 | D13: ='Table S8'!E12/(MAX('Table S8'!$C$12:$H$12)) -> 1.2957088e-05 | E13: ='Table S8'!F12/(MAX('Table S8'!$C$12:$H$12)) -> 0.066666667 | F13: ='Table S8'!G12/(MAX('Table S8'!$C$12:$H$12)) -> 0.18812261 | G13: ='Table S8'!H12/(MAX('Table S8'!$C$12:$H$12)) -> 1 | P13: =S10 -> TSP | Q13: =IF(L11<J11,"yes","no") -> no | R13: =IF(L11<K11,"yes","no") -> no | T13: =IF(L11<M11,"yes","no") -> no | U13: =IF(L11<N11,"yes","no") -> no | V13: =IF(L11<O11,"yes","no") -> yes
A14: Ionising Radiation impact | B14: ='Table S8'!C13/(MAX('Table S8'!$C$13:$H$13)) -> 2.201103e-15 | C14: ='Table S8'!D13/(MAX('Table S8'!$C$13:$H$13)) -> 0.87727896 | D14: ='Table S8'!E13/(MAX('Table S8'!$C$13:$H$13)) -> 1 | E14: ='Table S8'!F13/(MAX('Table S8'!$C$13:$H$13)) -> 9.1712626e-15 | F14: ='Table S8'!G13/(MAX('Table S8'!$C$13:$H$13)) -> 7.4592936e-14 | G14: ='Table S8'!H13/(MAX('Table S8'!$C$13:$H$13)) -> 5.9796632e-13 | P14: =T10 -> KCl | Q14: =IF(M11<J11,"yes","no") -> no | R14: =IF(M11<K11,"yes","no") -> yes | S14: =IF(M11<L11,"yes","no") -> yes | U14: =IF(M11<N11,"yes","no") -> yes | V14: =IF(M11<O11,"yes","no") -> yes
A15: Maladous air impact | B15: ='Table S8'!C14/(MAX('Table S8'!$C$14:$H$14)) -> 0.0020710655 | C15: ='Table S8'!D14/(MAX('Table S8'!$C$14:$H$14)) -> 9.5023258e-06 | D15: ='Table S8'!E14/(MAX('Table S8'!$C$14:$H$14)) -> 3.4426793e-05 | E15: ='Table S8'!F14/(MAX('Table S8'!$C$14:$H$14)) -> 0.18463421 | F15: ='Table S8'!G14/(MAX('Table S8'!$C$14:$H$14)) -> 0.24558527 | G15: ='Table S8'!H14/(MAX('Table S8'!$C$14:$H$14)) -> 1 | P15: =U10 -> K2CO3 | Q15: =IF(N11<J11,"yes","no") -> no | R15: =IF(N11<K11,"yes","no") -> yes | S15: =IF(N11<L11,"yes","no") -> yes | T15: =IF(N11<M11,"yes","no") -> no | V15: =IF(N11<O11,"yes","no") -> yes
A16: Ecosystem quality impact | B16: ='Table S8'!C15/(MAX('Table S8'!$C$15:$H$15)) -> 0.0036099963 | C16: ='Table S8'!D15/(MAX('Table S8'!$C$15:$H$15)) -> 0.98290406 | D16: ='Table S8'!E15/(MAX('Table S8'!$C$15:$H$15)) -> 1 | E16: ='Table S8'!F15/(MAX('Table S8'!$C$15:$H$15)) -> 0.09794077 | F16: ='Table S8'!G15/(MAX('Table S8'!$C$15:$H$15)) -> 0.12848448 | G16: ='Table S8'!H15/(MAX('Table S8'!$C$15:$H$15)) -> 0.91442777 | P16: =V10 -> KOH | Q16: =IF(O11<J11,"yes","no") -> no | R16: =IF(O11<K11,"yes","no") -> no | S16: =IF(O11<L11,"yes","no") -> no | T16: =IF(O11<M11,"yes","no") -> no | U16: =IF(O11<N11,"yes","no") -> no
A17: Human Health impact | B17: ='Table S8'!C16/(MAX('Table S8'!$C$16:$H$16)) -> 0.0027636254 | C17: ='Table S8'!D16/(MAX('Table S8'!$C$16:$H$16)) -> 0.78567903 | D17: ='Table S8'!E16/(MAX('Table S8'!$C$16:$H$16)) -> 1 | E17: ='Table S8'!F16/(MAX('Table S8'!$C$16:$H$16)) -> 0.034657115 | F17: ='Table S8'!G16/(MAX('Table S8'!$C$16:$H$16)) -> 0.16354581 | G17: ='Table S8'!H16/(MAX('Table S8'!$C$16:$H$16)) -> 0.36424404
A18: Resources impact | B18: ='Table S8'!C17/(MAX('Table S8'!$C$17:$H$17)) -> 0.0034725074 | C18: ='Table S8'!D17/(MAX('Table S8'!$C$17:$H$17)) -> 0.92692396 | D18: ='Table S8'!E17/(MAX('Table S8'!$C$17:$H$17)) -> 1 | E18: ='Table S8'!F17/(MAX('Table S8'!$C$17:$H$17)) -> 0.10803198 | F18: ='Table S8'!G17/(MAX('Table S8'!$C$17:$H$17)) -> 0.22177083 | G18: ='Table S8'!H17/(MAX('Table S8'!$C$17:$H$17)) -> 0.71994757 | P18: Acidification impact
J19: Basalt | K19: SSP | L19: TSP | M19: KCl | N19: K2CO3 | O19: KOH | P19: j↓ k→ | Q19: Basalt | R19: SSP | S19: TSP | T19: KCl | U19: K2CO3 | V19: KOH
J20: =B5 -> 0.0030565667 | K20: =C5 -> 0.90836107 | L20: =D5 -> 1 | M20: =E5 -> 0.035221053 | N20: =F5 -> 0.10876675 | O20: =G5 -> 0.30777276 | P20: =Q19 -> Basalt | R20: =IF(J20<K20,"yes","no") -> yes | S20: =IF(J20<L20,"yes","no") -> yes | T20: =IF(J20<M20,"yes","no") -> yes | U20: =IF(J20<N20,"yes","no") -> yes | V20: =IF(J20<O20,"yes","no") -> yes
P21: =R19 -> SSP | Q21: =IF(K20<J20,"yes","no") -> no | S21: =IF(K20<L20,"yes","no") -> yes | T21: =IF(K20<M20,"yes","no") -> no | U21: =IF(K20<N20,"yes","no") -> no | V21: =IF(K20<O20,"yes","no") -> no
P22: =S19 -> TSP | Q22: =IF(L20<J20,"yes","no") -> no | R22: =IF(L20<K20,"yes","no") -> no | T22: =IF(L20<M20,"yes","no") -> no | U22: =IF(L20<N20,"yes","no") -> no | V22: =IF(L20<O20,"yes","no") -> no
P23: =T19 -> KCl | Q23: =IF(M20<J20,"yes","no") -> no | R23: =IF(M20<K20,"yes","no") -> yes | S23: =IF(M20<L20,"yes","no") -> yes | U23: =IF(M20<N20,"yes","no") -> yes | V23: =IF(M20<O20,"yes","no") -> yes
P24: =U19 -> K2CO3 | Q24: =IF(N20<J20,"yes","no") -> no | R24: =IF(N20<K20,"yes","no") -> yes | S24: =IF(N20<L20,"yes","no") -> yes | T24: =IF(N20<M20,"yes","no") -> no | V24: =IF(N20<O20,"yes","no") -> yes
P25: =V19 -> KOH | Q25: =IF(O20<J20,"yes","no") -> no | R25: =IF(O20<K20,"yes","no") -> yes | S25: =IF(O20<L20,"yes","no") -> yes | T25: =IF(O20<M20,"yes","no") -> no | U25: =IF(O20<N20,"yes","no") -> no
P27: =A6 -> Eutrophication Impact
J28: Basalt | K28: SSP | L28: TSP | M28: KCl | N28: K2CO3 | O28: KOH | P28: j↓ k→ | Q28: Basalt | R28: SSP | S28: TSP | T28: KCl | U28: K2CO3 | V28: KOH
J29: =B6 -> 0.017478065 | K29: =C6 -> 0.95993424 | L29: =D6 -> 1 | M29: =E6 -> 0.1028028 | N29: =F6 -> 0.19940883 | O29: =G6 -> 0.56692486 | P29: =Q28 -> Basalt | R29: =IF(J29<K29,"yes","no") -> yes | S29: =IF(J29<L29,"yes","no") -> yes | T29: =IF(J29<M29,"yes","no") -> yes | U29: =IF(J29<N29,"yes","no") -> yes | V29: =IF(J29<O29,"yes","no") -> yes
P30: =R28 -> SSP | Q30: =IF(K29<J29,"yes","no") -> no | S30: =IF(K29<L29,"yes","no") -> yes | T30: =IF(K29<M29,"yes","no") -> no | U30: =IF(K29<N29,"yes","no") -> no | V30: =IF(K29<O29,"yes","no") -> no
P31: =S28 -> TSP | Q31: =IF(L29<J29,"yes","no") -> no | R31: =IF(L29<K29,"yes","no") -> no | T31: =IF(L29<M29,"yes","no") -> no | U31: =IF(L29<N29,"yes","no") -> no | V31: =IF(L29<O29,"yes","no") -> no
P32: =T28 -> KCl | Q32: =IF(M29<J29,"yes","no") -> no | R32: =IF(M29<K29,"yes","no") -> yes | S32: =IF(M29<L29,"yes","no") -> yes | U32: =IF(M29<N29,"yes","no") -> yes | V32: =IF(M29<O29,"yes","no") -> yes
P33: =U28 -> K2CO3 | Q33: =IF(N29<J29,"yes","no") -> no | R33: =IF(N29<K29,"yes","no") -> yes | S33: =IF(N29<L29,"yes","no") -> yes | T33: =IF(N29<M29,"yes","no") -> no | V33: =IF(N29<O29,"yes","no") -> yes
P34: =V28 -> KOH | Q34: =IF(O29<J29,"yes","no") -> no | R34: =IF(O29<K29,"yes","no") -> yes | S34: =IF(O29<L29,"yes","no") -> yes | T34: =IF(O29<M29,"yes","no") -> no | U34: =IF(O29<N29,"yes","no") -> no
P36: =A7 -> Land use impact
J37: Basalt | K37: SSP | L37: TSP | M37: KCl | N37: K2CO3 | O37: KOH | P37: j↓ k→ | Q37: Basalt | R37: SSP | S37: TSP | T37: KCl | U37: K2CO3 | V37: KOH
J38: =B7 -> 0.00040246414 | K38: =C7 -> 1 | L38: =D7 -> 0.86444334 | M38: =E7 -> 0.032451319 | N38: =F7 -> 0.019943157 | O38: =G7 -> 0.21265358 | P38: =Q37 -> Basalt | R38: =IF(J38<K38,"yes","no") -> yes | S38: =IF(J38<L38,"yes","no") -> yes | T38: =IF(J38<M38,"yes","no") -> yes | U38: =IF(J38<N38,"yes","no") -> yes | V38: =IF(J38<O38,"yes","no") -> yes
P39: =R37 -> SSP | Q39: =IF(K38<J38,"yes","no") -> no | S39: =IF(K38<L38,"yes","no") -> no | T39: =IF(K38<M38,"yes","no") -> no | U39: =IF(K38<N38,"yes","no") -> no | V39: =IF(K38<O38,"yes","no") -> no
P40: =S37 -> TSP | Q40: =IF(L38<J38,"yes","no") -> no | R40: =IF(L38<K38,"yes","no") -> yes | T40: =IF(L38<M38,"yes","no") -> no | U40: =IF(L38<N38,"yes","no") -> no | V40: =IF(L38<O38,"yes","no") -> no
P41: =T37 -> KCl | Q41: =IF(M38<J38,"yes","no") -> no | R41: =IF(M38<K38,"yes","no") -> yes | S41: =IF(M38<L38,"yes","no") -> yes | U41: =IF(M38<N38,"yes","no") -> no | V41: =IF(M38<O38,"yes","no") -> yes
P42: =U37 -> K2CO3 | Q42: =IF(N38<J38,"yes","no") -> no | R42: =IF(N38<K38,"yes","no") -> yes | S42: =IF(N38<L38,"yes","no") -> yes | T42: =IF(N38<M38,"yes","no") -> yes | V42: =IF(N38<O38,"yes","no") -> yes
P43: =V37 -> KOH | Q43: =IF(O38<J38,"yes","no") -> no | R43: =IF(O38<K38,"yes","no") -> yes | S43: =IF(O38<L38,"yes","no") -> yes | T43: =IF(O38<M38,"yes","no") -> no | U43: =IF(O38<N38,"yes","no") -> no
P45: =A8 -> FAETP impact
J46: Basalt | K46: SSP | L46: TSP | M46: KCl | N46: K2CO3 | O46: KOH | P46: j↓ k→ | Q46: Basalt | R46: SSP | S46: TSP | T46: KCl | U46: K2CO3 | V46: KOH
J47: =B8 -> 0.0010112407 | K47: =C8 -> 1 | L47: =D8 -> 0.85530929 | M47: =E8 -> 0.047659269 | N47: =F8 -> 0.097966976 | O47: =G8 -> 0.33430707 | P47: =Q46 -> Basalt | R47: =IF(J47<K47,"yes","no") -> yes | S47: =IF(J47<L47,"yes","no") -> yes | T47: =IF(J47<M47,"yes","no") -> yes | U47: =IF(J47<N47,"yes","no") -> yes | V47: =IF(J47<O47,"yes","no") -> yes
P48: =R46 -> SSP | Q48: =IF(K47<J47,"yes","no") -> no | S48: =IF(K47<L47,"yes","no") -> no | T48: =IF(K47<M47,"yes","no") -> no | U48: =IF(K47<N47,"yes","no") -> no | V48: =IF(K47<O47,"yes","no") -> no
P49: =S46 -> TSP | Q49: =IF(L47<J47,"yes","no") -> no | R49: =IF(L47<K47,"yes","no") -> yes | T49: =IF(L47<M47,"yes","no") -> no | U49: =IF(L47<N47,"yes","no") -> no | V49: =IF(L47<O47,"yes","no") -> no
P50: =T46 -> KCl | Q50: =IF(M47<J47,"yes","no") -> no | R50: =IF(M47<K47,"yes","no") -> yes | S50: =IF(M47<L47,"yes","no") -> yes | U50: =IF(M47<N47,"yes","no") -> yes | V50: =IF(M47<O47,"yes","no") -> yes
P51: =U46 -> K2CO3 | Q51: =IF(N47<J47,"yes","no") -> no | R51: =IF(N47<K47,"yes","no") -> yes | S51: =IF(N47<L47,"yes","no") -> yes | T51: =IF(N47<M47,"yes","no") -> no | V51: =IF(N47<O47,"yes","no") -> yes
P52: =V46 -> KOH | Q52: =IF(O47<J47,"yes","no") -> no | R52: =IF(O47<K47,"yes","no") -> yes | S52: =IF(O47<L47,"yes","no") -> yes | T52: =IF(O47<M47,"yes","no") -> no | U52: =IF(O47<N47,"yes","no") -> no
P54: FSETP impact
J55: Basalt | K55: SSP | L55: TSP | M55: KCl | N55: K2CO3 | O55: KOH | P55: j↓ k→ | Q55: Basalt | R55: SSP | S55: TSP | T55: KCl | U55: K2CO3 | V55: KOH
J56: =B9 -> 0.0013053732 | K56: =C9 -> 1 | L56: =D9 -> 0.92652659 | M56: =E9 -> 0.059529173 | N56: =F9 -> 0.12229003 | O56: =G9 -> 0.41683623 | P56: =Q55 -> Basalt | R56: =IF(J56<K56,"yes","no") -> yes | S56: =IF(J56<L56,"yes","no") -> yes | T56: =IF(J56<M56,"yes","no") -> yes | U56: =IF(J56<N56,"yes","no") -> yes | V56: =IF(J56<O56,"yes","no") -> yes
P57: =R55 -> SSP | Q57: =IF(K56<J56,"yes","no") -> no | S57: =IF(K56<L56,"yes","no") -> no | T57: =IF(K56<M56,"yes","no") -> no | U57: =IF(K56<N56,"yes","no") -> no | V57: =IF(K56<O56,"yes","no") -> no
P58: =S55 -> TSP | Q58: =IF(L56<J56,"yes","no") -> no | R58: =IF(L56<K56,"yes","no") -> yes | T58: =IF(L56<M56,"yes","no") -> no | U58: =IF(L56<N56,"yes","no") -> no | V58: =IF(L56<O56,"yes","no") -> no
P59: =T55 -> KCl | Q59: =IF(M56<J56,"yes","no") -> no | R59: =IF(M56<K56,"yes","no") -> yes | S59: =IF(M56<L56,"yes","no") -> yes | U59: =IF(M56<N56,"yes","no") -> yes | V59: =IF(M56<O56,"yes","no") -> yes
P60: =U55 -> K2CO3 | Q60: =IF(N56<J56,"yes","no") -> no | R60: =IF(N56<K56,"yes","no") -> yes | S60: =IF(N56<L56,"yes","no") -> yes | T60: =IF(N56<M56,"yes","no") -> no | V60: =IF(N56<O56,"yes","no") -> yes
P61: =V55 -> KOH | Q61: =IF(O56<J56,"yes","no") -> no | R61: =IF(O56<K56,"yes","no") -> yes | S61: =IF(O56<L56,"yes","no") -> yes | T61: =IF(O56<M56,"yes","no") -> no | U61: =IF(O56<N56,"yes","no") -> no
P63: =A10 -> MAETP impact
J64: Basalt | K64: SSP | L64: TSP | M64: KCl | N64: K2CO3 | O64: KOH | P64: j↓ k→ | Q64: Basalt | R64: SSP | S64: TSP | T64: KCl | U64: K2CO3 | V64: KOH
J65: =B10 -> 0.0021077151 | K65: =C10 -> 1 | L65: =D10 -> 0.93937629 | M65: =E10 -> 0.095066494 | N65: =F10 -> 0.1981537 | O65: =G10 -> 0.68287063 | P65: =Q64 -> Basalt | R65: =IF(J65<K65,"yes","no") -> yes | S65: =IF(J65<L65,"yes","no") -> yes | T65: =IF(J65<M65,"yes","no") -> yes | U65: =IF(J65<N65,"yes","no") -> yes | V65: =IF(J65<O65,"yes","no") -> yes
P66: =R64 -> SSP | Q66: =IF(K65<J65,"yes","no") -> no | S66: =IF(K65<L65,"yes","no") -> no | T66: =IF(K65<M65,"yes","no") -> no | U66: =IF(K65<N65,"yes","no") -> no | V66: =IF(K65<O65,"yes","no") -> no
P67: =S64 -> TSP | Q67: =IF(L65<J65,"yes","no") -> no | R67: =IF(L65<K65,"yes","no") -> yes | T67: =IF(L65<M65,"yes","no") -> no | U67: =IF(L65<N65,"yes","no") -> no | V67: =IF(L65<O65,"yes","no") -> no
P68: =T64 -> KCl | Q68: =IF(M65<J65,"yes","no") -> no | R68: =IF(M65<K65,"yes","no") -> yes | S68: =IF(M65<L65,"yes","no") -> yes | U68: =IF(M65<N65,"yes","no") -> yes | V68: =IF(M65<O65,"yes","no") -> yes
P69: =U64 -> K2CO3 | Q69: =IF(N65<J65,"yes","no") -> no | R69: =IF(N65<K65,"yes","no") -> yes | S69: =IF(N65<L65,"yes","no") -> yes | T69: =IF(N65<M65,"yes","no") -> no | V69: =IF(N65<O65,"yes","no") -> yes
P70: =V64 -> KOH | Q70: =IF(O65<J65,"yes","no") -> no | R70: =IF(O65<K65,"yes","no") -> yes | S70: =IF(O65<L65,"yes","no") -> yes | T70: =IF(O65<M65,"yes","no") -> no | U70: =IF(O65<N65,"yes","no") -> no
P72: MSETP impact
J73: Basalt | K73: SSP | L73: TSP | M73: KCl | N73: K2CO3 | O73: KOH | P73: j↓ k→ | Q73: Basalt | R73: SSP | S73: TSP | T73: KCl | U73: K2CO3 | V73: KOH
J74: =B11 -> 0.0031180307 | K74: =C11 -> 0.0014205636 | L74: =D11 -> 0.0022856852 | M74: =E11 -> 0.13791289 | N74: =F11 -> 0.28946238 | O74: =G11 -> 1 | P74: =Q73 -> Basalt | R74: =IF(J74<K74,"yes","no") -> no | S74: =IF(J74<L74,"yes","no") -> no | T74: =IF(J74<M74,"yes","no") -> yes | U74: =IF(J74<N74,"yes","no") -> yes | V74: =IF(J74<O74,"yes","no") -> yes
P75: =R73 -> SSP | Q75: =IF(K74<J74,"yes","no") -> yes | S75: =IF(K74<L74,"yes","no") -> yes | T75: =IF(K74<M74,"yes","no") -> yes | U75: =IF(K74<N74,"yes","no") -> yes | V75: =IF(K74<O74,"yes","no") -> yes
P76: =S73 -> TSP | Q76: =IF(L74<J74,"yes","no") -> yes | R76: =IF(L74<K74,"yes","no") -> no | T76: =IF(L74<M74,"yes","no") -> yes | U76: =IF(L74<N74,"yes","no") -> yes | V76: =IF(L74<O74,"yes","no") -> yes
P77: =T73 -> KCl | Q77: =IF(M74<J74,"yes","no") -> no | R77: =IF(M74<K74,"yes","no") -> no | S77: =IF(M74<L74,"yes","no") -> no | U77: =IF(M74<N74,"yes","no") -> yes | V77: =IF(M74<O74,"yes","no") -> yes
P78: =U73 -> K2CO3 | Q78: =IF(N74<J74,"yes","no") -> no | R78: =IF(N74<K74,"yes","no") -> no | S78: =IF(N74<L74,"yes","no") -> no | T78: =IF(N74<M74,"yes","no") -> no | V78: =IF(N74<O74,"yes","no") -> yes
P79: =V73 -> KOH | Q79: =IF(O74<J74,"yes","no") -> no | R79: =IF(O74<K74,"yes","no") -> no | S79: =IF(O74<L74,"yes","no") -> no | T79: =IF(O74<M74,"yes","no") -> no | U79: =IF(O74<N74,"yes","no") -> no
P81: HTP impact
J82: Basalt | K82: SSP | L82: TSP | M82: KCl | N82: K2CO3 | O82: KOH | P82: j↓ k→ | Q82: Basalt | R82: SSP | S82: TSP | T82: KCl | U82: K2CO3 | V82: KOH
J83: =B12 -> 0.0050075135 | K83: =C12 -> 0.89042072 | L83: =D12 -> 1 | M83: =E12 -> 0.053947612 | N83: =F12 -> 0.58467424 | O83: =G12 -> 0.74275537 | P83: =Q82 -> Basalt | R83: =IF(J83<K83,"yes","no") -> yes | S83: =IF(J83<L83,"yes","no") -> yes | T83: =IF(J83<M83,"yes","no") -> yes | U83: =IF(J83<N83,"yes","no") -> yes | V83: =IF(J83<O83,"yes","no") -> yes
P84: =R82 -> SSP | Q84: =IF(K83<J83,"yes","no") -> no | S84: =IF(K83<L83,"yes","no") -> yes | T84: =IF(K83<M83,"yes","no") -> no | U84: =IF(K83<N83,"yes","no") -> no | V84: =IF(K83<O83,"yes","no") -> no
P85: =S82 -> TSP | Q85: =IF(L83<J83,"yes","no") -> no | R85: =IF(L83<K83,"yes","no") -> no | T85: =IF(L83<M83,"yes","no") -> no | U85: =IF(L83<N83,"yes","no") -> no | V85: =IF(L83<O83,"yes","no") -> no
P86: =T82 -> KCl | Q86: =IF(M83<J83,"yes","no") -> no | R86: =IF(M83<K83,"yes","no") -> yes | S86: =IF(M83<L83,"yes","no") -> yes | U86: =IF(M83<N83,"yes","no") -> yes | V86: =IF(M83<O83,"yes","no") -> yes
P87: =U82 -> K2CO3 | Q87: =IF(N83<J83,"yes","no") -> no | R87: =IF(N83<K83,"yes","no") -> yes | S87: =IF(N83<L83,"yes","no") -> yes | T87: =IF(N83<M83,"yes","no") -> no | V87: =IF(N83<O83,"yes","no") -> yes
P88: =V82 -> KOH | Q88: =IF(O83<J83,"yes","no") -> no | R88: =IF(O83<K83,"yes","no") -> yes | S88: =IF(O83<L83,"yes","no") -> yes | T88: =IF(O83<M83,"yes","no") -> no | U88: =IF(O83<N83,"yes","no") -> no
P90: Terrestrial ecotoxicity
J91: Basalt | K91: SSP | L91: TSP | M91: KCl | N91: K2CO3 | O91: KOH | P91: j↓ k→ | Q91: Basalt | R91: SSP | S91: TSP | T91: KCl | U91: K2CO3 | V91: KOH
J92: =B13 -> 0.0055555556 | K92: =C13 -> 2.108295e-05 | L92: =D13 -> 1.2957088e-05 | M92: =E13 -> 0.066666667 | N92: =F13 -> 0.18812261 | O92: =G13 -> 1 | P92: =Q91 -> Basalt | R92: =IF(J92<K92,"yes","no") -> no | S92: =IF(J92<L92,"yes","no") -> no | T92: =IF(J92<M92,"yes","no") -> yes | U92: =IF(J92<N92,"yes","no") -> yes | V92: =IF(J92<O92,"yes","no") -> yes
P93: =R91 -> SSP | Q93: =IF(K92<J92,"yes","no") -> yes | S93: =IF(K92<L92,"yes","no") -> no | T93: =IF(K92<M92,"yes","no") -> yes | U93: =IF(K92<N92,"yes","no") -> yes | V93: =IF(K92<O92,"yes","no") -> yes
P94: =S91 -> TSP | Q94: =IF(L92<J92,"yes","no") -> yes | R94: =IF(L92<K92,"yes","no") -> yes | T94: =IF(L92<M92,"yes","no") -> yes | U94: =IF(L92<N92,"yes","no") -> yes | V94: =IF(L92<O92,"yes","no") -> yes
P95: =T91 -> KCl | Q95: =IF(M92<J92,"yes","no") -> no | R95: =IF(M92<K92,"yes","no") -> no | S95: =IF(M92<L92,"yes","no") -> no | U95: =IF(M92<N92,"yes","no") -> yes | V95: =IF(M92<O92,"yes","no") -> yes
P96: =U91 -> K2CO3 | Q96: =IF(N92<J92,"yes","no") -> no | R96: =IF(N92<K92,"yes","no") -> no | S96: =IF(N92<L92,"yes","no") -> no | T96: =IF(N92<M92,"yes","no") -> no | V96: =IF(N92<O92,"yes","no") -> yes
P97: =V91 -> KOH | Q97: =IF(O92<J92,"yes","no") -> no | R97: =IF(O92<K92,"yes","no") -> no | S97: =IF(O92<L92,"yes","no") -> no | T97: =IF(O92<M92,"yes","no") -> no | U97: =IF(O92<N92,"yes","no") -> no
P99: Ionising Radiation impact
J100: Basalt | K100: SSP | L100: TSP | M100: KCl | N100: K2CO3 | O100: KOH | P100: j↓ k→ | Q100: Basalt | R100: SSP | S100: TSP | T100: KCl | U100: K2CO3 | V100: KOH
J101: =B14 -> 2.201103e-15 | K101: =C14 -> 0.87727896 | L101: =D14 -> 1 | M101: =E14 -> 9.1712626e-15 | N101: =F14 -> 7.4592936e-14 | O101: =G14 -> 5.9796632e-13 | P101: =Q100 -> Basalt | R101: =IF(J101<K101,"yes","no") -> yes | S101: =IF(J101<L101,"yes","no") -> yes | T101: =IF(J101<M101,"yes","no") -> yes | U101: =IF(J101<N101,"yes","no") -> yes | V101: =IF(J101<O101,"yes","no") -> yes
P102: =R100 -> SSP | Q102: =IF(K101<J101,"yes","no") -> no | S102: =IF(K101<L101,"yes","no") -> yes | T102: =IF(K101<M101,"yes","no") -> no | U102: =IF(K101<N101,"yes","no") -> no | V102: =IF(K101<O101,"yes","no") -> no
P103: =S100 -> TSP | Q103: =IF(L101<J101,"yes","no") -> no | R103: =IF(L101<K101,"yes","no") -> no | T103: =IF(L101<M101,"yes","no") -> no | U103: =IF(L101<N101,"yes","no") -> no | V103: =IF(L101<O101,"yes","no") -> no
P104: =T100 -> KCl | Q104: =IF(M101<J101,"yes","no") -> no | R104: =IF(M101<K101,"yes","no") -> yes | S104: =IF(M101<L101,"yes","no") -> yes | U104: =IF(M101<N101,"yes","no") -> yes | V104: =IF(M101<O101,"yes","no") -> yes
P105: =U100 -> K2CO3 | Q105: =IF(N101<J101,"yes","no") -> no | R105: =IF(N101<K101,"yes","no") -> yes | S105: =IF(N101<L101,"yes","no") -> yes | T105: =IF(N101<M101,"yes","no") -> no | V105: =IF(N101<O101,"yes","no") -> yes
P106: =V100 -> KOH | Q106: =IF(O101<J101,"yes","no") -> no | R106: =IF(O101<K101,"yes","no") -> yes | S106: =IF(O101<L101,"yes","no") -> yes | T106: =IF(O101<M101,"yes","no") -> no | U106: =IF(O101<N101,"yes","no") -> no
P108: Maladous air impact
J109: Basalt | K109: SSP | L109: TSP | M109: KCl | N109: K2CO3 | O109: KOH | P109: j↓ k→ | Q109: Basalt | R109: SSP | S109: TSP | T109: KCl | U109: K2CO3 | V109: KOH
J110: =B15 -> 0.0020710655 | K110: =C15 -> 9.5023258e-06 | L110: =D15 -> 3.4426793e-05 | M110: =E15 -> 0.18463421 | N110: =F15 -> 0.24558527 | O110: =G15 -> 1 | P110: =Q109 -> Basalt | R110: =IF(J110<K110,"yes","no") -> no | S110: =IF(J110<L110,"yes","no") -> no | T110: =IF(J110<M110,"yes","no") -> yes | U110: =IF(J110<N110,"yes","no") -> yes | V110: =IF(J110<O110,"yes","no") -> yes
...

Sheet Table S10b
A1: Table S10b: Results of Uncertainty Analysis( Impact Category Relevance)
A2: Coefficient of variation | P2: Impact category relevance
B3: Basalt | C3: SSP | D3: TSP | E3: KCl | F3: K2CO3 | G3: KOH | P3: Which impact is important for the comparison of j and k?
A4: Climate change impact | B4: ='Table S9'!C1010/'Table S9'!C1007 -> 0.028931823 | C4: ='Table S9'!D1010/'Table S9'!D1007 -> 0.029100747 | D4: ='Table S9'!E1010/'Table S9'!E1007 -> 0.028682207 | E4: ='Table S9'!F1010/'Table S9'!F1007 -> 0.028707058 | F4: ='Table S9'!G1010/'Table S9'!G1007 -> 0.029388276 | G4: ='Table S9'!H1010/'Table S9'!H1007 -> 0.02873243 | Q4: least | R4: =MIN(Q7:V140) -> 0.63740304 | S4: =MAX(Q7:V140) -> 387.46343 | T4: most
A5: Acidification impact | B5: ='Table S9'!I1010/'Table S9'!I1007 -> 0.028793262 | C5: ='Table S9'!J1010/'Table S9'!J1007 -> 0.028493097 | D5: ='Table S9'!K1010/'Table S9'!K1007 -> 0.028554488 | E5: ='Table S9'!L1010/'Table S9'!L1007 -> 0.029018305 | F5: ='Table S9'!M1010/'Table S9'!M1007 -> 0.028473231 | G5: ='Table S9'!N1010/'Table S9'!N1007 -> 0.028542142 | P5: Note: cell number in row j column k indicates
A6: Eutrophication Impact | B6: ='Table S9'!O1010/'Table S9'!O1007 -> 0.028391954 | C6: ='Table S9'!P1010/'Table S9'!P1007 -> 0.029120015 | D6: ='Table S9'!Q1010/'Table S9'!Q1007 -> 0.029343064 | E6: ='Table S9'!R1010/'Table S9'!R1007 -> 0.028498105 | F6: ='Table S9'!S1010/'Table S9'!S1007 -> 0.028664154 | G6: ='Table S9'!T1010/'Table S9'!T1007 -> 0.028578883 | P6: the relevance parameter for pair in j and k
A7: Land use impact | B7: ='Table S9'!U1010/'Table S9'!U1007 -> 0.029080527 | C7: ='Table S9'!V1010/'Table S9'!V1007 -> 0.029537732 | D7: ='Table S9'!W1010/'Table S9'!W1007 -> 0.028477746 | E7: ='Table S9'!X1010/'Table S9'!X1007 -> 0.028766539 | F7: ='Table S9'!Y1010/'Table S9'!Y1007 -> 0.029079 | G7: ='Table S9'!Z1010/'Table S9'!Z1007 -> 0.02902499 | I7: CC | P7: Climate change impact
A8: FAETP impact | B8: ='Table S9'!AA1010/'Table S9'!AA1007 -> 0.028721253 | C8: ='Table S9'!AB1010/'Table S9'!AB1007 -> 0.029197737 | D8: ='Table S9'!AC1010/'Table S9'!AC1007 -> 0.027778265 | E8: ='Table S9'!AD1010/'Table S9'!AD1007 -> 0.028759142 | F8: ='Table S9'!AE1010/'Table S9'!AE1007 -> 0.028947868 | G8: ='Table S9'!AF1010/'Table S9'!AF1007 -> 0.028684114 | I8: Basalt | J8: SSP | K8: TSP | L8: KCl | M8: K2CO3 | N8: KOH | P8: j↓ k→ | Q8: =I8 -> Basalt | R8: =J8 -> SSP | S8: =K8 -> TSP | T8: =L8 -> KCl | U8: =M8 -> K2CO3 | V8: =N8 -> KOH
A9: FSETP impact | B9: ='Table S9'!AG1010/'Table S9'!AG1007 -> 0.028646562 | C9: ='Table S9'!AH1010/'Table S9'!AH1007 -> 0.029531342 | D9: ='Table S9'!AI1010/'Table S9'!AI1007 -> 0.028911518 | E9: ='Table S9'!AJ1010/'Table S9'!AJ1007 -> 0.029246541 | F9: ='Table S9'!AK1010/'Table S9'!AK1007 -> 0.028943461 | G9: ='Table S9'!AL1010/'Table S9'!AL1007 -> 0.028957344 | H9: mean | I9: ='Table S9'!C1007 -> 0.0071962703 | J9: ='Table S9'!D1007 -> 1.4082005 | K9: ='Table S9'!E1007 -> 1.449667 | L9: ='Table S9'!F1007 -> 0.17677482 | M9: ='Table S9'!G1007 -> 0.59369977 | N9: ='Table S9'!H1007 -> 1.5117197 | P9: =Q8 -> Basalt | R9: =ABS(I9-J9)/(0.5*(I10+J10)) -> 68.029915 | S9: =ABS(I9-K9)/(0.5*(I10+K10)) -> 69.037806 | T9: =ABS(I9-L9)/(0.5*(I10+L10)) -> 64.199206 | U9: =ABS(I9-M9)/(0.5*(I10+M10)) -> 66.436683 | V9: =ABS(I9-N9)/(0.5*(I10+N10)) -> 68.945919
A10: MAETP impact | B10: ='Table S9'!AM1010/'Table S9'!AM1007 -> 0.029394993 | C10: ='Table S9'!AN1010/'Table S9'!AN1007 -> 0.028903971 | D10: ='Table S9'!AO1010/'Table S9'!AO1007 -> 0.028679133 | E10: ='Table S9'!AP1010/'Table S9'!AP1007 -> 0.028645416 | F10: ='Table S9'!AQ1010/'Table S9'!AQ1007 -> 0.028900622 | G10: ='Table S9'!AR1010/'Table S9'!AR1007 -> 0.028346596 | H10: Stdv | I10: ='Table S9'!C1010 -> 0.00020820122 | J10: ='Table S9'!D1010 -> 0.040979686 | K10: ='Table S9'!E1010 -> 0.041579648 | L10: ='Table S9'!F1010 -> 0.0050746848 | M10: ='Table S9'!G1010 -> 0.017447813 | N10: ='Table S9'!H1010 -> 0.043435379 | P10: =R8 -> SSP | Q10: =ABS(I9-J9)/(0.5*(I10+J10)) -> 68.029915 | S10: =ABS(J9-K9)/(0.5*(J10+K10)) -> 1.0045265 | T10: =ABS(J9-L9)/(0.5*(J10+L10)) -> 53.477038 | U10: =ABS(J9-M9)/(0.5*(J10+M10)) -> 27.880732 | V10: =ABS(J9-N9)/(0.5*(J10+N10)) -> 2.4526233
A11: MSETP impact | B11: ='Table S9'!AS1010/'Table S9'!AS1007 -> 0.029037665 | C11: ='Table S9'!AT1010/'Table S9'!AT1007 -> 0.028397997 | D11: ='Table S9'!AU1010/'Table S9'!AU1007 -> 0.028937966 | E11: ='Table S9'!AV1010/'Table S9'!AV1007 -> 0.028794006 | F11: ='Table S9'!AW1010/'Table S9'!AW1007 -> 0.028579908 | G11: ='Table S9'!AX1010/'Table S9'!AX1007 -> 0.029853104 | H11: Coefficient of variation | I11: =I10/I9 -> 0.028931823 | J11: =J10/J9 -> 0.029100747 | K11: =K10/K9 -> 0.028682207 | L11: =L10/L9 -> 0.028707058 | M11: =M10/M9 -> 0.029388276 | N11: =N10/N9 -> 0.02873243 | P11: =S8 -> TSP | Q11: =ABS(I9-K9)/(0.5*(I10+K10)) -> 69.037806 | R11: =ABS(K9-J9)/(0.5*(K10+J10)) -> 1.0045265 | T11: =ABS(K9-L9)/(0.5*(K10+L10)) -> 54.566944 | U11: =ABS(K9-M9)/(0.5*(K10+M10)) -> 29.00234 | V11: =ABS(K9-N9)/(0.5*(K10+N10)) -> 1.4598045
A12: HTP impact | B12: ='Table S9'!AY1010/'Table S9'!AY1007 -> 0.029521819 | C12: ='Table S9'!AZ1010/'Table S9'!AZ1007 -> 0.029416912 | D12: ='Table S9'!BA1010/'Table S9'!BA1007 -> 0.028905137 | E12: ='Table S9'!BB1010/'Table S9'!BB1007 -> 0.028497555 | F12: ='Table S9'!BC1010/'Table S9'!BC1007 -> 0.028940028 | G12: ='Table S9'!BD1010/'Table S9'!BD1007 -> 0.029177146 | P12: =T8 -> KCl | Q12: =ABS(I9-L9)/(0.5*(I10+L10)) -> 64.199206 | R12: =ABS(L9-J9)/(0.5*(L10+J10)) -> 53.477038 | S12: =ABS(L9-K9)/(0.5*(L10+K10)) -> 54.566944 | U12: =ABS(L9-M9)/(0.5*(L10+M10)) -> 37.022977 | V12: =ABS(L9-N9)/(0.5*(L10+N10)) -> 55.037851
A13: Terrestrial ecotoxicity | B13: ='Table S9'!BE1010/'Table S9'!BE1007 -> 0.028714872 | C13: ='Table S9'!BF1010/'Table S9'!BF1007 -> 0.029342451 | D13: ='Table S9'!BG1010/'Table S9'!BG1007 -> 0.029668593 | E13: ='Table S9'!BH1010/'Table S9'!BH1007 -> 0.028861496 | F13: ='Table S9'!BI1010/'Table S9'!BI1007 -> 0.028642081 | G13: ='Table S9'!BJ1010/'Table S9'!BJ1007 -> 0.02831544 | P13: =U8 -> K2CO3 | Q13: =ABS(I9-M9)/(0.5*(I10+M10)) -> 66.436683 | R13: =ABS(M9-J9)/(0.5*(M10+J10)) -> 27.880732 | S13: =ABS(M9-K9)/(0.5*(M10+K10)) -> 29.00234 | T13: =ABS(M9-L9)/(0.5*(M10+L10)) -> 37.022977 | V13: =ABS(M9-N9)/(0.5*(M10+N10)) -> 30.15676
A14: Ionising Radiation impact | B14: ='Table S9'!BK1010/'Table S9'!BK1007 -> 0.02916123 | C14: ='Table S9'!BL1010/'Table S9'!BL1007 -> 0.028712391 | D14: ='Table S9'!BM1010/'Table S9'!BM1007 -> 0.028745222 | E14: ='Table S9'!BN1010/'Table S9'!BN1007 -> 0.028449914 | F14: ='Table S9'!BO1010/'Table S9'!BO1007 -> 0.029590605 | G14: ='Table S9'!BP1010/'Table S9'!BP1007 -> 0.028524738 | P14: =V8 -> KOH | Q14: =ABS(I9-N9)/(0.5*(I10+N10)) -> 68.945919 | R14: =ABS(N9-J9)/(0.5*(N10+J10)) -> 2.4526233 | S14: =ABS(N9-K9)/(0.5*(N10+K10)) -> 1.4598045 | T14: =ABS(N9-L9)/(0.5*(N10+L10)) -> 55.037851 | U14: =ABS(N9-M9)/(0.5*(N10+M10)) -> 30.15676
A15: Maladous air impact | B15: ='Table S9'!BQ1010/'Table S9'!BQ1007 -> 0.028383508 | C15: ='Table S9'!BR1010/'Table S9'!BR1007 -> 0.02781216 | D15: ='Table S9'!BS1010/'Table S9'!BS1007 -> 0.028766217 | E15: ='Table S9'!BT1010/'Table S9'!BT1007 -> 0.028664474 | F15: ='Table S9'!BU1010/'Table S9'!BU1007 -> 0.0291057 | G15: ='Table S9'!BV1010/'Table S9'!BV1007 -> 0.028071787
A16: Ecosystem quality impact | B16: ='Table S9'!BX1010/'Table S9'!BX1007 -> 0.029330022 | C16: ='Table S9'!BY1010/'Table S9'!BY1007 -> 0.029280165 | D16: ='Table S9'!BZ1010/'Table S9'!BZ1007 -> 0.028824076 | E16: ='Table S9'!CA1010/'Table S9'!CA1007 -> 0.028308906 | F16: ='Table S9'!CB1010/'Table S9'!CB1007 -> 0.029470446 | G16: ='Table S9'!CC1010/'Table S9'!CC1007 -> 0.029089704 | I16: AI | P16: Acidification impact
A17: Human Health impact | B17: ='Table S9'!CC1010/'Table S9'!CC1007 -> 0.029089704 | C17: ='Table S9'!CD1010/'Table S9'!CD1007 -> 0.028592196 | D17: ='Table S9'!CE1010/'Table S9'!CE1007 -> 0.028983868 | E17: ='Table S9'!CF1010/'Table S9'!CF1007 -> 0.029168165 | F17: ='Table S9'!CG1010/'Table S9'!CG1007 -> 0.029025424 | G17: ='Table S9'!CH1010/'Table S9'!CH1007 -> 0.028653835 | I17: Basalt | J17: SSP | K17: TSP | L17: KCl | M17: K2CO3 | N17: KOH | P17: j↓ k→ | Q17: =I17 -> Basalt | R17: =J17 -> SSP | S17: =K17 -> TSP | T17: =L17 -> KCl | U17: =M17 -> K2CO3 | V17: =N17 -> KOH
A18: Resources impact | B18: ='Table S9'!CI1010/'Table S9'!CI1007 -> 0.028341261 | C18: ='Table S9'!CJ1010/'Table S9'!CJ1007 -> 0.02880353 | D18: ='Table S9'!CK1010/'Table S9'!CK1007 -> 0.029180447 | E18: ='Table S9'!CL1010/'Table S9'!CL1007 -> 0.028623145 | F18: ='Table S9'!CM1010/'Table S9'!CM1007 -> 0.028846752 | G18: ='Table S9'!CN1010/'Table S9'!CN1007 -> 0.029039778 | H18: mean | I18: ='Table S9'!I1007 -> 6.4993365e-05 | J18: ='Table S9'!J1007 -> 0.019330333 | K18: ='Table S9'!K1007 -> 0.021309157 | L18: ='Table S9'!L1007 -> 0.00074811758 | M18: ='Table S9'!M1007 -> 0.0023155559 | N18: ='Table S9'!N1007 -> 0.0065450746 | P18: =Q17 -> Basalt | R18: =ABS(I18-J18)/(0.5*(I19+J19)) -> 69.719551 | S18: =ABS(I18-K18)/(0.5*(I19+K19)) -> 69.613801 | T18: =ABS(I18-L18)/(0.5*(I19+L19)) -> 57.939818 | U18: =ABS(I18-M18)/(0.5*(I19+M19)) -> 66.385603 | V18: =ABS(I18-N18)/(0.5*(I19+N19)) -> 68.687923
H19: Stdv | I19: ='Table S9'!I1010 -> 1.871371e-06 | J19: ='Table S9'!J1010 -> 0.00055078104 | K19: ='Table S9'!K1010 -> 0.00060847208 | L19: ='Table S9'!L1010 -> 2.1709104e-05 | M19: ='Table S9'!M1010 -> 6.593136e-05 | N19: ='Table S9'!N1010 -> 0.00018681045 | P19: =R17 -> SSP | Q19: =ABS(I18-J18)/(0.5*(I19+J19)) -> 69.719551 | S19: =ABS(J18-K18)/(0.5*(J19+K19)) -> 3.4139646 | T19: =ABS(J18-L18)/(0.5*(J19+L19)) -> 64.917152 | U19: =ABS(J18-M18)/(0.5*(J19+M19)) -> 55.178967 | V19: =ABS(J18-N18)/(0.5*(J19+N19)) -> 34.667585
H20: Coefficient of variation | I20: =I19/I18 -> 0.028793262 | J20: =J19/J18 -> 0.028493097 | K20: =K19/K18 -> 0.028554488 | L20: =L19/L18 -> 0.029018305 | M20: =M19/M18 -> 0.028473231 | N20: =N19/N18 -> 0.028542142 | P20: =S17 -> TSP | Q20: =ABS(I18-K18)/(0.5*(I19+K19)) -> 69.613801 | R20: =ABS(K18-J18)/(0.5*(K19+J19)) -> 3.4139646 | T20: =ABS(K18-L18)/(0.5*(K19+L19)) -> 65.254375 | U20: =ABS(K18-M18)/(0.5*(K19+M19)) -> 56.327118 | V20: =ABS(K18-N18)/(0.5*(K19+N19)) -> 37.129151
P21: =T17 -> KCl | Q21: =ABS(I18-L18)/(0.5*(I19+L19)) -> 57.939818 | R21: =ABS(L18-J18)/(0.5*(L19+J19)) -> 64.917152 | S21: =ABS(L18-K18)/(0.5*(L19+K19)) -> 65.254375 | U21: =ABS(L18-M18)/(0.5*(L19+M19)) -> 35.769742 | V21: =ABS(L18-N18)/(0.5*(L19+N19)) -> 55.601088
P22: =U17 -> K2CO3 | Q22: =ABS(I18-M18)/(0.5*(I19+M19)) -> 66.385603 | R22: =ABS(M18-J18)/(0.5*(M19+J19)) -> 55.178967 | S22: =ABS(M18-K18)/(0.5*(M19+K19)) -> 56.327118 | T22: =ABS(M18-L18)/(0.5*(M19+L19)) -> 35.769742 | V22: =ABS(M18-N18)/(0.5*(M19+N19)) -> 33.469086
P23: =V17 -> KOH | Q23: =ABS(I18-N18)/(0.5*(I19+N19)) -> 68.687923 | R23: =ABS(N18-J18)/(0.5*(N19+J19)) -> 34.667585 | S23: =ABS(N18-K18)/(0.5*(N19+K19)) -> 37.129151 | T23: =ABS(N18-L18)/(0.5*(N19+L19)) -> 55.601088 | U23: =ABS(N18-M18)/(0.5*(N19+M19)) -> 33.469086
I25: EI | P25: EI
I26: Basalt | J26: SSP | K26: TSP | L26: KCl | M26: K2CO3 | N26: KOH | P26: j↓ k→ | Q26: =I26 -> Basalt | R26: =J26 -> SSP | S26: =K26 -> TSP | T26: =L26 -> KCl | U26: =M26 -> K2CO3 | V26: =N26 -> KOH
H27: mean | I27: ='Table S9'!O1007 -> 0.00010999426 | J27: ='Table S9'!P1007 -> 0.0060445886 | K27: ='Table S9'!Q1007 -> 0.0062997313 | L27: ='Table S9'!R1007 -> 0.00064618825 | M27: ='Table S9'!S1007 -> 0.0012558303 | N27: ='Table S9'!T1007 -> 0.0035740912 | P27: =Q26 -> Basalt | R27: =ABS(I27-J27)/(0.5*(I28+J28)) -> 66.255954 | S27: =ABS(I27-K27)/(0.5*(I28+K28)) -> 65.856543 | T27: =ABS(I27-L27)/(0.5*(I28+L28)) -> 49.790296 | U27: =ABS(I27-M27)/(0.5*(I28+M28)) -> 58.580179 | V27: =ABS(I27-N27)/(0.5*(I28+N28)) -> 65.81576
H28: Stdv | I28: ='Table S9'!O1010 -> 3.1229519e-06 | J28: ='Table S9'!P1010 -> 0.00017601851 | K28: ='Table S9'!Q1010 -> 0.00018485342 | L28: ='Table S9'!R1010 -> 1.8415141e-05 | M28: ='Table S9'!S1010 -> 3.5997313e-05 | N28: ='Table S9'!T1010 -> 0.00010214354 | P28: =R26 -> SSP | Q28: =ABS(I27-J27)/(0.5*(I28+J28)) -> 66.255954 | S28: =ABS(J27-K27)/(0.5*(J28+K28)) -> 1.4140346 | T28: =ABS(J27-L27)/(0.5*(J28+L28)) -> 55.529485 | U28: =ABS(J27-M27)/(0.5*(J28+M28)) -> 45.173593 | V28: =ABS(J27-N27)/(0.5*(J28+N28)) -> 17.763008
H29: Coefficient of variation | I29: =I28/I27 -> 0.028391954 | J29: =J28/J27 -> 0.029120015 | K29: =K28/K27 -> 0.029343064 | L29: =L28/L27 -> 0.028498105 | M29: =M28/M27 -> 0.028664154 | N29: =N28/N27 -> 0.028578883 | P29: =S26 -> TSP | Q29: =ABS(I27-K27)/(0.5*(I28+K28)) -> 65.856543 | R29: =ABS(K27-J27)/(0.5*(K28+J28)) -> 1.4140346 | T29: =ABS(K27-L27)/(0.5*(K28+L28)) -> 55.62634 | U29: =ABS(K27-M27)/(0.5*(K28+M28)) -> 45.677014 | V29: =ABS(K27-N27)/(0.5*(K28+N28)) -> 18.994209
P30: =T26 -> KCl | Q30: =ABS(I27-L27)/(0.5*(I28+L28)) -> 49.790296 | R30: =ABS(L27-J27)/(0.5*(L28+J28)) -> 55.529485 | S30: =ABS(L27-K27)/(0.5*(L28+K28)) -> 55.62634 | U30: =ABS(L27-M27)/(0.5*(L28+M28)) -> 22.408181 | V30: =ABS(L27-N27)/(0.5*(L28+N28)) -> 48.572248
P31: =U26 -> K2CO3 | Q31: =ABS(I27-M27)/(0.5*(I28+M28)) -> 58.580179 | R31: =ABS(M27-J27)/(0.5*(M28+J28)) -> 45.173593 | S31: =ABS(M27-K27)/(0.5*(M28+K28)) -> 45.677014 | T31: =ABS(M27-L27)/(0.5*(M28+L28)) -> 22.408181 | V31: =ABS(M27-N27)/(0.5*(M28+N28)) -> 33.563727
P32: =V26 -> KOH | Q32: =ABS(I27-N27)/(0.5*(I28+N28)) -> 65.81576 | R32: =ABS(N27-J27)/(0.5*(N28+J28)) -> 17.763008 | S32: =ABS(N27-K27)/(0.5*(N28+K28)) -> 18.994209 | T32: =ABS(N27-L27)/(0.5*(N28+L28)) -> 48.572248 | U32: =ABS(N27-M27)/(0.5*(N28+M28)) -> 33.563727
I34: LI | P34: LI
I35: Basalt | J35: SSP | K35: TSP | L35: KCl | M35: K2CO3 | N35: KOH | P35: j↓ k→ | Q35: =I35 -> Basalt | R35: =J35 -> SSP | S35: =K35 -> TSP | T35: =L35 -> KCl | U35: =M35 -> K2CO3 | V35: =N35 -> KOH
H36: mean | I36: ='Table S9'!U1007 -> 0.00037996333 | J36: ='Table S9'!V1007 -> 0.94537321 | K36: ='Table S9'!W1007 -> 0.81572956 | L36: ='Table S9'!X1007 -> 0.030611792 | M36: ='Table S9'!Y1007 -> 0.018817419 | N36: ='Table S9'!Z1007 -> 0.20117326 | P36: =Q35 -> Basalt | R36: =ABS(I36-J36)/(0.5*(I37+J37)) -> 67.656019 | S36: =ABS(I36-K36)/(0.5*(I37+K37)) -> 70.164191 | T36: =ABS(I36-L36)/(0.5*(I37+L37)) -> 67.811368 | U36: =ABS(I36-M36)/(0.5*(I37+M37)) -> 66.055509 | V36: =ABS(I36-N36)/(0.5*(I37+N37)) -> 68.646092
H37: Stdv | I37: ='Table S9'!U1010 -> 1.1049534e-05 | J37: ='Table S9'!V1010 -> 0.027924181 | K37: ='Table S9'!W1010 -> 0.023230139 | L37: ='Table S9'!X1010 -> 0.0008805953 | M37: ='Table S9'!Y1010 -> 0.00054719173 | N37: ='Table S9'!Z1010 -> 0.0058390517 | P37: =R35 -> SSP | Q37: =ABS(I36-J36)/(0.5*(I37+J37)) -> 67.656019 | S37: =ABS(J36-K36)/(0.5*(J37+K37)) -> 5.0687273 | T37: =ABS(J36-L36)/(0.5*(J37+L37)) -> 63.514565 | U37: =ABS(J36-M36)/(0.5*(J37+M37)) -> 65.086837 | V37: =ABS(J36-N36)/(0.5*(J37+N37)) -> 44.083454
H38: Coefficient of variation | I38: =I37/I36 -> 0.029080527 | J38: =J37/J36 -> 0.029537732 | K38: =K37/K36 -> 0.028477746 | L38: =L37/L36 -> 0.028766539 | M38: =M37/M36 -> 0.029079 | N38: =N37/N36 -> 0.02902499 | P38: =S35 -> TSP | Q38: =ABS(I36-K36)/(0.5*(I37+K37)) -> 70.164191 | R38: =ABS(K36-J36)/(0.5*(K37+J37)) -> 5.0687273 | T38: =ABS(K36-L36)/(0.5*(K37+L37)) -> 65.125994 | U38: =ABS(K36-M36)/(0.5*(K37+M37)) -> 67.031253 | V38: =ABS(K36-N36)/(0.5*(K37+N37)) -> 42.282312
P39: =T35 -> KCl | Q39: =ABS(I36-L36)/(0.5*(I37+L37)) -> 67.811368 | R39: =ABS(L36-J36)/(0.5*(L37+J37)) -> 63.514565 | S39: =ABS(L36-K36)/(0.5*(L37+K37)) -> 65.125994 | U39: =ABS(L36-M36)/(0.5*(L37+M37)) -> 16.521193 | V39: =ABS(L36-N36)/(0.5*(L37+N37)) -> 50.765008
P40: =U35 -> K2CO3 | Q40: =ABS(I36-M36)/(0.5*(I37+M37)) -> 66.055509 | R40: =ABS(M36-J36)/(0.5*(M37+J37)) -> 65.086837 | S40: =ABS(M36-K36)/(0.5*(M37+K37)) -> 67.031253 | T40: =ABS(M36-L36)/(0.5*(M37+L37)) -> 16.521193 | V40: =ABS(M36-N36)/(0.5*(M37+N37)) -> 57.108953
P41: =V35 -> KOH | Q41: =ABS(I36-N36)/(0.5*(I37+N37)) -> 68.646092 | R41: =ABS(N36-J36)/(0.5*(N37+J37)) -> 44.083454 | S41: =ABS(N36-K36)/(0.5*(N37+K37)) -> 42.282312 | T41: =ABS(N36-L36)/(0.5*(N37+L37)) -> 50.765008 | U41: =ABS(N36-M36)/(0.5*(N37+M37)) -> 57.108953
I43: FAETP | P43: FAETP
I44: Basalt | J44: SSP | K44: TSP | L44: KCl | M44: K2CO3 | N44: KOH | P44: j↓ k→ | Q44: =I44 -> Basalt | R44: =J44 -> SSP | S44: =K44 -> TSP | T44: =L44 -> KCl | U44: =M44 -> K2CO3 | V44: =N44 -> KOH
H45: mean | I45: ='Table S9'!AA1007 -> 0.0020051261 | J45: ='Table S9'!AB1007 -> 1.9777096 | K45: ='Table S9'!AC1007 -> 1.6902218 | L45: ='Table S9'!AD1007 -> 0.094393471 | M45: ='Table S9'!AE1007 -> 0.19364977 | N45: ='Table S9'!AF1007 -> 0.66209185 | P45: =Q44 -> Basalt | R45: =ABS(I45-J45)/(0.5*(I46+J46)) -> 68.360835 | S45: =ABS(I45-K45)/(0.5*(I46+K46)) -> 71.825225 | T45: =ABS(I45-L45)/(0.5*(I46+L46)) -> 66.651886 | U45: =ABS(I45-M45)/(0.5*(I46+M46)) -> 67.679045 | V45: =ABS(I45-N45)/(0.5*(I46+N46)) -> 69.303689
H46: Stdv | I46: ='Table S9'!AA1010 -> 5.7589734e-05 | J46: ='Table S9'!AB1010 -> 0.057744643 | K46: ='Table S9'!AC1010 -> 0.046951429 | L46: ='Table S9'!AD1010 -> 0.0027146753 | M46: ='Table S9'!AE1010 -> 0.005605748 | N46: ='Table S9'!AF1010 -> 0.018991518 | P46: =R44 -> SSP | Q46: =ABS(I45-J45)/(0.5*(I46+J46)) -> 68.360835 | S46: =ABS(J45-K45)/(0.5*(J46+K46)) -> 5.491854 | T46: =ABS(J45-L45)/(0.5*(J46+L46)) -> 62.300275 | U46: =ABS(J45-M45)/(0.5*(J46+M46)) -> 56.323561 | V46: =ABS(J45-N45)/(0.5*(J46+N46)) -> 34.289381
H47: Coefficient of variation | I47: =I46/I45 -> 0.028721253 | J47: =J46/J45 -> 0.029197737 | K47: =K46/K45 -> 0.027778265 | L47: =L46/L45 -> 0.028759142 | M47: =M46/M45 -> 0.028947868 | N47: =N46/N45 -> 0.028684114 | P47: =S44 -> TSP | Q47: =ABS(I45-K45)/(0.5*(I46+K46)) -> 71.825225 | R47: =ABS(K45-J45)/(0.5*(K46+J46)) -> 5.491854 | T47: =ABS(K45-L45)/(0.5*(K46+L46)) -> 64.262271 | U47: =ABS(K45-M45)/(0.5*(K46+M46)) -> 56.950244 | V47: =ABS(K45-N45)/(0.5*(K46+N46)) -> 31.182408
P48: =T44 -> KCl | Q48: =ABS(I45-L45)/(0.5*(I46+L46)) -> 66.651886 | R48: =ABS(L45-J45)/(0.5*(L46+J46)) -> 62.300275 | S48: =ABS(L45-K45)/(0.5*(L46+K46)) -> 64.262271 | U48: =ABS(L45-M45)/(0.5*(L46+M46)) -> 23.858474 | V48: =ABS(L45-N45)/(0.5*(L46+N46)) -> 52.307502
P49: =U44 -> K2CO3 | Q49: =ABS(I45-M45)/(0.5*(I46+M46)) -> 67.679045 | R49: =ABS(M45-J45)/(0.5*(M46+J46)) -> 56.323561 | S49: =ABS(M45-K45)/(0.5*(M46+K46)) -> 56.950244 | T49: =ABS(M45-L45)/(0.5*(M46+L46)) -> 23.858474 | V49: =ABS(M45-N45)/(0.5*(M46+N46)) -> 38.088955
P50: =V44 -> KOH | Q50: =ABS(I45-N45)/(0.5*(I46+N46)) -> 69.303689 | R50: =ABS(N45-J45)/(0.5*(N46+J46)) -> 34.289381 | S50: =ABS(N45-K45)/(0.5*(N46+K46)) -> 31.182408 | T50: =ABS(N45-L45)/(0.5*(N46+L46)) -> 52.307502 | U50: =ABS(N45-M45)/(0.5*(N46+M46)) -> 38.088955
I52: FSETP | P52: FSETP
I53: Basalt | J53: SSP | K53: TSP | L53: KCl | M53: K2CO3 | N53: KOH | P53: j↓ k→ | Q53: =I53 -> Basalt | R53: =J53 -> SSP | S53: =K53 -> TSP | T53: =L53 -> KCl | U53: =M53 -> K2CO3 | V53: =N53 -> KOH
H54: mean | I54: ='Table S9'!AG1007 -> 0.004402496 | J54: ='Table S9'!AH1007 -> 3.3683675 | K54: ='Table S9'!AI1007 -> 3.1174997 | L54: ='Table S9'!AJ1007 -> 0.20042535 | M54: ='Table S9'!AK1007 -> 0.41214908 | N54: ='Table S9'!AL1007 -> 1.4045907 | P54: =Q53 -> Basalt | R54: =ABS(I54-J54)/(0.5*(I55+J55)) -> 67.550495 | S54: =ABS(I54-K54)/(0.5*(I55+K55)) -> 68.982368 | T54: =ABS(I54-L54)/(0.5*(I55+L55)) -> 65.473375 | U54: =ABS(I54-M54)/(0.5*(I55+M55)) -> 67.646941 | V54: =ABS(I54-N54)/(0.5*(I55+N55)) -> 68.6378
H55: Stdv | I55: ='Table S9'!AG1010 -> 0.00012611638 | J55: ='Table S9'!AH1010 -> 0.099472413 | K55: ='Table S9'!AI1010 -> 0.09013165 | L55: ='Table S9'!AJ1010 -> 0.0058617481 | M55: ='Table S9'!AK1010 -> 0.011929021 | N55: ='Table S9'!AL1010 -> 0.040673215 | P55: =R53 -> SSP | Q55: =ABS(I54-J54)/(0.5*(I55+J55)) -> 67.550495 | S55: =ABS(J54-K54)/(0.5*(J55+K55)) -> 2.6462274 | T55: =ABS(J54-L54)/(0.5*(J55+L55)) -> 60.150327 | U55: =ABS(J54-M54)/(0.5*(J55+M55)) -> 53.073256 | V55: =ABS(J54-N54)/(0.5*(J55+N55)) -> 28.024802
H56: Coefficient of variation | I56: =I55/I54 -> 0.028646562 | J56: =J55/J54 -> 0.029531342 | K56: =K55/K54 -> 0.028911518 | L56: =L55/L54 -> 0.029246541 | M56: =M55/M54 -> 0.028943461 | N56: =N55/N54 -> 0.028957344 | P56: =S53 -> TSP | Q56: =ABS(I54-K54)/(0.5*(I55+K55)) -> 68.982368 | R56: =ABS(K54-J54)/(0.5*(K55+J55)) -> 2.6462274 | T56: =ABS(K54-L54)/(0.5*(K55+L55)) -> 60.776562 | U56: =ABS(K54-M54)/(0.5*(K55+M55)) -> 53.014557 | V56: =ABS(K54-N54)/(0.5*(K55+N55)) -> 26.190295
P57: =T53 -> KCl | Q57: =ABS(I54-L54)/(0.5*(I55+L55)) -> 65.473375 | R57: =ABS(L54-J54)/(0.5*(L55+J55)) -> 60.150327 | S57: =ABS(L54-K54)/(0.5*(L55+K55)) -> 60.776562 | U57: =ABS(L54-M54)/(0.5*(L55+M55)) -> 23.801526 | V57: =ABS(L54-N54)/(0.5*(L55+N55)) -> 51.753144
P58: =U53 -> K2CO3 | Q58: =ABS(I54-M54)/(0.5*(I55+M55)) -> 67.646941 | R58: =ABS(M54-J54)/(0.5*(M55+J55)) -> 53.073256 | S58: =ABS(M54-K54)/(0.5*(M55+K55)) -> 53.014557 | T58: =ABS(M54-L54)/(0.5*(M55+L55)) -> 23.801526 | V58: =ABS(M54-N54)/(0.5*(M55+N55)) -> 37.733818
P59: =V53 -> KOH | Q59: =ABS(I54-N54)/(0.5*(I55+N55)) -> 68.6378 | R59: =ABS(N54-J54)/(0.5*(N55+J55)) -> 28.024802 | S59: =ABS(N54-K54)/(0.5*(N55+K55)) -> 26.190295 | T59: =ABS(N54-L54)/(0.5*(N55+L55)) -> 51.753144 | U59: =ABS(N54-M54)/(0.5*(N55+M55)) -> 37.733818
I61: MAETP | P61: MAETP
I62: Basalt | J62: SSP | K62: TSP | L62: KCl | M62: K2CO3 | N62: KOH | P62: j↓ k→ | Q62: =I62 -> Basalt | R62: =J62 -> SSP | S62: =K62 -> TSP | T62: =L62 -> KCl | U62: =M62 -> K2CO3 | V62: =N62 -> KOH
H63: mean | I63: ='Table S9'!AL1007 -> 1.4045907 | J63: ='Table S9'!AM1007 -> 0.007399392 | K63: ='Table S9'!AN1007 -> 3.51145 | L63: ='Table S9'!AO1007 -> 3.3010975 | M63: ='Table S9'!AP1007 -> 0.33414913 | N63: ='Table S9'!AQ1007 -> 0.6945983 | P63: =Q62 -> Basalt | R63: =ABS(I63-J63)/(0.5*(I64+J64)) -> 27.473385 | S63: =ABS(I63-K63)/(0.5*(I64+K64)) -> 44.406295 | T63: =ABS(I63-L63)/(0.5*(I64+L64)) -> 387.46343 | U63: =ABS(I63-M63)/(0.5*(I64+M64)) -> 105.5047 | V63: =ABS(I63-N63)/(0.5*(I64+N64)) -> 20.804403
H64: Stdv | I64: ='Table S9'!AM1010 -> 0.00021750507 | J64: ='Table S9'!AN1010 -> 0.10149485 | K64: ='Table S9'!AO1010 -> 0.094672612 | L64: ='Table S9'!AP1010 -> 0.0095718408 | M64: ='Table S9'!AQ1010 -> 0.020074323 | N64: ='Table S9'!AR1010 -> 0.068036544 | P64: =R62 -> SSP | Q64: =ABS(I63-J63)/(0.5*(I64+J64)) -> 27.473385 | S64: =ABS(J63-K63)/(0.5*(J64+K64)) -> 35.725095 | T64: =ABS(J63-L63)/(0.5*(J64+L64)) -> 59.310278 | U64: =ABS(J63-M63)/(0.5*(J64+M64)) -> 5.3755363 | V64: =ABS(J63-N63)/(0.5*(J64+N64)) -> 8.1070402
H65: Coefficient of variation | I65: =I64/I63 -> 0.00015485299 | J65: =J64/J63 -> 13.716647 | K65: =K64/K63 -> 0.026961117 | L65: =L64/L63 -> 0.0028995935 | M65: =M64/M63 -> 0.060075939 | N65: =N64/N63 -> 0.097950923 | P65: =S62 -> TSP | Q65: =ABS(I63-K63)/(0.5*(I64+K64)) -> 44.406295 | R65: =ABS(K63-J63)/(0.5*(K64+J64)) -> 35.725095 | T65: =ABS(K63-L63)/(0.5*(K64+L64)) -> 4.0357545 | U65: =ABS(K63-M63)/(0.5*(K64+M64)) -> 55.379272 | V65: =ABS(K63-N63)/(0.5*(K64+N64)) -> 34.624378
P66: =T62 -> KCl | Q66: =ABS(I63-L63)/(0.5*(I64+L64)) -> 387.46343 | R66: =ABS(L63-J63)/(0.5*(L64+J64)) -> 59.310278 | S66: =ABS(L63-K63)/(0.5*(L64+K64)) -> 4.0357545 | U66: =ABS(L63-M63)/(0.5*(L64+M64)) -> 200.15732 | V66: =ABS(L63-N63)/(0.5*(L64+N64)) -> 67.170555
P67: =U62 -> K2CO3 | Q67: =ABS(I63-M63)/(0.5*(I64+M64)) -> 105.5047 | R67: =ABS(M63-J63)/(0.5*(M64+J64)) -> 5.3755363 | S67: =ABS(M63-K63)/(0.5*(M64+K64)) -> 55.379272 | T67: =ABS(M63-L63)/(0.5*(M64+L64)) -> 200.15732 | V67: =ABS(M63-N63)/(0.5*(M64+N64)) -> 8.1817187
P68: =V62 -> KOH | Q68: =ABS(I63-N63)/(0.5*(I64+N64)) -> 20.804403 | R68: =ABS(N63-J63)/(0.5*(N64+J64)) -> 8.1070402 | S68: =ABS(N63-K63)/(0.5*(N64+K64)) -> 34.624378 | T68: =ABS(N63-L63)/(0.5*(N64+L64)) -> 67.170555 | U68: =ABS(N63-M63)/(0.5*(N64+M64)) -> 8.1817187
I70: MSETP | P70: MSETP
I71: Basalt | J71: SSP | K71: TSP | L71: KCl | M71: K2CO3 | N71: KOH | P71: j↓ k→ | Q71: =I71 -> Basalt | R71: =J71 -> SSP | S71: =K71 -> TSP | T71: =L71 -> KCl | U71: =M71 -> K2CO3 | V71: =N71 -> KOH
H72: mean | I72: ='Table S9'!AS1007 -> 0.0077971427 | J72: ='Table S9'!AT1007 -> 0.003549562 | K72: ='Table S9'!AU1007 -> 0.0057124854 | L72: ='Table S9'!AV1007 -> 0.34517858 | M72: ='Table S9'!AW1007 -> 0.72397312 | N72: ='Table S9'!AX1007 -> 2.4982293 | P72: =Q71 -> Basalt | R72: =ABS(I72-J72)/(0.5*(I73+J73)) -> 25.962313 | S72: =ABS(I72-K72)/(0.5*(I73+K73)) -> 10.643649 | T72: =ABS(I72-L72)/(0.5*(I73+L73)) -> 66.377833 | U72: =ABS(I72-M72)/(0.5*(I73+M73)) -> 68.476262 | V72: =ABS(I72-N72)/(0.5*(I73+N73)) -> 66.583478
H73: Stdv | I73: ='Table S9'!AS1010 -> 0.00022641081 | J73: ='Table S9'!AT1010 -> 0.00010080045 | K73: ='Table S9'!AU1010 -> 0.00016530771 | L73: ='Table S9'!AV1010 -> 0.0099390741 | M73: ='Table S9'!AW1010 -> 0.020691086 | N73: ='Table S9'!AX1010 -> 0.074579901 | P73: =R71 -> SSP | Q73: =ABS(I72-J72)/(0.5*(I73+J73)) -> 25.962313 | S73: =ABS(J72-K72)/(0.5*(J73+K73)) -> 16.255972 | T73: =ABS(J72-L72)/(0.5*(J73+L73)) -> 68.054438 | U73: =ABS(J72-M72)/(0.5*(J73+M73)) -> 69.29853 | V73: =ABS(J72-N72)/(0.5*(J73+N73)) -> 66.809222
H74: Coefficient of variation | I74: =I73/I72 -> 0.029037665 | J74: =J73/J72 -> 0.028397997 | K74: =K73/K72 -> 0.028937966 | L74: =L73/L72 -> 0.028794006 | M74: =M73/M72 -> 0.028579908 | N74: =N73/N72 -> 0.029853104 | P74: =S71 -> TSP | Q74: =ABS(I72-K72)/(0.5*(I73+K73)) -> 10.643649 | R74: =ABS(K72-J72)/(0.5*(K73+J73)) -> 16.255972 | T74: =ABS(K72-L72)/(0.5*(K73+L73)) -> 67.191857 | U74: =ABS(K72-M72)/(0.5*(K73+M73)) -> 68.876783 | V74: =ABS(K72-N72)/(0.5*(K73+N73)) -> 66.693689
P75: =T71 -> KCl | Q75: =ABS(I72-L72)/(0.5*(I73+L73)) -> 66.377833 | R75: =ABS(L72-J72)/(0.5*(L73+J73)) -> 68.054438 | S75: =ABS(L72-K72)/(0.5*(L73+K73)) -> 67.191857 | U75: =ABS(L72-M72)/(0.5*(L73+M73)) -> 24.733436 | V75: =ABS(L72-N72)/(0.5*(L73+N73)) -> 50.948341
P76: =U71 -> K2CO3 | Q76: =ABS(I72-M72)/(0.5*(I73+M73)) -> 68.476262 | R76: =ABS(M72-J72)/(0.5*(M73+J73)) -> 69.29853 | S76: =ABS(M72-K72)/(0.5*(M73+K73)) -> 68.876783 | T76: =ABS(M72-L72)/(0.5*(M73+L73)) -> 24.733436 | V76: =ABS(M72-N72)/(0.5*(M73+N73)) -> 37.246517
P77: =V71 -> KOH | Q77: =ABS(I72-N72)/(0.5*(I73+N73)) -> 66.583478 | R77: =ABS(N72-J72)/(0.5*(N73+J73)) -> 66.809222 | S77: =ABS(N72-K72)/(0.5*(N73+K73)) -> 66.693689 | T77: =ABS(N72-L72)/(0.5*(N73+L73)) -> 50.948341 | U77: =ABS(N72-M72)/(0.5*(N73+M73)) -> 37.246517
I79: HTP | P79: HTP
I80: Basalt | J80: SSP | K80: TSP | L80: KCl | M80: K2CO3 | N80: KOH | P80: j↓ k→ | Q80: =I80 -> Basalt | R80: =J80 -> SSP | S80: =K80 -> TSP | T80: =L80 -> KCl | U80: =M80 -> K2CO3 | V80: =N80 -> KOH
H81: mean | I81: ='Table S9'!AY1007 -> 0.0032991146 | J81: ='Table S9'!AZ1007 -> 0.58621272 | K81: ='Table S9'!BA1007 -> 0.65846818 | L81: ='Table S9'!BB1007 -> 0.03556987 | M81: ='Table S9'!BC1007 -> 0.38474289 | N81: ='Table S9'!BD1007 -> 0.48955893 | P81: =Q80 -> Basalt | R81: =ABS(I81-J81)/(0.5*(I82+J82)) -> 67.225788 | S81: =ABS(I81-K81)/(0.5*(I82+K82)) -> 68.494684 | T81: =ABS(I81-L81)/(0.5*(I82+L82)) -> 58.090545 | U81: =ABS(I81-M81)/(0.5*(I82+M82)) -> 67.921711 | V81: =ABS(I81-N81)/(0.5*(I82+N82)) -> 67.62377
H82: Stdv | I82: ='Table S9'!AY1010 -> 9.7395865e-05 | J82: ='Table S9'!AZ1010 -> 0.017244568 | K82: ='Table S9'!BA1010 -> 0.019033113 | L82: ='Table S9'!BB1010 -> 0.0010136543 | M82: ='Table S9'!BC1010 -> 0.01113447 | N82: ='Table S9'!BD1010 -> 0.014283932 | P82: =R80 -> SSP | Q82: =ABS(I81-J81)/(0.5*(I82+J82)) -> 67.225788 | S82: =ABS(J81-K81)/(0.5*(J82+K82)) -> 3.9834667 | T82: =ABS(J81-L81)/(0.5*(J82+L82)) -> 60.317246 | U82: =ABS(J81-M81)/(0.5*(J82+M82)) -> 14.198496 | V82: =ABS(J81-N81)/(0.5*(J82+N82)) -> 6.1312009
H83: Coefficient of variation | I83: =I82/I81 -> 0.029521819 | J83: =J82/J81 -> 0.029416912 | K83: =K82/K81 -> 0.028905137 | L83: =L82/L81 -> 0.028497555 | M83: =M82/M81 -> 0.028940028 | N83: =N82/N81 -> 0.029177146 | P83: =S80 -> TSP | Q83: =ABS(I81-K81)/(0.5*(I82+K82)) -> 68.494684 | R83: =ABS(K81-J81)/(0.5*(K82+J82)) -> 3.9834667 | T83: =ABS(K81-L81)/(0.5*(K82+L82)) -> 62.144515 | U83: =ABS(K81-M81)/(0.5*(K82+M82)) -> 18.146982 | V83: =ABS(K81-N81)/(0.5*(K82+N82)) -> 10.13951
P84: =T80 -> KCl | Q84: =ABS(I81-L81)/(0.5*(I82+L82)) -> 58.090545 | R84: =ABS(L81-J81)/(0.5*(L82+J82)) -> 60.317246 | S84: =ABS(L81-K81)/(0.5*(L82+K82)) -> 62.144515 | U84: =ABS(L81-M81)/(0.5*(L82+M82)) -> 57.485915 | V84: =ABS(L81-N81)/(0.5*(L82+N82)) -> 59.354338
P85: =U80 -> K2CO3 | Q85: =ABS(I81-M81)/(0.5*(I82+M82)) -> 67.921711 | R85: =ABS(M81-J81)/(0.5*(M82+J82)) -> 14.198496 | S85: =ABS(M81-K81)/(0.5*(M82+K82)) -> 18.146982 | T85: =ABS(M81-L81)/(0.5*(M82+L82)) -> 57.485915 | V85: =ABS(M81-N81)/(0.5*(M82+N82)) -> 8.2472565
P86: =V80 -> KOH | Q86: =ABS(I81-N81)/(0.5*(I82+N82)) -> 67.62377 | R86: =ABS(N81-J81)/(0.5*(N82+J82)) -> 6.1312009 | S86: =ABS(N81-K81)/(0.5*(N82+K82)) -> 10.13951 | T86: =ABS(N81-L81)/(0.5*(N82+L82)) -> 59.354338 | U86: =ABS(N81-M81)/(0.5*(N82+M82)) -> 8.2472565
I88: TE | P88: TE
I89: Basalt | J89: SSP | K89: TSP | L89: KCl | M89: K2CO3 | N89: KOH | P89: j↓ k→ | Q89: =I89 -> Basalt | R89: =J89 -> SSP | S89: =K89 -> TSP | T89: =L89 -> KCl | U89: =M89 -> K2CO3 | V89: =N89 -> KOH
H90: mean | I90: ='Table S9'!BE1007 -> 2.9006259e-06 | J90: ='Table S9'!BF1007 -> 1.1007193e-08 | K90: ='Table S9'!BG1007 -> 6.7559645e-09 | L90: ='Table S9'!BH1007 -> 3.4789372e-05 | M90: ='Table S9'!BI1007 -> 9.8343434e-05 | N90: ='Table S9'!BJ1007 -> 0.00052319499 | P90: =Q89 -> Basalt | R90: =ABS(I90-J90)/(0.5*(I91+J91)) -> 69.117994 | S90: =ABS(I90-K90)/(0.5*(I91+K91)) -> 69.321273 | T90: =ABS(I90-L90)/(0.5*(I91+L91)) -> 58.653283 | U90: =ABS(I90-M90)/(0.5*(I91+M91)) -> 65.821452 | V90: =ABS(I90-N90)/(0.5*(I91+N91)) -> 69.848541
H91: Stdv | I91: ='Table S9'!BE1010 -> 8.32911e-08 | J91: ='Table S9'!BF1010 -> 3.2297803e-10 | K91: ='Table S9'!BG1010 -> 2.0043996e-10 | L91: ='Table S9'!BH1010 -> 1.0040733e-06 | M91: ='Table S9'!BI1010 -> 2.8167606e-06 | N91: ='Table S9'!BJ1010 -> 1.4814496e-05 | P91: =R89 -> SSP | Q91: =ABS(I90-J90)/(0.5*(I91+J91)) -> 69.117994 | S91: =ABS(J90-K90)/(0.5*(J91+K91)) -> 16.244106 | T91: =ABS(J90-L90)/(0.5*(J91+L91)) -> 69.252276 | U91: =ABS(J90-M90)/(0.5*(J91+M91)) -> 69.811507 | V91: =ABS(J90-N90)/(0.5*(J91+N91)) -> 70.629816
H92: Coefficient of variation | I92: =I91/I90 -> 0.028714872 | J92: =J91/J90 -> 0.029342451 | K92: =K91/K90 -> 0.029668593 | L92: =L91/L90 -> 0.028861496 | M92: =M91/M90 -> 0.028642081 | N92: =N91/N90 -> 0.02831544 | P92: =S89 -> TSP | Q92: =ABS(I90-K90)/(0.5*(I91+K91)) -> 69.321273 | R92: =ABS(K90-J90)/(0.5*(K91+J91)) -> 16.244106 | T92: =ABS(K90-L90)/(0.5*(K91+L91)) -> 69.269193 | U92: =ABS(K90-M90)/(0.5*(K91+M91)) -> 69.817563 | V92: =ABS(K90-N90)/(0.5*(K91+N91)) -> 70.630974
P93: =T89 -> KCl | Q93: =ABS(I90-L90)/(0.5*(I91+L91)) -> 58.653283 | R93: =ABS(L90-J90)/(0.5*(L91+J91)) -> 69.252276 | S93: =ABS(L90-K90)/(0.5*(L91+K91)) -> 69.269193 | U93: =ABS(L90-M90)/(0.5*(L91+M91)) -> 33.267115 | V93: =ABS(L90-N90)/(0.5*(L91+N91)) -> 61.75092
P94: =U89 -> K2CO3 | Q94: =ABS(I90-M90)/(0.5*(I91+M91)) -> 65.821452 | R94: =ABS(M90-J90)/(0.5*(M91+J91)) -> 69.811507 | S94: =ABS(M90-K90)/(0.5*(M91+K91)) -> 69.817563 | T94: =ABS(M90-L90)/(0.5*(M91+L91)) -> 33.267115 | V94: =ABS(M90-N90)/(0.5*(M91+N91)) -> 48.192996
P95: =V89 -> KOH | Q95: =ABS(I90-N90)/(0.5*(I91+N91)) -> 69.848541 | R95: =ABS(N90-J90)/(0.5*(N91+J91)) -> 70.629816 | S95: =ABS(N90-K90)/(0.5*(N91+K91)) -> 70.630974 | T95: =ABS(N90-L90)/(0.5*(N91+L91)) -> 61.75092 | U95: =ABS(N90-M90)/(0.5*(N91+M91)) -> 48.192996
I97: IR | P97: IR
I98: Basalt | J98: SSP | K98: TSP | L98: KCl | M98: K2CO3 | N98: KOH | P98: j↓ k→ | Q98: =I98 -> Basalt | R98: =J98 -> SSP | S98: =K98 -> TSP | T98: =L98 -> KCl | U98: =M98 -> K2CO3 | V98: =N98 -> KOH
H99: mean | I99: ='Table S9'!BK1007 -> 3.6025764e-11 | J99: ='Table S9'!BL1007 -> 14346.286 | K99: ='Table S9'!BM1007 -> 16377.916 | L99: ='Table S9'!BN1007 -> 1.5022703e-10 | M99: ='Table S9'!BO1007 -> 1.2208881e-09 | N99: ='Table S9'!BP1007 -> 9.7827467e-09 | P99: =Q98 -> Basalt | R99: =ABS(I99-J99)/(0.5*(I100+J100)) -> 69.656338 | S99: =ABS(I99-K99)/(0.5*(I100+K100)) -> 69.576782 | T99: =ABS(I99-L99)/(0.5*(I100+L100)) -> 42.896509 | U99: =ABS(I99-M99)/(0.5*(I100+M100)) -> 63.741046 | V99: =ABS(I99-N99)/(0.5*(I100+N100)) -> 69.59437
H100: Stdv | I100: ='Table S9'!BK1010 -> 1.0505556e-12 | J100: ='Table S9'!BL1010 -> 411.91617 | K100: ='Table S9'!BM1010 -> 470.78681 | L100: ='Table S9'!BN1010 -> 4.2739461e-12 | M100: ='Table S9'!BO1010 -> 3.6126819e-11 | N100: ='Table S9'!BP1010 -> 2.7905029e-10 | P100: =R98 -> SSP | Q100: =ABS(I99-J99)/(0.5*(I100+J100)) -> 69.656338 | S100: =ABS(J99-K99)/(0.5*(J100+K100)) -> 4.6032008 | T100: =ABS(J99-L99)/(0.5*(J100+L100)) -> 69.656338 | U100: =ABS(J99-M99)/(0.5*(J100+M100)) -> 69.656338 | V100: =ABS(J99-N99)/(0.5*(J100+N100)) -> 69.656338
H101: Coefficient of variation | I101: =I100/I99 -> 0.02916123 | J101: =J100/J99 -> 0.028712391 | K101: =K100/K99 -> 0.028745222 | L101: =L100/L99 -> 0.028449914 | M101: =M100/M99 -> 0.029590605 | N101: =N100/N99 -> 0.028524738 | P101: =S98 -> TSP | Q101: =ABS(I99-K99)/(0.5*(I100+K100)) -> 69.576782 | R101: =ABS(K99-J99)/(0.5*(K100+J100)) -> 4.6032008 | T101: =ABS(K99-L99)/(0.5*(K100+L100)) -> 69.576782 | U101: =ABS(K99-M99)/(0.5*(K100+M100)) -> 69.576782 | V101: =ABS(K99-N99)/(0.5*(K100+N100)) -> 69.576782
P102: =T98 -> KCl | Q102: =ABS(I99-L99)/(0.5*(I100+L100)) -> 42.896509 | R102: =ABS(L99-J99)/(0.5*(L100+J100)) -> 69.656338 | S102: =ABS(L99-K99)/(0.5*(L100+K100)) -> 69.576782 | U102: =ABS(L99-M99)/(0.5*(L100+M100)) -> 53.002021 | V102: =ABS(L99-N99)/(0.5*(L100+N100)) -> 67.99644
P103: =U98 -> K2CO3 | Q103: =ABS(I99-M99)/(0.5*(I100+M100)) -> 63.741046 | R103: =ABS(M99-J99)/(0.5*(M100+J100)) -> 69.656338 | S103: =ABS(M99-K99)/(0.5*(M100+K100)) -> 69.576782 | T103: =ABS(M99-L99)/(0.5*(M100+L100)) -> 53.002021 | V103: =ABS(M99-N99)/(0.5*(M100+N100)) -> 54.330459
P104: =V98 -> KOH | Q104: =ABS(I99-N99)/(0.5*(I100+N100)) -> 69.59437 | R104: =ABS(N99-J99)/(0.5*(N100+J100)) -> 69.656338 | S104: =ABS(N99-K99)/(0.5*(N100+K100)) -> 69.576782 | T104: =ABS(N99-L99)/(0.5*(N100+L100)) -> 67.99644 | U104: =ABS(N99-M99)/(0.5*(N100+M100)) -> 54.330459
I106: MI | P106: MI
I107: Basalt | J107: SSP | K107: TSP | L107: KCl | M107: K2CO3 | N107: KOH | P107: j↓ k→ | Q107: =I107 -> Basalt | R107: =J107 -> SSP | S107: =K107 -> TSP | T107: =L107 -> KCl | U107: =M107 -> K2CO3 | V107: =N107 -> KOH
H108: mean | I108: ='Table S9'!BQ1007 -> 36.976823 | J108: ='Table S9'!BR1007 -> 0.16979092 | K108: ='Table S9'!BS1007 -> 0.61574427 | L108: ='Table S9'!BT1007 -> 3298.3288 | M108: ='Table S9'!BU1007 -> 4382.7313 | N108: ='Table S9'!BV1007 -> 17838.731 | P108: =Q107 -> Basalt | R108: =ABS(I108-J108)/(0.5*(I109+J109)) -> 69.825726 | S108: =ABS(I108-K108)/(0.5*(I109+K109)) -> 68.140105 | T108: =ABS(I108-L108)/(0.5*(I109+L109)) -> 68.233124 | U108: =ABS(I108-M108)/(0.5*(I109+M109)) -> 67.579303 | V108: =ABS(I108-N108)/(0.5*(I109+N109)) -> 70.949528
H109: Stdv | I109: ='Table S9'!BQ1010 -> 1.049532 | J109: ='Table S9'!BR1010 -> 0.0047222523 | K109: ='Table S9'!BS1010 -> 0.017712633 | L109: ='Table S9'!BT1010 -> 94.54486 | M109: ='Table S9'!BU1010 -> 127.56246 | N109: ='Table S9'!BV1010 -> 500.76507 | P109: =R107 -> SSP | Q109: =ABS(I108-J108)/(0.5*(I109+J109)) -> 69.825726 | S109: =ABS(J108-K108)/(0.5*(J109+K109)) -> 39.755349 | T109: =ABS(J108-L108)/(0.5*(J109+L109)) -> 69.765702 | U109: =ABS(J108-M108)/(0.5*(J109+M109)) -> 68.709857 | V109: =ABS(J108-N108)/(0.5*(J109+N109)) -> 71.24456
H110: Coefficient of variation | I110: =I109/I108 -> 0.028383508 | J110: =J109/J108 -> 0.02781216 | K110: =K109/K108 -> 0.028766217 | L110: =L109/L108 -> 0.028664474 | M110: =M109/M108 -> 0.0291057 | N110: =N109/N108 -> 0.028071787 | P110: =S107 -> TSP | Q110: =ABS(I108-K108)/(0.5*(I109+K109)) -> 68.140105 | R110: =ABS(K108-J108)/(0.5*(K109+J109)) -> 39.755349 | T110: =ABS(K108-L108)/(0.5*(K109+L109)) -> 69.746687 | U110: =ABS(K108-M108)/(0.5*(K109+M109)) -> 68.69587 | V110: =ABS(K108-N108)/(0.5*(K109+N109)) -> 71.24093
...

Sheet Table S11
A1: Table S11: Susbstitution Scenarios (Hypothetical)
C3: Potential Global Warming Impact(Mt)
A4: Region | B4: Total PK Production (Mt) | C4: With NO Substitution | D4: 5% basalt substitution | E4: 10% basalt Substitution | F4: 15% basalt substitution | G4: 20% Basalt Substitution
A5: Africa | B5: ='[1]Phosphorus Demand'!I4+'[1]Potassium Demand'!I4 -> 2.7356 | C5: =B5*$B$15 -> 2.7356 | D5: =E21+F21 -> 2.5997775 | E5: =E22+F22 -> 2.4639549 | F5: =E23+F23 -> 2.3281324 | G5: =E24+F24 -> 2.1923098
A6: Americas | B6: ='[1]Phosphorus Demand'!I5+'[1]Potassium Demand'!I5 -> 25.2902 | C6: =B6*$B$15 -> 25.2902 | D6: =E29+F29 -> 24.034542 | E6: =E30+F30 -> 22.778883 | F6: =E31+F31 -> 21.523225 | G6: =E32+F32 -> 20.267566
A7: Asia | B7: ='[1]Phosphorus Demand'!I6+'[1]Potassium Demand'!I6 -> 44.9492 | C7: =B7*$B$15 -> 44.9492 | D7: =E37+F37 -> 42.717472 | E7: =E38+F38 -> 40.485744 | F7: =E39+F39 -> 38.254017 | G7: =E40+F40 -> 36.022289
A8: Europe | B8: ='[1]Phosphorus Demand'!I7+'[1]Potassium Demand'!I7 -> 8.3436 | C8: =B8*$B$15 -> 8.3436 | D8: =E45+F45 -> 7.9293403 | E8: =E46+F46 -> 7.5150805 | F8: =E47+F47 -> 7.1008208 | G8: =E48+F48 -> 6.686561
A9: Oceania | B9: ='[1]Phosphorus Demand'!I8+'[1]Potassium Demand'!I8 -> 1.7136 | C9: =B9*$B$15 -> 1.7136 | D9: =E53+F53 -> 1.6285198 | E9: =E54+F54 -> 1.5434395 | F9: =E55+F55 -> 1.4583593 | G9: =E56+F56 -> 1.373279
A10: Total | B10: =SUM(B5:B9) -> 83.0322 | C10: =B10*$B$15 -> 83.0322 | D10: =SUM(D5:D9) -> 78.909651 | E10: =SUM(E5:E8) -> 73.243663 | F10: =SUM(F5:F9) -> 70.664554 | G10: =SUM(G5:G9) -> 66.542005
C12: With NO Substitution | D12: 5% basalt substitution | E12: 10% basalt Substitution | F12: 15% basalt substitution | G12: 20% Basalt Substitution
B13: Potential Carbon Capture (Mt CO2) | C13: 0 | D13: =H21+H29+H37+H45+H53 -> 1.245483 | E13: =H22+H30+H38+H46+H54 -> 2.490966 | F13: =H23+H31+H39+H47+H55 -> 3.736449 | G13: =H24+H32+H40+H48+H56 -> 4.981932
A15: Average GWP for PK fertilisers based on study (CO2/per kg) | B15: 1
A16: Average GWP for Basalt fertiliser based on study (CO2/per kg) | B16: 0.007
A17: Average Carbon capture from basalt(per ton) | B17: 0.3
A19: AFRICA
A20: Scenarios | B20: Substitution rate | C20: Quantity Substituted(Mt) | D20: Remaining Quantity of PK produced (Mt) | E20: GWP from Remaining Quantity Produced (Mt CO2) | F20: GWP from Basalt fertiliser produced (Mt CO2) | G20: Avoided GWP from basalt substitution (Mt CO2) | H20: Potential Carbon Capture (Mt)
A21: Scenario A | B21: 0.05 | C21: =B21*$B$5 -> 0.13678 | D21: =B5-C21 -> 2.59882 | E21: =D21*$B$15 -> 2.59882 | F21: =C21*$B$16 -> 0.00095746 | G21: =$C$5-(E21+F21) -> 0.13582254 | H21: =C21*$B$17 -> 0.041034
A22: Scenario B | B22: 0.1 | C22: =B22*$B$5 -> 0.27356 | D22: =B5-C22 -> 2.46204 | E22: =D22*$B$15 -> 2.46204 | F22: =C22*$B$16 -> 0.00191492 | G22: =$C$5-(E22+F22) -> 0.27164508 | H22: =C22*$B$17 -> 0.082068
A23: Scenario C | B23: 0.15 | C23: =B23*$B$5 -> 0.41034 | D23: =B5-C23 -> 2.32526 | E23: =D23*$B$15 -> 2.32526 | F23: =C23*$B$16 -> 0.00287238 | G23: =$C$5-(E23+F23) -> 0.40746762 | H23: =C23*$B$17 -> 0.123102
A24: Scenario D | B24: 0.2 | C24: =B24*$B$5 -> 0.54712 | D24: =B5-C24 -> 2.18848 | E24: =D24*$B$15 -> 2.18848 | F24: =C24*$B$16 -> 0.00382984 | G24: =$C$5-(E24+F24) -> 0.54329016 | H24: =C24*$B$17 -> 0.164136
A27: AMERICAS
A28: Scenarios | B28: Substitution rate | C28: Quantity Substituted(Mt) | D28: Remaining Quantity of PK produced (Mt) | E28: GWP from Remaining Quantity Produced (Mt CO2) | F28: GWP from Basalt fertiliser produced (Mt CO2) | G28: Avoided GWP from basalt substitution (Mt CO2) | H28: Potential Carbon Capture (Mt)
A29: Scenario A | B29: 0.05 | C29: =B29*$B$6 -> 1.26451 | D29: =$B$6-C29 -> 24.02569 | E29: =D29*$B$15 -> 24.02569 | F29: =C29*$B$16 -> 0.00885157 | G29: =$C$6-(E29+F29) -> 1.2556584 | H29: =C29*$B$17 -> 0.379353
A30: Scenario B | B30: 0.1 | C30: =B30*$B$6 -> 2.52902 | D30: =$B$6-C30 -> 22.76118 | E30: =D30*$B$15 -> 22.76118 | F30: =C30*$B$16 -> 0.01770314 | G30: =$C$6-(E30+F30) -> 2.5113169 | H30: =C30*$B$17 -> 0.758706
A31: Scenario C | B31: 0.15 | C31: =B31*$B$6 -> 3.79353 | D31: =$B$6-C31 -> 21.49667 | E31: =D31*$B$15 -> 21.49667 | F31: =C31*$B$16 -> 0.02655471 | G31: =$C$6-(E31+F31) -> 3.7669753 | H31: =C31*$B$17 -> 1.138059
A32: Scenario D | B32: 0.2 | C32: =B32*$B$6 -> 5.05804 | D32: =$B$6-C32 -> 20.23216 | E32: =D32*$B$15 -> 20.23216 | F32: =C32*$B$16 -> 0.03540628 | G32: =$C$6-(E32+F32) -> 5.0226337 | H32: =C32*$B$17 -> 1.517412
A35: ASIA
A36: Scenarios | B36: Substitution rate | C36: Quantity Substituted(Mt) | D36: Remaining Quantity of PK produced (Mt) | E36: GWP from Remaining Quantity Produced (Mt CO2) | F36: GWP from Basalt fertiliser produced (Mt CO2) | G36: Avoided GWP from basalt substitution (Mt CO2) | H36: Potential Carbon Capture (Mt)
A37: Scenario A | B37: 0.05 | C37: =B37*$C$7 -> 2.24746 | D37: =$B$7-C37 -> 42.70174 | E37: =D37*$B$15 -> 42.70174 | F37: =C37*$B$16 -> 0.01573222 | G37: =$C$7-(E37+F37) -> 2.2317278 | H37: =C37*$B$17 -> 0.674238
A38: Scenario B | B38: 0.1 | C38: =B38*$C$7 -> 4.49492 | D38: =$B$7-C38 -> 40.45428 | E38: =D38*$B$15 -> 40.45428 | F38: =C38*$B$16 -> 0.03146444 | G38: =$C$7-(E38+F38) -> 4.4634556 | H38: =C38*$B$17 -> 1.348476
A39: Scenario C | B39: 0.15 | C39: =B39*$C$7 -> 6.74238 | D39: =$B$7-C39 -> 38.20682 | E39: =D39*$B$15 -> 38.20682 | F39: =C39*$B$16 -> 0.04719666 | G39: =$C$7-(E39+F39) -> 6.6951833 | H39: =C39*$B$17 -> 2.022714
A40: Scenario D | B40: 0.2 | C40: =B40*$C$7 -> 8.98984 | D40: =$B$7-C40 -> 35.95936 | E40: =D40*$B$15 -> 35.95936 | F40: =C40*$B$16 -> 0.06292888 | G40: =$C$7-(E40+F40) -> 8.9269111 | H40: =C40*$B$17 -> 2.696952
A43: EUROPE
A44: Scenarios | B44: Substitution rate | C44: Quantity Substituted(Mt) | D44: Remaining Quantity of PK produced (Mt) | E44: GWP from Remaining Quantity Produced (Mt CO2) | F44: GWP from Basalt fertiliser produced (Mt CO2) | G44: Avoided GWP from basalt substitution (Mt CO2) | H44: Potential Carbon Capture (Mt)
A45: Scenario A | B45: 0.05 | C45: =B45*$B$8 -> 0.41718 | D45: =$B$8-C45 -> 7.92642 | E45: =D45*$B$15 -> 7.92642 | F45: =C45*$B$16 -> 0.00292026 | G45: =$C$8-(E45+F45) -> 0.41425974 | H45: =C45*$B$17 -> 0.125154
A46: Scenario B | B46: 0.1 | C46: =B46*$B$8 -> 0.83436 | D46: =$B$8-C46 -> 7.50924 | E46: =D46*$B$15 -> 7.50924 | F46: =C46*$B$16 -> 0.00584052 | G46: =$C$8-(E46+F46) -> 0.82851948 | H46: =C46*$B$17 -> 0.250308
A47: Scenario C | B47: 0.15 | C47: =B47*$B$8 -> 1.25154 | D47: =$B$8-C47 -> 7.09206 | E47: =D47*$B$15 -> 7.09206 | F47: =C47*$B$16 -> 0.00876078 | G47: =$C$8-(E47+F47) -> 1.2427792 | H47: =C47*$B$17 -> 0.375462
A48: Scenario D | B48: 0.2 | C48: =B48*$B$8 -> 1.66872 | D48: =$B$8-C48 -> 6.67488 | E48: =D48*$B$15 -> 6.67488 | F48: =C48*$B$16 -> 0.01168104 | G48: =$C$8-(E48+F48) -> 1.657039 | H48: =C48*$B$17 -> 0.500616
A51: OCEANIA
A52: Total PK Production | B52: Substitution rate | C52: Quantity Substituted(Mt) | D52: Remaining Quantity of PK produced (Mt) | E52: GWP from Remaining Quantity Produced (Mt CO2) | F52: GWP from Basalt fertiliser produced (Mt CO2) | G52: Avoided GWP from basalt substitution (Mt CO2) | H52: Potential Carbon Capture (Mt)
A53: Scenario A | B53: 0.05 | C53: =B53*$B$9 -> 0.08568 | D53: =$B$9-C53 -> 1.62792 | E53: =D53*$B$15 -> 1.62792 | F53: =C53*$B$16 -> 0.00059976 | G53: =$C$9-(E53+F53) -> 0.08508024 | H53: =C53*$B$17 -> 0.025704
A54: Scenario B | B54: 0.1 | C54: =B54*$B$9 -> 0.17136 | D54: =$B$9-C54 -> 1.54224 | E54: =D54*$B$15 -> 1.54224 | F54: =C54*$B$16 -> 0.00119952 | G54: =$C$9-(E54+F54) -> 0.17016048 | H54: =C54*$B$17 -> 0.051408
A55: Scenario C | B55: 0.15 | C55: =B55*$B$9 -> 0.25704 | D55: =$B$9-C55 -> 1.45656 | E55: =D55*$B$15 -> 1.45656 | F55: =C55*$B$16 -> 0.00179928 | G55: =$C$9-(E55+F55) -> 0.25524072 | H55: =C55*$B$17 -> 0.077112
A56: Scenario D | B56: 0.2 | C56: =B56*$B$9 -> 0.34272 | D56: =$B$9-C56 -> 1.37088 | E56: =D56*$B$15 -> 1.37088 | F56: =C56*$B$16 -> 0.00239904 | G56: =$C$9-(E56+F56) -> 0.34032096 | H56: =C56*$B$17 -> 0.102816
