Workbook

Sheet Title

Sheet Content
A1: This document contains the following supplementary results and data:
A2: Table S1: | B2: Description of Environmental Impacts
A3: Table S2: | B3: LCIA results of Basalt Rock dust Fertiliser
A4: Table S3: | B4: LCIA Results of Single Superphosphate fertiliser
A5: Table S4: | B5: LCIA Results of Triple Superphosphate Fertiliser
A6: Table S5: | B6: LCIA Results of Potassium Chloride fertiliser
A7: Table S6: | B7: LCIA Results of Potassium Carbonate Fertiliser
A8: Table S7: | B8: LCIA Results of Potassium Hydroxide Fertiliser
A9: Table S8: | B9: Overall LCIA Impact of Fertilisers
A10: Table S9: | B10: Uncertainty Runs using Monte Carlo Analysis
A11: Table S10a: | B11: Results of Uncertainty Analysis (Deterministic LCA)
A12: Table S10b: | B12: Results of Uncertainty Analysis (Impact Category Relevance)
A13: Table S11: | B13: Substitution Scenarios (Hypothetical)

Sheet Table S1
B1: Table S1: Description of Environmental Impacts | C1: Unit
B2: Global warming potential: Measure of greenhouse gas emissions over 100 years | C2: kg CO2-e Carbon dioxide equivalent
B3: Acidification Potential: Measures of potential release of acid into surface waters and soils | C3: kg NO2-e Sulphur Oxide eqivalent
B4: Eutrophication Potential: Measures of water pollution caused by increased nutrients | C4: kg NO2-e Nitrogen Oxide eqivalent
B5: Land use: Measures of land occupation and loss of biodiversity | C5: M2a Square-metre-years
B6: Fresh water aquatic ecotoxicity (FAETP 100a): Measures of fresh water ecosystems impact from toxic emissions to water within 100-year period | C6: 1, 4 DCB Dichlorobenzene equivalent
B7: Fresh water sediment ecotoxicity (FSETP 100a): Measures of fresh water sediment ecosystem impact from toxic emissions to water within a 100-year period | C7: 1, 4 DCB Dichlorobenzene equivalent
B8: Marine water aquatic ecotoxicity (MAETP 100a): Measures of toxic substances released on marine aquatic ecosystem | C8: 1, 4 DCB Dichlorobenzene equivalent
B9: Marine water sediment ecotoxicity (MSETP 100a): Measures of toxic substance release on marine sediment ecosystem | C9: 1, 4 DCB Dichlorobenzene equivalent
B10: Human Toxicity Impact (HTP 100a): Measures of harmful toxic substances release to humans within a 100-year period | C10: 1, 4 DCB Dichlorobenzene equivalent
B11: Terrestrial ecotoxicity (TAETP 100a): Measures of toxic substances release to terrestrial ecosystem within a 100-year period | C11: 1, 4 DCB Dichlorobenzene equivalent
B12: Ionising radiation: Measures of exposure to harmful rays (gamma, alpha, etc) to humans | C12: DALYs Disability-adjusted-life-years
B13: Malodous air: Measures of air pollution
B14: Damage to Ecosystem Quality: expressed as the loss of species over a certain area, during a certain time | C14: % plant species *m2* yr
B15: Damage to Human Health: expressed as the number of year life lost and the number of years lived disabled. | C15: DALYs Disability-adjusted-life-years
B16: Damage to Resources: on resources is a measure of the surplus or extra energy required in the future to extract minerals and fossil resources. | C16: MJ surplus energy

Sheet Table S2
A1: Table S2: LCIA Results of BasaltRock Dust Fertiliser
A3: Unit Process Exchanges(material and energy) for 1kg of basalt | B3: Qty | C3: Unit for Qty | D3: Climate change/kg | E3: Climate change impact | F3: Acidification/kg | G3: Acidification impact | H3: Eutrophication/kg | I3: Eutrophication Impact | J3: FAETP/kg | K3: FAETP impact | L3: FSETP/kg | M3: FSETP impact | N3: MAETP/kg | O3: MAETP impact | P3: MSETP/kg | Q3: MSETP impact | R3: Terrestrial ecotoxicity | S3: Terrestrial ecotoxity | T3: Human Toxicity/kg | U3: HTP impact | V3: Ionising Radiation | W3: Ionising Radiation impact | X3: Maladous air | Y3: Maladous air impact | Z3: Land use | AA3: Land use impact | AB3: Ecosystem quality | AC3: Ecosystem quality impact | AD3: Human health | AE3: Human Health impact | AF3: Resources | AG3: Resources impact
A4: alkyd paint, white, without solvent, in 60% solution state | B4: 2.9996e-06 | C4: kg | D4: 6.7269 | E4: =B4*D4 -> 2.0178009e-05 | F4: 0.03772 | G4: =B4*F4 -> 1.1314491e-07 | H4: 0.01715 | I4: =B4*H4 -> 5.144314e-08 | J4: 3.2889 | K4: =B4*J4 -> 9.8653844e-06 | L4: 7.1171 | M4: =B4*L4 -> 2.1348453e-05 | N4: 9.782 | O4: =B4*N4 -> 2.9342087e-05 | P4: 10.86 | Q4: =B4*P4 -> 3.2575656e-05 | R4: 0.21938 | S4: =B4*R4 -> 6.5805225e-07 | T4: 3.8814 | U4: =B4*T4 -> 1.1642647e-05 | V4: 6.4733e-09 | W4: =B4*V4 -> 1.9417311e-14 | X4: 387490 | Y4: =B4*X4 -> 1.162315 | Z4: 1.9559 | AA4: =B4*Z4 -> 5.8669176e-06 | AB4: 0.2439 | AC4: =B4*AB4 -> 7.3160244e-07 | AD4: 0.21012 | AE4: =B4*AD4 -> 6.3027595e-07 | AF4: 0.17128 | AG4: =B4*AF4 -> 5.1377149e-07
A5: blasting | B5: 7.729e-05 | C5: kg | D5: 5.7949 | E5: =B5*D5 -> 0.00044788782 | F5: 0.28571 | G5: =B5*F5 -> 2.2082526e-05 | H5: 0.67679 | I5: =B5*H5 -> 5.2309099e-05 | J5: 1.6868 | K5: =B5*J5 -> 0.00013037277 | L5: 3.5877 | M5: =B5*L5 -> 0.00027729333 | N5: 6.4004 | O5: =B5*N5 -> 0.00049468692 | P5: 6.7955 | Q5: =B5*P5 -> 0.0005252242 | R5: 0.012005 | S5: =B5*R5 -> 9.2786645e-07 | T5: 5.1797 | U5: =B5*T5 -> 0.00040033901 | V5: 3.5567e-09 | W5: =B5*V5 -> 2.7489734e-13 | X5: 129080 | Y5: =B5*X5 -> 9.9765932 | Z5: 0.36724 | AA5: =B5*Z5 -> 2.838398e-05 | AB5: 0.4087 | AC5: =B5*AB5 -> 3.1588423e-05 | AD5: 0.89722 | AE5: =B5*AD5 -> 6.9346134e-05 | AF5: 0.11808 | AG5: =B5*AF5 -> 9.1264032e-06
A6: chemical, organic | B6: 3.5995e-07 | C6: kg | D6: 1.9032 | E6: =B6*D6 -> 6.8505684e-07 | F6: 0.0073567 | G6: =B6*F6 -> 2.6480442e-09 | H6: 0.0049324 | I6: =B6*H6 -> 1.7754174e-09 | J6: 0.35089 | K6: =B6*J6 -> 1.2630286e-07 | L6: 0.71151 | M6: =B6*L6 -> 2.5610802e-07 | N6: 1.3674 | O6: =B6*N6 -> 4.9219563e-07 | P6: 1.3881 | Q6: =B6*P6 -> 4.9964659e-07 | R6: 0.00037065 | S6: =B6*R6 -> 1.3341547e-10 | T6: 1.9919 | U6: =B6*T6 -> 7.169844e-07 | V6: 1.6657e-09 | W6: =B6*V6 -> 5.9956871e-16 | X6: 36912 | Y6: =B6*X6 -> 0.013286474 | Z6: 0.039068 | AA6: =B6*Z6 -> 1.4062527e-08 | AB6: 0.011828 | AC6: =B6*AB6 -> 4.2574886e-09 | AD6: 0.042353 | AE6: =B6*AD6 -> 1.5244962e-08 | AF6: 0.15723 | AG6: =B6*AF6 -> 5.6594939e-08
A7: diesel, burned in building machine (crushing and grinding) | B7: 0.041394 | C7: MJ | D7: 0.092972 | E7: =B7*D7 -> 0.003848483 | F7: 0.0006977 | G7: =B7*F7 -> 2.8880594e-05 | H7: 0.0013015 | I7: =B7*H7 -> 5.3874291e-05 | J7: 0.0050382 | K7: =B7*J7 -> 0.00020855125 | L7: 0.011174 | M7: =B7*L7 -> 0.00046253656 | N7: 0.021417 | O7: =B7*N7 -> 0.0008865353 | P7: 0.024258 | Q7: =B7*P7 -> 0.0010041357 | R7: 8.77e-06 | S7: =B7*R7 -> 3.6302538e-07 | T7: 0.057452 | U7: =B7*T7 -> 0.0023781681 | V7: 1.2985e-10 | W7: =B7*V7 -> 5.3750109e-12 | X7: 146.94 | Y7: =B7*X7 -> 6.0824344 | Z7: 0.00044385 | AA7: =B7*Z7 -> 1.8372727e-05 | AB7: 0.00074614 | AC7: =B7*AB7 -> 3.0885719e-05 | AD7: 0.0039958 | AE7: =B7*AD7 -> 0.00016540215 | AF7: 0.0037296 | AG7: =B7*AF7 -> 0.00015438306
A8: electricity, medium voltage (mining) | B8: 0.0062092 | C8: kWh | D8: 0.44363 | E8: =B8*D8 -> 0.0027545874 | F8: 0.0021365 | G8: =B8*F8 -> 1.3265956e-05 | H8: 0.0010767 | I8: =B8*H8 -> 6.6854456e-06 | J8: 0.26844 | K8: =B8*J8 -> 0.0016667976 | L8: 0.57791 | M8: =B8*L8 -> 0.0035883588 | N8: 0.94176 | O8: =B8*N8 -> 0.0058475762 | P8: 0.99191 | Q8: =B8*P8 -> 0.0061589676 | R8: 0.00015262 | S8: =B8*R8 -> 9.476481e-07 | T8: 0.075934 | U8: =B8*T8 -> 0.00047148939 | V8: 4.9062e-09 | W8: =B8*V8 -> 3.0463577e-11 | X8: 2996.8 | Y8: =B8*X8 -> 18.607731 | Z8: 0.050367 | AA8: =B8*Z8 -> 0.00031273878 | AB8: 0.0078863 | AC8: =B8*AB8 -> 4.8967614e-05 | AD8: 0.010615 | AE8: =B8*AD8 -> 6.5910658e-05 | AF8: 0.011951 | AG8: =B8*AF8 -> 7.4206149e-05
A9: heat, district or industrial, other than natural gas | B9: 0.00029731 | C9: MJ | D9: 0.071548 | E9: =B9*D9 -> 2.1271936e-05 | F9: 0.00048863 | G9: =B9*F9 -> 1.4527459e-07 | H9: 0.00019918 | I9: =B9*H9 -> 5.9218206e-08 | J9: 0.012114 | K9: =B9*J9 -> 3.6016133e-06 | L9: 0.025181 | M9: =B9*L9 -> 7.4865631e-06 | N9: 0.053936 | O9: =B9*N9 -> 1.6035712e-05 | P9: 0.054987 | Q9: =B9*P9 -> 1.6348185e-05 | R9: 5.5198e-05 | S9: =B9*R9 -> 1.6410917e-08 | T9: 0.02196 | U9: =B9*T9 -> 6.5289276e-06 | V9: 1.1763e-10 | W9: =B9*V9 -> 3.4972575e-14 | X9: 255.51 | Y9: =B9*X9 -> 0.075965678 | Z9: 0.028254 | AA9: =B9*Z9 -> 8.4001967e-06 | AB9: 0.0033687 | AC9: =B9*AB9 -> 1.0015482e-06 | AD9: 0.0037308 | AE9: =B9*AD9 -> 1.1092041e-06 | AF9: 0.0019807 | AG9: =B9*AF9 -> 5.8888192e-07
A10: lubricating oil | B10: 5.3993e-05 | C10: kg | D10: 1.4356 | E10: =B10*D10 -> 7.7512351e-05 | F10: 0.0090509 | G10: =B10*F10 -> 4.8868524e-07 | H10: 0.0042753 | I10: =B10*H10 -> 2.3083627e-07 | J10: 0.41839 | K10: =B10*J10 -> 2.2590131e-05 | L10: 0.87321 | M10: =B10*L10 -> 4.7147228e-05 | N10: 1.6166 | O10: =B10*N10 -> 8.7285084e-05 | P10: 1.6742 | Q10: =B10*P10 -> 9.0395081e-05 | R10: 0.00047705 | S10: =B10*R10 -> 2.5757361e-08 | T10: 0.72134 | U10: =B10*T10 -> 3.8947311e-05 | V10: 6.1223e-09 | W10: =B10*V10 -> 3.3056134e-13 | X10: 13259 | Y10: =B10*X10 -> 0.71589319 | Z10: 0.065921 | AA10: =B10*Z10 -> 3.5592726e-06 | AB10: 0.01501 | AC10: =B10*AB10 -> 8.1043493e-07 | AD10: 0.044834 | AE10: =B10*AD10 -> 2.4207222e-06 | AF10: 0.17792 | AG10: =B10*AF10 -> 9.6064346e-06
A13: Basalt is exploited in open-pit quarries..The module includes a mining step and a subsequent benefication step comprising crushing, washing and classification.

Sheet Table S3
A1: Table S3: LCIA Results of Single Superphosphate Fertiliser
A3: Unit Process Exchanges(material and energy) for 1kg of single superphosphate (SSP) | B3: Qty | C3: Unit for Qty | D3: Climate change/kg | E3: Climate change impact | F3: Acidification/kg | G3: Acidification impact | H3: Eutrophication/kg | I3: Eutrophication Impact | J3: FAETP/kg | K3: FAETP impact | L3: FSETP/kg | M3: FSETP impact | N3: MAETP/kg | O3: MAETP impact | P3: MSETP/kg | Q3: MSETP impact | R3: Terrestrial ecotoxicity | S3: Terrestrial ecotoxity | T3: Human Toxicity/kg | U3: HTP impact | V3: Ionising Radiation | W3: Ionising Radiation impact | X3: Maladous air | Y3: Maladous air impact | Z3: Land use | AA3: Land use impact | AB3: Ecosystem quality | AC3: Ecosystem quality impact | AD3: Human health | AE3: Human Health impact | AF3: Resources | AG3: Resources impact
A4: Sulfuric acid | B4: 1.75 | C4: kg | D4: 0.16111 | E4: =B4*D4 -> 0.2819425 | F4: 0.0075276 | G4: =B4*F4 -> 0.0131733 | H4: 0.0014334 | I4: =B4*H4 -> 0.00250845 | J4: 0.21349 | K4: =B4*J4 -> 0.3736075 | L4: 0.42998 | M4: =B4*L4 -> 0.752465 | N4: 0.76953 | O4: =B4*N4 -> 1.3466775 | P4: 0.78345 | Q4: =B4*P4 -> 1.3710375 | R4: 0.00010046 | S4: =B4*R4 -> 0.000175805 | T4: 0.19908 | U4: =B4*T4 -> 0.34839 | V4: 6.4523e-10 | W4: =B4*V4 -> 1.1291525e-09 | X4: 3478 | Y4: =B4*X4 -> 6086.5 | Z4: 0.020748 | AA4: =B4*Z4 -> 0.036309 | AB4: 0.0075799 | AC4: =B4*AB4 -> 0.013264825 | AD4: 0.025633 | AE4: =B4*AD4 -> 0.04485775 | AF4: 0.019058 | AG4: =B4*AF4 -> 0.0333515
A5: electricity, medium voltage | B5: 1.85 | C5: kWh | D5: 0.44363 | E5: =B5*D5 -> 0.8207155 | F5: 0.0021365 | G5: =B5*F5 -> 0.003952525 | H5: 0.0010767 | I5: =B5*H5 -> 0.001991895 | J5: 0.26844 | K5: =B5*J5 -> 0.496614 | L5: 0.57791 | M5: =B5*L5 -> 1.0691335 | N5: 0.94176 | O5: =B5*N5 -> 1.742256 | P5: 0.99191 | Q5: =B5*P5 -> 1.8350335 | R5: 0.00015262 | S5: =B5*R5 -> 0.000282347 | T5: 0.075934 | U5: =B5*T5 -> 0.1404779 | V5: 4.9062e-09 | W5: =B5*V5 -> 9.07647e-09 | X5: 2996.8 | Y5: =B5*X5 -> 5544.08 | Z5: 0.050367 | AA5: =B5*Z5 -> 0.09317895 | AB5: 0.0078863 | AC5: =B5*AB5 -> 0.014589655 | AD5: 0.010615 | AE5: =B5*AD5 -> 0.01963775 | AF5: 0.011951 | AG5: =B5*AF5 -> 0.02210935
A6: phosphate rock, as P2O5, beneficiated, dry | B6: 1 | C6: kg | D6: 0.30681 | E6: =B6*D6 -> 0.30681 | F6: 0.0021911 | G6: =B6*F6 -> 0.0021911 | H6: 0.0015411 | I6: =B6*H6 -> 0.0015411 | J6: 0.073962 | K6: =B6*J6 -> 0.073962 | L6: 0.15617 | M6: =B6*L6 -> 0.15617 | N6: 0.28175 | O6: =B6*N6 -> 0.28175 | P6: 0.30484 | Q6: =B6*P6 -> 0.30484 | R6: 0.0030955 | S6: =B6*R6 -> 0.0030955 | T6: 0.097928 | U6: =B6*T6 -> 0.097928 | V6: 7.997e-10 | W6: =B6*V6 -> 7.997e-10 | X6: 2717.7 | Y6: =B6*X6 -> 2717.7 | Z6: 0.040273 | AA6: =B6*Z6 -> 0.040273 | AB6: 0.0034569 | AC6: =B6*AB6 -> 0.0034569 | AD6: 0.023351 | AE6: =B6*AD6 -> 0.023351 | AF6: 0.0096706 | AG6: =B6*AF6 -> 0.0096706
A9: Refers to 1 kg P2O5, resp. 4.76 kg single superphosphate with a P2O5-content of 21.0%The unit process inventory takes into account the production of single superphosphate from sulphuric acid and rock phosphate. Transports of raw materials and intermediate products to the fertiliser plant were included as well as the transport of the fertiliser product from the factory to the regional department store. Production and waste treatment of catalysts, coating and packaging of the final fertiliser products were not included.

Sheet Table S4
A1: Table S4: LCIA Results of Triple Superphiosphate Fertiliser
A3: Unit Process Exchanges(material and energy) for 1kg triple superphosphate (TSP) | B3: Qty | C3: Unit for Qty | D3: Climate change/kg | E3: Climate change impact | F3: Acidification/kg | G3: Acidification impact | H3: Eutrophication/kg | I3: Eutrophication Impact | J3: FAETP/kg | K3: FAETP impact | L3: FSETP/kg | M3: FSETP impact | N3: MAETP/kg | O3: MAETP impact | P3: MSETP/kg | Q3: MSETP impact | R3: Terrestrial ecotoxicity | S3: Terrestrial ecotoxity | T3: Human Toxicity/kg | U3: HTP impact | V3: Ionising Radiation | W3: Ionising Radiation impact | X3: Maladous air | Y3: Maladous air impact | Z3: Land use | AA3: Land use impact | AB3: Ecosystem quality | AC3: Ecosystem quality impact | AD3: Human health | AE3: Human Health impact | AF3: Resources | AG3: Resources impact
A4: electricity, medium voltage | B4: 0.752 | C4: kWh | D4: 0.44363 | E4: =B4*D4 -> 0.33360976 | F4: 0.0021365 | G4: =B4*F4 -> 0.001606648 | H4: 0.0010767 | I4: =B4*H4 -> 0.0008096784 | J4: 0.26844 | K4: =B4*J4 -> 0.20186688 | L4: 0.57791 | M4: =B4*L4 -> 0.43458832 | N4: 0.94176 | O4: =B4*N4 -> 0.70820352 | P4: 0.99191 | Q4: =B4*P4 -> 0.74591632 | R4: 0.00015262 | S4: =B4*R4 -> 0.00011477024 | T4: 0.075934 | U4: =B4*T4 -> 0.057102368 | V4: 4.9062e-09 | W4: =B4*V4 -> 3.6894624e-09 | X4: 2996.8 | Y4: =B4*X4 -> 2253.5936 | Z4: 0.050367 | AA4: =B4*Z4 -> 0.037875984 | AB4: 0.0078863 | AC4: =B4*AB4 -> 0.0059304976 | AD4: 0.010615 | AE4: =B4*AD4 -> 0.00798248 | AF4: 0.011951 | AG4: =B4*AF4 -> 0.008987152
A5: heat, district or industrial, natural gas | B5: 1.46 | C5: MJ | D5: 0.071548 | E5: =B5*D5 -> 0.10446008 | F5: 0.00048863 | G5: =B5*F5 -> 0.0007133998 | H5: 0.00019918 | I5: =B5*H5 -> 0.0002908028 | J5: 0.012114 | K5: =B5*J5 -> 0.01768644 | L5: 0.025181 | M5: =B5*L5 -> 0.03676426 | N5: 0.053936 | O5: =B5*N5 -> 0.07874656 | P5: 0.054987 | Q5: =B5*P5 -> 0.08028102 | R5: 5.5198e-05 | S5: =B5*R5 -> 8.058908e-05 | T5: 0.02196 | U5: =B5*T5 -> 0.0320616 | V5: 1.1763e-10 | W5: =B5*V5 -> 1.717398e-10 | X5: 255.51 | Y5: =B5*X5 -> 373.0446 | Z5: 0.028254 | AA5: =B5*Z5 -> 0.04125084 | AB5: 0.0033687 | AC5: =B5*AB5 -> 0.004918302 | AD5: 0.0037308 | AE5: =B5*AD5 -> 0.005446968 | AF5: 0.0019807 | AG5: =B5*AF5 -> 0.002891822
A6: phosphoric acid, fertiliser grade, without water, in 70% solution state | B6: 0.966 | C6: kg | D6: 0.95223 | E6: =B6*D6 -> 0.91985418 | F6: 0.018932 | G6: =B6*F6 -> 0.018288312 | H6: 0.0048973 | I6: =B6*H6 -> 0.0047307918 | J6: 0.59467 | K6: =B6*J6 -> 0.57445122 | L6: 1.2147 | M6: =B6*L6 -> 1.1734002 | N6: 2.3308 | O6: =B6*N6 -> 2.2515528 | P6: 2.4642 | Q6: =B6*P6 -> 2.3804172 | R6: 0.0047555 | S6: =B6*R6 -> 0.004593813 | T6: 0.55949 | U6: =B6*T6 -> 0.54046734 | V6: 2.7562e-09 | W6: =B6*V6 -> 2.6624892e-09 | X6: 13368 | Y6: =B6*X6 -> 12913.488 | Z6: 0.54227 | AA6: =B6*Z6 -> 0.52383282 | AB6: 0.020673 | AC6: =B6*AB6 -> 0.019970118 | AD6: 0.094591 | AE6: =B6*AD6 -> 0.091374906 | AF6: 0.057439 | AG6: =B6*AF6 -> 0.055486074
A7: phosphate rock, as P2O5, beneficiated, dry | B7: 0.3 | C7: kg | D7: 0.30681 | E7: =B7*D7 -> 0.092043 | F7: 0.0021911 | G7: =B7*F7 -> 0.00065733 | H7: 0.0015411 | I7: =B7*H7 -> 0.00046233 | J7: 0.073962 | K7: =B7*J7 -> 0.0221886 | L7: 0.15617 | M7: =B7*L7 -> 0.046851 | N7: 0.28175 | O7: =B7*N7 -> 0.084525 | P7: 0.30484 | Q7: =B7*P7 -> 0.091452 | R7: 0.0030955 | S7: =B7*R7 -> 0.00092865 | T7: 0.097928 | U7: =B7*T7 -> 0.0293784 | V7: 7.997e-10 | W7: =B7*V7 -> 2.3991e-10 | X7: 2717.7 | Y7: =B7*X7 -> 815.31 | Z7: 0.040273 | AA7: =B7*Z7 -> 0.0120819 | AB7: 0.0034569 | AC7: =B7*AB7 -> 0.00103707 | AD7: 0.023351 | AE7: =B7*AD7 -> 0.0070053 | AF7: 0.0096706 | AG7: =B7*AF7 -> 0.00290118
A9: Refers to 1 kg P2O5, resp. 2.08 kg triple superphosphate with a P2O5-content of 48.0%The unit process inventory takes into account the production of triple superphosphate from phosphoric acid and rock phosphate. Transports of raw materials and intermediate products to the fertiliser plant as well as the transport of the fertiliser product from the factory to the regional department store were included. Production and waste treatment of catalysts, coating and packaging of the final fertiliser products were not included.

Sheet Table S5
A1: Table S5: LCIA Results of Potassium Chloride Fertiliser
A3: Unit Process Exchanges(material and energy) for 1kg of Potassium chloride (KCl) | B3: Qty | C3: Unit for Qty | D3: Climate change/kg | E3: Climate change impact | F3: Acidification/kg | G3: Acidification impact | H3: Eutrophication/kg | I3: Eutrophication Impact | J3: FAETP/kg | K3: FAETP impact | L3: FSETP/kg | M3: FSETP impact | N3: MAETP/kg | O3: MAETP impact | P3: MSETP/kg | Q3: MSETP impact | R3: Terrestrial ecotoxicity | S3: Terrestrial ecotoxity | T3: Human Toxicity/kg | U3: HTP impact | V3: Ionising Radiation | W3: Ionising Radiation impact | X3: Maladous air | Y3: Maladous air impact | Z3: Land use | AA3: Land use impact | AB3: Ecosystem quality | AC3: Ecosystem quality impact | AD3: Human health | AE3: Human Health impact | AF3: Resources | AG3: Resources impact
A4: diesel, burned in building machine | B4: 0.040298 | C4: MJ | D4: 0.092972 | E4: =B4*D4 -> 0.0037465857 | F4: 0.0006977 | G4: =B4*F4 -> 2.8115915e-05 | H4: 0.0013015 | I4: =B4*H4 -> 5.2447847e-05 | J4: 0.0050382 | K4: =B4*J4 -> 0.00020302938 | L4: 0.011174 | M4: =B4*L4 -> 0.00045028985 | N4: 0.021417 | O4: =B4*N4 -> 0.00086306227 | P4: 0.024258 | Q4: =B4*P4 -> 0.00097754888 | R4: 8.77e-06 | S4: =B4*R4 -> 3.5341346e-07 | T4: 0.057452 | U4: =B4*T4 -> 0.0023152007 | V4: 1.2073e-10 | W4: =B4*V4 -> 4.8651775e-12 | X4: 145.82 | Y4: =B4*X4 -> 5.8762544 | Z4: 0.00044385 | AA4: =B4*Z4 -> 1.7886267e-05 | AB4: 0.00074614 | AC4: =B4*AB4 -> 3.006795e-05 | AD4: 0.0039958 | AE4: =B4*AD4 -> 0.00016102275 | AF4: 0.0037296 | AG4: =B4*AF4 -> 0.00015029542
A5: electricity, medium voltage | B5: 0.11999 | C5: kWh | D5: 0.73794 | E5: =B5*D5 -> 0.088545421 | F5: 0.002867 | G5: =B5*F5 -> 0.00034401133 | H5: 0.0013014 | I5: =B5*H5 -> 0.00015615499 | J5: 0.71603 | K5: =B5*J5 -> 0.08591644 | L5: 1.5228 | M5: =B5*L5 -> 0.18272077 | N5: 2.4845 | O5: =B5*N5 -> 0.29811516 | P5: 2.5529 | Q5: =B5*P5 -> 0.30632247 | R5: 0.00011713 | S5: =B5*R5 -> 1.4054429e-05 | T5: 0.077522 | U5: =B5*T5 -> 0.0093018648 | V5: 5.1317e-11 | W5: =B5*V5 -> 6.1575268e-12 | X5: 4909.3 | Y5: =B5*X5 -> 589.06691 | Z5: 0.0020338 | AA5: =B5*Z5 -> 0.00024403566 | AB5: 0.0034878 | AC5: =B5*AB5 -> 0.00041850112 | AD5: 0.014929 | AE5: =B5*AD5 -> 0.0017913307 | AF5: 0.016894 | AG5: =B5*AF5 -> 0.0020271111
A6: salt tailing from potash mine | B6: -4.5798 | C6: kg | D6: 0.011456 | E6: =B6*D6 -> -0.052466189 | F6: 7.3582e-05 | G6: =B6*F6 -> -0.00033699084 | H6: 8.813e-05 | I6: =B6*H6 -> -0.00040361777 | J6: 0.001565 | K6: =B6*J6 -> -0.007167387 | L6: 0.0033657 | M6: =B6*L6 -> -0.015414233 | N6: 0.0067822 | O6: =B6*N6 -> -0.03106112 | P6: 0.0073821 | Q6: =B6*P6 -> -0.033808542 | R6: 4.1223e-06 | S6: =B6*R6 -> -1.887931e-05 | T6: 0.0044815 | U6: =B6*T6 -> -0.020524374 | V6: 2.9943e-11 | W6: =B6*V6 -> -1.3713295e-10 | X6: 202.51 | Y6: =B6*X6 -> -927.4553 | Z6: 0.0066172 | AA6: =B6*Z6 -> -0.030305453 | AB6: 0.00057268 | AC6: =B6*AB6 -> -0.0026227599 | AD6: 0.00036679 | AE6: =B6*AD6 -> -0.0016798248 | AF6: 0.0008506 | AG6: =B6*AF6 -> -0.0038955779
A7: heat, district or industrial, natural gas | B7: 0.87095 | C7: MJ | D7: 0.036587 | E7: =B7*D7 -> 0.031865448 | F7: 4.5424e-05 | G7: =B7*F7 -> 3.9562033e-05 | H7: 4.0173e-05 | I7: =B7*H7 -> 3.4988674e-05 | J7: 0.0011161 | K7: =B7*J7 -> 0.0009720673 | L7: 0.0023758 | M7: =B7*L7 -> 0.002069203 | N7: 0.0042832 | O7: =B7*N7 -> 0.003730453 | P7: 0.0044685 | Q7: =B7*P7 -> 0.0038918401 | R7: 1.7153e-06 | S7: =B7*R7 -> 1.4939405e-06 | T7: 0.0039164 | U7: =B7*T7 -> 0.0034109886 | V7: 2.4189e-12 | W7: =B7*V7 -> 2.106741e-12 | X7: 2039.3 | Y7: =B7*X7 -> 1776.1283 | Z7: 8.395e-05 | AA7: =B7*Z7 -> 7.3116252e-05 | AB7: 5.552e-05 | AC7: =B7*AB7 -> 4.8355144e-05 | AD7: 0.00027932 | AE7: =B7*AD7 -> 0.00024327375 | AF7: 0.0017428 | AG7: =B7*AF7 -> 0.0015178917
A11: Potassium chloride production process starting from underground mining of potash salts.This activity ends with dried potassium chloride at factory gate. the dataset includes the mining of potash salts, the processes of concentration of the potassium chloride, conditioning and drying. The use of the resource sylvinite was accounted for as well as the disposal of the salt residues on heaps and to rivers. Treatment of other wastes was included. Infrastructure was included by means of a proxy module. Coating and packaging of the final fertiliser products were not included.

Sheet Table S6
A1: Table S6: LCIA Results of Potassium Carbonate Fertiliser
A3: Unit Process Exchanges(material and energy) for 1kg of potassium carbonate (K2CO3) | B3: Qty | C3: Unit for Qty | D3: Climate change/kg | E3: Climate change impact | F3: Acidification/kg | G3: Acidification impact | H3: Eutrophication/kg | I3: Eutrophication Impact | J3: FAETP/kg | K3: FAETP impact | L3: FSETP/kg | M3: FSETP impact | N3: MAETP/kg | O3: MAETP impact | P3: MSETP/kg | Q3: MSETP impact | R3: Terrestrial ecotoxicity | S3: Terrestrial ecotoxity | T3: Human Toxicity/kg | U3: HTP impact | V3: Ionising Radiation | W3: Ionising Radiation impact | X3: Maladous air | Y3: Maladous air impact | Z3: Land use | AA3: Land use impact | AB3: Ecosystem quality | AC3: Ecosystem quality impact | AD3: Human health | AE3: Human Health impact | AF3: Resources | AG3: Resources impact
A4: carbon dioxide, liquid | B4: 0.27726 | C4: kg | D4: 0.87572 | E4: =B4*D4 -> 0.24280213 | F4: 0.0028314 | G4: =B4*F4 -> 0.00078503396 | H4: 0.0015144 | I4: =B4*H4 -> 0.00041988254 | J4: 0.25061 | K4: =B4*J4 -> 0.069484129 | L4: 0.52507 | M4: =B4*L4 -> 0.14558091 | N4: 0.91191 | O4: =B4*N4 -> 0.25283617 | P4: 0.942 | Q4: =B4*P4 -> 0.26117892 | R4: 0.00014977 | S4: =B4*R4 -> 4.152523e-05 | T4: 1.1868 | U4: =B4*T4 -> 0.32905217 | V4: 9.37e-10 | W4: =B4*V4 -> 2.5979262e-10 | X4: 8734.3 | Y4: =B4*X4 -> 2421.672 | Z4: 0.033398 | AA4: =B4*Z4 -> 0.0092599295 | AB4: 0.0072312 | AC4: =B4*AB4 -> 0.0020049225 | AD4: 0.02461 | AE4: =B4*AD4 -> 0.0068233686 | AF4: 0.020686 | AG4: =B4*AF4 -> 0.0057354004
A5: electricity, medium voltage | B5: 0.416 | C5: kWh | D5: 0.77564 | E5: =B5*D5 -> 0.32266624 | F5: 0.0034254 | G5: =B5*F5 -> 0.0014249664 | H5: 0.0018931 | I5: =B5*H5 -> 0.0007875296 | J5: 0.28764 | K5: =B5*J5 -> 0.11965824 | L5: 0.6172 | M5: =B5*L5 -> 0.2567552 | N5: 1.0227 | O5: =B5*N5 -> 0.4254432 | P5: 1.069 | Q5: =B5*P5 -> 0.444704 | R5: 0.00012921 | S5: =B5*R5 -> 5.375136e-05 | T5: 0.12502 | U5: =B5*T5 -> 0.05200832 | V5: 2.2479e-09 | W5: =B5*V5 -> 9.351264e-10 | X5: 4103.6 | Y5: =B5*X5 -> 1707.0976 | Z5: 0.022279 | AA5: =B5*Z5 -> 0.009268064 | AB5: 0.004777 | AC5: =B5*AB5 -> 0.001987232 | AD5: 0.026277 | AE5: =B5*AD5 -> 0.010931232 | AF5: 0.02079 | AG5: =B5*AF5 -> 0.00864864
A6: heat, from steam, in chemical industry | B6: 0.167 | C6: MJ | D6: 0.12435 | E6: =B6*D6 -> 0.02076645 | F6: 0.00042777 | G6: =B6*F6 -> 7.143759e-05 | H6: 0.00018108 | I6: =B6*H6 -> 3.024036e-05 | J6: 0.012802 | K6: =B6*J6 -> 0.002137934 | L6: 0.02728 | M6: =B6*L6 -> 0.00455576 | N6: 0.051429 | O6: =B6*N6 -> 0.008588643 | P6: 0.05395 | Q6: =B6*P6 -> 0.00900965 | R6: 1.0827e-05 | S6: =B6*R6 -> 1.808109e-06 | T6: 0.018386 | U6: =B6*T6 -> 0.003070462 | V6: 7.1459e-11 | W6: =B6*V6 -> 1.1933653e-11 | X6: 1324.2 | Y6: =B6*X6 -> 221.1414 | Z6: 0.00093486 | AA6: =B6*Z6 -> 0.00015612162 | AB6: 0.00038629 | AC6: =B6*AB6 -> 6.451043e-05 | AD6: 0.0016824 | AE6: =B6*AD6 -> 0.0002809608 | AF6: 0.0043094 | AG6: =B6*AF6 -> 0.0007196698
A7: nitrogen, liquid | B7: 0.014909 | C7: kg | D7: 0.48029 | E7: =B7*D7 -> 0.0071606436 | F7: 0.0021053 | G7: =B7*F7 -> 3.1387918e-05 | H7: 0.0011932 | I7: =B7*H7 -> 1.7789419e-05 | J7: 0.16605 | K7: =B7*J7 -> 0.0024756394 | L7: 0.35608 | M7: =B7*L7 -> 0.0053087967 | N7: 0.5924 | O7: =B7*N7 -> 0.0088320916 | P7: 0.61847 | Q7: =B7*P7 -> 0.0092207692 | R7: 7.2022e-05 | S7: =B7*R7 -> 1.073776e-06 | T7: 0.078847 | U7: =B7*T7 -> 0.0011755299 | V7: 9.8504e-10 | W7: =B7*V7 -> 1.4685961e-11 | X7: 2516.5 | Y7: =B7*X7 -> 37.518498 | Z7: 0.0097911 | AA7: =B7*Z7 -> 0.00014597551 | AB7: 0.002433 | AC7: =B7*AB7 -> 3.6273597e-05 | AD7: 0.016767 | AE7: =B7*AD7 -> 0.0002499792 | AF7: 0.032123 | AG7: =B7*AF7 -> 0.00047892181
A12: Potassium carbonate is used as a fertilizer for acidic soil.From the reception of potassium hydroxide and carbon dioxide at the factory gate.This activity ends with the production of potassium carbonate. The system includes the process with consumption of raw materials, energy, infrastructure and land use as well as the generation of emissions to air and water.

Sheet Table S7
A1: Table S7: LCIA Results of Potassium Hydroxide Fertiliser
A3: Unit Process Exchanges(material and energy) for 1kg of Potassium hydroxide (KOH) | B3: Qty | C3: Unit for Qty | D3: Climate change/kg | E3: Climate change impact | F3: Acidification/kg | G3: Acidification impact | H3: Eutrophication/kg | I3: Eutrophication Impact | J3: FAETP/kg | K3: FAETP impact | L3: FSETP/kg | M3: FSETP impact | N3: MAETP/kg | O3: MAETP impact | P3: MSETP/kg | Q3: MSETP impact | R3: Terrestrial ecotoxicity | S3: Terrestrial ecotoxity | T3: Human Toxicity/kg | U3: HTP impact | V3: Ionising Radiation | W3: Ionising Radiation impact | X3: Maladous air | Y3: Maladous air impact | Z3: Land use | AA3: Land use impact | AB3: Ecosystem quality | AC3: Ecosystem quality impact | AD3: Human health | AE3: Human Health impact | AF3: Resources | AG3: Resources impact
A4: potassium chloride, as K2O | B4: 0.040298 | C4: MJ | D4: 0.4525 | E4: =B4*D4 -> 0.018234845 | F4: 0.0021967 | G4: =B4*F4 -> 8.8522617e-05 | H4: 0.0017285 | I4: =B4*H4 -> 6.9655093e-05 | J4: 0.71179 | K4: =B4*J4 -> 0.028683713 | L4: 1.637 | M4: =B4*L4 -> 0.065967826 | N4: 2.4239 | O4: =B4*N4 -> 0.097678322 | P4: 2.9111 | Q4: =B4*P4 -> 0.11731151 | R4: 0.00024188 | S4: =B4*R4 -> 9.7472802e-06 | T4: 0.65955 | U4: =B4*T4 -> 0.026578546 | V4: 3.4873e-10 | W4: =B4*V4 -> 1.4053122e-11 | X4: 11316 | Y4: =B4*X4 -> 456.01217 | Z4: 0.066088 | AA4: =B4*Z4 -> 0.0026632142 | AB4: 0.016005 | AC4: =B4*AB4 -> 0.00064496949 | AD4: 0.020816 | AE4: =B4*AD4 -> 0.00083884317 | AF4: 0.020537 | AG4: =B4*AF4 -> 0.00082760003
A5: electricity, medium voltage | B5: 0.11999 | C5: kWh | D5: 0.73794 | E5: =B5*D5 -> 0.088545421 | F5: 0.002867 | G5: =B5*F5 -> 0.00034401133 | H5: 0.0013014 | I5: =B5*H5 -> 0.00015615499 | J5: 0.71603 | K5: =B5*J5 -> 0.08591644 | L5: 1.5228 | M5: =B5*L5 -> 0.18272077 | N5: 2.4845 | O5: =B5*N5 -> 0.29811516 | P5: 2.5529 | Q5: =B5*P5 -> 0.30632247 | R5: 0.00011713 | S5: =B5*R5 -> 1.4054429e-05 | T5: 0.077522 | U5: =B5*T5 -> 0.0093018648 | V5: 5.1317e-11 | W5: =B5*V5 -> 6.1575268e-12 | X5: 4909.3 | Y5: =B5*X5 -> 589.06691 | Z5: 0.0020338 | AA5: =B5*Z5 -> 0.00024403566 | AB5: 0.0034878 | AC5: =B5*AB5 -> 0.00041850112 | AD5: 0.014929 | AE5: =B5*AD5 -> 0.0017913307 | AF5: 0.016894 | AG5: =B5*AF5 -> 0.0020271111
A6: salt tailing from potash mine | B6: -4.5798 | C6: kg | D6: 0.011456 | E6: =B6*D6 -> -0.052466189 | F6: 7.3582e-05 | G6: =B6*F6 -> -0.00033699084 | H6: 8.813e-05 | I6: =B6*H6 -> -0.00040361777 | J6: 0.001565 | K6: =B6*J6 -> -0.007167387 | L6: 0.0033657 | M6: =B6*L6 -> -0.015414233 | N6: 0.0067822 | O6: =B6*N6 -> -0.03106112 | P6: 0.0073821 | Q6: =B6*P6 -> -0.033808542 | R6: 4.1223e-06 | S6: =B6*R6 -> -1.887931e-05 | T6: 0.0044815 | U6: =B6*T6 -> -0.020524374 | V6: 2.9943e-11 | W6: =B6*V6 -> -1.3713295e-10 | X6: 202.51 | Y6: =B6*X6 -> -927.4553 | Z6: 0.0066172 | AA6: =B6*Z6 -> -0.030305453 | AB6: 0.00057268 | AC6: =B6*AB6 -> -0.0026227599 | AD6: 0.00036679 | AE6: =B6*AD6 -> -0.0016798248 | AF6: 0.0008506 | AG6: =B6*AF6 -> -0.0038955779
A7: heat, district or industrial, natural gas | B7: 0.87095 | C7: MJ | D7: 0.036587 | E7: =B7*D7 -> 0.031865448 | F7: 4.5424e-05 | G7: =B7*F7 -> 3.9562033e-05 | H7: 4.0173e-05 | I7: =B7*H7 -> 3.4988674e-05 | J7: 0.0011161 | K7: =B7*J7 -> 0.0009720673 | L7: 0.0023758 | M7: =B7*L7 -> 0.002069203 | N7: 0.0042832 | O7: =B7*N7 -> 0.003730453 | P7: 0.0044685 | Q7: =B7*P7 -> 0.0038918401 | R7: 1.7153e-06 | S7: =B7*R7 -> 1.4939405e-06 | T7: 0.0039164 | U7: =B7*T7 -> 0.0034109886 | V7: 2.4189e-12 | W7: =B7*V7 -> 2.106741e-12 | X7: 2039.3 | Y7: =B7*X7 -> 1776.1283 | Z7: 8.395e-05 | AA7: =B7*Z7 -> 7.3116252e-05 | AB7: 5.552e-05 | AC7: =B7*AB7 -> 4.8355144e-05 | AD7: 0.00027932 | AE7: =B7*AD7 -> 0.00024327375 | AF7: 0.0017428 | AG7: =B7*AF7 -> 0.0015178917
A12: This dataset represents the production of 1 kg of pure potassium hydroxide (KOH), which is commercialized in the form of a 85.6% aqueous solution.The activity starts when the raw materials enter the process.This activity ends with the production of potassium hydroxide. The dataset includes all precursors, ancillary materials, emissions and estimated infrastructure.

Sheet Table S8
A1: Table S8: Overall LCIA Impact of Fertilisers
C2: Basalt | D2: SSP | E2: TSP | F2: KCl | G2: K2CO3 | H2: KOH
A3: Climate change impact | B3: CC-I | C3: 0.0072 | D3: 1.409468 | E3: 1.449967 | F3: 0.176624 | G3: 0.593395 | H3: 1.513526
A4: Acidification impact | B4: A-I | C4: 6.5e-05 | D4: 0.019316925 | E4: 0.02126569 | F4: 0.000749 | G4: 0.002313 | H4: 0.006545
A5: Eutrophication Impact | B5: EU-I | C5: 0.00011 | D5: 0.006041445 | E5: 0.006293603 | F5: 0.000647 | G5: 0.001255 | H5: 0.003568
A6: Land use impact | B6: LU-I | C6: 0.00038 | D6: 0.9441835 | E6: 0.81619314 | F6: 0.03064 | G6: 0.01883 | H6: 0.200784
A7: FAETP impact | B7: FAETP | C7: 0.002 | D7: 1.9777685 | E7: 1.6916038 | F7: 0.094259 | G7: 0.193756 | H7: 0.661182
A8: FSETP impact | B8: FSETP | C8: 0.0044 | D8: 3.3706835 | E8: 3.1230279 | F8: 0.200654 | G8: 0.412201 | H8: 1.405023
A9: MAETP impact | B9: MAETP | C9: 0.0074 | D9: 3.510911 | E9: 3.2980665 | F9: 0.33377 | G9: 0.6957 | H9: 2.397498
A10: MSETP impact | B10: MSETP | C10: 0.0078 | D10: 0.003553652 | E10: 0.005717822 | F10: 0.345 | G10: 0.724113 | H10: 2.501579
A11: HTP impact | B11: HTP | C11: 0.0033 | D11: 0.5867959 | E11: 0.65900971 | F11: 0.035552 | G11: 0.385306 | H11: 0.489483
A12: Terrestrial ecotoxicity | B12: TE-I | C12: 2.9e-06 | D12: 1.10053e-08 | E12: 6.7636e-09 | F12: 3.48e-05 | G12: 9.82e-05 | H12: 0.000522
A13: Ionising Radiation impact | B13: IR-I | C13: 3.6e-11 | D13: 14348.28 | E13: 16355.436 | F13: 1.5e-10 | G13: 1.22e-09 | H13: 9.78e-09
A14: Maladous air impact | B14: MA-I | C14: 37 | D14: 0.16976095 | E14: 0.61504154 | F14: 3298.527 | G14: 4387.43 | H14: 17865.2
... A17: Resources impact | B17: RE-I | C17: 0.000244 | D17: 0.06513145 | E17: 0.070266228 | F17: 0.007591 | G17: 0.015583 | H17: 0.050588

Sheet Table S9
A1: Table S9: Uncertainty Runs Using Monte Carlo Analysis
A2: Alpha | B2: 0.05 | C2: Climate change | I2: Acidification impact | O2: Eutrophication Impact | U2: Land use impact | AA2: FAETP impact | AG2: FSETP impact | AM2: MAETP impact | AS2: MSETP impact | AY2: HTP impact | BE2: Terrestrial ecotoxicity | BK2: Ionising Radiation impact | BQ2: Maladous air impact | BW2: Ecosystem quality impact | CC2: Human Health impact | CI2: Resources impact
A3: d_o | B3: 0.2 | C3: Basalt | D3: SSP | E3: TSP | F3: KCl | G3: K2CO3 | H3: KOH | I3: Basalt | J3: SSP | K3: TSP | L3: KCl | M3: K2CO3 | N3: KOH | O3: Basalt | P3: SSP | Q3: TSP | R3: KCl | S3: K2CO3 | T3: KOH | U3: Basalt | V3: SSP | W3: TSP | X3: KCl | Y3: K2CO3 | Z3: KOH | AA3: Basalt | AB3: SSP | AC3: TSP | AD3: KCl | AE3: K2CO3 | AF3: KOH | AG3: Basalt | AH3: SSP | AI3: TSP | AJ3: KCl | AK3: K2CO3 | AL3: KOH | AM3: Basalt | AN3: SSP | AO3: TSP | AP3: KCl | AQ3: K2CO3 | AR3: KOH | AS3: Basalt | AT3: SSP | AU3: TSP | AV3: KCl | AW3: K2CO3 | AX3: KOH | AY3: Basalt | AZ3: SSP | BA3: TSP | BB3: KCl | BC3: K2CO3 | BD3: KOH | BE3: Basalt | BF3: SSP | BG3: TSP | BH3: KCl | BI3: K2CO3 | BJ3: KOH | BK3: Basalt | BL3: SSP | BM3: TSP | BN3: KCl | BO3: K2CO3 | BP3: KOH | BQ3: Basalt | BR3: SSP | BS3: TSP | BT3: KCl | BU3: K2CO3 | BV3: KOH | BW3: Basalt | BX3: SSP | BY3: TSP | BZ3: KCl | CA3: K2CO3 | CB3: KOH | CC3: Basalt | CD3: SSP | CE3: TSP | CF3: KCl | CG3: K2CO3 | CH3: KOH | CI3: Basalt | CJ3: SSP | CK3: TSP | CL3: KCl | CM3: K2CO3 | CN3: KOH
B4: Output of | C4: ='Table S8'!C3 -> 0.0072 | D4: ='Table S8'!D3 -> 1.409468 | E4: ='Table S8'!E3 -> 1.449967 | F4: ='Table S8'!F3 -> 0.176624 | G4: ='Table S8'!G3 -> 0.593395 | H4: ='Table S8'!H3 -> 1.513526 | I4: ='Table S8'!C4 -> 6.5e-05 | J4: ='Table S8'!D4 -> 0.019316925 | K4: ='Table S8'!E4 -> 0.02126569 | L4: ='Table S8'!F4 -> 0.000749 | M4: ='Table S8'!G4 -> 0.002313 | N4: ='Table S8'!H4 -> 0.006545 | O4: ='Table S8'!C5 -> 0.00011 | P4: ='Table S8'!D5 -> 0.006041445 | Q4: ='Table S8'!E5 -> 0.006293603 | R4: ='Table S8'!F5 -> 0.000647 | S4: ='Table S8'!G5 -> 0.001255 | T4: ='Table S8'!H5 -> 0.003568 | U4: ='Table S8'!C6 -> 0.00038 | V4: ='Table S8'!D6 -> 0.9441835 | W4: ='Table S8'!E6 -> 0.81619314 | X4: ='Table S8'!F6 -> 0.03064 | Y4: ='Table S8'!G6 -> 0.01883 | Z4: ='Table S8'!H6 -> 0.200784 | AA4: ='Table S8'!C7 -> 0.002 | AB4: ='Table S8'!D7 -> 1.9777685 | AC4: ='Table S8'!E7 -> 1.6916038 | AD4: ='Table S8'!F7 -> 0.094259 | AE4: ='Table S8'!G7 -> 0.193756 | AF4: ='Table S8'!H7 -> 0.661182 | AG4: ='Table S8'!C8 -> 0.0044 | AH4: ='Table S8'!D8 -> 3.3706835 | AI4: ='Table S8'!E8 -> 3.1230279 | AJ4: ='Table S8'!F8 -> 0.200654 | AK4: ='Table S8'!G8 -> 0.412201 | AL4: ='Table S8'!H8 -> 1.405023 | AM4: ='Table S8'!C9 -> 0.0074 | AN4: ='Table S8'!D9 -> 3.510911 | AO4: ='Table S8'!E9 -> 3.2980665 | AP4: ='Table S8'!F9 -> 0.33377 | AQ4: ='Table S8'!G9 -> 0.6957 | AR4: ='Table S8'!H9 -> 2.397498 | AS4: ='Table S8'!C10 -> 0.0078 | AT4: ='Table S8'!D10 -> 0.003553652 | AU4: ='Table S8'!E10 -> 0.005717822 | AV4: ='Table S8'!F10 -> 0.345 | AW4: ='Table S8'!G10 -> 0.724113 | AX4: ='Table S8'!H10 -> 2.501579 | AY4: ='Table S8'!C11 -> 0.0033 | AZ4: ='Table S8'!D11 -> 0.5867959 | BA4: ='Table S8'!E11 -> 0.65900971 | BB4: ='Table S8'!F11 -> 0.035552 | BC4: ='Table S8'!G11 -> 0.385306 | BD4: ='Table S8'!H11 -> 0.489483 | BE4: ='Table S8'!C12 -> 2.9e-06 | BF4: ='Table S8'!D12 -> 1.10053e-08 | BG4: ='Table S8'!E12 -> 6.7636e-09 | BH4: ='Table S8'!F12 -> 3.48e-05 | BI4: ='Table S8'!G12 -> 9.82e-05 | BJ4: ='Table S8'!H12 -> 0.000522 | BK4: ='Table S8'!C13 -> 3.6e-11 | BL4: ='Table S8'!D13 -> 14348.28 | BM4: ='Table S8'!E13 -> 16355.436 | BN4: ='Table S8'!F13 -> 1.5e-10 | BO4: ='Table S8'!G13 -> 1.22e-09 | BP4: ='Table S8'!H13 -> 9.78e-09 | BQ4: ='Table S8'!C14 -> 37 | BR4: ='Table S8'!D14 -> 0.16976095 | BS4: ='Table S8'!E14 -> 0.61504154 | BT4: ='Table S8'!F14 -> 3298.527 | BU4: ='Table S8'!G14 -> 4387.43 | BV4: ='Table S8'!H14 -> 17865.2 | BW4: ='Table S8'!C15 -> 0.000115 | BX4: ='Table S8'!D15 -> 0.03131138 | BY4: ='Table S8'!E15 -> 0.031855988 | BZ4: ='Table S8'!F15 -> 0.00312 | CA4: ='Table S8'!G15 -> 0.004093 | CB4: ='Table S8'!H15 -> 0.02913 | CC4: ='Table S8'!C16 -> 0.000309 | CD4: ='Table S8'!D16 -> 0.0878465 | CE4: ='Table S8'!E16 -> 0.11180965 | CF4: ='Table S8'!F16 -> 0.003875 | CG4: ='Table S8'!G16 -> 0.018286 | CH4: ='Table S8'!H16 -> 0.040726 | CI4: ='Table S8'!C17 -> 0.000244 | CJ4: ='Table S8'!D17 -> 0.06513145 | CK4: ='Table S8'!E17 -> 0.070266228 | CL4: ='Table S8'!F17 -> 0.007591 | CM4: ='Table S8'!G17 -> 0.015583 | CN4: ='Table S8'!H17 -> 0.050588
B6: 1 | C6: 0.0069873888 | D6: 1.454117 | E6: 1.5024783 | F6: 0.17669636 | G6: 0.60999819 | H6: 1.5421583 | I6: 6.7018744e-05 | J6: 0.019444351 | K6: 0.021534435 | L6: 0.00076296132 | M6: 0.0023239899 | N6: 0.0063999709 | O6: 0.00010588117 | P6: 0.0063288515 | Q6: 0.0061616169 | R6: 0.00065850098 | S6: 0.0012046792 | T6: 0.0035541624 | U6: 0.0003764681 | V6: 0.9664839 | W6: 0.8473721 | X6: 0.029114529 | Y6: 0.019336787 | Z6: 0.21000108 | AA6: 0.0019874733 | AB6: 2.0235906 | AC6: 1.6917194 | AD6: 0.091554696 | AE6: 0.18927447 | AF6: 0.65518123 | AG6: 0.0044031737 | AH6: 3.3362807 | AI6: 3.0572467 | AJ6: 0.20056863 | AK6: 0.40722223 | AL6: 1.3672865 | AM6: 0.0072108568 | AN6: 3.6434061 | AO6: 3.3736597 | AP6: 0.31788096 | AQ6: 0.72605198 | AR6: 2.4845003 | AS6: 0.0079191606 | AT6: 0.0035438259 | AU6: 0.0055690811 | AV6: 0.33483308 | AW6: 0.73140726 | AX6: 2.6148205 | AY6: 0.0033150106 | AZ6: 0.56042103 | BA6: 0.68179229 | BB6: 0.036387639 | BC6: 0.38051129 | BD6: 0.48823223 | BE6: 2.793782e-06 | BF6: 1.1231489e-08 | BG6: 6.5708996e-09 | BH6: 3.4436722e-05 | BI6: 9.8123698e-05 | BJ6: 0.00050625679 | BK6: 3.7239973e-11 | BL6: 14068.651 | BM6: 16694.261 | BN6: 1.5083177e-10 | BO6: 1.2130617e-09 | BP6: 9.8400305e-09 | BQ6: 37.792856 | BR6: 0.16975658 | BS6: 0.58546199 | BT6: 3293.2312 | BU6: 4549.9595 | BV6: 18459.971 | BW6: 0.00012007952 | BX6: 0.032639823 | BY6: 0.032411329 | BZ6: 0.0032342888 | CA6: 0.004011263 | CB6: 0.028886233 | CC6: 0.00030415813 | CD6: 0.085564249 | CE6: 0.11286591 | CF6: 0.0040122606 | CG6: 0.018683508 | CH6: 0.039220907 | CI6: 0.0002415418 | CJ6: 0.065872308 | CK6: 0.0691562 | CL6: 0.0075225334 | CM6: 0.016079068 | CN6: 0.051409903
B7: 2 | C7: 0.0070927287 | D7: 1.4149781 | E7: 1.5224092 | F7: 0.16862583 | G7: 0.6078952 | H7: 1.5538108 | I7: 6.2254436e-05 | J7: 0.019201004 | K7: 0.020534983 | L7: 0.00077856931 | M7: 0.00220138 | N7: 0.0064620314 | O7: 0.00010638406 | P7: 0.0061314581 | Q7: 0.0065379693 | R7: 0.00064899558 | S7: 0.0012169959 | T7: 0.0035336702 | U7: 0.00038715413 | V7: 0.92200705 | W7: 0.822733 | X7: 0.030037473 | Y7: 0.018037059 | Z7: 0.20201433 | AA7: 0.0020688318 | AB7: 1.8833422 | AC7: 1.6846429 | AD7: 0.090311876 | AE7: 0.18948465 | AF7: 0.67025039 | AG7: 0.0043262136 | AH7: 3.4291998 | AI7: 3.2019433 | AJ7: 0.1923268 | AK7: 0.40868493 | AL7: 1.4522724 | AM7: 0.0072259035 | AN7: 3.6528659 | AO7: 3.1583379 | AP7: 0.3223801 | AQ7: 0.68493901 | AR7: 2.3895459 | AS7: 0.008042375 | AT7: 0.0033796688 | AU7: 0.0054649236 | AV7: 0.33214308 | AW7: 0.73026668 | AX7: 2.4347152 | AY7: 0.0034601336 | AZ7: 0.60582056 | BA7: 0.63012433 | BB7: 0.037036404 | BC7: 0.37815159 | BD7: 0.49398901 | BE7: 2.9581639e-06 | BF7: 1.096596e-08 | BG7: 6.6219695e-09 | BH7: 3.3136682e-05 | BI7: 0.00010278511 | BJ7: 0.00054305304 | BK7: 3.6288088e-11 | BL7: 14517.006 | BM7: 16066.959 | BN7: 1.4666666e-10 | BO7: 1.2460046e-09 | BP7: 9.719608e-09 | BQ7: 36.491356 | BR7: 0.17065287 | BS7: 0.63938292 | BT7: 3205.4133 | BU7: 4318.5016 | BV7: 18316.126 | BW7: 0.00011120599 | BX7: 0.032492237 | BY7: 0.030919842 | BZ7: 0.0031194295 | CA7: 0.0041750826 | CB7: 0.029903521 | CC7: 0.00031267345 | CD7: 0.084417215 | CE7: 0.11318617 | CF7: 0.0037616212 | CG7: 0.018009019 | CH7: 0.041410078 | CI7: 0.00023491051 | CJ7: 0.065645745 | CK7: 0.072839613 | CL7: 0.0073824162 | CM7: 0.016064387 | CN7: 0.048186183
B8: 3 | C8: 0.0071234869 | D8: 1.4159661 | E8: 1.4205754 | F8: 0.18466838 | G8: 0.57758895 | H8: 1.4612864 | I8: 6.3476843e-05 | J8: 0.018483007 | K8: 0.020965057 | L8: 0.00075766426 | M8: 0.0022203127 | N8: 0.0066969532 | O8: 0.00011263232 | P8: 0.0060294779 | Q8: 0.006558194 | R8: 0.00062983625 | S8: 0.0013128108 | T8: 0.0037261708 | U8: 0.00038756461 | V8: 0.97441865 | W8: 0.84159206 | X8: 0.031717213 | Y8: 0.018638174 | Z8: 0.20423425 | AA8: 0.0019739139 | AB8: 1.9454914 | AC8: 1.7159229 | AD8: 0.097567943 | AE8: 0.19956503 | AF8: 0.64421785 | AG8: 0.0042991575 | AH8: 3.2362534 | AI8: 3.2772848 | AJ8: 0.20159279 | AK8: 0.42182116 | AL8: 1.3355408 | AM8: 0.0073710776 | AN8: 3.5610975 | AO8: 3.3218108 | AP8: 0.33473377 | AQ8: 0.69255607 | AR8: 2.4363309 | AS8: 0.008134921 | AT8: 0.0036646172 | AU8: 0.0058693983 | AV8: 0.33214941 | AW8: 0.73199368 | AX8: 2.3975167 | AY8: 0.0032077381 | AZ8: 0.59797303 | BA8: 0.67298755 | BB8: 0.033939393 | BC8: 0.36886747 | BD8: 0.50126201 | BE8: 2.7778739e-06 | BF8: 1.0557116e-08 | BG8: 6.9012773e-09 | BH8: 3.349361e-05 | BI8: 9.5319518e-05 | BJ8: 0.00054453611 | BK8: 3.6149468e-11 | BL8: 14447.347 | BM8: 17044.999 | BN8: 1.5638511e-10 | BO8: 1.229491e-09 | BP8: 9.5783905e-09 | BQ8: 35.620045 | BR8: 0.16709478 | BS8: 0.5880402 | BT8: 3214.9222 | BU8: 4564.4251 | BV8: 18440.448 | BW8: 0.00011333257 | BX8: 0.030484856 | BY8: 0.031894243 | BZ8: 0.0030657493 | CA8: 0.004159812 | CB8: 0.028648889 | CC8: 0.00031954171 | CD8: 0.085927747 | CE8: 0.10772378 | CF8: 0.0037516136 | CG8: 0.019010718 | CH8: 0.040341415 | CI8: 0.00025239879 | CJ8: 0.064932408 | CK8: 0.067128428 | CL8: 0.0079598731 | CM8: 0.01535387 | CN8: 0.051153648
B9: 4 | C9: 0.0070146275 | D9: 1.4317563 | E9: 1.4258821 | F9: 0.1826154 | G9: 0.5928973 | H9: 1.5168882 | I9: 6.1983297e-05 | J9: 0.019567977 | K9: 0.021082626 | L9: 0.00075650824 | M9: 0.0023539292 | N9: 0.0063615424 | O9: 0.00011034199 | P9: 0.0062158738 | Q9: 0.0063476517 | R9: 0.00067633649 | S9: 0.001232446 | T9: 0.0035593949 | U9: 0.00039491298 | V9: 0.9585741 | W9: 0.79989807 | X9: 0.031320331 | Y9: 0.019747725 | Z9: 0.2106754 | AA9: 0.0019925303 | AB9: 1.9265762 | AC9: 1.6812907 | AD9: 0.090472833 | AE9: 0.18639115 | AF9: 0.6653689 | AG9: 0.0043067303 | AH9: 3.4476441 | AI9: 3.1537669 | AJ9: 0.20743128 | AK9: 0.41404865 | AL9: 1.3446816 | AM9: 0.0072350402 | AN9: 3.6850793 | AO9: 3.4592536 | AP9: 0.33633462 | AQ9: 0.67468709 | AR9: 2.4645178 | AS9: 0.0081216895 | AT9: 0.0034321465 | AU9: 0.0059025892 | AV9: 0.33396071 | AW9: 0.72181038 | AX9: 2.5819996 | AY9: 0.0034451225 | AZ9: 0.56361502 | BA9: 0.64389537 | BB9: 0.034553482 | BC9: 0.37410554 | BD9: 0.50267848 | BE9: 2.7961301e-06 | BF9: 1.1195772e-08 | BG9: 6.5333787e-09 | BH9: 3.5436981e-05 | BI9: 0.00010121227 | BJ9: 0.00051519261 | BK9: 3.7702674e-11 | BL9: 13949.156 | BM9: 16621.479 | BN9: 1.4463581e-10 | BO9: 1.264364e-09 | BP9: 9.5514022e-09 | BQ9: 37.301571 | BR9: 0.17473137 | BS9: 0.62817836 | BT9: 3298.6327 | BU9: 4313.1502 | BV9: 17905.345 | BW9: 0.00011523828 | BX9: 0.031800285 | BY9: 0.032719409 | BZ9: 0.002994892 | CA9: 0.0042170518 | CB9: 0.029663782 | CC9: 0.00031041459 | CD9: 0.091588784 | CE9: 0.11182491 | CF9: 0.0038456595 | CG9: 0.018003823 | CH9: 0.039987781 | CI9: 0.00023923094 | CJ9: 0.063525371 | CK9: 0.069264187 | CL9: 0.0075945208 | CM9: 0.015264787 | CN9: 0.049459995
B10: 5 | C10: 0.0069568114 | D10: 1.3860997 | E10: 1.4513987 | F10: 0.16806828 | G10: 0.60004545 | H10: 1.5176736 | I10: 6.6281453e-05 | J10: 0.018863296 | K10: 0.021542732 | L10: 0.00073184636 | M10: 0.002208461 | N10: 0.0068261114 | O10: 0.00010597637 | P10: 0.0058711113 | Q10: 0.0060515083 | R10: 0.00063588573 | S10: 0.0012861106 | T10: 0.0036988703 | U10: 0.00039270211 | V10: 0.9441853 | W10: 0.85022878 | X10: 0.031810708 | Y10: 0.019122763 | Z10: 0.1989369 | AA10: 0.0020721341 | AB10: 1.90772 | AC10: 1.6082929 | AD10: 0.095697546 | AE10: 0.19200594 | AF10: 0.68345914 | AG10: 0.0042696309 | AH10: 3.2927788 | AI10: 3.2198131 | AJ10: 0.20415028 | AK10: 0.4055857 | AL10: 1.3876078 | AM10: 0.0076525768 | AN10: 3.3490919 | AO10: 3.1880169 | AP10: 0.34909726 | AQ10: 0.67112014 | AR10: 2.3680729 | AS10: 0.0080315175 | AT10: 0.003627031 | AU10: 0.0054981937 | AV10: 0.36191994 | AW10: 0.72212594 | AX10: 2.4256817 | AY10: 0.0034509212 | AZ10: 0.57860407 | BA10: 0.6291741 | BB10: 0.035571022 | BC10: 0.36877139 | BD10: 0.4727563 | BE10: 2.7760342e-06 | BF10: 1.0562059e-08 | BG10: 6.8760357e-09 | BH10: 3.3290897e-05 | BI10: 9.7081023e-05 | BJ10: 0.00051984031 | BK10: 3.6392386e-11 | BL10: 14229.451 | BM10: 16523.718 | BN10: 1.5315789e-10 | BO10: 1.1901657e-09 | BP10: 1.0084055e-08 | BQ10: 36.237385 | BR10: 0.17264489 | BS10: 0.59004829 | BT10: 3295.4567 | BU10: 4176.0516 | BV10: 17929.416 | BW10: 0.000119723 | BX10: 0.030206411 | BY10: 0.032766825 | BZ10: 0.002996948 | CA10: 0.004281231 | CB10: 0.028425237 | CC10: 0.00030235364 | CD10: 0.083878023 | CE10: 0.10878297 | CF10: 0.0039260787 | CG10: 0.017747676 | CH10: 0.040687485 | CI10: 0.00024732826 | CJ10: 0.063788966 | CK10: 0.070354325 | CL10: 0.0075603722 | CM10: 0.015583167 | CN10: 0.050940077
B11: 6 | C11: 0.0073467733 | D11: 1.4136082 | E11: 1.5029039 | F11: 0.17501754 | G11: 0.58783374 | H11: 1.4714861 | I11: 6.6832877e-05 | J11: 0.019604845 | K11: 0.020683793 | L11: 0.00073147315 | M11: 0.0022842649 | N11: 0.0064215044 | O11: 0.00011080961 | P11: 0.006153471 | Q11: 0.0063990626 | R11: 0.00065113054 | S11: 0.0012728694 | T11: 0.0035610529 | U11: 0.00038660179 | V11: 0.97235166 | W11: 0.83805998 | X11: 0.029246839 | Y11: 0.019502123 | Z11: 0.19862954 | AA11: 0.0020915588 | AB11: 1.9780153 | AC11: 1.6850566 | AD11: 0.097279915 | AE11: 0.2018878 | AF11: 0.65585862 | AG11: 0.0042068383 | AH11: 3.343382 | AI11: 3.0757678 | AJ11: 0.20614003 | AK11: 0.41379373 | AL11: 1.3869078 | AM11: 0.0071612022 | AN11: 3.6275933 | AO11: 3.2421041 | AP11: 0.34496325 | AQ11: 0.71379264 | AR11: 2.2972699 | AS11: 0.0079432816 | AT11: 0.0035359391 | AU11: 0.0059884047 | AV11: 0.34579518 | AW11: 0.70171033 | AX11: 2.579506 | AY11: 0.0033309068 | AZ11: 0.61310768 | BA11: 0.6526881 | BB11: 0.035344994 | BC11: 0.39106935 | BD11: 0.47444612 | BE11: 2.8616547e-06 | BF11: 1.0814371e-08 | BG11: 6.560678e-09 | BH11: 3.5447721e-05 | BI11: 9.8784111e-05 | BJ11: 0.00051635305 | BK11: 3.6698574e-11 | BL11: 14309.622 | BM11: 15592.237 | BN11: 1.503567e-10 | BO11: 1.2573738e-09 | BP11: 1.0184174e-08 | BQ11: 36.845285 | BR11: 0.1628144 | BS11: 0.61077173 | BT11: 3408.8655 | BU11: 4411.2182 | BV11: 18550.243 | BW11: 0.00011529322 | BX11: 0.030390473 | BY11: 0.031044658 | BZ11: 0.0029888002 | CA11: 0.0039453803 | CB11: 0.029148542 | CC11: 0.0003040329 | CD11: 0.086531664 | CE11: 0.10694795 | CF11: 0.0037368137 | CG11: 0.018781826 | CH11: 0.042404211 | CI11: 0.0002349421 | CJ11: 0.065572741 | CK11: 0.067461323 | CL11: 0.0073754878 | CM11: 0.01491249 | CN11: 0.048746762
B12: 7 | C12: 0.0070122116 | D12: 1.3732763 | E12: 1.5097997 | F12: 0.18450782 | G12: 0.62075839 | H12: 1.5471907 | I12: 6.350448e-05 | J12: 0.019441358 | K12: 0.0203325 | L12: 0.00074672002 | M12: 0.0023902938 | N12: 0.0066632268 | O12: 0.00010710315 | P12: 0.0061483653 | Q12: 0.0064738544 | R12: 0.00063148058 | S12: 0.0012189341 | T12: 0.0036826844 | U12: 0.00038280599 | V12: 0.97148684 | W12: 0.81555872 | X12: 0.030757227 | Y12: 0.019242782 | Z12: 0.20892584 | AA12: 0.0020040848 | AB12: 1.9927288 | AC12: 1.6421947 | AD12: 0.093600317 | AE12: 0.19818139 | AF12: 0.6714792 | AG12: 0.0044710374 | AH12: 3.3087638 | AI12: 3.1689036 | AJ12: 0.19728104 | AK12: 0.42268793 | AL12: 1.4363231 | AM12: 0.0074166336 | AN12: 3.5367737 | AO12: 3.1672276 | AP12: 0.33722792 | AQ12: 0.71656899 | AR12: 2.4664591 | AS12: 0.0074910514 | AT12: 0.0036840721 | AU12: 0.005743118 | AV12: 0.32794268 | AW12: 0.73624623 | AX12: 2.6102135 | AY12: 0.0032224261 | AZ12: 0.57628886 | BA12: 0.68225036 | BB12: 0.035364524 | BC12: 0.37360319 | BD12: 0.49921717 | BE12: 2.9556507e-06 | BF12: 1.0583969e-08 | BG12: 6.4285059e-09 | BH12: 3.6032627e-05 | BI12: 9.9038286e-05 | BJ12: 0.00054622404 | BK12: 3.6418879e-11 | BL12: 14622.801 | BM12: 17154.724 | BN12: 1.5103353e-10 | BO12: 1.23874e-09 | BP12: 9.9859894e-09 | BQ12: 36.305637 | BR12: 0.16362962 | BS12: 0.58711699 | BT12: 3407.3089 | BU12: 4581.3969 | BV12: 17456.525 | BW12: 0.00012026483 | BX12: 0.031239267 | BY12: 0.031118011 | BZ12: 0.0029845922 | CA12: 0.0039459579 | CB12: 0.029280428 | CC12: 0.00031604577 | CD12: 0.087487102 | CE12: 0.11106896 | CF12: 0.0039342039 | CG12: 0.019165314 | CH12: 0.039624324 | CI12: 0.00023379232 | CJ12: 0.066727792 | CK12: 0.068758236 | CL12: 0.0077863284 | CM12: 0.015448598 | CN12: 0.05066714
B13: 8 | C13: 0.0068865581 | D13: 1.453767 | E13: 1.3814133 | F13: 0.18407735 | G13: 0.59864539 | H13: 1.5546153 | I13: 6.7520099e-05 | J13: 0.018904354 | K13: 0.02197665 | L13: 0.00076414933 | M13: 0.0023009224 | N13: 0.0066203474 | O13: 0.00010897625 | P13: 0.0058925964 | Q13: 0.0061867379 | R13: 0.00064377813 | S13: 0.0012948744 | T13: 0.0037198835 | U13: 0.00038905411 | V13: 0.89728001 | W13: 0.79070857 | X13: 0.031759221 | Y13: 0.019088165 | Z13: 0.19420333 | AA13: 0.0020048366 | AB13: 1.997209 | AC13: 1.6556877 | AD13: 0.096726381 | AE13: 0.19401661 | AF13: 0.62936164 | AG13: 0.0045078858 | AH13: 3.3289826 | AI13: 3.0058664 | AJ13: 0.20558097 | AK13: 0.42451079 | AL13: 1.4372831 | AM13: 0.0074260301 | AN13: 3.3553097 | AO13: 3.1367489 | AP13: 0.34241103 | AQ13: 0.70619036 | AR13: 2.3357662 | AS13: 0.0081232321 | AT13: 0.0035096112 | AU13: 0.0059905921 | AV13: 0.33054246 | AW13: 0.72243943 | AX13: 2.3943051 | AY13: 0.003161918 | AZ13: 0.58112868 | BA13: 0.63321849 | BB13: 0.035162022 | BC13: 0.39810943 | BD13: 0.49702371 | BE13: 2.7559354e-06 | BF13: 1.1338878e-08 | BG13: 6.4345398e-09 | BH13: 3.4673065e-05 | BI13: 0.00010022734 | BJ13: 0.00051729492 | BK13: 3.6349785e-11 | BL13: 14905.638 | BM13: 16308.251 | BN13: 1.4518528e-10 | BO13: 1.2033832e-09 | BP13: 9.8539751e-09 | BQ13: 36.612728 | BR13: 0.17384618 | BS13: 0.61788417 | BT13: 3402.4909 | BU13: 4497.3801 | BV13: 18051.254 | BW13: 0.00011161303 | BX13: 0.031100175 | BY13: 0.032146802 | BZ13: 0.0030194362 | CA13: 0.0042249748 | CB13: 0.029802482 | CC13: 0.00031940797 | CD13: 0.087319254 | CE13: 0.10784074 | CF13: 0.0037952444 | CG13: 0.018587362 | CH13: 0.04163226 | CI13: 0.00024104834 | CJ13: 0.066242596 | CK13: 0.070908845 | CL13: 0.0079015716 | CM13: 0.016312306 | CN13: 0.048130253
B14: 9 | C14: 0.0069831931 | D14: 1.3424158 | E14: 1.4948472 | F14: 0.18227874 | G14: 0.59702375 | H14: 1.5236791 | I14: 6.3739015e-05 | J14: 0.019130693 | K14: 0.021231604 | L14: 0.00075742921 | M14: 0.0022749011 | N14: 0.0063918094 | O14: 0.00011475905 | P14: 0.0059593311 | Q14: 0.0065761896 | R14: 0.00067337387 | S14: 0.0012811237 | T14: 0.0036581377 | U14: 0.00036750406 | V14: 0.90102459 | W14: 0.82142779 | X14: 0.030937832 | Y14: 0.018397819 | Z14: 0.20963236 | AA14: 0.0020072947 | AB14: 1.9218671 | AC14: 1.7291637 | AD14: 0.094242949 | AE14: 0.19411582 | AF14: 0.63504949 | AG14: 0.0042883332 | AH14: 3.2637992 | AI14: 3.2622606 | AJ14: 0.1990473 | AK14: 0.42344919 | AL14: 1.4494269 | AM14: 0.0070763299 | AN14: 3.4971748 | AO14: 3.1772654 | AP14: 0.34695585 | AQ14: 0.68111652 | AR14: 2.443607 | AS14: 0.007975265 | AT14: 0.0035434823 | AU14: 0.0056363803 | AV14: 0.35481967 | AW14: 0.75711831 | AX14: 2.511288 | AY14: 0.0033444263 | AZ14: 0.5864014 | BA14: 0.66539782 | BB14: 0.03615234 | BC14: 0.37712831 | BD14: 0.47635698 | BE14: 2.8057803e-06 | BF14: 1.1000399e-08 | BG14: 6.9470141e-09 | BH14: 3.469057e-05 | BI14: 9.7295801e-05 | BJ14: 0.00053797908 | BK14: 3.6611349e-11 | BL14: 13999.063 | BM14: 16842.016 | BN14: 1.4496445e-10 | BO14: 1.1849569e-09 | BP14: 9.4312133e-09 | BQ14: 38.151177 | BR14: 0.17257629 | BS14: 0.61456608 | BT14: 3456.8946 | BU14: 4385.8182 | BV14: 18453.947 | BW14: 0.00011449965 | BX14: 0.032526669 | BY14: 0.032619187 | BZ14: 0.0032734296 | CA14: 0.0039548187 | CB14: 0.028374579 | CC14: 0.00031006595 | CD14: 0.089475711 | CE14: 0.11404536 | CF14: 0.003725309 | CG14: 0.019142541 | CH14: 0.039942073 | CI14: 0.00024015837 | CJ14: 0.062468745 | CK14: 0.067537381 | CL14: 0.0073740715 | CM14: 0.015233768 | CN14: 0.051282958
B15: 10 | C15: 0.0070788734 | D15: 1.473524 | E15: 1.4985701 | F15: 0.18220172 | G15: 0.60967815 | H15: 1.5688967 | I15: 6.6845507e-05 | J15: 0.019886714 | K15: 0.021051249 | L15: 0.00074426498 | M15: 0.0022334271 | N15: 0.0062887758 | O15: 0.00011242931 | P15: 0.0058248009 | Q15: 0.0065787489 | R15: 0.00067407252 | S15: 0.00121771 | T15: 0.0036354671 | U15: 0.00039634267 | V15: 0.95100608 | W15: 0.77995468 | X15: 0.031312488 | Y15: 0.019556893 | Z15: 0.19846301 | AA15: 0.0020257852 | AB15: 1.9642676 | AC15: 1.7732628 | AD15: 0.092207986 | AE15: 0.18536542 | AF15: 0.65408246 | AG15: 0.0043359757 | AH15: 3.4745492 | AI15: 3.1468951 | AJ15: 0.20075331 | AK15: 0.39417071 | AL15: 1.4035744 | AM15: 0.0073303154 | AN15: 3.4218848 | AO15: 3.2341367 | AP15: 0.31872852 | AQ15: 0.68724705 | AR15: 2.3856369 | AS15: 0.0081597936 | AT15: 0.0033896785 | AU15: 0.0056133523 | AV15: 0.34849465 | AW15: 0.76027201 | AX15: 2.4504854 | AY15: 0.0033425643 | AZ15: 0.5595019 | BA15: 0.65757573 | BB15: 0.036951369 | BC15: 0.40104429 | BD15: 0.50903256 | BE15: 2.9902825e-06 | BF15: 1.1441477e-08 | BG15: 6.7543694e-09 | BH15: 3.4855401e-05 | BI15: 0.00010043269 | BJ15: 0.00051249944 | BK15: 3.6983756e-11 | BL15: 13726.634 | BM15: 15676.174 | BN15: 1.5670662e-10 | BO15: 1.1755699e-09 | BP15: 9.3435367e-09 | BQ15: 38.183092 | BR15: 0.17655858 | BS15: 0.60756138 | BT15: 3378.2577 | BU15: 4318.2219 | BV15: 17524.161 | BW15: 0.00011085827 | BX15: 0.029756988 | BY15: 0.032461064 | BZ15: 0.0031109373 | CA15: 0.0039766096 | CB15: 0.030181836 | CC15: 0.00029990318 | CD15: 0.090823779 | CE15: 0.11678668 | CF15: 0.0039398419 | CG15: 0.018496136 | CH15: 0.040296493 | CI15: 0.00023284031 | CJ15: 0.06789912 | CK15: 0.070278146 | CL15: 0.0078699501 | CM15: 0.015072909 | CN15: 0.051876976
B16: 11 | C16: 0.0073718694 | D16: 1.4108532 | E16: 1.4033044 | F16: 0.18496587 | G16: 0.60377011 | H16: 1.5069299 | I16: 6.4853091e-05 | J16: 0.018704412 | K16: 0.02135301 | L16: 0.00076570771 | M16: 0.0023975156 | N16: 0.0064393481 | O16: 0.00011020091 | P16: 0.0057720722 | Q16: 0.006131877 | R16: 0.00065151612 | S16: 0.0013139449 | T16: 0.0034352447 | U16: 0.00036568029 | V16: 0.93974674 | W16: 0.82711886 | X16: 0.030272848 | Y16: 0.018651145 | Z16: 0.20380255 | AA16: 0.002017776 | AB16: 2.0231564 | AC16: 1.678979 | AD16: 0.093559996 | AE16: 0.20301832 | AF16: 0.67843356 | AG16: 0.0044624273 | AH16: 3.2581992 | AI16: 3.0925721 | AJ16: 0.1951112 | AK16: 0.40748465 | AL16: 1.3899467 | AM16: 0.0072757366 | AN16: 3.4527997 | AO16: 3.3775146 | AP16: 0.34010509 | AQ16: 0.68390174 | AR16: 2.3790796 | AS16: 0.0076965598 | AT16: 0.0035401587 | AU16: 0.0055904982 | AV16: 0.33239976 | AW16: 0.74052448 | AX16: 2.4525028 | AY16: 0.0032011695 | AZ16: 0.60098865 | BA16: 0.671741 | BB16: 0.037028574 | BC16: 0.37843571 | BD16: 0.49227185 | BE16: 3.0057341e-06 | BF16: 1.1377383e-08 | BG16: 6.9009672e-09 | BH16: 3.5918518e-05 | BI16: 9.8142745e-05 | BJ16: 0.00050689794 | BK16: 3.6354249e-11 | BL16: 14254.806 | BM16: 15879.303 | BN16: 1.4853547e-10 | BO16: 1.2779378e-09 | BP16: 9.8057163e-09 | BQ16: 35.479545 | BR16: 0.16325673 | BS16: 0.61670497 | BT16: 3223.909 | BU16: 4250.9709 | BV16: 17986.729 | BW16: 0.00011793676 | BX16: 0.031595132 | BY16: 0.032327045 | BZ16: 0.0031725635 | CA16: 0.0042320014 | CB16: 0.028494022 | CC16: 0.00030437749 | CD16: 0.088915096 | CE16: 0.10797037 | CF16: 0.0038650923 | CG16: 0.018550464 | CH16: 0.041074563 | CI16: 0.0002325761 | CJ16: 0.063579039 | CK16: 0.069700928 | CL16: 0.0075402467 | CM16: 0.015147144 | CN16: 0.051384736
B17: 12 | C17: 0.0069055053 | D17: 1.3496657 | E17: 1.3969095 | F17: 0.18463225 | G17: 0.59975794 | H17: 1.4600246 | I17: 6.5638047e-05 | J17: 0.018372672 | K17: 0.021063708 | L17: 0.00075343879 | M17: 0.002263472 | N17: 0.0066234607 | O17: 0.00010687189 | P17: 0.0060260958 | Q17: 0.0062460079 | R17: 0.00066671265 | S17: 0.0012855251 | T17: 0.0035796632 | U17: 0.0003972798 | V17: 0.93566763 | W17: 0.83376291 | X17: 0.03138456 | Y17: 0.017926121 | Z17: 0.20274312 | AA17: 0.0019901146 | AB17: 1.9056555 | AC17: 1.7194181 | AD17: 0.093008962 | AE17: 0.19197274 | AF17: 0.63272368 | AG17: 0.0044968078 | AH17: 3.4721531 | AI17: 2.9848205 | AJ17: 0.19516228 | AK17: 0.40949409 | AL17: 1.4130025 | AM17: 0.0074290513 | AN17: 3.6811857 | AO17: 3.3457993 | AP17: 0.34873166 | AQ17: 0.6815706 | AR17: 2.4463896 | AS17: 0.0079984361 | AT17: 0.0035916664 | AU17: 0.0059026134 | AV17: 0.34212736 | AW17: 0.75438595 | AX17: 2.4342008 | AY17: 0.0032949058 | AZ17: 0.5604893 | BA17: 0.67361618 | BB17: 0.035078054 | BC17: 0.39355211 | BD17: 0.51232994 | BE17: 2.8166386e-06 | BF17: 1.0686604e-08 | BG17: 6.4399416e-09 | BH17: 3.5846082e-05 | BI17: 0.00010159781 | BJ17: 0.00050591823 | BK17: 3.5684245e-11 | BL17: 14733.248 | BM17: 15832.856 | BN17: 1.4573524e-10 | BO17: 1.2010271e-09 | BP17: 9.9633985e-09 | BQ17: 36.642216 | BR17: 0.16377671 | BS17: 0.61747782 | BT17: 3213.7565 | BU17: 4289.9094 | BV17: 17366.462 | BW17: 0.00011664314 | BX17: 0.032846915 | BY17: 0.030311865 | BZ17: 0.0031801326 | CA17: 0.0039412478 | CB17: 0.028474915 | CC17: 0.00030770819 | CD17: 0.090420632 | CE17: 0.107857 | CF17: 0.0037428485 | CG17: 0.018680361 | CH17: 0.041384777 | CI17: 0.0002329848 | CJ17: 0.06503325 | CK17: 0.070036853 | CL17: 0.0079431169 | CM17: 0.016314939 | CN17: 0.051166339
... B1005: 1000 | C1005: 0.007141955 | D1005: 1.3832685 | E1005: 1.5042316 | F1005: 0.16867841 | G1005: 0.59459567 | H1005: 1.5522136 | I1005: 6.5193006e-05 | J1005: 0.01939949 | K1005: 0.020661123 | L1005: 0.00073412848 | M1005: 0.0022146237 | N1005: 0.0067241187 | O1005: 0.00011290618 | P1005: 0.005876288 | Q1005: 0.0060679985 | R1005: 0.00067148614 | S1005: 0.0012663539 | T1005: 0.0036342457 | U1005: 0.0003854779 | V1005: 0.92663256 | W1005: 0.78887292 | X1005: 0.029538793 | Y1005: 0.017924052 | Z1005: 0.2016291 | AA1005: 0.0020974962 | AB1005: 1.9587723 | AC1005: 1.6245461 | AD1005: 0.096314243 | AE1005: 0.2010035 | AF1005: 0.63885781 | AG1005: 0.0045678035 | AH1005: 3.4911285 | AI1005: 3.0395911 | AJ1005: 0.19998077 | AK1005: 0.43260329 | AL1005: 1.340865 | AM1005: 0.0074610356 | AN1005: 3.4933503 | AO1005: 3.4396232 | AP1005: 0.35014885 | AQ1005: 0.68232594 | AR1005: 2.3069019 | AS1005: 0.0075955983 | AT1005: 0.0033806269 | AU1005: 0.0058952632 | AV1005: 0.34162219 | AW1005: 0.74697213 | AX1005: 2.5123353 | AY1005: 0.0032929869 | AZ1005: 0.56484233 | BA1005: 0.6720791 | BB1005: 0.034460518 | BC1005: 0.38459086 | BD1005: 0.5024503 | BE1005: 2.8897338e-06 | BF1005: 1.141253e-08 | BG1005: 6.9894863e-09 | BH1005: 3.4785487e-05 | BI1005: 9.7483917e-05 | BJ1005: 0.00054334741 | BK1005: 3.4937791e-11 | BL1005: 14490.645 | BM1005: 16338.16 | BN1005: 1.5328681e-10 | BO1005: 1.202915e-09 | BP1005: 1.0108193e-08 | BQ1005: 36.129397 | BR1005: 0.1695463 | BS1005: 0.63253122 | BT1005: 3264.5095 | BU1005: 4528.086 | BV1005: 18054.818 | BW1005: 0.0001201115 | BX1005: 0.030766581 | BY1005: 0.032605484 | BZ1005: 0.0030010721 | CA1005: 0.003895081 | CB1005: 0.02870034 | CC1005: 0.0003029181 | CD1005: 0.084378259 | CE1005: 0.1148138 | CF1005: 0.0037155551 | CG1005: 0.01832966 | CH1005: 0.041828837 | CI1005: 0.00023401565 | CJ1005: 0.06621935 | CK1005: 0.072660928 | CL1005: 0.00788454 | CM1005: 0.015564001 | CN1005: 0.051928222
B1007: Average | C1007: =AVERAGE(C6:C1005) -> 0.0071962703 | D1007: =AVERAGE(D6:D1005) -> 1.4082005 | E1007: =AVERAGE(E6:E1005) -> 1.449667 | F1007: =AVERAGE(F6:F1005) -> 0.17677482 | G1007: =AVERAGE(G6:G1005) -> 0.59369977 | H1007: =AVERAGE(H6:H1005) -> 1.5117197 | I1007: =AVERAGE(I6:I1005) -> 6.4993365e-05 | J1007: =AVERAGE(J6:J1005) -> 0.019330333 | ... CN1007: =AVERAGE(CN6:CN1005) -> 0.050581741
B1008: Max | C1008: =MAX(C6:C1005) -> 0.0075598743 | D1008: =MAX(D6:D1005) -> 1.4798652 | E1008: =MAX(E6:E1005) -> 1.5224092 | F1008: =MAX(F6:F1005) -> 0.18544775 | G1008: =MAX(G6:G1005) -> 0.6229959 | H1008: =MAX(H6:H1005) -> 1.5890592 | I1008: =MAX(I6:I1005) -> 6.8248078e-05 | J1008: =MAX(J6:J1005) -> 0.020281355 | ... CN1008: =MAX(CN6:CN1005) -> 0.053101803
