Workbook
Name Alfalfa_hay: '[1]Crop and grazing yields'!$V$153
Name Carrots_Processed: '[2]Crop and grazing yields'!$V$27
Name Corn: '[1]Crop and grazing yields'!$V$150
Name Corn_Silage: '[1]Crop and grazing yields'!$V$151
Name Fat_content: '[3]Dairy processing conversions'!$L$47
Name grazing_land_yield: '[1]Crop and grazing yields'!$V$174
Name Hay_haylage_exlc_alfalfa: '[1]Crop and grazing yields'!$V$152
Name Percent__Dedicated__beef: '[4]Livestock feed requirements'!$B$39
Name Skimsolid_content: '[3]Dairy processing conversions'!$L$48
Name Soybeans: '[1]Crop and grazing yields'!$V$161
Name Tomatoes_Processed: '[2]Crop and grazing yields'!$V$59

Sheet README
A1: Iowa UrbanFEWS LCA | B1: Localized Food System LCA (Midwest US)
A2: This spreadsheet models the Des Moines, Iowa, US, Statistical Metropolitan Area (DM-MSA) food system under three scenarios. (1) current food production and consumption conditions (BASE), (2) 50% of the nutritional requirements are produced locally within the MSA under current consumption conditions (LOCAL), and (3) a local scenario where land use is based on an Agent Based Model (ABM-LCA) of producers in the DM-MSA. The Model Controls tabs (1. LCA Controls & 2. ABM-LCA Controls) can be used to generate Life Cycle Assessment (LCA) model results which vary by scenario. LCA outputs quantify the environmental impacts of the food system generated at a metropolitan scale (DM-MSA) which are connected with additional models as part of the Iowa Urban FEWS project. All tabs in this spreadsheet besides the control panel are the dataset, sources and equations supporting this model. The underlying LCA model is modified from the US Environmentally-Extended Input-Output Model (USEEIO) v2.0.1-411 model as described in Ingwersen et al. 2022 (https://doi.org/10.1038/s41597-022-01293-7), and Yang et al., 2017 (https://doi.org/10.1016/j.jclepro.2017.04.150).
A5: Tab Name | B5: Description | E5: Scenarios
A6: README | B6: Description of tables, scenarios, and key equations | E6: BASE | F6: Current food production and consumption conditions to meet 50% of dietary needs for the DM-MSA
A7: 1. LCA Contols | B7: A control panel where the year (2020 - 2050) can be selected and model results are displayed for two scenarios: the baseline 50% food consumption (BASE) and 50% local diet (LOCAL) food system scenarios. | E7: LOCAL | F7: Food production with 50% of dietary needs for the DM-MSA grown within the DM-MSA under current consumption conditions
A8: Table 1.1 | B8: Model Inputs: identify year of simulation (population values auto-populate) | E8: ABM-LOCAL | F8: A scenario with land use for food grown within the DM-MSA determined based on an Agent Based Model (ABM) for the DM-MSA under current consumption conditions
A9: Table 1.2 | B9: Land use for table food by food group and scenario
A10: Table 1.3 | B10: Environmental impacts by scenario | E10: Summary Table: % of each food group included in the 50% modeled diet (details in 11. Diets tab)
A11: 2. ABM-LCA Controls | B11: A control panel where the year (2020 - 2050) can be selected and model results are displayed for one scenario: table food land use in the DM-MSA come from an Agent Based Model (ABM) and the amount of current consumption this amount of land use would produce is displayed. | E11: Food groups | F11: % included by food group | G11: servings /person/day
A12: Table 2.1 | B12: Model Inputs: identify year of simulation (population values auto-populate) | E12: Protein | F12: =SUM('11. Diet'!I3:I7)/G12 -> 0.50066796 | G12: 7.71
A13: Table 2.2 | B13: Land use for table food by food group and scenario | E13: Protein - Legumes | F13: ='11. Diet'!I7/G13 -> 0.49609375 | G13: 0.32
A14: Table 2.3 | B14: Environmental impacts by scenario | E14: Dairy | F14: =SUM('11. Diet'!I8:I9)/G14 -> 0.50337748 | G14: 1.51
A15: Table 2.4 | B15: Percentage of 50% Local consumption land use listed in Table 2.1 will provide by food group | E15: Fruits | F15: =SUM('11. Diet'!I10:I18)/G15 -> 0.49886364 | G15: 0.88
A16: 3. Outputs BASE | B16: The USEEIO dataset converts $/MSA/year into environmental outputs by category for the BASE food system scenario using the functional unit of kg /MSA/year. | E16: Vegetables | F16: =SUM('11. Diet'!I19:I41)/G16 -> 0.50160541 | G16: 1.85
A17: Table 3.1 | B17: Outputs of the BASE scenario | E17: Vegetable - Dark Green | G17: 0.15
A18: 4. Outputs LOCAL | B18: A modified USEEIO for a local food system (LOCAL) scenario calculating environmental outputs first by category for the LOCAL scenario using the functional unit of kg/MSA/year | E18: Vegetable - Red Orange | G18: 0.2
A19: Table 4.1 | B19: Outputs of the LOCAL scenario | E19: Vegetable - Starchy | G19: 0.3
A20: 5. Outputs ABM-LOCAL | B20: USEEIO outputs for the ABM scenario | E20: Vegetable - Legumes | F20: =SUM('11. Diet'!I34)/G20 -> 0.49609375 | G20: =G13/6.35 -> 0.050393701
A21: Table 5.1 | B21: Outputs of the ABM-LOCAL scenario | E21: Vegetable - Other | G21: 0.25
A22: 6. ABM Inputs | B22: Inputs for the ABM scenario | E22: Grains | F22: =SUM('11. Diet'!I42:I43)/G22 -> 0.50209639 | G22: 6.64
A23: Table 6.1 | B23: ABM-LCA model Inputs | E23: Oil | F23: =SUM('11. Diet'!I44:I45)/G23 -> 0.50016432 | G23: 63.9
A24: Table 6.2 | B24: Local livestock feed proportions | E24: Sugar | F24: =SUM('11. Diet'!I46:I47)/G24 -> 0.50326786 | G24: 22.4
A25: 7. BASE to LOCAL | B25: Adjustments made from BASE to LOCAL by food system stage based on adjustment factors in Local Prod through Waste, Losses tabs
A26: Table 7.1 | B26: Proportional difference between BASE and LOCAL scenarios | E26: Full name for modeled foods | F26: Short food name
A27: Table 7.2 | B27: Proportion emissions by food system stage | E27: 311615/packaged poultry/us | F27: Chicken
A28: 8. Prices | B28: Average food costs by USEEIO category with BASE to LOCAL adjustments integrated. Prices are inputs to Outputs tabs. | E28: 31161a/packaged meat (except poultry)/us | F28: Beef
A29: Table 8.1 | B29: Food prices | E29: 31161a/packaged meat (except poultry)/us | F29: Pork
A30: Table 8.2 | B30: Food prices within sub-groups | E30: 112300/poultry farms/us | F30: Eggs
A31: 9. Price adj | B31: Price adjustments to change year (inflation corrected) and convert from consumer to producer prices | E31: 1111b0/fresh wheat, corn, rice, and other grains/us | F31: Beans, dry
A32: Table 9.1 | B32: Price adjustment ratios by year | E32: 311513/cheese/us | F32: Cheese
A33: 10. Population | B33: Current and projected future population for the MSA the model adjusts consumption requirements accordingly. | E33: 31151a/fluid milk and butter/us | F33: Milk
A34: Table 10.1 | B34: Population projections for the DM-MSA | E34: 111300/fresh fruits and tree nuts/us | F34: Apple
A35: 11. Diets | B35: Foods are grouped into categories and 50% of consumption for the current diet is quantified. Consumption amounts in kg/MSA/year inform the 8. Prices tab which are used in the Outputs tabs (3-5). | F35: Melon
A36: Table 11.1 | B36: Diet composition | F36: Blueberries
A37: Table 11.2 | B37: Preserved fruit/ vegetable weights | F37: Cherries
A38: Table 11.3 | B38: Processed grain weights | F38: Grapes
A39: Table 11.4 | B39: Percent of consumption for each food type included in each food category | F39: Pears
A40: Table 11.5 | B40: ABM-LCA preserved fruit/ vegetable weights | F40: Raspberries
A41: 12. Nutrition | B41: The macronutritional value of the current modeled diet to check that the diet meets 50% of the nutritional requirements for the MSA. | F41: Strawberries
A42: Table 12.1 | B42: Dietary marconutrient summary | E42: 311420/fruit and vegetable preservation/us | F42: Preserved, Fruit
...

Sheet 1. LCA Controls
A1: 1. LCA control panel
A2: Iowa UrbanFEWS LCA model of the Des Moines Metropolitan Statistical Area (MSA) Food System generates LCA outputs which vary by scenario for food systems under current production and consumpion and in a future scenario where 50% of the nutritional requirements are produced locally within the MSA
A4: Table 1.1: Model inputs
A5: Model Year | B5: 2040 | C5: Range: 2020 - 2050
A6: Model Population | B6: =VLOOKUP(B5,'10. Population'!A3:B34, 2, FALSE) -> 823018 | C6: Auto-populates from 10. Population
A8: Model outputs
A9: Table 1.2: Land use for table food by food group and scenario
A10: Total agricultural land use (ha) | B10: BASE | C10: LOCAL
A11: Protein (cropland) | B11: =SUM('14. Land Req '!D4:D8) -> 11882.411 | C11: =SUM('14. Land Req '!E4:E8) -> 10616.591
A12: Protein (pasture/forage) | B12: ='14. Land Req '!F5 -> 38928.865 | C12: =SUM('14. Land Req '!G4:G8) -> 37750.574
A13: Dairy (cropland) | B13: =SUM('14. Land Req '!D9:D10) -> 525.18401 | C13: =SUM('14. Land Req '!E9:E10) -> 288.26284
A14: Dairy (pasture/forage) | B14: =SUM('14. Land Req '!F9:F10) -> 4164.7216 | C14: =SUM('14. Land Req '!G9:G10) -> 6737.9789
A15: Fruit (orchard/vineyard) | B15: =SUM('14. Land Req '!D11, '14. Land Req '!D14:D16, ('14. Land Req '!D19 * (SUM('11. Diet'!B51:B53,'11. Diet'!B55:B57))) ) -> 893.70384 | C15: =SUM('14. Land Req '!E11,'14. Land Req '!E14:E16)+('14. Land Req '!E19*(SUM('11. Diet'!B51:B53,'11. Diet'!B55:B57))) -> 1121
A16: Fruit (berry/melon) | B16: =SUM('14. Land Req '!D12:D13,'14. Land Req '!D17:D18) + ('14. Land Req '!D19*(SUM('11. Diet'!B54,'11. Diet'!B58:B59))) -> 707.45033 | C16: =SUM('14. Land Req '!E12:E13, '14. Land Req '!E17:E18) + ('14. Land Req '!E19*(SUM('11. Diet'!B54,'11. Diet'!B58:B59))) -> 731.70054
A17: Vegetables (specialty) | B17: =SUM('14. Land Req '!D20:D26, '14. Land Req '!D28:D30, '14. Land Req '!D33, '14. Land Req '!D37:D41, ('14. Land Req '!D34*'2. ABM-LCA Controls'!$B59), ('14. Land Req '!D42*'2. ABM-LCA Controls'!$B61)) -> 1531.0113 | C17: =SUM('14. Land Req '!E20:E26, '14. Land Req '!E28:E30, '14. Land Req '!E33, '14. Land Req '!E37:E41, ('14. Land Req '!E34*'2. ABM-LCA Controls'!$B59), ('14. Land Req '!E42*'2. ABM-LCA Controls'!$B61)) -> 1347.7091
A18: Vegetables (field) | B18: =SUM('14. Land Req '!D27, '14. Land Req '!D31:D32, '14. Land Req '!D35:D36, ('14. Land Req '!D34*'2. ABM-LCA Controls'!$B60), ('14. Land Req '!D42*'2. ABM-LCA Controls'!$B62)) -> 1081.5863 | C18: =SUM('14. Land Req '!E27, '14. Land Req '!E31:E32, '14. Land Req '!E35:E36, ('14. Land Req '!E34*'2. ABM-LCA Controls'!$B60), ('14. Land Req '!E42*'2. ABM-LCA Controls'!$B62)) -> 1009.7118
A19: Grains | B19: =SUM('14. Land Req '!D43:D44) -> 14141.878 | C19: =SUM('14. Land Req '!E43:E44) -> 12440.968
A20: Oil | B20: =SUM('14. Land Req '!D45:D46) -> 29555.907 | C20: =SUM('14. Land Req '!E45:E46) -> 23238.271
A21: Sugar | B21: =SUM('14. Land Req '!D47:D48) -> 4659.2341 | C21: =SUM('14. Land Req '!E47:E48) -> 4279.1004
A22: Commodity crops (corn/soy) | B22: =SUM('14. Land Req '!D49:D50) -> 468681.83 | C22: =SUM('14. Land Req '!E49:E50) -> 397349.16
A23: Pasture LU (ha) | B23: =SUM(B12,B14) -> 43093.587 | C23: =SUM(C12,C14) -> 44488.553
A24: % MSA agricultural (ag) land in pasture | C24: =C23/'14. Land Req '!$B$66 -> 0.064072369
A25: Cropland LU (ha) | B25: =SUM(B11, B13, B15:B21) -> 64978.367 | C25: =SUM(C11, C13, C15:C21) -> 55073.315
A26: % of MSA ag land in crop production | C26: =C25/'14. Land Req '!$B$66 -> 0.079316532
A27: Total LU (ha) | B27: =SUM(B23,B25) -> 108071.95 | C27: =SUM(C23,C25) -> 99561.868
A28: Total % | C28: =SUM(C24,C26) -> 0.1433889
A30: Table 1.3: Environmental impacts by scenario
A31: Environmental impacts | B31: BASE | C31: LOCAL
A32: Energy Use (MJ) | B32: ='3. Outputs BASE'!B8 -> 7.4429876e+09 | C32: ='4. Outputs LOCAL'!B8 -> 6.4325932e+09
A33: Freshwater withdrawals (m3) | B33: ='3. Outputs BASE'!B11 -> 2.6912461e+11 | C33: ='4. Outputs LOCAL'!B11 -> 1.9029584e+11
A34: Global Warming Potential (kg co2 eq) | B34: ='3. Outputs BASE'!B12 -> 1.6417699e+09 | C34: ='4. Outputs LOCAL'!B12 -> 1.4080033e+09
A36: BASE only environmental impacts | B36: BASE
A37: Acid Rain Potential (kg so2-eq) | B37: ='3. Outputs BASE'!B4 -> 10691887
A38: Commercial Construction and Demolition Debris | B38: ='3. Outputs BASE'!B5 -> 4954033.3
A39: Commercial Municipal Solid Waste | B39: ='3. Outputs BASE'!B6 -> 9082193
A40: Commercial RCRA Hazardous Waste | B40: ='3. Outputs BASE'!B7 -> 4825280.4
A41: Eutrophication Potential (kg n eq) | B41: ='3. Outputs BASE'!B9 -> 13386973
A42: Freshwater Aquatic Ecotoxicity Potential (ctue) | B42: ='3. Outputs BASE'!B10 -> 1.3973198e+10
A43: Hazardous Air Pollutants Release (kg) | B43: ='3. Outputs BASE'!B11 -> 2.6912461e+11
A44: Human Health - Cancer Potential (ctuh) | B44: ='3. Outputs BASE'!B12 -> 1.6417699e+09
...

Sheet 2. ABM-LCA Controls
A1: 2. ABM-LCA control panel
A2: Iowa UrbanFEWS LCA model of the Des Moines Metropolitan Statistical Area (MSA) Food System generates LCA outputs which vary by scenario for food system based on land use supplied by an Agent Based Model (ABM) of MSA producers. The percentage of nutritional requirements produced locally within the MSA are then tabulated.
A4: Table 2.1: Model inputs
A5: Model Year | B5: 2020 | C5: Range: 2020 - 2050
A6: Model Population | B6: =VLOOKUP(B5,'10. Population'!A3:B34, 2, FALSE) -> 704990 | C6: Auto-populates from 10. Population
A9: Table 2.2: Land use for table food by food group and scenario
A10: Total agricultural land use (ha) | B10: ABM-LOCAL
A11: Protein (cropland) | B11: 9094.0791
A12: Protein (pasture/forages) | B12: 32336.811
A13: Dairy (cropland) | B13: 246.92342
A14: Dairy (pasture/forage) | B14: 5771.6936
A15: Fruit (orchard/vineyard) | B15: 960.23878
A16: Fruit (berry/melon) | B16: 626.76826
A17: Vegetables (specialty) | B17: 1324.4915
A18: Vegetables (field) | B18: 1179.9467
A19: Grains | B19: 10656.824
A20: Oil | B20: 19905.699
A21: Sugar | B21: 3665.4399
A22: Commodity crops (corn/soy)
A23: Pasture LU (ha) | B23: =SUM(B12,B14) -> 38108.505
A24: % MSA agricultural (ag) land in pasture | B24: =B23/'14. Land Req '!$B$66 -> 0.054883829
A25: Cropland LU (ha) | B25: =SUM(B11, B13, B15:B21) -> 47660.411
A26: % of MSA ag land in crop production | B26: =B25/'14. Land Req '!$B$66 -> 0.068640475
A27: Total LU (ha) | B27: =SUM(B23,B25) -> 85768.915
A28: Total % | B28: =SUM(B24,B26) -> 0.1235243
A29: Model outputs
A30: Table 2.3: Environmental impacts by scenario
A31: Environmental Impacts | B31: ABM-LOCAL
A32: Energy Use (MJ) | B32: ='5. Outputs ABM-LOCAL'!B4 -> 2.6697863e+09
A33: Freshwater withdrawals (m3) | B33: ='5. Outputs ABM-LOCAL'!B5 -> 5.5253737e+10
A34: Global Warming Potential (kg co2 eq) | B34: ='5. Outputs ABM-LOCAL'!B6 -> 4.9809518e+08
A36: Table 2.4: Percent nutritional intake by food group | B36: Proportion local of 50% Diet by ABM-LCA food group (%)
A37: Protein (animal-based) | B37: =SUM('6. ABM-LCA Inputs'!G3:G6)/SUM('6. ABM-LCA Inputs'!B3:B6) -> 1
A38: Protein (plant-based) | B38: =SUM('6. ABM-LCA Inputs'!G7)/SUM('6. ABM-LCA Inputs'!B7) -> 1
A39: Dairy | B39: =SUM('6. ABM-LCA Inputs'!G8:G9)/ SUM('6. ABM-LCA Inputs'!B8:B9) -> 1
A40: Fruit (orchard/vineyard) | B40: =(SUM('6. ABM-LCA Inputs'!G10, '6. ABM-LCA Inputs'!G13:G15) + ('6. ABM-LCA Inputs'!G18*'11. Diet'!F61)) / (SUM('6. ABM-LCA Inputs'!B10, '6. ABM-LCA Inputs'!B13:B15) + ('6. ABM-LCA Inputs'!B18*'11. Diet'!F61)) -> 1
A41: Fruit (berry/melon) | B41: =(SUM('6. ABM-LCA Inputs'!G11:G12, '6. ABM-LCA Inputs'!G16:G17) + ('6. ABM-LCA Inputs'!G18*'11. Diet'!F62))/ (SUM('6. ABM-LCA Inputs'!B11:B12, '6. ABM-LCA Inputs'!B16:B17) + ('6. ABM-LCA Inputs'!B18*'11. Diet'!F62)) -> 1
A42: Vegetables (specialty) | B42: =(SUM('6. ABM-LCA Inputs'!G19:G25, '6. ABM-LCA Inputs'!G27:G29, '6. ABM-LCA Inputs'!G32, '6. ABM-LCA Inputs'!G36:G40) + ('6. ABM-LCA Inputs'!G33*'11. Diet'!$E$63) + ('6. ABM-LCA Inputs'!G41*'11. Diet'!$E$65)) / (SUM('6. ABM-LCA Inputs'!B19:B25, '6. ABM-LCA Inputs'!B27:B29, '6. ABM-LCA Inputs'!B32, '6. ABM-LCA Inputs'!B36:B40) + ('6. ABM-LCA Inputs'!B33*'11. Diet'!$E$63) + ('6. ABM-LCA Inputs'!B41*'11. Diet'!$E$65)) -> 0.91608648
A43: Vegetables (field) | B43: =(SUM('6. ABM-LCA Inputs'!G26, '6. ABM-LCA Inputs'!G30:G31, '6. ABM-LCA Inputs'!G34:G35) + ('6. ABM-LCA Inputs'!G33*'11. Diet'!$E$64) + ('6. ABM-LCA Inputs'!G41*'11. Diet'!$E$66))/(SUM('6. ABM-LCA Inputs'!B26, '6. ABM-LCA Inputs'!B30:B31, '6. ABM-LCA Inputs'!B34:B35) + ('6. ABM-LCA Inputs'!B33*'11. Diet'!$E$64) + ('6. ABM-LCA Inputs'!B41*'11. Diet'!$E$66)) -> 1.0737221
A44: Grains | B44: =(SUM('6. ABM-LCA Inputs'!G42:G43)) / (SUM('6. ABM-LCA Inputs'!B42:B43)) -> 1
...

Sheet 3. Outputs BASE
A1: 3.1 Outputs of the BASE scenario
A2: MSA FS BASE ($/MSA/year) by food category | B2: =SUM(C2:T2) -> 9.6434739e+08 | C2: ='8. Prices'!$C3 -> 57915802 | D2: =SUM('8. Prices'!C4:C5) -> 1.1665979e+08 | E2: ='8. Prices'!$C6 -> 16701263 | F2: ='8. Prices'!$C7 -> 3874311.7 | G2: =SUM('8. Prices'!C8) -> 48567712 | H2: =SUM('8. Prices'!C9) -> 10597503 | I2: =(SUM('8. Prices'!C10:C17))+((SUM('8. Prices'!C18)) *0.85) -> 46821867 | J2: =(SUM('8. Prices'!C19:C23, '8. Prices'!C25:C28, '8. Prices'!C30:C32, '8. Prices'!C34:C39)) + ((SUM('8. Prices'!C24, '8. Prices'!C29, '8. Prices'!C33, '8. Prices'!C40)) *0.85) -> 68549350 | K2: =((SUM('8. Prices'!C18, '8. Prices'!C24, '8. Prices'!C29, '8. Prices'!C33, '8. Prices'!C40)) *0.15) -> 6626687.3 | L2: ='8. Prices'!$C41 -> 10628586 | M2: ='8. Prices'!$C42 -> 32603718 | N2: ='8. Prices'!$C43 -> 11393346 | O2: ='8. Prices'!C44 -> 3305815.2 | P2: =SUM('8. Prices'!$C45:$C46) -> 10395664 | Q2: =SUM('8. Prices'!$C47:$C48)*0.656 -> 12114059 | R2: =SUM('8. Prices'!$C47:$C48)*0.344 -> 6352494.5 | S2: ='8. Prices'!C50 -> 1.7882354e+08 | T2: ='8. Prices'!C49 -> 3.2241588e+08
A3: Environmental Impacts | B3: BASE | C3: 311615/packaged poultry/us | D3: 31161a/packaged meat (except poultry)/us | E3: 112300/poultry farms/us | F3: 1111b0/fresh wheat, corn, rice, and other grains/us | G3: 311513/cheese/us | H3: 31151a/fluid milk and butter/us | I3: 111300/fresh fruits and tree nuts/us | J3: 111200/fresh vegetables, melons, and potatoes/us | K3: 311420/fruit and vegetable preservation/us | L3: 311230/breakfast cereals/us | M3: 311810/bread and other baked goods/us | N3: 3118a0/cookies, crackers, pastas, and tortillas/us | O3: 311210/flours and malts/us | P3: 311225/refined vegetable, olive, and seed oils/us | Q3: 311300/sugar, candy, and chocolate/us | R3: 312110/soft drinks, bottled water, and ice/us | S3: 1111a0/fresh soybeans, canola, flaxseeds, and other oilseeds/us | T3: 1111b0/fresh wheat, corn, rice, and other grains/us
A4: Acidification Potential | B4: =(C4*$C$2)+(D4*$D$2)+(E4*$E$2)+(F4*$F$2)+(G4*$G$2)+(H4*$H$2)+(I4*$I$2)+(J4*$J$2)+(K4*$K$2)+(L4*$L$2)+(M4*$M$2)+(N4*$N$2)+(O4*$O$2)+(P4*$P$2)+(Q4*$Q$2)+(S4*$S$2)+(T4*$T$2) -> 10691887 | C4: 0.013187603 | D4: 0.021092445 | E4: 0.023387754 | F4: 0.014158051 | G4: 0.012497515 | H4: 0.010868286 | I4: 0.0036877408 | J4: 0.0068571386 | K4: 0.0036576241 | L4: 0.0029477321 | M4: 0.0026449998 | N4: 0.0041461355 | O4: 0.0091413083 | P4: 0.0040758521 | Q4: 0.0027536555 | R4: 0.0016837132 | S4: 0.004459002 | T4: 0.014158051
A5: Commercial Construction and Demolition Debris | B5: =(C5*$C$2)+(D5*$D$2)+(E5*$E$2)+(F5*$F$2)+(G5*$G$2)+(H5*$H$2)+(I5*$I$2)+(J5*$J$2)+(K5*$K$2)+(L5*$L$2)+(M5*$M$2)+(N5*$N$2)+(O5*$O$2)+(P5*$P$2)+(Q5*$Q$2)+(S5*$S$2)+(T5*$T$2) -> 4954033.3 | C5: 0.0038657476 | D5: 0.0034433565 | E5: 0.0044581216 | F5: 0.0067071101 | G5: 0.0041982332 | H5: 0.0041842981 | I5: 0.0030253071 | J5: 0.0050199593 | K5: 0.0035699334 | L5: 0.0038456429 | M5: 0.0043349566 | N5: 0.0040436066 | O5: 0.0059289981 | P5: 0.0049060528 | Q5: 0.0037875688 | R5: 0.0035324278 | S5: 0.0053857302 | T5: 0.0067071101
A6: Commercial Municipal Solid Waste | B6: =(C6*$C$2)+(D6*$D$2)+(E6*$E$2)+(F6*$F$2)+(G6*$G$2)+(H6*$H$2)+(I6*$I$2)+(J6*$J$2)+(K6*$K$2)+(L6*$L$2)+(M6*$M$2)+(N6*$N$2)+(O6*$O$2)+(P6*$P$2)+(Q6*$Q$2)+(S6*$S$2)+(T6*$T$2) -> 9082193 | C6: 0.011484259 | D6: 0.010330612 | E6: 0.010824935 | F6: 0.0089774041 | G6: 0.012104943 | H6: 0.010497136 | I6: 0.0072716236 | J6: 0.0083993286 | K6: 0.010497452 | L6: 0.009683169 | M6: 0.024146752 | N6: 0.010141802 | O6: 0.010275886 | P6: 0.011208463 | Q6: 0.0098340678 | R6: 0.008641708 | S6: 0.0063837232 | T6: 0.0089774041
A7: Commercial RCRA Hazardous Waste | B7: =(C7*$C$2)+(D7*$D$2)+(E7*$E$2)+(F7*$F$2)+(G7*$G$2)+(H7*$H$2)+(I7*$I$2)+(J7*$J$2)+(K7*$K$2)+(L7*$L$2)+(M7*$M$2)+(N7*$N$2)+(O7*$O$2)+(P7*$P$2)+(Q7*$Q$2)+(S7*$S$2)+(T7*$T$2) -> 4825280.4 | C7: 0.0038991882 | D7: 0.0024918276 | E7: 0.0053477607 | F7: 0.0070724437 | G7: 0.0040825201 | H7: 0.0050360625 | I7: 0.0033645476 | J7: 0.0044597973 | K7: 0.0047454714 | L7: 0.00396187 | M7: 0.0038317335 | N7: 0.0047816892 | O7: 0.0079125862 | P7: 0.0049211276 | Q7: 0.0068115221 | R7: 0.0099532516 | S7: 0.0043846702 | T7: 0.0070724437
A8: Energy Use | B8: =(C8*$C$2)+(D8*$D$2)+(E8*$E$2)+(F8*$F$2)+(G8*$G$2)+(H8*$H$2)+(I8*$I$2)+(J8*$J$2)+(K8*$K$2)+(L8*$L$2)+(M8*$M$2)+(N8*$N$2)+(O8*$O$2)+(P8*$P$2)+(Q8*$Q$2)+(S8*$S$2)+(T8*$T$2) -> 7.4429876e+09 | C8: 11.488643 | D8: 6.8239098 | E8: 15.811533 | F8: 9.0002672 | G8: 8.5255359 | H8: 8.5379324 | I8: 3.6274601 | J8: 5.436187 | K8: 8.4366376 | L8: 9.1965958 | M8: 7.1371818 | N8: 8.6598623 | O8: 10.603874 | P8: 8.409129 | Q8: 11.148237 | R8: 9.9489815 | S8: 5.5428253 | T8: 9.0002672
A9: Eutrophication Potential | B9: =(C9*$C$2)+(D9*$D$2)+(E9*$E$2)+(F9*$F$2)+(G9*$G$2)+(H9*$H$2)+(I9*$I$2)+(J9*$J$2)+(K9*$K$2)+(L9*$L$2)+(M9*$M$2)+(N9*$N$2)+(O9*$O$2)+(P9*$P$2)+(Q9*$Q$2)+(S9*$S$2)+(T9*$T$2) -> 13386973 | C9: 0.0038826433 | D9: 0.0039323712 | E9: 0.00708932 | F9: 0.028855576 | G9: 0.0032863068 | H9: 0.0030248409 | I9: 0.00075435547 | J9: 0.010657923 | K9: 0.0017974401 | L9: 0.0040892827 | M9: 0.0031753146 | N9: 0.0049349494 | O9: 0.017145072 | P9: 0.0062635621 | Q9: 0.0014966802 | R9: 0.0012926381 | S9: 0.010384743 | T9: 0.028855576
A10: Freshwater Ecotoxicity Potential | B10: =(C10*$C$2)+(D10*$D$2)+(E10*$E$2)+(F10*$F$2)+(G10*$G$2)+(H10*$H$2)+(I10*$I$2)+(J10*$J$2)+(K10*$K$2)+(L10*$L$2)+(M10*$M$2)+(N10*$N$2)+(O10*$O$2)+(P10*$P$2)+(Q10*$Q$2)+(S10*$S$2)+(T10*$T$2) -> 1.3973198e+10 | C10: 2.1551647 | D10: 1.2570095 | E10: 4.1768203 | F10: 10.273305 | G10: 1.6998237 | H10: 1.5525392 | I10: 22.498207 | J10: 35.960705 | K10: 3.1319901 | L10: 5.986427 | M10: 1.8466619 | N10: 2.8355468 | O10: 6.2115252 | P10: 14.163129 | Q10: 3.2006211 | R10: 0.70219977 | S10: 35.112613 | T10: 10.273305
A11: Freshwater withdrawals | B11: =(C11*$C$2)+(D11*$D$2)+(E11*$E$2)+(F11*$F$2)+(G11*$G$2)+(H11*$H$2)+(I11*$I$2)+(J11*$J$2)+(K11*$K$2)+(L11*$L$2)+(M11*$M$2)+(N11*$N$2)+(O11*$O$2)+(P11*$P$2)+(Q11*$Q$2)+(S11*$S$2)+(T11*$T$2) -> 2.6912461e+11 | C11: 80.634795 | D11: 252.99446 | E11: 112.29363 | F11: 430.56332 | G11: 60.680259 | H11: 56.662583 | I11: 846.64626 | J11: 479.01443 | K11: 109.84362 | L11: 68.985961 | M11: 69.424782 | N11: 99.873642 | O11: 264.62411 | P11: 68.001096 | Q11: 70.381685 | R11: 39.508977 | S11: 51.750189 | T11: 430.56332
A12: Greenhouse Gases | B12: =(C12*$C$2)+(D12*$D$2)+(E12*$E$2)+(F12*$F$2)+(G12*$G$2)+(H12*$H$2)+(I12*$I$2)+(J12*$J$2)+(K12*$K$2)+(L12*$L$2)+(M12*$M$2)+(N12*$N$2)+(O12*$O$2)+(P12*$P$2)+(Q12*$Q$2)+(S12*$S$2)+(T12*$T$2) -> 1.6417699e+09 | C12: 1.0123674 | D12: 2.5143711 | E12: 1.3324452 | F12: 2.4682477 | G12: 1.8196896 | H12: 1.632627 | I12: 0.70979513 | J12: 0.99290382 | K12: 0.86379923 | L12: 0.79679524 | M12: 0.63548062 | N12: 0.8692235 | O12: 1.8137862 | P12: 1.0259956 | Q12: 0.73907815 | R12: 0.68006424 | S12: 1.0333425 | T12: 2.4682477
A13: Hazardous Air Pollutants | B13: =(C13*$C$2)+(D13*$D$2)+(E13*$E$2)+(F13*$F$2)+(G13*$G$2)+(H13*$H$2)+(I13*$I$2)+(J13*$J$2)+(K13*$K$2)+(L13*$L$2)+(M13*$M$2)+(N13*$N$2)+(O13*$O$2)+(P13*$P$2)+(Q13*$Q$2)+(S13*$S$2)+(T13*$T$2) -> 116728.49 | C13: 0.00013786001 | D13: 0.00010732522 | E13: 0.00021878594 | F13: 0.00014973662 | G13: 0.00023517128 | H13: 0.00021301601 | I13: 5.7446887e-05 | J13: 9.8931974e-05 | K13: 8.7771827e-05 | L13: 8.4759195e-05 | M13: 5.9769291e-05 | N13: 8.616327e-05 | O13: 0.00012336281 | P13: 0.00011239168 | Q13: 0.00010331218 | R13: 8.1530109e-05 | S13: 7.4491324e-05 | T13: 0.00014973662
A14: Human Health - Cancer | B14: =(C14*$C$2)+(D14*$D$2)+(E14*$E$2)+(F14*$F$2)+(G14*$G$2)+(H14*$H$2)+(I14*$I$2)+(J14*$J$2)+(K14*$K$2)+(L14*$L$2)+(M14*$M$2)+(N14*$N$2)+(O14*$O$2)+(P14*$P$2)+(Q14*$Q$2)+(S14*$S$2)+(T14*$T$2) -> 0.4889522 | C14: 3.1816993e-10 | D14: 3.4274692e-10 | E14: 4.7612413e-10 | F14: 8.8837154e-10 | G14: 3.1963017e-10 | H14: 2.9832839e-10 | I14: 2.2755381e-10 | J14: 3.421464e-10 | K14: 2.1148309e-10 | L14: 2.7048924e-10 | M14: 1.9878821e-10 | N14: 2.9422718e-10 | O14: 6.5252322e-10 | P14: 3.1600744e-10 | Q14: 2.8123996e-10 | R14: 2.0020708e-10 | S14: 3.1857608e-10 | T14: 8.8837154e-10
A15: Human Health - Noncancer | B15: =(C15*$C$2)+(D15*$D$2)+(E15*$E$2)+(F15*$F$2)+(G15*$G$2)+(H15*$H$2)+(I15*$I$2)+(J15*$J$2)+(K15*$K$2)+(L15*$L$2)+(M15*$M$2)+(N15*$N$2)+(O15*$O$2)+(P15*$P$2)+(Q15*$Q$2)+(S15*$S$2)+(T15*$T$2) -> 5.5345629 | C15: 4.0903361e-09 | D15: 3.3279996e-09 | E15: 5.1004382e-09 | F15: 7.5694013e-09 | G15: 3.9781843e-09 | H15: 4.0560543e-09 | I15: 3.7200483e-09 | J15: 7.0058251e-09 | K15: 3.9877548e-09 | L15: 4.4226234e-09 | M15: 3.334204e-09 | N15: 4.3146539e-09 | O15: 6.5033905e-09 | P15: 5.0692613e-09 | Q15: 6.5109925e-09 | R15: 5.0981871e-09 | S15: 6.0362837e-09 | T15: 7.5694013e-09
... A26: Value Added | B26: =(C26*$C$2)+(D26*$D$2)+(E26*$E$2)+(F26*$F$2)+(G26*$G$2)+(H26*$H$2)+(I26*$I$2)+(J26*$J$2)+(K26*$K$2)+(L26*$L$2)+(M26*$M$2)+(N26*$N$2)+(O26*$O$2)+(P26*$P$2)+(Q26*$Q$2)+(S26*$S$2)+(T26*$T$2) -> 9.5063959e+08 | C26: 0.99083024 | D26: 0.9918236 | E26: 0.9884199 | F26: 0.99152228 | G26: 0.98805455 | H26: 0.99039653 | I26: 0.99780738 | J26: 0.99648447 | K26: 0.99057804 | L26: 0.99064851 | M26: 0.9919778 | N26: 0.99151401 | O26: 0.9894784 | P26: 0.98893161 | Q26: 0.99250625 | R26: 0.99051967 | S26: 0.9937117 | T26: 0.99152228
A28: Sources
A29: Yang, Yi, Wesley W. Ingwersen, Troy R. Hawkins, Michael Srocka, and David E. Meyer. 2017. USEEIO: A new and transparent United States environmentally-extended input-output model. Journal of Cleaner Production 158. Elsevier Ltd: 308–318. https://doi.org/10.1016/j.jclepro.2017.04.150.
A30: Ingwersen, W. W., Li, M., Young, B., Vendries, J., & Birney, C. (2022). USEEIO v2. 0, The US Environmentally-Extended Input-Output Model v2. 0. Scientific Data, 9(1), 1-24. https://doi.org/10.1038/s41597-022-01293-7.
A31: Heller, M. C., Willits-Smith, A., Meyer, R., Keoleian, G. A., & Rose, D. (2018). Greenhouse gas emissions and energy use associated with production of individual self-selected US diets. Environmental Research Letters, 13(4), 044004. https://doi.org/10.1088/1748-9326/aab0ac.
A32: Clune, S., Crossin, E., & Verghese, K. (2017). Systematic review of greenhouse gas emissions for different fresh food categories. Journal of Cleaner Production, 140, 766-783. https://doi.org/10.1016/j.jclepro.2016.04.082.
A34: Notes
A35: All inputs by food category per dollar are based on the US Environmentally Extended Input Output Model (USEEIO) Version 2.0 (Yang et al. 2017; Ingwersen et al. 2022)
A36: Fruit and vegetable preservation does not include the environmental impacts of production. Thus, 85% of the impacts for preserved fruit and vegetables are allocated to the fresh fruit and vegetable categories to account for production. Percentages were selected based on review LCA studies for which post-farm gate (including processing) made up approximately 15% of total GWP for both studies (Clune et al. 2017; Heller et al 2018)
A38: Equations
A39: Table 3.1 : BASE | B39: (3.1 MSA FS BASE ($/MSA/year) by food category 1 * 3.1 Environmental impacts by food category 1) + ... food category 2...3....4

Sheet 4. Outputs LOCAL
A1: 4.1 Outputs of the LOCAL scenario
A2: MSA FS LOCAL $/MSA/year | B2: =SUM(C2:T2) -> 7.9867658e+08 | C2: ='8. Prices'!$D3 -> 56233535 | D2: =SUM('8. Prices'!D4:D5) -> 1.132712e+08 | E2: ='8. Prices'!$D6 -> 16394708 | F2: ='8. Prices'!$D7 -> 3354969.9 | G2: =SUM('8. Prices'!D8) -> 47981738 | H2: =SUM('8. Prices'!D9) -> 10469643 | I2: =SUM('8. Prices'!D10:D17) -> 10125413 | J2: =((SUM('8. Prices'!D19:D23, '8. Prices'!D25:D28, '8. Prices'!D30:D32, '8. Prices'!D34:D39))+(SUM( '8. Prices'!D24, '8. Prices'!D29, '8. Prices'!D33, '8. Prices'!D40))*0.85) -> 16428884 | K2: =SUM('8. Prices'!D18, '8. Prices'!D24, '8. Prices'!D29, '8. Prices'!D33, '8. Prices'!D40) -> 23504056 | L2: ='8. Prices'!$D41 -> 9332231.1 | M2: ='8. Prices'!$D42 -> 28627086 | N2: ='8. Prices'!$D43 -> 10003714 | O2: ='8. Prices'!D44 -> 2902609.3 | P2: =SUM('8. Prices'!$D45:$D46) -> 8937018.6 | Q2: =SUM('8. Prices'!$D47:$D48)*0.656 -> 10599811 | R2: =SUM('8. Prices'!$D47:$D48)*0.344 -> 5558437.6 | S2: ='8. Prices'!D50 -> 1.5160687e+08 | T2: ='8. Prices'!D49 -> 2.7334466e+08
A3: Environmental impacts | B3: LOCAL | C3: 311615/packaged poultry/us | D3: 31161a/packaged meat (except poultry)/us | E3: 112300/poultry farms/us | F3: 1111b0/fresh wheat, corn, rice, and other grains/us | G3: 311513/cheese/us | H3: 31151a/fluid milk and butter/us | I3: 111300/fresh fruits and tree nuts/us | J3: 111200/fresh vegetables, melons, and potatoes/us | K3: 311420/fruit and vegetable preservation/us | L3: 311230/breakfast cereals/us | M3: 311810/bread and other baked goods/us | N3: 3118a0/cookies, crackers, pastas, and tortillas/us | O3: 311210/flours and malts/us | P3: 311225/refined vegetable, olive, and seed oils/us | Q3: 311300/sugar, candy, and chocolate/us | R3: 312110/soft drinks, bottled water, and ice/us | S3: 1111a0/fresh soybeans, canola, flaxseeds, and other oilseeds/us | T3: 1111b0/fresh wheat, corn, rice, and other grains/us
A4: Acidification Potential | B4: =(C4*$C$2)+(D4*$D$2)+(E4*$E$2)+(F4*$F$2)+(G4*$G$2)+(H4*$H$2)+(I4*$I$2)+(J4*$J$2)+(K4*$K$2)+(L4*$L$2)+(M4*$M$2)+(N4*$N$2)+(O4*$O$2)+(P4*$P$2)+(Q4*$Q$2)+(S4*$S$2)+(T4*$T$2) -> 9293985.9 | C4: 0.013187603 | D4: 0.021092445 | E4: 0.023387754 | F4: 0.014158051 | G4: 0.012497515 | H4: 0.010868286 | I4: 0.0036877408 | J4: 0.0068571386 | K4: 0.0036576241 | L4: 0.0029477321 | M4: 0.0026449998 | N4: 0.0041461355 | O4: 0.0091413083 | P4: 0.0040758521 | Q4: 0.0027536555 | R4: 0.0016837132 | S4: 0.004459002 | T4: 0.014158051
A5: Commercial Construction and Demolition Debris | B5: =(C5*$C$2)+(D5*$D$2)+(E5*$E$2)+(F5*$F$2)+(G5*$G$2)+(H5*$H$2)+(I5*$I$2)+(J5*$J$2)+(K5*$K$2)+(L5*$L$2)+(M5*$M$2)+(N5*$N$2)+(O5*$O$2)+(P5*$P$2)+(Q5*$Q$2)+(S5*$S$2)+(T5*$T$2) -> 4096774.6 | C5: 0.0038657476 | D5: 0.0034433565 | E5: 0.0044581216 | F5: 0.0067071101 | G5: 0.0041982332 | H5: 0.0041842981 | I5: 0.0030253071 | J5: 0.0050199593 | K5: 0.0035699334 | L5: 0.0038456429 | M5: 0.0043349566 | N5: 0.0040436066 | O5: 0.0059289981 | P5: 0.0049060528 | Q5: 0.0037875688 | R5: 0.0035324278 | S5: 0.0053857302 | T5: 0.0067071101
A6: Commercial Municipal Solid Waste | B6: =(C6*$C$2)+(D6*$D$2)+(E6*$E$2)+(F6*$F$2)+(G6*$G$2)+(H6*$H$2)+(I6*$I$2)+(J6*$J$2)+(K6*$K$2)+(L6*$L$2)+(M6*$M$2)+(N6*$N$2)+(O6*$O$2)+(P6*$P$2)+(Q6*$Q$2)+(S6*$S$2)+(T6*$T$2) -> 7711672.3 | C6: 0.011484259 | D6: 0.010330612 | E6: 0.010824935 | F6: 0.0089774041 | G6: 0.012104943 | H6: 0.010497136 | I6: 0.0072716236 | J6: 0.0083993286 | K6: 0.010497452 | L6: 0.009683169 | M6: 0.024146752 | N6: 0.010141802 | O6: 0.010275886 | P6: 0.011208463 | Q6: 0.0098340678 | R6: 0.008641708 | S6: 0.0063837232 | T6: 0.0089774041
A7: Commercial RCRA Hazardous Waste | B7: =(C7*$C$2)+(D7*$D$2)+(E7*$E$2)+(F7*$F$2)+(G7*$G$2)+(H7*$H$2)+(I7*$I$2)+(J7*$J$2)+(K7*$K$2)+(L7*$L$2)+(M7*$M$2)+(N7*$N$2)+(O7*$O$2)+(P7*$P$2)+(Q7*$Q$2)+(S7*$S$2)+(T7*$T$2) -> 4012015.3 | C7: 0.0038991882 | D7: 0.0024918276 | E7: 0.0053477607 | F7: 0.0070724437 | G7: 0.0040825201 | H7: 0.0050360625 | I7: 0.0033645476 | J7: 0.0044597973 | K7: 0.0047454714 | L7: 0.00396187 | M7: 0.0038317335 | N7: 0.0047816892 | O7: 0.0079125862 | P7: 0.0049211276 | Q7: 0.0068115221 | R7: 0.0099532516 | S7: 0.0043846702 | T7: 0.0070724437
A8: Energy Use | B8: =(C8*$C$2)+(D8*$D$2)+(E8*$E$2)+(F8*$F$2)+(G8*$G$2)+(H8*$H$2)+(I8*$I$2)+(J8*$J$2)+(K8*$K$2)+(L8*$L$2)+(M8*$M$2)+(N8*$N$2)+(O8*$O$2)+(P8*$P$2)+(Q8*$Q$2)+(S8*$S$2)+(T8*$T$2) -> 6.4325932e+09 | C8: 11.488643 | D8: 6.8239098 | E8: 15.811533 | F8: 9.0002672 | G8: 8.5255359 | H8: 8.5379324 | I8: 3.6274601 | J8: 5.436187 | K8: 8.4366376 | L8: 9.1965958 | M8: 7.1371818 | N8: 8.6598623 | O8: 10.603874 | P8: 8.409129 | Q8: 11.148237 | R8: 9.9489815 | S8: 5.5428253 | T8: 9.0002672
A9: Eutrophication Potential | B9: =(C9*$C$2)+(D9*$D$2)+(E9*$E$2)+(F9*$F$2)+(G9*$G$2)+(H9*$H$2)+(I9*$I$2)+(J9*$J$2)+(K9*$K$2)+(L9*$L$2)+(M9*$M$2)+(N9*$N$2)+(O9*$O$2)+(P9*$P$2)+(Q9*$Q$2)+(S9*$S$2)+(T9*$T$2) -> 11053084 | C9: 0.0038826433 | D9: 0.0039323712 | E9: 0.00708932 | F9: 0.028855576 | G9: 0.0032863068 | H9: 0.0030248409 | I9: 0.00075435547 | J9: 0.010657923 | K9: 0.0017974401 | L9: 0.0040892827 | M9: 0.0031753146 | N9: 0.0049349494 | O9: 0.017145072 | P9: 0.0062635621 | Q9: 0.0014966802 | R9: 0.0012926381 | S9: 0.010384743 | T9: 0.028855576
A10: Freshwater Ecotoxicity Potential | B10: =(C10*$C$2)+(D10*$D$2)+(E10*$E$2)+(F10*$F$2)+(G10*$G$2)+(H10*$H$2)+(I10*$I$2)+(J10*$J$2)+(K10*$K$2)+(L10*$L$2)+(M10*$M$2)+(N10*$N$2)+(O10*$O$2)+(P10*$P$2)+(Q10*$Q$2)+(S10*$S$2)+(T10*$T$2) -> 9.8036428e+09 | C10: 2.1551647 | D10: 1.2570095 | E10: 4.1768203 | F10: 10.273305 | G10: 1.6998237 | H10: 1.5525392 | I10: 22.498207 | J10: 35.960705 | K10: 3.1319901 | L10: 5.986427 | M10: 1.8466619 | N10: 2.8355468 | O10: 6.2115252 | P10: 14.163129 | Q10: 3.2006211 | R10: 0.70219977 | S10: 35.112613 | T10: 10.273305
A11: Freshwater withdrawals | B11: =(C11*$C$2)+(D11*$D$2)+(E11*$E$2)+(F11*$F$2)+(G11*$G$2)+(H11*$H$2)+(I11*$I$2)+(J11*$J$2)+(K11*$K$2)+(L11*$L$2)+(M11*$M$2)+(N11*$N$2)+(O11*$O$2)+(P11*$P$2)+(Q11*$Q$2)+(S11*$S$2)+(T11*$T$2) -> 1.9029584e+11 | C11: 80.634795 | D11: 252.99446 | E11: 112.29363 | F11: 430.56332 | G11: 60.680259 | H11: 56.662583 | I11: 846.64626 | J11: 479.01443 | K11: 109.84362 | L11: 68.985961 | M11: 69.424782 | N11: 99.873642 | O11: 264.62411 | P11: 68.001096 | Q11: 70.381685 | R11: 39.508977 | S11: 51.750189 | T11: 430.56332
A12: Greenhouse Gases | B12: =(C12*$C$2)+(D12*$D$2)+(E12*$E$2)+(F12*$F$2)+(G12*$G$2)+(H12*$H$2)+(I12*$I$2)+(J12*$J$2)+(K12*$K$2)+(L12*$L$2)+(M12*$M$2)+(N12*$N$2)+(O12*$O$2)+(P12*$P$2)+(Q12*$Q$2)+(S12*$S$2)+(T12*$T$2) -> 1.4080033e+09 | C12: 1.0123674 | D12: 2.5143711 | E12: 1.3324452 | F12: 2.4682477 | G12: 1.8196896 | H12: 1.632627 | I12: 0.70979513 | J12: 0.99290382 | K12: 0.86379923 | L12: 0.79679524 | M12: 0.63548062 | N12: 0.8692235 | O12: 1.8137862 | P12: 1.0259956 | Q12: 0.73907815 | R12: 0.68006424 | S12: 1.0333425 | T12: 2.4682477
A13: Hazardous Air Pollutants | B13: =(C13*$C$2)+(D13*$D$2)+(E13*$E$2)+(F13*$F$2)+(G13*$G$2)+(H13*$H$2)+(I13*$I$2)+(J13*$J$2)+(K13*$K$2)+(L13*$L$2)+(M13*$M$2)+(N13*$N$2)+(O13*$O$2)+(P13*$P$2)+(Q13*$Q$2)+(S13*$S$2)+(T13*$T$2) -> 99827.32 | C13: 0.00013786001 | D13: 0.00010732522 | E13: 0.00021878594 | F13: 0.00014973662 | G13: 0.00023517128 | H13: 0.00021301601 | I13: 5.7446887e-05 | J13: 9.8931974e-05 | K13: 8.7771827e-05 | L13: 8.4759195e-05 | M13: 5.9769291e-05 | N13: 8.616327e-05 | O13: 0.00012336281 | P13: 0.00011239168 | Q13: 0.00010331218 | R13: 8.1530109e-05 | S13: 7.4491324e-05 | T13: 0.00014973662
A14: Human Health - Cancer | B14: =(C14*$C$2)+(D14*$D$2)+(E14*$E$2)+(F14*$F$2)+(G14*$G$2)+(H14*$H$2)+(I14*$I$2)+(J14*$J$2)+(K14*$K$2)+(L14*$L$2)+(M14*$M$2)+(N14*$N$2)+(O14*$O$2)+(P14*$P$2)+(Q14*$Q$2)+(S14*$S$2)+(T14*$T$2) -> 0.4088448 | C14: 3.1816993e-10 | D14: 3.4274692e-10 | E14: 4.7612413e-10 | F14: 8.8837154e-10 | G14: 3.1963017e-10 | H14: 2.9832839e-10 | I14: 2.2755381e-10 | J14: 3.421464e-10 | K14: 2.1148309e-10 | L14: 2.7048924e-10 | M14: 1.9878821e-10 | N14: 2.9422718e-10 | O14: 6.5252322e-10 | P14: 3.1600744e-10 | Q14: 2.8123996e-10 | R14: 2.0020708e-10 | S14: 3.1857608e-10 | T14: 8.8837154e-10
A15: Human Health - Noncancer | B15: =(C15*$C$2)+(D15*$D$2)+(E15*$E$2)+(F15*$F$2)+(G15*$G$2)+(H15*$H$2)+(I15*$I$2)+(J15*$J$2)+(K15*$K$2)+(L15*$L$2)+(M15*$M$2)+(N15*$N$2)+(O15*$O$2)+(P15*$P$2)+(Q15*$Q$2)+(S15*$S$2)+(T15*$T$2) -> 4.4931126 | C15: 4.0903361e-09 | D15: 3.3279996e-09 | E15: 5.1004382e-09 | F15: 7.5694013e-09 | G15: 3.9781843e-09 | H15: 4.0560543e-09 | I15: 3.7200483e-09 | J15: 7.0058251e-09 | K15: 3.9877548e-09 | L15: 4.4226234e-09 | M15: 3.334204e-09 | N15: 4.3146539e-09 | O15: 6.5033905e-09 | P15: 5.0692613e-09 | Q15: 6.5109925e-09 | R15: 5.0981871e-09 | S15: 6.0362837e-09 | T15: 7.5694013e-09
... A26: Value Added | B26: =(C26*$C$2)+(D26*$D$2)+(E26*$E$2)+(F26*$F$2)+(G26*$G$2)+(H26*$H$2)+(I26*$I$2)+(J26*$J$2)+(K26*$K$2)+(L26*$L$2)+(M26*$M$2)+(N26*$N$2)+(O26*$O$2)+(P26*$P$2)+(Q26*$Q$2)+(S26*$S$2)+(T26*$T$2) -> 7.8660154e+08 | C26: 0.99083024 | D26: 0.9918236 | E26: 0.9884199 | F26: 0.99152228 | G26: 0.98805455 | H26: 0.99039653 | I26: 0.99780738 | J26: 0.99648447 | K26: 0.99057804 | L26: 0.99064851 | M26: 0.9919778 | N26: 0.99151401 | O26: 0.9894784 | P26: 0.98893161 | Q26: 0.99250625 | R26: 0.99051967 | S26: 0.9937117 | T26: 0.99152228
A28: Sources
A29: Yang, Yi, Wesley W. Ingwersen, Troy R. Hawkins, Michael Srocka, and David E. Meyer. 2017. USEEIO: A new and transparent United States environmentally-extended input-output model. Journal of Cleaner Production 158. Elsevier Ltd: 308–318. https://doi.org/10.1016/j.jclepro.2017.04.150.
A30: Ingwersen, W. W., Li, M., Young, B., Vendries, J., & Birney, C. (2022). USEEIO v2. 0, The US Environmentally-Extended Input-Output Model v2. 0. Scientific Data, 9(1), 1-24. https://doi.org/10.1038/s41597-022-01293-7.
A31: Heller, M. C., Willits-Smith, A., Meyer, R., Keoleian, G. A., & Rose, D. (2018). Greenhouse gas emissions and energy use associated with production of individual self-selected US diets. Environmental Research Letters, 13(4), 044004. https://doi.org/10.1088/1748-9326/aab0ac.
A32: Clune, S., Crossin, E., & Verghese, K. (2017). Systematic review of greenhouse gas emissions for different fresh food categories. Journal of Cleaner Production, 140, 766-783. https://doi.org/10.1016/j.jclepro.2016.04.082.
A34: Notes
A35: All inputs by food category per dollar are based on the US Environmentally Extended Input Output Model (USEEIO) Version 2.0 (Yang et al. 2017; Ingwersen et al. 2022)
A36: Fruit and vegetable preservation does not include the environmental impacts of production. Thus, 85% of the impacts for preserved fruit and vegetables are allocated to the fresh fruit and vegetable categories to account for production. Percentages were selected based on review LCA studies for which post-farm gate (including processing) made up approximately 15% of total GWP for both studies (Clune et al. 2017; Heller et al 2018)
A38: Equations
A39: Table 4.1 : LOCAL | B39: (4.1 MSA FS BASE ($/MSA/year) by food category 1 * 4.1 Environmental impacts by food category 1) + ... food category 2...3....4

Sheet 5. Outputs ABM-LOCAL
A1: 5.1 Outputs of the ABM-LCA scenario
A2: MSA FS LOCAL $/MSA/year | B2: =SUM(C2:T2) -> 3.1408201e+08 | C2: ='6. ABM-LCA Inputs'!H3 -> 48169153 | D2: =SUM('6. ABM-LCA Inputs'!H4:H5) -> 97027115 | E2: ='6. ABM-LCA Inputs'!H6 -> 14043563 | F2: ='6. ABM-LCA Inputs'!H7 -> 2873837.8 | G2: ='6. ABM-LCA Inputs'!H8 -> 41100736 | H2: ='6. ABM-LCA Inputs'!H9 -> 8968204.1 | I2: =SUM('6. ABM-LCA Inputs'!H10:H17) -> 8673340.2 | J2: =SUM('6. ABM-LCA Inputs'!H19:H23, '6. ABM-LCA Inputs'!H25:H28, '6. ABM-LCA Inputs'!H30:H32, '6. ABM-LCA Inputs'!H34:H40) -> 11515514 | K2: =SUM( '6. ABM-LCA Inputs'!G24, '6. ABM-LCA Inputs'!G29, '6. ABM-LCA Inputs'!G33, '6. ABM-LCA Inputs'!G41) -> 10719868 | L2: ='6. ABM-LCA Inputs'!H42*'11. Diet'!B81 -> 4375521.8 | M2: ='6. ABM-LCA Inputs'!H42*'11. Diet'!B82 -> 27239164 | N2: ='6. ABM-LCA Inputs'!H42*'11. Diet'!B83 -> 9456673.6 | O2: 0 | P2: =SUM('6. ABM-LCA Inputs'!H44:H45) -> 7655371.7 | Q2: =SUM('6. ABM-LCA Inputs'!H46:H47)*0.656 -> 9079705.3 | R2: =SUM('6. ABM-LCA Inputs'!H46:H47)*0.344 -> 4761308.9 | S2: ='6. ABM-LCA Inputs'!H49 -> 3016850.1 | T2: ='6. ABM-LCA Inputs'!H48 -> 5406081.2
A3: Environmental impacts | B3: ABM-LOCAL | C3: 311615/packaged poultry/us | D3: 31161a/packaged meat (except poultry)/us | E3: 112300/poultry farms/us | F3: 1111b0/fresh wheat, corn, rice, and other grains/us | G3: 311513/cheese/us | H3: 31151a/fluid milk and butter/us | I3: 111300/fresh fruits and tree nuts/us | J3: 111200/fresh vegetables, melons, and potatoes/us | K3: 311420/fruit and vegetable preservation/us | L3: 311230/breakfast cereals/us | M3: 311810/bread and other baked goods/us | N3: 3118a0/cookies, crackers, pastas, and tortillas/us | O3: 311210/flours and malts/us | P3: 311225/refined vegetable, olive, and seed oils/us | Q3: 311300/sugar, candy, and chocolate/us | R3: 312110/soft drinks, bottled water, and ice/us | S3: 1111a0/fresh soybeans, canola, flaxseeds, and other oilseeds/us | T3: 1111b0/fresh wheat, corn, rice, and other grains/us
A4: Energy Use | B4: =(C4*$C$2)+(D4*$D$2)+(E4*$E$2)+(F4*$F$2)+(G4*$G$2)+(H4*$H$2)+(I4*$I$2)+(J4*$J$2)+(K4*$K$2)+(L4*$L$2)+(M4*$M$2)+(N4*$N$2)+(O4*$O$2)+(P4*$P$2)+(Q4*$Q$2)++(R4*R2) + (S4*$S$2)+(T4*$T$2) -> 2.6697863e+09 | C4: 11.488643 | D4: 6.8239098 | E4: 15.811533 | F4: 9.0002672 | G4: 8.5255359 | H4: 8.5379324 | I4: 3.6274601 | J4: 5.436187 | K4: 8.4366376 | L4: 9.1965958 | M4: 7.1371818 | N4: 8.6598623 | O4: 10.603874 | P4: 8.409129 | Q4: 11.148237 | R4: 9.9489815 | S4: 5.5428253 | T4: 9.0002672
A5: Freshwater withdrawals | B5: =(C5*$C$2)+(D5*$D$2)+(E5*$E$2)+(F5*$F$2)+(G5*$G$2)+(H5*$H$2)+(I5*$I$2)+(J5*$J$2)+(K5*$K$2)+(L5*$L$2)+(M5*$M$2)+(N5*$N$2)+(O5*$O$2)+(P5*$P$2)+(Q5*$Q$2)++(R5*R2) + (S5*$S$2)+(T5*$T$2) -> 5.5253737e+10 | C5: 80.634795 | D5: 252.99446 | E5: 112.29363 | F5: 430.56332 | G5: 60.680259 | H5: 56.662583 | I5: 846.64626 | J5: 479.01443 | K5: 109.84362 | L5: 68.985961 | M5: 69.424782 | N5: 99.873642 | O5: 264.62411 | P5: 68.001096 | Q5: 70.381685 | R5: 39.508977 | S5: 51.750189 | T5: 430.56332
A6: Greenhouse Gases | B6: =(C6*$C$2)+(D6*$D$2)+(E6*$E$2)+(F6*$F$2)+(G6*$G$2)+(H6*$H$2)+(I6*$I$2)+(J6*$J$2)+(K6*$K$2)+(L6*$L$2)+(M6*$M$2)+(N6*$N$2)+(O6*$O$2)+(P6*$P$2)+(Q6*$Q$2)++(R6*R2) + (S6*$S$2)+(T6*$T$2) -> 4.9809518e+08 | C6: 1.0123674 | D6: 2.5143711 | E6: 1.3324452 | F6: 2.4682477 | G6: 1.8196896 | H6: 1.632627 | I6: 0.70979513 | J6: 0.99290382 | K6: 0.86379923 | L6: 0.79679524 | M6: 0.63548062 | N6: 0.8692235 | O6: 1.8137862 | P6: 1.0259956 | Q6: 0.73907815 | R6: 0.68006424 | S6: 1.0333425 | T6: 2.4682477
A8: Sources
A9: Yang, Yi, Wesley W. Ingwersen, Troy R. Hawkins, Michael Srocka, and David E. Meyer. 2017. USEEIO: A new and transparent United States environmentally-extended input-output model. Journal of Cleaner Production 158. Elsevier Ltd: 308–318. https://doi.org/10.1016/j.jclepro.2017.04.150.
A10: Ingwersen, W. W., Li, M., Young, B., Vendries, J., & Birney, C. (2022). USEEIO v2. 0, The US Environmentally-Extended Input-Output Model v2. 0. Scientific Data, 9(1), 1-24. https://doi.org/10.1038/s41597-022-01293-7.
A11: Heller, M. C., Willits-Smith, A., Meyer, R., Keoleian, G. A., & Rose, D. (2018). Greenhouse gas emissions and energy use associated with production of individual self-selected US diets. Environmental Research Letters, 13(4), 044004. https://doi.org/10.1088/1748-9326/aab0ac.
A12: Clune, S., Crossin, E., & Verghese, K. (2017). Systematic review of greenhouse gas emissions for different fresh food categories. Journal of Cleaner Production, 140, 766-783. https://doi.org/10.1016/j.jclepro.2016.04.082.
A14: Notes
A15: All inputs by food category per dollar are based on the US Environmentally Extended Input Output Model (USEEIO) Version 2.0 (Yang et al. 2017; Ingwersen et al. 2022)
A16: Fruit and vegetable preservation does not include the environmental impacts of production. Thus, 85% of the impacts for preserved fruit and vegetables are allocated to the fresh fruit and vegetable categories to account for production. Percentages were selected based on review LCA studies for which post-farm gate (including processing) made up approximately 15% of total GWP for both studies (Clune et al. 2017; Heller et al 2018)
A18: Equations
A19: Table 5.1: ABM-LOCAL | B19: (5.1 MSA FS BASE ($/MSA/year) by food category 1 * 5.1 Environmental impacts by food category 1) + ... food category 2...3....4

Sheet 6. ABM-LCA Inputs
A1: Table 6.1: ABM-LCA model Inputs
A2: Food type | B2: 50% LOCAL Diet (kg/MSA/yr) | C2: Proportion of cropland for ABM-LCA food group | D2: Proportion of pasture for ABM-LCA food group | E2: Total cropland use by food type | F2: Total pasture land use by food type | G2: ABM scenario LOCAL 50% diet (kg/MSA/yr) | H2: Price ($/kg MSA consumption/yr)
A3: Chicken | B3: =(('11. Diet'!I3*('11. Diet'!K3/1000))*365*'2. ABM-LCA Controls'!$B$6) -> 10221838 | C3: ='14. Land Req '!E4/SUM('14. Land Req '!$E$4:$E$8) -> 0.39422139 | D3: ='14. Land Req '!G4/SUM('14. Land Req '!$G$4:$G$8) -> 0.0088693484 | E3: =C3*'2. ABM-LCA Controls'!$B$11 -> 3585.0805 | F3: =D3*'2. ABM-LCA Controls'!$B$12 -> 286.80644 | G3: =((E3 * (('13. Yields'!K3/B52) + ('13. Yields'!K4/C52)) /'15. Ag Prod'!G45)) / (PRODUCT('18. Waste, Losses'!H4:L4)) -> 10221838 | H3: =G3*'8. Prices'!H3*'7. BASE to LOCAL'!$O$4 -> 48169153
A4: Beef | B4: =(('11. Diet'!I4*('11. Diet'!K4/1000))*365*'2. ABM-LCA Controls'!$B$6) -> 8050828.5 | C4: ='14. Land Req '!E5/SUM('14. Land Req '!$E$4:$E$8) -> 0.072105778 | D4: ='14. Land Req '!G5/SUM('14. Land Req '!$G$4:$G$8) -> 0.97832281 | E4: =C4*'2. ABM-LCA Controls'!$B$11 -> 655.73565 | F4: =D4*'2. ABM-LCA Controls'!$B$12 -> 31635.84 | G4: =(((E4*(('13. Yields'!K7/B53)+('13. Yields'!K8/C53)))/'15. Ag Prod'!G46)/PRODUCT('18. Waste, Losses'!H5:L5)) -> 8050828.5 | H4: =G4*'8. Prices'!H4*'7. BASE to LOCAL'!$O$4 -> 71576260
A5: Pork | B5: =(('11. Diet'!I5*('11. Diet'!K5/1000))*365*'2. ABM-LCA Controls'!$B$6) -> 6286882.9 | C5: ='14. Land Req '!E6/SUM('14. Land Req '!$E$4:$E$8) -> 0.33907785 | D5: ='14. Land Req '!G6/SUM('14. Land Req '!$G$4:$G$8) -> 0.011736473 | E5: =C5*'2. ABM-LCA Controls'!$B$11 -> 3083.6008 | F5: =D5*'2. ABM-LCA Controls'!$B$12 -> 379.52009 | G5: =((E5 * (('13. Yields'!K9/B54) + ('13. Yields'!K10/C54)))/'15. Ag Prod'!G47) / PRODUCT('18. Waste, Losses'!H6:L6) -> 6286882.9 | H5: =G5*'8. Prices'!H5*'7. BASE to LOCAL'!$O$4 -> 25450855
A6: Eggs | B6: =(('11. Diet'!I6*('11. Diet'!K6/1000))*365*'2. ABM-LCA Controls'!$B$6) -> 4307559.4 | C6: ='14. Land Req '!E7/SUM('14. Land Req '!$E$4:$E$8) -> 0.076191499 | D6: ='14. Land Req '!G7/SUM('14. Land Req '!$G$4:$G$8) -> 0.0010713665 | E6: =C6*'2. ABM-LCA Controls'!$B$11 -> 692.89152 | F6: =D6*'2. ABM-LCA Controls'!$B$12 -> 34.644576 | G6: =((E6 * (('13. Yields'!K11/B55) + ('13. Yields'!K12/C55)))/'15. Ag Prod'!G48) / PRODUCT('18. Waste, Losses'!H7:L7) -> 4307559.4 | H6: =G6*'8. Prices'!H6*'7. BASE to LOCAL'!$O$5 -> 14043563
A7: Beans, dry | B7: =(('11. Diet'!I7*('11. Diet'!K7/1000))*365*'2. ABM-LCA Controls'!$B$6) -> 1787177.2 | C7: ='14. Land Req '!E8/SUM('14. Land Req '!$E$4:$E$8) -> 0.11840348 | D7: 0 | E7: =C7*'2. ABM-LCA Controls'!$B$11 -> 1076.7706 | F7: =D7*'2. ABM-LCA Controls'!$B$12 -> 0 | G7: =(E7*('13. Yields'!K13))/PRODUCT('18. Waste, Losses'!H8:L8) -> 1787177.2 | H7: =G7*'8. Prices'!H7*'7. BASE to LOCAL'!O9 -> 2873837.8
A8: Cheese | B8: =(('11. Diet'!I8*('11. Diet'!K8/1000))*365*'2. ABM-LCA Controls'!$B$6) -> 4832247.9 | C8: ='14. Land Req '!E9/SUM('14. Land Req '!$E$9:$E$10) -> 0.61751425 | D8: ='14. Land Req '!G9/SUM('14. Land Req '!$G$9:$G$10) -> 0.69832763 | E8: =C8*'2. ABM-LCA Controls'!$B$13 -> 152.47873 | F8: =D8*'2. ABM-LCA Controls'!$B$14 -> 4030.5331 | G8: =((E8 * (('13. Yields'!K17/B56) + ('13. Yields'!K18/C56) + ('13. Yields'!K16/E56)))/'15. Ag Prod'!G49) / PRODUCT('18. Waste, Losses'!H9:L9) -> 4832247.9 | H8: =G8*'8. Prices'!H8*'7. BASE to LOCAL'!$O$6 -> 41100736
A9: Milk | B9: =(('11. Diet'!I9*('11. Diet'!K9/1000))*365*'2. ABM-LCA Controls'!$B$6) -> 20079428 | C9: ='14. Land Req '!E10/SUM('14. Land Req '!$E$9:$E$10) -> 0.38248575 | D9: ='14. Land Req '!G10/SUM('14. Land Req '!$G$9:$G$10) -> 0.30167237 | E9: =C9*'2. ABM-LCA Controls'!$B$13 -> 94.44469 | F9: =D9*'2. ABM-LCA Controls'!$B$14 -> 1741.1605 | G9: =((E9*(('13. Yields'!K22/B56)+('13. Yields'!K23/C56)+('13. Yields'!K16/E56))) /'15. Ag Prod'!G50) /(PRODUCT('18. Waste, Losses'!H10:L10)) -> 20079428 | H9: =G9*'8. Prices'!H9*'7. BASE to LOCAL'!$O$6 -> 8968204.1
A10: Apple | B10: =(('11. Diet'!I10*('11. Diet'!K10/1000))*365*'2. ABM-LCA Controls'!$B$6) -> 3509863.2 | C10: ='14. Land Req '!E11/(SUM('14. Land Req '!E$11,'14. Land Req '!E$14:E$16) +('14. Land Req '!E$19*'11. Diet'!$E$61)) -> 0.27791361 | E10: ='2. ABM-LCA Controls'!B$15*C10 -> 266.86343 | G10: =(E10*'13. Yields'!K24) / PRODUCT('18. Waste, Losses'!H11:L11) -> 3509863.2 | H10: =G10*'8. Prices'!H10*'7. BASE to LOCAL'!$O$7 -> 2751590.4
A11: Melon | B11: =(('11. Diet'!I11*('11. Diet'!K11/1000))*365*'2. ABM-LCA Controls'!$B$6) -> 3193358 | C11: ='14. Land Req '!E12/(SUM('14. Land Req '!E$12:E$13, '14. Land Req '!E$17:E$18) +('14. Land Req '!E$19*'11. Diet'!E$62)) -> 0.45819635 | E11: ='2. ABM-LCA Controls'!B$16*C11 -> 287.18293 | G11: =(E11*'13. Yields'!K25)/PRODUCT('18. Waste, Losses'!H12:L12) -> 3193358 | H11: =G11*'8. Prices'!H11*'7. BASE to LOCAL'!$O$7 -> 860243.49
A12: Blueberries | B12: =(('11. Diet'!I12*('11. Diet'!K12/1000))*365*'2. ABM-LCA Controls'!$B$6) -> 410427.55 | C12: ='14. Land Req '!E13/(SUM('14. Land Req '!E$12:E$13, '14. Land Req '!E$17:E$18) +('14. Land Req '!E$19*'11. Diet'!E$62)) -> 0.1942293 | E12: ='2. ABM-LCA Controls'!B$16*C12 -> 121.73676 | G12: =(E12*'13. Yields'!K26)/PRODUCT('18. Waste, Losses'!H13:L13) -> 410427.55 | H12: =G12*'8. Prices'!H12*'7. BASE to LOCAL'!$O$7 -> 871925.95
A13: Cherries | B13: =(('11. Diet'!I13*('11. Diet'!K13/1000))*365*'2. ABM-LCA Controls'!$B$6) -> 119654.43 | C13: ='14. Land Req '!E14/(SUM('14. Land Req '!E$11,'14. Land Req '!E$14:E$16) +('14. Land Req '!E$19*'11. Diet'!$E$61)) -> 0.021106049 | E13: ='2. ABM-LCA Controls'!B$15*C13 -> 20.266846 | G13: =(E13*'13. Yields'!K27)/PRODUCT('18. Waste, Losses'!H14:L14) -> 119654.43 | H13: =G13*'8. Prices'!H13*'7. BASE to LOCAL'!$O$7 -> 207692.05
A14: Grapes | B14: =(('11. Diet'!I14*('11. Diet'!K14/1000))*365*'2. ABM-LCA Controls'!$B$6) -> 1389535.3 | C14: ='14. Land Req '!E15/(SUM('14. Land Req '!E$11,'14. Land Req '!E$14:E$16) +('14. Land Req '!E$19*'11. Diet'!$E$61)) -> 0.29114385 | E14: ='2. ABM-LCA Controls'!B$15*C14 -> 279.56761 | G14: =(E14*'13. Yields'!K28)/PRODUCT('18. Waste, Losses'!H15:L15) -> 1389535.3 | H14: =G14*'8. Prices'!H14*'7. BASE to LOCAL'!$O$7 -> 1690095.9
A15: Pears | B15: =(('11. Diet'!I15*('11. Diet'!K15/1000))*365*'2. ABM-LCA Controls'!$B$6) -> 594412.32 | C15: ='14. Land Req '!E16/(SUM('14. Land Req '!E$11,'14. Land Req '!E$14:E$16) +('14. Land Req '!E$19*'11. Diet'!$E$61)) -> 0.045682291 | E15: ='2. ABM-LCA Controls'!B$15*C15 -> 43.865908 | G15: =(E15*'13. Yields'!K29)/PRODUCT('18. Waste, Losses'!H16:L16) -> 594412.32 | H15: =G15*'8. Prices'!H15*'7. BASE to LOCAL'!$O$7 -> 437230.01
A16: Raspberries | B16: =(('11. Diet'!I16*('11. Diet'!K16/1000))*365*'2. ABM-LCA Controls'!$B$6) -> 186557.98 | C16: ='14. Land Req '!E17/(SUM('14. Land Req '!E$12:E$13, '14. Land Req '!E$17:E$18) +('14. Land Req '!E$19*'11. Diet'!E$62)) -> 0.091147456 | E16: ='2. ABM-LCA Controls'!B$16*C16 -> 57.128333 | G16: =(E16*'13. Yields'!K30)/PRODUCT('18. Waste, Losses'!H17:L17) -> 186557.98 | H16: =G16*'8. Prices'!H16*'7. BASE to LOCAL'!$O$7 -> 621127.62
A17: Strawberries | B17: =(('11. Diet'!I17*('11. Diet'!K17/1000))*365*'2. ABM-LCA Controls'!$B$6) -> 1156659.5 | C17: ='14. Land Req '!E18/(SUM('14. Land Req '!E$12:E$13, '14. Land Req '!E$17:E$18) +('14. Land Req '!E$19*'11. Diet'!E$62)) -> 0.17544119 | E17: ='2. ABM-LCA Controls'!B$16*C17 -> 109.96097 | G17: =(E17*'13. Yields'!K31)/PRODUCT('18. Waste, Losses'!H18:L18) -> 1156659.5 | H17: =G17*'8. Prices'!H17*'7. BASE to LOCAL'!$O$7 -> 1233434.8
A18: Preserved, Fruit | B18: =(('11. Diet'!I18*('11. Diet'!K18/1000))*365*'2. ABM-LCA Controls'!$B$6) -> 8544355.4 | C18: =('14. Land Req '!E$19)/(SUM('14. Land Req '!E$11:E$19)) -> 0.2523204 | E18: =SUM('2. ABM-LCA Controls'!B$15:B$16) * C18 -> 400.43426 | G18: =(E18*'13. Yields'!K32)/PRODUCT('18. Waste, Losses'!H19:L19) -> 8544355.4 | H18: =G18*'8. Prices'!H18*'7. BASE to LOCAL'!$O$9 -> 12600737
A19: Broccoli | B19: =(('11. Diet'!I19*('11. Diet'!K19/1000))*365*'2. ABM-LCA Controls'!$B$6) -> 764347.34 | C19: ='14. Land Req '!E20/(SUM('14. Land Req '!E$20:E$26, '14. Land Req '!E$28:E$30, '14. Land Req '!E$33, '14. Land Req '!E$37:E$41) + ('14. Land Req '!E$34*'11. Diet'!$E$63) + ('14. Land Req '!E$42*'11. Diet'!$E$65)) -> 0.068073973 | E19: ='2. ABM-LCA Controls'!B$17*C19 -> 90.163396 | G19: =(E19*'13. Yields'!K33)/PRODUCT('18. Waste, Losses'!H20:L20) -> 688935.48 | H19: =G19*'8. Prices'!H19*'7. BASE to LOCAL'!$O$7 -> 569807.11
A20: Collard Greens | B20: =(('11. Diet'!I20*('11. Diet'!K20/1000))*365*'2. ABM-LCA Controls'!$B$6) -> 99609.095 | C20: ='14. Land Req '!E21/(SUM('14. Land Req '!E$20:E$26, '14. Land Req '!E$28:E$30, '14. Land Req '!E$33, '14. Land Req '!E$37:E$41) + ('14. Land Req '!E$34*'11. Diet'!$E$63) + ('14. Land Req '!E$42*'11. Diet'!$E$65)) -> 0.014171979 | E20: ='2. ABM-LCA Controls'!B$17*C20 -> 18.770666 | G20: =(E20*'13. Yields'!K34)/PRODUCT('18. Waste, Losses'!H21:L21) -> 89781.485 | H20: =G20*'8. Prices'!H20*'7. BASE to LOCAL'!$O$7 -> 100606.47
A21: Kale | B21: =(('11. Diet'!I21*('11. Diet'!K21/1000))*365*'2. ABM-LCA Controls'!$B$6) -> 28459.741 | C21: ='14. Land Req '!E22/(SUM('14. Land Req '!E$20:E$26, '14. Land Req '!E$28:E$30, '14. Land Req '!E$33, '14. Land Req '!E$37:E$41) + ('14. Land Req '!E$34*'11. Diet'!$E$63) + ('14. Land Req '!E$42*'11. Diet'!$E$65)) -> 0.0018815882 | E21: ='2. ABM-LCA Controls'!B$17*C21 -> 2.4921475 | G21: =(E21*'13. Yields'!K35)/PRODUCT('18. Waste, Losses'!H22:L22) -> 25651.853 | H21: =G21*'8. Prices'!H21*'7. BASE to LOCAL'!$O$7 -> 31483.457
A22: Lettuce, loose-leaf | B22: =(('11. Diet'!I22*('11. Diet'!K22/1000))*365*'2. ABM-LCA Controls'!$B$6) -> 1380297.5 | C22: ='14. Land Req '!E23/(SUM('14. Land Req '!E$20:E$26, '14. Land Req '!E$28:E$30, '14. Land Req '!E$33, '14. Land Req '!E$37:E$41) + ('14. Land Req '!E$34*'11. Diet'!$E$63) + ('14. Land Req '!E$42*'11. Diet'!$E$65)) -> 0.050943248 | E22: ='2. ABM-LCA Controls'!B$17*C22 -> 67.473897 | G22: =(E22*'13. Yields'!K36)/PRODUCT('18. Waste, Losses'!H23:L23) -> 1244114.9 | H22: =G22*'8. Prices'!H22*'7. BASE to LOCAL'!$O$7 -> 795815.42
A23: Spinach | B23: =(('11. Diet'!I23*('11. Diet'!K23/1000))*365*'2. ABM-LCA Controls'!$B$6) -> 270367.54 | C23: ='14. Land Req '!E24/(SUM('14. Land Req '!E$20:E$26, '14. Land Req '!E$28:E$30, '14. Land Req '!E$33, '14. Land Req '!E$37:E$41) + ('14. Land Req '!E$34*'11. Diet'!$E$63) + ('14. Land Req '!E$42*'11. Diet'!$E$65)) -> 0.02190615 | E23: ='2. ABM-LCA Controls'!B$17*C23 -> 29.014509 | G23: =(E23*'13. Yields'!K37)/PRODUCT('18. Waste, Losses'!H24:L24) -> 243692.6 | H23: =G23*'8. Prices'!H23*'7. BASE to LOCAL'!$O$7 -> 397751.93
A24: Preserved, Dark Green | B24: =(('11. Diet'!I24*('11. Diet'!K24/1000))*365*'2. ABM-LCA Controls'!$B$6) -> 409616.99 | C24: ='14. Land Req '!E25/(SUM('14. Land Req '!E$20:E$26, '14. Land Req '!E$28:E$30, '14. Land Req '!E$33, '14. Land Req '!E$37:E$41) + ('14. Land Req '!E$34*'11. Diet'!$E$63) + ('14. Land Req '!E$42*'11. Diet'!$E$65)) -> 0.026646878 | E24: ='2. ABM-LCA Controls'!B$17*C24 -> 35.293563 | G24: =(E24*'13. Yields'!K38)/PRODUCT('18. Waste, Losses'!H25:L25) -> 369203.45 | H24: =G24*'8. Prices'!H24*'7. BASE to LOCAL'!$O$9 -> 943118.23
A25: Carrots | B25: =(('11. Diet'!I25*('11. Diet'!K25/1000))*365*'2. ABM-LCA Controls'!$B$6) -> 1016419.3 | C25: ='14. Land Req '!E26/(SUM('14. Land Req '!E$20:E$26, '14. Land Req '!E$28:E$30, '14. Land Req '!E$33, '14. Land Req '!E$37:E$41) + ('14. Land Req '!E$34*'11. Diet'!$E$63) + ('14. Land Req '!E$42*'11. Diet'!$E$65)) -> 0.023844133 | E25: ='2. ABM-LCA Controls'!B$17*C25 -> 31.581351 | G25: =(E25*'13. Yields'!K39)/PRODUCT('18. Waste, Losses'!H26:L26) -> 916137.6 | H25: =G25*'8. Prices'!H25*'7. BASE to LOCAL'!$O$8 -> 281953.83
A26: Pumpkin | B26: =(('11. Diet'!I26*('11. Diet'!K26/1000))*365*'2. ABM-LCA Controls'!$B$6) -> 280531.74 | C26: ='14. Land Req '!E27 / (SUM('14. Land Req '!E$27, '14. Land Req '!E$31:E$32, '14. Land Req '!E$35:E$36) + ('14. Land Req '!E$34*'11. Diet'!$E$64) + ('14. Land Req '!E$42*'11. Diet'!$E$66)) -> 0.014991599 | E26: ='2. ABM-LCA Controls'!B$18*C26 -> 17.689288 | G26: =(E26*'13. Yields'!K40)/PRODUCT('18. Waste, Losses'!H27:L27) -> 319829.35 | H26: =G26*'8. Prices'!H26*'7. BASE to LOCAL'!$O$7 -> 59867.777
A27: Sweet Potatoes | B27: =(('11. Diet'!I27*('11. Diet'!K27/1000))*365*'2. ABM-LCA Controls'!$B$6) -> 607818.76 | C27: ='14. Land Req '!E28/(SUM('14. Land Req '!E$20:E$26, '14. Land Req '!E$28:E$30, '14. Land Req '!E$33, '14. Land Req '!E$37:E$41) + ('14. Land Req '!E$34*'11. Diet'!$E$63) + ('14. Land Req '!E$42*'11. Diet'!$E$65)) -> 0.037150165 | E27: ='2. ABM-LCA Controls'!B$17*C27 -> 49.205076 | G27: =(E27*'13. Yields'!K41)/PRODUCT('18. Waste, Losses'!H28:L28) -> 547850.29 | H27: =G27*'8. Prices'!H27*'7. BASE to LOCAL'!$O$8 -> 212925.79
A28: Tomatoes | B28: =(('11. Diet'!I28*('11. Diet'!K28/1000))*365*'2. ABM-LCA Controls'!$B$6) -> 2972010.1 | C28: ='14. Land Req '!E29/(SUM('14. Land Req '!E$20:E$26, '14. Land Req '!E$28:E$30, '14. Land Req '!E$33, '14. Land Req '!E$37:E$41) + ('14. Land Req '!E$34*'11. Diet'!$E$63) + ('14. Land Req '!E$42*'11. Diet'!$E$65)) -> 0.099212613 | E28: ='2. ABM-LCA Controls'!B$17*C28 -> 131.40626 | G28: =(E28*'13. Yields'!K42)/PRODUCT('18. Waste, Losses'!H29:L29) -> 2678786.3 | H28: =G28*'8. Prices'!H28*'7. BASE to LOCAL'!$O$7 -> 2355880.4
A29: Preserved, Orange & Red | B29: =(('11. Diet'!I29*('11. Diet'!K29/1000))*365*'2. ABM-LCA Controls'!$B$6) -> 4677561.8 | C29: ='14. Land Req '!E30/(SUM('14. Land Req '!E$20:E$26, '14. Land Req '!E$28:E$30, '14. Land Req '!E$33, '14. Land Req '!E$37:E$41) + ('14. Land Req '!E$34*'11. Diet'!$E$63) + ('14. Land Req '!E$42*'11. Diet'!$E$65)) -> 0.091934809 | E29: ='2. ABM-LCA Controls'!B$17*C29 -> 121.76687 | G29: =(E29*'13. Yields'!K43)/PRODUCT('18. Waste, Losses'!H30:L30) -> 4216065.2 | H29: =G29*((('8. Prices'!H29*0.9)*'7. BASE to LOCAL'!$O$9) +(('8. Prices'!H29*0.1)*'7. BASE to LOCAL'!$O$10)) -> 6958258.7
A30: Corn, Sweet | B30: =(('11. Diet'!I30*('11. Diet'!K30/1000))*365*'2. ABM-LCA Controls'!$B$6) -> 396403.54 | C30: ='14. Land Req '!E31 / (SUM('14. Land Req '!E$27, '14. Land Req '!E$31:E$32, '14. Land Req '!E$35:E$36) + ('14. Land Req '!E$34*'11. Diet'!$E$64) + ('14. Land Req '!E$42*'11. Diet'!$E$66)) -> 0.10538619 | E30: ='2. ABM-LCA Controls'!B$18*C30 -> 124.35008 | G30: =(E30*'13. Yields'!K44)/PRODUCT('18. Waste, Losses'!H31:L31) -> 451932.78 | H30: =G30*'8. Prices'!H30*'7. BASE to LOCAL'!$O$7 -> 627859.72
A31: Green Peas | B31: =(('11. Diet'!I31*('11. Diet'!K31/1000))*365*'2. ABM-LCA Controls'!$B$6) -> 0 | C31: ='14. Land Req '!E32 / (SUM('14. Land Req '!E$27, '14. Land Req '!E$31:E$32, '14. Land Req '!E$35:E$36) + ('14. Land Req '!E$34*'11. Diet'!$E$64) + ('14. Land Req '!E$42*'11. Diet'!$E$66)) -> 0 | E31: ='2. ABM-LCA Controls'!B$18*C31 -> 0 | G31: =(E31*'13. Yields'!K45)/PRODUCT('18. Waste, Losses'!H32:L32) -> 0 | H31: =G31*'8. Prices'!H31*'7. BASE to LOCAL'!$O$7 -> 0
A32: Potatoes | B32: =(('11. Diet'!I32*('11. Diet'!K32/1000))*365*'2. ABM-LCA Controls'!$B$6) -> 6098516 | C32: ='14. Land Req '!E33/(SUM('14. Land Req '!E$20:E$26, '14. Land Req '!E$28:E$30, '14. Land Req '!E$33, '14. Land Req '!E$37:E$41) + ('14. Land Req '!E$34*'11. Diet'!$E$63) + ('14. Land Req '!E$42*'11. Diet'!$E$65)) -> 0.14946501 | E32: ='2. ABM-LCA Controls'!B$17*C32 -> 197.96513 | G32: =((E32)*(('13. Yields'!K46)))/PRODUCT('18. Waste, Losses'!H33:L33) -> 5496825.6 | H32: =G32*'8. Prices'!H32*'7. BASE to LOCAL'!$O$8 -> 1324173
