Workbook

Sheet Figure I
A1: Figure I.do
B3: Using expected downturn periods
C4: No election | D4: Election | E4: Difference
B5: No downturn | C5: =H16 -> 0.25979245 | D5: =I16 -> -0.38821036 | E5: =C5-D5 -> 0.64800281 | F5: Average differences between election and non-election periods when normal to high growth is expected
B6: expected | C6: =H17 -> 563 | D6: =I17 -> 183 | E6: =0.034 -> 0.034
B8: Downturn | C8: =H19 -> -1.3811955 | D8: =I19 -> -1.7215394 | E8: =C8-D8 -> 0.3403439 | F8: Average differences between election and non-election periods when low growth is expected
B9: expected | C9: =H20 -> 243 | D9: =I20 -> 75 | E9: =0.293 -> 0.293
B11: All periods | C11: =H22 -> -0.23494709 | D11: =I22 -> -0.77580601 | E11: =C11-D11 -> 0.54085892 | F11: Overall average differences between election and non-election periods
C12: =H23 -> 806 | D12: =I23 -> 258 | E12: =0.036 -> 0.036
G13: | | H13: Election | I13: dummy
F14: exp_low1 | G14: | | H14: no electi | I14: upcoming | J14: | | K14: Total
F15: ----------- | G15: + | H15: ----------- | I15: ----------- | J15: + | K15: ----------
F16: normal ti | G16: | | H16: 0.25979245 | I16: -0.38821036 | J16: | | K16: 0.10083198
G17: | | H17: 563 | I17: 183 | J17: | | K17: 746
F18: ----------- | G18: + | H18: ----------- | I18: ----------- | J18: + | K18: ----------
F19: low exp.g | G19: | | H19: -1.3811955 | I19: -1.7215394 | J19: | | K19: -1.4614653
G20: | | H20: 243 | I20: 75 | J20: | | K20: 318
F21: ----------- | G21: + | H21: ----------- | I21: ----------- | J21: + | K21: ----------
F22: Total | G22: | | H22: -0.23494709 | I22: -0.77580601 | J22: | | K22: -0.36609521
G23: | | H23: 806 | I23: 258 | J23: | | K23: 1064

Sheet Table II
A1: Table II.do
B3: (1) | C3: (2) | D3: (3) | E3: (4) | F3: (5)
C4: Downturn exp. | D4: Downturn exp. | E4: Downturn exp. | F4: Growth exp.
A5: Primary fiscal balance | B5: Only PBC | C5: Countercyclical | D5: No interaction | E5: Baseline | F5: Baseline
A7: Realized growth | B7: 0.237*** | C7: 0.225*** | D7: 0.227*** | E7: 0.229*** | F7: 0.220***
B8: (5.170) | C8: (4.902) | D8: (4.989) | E8: (5.026) | F8: (4.832) | H8: Marginal effects on prim.fisc.bal.
A9: Election dummy | B9: -0.388*** | D9: -0.371** | E9: -0.597*** | F9: -0.384*** | H9: conditional on all controls (incl. realized growth)
B10: (-2.805) | D10: (-2.618) | E10: (-3.716) | F10: (-2.753) | H10: using our baseline model
A11: Expected Economy | C11: -0.507 | D11: -0.481 | E11: -0.625 | F11: 0.174 | I11: No election | J11: Election
C12: (-1.361) | D12: (-1.284) | E12: (-1.601) | F12: (0.894) | H12: No expected downturn | I12: 0 | J12: =1*LEFT(E9,6) -> -0.597
A13: Election x Expected Economy | E13: 0.591** | F13: -0.315* | H13: Expected downturn | I13: =1*LEFT(E11,6) -> -0.625 | J13: =J12+I13+1*LEFT(E13,5) -> -0.631
E14: (2.096) | F14: (-1.911)
A15: Lagged inflation rate | B15: 0.0556 | C15: 0.0520 | D15: 0.0516 | E15: 0.0512 | F15: 0.0529
B16: (1.033) | C16: (1.000) | D16: (0.993) | E16: (0.985) | F16: (1.012)
A17: Total natural resources rents | B17: 0.156 | C17: 0.159 | D17: 0.159 | E17: 0.159 | F17: 0.147
A18: (% of lagged GDP) | B18: (1.454) | C18: (1.511) | D18: (1.510) | E18: (1.538) | F18: (1.398)
A19: Under IMF program | B19: -0.368 | C19: -0.258 | D19: -0.281 | E19: -0.269 | F19: -0.350
B20: (-0.632) | C20: (-0.458) | D20: (-0.503) | E20: (-0.480) | F20: (-0.640)
A21: Lagged age dependency ratio | B21: -0.0196 | C21: -0.00928 | D21: -0.0121 | E21: -0.0110 | F21: -0.0150
B22: (-0.444) | C22: (-0.215) | D22: (-0.280) | E22: (-0.254) | F22: (-0.343)
A23: Lagged public debt (% of GDP) | B23: 0.0411*** | C23: 0.0420*** | D23: 0.0419*** | E23: 0.0418*** | F23: 0.0432***
B24: (4.125) | C24: (4.337) | D24: (4.310) | E24: (4.321) | F24: (4.426)
A25: Lagged population growth | B25: -0.0797 | C25: -0.102 | D25: -0.0912 | E25: -0.0912 | F25: -0.0843
B26: (-0.288) | C26: (-0.374) | D26: (-0.332) | E26: (-0.329) | F26: (-0.301)
A27: Lagged KOF globalisation index | B27: 0.125 | C27: 0.117 | D27: 0.116 | E27: 0.115 | F27: 0.127
B28: (1.491) | C28: (1.416) | D28: (1.394) | E28: (1.394) | F28: (1.508)
A30: Adjusted R-squared | B30: 0.317 | C30: 0.316 | D30: 0.318 | E30: 0.319 | F30: 0.320
A31: Number of observations | B31: 1064 | C31: 1064 | D31: 1064 | E31: 1064 | F31: 1064
A32: Number of countries | B32: 74 | C32: 74 | D32: 74 | E32: 74 | F32: 74
A33: Number of years | B33: 17 | C33: 17 | D33: 17 | E33: 17 | F33: 17
A34: Hausman test | B34: 0 | C34: 0 | D34: 0 | E34: 0 | F34: 0
A35: Breusch-Pagan LM test | B35: 0 | C35: 0 | D35: 0 | E35: 0 | F35: 0
A36: F-test time-fixed effects | B36: 0 | C36: 0 | D36: 0 | E36: 0 | F36: 0
A37: F-test Election | E37: 0.00175 | F37: 0.00902
A38: F-test Expected economy | E38: 0.074 | F38: 0.168
A39: Robust t-statistics in parentheses
A40: *** p<0.01, ** p<0.05, * p<0.1
A41: Notes: Standard errors are clustered at the country level. *** p<0.01, ** p<0.05, * p<0.1. t-statistics are shown inside brackets. p-values are shown for test statistics. Country- and year-fixed effects are not shown.

Sheet Table III
A1: Table III.do
B3: (1) | C3: (2) | D3: (3) | E3: (4) | F3: (5) | G3: (6) | H3: (7)
B4: Growth exp. | C4: Growth exp. | D4: Growth exp. | E4: Growth exp. | F4: Growth exp. | G4: Growth exp. | H4: Growth exp.
A5: Primary fiscal balance | B5: Baseline | C5: Gen-to-spec. | D5: Pres.-parl. | E5: No early elections | F5: Regular elections | G5: No extremes | H5: More democracies
A7: Realized growth | B7: 0.220*** | C7: 0.226*** | D7: 0.219*** | E7: 0.217*** | F7: 0.213*** | G7: 0.245*** | H7: 0.171***
B8: (4.832) | C8: (5.018) | D8: (4.785) | E8: (4.672) | F8: (4.526) | G8: (4.814) | H8: (4.174)
A9: Election dummy | B9: -0.384*** | C9: -0.383*** | E9: -0.352** | F9: -0.390** | G9: -0.323** | H9: -0.419**
B10: (-2.753) | C10: (-2.748) | E10: (-2.193) | F10: (-2.479) | G10: (-2.260) | H10: (-2.496)
A11: Election in presidential system | D11: -0.581**
D12: (-2.321)
A13: Election in parliamentary system | D13: -0.321*
D14: (-1.759)
A15: Expected Economy | B15: 0.174 | C15: 0.217 | D15: 0.172 | E15: 0.189 | F15: 0.193 | G15: 0.284 | H15: 0.0982
B16: (0.894) | C16: (1.060) | D16: (0.882) | E16: (0.965) | F16: (0.970) | G16: (1.211) | H16: (0.750)
A17: Election x Expected Economy | B17: -0.315* | C17: -0.333* | E17: -0.314* | F17: -0.398* | G17: -0.509** | H17: -0.285**
B18: (-1.911) | C18: (-1.942) | E18: (-1.768) | F18: (-1.922) | G18: (-2.485) | H18: (-2.152)
A19: Presidential Election x Exp.Ec. | D19: -0.122
D20: (-0.500)
A21: Parliamentary Election x Exp.Ec. | D21: -0.374*
D22: (-1.959)
A23: Lagged inflation rate | B23: 0.0529 | D23: 0.0563 | E23: 0.0524 | F23: 0.0640 | G23: 0.0397 | H23: 0.0582*
B24: (1.012) | D24: (1.064) | E24: (1.028) | F24: (1.279) | G24: (0.766) | H24: (1.904)
A25: Total natural resources rents | B25: 0.147 | D25: 0.148 | E25: 0.136 | F25: 0.136 | G25: 0.163 | H25: 0.144***
A26: (% of lagged GDP) | B26: (1.398) | D26: (1.398) | E26: (1.297) | F26: (1.312) | G26: (1.458) | H26: (2.623)
A27: Under IMF program | B27: -0.350 | D27: -0.347 | E27: -0.298 | F27: -0.335 | G27: -0.487 | H27: 0.129
B28: (-0.640) | D28: (-0.622) | E28: (-0.574) | F28: (-0.646) | G28: (-0.853) | H28: (0.330)
A29: Lagged age dependency ratio | B29: -0.0150 | D29: -0.0177 | E29: -0.0213 | F29: -0.0222 | G29: -0.0112 | H29: -0.0214
B30: (-0.343) | D30: (-0.402) | E30: (-0.462) | F30: (-0.491) | G30: (-0.258) | H30: (-0.441)
A31: Lagged public debt (% of GDP) | B31: 0.0432*** | C31: 0.0398*** | D31: 0.0429*** | E31: 0.0438*** | F31: 0.0471*** | G31: 0.0434*** | H31: 0.0270***
B32: (4.426) | C32: (3.934) | D32: (4.453) | E32: (4.521) | F32: (4.790) | G32: (4.340) | H32: (2.928)
A33: Lagged population growth | B33: -0.0843 | D33: -0.0837 | E33: -0.120 | F33: -0.0615 | G33: -0.0120 | H33: 0.142
B34: (-0.301) | D34: (-0.298) | E34: (-0.425) | F34: (-0.237) | G34: (-0.0430) | H34: (0.432)
A35: Lagged KOF globalisation index | B35: 0.127 | D35: 0.127 | E35: 0.124 | F35: 0.150* | G35: 0.126 | H35: 0.110
B36: (1.508) | D36: (1.510) | E36: (1.452) | F36: (1.824) | G36: (1.569) | H36: (1.406)
A38: Adjusted R-squared | B38: 0.320 | C38: 0.308 | D38: 0.319 | E38: 0.319 | F38: 0.329 | G38: 0.311 | H38: 0.249
A39: Number of observations | B39: 1064 | C39: 1064 | D39: 1064 | E39: 1034 | F39: 994 | G39: 1034 | H39: 1502
A40: Number of countries | B40: 74 | C40: 74 | D40: 74 | E40: 74 | F40: 74 | G40: 74 | H40: 110
A41: Number of years | B41: 17 | C41: 17 | D41: 17 | E41: 17 | F41: 17 | G41: 17 | H41: 17
A42: Hausman test | B42: 0 | C42: 0 | D42: 0 | E42: 0 | F42: 3.3e-08 | G42: 0 | H42: 0.00238
A43: Breusch-Pagan LM test | B43: 0 | C43: 0 | D43: 0 | E43: 0 | F43: 0 | G43: 0 | H43: 0
...

Sheet Table IV
A1: Table IV G-V.do
B3: (1) | C3: (2) | D3: (2) | E3: (4) | F3: (5) | G3: (3) | H3: (7) | I3: (8) | J3: (4) | K3: (5) | L3: (6) | M3: (7) | N3: (13) | O3: (14) | P3: (15) | R3: C, E, F, H, I, N, O, P
C4: Variable representing the alternative interaction variable
C5: Realized | E5: Natural | F5: Under | G5: Age | H5: Public | I5: Population | J5: KOF | K5: Bureaucratic | L5: Freedom | M5: core | N5: New
A6: Primary fiscal balance | B6: Baseline | C6: growth | D6: inflation | E6: resources | F6: IMF program | G6: dependency | H6: debt | I6: growth | J6: globalisation | K6: quality | L6: of press | M6: OECD | N6: democracies | O6: Parliamentary | P6: Plurality
A8: Realized growth | B8: 0.220*** | C8: 0.203*** | D8: 0.221*** | E8: 0.220*** | F8: 0.220*** | G8: 0.221*** | H8: 0.220*** | I8: 0.220*** | J8: 0.223*** | K8: 0.179*** | L8: 0.223*** | M8: 0.223*** | N8: 0.221*** | O8: 0.220*** | P8: 0.221***
B9: (4.832) | C9: (4.593) | D9: (4.944) | E9: (4.819) | F9: (4.814) | G9: (4.842) | H9: (4.800) | I9: (4.854) | J9: (4.940) | K9: (3.480) | L9: (4.917) | M9: (4.928) | N9: (4.826) | O9: (4.782) | P9: (4.730)
A10: Election dummy | B10: -0.384*** | C10: -0.642*** | D10: 0.00201 | E10: -0.397** | F10: -0.307** | G10: 1.251 | H10: -0.236 | I10: -0.244 | J10: -2.120** | K10: -1.793*** | L10: 0.183 | M10: -0.673*** | N10: -0.372** | O10: -0.562** | P10: -0.312*
B11: (-2.753) | C11: (-2.868) | D11: (0.00950) | E11: (-2.297) | F11: (-2.134) | G11: (1.515) | H11: (-1.040) | I11: (-1.264) | J11: (-2.511) | K11: (-3.165) | L11: (0.502) | M11: (-3.869) | N11: (-2.491) | O11: (-2.202) | P11: (-1.680)
A12: Expected Economy | B12: 0.174 | C12: 0.191 | D12: 0.171 | E12: 0.174 | F12: 0.180 | G12: 0.170 | H12: 0.177 | I12: 0.171 | J12: 0.167 | K12: 0.243 | L12: 0.180 | M12: 0.171 | N12: 0.174 | O12: 0.174 | P12: 0.169
B13: (0.894) | C13: (0.966) | D13: (0.883) | E13: (0.895) | F13: (0.915) | G13: (0.872) | H13: (0.905) | I13: (0.878) | J13: (0.860) | K13: (1.124) | L13: (0.932) | M13: (0.882) | N13: (0.893) | O13: (0.894) | P13: (0.835)
A14: Election x Expected Economy | B14: -0.315* | C14: -0.399** | D14: -0.312* | E14: -0.315* | F14: -0.343** | G14: -0.313* | H14: -0.322* | I14: -0.315* | J14: -0.304* | K14: -0.396** | L14: -0.323* | M14: -0.318* | N14: -0.316* | O14: -0.313* | P14: -0.344**
B15: (-1.911) | C15: (-2.140) | D15: (-1.916) | E15: (-1.913) | F15: (-2.022) | G15: (-1.888) | H15: (-1.937) | I15: (-1.934) | J15: (-1.838) | K15: (-2.179) | L15: (-1.959) | M15: (-1.904) | N15: (-1.901) | O15: (-1.896) | P15: (-2.053)
A16: Alternative interaction variable | K16: -0.735 | L16: 0.0780 | O16: 0.205 | P16: -0.799
K17: (-0.467) | L17: (1.428) | O17: (0.380) | P17: (-1.101)
A18: Election x Alternative variable | C18: 0.0887 | D18: -0.107** | E18: 0.00477 | F18: -0.616 | G18: -0.0311** | H18: -0.00266 | I18: -0.181 | J18: 0.0241** | K18: 0.426** | L18: -0.0234* | M18: 0.727** | N18: -0.0763 | O18: 0.242 | P18: -0.182
C19: (1.178) | D19: (-2.475) | E19: (0.132) | F19: (-1.597) | G19: (-2.022) | H19: (-0.961) | I19: (-1.095) | J19: (2.151) | K19: (2.552) | L19: (-1.841) | M19: (2.504) | N19: (-0.182) | O19: (0.720) | P19: (-0.634)
A20: Lagged inflation rate | B20: 0.0529 | C20: 0.0540 | D20: 0.0751 | E20: 0.0531 | F20: 0.0534 | G20: 0.0534 | H20: 0.0529 | I20: 0.0542 | J20: 0.0521 | K20: 0.107** | L20: 0.0541 | M20: 0.0526 | N20: 0.0526 | O20: 0.0540 | P20: 0.0435
B21: (1.012) | C21: (1.037) | D21: (1.477) | E21: (1.016) | F21: (1.018) | G21: (1.017) | H21: (1.011) | I21: (1.036) | J21: (0.996) | K21: (2.272) | L21: (1.042) | M21: (1.004) | N21: (1.000) | O21: (1.021) | P21: (0.780)
A22: Total natural resources rents | B22: 0.147 | C22: 0.149 | D22: 0.148 | E22: 0.146 | F22: 0.148 | G22: 0.150 | H22: 0.147 | I22: 0.147 | J22: 0.147 | K22: 0.0726 | L22: 0.133 | M22: 0.146 | N22: 0.147 | O22: 0.148 | P22: 0.148
A23: (% of lagged GDP) | B23: (1.398) | C23: (1.410) | D23: (1.409) | E23: (1.378) | F23: (1.401) | G23: (1.417) | H23: (1.397) | I23: (1.398) | J23: (1.392) | K23: (0.803) | L23: (1.293) | M23: (1.393) | N23: (1.396) | O23: (1.400) | P23: (1.394)
A24: Under IMF program | B24: -0.350 | C24: -0.342 | D24: -0.338 | E24: -0.349 | F24: -0.225 | G24: -0.378 | H24: -0.350 | I24: -0.351 | J24: -0.370 | K24: -0.474 | L24: -0.390 | M24: -0.365 | N24: -0.350 | O24: -0.356 | P24: -0.385
B25: (-0.640) | C25: (-0.627) | D25: (-0.616) | E25: (-0.639) | F25: (-0.410) | G25: (-0.688) | H25: (-0.640) | I25: (-0.640) | J25: (-0.673) | K25: (-0.799) | L25: (-0.714) | M25: (-0.662) | N25: (-0.641) | O25: (-0.647) | P25: (-0.699)
A26: Lagged age dependency ratio | B26: -0.0150 | C26: -0.0144 | D26: -0.0166 | E26: -0.0150 | F26: -0.0162 | G26: -0.00959 | H26: -0.0156 | I26: -0.0155 | J26: -0.0174 | K26: -0.0721 | L26: -0.0170 | M26: -0.0158 | N26: -0.0149 | O26: -0.0151 | P26: -0.0170
B27: (-0.343) | C27: (-0.326) | D27: (-0.377) | E27: (-0.341) | F27: (-0.368) | G27: (-0.223) | H27: (-0.356) | I27: (-0.354) | J27: (-0.394) | K27: (-0.961) | L27: (-0.390) | M27: (-0.362) | N27: (-0.339) | O27: (-0.345) | P27: (-0.387)
A28: Lagged public debt (% of GDP) | B28: 0.0432*** | C28: 0.0437*** | D28: 0.0432*** | E28: 0.0432*** | F28: 0.0432*** | G28: 0.0431*** | H28: 0.0438*** | I28: 0.0429*** | J28: 0.0431*** | K28: 0.0428*** | L28: 0.0429*** | M28: 0.0432*** | N28: 0.0432*** | O28: 0.0432*** | P28: 0.0428***
B29: (4.426) | C29: (4.399) | D29: (4.455) | E29: (4.438) | F29: (4.417) | G29: (4.449) | H29: (4.460) | I29: (4.434) | J29: (4.438) | K29: (3.818) | L29: (4.581) | M29: (4.456) | N29: (4.424) | O29: (4.436) | P29: (4.287)
A30: Lagged population growth | B30: -0.0843 | C30: -0.0770 | D30: -0.0881 | E30: -0.0837 | F30: -0.0847 | G30: -0.101 | H30: -0.0846 | I30: -0.0656 | J30: -0.0876 | K30: 0.107 | L30: -0.0772 | M30: -0.0837 | N30: -0.0840 | O30: -0.0834 | P30: -0.0816
B31: (-0.301) | C31: (-0.275) | D31: (-0.309) | E31: (-0.298) | F31: (-0.301) | G31: (-0.358) | H31: (-0.302) | I31: (-0.235) | J31: (-0.313) | K31: (0.285) | L31: (-0.271) | M31: (-0.297) | N31: (-0.300) | O31: (-0.296) | P31: (-0.290)
A32: Lagged KOF globalisation index | B32: 0.127 | C32: 0.129 | D32: 0.128 | E32: 0.127 | F32: 0.127 | G32: 0.125 | H32: 0.127 | I32: 0.126 | J32: 0.119 | K32: 0.148 | L32: 0.128 | M32: 0.126 | N32: 0.127 | O32: 0.126 | P32: 0.131
B33: (1.508) | C33: (1.561) | D33: (1.533) | E33: (1.506) | F33: (1.514) | G33: (1.480) | H33: (1.503) | I33: (1.500) | J33: (1.412) | K33: (1.596) | L33: (1.523) | M33: (1.495) | N33: (1.513) | O33: (1.500) | P33: (1.477)
A35: Adjusted R-squared | B35: 0.320 | C35: 0.320 | D35: 0.322 | E35: 0.319 | F35: 0.320 | G35: 0.321 | H35: 0.319 | I35: 0.320 | J35: 0.321 | K35: 0.369 | L35: 0.323 | M35: 0.321 | N35: 0.319 | O35: 0.319 | P35: 0.317
A36: Number of observations | B36: 1064 | C36: 1064 | D36: 1064 | E36: 1064 | F36: 1064 | G36: 1064 | H36: 1064 | I36: 1064 | J36: 1064 | K36: 833 | L36: 1064 | M36: 1064 | N36: 1064 | O36: 1064 | P36: 1050
A37: Number of countries | B37: 74 | C37: 74 | D37: 74 | E37: 74 | F37: 74 | G37: 74 | H37: 74 | I37: 74 | J37: 74 | K37: 64 | L37: 74 | M37: 74 | N37: 74 | O37: 74 | P37: 73
A38: Number of years | B38: 17 | C38: 17 | D38: 17 | E38: 17 | F38: 17 | G38: 17 | H38: 17 | I38: 17 | J38: 17 | K38: 15 | L38: 17 | M38: 17 | N38: 17 | O38: 17 | P38: 17
A39: Hausman test | B39: 0 | C39: 0 | D39: 0 | E39: 0 | F39: 0 | G39: 0 | H39: 0 | I39: 0 | J39: 0 | K39: 0 | L39: 0 | M39: 0 | N39: 0 | O39: 0 | P39: 0
A40: Breusch-Pagan LM test | B40: 0 | C40: 0 | D40: 0 | E40: 0 | F40: 0 | G40: 0 | H40: 0 | I40: 0 | J40: 0 | K40: 0 | L40: 0 | M40: 0 | N40: 0 | O40: 0 | P40: 0
A41: F-test time-fixed effects | B41: 0 | C41: 0 | D41: 0 | E41: 0 | F41: 0 | G41: 0 | H41: 0 | I41: 0 | J41: 0 | K41: 0 | L41: 0 | M41: 0 | N41: 0 | O41: 0 | P41: 0
A42: F-test Election | B42: 0.00902 | C42: 0.0143 | D42: 0.167 | E42: 0.0275 | F42: 0.0191 | G42: 0.0445 | H42: 0.0977 | I42: 0.11 | J42: 0.00545 | K42: 0.00372 | L42: 0.129 | M42: 0.000576 | N42: 0.0105 | O42: 0.0339 | P42: 0.0611
A43: F-test Expected growth | B43: 0.168 | C43: 0.104 | D43: 0.165 | E43: 0.167 | F43: 0.134 | G43: 0.174 | H43: 0.159 | I43: 0.16 | J43: 0.191 | K43: 0.0899 | L43: 0.154 | M43: 0.17 | N43: 0.171 | O43: 0.173 | P43: 0.126
...

Sheet Table G.I
A1: Table G-I.do
A3: Variable | C3: Obs | D3: Mean | E3: Std. Dev. | F3: Min | G3: Max | I3: Source
A5: Primary fiscal balance | C5: =M5 -> 1064 | D5: =N5 -> -0.3660952 | E5: =O5 -> 4.167894 | F5: =P5 -> -29.29428 | G5: =Q5 -> 30.90047 | I5: IMF WEO | K5: balprim | L5: | | M5: 1064 | N5: -0.3660952 | O5: 4.167894 | P5: -29.29428 | Q5: 30.90047
A6: Realized real GDP growth | C6: =M6 -> 1064 | D6: =N6 -> 2.907507 | E6: =O6 -> 3.429464 | F6: =P6 -> -15.1 | G6: =Q6 -> 25.01 | I6: IMF WEO | K6: gr | L6: | | M6: 1064 | N6: 2.907507 | O6: 3.429464 | P6: -15.1 | Q6: 25.01
A7: Election dummy | C7: =M7 -> 1064 | D7: =N7 -> 0.2424812 | E7: =O7 -> 0.4287853 | F7: =P7 -> 0 | G7: =Q7 -> 1 | I7: DPI | K7: elec | L7: | | M7: 1064 | N7: 0.2424812 | O7: 0.4287853 | P7: 0 | Q7: 1
A8: Expected real GDP growth | C8: =M8 -> 1064 | D8: =N8 -> 3.141787 | E8: =O8 -> 1.880493 | F8: =P8 -> -4.5 | G8: =Q8 -> 10.1 | I8: IMF WEO | K8: exp_growth | L8: | | M8: 1064 | N8: 3.141787 | O8: 1.880493 | P8: -4.5 | Q8: 10.1
A9: Expected downturn dummy | C9: =M9 -> 1064 | D9: =N9 -> 0.3787594 | E9: =O9 -> 0.4853062 | F9: =P9 -> 0 | G9: =Q9 -> 1 | I9: IMF WEO | K9: exp_low2 | L9: | | M9: 1064 | N9: 0.3787594 | O9: 0.4853062 | P9: 0 | Q9: 1
A10: Inflation rate (lagged) | C10: =M10 -> 1064 | D10: =N10 -> 3.742789 | E10: =O10 -> 3.86234 | F10: =P10 -> -3.109 | G10: =Q10 -> 34.454 | I10: IMF WEO | K10: l1PCPIPCH | L10: | | M10: 1064 | N10: 3.742789 | O10: 3.86234 | P10: -3.109 | Q10: 34.454
A11: Natural resources rents (% of lagged GDP) | C11: =M11 -> 1064 | D11: =N11 -> 2.850001 | E11: =O11 -> 5.11581 | F11: =P11 -> 0 | G11: =Q11 -> 43.18248 | I11: WB WDI | K11: natres | L11: | | M11: 1064 | N11: 2.850001 | O11: 5.11581 | P11: 0 | Q11: 43.18248
A12: Under IMF program | C12: =M12 -> 1064 | D12: =N12 -> 0.1494361 | E12: =O12 -> 0.3566855 | F12: =P12 -> 0 | G12: =Q12 -> 1 | I12: IMF MONA | K12: underimf | L12: | | M12: 1064 | N12: 0.1494361 | O12: 0.3566855 | P12: 0 | Q12: 1
A13: Age dependency ratio (lagged) | C13: =M13 -> 1064 | D13: =N13 -> 53.43242 | E13: =O13 -> 10.8904 | F13: =P13 -> 36.3229 | G13: =Q13 -> 100.8941 | I13: WB WDI | K13: l1sp_pop_d~d | L13: | | M13: 1064 | N13: 53.43242 | O13: 10.8904 | P13: 36.3229 | Q13: 100.8941
A14: Gross public debt (% of GDP) (lagged) | C14: =M14 -> 1064 | D14: =N14 -> 55.06319 | E14: =O14 -> 35.07434 | F14: =P14 -> 3.664 | G14: =Q14 -> 236.069 | I14: IMF WEO | K14: l1GGXWDG_N~P | L14: | | M14: 1064 | N14: 55.06319 | O14: 35.07434 | P14: 3.664 | Q14: 236.069
A15: Population growth (lagged) | C15: =M15 -> 1064 | D15: =N15 -> 0.791911 | E15: =O15 -> 0.9824686 | F15: =P15 -> -3.177914 | G15: =Q15 -> 7.760684 | I15: IMF WEO | K15: l1pop_gr | L15: | | M15: 1064 | N15: 0.791911 | O15: 0.9824686 | P15: -3.177914 | Q15: 7.760684
A16: KOF Globalisation index (lagged) | C16: =M16 -> 1064 | D16: =N16 -> 71.14716 | E16: =O16 -> 12.46227 | F16: =P16 -> 37.81363 | G16: =Q16 -> 90.23753 | I16: IMF WEO | K16: l1KOFGI | L16: | | M16: 1064 | N16: 71.14716 | O16: 12.46227 | P16: 37.81363 | Q16: 90.23753
... A18: Freedom of press | C18: =M18 -> 1064 | D18: =N18 -> 24.96992 | E18: =O18 -> 10.87148 | F18: =P18 -> 5 | G18: =Q18 -> 60 | I18: Freedom House | K18: freepress | L18: | | M18: 1064 | N18: 24.96992 | O18: 10.87148 | P18: 5 | Q18: 60
A19: core OECD | C19: =M19 -> 1064 | D19: =N19 -> 0.3674812 | E19: =O19 -> 0.4823458 | F19: =P19 -> 0 | G19: =Q19 -> 1 | K19: oecdcore | L19: | | M19: 1064 | N19: 0.3674812 | O19: 0.4823458 | P19: 0 | Q19: 1
A20: New democracy | C20: =M20 -> 1064 | D20: =N20 -> 0.1522556 | E20: =O20 -> 0.3594375 | F20: =P20 -> 0 | G20: =Q20 -> 1 | K20: newdemoc | L20: | | M20: 1064 | N20: 0.1522556 | O20: 0.3594375 | P20: 0 | Q20: 1
A21: Parliamentary | C21: =M21 -> 1064 | D21: =N21 -> 0.7067669 | E21: =O21 -> 0.4554585 | F21: =P21 -> 0 | G21: =Q21 -> 1 | I21: DPI | K21: parliament~y | L21: | | M21: 1064 | N21: 0.7067669 | O21: 0.4554585 | P21: 0 | Q21: 1
A22: Plurality | C22: =M22 -> 1050 | D22: =N22 -> 0.38 | E22: =O22 -> 0.4856177 | F22: =P22 -> 0 | G22: =Q22 -> 1 | I22: DPI | K22: plurality | L22: | | M22: 1050 | N22: 0.38 | O22: 0.4856177 | P22: 0 | Q22: 1
A24: Notes: Based on a panel of 74 democratic countries covering the years 2000-2016.

Sheet Table G.II
A1: Table G-II.do
B3: (1) | C3: (2) | D3: (3) | E3: (4) | F3: (5)
C4: Downturn exp. | D4: Downturn exp. | E4: Downturn exp. | F4: Growth exp.
A5: Fiscal balance | B5: Only PBC | C5: Countercyclical | D5: No interaction | E5: Baseline | F5: Baseline
A7: Realized growth | B7: 0.269*** | C7: 0.257*** | D7: 0.259*** | E7: 0.261*** | F7: 0.242***
B8: (5.769) | C8: (5.427) | D8: (5.521) | E8: (5.562) | F8: (4.889) | H8: Marginal effects on prim.fisc.bal.
A9: Election dummy | B9: -0.420*** | D9: -0.404*** | E9: -0.607*** | F9: -0.412*** | H9: conditional on all controls (incl. realized growth)
B10: (-3.147) | D10: (-2.966) | E10: (-3.821) | F10: (-3.030) | H10: using our baseline model
A11: Expected Economy | C11: -0.509 | D11: -0.482 | E11: -0.612 | F11: 0.232 | I11: No election | J11: Election
C12: (-1.342) | D12: (-1.267) | E12: (-1.520) | F12: (1.149) | H12: No expected downturn | I12: 0 | J12: =1*LEFT(F9,6) -> -0.412
A13: Election x Expected Economy | E13: 0.532* | F13: -0.314* | H13: Expected downturn | I13: =1*LEFT(F11,6) -> 0.232 | J13: =J12+I13+1*LEFT(F13,5) -> -0.49
E14: (1.775) | F14: (-1.918)
A15: Lagged inflation rate | B15: 0.0443 | C15: 0.0410 | D15: 0.0407 | E15: 0.0404 | F15: 0.0421
B16: (0.753) | C16: (0.726) | D16: (0.718) | E16: (0.714) | F16: (0.729) | H16: Marginal effects on prim.fisc.bal.
A17: Total natural resources rents | B17: 0.152 | C17: 0.155 | D17: 0.155 | E17: 0.156 | F17: 0.139 | H17: conditional on all controls (incl. realized growth)
A18: (% of lagged GDP) | B18: (1.435) | C18: (1.493) | D18: (1.489) | E18: (1.514) | F18: (1.343) | H18: using our expected recessions
A19: Under IMF program | B19: 0.309 | C19: 0.419 | D19: 0.395 | E19: 0.407 | F19: 0.353 | I19: No election | J19: Election
B20: (0.483) | C20: (0.677) | D20: (0.640) | E20: (0.659) | F20: (0.582) | H20: No expected downturn | I20: 0 | J20: =1*LEFT(E9,6) -> -0.607
A21: Lagged age dependency ratio | B21: 0.00214 | C21: 0.0127 | D21: 0.00949 | E21: 0.0106 | F21: 0.00783 | H21: Expected downturn | I21: =1*LEFT(E11,6) -> -0.612 | J21: =J20+I21+1*LEFT(E13,5) -> -0.687
B22: (0.0425) | C22: (0.255) | D22: (0.189) | E22: (0.211) | F22: (0.158)
A23: Lagged public debt (% of GDP) | B23: 0.00864 | C23: 0.00947 | D23: 0.00946 | E23: 0.00931 | F23: 0.0118
B24: (0.705) | C24: (0.792) | D24: (0.788) | E24: (0.781) | F24: (0.999)
A25: Lagged population growth | B25: -0.189 | C25: -0.213 | D25: -0.201 | E25: -0.201 | F25: -0.190
B26: (-0.672) | C26: (-0.766) | D26: (-0.724) | E26: (-0.721) | F26: (-0.665)
A27: Lagged KOF globalisation index | B27: 0.134* | C27: 0.127* | D27: 0.125* | E27: 0.124* | F27: 0.138*
B28: (1.749) | C28: (1.707) | D28: (1.676) | E28: (1.675) | F28: (1.773)
A30: Adjusted R-squared | B30: 0.280 | C30: 0.279 | D30: 0.281 | E30: 0.282 | F30: 0.284
A31: Number of observations | B31: 1079 | C31: 1079 | D31: 1079 | E31: 1079 | F31: 1079
A32: Number of countries | B32: 75 | C32: 75 | D32: 75 | E32: 75 | F32: 75
A33: Number of years | B33: 17 | C33: 17 | D33: 17 | E33: 17 | F33: 17
A34: Hausman test | B34: 0 | C34: 0 | D34: 0 | E34: 0 | F34: 0
A35: Breusch-Pagan LM test | B35: 0 | C35: 0 | D35: 0 | E35: 0 | F35: 0
A36: F-test time-fixed effects | B36: 0 | C36: 0 | D36: 0 | E36: 0 | F36: 0
A37: F-test Election | E37: 0.00121 | F37: 0.00499
A38: F-test Expected economy | E38: 0.144 | F38: 0.163
A39: Robust t-statistics in parentheses
A40: *** p<0.01, ** p<0.05, * p<0.1
A41: Notes: Standard errors are clustered at the country level. *** p<0.01, ** p<0.05, * p<0.1. t-statistics are shown inside brackets. p-values are shown for test statistics. Country- and year-fixed effects are not shown.

Sheet Table G.III
A1: Table G-III.do
B3: (1) | C3: (2) | D3: (3) | E3: (4) | F3: (5)
B4: Growth exp. | C4: Growth exp. | D4: Growth exp. | E4: Low growth exp. | F4: Growth exp.
A5: Primary fiscal balance | B5: No realized growth | C5: use YRCURNT | D5: 1st growth release | E5: lower quartile | F5: No controls
A7: Realized growth | C7: 0.220*** | D7: 0.270*** | E7: 0.234*** | F7: 0.251***
C8: (4.832) | D8: (4.996) | E8: (5.260) | F8: (5.804)
A9: Election dummy | B9: -0.350** | C9: -0.384*** | D9: -0.383*** | E9: -0.580*** | F9: -0.421***
B10: (-2.491) | C10: (-2.753) | D10: (-2.815) | E10: (-3.267) | F10: (-2.973)
A11: Expected Economy | B11: 0.356* | C11: 0.174 | D11: 0.126 | E11: -0.314 | F11: 0.0755
B12: (1.876) | C12: (0.894) | D12: (0.736) | E12: (-1.117) | F12: (0.367)
A13: Election x Expected Economy | B13: -0.311* | C13: -0.315* | D13: -0.306* | E13: 0.657* | F13: -0.315*
B14: (-1.780) | C14: (-1.911) | D14: (-1.817) | E14: (1.678) | F14: (-1.796)
A15: Lagged inflation rate | B15: 0.0304 | C15: 0.0529 | D15: 0.0495 | E15: 0.0551
B16: (0.553) | C16: (1.012) | D16: (0.929) | E16: (1.027)
A17: Total natural resources rents | B17: 0.173 | C17: 0.147 | D17: 0.152 | E17: 0.150
A18: (% of lagged GDP) | B18: (1.528) | C18: (1.398) | D18: (1.457) | E18: (1.412)
A19: Under IMF program | B19: -0.497 | C19: -0.350 | D19: -0.355 | E19: -0.354
B20: (-0.877) | C20: (-0.640) | D20: (-0.634) | E20: (-0.614)
A21: Lagged age dependency ratio | B21: -0.00608 | C21: -0.0150 | D21: -0.00515 | E21: -0.0165
B22: (-0.130) | C22: (-0.343) | D22: (-0.115) | E22: (-0.374)
A23: Lagged public debt (% of GDP) | B23: 0.0488*** | C23: 0.0432*** | D23: 0.0432*** | E23: 0.0421***
B24: (5.010) | C24: (4.426) | D24: (4.458) | E24: (4.284)
A25: Lagged population growth | B25: -0.0397 | C25: -0.0843 | D25: -0.0688 | E25: -0.0706
B26: (-0.144) | C26: (-0.301) | D26: (-0.252) | E26: (-0.254)
A27: Lagged KOF globalisation index | B27: 0.117 | C27: 0.127 | D27: 0.124 | E27: 0.127
B28: (1.328) | C28: (1.508) | D28: (1.440) | E28: (1.502)
A30: Adjusted R-squared | B30: 0.296 | C30: 0.320 | D30: 0.320 | E30: 0.317 | F30: 0.284
A31: Number of observations | B31: 1064 | C31: 1064 | D31: 1063 | E31: 1064 | F31: 1064
A32: Number of countries | B32: 74 | C32: 74 | D32: 74 | E32: 74 | F32: 74
A33: Number of years | B33: 17 | C33: 17 | D33: 17 | E33: 17 | F33: 17
A34: Hausman test | B34: 0 | C34: 0 | D34: 0 | E34: 0 | F34: 0
A35: Breusch-Pagan LM test | B35: 0 | C35: 0 | D35: 0 | E35: 0 | F35: 0
A36: F-test time-fixed effects | B36: 0 | C36: 0 | D36: 0 | E36: 0 | F36: 0
A37: F-test Election | B37: 0.019 | C37: 0.00902 | D37: 0.0087 | E37: 0.00618 | F37: 0.00611
A38: F-test Expected economy | B38: 0.125 | C38: 0.168 | D38: 0.196 | E38: 0.22 | F38: 0.174
A39: Notes: Standard errors are clustered at the country level. *** p<0.01, ** p<0.05, * p<0.1. t-statistics are shown inside brackets. p-values are shown for test statistics. Country- and year-fixed effects are not shown.

Sheet Table G.IV
A1: Table G-IV.do
B3: (1) | C3: (2) | D3: (3) | E3: (4) | F3: (5) | G3: (6) | H3: (7)
B4: Downturn exp. | C4: Downturn exp. | D4: Downturn exp. | E4: Downturn exp. | F4: Downturn exp. | G4: Downturn exp. | H4: Downturn exp.
A5: Primary fiscal balance | B5: Baseline | C5: Gen-to-spec. | D5: Pres.-parl. | E5: No early elections | F5: Regular elections | G5: No extremes | H5: More democracies
A7: Realized growth | B7: 0.229*** | C7: 0.240*** | D7: 0.228*** | E7: 0.229*** | F7: 0.227*** | G7: 0.264*** | H7: 0.238***
B8: (5.026) | C8: (4.996) | D8: (4.992) | E8: (4.947) | F8: (5.214) | G8: (5.040) | H8: (5.240)
A9: Election dummy | B9: -0.597*** | C9: -0.599*** | E9: -0.593*** | F9: -0.574*** | G9: -0.602*** | H9: -0.592***
B10: (-3.716) | C10: (-3.746) | E10: (-3.432) | F10: (-2.917) | G10: (-3.669) | H10: (-3.626)
A11: Election in presidential system | D11: -0.509*
D12: (-1.773)
A13: Election in parliamentary system | D13: -0.616***
D14: (-3.069)
A15: Expected Economy | B15: -0.625 | C15: -0.759* | D15: -0.621 | E15: -0.621 | F15: -0.516 | G15: -0.575 | H15: -0.719*
B16: (-1.601) | C16: (-1.778) | D16: (-1.592) | E16: (-1.635) | F16: (-1.354) | G16: (-1.477) | H16: (-1.828)
A17: Election x Expected Economy | B17: 0.591** | C17: 0.602** | E17: 0.663** | F17: 0.480 | G17: 0.731** | H17: 0.509*
B18: (2.096) | C18: (2.109) | E18: (2.127) | F18: (1.279) | G18: (2.458) | H18: (1.785)
A19: Presidential Election x Exp.Ec. | D19: -0.0571
D20: (-0.111)
A21: Parliamentary Election x Exp.Ec. | D21: 0.863**
D22: (2.497)
A23: Lagged inflation rate | B23: 0.0512 | D23: 0.0530 | E23: 0.0504 | F23: 0.0623 | G23: 0.0427 | H23: 0.0759
B24: (0.985) | D24: (1.012) | E24: (0.990) | F24: (1.244) | G24: (0.804) | H24: (1.504)
A25: Total natural resources rents | B25: 0.159 | D25: 0.159 | E25: 0.149 | F25: 0.148 | G25: 0.179 | H25: 0.154
A26: (% of lagged GDP) | B26: (1.538) | D26: (1.532) | E26: (1.449) | F26: (1.446) | G26: (1.629) | H26: (1.338)
A27: Under IMF program | B27: -0.269 | D27: -0.264 | E27: -0.235 | F27: -0.274 | G27: -0.448 | H27: -0.0517
B28: (-0.480) | D28: (-0.467) | E28: (-0.435) | F28: (-0.513) | G28: (-0.755) | H28: (-0.0941)
A29: Lagged age dependency ratio | B29: -0.0110 | D29: -0.0149 | E29: -0.0172 | F29: -0.0203 | G29: -0.0110 | H29: -0.0294
B30: (-0.254) | D30: (-0.340) | E30: (-0.378) | F30: (-0.458) | G30: (-0.254) | H30: (-0.711)
A31: Lagged public debt (% of GDP) | B31: 0.0418*** | C31: 0.0388*** | D31: 0.0415*** | E31: 0.0420*** | F31: 0.0448*** | G31: 0.0405*** | H31: 0.0416***
B32: (4.321) | C32: (3.693) | D32: (4.343) | E32: (4.407) | F32: (4.644) | G32: (4.161) | H32: (4.220)
A33: Lagged population growth | B33: -0.0912 | D33: -0.0895 | E33: -0.131 | F33: -0.0734 | G33: -0.0340 | H33: -0.00882
B34: (-0.329) | D34: (-0.321) | E34: (-0.463) | F34: (-0.288) | G34: (-0.123) | H34: (-0.0310)
A35: Lagged KOF globalisation index | B35: 0.115 | D35: 0.114 | E35: 0.111 | F35: 0.139* | G35: 0.113 | H35: 0.147*
B36: (1.394) | D36: (1.373) | E36: (1.314) | F36: (1.718) | G36: (1.433) | H36: (1.779)
A38: Adjusted R-squared | B38: 0.319 | C38: 0.307 | D38: 0.319 | E38: 0.319 | F38: 0.326 | G38: 0.306 | H38: 0.322
A39: Number of observations | B39: 1064 | C39: 1064 | D39: 1064 | E39: 1034 | F39: 994 | G39: 1034 | H39: 1020
A40: Number of countries | B40: 74 | C40: 74 | D40: 74 | E40: 74 | F40: 74 | G40: 74 | H40: 72
A41: Number of years | B41: 17 | C41: 17 | D41: 17 | E41: 17 | F41: 17 | G41: 17 | H41: 17
A42: Hausman test | B42: 0 | C42: 0 | D42: 0 | E42: 0 | F42: 1.19e-06 | G42: 0 | H42: 0
A43: Breusch-Pagan LM test | B43: 0 | C43: 0 | D43: 0 | E43: 0 | F43: 0 | G43: 0 | H43: 0
...

Sheet Table G.V
A1: ='Table IV'!A1 -> Table IV G-V.do | B1: DO NOT EDIT
A3: ='Table IV'!A3 | B3: (1) | C3: (2) | D3: (3) | E3: (3) | F3: (4) | G3: (6) | H3: (5) | I3: (6) | J3: (9) | K3: (10) | L3: (11) | M3: (12) | N3: (7) | O3: (8) | P3: (9)
A4: ='Table IV'!A4 | B4: ='Table IV'!B4 | C4: ='Table IV'!C4 -> Variable representing the alternative interaction variable
A5: ='Table IV'!A5 | B5: ='Table IV'!B5 | C5: ='Table IV'!C5 -> Realized | E5: ='Table IV'!E5 -> Natural | F5: ='Table IV'!F5 -> Under | G5: ='Table IV'!G5 -> Age | H5: ='Table IV'!H5 -> Public | I5: ='Table IV'!I5 -> Population | J5: ='Table IV'!J5 -> KOF | K5: ='Table IV'!K5 -> Bureaucratic | L5: ='Table IV'!L5 -> Freedom | ... N5: ='Table IV'!N5 -> New
A6: ='Table IV'!A6 -> Primary fiscal balance | B6: ='Table IV'!B6 -> Baseline | C6: ='Table IV'!C6 -> growth | D6: ='Table IV'!D6 -> inflation | E6: ='Table IV'!E6 -> resources | F6: ='Table IV'!F6 -> IMF program | G6: ='Table IV'!G6 -> dependency | H6: ='Table IV'!H6 -> debt | ... P6: ='Table IV'!P6 -> Plurality
A7: ='Table IV'!A7 | B7: ='Table IV'!B7 | C7: ='Table IV'!C7 | D7: ='Table IV'!D7 | E7: ='Table IV'!E7 | F7: ='Table IV'!F7 | G7: ='Table IV'!G7 | H7: ='Table IV'!H7 | J7: ='Table IV'!J7 | K7: ='Table IV'!K7 | L7: ='Table IV'!L7 | M7: ='Table IV'!M7 | N7: ='Table IV'!N7 | O7: ='Table IV'!O7 | P7: ='Table IV'!P7
A8: ='Table IV'!A8 -> Realized growth | B8: ='Table IV'!B8 -> 0.220*** | C8: ='Table IV'!C8 -> 0.203*** | D8: ='Table IV'!D8 -> 0.221*** | E8: ='Table IV'!E8 -> 0.220*** | F8: ='Table IV'!F8 -> 0.220*** | G8: ='Table IV'!G8 -> 0.221*** | H8: ='Table IV'!H8 -> 0.220*** | ... P8: ='Table IV'!P8 -> 0.221***
A9: ='Table IV'!A9 | B9: ='Table IV'!B9 -> (4.832) | C9: ='Table IV'!C9 -> (4.593) | D9: ='Table IV'!D9 -> (4.944) | E9: ='Table IV'!E9 -> (4.819) | F9: ='Table IV'!F9 -> (4.814) | G9: ='Table IV'!G9 -> (4.842) | H9: ='Table IV'!H9 -> (4.800) | ... P9: ='Table IV'!P9 -> (4.730)
A10: ='Table IV'!A10 -> Election dummy | B10: ='Table IV'!B10 -> -0.384*** | C10: ='Table IV'!C10 -> -0.642*** | D10: ='Table IV'!D10 -> 0.00201 | E10: ='Table IV'!E10 -> -0.397** | F10: ='Table IV'!F10 -> -0.307** | G10: ='Table IV'!G10 -> 1.251 | H10: ='Table IV'!H10 -> -0.236 | ... P10: ='Table IV'!P10 -> -0.312*
A11: ='Table IV'!A11 | B11: ='Table IV'!B11 -> (-2.753) | C11: ='Table IV'!C11 -> (-2.868) | D11: ='Table IV'!D11 -> (0.00950) | E11: ='Table IV'!E11 -> (-2.297) | F11: ='Table IV'!F11 -> (-2.134) | G11: ='Table IV'!G11 -> (1.515) | H11: ='Table IV'!H11 -> (-1.040) | ... P11: ='Table IV'!P11 -> (-1.680)
A12: ='Table IV'!A12 -> Expected Economy | B12: ='Table IV'!B12 -> 0.174 | C12: ='Table IV'!C12 -> 0.191 | D12: ='Table IV'!D12 -> 0.171 | E12: ='Table IV'!E12 -> 0.174 | F12: ='Table IV'!F12 -> 0.180 | G12: ='Table IV'!G12 -> 0.170 | H12: ='Table IV'!H12 -> 0.177 | ... P12: ='Table IV'!P12 -> 0.169
A13: ='Table IV'!A13 | B13: ='Table IV'!B13 -> (0.894) | C13: ='Table IV'!C13 -> (0.966) | D13: ='Table IV'!D13 -> (0.883) | E13: ='Table IV'!E13 -> (0.895) | F13: ='Table IV'!F13 -> (0.915) | G13: ='Table IV'!G13 -> (0.872) | H13: ='Table IV'!H13 -> (0.905) | ... P13: ='Table IV'!P13 -> (0.835)
A14: ='Table IV'!A14 -> Election x Expected Economy | B14: ='Table IV'!B14 -> -0.315* | C14: ='Table IV'!C14 -> -0.399** | D14: ='Table IV'!D14 -> -0.312* | E14: ='Table IV'!E14 -> -0.315* | F14: ='Table IV'!F14 -> -0.343** | G14: ='Table IV'!G14 -> -0.313* | H14: ='Table IV'!H14 -> -0.322* | ... P14: ='Table IV'!P14 -> -0.344**
A15: ='Table IV'!A15 | B15: ='Table IV'!B15 -> (-1.911) | C15: ='Table IV'!C15 -> (-2.140) | D15: ='Table IV'!D15 -> (-1.916) | E15: ='Table IV'!E15 -> (-1.913) | F15: ='Table IV'!F15 -> (-2.022) | G15: ='Table IV'!G15 -> (-1.888) | H15: ='Table IV'!H15 -> (-1.937) | ... P15: ='Table IV'!P15 -> (-2.053)
A16: ='Table IV'!A16 -> Alternative interaction variable | B16: ='Table IV'!B16 | C16: ='Table IV'!C16 | D16: ='Table IV'!D16 | E16: ='Table IV'!E16 | F16: ='Table IV'!F16 | G16: ='Table IV'!G16 | H16: ='Table IV'!H16 | ... P16: ='Table IV'!P16 -> -0.799
A17: ='Table IV'!A17 | B17: ='Table IV'!B17 | C17: ='Table IV'!C17 | D17: ='Table IV'!D17 | E17: ='Table IV'!E17 | F17: ='Table IV'!F17 | G17: ='Table IV'!G17 | H17: ='Table IV'!H17 | ... P17: ='Table IV'!P17 -> (-1.101)
A18: ='Table IV'!A18 -> Election x Alternative variable | B18: ='Table IV'!B18 | C18: ='Table IV'!C18 -> 0.0887 | D18: ='Table IV'!D18 -> -0.107** | E18: ='Table IV'!E18 -> 0.00477 | F18: ='Table IV'!F18 -> -0.616 | G18: ='Table IV'!G18 -> -0.0311** | H18: ='Table IV'!H18 -> -0.00266 | ... P18: ='Table IV'!P18 -> -0.182
A19: ='Table IV'!A19 | B19: ='Table IV'!B19 | C19: ='Table IV'!C19 -> (1.178) | D19: ='Table IV'!D19 -> (-2.475) | E19: ='Table IV'!E19 -> (0.132) | F19: ='Table IV'!F19 -> (-1.597) | G19: ='Table IV'!G19 -> (-2.022) | H19: ='Table IV'!H19 -> (-0.961) | ... P19: ='Table IV'!P19 -> (-0.634)
... A46: ='Table IV'!A46 -> *** p<0.01, ** p<0.05, * p<0.1 | B46: ='Table IV'!B46 -> 0 | C46: ='Table IV'!C46 -> 0 | D46: ='Table IV'!D46 -> 0 | E46: ='Table IV'!E46 -> 0 | F46: ='Table IV'!F46 -> 0 | G46: ='Table IV'!G46 -> 0 | H46: ='Table IV'!H46 -> 0 | ... P46: ='Table IV'!P46 -> 0
A47: Notes: Standard errors are clustered at the country level. *** p<0.01, ** p<0.05, * p<0.1. t-statistics are shown inside brackets. p-values are shown for test statistics. Country- and year-fixed effects are not shown. In columns (2)-(6), the alternative interaction variable is part of the regular list of explanatory variables. In column (7), the alternative interaction variable does not vary over time and its non-interacted effect is captured by country-fixed effects.
