Workbook

Sheet RiskCalculator
B1: Risk of 30-Day Readmission or Death after COVID-19 Admission
B2: Demographics | G2: Instructions:
B3: Sex | G3: Enter data using either by typing in Column D
B4: Age | G4: or using the pull-down menu on the right of Column D
B5: Smoking Status | G5: (click on cell to show menu control)
B6: Condition at Discharge
B7: Fever status in last 72 hours
B8: Max. respiratory rate in last 24 hours
B9: Max. heart rate in last 24 hours
B10: Worst oxygen requirement in last 24 hours
B11: O2 requirement last 24 hours compared to last 72 hours
B12: HOSPITAL score | F12: <-------- | G12: See HOSPITAL Score worksheet to calculate score
B13: Absolute lymphoctye count at discharge
B14: Platelet count at discharge
B15: Inpatient Treatment
B16: Corticosteroids
B17: Anticoagulants
B18: Remdesivir
B19: Inpatient Hospital Course
B20: No. of days since 1st (+) COVID-19 test
B21: No. of days in ICU
B22: Discharge directly from ICU
B23: Discharge destination
B24: Developed congestive heart failure (as complication of COVID-19)
B25: Medical History
B26: Elixhauser-van Walraven score | F26: <-------- | G26: See Elixhauser-van Walraven Score worksheet to calculate score
B27: Medical history of (check all that apply):
B28: Hypertension | E28: FALSE
B29: Chronic pulmonary disease | E29: FALSE
B30: Diabetes mellitus | E30: FALSE
B31: Renal failure | E31: FALSE
B32: Coronary artery disease, peripherval vascular disease, or MI | E32: FALSE
B33: Cancer | E33: FALSE
B34: Result: | D34: =IFERROR(Calc!B34,"One or more missing risk factors") -> One or more missing risk factors
B35: Your patient's predicted risk of 30-day readmission or death is:
E3026: TRUE

Sheet HOSPITAL Score
B1: HOSPITAL Score for 30-Day Potentially Avoidable Readmissions (Maximum score: 13)
B2: Attribute | C2: Points | D2: Patient Value | G2: Instructions:
B3: Low hemoglobin level at discharge (<12 g/dL) | C3: 1 | E3: FALSE | G3: Enter data either by using the pull-down menu on the right of Column D
B4: Discharge from an oncology service | C4: 2 | E4: FALSE | G4: or clicking on check-box
B5: Low sodium level at discharge (<135 mEq/L) | C5: 1 | E5: FALSE
B6: Procedure during hospital stay (any ICD-9-CM coded procedure) | C6: 1 | E6: FALSE
B7: Index admission type: nonelective | C7: 1 | E7: FALSE
B8: No. of hospital admissions during the previous year | D8: 0 | F8: <-------- | G8: Use pull-down menu (click on cell to show menu control)
B9: 0 | C9: 0
B10: 1-5 | C10: 2
B11: >5 | C11: 5
B12: Length of stay ≥ 5 d | C12: 2 | E12: FALSE
B14: Hospital Score | D14: =IFERROR(Calc!$B$46,"Risk factor is missing") -> 0
B16: Abbreviation: ICD-9-CM, International Classification of Diseases, Ninth Revision, Clinical Modification
B17: SI conversion factors: To convert hemoglobin to grams per liter, multiply by 10; conversion of serum sodium to millimoles per liter is 1:1.
B19: Donzé J, Aujesky D, Williams D, Schnipper JL. Potentially avoidable 30-day hospital readmissions in medical patients: derivation and validation of a prediction model. JAMA Intern Med. 2013;173(8):632-638.
B45: Points*PatientValue

Sheet Elixhauser van Walraven Score
B1: Elixhauser-van Walraven Comorbidity Score
B2: Comorbidity | C2: Points | D2: Patient Value | G2: Instructions:
B3: Congestive Heart Failure | C3: 7 | E3: FALSE | G3: Enter data by clicking on check-box
B4: Cardiac Arrhythmias | C4: 5 | E4: FALSE
B5: Valvular Disease | C5: -1 | E5: FALSE
B6: Pulmonary Circulation Disorders | C6: 4 | E6: FALSE
B7: Peripheral Vascular Disorders | C7: 2 | E7: FALSE
B8: Paralysis | C8: 7 | E8: FALSE
B9: Neurodegenerative Disorders | C9: 6 | E9: FALSE
B10: Chronic Pulmonary Disease | C10: 3 | E10: FALSE
B11: Renal Failure | C11: 5 | E11: FALSE
B12: Liver Disease | C12: 11 | E12: FALSE
B13: Lymphoma | C13: 9 | E13: FALSE
B14: Metastatic Cancer | C14: 12 | E14: FALSE
B15: Solid Tumor without Metastases | C15: 4 | E15: FALSE
... B23: Depression | C23: -3 | E23: FALSE
B24: Total Score | D24: =Calc!C73 -> 0
B27: Van Walraven C, Dhalla IA, Bell C, et al. Derivation and validation of an index to predict early death or unplanned readmission after discharge from hospital to the community. CMAJ. 2010;182(6):551-557.

Sheet Calc
A2: Intercept | B2: -4.5310751
A3: Sex | B3: =IF(RiskCalculator!D3=Validation!C1,Validation!D1,Validation!D2) -> 0.19577385
A4: Age | B4: {=_xlfn.SWITCH(RiskCalculator!D4, Validation!C4,Validation!D4,Validation!C5,Validation!D5,Validation!C6,Validation!D6,Validation!C7,Validation!D7,Validation!C8,Validation!D8,Validation!C9,Validation!D9)} -> #N/A
A5: Smoking | B5: {=_xlfn.SWITCH(RiskCalculator!D5,Validation!C11,Validation!D11,Validation!C12,Validation!D12)} -> #N/A
A6: Fever | B6: {=_xlfn.SWITCH(RiskCalculator!D7,Validation!C14,Validation!D14,Validation!C15,Validation!D15,Validation!C16,Validation!D16)} -> #N/A
A7: Resp | B7: {=_xlfn.SWITCH(RiskCalculator!D8,Validation!C18,Validation!D18,Validation!C19,Validation!D19)} -> #N/A
A8: Pulse | B8: {=_xlfn.SWITCH(RiskCalculator!D9,Validation!C21,Validation!D21,Validation!C22,Validation!D22)} -> #N/A
A9: Worst O2 | B9: {=_xlfn.SWITCH(RiskCalculator!D10,Validation!C24,Validation!D24,Validation!C25,Validation!D25,Validation!C26,Validation!D26,Validation!C27,Validation!D27,Validation!C28,Validation!D28,Validation!C29,Validation!E29)} -> #N/A
A10: O2 Improving | B10: {=_xlfn.SWITCH(RiskCalculator!D11,Validation!C31,Validation!D31,Validation!C32,Validation!D32)} -> #N/A
A11: HOSPITAL | B11: {=_xlfn.SWITCH(RiskCalculator!D12,Validation!C34,Validation!D34,Validation!C35,Validation!D35,Validation!C36,Validation!D36)} -> #N/A
A12: Lymph | B12: {=_xlfn.SWITCH(RiskCalculator!D13,Validation!C38,Validation!D38,Validation!C39,Validation!D39,Validation!C40,Validation!D40)} -> #N/A
A13: Platelet | B13: {=_xlfn.SWITCH(RiskCalculator!D14,Validation!C42,Validation!D42,Validation!C43,Validation!D43,Validation!C44,Validation!D44,Validation!C45,Validation!D45)} -> #N/A
A14: Steroids | B14: {=_xlfn.SWITCH(RiskCalculator!D16,Validation!C47,Validation!D47,Validation!C48,Validation!D48)} -> #N/A
A15: Anticoagulants | B15: {=_xlfn.SWITCH(RiskCalculator!D17,Validation!C53,Validation!D53,Validation!C54,Validation!D54,Validation!C55,Validation!D55)} -> #N/A
A16: Remdesivir | B16: {=_xlfn.SWITCH(RiskCalculator!D18,Validation!C50,Validation!D50,Validation!C51,Validation!D51)} -> #N/A
A17: Days Positive | B17: {=_xlfn.SWITCH(RiskCalculator!D20,Validation!C57,Validation!D57,Validation!C58,Validation!D58,Validation!C59,Validation!D59,Validation!C60,Validation!D60)} -> #N/A
A18: Days ICU | B18: =RiskCalculator!D21*Validation!D71 -> 0
A19: Direct ICU Discharge | B19: {=_xlfn.SWITCH(RiskCalculator!D22,Validation!C73,Validation!D73,Validation!C74,Validation!D74)} -> #N/A
A20: DC Destination | B20: {=_xlfn.SWITCH(RiskCalculator!D23,Validation!C62,Validation!D62,Validation!C63,Validation!D63,Validation!C64,Validation!D64)} -> #N/A
A21: CHF Complication | B21: {=_xlfn.SWITCH(RiskCalculator!D24,Validation!C76,Validation!D76,Validation!C77,Validation!D77)} -> #N/A
A22: Elixhauser | B22: {=_xlfn.SWITCH(RiskCalculator!D26,Validation!C66,Validation!D66,Validation!C67,Validation!D67,Validation!C68,Validation!D68,Validation!C69,Validation!D69)} -> #N/A
A23: Hypertension | B23: =RiskCalculator!E28*Validation!D81 -> 0
A24: CPD | B24: =RiskCalculator!E29*Validation!D82 -> 0
A25: DM | B25: =RiskCalculator!E30*Validation!D83 -> 0
A26: RF | B26: =RiskCalculator!E31*Validation!D84 -> 0
A27: CAD,PVD,MI | B27: =RiskCalculator!E32*Validation!D85 -> 0
A28: Cancer | B28: =RiskCalculator!E33*Validation!D86 -> 0
A29: Inter Remd and RR | B29: =IF(AND(RiskCalculator!D18 = "Yes", RiskCalculator!D8 = ">24"),Validation!D89,0) -> 0
A30: Inter Steroids and DC Dest | B30: =IF(AND(RiskCalculator!D16="Yes",RiskCalculator!D23=Validation!C63),Validation!D91,IF(AND(RiskCalculator!D16 = "Yes",RiskCalculator!D23 = Validation!C64),Validation!D92,0)) -> 0
A32: Logit | B32: =SUM(B2:B30) -> #N/A
A33: Odds | B33: =EXP(B32) -> #N/A
A34: Prob | B34: =B33/(1+B33) -> #N/A
A37: HOSPITAL Score
A38: Low hemoglobin level at discharge (<12 g/dL) | B38: =1*'HOSPITAL Score'!E3 -> 0
A39: Discharge from an oncology service | B39: =2*'HOSPITAL Score'!E4 -> 0
A40: Low sodium level at discharge (<135 mEq/L) | B40: =1*'HOSPITAL Score'!E5 -> 0
A41: Procedure during hospital stay (any ICD-9-CM coded procedure) | B41: =1*'HOSPITAL Score'!E6 -> 0
A42: Index admission type: nonelective | B42: =1*'HOSPITAL Score'!E7 -> 0
A43: No. of hospital admissions during the previous year | B43: {=_xlfn.SWITCH('HOSPITAL Score'!D8,Validation!C94,Validation!D94,Validation!C95,Validation!D95,Validation!C96,Validation!D96)} -> 0
A44: Length of stay ≥ 5 d | B44: =2*'HOSPITAL Score'!E12 -> 0
A46: Hospital Score | B46: =SUM(B38:B44) -> 0
A49: Elixhauser van Walraven Score
A51: Congestive Heart Failure | B51: 7 | C51: ='Elixhauser van Walraven Score'!C3*'Elixhauser van Walraven Score'!E3 -> 0
A52: Cardiac Arrhythmias | B52: 5 | C52: ='Elixhauser van Walraven Score'!C4*'Elixhauser van Walraven Score'!E4 -> 0
A53: Valvular Disease | B53: -1 | C53: ='Elixhauser van Walraven Score'!C5*'Elixhauser van Walraven Score'!E5 -> 0
A54: Pulmonary Circulation Disorders | B54: 4 | C54: ='Elixhauser van Walraven Score'!C6*'Elixhauser van Walraven Score'!E6 -> 0
A55: Peripheral Vascular Disorders | B55: 2 | C55: ='Elixhauser van Walraven Score'!C7*'Elixhauser van Walraven Score'!E7 -> 0
A56: Paralysis | B56: 7 | C56: ='Elixhauser van Walraven Score'!C8*'Elixhauser van Walraven Score'!E8 -> 0
A57: Neurodegenerative Disorders | B57: 6 | C57: ='Elixhauser van Walraven Score'!C9*'Elixhauser van Walraven Score'!E9 -> 0
A58: Chronic Pulmonary Disease | B58: 3 | C58: ='Elixhauser van Walraven Score'!C10*'Elixhauser van Walraven Score'!E10 -> 0
A59: Renal Failure | B59: 5 | C59: ='Elixhauser van Walraven Score'!C11*'Elixhauser van Walraven Score'!E11 -> 0
A60: Liver Disease | B60: 11 | C60: ='Elixhauser van Walraven Score'!C12*'Elixhauser van Walraven Score'!E12 -> 0
A61: Lymphoma | B61: 9 | C61: ='Elixhauser van Walraven Score'!C13*'Elixhauser van Walraven Score'!E13 -> 0
A62: Metastatic Cancer | B62: 12 | C62: ='Elixhauser van Walraven Score'!C14*'Elixhauser van Walraven Score'!E14 -> 0
... A71: Depression | B71: -3 | C71: ='Elixhauser van Walraven Score'!C23*'Elixhauser van Walraven Score'!E23 -> 0
B73: Score | C73: =SUM(C51:C71) -> 0

Sheet Validation
A1: Sex | C1: Female | D1: 0
C2: Male | D2: 0.19577385
A4: Age | C4: 18-39 | D4: 0
C5: 40-49 | D5: 0.027825322
C6: 50-64 | D6: 0.45942044
C7: 65-74 | D7: 0.75786698
C8: 75-84 | D8: 0.94104345
C9: 85+ | D9: 1.0137083
A11: Smoking | C11: Never smoked | D11: 0
C12: Former/current smoker | D12: 0.14101405
A14: Fever | C14: Afebrile and no antipyretics | D14: 0
C15: Afebrile but on antipyretics | D15: 0.11014794
C16: Febrile | D16: 0.56407572
A18: Resp | C18: <=24 | D18: 0
C19: >24 | D19: 0.21388026
A21: Pulse | C21: <=100 | D21: 0
C22: >100 | D22: 0.31765188
A24: O2 | C24: Room air | D24: 0
C25: Low flow suppl. O2 | D25: 0.14342507
C26: High flow suppl. O2 | D26: 0.25226921
C27: CPAP/BiPAP | D27: 0.77071693
C28: Mechanical ventilation or ECMO | D28: 1.4874727
C29: Unknown | D29: 0.47785676
A31: O2 change | C31: Improving | D31: 0
C32: Not improving or unknown | D32: 0.14135372
A34: HOSPITAL | C34: 0-4 | D34: 0
C35: 5-6 | D35: 0.34803116
C36: 7+ | D36: 0.70194599
A38: Lymph | C38: >800 | D38: 0
C39: <=800 | D39: 0.36716704
C40: Unknown | D40: 0.20476426
A42: Platelets | C42: Normal | D42: 0
C43: Low | D43: 0.46991824
C44: High | D44: -0.26072578
C45: Unknown | D45: 0.52144977
A47: Steroids | C47: No | D47: 0
C48: Yes | D48: 0.47822027
A50: Remdesivir | C50: No | D50: 0
C51: Yes | D51: -0.29566418
A53: Anticoagulants | C53: No | D53: 0
C54: Yes, with prophylactic dose | D54: -0.18773758
C55: Yes, with treatment dose | D55: -0.21219707
A57: Days Positive | C57: 0-7 | D57: 0
C58: 8-10 | D58: -0.20958521
C59: 11-14 | D59: -0.41971266
C60: 15+ | D60: -0.37473181
A62: DC Destination | C62: Home | D62: 0
C63: SNF/Rehab/LTAC | D63: 0.28974714
C64: Other or unknown | D64: 0.83036558
A66: Elixhauser | C66: <0 | D66: 0
C67: 0-5 | D67: 0.0061627354
C68: 6-12 | D68: 0.1677076
C69: >12 | D69: 0.22677041
A71: ICU Days | D71: -0.059821876
A73: Direct ICU Discharge | C73: No | D73: 0
C74: Yes | D74: -1.0971985
A76: CHF Complication | C76: No | D76: 0
C77: Yes | D77: 0.10326463
A81: Hypertension | D81: 0.15066325
A82: CPD | D82: 0.08824474 | G82: =C82*D81 -> 0
A83: DM | D83: 0.1199052
A84: RF | D84: 0.26468199
A85: CAD, PVD, MI | D85: 0.14956138
A86: Cancer | D86: 0.22991012
A89: Interaction: Remdesivir and Resp Rate | D89: 0.31301038
A91: Interaction: Steroids and DC Destination | C91: SNF/Rehab/LTAC | D91: 0.086155746
C92: Other or unknown | D92: -0.48755672
A94: Prior Admissions | C94: 0 | D94: 0
C95: 1-5 | D95: 2
C96: >5 | D96: 5

Sheet Coefficients
A1: Characteristic | B1: Coefficient | C1: PatientValue | D1: CoefficientxPatientValue
A2: (Intercept) | B2: -4.5310751
A3: Afebrile in last 72 hr but on antipyretics | B3: 0.11014794 | C3: 0 | D3: =B3*C3 -> 0
A4: Febrile in last 72 h | B4: 0.56407572 | C4: 0 | D4: =B4*C4 -> 0
A5: RR > 24 in last 24 h | B5: 0.21388026 | C5: 0 | D5: =B5*C5 -> 0
A6: Pulse > 100 in last 24 h | B6: 0.31765188 | C6: 0 | D6: =B6*C6 -> 0
A7: Worst O2 requirement last 24 hrs: Low flow suppl. O2 | B7: 0.14342507 | C7: 0 | D7: =B7*C7 -> 0
A8: Worst O2 requirement last 24 hrs: High flow suppl. O2 | B8: 0.25226921 | C8: 0 | D8: =B8*C8 -> 0
A9: Worst O2 requirement last 24 hrs: CPAP/BiPAP | B9: 0.77071693 | C9: 0 | D9: =B9*C9 -> 0
A10: Worst O2 requirement last 24 hrs: Vent or ECMO | B10: 1.4874727 | C10: 0 | D10: =B10*C10 -> 0
A11: Worst O2 requirement last 24 hrs: Missing | B11: 0.47785676 | C11: 0 | D11: =B11*C11 -> 0
A12: O2 requirement last 24 h not better than last 72 h or missing | B12: 0.14135372 | C12: 0 | D12: =B12*C12 -> 0
A13: Discharge absolute lymphocyte count <= 800: Yes | B13: 0.36716704 | C13: 0 | D13: =B13*C13 -> 0
A14: Discharge absolute lymphocyte count <= 800: Missing | B14: 0.20476426 | C14: 0 | D14: =B14*C14 -> 0
... A50: Receipt of corticosteroids & discharge to Other or missing discharge location | B50: -0.48755672 | C50: 0 | D50: =B50*C50 -> 0
A52: Logit | B52: =B2 + SUM(D3:D50) -> -4.5310751
A53: Odds | B53: =EXP(B52) -> 0.010769093
A54: Probability | B54: =B53/(1+B53) -> 0.010654355
