Workbook

Sheet README
A1: This appendix provides the detailed results of the review of the applications of the Nature Futures Framework prepared for the article: "Catalyzing change: A literature review on the implementation of the Nature Futures Framework"
A2: The dataset of the results of the systematic search of journal articles mentioning or applying the Nature Futures Framework was downloaded from Scopus on 12 January 2024, and is provided in sheet "Scopus search".
A3: The detailed review of the NFF applications was conducted only on the articles that were classified as "using the NFF".
A4: The set of literature mentioning or using the Nature Futures Framework may have been updated since the creation of this sheet. To obtain the most recent information on applications of the Nature Futures Framework, the authors recommend accessing the public online library maintained by IPBES at: https://www.zotero.org/groups/4937409/nature_futures_framework/library
A5: The background on the Nature Futures Framework and its methodological guidance are available from https://zenodo.org/doi/10.5281/zenodo.8171338.

Sheet code
A1: Review categories | B1: Code | D1: Notes and definitions on the coding used
A2: Publication ID (citation, doi) | D2: The authors used the short citation and DOI for identification of the reviewed source.
A3: Paper title | D3: Full title of the reviewed source
A4: Publication type | B4: Scientific article | D4: Only scientific articles identified through a systematic search on Scopus were covered by this synthesis study.
B5: Thesis - Master of Science | D5: These categories of publication types were considered 'grey literature', and were only considered as information for understanding the broader context of the uptake of the NFF
B6: Thesis - Doctorate
B7: Book
B8: Article - other
B9: Workshop report
B10: Report
B11: Correspondence
B12: Announcement
A13: Publication year | D13: As identified in reviewed source
A14: Publisher | D14: As identified in reviewed source
A15: Boundary | B15: In which year was the scenario development or other forms of NFF use conducted? | C15: 2023 | D15: As the review targeted sources that apply the NFF, only publications produced after the development of the NFF were captured.
C16: 2022
C17: 2021
C18: 2020
C19: 2019
B20: What year do the scenarios portray? (time horizon) - if applicable | D20: This category was only filled for cases where the NFF application consisted of scenario development.
B21: Location of the study | D21: As identified in reviewed source
B22: Region (1-5) | C22: Africa | D22: The region(s) corresponding to the location(s) of the study were identified to gain an overview of the global distribution of NFF applications. To cover studies that applied the NFF in more than one location, the authors recorded up to 5 regions. Studies with a global scope were not assigned a specific region.
C23: Asia-Pacific
C24: Western Europe
C25: North America
C26: Eastern Europe
C27: Latin America + Caribbean
C28: International waters
B29: Spatial scale (1-5) | C29: <100 ha or <1km on edge - such as a small area of a landscape | D29: The size on edge was used as a rough estimate of the spatial scale of the NFF application. Descriptions and examples were included in the code solely to assist authors in estimating the corresponding scale for the reviewed study, but the numerical values were used as the main reference. Studies not tied to specific locations but discussing further development of the framework, or exploring how to apply it to a type of environment (e.g., cities, freshwater), were categorised as "Conceptual" in scale. To cover studies that applied the NFF at various scales, the authors recorded up to 5 scales.
C30: <10 km on edge - such as a small landscape or city scape (e.g. city center)
C31: <50 km on edge - such as a large landscape or city scape (e.g. Sao Paulo)
C32: 50-200 km on edge - such as a small country (e.g. Trinidad or Taiwan)
C33: 201-2000 km - such as a medium country (e.g. Zimbabwe or Germany)
C34: >2000 km on edge - such as an International Region (e.g. Western European or Africa)
C35: Global
C36: Conceptual
A37: Ecosystems | B37: Main ecosystems that make up a significant part of the study region (1-3) (based on Biosphere Futures database categories) | C37: Arid/semi-arid lands | D37: Ecosystems were divided into broad categories as used in Kuiper et al. (2024). Many studies focused on more than one ecosystem type, so the authors identified 3 main ecosystems covered in the study.
C38: Coastal/marine areas
C39: Croplands/large scale agriculture
C40: Deep water/high sea area
...

Sheet review
F1: Boundary | O1: Ecosystems | R1: NFF experience | X1: Notes on transformative change | Z1: GBF and SDGs (Only to capture if explicitly mentioned) | AD1: Stakeholder engagement | AP1: Approach/method | AU1: Results/products | BA1: Qualitative NFF applications incl. qualitative scenarios/narratives | BG1: Modelling/quantification | BN1: Scenario types (either developed or used in the NFF application) | BS1: Policy cycle stages (that the NFF application contributes to)
A2: Publication ID | B2: Title | C2: Publication type | D2: Publication year | E2: Publisher | F2: In which year was the scenario development or other forms of NFF use conducted? | G2: What year do the scenarios portray? (time horizon) - if applicable | H2: Location of the study | I2: Count of map elements (Figure 2) | J2: Region 1/5 | K2: Region 2/5 | L2: Spatial scale 1/5 | M2: Spatial scale 2/5 | N2: Spatial scale 3/5 | O2: Main ecosystems that make up a significant part of the study region 1/3 (based on Biosphere Futures database categories) | P2: Main ecosystems 2/3 | Q2: Main ecosystems 3/3 | R2: What is the NFF used for in the publication - findings | S2: Categorization of use of NFF 1/3 (based on Biosphere Futures NFF application categories) | T2: Categorization of use of NFF 2/3 | U2: Categorization of use of NFF 3/3 | V2: Limitations on the use of the NFF (main limits and challenges identified by the authors) | W2: Feedback on the NFF | X2: Did the paper explicitly mention transformative change? | Y2: How, if any, were connections made to transformative change? (Only needed if explicit mention has been made in the source) | Z2: Did the paper explicitly mention the Kunming-Montreal Global Biodiversity Framework? | AA2: Notes on how the GBF was addressed | AB2: Did the paper explicitly mention SDGs? | AC2: Notes on how the SDGs were addressed | AD2: In which stage(s) of scenario-building or other NFF application were stakeholders engaged? (if any) | AE2: How many people were engaged? | AF2: Diversity of stakeholders - Who substantially contributed to the study? Mark all that apply. 1/10 (based on Biosphere Futures database, with adjustments) | AG2: Diversity 2/10 | AH2: Diversity 3/10 | AI2: Diversity 4/10 | AJ2: Diversity 5/10 | AK2: Diversity 6/10 | AL2: Diversity 7/10 | AM2: Diversity 8/10 | AN2: Diversity 9/10 | AO2: Was there a participant selection process? | AP2: Approach used in the NFF application (indicate all that apply) 1/7 (based on Biosphere Futures database categories) | AQ2: Approach 2/7 | AR2: Approach 3/7 | AS2: Approach 4/7 | AT2: Approach 5/7 | AU2: What types of results were produced? (indicate all that apply) 1/16 (based on Biosphere Futures database categories, with adjustments) | AV2: Results 2/16 | AW2: Results 3/16 | AX2: Results 4/16 | AY2: Results 5/16 | AZ2: Results 6/16 | BA2: Which value perspectives were considered in the NFF application? (e.g., within visions or qualitative scenarios) (indicate all that apply) 1/3 | BB2: Value perspectives - qualitative 2/3 | BC2: Value perspectives - qualitative 3/3 | BD2: Which narrative development approach was used? (common & specific features, three horizons, etc.) - if applicable | BE2: Are there any misunderstandings on the value perspectives? | BF2: Did the study explicitly mention the NCPs or engagage with the NCPs? | BG2: Was modelling/quantification used in the application of the NFF? | BH2: Which value perspectives were considered in modelling/quantification? (indicate all that apply) 1/3 | BI2: Value perspectives - modelling 2/3 | BJ2: Value perspectives - modelling 3/3 | BK2: How were the value perspectives considered in the modelling/quantification exercise? | BL2: How were the narratives quantified? (if applicable) | BM2: Which parts were quantified? | BN2: Exploratory | BO2: Target-seeking | BP2: Policy-screening | BQ2: Retrospective policy evaluation | BR2: Remarks | BS2: Agenda setting | BT2: Policy design | BU2: Policy Implementation | BV2: Policy review
A3: Alexander et al., 2023, DOI: https://doi.org/10.1007/s11625-023-01415-z | B3: Mapping the shared socio-economic pathways onto the Nature Futures Framework at the global scale | C3: Scientific article | D3: 2023 | E3: Sustainability Science Journal | F3: 2023 | G3: 2100 | H3: Global | I3: Global | L3: Global | O3: Croplands/large scale agriculture | P3: Forests | R3: The SSPs were mapped onto the NFF, to assess how the SSPs score on various aspects of nature (that could be quantified with the available models and data) | S3: Translating scenarios | V3: In this study only the three value perspectives of the NFF are used, not the entirior space. The authors present various reflections on how to operationalize NFF and its values perspectives, e.g. on how to specify normative targets; aggregating and weighing of values. And: "NFF only considers values perspectives related to nature and does not account for other individual and societal values". | W3: Extending the NFF from a triangle with three dimensions reflecting three nature value perspectives to a polygon with multiple dimensions, to include non-nature values. | X3: No | Y3: - | Z3: No | AB3: No | AD3: NA | AE3: NA | AP3: Desktop study | AQ3: Modelling | AR3: Mapping | AU3: Quantitative analyses | AV3: Scientific publication(s) | AW3: Drawing(s)/diagram(s) | BA3: Nature as Culture | BB3: Nature for Nature | BC3: Nature for Society | BD3: SSP narratives were used | BE3: It can be debated whether the proxy indicators used to define the NaC value perspective, in the study translated to "cultural services and health" capture the true spirit of this perspective. But this is partly because the indicators to characterize the NFF perspectives were chosen partly based on available data and model outputs. | BF3: No | BG3: Yes | BH3: Nature as Culture | BI3: Nature for Nature | BJ3: Nature for Society | BK3: It were actually the SSP scenarios that were modeled and quantified, and assessed against target values for the indicators describing the NFF perspectives, to analyze how well the SSPs perform in terms of the NFF. | BL3: model | BM3: NCP | BN3: Exploratory | BO3: Target-seeking | BS3: Agenda setting | BT3: Policy design
A4: Dasgupta & Shakya, 2023, DOI: https://doi.org/10.1007/s10113-022-02022-x | B4: Ecosystem services as systemic enablers for transformation in the Hindu Kush Himalaya: an analytical synthesis | C4: Scientific article | D4: 2023 | E4: Regional Environmental Change Journal | F4: 2021 | G4: - | H4: Hindu Kush Himalaya region (straddling 8 countries across Central and South Asia - Afghanistan, Bangladesh, Bhutan, China, India, Myanmar, Nepal and Pakistan) | I4: Regional --> sub-region of HKH represented as 1 regional count | J4: Asia-Pacific | L4: >2000 km on edge - such as an International Region (e.g. Western European or Africa) | O4: Mountains | P4: Small scale agriculture & villages | Q4: Remote/Non-human dominated areas | R4: The NFF is used to develop an analytical framework that takes an ecosystem services centric approach that allows for transformative change in the region. The framework consists of three pillars corresponding to the different value perspectives of the NFF. Corresponding to the three pillars, three pathways are formulated in which actions and strategies are considered to pursue the respective value perspective. | S4: Developing visions and scenarios | V4: – | W4: The NFF was seen as an appropriate tool for developing a ‘prosperous’ future scenario for the region, allowing for strategies and actions that can be aimed for. | X4: Yes | Y4: Yes, the aim of the study was 'to examine the scope for an ecosystem services centric approach to foster human-nature relationships and lead to transformative change in the Hindu Kush Himalaya region'. Transformative change for the region is defined as change that is 'sweeping and strategic; aims at conserving, restoring and sustainaby using nature' | Z4: Yes | AA4: The CBD only mentioned as context. | AB4: Yes | AC4: Pathways to improve ecosystem services are explicitly placed in the context of the sustainable development agenda, particularly the SDGs direct related to relevant SDGs, but at the goal level, and results are not compared/quantified. | AD4: NA | AE4: NA | AP4: Desktop study | AQ4: Mapping | AU4: Scientific publication(s) | AV4: Drawing(s)/diagram(s) | AW4: Narrative(s) (no time component) | BA4: Nature for Society | BB4: Nature for Nature | BC4: Nature as Culture | BF4: Yes, but the focus is on the concept of ecosystem services, and no specific NCP's are mentioned. | BG4: No | BO4: Target-seeking | BP4: Policy-screening | BR4: Three ecosystem services‑oriented action pathways to achieve regional sustainability are presented. | BS4: Agenda setting | BT4: Policy design
A5: Dou et al., 2023, DOI: https://doi.org/10.1016/j.gloenvcha.2023.102766 | B5: Using the Nature Futures Framework as a lens for developing plural land use scenarios for Europe for 2050 | C5: Scientific article | D5: 2023 | E5: Global Environmental Change Journal | F5: 2023 | G5: 2050 | H5: Europe | I5: Regional --> Europe | J5: Western Europe | K5: Eastern Europe | L5: >2000 km on edge - such as an International Region (e.g. Western European or Africa) | O5: Croplands/large scale agriculture | P5: Forests | Q5: Grasslands/Rangelands | R5: As a lens for developing plural land use scenarios | S5: Developing visions and scenarios | W5: Additional reflection is required on our use of a single variable to capture the normative value guiding nature management in each NFF perspective (e.g., carbon sequestration was used to guide the prioritization of protected area expansion, representing the valued delivery of ecosystem services in a Nature for Society scenario), while multiple value criteria can (and likely would be) used to guide the implementation of sustainability targets following a participatory process (or, in other words, how much value representation must there be to create a useful NFF scenario, knowing that many values and implications will also be omitted as scenarios and models will always be simplifiations of reality? | X5: Yes | Y5: Achieving the sustainability targets will imply/require a transformation of (various) European landscapes. | Z5: Yes | AA5: Quantitative targets from post-2020 GBF were used as inputs for the scenarios (showing that achieving these targets can be done in different ways, resulting in different futures). | AB5: No | AD5: NA | AE5: NA | AP5: Modelling | AQ5: Desktop study | AR5: Mapping | AU5: Map(s) | AV5: Drawing(s)/diagram(s) | AW5: Quantitative changes in key variables in data set(s) (e.g. land cover; income) | AX5: Quantitative analyses | AY5: Scientific publication(s) | BA5: Nature as Culture | BB5: Nature for Nature | BC5: Nature for Society | BD5: SSP1 as a baseline, to which some common and specific features were added to create different NFF scenarios. | BE5: No | BF5: Yes, but mostly indirectly, with only one NCP explicitly addressed (climate change mitigation). | BG5: Yes | BH5: Nature as Culture | BI5: Nature for Nature | BJ5: Nature for Society | BK5: They were used to define different land use scenarios | BL5: model | BM5: direct drivers | BN5: Exploratory | BO5: Target-seeking | BP5: Policy-screening | BR5: Different NFF scenarios that seek to achieve sustainability targets, but also are different in their outcomes. | BS5: Agenda setting | BT5: Policy design
A6: Dunn-Capper et al., 2023, DOI: https://doi.org/10.1007/s11625-023-01337-w | B6: Diverse approaches to nature recovery are needed to meet the varied needs of people and nature | C6: Scientific article | D6: 2023 | E6: Sustainability Science Journal | F6: 2023 | H6: UK | I6: Local --> UK | J6: Western Europe | L6: <10 km on edge - such as a small landscape or city scape (e.g. city center) | O6: Small scale agriculture & villages | P6: Forests | R6: The study conducted participatory multicriteria mapping with stakeholders on the Downland Estate of Brighton and Hove to elicit their values for nature recovery against the NFF value perspectives. Participants defined their own criteria for assessing the performance of various nature recovery options. These criteria were then scored for each of the Nature Futures value perspectives, allowing a mapping of the values held by stakeholders and a ranking of the options against those values. | S6: Classification tool | V6: – | W6: NFF perspectives are inherently overlapping in space, which meant there was more flexibility in classifying criteria. For instance, biodiversity criteria are often mapped to both NN and NS perspectives, as they contain not only social values, but also the concepts around the benefits that this biodiversity will bring to people, e.g. pollination services. This overlapping nature of the NFF better incorporates the plurality of ways in which people assess the nature recovery value than the ecosystem service approach, in which the more rigid nature of the categories (SRES, PES, CES) can make it difficult to classify criteria for which the participant description covers a broad range of values and issues. | X6: No | Y6: - | Z6: Yes | AA6: Only mentioned as context to introduce the NFF. | AB6: Yes | AC6: Only mentioned as context to introduce the NFF. | AD6: Stakeholders were asked to define their own criteria for assessing various nature recovery options, and then to rank the options according to their criteria | AE6: 13 | AF6: Farmers/foresters/fisherfolk | AG6: Civil society organizations | AH6: Educators/teachers/trainers | AI6: Researchers | AJ6: Natural resource managers | AO6: A local expert, actively involved in the consultation process, helped identify suitable participants for this study. | AP6: Surveys & interviews | AQ6: Workshops & deliberation | AR6: Mapping | AU6: Scientific publication(s) | AV6: Drawing(s)/diagram(s) | AW6: Quantitative analyses | BA6: Nature as Culture | BB6: Nature for Nature | BC6: Nature for Society | BD6: N/A | BE6: No | BF6: No | BG6: No | BS6: Agenda setting | BT6: Policy design
A7: Durán et al., 2023, DOI: https://doi.org/10.1007/s11625-023-01316-1 | B7: Bringing the Nature Futures Framework to life: creating a set of illustrative narratives of nature futures | C7: Scientific article | D7: 2023 | E7: Sustainability Science Journal | F7: 2020 | H7: Global | I7: Global | L7: Global | R7: The study provides an example of how the Nature Futures Framework can be implemented for the development of illustrative narratives representing a diversity of desirable nature futures. | S7: Developing visions and scenarios | T7: Translating scenarios | V7: - It is important to capture the relativity between value perspectives consistently, not just in narrative description, but also in quantification. - Incorporating additional methodological steps to better track the underlying value assumptions contributed by each participant would be beneficial to acknowledge and address biases. - Deciding on the border between desirable and undesirable futures requires broad participation. - Improving existing models of nature and nature’s contributions to people and integrating them is important to facilitate the further development of the narratives in line with the Nature Futures Framework | W7: A messy combination of all three value perspectives can exist within the framework. This does not limit the development of narratives around the edges of the triangle, but encourages a plural interpretation of what can happen inside, relative to each corner. Illustrative elements do not need to be specific to a certain Nature Futures Framework space; even in the same space of the triangle, different narratives can be written. The Nature Futures Framework could also be used as a framework of scenario archetype analysis or to assess underlying value perspectives and their implications within existing future scenarios, and to modify them to become more nature positive. | X7: Yes | Y7: The study intentionally explored the more radical transformative changes that may be needed, as a starting point to realise how open the future is, and to describe what futures could emerge from such radical interventions, so that more quantitative analysis can follow. | Z7: Yes | AA7: Does not use the terminology of the "GBF" but rather CBD targets and goals. The study is explicitly presented as an approach to explore what it means to achieve CBD's vision of 'living in harmony with nature'. | AB7: Yes | AC7: SDGs mentioned as common features that could be considered desirable across the futures. Futures where SDGs were met was considered as a starting point. | AD7: The study itself was not done via stakeholder participation but the visions used were formulated through a participatory process. | AE7: 33 | AF7: Researchers | AO7: No, the study itself was closed to the task force on scenarios and models | AP7: Workshops & deliberation | AQ7: Desktop study | AR7: Mapping | AU7: Narrative(s) (no time component) | AV7: Drawing(s)/diagram(s) | AW7: Collage(s) | AX7: Booklet/other publication(s) | AY7: Scientific publication(s) | BA7: Nature as Culture | BB7: Nature for Nature | BC7: Nature for Society | BD7: Paired comparison among narratives to extract and summarise specific differences and similarities | BE7: No | BF7: Yes, but without specifying individual NCPs/quantification | BG7: No | BN7: Exploratory | BO7: Target-seeking | BS7: Agenda setting | BT7: Policy design
A8: Haga et al., 2023, DOI: https://doi.org/10.1007/s11625-023-01301-8 | B8: Modeling desirable futures at local scale by combining the nature futures framework and multi-objective optimization | C8: Scientific article | D8: 2023 | E8: Sustainability Science Journal | F8: 2022 | G8: 2015 - 2100 | H8: Japan | I8: Local --> Japan | J8: Asia-Pacific | L8: <50 km on edge - such as a large landscape or city scape (e.g. Sao Paulo) | O8: Forests | P8: Grasslands/Rangelands | Q8: Water bodies (lakes/rivers/wetlands) | R8: The authors developed a protocol for applying the NFF to scenarios and models at a landscape scale with 3 specifications: ‘(1) exploring nature‑positive futures, (2) seeking alternative pathways for targets satisfying visions of plural values, and (3) screening key direct drivers to achieve the targets.’ This study also includes a modelling case study in Japan, to assess the utility of the proposed protocol. | S8: Adapting and developing models | T8: Translating scenarios | U8: Developing visions and scenarios | V8: It is a challenge to assign NFF indicators to relational values ascribed to nature. A protocol for mapping existing local strategies, such as environmental and sustainability policies, to the NFF, helps in operationalizing the NFF at the local scale. | W8: This study shows that the NFF can be applied to existing landscape change modeling to analyze the interlinkages between diferent visions constrained by biodiversity conservation goals.' | X8: Yes | Y8: Yes it was discussed how modelling of the NFF and developing nature-positive scenarios can support tranformative change. It is important to connect with models of indirect drivers (coupling with socioecological models) to quantify pahtways of transformative change. | Z8: Yes | AA8: One nature recovery target is used to screen for strategies to be analysed using the NFF. | AB8: Yes | AC8: Used in the introduction and discussion for some context. | AD8: NA | AE8: NA | AP8: Modelling | AQ8: Desktop study | AR8: Mapping | AU8: Scientific publication(s) | AV8: Drawing(s)/diagram(s) | AW8: Narrative(s) (no time component) | AX8: Quantitative changes in key variables in data set(s) (e.g. land cover; income) | AY8: Quantitative analyses | BA8: Nature as Culture | BB8: Nature for Nature | BC8: Nature for Society | BD8: Common & specific features | BF8: Yes, but minimally defined. | BG8: Yes | BH8: Nature as Culture | BI8: Nature for Nature | BJ8: Nature for Society | BK8: LANDIS-II Forest landscape model was used to simulate the effect of different plausible strategies for forest and pasture management on several indicators. The indicators where chosen based on narratives for the study site corresponding to the three value perspectives. The indicators where then integrated/grouped into a common, NN, NC and NS indicator respectively. The common indicator was used to distinguish nature-positive scenarios. The indicators corresonding to value perspectives where used to assess the performance of scenarios in the NFF space. A distinction was made between pareto optimal solutions and dominated strategies. Their trajectories over time in the NFF space were simulated. | BL8: both | BM8: direct drivers | BN8: Exploratory | BO8: Target-seeking | BP8: Policy-screening | BS8: Agenda setting | BT8: Policy design | BU8: Policy implementation
A9: Kim et al., 2023, DOI: https://doi.org/10.1016/j.gloenvcha.2023.102681 | B9: Towards a better future for biodiversity and people: Modelling Nature Futures | C9: Scientific article | D9: 2023 | E9: Global Environmental Change Journal | F9: 2019 | G9: - | H9: Conceptual with global scope | I9: Not represented, to be mentioned in text | L9: Conceptual | R9: The study describes how the NFF can be applied in modelling to support decision-making. | S9: Adapting and developing models | T9: Discussing the NFF | V9: Models to quantify NFF-based scenarios are limited in how they capture important aspects, such as multiple values and social-ecological feedbacks. | W9: The study states that the NFF bridges knowledge systems and communities of practice through continuous dialogue, creating a culture of stakeholder-driven scenario development and their co‑implementation, while maintaining minimum consistency and comparability among scenarios. | X9: Yes | Y9: Discusses how the NFF intends to support transformative change, pointing to the need for scenarios and models to describe societal transformations | Z9: Yes | AA9: Several GBF goals, targets and indicators are used to illustrate how NFF scenarios can be operationalized. GBF also mentioned to explain how NFF scenarios can be useful for global policy. | AB9: Yes | AC9: Several SDG target indicators are used to illustrate how NFF scenarios can be operationalized. | AD9: Scenario and modelling experts from the broader research communities participated in workshops that provided the source material for this paper | AE9: 50 | AF9: Researchers | AO9: IPBES criteria/nomination process | AP9: Workshops & deliberation | AQ9: Desktop study | AR9: Mapping | AU9: Scientific publication(s) | AV9: Technical report(s) | AW9: Drawing(s)/diagram(s) | BA9: Nature as Culture | BB9: Nature for Nature | BC9: Nature for Society | BF9: Yes, but not quantified. | BG9: No | BH9: Nature as Culture | BI9: Nature for Nature | BJ9: Nature for Society | BK9: Only conceptually/qualitatively | BN9: Exploratory | BO9: Target-seeking | BP9: Policy-screening | BQ9: Retrospective policy evaluation | BS9: Agenda setting | BT9: Policy design | BU9: Policy implementation | BV9: Policy review
A10: Kluiving and Waterman, 2023, DOI: https://doi.org/10.3390/land12050990 | B10: The Anthropocene in the Aspiring UNESCO Global Geopark Schelde Delta Area: Geological History, Human Resilience and Future Landscape Management | C10: Scientific article | D10: 2023 | E10: Land Journal | F10: 2023 | H10: Flemish-Dutch Schelde Delta (three Flemish provinces of Belgium (Antwerpen, Oost-Vlaanderen and West-Vlaanderen) + two provinces of the Netherlands (Zeeland and the western part of Noord-Brabant)) | I10: Local --> counted as Belgium (1) and Netherlands (1) | J10: Western Europe | L10: 50-200 km on edge - such as a small country (e.g. Trinidad or Taiwan) | O10: Coastal/marine areas | P10: Water bodies (lakes/rivers/wetlands) | R10: The study only suggests the application of the NFF in the Schelde Delta area following an iterative process of stakeholder participation (mainly targeting tourism users of the area), but does not complete the step to apply the framework itself or develop any scenarios. The study proposes to populate the NFF triangle with examples of how nature values are represented in different regions of the aUGGP Schelde Delta, across local scales, and how they could change in the future, following the iterative cycle of stakeholder engagement described in Pereira et al. (2020). | S10: Discussing the NFF | V10: – | W10: The study states that "the iterative process of Nature Futures has the attractive value that it invites visitors and users of the landscape and the water to reflect on the type of nature values and the choice or selection of a sustainable society for itself". (However, the study does not actually proceed further with applying the NFF - thus this feedback is more of an expectation towards the NFF) | X10: Yes, only for context | Y10: Only mentioned in the background to situate the study in the context of the need for transformative action for nature. | Z10: No | AB10: No | AC10: Not SDGs as such. The revaluation and revitalisation of waterways are suggested as avenues for achieving 'sustainable development' in the discussion. | AD10: NA | AE10: NA | AP10: Desktop study | AU10: Scientific publication(s) | BF10: No | BG10: No | BN10: Exploratory | BO10: Target-seeking | BP10: Policy-screening | BS10: Agenda setting | BT10: Policy design
A11: Kramer et al., 2023, DOI: https://doi.org/10.1007/s11625-023-01341-0 | B11: New paths for modelling freshwater nature futures | C11: Scientific article | D11: 2023 | E11: Sustainability Science Journal | F11: 2023 | G11: - | H11: Conceptual with focus on freshwater ecosystems | I11: Not represented, to be mentioned in text | L11: Conceptual | O11: Water bodies (lakes/rivers/wetlands) | R11: The NFF was presented and operationalized in the context of modelling freshwater ecosystems | S11: Discussing the NFF | T11: Adapting and developing models | V11: Few models readily available to capture NaC. But that's also a bit of the point of the NFF, to stimulate development in that direction. But large gaps remain between NFF and freshwater modelling communities of practice. | W11: Developing NFF based scenarios and models inherently requires collaborartion and integration across disciplines, which is inherently difficult (and the NFF does not really help with that, besides pointing to the importance and the challenge). Guidence needed is needed for developing scenarios and models that combine and integrate the different value perspectives. | X11: Yes | Y11: The NFF is introduced as a tool that allows the exploration of transformative pathways. | Z11: Yes | AA11: The CBD 2050 Vision “Living in harmony with nature” is mentioned in the introduction to provide context. | AB11: Yes | AC11: Only to describe other studies that have combined the NFF with SDGs. | AD11: NA | AE11: NA | AF11: Artists | AP11: Desktop study | AU11: Scientific publication(s) | BA11: Nature as Culture | BB11: Nature for Nature | BC11: Nature for Society | BF11: Yes, but without specifying individual NCPs/quantification | BG11: Yes | BH11: Nature as Culture | BI11: Nature for Nature | BJ11: Nature for Society | BK11: Only conceptually | BN11: Exploratory | BO11: Target-seeking | BS11: Agenda setting | BT11: Policy design
A12: Lahoti et al., 2023, DOI: https://doi.org/10.1007/s11625-023-01338-9 | B12: Exploring bioproduction systems in socio-ecological production landscapes and seascapes in Asia through solution scanning using the Nature Futures Framework | C12: Scientific article | D12: 2023 | E12: Sustainability Science Journal | F12: 2023 | G12: - | H12: Local scales across three countries in Asia: specifically Japan, the Philippines and Indonesia | I12: Local --> counted as Japan (1), Philippines (1), and Indonesia (1) | J12: Asia-Pacific | L12: <10 km on edge - such as a small landscape or city scape (e.g. city center) | O12: Forests | P12: Croplands/large scale agriculture | Q12: Water bodies (lakes/rivers/wetlands) | R12: In this study a solution scanning approach was applied to review literature on bioproduction systems in socio-eocological production landscapes and seascapes (SEPLS) in Asia. The NFF was used to capture the values prioritized in the solution types and associated pathways. | S12: Classification tool | V12: - | W12: capturing the diverse values associated with a solution using NFF allowed for exploring solutions that enhance people’s connection to nature. The NFF allowed for identifying the determinants and pathways to achieve transformative change and understanding solutions that could stimulate deep leverage points in response to sustainability challenges' | X12: Yes | Y12: Yes, It was mentioned that the NFF allows for identifying determinants and pathways for achieving transformative change | Z12: No | AB12: Yes | AC12: SDGs briefly mentioned in the introduction and discussion to describe the context in which the concept of socio-ecological production landscapes and seascapes was developed. | AD12: NA | AE12: NA | AP12: Desktop study | AQ12: Mapping | AU12: Scientific publication(s) | AV12: Drawing(s)/diagram(s) | BA12: Nature as Culture | BB12: Nature for Nature | BC12: Nature for Society | BF12: No | BG12: No | BS12: Agenda setting | BV12: Policy review
A13: Mayer et al., 2023, DOI: https://doi.org/10.1007/s11625-023-01380-7 | B13: Operationalizing the Nature Futures Framework for ecological infrastructure | C13: Scientific article | D13: 2023 | E13: Sustainability Science Journal | F13: 2023 | G13: 2060 | H13: Switzerland | I13: Local --> Switzerland | J13: Western Europe | L13: 50-200 km on edge - such as a small country (e.g. Trinidad or Taiwan) | O13: Mountains | P13: Forests | Q13: Small scale agriculture & villages | R13: The study applies the NFF to formulate integrated normative and exploratory scenarios on the development of a functioning ecological infrastructure in Switzerland until 2060. It follows the two-stage participatory approach of elaborating positive visions with stakeholders in four regions of Switzerland, then collaborating with experts to create scenarios through literature research, workshops and a survey. | S13: Developing visions and scenarios | V13: Linking normative elements to predictions of highly uncertain global socio-economic and climatic developments was challenging. Development of global degrowth scenarios is also needed so that it can be used and scaled down by both climate and biodiversity research communities to develop internally consistent scenarios for desirable Nature Futures. | W13: The NFF was useful in two ways: 1. as a tool to distinguish vision-based scenario storylines along value axes, and 2. to gain a sense of possible future nature values that could emerge in non-positive scenarios (with no pro-active steps toward a desirable, functioning ecological infrastructure). Simplified frameworks such as the NFF are vital, not to target the extremes of one of the value perspectives, but to actually address nature values and incorporate them into models, policy decisions, and ultimately action. | X13: Yes | Y13: Participants were encouraged to embrace transformative thinking about the future while reflecting on the seeds for desirable futures | Z13: Yes | AA13: Briefly mentioned to place the study in the context of achieving the GBF | AB13: No | AC13: Not SDGs as such. Only sustainable development mentioned to introduce the study areas which "function as model regions for sustainable development". | AD13: Visioning and identification of key drivers of change | AE13: 57 stakeholders (visioning) and 11 experts on ecological infrastructure (3 horizons exercise to identify drivers) | AF13: Farmers/foresters/fisherfolk | AG13: Natural resource managers | AH13: Policymakers | AI13: Youth/children | AJ13: Educators/teachers/trainers | AK13: Civil society organizations | AL13: Business representatives | AM13: Researchers | AN13: Artists | AO13: Unknown | AP13: Workshops & deliberation | AQ13: Art-based practices | AR13: Desktop study | AS13: Surveys & interviews | AT13: Mapping | AU13: Scientific publication(s) | AV13: Storyline(s) (with time component) | AW13: Drawing(s)/diagram(s) | BA13: Nature as Culture | BB13: Nature for Nature | BC13: Nature for Society | BD13: Participatory visioning by stakeholders for the normative element and 3 horizons approach for the expert identification of key drivers of change | BE13: No | BF13: Yes, but qualitatively and no specific NCPs | BG13: No | BN13: Exploratory | BO13: Target-seeking | BS13: Agenda setting | BT13: Policy design
A14: Pereira et al., 2023, DOI: https://doi.org/10.1016/j.marpol.2023.105644 | B14: The living infinite: Envisioning futures for transformed human-nature relationships on the high seas | C14: Scientific article | D14: 2023 | E14: Marine Policy Journal | F14: 2021 | G14: Not specified | H14: Global (High Seas) | I14: Global | J14: International waters | L14: Global | O14: Deep water/high sea area | R14: The study defines transformative visions and pathways for the high seas in line with the three corners of the NFF. | S14: Developing visions and scenarios | V14: Participatory processes are resource-intensive, both in terms of time and finances. It is not possible to achieve complete inclusivity at the global level. | W14: The study states that the NFF could be used as a mechanism to include more “transformative energy” into the ways in which humans conceptualise the high seas and options for governing them. | X14: Yes | Y14: The study co-produced transformative visions and pathways, and explicitly discusses the power of storytelling for transformative change. | Z14: Yes | AA14: GBF briefly mentioned in the conclusion to place the study in GBF context | AB14: No | AC14: Not SDGs as such. Only sustainable development as part of the definition of transformative change. | AD14: During 4 subsequent workshops | AE14: 26 during the first workshop | AF14: Researchers | AG14: Artists | AH14: Business representatives | AI14: Civil society organizations | AJ14: Natural resource managers | AO14: Expert led participatory approach with people known by the main authors and the advisory committee, and snowballing from there. | AP14: Workshops & deliberation | AQ14: Art-based practices | AR14: Surveys & interviews | AS14: Games | AT14: Mapping | AU14: Scientific publication(s) | AV14: Narrative(s) (no time component) | AW14: Booklet/other publication(s) | AX14: Collage(s) | AY14: Drawing(s)/diagram(s) | AZ14: Map(s) | BA14: Nature as Culture | BB14: Nature for Nature | BC14: Nature for Society | BD14: Three horizons was the main method, complemented with various tools/excercises such as the ice-berg model, an exquisite corpse surrealist game, STEEP and more. | BF14: No | BG14: No | BN14: Exploratory | BO14: Target-seeking | BS14: Agenda setting
A15: Sarkki et al., 2023, DOI: https://doi.org/10.1016/j.biocon.2023.109958 | B15: “Rights for Life” scenario to reach biodiversity targets and social equity for indigenous peoples and local communities | C15: Scientific article | D15: 2023 | E15: Biological Conservation Journal | F15: 2023 | H15: Europe (Saami peoples' home region in northern Fennoscandia, especially Finland, as case study) | I15: Local --> Finland | J15: Western Europe | L15: 201-2000 km - such as a medium country (e.g. Zimbabwe or Germany) | O15: Polar areas | R15: The authors of this study proposed a novel scenario skeleton titled “Rights for Life”, which is intended to support the achievement of ambitious biodiversity targets in a socially equitable way, by focusing on the rights of nature and Indigenous Peoples and local communities.The study proposes governance approaches that could be used to achieve the “Rights for Life” scenario in a way that balances the value perspectives of “nature for nature”, “nature for society”, and “nature as culture”. | S15: Developing visions and scenarios | V15: The recognition of the knowledge and relational values of IPLCs by the “nature as culture” perspective may not suffice to reach social equity goals without strong explicit recognition of IPLCs' rights when implementing transformative policies. | W15: The study considers that instead of advocating policy objectives linked to each of the three value perspectives, it may be more constructive to consider policy objectives as being located between the three general value perspectives. | X15: Yes | Y15: Explicit recognition of IPLCs' rights together with the relational value perspective can ground identification of novel transformative policy options to halt biodiversity loss in a socially-equitable way. A first step to achieve tranformative change is to secure a clear recognition of Nature's and IPLCs' rights by policy. | Z15: Yes | AA15: GBF target is used to place a scenario in perspective, and GBF mentioned to provide general context | AB15: Yes | AC15: SDGs briefly discussed to provide context. | AD15: NA | AE15: NA | AO15: N/A | AP15: Desktop study | AQ15: Mapping | AU15: Scientific publication(s) | AV15: Drawing(s)/diagram(s) | BA15: Nature as Culture | BB15: Nature for Nature | BC15: Nature for Society | BD15: N/A | BE15: No | BF15: No | BG15: No | BO15: Target-seeking | BP15: Policy-screening | BS15: Agenda setting | BT15: Policy design | BU15: Policy implementation
A16: Shaikh & Hamel, 2023, DOI: https://doi.org/10.1007/s11625-023-01411-3 | B16: Identifying nature-positive futures in new cities: an application of the Urban Nature Futures Framework | C16: Scientific article | D16: 2023 | E16: Sustainability Science Journal | F16: 2023 | G16: - | H16: Indonesia | I16: Local --> Indonesia | J16: Asia-Pacific | L16: <10 km on edge - such as a small landscape or city scape (e.g. city center) | O16: Urban and suburban areas | R16: The NFF was used to analyze/assess existing policy and planning documents to understand how these address nature, specifically by asking what value perspectives are represented, and how these characterized by themes (initiatives, motivations). | S16: Classification tool | V16: 1) The NFF cannot easily be used for quantitative assessments. Only the relative proportion of NS, NN, and NC can be interpreted, as opposed to the actual (measurable) ambition of integrating nature into masterplans; 2) the subjectivity of capturing nature values from published information; as these documents were not written with the NFF in mind, it is often challenging to tease out the precise nature perspective of each code due to the lack of the statement of intention or rationale; 3)related to both these points is that the NFF does not come with a clear set of indicators against which content can be assessed. | W16: NFF has different strenghts and limitations for different policy stages (visioning, planning, implementation, maintanance). These can be better discussed. Other feedback relates to the limitations discussed (e.g. lack of indicators), and the need to compare against other tools and indices for measuring nature, such as IUCN’s Urban Nature Index. | X16: Yes | Y16: Reflects on how urban masterplans can be more ambitious and transformative based on results of applying the NFF. | Z16: No | AB16: No | AD16: NA | AE16: NA | AP16: Desktop study | AQ16: Mapping | AU16: Scientific publication(s) | AV16: Drawing(s)/diagram(s) | BA16: Nature as Culture | BB16: Nature for Nature | BC16: Nature for Society | BF16: Yes but only in the introduction | BG16: No | BN16: Exploratory | BS16: Agenda setting | BT16: Policy design | BV16: Policy review
A17: Stronge et al., 2023, DOI: https://doi.org/10.1007/s11625-022-01269-x | B17: Achieving soil health in Aotearoa New Zealand through a pluralistic values-based framework: mauri ora ki te whenua, mauri ora ki te tangata | C17: Scientific article | D17: 2023 | E17: Sustainability Science Journal | F17: 2021 | G17: - | H17: New Zealand | I17: Local --> New Zealand | J17: Asia-Pacific | L17: 201-2000 km - such as a medium country (e.g. Zimbabwe or Germany) | O17: Small scale agriculture & villages | P17: Croplands/large scale agriculture | R17: The NFF was used to analyse how New Zealand’s agricultural productive sectors express their relationship with soil and soil health. The results are consistent with work undertaken on Indigenous Māori perspectives of soil and soil health. | S17: Classification tool | V17: While the NFF broadens the perspective on, e.g. how soils are valued, the study considers it as a Western-centric framework. A crucial aspect of understanding and accounting for the holistic values and aspirations of Indigenous peoples is that those values, knowledge, and perspectives retain their own origin and integrity, and are not integrated or assimilated into Western science approaches. While the pluralistic values thinking presented in the NFF complements Indigenous Māori philosophy, knowledge, and values, the NFF only really provides an improved understanding of the plurality of Western values and their links to nature. | W17: The study states that ‘the strength of the NFF is that it encourages people to think more holistically about a plural set of values, especially those they assign to the environment’. The NFF enables a dialogue on values which enriches our understanding of soils and soil health. | X17: No | Y17: - | Z17: No | AB17: No | AD17: 26 people were interviewed. The NFF was used to interpret responses. | AE17: 26 people were interviewed. The NFF was used to interpret responses. The NFF was applied after data collection. | AF17: Farmers/foresters/fisherfolk | AG17: Indigenous groups | AH17: Researchers | AP17: Surveys & interviews | AU17: Scientific publication(s) | AV17: Drawing(s)/diagram(s) | BA17: Nature as Culture | BB17: Nature for Nature | BC17: Nature for Society | BF17: No | BG17: No | BS17: Agenda setting | BT17: Policy design
A18: De Bruin et al., 2022, DOI: https://doi.org/10.1016/j.envsci.2023.03.015 | B18: Perceptions of equity in conservation scenarios: Half Earth and Sharing the Planet | C18: Scientific article | D18: 2022 | E18: Environmental Science & Policy Journal | F18: 2022 | G18: - | H18: Global | I18: Global | L18: Global | R18: In this study, the NFF was used to evaluate experts’ attitudes to nature and the “Half Earth and Sharing the Planet” scenario, providing a simple representation of the diversity of respondents’ attitudes. | S18: Classification tool | T18: Translating scenarios | V18: – | W18: The study states that the NFF is a widely accepted IPBES framework, which has been developed to make the values of nature actionable for the modelling and scenarios community. | X18: Yes | Y18: The 'sharing the planet' scenario is examined in this study, and this narrative is described as transformative. But apart from that, transformation as such is not a central concept in this study. | Z18: Yes | AA18: Quite explicitly placed in the context of GBF. | AB18: No | AD18: NA | AE18: NA | AP18: Surveys & interviews | AQ18: Desktop study | AR18: Mapping | AU18: Scientific publication(s) | AV18: Drawing(s)/diagram(s) | BA18: Nature as Culture | BB18: Nature for Nature | BC18: Nature for Society | BF18: Yes, but only to introduce NFF | BG18: No | BN18: Exploratory | BO18: Target-seeking | BR18: The NFF is used to analyze/categorize two existing scenarios. So it's not used to develop scenarios,but it is a scenario study in which the NFF is used to explore implications of alternative futures. | BS18: Agenda setting | BT18: Policy design
A19: Diprose et al., 2022, DOI: https://doi.org/10.5334/cstp.442 | B19: Making Visible More Diverse Nature Futures through Citizen Science | C19: Scientific article | D19: 2022 | E19: Citizen Science: Theory and Practice Journal | G19: In this paper, the authors didn't develop scenarios based on NFF. | H19: New Zealand | I19: Local --> New Zealand | J19: Asia-Pacific | L19: 201-2000 km - such as a medium country (e.g. Zimbabwe or Germany) | O19: Urban and suburban areas | R19: The NFF is used to organize the results of a self-reported citizen science initiative, the New Zealand Garden Bird Survey (NZGBS). By using the NFF, the diverse values of nature that are fostered through the NZGBS are made visible. | S19: Classification tool | W19: The study states that using the NFF allows for better visibility and creates space for the relational values (nature as culture value perspective) that citizen science projects can foster. | X19: Yes | Y19: Highlights the potential contribution of citizen science to transformative change in the introduction. Then concludes by noting the benefit for citizen science to create space for people to reflect on their relationships with both nature and other people (as the NFF does) in order to support transformation. | Z19: No | AB19: No | AD19: In this paper, the authors didn't develop scenarios based on NFF. 9 people interviewed, 6746 people filled out a survey, a focus group with 8 people. The NFF was used to interpret the responses of participants. | AE19: 9 people interviewed, 6746 people filled out a survey, a focus group with 8 people. The NFF was used to interpret the responses of participants. | AF19: Civil society organizations | AG19: Citizens | AH19: Youth/children | AI19: Researchers | AJ19: Policymakers | AO19: No | AP19: Surveys & interviews | AQ19: Mapping | AU19: Drawing(s)/diagram(s) | AV19: Scientific publication(s) | AW19: Quantitative analyses | BA19: Nature for Nature | BB19: Nature for Society | BC19: Nature as Culture | BD19: na | BE19: No | BF19: No | BG19: No | BS19: Agenda setting | BV19: Policy review
A20: Greenway, 2022, DOI: https://doi.org/10.1002/rra.4097 | B20: Potential approaches to establishing harmonious river-human relationships | C20: Scientific article | D20: 2022 | E20: River Research and Applications Journal | F20: 2022 | G20: - | H20: Conceptual, with focus on human-river relationships (no particular river) | I20: Not represented, to be mentioned in text | L20: Conceptual | O20: Water bodies (lakes/rivers/wetlands) | R20: This paper concludes that the NFF can accommodate new materialist thinking and therefore provides an opportunity for further exploring and examining possibilities for building harmonious coexistent river-human relationships. | S20: Discussing the NFF | V20: Depending on how the NaC perspecive is understood, it can be considered as still too human-centric. A new NFF perspective based on new materialist thinking could be a holistic de-centred human concept of ‘nature within society (and) society within nature’, allowing a de-centring of humans as the central influencing agent in river-human relationships. | W20: The study concludes that the NFF can accommodate new materialist thinking and therefore provides an opportunity for further exploring and examining possibilities for building harmonious coexistent river-human relationships. | X20: Yes | Y20: Describes the NFF as a tool to support transformative change towards harmonious river-human relationships. | Z20: No | AB20: No | AD20: NA | AE20: NA | AP20: Desktop study | AU20: Scientific publication(s) | BA20: Nature as Culture | BB20: Nature for Nature | BC20: Nature for Society | BE20: The author argues that the NaC perspective is too human-centered, but this can be debated. Note that the 'one with nature' subtitle had not been added to the NaC perspective at the time. Arguably, the 'new materialist' thinking advocated by the author fits better under the NaC perspectives as what the author thinks. | BF20: No | BG20: No | BS20: Agenda setting
A21: Henry et al., 2022, DOI: https://doi.org/10.1038/s41893-021-00844-x | B21: Global and regional health and food security under strict conservation scenarios | C21: Scientific article | D21: 2022 | E21: Nature Sustainability Journal | F21: 2019 | G21: 2060 | H21: Global | I21: Global | L21: Global | O21: Croplands/large scale agriculture | R21: The study only mentions the NFF to give context to and characterise the two protection scenarios that are used in the study. Both scenarios are aligned with a strict interpretation of the “nature for nature” value perspective. Also, it uses a reference scenario which is not aligned with the NFF. | S21: Classification tool | V21: The study only mentions the NFF to give context to the two protection scenarios used in the study. There are thus no reflections specific to the NFF. | W21: Result of applying a strict interpretation of the "nature for nature" value perspective which is understood as "characterising a form of conservation that separates nature from human pressures": radical conservation policy to achieve 30% and 50% of land protection for biodiversity value may jeopardize food security and human health in the most vulnerable regions of the world | X21: No | Y21: - | Z21: Yes | AA21: Mentioned in Introduction and Discussion to place the study in context | AB21: Yes | AC21: Mentioned in Introduction and Discussion to place the study in context | AD21: NA | AE21: n/a | AF21: n/a | AG21: n/a | AH21: n/a | AI21: n/a | AJ21: n/a | AK21: n/a | AL21: n/a | AM21: n/a | AN21: n/a | AO21: n/a | AP21: Modelling | AQ21: Desktop study | AU21: Scientific publication(s) | AV21: Quantitative changes in key variables in data set(s) (e.g. land cover; income) | AW21: Quantitative analyses | AX21: Map(s) | BA21: Nature for Nature | BD21: The study only mentions the NFF to give context to the two protection scenarios used in the study. | BE21: not really | BF21: No | BG21: Yes | BH21: Nature for Nature | BK21: The study only mentions the NFF to give context to the two protection scenarios used in the study. | BP21: Policy-screening | BT21: Policy design
A22: Kuiper et al., 2022, DOI: https://doi.org/10.1080/26395916.2022.2065360 | B22: Exploring desirable nature futures for Nationaal Park Hollandse Duinen | C22: Scientific article | D22: 2022 | E22: Ecosystems and People Journal | F22: 2019 | G22: Not specified | H22: The Hague, Netherlands | I22: Local --> Netherlands | J22: Western Europe | L22: <50 km on edge - such as a large landscape or city scape (e.g. Sao Paulo) | O22: Coastal/marine areas | P22: Urban and suburban areas | Q22: Small scale agriculture & villages | R22: The NFF was used at a workshop to explore desirable futures for nature in the Nationaal Park Hollandse Duinen in the Netherlands, and the pathways to get there. The NFF was tested at regional scale. The visions did not focus on a specific area within the framework, but pluralistically captured elements from across the framework. | S22: Developing visions and scenarios | V22: Not every participant immediately understood the Nature as Culture value perspective, and how it differed from Nature for Society. However, confusions were resolved quickly after discussing a few different examples. | W22: The study states that the NFF enabled the discovery of diverse perspectives on nature and enabled exploring pathways. While this was only a first step, the NFF was considered suitable to support change processes towards more sustainable futures. The use of the Nature as Culture value perspective was found to be particularly useful by the director of NPHD, who was involved in co-design of this study. Its consideration helped participants move beyond the dichotomy between intrinsic and instrumental values that dominates existing discussions in the area. | X22: Yes | Y22: The study describes an initiative that seeks to transform the way humans interact with nature. The 3 Horizons framework was used to think about transformative pathways to desirable futures. | Z22: No | AB22: Yes | AC22: SDG target analysis | AD22: Participatory visioning. | AE22: 23 | AF22: Civil society organizations | AG22: Natural resource managers | AH22: Policymakers | AI22: Researchers | AJ22: Business representatives | AO22: The director of the national park picked and invited the participants. | AP22: Workshops & deliberation | AQ22: Mapping | AU22: Scientific publication(s) | BA22: Nature as Culture | BB22: Nature for Nature | BC22: Nature for Society | BD22: three horizons | BE22: Not every participant immediately understood the Nature as Culture value perspective, and how it differed from Nature for Society. However, confusions were resolved quickly after discussing a few different examples. | BF22: Yes, but briefly and without specifying/quantifying. | BG22: No | BO22: Target-seeking | BS22: Agenda setting | BT22: Policy design
A23: Mansur et al., 2022, DOI: https://doi.org/10.1016/j.envsci.2022.01.013 | B23: Nature futures for the urban century: Integrating multiple values into urban management | C23: Scientific article | D23: 2022 | E23: Environmental Science & Policy Journal | F23: 2021 | G23: - | H23: Conceptual, focused on urban zones / cityscapes in general | I23: Not represented, to be mentioned in text | L23: Conceptual | O23: Urban and suburban areas | R23: This paper presents a new framework based on the NFF that is specifically tailored to scenario building for cities: the Urban Nature Futures Framework (UNFF)’. With a visioning exercise the authors developed archetypes for the NFF value perspectives in the urban context. | S23: Discussing the NFF | T23: Developing visions and scenarios | V23: The authors state that the NFF does not explicitly address the urban context, and then apply the NFF to the urban context. | W23: When applying the Urban NFF to spatial planning in the urban context it is important to consider recognitional, procedural and distributional equity. | X23: Yes | Y23: It was mentioned that the Urban NFF (UNFF) may guide 'transformative action towards more inclusive, greener, and sustainable urban futures.' | Z23: Yes | AA23: GBF targets used to place study in context | AB23: Yes | AC23: SDG target used to place study in context | AD23: Researchers from various disciplines were brought together and developed the ideas collaboratively through workshops. | AE23: 13 | AF23: Researchers | AP23: Desktop study | AQ23: Workshops & deliberation | AR23: Mapping | AU23: Scientific publication(s) | AV23: Drawing(s)/diagram(s) | BA23: Nature as Culture | BB23: Nature for Nature | BC23: Nature for Society | BD23: NA | BF23: No | BG23: No | BN23: Exploratory | BR23: The NFF as a whole is discussed in relation to target seeking scenarios, to inform planning towards sustainability. At the same time, the main purpose of the presented visions is to explore how different futures may look like, rather than producing visions of desired futures towards which stakeholders want to navigate. | BS23: Agenda setting | BT23: Policy design | BU23: Policy implementation
