Workbook

Sheet Extracted information
A1: Code | B1: Language | C1: Year | D1: Area | E1: Description of goal | F1: Target variables | G1: Target item | H1: Target function | I1: Wavelengths | J1: Camera | K1: Sampling method | L1: Collection of samples (per pixel or over ROI) | M1: Number of samples | N1: Wavelength selection technique | O1: Best technique | P1: Learning algorithms | Q1: Data fusion | R1: Data fusion details | S1: Publication type
A2: HSI1043 | B2: English | C2: 2002 | D2: Fruit/vegetables | E2: Fecal contamination on apples | F2: Feces detection | G2: Apples | H2: Classification | I2: 450-851 | J2: Other | K2: Not stated | L2: Not applicable | M2: 32 | N2: PC Loadings | O2: Only one | P2: None | Q2: No | R2: Morphology | S2: Article
A3: HSI1035 | B3: English | C3: 2004 | D3: Fruit/vegetables | E3: Cucumber chilling damage inspection | F3: Defect detection | G3: Cucumbers | H3: Classification | I3: 447-951 | J3: Other | K3: Averaged over ROI | L3: Averaged over sample | M3: 280 | N3: PCA-Fisher LD | O3: Only one | P3: FLDA | Q3: No | S3: Article
A4: HSI0995 | B4: English | C4: 2007 | D4: Fruit/vegetables | E4: Sugar content in peaches | F4: Soluble solids concentration | G4: Peaches | H4: Regression | I4: 650-1000 | J4: Other | K4: Averaged over ROI | L4: Averaged over normalised areas | M4: 29 | N4: SR | O4: Only one | P4: PLS | Q4: No | S4: Article
A5: HSI0998 | B5: English | C5: 2007 | D5: Fruit/vegetables | E5: Quality attributes of strawberries | F5: Moisture content, Soluble solids concentration, pH | G5: Strawberries | H5: Regression | I5: 400-1000 | J5: ImSpector V10E | K5: Averaged over ROI | L5: Averaged over ROI | M5: 76 | N5: RC | O5: Only one | P5: MLR, PLS | Q5: Yes | R5: GLCM: RGB images Contrast, homogeneity, angular second moment, correlation. 0, 45, 90, 135. D=1:10 | S5: Article
A6: HSI1004 | B6: Chinese | C6: 2007 | D6: Fruit/vegetables | E6: Chinese pear quality | F6: Water content, Sugar content | G6: Pears | H6: Regression | I6: 400-1000 | J6: ImSpector V10E | K6: Averaged over ROI | L6: Averaged over ROI | M6: 32 | N6: RC | O6: Only one | P6: ANN | Q6: No | S6: Article
A7: HSI0988 | B7: English | C7: 2008 | D7: Fruit/vegetables | E7: Early detection of apple bruises | F7: Defect detection | G7: Apples | H7: Classification, Localisation | I7: 400-1000 | J7: ImSpector V10E | K7: Averaged over ROI | L7: Averaged over ROI | M7: 120 | N7: RC-VIP | O7: Not compared | P7: PLSR | Q7: No | S7: Article
A8: HSI0971 | B8: English | C8: 2009 | D8: Fruit/vegetables | E8: Detecting chilling injury and firmness in red delicious apples | F8: Defect detection, Firmness | G8: Apples | H8: Classification, Regression | I8: 400-1000 | J8: ImSpector V10E | K8: Averaged over ROI | L8: Averaged over AOI | M8: 64 | N8: NN importance weights | O8: Only one | P8: ANN | Q8: No | S8: Article
A9: HSI0947 | B9: English | C9: 2010 | D9: Fruit/vegetables | E9: Detecting internal defects of cucumbers and pickles | F9: Internal defects | G9: Cucumbers, Pickles | H9: Classification, Distribution | I9: 500-1000 | J9: ImSpector V10E | K9: Not stated | L9: Not clear | M9: 580 | N9: Branch and bound | O9: Only one | P9: KNN, PLS-DA | Q9: No | R9: Classification maps | S9: Article
A10: HSI0922 | B10: English | C10: 2011 | D10: Fruit/vegetables | E10: Detecting common defects on oranges | F10: Defect detection | G10: Oranges | H10: Classification, Localisation | I10: 550-900 | J10: ImSpector V10E | K10: Averaged over ROI | L10: Averaged over representative area | M10: 460 | N10: PC Loadings | O10: Only one | P10: PCA | Q10: No | R10: Morphological/band ratio | S10: Article
A11: HSI0929 | B11: Chinese | C11: 2011 | D11: Fruit/vegetables | E11: Firmness of apples | F11: Firmness | G11: Apples | H11: Regression | I11: 500-1000 | J11: ImSpector V10E | K11: Averaged over ROI | L11: Averaged over ROI | M11: 600 | N11: PLS Loadings, UVE, UVE-PLS Loadings, GA, UVE-GA | O11: UVE-PLS Loadings, UVE-GA, UVE, PLS Loadings | P11: PLSR | Q11: No | S11: Article
A12: HSI0899 | B12: Chinese | C12: 2012 | D12: Fruit/vegetables | E12: Potato dry matter detection | F12: Dry matter content | G12: Potatoes | H12: Regression | I12: 450-990 | J12: HyperSpec VNIR | K12: Averaged over ROI | L12: Averaged over 100x100 ROI from center | M12: 146 | N12: siPLS, GA, UVE, CARS, SPA, CARS-SPA | O12: CARS-SPA, CARS, GA, siPLS, SPA | P12: MLR, PLS, SVM | Q12: No | S12: Article
A13: HSI0904 | B13: English | C13: 2012 | D13: Fruit/vegetables | E13: Detection of bruise and stem-end/calyx of apples | F13: Defect detection | G13: Apples | H13: Classification, Localisation | I13: 450-980 | J13: ImSpector V10E | K13: Averaged over ROI | L13: Averaged over ROI | M13: 60 | N13: PC Loadings | O13: Only one | P13: None | Q13: No | R13: Morphology | S13: Conference Paper
A14: HSI0909 | B14: English | C14: 2012 | D14: Fruit/vegetables | E14: Banana quality and maturity | F14: Firmness, Total soluble solids, Moisture content | G14: Bananas | H14: Regression | I14: 400-1000 | J14: ImSpector V10E | K14: Averaged over ROI | L14: Averaged over ROI | M14: 270 | N14: RC | O14: Only one | P14: PLSR, MLR | Q14: No | S14: Article
A15: HSI0828 | B15: Chinese | C15: 2013 | D15: Fruit/vegetables | E15: Detecting bruises and early decay in apples | F15: Defect detection | G15: Apples | H15: Classification, Localisation | I15: 400-1000 | J15: ImSpector V10E | K15: Averaged over ROI | L15: Averaged over ROI | M15: 120 | N15: PC Loadings | O15: Only one | P15: None | Q15: No | R15: Otsu thresholding | S15: Article
A16: HSI0834 | B16: English | C16: 2013 | D16: Fruit/vegetables | E16: Quality of spinich leaves | F16: Quality | G16: Spinach | H16: Classification | I16: 400-1000 | J16: HyperSpec VNIR | K16: Not stated | L16: Not clear 40->3600 | M16: 120 | N16: CovSel | O16: Only one | P16: PLS-DA | Q16: No | R16: Distribution maps | S16: Article
A17: HSI0838 | B17: Chinese | C17: 2013 | D17: Fruit/vegetables | E17: Soluble solids content in apples | F17: Soluble solids concentration | G17: Apples | H17: Regression | I17: 400-1000 | J17: ImSpector V10E | K17: Averaged over ROI | L17: Averaged over ROI | M17: 160 | N17: SPA, GA, GA-SPA | O17: SPA, GA | P17: PLS, MLR, LS-SVM | Q17: No | S17: Article
A18: HSI0844 | B18: English | C18: 2013 | D18: Fruit/vegetables | E18: Detection of bruises on apples | F18: Defect detection | G18: Apples | H18: Classification, Localisation | I18: 450-1000 | J18: ImSpector V10E | K18: Averaged over ROI | L18: Averaged over normal and bruised ROI | M18: 40 | N18: PC Loadings | O18: Only one | P18: None | Q18: No | R18: Defects | S18: Conference Paper
A19: HSI0764 | B19: English | C19: 2014 | D19: Fruit/vegetables | E19: Insect damaged detection in Hawthorn fruit | F19: Defect detection | G19: Hawthorn | H19: Classification | I19: 400-1000 | J19: HyperSpec VNIR | K19: Averaged over ROI | L19: Mean spectra | M19: 360 | N19: Reflectance sensitivity | O19: Only one | P19: PLS-DA | Q19: Yes | R19: In this study, the ten textural features, including energy, entropy, correlation, inverse difference moment, inertia, uneven distribution of gray, uneven distribution of gradient, small gradient strengths, large gradient strengths, and gradient variance, were extracted from hyperspectral image in each wavelength | S19: Article
A20: HSI0773 | B20: Chinese | C20: 2014 | D20: Fruit/vegetables | E20: Moisture content in gherkins | F20: Moisture content | G20: Gherkins | H20: Regression | I20: 900-1700 | J20: ImSpector N17E | K20: Averaged over ROI | L20: Averaged over ROI | M20: 80 | N20: RC | O20: Only one | P20: PLSR | Q20: No | S20: Article
A21: HSI0779 | B21: Chinese | C21: 2014 | D21: Fruit/vegetables | E21: Nitrogen content in lettuce leaves | F21: Nitrogen content | G21: Lettuces | H21: Regression | I21: 453-983 | J21: ImSpector V10E | K21: Averaged over ROI | L21: Averaged over leaf ROI | M21: 60 | N21: PC Loadings | O21: Only one | P21: SVR | Q21: Yes | R21: (Chinese) GLCM of first 3 PC images | S21: Article
A22: HSI0792 | B22: English | C22: 2014 | D22: Fruit/vegetables | E22: Recognition of bruise and pest infestation on apples | F22: Defect detection | G22: Apples | H22: Classification | I22: 400-1000 | J22: HyperSpec VNIR | K22: Averaged over ROI | L22: Averaged over ROI | M22: 290 | N22: PC Loadings, RSA | O22: RSA | P22: PLS-DA | Q22: No | S22: Conference Paper
A23: HSI0795 | B23: English | C23: 2014 | D23: Fruit/vegetables | E23: Detection of defects in Loquat | F23: Defect detection | G23: Loquats | H23: Classification, Localisation | I23: 420-1000 | J23: ImSpector V10E | K23: Averaged over ROI | L23: Averaged over ROI | M23: 260 | N23: CARS | O23: Only one | P23: PLS-DA | Q23: No | R23: Defects: morphology. MNF | S23: Article
A24: HSI0797 | B24: English | C24: 2014 | D24: Fruit/vegetables | E24: Detection of thirps defect on green-peel citrus | F24: Defect detection | G24: Citrus | H24: Classification, Localisation | I24: 500-800 | J24: ImSpector V10E | K24: Averaged over ROI | L24: Averaged over ROI | M24: 300 | N24: PC Loadings | O24: Only one | P24: None | Q24: No | R24: Defect detection | S24: Article
A25: HSI0800 | B25: English | C25: 2014 | D25: Fruit/vegetables | E25: Internal quality of blueberries | F25: Soluble solids concentration, Firmness | G25: Blueberries | H25: Regression | I25: 400-1000 | J25: ImSpector V10E | K25: Averaged over ROI | L25: Averaged over ROI | M25: 420 | N25: iPLS | O25: Only one | P25: PLS | Q25: No | S25: Article
A26: HSI0803 | B26: English | C26: 2014 | D26: Fruit/vegetables | E26: Bruise and cultivar detection of apples | F26: Variety, Defect detection | G26: Apples | H26: Classification | I26: 400-1000, 1000-2500 | J26: ImSpector V10E, ImSpector N25E | K26: Averaged over ROI | L26: Averaged over ROI | M26: 480 | N26: CFS | O26: Only one | P26: SVM, SLOG, Sequential minimal optimization | Q26: No | R26: Defects | S26: Article
A27: HSI0811 | B27: Chinese | C27: 2014 | D27: Fruit/vegetables | E27: Detection of slight bruises on apples | F27: Defect detection | G27: Apples | H27: Classification, Localisation | I27: 400-1000 | J27: ImSpector V10E | K27: Averaged over ROI | L27: Averaged over ROI | M27: 280 | N27: I-ReliefF | O27: Only one | P27: MNF | Q27: No | R27: Morphology | S27: Article
A28: HSI0818 | B28: English | C28: 2014 | D28: Fruit/vegetables | E28: Ripeness classification of astringent persimmon | F28: Ripeness, Firmness, Mass, Height, Perimeter, Soluble solids concentration | G28: Persimmons | H28: Classification, Regression | I28: 400-1000 | J28: ImSpector V10E | K28: Averaged over ROI | L28: Averaged over multiple square ROI on both sides | M28: 192 | N28: SPA | O28: Only one | P28: LDA, SIMCA | Q28: Yes | R28: GLCM: Correlation, Energy, Contrast, Homogeneity. Angle = 0, d = 1 | S28: Article
A29: HSI0819 | B29: Chinese | C29: 2014 | D29: Fruit/vegetables | E29: Moisture of jujubes | F29: Moisture content | G29: Jujubes | H29: Regression | I29: 978-1661 | J29: ImSpector N17E | K29: Averaged over ROI | L29: Averaged over ROI | M29: 128 | N29: RC | O29: Only one | P29: PLSR | Q29: No | S29: Article
A30: HSI0676 | B30: Chinese | C30: 2015 | D30: Fruit/vegetables | E30: Detecting defective features in nectarine | F30: Defect detection | G30: Nectarines | H30: Classification, Localisation | I30: 420-1000 | J30: ImSpector V10E | K30: Averaged over ROI | L30: Averaged over ROI | M30: 400 | N30: RC | O30: Only one | P30: PLSR, ELM | Q30: Yes | R30: (Chinese) GLCM: mean contrast, correlation, energy, homogeneity, and entropy. 0, 45, 90, 135 degrees. | S30: Article
A31: HSI0679 | B31: Chinese | C31: 2015 | D31: Fruit/vegetables | E31: Detection of hawthorn fruit defects | F31: Defect detection | G31: Hawthorn | H31: Classification, Localisation | I31: 420-1000 | J31: ImSpector V10E | K31: Averaged over ROI | L31: Averaged over ROI | M31: 134 | N31: RC | O31: Only one | P31: PLS, LS-SVM | Q31: No | R31: Sobel, region grow | S31: Article
A32: HSI0683 | B32: English | C32: 2015 | D32: Fruit/vegetables | E32: Apple rottenness caused by penicillium | F32: Defect detection | G32: Apples | H32: Classification, Localisation | I32: 400-1000 | J32: ImSpector V10E | K32: Averaged over ROI | L32: Averaged over normal/rotten regions | M32: 120 | N32: PC Loadings | O32: Only one | P32: ICA | Q32: No | R32: Morphology | S32: Article
A33: HSI0685 | B33: English | C33: 2015 | D33: Fruit/vegetables | E33: Early detection of apple rottenness | F33: Defect detection | G33: Apples | H33: Classification, Localisation | I33: 400-1000 | J33: ImSpector V10E | K33: Averaged over ROI | L33: Averaged over sub ROI | M33: 120 | N33: SPA | O33: Only one | P33: PLS-DA | Q33: No | S33: Article
A34: HSI0686 | B34: English | C34: 2015 | D34: Fruit/vegetables | E34: Soluble solids content and firmness of pears | F34: Soluble solids concentration, Firmness | G34: Pears | H34: Regression, Distribution | I34: 400-1000 | J34: ImSpector V10E | K34: Averaged over ROI | L34: Averaged over 100x100 ROI from center | M34: 160 | N34: CARS, SPA, CARS-SPA | O34: CARS-SPA, CARS | P34: PLS | Q34: No | S34: Article
A35: HSI0693 | B35: English | C35: 2015 | D35: Fruit/vegetables | E35: Mechanical properties of blueberries | F35: Hardness, Springiness, Chewiness, Maximum force, Max force strain, Gradient, Final force | G35: Blueberries | H35: Regression | I35: 411-1114 | J35: ImSpector V10E | K35: Averaged over ROI | L35: Averaged over ROI | M35: 894 | N35: RF | O35: Only one | P35: LS-SVM | Q35: No | R35: Morphology | S35: Article
A36: HSI0699 | B36: English | C36: 2015 | D36: Fruit/vegetables | E36: Detection of defects of peaches | F36: Defect detection | G36: Peaches | H36: Classification, Localisation | I36: 400-1000 | J36: ImSpector V10E | K36: Averaged over ROI | L36: Averaged over selected rectangular ROI | M36: 160 | N36: MC-UVE-SPA | O36: Only one | P36: PLS | Q36: No | R36: Minimum noise fraction, band math | S36: Article
A37: HSI0702 | B37: English | C37: 2015 | D37: Fruit/vegetables | E37: Moisture distribution of mango slices | F37: Moisture content | G37: Mangoes | H37: Regression, Distribution | I37: 400-1000, 880-1720 | J37: SPECIM V10E, ImSpector N17E | K37: Averaged over ROI | L37: Averaged over sample | M37: 162 | N37: RC, CARS, SR | O37: RC, CARS | P37: PLS | Q37: No | R37: Distribution | S37: Article
A38: HSI0705 | B38: English | C38: 2015 | D38: Fruit/vegetables | E38: Sugar content of potatoes | F38: Glucose content, Sucrose content | G38: Potatoes | H38: Classification, Regression | I38: 400-1000 | J38: ImSpector V10E | K38: Averaged over ROI | L38: Averaged over sample | M38: 720 | N38: iPLS, GA | O38: iPLS | P38: ANN, PLSR | Q38: No | S38: Article
A39: HSI0706 | B39: English | C39: 2015 | D39: Fruit/vegetables | E39: Shelf life of bananas with different browning levels | F39: Browning level | G39: Bananas | H39: Classification, Distribution | I39: 400-1100 | J39: ImSpector V10E | K39: Averaged over ROI | L39: Averaged over browning areas | M39: 1600 | N39: PC Loadings | O39: Onle one | P39: ANN, BPNN, RBFNN, SOM-NN | Q39: No | R39: Visualisation maps, morphology | S39: Article
A40: HSI0707 | B40: English | C40: 2015 | D40: Fruit/vegetables | E40: Tomato quality monitoring | F40: Modulus of elasticity, Titratable acidity, Soluble solids concentration, Moisture content | G40: Tomatoes | H40: Regression | I40: 400-1000 | J40: ImSpector V10E | K40: Other | L40: Averaged over 40 spectra collected at various distances from specular center | M40: 200 | N40: GA, ReliefF, Fisher Score, t-Score | O40: GA | P40: SVM, ANN | Q40: No | S40: Article
...

Sheet Texture studies
G1: Feature types | T1: GLCM Feature attributes
A2: Timestamp | B2: Code | C2: Description | D2: Variable | E2: Target | F2: Type | G2: LBP | H2: Gabor | I2: GLGCM | J2: Histogram/Shape | K2: Other | L2: GLCM | M2: What texture features are used? | N2: At what level are the features combined: pixel level, feature level, or decision level? | O2: Column1 | P2: Features extracted before or after wavelength selection | Q2: Feature images | R2: How were feature images selected? | S2: Other notes on study design | T2: Homogeneity | U2: Contrast | V2: Entropy | W2: Correlation | X2: Energy | Y2: D | Z2: Theta | AA2: Averaging | AB2: Which performs better if models using compared? | AC2: Do the texture features improve performance when combined with spectral features?
A3: 2022/02/01 9:09:52 am GMT+13 | B3: HSI0011 | C3: =INDEX('Extracted information'!G:G, MATCH(B3,'Extracted information'!A:A,0)) -> Beef | D3: =INDEX('Extracted information'!H:H, MATCH(B3,'Extracted information'!A:A,0)) -> Regression, Distribution | E3: =INDEX('Extracted information'!I:I, MATCH(B3,'Extracted information'!A:A,0)) -> 400-1000 | F3: =INDEX('Extracted information'!J:J, MATCH(B3,'Extracted information'!A:A,0)) -> ImSpector V10E | K3: 1 | M3: Discrete Wavelet Transform (DCT) | N3: Feature level | O3: 0 | Q3: Optimal-PCA | R3: From the nine selected wavelengths PCA was fit and PC1 and PC2 were used. | S3: Decompose the original image into sub-images at a different resolution for detailed analysis. Daubechies-8 is the mother wavelet function to decompose at the second level. Six detailed coefficients (cH1, cV1, cD1, cH2, cV2, cD2) from each PC score image. First 3 singular values were extracted. 6 * 3 * 2 = 36 total. 9 + 36 features total. | AB3: Spectral features | AC3: Yes
A4: 2022/02/01 9:22:03 am GMT+13 | B4: HSI0019 | C4: =INDEX('Extracted information'!G:G, MATCH(B4,'Extracted information'!A:A,0)) -> Rice leaves | D4: =INDEX('Extracted information'!H:H, MATCH(B4,'Extracted information'!A:A,0)) -> Classification | E4: =INDEX('Extracted information'!I:I, MATCH(B4,'Extracted information'!A:A,0)) -> 450-1000 | F4: =INDEX('Extracted information'!J:J, MATCH(B4,'Extracted information'!A:A,0)) -> ImSpector V10E | L4: 1 | M4: GLCM | N4: Feature level | O4: 0 | P4: Texture selection | Q4: PCA | R4: PC1-PC3 | S4: mean energy, std dev of energy, mean entropy, std dev of entropy, std dev of contrast, mean contrast, correlation, d=1. | T4: 0 | U4: 1 | V4: 1 | W4: 1 | X4: 1 | Y4: 1 | Z4: 0, 45, 90, 135 | AA4: Not clear (Assumed average) | AB4: Spectral features | AC4: Yes
A5: 2022/02/01 9:40:12 am GMT+13 | B5: HSI0057 | C5: =INDEX('Extracted information'!G:G, MATCH(B5,'Extracted information'!A:A,0)) -> Lamb | D5: =INDEX('Extracted information'!H:H, MATCH(B5,'Extracted information'!A:A,0)) -> Classification | E5: =INDEX('Extracted information'!I:I, MATCH(B5,'Extracted information'!A:A,0)) -> 400-1000 | F5: =INDEX('Extracted information'!J:J, MATCH(B5,'Extracted information'!A:A,0)) -> SOC710 | I5: 1 | M5: GLGCM | N5: Feature level | O5: 0 | P5: Not stated | Q5: Features were also narrowed down post extraction | R5: Not clear but one set | S5: 15 textural features tested, 4 effective variables chosen. Small gradient dominant, large gradient advantage, gray distribution, gradient distribution inhomogeneity, energy, gray average, gradient average, gray mean square error, gradient mean square error, correlation, gray entropy, gradient entropy, mixed entropy, inertia, inverse moment. | AB5: Spectral features | AC5: Yes
A6: 2022/02/02 3:23:44 pm GMT+13 | B6: HSI0066 | C6: =INDEX('Extracted information'!G:G, MATCH(B6,'Extracted information'!A:A,0)) -> Pork | D6: =INDEX('Extracted information'!H:H, MATCH(B6,'Extracted information'!A:A,0)) -> Regression, Distribution | E6: =INDEX('Extracted information'!I:I, MATCH(B6,'Extracted information'!A:A,0)) -> 900-1700 | F6: =INDEX('Extracted information'!J:J, MATCH(B6,'Extracted information'!A:A,0)) -> HyperSpec NIR | H6: 1 | K6: 1 | M6: WLDF, Gabor filter | N6: Not combined | O6: 2 | P6: After: selected | Q6: Selected wavelengths | R6: Each method had its on selected wavelengths | S6: Wide line detector method: Basically, a wide line detector method uses three parameters: the radius of a circular disk, the intensity contrast threshold, and the global threshold. Initially, the marbling is detected, and global thresholding is applied to the detected marbling. Gabor: Î¸ = 0Â°, 45Â°, 90Â°, 135Â°, GF was calculated from all the four orientations, and the results were averaged to obtain rotationally invariant results for each hyperspectral image. | AB6: Texture features
A7: 2022/02/01 10:03:46 am GMT+13 | B7: HSI0079 | C7: =INDEX('Extracted information'!G:G, MATCH(B7,'Extracted information'!A:A,0)) -> Soil | D7: =INDEX('Extracted information'!H:H, MATCH(B7,'Extracted information'!A:A,0)) -> Regression | E7: =INDEX('Extracted information'!I:I, MATCH(B7,'Extracted information'!A:A,0)) -> 970-1735 | F7: =INDEX('Extracted information'!J:J, MATCH(B7,'Extracted information'!A:A,0)) -> Not stated | L7: 1 | M7: GLCM | N7: Feature level | O7: 1 | P7: Before: selected by SPA | Q7: Optimal wavelengths | R7: Extracted from selected wavelengths from SPA | S7: 0, 30, 60, 90 degrees, then averaged. Energy, contrast, homogeneity, entropy. | T7: 1 | U7: 1 | V7: 1 | W7: 0 | X7: 1 | Y7: 1 | Z7: 0, 30, 60, 90 | AA7: Averaged over 4 directions | AB7: Not compared individually or inconclusive
A8: 2022/02/01 10:25:14 am GMT+13 | B8: HSI0120 | C8: =INDEX('Extracted information'!G:G, MATCH(B8,'Extracted information'!A:A,0)) -> Lamb | D8: =INDEX('Extracted information'!H:H, MATCH(B8,'Extracted information'!A:A,0)) -> Regression, Distribution | E8: =INDEX('Extracted information'!I:I, MATCH(B8,'Extracted information'!A:A,0)) -> 900-1700 | F8: =INDEX('Extracted information'!J:J, MATCH(B8,'Extracted information'!A:A,0)) -> ImSpector N17E | L8: 1 | M8: GLCM | N8: Feature level | O8: 0 | Q8: PCA | R8: PC1 | S8: Angle = 0, 45, 90, 135, d=1. Contrast, energy, correlation, homogeneity. Averaged into one value for each. 4 angles * 4 features = 16 features. | T8: 1 | U8: 1 | V8: 0 | W8: 1 | X8: 1 | Y8: 1 | Z8: 0, 45, 90, 135 | AA8: Averaged over 4 directions | AB8: Not compared individually or inconclusive | AC8: Yes
A9: 2022/02/01 10:46:05 am GMT+13 | B9: HSI0136 | C9: =INDEX('Extracted information'!G:G, MATCH(B9,'Extracted information'!A:A,0)) -> Salmon | D9: =INDEX('Extracted information'!H:H, MATCH(B9,'Extracted information'!A:A,0)) -> Regression | E9: =INDEX('Extracted information'!I:I, MATCH(B9,'Extracted information'!A:A,0)) -> 950-1650 | F9: =INDEX('Extracted information'!J:J, MATCH(B9,'Extracted information'!A:A,0)) -> ImSpector N17E | J9: 1 | L9: 1 | M9: GLCM, Histogram statistics | N9: Feature level | O9: 0 | Q9: PCA | R9: PC2 and PC3 images of selected wavelengths | S9: Mean intensity, mean contrast, roughness, third-order moment, consistency, entropy. GLCM: Contrast, Homogeneity, Energy, Correlation. d=1, angle = 0. | T9: 1 | U9: 1 | V9: 0 | W9: 1 | X9: 1 | Y9: 1 | Z9: 0 | AA9: Single angle | AB9: Spectral features | AC9: Yes
A10: 2022/02/01 11:05:28 am GMT+13 | B10: HSI0143 | C10: =INDEX('Extracted information'!G:G, MATCH(B10,'Extracted information'!A:A,0)) -> Wheat | D10: =INDEX('Extracted information'!H:H, MATCH(B10,'Extracted information'!A:A,0)) -> Classification | E10: =INDEX('Extracted information'!I:I, MATCH(B10,'Extracted information'!A:A,0)) -> 400-1000 | F10: =INDEX('Extracted information'!J:J, MATCH(B10,'Extracted information'!A:A,0)) -> SOC710 | J10: 1 | L10: 1 | M10: GLCM, shape features | N10: Feature level | O10: 1 | P10: Before: selected by PCA, RF, SPA | Q10: Optimal wavelengths | R10: Not stated | S10: 0, 45, 90, 135 degrees. Energy, entropy, contrast, correlation, homogeneity. Shape complexity, eccentricity, circularity, rectangularity, area, perimeter. Somehow they got 10 feature out of 5. Feature image not explained. | T10: 1 | U10: 1 | V10: 1 | W10: 1 | X10: 1 | Y10: Not stated | Z10: 0, 45, 90, 135 | AA10: Not stated | AB10: Not compared individually or inconclusive | AC10: Yes
A11: 2022/02/01 11:26:17 am GMT+13 | B11: HSI0200 | C11: =INDEX('Extracted information'!G:G, MATCH(B11,'Extracted information'!A:A,0)) -> Pork | D11: =INDEX('Extracted information'!H:H, MATCH(B11,'Extracted information'!A:A,0)) -> Regression, Distribution | E11: =INDEX('Extracted information'!I:I, MATCH(B11,'Extracted information'!A:A,0)) -> 400-1000 | F11: =INDEX('Extracted information'!J:J, MATCH(B11,'Extracted information'!A:A,0)) -> ImSpector V10E | L11: 1 | M11: GLCM | N11: Feature level | O11: 0 | Q11: Not clear | R11: Not stated | S11: Mean, homogeneity, contrast, entropy, second moment, correlation. D =1, 64 gray levels (?), 0, 45, 90, 135 degrees. 6 features by 618 pixels = 3708 features. | T11: 1 | U11: 1 | V11: 1 | W11: 1 | X11: 1 | Y11: 1 | Z11: 0, 45, 90, 135 | AA11: Not averaged | AB11: Not compared individually or inconclusive
A12: 2022/02/01 11:35:52 am GMT+13 | B12: HSI0221 | C12: =INDEX('Extracted information'!G:G, MATCH(B12,'Extracted information'!A:A,0)) -> Rice | D12: =INDEX('Extracted information'!H:H, MATCH(B12,'Extracted information'!A:A,0)) -> Classification | E12: =INDEX('Extracted information'!I:I, MATCH(B12,'Extracted information'!A:A,0)) -> 430-960 | F12: =INDEX('Extracted information'!J:J, MATCH(B12,'Extracted information'!A:A,0)) -> Not stated | K12: 1 | M12: Texture difference | N12: Feature level | O12: 1 | P12: Before: five feature wavelengths | Q12: Optimal wavelengths | R12: Selected by GA | S12: Texture difference images before and after exposure. Averaged over 1500 pixel dye area circle. 5 selected wavelengths * 3 types of dye = 15-dimensional feature vector. | AB12: Spectral features | AC12: No
A13: 2022/02/02 3:32:53 pm GMT+13 | B13: HSI0226 | C13: =INDEX('Extracted information'!G:G, MATCH(B13,'Extracted information'!A:A,0)) -> 0 | D13: =INDEX('Extracted information'!H:H, MATCH(B13,'Extracted information'!A:A,0)) -> Classification | E13: =INDEX('Extracted information'!I:I, MATCH(B13,'Extracted information'!A:A,0)) -> 1000-1600 | F13: =INDEX('Extracted information'!J:J, MATCH(B13,'Extracted information'!A:A,0)) -> Not stated | K13: 1 | M13: CNN | N13: Feature level: extracted by CNN individually and merged as concat features. | O13: 0 | P13: Learnt | Q13: Selected wavelengths | R13: Weight indicator of 2BNN | S13: Two-branch network structure is adopted for spectral-spatial information fusion. For a fair comparison, the numbers of EWs kept consistent with the numbers determined by SPA, which were 15, 21 and 15 for the herbal medicine, coffee bean and strawberry data sets, respectively. | AB13: Not compared individually or inconclusive | AC13: Yes
A14: 2022/02/01 11:50:31 am GMT+13 | B14: HSI0232 | C14: =INDEX('Extracted information'!G:G, MATCH(B14,'Extracted information'!A:A,0)) -> Maize | D14: =INDEX('Extracted information'!H:H, MATCH(B14,'Extracted information'!A:A,0)) -> Classification | E14: =INDEX('Extracted information'!I:I, MATCH(B14,'Extracted information'!A:A,0)) -> 400-1000 | F14: =INDEX('Extracted information'!J:J, MATCH(B14,'Extracted information'!A:A,0)) -> HyperSpec VNIR | J14: 1 | L14: 1 | M14: First and second order statistics (potentially GLCM?) | N14: Feature level | O14: 1 | P14: Before: optimal wavelengths | Q14: Optimal wavelengths | R14: 10 optimal wavelengths | S14: First order statistics: Energy, entropy, skew, STD, moment. Second order statistics: average, STD: contrast, correlation, energy, homogeneity. Angles: 0, 45, 90, 135, d=1. 14 Features total = 5 + 2 * 4 + 1 mean spectra. | T14: 1 | U14: 1 | V14: 0 | W14: 1 | X14: 1 | Y14: 1 | Z14: 0, 45, 90, 135 | AA14: Not clear (Assumed average) | AB14: Spectral features | AC14: No
A15: 2022/02/01 12:43:35 pm GMT+13 | B15: HSI0251 | C15: =INDEX('Extracted information'!G:G, MATCH(B15,'Extracted information'!A:A,0)) -> Soil | D15: =INDEX('Extracted information'!H:H, MATCH(B15,'Extracted information'!A:A,0)) -> Classification | E15: =INDEX('Extracted information'!I:I, MATCH(B15,'Extracted information'!A:A,0)) -> 975-1645 | F15: =INDEX('Extracted information'!J:J, MATCH(B15,'Extracted information'!A:A,0)) -> ImSpector N17E | L15: 1 | M15: GLCM | N15: Feature level | O15: 1 | P15: Before: optimal wavelengths | Q15: Optimal wavelengths | R15: Optimal wavelengths | S15: Contrast, correlation, energy, and homogeneity. 4 * 9 optimal wavelengths. Averaged. | T15: 1 | U15: 1 | V15: 0 | W15: 1 | X15: 1 | Y15: 1 | Z15: 0, 45, 90, 135 | AA15: Averaged over 4 directions | AB15: Spectral features | AC15: Yes
A16: 2022/02/01 1:28:46 pm GMT+13 | B16: HSI0309 | C16: =INDEX('Extracted information'!G:G, MATCH(B16,'Extracted information'!A:A,0)) -> Chicken | D16: =INDEX('Extracted information'!H:H, MATCH(B16,'Extracted information'!A:A,0)) -> Classification | E16: =INDEX('Extracted information'!I:I, MATCH(B16,'Extracted information'!A:A,0)) -> 400-1000 | F16: =INDEX('Extracted information'!J:J, MATCH(B16,'Extracted information'!A:A,0)) -> ImSpector V10E | J16: 1 | L16: 1 | M16: GLCM, Grayscale histogram statistics | N16: Feature level | O16: 0 | Q16: PCA | R16: PC2 and PC3 score images | S16: Homogeneity, contrast, energy, correlation. Angle (0, 45, 90, 135) d = 1. Averaged over four directions. Grayscale histogram statistics: mean intensity, mean contrast, roughness, third-order moment, consistency, entropy. | T16: 1 | U16: 1 | V16: 0 | W16: 1 | X16: 1 | Y16: 1 | Z16: 0, 45, 90, 135 | AA16: Averaged over 4 directions | AB16: Spectral features | AC16: Yes
A17: 2022/02/01 3:55:13 pm GMT+13 | B17: HSI0330 | C17: =INDEX('Extracted information'!G:G, MATCH(B17,'Extracted information'!A:A,0)) -> Silkworm pupae | D17: =INDEX('Extracted information'!H:H, MATCH(B17,'Extracted information'!A:A,0)) -> Classification | E17: =INDEX('Extracted information'!I:I, MATCH(B17,'Extracted information'!A:A,0)) -> 400-900 | F17: =INDEX('Extracted information'!J:J, MATCH(B17,'Extracted information'!A:A,0)) -> ImSpector V10E | L17: 1 | M17: GLCM | N17: Feature level | O17: 0 | Q17: Preselected | R17: 500nm based on previous study | S17: Angle 0, 45, 90, 135. Contrast, entropy, energy, correlation. | T17: 0 | U17: 1 | V17: 1 | W17: 1 | X17: 1 | Y17: Not stated | Z17: 0, 45, 90, 135 | AA17: Not stated | AB17: Spectral features | AC17: Yes
A18: 2022/02/01 4:14:19 pm GMT+13 | B18: HSI0347 | C18: =INDEX('Extracted information'!G:G, MATCH(B18,'Extracted information'!A:A,0)) -> Soybeans | D18: =INDEX('Extracted information'!H:H, MATCH(B18,'Extracted information'!A:A,0)) -> Classification | E18: =INDEX('Extracted information'!I:I, MATCH(B18,'Extracted information'!A:A,0)) -> 401-1000 | F18: =INDEX('Extracted information'!J:J, MATCH(B18,'Extracted information'!A:A,0)) -> Not stated | L18: 1 | M18: GLCM | N18: Feature level | O18: 1 | P18: Before: three feature bands | Q18: Optimal wavelengths | R18: Three selected wavelengths | S18: Entropy, correlation, interia moment, energy. Averaged over ROI. 4*3 | T18: 0 | U18: 1 | V18: 1 | W18: 1 | X18: 1 | Y18: Not stated | Z18: Not stated | AA18: Not stated | AB18: Not compared individually or inconclusive
A19: 2022/02/02 12:29:06 pm GMT+13 | B19: HSI0395 | C19: =INDEX('Extracted information'!G:G, MATCH(B19,'Extracted information'!A:A,0)) -> Silkworm pupae | D19: =INDEX('Extracted information'!H:H, MATCH(B19,'Extracted information'!A:A,0)) -> Classification | E19: =INDEX('Extracted information'!I:I, MATCH(B19,'Extracted information'!A:A,0)) -> 400-900 | F19: =INDEX('Extracted information'!J:J, MATCH(B19,'Extracted information'!A:A,0)) -> ImSpector V10E | L19: 1 | M19: GLCM | N19: Feature level | O19: 0 | Q19: PCA | R19: PC1, 2, 3 of entire image | S19: 48 textural features were computed from the gray cooccurrence matrix with four different angles (0, 45, 90,145). Four textural features (contrast, homogeneity, energy, correlation). 3 Images | T19: 1 | U19: 1 | V19: 0 | W19: 1 | X19: 1 | Y19: Not stated | Z19: 0, 45, 90, 145 | AA19: Not averaged | AB19: Spectral features | AC19: Yes
A20: 2022/02/02 12:51:09 pm GMT+13 | B20: HSI0399 | C20: =INDEX('Extracted information'!G:G, MATCH(B20,'Extracted information'!A:A,0)) -> Tea leaves | D20: =INDEX('Extracted information'!H:H, MATCH(B20,'Extracted information'!A:A,0)) -> Classification | E20: =INDEX('Extracted information'!I:I, MATCH(B20,'Extracted information'!A:A,0)) -> 400-1000 | F20: =INDEX('Extracted information'!J:J, MATCH(B20,'Extracted information'!A:A,0)) -> ImSpector V10E | I20: 1 | M20: GLGCM | N20: Feature level | O20: 1 | P20: Before: five feature wavelengths | Q20: Optimal wavelengths | R20: Five optimal wavelengths | S20: 30 textural variables were extracted by GLGCM. six statistical texture variables â€“ smoothness, third moment â€“ uniformity, entropy, mean and standard deviation â€“ were extracted from each optimal band image Feature-level fusion has the advantage of avoiding huge data preprocessing and potential information losses. Thus it was used to integrate spectra and textural data in this study. With data fusion, a large-value parameter would hide the predicting power of smaller-value parameters. | AB20: Spectral features | AC20: Yes
B21: HSI0418 | C21: =INDEX('Extracted information'!G:G, MATCH(B21,'Extracted information'!A:A,0)) -> Tomato leaves | D21: =INDEX('Extracted information'!H:H, MATCH(B21,'Extracted information'!A:A,0)) -> Classification | E21: =INDEX('Extracted information'!I:I, MATCH(B21,'Extracted information'!A:A,0)) -> 500-1000 | F21: =INDEX('Extracted information'!J:J, MATCH(B21,'Extracted information'!A:A,0)) -> ImSpector V10E | L21: 1 | M21: GLCM | N21: Not used together | P21: Before: wavelength selected by 1st der and ADS | Q21: Optimal wavelengths | R21: Optimal wavelengths ratios | S21: Interia, ASM, Correlation, Entropy | T21: 0 | U21: 1 | V21: 1 | W21: 1 | X21: 1 | Y21: Not stated | Z21: 0, 45, 90, 135 | AA21: Averaged over four directions | AB21: Not compared individually or inconclusive
A22: 2022/02/02 1:00:25 pm GMT+13 | B22: HSI0424 | C22: =INDEX('Extracted information'!G:G, MATCH(B22,'Extracted information'!A:A,0)) -> Chicken | D22: =INDEX('Extracted information'!H:H, MATCH(B22,'Extracted information'!A:A,0)) -> Classification, Distribution | E22: =INDEX('Extracted information'!I:I, MATCH(B22,'Extracted information'!A:A,0)) -> 400-1000 | F22: =INDEX('Extracted information'!J:J, MATCH(B22,'Extracted information'!A:A,0)) -> ImSpector V10E | L22: 1 | M22: GLCM | N22: Feature level | O22: 0 | Q22: PCA | R22: Three PC score images | S22: 0, 45, 90, 135. d=1, contrast, energy, correlation, homogeneity. Directions were averaged into one value | T22: 1 | U22: 1 | V22: 0 | W22: 1 | X22: 1 | Y22: 1 | Z22: 0, 45, 90, 135 | AA22: Averaged over 4 directions | AB22: Spectral features | AC22: Yes
A23: 2022/02/02 2:24:38 pm GMT+13 | B23: HSI0429 | C23: =INDEX('Extracted information'!G:G, MATCH(B23,'Extracted information'!A:A,0)) -> Peaches | D23: =INDEX('Extracted information'!H:H, MATCH(B23,'Extracted information'!A:A,0)) -> Classification | E23: =INDEX('Extracted information'!I:I, MATCH(B23,'Extracted information'!A:A,0)) -> 400-1000 | F23: =INDEX('Extracted information'!J:J, MATCH(B23,'Extracted information'!A:A,0)) -> ImSpector V10E | L23: 1 | M23: GLCM | N23: Feature level | O23: 0 | Q23: PCA | R23: First PC image | S23: Energy (ENE), contrast (CON), entropy (ENT), and inverse difference (INV) were extracted from four directions (0â—¦, 45, 90, 135) Histogram counts of 32 bins were extracted from the first principal component image. Thus, there were total 54 parameters extracted from one sample, 6 color features, 16 from GLCM, and 32 from histogram counts. | T23: 1 | U23: 1 | V23: 1 | W23: 0 | X23: 1 | Y23: Not stated | Z23: 0, 45, 90, 135 | AA23: Not averaged | AB23: Spectral features | AC23: Yes
A24: 2022/02/02 2:35:40 pm GMT+13 | B24: HSI0436 | C24: =INDEX('Extracted information'!G:G, MATCH(B24,'Extracted information'!A:A,0)) -> Jujubes | D24: =INDEX('Extracted information'!H:H, MATCH(B24,'Extracted information'!A:A,0)) -> Classification | E24: =INDEX('Extracted information'!I:I, MATCH(B24,'Extracted information'!A:A,0)) -> 430-1023 | F24: =INDEX('Extracted information'!J:J, MATCH(B24,'Extracted information'!A:A,0)) -> ImSpector V10E | L24: 1 | M24: GLCM | N24: Feature level | O24: 1 | P24: Before | Q24: Optimal wavelengths | R24: Optimal wavelengths | S24: Contrast, homogeneity, energy, and correlation (No other information) | T24: 1 | U24: 1 | V24: 0 | W24: 1 | X24: 1 | Y24: Not stated | Z24: Not stated | AA24: Not stated | AB24: Not compared individually or inconclusive | AC24: No
A25: 2022/02/02 2:42:38 pm GMT+13 | B25: HSI0439 | C25: =INDEX('Extracted information'!G:G, MATCH(B25,'Extracted information'!A:A,0)) -> Lychee | D25: =INDEX('Extracted information'!H:H, MATCH(B25,'Extracted information'!A:A,0)) -> Classification | E25: =INDEX('Extracted information'!I:I, MATCH(B25,'Extracted information'!A:A,0)) -> 450-850 | F25: =INDEX('Extracted information'!J:J, MATCH(B25,'Extracted information'!A:A,0)) -> Hyper SIS VNIR | L25: 1 | M25: GLCM | N25: Feature level | O25: 1 | P25: Before | Q25: Optimal wavelengths | R25: Single selected wavelength from PC3 loadings | S25: Contrast, correlation, energy, homogeneity, variance, mean value (the mean value can express the color characteristics of the image) and entropy. Mean is just average of ROI | T25: 1 | U25: 1 | V25: 1 | W25: 1 | X25: 1 | Y25: Not stated | Z25: Not stated | AA25: Not stated | AB25: Not compared individually or inconclusive
A26: 2022/02/02 2:46:54 pm GMT+13 | B26: HSI0443 | C26: =INDEX('Extracted information'!G:G, MATCH(B26,'Extracted information'!A:A,0)) -> Chicken | D26: =INDEX('Extracted information'!H:H, MATCH(B26,'Extracted information'!A:A,0)) -> Classification | E26: =INDEX('Extracted information'!I:I, MATCH(B26,'Extracted information'!A:A,0)) -> 400-1000 | F26: =INDEX('Extracted information'!J:J, MATCH(B26,'Extracted information'!A:A,0)) -> ImSpector V10E | L26: 1 | M26: GLCM | N26: Feature level | O26: 0 | Q26: PCA | R26: PC1 image | S26: Contrast, correlation, energy, and homogeneity. Five distances from 1 to 5 pixels and four directions (0, 45, 90, and 135) were chosen in this research to calculate textural variables. The texture data resulting from five distances were averaged into one value in each direction (0, 45, 90, and 135). Therefore, a total 16 textural variables (four angles of each textural feature) were obtained from the first PC score image. | T26: 1 | U26: 1 | V26: 0 | W26: 1 | X26: 1 | Y26: 1 to 5 | Z26: 0, 45, 90, 135 | AA26: Averaged over 4 distances | AB26: Spectral features | AC26: Yes
A27: 2022/02/02 3:09:02 pm GMT+13 | B27: HSI0450 | C27: =INDEX('Extracted information'!G:G, MATCH(B27,'Extracted information'!A:A,0)) -> Pork | D27: =INDEX('Extracted information'!H:H, MATCH(B27,'Extracted information'!A:A,0)) -> Regression | E27: =INDEX('Extracted information'!I:I, MATCH(B27,'Extracted information'!A:A,0)) -> 400-1000 | F27: =INDEX('Extracted information'!J:J, MATCH(B27,'Extracted information'!A:A,0)) -> HyperSpec VNIR | H27: 1 | M27: 2D Gabor filters | N27: Feature level | O27: 1 | P27: Before: single texture band, feature selection after | Q27: Full, Optimal wavelengths | R27: Optimal wavelengths | S27: Sigma is set as 1 and f is set as 16. Textural features can be expressed effectively by using mean intensity. The mean intensity of the four directions angle = 0, 1/4 pi, 1/2 pi, 3/4 pi was obtained as features. 4 textural features + entropy + mean = 6 total. Optimal was 7 wavelengths. | AB27: Texture features | AC27: Yes
A28: 2022/02/02 6:17:10 pm GMT+13 | B28: HSI0452 | C28: =INDEX('Extracted information'!G:G, MATCH(B28,'Extracted information'!A:A,0)) -> Pears | D28: =INDEX('Extracted information'!H:H, MATCH(B28,'Extracted information'!A:A,0)) -> Classification, Regression | E28: =INDEX('Extracted information'!I:I, MATCH(B28,'Extracted information'!A:A,0)) -> 425-1000 | F28: =INDEX('Extracted information'!J:J, MATCH(B28,'Extracted information'!A:A,0)) -> ImSpector V10E | L28: 1 | M28: GLCM | N28: Feature level | O28: 0 | Q28: False RGB | R28: Fake RGB images | S28: (0Â°, 45Â°, 90Â°, and 135Â°) contrast, homogeneity, energy, and correlation. Distance not stated. | T28: 1 | U28: 1 | V28: 0 | W28: 1 | X28: 1 | Y28: Not stated | Z28: 0, 45, 90, 135 | AA28: Not stated | AB28: Spectral features | AC28: Yes
A29: 2022/02/02 6:32:32 pm GMT+13 | B29: HSI0484 | C29: =INDEX('Extracted information'!G:G, MATCH(B29,'Extracted information'!A:A,0)) -> Tea leaves | D29: =INDEX('Extracted information'!H:H, MATCH(B29,'Extracted information'!A:A,0)) -> Classification | E29: =INDEX('Extracted information'!I:I, MATCH(B29,'Extracted information'!A:A,0)) -> 400-1000 | F29: =INDEX('Extracted information'!J:J, MATCH(B29,'Extracted information'!A:A,0)) -> ImSpector V10E | L29: 1 | M29: GLCM | N29: Feature level | O29: 1 | P29: Before | Q29: Optimal wavelengths | R29: Optimal wavelengths | S29: (0Â°, 45Â°, 90Â°, and 135Â°) contrast, correlation, energy, and homogeneity total 64 textural features. | T29: 1 | U29: 1 | V29: 0 | W29: 1 | X29: 1 | Y29: 1 | Z29: 0, 45, 90, 135 | AA29: Not averaged | AB29: Texture features | AC29: Yes
A30: 2022/02/02 6:43:46 pm GMT+13 | B30: HSI0492 | C30: =INDEX('Extracted information'!G:G, MATCH(B30,'Extracted information'!A:A,0)) -> Tobacco leaves | D30: =INDEX('Extracted information'!H:H, MATCH(B30,'Extracted information'!A:A,0)) -> Classification | E30: =INDEX('Extracted information'!I:I, MATCH(B30,'Extracted information'!A:A,0)) -> 450-1000 | F30: =INDEX('Extracted information'!J:J, MATCH(B30,'Extracted information'!A:A,0)) -> ImSpector V10E | L30: 1 | M30: GLCM | N30: Feature level | O30: 1 | P30: Before:SPA | Q30: Optimal wavelengths | R30: Feature wavelengths | S30: Contrast, correlation, entropy, homogeneity. 4*8 wavelengths texture features. (Î¸=0Â°, 45Â°, 90Â° and 135Â°) d=1. Averaged over 4 directions. | T30: 1 | U30: 1 | V30: 1 | W30: 1 | X30: 0 | Y30: 1 | Z30: 0, 45, 90, 135 | AA30: Averaged over 4 directions | AB30: Spectral features | AC30: No
A31: 2022/02/02 6:53:45 pm GMT+13 | B31: HSI0498 | C31: =INDEX('Extracted information'!G:G, MATCH(B31,'Extracted information'!A:A,0)) -> Sea cucumber | D31: =INDEX('Extracted information'!H:H, MATCH(B31,'Extracted information'!A:A,0)) -> Regression | E31: =INDEX('Extracted information'!I:I, MATCH(B31,'Extracted information'!A:A,0)) -> 400-1000 | F31: =INDEX('Extracted information'!J:J, MATCH(B31,'Extracted information'!A:A,0)) -> ImSpector V10E | G31: 1 | I31: 1 | L31: 1 | M31: LBP, GLGCM, GLCM | N31: Feature level | O31: 1 | P31: Before: Optimal ratio | Q31: Optimal ratio | R31: Optimal band ratio | S31: GLCM: 0, 45, 90, 135. d=1, Contrast, energy, entropy, correlation Gray gradient co-occurrence matrix: small gradient advantage, inverse difference moment, gray level distribution non-uniformity, gradient distribution nonuniformity, energy. LBP: 10 uniform values. | T31: 0 | U31: 1 | V31: 1 | W31: 1 | X31: 1 | Y31: 1 | Z31: 0, 45, 90, 135 | AA31: Averaged over 4 directions | AB31: Not compared individually or inconclusive
A32: 2022/02/02 8:53:38 pm GMT+13 | B32: HSI0502 | C32: =INDEX('Extracted information'!G:G, MATCH(B32,'Extracted information'!A:A,0)) -> Pork | D32: =INDEX('Extracted information'!H:H, MATCH(B32,'Extracted information'!A:A,0)) -> Classification | E32: =INDEX('Extracted information'!I:I, MATCH(B32,'Extracted information'!A:A,0)) -> 399-999 | F32: =INDEX('Extracted information'!J:J, MATCH(B32,'Extracted information'!A:A,0)) -> ImSpector V10E | H32: 1 | M32: Gabor function | N32: Feature level | O32: 1 | P32: Before: eight wavelengths | Q32: Optimal wavelengths | R32: Optimal wavelengths | S32: Scale v=3, eight directions of the center frequency. Sigma = 5. 8 Gabor filters at 8 optimal wavelengths (64) | AB32: Not compared individually or inconclusive
A33: 2022/02/02 9:24:00 pm GMT+13 | B33: HSI0505 | C33: =INDEX('Extracted information'!G:G, MATCH(B33,'Extracted information'!A:A,0)) -> Rice leaves | D33: =INDEX('Extracted information'!H:H, MATCH(B33,'Extracted information'!A:A,0)) -> Classification | E33: =INDEX('Extracted information'!I:I, MATCH(B33,'Extracted information'!A:A,0)) -> 480-1000 | F33: =INDEX('Extracted information'!J:J, MATCH(B33,'Extracted information'!A:A,0)) -> ImSpector V10E | L33: 1 | M33: GLCM | N33: Feature level | O33: 0 | Q33: PCA | R33: First two PC images | S33: Mean, variance, homogeneity, contrast, dissimilarity, entropy, second moment, and correlation. 16 features, 8 per image. | T33: 1 | U33: 1 | V33: 1 | W33: 1 | X33: 1 | Y33: Not stated | Z33: Not stated | AA33: Not stated | AB33: Spectral features | AC33: Yes
A34: 2022/02/02 9:53:26 pm GMT+13 | B34: HSI0537 | C34: =INDEX('Extracted information'!G:G, MATCH(B34,'Extracted information'!A:A,0)) -> Beef | D34: =INDEX('Extracted information'!H:H, MATCH(B34,'Extracted information'!A:A,0)) -> Regression, Distribution | E34: =INDEX('Extracted information'!I:I, MATCH(B34,'Extracted information'!A:A,0)) -> 400-1000 | F34: =INDEX('Extracted information'!J:J, MATCH(B34,'Extracted information'!A:A,0)) -> ImSpector V10E | K34: 1 | M34: Discrete cosine transformation | N34: Feature level | O34: 0 | Q34: PCA | R34: PC1, 2, 3 | S34: DCT on 3 PC images to decompose into 16 sub images. Select the first 10, so 10*3 texture variables. | AB34: Spectral features | AC34: Yes
A35: 2022/02/02 9:58:03 pm GMT+13 | B35: HSI0540 | C35: =INDEX('Extracted information'!G:G, MATCH(B35,'Extracted information'!A:A,0)) -> Grass carp | D35: =INDEX('Extracted information'!H:H, MATCH(B35,'Extracted information'!A:A,0)) -> Regression | E35: =INDEX('Extracted information'!I:I, MATCH(B35,'Extracted information'!A:A,0)) -> 400-1000 | F35: =INDEX('Extracted information'!J:J, MATCH(B35,'Extracted information'!A:A,0)) -> ImSpector V10E | I35: 1 | M35: GLGCM | N35: Feature level | O35: 0 | Q35: PCA and features were selected | R35: PC1 image | S35: a total of 13 second-order statistical textural variables (small grads dominance (T1), big grads dominance (T2), energy (T3), inertia (T4), gray entropy (T5), grads entropy (T6), hybrid entropy (T7), gray mean (Î¼1), grads mean (Î¼2), gray standard deviation (âˆ‚1), grads standard deviation (âˆ‚2), correlation (T8) and inverse difference moment (T9)) were extracted from the PC1 image | AB35: Not compared individually or inconclusive | AC35: Yes
A36: 2022/02/03 8:51:37 am GMT+13 | B36: HSI0558 | C36: =INDEX('Extracted information'!G:G, MATCH(B36,'Extracted information'!A:A,0)) -> Pork | D36: =INDEX('Extracted information'!H:H, MATCH(B36,'Extracted information'!A:A,0)) -> Regression, Distribution | E36: =INDEX('Extracted information'!I:I, MATCH(B36,'Extracted information'!A:A,0)) -> 400-1000 | F36: =INDEX('Extracted information'!J:J, MATCH(B36,'Extracted information'!A:A,0)) -> ImSpector V10E | I36: 1 | M36: GLGCM | N36: Feature level | O36: 0 | Q36: PCA | R36: first two PC images | S36: 15 textural parameters. Captures the second order statistics of gray level gradients. Gray mean, grads mean, gray standard deviation, grads standard deviation, small grads dominance, big grads dominance, gray asymmetry, grad asymmetry, energy, correlation, gray entropy, grads entropy, hybrid entropy, inertia, and inverse difference moment | AB36: Spectral features | AC36: Yes
A37: 2022/02/03 9:07:04 am GMT+13 | B37: HSI0559 | C37: =INDEX('Extracted information'!G:G, MATCH(B37,'Extracted information'!A:A,0)) -> Salmon | D37: =INDEX('Extracted information'!H:H, MATCH(B37,'Extracted information'!A:A,0)) -> Classification, Distribution | E37: =INDEX('Extracted information'!I:I, MATCH(B37,'Extracted information'!A:A,0)) -> 900-1700 | F37: =INDEX('Extracted information'!J:J, MATCH(B37,'Extracted information'!A:A,0)) -> ImSpector N17E | G37: 1 | M37: LBP | N37: Not combined | O37: 0 | Q37: RGB | R37: True RGB images | S37: Multi-dimensional feature vector, in our case, 243-dimensional feature vector was successfully obtained. | AB37: Spectral features
A38: 2022/02/03 9:13:16 am GMT+13 | B38: HSI0574 | C38: =INDEX('Extracted information'!G:G, MATCH(B38,'Extracted information'!A:A,0)) -> Chinese cabbage | D38: =INDEX('Extracted information'!H:H, MATCH(B38,'Extracted information'!A:A,0)) -> Classification | E38: =INDEX('Extracted information'!I:I, MATCH(B38,'Extracted information'!A:A,0)) -> 420-1030 | F38: =INDEX('Extracted information'!J:J, MATCH(B38,'Extracted information'!A:A,0)) -> ImSpector V10E | L38: 1 | M38: GLCM | N38: No fusion | O38: 1 | P38: Before: PC loadings | Q38: Optimal wavelengths | R38: Six optimal wavelengths | S38: Î¸ = 0Â°, 45Â°, 90Â°, and 135Â°, d = 1. Contrast, correlation, energy, and homogeneity. Gray level 64. 96 textural features (4 textural features Ã— 4 angles Ã— 6 wavelengths) | T38: 1 | U38: 1 | V38: 0 | W38: 1 | X38: 1 | Y38: 1 | Z38: 0, 45, 90, 135 | AA38: Not averaged | AB38: Not compared individually or inconclusive
A39: 2022/02/02 10:59:53 pm GMT+13 | B39: HSI0591 | C39: =INDEX('Extracted information'!G:G, MATCH(B39,'Extracted information'!A:A,0)) -> Apples | D39: =INDEX('Extracted information'!H:H, MATCH(B39,'Extracted information'!A:A,0)) -> Regression | E39: =INDEX('Extracted information'!I:I, MATCH(B39,'Extracted information'!A:A,0)) -> 400-1000 | F39: =INDEX('Extracted information'!J:J, MATCH(B39,'Extracted information'!A:A,0)) -> ImSpector V10E | L39: 1 | M39: GLCM | N39: Feature level | O39: 0 | Q39: All | R39: All wavelengths | S39: Entropy, energy, correlation, contrast, homogeneity. (0, 45, 90, 135) d = 1. 64 grey levels. Averaged over angles. | T39: 1 | U39: 1 | V39: 1 | W39: 1 | X39: 1 | Y39: 1 | Z39: 0, 45, 90, 135 | AA39: Averaged over 4 directions | AB39: Spectral features | AC39: Yes
A40: 2022/02/03 9:39:00 am GMT+13 | B40: HSI0610 | C40: =INDEX('Extracted information'!G:G, MATCH(B40,'Extracted information'!A:A,0)) -> Citrus leaves | D40: =INDEX('Extracted information'!H:H, MATCH(B40,'Extracted information'!A:A,0)) -> Classification | E40: =INDEX('Extracted information'!I:I, MATCH(B40,'Extracted information'!A:A,0)) -> 410-1000 | F40: =INDEX('Extracted information'!J:J, MATCH(B40,'Extracted information'!A:A,0)) -> ImSpector V10E | J40: 1 | L40: 1 | M40: GLCM, normalized histogram of gray level | N40: Feature level (Pixel level?) | O40: 1 | P40: Before: selected by SPA | Q40: PCA, Optimal wavelengths | R40: Second PC image, four wavelengths selected by SPA | S40: Extracted from gray-level histogram and GLCM. 60 features from four gray images. Selected the top 10 and 4 features based on contributions. 10 Features worked better. Normalized histogram of gray level: mean, variance, skewness, kurtosis, energy, entropy. Describes statistical information in pixels gray distribution. No spatial information. GLCM: mean, variance, correction (?), contrast, uniformity, entropy, homogeneity, dissimilar, maximum probability. N=64 | T40: 1 | U40: 1 | V40: 1 | W40: 1 | X40: 1 | Y40: Not stated | Z40: Not stated | AA40: Not stated | AB40: Spectral features | AC40: Yes
...

Sheet Excel outputs
B2: Analysis | Y2: PRISMA Identification of studies
Y3: Records identified from SCOPUS | AC3: =N8 -> 1229
B4: What areas do these come from? | M4: Filtering of papers | Y4: Records removed before screening | AC4: =AC5+AC6 -> 4
B5: Fruit/vegetables | C5: =COUNTIF(Table1[Area], "Fruit/vegetables") -> 222 | M5: Unaccessable | N5: 14 | Y5: Duplicates | AC5: =C38 -> 2
B6: Meat products | C6: =COUNTIF(Table1[Area], "Meat science") -> 192 | M6: Excluded through criteria | N6: =COUNT(Table4[Year]) -> 416 | Y6: Other non-papers removed | AC6: =C39 -> 2
B7: Other food products | C7: =COUNTIF(Table1[Area], "Other food products") -> 192 | M7: Included | N7: =COUNTA('Extracted information'!D2:D9980) -> 799
B8: Plants | C8: =COUNTIF(Table1[Area], "Plants") -> 101 | M8: Total | N8: 1229 | Y8: Records screened | AC8: =AC3-AC4 -> 1225
B9: Seeds | C9: =COUNTIF(Table1[Area], "Seeds") -> 25 | Y9: Records excluded before reading (Reviews) | AC9: =C40 -> 17
B10: Remote sensing | C10: =COUNTIF(Table1[Area], "Remote sensing") -> 27
B11: Medical imaging | C11: =COUNTIF(Table1[Area], "Medical imaging") -> 6 | Y11: Reports sought for retrieval | AC11: =AC8-AC9 -> 1208
B12: Other | C12: =COUNTIF(Table1[Area], "Other") -> 34 | Y12: Records not retrieved | AC12: =N5 -> 14
B13: Total | C13: =SUM(C5:C12) -> 799
Y14: Reports assessed for eligibility | AC14: =AC11-AC12 -> 1194
Y15: Reports excluded | AC15: =SUM(AC16:AC19) -> 395
B16: What measurements are used | Y16: Not hyperspectral imaging | AC16: =C36 -> 100
B17: Spectra averaged over ROI | C17: =COUNTIF(Table1[Sampling method], "Averaged over ROI") -> 698 | Y17: Wavelength selection criteria did not meet criteria | AC17: =C34 -> 156
B18: Spectra treated as independent pixels | C18: =COUNTIF(Table1[Sampling method], "Per pixel") -> 31 | Y18: Describes a novel sensor or system without relevant experimentation | AC18: =C35 -> 88
B19: Not clearly specified | C19: =COUNTIF(Table1[Sampling method], "Not stated")+COUNTIF(Table1[Sampling method], "Not applicable") -> 54 | M19: How often are spatial features considered | Y19: Insufficient methodology or empirical results | AC19: =C37 -> 51
B20: Both | C20: =COUNTIF(Table1[Sampling method], "Both") -> 10 | M20: Only uses spectral features | N20: =COUNTIF(Table1[[Data fusion ]], "No") -> 706
B21: Total | C21: =SUM(C17:C20) -> 793 | M21: Uses spatial and spectral features | N21: =COUNTIF(Table1[[Data fusion ]], "Yes") -> 93 | O21: =N21/N22 -> 0.11639549 | Y21: Studies included in the review | AC21: =AC14-AC15 -> 799 | AD21: =N7 -> 799
M22: Total | N22: =SUM(N20:N21) -> 799 | Y22: Studies using texture written in english | AC22: =N39 -> 71
B33: Why were papers excluded | M33: Language of publication
B34: Wavelength selection | C34: =COUNTIF('Excluded Studies'!E:E, B34) -> 156 | M34: English | N34: =COUNTIFS(Table1[Language], M34, Table1[Area], "*") -> 646
B35: System | C35: =COUNTIF('Excluded Studies'!E:E, B35) -> 88 | M35: Chinese | N35: =COUNTIFS(Table1[Language], M35, Table1[Area], "*") -> 149
B36: Multispectral | C36: =COUNTIF('Excluded Studies'!E:E, B36) -> 100 | M36: Other | N36: =N22-N35-N34 -> 4
B37: Empirical results | C37: =COUNTIF('Excluded Studies'!E:E, B37) -> 51 | D37: =SUM(C34:C37) -> 395 | M37: Total | N37: =SUM(N34:N36) -> 799
B38: Duplicate | C38: =COUNTIF('Excluded Studies'!E:E, B38) -> 2
B39: Other | C39: =COUNTIF('Excluded Studies'!E:E, B39) -> 2 | M39: English Spatial features | N39: =COUNTIF(Table1[[Data fusion ]], "Yes") - COUNTIFS(Table1[Language], M35, Table1[[Data fusion ]], "Yes") -> 71
B40: Review | C40: =COUNTIF('Excluded Studies'!E:E, B40) -> 17
B41: Total | C41: =SUM(C34:C40) -> 416
B48: What camera is used | C48: Counts | D48: VNIR | E48: NIR | F48: SWIR | G48: Not applicable | H48: Column3
B49: ImSpector V10E | C49: 344 | D49: =IF(Table2[[#This Row],[Column3]]="VNIR", Table2[[#This Row],[Counts]],"") -> 344 | E49: =IF(Table2[[#This Row],[Column3]]="NIR", Table2[[#This Row],[Counts]],"") | F49: =IF(Table2[[#This Row],[Column3]]="SWIR", Table2[[#This Row],[Counts]],"") | G49: =IF(Table2[[#This Row],[Column3]]="Gray", Table2[[#This Row],[Counts]],"") | H49: VNIR | V49: Column1 | W49: Column2
B50: ImSpector N17E | C50: 128 | D50: =IF(Table2[[#This Row],[Column3]]="VNIR", Table2[[#This Row],[Counts]],"") | E50: =IF(Table2[[#This Row],[Column3]]="NIR", Table2[[#This Row],[Counts]],"") -> 128 | F50: =IF(Table2[[#This Row],[Column3]]="SWIR", Table2[[#This Row],[Counts]],"") | G50: =IF(Table2[[#This Row],[Column3]]="Gray", Table2[[#This Row],[Counts]],"") | H50: NIR | V50: HyperSISVNIR | W50: 9
B51: Other | C51: 109 | D51: =IF(Table2[[#This Row],[Column3]]="VNIR", Table2[[#This Row],[Counts]],"") | E51: =IF(Table2[[#This Row],[Column3]]="NIR", Table2[[#This Row],[Counts]],"") | F51: =IF(Table2[[#This Row],[Column3]]="SWIR", Table2[[#This Row],[Counts]],"") | G51: =IF(Table2[[#This Row],[Column3]]="Gray", Table2[[#This Row],[Counts]],"") -> 109 | H51: Gray | V51: HyperSpecNIR | W51: 8
B52: Not stated | C52: 81 | D52: =IF(Table2[[#This Row],[Column3]]="VNIR", Table2[[#This Row],[Counts]],"") | E52: =IF(Table2[[#This Row],[Column3]]="NIR", Table2[[#This Row],[Counts]],"") | F52: =IF(Table2[[#This Row],[Column3]]="SWIR", Table2[[#This Row],[Counts]],"") | G52: =IF(Table2[[#This Row],[Column3]]="Gray", Table2[[#This Row],[Counts]],"") -> 81 | H52: Gray | V52: HyperSpecSWIR | W52: 15
B53: HyperSpec VNIR | C53: 35 | D53: =IF(Table2[[#This Row],[Column3]]="VNIR", Table2[[#This Row],[Counts]],"") -> 35 | E53: =IF(Table2[[#This Row],[Column3]]="NIR", Table2[[#This Row],[Counts]],"") | F53: =IF(Table2[[#This Row],[Column3]]="SWIR", Table2[[#This Row],[Counts]],"") | G53: =IF(Table2[[#This Row],[Column3]]="Gray", Table2[[#This Row],[Counts]],"") | H53: VNIR | V53: HyperSpecVNIR | W53: 35
B54: ImSpector N25E | C54: 29 | D54: =IF(Table2[[#This Row],[Column3]]="VNIR", Table2[[#This Row],[Counts]],"") | E54: =IF(Table2[[#This Row],[Column3]]="NIR", Table2[[#This Row],[Counts]],"") | F54: =IF(Table2[[#This Row],[Column3]]="SWIR", Table2[[#This Row],[Counts]],"") -> 29 | G54: =IF(Table2[[#This Row],[Column3]]="Gray", Table2[[#This Row],[Counts]],"") | H54: SWIR | V54: HySpexSWIR384 | W54: 7
B55: SOC710 | C55: 27 | E55: =IF(Table2[[#This Row],[Column3]]="NIR", Table2[[#This Row],[Counts]],"") | F55: =IF(Table2[[#This Row],[Column3]]="SWIR", Table2[[#This Row],[Counts]],"") | G55: =IF(Table2[[#This Row],[Column3]]="VNIR", Table2[[#This Row],[Counts]],"") -> 27 | H55: VNIR | V55: Image-λ | W55: 14
B56: HyperSpec SWIR | C56: 15 | D56: =IF(Table2[[#This Row],[Column3]]="VNIR", Table2[[#This Row],[Counts]],"") | E56: =IF(Table2[[#This Row],[Column3]]="NIR", Table2[[#This Row],[Counts]],"") | F56: =IF(Table2[[#This Row],[Column3]]="SWIR", Table2[[#This Row],[Counts]],"") -> 15 | G56: =IF(Table2[[#This Row],[Column3]]="Gray", Table2[[#This Row],[Counts]],"") | H56: SWIR | V56: ImSpectorN17E | W56: 128
B57: Image-λ | C57: 14 | D57: =IF(Table2[[#This Row],[Column3]]="VNIR", Table2[[#This Row],[Counts]],"") | E57: =IF(Table2[[#This Row],[Column3]]="NIR", Table2[[#This Row],[Counts]],"") | F57: =IF(Table2[[#This Row],[Column3]]="SWIR", Table2[[#This Row],[Counts]],"") | G57: =IF(Table2[[#This Row],[Column3]]="Gray", Table2[[#This Row],[Counts]],"") -> 14 | H57: Gray | V57: ImSpectorN25E | W57: 29
...

Sheet Excluded Studies
A1: Code | B1: Authors | C1: Title | D1: Year | E1: Exclusion criteria
A2: HSI0571 | B2: Sawyer T.W., Bohndiek S.E. | C2: Towards a simulation framework to maximize the resolution of biomedical hyperspectral imaging | D2: 2017 | E2: Duplicate
A3: HSIX031 | B3: Kääriäinen T., Dönsberg T. | C3: Active hyperspectral imager based on a supercontinuum laser and a MEMS Fabry-Pérot interferometer | D3: 2022 | E3: Duplicate
A4: HSI0004 | B4: Wang X., Wang T., Zheng Y., Yin X. | C4: Hyperspectral-attention mechanism-based improvement of radiomics prediction method for primary liver cancer | D4: 2021 | E4: Empirical results
A5: HSI0026 | B5: Martin T., Drissen L., Prunet S. | C5: Data reduction and calibration accuracy of the imaging Fourier transform spectrometer SITELLE | D5: 2021 | E5: Empirical results
A6: HSI0103 | B6: Liu M., Zhang Z., Liu X., Yao J., Du T., Ma Y., Shi L. | C6: Discriminant analysis of the damage degree caused by pine shoot beetle to yunnan pine using UAV-based hyperspectral images | D6: 2020 | E6: Empirical results
A7: HSI0127 | B7: Abdulridha J., Ampatzidis Y., Kakarla S.C., Roberts P. | C7: Detection of target spot and bacterial spot diseases in tomato using UAV-based and benchtop-based hyperspectral imaging techniques | D7: 2020 | E7: Empirical results
A8: HSI0206 | B8: Hakola A.-M., Pölönen I. | C8: Minimal learning machine in hyperspectral imaging classification | D8: 2020 | E8: Empirical results
A9: HSI0210 | B9: Wang J., Krieger E., Zbur L., Gilligan J., Beideman R., Beckstead J., Klueva O., Conner M., Maney E., Treado P. | C9: Sprayed or soaked concealed drug detection using swir hyperspectral imaging | D9: 2020 | E9: Empirical results
A10: HSI0213 | B10: Chauvin J., Vasefi F., Tavakolian K., Akhbardeh A., MacKinnon N., Qin J., Chan D.E., Kim M.S. | C10: Reconstruction of hyperspectral spectra of fish fillets using multi-wavelength imaging and point spectroscopy | D10: 2020 | E10: Empirical results
