Workbook

Sheet Original
B2: Most | F2: Least | J2: National
A3: IMR | B3: Q1 | C3: Q2 | D3: Q3 | E3: Q4 | F3: Q5 | G3: National | J3: Year | K3: IMR | L3: LE | N3: Figure 1 in the paper
A4: 2000 | B4: =B50/B27*1000 -> 6.8503989 | C4: =C50/C27*1000 -> 5.2595874 | D4: =D50/D27*1000 -> 4.0021064 | E4: =E50/E27*1000 -> 3.7667902 | F4: =F50/F27*1000 -> 3.3281701 | G4: =G50/G27*1000 -> 4.8740704 | J4: 2000 | K4: =G50/G27*1000 -> 4.8740704 | L4: 78.529378
A5: 2001 | B5: =B51/B28*1000 -> 6.7875835 | C5: =C51/C28*1000 -> 4.9783257 | D5: =D51/D28*1000 -> 4.2527043 | E5: =E51/E28*1000 -> 3.7746622 | F5: =F51/F28*1000 -> 3.0628855 | G5: =G51/G28*1000 -> 4.8136967 | J5: 2001 | K5: =G51/G28*1000 -> 4.8136967 | L5: 78.660796
A6: 2002 | B6: =B52/B29*1000 -> 6.864609 | C6: =C52/C29*1000 -> 5.0679133 | D6: =D52/D29*1000 -> 4.1360251 | E6: =E52/E29*1000 -> 3.6384566 | F6: =F52/F29*1000 -> 3.0400553 | G6: =G52/G29*1000 -> 4.8091665 | J6: 2002 | K6: =G52/G29*1000 -> 4.8091665 | L6: 78.73256
A7: 2003 | B7: =B53/B30*1000 -> 6.6334685 | C7: =C53/C30*1000 -> 4.8428798 | D7: =D53/D30*1000 -> 4.0077253 | E7: =E53/E30*1000 -> 3.2822541 | F7: =F53/F30*1000 -> 2.8929703 | G7: =G53/G30*1000 -> 4.5907358 | J7: 2003 | K7: =G53/G30*1000 -> 4.5907358 | L7: 78.852024
A8: 2004 | B8: =B54/B31*1000 -> 6.0613654 | C8: =C54/C31*1000 -> 5.1397587 | D8: =D54/D31*1000 -> 4.1357085 | E8: =E54/E31*1000 -> 3.631745 | F8: =F54/F31*1000 -> 2.8964072 | G8: =G54/G31*1000 -> 4.6005237 | J8: 2004 | K8: =G54/G31*1000 -> 4.6005237 | L8: 79.1899
A9: 2005 | B9: =B55/B32*1000 -> 6.3905339 | C9: =C55/C32*1000 -> 4.6425734 | D9: =D55/D32*1000 -> 3.6583454 | E9: =E55/E32*1000 -> 3.3421937 | F9: =F55/F32*1000 -> 3.0044099 | G9: =G55/G32*1000 -> 4.4748787 | J9: 2005 | K9: =G55/G32*1000 -> 4.4748787 | L9: 79.635592
A10: 2006 | B10: =B56/B33*1000 -> 5.6993682 | C10: =C56/C33*1000 -> 4.8296484 | D10: =D56/D33*1000 -> 4.0574624 | E10: =E56/E33*1000 -> 3.6276153 | F10: =F56/F33*1000 -> 3.04978 | G10: =G56/G33*1000 -> 4.4518711 | J10: 2006 | K10: =G56/G33*1000 -> 4.4518711 | L10: 79.925775
A11: 2007 | B11: =B57/B34*1000 -> 5.717152 | C11: =C57/C34*1000 -> 4.4468627 | D11: =D57/D34*1000 -> 3.489178 | E11: =E57/E34*1000 -> 3.1353135 | F11: =F57/F34*1000 -> 2.8993996 | G11: =G57/G34*1000 -> 4.1693852 | J11: 2007 | K11: =G57/G34*1000 -> 4.1693852 | L11: 80.129339
A12: 2008 | B12: =B58/B35*1000 -> 5.4832522 | C12: =C58/C35*1000 -> 4.8156881 | D12: =D58/D35*1000 -> 3.922319 | E12: =E58/E35*1000 -> 3.3475659 | F12: =F58/F35*1000 -> 2.9907944 | G12: =G58/G35*1000 -> 4.3237001 | J12: 2008 | K12: =G58/G35*1000 -> 4.3237001 | L12: 80.392258
A13: 2009 | B13: =B59/B36*1000 -> 5.2396015 | C13: =C59/C36*1000 -> 4.2545729 | D13: =D59/D36*1000 -> 3.4885157 | E13: =E59/E36*1000 -> 3.2430247 | F13: =F59/F36*1000 -> 2.8726653 | G13: =G59/G36*1000 -> 4.01345 | J13: 2009 | K13: =G59/G36*1000 -> 4.01345 | L13: 80.856553
A14: 2010 | B14: =B60/B37*1000 -> 4.9217167 | C14: =C60/C37*1000 -> 4.050838 | D14: =D60/D37*1000 -> 3.5068444 | E14: =E60/E37*1000 -> 3.0896169 | F14: =F60/F37*1000 -> 2.7993153 | G14: =G60/G37*1000 -> 3.8507752 | J14: 2010 | K14: =G60/G37*1000 -> 3.8507752 | L14: 81.037069
A15: 2011 | B15: =B61/B38*1000 -> 4.75172 | C15: =C61/C38*1000 -> 3.9962036 | D15: =D61/D38*1000 -> 3.2699256 | E15: =E61/E38*1000 -> 2.9852352 | F15: =F61/F38*1000 -> 2.5707986 | G15: =G61/G38*1000 -> 3.6980031 | J15: 2011 | K15: =G61/G38*1000 -> 3.6980031 | L15: 81.286398
... A23: 2019 | B23: =B69/B46*1000 -> 4.6788359 | C23: =C69/C46*1000 -> 3.6648986 | D23: =D69/D46*1000 -> 3.1152911 | E23: =E69/E46*1000 -> 2.6821994 | F23: =F69/F46*1000 -> 2.7092526 | G23: =G69/G46*1000 -> 3.5209921 | J23: 2019 | K23: =G69/G46*1000 -> 3.5209921 | L23: 81.041094
A26: Births | B26: Q1 | C26: Q2 | D26: Q3 | E26: Q4 | F26: Q5 | G26: Total
A27: 2000 | B27: 151670 | C27: 119401 | D27: 104445 | E27: 96634 | F27: 95548 | G27: =SUM(B27:F27) -> 567698
A28: 2001 | B28: 151895 | C28: 118112 | D28: 102523 | E28: 94578 | F28: 93376 | G28: =SUM(B28:F28) -> 560484
A29: 2002 | B29: 156746 | C29: 122141 | D29: 105657 | E29: 97294 | F29: 95393 | G29: =SUM(B29:F29) -> 577231
A30: 2003 | B30: 162057 | C30: 128023 | D30: 110287 | E30: 101150 | F30: 98169 | G30: =SUM(B30:F30) -> 599686
A31: 2004 | B31: 167619 | C31: 130940 | D31: 111710 | E31: 100778 | F31: 97362 | G31: =SUM(B31:F31) -> 608409
A32: 2005 | B32: 172912 | C32: 135916 | D32: 114806 | E32: 102328 | F32: 98189 | G32: =SUM(B32:F32) -> 624151
A33: 2006 | B33: 177739 | C33: 140797 | D33: 118547 | E33: 105579 | F33: 100663 | G33: =SUM(B33:F33) -> 643325
A34: 2007 | B34: 185407 | C34: 148869 | D34: 125531 | E34: 109080 | F34: 102435 | G34: =SUM(B34:F34) -> 671322
A35: 2008 | B35: 184562 | C35: 149719 | D35: 125436 | E35: 108437 | F35: 98636 | G35: =SUM(B35:F35) -> 666790
A36: 2009 | B36: 185892 | C36: 153952 | D36: 129568 | E36: 108849 | F36: 99211 | G36: =SUM(B36:F36) -> 677472
A37: 2010 | B37: 189568 | C37: 157992 | D37: 132883 | E37: 111017 | F37: 99310 | G37: =SUM(B37:F37) -> 690770
A38: 2011 | B38: 189826 | C38: 160152 | D38: 133948 | E38: 111549 | F38: 98413 | G38: =SUM(B38:F38) -> 693888
... A46: 2019 | B46: 158159 | C46: 137248 | D46: 118448 | E46: 99918 | F46: 87478 | G46: =SUM(B46:F46) -> 601251
A49: Deaths | B49: Q1 | C49: Q2 | D49: Q3 | E49: Q4 | F49: Q5 | G49: Total
A50: 2000 | B50: 1039 | C50: 628 | D50: 418 | E50: 364 | F50: 318 | G50: =SUM(B50:F50) -> 2767
A51: 2001 | B51: 1031 | C51: 588 | D51: 436 | E51: 357 | F51: 286 | G51: =SUM(B51:F51) -> 2698
A52: 2002 | B52: 1076 | C52: 619 | D52: 437 | E52: 354 | F52: 290 | G52: =SUM(B52:F52) -> 2776
A53: 2003 | B53: 1075 | C53: 620 | D53: 442 | E53: 332 | F53: 284 | G53: =SUM(B53:F53) -> 2753
A54: 2004 | B54: 1016 | C54: 673 | D54: 462 | E54: 366 | F54: 282 | G54: =SUM(B54:F54) -> 2799
A55: 2005 | B55: 1105 | C55: 631 | D55: 420 | E55: 342 | F55: 295 | G55: =SUM(B55:F55) -> 2793
A56: 2006 | B56: 1013 | C56: 680 | D56: 481 | E56: 383 | F56: 307 | G56: =SUM(B56:F56) -> 2864
A57: 2007 | B57: 1060 | C57: 662 | D57: 438 | E57: 342 | F57: 297 | G57: =SUM(B57:F57) -> 2799
A58: 2008 | B58: 1012 | C58: 721 | D58: 492 | E58: 363 | F58: 295 | G58: =SUM(B58:F58) -> 2883
A59: 2009 | B59: 974 | C59: 655 | D59: 452 | E59: 353 | F59: 285 | G59: =SUM(B59:F59) -> 2719
...

Sheet IMRs-Obs
A1: Observed rates from VS data
B2: Most | N2: Least
A3: Year | B3: Q1 | E3: Q2 | H3: Q3 | K3: Q4 | N3: Q5
A4: 2000 | B4: =Original!B4 -> 6.8503989 | E4: =Original!C4 -> 5.2595874 | H4: =Original!D4 -> 4.0021064 | K4: =Original!E4 -> 3.7667902 | N4: =Original!F4 -> 3.3281701
A5: 2001 | B5: =Original!B5 -> 6.7875835 | E5: =Original!C5 -> 4.9783257 | H5: =Original!D5 -> 4.2527043 | K5: =Original!E5 -> 3.7746622 | N5: =Original!F5 -> 3.0628855
A6: 2002 | B6: =Original!B6 -> 6.864609 | E6: =Original!C6 -> 5.0679133 | H6: =Original!D6 -> 4.1360251 | K6: =Original!E6 -> 3.6384566 | N6: =Original!F6 -> 3.0400553
A7: 2003 | B7: =Original!B7 -> 6.6334685 | E7: =Original!C7 -> 4.8428798 | H7: =Original!D7 -> 4.0077253 | K7: =Original!E7 -> 3.2822541 | N7: =Original!F7 -> 2.8929703
A8: 2004 | B8: =Original!B8 -> 6.0613654 | E8: =Original!C8 -> 5.1397587 | H8: =Original!D8 -> 4.1357085 | K8: =Original!E8 -> 3.631745 | N8: =Original!F8 -> 2.8964072
A9: 2005 | B9: =Original!B9 -> 6.3905339 | E9: =Original!C9 -> 4.6425734 | H9: =Original!D9 -> 3.6583454 | K9: =Original!E9 -> 3.3421937 | N9: =Original!F9 -> 3.0044099
A10: 2006 | B10: =Original!B10 -> 5.6993682 | E10: =Original!C10 -> 4.8296484 | H10: =Original!D10 -> 4.0574624 | K10: =Original!E10 -> 3.6276153 | N10: =Original!F10 -> 3.04978
A11: 2007 | B11: =Original!B11 -> 5.717152 | E11: =Original!C11 -> 4.4468627 | H11: =Original!D11 -> 3.489178 | K11: =Original!E11 -> 3.1353135 | N11: =Original!F11 -> 2.8993996
A12: 2008 | B12: =Original!B12 -> 5.4832522 | E12: =Original!C12 -> 4.8156881 | H12: =Original!D12 -> 3.922319 | K12: =Original!E12 -> 3.3475659 | N12: =Original!F12 -> 2.9907944
A13: 2009 | B13: =Original!B13 -> 5.2396015 | E13: =Original!C13 -> 4.2545729 | H13: =Original!D13 -> 3.4885157 | K13: =Original!E13 -> 3.2430247 | N13: =Original!F13 -> 2.8726653
A14: 2010 | B14: =Original!B14 -> 4.9217167 | E14: =Original!C14 -> 4.050838 | H14: =Original!D14 -> 3.5068444 | K14: =Original!E14 -> 3.0896169 | N14: =Original!F14 -> 2.7993153
A15: 2011 | B15: =Original!B15 -> 4.75172 | E15: =Original!C15 -> 3.9962036 | H15: =Original!D15 -> 3.2699256 | K15: =Original!E15 -> 2.9852352 | N15: =Original!F15 -> 2.5707986
... A23: 2019 | B23: =Original!B23 -> 4.6788359 | E23: =Original!C23 -> 3.6648986 | H23: =Original!D23 -> 3.1152911 | K23: =Original!E23 -> 2.6821994 | N23: =Original!F23 -> 2.7092526

Sheet IMR-Trends
A1: Modelled trends in rates
B2: Most | N2: Least
A3: Year | B3: FIT_Q1 | C3: LCL_Q1 | D3: UCL_Q1 | E3: FIT_Q2 | F3: LCL_Q2 | G3: UCL_Q2 | H3: FIT_Q3 | I3: LCL_Q3 | J3: UCL_Q3 | K3: FIT_Q4 | L3: LCL_Q4 | M3: UCL_Q4 | N3: FIT_Q5 | O3: LCL_Q5 | P3: UCL_Q5
A4: 2000 | B4: 7.0488852 | C4: 6.5664757 | D4: 7.5667351 | E4: 5.1947403 | F4: 4.6353692 | G4: 5.8216132 | H4: 4.1145255 | I4: 3.6615821 | J4: 4.6234987 | K4: 3.7322004 | L4: 3.3744729 | M4: 4.1278506 | N4: 3.0260101 | O4: 2.6623321 | P4: 3.4393671
A5: 2001 | B5: 6.8083593 | C5: 6.3509029 | D5: 7.2987663 | E5: 5.0474407 | F5: 4.5136264 | G5: 5.6443879 | H5: 4.022517 | I5: 3.5875908 | J5: 4.5101696 | K5: 3.6532108 | L5: 3.3093419 | M5: 4.0328106 | N5: 2.9747369 | O5: 2.6235538 | P5: 3.3729287
A6: 2002 | B6: 6.5760408 | C6: 6.1412685 | D6: 7.0415929 | E6: 4.9043179 | F6: 4.3937715 | G6: 5.4741887 | H6: 3.932566 | I6: 3.5140226 | J6: 4.4009606 | K6: 3.5758929 | L6: 3.2446128 | M6: 3.9409973 | N6: 2.9243325 | O6: 2.5844747 | P6: 3.3088816
A7: 2003 | B7: 6.3516496 | C7: 5.9373963 | D7: 6.7948054 | E7: 4.7652534 | F7: 4.2757597 | G7: 5.310785 | H7: 3.8446264 | I7: 3.4408595 | J7: 4.2957732 | K7: 3.5002115 | L7: 3.1802687 | M7: 3.8523413 | N7: 2.8747822 | O7: 2.5450815 | P7: 3.2471936
A8: 2004 | B8: 6.1349152 | C8: 5.7391252 | D8: 6.5580002 | E8: 4.6301322 | F8: 4.1595582 | G8: 5.1539426 | H8: 3.7586533 | I8: 3.3680929 | J8: 4.1945027 | K8: 3.4261317 | L8: 3.1162999 | M8: 3.766768 | N8: 2.8260714 | O8: 2.5053686 | P8: 3.1878262
A9: 2005 | B9: 5.9255763 | C9: 5.5463087 | D9: 6.3307789 | E9: 4.4988424 | F9: 4.0451475 | G9: 5.0034227 | H9: 3.6746028 | I9: 3.2957249 | J9: 4.0970366 | K9: 3.3536199 | L9: 3.0527053 | M9: 3.6841965 | N9: 2.778186 | O9: 2.4653389 | P9: 3.1307329
A10: 2006 | B10: 5.7233806 | C10: 5.3588153 | D10: 6.1127475 | E10: 4.3712754 | F10: 3.9325216 | G10: 4.8589811 | H10: 3.5924318 | I10: 3.2237687 | J10: 4.0032543 | K10: 3.2826427 | L10: 2.9894928 | M10: 3.6045389 | N10: 2.731112 | O10: 2.4250048 | P10: 3.075859
A11: 2007 | B11: 5.5280843 | C11: 5.1765278 | D11: 5.9035162 | E11: 4.2473256 | F11: 3.8216879 | G11: 4.7203683 | H11: 3.5120982 | I11: 3.1522491 | J11: 3.9130264 | K11: 3.2131676 | L11: 2.9266792 | M11: 3.5277 | N11: 2.6848356 | O11: 2.3843884 | P11: 3.023141
A12: 2008 | B12: 5.339452 | C12: 4.999342 | D12: 5.7026999 | E12: 4.1268905 | F12: 3.7126661 | G12: 4.58733 | H12: 3.4335611 | I12: 3.0812018 | J12: 3.8262156 | K12: 3.145163 | L12: 2.8642905 | M12: 3.453578 | N12: 2.6393433 | O12: 2.3435217 | P12: 2.9725064
A13: 2009 | B13: 5.1572563 | C13: 4.8271652 | D13: 5.5099198 | E13: 4.0098703 | F13: 3.6054868 | G13: 4.4596086 | H13: 3.3567803 | I13: 3.0106722 | J13: 3.7426771 | K13: 3.0785977 | L13: 2.8023604 | M13: 3.3820645 | N13: 2.5946219 | O13: 2.3024456 | P13: 2.9238748
A14: 2010 | B14: 4.9812776 | C14: 4.6599138 | D14: 5.3248038 | E14: 3.8961684 | F14: 3.5001893 | G14: 4.3369448 | H14: 3.2817163 | I14: 2.9407143 | J14: 3.6622606 | K14: 3.0134411 | L14: 2.7409297 | M14: 3.3130465 | N14: 2.5506582 | O14: 2.2612093 | P14: 2.8771583
A15: 2011 | B15: 4.8113038 | C15: 4.4975116 | D15: 5.1469894 | E15: 3.7856905 | F15: 3.3968189 | G15: 4.2190805 | H15: 3.208331 | I15: 2.8713886 | J15: 3.5848119 | K15: 2.9496636 | L15: 2.6800446 | M15: 3.2464069 | N15: 2.5074394 | O15: 2.2198683 | P15: 2.8322638
... A23: 2019 | B23: 3.644509 | C23: 3.3643273 | D23: 3.9480243 | E23: 3.0074901 | F23: 2.6446751 | G23: 3.4200786 | H23: 2.6773441 | I23: 2.3472019 | J23: 3.053922 | K23: 2.4857113 | L23: 2.218573 | M23: 2.7850157 | N23: 2.1870362 | O23: 1.892817 | P23: 2.5269888

Sheet Births
A1: Counts of births from the VS used as denominators in rates
A3: Births | B3: Q1 | E3: Q2 | H3: Q3 | K3: Q4 | N3: Q5
A4: 2000 | B4: 151670 | E4: 119401 | H4: 104445 | K4: 96634 | N4: 95548
A5: 2001 | B5: 151895 | E5: 118112 | H5: 102523 | K5: 94578 | N5: 93376
A6: 2002 | B6: 156746 | E6: 122141 | H6: 105657 | K6: 97294 | N6: 95393
A7: 2003 | B7: 162057 | E7: 128023 | H7: 110287 | K7: 101150 | N7: 98169
A8: 2004 | B8: 167619 | E8: 130940 | H8: 111710 | K8: 100778 | N8: 97362
A9: 2005 | B9: 172912 | E9: 135916 | H9: 114806 | K9: 102328 | N9: 98189
A10: 2006 | B10: 177739 | E10: 140797 | H10: 118547 | K10: 105579 | N10: 100663
A11: 2007 | B11: 185407 | E11: 148869 | H11: 125531 | K11: 109080 | N11: 102435
A12: 2008 | B12: 184562 | E12: 149719 | H12: 125436 | K12: 108437 | N12: 98636
A13: 2009 | B13: 185892 | E13: 153952 | H13: 129568 | K13: 108849 | N13: 99211
A14: 2010 | B14: 189568 | E14: 157992 | H14: 132883 | K14: 111017 | N14: 99310
A15: 2011 | B15: 189826 | E15: 160152 | H15: 133948 | K15: 111549 | N15: 98413
... A23: 2019 | B23: 158159 | E23: 137248 | H23: 118448 | K23: 99918 | N23: 87478

Sheet Excess
A1: Rates applied to births to estimate counts of infant deaths
A3: Year | B3: FIT_Q1 | C3: LCL_Q1 | D3: UCL_Q1 | E3: FIT_Q2 | F3: LCL_Q2 | G3: UCL_Q2 | H3: FIT_Q3 | I3: LCL_Q3 | J3: UCL_Q3 | K3: FIT_Q4 | L3: LCL_Q4 | M3: UCL_Q4 | N3: FIT_Q5 | O3: LCL_Q5 | P3: UCL_Q5
A4: 2000
A5: 2001
A6: 2002
A7: 2003
A8: 2004
A9: 2005
A10: 2006
A11: 2007
A12: 2008
A13: 2009
A14: 2010
A15: 2011
... A17: 2013
A18: 2014 | B18: ='IMR-Trends'!B18*Births!B18/1000 -> 778 | C18: ='IMR-Trends'!C18*Births!B18/1000 -> 724.75547 | D18: ='IMR-Trends'!D18*Births!B18/1000 -> 835.15616 | E18: ='IMR-Trends'!E18*Births!E18/1000 -> 530 | F18: ='IMR-Trends'!F18*Births!E18/1000 -> 472.92945 | G18: ='IMR-Trends'!G18*Births!E18/1000 -> 593.95751 | H18: ='IMR-Trends'!H18*Births!H18/1000 -> 388 | I18: ='IMR-Trends'!I18*Births!H18/1000 -> 345.28741 | J18: ='IMR-Trends'!J18*Births!H18/1000 -> 435.9962 | K18: ='IMR-Trends'!K18*Births!K18/1000 -> 297 | L18: ='IMR-Trends'!L18*Births!K18/1000 -> 268.53286 | M18: ='IMR-Trends'!M18*Births!K18/1000 -> 328.48494 | N18: ='IMR-Trends'!N18*Births!N18/1000 -> 222 | O18: ='IMR-Trends'!O18*Births!N18/1000 -> 195.31915 | P18: ='IMR-Trends'!P18*Births!N18/1000 -> 252.32549
A19: 2015 | B19: ='IMR-Trends'!B19*Births!B19/1000 -> 755.47681 | C19: ='IMR-Trends'!C19*Births!B19/1000 -> 702.7096 | D19: ='IMR-Trends'!D19*Births!B19/1000 -> 812.20637 | E19: ='IMR-Trends'!E19*Births!E19/1000 -> 519.67862 | F19: ='IMR-Trends'!F19*Births!E19/1000 -> 462.59318 | G19: ='IMR-Trends'!G19*Births!E19/1000 -> 583.80859 | H19: ='IMR-Trends'!H19*Births!H19/1000 -> 383.32418 | I19: ='IMR-Trends'!I19*Births!H19/1000 -> 340.27819 | J19: ='IMR-Trends'!J19*Births!H19/1000 -> 431.8156 | K19: ='IMR-Trends'!K19*Births!K19/1000 -> 294.39946 | L19: ='IMR-Trends'!L19*Births!K19/1000 -> 265.60973 | M19: ='IMR-Trends'!M19*Births!K19/1000 -> 326.30974 | N19: ='IMR-Trends'!N19*Births!N19/1000 -> 220.40453 | O19: ='IMR-Trends'!O19*Births!N19/1000 -> 193.38618 | P19: ='IMR-Trends'!P19*Births!N19/1000 -> 251.19767
A20: 2016 | B20: ='IMR-Trends'!B20*Births!B20/1000 -> 714.996 | C20: ='IMR-Trends'!C20*Births!B20/1000 -> 663.94147 | D20: ='IMR-Trends'!D20*Births!B20/1000 -> 769.97641 | E20: ='IMR-Trends'!E20*Births!E20/1000 -> 493.33679 | F20: ='IMR-Trends'!F20*Births!E20/1000 -> 437.96259 | G20: ='IMR-Trends'!G20*Births!E20/1000 -> 555.71229 | H20: ='IMR-Trends'!H20*Births!H20/1000 -> 365.09055 | I20: ='IMR-Trends'!I20*Births!H20/1000 -> 323.19892 | J20: ='IMR-Trends'!J20*Births!H20/1000 -> 412.41199 | K20: ='IMR-Trends'!K20*Births!K20/1000 -> 281.84203 | L20: ='IMR-Trends'!L20*Births!K20/1000 -> 253.67475 | M20: ='IMR-Trends'!M20*Births!K20/1000 -> 313.13693 | N20: ='IMR-Trends'!N20*Births!N20/1000 -> 211.32912 | O20: ='IMR-Trends'!O20*Births!N20/1000 -> 184.86231 | P20: ='IMR-Trends'!P20*Births!N20/1000 -> 241.5852
A21: 2017 | B21: ='IMR-Trends'!B21*Births!B21/1000 -> 665.4129 | C21: ='IMR-Trends'!C21*Births!B21/1000 -> 616.76849 | D21: ='IMR-Trends'!D21*Births!B21/1000 -> 717.89388 | E21: ='IMR-Trends'!E21*Births!E21/1000 -> 463.88832 | F21: ='IMR-Trends'!F21*Births!E21/1000 -> 410.60945 | G21: ='IMR-Trends'!G21*Births!E21/1000 -> 524.08042 | H21: ='IMR-Trends'!H21*Births!H21/1000 -> 350.57326 | I21: ='IMR-Trends'!I21*Births!H21/1000 -> 309.41391 | J21: ='IMR-Trends'!J21*Births!H21/1000 -> 397.20778 | K21: ='IMR-Trends'!K21*Births!K21/1000 -> 272.5277 | L21: ='IMR-Trends'!L21*Births!K21/1000 -> 244.65375 | M21: ='IMR-Trends'!M21*Births!K21/1000 -> 303.5774 | N21: ='IMR-Trends'!N21*Births!N21/1000 -> 204.99416 | O21: ='IMR-Trends'!O21*Births!N21/1000 -> 178.72867 | P21: ='IMR-Trends'!P21*Births!N21/1000 -> 235.11957
A22: 2018 | B22: ='IMR-Trends'!B22*Births!B22/1000 -> 619.00746 | C22: ='IMR-Trends'!C22*Births!B22/1000 -> 572.62415 | D22: ='IMR-Trends'!D22*Births!B22/1000 -> 669.14788 | E22: ='IMR-Trends'!E22*Births!E22/1000 -> 437.33206 | F22: ='IMR-Trends'!F22*Births!E22/1000 -> 385.8773 | G22: ='IMR-Trends'!G22*Births!E22/1000 -> 495.64805 | H22: ='IMR-Trends'!H22*Births!H22/1000 -> 333.45546 | I22: ='IMR-Trends'!I22*Births!H22/1000 -> 293.35175 | J22: ='IMR-Trends'!J22*Births!H22/1000 -> 379.0417 | K22: ='IMR-Trends'!K22*Births!K22/1000 -> 258.94338 | L22: ='IMR-Trends'!L22*Births!K22/1000 -> 231.80763 | M22: ='IMR-Trends'!M22*Births!K22/1000 -> 289.25569 | N22: ='IMR-Trends'!N22*Births!N22/1000 -> 197.60518 | O22: ='IMR-Trends'!O22*Births!N22/1000 -> 171.67333 | P22: ='IMR-Trends'!P22*Births!N22/1000 -> 227.45413
A23: 2019 | B23: ='IMR-Trends'!B23*Births!B23/1000 -> 576.4119 | C23: ='IMR-Trends'!C23*Births!B23/1000 -> 532.09864 | D23: ='IMR-Trends'!D23*Births!B23/1000 -> 624.41558 | E23: ='IMR-Trends'!E23*Births!E23/1000 -> 412.772 | F23: ='IMR-Trends'!F23*Births!E23/1000 -> 362.97636 | G23: ='IMR-Trends'!G23*Births!E23/1000 -> 469.39895 | H23: ='IMR-Trends'!H23*Births!H23/1000 -> 317.12605 | I23: ='IMR-Trends'!I23*Births!H23/1000 -> 278.02136 | J23: ='IMR-Trends'!J23*Births!H23/1000 -> 361.73096 | K23: ='IMR-Trends'!K23*Births!K23/1000 -> 248.3673 | L23: ='IMR-Trends'!L23*Births!K23/1000 -> 221.67538 | M23: ='IMR-Trends'!M23*Births!K23/1000 -> 278.2732 | N23: ='IMR-Trends'!N23*Births!N23/1000 -> 191.31755 | O23: ='IMR-Trends'!O23*Births!N23/1000 -> 165.57984 | P23: ='IMR-Trends'!P23*Births!N23/1000 -> 221.05592
A25: Bold = predicted | B25: =SUM(B18:B23) -> 4109.3051 | C25: =SUM(C18:C23) -> 3812.8978 | D25: =SUM(D18:D23) -> 4428.7963 | E25: =SUM(E18:E23) -> 2857.0078 | F25: =SUM(F18:F23) -> 2532.9483 | G25: =SUM(G18:G23) -> 3222.6058 | H25: =SUM(H18:H23) -> 2137.5695 | I25: =SUM(I18:I23) -> 1889.5515 | ... P25: =SUM(P18:P23) -> 1428.738
A30: VS deaths | B30: Q1 obs | E30: Q2 obs | H30: Q3 obs | K30: Q4 obs | N30: Q5 obs
A31: 2000 | B31: 1039 | E31: 628 | H31: 418 | K31: 364 | N31: 318
A32: 2001 | B32: 1031 | E32: 588 | H32: 436 | K32: 357 | N32: 286
A33: 2002 | B33: 1076 | E33: 619 | H33: 437 | K33: 354 | N33: 290
A34: 2003 | B34: 1075 | E34: 620 | H34: 442 | K34: 332 | N34: 284
A35: 2004 | B35: 1016 | E35: 673 | H35: 462 | K35: 366 | N35: 282
A36: 2005 | B36: 1105 | E36: 631 | H36: 420 | K36: 342 | N36: 295
A37: 2006 | B37: 1013 | E37: 680 | H37: 481 | K37: 383 | N37: 307
A38: 2007 | B38: 1060 | E38: 662 | H38: 438 | K38: 342 | N38: 297
A39: 2008 | B39: 1012 | E39: 721 | H39: 492 | K39: 363 | N39: 295
A40: 2009 | B40: 974 | E40: 655 | H40: 452 | K40: 353 | N40: 285
A41: 2010 | B41: 933 | E41: 640 | H41: 466 | K41: 343 | N41: 278
A42: 2011 | B42: 902 | E42: 640 | H42: 438 | K42: 333 | N42: 253
... A50: 2019 | B50: 740 | E50: 503 | H50: 369 | K50: 268 | N50: 237
A52: Observed | B52: =SUM(B44:B50) -> 5538 | E52: =SUM(E44:E50) -> 3727 | H52: =SUM(H44:H50) -> 2746 | K52: =SUM(K44:K50) -> 2050 | N52: =SUM(N44:N50) -> 1659
A55: Observed minus predicted | B55: Q1 | E55: Q2 | H55: Q3 | K55: Q4 | N55: Q5
A56: 2000
A57: 2001
...

Sheet Rates
B2: Most | F2: Least | M2: Figure 2 in the paper
A3: Year | B3: Q1 VS | C3: Q2 VS | D3: Q3 VS | E3: Q4 VS | F3: Q5 VS | G3: Q1 Trend | H3: Q2 Trend | I3: Q3 Trend | J3: Q4 Trend | K3: Q5 Trend
A4: 2000 | B4: ='IMRs-Obs'!B4 -> 6.8503989 | C4: ='IMRs-Obs'!E4 -> 5.2595874 | D4: ='IMRs-Obs'!H4 -> 4.0021064 | E4: ='IMRs-Obs'!K4 -> 3.7667902 | F4: ='IMRs-Obs'!N4 -> 3.3281701
A5: 2001 | B5: ='IMRs-Obs'!B5 -> 6.7875835 | C5: ='IMRs-Obs'!E5 -> 4.9783257 | D5: ='IMRs-Obs'!H5 -> 4.2527043 | E5: ='IMRs-Obs'!K5 -> 3.7746622 | F5: ='IMRs-Obs'!N5 -> 3.0628855
A6: 2002 | B6: ='IMRs-Obs'!B6 -> 6.864609 | C6: ='IMRs-Obs'!E6 -> 5.0679133 | D6: ='IMRs-Obs'!H6 -> 4.1360251 | E6: ='IMRs-Obs'!K6 -> 3.6384566 | F6: ='IMRs-Obs'!N6 -> 3.0400553
A7: 2003 | B7: ='IMRs-Obs'!B7 -> 6.6334685 | C7: ='IMRs-Obs'!E7 -> 4.8428798 | D7: ='IMRs-Obs'!H7 -> 4.0077253 | E7: ='IMRs-Obs'!K7 -> 3.2822541 | F7: ='IMRs-Obs'!N7 -> 2.8929703
A8: 2004 | B8: ='IMRs-Obs'!B8 -> 6.0613654 | C8: ='IMRs-Obs'!E8 -> 5.1397587 | D8: ='IMRs-Obs'!H8 -> 4.1357085 | E8: ='IMRs-Obs'!K8 -> 3.631745 | F8: ='IMRs-Obs'!N8 -> 2.8964072
A9: 2005 | B9: ='IMRs-Obs'!B9 -> 6.3905339 | C9: ='IMRs-Obs'!E9 -> 4.6425734 | D9: ='IMRs-Obs'!H9 -> 3.6583454 | E9: ='IMRs-Obs'!K9 -> 3.3421937 | F9: ='IMRs-Obs'!N9 -> 3.0044099
A10: 2006 | B10: ='IMRs-Obs'!B10 -> 5.6993682 | C10: ='IMRs-Obs'!E10 -> 4.8296484 | D10: ='IMRs-Obs'!H10 -> 4.0574624 | E10: ='IMRs-Obs'!K10 -> 3.6276153 | F10: ='IMRs-Obs'!N10 -> 3.04978
A11: 2007 | B11: ='IMRs-Obs'!B11 -> 5.717152 | C11: ='IMRs-Obs'!E11 -> 4.4468627 | D11: ='IMRs-Obs'!H11 -> 3.489178 | E11: ='IMRs-Obs'!K11 -> 3.1353135 | F11: ='IMRs-Obs'!N11 -> 2.8993996
A12: 2008 | B12: ='IMRs-Obs'!B12 -> 5.4832522 | C12: ='IMRs-Obs'!E12 -> 4.8156881 | D12: ='IMRs-Obs'!H12 -> 3.922319 | E12: ='IMRs-Obs'!K12 -> 3.3475659 | F12: ='IMRs-Obs'!N12 -> 2.9907944
A13: 2009 | B13: ='IMRs-Obs'!B13 -> 5.2396015 | C13: ='IMRs-Obs'!E13 -> 4.2545729 | D13: ='IMRs-Obs'!H13 -> 3.4885157 | E13: ='IMRs-Obs'!K13 -> 3.2430247 | F13: ='IMRs-Obs'!N13 -> 2.8726653
A14: 2010 | B14: ='IMRs-Obs'!B14 -> 4.9217167 | C14: ='IMRs-Obs'!E14 -> 4.050838 | D14: ='IMRs-Obs'!H14 -> 3.5068444 | E14: ='IMRs-Obs'!K14 -> 3.0896169 | F14: ='IMRs-Obs'!N14 -> 2.7993153
A15: 2011 | B15: ='IMRs-Obs'!B15 -> 4.75172 | C15: ='IMRs-Obs'!E15 -> 3.9962036 | D15: ='IMRs-Obs'!H15 -> 3.2699256 | E15: ='IMRs-Obs'!K15 -> 2.9852352 | F15: ='IMRs-Obs'!N15 -> 2.5707986
... A17: 2013 | B17: ='IMRs-Obs'!B17 -> 4.5830625 | C17: ='IMRs-Obs'!E17 -> 3.6212869 | D17: ='IMRs-Obs'!H17 -> 3.2496491 | E17: ='IMRs-Obs'!K17 -> 2.7754415 | F17: ='IMRs-Obs'!N17 -> 2.3864305
A18: 2014 | B18: ='IMRs-Obs'!B18 -> 4.335397 | C18: ='IMRs-Obs'!E18 -> 3.4727 | D18: ='IMRs-Obs'!H18 -> 2.9978752 | E18: ='IMRs-Obs'!K18 -> 2.7663161 | F18: ='IMRs-Obs'!N18 -> 2.3821276 | G18: ='IMR-Trends'!B18 -> 4.335397 | H18: ='IMR-Trends'!E18 -> 3.4727 | I18: ='IMR-Trends'!H18 -> 2.9978752 | J18: ='IMR-Trends'!K18 -> 2.7663161 | K18: ='IMR-Trends'!N18 -> 2.3821276
A19: 2015 | B19: ='IMRs-Obs'!B19 -> 4.655958 | C19: ='IMRs-Obs'!E19 -> 3.7269339 | D19: ='IMRs-Obs'!H19 -> 2.9360043 | E19: ='IMRs-Obs'!K19 -> 2.9800228 | F19: ='IMRs-Obs'!N19 -> 2.2737173 | G19: ='IMR-Trends'!B19 -> 4.1874623 | H19: ='IMR-Trends'!E19 -> 3.3742298 | I19: ='IMR-Trends'!H19 -> 2.9308371 | J19: ='IMR-Trends'!K19 -> 2.7077688 | K19: ='IMR-Trends'!N19 -> 2.3417645
A20: 2016 | B20: ='IMRs-Obs'!B20 -> 4.8082634 | C20: ='IMRs-Obs'!E20 -> 3.5620772 | D20: ='IMRs-Obs'!H20 -> 3.3668712 | E20: ='IMRs-Obs'!K20 -> 2.91526 | F20: ='IMRs-Obs'!N20 -> 2.8976351 | G20: ='IMR-Trends'!B20 -> 4.0445754 | H20: ='IMR-Trends'!E20 -> 3.2785517 | I20: ='IMR-Trends'!H20 -> 2.8652981 | J20: ='IMR-Trends'!K20 -> 2.6504607 | K20: ='IMR-Trends'!N20 -> 2.3020852
A21: 2017 | B21: ='IMRs-Obs'!B21 -> 4.5558087 | C21: ='IMRs-Obs'!E21 -> 3.543445 | D21: ='IMRs-Obs'!H21 -> 3.1002797 | E21: ='IMRs-Obs'!K21 -> 2.6845382 | F21: ='IMRs-Obs'!N21 -> 2.7157713 | G21: ='IMR-Trends'!B21 -> 3.9065642 | H21: ='IMR-Trends'!E21 -> 3.1855867 | I21: ='IMR-Trends'!H21 -> 2.8012246 | J21: ='IMR-Trends'!K21 -> 2.5943654 | K21: ='IMR-Trends'!N21 -> 2.2630783
A22: 2018 | B22: ='IMRs-Obs'!B22 -> 4.4010704 | C22: ='IMRs-Obs'!E22 -> 3.6520373 | D22: ='IMRs-Obs'!H22 -> 3.0305021 | E22: ='IMRs-Obs'!K22 -> 2.6675035 | F22: ='IMRs-Obs'!N22 -> 2.8258765 | G22: ='IMR-Trends'!B22 -> 3.7732623 | H22: ='IMR-Trends'!E22 -> 3.0952577 | I22: ='IMR-Trends'!H22 -> 2.738584 | J22: ='IMR-Trends'!K22 -> 2.5394573 | K22: ='IMR-Trends'!N22 -> 2.2247324
A23: 2019 | B23: ='IMRs-Obs'!B23 -> 4.6788359 | C23: ='IMRs-Obs'!E23 -> 3.6648986 | D23: ='IMRs-Obs'!H23 -> 3.1152911 | E23: ='IMRs-Obs'!K23 -> 2.6821994 | F23: ='IMRs-Obs'!N23 -> 2.7092526 | G23: ='IMR-Trends'!B23 -> 3.644509 | H23: ='IMR-Trends'!E23 -> 3.0074901 | I23: ='IMR-Trends'!H23 -> 2.6773441 | J23: ='IMR-Trends'!K23 -> 2.4857113 | K23: ='IMR-Trends'!N23 -> 2.1870362
