Workbook

Sheet SI 5A Group Choice -round 1
A1: Supplementary Information 5. Group choice calculations and data visualization templates used in this study.
A2: A. Round 1. What proposal is preferred, only considering funding?
A4: AHP value (from raw data, round 1) | H4: Group choice calculation. The ponderate weight indicates the 'group choice' position in the rank(e.g., in this case a rank position of 7 indicates that the group choice is 5-community tourism (strong))
A5: 5 | D5: Alternatives | E5: Scale by Saaty 1980 | G5: Value for AHP matrix | H5: Rank position (R) | I5: Number of participants (N) | J5: R*N | N5: Number of participants | O5: =SUM(O6:O8) -> 20
A6: 0.14285714 | D6: Resort | E6: Extreme | F6: =CONCATENATE(D6," (",E6,")") -> Resort (Extreme) | G6: 0.11111111 | H6: 1 | I6: =COUNTIF('SI 5A Group Choice -round 1'!A$5:A$40,1/9) -> 1 | J6: =I6*H6 -> 1 | N6: Resort | O6: =SUM(I6:I9) -> 9
A7: 0.11111111 | D7: Resort | E7: Very Strong | F7: =CONCATENATE(D7," (",E7,")") -> Resort (Very Strong) | G7: 0.14285714 | H7: 2 | I7: =COUNTIF('SI 5A Group Choice -round 1'!A$5:A$40,1/7) -> 6 | J7: =I7*H7 -> 12 | N7: Community-based tourism | O7: =SUM(I11:I14) -> 9
A8: 1 | D8: Resort | E8: Strong | F8: =CONCATENATE(D8," (",E8,")") -> Resort (Strong) | G8: 0.2 | H8: 3 | I8: =COUNTIF('SI 5A Group Choice -round 1'!A$5:A$40,1/5) -> 2 | J8: =I8*H8 -> 6 | N8: Votes for equal | O8: =I10 -> 2
A9: 5 | D9: Resort | E9: Moderate | F9: =CONCATENATE(D9," (",E9,")") -> Resort (Moderate) | G9: 0.33333333 | H9: 4 | I9: =COUNTIF('SI 5A Group Choice -round 1'!A$5:A$40,1/3) -> 0 | J9: =I9*H9 -> 0
A10: 0.2 | D10: Equal | E10: Equal | F10: =CONCATENATE(D10," (",E10,")") -> Equal (Equal) | G10: 1 | H10: 5 | I10: =COUNTIF(A$5:A$40,1) -> 2 | J10: =I10*H10 -> 10
A11: 3 | D11: Community-Toursim | E11: Moderate | F11: =CONCATENATE(D11," (",E11,")") -> Community-Toursim (Moderate) | G11: 3 | H11: 6 | I11: =COUNTIF('SI 5A Group Choice -round 1'!A$5:A$40,3) -> 2 | J11: =I11*H11 -> 12
A12: 7 | D12: Community-Toursim | E12: Strong | F12: =CONCATENATE(D12," (",E12,")") -> Community-Toursim (Strong) | G12: 5 | H12: 7 | I12: =COUNTIF('SI 5A Group Choice -round 1'!A$5:A$40,5) -> 3 | J12: =I12*H12 -> 21
A13: 1 | D13: Community-Toursim | E13: Very Strong | F13: =CONCATENATE(D13," (",E13,")") -> Community-Toursim (Very Strong) | G13: 7 | H13: 8 | I13: =COUNTIF('SI 5A Group Choice -round 1'!A$5:A$40,7) -> 4 | J13: =I13*H13 -> 32
A14: 0.2 | D14: Community-Toursim | E14: Extreme | F14: =CONCATENATE(D14," (",E14,")") -> Community-Toursim (Extreme) | G14: 9 | H14: 9 | I14: =COUNTIF('SI 5A Group Choice -round 1'!A$5:A$40,9) -> 0 | J14: =I14*H14 -> 0
A15: 3 | I15: Ponderate weight = | J15: 4
A16: 7 | I16: Group choice = | J16: =IF(J15=1,G6,IF(J15=2,G7,IF(J15=3,G8,IF(J15=4,G9,IF(J15=5,G10,IF(J15=6,G11,IF(J15=7,G12,IF(J15=8,G13,IF(J15=9,G14))))))))) -> 0.33333333
A17: 0.14285714 | J17: =IF(J15=1,F6,IF(J15=2,F7,IF(J15=3,F8,IF(J15=4,F9,IF(J15=5,F10,IF(J15=6,F11,IF(J15=7,F12,IF(J15=8,F13,IF(J15=9,F14))))))))) -> Resort (Moderate)
A18: 7
A19: 0.14285714
A20: 0.14285714
A21: 5
A22: 7
A23: 0.14285714
A24: 0.14285714

Sheet SI 5B Group Choice -round 2
B1: Supplementary Information 5. Group choice calculations and data visualization templates used in this study.
B2: B. Round 2. What proposal is preferred, only considering reef health?
A4: AHP value (from raw data, round 2) | H4: Group choice calculation. The ponderate weight indicates the 'group choice' position in the rank(e.g., in this case a rank position of 7 indicates that the group choice is 5-community tourism (strong)) | N4: Results Round 2
A5: 5 | D5: Alternatives | E5: Scale by Saaty 1980 | G5: Value for AHP matrix | H5: Rank position (R) | I5: Number of participants (N) | J5: R*N | N5: Number of participants | O5: =SUM(O6:O8) -> 19
A6: 0.11111111 | D6: Resort | E6: Extreme | F6: =CONCATENATE(D6," (",E6,")") -> Resort (Extreme) | G6: 0.11111111 | H6: 1 | I6: =COUNTIF('SI 5B Group Choice -round 2'!A$5:A$40,1/9) -> 1 | J6: =I6*H6 -> 1 | N6: Resort | O6: =SUM(I6:I8) -> 1
A7: 7 | D7: Resort | E7: Very Strong | F7: =CONCATENATE(D7," (",E7,")") -> Resort (Very Strong) | G7: 0.14285714 | H7: 2 | I7: =COUNTIF('SI 5B Group Choice -round 2'!A$5:A$40,1/7) -> 0 | J7: =I7*H7 -> 0 | N7: Community-based tourism | O7: =SUM(I11:I14) -> 18
A8: 7 | D8: Resort | E8: Strong | F8: =CONCATENATE(D8," (",E8,")") -> Resort (Strong) | G8: 0.2 | H8: 3 | I8: =COUNTIF('SI 5B Group Choice -round 2'!A$5:A$40,1/5) -> 0 | J8: =I8*H8 -> 0 | N8: Votes for equal | O8: =I10 -> 0
A9: 5 | D9: Resort | E9: Moderate | F9: =CONCATENATE(D9," (",E9,")") -> Resort (Moderate) | G9: 0.33333333 | H9: 4 | I9: =COUNTIF('SI 5B Group Choice -round 2'!A$5:A$40,1/3) -> 0 | J9: =I9*H9 -> 0
A10: 7 | D10: Equal | E10: Equal | F10: =CONCATENATE(D10," (",E10,")") -> Equal (Equal) | G10: 1 | H10: 5 | I10: =COUNTIF(A$5:A$40,1) -> 0 | J10: =I10*H10 -> 0
A11: 7 | D11: Community-Toursim | E11: Moderate | F11: =CONCATENATE(D11," (",E11,")") -> Community-Toursim (Moderate) | G11: 3 | H11: 6 | I11: =COUNTIF('SI 5B Group Choice -round 2'!A$5:A$40,3) -> 4 | J11: =I11*H11 -> 24
A12: 5 | D12: Community-Toursim | E12: Strong | F12: =CONCATENATE(D12," (",E12,")") -> Community-Toursim (Strong) | G12: 5 | H12: 7 | I12: =COUNTIF('SI 5B Group Choice -round 2'!A$5:A$40,5) -> 5 | J12: =I12*H12 -> 35
A13: 5 | D13: Community-Toursim | E13: Very Strong | F13: =CONCATENATE(D13," (",E13,")") -> Community-Toursim (Very Strong) | G13: 7 | H13: 8 | I13: =COUNTIF('SI 5B Group Choice -round 2'!A$5:A$40,7) -> 8 | J13: =I13*H13 -> 64
A14: 7 | D14: Community-Toursim | E14: Extreme | F14: =CONCATENATE(D14," (",E14,")") -> Community-Toursim (Extreme) | G14: 9 | H14: 9 | I14: =COUNTIF('SI 5B Group Choice -round 2'!A$5:A$40,9) -> 1 | J14: =I14*H14 -> 9
A15: 7 | I15: Ponderate weight = | J15: =SUM(J6:J14)/O5 -> 7
A16: 7 | I16: Group choice = | J16: =IF(J15=1,G6,IF(J15=2,G7,IF(J15=3,G8,IF(J15=4,G9,IF(J15=5,G10,IF(J15=6,G11,IF(J15=7,G12,IF(J15=8,G13,IF(J15=9,G14))))))))) -> 5
A17: 7 | J17: =IF(J15=1,F6,IF(J15=2,F7,IF(J15=3,F8,IF(J15=4,F9,IF(J15=5,F10,IF(J15=6,F11,IF(J15=7,F12,IF(J15=8,F13,IF(J15=9,F14))))))))) -> Community-Toursim (Strong)
A18: 3
A19: 9
A20: 3
A21: 3
A22: 5
A23: 3

Sheet SI 5C Group Choice-round 3
A1: Supplementary Information 5. Group choice calculations and data visualization templates used in this study.
A2: C. Round 3. What is more important, funding or reef health?
A4: AHP value (from raw data, round 3) | H4: Group choice calculation. The ponderate weight indicates the 'group choice' position in the rank(e.g., in this case a rank position of 7 indicates that the group choice is 5-community tourism (strong))
A5: 1 | D5: Alternatives | E5: Scale by Saaty 1980 | G5: Value for AHP matrix | H5: Rank position (R) | I5: Number of participants (N) | J5: R*N | N5: Number of participants | O5: =SUM(O6:O8) -> 20
A6: 7 | D6: Funding | E6: Extreme | F6: =CONCATENATE(D6," (",E6,")") -> Funding (Extreme) | G6: 0.11111111 | H6: 1 | I6: =COUNTIF('SI 5C Group Choice-round 3'!A$5:A$40,1/9) -> 0 | J6: =I6*H6 -> 0 | N6: Funding | O6: =SUM(I6:I9) -> 2
A7: 5 | D7: Funding | E7: Very Strong | F7: =CONCATENATE(D7," (",E7,")") -> Funding (Very Strong) | G7: 0.14285714 | H7: 2 | I7: =COUNTIF('SI 5C Group Choice-round 3'!A$5:A$40,1/7) -> 1 | J7: =I7*H7 -> 2 | N7: Reef health | O7: =SUM(I11:I14) -> 15
A8: 7 | D8: Funding | E8: Strong | F8: =CONCATENATE(D8," (",E8,")") -> Funding (Strong) | G8: 0.2 | H8: 3 | I8: =COUNTIF('SI 5C Group Choice-round 3'!A$5:A$40,1/5) -> 0 | J8: =I8*H8 -> 0 | N8: Votes for equal | O8: =I10 -> 3
A9: 3 | D9: Funding | E9: Moderate | F9: =CONCATENATE(D9," (",E9,")") -> Funding (Moderate) | G9: 0.33333333 | H9: 4 | I9: =COUNTIF('SI 5C Group Choice-round 3'!A$5:A$40,1/3) -> 1 | J9: =I9*H9 -> 4
A10: 3 | D10: Equal | E10: Equal | F10: =CONCATENATE(D10," (",E10,")") -> Equal (Equal) | G10: 1 | H10: 5 | I10: =COUNTIF(A$5:A$40,1) -> 3 | J10: =I10*H10 -> 15
A11: 9 | D11: Reef health | E11: Moderate | F11: =CONCATENATE(D11," (",E11,")") -> Reef health (Moderate) | G11: 3 | H11: 6 | I11: =COUNTIF('SI 5C Group Choice-round 3'!A$5:A$40,3) -> 3 | J11: =I11*H11 -> 18
A12: 1 | D12: Reef health | E12: Strong | F12: =CONCATENATE(D12," (",E12,")") -> Reef health (Strong) | G12: 5 | H12: 7 | I12: =COUNTIF('SI 5C Group Choice-round 3'!A$5:A$40,5) -> 2 | J12: =I12*H12 -> 14
A13: 7 | D13: Reef health | E13: Very Strong | F13: =CONCATENATE(D13," (",E13,")") -> Reef health (Very Strong) | G13: 7 | H13: 8 | I13: =COUNTIF('SI 5C Group Choice-round 3'!A$5:A$40,7) -> 5 | J13: =I13*H13 -> 40
A14: 9 | D14: Reef health | E14: Extreme | F14: =CONCATENATE(D14," (",E14,")") -> Reef health (Extreme) | G14: 9 | H14: 9 | I14: =COUNTIF('SI 5C Group Choice-round 3'!A$5:A$40,9) -> 5 | J14: =I14*H14 -> 45
A15: 7 | I15: Ponderate weight = | J15: 7
A16: 9 | I16: Group choice = | J16: =IF(J15=1,G6,IF(J15=2,G7,IF(J15=3,G8,IF(J15=4,G9,IF(J15=5,G10,IF(J15=6,G11,IF(J15=7,G12,IF(J15=8,G13,IF(J15=9,G14))))))))) -> 5
A17: 0.33333333 | J17: =IF(J15=1,F6,IF(J15=2,F7,IF(J15=3,F8,IF(J15=4,F9,IF(J15=5,F10,IF(J15=6,F11,IF(J15=7,F12,IF(J15=8,F13,IF(J15=9,F14))))))))) -> Reef health (Strong)
A18: 7
A19: 0.14285714
A20: 9
A21: 9
A22: 1
A23: 5
A24: 3
