Workbook

Sheet instructions
B2: INSTRUCTIONS and TERMS OF USE
B3: 1 | C3: This is a morphometric template for species of the Tardigrada Order Parachela.
B4: 2 | C4: The template caluclates the pt ratio and other relative measures only if all measurements required to calculate a ratio are provided (otherwise the ratio cell remains empty, meaning lack of data). The only numbers you need to enter are absolute measurements in micrometres [μm] in the sheet "individuals". If a structure is not measurable leave the cell empty (enetring zeros will mean that the trait has a value of 0).
B5: 3 | C5: The "individuals" sheet automatically calculates basic statistics (number of measurements, range, mean and SD). The table with these statistics is placed after the last (30th) specimen. The summary table can be then copied and pasted directly to MS Word.
B6: 4 | C6: If measurements are done on the type series, please enter the holotype in the first column (this way holotype data are automatically copied to the summary table at end of the sheet). If measurements are not done on the type series, you may delete the last two columns in the summary table. You may change specimen/slide names as desired.
B7: 5 | C7: If a trait listed is not present in the species you are measuring, remove the entire row (highlight the row, right mouse click, choose "delete").
B8: 6 | C8: Data from the sheet "individuals" are automatically copied to the four remaining "stats" sheets. Data in those sheets are arranged for statistical analyses in the majority of statistical software.
B9: 7 | C9: If you want to see the formulas behind this template, press Ctrl+` (usually just before "1" on the keyboard). To return to the value view, press Ctrl+` again.
B10: 8 | C10: This template can be freely used but each published use must be credited as Morphometric data were handled using the Parachela ver. 1.8 template available from the Tardigrada Register, www.tardigrada.net/register (Michalczyk & Kaczmarek 2013). The reference is: Michalczyk, Ł. & Kaczmarek, Ł. (2013) The Tardigrada Register: a comprehensive online data repository for tardigrade taxonomy. Journal of Limnology, 72(S1): 175-181. DOI:10.4081/jlimnol.2013.s1.e22
B11: 9 | C11: Copyright by Łukasz Michalczyk. Enquires and suggestions: LM@tardigrada.net

Sheet general info
B2: Species | D2: Minibiotus jonesorum
B3: Population | D3: US.198/US.199/US.200
B4: Type series | D4: YES
B6: Author | D6: Aleksandra Sumlińska
B7: Date | D7: 13.04.2025

Sheet animals
A1: SPECIMEN | B1: 1 | D1: 2 | F1: 3 | H1: 4 | J1: 5 | L1: 6 | N1: 7 | P1: 8 | R1: 9 | T1: 10 | V1: 11 | X1: 12 | Z1: 13 | AB1: 14 | AD1: 15 | AF1: 16 | AH1: 17 | AJ1: 18 | AL1: 19 | AN1: 20 | AP1: 21 | AR1: 22 | AT1: 23 | AV1: 24 | AX1: 25 | AZ1: 26 | BB1: 27 | BD1: 28 | BF1: 29 | BH1: 30 | BK1: CHARACTER | BL1: N | BM1: RANGE | BS1: MEAN | BU1: SD | BW1: Neotype
A2: CHARACTER | B2: µm | C2: pt | D2: µm | E2: pt | F2: µm | G2: pt | H2: µm | I2: pt | J2: µm | K2: pt | L2: µm | M2: pt | N2: µm | O2: pt | P2: µm | Q2: pt | R2: µm | S2: pt | T2: µm | U2: pt | V2: µm | W2: pt | X2: µm | Y2: pt | Z2: µm | AA2: pt | AB2: µm | AC2: pt | AD2: µm | AE2: pt | AF2: µm | AG2: pt | AH2: µm | AI2: pt | AJ2: µm | AK2: pt | AL2: µm | AM2: pt | AN2: µm | AO2: pt | AP2: µm | AQ2: pt | AR2: µm | AS2: pt | AT2: µm | AU2: pt | AV2: µm | AW2: pt | AX2: µm | AY2: pt | AZ2: µm | BA2: pt | BB2: µm | BC2: pt | BD2: µm | BE2: pt | BF2: µm | BG2: pt | BH2: µm | BI2: pt | BM2: µm | BP2: pt | BS2: µm | BT2: pt | BU2: µm | BV2: pt | BW2: µm | BX2: pt
A3: Body length | B3: 309.7 | C3: 1098.227 | D3: 384.5 | E3: 1303.3898 | F3: 290 | G3: 1054.5455 | H3: 354 | I3: 1195.9459 | J3: 358.9 | K3: 1200.3344 | L3: 180.8 | M3: 904 | N3: 237.7 | O3: 1085.3881 | P3: 170.1 | Q3: 890.57592 | R3: 187 | S3: 853.88128 | T3: 144.7 | U3: 709.31373 | V3: 222.1 | W3: 933.19328 | X3: 300.5 | Y3: 1092.7273 | Z3: 323 | AA3: 1137.3239 | AB3: 344.9 | AC3: 1236.2007 | AD3: 389.7 | AE3: 1269.3811 | AF3: 295 | AG3: 1143.4109 | AH3: 410.1 | AI3: 1231.5315 | AJ3: 312.5 | AK3: 1108.156 | AL3: 329.1 | AM3: 1058.1994 | AN3: 257.1 | AO3: 1000.3891 | AP3: 138.3 | AQ3: 661.72249 | AR3: 160.7 | AS3: 845.78947 | AT3: 397.2 | AU3: 1281.2903 | AV3: 152.5 | AW3: 758.70647 | AX3: 287.7 | AY3: 988.65979 | AZ3: 311.5 | BA3: 1175.4717 | BB3: 302.3 | BC3: 1099.2727 | BD3: 372.5 | BE3: 1280.0687 | BF3: 327.7 | BG3: 1149.8246 | BH3: 316.8 | BI3: 1035.2941 | BK3: =A3 -> Body length | BL3: 30 | BM3: =IF(SUM(B3,D3,F3,H3,J3,L3,N3,P3,R3,T3,V3,X3,Z3,AB3,AD3,AF3,AH3,AJ3,AL3,AN3,AP3,AR3,AT3,AV3,AX3,AZ3,BB3,BD3,BF3,BH3,)>0,MIN(B3,D3,F3,H3,J3,L3,N3,P3,R3,T3,V3,X3,Z3,AB3,AD3,AF3,AH3,AJ3,AL3,AN3,AP3,AR3,AT3,AV3,AX3,AZ3,BB3,BD3,BF3,BH3),"") -> 138.3 | BN3: =IF(COUNT(BM3)>0,"–","?") -> – | BO3: =IF(SUM(B3,D3,F3,H3,J3,L3,N3,P3,R3,T3,V3,X3,Z3,AB3,AD3,AF3,AH3,AJ3,AL3,AN3,AP3,AR3,AT3,AV3,AX3,AZ3,BB3,BD3,BF3,BH3)>0,MAX(B3,D3,F3,H3,J3,L3,N3,P3,R3,T3,V3,X3,Z3,AB3,AD3,AF3,AH3,AJ3,AL3,AN3,AP3,AR3,AT3,AV3,AX3,AZ3,BB3,BD3,BF3,BH3),"") -> 410.1 | BP3: =IF(SUM(C3,E3,G3,I3,K3,M3,O3,Q3,S3,U3,W3,Y3,AA3,AC3,AE3,AG3,AI3,AK3,AM3,AO3,AQ3,AS3,AU3,AW3,AY3,BA3,BC3,BE3,BG3,BI3)>0,MIN(C3,E3,G3,I3,K3,M3,O3,Q3,S3,U3,W3,Y3,AA3,AC3,AE3,AG3,AI3,AK3,AM3,AO3,AQ3,AS3,AU3,AW3,AY3,BA3,BC3,BE3,BG3,BI3),"") -> 661.72249 | BQ3: =IF(COUNT(BP3)>0,"–","?") -> – | BR3: =IF(SUM(C3,E3,G3,I3,K3,M3,O3,Q3,S3,U3,W3,Y3,AA3,AC3,AE3,AG3,AI3,AK3,AM3,AO3,AQ3,AS3,AU3,AW3,AY3,BA3,BC3,BE3,BG3,BI3)>0,MAX(C3,E3,G3,I3,K3,M3,O3,Q3,S3,U3,W3,Y3,AA3,AC3,AE3,AG3,AI3,AK3,AM3,AO3,AQ3,AS3,AU3,AW3,AY3,BA3,BC3,BE3,BG3,BI3),"") -> 1303.3898 | BS3: =IF(SUM(B3,D3,F3,H3,J3,L3,N3,P3,R3,T3,V3,X3,Z3,AB3,AD3,AF3,AH3,AJ3,AL3,AN3,AP3,AR3,AT3,AV3,AX3,AZ3,BB3,BD3,BF3,BH3)>0,AVERAGE(B3,D3,F3,H3,J3,L3,N3,P3,R3,T3,V3,X3,Z3,AB3,AD3,AF3,AH3,AJ3,AL3,AN3,AP3,AR3,AT3,AV3,AX3,AZ3,BB3,BD3,BF3,BH3),"?") -> 285.62 | BT3: =IF(SUM(C3,E3,G3,I3,K3,M3,O3,Q3,S3,U3,W3,Y3,AA3,AC3,AE3,AG3,AI3,AK3,AM3,AO3,AQ3,AS3,AU3,AW3,AY3,BA3,BC3,BE3,BG3,BI3)>0,AVERAGE(C3,E3,G3,I3,K3,M3,O3,Q3,S3,U3,W3,Y3,AA3,AC3,AE3,AG3,AI3,AK3,AM3,AO3,AQ3,AS3,AU3,AW3,AY3,BA3,BC3,BE3,BG3,BI3),"?") -> 1059.4072 | BU3: =IF(COUNT(B3,D3,F3,H3,J3,L3,N3,P3,R3,T3,V3,X3,Z3,AB3,AD3,AF3,AH3,AJ3,AL3,AN3,AP3,AR3,AT3,AV3,AX3,AZ3,BB3,BD3,BF3,BH3)>1,STDEV(B3,D3,F3,H3,J3,L3,N3,P3,R3,T3,V3,X3,Z3,AB3,AD3,AF3,AH3,AJ3,AL3,AN3,AP3,AR3,AT3,AV3,AX3,AZ3,BB3,BD3,BF3,BH3),"?") -> 81.867717 | BV3: =IF(COUNT(C3,E3,G3,I3,K3,M3,O3,Q3,S3,U3,W3,Y3,AA3,AC3,AE3,AG3,AI3,AK3,AM3,AO3,AQ3,AS3,AU3,AW3,AY3,BA3,BC3,BE3,BG3,BI3)>1,STDEV(C3,E3,G3,I3,K3,M3,O3,Q3,S3,U3,W3,Y3,AA3,AC3,AE3,AG3,AI3,AK3,AM3,AO3,AQ3,AS3,AU3,AW3,AY3,BA3,BC3,BE3,BG3,BI3),"?") -> 174.16314 | BW3: =IF(COUNT(B3)>0,B3,"?") -> 309.7 | BX3: =IF(COUNT(C3)>0,C3,"?") -> 1098.227
A4: Buccopharyngeal tube | BK4: =A4 -> Buccopharyngeal tube | BM4: =IF(SUM(B4,D4,F4,H4,J4,L4,N4,P4,R4,T4,V4,X4,Z4,AB4,AD4,AF4,AH4,AJ4,AL4,AN4,AP4,AR4,AT4,AV4,AX4,AZ4,BB4,BD4,BF4,BH4)>0,MIN(B4,D4,F4,H4,J4,L4,N4,P4,R4,T4,V4,X4,Z4,AB4,AD4,AF4,AH4,AJ4,AL4,AN4,AP4,AR4,AT4,AV4,AX4,AZ4,BB4,BD4,BF4,BH4),"")
A5: Buccal tube length | B5: 28.2 | C5: – | D5: 29.5 | E5: – | F5: 27.5 | G5: – | H5: 29.6 | I5: – | J5: 29.9 | K5: – | L5: 20 | M5: – | N5: 21.9 | O5: – | P5: 19.1 | Q5: – | R5: 21.9 | S5: – | T5: 20.4 | U5: – | V5: 23.8 | W5: – | X5: 27.5 | Y5: – | Z5: 28.4 | AA5: – | AB5: 27.9 | AC5: – | AD5: 30.7 | AE5: – | AF5: 25.8 | AG5: – | AH5: 33.3 | AI5: – | AJ5: 28.2 | AK5: – | AL5: 31.1 | AM5: – | AN5: 25.7 | AO5: – | AP5: 20.9 | AQ5: – | AR5: 19 | AS5: – | AT5: 31 | AU5: – | AV5: 20.1 | AW5: – | AX5: 29.1 | AY5: – | AZ5: 26.5 | BA5: – | BB5: 27.5 | BC5: – | BD5: 29.1 | BE5: – | BF5: 28.5 | BG5: – | BH5: 30.6 | BI5: – | BK5: =A5 -> Buccal tube length | BL5: 30 | BM5: =IF(SUM(B5,D5,F5,H5,J5,L5,N5,P5,R5,T5,V5,X5,Z5,AB5,AD5,AF5,AH5,AJ5,AL5,AN5,AP5,AR5,AT5,AV5,AX5,AZ5,BB5,BD5,BF5,BH5)>0,MIN(B5,D5,F5,H5,J5,L5,N5,P5,R5,T5,V5,X5,Z5,AB5,AD5,AF5,AH5,AJ5,AL5,AN5,AP5,AR5,AT5,AV5,AX5,AZ5,BB5,BD5,BF5,BH5),"") -> 19 | BN5: =IF(COUNT(BM5)>0,"–","?") -> – | BO5: =IF(SUM(B5,D5,F5,H5,J5,L5,N5,P5,R5,T5,V5,X5,Z5,AB5,AD5,AF5,AH5,AJ5,AL5,AN5,AP5,AR5,AT5,AV5,AX5,AZ5,BB5,BD5,BF5,BH5)>0,MAX(B5,D5,F5,H5,J5,L5,N5,P5,R5,T5,V5,X5,Z5,AB5,AD5,AF5,AH5,AJ5,AL5,AN5,AP5,AR5,AT5,AV5,AX5,AZ5,BB5,BD5,BF5,BH5),"") -> 33.3 | BP5: =IF(SUM(C5,E5,G5,I5,K5,M5,O5,Q5,S5,U5,W5,Y5,AA5,AC5,AE5,AG5,AI5,AK5,AM5,AO5,AQ5,AS5,AU5,AW5,AY5,BA5,BC5,BE5,BG5,BI5)>0,MIN(C5,E5,G5,I5,K5,M5,O5,Q5,S5,U5,W5,Y5,AA5,AC5,AE5,AG5,AI5,AK5,AM5,AO5,AQ5,AS5,AU5,AW5,AY5,BA5,BC5,BE5,BG5,BI5),"") | BQ5: – | BR5: =IF(SUM(C5,E5,G5,I5,K5,M5,O5,Q5,S5,U5,W5,Y5,AA5,AC5,AE5,AG5,AI5,AK5,AM5,AO5,AQ5,AS5,AU5,AW5,AY5,BA5,BC5,BE5,BG5,BI5)>0,MAX(C5,E5,G5,I5,K5,M5,O5,Q5,S5,U5,W5,Y5,AA5,AC5,AE5,AG5,AI5,AK5,AM5,AO5,AQ5,AS5,AU5,AW5,AY5,BA5,BC5,BE5,BG5,BI5),"") | BS5: =IF(SUM(B5,D5,F5,H5,J5,L5,N5,P5,R5,T5,V5,X5,Z5,AB5,AD5,AF5,AH5,AJ5,AL5,AN5,AP5,AR5,AT5,AV5,AX5,AZ5,BB5,BD5,BF5,BH5)>0,AVERAGE(B5,D5,F5,H5,J5,L5,N5,P5,R5,T5,V5,X5,Z5,AB5,AD5,AF5,AH5,AJ5,AL5,AN5,AP5,AR5,AT5,AV5,AX5,AZ5,BB5,BD5,BF5,BH5),"?") -> 26.423333 | BT5: – | BU5: =IF(COUNT(B5,D5,F5,H5,J5,L5,N5,P5,R5,T5,V5,X5,Z5,AB5,AD5,AF5,AH5,AJ5,AL5,AN5,AP5,AR5,AT5,AV5,AX5,AZ5,BB5,BD5,BF5,BH5)>1,STDEV(B5,D5,F5,H5,J5,L5,N5,P5,R5,T5,V5,X5,Z5,AB5,AD5,AF5,AH5,AJ5,AL5,AN5,AP5,AR5,AT5,AV5,AX5,AZ5,BB5,BD5,BF5,BH5),"?") -> 4.1418539 | BV5: – | BW5: =IF(COUNT(B5)>0,B5,"?") -> 28.2 | BX5: –
A6: Stylet support insertion point | B6: 18.2 | C6: 64.539007 | D6: 19.8 | E6: 67.118644 | F6: 17.9 | G6: 65.090909 | H6: 19.8 | I6: 66.891892 | J6: 21 | K6: 70.234114 | L6: 13.3 | M6: 66.5 | N6: 14.4 | O6: 65.753425 | P6: 12.4 | Q6: 64.921466 | R6: 14.9 | S6: 68.03653 | T6: 13.3 | U6: 65.196078 | V6: 15.6 | W6: 65.546218 | X6: 18.4 | Y6: 66.909091 | Z6: 19.1 | AA6: 67.253521 | AB6: 19.2 | AC6: 68.817204 | AD6: 20.9 | AE6: 68.078176 | AF6: 17.2 | AG6: 66.666667 | AH6: 23.1 | AI6: 69.369369 | AJ6: 18.7 | AK6: 66.312057 | AL6: 21.1 | AM6: 67.845659 | AN6: 17.3 | AO6: 67.315175 | AP6: 14.7 | AQ6: 70.334928 | AR6: 14 | AS6: 73.684211 | AT6: 20.4 | AU6: 65.806452 | AV6: 13 | AW6: 64.676617 | AX6: 19.6 | AY6: 67.353952 | AZ6: 17.9 | BA6: 67.54717 | BB6: 18.6 | BC6: 67.636364 | BD6: 19.8 | BE6: 68.041237 | BF6: 19.5 | BG6: 68.421053 | BH6: 20.5 | BI6: 66.993464 | BK6: =A6 -> Stylet support insertion point | BL6: 30 | BM6: =IF(SUM(B6,D6,F6,H6,J6,L6,N6,P6,R6,T6,V6,X6,Z6,AB6,AD6,AF6,AH6,AJ6,AL6,AN6,AP6,AR6,AT6,AV6,AX6,AZ6,BB6,BD6,BF6,BH6)>0,MIN(B6,D6,F6,H6,J6,L6,N6,P6,R6,T6,V6,X6,Z6,AB6,AD6,AF6,AH6,AJ6,AL6,AN6,AP6,AR6,AT6,AV6,AX6,AZ6,BB6,BD6,BF6,BH6),"") -> 12.4 | BN6: =IF(COUNT(BM6)>0,"–","?") -> – | BO6: =IF(SUM(B6,D6,F6,H6,J6,L6,N6,P6,R6,T6,V6,X6,Z6,AB6,AD6,AF6,AH6,AJ6,AL6,AN6,AP6,AR6,AT6,AV6,AX6,AZ6,BB6,BD6,BF6,BH6)>0,MAX(B6,D6,F6,H6,J6,L6,N6,P6,R6,T6,V6,X6,Z6,AB6,AD6,AF6,AH6,AJ6,AL6,AN6,AP6,AR6,AT6,AV6,AX6,AZ6,BB6,BD6,BF6,BH6),"") -> 23.1 | BP6: =IF(SUM(C6,E6,G6,I6,K6,M6,O6,Q6,S6,U6,W6,Y6,AA6,AC6,AE6,AG6,AI6,AK6,AM6,AO6,AQ6,AS6,AU6,AW6,AY6,BA6,BC6,BE6,BG6,BI6)>0,MIN(C6,E6,G6,I6,K6,M6,O6,Q6,S6,U6,W6,Y6,AA6,AC6,AE6,AG6,AI6,AK6,AM6,AO6,AQ6,AS6,AU6,AW6,AY6,BA6,BC6,BE6,BG6,BI6),"") -> 64.539007 | BQ6: =IF(COUNT(BP6)>0,"–","?") -> – | BR6: =IF(SUM(C6,E6,G6,I6,K6,M6,O6,Q6,S6,U6,W6,Y6,AA6,AC6,AE6,AG6,AI6,AK6,AM6,AO6,AQ6,AS6,AU6,AW6,AY6,BA6,BC6,BE6,BG6,BI6)>0,MAX(C6,E6,G6,I6,K6,M6,O6,Q6,S6,U6,W6,Y6,AA6,AC6,AE6,AG6,AI6,AK6,AM6,AO6,AQ6,AS6,AU6,AW6,AY6,BA6,BC6,BE6,BG6,BI6),"") -> 73.684211 | BS6: =IF(SUM(B6,D6,F6,H6,J6,L6,N6,P6,R6,T6,V6,X6,Z6,AB6,AD6,AF6,AH6,AJ6,AL6,AN6,AP6,AR6,AT6,AV6,AX6,AZ6,BB6,BD6,BF6,BH6)>0,AVERAGE(B6,D6,F6,H6,J6,L6,N6,P6,R6,T6,V6,X6,Z6,AB6,AD6,AF6,AH6,AJ6,AL6,AN6,AP6,AR6,AT6,AV6,AX6,AZ6,BB6,BD6,BF6,BH6),"?") -> 17.786667 | BT6: =IF(SUM(C6,E6,G6,I6,K6,M6,O6,Q6,S6,U6,W6,Y6,AA6,AC6,AE6,AG6,AI6,AK6,AM6,AO6,AQ6,AS6,AU6,AW6,AY6,BA6,BC6,BE6,BG6,BI6)>0,AVERAGE(C6,E6,G6,I6,K6,M6,O6,Q6,S6,U6,W6,Y6,AA6,AC6,AE6,AG6,AI6,AK6,AM6,AO6,AQ6,AS6,AU6,AW6,AY6,BA6,BC6,BE6,BG6,BI6),"?") -> 67.296355 | BU6: =IF(COUNT(B6,D6,F6,H6,J6,L6,N6,P6,R6,T6,V6,X6,Z6,AB6,AD6,AF6,AH6,AJ6,AL6,AN6,AP6,AR6,AT6,AV6,AX6,AZ6,BB6,BD6,BF6,BH6)>1,STDEV(B6,D6,F6,H6,J6,L6,N6,P6,R6,T6,V6,X6,Z6,AB6,AD6,AF6,AH6,AJ6,AL6,AN6,AP6,AR6,AT6,AV6,AX6,AZ6,BB6,BD6,BF6,BH6),"?") -> 2.869667 | BV6: =IF(COUNT(C6,E6,G6,I6,K6,M6,O6,Q6,S6,U6,W6,Y6,AA6,AC6,AE6,AG6,AI6,AK6,AM6,AO6,AQ6,AS6,AU6,AW6,AY6,BA6,BC6,BE6,BG6,BI6)>1,STDEV(C6,E6,G6,I6,K6,M6,O6,Q6,S6,U6,W6,Y6,AA6,AC6,AE6,AG6,AI6,AK6,AM6,AO6,AQ6,AS6,AU6,AW6,AY6,BA6,BC6,BE6,BG6,BI6),"?") -> 1.9318043 | BW6: =IF(COUNT(B6)>0,B6,"?") -> 18.2 | BX6: =IF(COUNT(C6)>0,C6,"?") -> 64.539007
A7: Buccal tube external width | B7: 2.3 | C7: 8.1560284 | D7: 3 | E7: 10.169492 | F7: 2.6 | G7: 9.4545455 | H7: 2.8 | I7: 9.4594595 | J7: 2.7 | K7: 9.0301003 | L7: 1.9 | M7: 9.5 | N7: 2.1 | O7: 9.5890411 | P7: 1.6 | Q7: 8.3769634 | R7: 2.3 | S7: 10.502283 | T7: 1.9 | U7: 9.3137255 | V7: 2.3 | W7: 9.6638655 | X7: 2.4 | Y7: 8.7272727 | Z7: 2.8 | AA7: 9.8591549 | AB7: 2.8 | AC7: 10.035842 | AD7: 2.8 | AE7: 9.1205212 | AF7: 2.3 | AG7: 8.9147287 | AH7: 3.2 | AI7: 9.6096096 | AJ7: 2.6 | AK7: 9.2198582 | AL7: 2.6 | AM7: 8.3601286 | AN7: 2.3 | AO7: 8.9494163 | AP7: 2 | AQ7: 9.569378 | AR7: 1.9 | AS7: 10 | AT7: 2.9 | AU7: 9.3548387 | AV7: 2.1 | AW7: 10.447761 | AX7: 2.6 | AY7: 8.9347079 | AZ7: 2.8 | BA7: 10.566038 | BB7: 2.3 | BC7: 8.3636364 | BD7: 2.4 | BE7: 8.2474227 | BF7: 2.8 | BG7: 9.8245614 | BH7: 2.1 | BI7: 6.8627451 | BK7: =A7 -> Buccal tube external width | BL7: 30 | BM7: =IF(SUM(B7,D7,F7,H7,J7,L7,N7,P7,R7,T7,V7,X7,Z7,AB7,AD7,AF7,AH7,AJ7,AL7,AN7,AP7,AR7,AT7,AV7,AX7,AZ7,BB7,BD7,BF7,BH7)>0,MIN(B7,D7,F7,H7,J7,L7,N7,P7,R7,T7,V7,X7,Z7,AB7,AD7,AF7,AH7,AJ7,AL7,AN7,AP7,AR7,AT7,AV7,AX7,AZ7,BB7,BD7,BF7,BH7),"") -> 1.6 | BN7: =IF(COUNT(BM7)>0,"–","?") -> – | BO7: =IF(SUM(B7,D7,F7,H7,J7,L7,N7,P7,R7,T7,V7,X7,Z7,AB7,AD7,AF7,AH7,AJ7,AL7,AN7,AP7,AR7,AT7,AV7,AX7,AZ7,BB7,BD7,BF7,BH7)>0,MAX(B7,D7,F7,H7,J7,L7,N7,P7,R7,T7,V7,X7,Z7,AB7,AD7,AF7,AH7,AJ7,AL7,AN7,AP7,AR7,AT7,AV7,AX7,AZ7,BB7,BD7,BF7,BH7),"") -> 3.2 | BP7: =IF(SUM(C7,E7,G7,I7,K7,M7,O7,Q7,S7,U7,W7,Y7,AA7,AC7,AE7,AG7,AI7,AK7,AM7,AO7,AQ7,AS7,AU7,AW7,AY7,BA7,BC7,BE7,BG7,BI7)>0,MIN(C7,E7,G7,I7,K7,M7,O7,Q7,S7,U7,W7,Y7,AA7,AC7,AE7,AG7,AI7,AK7,AM7,AO7,AQ7,AS7,AU7,AW7,AY7,BA7,BC7,BE7,BG7,BI7),"") -> 6.8627451 | BQ7: =IF(COUNT(BP7)>0,"–","?") -> – | BR7: =IF(SUM(C7,E7,G7,I7,K7,M7,O7,Q7,S7,U7,W7,Y7,AA7,AC7,AE7,AG7,AI7,AK7,AM7,AO7,AQ7,AS7,AU7,AW7,AY7,BA7,BC7,BE7,BG7,BI7)>0,MAX(C7,E7,G7,I7,K7,M7,O7,Q7,S7,U7,W7,Y7,AA7,AC7,AE7,AG7,AI7,AK7,AM7,AO7,AQ7,AS7,AU7,AW7,AY7,BA7,BC7,BE7,BG7,BI7),"") -> 10.566038 | BS7: =IF(SUM(B7,D7,F7,H7,J7,L7,N7,P7,R7,T7,V7,X7,Z7,AB7,AD7,AF7,AH7,AJ7,AL7,AN7,AP7,AR7,AT7,AV7,AX7,AZ7,BB7,BD7,BF7,BH7)>0,AVERAGE(B7,D7,F7,H7,J7,L7,N7,P7,R7,T7,V7,X7,Z7,AB7,AD7,AF7,AH7,AJ7,AL7,AN7,AP7,AR7,AT7,AV7,AX7,AZ7,BB7,BD7,BF7,BH7),"?") -> 2.44 | BT7: =IF(SUM(C7,E7,G7,I7,K7,M7,O7,Q7,S7,U7,W7,Y7,AA7,AC7,AE7,AG7,AI7,AK7,AM7,AO7,AQ7,AS7,AU7,AW7,AY7,BA7,BC7,BE7,BG7,BI7)>0,AVERAGE(C7,E7,G7,I7,K7,M7,O7,Q7,S7,U7,W7,Y7,AA7,AC7,AE7,AG7,AI7,AK7,AM7,AO7,AQ7,AS7,AU7,AW7,AY7,BA7,BC7,BE7,BG7,BI7),"?") -> 9.2727708 | BU7: =IF(COUNT(B7,D7,F7,H7,J7,L7,N7,P7,R7,T7,V7,X7,Z7,AB7,AD7,AF7,AH7,AJ7,AL7,AN7,AP7,AR7,AT7,AV7,AX7,AZ7,BB7,BD7,BF7,BH7)>1,STDEV(B7,D7,F7,H7,J7,L7,N7,P7,R7,T7,V7,X7,Z7,AB7,AD7,AF7,AH7,AJ7,AL7,AN7,AP7,AR7,AT7,AV7,AX7,AZ7,BB7,BD7,BF7,BH7),"?") -> 0.38470768 | BV7: =IF(COUNT(C7,E7,G7,I7,K7,M7,O7,Q7,S7,U7,W7,Y7,AA7,AC7,AE7,AG7,AI7,AK7,AM7,AO7,AQ7,AS7,AU7,AW7,AY7,BA7,BC7,BE7,BG7,BI7)>1,STDEV(C7,E7,G7,I7,K7,M7,O7,Q7,S7,U7,W7,Y7,AA7,AC7,AE7,AG7,AI7,AK7,AM7,AO7,AQ7,AS7,AU7,AW7,AY7,BA7,BC7,BE7,BG7,BI7),"?") -> 0.80961533 | BW7: =IF(COUNT(B7)>0,B7,"?") -> 2.3 | BX7: =IF(COUNT(C7)>0,C7,"?") -> 8.1560284
A8: Buccal tube internal width | B8: 0.7 | C8: 2.4822695 | D8: 1.4 | E8: 4.7457627 | F8: 0.7 | G8: 2.5454545 | H8: 0.9 | I8: 3.0405405 | J8: 0.7 | K8: 2.3411371 | L8: 0.7 | M8: 3.5 | N8: 0.6 | O8: 2.739726 | P8: 0.5 | Q8: 2.617801 | R8: 0.6 | S8: 2.739726 | T8: 0.5 | U8: 2.4509804 | V8: 0.7 | W8: 2.9411765 | X8: 0.8 | Y8: 2.9090909 | Z8: 0.7 | AA8: 2.4647887 | AB8: 0.9 | AC8: 3.2258065 | AD8: 1.2 | AE8: 3.9087948 | AF8: 0.7 | AG8: 2.7131783 | AH8: 1.3 | AI8: 3.9039039 | AJ8: 0.7 | AK8: 2.4822695 | AL8: 0.9 | AM8: 2.8938907 | AN8: 0.5 | AO8: 1.9455253 | AP8: 0.4 | AQ8: 1.9138756 | AR8: 0.4 | AS8: 2.1052632 | AT8: 1 | AU8: 3.2258065 | AV8: 0.5 | AW8: 2.4875622 | AX8: 0.9 | AY8: 3.0927835 | AZ8: 0.7 | BA8: 2.6415094 | BB8: 0.7 | BC8: 2.5454545 | BD8: 1 | BE8: 3.4364261 | BF8: 0.8 | BG8: 2.8070175 | BH8: 0.7 | BI8: 2.2875817 | BK8: =A8 -> Buccal tube internal width | BL8: 30 | BM8: =IF(SUM(B8,D8,F8,H8,J8,L8,N8,P8,R8,T8,V8,X8,Z8,AB8,AD8,AF8,AH8,AJ8,AL8,AN8,AP8,AR8,AT8,AV8,AX8,AZ8,BB8,BD8,BF8,BH8)>0,MIN(B8,D8,F8,H8,J8,L8,N8,P8,R8,T8,V8,X8,Z8,AB8,AD8,AF8,AH8,AJ8,AL8,AN8,AP8,AR8,AT8,AV8,AX8,AZ8,BB8,BD8,BF8,BH8),"") -> 0.4 | BN8: =IF(COUNT(BM8)>0,"–","?") -> – | BO8: =IF(SUM(B8,D8,F8,H8,J8,L8,N8,P8,R8,T8,V8,X8,Z8,AB8,AD8,AF8,AH8,AJ8,AL8,AN8,AP8,AR8,AT8,AV8,AX8,AZ8,BB8,BD8,BF8,BH8)>0,MAX(B8,D8,F8,H8,J8,L8,N8,P8,R8,T8,V8,X8,Z8,AB8,AD8,AF8,AH8,AJ8,AL8,AN8,AP8,AR8,AT8,AV8,AX8,AZ8,BB8,BD8,BF8,BH8),"") -> 1.4 | BP8: =IF(SUM(C8,E8,G8,I8,K8,M8,O8,Q8,S8,U8,W8,Y8,AA8,AC8,AE8,AG8,AI8,AK8,AM8,AO8,AQ8,AS8,AU8,AW8,AY8,BA8,BC8,BE8,BG8,BI8)>0,MIN(C8,E8,G8,I8,K8,M8,O8,Q8,S8,U8,W8,Y8,AA8,AC8,AE8,AG8,AI8,AK8,AM8,AO8,AQ8,AS8,AU8,AW8,AY8,BA8,BC8,BE8,BG8,BI8),"") -> 1.9138756 | BQ8: =IF(COUNT(BP8)>0,"–","?") -> – | BR8: =IF(SUM(C8,E8,G8,I8,K8,M8,O8,Q8,S8,U8,W8,Y8,AA8,AC8,AE8,AG8,AI8,AK8,AM8,AO8,AQ8,AS8,AU8,AW8,AY8,BA8,BC8,BE8,BG8,BI8)>0,MAX(C8,E8,G8,I8,K8,M8,O8,Q8,S8,U8,W8,Y8,AA8,AC8,AE8,AG8,AI8,AK8,AM8,AO8,AQ8,AS8,AU8,AW8,AY8,BA8,BC8,BE8,BG8,BI8),"") -> 4.7457627 | BS8: =IF(SUM(B8,D8,F8,H8,J8,L8,N8,P8,R8,T8,V8,X8,Z8,AB8,AD8,AF8,AH8,AJ8,AL8,AN8,AP8,AR8,AT8,AV8,AX8,AZ8,BB8,BD8,BF8,BH8)>0,AVERAGE(B8,D8,F8,H8,J8,L8,N8,P8,R8,T8,V8,X8,Z8,AB8,AD8,AF8,AH8,AJ8,AL8,AN8,AP8,AR8,AT8,AV8,AX8,AZ8,BB8,BD8,BF8,BH8),"?") -> 0.76 | BT8: =IF(SUM(C8,E8,G8,I8,K8,M8,O8,Q8,S8,U8,W8,Y8,AA8,AC8,AE8,AG8,AI8,AK8,AM8,AO8,AQ8,AS8,AU8,AW8,AY8,BA8,BC8,BE8,BG8,BI8)>0,AVERAGE(C8,E8,G8,I8,K8,M8,O8,Q8,S8,U8,W8,Y8,AA8,AC8,AE8,AG8,AI8,AK8,AM8,AO8,AQ8,AS8,AU8,AW8,AY8,BA8,BC8,BE8,BG8,BI8),"?") -> 2.8378368 | BU8: =IF(COUNT(B8,D8,F8,H8,J8,L8,N8,P8,R8,T8,V8,X8,Z8,AB8,AD8,AF8,AH8,AJ8,AL8,AN8,AP8,AR8,AT8,AV8,AX8,AZ8,BB8,BD8,BF8,BH8)>1,STDEV(B8,D8,F8,H8,J8,L8,N8,P8,R8,T8,V8,X8,Z8,AB8,AD8,AF8,AH8,AJ8,AL8,AN8,AP8,AR8,AT8,AV8,AX8,AZ8,BB8,BD8,BF8,BH8),"?") -> 0.24297013 | BV8: =IF(COUNT(C8,E8,G8,I8,K8,M8,O8,Q8,S8,U8,W8,Y8,AA8,AC8,AE8,AG8,AI8,AK8,AM8,AO8,AQ8,AS8,AU8,AW8,AY8,BA8,BC8,BE8,BG8,BI8)>1,STDEV(C8,E8,G8,I8,K8,M8,O8,Q8,S8,U8,W8,Y8,AA8,AC8,AE8,AG8,AI8,AK8,AM8,AO8,AQ8,AS8,AU8,AW8,AY8,BA8,BC8,BE8,BG8,BI8),"?") -> 0.61140181 | BW8: =IF(COUNT(B8)>0,B8,"?") -> 0.7 | BX8: =IF(COUNT(C8)>0,C8,"?") -> 2.4822695
A9: Ventral lamina length | B9: 15.1 | C9: 53.546099 | D9: 16.5 | E9: 55.932203 | F9: 14.7 | G9: 53.454545 | H9: 16.2 | I9: 54.72973 | J9: 17.2 | K9: 57.525084 | L9: 13.1 | M9: 65.5 | N9: 15.1 | O9: 68.949772 | P9: 12.6 | Q9: 65.968586 | R9: 12.9 | S9: 58.90411 | T9: 12.5 | U9: 61.27451 | V9: 13.6 | W9: 57.142857 | X9: 16.7 | Y9: 60.727273 | Z9: 18.3 | AA9: 64.43662 | AB9: 14.1 | AC9: 50.537634 | AD9: 18.7 | AE9: 60.912052 | AF9: 16.6 | AG9: 64.341085 | AH9: 19.4 | AI9: 58.258258 | AJ9: 17.4 | AK9: 61.702128 | AL9: 17.8 | AM9: 57.234727 | AN9: 15.8 | AO9: 61.478599 | AP9: 12.3 | AQ9: 58.851675 | AR9: 11.6 | AS9: 61.052632 | AT9: 19.2 | AU9: 61.935484 | AV9: 10.2 | AW9: 50.746269 | AX9: 16.1 | AY9: 55.32646 | AZ9: 14.3 | BA9: 53.962264 | BB9: 14.7 | BC9: 53.454545 | BD9: 17.7 | BE9: 60.824742 | BF9: 14.7 | BG9: 51.578947 | BH9: 15.3 | BI9: 53.546099 | BK9: Ventral lamina length | BL9: 30 | BM9: =IF(SUM(B9,D9,F9,H9,J9,L9,N9,P9,R9,T9,V9,X9,Z9,AB9,AD9,AF9,AH9,AJ9,AL9,AN9,AP9,AR9,AT9,AV9,AX9,AZ9,BB9,BD9,BF9,BH9)>0,MIN(B9,D9,F9,H9,J9,L9,N9,P9,R9,T9,V9,X9,Z9,AB9,AD9,AF9,AH9,AJ9,AL9,AN9,AP9,AR9,AT9,AV9,AX9,AZ9,BB9,BD9,BF9,BH9),"") -> 10.2 | BN9: =IF(COUNT(BM9)>0,"–","?") -> – | BO9: =IF(SUM(B9,D9,F9,H9,J9,L9,N9,P9,R9,T9,V9,X9,Z9,AB9,AD9,AF9,AH9,AJ9,AL9,AN9,AP9,AR9,AT9,AV9,AX9,AZ9,BB9,BD9,BF9,BH9)>0,MAX(B9,D9,F9,H9,J9,L9,N9,P9,R9,T9,V9,X9,Z9,AB9,AD9,AF9,AH9,AJ9,AL9,AN9,AP9,AR9,AT9,AV9,AX9,AZ9,BB9,BD9,BF9,BH9),"") -> 19.4 | BP9: =IF(SUM(C9,E9,G9,I9,K9,M9,O9,Q9,S9,U9,W9,Y9,AA9,AC9,AE9,AG9,AI9,AK9,AM9,AO9,AQ9,AS9,AU9,AW9,AY9,BA9,BC9,BE9,BG9,BI9)>0,MIN(C9,E9,G9,I9,K9,M9,O9,Q9,S9,U9,W9,Y9,AA9,AC9,AE9,AG9,AI9,AK9,AM9,AO9,AQ9,AS9,AU9,AW9,AY9,BA9,BC9,BE9,BG9,BI9),"") -> 50.537634 | BQ9: =IF(COUNT(BP9)>0,"–","?") -> – | BR9: =IF(SUM(C9,E9,G9,I9,K9,M9,O9,Q9,S9,U9,W9,Y9,AA9,AC9,AE9,AG9,AI9,AK9,AM9,AO9,AQ9,AS9,AU9,AW9,AY9,BA9,BC9,BE9,BG9,BI9)>0,MAX(C9,E9,G9,I9,K9,M9,O9,Q9,S9,U9,W9,Y9,AA9,AC9,AE9,AG9,AI9,AK9,AM9,AO9,AQ9,AS9,AU9,AW9,AY9,BA9,BC9,BE9,BG9,BI9),"") -> 68.949772 | BS9: =IF(SUM(B9,D9,F9,H9,J9,L9,N9,P9,R9,T9,V9,X9,Z9,AB9,AD9,AF9,AH9,AJ9,AL9,AN9,AP9,AR9,AT9,AV9,AX9,AZ9,BB9,BD9,BF9,BH9)>0,AVERAGE(B9,D9,F9,H9,J9,L9,N9,P9,R9,T9,V9,X9,Z9,AB9,AD9,AF9,AH9,AJ9,AL9,AN9,AP9,AR9,AT9,AV9,AX9,AZ9,BB9,BD9,BF9,BH9),"?") -> 15.346667 | BT9: =IF(SUM(C9,E9,G9,I9,K9,M9,O9,Q9,S9,U9,W9,Y9,AA9,AC9,AE9,AG9,AI9,AK9,AM9,AO9,AQ9,AS9,AU9,AW9,AY9,BA9,BC9,BE9,BG9,BI9)>0,AVERAGE(C9,E9,G9,I9,K9,M9,O9,Q9,S9,U9,W9,Y9,AA9,AC9,AE9,AG9,AI9,AK9,AM9,AO9,AQ9,AS9,AU9,AW9,AY9,BA9,BC9,BE9,BG9,BI9),"?") -> 58.461166 | BU9: =IF(COUNT(B9,D9,F9,H9,J9,L9,N9,P9,R9,T9,V9,X9,Z9,AB9,AD9,AF9,AH9,AJ9,AL9,AN9,AP9,AR9,AT9,AV9,AX9,AZ9,BB9,BD9,BF9,BH9)>1,STDEV(B9,D9,F9,H9,J9,L9,N9,P9,R9,T9,V9,X9,Z9,AB9,AD9,AF9,AH9,AJ9,AL9,AN9,AP9,AR9,AT9,AV9,AX9,AZ9,BB9,BD9,BF9,BH9),"?") -> 2.3507495 | BV9: =IF(COUNT(C9,E9,G9,I9,K9,M9,O9,Q9,S9,U9,W9,Y9,AA9,AC9,AE9,AG9,AI9,AK9,AM9,AO9,AQ9,AS9,AU9,AW9,AY9,BA9,BC9,BE9,BG9,BI9)>1,STDEV(C9,E9,G9,I9,K9,M9,O9,Q9,S9,U9,W9,Y9,AA9,AC9,AE9,AG9,AI9,AK9,AM9,AO9,AQ9,AS9,AU9,AW9,AY9,BA9,BC9,BE9,BG9,BI9),"?") -> 4.8146502 | BW9: =IF(COUNT(B9)>0,B9,"?") -> 15.1 | BX9: =IF(COUNT(C9)>0,C9,"?") -> 53.546099
A10: Placoid lengths | BK10: =A10 -> Placoid lengths
A11: Macroplacoid 1 | B11: 3.5 | C11: 12.411348 | D11: 3.8 | E11: 12.881356 | F11: 3.8 | G11: 13.818182 | H11: 2.8 | I11: 9.4594595 | J11: 4.1 | K11: 13.712375 | L11: 2 | M11: 10 | N11: 2.6 | O11: 11.872146 | P11: 2.1 | Q11: 10.994764 | R11: 2.7 | S11: 12.328767 | T11: 2.4 | U11: 11.764706 | V11: 3 | W11: 12.605042 | X11: 3.3 | Y11: 12 | Z11: 3.5 | AA11: 12.323944 | AB11: 3.6 | AC11: 12.903226 | AD11: 3.7 | AE11: 12.052117 | AF11: 2.8 | AG11: 10.852713 | AH11: 4.6 | AI11: 13.813814 | AJ11: 3 | AK11: 10.638298 | AL11: 3.8 | AM11: 12.21865 | AN11: 3.3 | AO11: 12.840467 | AP11: 2.4 | AQ11: 11.483254 | AR11: 2.6 | AS11: 13.684211 | AT11: 4.1 | AU11: 13.225806 | AV11: 2.6 | AW11: 12.935323 | AX11: 3.5 | AY11: 12.027491 | AZ11: 2.8 | BA11: 10.566038 | BB11: 3.3 | BC11: 12 | BD11: 3.3 | BE11: 11.340206 | BF11: 3.2 | BG11: 11.22807 | BH11: 3.6 | BI11: 11.764706 | BK11: =A11 -> Macroplacoid 1 | BL11: 30 | BM11: =IF(SUM(B11,D11,F11,H11,J11,L11,N11,P11,R11,T11,V11,X11,Z11,AB11,AD11,AF11,AH11,AJ11,AL11,AN11,AP11,AR11,AT11,AV11,AX11,AZ11,BB11,BD11,BF11,BH11)>0,MIN(B11,D11,F11,H11,J11,L11,N11,P11,R11,T11,V11,X11,Z11,AB11,AD11,AF11,AH11,AJ11,AL11,AN11,AP11,AR11,AT11,AV11,AX11,AZ11,BB11,BD11,BF11,BH11),"") -> 2 | BN11: =IF(COUNT(BM11)>0,"–","?") -> – | BO11: =IF(SUM(B11,D11,F11,H11,J11,L11,N11,P11,R11,T11,V11,X11,Z11,AB11,AD11,AF11,AH11,AJ11,AL11,AN11,AP11,AR11,AT11,AV11,AX11,AZ11,BB11,BD11,BF11,BH11)>0,MAX(B11,D11,F11,H11,J11,L11,N11,P11,R11,T11,V11,X11,Z11,AB11,AD11,AF11,AH11,AJ11,AL11,AN11,AP11,AR11,AT11,AV11,AX11,AZ11,BB11,BD11,BF11,BH11),"") -> 4.6 | BP11: =IF(SUM(C11,E11,G11,I11,K11,M11,O11,Q11,S11,U11,W11,Y11,AA11,AC11,AE11,AG11,AI11,AK11,AM11,AO11,AQ11,AS11,AU11,AW11,AY11,BA11,BC11,BE11,BG11,BI11)>0,MIN(C11,E11,G11,I11,K11,M11,O11,Q11,S11,U11,W11,Y11,AA11,AC11,AE11,AG11,AI11,AK11,AM11,AO11,AQ11,AS11,AU11,AW11,AY11,BA11,BC11,BE11,BG11,BI11),"") -> 9.4594595 | BQ11: =IF(COUNT(BP11)>0,"–","?") -> – | BR11: =IF(SUM(C11,E11,G11,I11,K11,M11,O11,Q11,S11,U11,W11,Y11,AA11,AC11,AE11,AG11,AI11,AK11,AM11,AO11,AQ11,AS11,AU11,AW11,AY11,BA11,BC11,BE11,BG11,BI11)>0,MAX(C11,E11,G11,I11,K11,M11,O11,Q11,S11,U11,W11,Y11,AA11,AC11,AE11,AG11,AI11,AK11,AM11,AO11,AQ11,AS11,AU11,AW11,AY11,BA11,BC11,BE11,BG11,BI11),"") -> 13.818182 | BS11: =IF(SUM(B11,D11,F11,H11,J11,L11,N11,P11,R11,T11,V11,X11,Z11,AB11,AD11,AF11,AH11,AJ11,AL11,AN11,AP11,AR11,AT11,AV11,AX11,AZ11,BB11,BD11,BF11,BH11)>0,AVERAGE(B11,D11,F11,H11,J11,L11,N11,P11,R11,T11,V11,X11,Z11,AB11,AD11,AF11,AH11,AJ11,AL11,AN11,AP11,AR11,AT11,AV11,AX11,AZ11,BB11,BD11,BF11,BH11),"?") -> 3.1933333 | BT11: =IF(SUM(C11,E11,G11,I11,K11,M11,O11,Q11,S11,U11,W11,Y11,AA11,AC11,AE11,AG11,AI11,AK11,AM11,AO11,AQ11,AS11,AU11,AW11,AY11,BA11,BC11,BE11,BG11,BI11)>0,AVERAGE(C11,E11,G11,I11,K11,M11,O11,Q11,S11,U11,W11,Y11,AA11,AC11,AE11,AG11,AI11,AK11,AM11,AO11,AQ11,AS11,AU11,AW11,AY11,BA11,BC11,BE11,BG11,BI11),"?") -> 12.058216 | BU11: =IF(COUNT(B11,D11,F11,H11,J11,L11,N11,P11,R11,T11,V11,X11,Z11,AB11,AD11,AF11,AH11,AJ11,AL11,AN11,AP11,AR11,AT11,AV11,AX11,AZ11,BB11,BD11,BF11,BH11)>1,STDEV(B11,D11,F11,H11,J11,L11,N11,P11,R11,T11,V11,X11,Z11,AB11,AD11,AF11,AH11,AJ11,AL11,AN11,AP11,AR11,AT11,AV11,AX11,AZ11,BB11,BD11,BF11,BH11),"?") -> 0.62584196 | BV11: =IF(COUNT(C11,E11,G11,I11,K11,M11,O11,Q11,S11,U11,W11,Y11,AA11,AC11,AE11,AG11,AI11,AK11,AM11,AO11,AQ11,AS11,AU11,AW11,AY11,BA11,BC11,BE11,BG11,BI11)>1,STDEV(C11,E11,G11,I11,K11,M11,O11,Q11,S11,U11,W11,Y11,AA11,AC11,AE11,AG11,AI11,AK11,AM11,AO11,AQ11,AS11,AU11,AW11,AY11,BA11,BC11,BE11,BG11,BI11),"?") -> 1.1119373 | BW11: =IF(COUNT(B11)>0,B11,"?") -> 3.5 | BX11: =IF(COUNT(C11)>0,C11,"?") -> 12.411348
A12: Macroplacoid 2 | B12: 2.5 | C12: 8.8652482 | D12: 2.4 | E12: 8.1355932 | F12: 2.5 | G12: 9.0909091 | H12: 2.5 | I12: 8.4459459 | J12: 2.6 | K12: 8.6956522 | L12: 1.6 | M12: 8 | N12: 2 | O12: 9.1324201 | P12: 1.4 | Q12: 7.3298429 | R12: 1.9 | S12: 8.6757991 | T12: 1.6 | U12: 7.8431373 | V12: 2.1 | W12: 8.8235294 | X12: 2.1 | Y12: 7.6363636 | Z12: 2.6 | AA12: 9.1549296 | AB12: 2.6 | AC12: 9.3189964 | AD12: 2.8 | AE12: 9.1205212 | AF12: 2.3 | AG12: 8.9147287 | AH12: 2.6 | AI12: 7.8078078 | AJ12: 2 | AK12: 7.0921986 | AL12: 2.9 | AM12: 9.3247588 | AN12: 2.1 | AO12: 8.1712062 | AP12: 1.9 | AQ12: 9.0909091 | AR12: 1.6 | AS12: 8.4210526 | AT12: 2.9 | AU12: 9.3548387 | AV12: 1.4 | AW12: 6.9651741 | AX12: 2.6 | AY12: 8.9347079 | AZ12: 2.1 | BA12: 7.9245283 | BB12: 2.6 | BC12: 9.4545455 | BD12: 2.5 | BE12: 8.5910653 | BF12: 2.4 | BG12: 8.4210526 | BH12: 2.6 | BI12: 8.496732 | BK12: =A12 -> Macroplacoid 2 | BL12: 30 | BM12: =IF(SUM(B12,D12,F12,H12,J12,L12,N12,P12,R12,T12,V12,X12,Z12,AB12,AD12,AF12,AH12,AJ12,AL12,AN12,AP12,AR12,AT12,AV12,AX12,AZ12,BB12,BD12,BF12,BH12)>0,MIN(B12,D12,F12,H12,J12,L12,N12,P12,R12,T12,V12,X12,Z12,AB12,AD12,AF12,AH12,AJ12,AL12,AN12,AP12,AR12,AT12,AV12,AX12,AZ12,BB12,BD12,BF12,BH12),"") -> 1.4 | BN12: =IF(COUNT(BM12)>0,"–","?") -> – | BO12: =IF(SUM(B12,D12,F12,H12,J12,L12,N12,P12,R12,T12,V12,X12,Z12,AB12,AD12,AF12,AH12,AJ12,AL12,AN12,AP12,AR12,AT12,AV12,AX12,AZ12,BB12,BD12,BF12,BH12)>0,MAX(B12,D12,F12,H12,J12,L12,N12,P12,R12,T12,V12,X12,Z12,AB12,AD12,AF12,AH12,AJ12,AL12,AN12,AP12,AR12,AT12,AV12,AX12,AZ12,BB12,BD12,BF12,BH12),"") -> 2.9 | BP12: =IF(SUM(C12,E12,G12,I12,K12,M12,O12,Q12,S12,U12,W12,Y12,AA12,AC12,AE12,AG12,AI12,AK12,AM12,AO12,AQ12,AS12,AU12,AW12,AY12,BA12,BC12,BE12,BG12,BI12)>0,MIN(C12,E12,G12,I12,K12,M12,O12,Q12,S12,U12,W12,Y12,AA12,AC12,AE12,AG12,AI12,AK12,AM12,AO12,AQ12,AS12,AU12,AW12,AY12,BA12,BC12,BE12,BG12,BI12),"") -> 6.9651741 | BQ12: =IF(COUNT(BP12)>0,"–","?") -> – | BR12: =IF(SUM(C12,E12,G12,I12,K12,M12,O12,Q12,S12,U12,W12,Y12,AA12,AC12,AE12,AG12,AI12,AK12,AM12,AO12,AQ12,AS12,AU12,AW12,AY12,BA12,BC12,BE12,BG12,BI12)>0,MAX(C12,E12,G12,I12,K12,M12,O12,Q12,S12,U12,W12,Y12,AA12,AC12,AE12,AG12,AI12,AK12,AM12,AO12,AQ12,AS12,AU12,AW12,AY12,BA12,BC12,BE12,BG12,BI12),"") -> 9.4545455 | BS12: =IF(SUM(B12,D12,F12,H12,J12,L12,N12,P12,R12,T12,V12,X12,Z12,AB12,AD12,AF12,AH12,AJ12,AL12,AN12,AP12,AR12,AT12,AV12,AX12,AZ12,BB12,BD12,BF12,BH12)>0,AVERAGE(B12,D12,F12,H12,J12,L12,N12,P12,R12,T12,V12,X12,Z12,AB12,AD12,AF12,AH12,AJ12,AL12,AN12,AP12,AR12,AT12,AV12,AX12,AZ12,BB12,BD12,BF12,BH12),"?") -> 2.2566667 | BT12: =IF(SUM(C12,E12,G12,I12,K12,M12,O12,Q12,S12,U12,W12,Y12,AA12,AC12,AE12,AG12,AI12,AK12,AM12,AO12,AQ12,AS12,AU12,AW12,AY12,BA12,BC12,BE12,BG12,BI12)>0,AVERAGE(C12,E12,G12,I12,K12,M12,O12,Q12,S12,U12,W12,Y12,AA12,AC12,AE12,AG12,AI12,AK12,AM12,AO12,AQ12,AS12,AU12,AW12,AY12,BA12,BC12,BE12,BG12,BI12),"?") -> 8.5078065 | BU12: =IF(COUNT(B12,D12,F12,H12,J12,L12,N12,P12,R12,T12,V12,X12,Z12,AB12,AD12,AF12,AH12,AJ12,AL12,AN12,AP12,AR12,AT12,AV12,AX12,AZ12,BB12,BD12,BF12,BH12)>1,STDEV(B12,D12,F12,H12,J12,L12,N12,P12,R12,T12,V12,X12,Z12,AB12,AD12,AF12,AH12,AJ12,AL12,AN12,AP12,AR12,AT12,AV12,AX12,AZ12,BB12,BD12,BF12,BH12),"?") -> 0.43445037 | BV12: =IF(COUNT(C12,E12,G12,I12,K12,M12,O12,Q12,S12,U12,W12,Y12,AA12,AC12,AE12,AG12,AI12,AK12,AM12,AO12,AQ12,AS12,AU12,AW12,AY12,BA12,BC12,BE12,BG12,BI12)>1,STDEV(C12,E12,G12,I12,K12,M12,O12,Q12,S12,U12,W12,Y12,AA12,AC12,AE12,AG12,AI12,AK12,AM12,AO12,AQ12,AS12,AU12,AW12,AY12,BA12,BC12,BE12,BG12,BI12),"?") -> 0.68934403 | BW12: =IF(COUNT(B12)>0,B12,"?") -> 2.5 | BX12: =IF(COUNT(C12)>0,C12,"?") -> 8.8652482
A13: Macroplacoid 3 | B13: 2.3 | C13: 8.1560284 | D13: 3.3 | E13: 11.186441 | F13: 3 | G13: 10.909091 | H13: 2.6 | I13: 8.7837838 | J13: 2.8 | K13: 9.3645485 | L13: 1.8 | M13: 9 | N13: 2.3 | O13: 10.502283 | P13: 1.9 | Q13: 9.947644 | R13: 2.1 | S13: 9.5890411 | T13: 1.9 | U13: 9.3137255 | V13: 2.1 | W13: 8.8235294 | X13: 2.4 | Y13: 8.7272727 | Z13: 2.8 | AA13: 9.8591549 | AB13: 3.1 | AC13: 11.111111 | AD13: 2.9 | AE13: 9.4462541 | AF13: 2.6 | AG13: 10.077519 | AH13: 3.3 | AI13: 9.9099099 | AJ13: 2.7 | AK13: 9.5744681 | AL13: 3.1 | AM13: 9.9678457 | AN13: 2.7 | AO13: 10.505837 | AP13: 1.9 | AQ13: 9.0909091 | AR13: 2.5 | AS13: 13.157895 | AT13: 3.2 | AU13: 10.322581 | AV13: 1.9 | AW13: 9.4527363 | AX13: 2.8 | AY13: 9.6219931 | AZ13: 2.6 | BA13: 9.8113208 | BB13: 3 | BC13: 10.909091 | BD13: 2.8 | BE13: 9.6219931 | BF13: 2.8 | BG13: 9.8245614 | BH13: 3.2 | BI13: 10.457516 | BK13: =A13 -> Macroplacoid 3 | BL13: 30 | BM13: =IF(SUM(B13,D13,F13,H13,J13,L13,N13,P13,R13,T13,V13,X13,Z13,AB13,AD13,AF13,AH13,AJ13,AL13,AN13,AP13,AR13,AT13,AV13,AX13,AZ13,BB13,BD13,BF13,BH13)>0,MIN(B13,D13,F13,H13,J13,L13,N13,P13,R13,T13,V13,X13,Z13,AB13,AD13,AF13,AH13,AJ13,AL13,AN13,AP13,AR13,AT13,AV13,AX13,AZ13,BB13,BD13,BF13,BH13),"") -> 1.8 | BN13: =IF(COUNT(BM13)>0,"–","?") -> – | BO13: =IF(SUM(B13,D13,F13,H13,J13,L13,N13,P13,R13,T13,V13,X13,Z13,AB13,AD13,AF13,AH13,AJ13,AL13,AN13,AP13,AR13,AT13,AV13,AX13,AZ13,BB13,BD13,BF13,BH13)>0,MAX(B13,D13,F13,H13,J13,L13,N13,P13,R13,T13,V13,X13,Z13,AB13,AD13,AF13,AH13,AJ13,AL13,AN13,AP13,AR13,AT13,AV13,AX13,AZ13,BB13,BD13,BF13,BH13),"") -> 3.3 | BP13: =IF(SUM(C13,E13,G13,I13,K13,M13,O13,Q13,S13,U13,W13,Y13,AA13,AC13,AE13,AG13,AI13,AK13,AM13,AO13,AQ13,AS13,AU13,AW13,AY13,BA13,BC13,BE13,BG13,BI13)>0,MIN(C13,E13,G13,I13,K13,M13,O13,Q13,S13,U13,W13,Y13,AA13,AC13,AE13,AG13,AI13,AK13,AM13,AO13,AQ13,AS13,AU13,AW13,AY13,BA13,BC13,BE13,BG13,BI13),"") -> 8.1560284 | BQ13: =IF(COUNT(BP13)>0,"–","?") -> – | BR13: =IF(SUM(C13,E13,G13,I13,K13,M13,O13,Q13,S13,U13,W13,Y13,AA13,AC13,AE13,AG13,AI13,AK13,AM13,AO13,AQ13,AS13,AU13,AW13,AY13,BA13,BC13,BE13,BG13,BI13)>0,MAX(C13,E13,G13,I13,K13,M13,O13,Q13,S13,U13,W13,Y13,AA13,AC13,AE13,AG13,AI13,AK13,AM13,AO13,AQ13,AS13,AU13,AW13,AY13,BA13,BC13,BE13,BG13,BI13),"") -> 13.157895 | BS13: =IF(SUM(B13,D13,F13,H13,J13,L13,N13,P13,R13,T13,V13,X13,Z13,AB13,AD13,AF13,AH13,AJ13,AL13,AN13,AP13,AR13,AT13,AV13,AX13,AZ13,BB13,BD13,BF13,BH13)>0,AVERAGE(B13,D13,F13,H13,J13,L13,N13,P13,R13,T13,V13,X13,Z13,AB13,AD13,AF13,AH13,AJ13,AL13,AN13,AP13,AR13,AT13,AV13,AX13,AZ13,BB13,BD13,BF13,BH13),"?") -> 2.6133333 | BT13: =IF(SUM(C13,E13,G13,I13,K13,M13,O13,Q13,S13,U13,W13,Y13,AA13,AC13,AE13,AG13,AI13,AK13,AM13,AO13,AQ13,AS13,AU13,AW13,AY13,BA13,BC13,BE13,BG13,BI13)>0,AVERAGE(C13,E13,G13,I13,K13,M13,O13,Q13,S13,U13,W13,Y13,AA13,AC13,AE13,AG13,AI13,AK13,AM13,AO13,AQ13,AS13,AU13,AW13,AY13,BA13,BC13,BE13,BG13,BI13),"?") -> 9.9008695 | BU13: =IF(COUNT(B13,D13,F13,H13,J13,L13,N13,P13,R13,T13,V13,X13,Z13,AB13,AD13,AF13,AH13,AJ13,AL13,AN13,AP13,AR13,AT13,AV13,AX13,AZ13,BB13,BD13,BF13,BH13)>1,STDEV(B13,D13,F13,H13,J13,L13,N13,P13,R13,T13,V13,X13,Z13,AB13,AD13,AF13,AH13,AJ13,AL13,AN13,AP13,AR13,AT13,AV13,AX13,AZ13,BB13,BD13,BF13,BH13),"?") -> 0.46068415 | BV13: =IF(COUNT(C13,E13,G13,I13,K13,M13,O13,Q13,S13,U13,W13,Y13,AA13,AC13,AE13,AG13,AI13,AK13,AM13,AO13,AQ13,AS13,AU13,AW13,AY13,BA13,BC13,BE13,BG13,BI13)>1,STDEV(C13,E13,G13,I13,K13,M13,O13,Q13,S13,U13,W13,Y13,AA13,AC13,AE13,AG13,AI13,AK13,AM13,AO13,AQ13,AS13,AU13,AW13,AY13,BA13,BC13,BE13,BG13,BI13),"?") -> 0.959969 | BW13: =IF(COUNT(B13)>0,B13,"?") -> 2.3 | BX13: =IF(COUNT(C13)>0,C13,"?") -> 8.1560284
A14: Microplacoid under UV | B14: 2 | D14: 4 | F14: 2 | H14: 3 | J14: 1 | L14: 0 | N14: 1 | P14: 1 | R14: 1 | T14: 0 | V14: 1 | X14: 2 | Z14: 3 | AB14: 2 | AD14: 2 | AF14: 2 | AH14: 3 | AJ14: 1 | AL14: 0 | AN14: n/d | AP14: 0 | AR14: 0 | AT14: 4 | AV14: 0 | AX14: 0 | AZ14: 1 | BB14: 0 | BD14: 2 | BF14: 0 | BH14: 0
A15: Macroplacoid row | B15: 9.1 | C15: 32.269504 | D15: 10.7 | E15: 36.271186 | F15: 9.7 | G15: 35.272727 | H15: 8.9 | I15: 30.067568 | J15: 10.5 | K15: 35.117057 | L15: 5.4 | M15: 27 | N15: 7 | O15: 31.96347 | P15: 5.8 | Q15: 30.366492 | R15: 6.6 | S15: 30.136986 | T15: 6.3 | U15: 30.882353 | V15: 7.9 | W15: 33.193277 | X15: 8.9 | Y15: 32.363636 | Z15: 9.5 | AA15: 33.450704 | AB15: 9.5 | AC15: 34.050179 | AD15: 10.2 | AE15: 33.224756 | AF15: 8.8 | AG15: 34.108527 | AH15: 11.7 | AI15: 35.135135 | AJ15: 9.5 | AK15: 33.687943 | AL15: 10.8 | AM15: 34.726688 | AN15: 8.4 | AO15: 32.684825 | AP15: 5.9 | AQ15: 28.229665 | AR15: 7.2 | AS15: 37.894737 | AT15: 10.9 | AU15: 35.16129 | AV15: 6.8 | AW15: 33.830846 | AX15: 9.9 | AY15: 34.020619 | AZ15: 8.6 | BA15: 32.45283 | BB15: 9.6 | BC15: 34.909091 | BD15: 10.2 | BE15: 35.051546 | BF15: 10 | BG15: 35.087719 | BH15: 9.6 | BI15: 31.372549 | BK15: =A15 -> Macroplacoid row | BL15: 30 | BM15: =IF(SUM(B15,D15,F15,H15,J15,L15,N15,P15,R15,T15,V15,X15,Z15,AB15,AD15,AF15,AH15,AJ15,AL15,AN15,AP15,AR15,AT15,AV15,AX15,AZ15,BB15,BD15,BF15,BH15)>0,MIN(B15,D15,F15,H15,J15,L15,N15,P15,R15,T15,V15,X15,Z15,AB15,AD15,AF15,AH15,AJ15,AL15,AN15,AP15,AR15,AT15,AV15,AX15,AZ15,BB15,BD15,BF15,BH15),"") -> 5.4 | BN15: =IF(COUNT(BM15)>0,"–","?") -> – | BO15: =IF(SUM(B15,D15,F15,H15,J15,L15,N15,P15,R15,T15,V15,X15,Z15,AB15,AD15,AF15,AH15,AJ15,AL15,AN15,AP15,AR15,AT15,AV15,AX15,AZ15,BB15,BD15,BF15,BH15)>0,MAX(B15,D15,F15,H15,J15,L15,N15,P15,R15,T15,V15,X15,Z15,AB15,AD15,AF15,AH15,AJ15,AL15,AN15,AP15,AR15,AT15,AV15,AX15,AZ15,BB15,BD15,BF15,BH15),"") -> 11.7 | BP15: =IF(SUM(C15,E15,G15,I15,K15,M15,O15,Q15,S15,U15,W15,Y15,AA15,AC15,AE15,AG15,AI15,AK15,AM15,AO15,AQ15,AS15,AU15,AW15,AY15,BA15,BC15,BE15,BG15,BI15)>0,MIN(C15,E15,G15,I15,K15,M15,O15,Q15,S15,U15,W15,Y15,AA15,AC15,AE15,AG15,AI15,AK15,AM15,AO15,AQ15,AS15,AU15,AW15,AY15,BA15,BC15,BE15,BG15,BI15),"") -> 27 | BQ15: =IF(COUNT(BP15)>0,"–","?") -> – | BR15: =IF(SUM(C15,E15,G15,I15,K15,M15,O15,Q15,S15,U15,W15,Y15,AA15,AC15,AE15,AG15,AI15,AK15,AM15,AO15,AQ15,AS15,AU15,AW15,AY15,BA15,BC15,BE15,BG15,BI15)>0,MAX(C15,E15,G15,I15,K15,M15,O15,Q15,S15,U15,W15,Y15,AA15,AC15,AE15,AG15,AI15,AK15,AM15,AO15,AQ15,AS15,AU15,AW15,AY15,BA15,BC15,BE15,BG15,BI15),"") -> 37.894737 | BS15: =IF(SUM(B15,D15,F15,H15,J15,L15,N15,P15,R15,T15,V15,X15,Z15,AB15,AD15,AF15,AH15,AJ15,AL15,AN15,AP15,AR15,AT15,AV15,AX15,AZ15,BB15,BD15,BF15,BH15)>0,AVERAGE(B15,D15,F15,H15,J15,L15,N15,P15,R15,T15,V15,X15,Z15,AB15,AD15,AF15,AH15,AJ15,AL15,AN15,AP15,AR15,AT15,AV15,AX15,AZ15,BB15,BD15,BF15,BH15),"?") -> 8.7966667 | BT15: =IF(SUM(C15,E15,G15,I15,K15,M15,O15,Q15,S15,U15,W15,Y15,AA15,AC15,AE15,AG15,AI15,AK15,AM15,AO15,AQ15,AS15,AU15,AW15,AY15,BA15,BC15,BE15,BG15,BI15)>0,AVERAGE(C15,E15,G15,I15,K15,M15,O15,Q15,S15,U15,W15,Y15,AA15,AC15,AE15,AG15,AI15,AK15,AM15,AO15,AQ15,AS15,AU15,AW15,AY15,BA15,BC15,BE15,BG15,BI15),"?") -> 33.132797 | BU15: =IF(COUNT(B15,D15,F15,H15,J15,L15,N15,P15,R15,T15,V15,X15,Z15,AB15,AD15,AF15,AH15,AJ15,AL15,AN15,AP15,AR15,AT15,AV15,AX15,AZ15,BB15,BD15,BF15,BH15)>1,STDEV(B15,D15,F15,H15,J15,L15,N15,P15,R15,T15,V15,X15,Z15,AB15,AD15,AF15,AH15,AJ15,AL15,AN15,AP15,AR15,AT15,AV15,AX15,AZ15,BB15,BD15,BF15,BH15),"?") -> 1.7062731 | BV15: =IF(COUNT(C15,E15,G15,I15,K15,M15,O15,Q15,S15,U15,W15,Y15,AA15,AC15,AE15,AG15,AI15,AK15,AM15,AO15,AQ15,AS15,AU15,AW15,AY15,BA15,BC15,BE15,BG15,BI15)>1,STDEV(C15,E15,G15,I15,K15,M15,O15,Q15,S15,U15,W15,Y15,AA15,AC15,AE15,AG15,AI15,AK15,AM15,AO15,AQ15,AS15,AU15,AW15,AY15,BA15,BC15,BE15,BG15,BI15),"?") -> 2.3857399 | BW15: =IF(COUNT(B15)>0,B15,"?") -> 9.1 | BX15: =IF(COUNT(C15)>0,C15,"?") -> 32.269504
A16: Claw I heights | BK16: =A16 -> Claw I heights
A17: External primary branch | B17: 9 | C17: 31.914894 | D17: 11.2 | E17: 37.966102 | F17: 8.7 | G17: 31.636364 | H17: 9.4 | I17: 31.756757 | J17: 9.5 | K17: 31.772575 | L17: 5.8 | M17: 29 | N17: 7 | O17: 31.96347 | P17: 6.3 | Q17: 32.984293 | R17: 6.7 | S17: 30.593607 | T17: 5.9 | U17: 28.921569 | V17: 7.8 | W17: 32.773109 | X17: 8.8 | Y17: 32 | Z17: 9.8 | AA17: 34.507042 | AB17: 8.5 | AC17: 30.46595 | AD17: 10.9 | AE17: 35.504886 | AF17: 8.2 | AG17: 31.782946 | AH17: 10.4 | AI17: 31.231231 | AJ17: 9.6 | AK17: 34.042553 | AL17: 9.7 | AM17: 31.189711 | AN17: 8.2 | AO17: 31.906615 | AP17: 7.1 | AQ17: 33.971292 | AR17: 3.7 | AS17: 19.473684 | AT17: 11 | AU17: 35.483871 | AV17: 6.8 | AW17: 33.830846 | AX17: 8.5 | AY17: 29.209622 | AZ17: 8.8 | BA17: 33.207547 | BB17: 8.4 | BC17: 30.545455 | BD17: 9.1 | BE17: 31.271478 | BF17: 8.7 | BG17: 30.526316 | BH17: 8.7 | BI17: 28.431373 | BK17: =A17 -> External primary branch | BL17: 30 | BM17: =IF(SUM(B17,D17,F17,H17,J17,L17,N17,P17,R17,T17,V17,X17,Z17,AB17,AD17,AF17,AH17,AJ17,AL17,AN17,AP17,AR17,AT17,AV17,AX17,AZ17,BB17,BD17,BF17,BH17)>0,MIN(B17,D17,F17,H17,J17,L17,N17,P17,R17,T17,V17,X17,Z17,AB17,AD17,AF17,AH17,AJ17,AL17,AN17,AP17,AR17,AT17,AV17,AX17,AZ17,BB17,BD17,BF17,BH17),"") -> 3.7 | BN17: =IF(COUNT(BM17)>0,"–","?") -> – | BO17: =IF(SUM(B17,D17,F17,H17,J17,L17,N17,P17,R17,T17,V17,X17,Z17,AB17,AD17,AF17,AH17,AJ17,AL17,AN17,AP17,AR17,AT17,AV17,AX17,AZ17,BB17,BD17,BF17,BH17)>0,MAX(B17,D17,F17,H17,J17,L17,N17,P17,R17,T17,V17,X17,Z17,AB17,AD17,AF17,AH17,AJ17,AL17,AN17,AP17,AR17,AT17,AV17,AX17,AZ17,BB17,BD17,BF17,BH17),"") -> 11.2 | BP17: =IF(SUM(C17,E17,G17,I17,K17,M17,O17,Q17,S17,U17,W17,Y17,AA17,AC17,AE17,AG17,AI17,AK17,AM17,AO17,AQ17,AS17,AU17,AW17,AY17,BA17,BC17,BE17,BG17,BI17)>0,MIN(C17,E17,G17,I17,K17,M17,O17,Q17,S17,U17,W17,Y17,AA17,AC17,AE17,AG17,AI17,AK17,AM17,AO17,AQ17,AS17,AU17,AW17,AY17,BA17,BC17,BE17,BG17,BI17),"") -> 19.473684 | BQ17: =IF(COUNT(BP17)>0,"–","?") -> – | BR17: =IF(SUM(C17,E17,G17,I17,K17,M17,O17,Q17,S17,U17,W17,Y17,AA17,AC17,AE17,AG17,AI17,AK17,AM17,AO17,AQ17,AS17,AU17,AW17,AY17,BA17,BC17,BE17,BG17,BI17)>0,MAX(C17,E17,G17,I17,K17,M17,O17,Q17,S17,U17,W17,Y17,AA17,AC17,AE17,AG17,AI17,AK17,AM17,AO17,AQ17,AS17,AU17,AW17,AY17,BA17,BC17,BE17,BG17,BI17),"") -> 37.966102 | BS17: =IF(SUM(B17,D17,F17,H17,J17,L17,N17,P17,R17,T17,V17,X17,Z17,AB17,AD17,AF17,AH17,AJ17,AL17,AN17,AP17,AR17,AT17,AV17,AX17,AZ17,BB17,BD17,BF17,BH17)>0,AVERAGE(B17,D17,F17,H17,J17,L17,N17,P17,R17,T17,V17,X17,Z17,AB17,AD17,AF17,AH17,AJ17,AL17,AN17,AP17,AR17,AT17,AV17,AX17,AZ17,BB17,BD17,BF17,BH17),"?") -> 8.4066667 | BT17: =IF(SUM(C17,E17,G17,I17,K17,M17,O17,Q17,S17,U17,W17,Y17,AA17,AC17,AE17,AG17,AI17,AK17,AM17,AO17,AQ17,AS17,AU17,AW17,AY17,BA17,BC17,BE17,BG17,BI17)>0,AVERAGE(C17,E17,G17,I17,K17,M17,O17,Q17,S17,U17,W17,Y17,AA17,AC17,AE17,AG17,AI17,AK17,AM17,AO17,AQ17,AS17,AU17,AW17,AY17,BA17,BC17,BE17,BG17,BI17),"?") -> 31.662172 | BU17: =IF(COUNT(B17,D17,F17,H17,J17,L17,N17,P17,R17,T17,V17,X17,Z17,AB17,AD17,AF17,AH17,AJ17,AL17,AN17,AP17,AR17,AT17,AV17,AX17,AZ17,BB17,BD17,BF17,BH17)>1,STDEV(B17,D17,F17,H17,J17,L17,N17,P17,R17,T17,V17,X17,Z17,AB17,AD17,AF17,AH17,AJ17,AL17,AN17,AP17,AR17,AT17,AV17,AX17,AZ17,BB17,BD17,BF17,BH17),"?") -> 1.6882828 | BV17: =IF(COUNT(C17,E17,G17,I17,K17,M17,O17,Q17,S17,U17,W17,Y17,AA17,AC17,AE17,AG17,AI17,AK17,AM17,AO17,AQ17,AS17,AU17,AW17,AY17,BA17,BC17,BE17,BG17,BI17)>1,STDEV(C17,E17,G17,I17,K17,M17,O17,Q17,S17,U17,W17,Y17,AA17,AC17,AE17,AG17,AI17,AK17,AM17,AO17,AQ17,AS17,AU17,AW17,AY17,BA17,BC17,BE17,BG17,BI17),"?") -> 3.1289707 | BW17: =IF(COUNT(B17)>0,B17,"?") -> 9 | BX17: =IF(COUNT(C17)>0,C17,"?") -> 31.914894
A18: External secondary branch | B18: 6.6 | C18: 23.404255 | D18: 8.7 | E18: 29.491525 | F18: 7.2 | G18: 26.181818 | H18: 7.8 | I18: 26.351351 | J18: 7.6 | K18: 25.41806 | L18: 3.6 | M18: 18 | N18: 5.2 | O18: 23.744292 | P18: 3.7 | Q18: 19.371728 | R18: 4.7 | S18: 21.461187 | T18: 3.5 | U18: 17.156863 | V18: 5.4 | W18: 22.689076 | X18: 6.6 | Y18: 24 | Z18: 7.8 | AA18: 27.464789 | AB18: 5.3 | AC18: 18.996416 | AD18: 8.7 | AE18: 28.338762 | AF18: 5.8 | AG18: 22.48062 | AH18: 8.2 | AI18: 24.624625 | AJ18: 8.3 | AK18: 29.432624 | AL18: 8.3 | AM18: 26.688103 | AN18: 6.2 | AO18: 24.124514 | AP18: 4.4 | AQ18: 21.052632 | AR18: 3.5 | AS18: 18.421053 | AT18: 8.4 | AU18: 27.096774 | AV18: 4.2 | AW18: 20.895522 | AX18: 6.4 | AY18: 21.993127 | AZ18: 5.6 | BA18: 21.132075 | BB18: 6.5 | BC18: 23.636364 | BD18: 6.8 | BE18: 23.367698 | BF18: 6.3 | BG18: 22.105263 | BH18: 7.6 | BI18: 24.836601 | BK18: =A18 -> External secondary branch | BL18: 30 | BM18: =IF(SUM(B18,D18,F18,H18,J18,L18,N18,P18,R18,T18,V18,X18,Z18,AB18,AD18,AF18,AH18,AJ18,AL18,AN18,AP18,AR18,AT18,AV18,AX18,AZ18,BB18,BD18,BF18,BH18)>0,MIN(B18,D18,F18,H18,J18,L18,N18,P18,R18,T18,V18,X18,Z18,AB18,AD18,AF18,AH18,AJ18,AL18,AN18,AP18,AR18,AT18,AV18,AX18,AZ18,BB18,BD18,BF18,BH18),"") -> 3.5 | BN18: =IF(COUNT(BM18)>0,"–","?") -> – | BO18: =IF(SUM(B18,D18,F18,H18,J18,L18,N18,P18,R18,T18,V18,X18,Z18,AB18,AD18,AF18,AH18,AJ18,AL18,AN18,AP18,AR18,AT18,AV18,AX18,AZ18,BB18,BD18,BF18,BH18)>0,MAX(B18,D18,F18,H18,J18,L18,N18,P18,R18,T18,V18,X18,Z18,AB18,AD18,AF18,AH18,AJ18,AL18,AN18,AP18,AR18,AT18,AV18,AX18,AZ18,BB18,BD18,BF18,BH18),"") -> 8.7 | BP18: =IF(SUM(C18,E18,G18,I18,K18,M18,O18,Q18,S18,U18,W18,Y18,AA18,AC18,AE18,AG18,AI18,AK18,AM18,AO18,AQ18,AS18,AU18,AW18,AY18,BA18,BC18,BE18,BG18,BI18)>0,MIN(C18,E18,G18,I18,K18,M18,O18,Q18,S18,U18,W18,Y18,AA18,AC18,AE18,AG18,AI18,AK18,AM18,AO18,AQ18,AS18,AU18,AW18,AY18,BA18,BC18,BE18,BG18,BI18),"") -> 17.156863 | BQ18: =IF(COUNT(BP18)>0,"–","?") -> – | BR18: =IF(SUM(C18,E18,G18,I18,K18,M18,O18,Q18,S18,U18,W18,Y18,AA18,AC18,AE18,AG18,AI18,AK18,AM18,AO18,AQ18,AS18,AU18,AW18,AY18,BA18,BC18,BE18,BG18,BI18)>0,MAX(C18,E18,G18,I18,K18,M18,O18,Q18,S18,U18,W18,Y18,AA18,AC18,AE18,AG18,AI18,AK18,AM18,AO18,AQ18,AS18,AU18,AW18,AY18,BA18,BC18,BE18,BG18,BI18),"") -> 29.491525 | BS18: =IF(SUM(B18,D18,F18,H18,J18,L18,N18,P18,R18,T18,V18,X18,Z18,AB18,AD18,AF18,AH18,AJ18,AL18,AN18,AP18,AR18,AT18,AV18,AX18,AZ18,BB18,BD18,BF18,BH18)>0,AVERAGE(B18,D18,F18,H18,J18,L18,N18,P18,R18,T18,V18,X18,Z18,AB18,AD18,AF18,AH18,AJ18,AL18,AN18,AP18,AR18,AT18,AV18,AX18,AZ18,BB18,BD18,BF18,BH18),"?") -> 6.2966667 | BT18: =IF(SUM(C18,E18,G18,I18,K18,M18,O18,Q18,S18,U18,W18,Y18,AA18,AC18,AE18,AG18,AI18,AK18,AM18,AO18,AQ18,AS18,AU18,AW18,AY18,BA18,BC18,BE18,BG18,BI18)>0,AVERAGE(C18,E18,G18,I18,K18,M18,O18,Q18,S18,U18,W18,Y18,AA18,AC18,AE18,AG18,AI18,AK18,AM18,AO18,AQ18,AS18,AU18,AW18,AY18,BA18,BC18,BE18,BG18,BI18),"?") -> 23.465257 | BU18: =IF(COUNT(B18,D18,F18,H18,J18,L18,N18,P18,R18,T18,V18,X18,Z18,AB18,AD18,AF18,AH18,AJ18,AL18,AN18,AP18,AR18,AT18,AV18,AX18,AZ18,BB18,BD18,BF18,BH18)>1,STDEV(B18,D18,F18,H18,J18,L18,N18,P18,R18,T18,V18,X18,Z18,AB18,AD18,AF18,AH18,AJ18,AL18,AN18,AP18,AR18,AT18,AV18,AX18,AZ18,BB18,BD18,BF18,BH18),"?") -> 1.6690867 | BV18: =IF(COUNT(C18,E18,G18,I18,K18,M18,O18,Q18,S18,U18,W18,Y18,AA18,AC18,AE18,AG18,AI18,AK18,AM18,AO18,AQ18,AS18,AU18,AW18,AY18,BA18,BC18,BE18,BG18,BI18)>1,STDEV(C18,E18,G18,I18,K18,M18,O18,Q18,S18,U18,W18,Y18,AA18,AC18,AE18,AG18,AI18,AK18,AM18,AO18,AQ18,AS18,AU18,AW18,AY18,BA18,BC18,BE18,BG18,BI18),"?") -> 3.3121778 | BW18: =IF(COUNT(B18)>0,B18,"?") -> 6.6 | BX18: =IF(COUNT(C18)>0,C18,"?") -> 23.404255
A19: Internal primary branch | B19: 8.6 | C19: 30.496454 | D19: 9.8 | E19: 33.220339 | F19: 2.3 | G19: 8.3636364 | H19: 8.2 | I19: 27.702703 | J19: 9.2 | K19: 30.769231 | L19: 5.5 | M19: 27.5 | N19: 6.7 | O19: 30.593607 | P19: 5.6 | Q19: 29.319372 | R19: 6.5 | S19: 29.680365 | T19: 5.7 | U19: 27.941176 | V19: 7 | W19: 29.411765 | X19: 8.7 | Y19: 31.636364 | Z19: 9.1 | AA19: 32.042254 | AB19: 8.3 | AC19: 29.749104 | AD19: 10.4 | AE19: 33.876221 | AF19: 8.2 | AG19: 31.782946 | AH19: 9.1 | AI19: 27.327327 | AJ19: 8.6 | AK19: 30.496454 | AL19: 9.4 | AM19: 30.22508 | AN19: 7.9 | AO19: 30.7393 | AP19: 6.5 | AQ19: 31.100478 | AR19: 6 | AS19: 31.578947 | AT19: 11 | AU19: 35.483871 | AV19: 6.2 | AW19: 30.845771 | AX19: 8.1 | AY19: 27.835052 | AZ19: 5.3 | BA19: 20 | BB19: 8.2 | BC19: 29.818182 | BD19: 8.5 | BE19: 29.209622 | BF19: 8.6 | BG19: 30.175439 | BH19: 8.6 | BI19: 28.104575 | BK19: =A19 -> Internal primary branch | BL19: 30 | BM19: =IF(SUM(B19,D19,F19,H19,J19,L19,N19,P19,R19,T19,V19,X19,Z19,AB19,AD19,AF19,AH19,AJ19,AL19,AN19,AP19,AR19,AT19,AV19,AX19,AZ19,BB19,BD19,BF19,BH19)>0,MIN(B19,D19,F19,H19,J19,L19,N19,P19,R19,T19,V19,X19,Z19,AB19,AD19,AF19,AH19,AJ19,AL19,AN19,AP19,AR19,AT19,AV19,AX19,AZ19,BB19,BD19,BF19,BH19),"") -> 2.3 | BN19: =IF(COUNT(BM19)>0,"–","?") -> – | BO19: =IF(SUM(B19,D19,F19,H19,J19,L19,N19,P19,R19,T19,V19,X19,Z19,AB19,AD19,AF19,AH19,AJ19,AL19,AN19,AP19,AR19,AT19,AV19,AX19,AZ19,BB19,BD19,BF19,BH19)>0,MAX(B19,D19,F19,H19,J19,L19,N19,P19,R19,T19,V19,X19,Z19,AB19,AD19,AF19,AH19,AJ19,AL19,AN19,AP19,AR19,AT19,AV19,AX19,AZ19,BB19,BD19,BF19,BH19),"") -> 11 | BP19: =IF(SUM(C19,E19,G19,I19,K19,M19,O19,Q19,S19,U19,W19,Y19,AA19,AC19,AE19,AG19,AI19,AK19,AM19,AO19,AQ19,AS19,AU19,AW19,AY19,BA19,BC19,BE19,BG19,BI19)>0,MIN(C19,E19,G19,I19,K19,M19,O19,Q19,S19,U19,W19,Y19,AA19,AC19,AE19,AG19,AI19,AK19,AM19,AO19,AQ19,AS19,AU19,AW19,AY19,BA19,BC19,BE19,BG19,BI19),"") -> 8.3636364 | BQ19: =IF(COUNT(BP19)>0,"–","?") -> – | BR19: =IF(SUM(C19,E19,G19,I19,K19,M19,O19,Q19,S19,U19,W19,Y19,AA19,AC19,AE19,AG19,AI19,AK19,AM19,AO19,AQ19,AS19,AU19,AW19,AY19,BA19,BC19,BE19,BG19,BI19)>0,MAX(C19,E19,G19,I19,K19,M19,O19,Q19,S19,U19,W19,Y19,AA19,AC19,AE19,AG19,AI19,AK19,AM19,AO19,AQ19,AS19,AU19,AW19,AY19,BA19,BC19,BE19,BG19,BI19),"") -> 35.483871 | BS19: =IF(SUM(B19,D19,F19,H19,J19,L19,N19,P19,R19,T19,V19,X19,Z19,AB19,AD19,AF19,AH19,AJ19,AL19,AN19,AP19,AR19,AT19,AV19,AX19,AZ19,BB19,BD19,BF19,BH19)>0,AVERAGE(B19,D19,F19,H19,J19,L19,N19,P19,R19,T19,V19,X19,Z19,AB19,AD19,AF19,AH19,AJ19,AL19,AN19,AP19,AR19,AT19,AV19,AX19,AZ19,BB19,BD19,BF19,BH19),"?") -> 7.7266667 | BT19: =IF(SUM(C19,E19,G19,I19,K19,M19,O19,Q19,S19,U19,W19,Y19,AA19,AC19,AE19,AG19,AI19,AK19,AM19,AO19,AQ19,AS19,AU19,AW19,AY19,BA19,BC19,BE19,BG19,BI19)>0,AVERAGE(C19,E19,G19,I19,K19,M19,O19,Q19,S19,U19,W19,Y19,AA19,AC19,AE19,AG19,AI19,AK19,AM19,AO19,AQ19,AS19,AU19,AW19,AY19,BA19,BC19,BE19,BG19,BI19),"?") -> 29.234188 | BU19: =IF(COUNT(B19,D19,F19,H19,J19,L19,N19,P19,R19,T19,V19,X19,Z19,AB19,AD19,AF19,AH19,AJ19,AL19,AN19,AP19,AR19,AT19,AV19,AX19,AZ19,BB19,BD19,BF19,BH19)>1,STDEV(B19,D19,F19,H19,J19,L19,N19,P19,R19,T19,V19,X19,Z19,AB19,AD19,AF19,AH19,AJ19,AL19,AN19,AP19,AR19,AT19,AV19,AX19,AZ19,BB19,BD19,BF19,BH19),"?") -> 1.8146783 | BV19: =IF(COUNT(C19,E19,G19,I19,K19,M19,O19,Q19,S19,U19,W19,Y19,AA19,AC19,AE19,AG19,AI19,AK19,AM19,AO19,AQ19,AS19,AU19,AW19,AY19,BA19,BC19,BE19,BG19,BI19)>1,STDEV(C19,E19,G19,I19,K19,M19,O19,Q19,S19,U19,W19,Y19,AA19,AC19,AE19,AG19,AI19,AK19,AM19,AO19,AQ19,AS19,AU19,AW19,AY19,BA19,BC19,BE19,BG19,BI19),"?") -> 4.7537276 | BW19: =IF(COUNT(B19)>0,B19,"?") -> 8.6 | BX19: =IF(COUNT(C19)>0,C19,"?") -> 30.496454
A20: Internal secondary branch | B20: 6.5 | C20: 23.049645 | D20: 7.5 | E20: 25.423729 | F20: 7.6 | G20: 27.636364 | H20: 7 | I20: 23.648649 | J20: 7.1 | K20: 23.745819 | L20: 3.5 | M20: 17.5 | N20: 5 | O20: 22.83105 | P20: 3.5 | Q20: 18.324607 | R20: 4.6 | S20: 21.004566 | T20: 3.5 | U20: 17.156863 | V20: 5.1 | W20: 21.428571 | X20: 6.5 | Y20: 23.636364 | Z20: 7.4 | AA20: 26.056338 | AB20: 5.3 | AC20: 18.996416 | AD20: 7.4 | AE20: 24.104235 | AF20: 5.7 | AG20: 22.093023 | AH20: 7.9 | AI20: 23.723724 | AJ20: 7.1 | AK20: 25.177305 | AL20: 7.3 | AM20: 23.472669 | AN20: 6.1 | AO20: 23.735409 | AP20: 4.1 | AQ20: 19.617225 | AR20: 3.5 | AS20: 18.421053 | AT20: 7.7 | AU20: 24.83871 | AV20: 3.7 | AW20: 18.40796 | AX20: 6 | AY20: 20.618557 | AZ20: 4.6 | BA20: 17.358491 | BB20: 6.1 | BC20: 22.181818 | BD20: 6.6 | BE20: 22.680412 | BF20: 5.4 | BG20: 18.947368 | BH20: 6.7 | BI20: 21.895425 | BK20: =A20 -> Internal secondary branch | BL20: 30 | BM20: =IF(SUM(B20,D20,F20,H20,J20,L20,N20,P20,R20,T20,V20,X20,Z20,AB20,AD20,AF20,AH20,AJ20,AL20,AN20,AP20,AR20,AT20,AV20,AX20,AZ20,BB20,BD20,BF20,BH20)>0,MIN(B20,D20,F20,H20,J20,L20,N20,P20,R20,T20,V20,X20,Z20,AB20,AD20,AF20,AH20,AJ20,AL20,AN20,AP20,AR20,AT20,AV20,AX20,AZ20,BB20,BD20,BF20,BH20),"") -> 3.5 | BN20: =IF(COUNT(BM20)>0,"–","?") -> – | BO20: =IF(SUM(B20,D20,F20,H20,J20,L20,N20,P20,R20,T20,V20,X20,Z20,AB20,AD20,AF20,AH20,AJ20,AL20,AN20,AP20,AR20,AT20,AV20,AX20,AZ20,BB20,BD20,BF20,BH20)>0,MAX(B20,D20,F20,H20,J20,L20,N20,P20,R20,T20,V20,X20,Z20,AB20,AD20,AF20,AH20,AJ20,AL20,AN20,AP20,AR20,AT20,AV20,AX20,AZ20,BB20,BD20,BF20,BH20),"") -> 7.9 | BP20: =IF(SUM(C20,E20,G20,I20,K20,M20,O20,Q20,S20,U20,W20,Y20,AA20,AC20,AE20,AG20,AI20,AK20,AM20,AO20,AQ20,AS20,AU20,AW20,AY20,BA20,BC20,BE20,BG20,BI20)>0,MIN(C20,E20,G20,I20,K20,M20,O20,Q20,S20,U20,W20,Y20,AA20,AC20,AE20,AG20,AI20,AK20,AM20,AO20,AQ20,AS20,AU20,AW20,AY20,BA20,BC20,BE20,BG20,BI20),"") -> 17.156863 | BQ20: =IF(COUNT(BP20)>0,"–","?") -> – | BR20: =IF(SUM(C20,E20,G20,I20,K20,M20,O20,Q20,S20,U20,W20,Y20,AA20,AC20,AE20,AG20,AI20,AK20,AM20,AO20,AQ20,AS20,AU20,AW20,AY20,BA20,BC20,BE20,BG20,BI20)>0,MAX(C20,E20,G20,I20,K20,M20,O20,Q20,S20,U20,W20,Y20,AA20,AC20,AE20,AG20,AI20,AK20,AM20,AO20,AQ20,AS20,AU20,AW20,AY20,BA20,BC20,BE20,BG20,BI20),"") -> 27.636364 | BS20: =IF(SUM(B20,D20,F20,H20,J20,L20,N20,P20,R20,T20,V20,X20,Z20,AB20,AD20,AF20,AH20,AJ20,AL20,AN20,AP20,AR20,AT20,AV20,AX20,AZ20,BB20,BD20,BF20,BH20)>0,AVERAGE(B20,D20,F20,H20,J20,L20,N20,P20,R20,T20,V20,X20,Z20,AB20,AD20,AF20,AH20,AJ20,AL20,AN20,AP20,AR20,AT20,AV20,AX20,AZ20,BB20,BD20,BF20,BH20),"?") -> 5.8666667 | BT20: =IF(SUM(C20,E20,G20,I20,K20,M20,O20,Q20,S20,U20,W20,Y20,AA20,AC20,AE20,AG20,AI20,AK20,AM20,AO20,AQ20,AS20,AU20,AW20,AY20,BA20,BC20,BE20,BG20,BI20)>0,AVERAGE(C20,E20,G20,I20,K20,M20,O20,Q20,S20,U20,W20,Y20,AA20,AC20,AE20,AG20,AI20,AK20,AM20,AO20,AQ20,AS20,AU20,AW20,AY20,BA20,BC20,BE20,BG20,BI20),"?") -> 21.923745 | BU20: =IF(COUNT(B20,D20,F20,H20,J20,L20,N20,P20,R20,T20,V20,X20,Z20,AB20,AD20,AF20,AH20,AJ20,AL20,AN20,AP20,AR20,AT20,AV20,AX20,AZ20,BB20,BD20,BF20,BH20)>1,STDEV(B20,D20,F20,H20,J20,L20,N20,P20,R20,T20,V20,X20,Z20,AB20,AD20,AF20,AH20,AJ20,AL20,AN20,AP20,AR20,AT20,AV20,AX20,AZ20,BB20,BD20,BF20,BH20),"?") -> 1.4591763 | BV20: =IF(COUNT(C20,E20,G20,I20,K20,M20,O20,Q20,S20,U20,W20,Y20,AA20,AC20,AE20,AG20,AI20,AK20,AM20,AO20,AQ20,AS20,AU20,AW20,AY20,BA20,BC20,BE20,BG20,BI20)>1,STDEV(C20,E20,G20,I20,K20,M20,O20,Q20,S20,U20,W20,Y20,AA20,AC20,AE20,AG20,AI20,AK20,AM20,AO20,AQ20,AS20,AU20,AW20,AY20,BA20,BC20,BE20,BG20,BI20),"?") -> 2.8343201 | BW20: =IF(COUNT(B20)>0,B20,"?") -> 6.5 | BX20: =IF(COUNT(C20)>0,C20,"?") -> 23.049645
A21: Claw II heights | BK21: =A21 -> Claw II heights
A22: External primary branch | B22: 9.4 | C22: 33.333333 | D22: 10.2 | E22: 34.576271 | F22: 8.9 | G22: 32.363636 | H22: 9.4 | I22: 31.756757 | J22: 10.3 | K22: 34.448161 | L22: 5.8 | M22: 29 | N22: 6.9 | O22: 31.506849 | P22: 6.5 | Q22: 34.031414 | R22: 6.5 | S22: 29.680365 | T22: 6.1 | U22: 29.901961 | V22: 7.8 | W22: 32.773109 | X22: 8.7 | Y22: 31.636364 | Z22: 10 | AA22: 35.211268 | AB22: 9.4 | AC22: 33.691756 | AD22: 10.5 | AE22: 34.201954 | AF22: 8.8 | AG22: 34.108527 | AH22: 11.8 | AI22: 35.435435 | AJ22: 9.5 | AK22: 33.687943 | AL22: 10.9 | AM22: 35.048232 | AN22: 8.9 | AO22: 34.63035 | AP22: 5.9 | AQ22: 28.229665 | AR22: 6.5 | AS22: 34.210526 | AT22: 11.6 | AU22: 37.419355 | AV22: 6.7 | AW22: 33.333333 | AX22: 9.1 | AY22: 31.271478 | AZ22: 8.9 | BA22: 33.584906 | BB22: 8.9 | BC22: 32.363636 | BD22: 9.5 | BE22: 32.646048 | BF22: 9.6 | BG22: 33.684211 | BH22: 9.6 | BI22: 31.372549 | BK22: =A22 -> External primary branch | BL22: 30 | BM22: =IF(SUM(B22,D22,F22,H22,J22,L22,N22,P22,R22,T22,V22,X22,Z22,AB22,AD22,AF22,AH22,AJ22,AL22,AN22,AP22,AR22,AT22,AV22,AX22,AZ22,BB22,BD22,BF22,BH22)>0,MIN(B22,D22,F22,H22,J22,L22,N22,P22,R22,T22,V22,X22,Z22,AB22,AD22,AF22,AH22,AJ22,AL22,AN22,AP22,AR22,AT22,AV22,AX22,AZ22,BB22,BD22,BF22,BH22),"") -> 5.8 | BN22: =IF(COUNT(BM22)>0,"–","?") -> – | BO22: =IF(SUM(B22,D22,F22,H22,J22,L22,N22,P22,R22,T22,V22,X22,Z22,AB22,AD22,AF22,AH22,AJ22,AL22,AN22,AP22,AR22,AT22,AV22,AX22,AZ22,BB22,BD22,BF22,BH22)>0,MAX(B22,D22,F22,H22,J22,L22,N22,P22,R22,T22,V22,X22,Z22,AB22,AD22,AF22,AH22,AJ22,AL22,AN22,AP22,AR22,AT22,AV22,AX22,AZ22,BB22,BD22,BF22,BH22),"") -> 11.8 | BP22: =IF(SUM(C22,E22,G22,I22,K22,M22,O22,Q22,S22,U22,W22,Y22,AA22,AC22,AE22,AG22,AI22,AK22,AM22,AO22,AQ22,AS22,AU22,AW22,AY22,BA22,BC22,BE22,BG22,BI22)>0,MIN(C22,E22,G22,I22,K22,M22,O22,Q22,S22,U22,W22,Y22,AA22,AC22,AE22,AG22,AI22,AK22,AM22,AO22,AQ22,AS22,AU22,AW22,AY22,BA22,BC22,BE22,BG22,BI22),"") -> 28.229665 | BQ22: =IF(COUNT(BP22)>0,"–","?") -> – | BR22: =IF(SUM(C22,E22,G22,I22,K22,M22,O22,Q22,S22,U22,W22,Y22,AA22,AC22,AE22,AG22,AI22,AK22,AM22,AO22,AQ22,AS22,AU22,AW22,AY22,BA22,BC22,BE22,BG22,BI22)>0,MAX(C22,E22,G22,I22,K22,M22,O22,Q22,S22,U22,W22,Y22,AA22,AC22,AE22,AG22,AI22,AK22,AM22,AO22,AQ22,AS22,AU22,AW22,AY22,BA22,BC22,BE22,BG22,BI22),"") -> 37.419355 | BS22: =IF(SUM(B22,D22,F22,H22,J22,L22,N22,P22,R22,T22,V22,X22,Z22,AB22,AD22,AF22,AH22,AJ22,AL22,AN22,AP22,AR22,AT22,AV22,AX22,AZ22,BB22,BD22,BF22,BH22)>0,AVERAGE(B22,D22,F22,H22,J22,L22,N22,P22,R22,T22,V22,X22,Z22,AB22,AD22,AF22,AH22,AJ22,AL22,AN22,AP22,AR22,AT22,AV22,AX22,AZ22,BB22,BD22,BF22,BH22),"?") -> 8.7533333 | BT22: =IF(SUM(C22,E22,G22,I22,K22,M22,O22,Q22,S22,U22,W22,Y22,AA22,AC22,AE22,AG22,AI22,AK22,AM22,AO22,AQ22,AS22,AU22,AW22,AY22,BA22,BC22,BE22,BG22,BI22)>0,AVERAGE(C22,E22,G22,I22,K22,M22,O22,Q22,S22,U22,W22,Y22,AA22,AC22,AE22,AG22,AI22,AK22,AM22,AO22,AQ22,AS22,AU22,AW22,AY22,BA22,BC22,BE22,BG22,BI22),"?") -> 32.971313 | BU22: =IF(COUNT(B22,D22,F22,H22,J22,L22,N22,P22,R22,T22,V22,X22,Z22,AB22,AD22,AF22,AH22,AJ22,AL22,AN22,AP22,AR22,AT22,AV22,AX22,AZ22,BB22,BD22,BF22,BH22)>1,STDEV(B22,D22,F22,H22,J22,L22,N22,P22,R22,T22,V22,X22,Z22,AB22,AD22,AF22,AH22,AJ22,AL22,AN22,AP22,AR22,AT22,AV22,AX22,AZ22,BB22,BD22,BF22,BH22),"?") -> 1.6896711 | BV22: =IF(COUNT(C22,E22,G22,I22,K22,M22,O22,Q22,S22,U22,W22,Y22,AA22,AC22,AE22,AG22,AI22,AK22,AM22,AO22,AQ22,AS22,AU22,AW22,AY22,BA22,BC22,BE22,BG22,BI22)>1,STDEV(C22,E22,G22,I22,K22,M22,O22,Q22,S22,U22,W22,Y22,AA22,AC22,AE22,AG22,AI22,AK22,AM22,AO22,AQ22,AS22,AU22,AW22,AY22,BA22,BC22,BE22,BG22,BI22),"?") -> 2.0391071 | BW22: =IF(COUNT(B22)>0,B22,"?") -> 9.4 | BX22: =IF(COUNT(C22)>0,C22,"?") -> 33.333333
A23: External secondary branch | B23: 7.7 | C23: 27.304965 | D23: 6.8 | E23: 23.050847 | F23: 7.4 | G23: 26.909091 | H23: 6.9 | I23: 23.310811 | J23: 7.8 | K23: 26.086957 | L23: 4.9 | M23: 24.5 | N23: 4 | O23: 18.26484 | P23: 3.9 | Q23: 20.418848 | R23: 5.4 | S23: 24.657534 | T23: 4.2 | U23: 20.588235 | V23: 5.5 | W23: 23.109244 | X23: 6.7 | Y23: 24.363636 | Z23: 8.4 | AA23: 29.577465 | AB23: 7.6 | AC23: 27.240143 | AD23: 8.8 | AE23: 28.664495 | AF23: 6.6 | AG23: 25.581395 | AH23: 8.4 | AI23: 25.225225 | AJ23: 7.2 | AK23: 25.531915 | AL23: 8.5 | AM23: 27.33119 | AN23: 6.3 | AO23: 24.513619 | AP23: 4 | AQ23: 19.138756 | AR23: 3.8 | AS23: 20 | AT23: 9 | AU23: 29.032258 | AV23: 4.5 | AW23: 22.38806 | AX23: 7.4 | AY23: 25.429553 | AZ23: 7.3 | BA23: 27.54717 | BB23: 6.8 | BC23: 24.727273 | BD23: 7.3 | BE23: 25.085911 | BF23: 7.7 | BG23: 27.017544 | BH23: 7.3 | BI23: 23.856209 | BK23: =A23 -> External secondary branch | BL23: 30 | BM23: =IF(SUM(B23,D23,F23,H23,J23,L23,N23,P23,R23,T23,V23,X23,Z23,AB23,AD23,AF23,AH23,AJ23,AL23,AN23,AP23,AR23,AT23,AV23,AX23,AZ23,BB23,BD23,BF23,BH23)>0,MIN(B23,D23,F23,H23,J23,L23,N23,P23,R23,T23,V23,X23,Z23,AB23,AD23,AF23,AH23,AJ23,AL23,AN23,AP23,AR23,AT23,AV23,AX23,AZ23,BB23,BD23,BF23,BH23),"") -> 3.8 | BN23: =IF(COUNT(BM23)>0,"–","?") -> – | BO23: =IF(SUM(B23,D23,F23,H23,J23,L23,N23,P23,R23,T23,V23,X23,Z23,AB23,AD23,AF23,AH23,AJ23,AL23,AN23,AP23,AR23,AT23,AV23,AX23,AZ23,BB23,BD23,BF23,BH23)>0,MAX(B23,D23,F23,H23,J23,L23,N23,P23,R23,T23,V23,X23,Z23,AB23,AD23,AF23,AH23,AJ23,AL23,AN23,AP23,AR23,AT23,AV23,AX23,AZ23,BB23,BD23,BF23,BH23),"") -> 9 | BP23: =IF(SUM(C23,E23,G23,I23,K23,M23,O23,Q23,S23,U23,W23,Y23,AA23,AC23,AE23,AG23,AI23,AK23,AM23,AO23,AQ23,AS23,AU23,AW23,AY23,BA23,BC23,BE23,BG23,BI23)>0,MIN(C23,E23,G23,I23,K23,M23,O23,Q23,S23,U23,W23,Y23,AA23,AC23,AE23,AG23,AI23,AK23,AM23,AO23,AQ23,AS23,AU23,AW23,AY23,BA23,BC23,BE23,BG23,BI23),"") -> 18.26484 | BQ23: =IF(COUNT(BP23)>0,"–","?") -> – | BR23: =IF(SUM(C23,E23,G23,I23,K23,M23,O23,Q23,S23,U23,W23,Y23,AA23,AC23,AE23,AG23,AI23,AK23,AM23,AO23,AQ23,AS23,AU23,AW23,AY23,BA23,BC23,BE23,BG23,BI23)>0,MAX(C23,E23,G23,I23,K23,M23,O23,Q23,S23,U23,W23,Y23,AA23,AC23,AE23,AG23,AI23,AK23,AM23,AO23,AQ23,AS23,AU23,AW23,AY23,BA23,BC23,BE23,BG23,BI23),"") -> 29.577465 | BS23: =IF(SUM(B23,D23,F23,H23,J23,L23,N23,P23,R23,T23,V23,X23,Z23,AB23,AD23,AF23,AH23,AJ23,AL23,AN23,AP23,AR23,AT23,AV23,AX23,AZ23,BB23,BD23,BF23,BH23)>0,AVERAGE(B23,D23,F23,H23,J23,L23,N23,P23,R23,T23,V23,X23,Z23,AB23,AD23,AF23,AH23,AJ23,AL23,AN23,AP23,AR23,AT23,AV23,AX23,AZ23,BB23,BD23,BF23,BH23),"?") -> 6.6033333 | BT23: =IF(SUM(C23,E23,G23,I23,K23,M23,O23,Q23,S23,U23,W23,Y23,AA23,AC23,AE23,AG23,AI23,AK23,AM23,AO23,AQ23,AS23,AU23,AW23,AY23,BA23,BC23,BE23,BG23,BI23)>0,AVERAGE(C23,E23,G23,I23,K23,M23,O23,Q23,S23,U23,W23,Y23,AA23,AC23,AE23,AG23,AI23,AK23,AM23,AO23,AQ23,AS23,AU23,AW23,AY23,BA23,BC23,BE23,BG23,BI23),"?") -> 24.681773 | BU23: =IF(COUNT(B23,D23,F23,H23,J23,L23,N23,P23,R23,T23,V23,X23,Z23,AB23,AD23,AF23,AH23,AJ23,AL23,AN23,AP23,AR23,AT23,AV23,AX23,AZ23,BB23,BD23,BF23,BH23)>1,STDEV(B23,D23,F23,H23,J23,L23,N23,P23,R23,T23,V23,X23,Z23,AB23,AD23,AF23,AH23,AJ23,AL23,AN23,AP23,AR23,AT23,AV23,AX23,AZ23,BB23,BD23,BF23,BH23),"?") -> 1.5897264 | BV23: =IF(COUNT(C23,E23,G23,I23,K23,M23,O23,Q23,S23,U23,W23,Y23,AA23,AC23,AE23,AG23,AI23,AK23,AM23,AO23,AQ23,AS23,AU23,AW23,AY23,BA23,BC23,BE23,BG23,BI23)>1,STDEV(C23,E23,G23,I23,K23,M23,O23,Q23,S23,U23,W23,Y23,AA23,AC23,AE23,AG23,AI23,AK23,AM23,AO23,AQ23,AS23,AU23,AW23,AY23,BA23,BC23,BE23,BG23,BI23),"?") -> 2.9019905 | BW23: =IF(COUNT(B23)>0,B23,"?") -> 7.7 | BX23: =IF(COUNT(C23)>0,C23,"?") -> 27.304965
