Workbook

Sheet instructions
B2: INSTRUCTIONS and TERMS OF USE
B3: 1 | C3: This is a morphometric template for species of the Tardigrada Order Parachela.
B4: 2 | C4: The template caluclates the pt ratio and other relative measures only if all measurements required to calculate a ratio are provided (otherwise the ratio cell remains empty, meaning lack of data). The only numbers you need to enter are absolute measurements in micrometres [μm] in the sheet "individuals". If a structure is not measurable leave the cell empty (enetring zeros will mean that the trait has a value of 0).
B5: 3 | C5: The "individuals" sheet automatically calculates basic statistics (number of measurements, range, mean and SD). The table with these statistics is placed after the last (30th) specimen. The summary table can be then copied and pasted directly to MS Word.
B6: 4 | C6: If measurements are done on the type series, please enter the holotype in the first column (this way holotype data are automatically copied to the summary table at end of the sheet). If measurements are not done on the type series, you may delete the last two columns in the summary table. You may change specimen/slide names as desired.
B7: 5 | C7: If a trait listed is not present in the species you are measuring, remove the entire row (highlight the row, right mouse click, choose "delete").
B8: 6 | C8: Data from the sheet "individuals" are automatically copied to the four remaining "stats" sheets. Data in those sheets are arranged for statistical analyses in the majority of statistical software.
B9: 7 | C9: If you want to see the formulas behind this template, press Ctrl+` (usually just before "1" on the keyboard). To return to the value view, press Ctrl+` again.
B10: 8 | C10: This template can be freely used but each published use must be credited as Morphometric data were handled using the Parachela ver. 1.8 template available from the Tardigrada Register, www.tardigrada.net/register (Michalczyk & Kaczmarek 2013). The reference is: Michalczyk, Ł. & Kaczmarek, Ł. (2013) The Tardigrada Register: a comprehensive online data repository for tardigrade taxonomy. Journal of Limnology, 72(S1): 175-181. DOI:10.4081/jlimnol.2013.s1.e22
B11: 9 | C11: Copyright by Łukasz Michalczyk. Enquires and suggestions: LM@tardigrada.net

Sheet general info
B2: Species | D2: Minibiotus jonesorum
B3: Population | D3: US.198/US.199/US.200
B4: Type series | D4: YES
B6: Author | D6: Aleksandra Sumlińska
B7: Date | D7: 13.04.2025

Sheet animals
A1: SPECIMEN | B1: 1 | D1: 2 | F1: 3 | H1: 4 | J1: 5 | L1: 6 | N1: 7 | P1: 8 | R1: 9 | T1: 10 | V1: 11 | X1: 12 | Z1: 13 | AB1: 14 | AD1: 15 | AF1: 16 | AH1: 17 | AJ1: 18 | AL1: 19 | AN1: 20 | AP1: 21 | AR1: 22 | AT1: 23 | AV1: 24 | AX1: 25 | AZ1: 26 | BB1: 27 | BD1: 28 | BF1: 29 | BH1: 30 | BK1: CHARACTER | BL1: N | BM1: RANGE | BS1: MEAN | BU1: SD | BW1: Neotype
A2: CHARACTER | B2: µm | C2: pt | D2: µm | E2: pt | F2: µm | G2: pt | H2: µm | I2: pt | J2: µm | K2: pt | L2: µm | M2: pt | N2: µm | O2: pt | P2: µm | Q2: pt | R2: µm | S2: pt | T2: µm | U2: pt | V2: µm | W2: pt | X2: µm | Y2: pt | Z2: µm | AA2: pt | AB2: µm | AC2: pt | AD2: µm | AE2: pt | AF2: µm | AG2: pt | AH2: µm | AI2: pt | AJ2: µm | AK2: pt | AL2: µm | AM2: pt | AN2: µm | AO2: pt | AP2: µm | AQ2: pt | AR2: µm | AS2: pt | AT2: µm | AU2: pt | AV2: µm | AW2: pt | AX2: µm | AY2: pt | AZ2: µm | BA2: pt | BB2: µm | BC2: pt | BD2: µm | BE2: pt | BF2: µm | BG2: pt | BH2: µm | BI2: pt | BM2: µm | BP2: pt | BS2: µm | BT2: pt | BU2: µm | BV2: pt | BW2: µm | BX2: pt
A3: Body length | B3: 309.7 | C3: 1098.227 | D3: 384.5 | E3: 1303.3898 | F3: 290 | G3: 1054.5455 | H3: 354 | I3: 1195.9459 | J3: 358.9 | K3: 1200.3344 | L3: 180.8 | M3: 904 | N3: 237.7 | O3: 1085.3881 | P3: 170.1 | Q3: 890.57592 | R3: 187 | S3: 853.88128 | T3: 144.7 | U3: 709.31373 | V3: 222.1 | W3: 933.19328 | X3: 300.5 | Y3: 1092.7273 | Z3: 323 | AA3: 1137.3239 | AB3: 344.9 | AC3: 1236.2007 | AD3: 389.7 | AE3: 1269.3811 | AF3: 295 | AG3: 1143.4109 | AH3: 410.1 | AI3: 1231.5315 | AJ3: 312.5 | AK3: 1108.156 | AL3: 329.1 | AM3: 1058.1994 | AN3: 257.1 | AO3: 1000.3891 | AP3: 138.3 | AQ3: 661.72249 | AR3: 160.7 | AS3: 845.78947 | AT3: 397.2 | AU3: 1281.2903 | AV3: 152.5 | AW3: 758.70647 | AX3: 287.7 | AY3: 988.65979 | AZ3: 311.5 | BA3: 1175.4717 | BB3: 302.3 | BC3: 1099.2727 | BD3: 372.5 | BE3: 1280.0687 | BF3: 327.7 | BG3: 1149.8246 | BH3: 316.8 | BI3: 1035.2941 | BK3: =A3 -> Body length | BL3: 30 | BM3: =IF(SUM(B3,D3,F3,H3,J3,L3,N3,P3,R3,T3,V3,X3,Z3,AB3,AD3,AF3,AH3,AJ3,AL3,AN3,AP3,AR3,AT3,AV3,AX3,AZ3,BB3,BD3,BF3,BH3,)>0,MIN(B3,D3,F3,H3,J3,L3,N3,P3,R3,T3,V3,X3,Z3,AB3,AD3,AF3,AH3,AJ3,AL3,AN3,AP3,AR3,AT3,AV3,AX3,AZ3,BB3,BD3,BF3,BH3),"") -> 138.3 | BN3: =IF(COUNT(BM3)>0,"–","?") -> – | BO3: =IF(SUM(B3,D3,F3,H3,J3,L3,N3,P3,R3,T3,V3,X3,Z3,AB3,AD3,AF3,AH3,AJ3,AL3,AN3,AP3,AR3,AT3,AV3,AX3,AZ3,BB3,BD3,BF3,BH3)>0,MAX(B3,D3,F3,H3,J3,L3,N3,P3,R3,T3,V3,X3,Z3,AB3,AD3,AF3,AH3,AJ3,AL3,AN3,AP3,AR3,AT3,AV3,AX3,AZ3,BB3,BD3,BF3,BH3),"") -> 410.1 | BP3: =IF(SUM(C3,E3,G3,I3,K3,M3,O3,Q3,S3,U3,W3,Y3,AA3,AC3,AE3,AG3,AI3,AK3,AM3,AO3,AQ3,AS3,AU3,AW3,AY3,BA3,BC3,BE3,BG3,BI3)>0,MIN(C3,E3,G3,I3,K3,M3,O3,Q3,S3,U3,W3,Y3,AA3,AC3,AE3,AG3,AI3,AK3,AM3,AO3,AQ3,AS3,AU3,AW3,AY3,BA3,BC3,BE3,BG3,BI3),"") -> 661.72249 | BQ3: =IF(COUNT(BP3)>0,"–","?") -> – | BR3: =IF(SUM(C3,E3,G3,I3,K3,M3,O3,Q3,S3,U3,W3,Y3,AA3,AC3,AE3,AG3,AI3,AK3,AM3,AO3,AQ3,AS3,AU3,AW3,AY3,BA3,BC3,BE3,BG3,BI3)>0,MAX(C3,E3,G3,I3,K3,M3,O3,Q3,S3,U3,W3,Y3,AA3,AC3,AE3,AG3,AI3,AK3,AM3,AO3,AQ3,AS3,AU3,AW3,AY3,BA3,BC3,BE3,BG3,BI3),"") -> 1303.3898 | BS3: =IF(SUM(B3,D3,F3,H3,J3,L3,N3,P3,R3,T3,V3,X3,Z3,AB3,AD3,AF3,AH3,AJ3,AL3,AN3,AP3,AR3,AT3,AV3,AX3,AZ3,BB3,BD3,BF3,BH3)>0,AVERAGE(B3,D3,F3,H3,J3,L3,N3,P3,R3,T3,V3,X3,Z3,AB3,AD3,AF3,AH3,AJ3,AL3,AN3,AP3,AR3,AT3,AV3,AX3,AZ3,BB3,BD3,BF3,BH3),"?") -> 285.62 | BT3: =IF(SUM(C3,E3,G3,I3,K3,M3,O3,Q3,S3,U3,W3,Y3,AA3,AC3,AE3,AG3,AI3,AK3,AM3,AO3,AQ3,AS3,AU3,AW3,AY3,BA3,BC3,BE3,BG3,BI3)>0,AVERAGE(C3,E3,G3,I3,K3,M3,O3,Q3,S3,U3,W3,Y3,AA3,AC3,AE3,AG3,AI3,AK3,AM3,AO3,AQ3,AS3,AU3,AW3,AY3,BA3,BC3,BE3,BG3,BI3),"?") -> 1059.4072 | BU3: =IF(COUNT(B3,D3,F3,H3,J3,L3,N3,P3,R3,T3,V3,X3,Z3,AB3,AD3,AF3,AH3,AJ3,AL3,AN3,AP3,AR3,AT3,AV3,AX3,AZ3,BB3,BD3,BF3,BH3)>1,STDEV(B3,D3,F3,H3,J3,L3,N3,P3,R3,T3,V3,X3,Z3,AB3,AD3,AF3,AH3,AJ3,AL3,AN3,AP3,AR3,AT3,AV3,AX3,AZ3,BB3,BD3,BF3,BH3),"?") -> 81.867717 | BV3: =IF(COUNT(C3,E3,G3,I3,K3,M3,O3,Q3,S3,U3,W3,Y3,AA3,AC3,AE3,AG3,AI3,AK3,AM3,AO3,AQ3,AS3,AU3,AW3,AY3,BA3,BC3,BE3,BG3,BI3)>1,STDEV(C3,E3,G3,I3,K3,M3,O3,Q3,S3,U3,W3,Y3,AA3,AC3,AE3,AG3,AI3,AK3,AM3,AO3,AQ3,AS3,AU3,AW3,AY3,BA3,BC3,BE3,BG3,BI3),"?") -> 174.16314 | BW3: =IF(COUNT(B3)>0,B3,"?") -> 309.7 | BX3: =IF(COUNT(C3)>0,C3,"?") -> 1098.227
A4: Buccopharyngeal tube | BK4: =A4 -> Buccopharyngeal tube | BM4: =IF(SUM(B4,D4,F4,H4,J4,L4,N4,P4,R4,T4,V4,X4,Z4,AB4,AD4,AF4,AH4,AJ4,AL4,AN4,AP4,AR4,AT4,AV4,AX4,AZ4,BB4,BD4,BF4,BH4)>0,MIN(B4,D4,F4,H4,J4,L4,N4,P4,R4,T4,V4,X4,Z4,AB4,AD4,AF4,AH4,AJ4,AL4,AN4,AP4,AR4,AT4,AV4,AX4,AZ4,BB4,BD4,BF4,BH4),"")
A5: Buccal tube length | B5: 28.2 | C5: – | D5: 29.5 | E5: – | F5: 27.5 | G5: – | H5: 29.6 | I5: – | J5: 29.9 | K5: – | L5: 20 | M5: – | N5: 21.9 | O5: – | P5: 19.1 | Q5: – | R5: 21.9 | S5: – | T5: 20.4 | U5: – | V5: 23.8 | W5: – | X5: 27.5 | Y5: – | Z5: 28.4 | AA5: – | AB5: 27.9 | AC5: – | AD5: 30.7 | AE5: – | AF5: 25.8 | AG5: – | AH5: 33.3 | AI5: – | AJ5: 28.2 | AK5: – | AL5: 31.1 | AM5: – | AN5: 25.7 | AO5: – | AP5: 20.9 | AQ5: – | AR5: 19 | AS5: – | AT5: 31 | AU5: – | AV5: 20.1 | AW5: – | AX5: 29.1 | AY5: – | AZ5: 26.5 | BA5: – | BB5: 27.5 | BC5: – | BD5: 29.1 | BE5: – | BF5: 28.5 | BG5: – | BH5: 30.6 | BI5: – | BK5: =A5 -> Buccal tube length | BL5: 30 | BM5: =IF(SUM(B5,D5,F5,H5,J5,L5,N5,P5,R5,T5,V5,X5,Z5,AB5,AD5,AF5,AH5,AJ5,AL5,AN5,AP5,AR5,AT5,AV5,AX5,AZ5,BB5,BD5,BF5,BH5)>0,MIN(B5,D5,F5,H5,J5,L5,N5,P5,R5,T5,V5,X5,Z5,AB5,AD5,AF5,AH5,AJ5,AL5,AN5,AP5,AR5,AT5,AV5,AX5,AZ5,BB5,BD5,BF5,BH5),"") -> 19 | BN5: =IF(COUNT(BM5)>0,"–","?") -> – | BO5: =IF(SUM(B5,D5,F5,H5,J5,L5,N5,P5,R5,T5,V5,X5,Z5,AB5,AD5,AF5,AH5,AJ5,AL5,AN5,AP5,AR5,AT5,AV5,AX5,AZ5,BB5,BD5,BF5,BH5)>0,MAX(B5,D5,F5,H5,J5,L5,N5,P5,R5,T5,V5,X5,Z5,AB5,AD5,AF5,AH5,AJ5,AL5,AN5,AP5,AR5,AT5,AV5,AX5,AZ5,BB5,BD5,BF5,BH5),"") -> 33.3 | BP5: =IF(SUM(C5,E5,G5,I5,K5,M5,O5,Q5,S5,U5,W5,Y5,AA5,AC5,AE5,AG5,AI5,AK5,AM5,AO5,AQ5,AS5,AU5,AW5,AY5,BA5,BC5,BE5,BG5,BI5)>0,MIN(C5,E5,G5,I5,K5,M5,O5,Q5,S5,U5,W5,Y5,AA5,AC5,AE5,AG5,AI5,AK5,AM5,AO5,AQ5,AS5,AU5,AW5,AY5,BA5,BC5,BE5,BG5,BI5),"") | BQ5: – | BR5: =IF(SUM(C5,E5,G5,I5,K5,M5,O5,Q5,S5,U5,W5,Y5,AA5,AC5,AE5,AG5,AI5,AK5,AM5,AO5,AQ5,AS5,AU5,AW5,AY5,BA5,BC5,BE5,BG5,BI5)>0,MAX(C5,E5,G5,I5,K5,M5,O5,Q5,S5,U5,W5,Y5,AA5,AC5,AE5,AG5,AI5,AK5,AM5,AO5,AQ5,AS5,AU5,AW5,AY5,BA5,BC5,BE5,BG5,BI5),"") | BS5: =IF(SUM(B5,D5,F5,H5,J5,L5,N5,P5,R5,T5,V5,X5,Z5,AB5,AD5,AF5,AH5,AJ5,AL5,AN5,AP5,AR5,AT5,AV5,AX5,AZ5,BB5,BD5,BF5,BH5)>0,AVERAGE(B5,D5,F5,H5,J5,L5,N5,P5,R5,T5,V5,X5,Z5,AB5,AD5,AF5,AH5,AJ5,AL5,AN5,AP5,AR5,AT5,AV5,AX5,AZ5,BB5,BD5,BF5,BH5),"?") -> 26.423333 | BT5: – | BU5: =IF(COUNT(B5,D5,F5,H5,J5,L5,N5,P5,R5,T5,V5,X5,Z5,AB5,AD5,AF5,AH5,AJ5,AL5,AN5,AP5,AR5,AT5,AV5,AX5,AZ5,BB5,BD5,BF5,BH5)>1,STDEV(B5,D5,F5,H5,J5,L5,N5,P5,R5,T5,V5,X5,Z5,AB5,AD5,AF5,AH5,AJ5,AL5,AN5,AP5,AR5,AT5,AV5,AX5,AZ5,BB5,BD5,BF5,BH5),"?") -> 4.1418539 | BV5: – | BW5: =IF(COUNT(B5)>0,B5,"?") -> 28.2 | BX5: –
A6: Stylet support insertion point | B6: 18.2 | C6: 64.539007 | D6: 19.8 | E6: 67.118644 | F6: 17.9 | G6: 65.090909 | H6: 19.8 | I6: 66.891892 | J6: 21 | K6: 70.234114 | L6: 13.3 | M6: 66.5 | N6: 14.4 | O6: 65.753425 | P6: 12.4 | Q6: 64.921466 | R6: 14.9 | S6: 68.03653 | T6: 13.3 | U6: 65.196078 | V6: 15.6 | W6: 65.546218 | X6: 18.4 | Y6: 66.909091 | Z6: 19.1 | AA6: 67.253521 | AB6: 19.2 | AC6: 68.817204 | AD6: 20.9 | AE6: 68.078176 | AF6: 17.2 | AG6: 66.666667 | AH6: 23.1 | AI6: 69.369369 | AJ6: 18.7 | AK6: 66.312057 | AL6: 21.1 | AM6: 67.845659 | AN6: 17.3 | AO6: 67.315175 | AP6: 14.7 | AQ6: 70.334928 | AR6: 14 | AS6: 73.684211 | AT6: 20.4 | AU6: 65.806452 | AV6: 13 | AW6: 64.676617 | AX6: 19.6 | AY6: 67.353952 | AZ6: 17.9 | BA6: 67.54717 | BB6: 18.6 | BC6: 67.636364 | BD6: 19.8 | BE6: 68.041237 | BF6: 19.5 | BG6: 68.421053 | BH6: 20.5 | BI6: 66.993464 | BK6: =A6 -> Stylet support insertion point | BL6: 30 | BM6: =IF(SUM(B6,D6,F6,H6,J6,L6,N6,P6,R6,T6,V6,X6,Z6,AB6,AD6,AF6,AH6,AJ6,AL6,AN6,AP6,AR6,AT6,AV6,AX6,AZ6,BB6,BD6,BF6,BH6)>0,MIN(B6,D6,F6,H6,J6,L6,N6,P6,R6,T6,V6,X6,Z6,AB6,AD6,AF6,AH6,AJ6,AL6,AN6,AP6,AR6,AT6,AV6,AX6,AZ6,BB6,BD6,BF6,BH6),"") -> 12.4 | BN6: =IF(COUNT(BM6)>0,"–","?") -> – | BO6: =IF(SUM(B6,D6,F6,H6,J6,L6,N6,P6,R6,T6,V6,X6,Z6,AB6,AD6,AF6,AH6,AJ6,AL6,AN6,AP6,AR6,AT6,AV6,AX6,AZ6,BB6,BD6,BF6,BH6)>0,MAX(B6,D6,F6,H6,J6,L6,N6,P6,R6,T6,V6,X6,Z6,AB6,AD6,AF6,AH6,AJ6,AL6,AN6,AP6,AR6,AT6,AV6,AX6,AZ6,BB6,BD6,BF6,BH6),"") -> 23.1 | BP6: =IF(SUM(C6,E6,G6,I6,K6,M6,O6,Q6,S6,U6,W6,Y6,AA6,AC6,AE6,AG6,AI6,AK6,AM6,AO6,AQ6,AS6,AU6,AW6,AY6,BA6,BC6,BE6,BG6,BI6)>0,MIN(C6,E6,G6,I6,K6,M6,O6,Q6,S6,U6,W6,Y6,AA6,AC6,AE6,AG6,AI6,AK6,AM6,AO6,AQ6,AS6,AU6,AW6,AY6,BA6,BC6,BE6,BG6,BI6),"") -> 64.539007 | BQ6: =IF(COUNT(BP6)>0,"–","?") -> – | BR6: =IF(SUM(C6,E6,G6,I6,K6,M6,O6,Q6,S6,U6,W6,Y6,AA6,AC6,AE6,AG6,AI6,AK6,AM6,AO6,AQ6,AS6,AU6,AW6,AY6,BA6,BC6,BE6,BG6,BI6)>0,MAX(C6,E6,G6,I6,K6,M6,O6,Q6,S6,U6,W6,Y6,AA6,AC6,AE6,AG6,AI6,AK6,AM6,AO6,AQ6,AS6,AU6,AW6,AY6,BA6,BC6,BE6,BG6,BI6),"") -> 73.684211 | BS6: =IF(SUM(B6,D6,F6,H6,J6,L6,N6,P6,R6,T6,V6,X6,Z6,AB6,AD6,AF6,AH6,AJ6,AL6,AN6,AP6,AR6,AT6,AV6,AX6,AZ6,BB6,BD6,BF6,BH6)>0,AVERAGE(B6,D6,F6,H6,J6,L6,N6,P6,R6,T6,V6,X6,Z6,AB6,AD6,AF6,AH6,AJ6,AL6,AN6,AP6,AR6,AT6,AV6,AX6,AZ6,BB6,BD6,BF6,BH6),"?") -> 17.786667 | BT6: =IF(SUM(C6,E6,G6,I6,K6,M6,O6,Q6,S6,U6,W6,Y6,AA6,AC6,AE6,AG6,AI6,AK6,AM6,AO6,AQ6,AS6,AU6,AW6,AY6,BA6,BC6,BE6,BG6,BI6)>0,AVERAGE(C6,E6,G6,I6,K6,M6,O6,Q6,S6,U6,W6,Y6,AA6,AC6,AE6,AG6,AI6,AK6,AM6,AO6,AQ6,AS6,AU6,AW6,AY6,BA6,BC6,BE6,BG6,BI6),"?") -> 67.296355 | BU6: =IF(COUNT(B6,D6,F6,H6,J6,L6,N6,P6,R6,T6,V6,X6,Z6,AB6,AD6,AF6,AH6,AJ6,AL6,AN6,AP6,AR6,AT6,AV6,AX6,AZ6,BB6,BD6,BF6,BH6)>1,STDEV(B6,D6,F6,H6,J6,L6,N6,P6,R6,T6,V6,X6,Z6,AB6,AD6,AF6,AH6,AJ6,AL6,AN6,AP6,AR6,AT6,AV6,AX6,AZ6,BB6,BD6,BF6,BH6),"?") -> 2.869667 | BV6: =IF(COUNT(C6,E6,G6,I6,K6,M6,O6,Q6,S6,U6,W6,Y6,AA6,AC6,AE6,AG6,AI6,AK6,AM6,AO6,AQ6,AS6,AU6,AW6,AY6,BA6,BC6,BE6,BG6,BI6)>1,STDEV(C6,E6,G6,I6,K6,M6,O6,Q6,S6,U6,W6,Y6,AA6,AC6,AE6,AG6,AI6,AK6,AM6,AO6,AQ6,AS6,AU6,AW6,AY6,BA6,BC6,BE6,BG6,BI6),"?") -> 1.9318043 | BW6: =IF(COUNT(B6)>0,B6,"?") -> 18.2 | BX6: =IF(COUNT(C6)>0,C6,"?") -> 64.539007
A7: Buccal tube external width | B7: 2.3 | C7: 8.1560284 | D7: 3 | E7: 10.169492 | F7: 2.6 | G7: 9.4545455 | H7: 2.8 | I7: 9.4594595 | J7: 2.7 | K7: 9.0301003 | L7: 1.9 | M7: 9.5 | N7: 2.1 | O7: 9.5890411 | P7: 1.6 | Q7: 8.3769634 | R7: 2.3 | S7: 10.502283 | T7: 1.9 | U7: 9.3137255 | V7: 2.3 | W7: 9.6638655 | X7: 2.4 | Y7: 8.7272727 | Z7: 2.8 | AA7: 9.8591549 | AB7: 2.8 | AC7: 10.035842 | AD7: 2.8 | AE7: 9.1205212 | AF7: 2.3 | AG7: 8.9147287 | AH7: 3.2 | AI7: 9.6096096 | AJ7: 2.6 | AK7: 9.2198582 | AL7: 2.6 | AM7: 8.3601286 | AN7: 2.3 | AO7: 8.9494163 | AP7: 2 | AQ7: 9.569378 | AR7: 1.9 | AS7: 10 | AT7: 2.9 | AU7: 9.3548387 | AV7: 2.1 | AW7: 10.447761 | AX7: 2.6 | AY7: 8.9347079 | AZ7: 2.8 | BA7: 10.566038 | BB7: 2.3 | BC7: 8.3636364 | BD7: 2.4 | BE7: 8.2474227 | BF7: 2.8 | BG7: 9.8245614 | BH7: 2.1 | BI7: 6.8627451 | BK7: =A7 -> Buccal tube external width | BL7: 30 | BM7: =IF(SUM(B7,D7,F7,H7,J7,L7,N7,P7,R7,T7,V7,X7,Z7,AB7,AD7,AF7,AH7,AJ7,AL7,AN7,AP7,AR7,AT7,AV7,AX7,AZ7,BB7,BD7,BF7,BH7)>0,MIN(B7,D7,F7,H7,J7,L7,N7,P7,R7,T7,V7,X7,Z7,AB7,AD7,AF7,AH7,AJ7,AL7,AN7,AP7,AR7,AT7,AV7,AX7,AZ7,BB7,BD7,BF7,BH7),"") -> 1.6 | BN7: =IF(COUNT(BM7)>0,"–","?") -> – | BO7: =IF(SUM(B7,D7,F7,H7,J7,L7,N7,P7,R7,T7,V7,X7,Z7,AB7,AD7,AF7,AH7,AJ7,AL7,AN7,AP7,AR7,AT7,AV7,AX7,AZ7,BB7,BD7,BF7,BH7)>0,MAX(B7,D7,F7,H7,J7,L7,N7,P7,R7,T7,V7,X7,Z7,AB7,AD7,AF7,AH7,AJ7,AL7,AN7,AP7,AR7,AT7,AV7,AX7,AZ7,BB7,BD7,BF7,BH7),"") -> 3.2 | BP7: =IF(SUM(C7,E7,G7,I7,K7,M7,O7,Q7,S7,U7,W7,Y7,AA7,AC7,AE7,AG7,AI7,AK7,AM7,AO7,AQ7,AS7,AU7,AW7,AY7,BA7,BC7,BE7,BG7,BI7)>0,MIN(C7,E7,G7,I7,K7,M7,O7,Q7,S7,U7,W7,Y7,AA7,AC7,AE7,AG7,AI7,AK7,AM7,AO7,AQ7,AS7,AU7,AW7,AY7,BA7,BC7,BE7,BG7,BI7),"") -> 6.8627451 | BQ7: =IF(COUNT(BP7)>0,"–","?") -> – | BR7: =IF(SUM(C7,E7,G7,I7,K7,M7,O7,Q7,S7,U7,W7,Y7,AA7,AC7,AE7,AG7,AI7,AK7,AM7,AO7,AQ7,AS7,AU7,AW7,AY7,BA7,BC7,BE7,BG7,BI7)>0,MAX(C7,E7,G7,I7,K7,M7,O7,Q7,S7,U7,W7,Y7,AA7,AC7,AE7,AG7,AI7,AK7,AM7,AO7,AQ7,AS7,AU7,AW7,AY7,BA7,BC7,BE7,BG7,BI7),"") -> 10.566038 | BS7: =IF(SUM(B7,D7,F7,H7,J7,L7,N7,P7,R7,T7,V7,X7,Z7,AB7,AD7,AF7,AH7,AJ7,AL7,AN7,AP7,AR7,AT7,AV7,AX7,AZ7,BB7,BD7,BF7,BH7)>0,AVERAGE(B7,D7,F7,H7,J7,L7,N7,P7,R7,T7,V7,X7,Z7,AB7,AD7,AF7,AH7,AJ7,AL7,AN7,AP7,AR7,AT7,AV7,AX7,AZ7,BB7,BD7,BF7,BH7),"?") -> 2.44 | BT7: =IF(SUM(C7,E7,G7,I7,K7,M7,O7,Q7,S7,U7,W7,Y7,AA7,AC7,AE7,AG7,AI7,AK7,AM7,AO7,AQ7,AS7,AU7,AW7,AY7,BA7,BC7,BE7,BG7,BI7)>0,AVERAGE(C7,E7,G7,I7,K7,M7,O7,Q7,S7,U7,W7,Y7,AA7,AC7,AE7,AG7,AI7,AK7,AM7,AO7,AQ7,AS7,AU7,AW7,AY7,BA7,BC7,BE7,BG7,BI7),"?") -> 9.2727708 | BU7: =IF(COUNT(B7,D7,F7,H7,J7,L7,N7,P7,R7,T7,V7,X7,Z7,AB7,AD7,AF7,AH7,AJ7,AL7,AN7,AP7,AR7,AT7,AV7,AX7,AZ7,BB7,BD7,BF7,BH7)>1,STDEV(B7,D7,F7,H7,J7,L7,N7,P7,R7,T7,V7,X7,Z7,AB7,AD7,AF7,AH7,AJ7,AL7,AN7,AP7,AR7,AT7,AV7,AX7,AZ7,BB7,BD7,BF7,BH7),"?") -> 0.38470768 | BV7: =IF(COUNT(C7,E7,G7,I7,K7,M7,O7,Q7,S7,U7,W7,Y7,AA7,AC7,AE7,AG7,AI7,AK7,AM7,AO7,AQ7,AS7,AU7,AW7,AY7,BA7,BC7,BE7,BG7,BI7)>1,STDEV(C7,E7,G7,I7,K7,M7,O7,Q7,S7,U7,W7,Y7,AA7,AC7,AE7,AG7,AI7,AK7,AM7,AO7,AQ7,AS7,AU7,AW7,AY7,BA7,BC7,BE7,BG7,BI7),"?") -> 0.80961533 | BW7: =IF(COUNT(B7)>0,B7,"?") -> 2.3 | BX7: =IF(COUNT(C7)>0,C7,"?") -> 8.1560284
A8: Buccal tube internal width | B8: 0.7 | C8: 2.4822695 | D8: 1.4 | E8: 4.7457627 | F8: 0.7 | G8: 2.5454545 | H8: 0.9 | I8: 3.0405405 | J8: 0.7 | K8: 2.3411371 | L8: 0.7 | M8: 3.5 | N8: 0.6 | O8: 2.739726 | P8: 0.5 | Q8: 2.617801 | R8: 0.6 | S8: 2.739726 | T8: 0.5 | U8: 2.4509804 | V8: 0.7 | W8: 2.9411765 | X8: 0.8 | Y8: 2.9090909 | Z8: 0.7 | AA8: 2.4647887 | AB8: 0.9 | AC8: 3.2258065 | AD8: 1.2 | AE8: 3.9087948 | AF8: 0.7 | AG8: 2.7131783 | AH8: 1.3 | AI8: 3.9039039 | AJ8: 0.7 | AK8: 2.4822695 | AL8: 0.9 | AM8: 2.8938907 | AN8: 0.5 | AO8: 1.9455253 | AP8: 0.4 | AQ8: 1.9138756 | AR8: 0.4 | AS8: 2.1052632 | AT8: 1 | AU8: 3.2258065 | AV8: 0.5 | AW8: 2.4875622 | AX8: 0.9 | AY8: 3.0927835 | AZ8: 0.7 | BA8: 2.6415094 | BB8: 0.7 | BC8: 2.5454545 | BD8: 1 | BE8: 3.4364261 | BF8: 0.8 | BG8: 2.8070175 | BH8: 0.7 | BI8: 2.2875817 | BK8: =A8 -> Buccal tube internal width | BL8: 30 | BM8: =IF(SUM(B8,D8,F8,H8,J8,L8,N8,P8,R8,T8,V8,X8,Z8,AB8,AD8,AF8,AH8,AJ8,AL8,AN8,AP8,AR8,AT8,AV8,AX8,AZ8,BB8,BD8,BF8,BH8)>0,MIN(B8,D8,F8,H8,J8,L8,N8,P8,R8,T8,V8,X8,Z8,AB8,AD8,AF8,AH8,AJ8,AL8,AN8,AP8,AR8,AT8,AV8,AX8,AZ8,BB8,BD8,BF8,BH8),"") -> 0.4 | BN8: =IF(COUNT(BM8)>0,"–","?") -> – | BO8: =IF(SUM(B8,D8,F8,H8,J8,L8,N8,P8,R8,T8,V8,X8,Z8,AB8,AD8,AF8,AH8,AJ8,AL8,AN8,AP8,AR8,AT8,AV8,AX8,AZ8,BB8,BD8,BF8,BH8)>0,MAX(B8,D8,F8,H8,J8,L8,N8,P8,R8,T8,V8,X8,Z8,AB8,AD8,AF8,AH8,AJ8,AL8,AN8,AP8,AR8,AT8,AV8,AX8,AZ8,BB8,BD8,BF8,BH8),"") -> 1.4 | BP8: =IF(SUM(C8,E8,G8,I8,K8,M8,O8,Q8,S8,U8,W8,Y8,AA8,AC8,AE8,AG8,AI8,AK8,AM8,AO8,AQ8,AS8,AU8,AW8,AY8,BA8,BC8,BE8,BG8,BI8)>0,MIN(C8,E8,G8,I8,K8,M8,O8,Q8,S8,U8,W8,Y8,AA8,AC8,AE8,AG8,AI8,AK8,AM8,AO8,AQ8,AS8,AU8,AW8,AY8,BA8,BC8,BE8,BG8,BI8),"") -> 1.9138756 | BQ8: =IF(COUNT(BP8)>0,"–","?") -> – | BR8: =IF(SUM(C8,E8,G8,I8,K8,M8,O8,Q8,S8,U8,W8,Y8,AA8,AC8,AE8,AG8,AI8,AK8,AM8,AO8,AQ8,AS8,AU8,AW8,AY8,BA8,BC8,BE8,BG8,BI8)>0,MAX(C8,E8,G8,I8,K8,M8,O8,Q8,S8,U8,W8,Y8,AA8,AC8,AE8,AG8,AI8,AK8,AM8,AO8,AQ8,AS8,AU8,AW8,AY8,BA8,BC8,BE8,BG8,BI8),"") -> 4.7457627 | BS8: =IF(SUM(B8,D8,F8,H8,J8,L8,N8,P8,R8,T8,V8,X8,Z8,AB8,AD8,AF8,AH8,AJ8,AL8,AN8,AP8,AR8,AT8,AV8,AX8,AZ8,BB8,BD8,BF8,BH8)>0,AVERAGE(B8,D8,F8,H8,J8,L8,N8,P8,R8,T8,V8,X8,Z8,AB8,AD8,AF8,AH8,AJ8,AL8,AN8,AP8,AR8,AT8,AV8,AX8,AZ8,BB8,BD8,BF8,BH8),"?") -> 0.76 | BT8: =IF(SUM(C8,E8,G8,I8,K8,M8,O8,Q8,S8,U8,W8,Y8,AA8,AC8,AE8,AG8,AI8,AK8,AM8,AO8,AQ8,AS8,AU8,AW8,AY8,BA8,BC8,BE8,BG8,BI8)>0,AVERAGE(C8,E8,G8,I8,K8,M8,O8,Q8,S8,U8,W8,Y8,AA8,AC8,AE8,AG8,AI8,AK8,AM8,AO8,AQ8,AS8,AU8,AW8,AY8,BA8,BC8,BE8,BG8,BI8),"?") -> 2.8378368 | BU8: =IF(COUNT(B8,D8,F8,H8,J8,L8,N8,P8,R8,T8,V8,X8,Z8,AB8,AD8,AF8,AH8,AJ8,AL8,AN8,AP8,AR8,AT8,AV8,AX8,AZ8,BB8,BD8,BF8,BH8)>1,STDEV(B8,D8,F8,H8,J8,L8,N8,P8,R8,T8,V8,X8,Z8,AB8,AD8,AF8,AH8,AJ8,AL8,AN8,AP8,AR8,AT8,AV8,AX8,AZ8,BB8,BD8,BF8,BH8),"?") -> 0.24297013 | BV8: =IF(COUNT(C8,E8,G8,I8,K8,M8,O8,Q8,S8,U8,W8,Y8,AA8,AC8,AE8,AG8,AI8,AK8,AM8,AO8,AQ8,AS8,AU8,AW8,AY8,BA8,BC8,BE8,BG8,BI8)>1,STDEV(C8,E8,G8,I8,K8,M8,O8,Q8,S8,U8,W8,Y8,AA8,AC8,AE8,AG8,AI8,AK8,AM8,AO8,AQ8,AS8,AU8,AW8,AY8,BA8,BC8,BE8,BG8,BI8),"?") -> 0.61140181 | BW8: =IF(COUNT(B8)>0,B8,"?") -> 0.7 | BX8: =IF(COUNT(C8)>0,C8,"?") -> 2.4822695
A9: Ventral lamina length | B9: 15.1 | C9: 53.546099 | D9: 16.5 | E9: 55.932203 | F9: 14.7 | G9: 53.454545 | H9: 16.2 | I9: 54.72973 | J9: 17.2 | K9: 57.525084 | L9: 13.1 | M9: 65.5 | N9: 15.1 | O9: 68.949772 | P9: 12.6 | Q9: 65.968586 | R9: 12.9 | S9: 58.90411 | T9: 12.5 | U9: 61.27451 | V9: 13.6 | W9: 57.142857 | X9: 16.7 | Y9: 60.727273 | Z9: 18.3 | AA9: 64.43662 | AB9: 14.1 | AC9: 50.537634 | AD9: 18.7 | AE9: 60.912052 | AF9: 16.6 | AG9: 64.341085 | AH9: 19.4 | AI9: 58.258258 | AJ9: 17.4 | AK9: 61.702128 | AL9: 17.8 | AM9: 57.234727 | AN9: 15.8 | AO9: 61.478599 | AP9: 12.3 | AQ9: 58.851675 | AR9: 11.6 | AS9: 61.052632 | AT9: 19.2 | AU9: 61.935484 | AV9: 10.2 | AW9: 50.746269 | AX9: 16.1 | AY9: 55.32646 | AZ9: 14.3 | BA9: 53.962264 | BB9: 14.7 | BC9: 53.454545 | BD9: 17.7 | BE9: 60.824742 | BF9: 14.7 | BG9: 51.578947 | BH9: 15.3 | BI9: 53.546099 | BK9: Ventral lamina length | BL9: 30 | BM9: =IF(SUM(B9,D9,F9,H9,J9,L9,N9,P9,R9,T9,V9,X9,Z9,AB9,AD9,AF9,AH9,AJ9,AL9,AN9,AP9,AR9,AT9,AV9,AX9,AZ9,BB9,BD9,BF9,BH9)>0,MIN(B9,D9,F9,H9,J9,L9,N9,P9,R9,T9,V9,X9,Z9,AB9,AD9,AF9,AH9,AJ9,AL9,AN9,AP9,AR9,AT9,AV9,AX9,AZ9,BB9,BD9,BF9,BH9),"") -> 10.2 | BN9: =IF(COUNT(BM9)>0,"–","?") -> – | BO9: =IF(SUM(B9,D9,F9,H9,J9,L9,N9,P9,R9,T9,V9,X9,Z9,AB9,AD9,AF9,AH9,AJ9,AL9,AN9,AP9,AR9,AT9,AV9,AX9,AZ9,BB9,BD9,BF9,BH9)>0,MAX(B9,D9,F9,H9,J9,L9,N9,P9,R9,T9,V9,X9,Z9,AB9,AD9,AF9,AH9,AJ9,AL9,AN9,AP9,AR9,AT9,AV9,AX9,AZ9,BB9,BD9,BF9,BH9),"") -> 19.4 | BP9: =IF(SUM(C9,E9,G9,I9,K9,M9,O9,Q9,S9,U9,W9,Y9,AA9,AC9,AE9,AG9,AI9,AK9,AM9,AO9,AQ9,AS9,AU9,AW9,AY9,BA9,BC9,BE9,BG9,BI9)>0,MIN(C9,E9,G9,I9,K9,M9,O9,Q9,S9,U9,W9,Y9,AA9,AC9,AE9,AG9,AI9,AK9,AM9,AO9,AQ9,AS9,AU9,AW9,AY9,BA9,BC9,BE9,BG9,BI9),"") -> 50.537634 | BQ9: =IF(COUNT(BP9)>0,"–","?") -> – | BR9: =IF(SUM(C9,E9,G9,I9,K9,M9,O9,Q9,S9,U9,W9,Y9,AA9,AC9,AE9,AG9,AI9,AK9,AM9,AO9,AQ9,AS9,AU9,AW9,AY9,BA9,BC9,BE9,BG9,BI9)>0,MAX(C9,E9,G9,I9,K9,M9,O9,Q9,S9,U9,W9,Y9,AA9,AC9,AE9,AG9,AI9,AK9,AM9,AO9,AQ9,AS9,AU9,AW9,AY9,BA9,BC9,BE9,BG9,BI9),"") -> 68.949772 | BS9: =IF(SUM(B9,D9,F9,H9,J9,L9,N9,P9,R9,T9,V9,X9,Z9,AB9,AD9,AF9,AH9,AJ9,AL9,AN9,AP9,AR9,AT9,AV9,AX9,AZ9,BB9,BD9,BF9,BH9)>0,AVERAGE(B9,D9,F9,H9,J9,L9,N9,P9,R9,T9,V9,X9,Z9,AB9,AD9,AF9,AH9,AJ9,AL9,AN9,AP9,AR9,AT9,AV9,AX9,AZ9,BB9,BD9,BF9,BH9),"?") -> 15.346667 | BT9: =IF(SUM(C9,E9,G9,I9,K9,M9,O9,Q9,S9,U9,W9,Y9,AA9,AC9,AE9,AG9,AI9,AK9,AM9,AO9,AQ9,AS9,AU9,AW9,AY9,BA9,BC9,BE9,BG9,BI9)>0,AVERAGE(C9,E9,G9,I9,K9,M9,O9,Q9,S9,U9,W9,Y9,AA9,AC9,AE9,AG9,AI9,AK9,AM9,AO9,AQ9,AS9,AU9,AW9,AY9,BA9,BC9,BE9,BG9,BI9),"?") -> 58.461166 | BU9: =IF(COUNT(B9,D9,F9,H9,J9,L9,N9,P9,R9,T9,V9,X9,Z9,AB9,AD9,AF9,AH9,AJ9,AL9,AN9,AP9,AR9,AT9,AV9,AX9,AZ9,BB9,BD9,BF9,BH9)>1,STDEV(B9,D9,F9,H9,J9,L9,N9,P9,R9,T9,V9,X9,Z9,AB9,AD9,AF9,AH9,AJ9,AL9,AN9,AP9,AR9,AT9,AV9,AX9,AZ9,BB9,BD9,BF9,BH9),"?") -> 2.3507495 | BV9: =IF(COUNT(C9,E9,G9,I9,K9,M9,O9,Q9,S9,U9,W9,Y9,AA9,AC9,AE9,AG9,AI9,AK9,AM9,AO9,AQ9,AS9,AU9,AW9,AY9,BA9,BC9,BE9,BG9,BI9)>1,STDEV(C9,E9,G9,I9,K9,M9,O9,Q9,S9,U9,W9,Y9,AA9,AC9,AE9,AG9,AI9,AK9,AM9,AO9,AQ9,AS9,AU9,AW9,AY9,BA9,BC9,BE9,BG9,BI9),"?") -> 4.8146502 | BW9: =IF(COUNT(B9)>0,B9,"?") -> 15.1 | BX9: =IF(COUNT(C9)>0,C9,"?") -> 53.546099
A10: Placoid lengths | BK10: =A10 -> Placoid lengths
A11: Macroplacoid 1 | B11: 3.5 | C11: 12.411348 | D11: 3.8 | E11: 12.881356 | F11: 3.8 | G11: 13.818182 | H11: 2.8 | I11: 9.4594595 | J11: 4.1 | K11: 13.712375 | L11: 2 | M11: 10 | N11: 2.6 | O11: 11.872146 | P11: 2.1 | Q11: 10.994764 | R11: 2.7 | S11: 12.328767 | T11: 2.4 | U11: 11.764706 | V11: 3 | W11: 12.605042 | X11: 3.3 | Y11: 12 | Z11: 3.5 | AA11: 12.323944 | AB11: 3.6 | AC11: 12.903226 | AD11: 3.7 | AE11: 12.052117 | AF11: 2.8 | AG11: 10.852713 | AH11: 4.6 | AI11: 13.813814 | AJ11: 3 | AK11: 10.638298 | AL11: 3.8 | AM11: 12.21865 | AN11: 3.3 | AO11: 12.840467 | AP11: 2.4 | AQ11: 11.483254 | AR11: 2.6 | AS11: 13.684211 | AT11: 4.1 | AU11: 13.225806 | AV11: 2.6 | AW11: 12.935323 | AX11: 3.5 | AY11: 12.027491 | AZ11: 2.8 | BA11: 10.566038 | BB11: 3.3 | BC11: 12 | BD11: 3.3 | BE11: 11.340206 | BF11: 3.2 | BG11: 11.22807 | BH11: 3.6 | BI11: 11.764706 | BK11: =A11 -> Macroplacoid 1 | BL11: 30 | BM11: =IF(SUM(B11,D11,F11,H11,J11,L11,N11,P11,R11,T11,V11,X11,Z11,AB11,AD11,AF11,AH11,AJ11,AL11,AN11,AP11,AR11,AT11,AV11,AX11,AZ11,BB11,BD11,BF11,BH11)>0,MIN(B11,D11,F11,H11,J11,L11,N11,P11,R11,T11,V11,X11,Z11,AB11,AD11,AF11,AH11,AJ11,AL11,AN11,AP11,AR11,AT11,AV11,AX11,AZ11,BB11,BD11,BF11,BH11),"") -> 2 | BN11: =IF(COUNT(BM11)>0,"–","?") -> – | BO11: =IF(SUM(B11,D11,F11,H11,J11,L11,N11,P11,R11,T11,V11,X11,Z11,AB11,AD11,AF11,AH11,AJ11,AL11,AN11,AP11,AR11,AT11,AV11,AX11,AZ11,BB11,BD11,BF11,BH11)>0,MAX(B11,D11,F11,H11,J11,L11,N11,P11,R11,T11,V11,X11,Z11,AB11,AD11,AF11,AH11,AJ11,AL11,AN11,AP11,AR11,AT11,AV11,AX11,AZ11,BB11,BD11,BF11,BH11),"") -> 4.6 | BP11: =IF(SUM(C11,E11,G11,I11,K11,M11,O11,Q11,S11,U11,W11,Y11,AA11,AC11,AE11,AG11,AI11,AK11,AM11,AO11,AQ11,AS11,AU11,AW11,AY11,BA11,BC11,BE11,BG11,BI11)>0,MIN(C11,E11,G11,I11,K11,M11,O11,Q11,S11,U11,W11,Y11,AA11,AC11,AE11,AG11,AI11,AK11,AM11,AO11,AQ11,AS11,AU11,AW11,AY11,BA11,BC11,BE11,BG11,BI11),"") -> 9.4594595 | BQ11: =IF(COUNT(BP11)>0,"–","?") -> – | BR11: =IF(SUM(C11,E11,G11,I11,K11,M11,O11,Q11,S11,U11,W11,Y11,AA11,AC11,AE11,AG11,AI11,AK11,AM11,AO11,AQ11,AS11,AU11,AW11,AY11,BA11,BC11,BE11,BG11,BI11)>0,MAX(C11,E11,G11,I11,K11,M11,O11,Q11,S11,U11,W11,Y11,AA11,AC11,AE11,AG11,AI11,AK11,AM11,AO11,AQ11,AS11,AU11,AW11,AY11,BA11,BC11,BE11,BG11,BI11),"") -> 13.818182 | BS11: =IF(SUM(B11,D11,F11,H11,J11,L11,N11,P11,R11,T11,V11,X11,Z11,AB11,AD11,AF11,AH11,AJ11,AL11,AN11,AP11,AR11,AT11,AV11,AX11,AZ11,BB11,BD11,BF11,BH11)>0,AVERAGE(B11,D11,F11,H11,J11,L11,N11,P11,R11,T11,V11,X11,Z11,AB11,AD11,AF11,AH11,AJ11,AL11,AN11,AP11,AR11,AT11,AV11,AX11,AZ11,BB11,BD11,BF11,BH11),"?") -> 3.1933333 | BT11: =IF(SUM(C11,E11,G11,I11,K11,M11,O11,Q11,S11,U11,W11,Y11,AA11,AC11,AE11,AG11,AI11,AK11,AM11,AO11,AQ11,AS11,AU11,AW11,AY11,BA11,BC11,BE11,BG11,BI11)>0,AVERAGE(C11,E11,G11,I11,K11,M11,O11,Q11,S11,U11,W11,Y11,AA11,AC11,AE11,AG11,AI11,AK11,AM11,AO11,AQ11,AS11,AU11,AW11,AY11,BA11,BC11,BE11,BG11,BI11),"?") -> 12.058216 | BU11: =IF(COUNT(B11,D11,F11,H11,J11,L11,N11,P11,R11,T11,V11,X11,Z11,AB11,AD11,AF11,AH11,AJ11,AL11,AN11,AP11,AR11,AT11,AV11,AX11,AZ11,BB11,BD11,BF11,BH11)>1,STDEV(B11,D11,F11,H11,J11,L11,N11,P11,R11,T11,V11,X11,Z11,AB11,AD11,AF11,AH11,AJ11,AL11,AN11,AP11,AR11,AT11,AV11,AX11,AZ11,BB11,BD11,BF11,BH11),"?") -> 0.62584196 | BV11: =IF(COUNT(C11,E11,G11,I11,K11,M11,O11,Q11,S11,U11,W11,Y11,AA11,AC11,AE11,AG11,AI11,AK11,AM11,AO11,AQ11,AS11,AU11,AW11,AY11,BA11,BC11,BE11,BG11,BI11)>1,STDEV(C11,E11,G11,I11,K11,M11,O11,Q11,S11,U11,W11,Y11,AA11,AC11,AE11,AG11,AI11,AK11,AM11,AO11,AQ11,AS11,AU11,AW11,AY11,BA11,BC11,BE11,BG11,BI11),"?") -> 1.1119373 | BW11: =IF(COUNT(B11)>0,B11,"?") -> 3.5 | BX11: =IF(COUNT(C11)>0,C11,"?") -> 12.411348
A12: Macroplacoid 2 | B12: 2.5 | C12: 8.8652482 | D12: 2.4 | E12: 8.1355932 | F12: 2.5 | G12: 9.0909091 | H12: 2.5 | I12: 8.4459459 | J12: 2.6 | K12: 8.6956522 | L12: 1.6 | M12: 8 | N12: 2 | O12: 9.1324201 | P12: 1.4 | Q12: 7.3298429 | R12: 1.9 | S12: 8.6757991 | T12: 1.6 | U12: 7.8431373 | V12: 2.1 | W12: 8.8235294 | X12: 2.1 | Y12: 7.6363636 | Z12: 2.6 | AA12: 9.1549296 | AB12: 2.6 | AC12: 9.3189964 | AD12: 2.8 | AE12: 9.1205212 | AF12: 2.3 | AG12: 8.9147287 | AH12: 2.6 | AI12: 7.8078078 | AJ12: 2 | AK12: 7.0921986 | AL12: 2.9 | AM12: 9.3247588 | AN12: 2.1 | AO12: 8.1712062 | AP12: 1.9 | AQ12: 9.0909091 | AR12: 1.6 | AS12: 8.4210526 | AT12: 2.9 | AU12: 9.3548387 | AV12: 1.4 | AW12: 6.9651741 | AX12: 2.6 | AY12: 8.9347079 | AZ12: 2.1 | BA12: 7.9245283 | BB12: 2.6 | BC12: 9.4545455 | BD12: 2.5 | BE12: 8.5910653 | BF12: 2.4 | BG12: 8.4210526 | BH12: 2.6 | BI12: 8.496732 | BK12: =A12 -> Macroplacoid 2 | BL12: 30 | BM12: =IF(SUM(B12,D12,F12,H12,J12,L12,N12,P12,R12,T12,V12,X12,Z12,AB12,AD12,AF12,AH12,AJ12,AL12,AN12,AP12,AR12,AT12,AV12,AX12,AZ12,BB12,BD12,BF12,BH12)>0,MIN(B12,D12,F12,H12,J12,L12,N12,P12,R12,T12,V12,X12,Z12,AB12,AD12,AF12,AH12,AJ12,AL12,AN12,AP12,AR12,AT12,AV12,AX12,AZ12,BB12,BD12,BF12,BH12),"") -> 1.4 | BN12: =IF(COUNT(BM12)>0,"–","?") -> – | BO12: =IF(SUM(B12,D12,F12,H12,J12,L12,N12,P12,R12,T12,V12,X12,Z12,AB12,AD12,AF12,AH12,AJ12,AL12,AN12,AP12,AR12,AT12,AV12,AX12,AZ12,BB12,BD12,BF12,BH12)>0,MAX(B12,D12,F12,H12,J12,L12,N12,P12,R12,T12,V12,X12,Z12,AB12,AD12,AF12,AH12,AJ12,AL12,AN12,AP12,AR12,AT12,AV12,AX12,AZ12,BB12,BD12,BF12,BH12),"") -> 2.9 | BP12: =IF(SUM(C12,E12,G12,I12,K12,M12,O12,Q12,S12,U12,W12,Y12,AA12,AC12,AE12,AG12,AI12,AK12,AM12,AO12,AQ12,AS12,AU12,AW12,AY12,BA12,BC12,BE12,BG12,BI12)>0,MIN(C12,E12,G12,I12,K12,M12,O12,Q12,S12,U12,W12,Y12,AA12,AC12,AE12,AG12,AI12,AK12,AM12,AO12,AQ12,AS12,AU12,AW12,AY12,BA12,BC12,BE12,BG12,BI12),"") -> 6.9651741 | BQ12: =IF(COUNT(BP12)>0,"–","?") -> – | BR12: =IF(SUM(C12,E12,G12,I12,K12,M12,O12,Q12,S12,U12,W12,Y12,AA12,AC12,AE12,AG12,AI12,AK12,AM12,AO12,AQ12,AS12,AU12,AW12,AY12,BA12,BC12,BE12,BG12,BI12)>0,MAX(C12,E12,G12,I12,K12,M12,O12,Q12,S12,U12,W12,Y12,AA12,AC12,AE12,AG12,AI12,AK12,AM12,AO12,AQ12,AS12,AU12,AW12,AY12,BA12,BC12,BE12,BG12,BI12),"") -> 9.4545455 | BS12: =IF(SUM(B12,D12,F12,H12,J12,L12,N12,P12,R12,T12,V12,X12,Z12,AB12,AD12,AF12,AH12,AJ12,AL12,AN12,AP12,AR12,AT12,AV12,AX12,AZ12,BB12,BD12,BF12,BH12)>0,AVERAGE(B12,D12,F12,H12,J12,L12,N12,P12,R12,T12,V12,X12,Z12,AB12,AD12,AF12,AH12,AJ12,AL12,AN12,AP12,AR12,AT12,AV12,AX12,AZ12,BB12,BD12,BF12,BH12),"?") -> 2.2566667 | BT12: =IF(SUM(C12,E12,G12,I12,K12,M12,O12,Q12,S12,U12,W12,Y12,AA12,AC12,AE12,AG12,AI12,AK12,AM12,AO12,AQ12,AS12,AU12,AW12,AY12,BA12,BC12,BE12,BG12,BI12)>0,AVERAGE(C12,E12,G12,I12,K12,M12,O12,Q12,S12,U12,W12,Y12,AA12,AC12,AE12,AG12,AI12,AK12,AM12,AO12,AQ12,AS12,AU12,AW12,AY12,BA12,BC12,BE12,BG12,BI12),"?") -> 8.5078065 | BU12: =IF(COUNT(B12,D12,F12,H12,J12,L12,N12,P12,R12,T12,V12,X12,Z12,AB12,AD12,AF12,AH12,AJ12,AL12,AN12,AP12,AR12,AT12,AV12,AX12,AZ12,BB12,BD12,BF12,BH12)>1,STDEV(B12,D12,F12,H12,J12,L12,N12,P12,R12,T12,V12,X12,Z12,AB12,AD12,AF12,AH12,AJ12,AL12,AN12,AP12,AR12,AT12,AV12,AX12,AZ12,BB12,BD12,BF12,BH12),"?") -> 0.43445037 | BV12: =IF(COUNT(C12,E12,G12,I12,K12,M12,O12,Q12,S12,U12,W12,Y12,AA12,AC12,AE12,AG12,AI12,AK12,AM12,AO12,AQ12,AS12,AU12,AW12,AY12,BA12,BC12,BE12,BG12,BI12)>1,STDEV(C12,E12,G12,I12,K12,M12,O12,Q12,S12,U12,W12,Y12,AA12,AC12,AE12,AG12,AI12,AK12,AM12,AO12,AQ12,AS12,AU12,AW12,AY12,BA12,BC12,BE12,BG12,BI12),"?") -> 0.68934403 | BW12: =IF(COUNT(B12)>0,B12,"?") -> 2.5 | BX12: =IF(COUNT(C12)>0,C12,"?") -> 8.8652482
A13: Macroplacoid 3 | B13: 2.3 | C13: 8.1560284 | D13: 3.3 | E13: 11.186441 | F13: 3 | G13: 10.909091 | H13: 2.6 | I13: 8.7837838 | J13: 2.8 | K13: 9.3645485 | L13: 1.8 | M13: 9 | N13: 2.3 | O13: 10.502283 | P13: 1.9 | Q13: 9.947644 | R13: 2.1 | S13: 9.5890411 | T13: 1.9 | U13: 9.3137255 | V13: 2.1 | W13: 8.8235294 | X13: 2.4 | Y13: 8.7272727 | Z13: 2.8 | AA13: 9.8591549 | AB13: 3.1 | AC13: 11.111111 | AD13: 2.9 | AE13: 9.4462541 | AF13: 2.6 | AG13: 10.077519 | AH13: 3.3 | AI13: 9.9099099 | AJ13: 2.7 | AK13: 9.5744681 | AL13: 3.1 | AM13: 9.9678457 | AN13: 2.7 | AO13: 10.505837 | AP13: 1.9 | AQ13: 9.0909091 | AR13: 2.5 | AS13: 13.157895 | AT13: 3.2 | AU13: 10.322581 | AV13: 1.9 | AW13: 9.4527363 | AX13: 2.8 | AY13: 9.6219931 | AZ13: 2.6 | BA13: 9.8113208 | BB13: 3 | BC13: 10.909091 | BD13: 2.8 | BE13: 9.6219931 | BF13: 2.8 | BG13: 9.8245614 | BH13: 3.2 | BI13: 10.457516 | BK13: =A13 -> Macroplacoid 3 | BL13: 30 | BM13: =IF(SUM(B13,D13,F13,H13,J13,L13,N13,P13,R13,T13,V13,X13,Z13,AB13,AD13,AF13,AH13,AJ13,AL13,AN13,AP13,AR13,AT13,AV13,AX13,AZ13,BB13,BD13,BF13,BH13)>0,MIN(B13,D13,F13,H13,J13,L13,N13,P13,R13,T13,V13,X13,Z13,AB13,AD13,AF13,AH13,AJ13,AL13,AN13,AP13,AR13,AT13,AV13,AX13,AZ13,BB13,BD13,BF13,BH13),"") -> 1.8 | BN13: =IF(COUNT(BM13)>0,"–","?") -> – | BO13: =IF(SUM(B13,D13,F13,H13,J13,L13,N13,P13,R13,T13,V13,X13,Z13,AB13,AD13,AF13,AH13,AJ13,AL13,AN13,AP13,AR13,AT13,AV13,AX13,AZ13,BB13,BD13,BF13,BH13)>0,MAX(B13,D13,F13,H13,J13,L13,N13,P13,R13,T13,V13,X13,Z13,AB13,AD13,AF13,AH13,AJ13,AL13,AN13,AP13,AR13,AT13,AV13,AX13,AZ13,BB13,BD13,BF13,BH13),"") -> 3.3 | BP13: =IF(SUM(C13,E13,G13,I13,K13,M13,O13,Q13,S13,U13,W13,Y13,AA13,AC13,AE13,AG13,AI13,AK13,AM13,AO13,AQ13,AS13,AU13,AW13,AY13,BA13,BC13,BE13,BG13,BI13)>0,MIN(C13,E13,G13,I13,K13,M13,O13,Q13,S13,U13,W13,Y13,AA13,AC13,AE13,AG13,AI13,AK13,AM13,AO13,AQ13,AS13,AU13,AW13,AY13,BA13,BC13,BE13,BG13,BI13),"") -> 8.1560284 | BQ13: =IF(COUNT(BP13)>0,"–","?") -> – | BR13: =IF(SUM(C13,E13,G13,I13,K13,M13,O13,Q13,S13,U13,W13,Y13,AA13,AC13,AE13,AG13,AI13,AK13,AM13,AO13,AQ13,AS13,AU13,AW13,AY13,BA13,BC13,BE13,BG13,BI13)>0,MAX(C13,E13,G13,I13,K13,M13,O13,Q13,S13,U13,W13,Y13,AA13,AC13,AE13,AG13,AI13,AK13,AM13,AO13,AQ13,AS13,AU13,AW13,AY13,BA13,BC13,BE13,BG13,BI13),"") -> 13.157895 | BS13: =IF(SUM(B13,D13,F13,H13,J13,L13,N13,P13,R13,T13,V13,X13,Z13,AB13,AD13,AF13,AH13,AJ13,AL13,AN13,AP13,AR13,AT13,AV13,AX13,AZ13,BB13,BD13,BF13,BH13)>0,AVERAGE(B13,D13,F13,H13,J13,L13,N13,P13,R13,T13,V13,X13,Z13,AB13,AD13,AF13,AH13,AJ13,AL13,AN13,AP13,AR13,AT13,AV13,AX13,AZ13,BB13,BD13,BF13,BH13),"?") -> 2.6133333 | BT13: =IF(SUM(C13,E13,G13,I13,K13,M13,O13,Q13,S13,U13,W13,Y13,AA13,AC13,AE13,AG13,AI13,AK13,AM13,AO13,AQ13,AS13,AU13,AW13,AY13,BA13,BC13,BE13,BG13,BI13)>0,AVERAGE(C13,E13,G13,I13,K13,M13,O13,Q13,S13,U13,W13,Y13,AA13,AC13,AE13,AG13,AI13,AK13,AM13,AO13,AQ13,AS13,AU13,AW13,AY13,BA13,BC13,BE13,BG13,BI13),"?") -> 9.9008695 | BU13: =IF(COUNT(B13,D13,F13,H13,J13,L13,N13,P13,R13,T13,V13,X13,Z13,AB13,AD13,AF13,AH13,AJ13,AL13,AN13,AP13,AR13,AT13,AV13,AX13,AZ13,BB13,BD13,BF13,BH13)>1,STDEV(B13,D13,F13,H13,J13,L13,N13,P13,R13,T13,V13,X13,Z13,AB13,AD13,AF13,AH13,AJ13,AL13,AN13,AP13,AR13,AT13,AV13,AX13,AZ13,BB13,BD13,BF13,BH13),"?") -> 0.46068415 | BV13: =IF(COUNT(C13,E13,G13,I13,K13,M13,O13,Q13,S13,U13,W13,Y13,AA13,AC13,AE13,AG13,AI13,AK13,AM13,AO13,AQ13,AS13,AU13,AW13,AY13,BA13,BC13,BE13,BG13,BI13)>1,STDEV(C13,E13,G13,I13,K13,M13,O13,Q13,S13,U13,W13,Y13,AA13,AC13,AE13,AG13,AI13,AK13,AM13,AO13,AQ13,AS13,AU13,AW13,AY13,BA13,BC13,BE13,BG13,BI13),"?") -> 0.959969 | BW13: =IF(COUNT(B13)>0,B13,"?") -> 2.3 | BX13: =IF(COUNT(C13)>0,C13,"?") -> 8.1560284
A14: Microplacoid under UV | B14: 2 | D14: 4 | F14: 2 | H14: 3 | J14: 1 | L14: 0 | N14: 1 | P14: 1 | R14: 1 | T14: 0 | V14: 1 | X14: 2 | Z14: 3 | AB14: 2 | AD14: 2 | AF14: 2 | AH14: 3 | AJ14: 1 | AL14: 0 | AN14: n/d | AP14: 0 | AR14: 0 | AT14: 4 | AV14: 0 | AX14: 0 | AZ14: 1 | BB14: 0 | BD14: 2 | BF14: 0 | BH14: 0
A15: Macroplacoid row | B15: 9.1 | C15: 32.269504 | D15: 10.7 | E15: 36.271186 | F15: 9.7 | G15: 35.272727 | H15: 8.9 | I15: 30.067568 | J15: 10.5 | K15: 35.117057 | L15: 5.4 | M15: 27 | N15: 7 | O15: 31.96347 | P15: 5.8 | Q15: 30.366492 | R15: 6.6 | S15: 30.136986 | T15: 6.3 | U15: 30.882353 | V15: 7.9 | W15: 33.193277 | X15: 8.9 | Y15: 32.363636 | Z15: 9.5 | AA15: 33.450704 | AB15: 9.5 | AC15: 34.050179 | AD15: 10.2 | AE15: 33.224756 | AF15: 8.8 | AG15: 34.108527 | AH15: 11.7 | AI15: 35.135135 | AJ15: 9.5 | AK15: 33.687943 | AL15: 10.8 | AM15: 34.726688 | AN15: 8.4 | AO15: 32.684825 | AP15: 5.9 | AQ15: 28.229665 | AR15: 7.2 | AS15: 37.894737 | AT15: 10.9 | AU15: 35.16129 | AV15: 6.8 | AW15: 33.830846 | AX15: 9.9 | AY15: 34.020619 | AZ15: 8.6 | BA15: 32.45283 | BB15: 9.6 | BC15: 34.909091 | BD15: 10.2 | BE15: 35.051546 | BF15: 10 | BG15: 35.087719 | BH15: 9.6 | BI15: 31.372549 | BK15: =A15 -> Macroplacoid row | BL15: 30 | BM15: =IF(SUM(B15,D15,F15,H15,J15,L15,N15,P15,R15,T15,V15,X15,Z15,AB15,AD15,AF15,AH15,AJ15,AL15,AN15,AP15,AR15,AT15,AV15,AX15,AZ15,BB15,BD15,BF15,BH15)>0,MIN(B15,D15,F15,H15,J15,L15,N15,P15,R15,T15,V15,X15,Z15,AB15,AD15,AF15,AH15,AJ15,AL15,AN15,AP15,AR15,AT15,AV15,AX15,AZ15,BB15,BD15,BF15,BH15),"") -> 5.4 | BN15: =IF(COUNT(BM15)>0,"–","?") -> – | BO15: =IF(SUM(B15,D15,F15,H15,J15,L15,N15,P15,R15,T15,V15,X15,Z15,AB15,AD15,AF15,AH15,AJ15,AL15,AN15,AP15,AR15,AT15,AV15,AX15,AZ15,BB15,BD15,BF15,BH15)>0,MAX(B15,D15,F15,H15,J15,L15,N15,P15,R15,T15,V15,X15,Z15,AB15,AD15,AF15,AH15,AJ15,AL15,AN15,AP15,AR15,AT15,AV15,AX15,AZ15,BB15,BD15,BF15,BH15),"") -> 11.7 | BP15: =IF(SUM(C15,E15,G15,I15,K15,M15,O15,Q15,S15,U15,W15,Y15,AA15,AC15,AE15,AG15,AI15,AK15,AM15,AO15,AQ15,AS15,AU15,AW15,AY15,BA15,BC15,BE15,BG15,BI15)>0,MIN(C15,E15,G15,I15,K15,M15,O15,Q15,S15,U15,W15,Y15,AA15,AC15,AE15,AG15,AI15,AK15,AM15,AO15,AQ15,AS15,AU15,AW15,AY15,BA15,BC15,BE15,BG15,BI15),"") -> 27 | BQ15: =IF(COUNT(BP15)>0,"–","?") -> – | BR15: =IF(SUM(C15,E15,G15,I15,K15,M15,O15,Q15,S15,U15,W15,Y15,AA15,AC15,AE15,AG15,AI15,AK15,AM15,AO15,AQ15,AS15,AU15,AW15,AY15,BA15,BC15,BE15,BG15,BI15)>0,MAX(C15,E15,G15,I15,K15,M15,O15,Q15,S15,U15,W15,Y15,AA15,AC15,AE15,AG15,AI15,AK15,AM15,AO15,AQ15,AS15,AU15,AW15,AY15,BA15,BC15,BE15,BG15,BI15),"") -> 37.894737 | BS15: =IF(SUM(B15,D15,F15,H15,J15,L15,N15,P15,R15,T15,V15,X15,Z15,AB15,AD15,AF15,AH15,AJ15,AL15,AN15,AP15,AR15,AT15,AV15,AX15,AZ15,BB15,BD15,BF15,BH15)>0,AVERAGE(B15,D15,F15,H15,J15,L15,N15,P15,R15,T15,V15,X15,Z15,AB15,AD15,AF15,AH15,AJ15,AL15,AN15,AP15,AR15,AT15,AV15,AX15,AZ15,BB15,BD15,BF15,BH15),"?") -> 8.7966667 | BT15: =IF(SUM(C15,E15,G15,I15,K15,M15,O15,Q15,S15,U15,W15,Y15,AA15,AC15,AE15,AG15,AI15,AK15,AM15,AO15,AQ15,AS15,AU15,AW15,AY15,BA15,BC15,BE15,BG15,BI15)>0,AVERAGE(C15,E15,G15,I15,K15,M15,O15,Q15,S15,U15,W15,Y15,AA15,AC15,AE15,AG15,AI15,AK15,AM15,AO15,AQ15,AS15,AU15,AW15,AY15,BA15,BC15,BE15,BG15,BI15),"?") -> 33.132797 | BU15: =IF(COUNT(B15,D15,F15,H15,J15,L15,N15,P15,R15,T15,V15,X15,Z15,AB15,AD15,AF15,AH15,AJ15,AL15,AN15,AP15,AR15,AT15,AV15,AX15,AZ15,BB15,BD15,BF15,BH15)>1,STDEV(B15,D15,F15,H15,J15,L15,N15,P15,R15,T15,V15,X15,Z15,AB15,AD15,AF15,AH15,AJ15,AL15,AN15,AP15,AR15,AT15,AV15,AX15,AZ15,BB15,BD15,BF15,BH15),"?") -> 1.7062731 | BV15: =IF(COUNT(C15,E15,G15,I15,K15,M15,O15,Q15,S15,U15,W15,Y15,AA15,AC15,AE15,AG15,AI15,AK15,AM15,AO15,AQ15,AS15,AU15,AW15,AY15,BA15,BC15,BE15,BG15,BI15)>1,STDEV(C15,E15,G15,I15,K15,M15,O15,Q15,S15,U15,W15,Y15,AA15,AC15,AE15,AG15,AI15,AK15,AM15,AO15,AQ15,AS15,AU15,AW15,AY15,BA15,BC15,BE15,BG15,BI15),"?") -> 2.3857399 | BW15: =IF(COUNT(B15)>0,B15,"?") -> 9.1 | BX15: =IF(COUNT(C15)>0,C15,"?") -> 32.269504
A16: Claw I heights | BK16: =A16 -> Claw I heights
A17: External primary branch | B17: 9 | C17: 31.914894 | D17: 11.2 | E17: 37.966102 | F17: 8.7 | G17: 31.636364 | H17: 9.4 | I17: 31.756757 | J17: 9.5 | K17: 31.772575 | L17: 5.8 | M17: 29 | N17: 7 | O17: 31.96347 | P17: 6.3 | Q17: 32.984293 | R17: 6.7 | S17: 30.593607 | T17: 5.9 | U17: 28.921569 | V17: 7.8 | W17: 32.773109 | X17: 8.8 | Y17: 32 | Z17: 9.8 | AA17: 34.507042 | AB17: 8.5 | AC17: 30.46595 | AD17: 10.9 | AE17: 35.504886 | AF17: 8.2 | AG17: 31.782946 | AH17: 10.4 | AI17: 31.231231 | AJ17: 9.6 | AK17: 34.042553 | AL17: 9.7 | AM17: 31.189711 | AN17: 8.2 | AO17: 31.906615 | AP17: 7.1 | AQ17: 33.971292 | AR17: 3.7 | AS17: 19.473684 | AT17: 11 | AU17: 35.483871 | AV17: 6.8 | AW17: 33.830846 | AX17: 8.5 | AY17: 29.209622 | AZ17: 8.8 | BA17: 33.207547 | BB17: 8.4 | BC17: 30.545455 | BD17: 9.1 | BE17: 31.271478 | BF17: 8.7 | BG17: 30.526316 | BH17: 8.7 | BI17: 28.431373 | BK17: =A17 -> External primary branch | BL17: 30 | BM17: =IF(SUM(B17,D17,F17,H17,J17,L17,N17,P17,R17,T17,V17,X17,Z17,AB17,AD17,AF17,AH17,AJ17,AL17,AN17,AP17,AR17,AT17,AV17,AX17,AZ17,BB17,BD17,BF17,BH17)>0,MIN(B17,D17,F17,H17,J17,L17,N17,P17,R17,T17,V17,X17,Z17,AB17,AD17,AF17,AH17,AJ17,AL17,AN17,AP17,AR17,AT17,AV17,AX17,AZ17,BB17,BD17,BF17,BH17),"") -> 3.7 | BN17: =IF(COUNT(BM17)>0,"–","?") -> – | BO17: =IF(SUM(B17,D17,F17,H17,J17,L17,N17,P17,R17,T17,V17,X17,Z17,AB17,AD17,AF17,AH17,AJ17,AL17,AN17,AP17,AR17,AT17,AV17,AX17,AZ17,BB17,BD17,BF17,BH17)>0,MAX(B17,D17,F17,H17,J17,L17,N17,P17,R17,T17,V17,X17,Z17,AB17,AD17,AF17,AH17,AJ17,AL17,AN17,AP17,AR17,AT17,AV17,AX17,AZ17,BB17,BD17,BF17,BH17),"") -> 11.2 | BP17: =IF(SUM(C17,E17,G17,I17,K17,M17,O17,Q17,S17,U17,W17,Y17,AA17,AC17,AE17,AG17,AI17,AK17,AM17,AO17,AQ17,AS17,AU17,AW17,AY17,BA17,BC17,BE17,BG17,BI17)>0,MIN(C17,E17,G17,I17,K17,M17,O17,Q17,S17,U17,W17,Y17,AA17,AC17,AE17,AG17,AI17,AK17,AM17,AO17,AQ17,AS17,AU17,AW17,AY17,BA17,BC17,BE17,BG17,BI17),"") -> 19.473684 | BQ17: =IF(COUNT(BP17)>0,"–","?") -> – | BR17: =IF(SUM(C17,E17,G17,I17,K17,M17,O17,Q17,S17,U17,W17,Y17,AA17,AC17,AE17,AG17,AI17,AK17,AM17,AO17,AQ17,AS17,AU17,AW17,AY17,BA17,BC17,BE17,BG17,BI17)>0,MAX(C17,E17,G17,I17,K17,M17,O17,Q17,S17,U17,W17,Y17,AA17,AC17,AE17,AG17,AI17,AK17,AM17,AO17,AQ17,AS17,AU17,AW17,AY17,BA17,BC17,BE17,BG17,BI17),"") -> 37.966102 | BS17: =IF(SUM(B17,D17,F17,H17,J17,L17,N17,P17,R17,T17,V17,X17,Z17,AB17,AD17,AF17,AH17,AJ17,AL17,AN17,AP17,AR17,AT17,AV17,AX17,AZ17,BB17,BD17,BF17,BH17)>0,AVERAGE(B17,D17,F17,H17,J17,L17,N17,P17,R17,T17,V17,X17,Z17,AB17,AD17,AF17,AH17,AJ17,AL17,AN17,AP17,AR17,AT17,AV17,AX17,AZ17,BB17,BD17,BF17,BH17),"?") -> 8.4066667 | BT17: =IF(SUM(C17,E17,G17,I17,K17,M17,O17,Q17,S17,U17,W17,Y17,AA17,AC17,AE17,AG17,AI17,AK17,AM17,AO17,AQ17,AS17,AU17,AW17,AY17,BA17,BC17,BE17,BG17,BI17)>0,AVERAGE(C17,E17,G17,I17,K17,M17,O17,Q17,S17,U17,W17,Y17,AA17,AC17,AE17,AG17,AI17,AK17,AM17,AO17,AQ17,AS17,AU17,AW17,AY17,BA17,BC17,BE17,BG17,BI17),"?") -> 31.662172 | BU17: =IF(COUNT(B17,D17,F17,H17,J17,L17,N17,P17,R17,T17,V17,X17,Z17,AB17,AD17,AF17,AH17,AJ17,AL17,AN17,AP17,AR17,AT17,AV17,AX17,AZ17,BB17,BD17,BF17,BH17)>1,STDEV(B17,D17,F17,H17,J17,L17,N17,P17,R17,T17,V17,X17,Z17,AB17,AD17,AF17,AH17,AJ17,AL17,AN17,AP17,AR17,AT17,AV17,AX17,AZ17,BB17,BD17,BF17,BH17),"?") -> 1.6882828 | BV17: =IF(COUNT(C17,E17,G17,I17,K17,M17,O17,Q17,S17,U17,W17,Y17,AA17,AC17,AE17,AG17,AI17,AK17,AM17,AO17,AQ17,AS17,AU17,AW17,AY17,BA17,BC17,BE17,BG17,BI17)>1,STDEV(C17,E17,G17,I17,K17,M17,O17,Q17,S17,U17,W17,Y17,AA17,AC17,AE17,AG17,AI17,AK17,AM17,AO17,AQ17,AS17,AU17,AW17,AY17,BA17,BC17,BE17,BG17,BI17),"?") -> 3.1289707 | BW17: =IF(COUNT(B17)>0,B17,"?") -> 9 | BX17: =IF(COUNT(C17)>0,C17,"?") -> 31.914894
A18: External secondary branch | B18: 6.6 | C18: 23.404255 | D18: 8.7 | E18: 29.491525 | F18: 7.2 | G18: 26.181818 | H18: 7.8 | I18: 26.351351 | J18: 7.6 | K18: 25.41806 | L18: 3.6 | M18: 18 | N18: 5.2 | O18: 23.744292 | P18: 3.7 | Q18: 19.371728 | R18: 4.7 | S18: 21.461187 | T18: 3.5 | U18: 17.156863 | V18: 5.4 | W18: 22.689076 | X18: 6.6 | Y18: 24 | Z18: 7.8 | AA18: 27.464789 | AB18: 5.3 | AC18: 18.996416 | AD18: 8.7 | AE18: 28.338762 | AF18: 5.8 | AG18: 22.48062 | AH18: 8.2 | AI18: 24.624625 | AJ18: 8.3 | AK18: 29.432624 | AL18: 8.3 | AM18: 26.688103 | AN18: 6.2 | AO18: 24.124514 | AP18: 4.4 | AQ18: 21.052632 | AR18: 3.5 | AS18: 18.421053 | AT18: 8.4 | AU18: 27.096774 | AV18: 4.2 | AW18: 20.895522 | AX18: 6.4 | AY18: 21.993127 | AZ18: 5.6 | BA18: 21.132075 | BB18: 6.5 | BC18: 23.636364 | BD18: 6.8 | BE18: 23.367698 | BF18: 6.3 | BG18: 22.105263 | BH18: 7.6 | BI18: 24.836601 | BK18: =A18 -> External secondary branch | BL18: 30 | BM18: =IF(SUM(B18,D18,F18,H18,J18,L18,N18,P18,R18,T18,V18,X18,Z18,AB18,AD18,AF18,AH18,AJ18,AL18,AN18,AP18,AR18,AT18,AV18,AX18,AZ18,BB18,BD18,BF18,BH18)>0,MIN(B18,D18,F18,H18,J18,L18,N18,P18,R18,T18,V18,X18,Z18,AB18,AD18,AF18,AH18,AJ18,AL18,AN18,AP18,AR18,AT18,AV18,AX18,AZ18,BB18,BD18,BF18,BH18),"") -> 3.5 | BN18: =IF(COUNT(BM18)>0,"–","?") -> – | BO18: =IF(SUM(B18,D18,F18,H18,J18,L18,N18,P18,R18,T18,V18,X18,Z18,AB18,AD18,AF18,AH18,AJ18,AL18,AN18,AP18,AR18,AT18,AV18,AX18,AZ18,BB18,BD18,BF18,BH18)>0,MAX(B18,D18,F18,H18,J18,L18,N18,P18,R18,T18,V18,X18,Z18,AB18,AD18,AF18,AH18,AJ18,AL18,AN18,AP18,AR18,AT18,AV18,AX18,AZ18,BB18,BD18,BF18,BH18),"") -> 8.7 | BP18: =IF(SUM(C18,E18,G18,I18,K18,M18,O18,Q18,S18,U18,W18,Y18,AA18,AC18,AE18,AG18,AI18,AK18,AM18,AO18,AQ18,AS18,AU18,AW18,AY18,BA18,BC18,BE18,BG18,BI18)>0,MIN(C18,E18,G18,I18,K18,M18,O18,Q18,S18,U18,W18,Y18,AA18,AC18,AE18,AG18,AI18,AK18,AM18,AO18,AQ18,AS18,AU18,AW18,AY18,BA18,BC18,BE18,BG18,BI18),"") -> 17.156863 | BQ18: =IF(COUNT(BP18)>0,"–","?") -> – | BR18: =IF(SUM(C18,E18,G18,I18,K18,M18,O18,Q18,S18,U18,W18,Y18,AA18,AC18,AE18,AG18,AI18,AK18,AM18,AO18,AQ18,AS18,AU18,AW18,AY18,BA18,BC18,BE18,BG18,BI18)>0,MAX(C18,E18,G18,I18,K18,M18,O18,Q18,S18,U18,W18,Y18,AA18,AC18,AE18,AG18,AI18,AK18,AM18,AO18,AQ18,AS18,AU18,AW18,AY18,BA18,BC18,BE18,BG18,BI18),"") -> 29.491525 | BS18: =IF(SUM(B18,D18,F18,H18,J18,L18,N18,P18,R18,T18,V18,X18,Z18,AB18,AD18,AF18,AH18,AJ18,AL18,AN18,AP18,AR18,AT18,AV18,AX18,AZ18,BB18,BD18,BF18,BH18)>0,AVERAGE(B18,D18,F18,H18,J18,L18,N18,P18,R18,T18,V18,X18,Z18,AB18,AD18,AF18,AH18,AJ18,AL18,AN18,AP18,AR18,AT18,AV18,AX18,AZ18,BB18,BD18,BF18,BH18),"?") -> 6.2966667 | BT18: =IF(SUM(C18,E18,G18,I18,K18,M18,O18,Q18,S18,U18,W18,Y18,AA18,AC18,AE18,AG18,AI18,AK18,AM18,AO18,AQ18,AS18,AU18,AW18,AY18,BA18,BC18,BE18,BG18,BI18)>0,AVERAGE(C18,E18,G18,I18,K18,M18,O18,Q18,S18,U18,W18,Y18,AA18,AC18,AE18,AG18,AI18,AK18,AM18,AO18,AQ18,AS18,AU18,AW18,AY18,BA18,BC18,BE18,BG18,BI18),"?") -> 23.465257 | BU18: =IF(COUNT(B18,D18,F18,H18,J18,L18,N18,P18,R18,T18,V18,X18,Z18,AB18,AD18,AF18,AH18,AJ18,AL18,AN18,AP18,AR18,AT18,AV18,AX18,AZ18,BB18,BD18,BF18,BH18)>1,STDEV(B18,D18,F18,H18,J18,L18,N18,P18,R18,T18,V18,X18,Z18,AB18,AD18,AF18,AH18,AJ18,AL18,AN18,AP18,AR18,AT18,AV18,AX18,AZ18,BB18,BD18,BF18,BH18),"?") -> 1.6690867 | BV18: =IF(COUNT(C18,E18,G18,I18,K18,M18,O18,Q18,S18,U18,W18,Y18,AA18,AC18,AE18,AG18,AI18,AK18,AM18,AO18,AQ18,AS18,AU18,AW18,AY18,BA18,BC18,BE18,BG18,BI18)>1,STDEV(C18,E18,G18,I18,K18,M18,O18,Q18,S18,U18,W18,Y18,AA18,AC18,AE18,AG18,AI18,AK18,AM18,AO18,AQ18,AS18,AU18,AW18,AY18,BA18,BC18,BE18,BG18,BI18),"?") -> 3.3121778 | BW18: =IF(COUNT(B18)>0,B18,"?") -> 6.6 | BX18: =IF(COUNT(C18)>0,C18,"?") -> 23.404255
A19: Internal primary branch | B19: 8.6 | C19: 30.496454 | D19: 9.8 | E19: 33.220339 | F19: 2.3 | G19: 8.3636364 | H19: 8.2 | I19: 27.702703 | J19: 9.2 | K19: 30.769231 | L19: 5.5 | M19: 27.5 | N19: 6.7 | O19: 30.593607 | P19: 5.6 | Q19: 29.319372 | R19: 6.5 | S19: 29.680365 | T19: 5.7 | U19: 27.941176 | V19: 7 | W19: 29.411765 | X19: 8.7 | Y19: 31.636364 | Z19: 9.1 | AA19: 32.042254 | AB19: 8.3 | AC19: 29.749104 | AD19: 10.4 | AE19: 33.876221 | AF19: 8.2 | AG19: 31.782946 | AH19: 9.1 | AI19: 27.327327 | AJ19: 8.6 | AK19: 30.496454 | AL19: 9.4 | AM19: 30.22508 | AN19: 7.9 | AO19: 30.7393 | AP19: 6.5 | AQ19: 31.100478 | AR19: 6 | AS19: 31.578947 | AT19: 11 | AU19: 35.483871 | AV19: 6.2 | AW19: 30.845771 | AX19: 8.1 | AY19: 27.835052 | AZ19: 5.3 | BA19: 20 | BB19: 8.2 | BC19: 29.818182 | BD19: 8.5 | BE19: 29.209622 | BF19: 8.6 | BG19: 30.175439 | BH19: 8.6 | BI19: 28.104575 | BK19: =A19 -> Internal primary branch | BL19: 30 | BM19: =IF(SUM(B19,D19,F19,H19,J19,L19,N19,P19,R19,T19,V19,X19,Z19,AB19,AD19,AF19,AH19,AJ19,AL19,AN19,AP19,AR19,AT19,AV19,AX19,AZ19,BB19,BD19,BF19,BH19)>0,MIN(B19,D19,F19,H19,J19,L19,N19,P19,R19,T19,V19,X19,Z19,AB19,AD19,AF19,AH19,AJ19,AL19,AN19,AP19,AR19,AT19,AV19,AX19,AZ19,BB19,BD19,BF19,BH19),"") -> 2.3 | BN19: =IF(COUNT(BM19)>0,"–","?") -> – | BO19: =IF(SUM(B19,D19,F19,H19,J19,L19,N19,P19,R19,T19,V19,X19,Z19,AB19,AD19,AF19,AH19,AJ19,AL19,AN19,AP19,AR19,AT19,AV19,AX19,AZ19,BB19,BD19,BF19,BH19)>0,MAX(B19,D19,F19,H19,J19,L19,N19,P19,R19,T19,V19,X19,Z19,AB19,AD19,AF19,AH19,AJ19,AL19,AN19,AP19,AR19,AT19,AV19,AX19,AZ19,BB19,BD19,BF19,BH19),"") -> 11 | BP19: =IF(SUM(C19,E19,G19,I19,K19,M19,O19,Q19,S19,U19,W19,Y19,AA19,AC19,AE19,AG19,AI19,AK19,AM19,AO19,AQ19,AS19,AU19,AW19,AY19,BA19,BC19,BE19,BG19,BI19)>0,MIN(C19,E19,G19,I19,K19,M19,O19,Q19,S19,U19,W19,Y19,AA19,AC19,AE19,AG19,AI19,AK19,AM19,AO19,AQ19,AS19,AU19,AW19,AY19,BA19,BC19,BE19,BG19,BI19),"") -> 8.3636364 | BQ19: =IF(COUNT(BP19)>0,"–","?") -> – | BR19: =IF(SUM(C19,E19,G19,I19,K19,M19,O19,Q19,S19,U19,W19,Y19,AA19,AC19,AE19,AG19,AI19,AK19,AM19,AO19,AQ19,AS19,AU19,AW19,AY19,BA19,BC19,BE19,BG19,BI19)>0,MAX(C19,E19,G19,I19,K19,M19,O19,Q19,S19,U19,W19,Y19,AA19,AC19,AE19,AG19,AI19,AK19,AM19,AO19,AQ19,AS19,AU19,AW19,AY19,BA19,BC19,BE19,BG19,BI19),"") -> 35.483871 | BS19: =IF(SUM(B19,D19,F19,H19,J19,L19,N19,P19,R19,T19,V19,X19,Z19,AB19,AD19,AF19,AH19,AJ19,AL19,AN19,AP19,AR19,AT19,AV19,AX19,AZ19,BB19,BD19,BF19,BH19)>0,AVERAGE(B19,D19,F19,H19,J19,L19,N19,P19,R19,T19,V19,X19,Z19,AB19,AD19,AF19,AH19,AJ19,AL19,AN19,AP19,AR19,AT19,AV19,AX19,AZ19,BB19,BD19,BF19,BH19),"?") -> 7.7266667 | BT19: =IF(SUM(C19,E19,G19,I19,K19,M19,O19,Q19,S19,U19,W19,Y19,AA19,AC19,AE19,AG19,AI19,AK19,AM19,AO19,AQ19,AS19,AU19,AW19,AY19,BA19,BC19,BE19,BG19,BI19)>0,AVERAGE(C19,E19,G19,I19,K19,M19,O19,Q19,S19,U19,W19,Y19,AA19,AC19,AE19,AG19,AI19,AK19,AM19,AO19,AQ19,AS19,AU19,AW19,AY19,BA19,BC19,BE19,BG19,BI19),"?") -> 29.234188 | BU19: =IF(COUNT(B19,D19,F19,H19,J19,L19,N19,P19,R19,T19,V19,X19,Z19,AB19,AD19,AF19,AH19,AJ19,AL19,AN19,AP19,AR19,AT19,AV19,AX19,AZ19,BB19,BD19,BF19,BH19)>1,STDEV(B19,D19,F19,H19,J19,L19,N19,P19,R19,T19,V19,X19,Z19,AB19,AD19,AF19,AH19,AJ19,AL19,AN19,AP19,AR19,AT19,AV19,AX19,AZ19,BB19,BD19,BF19,BH19),"?") -> 1.8146783 | BV19: =IF(COUNT(C19,E19,G19,I19,K19,M19,O19,Q19,S19,U19,W19,Y19,AA19,AC19,AE19,AG19,AI19,AK19,AM19,AO19,AQ19,AS19,AU19,AW19,AY19,BA19,BC19,BE19,BG19,BI19)>1,STDEV(C19,E19,G19,I19,K19,M19,O19,Q19,S19,U19,W19,Y19,AA19,AC19,AE19,AG19,AI19,AK19,AM19,AO19,AQ19,AS19,AU19,AW19,AY19,BA19,BC19,BE19,BG19,BI19),"?") -> 4.7537276 | BW19: =IF(COUNT(B19)>0,B19,"?") -> 8.6 | BX19: =IF(COUNT(C19)>0,C19,"?") -> 30.496454
A20: Internal secondary branch | B20: 6.5 | C20: 23.049645 | D20: 7.5 | E20: 25.423729 | F20: 7.6 | G20: 27.636364 | H20: 7 | I20: 23.648649 | J20: 7.1 | K20: 23.745819 | L20: 3.5 | M20: 17.5 | N20: 5 | O20: 22.83105 | P20: 3.5 | Q20: 18.324607 | R20: 4.6 | S20: 21.004566 | T20: 3.5 | U20: 17.156863 | V20: 5.1 | W20: 21.428571 | X20: 6.5 | Y20: 23.636364 | Z20: 7.4 | AA20: 26.056338 | AB20: 5.3 | AC20: 18.996416 | AD20: 7.4 | AE20: 24.104235 | AF20: 5.7 | AG20: 22.093023 | AH20: 7.9 | AI20: 23.723724 | AJ20: 7.1 | AK20: 25.177305 | AL20: 7.3 | AM20: 23.472669 | AN20: 6.1 | AO20: 23.735409 | AP20: 4.1 | AQ20: 19.617225 | AR20: 3.5 | AS20: 18.421053 | AT20: 7.7 | AU20: 24.83871 | AV20: 3.7 | AW20: 18.40796 | AX20: 6 | AY20: 20.618557 | AZ20: 4.6 | BA20: 17.358491 | BB20: 6.1 | BC20: 22.181818 | BD20: 6.6 | BE20: 22.680412 | BF20: 5.4 | BG20: 18.947368 | BH20: 6.7 | BI20: 21.895425 | BK20: =A20 -> Internal secondary branch | BL20: 30 | BM20: =IF(SUM(B20,D20,F20,H20,J20,L20,N20,P20,R20,T20,V20,X20,Z20,AB20,AD20,AF20,AH20,AJ20,AL20,AN20,AP20,AR20,AT20,AV20,AX20,AZ20,BB20,BD20,BF20,BH20)>0,MIN(B20,D20,F20,H20,J20,L20,N20,P20,R20,T20,V20,X20,Z20,AB20,AD20,AF20,AH20,AJ20,AL20,AN20,AP20,AR20,AT20,AV20,AX20,AZ20,BB20,BD20,BF20,BH20),"") -> 3.5 | BN20: =IF(COUNT(BM20)>0,"–","?") -> – | BO20: =IF(SUM(B20,D20,F20,H20,J20,L20,N20,P20,R20,T20,V20,X20,Z20,AB20,AD20,AF20,AH20,AJ20,AL20,AN20,AP20,AR20,AT20,AV20,AX20,AZ20,BB20,BD20,BF20,BH20)>0,MAX(B20,D20,F20,H20,J20,L20,N20,P20,R20,T20,V20,X20,Z20,AB20,AD20,AF20,AH20,AJ20,AL20,AN20,AP20,AR20,AT20,AV20,AX20,AZ20,BB20,BD20,BF20,BH20),"") -> 7.9 | BP20: =IF(SUM(C20,E20,G20,I20,K20,M20,O20,Q20,S20,U20,W20,Y20,AA20,AC20,AE20,AG20,AI20,AK20,AM20,AO20,AQ20,AS20,AU20,AW20,AY20,BA20,BC20,BE20,BG20,BI20)>0,MIN(C20,E20,G20,I20,K20,M20,O20,Q20,S20,U20,W20,Y20,AA20,AC20,AE20,AG20,AI20,AK20,AM20,AO20,AQ20,AS20,AU20,AW20,AY20,BA20,BC20,BE20,BG20,BI20),"") -> 17.156863 | BQ20: =IF(COUNT(BP20)>0,"–","?") -> – | BR20: =IF(SUM(C20,E20,G20,I20,K20,M20,O20,Q20,S20,U20,W20,Y20,AA20,AC20,AE20,AG20,AI20,AK20,AM20,AO20,AQ20,AS20,AU20,AW20,AY20,BA20,BC20,BE20,BG20,BI20)>0,MAX(C20,E20,G20,I20,K20,M20,O20,Q20,S20,U20,W20,Y20,AA20,AC20,AE20,AG20,AI20,AK20,AM20,AO20,AQ20,AS20,AU20,AW20,AY20,BA20,BC20,BE20,BG20,BI20),"") -> 27.636364 | BS20: =IF(SUM(B20,D20,F20,H20,J20,L20,N20,P20,R20,T20,V20,X20,Z20,AB20,AD20,AF20,AH20,AJ20,AL20,AN20,AP20,AR20,AT20,AV20,AX20,AZ20,BB20,BD20,BF20,BH20)>0,AVERAGE(B20,D20,F20,H20,J20,L20,N20,P20,R20,T20,V20,X20,Z20,AB20,AD20,AF20,AH20,AJ20,AL20,AN20,AP20,AR20,AT20,AV20,AX20,AZ20,BB20,BD20,BF20,BH20),"?") -> 5.8666667 | BT20: =IF(SUM(C20,E20,G20,I20,K20,M20,O20,Q20,S20,U20,W20,Y20,AA20,AC20,AE20,AG20,AI20,AK20,AM20,AO20,AQ20,AS20,AU20,AW20,AY20,BA20,BC20,BE20,BG20,BI20)>0,AVERAGE(C20,E20,G20,I20,K20,M20,O20,Q20,S20,U20,W20,Y20,AA20,AC20,AE20,AG20,AI20,AK20,AM20,AO20,AQ20,AS20,AU20,AW20,AY20,BA20,BC20,BE20,BG20,BI20),"?") -> 21.923745 | BU20: =IF(COUNT(B20,D20,F20,H20,J20,L20,N20,P20,R20,T20,V20,X20,Z20,AB20,AD20,AF20,AH20,AJ20,AL20,AN20,AP20,AR20,AT20,AV20,AX20,AZ20,BB20,BD20,BF20,BH20)>1,STDEV(B20,D20,F20,H20,J20,L20,N20,P20,R20,T20,V20,X20,Z20,AB20,AD20,AF20,AH20,AJ20,AL20,AN20,AP20,AR20,AT20,AV20,AX20,AZ20,BB20,BD20,BF20,BH20),"?") -> 1.4591763 | BV20: =IF(COUNT(C20,E20,G20,I20,K20,M20,O20,Q20,S20,U20,W20,Y20,AA20,AC20,AE20,AG20,AI20,AK20,AM20,AO20,AQ20,AS20,AU20,AW20,AY20,BA20,BC20,BE20,BG20,BI20)>1,STDEV(C20,E20,G20,I20,K20,M20,O20,Q20,S20,U20,W20,Y20,AA20,AC20,AE20,AG20,AI20,AK20,AM20,AO20,AQ20,AS20,AU20,AW20,AY20,BA20,BC20,BE20,BG20,BI20),"?") -> 2.8343201 | BW20: =IF(COUNT(B20)>0,B20,"?") -> 6.5 | BX20: =IF(COUNT(C20)>0,C20,"?") -> 23.049645
A21: Claw II heights | BK21: =A21 -> Claw II heights
A22: External primary branch | B22: 9.4 | C22: 33.333333 | D22: 10.2 | E22: 34.576271 | F22: 8.9 | G22: 32.363636 | H22: 9.4 | I22: 31.756757 | J22: 10.3 | K22: 34.448161 | L22: 5.8 | M22: 29 | N22: 6.9 | O22: 31.506849 | P22: 6.5 | Q22: 34.031414 | R22: 6.5 | S22: 29.680365 | T22: 6.1 | U22: 29.901961 | V22: 7.8 | W22: 32.773109 | X22: 8.7 | Y22: 31.636364 | Z22: 10 | AA22: 35.211268 | AB22: 9.4 | AC22: 33.691756 | AD22: 10.5 | AE22: 34.201954 | AF22: 8.8 | AG22: 34.108527 | AH22: 11.8 | AI22: 35.435435 | AJ22: 9.5 | AK22: 33.687943 | AL22: 10.9 | AM22: 35.048232 | AN22: 8.9 | AO22: 34.63035 | AP22: 5.9 | AQ22: 28.229665 | AR22: 6.5 | AS22: 34.210526 | AT22: 11.6 | AU22: 37.419355 | AV22: 6.7 | AW22: 33.333333 | AX22: 9.1 | AY22: 31.271478 | AZ22: 8.9 | BA22: 33.584906 | BB22: 8.9 | BC22: 32.363636 | BD22: 9.5 | BE22: 32.646048 | BF22: 9.6 | BG22: 33.684211 | BH22: 9.6 | BI22: 31.372549 | BK22: =A22 -> External primary branch | BL22: 30 | BM22: =IF(SUM(B22,D22,F22,H22,J22,L22,N22,P22,R22,T22,V22,X22,Z22,AB22,AD22,AF22,AH22,AJ22,AL22,AN22,AP22,AR22,AT22,AV22,AX22,AZ22,BB22,BD22,BF22,BH22)>0,MIN(B22,D22,F22,H22,J22,L22,N22,P22,R22,T22,V22,X22,Z22,AB22,AD22,AF22,AH22,AJ22,AL22,AN22,AP22,AR22,AT22,AV22,AX22,AZ22,BB22,BD22,BF22,BH22),"") -> 5.8 | BN22: =IF(COUNT(BM22)>0,"–","?") -> – | BO22: =IF(SUM(B22,D22,F22,H22,J22,L22,N22,P22,R22,T22,V22,X22,Z22,AB22,AD22,AF22,AH22,AJ22,AL22,AN22,AP22,AR22,AT22,AV22,AX22,AZ22,BB22,BD22,BF22,BH22)>0,MAX(B22,D22,F22,H22,J22,L22,N22,P22,R22,T22,V22,X22,Z22,AB22,AD22,AF22,AH22,AJ22,AL22,AN22,AP22,AR22,AT22,AV22,AX22,AZ22,BB22,BD22,BF22,BH22),"") -> 11.8 | BP22: =IF(SUM(C22,E22,G22,I22,K22,M22,O22,Q22,S22,U22,W22,Y22,AA22,AC22,AE22,AG22,AI22,AK22,AM22,AO22,AQ22,AS22,AU22,AW22,AY22,BA22,BC22,BE22,BG22,BI22)>0,MIN(C22,E22,G22,I22,K22,M22,O22,Q22,S22,U22,W22,Y22,AA22,AC22,AE22,AG22,AI22,AK22,AM22,AO22,AQ22,AS22,AU22,AW22,AY22,BA22,BC22,BE22,BG22,BI22),"") -> 28.229665 | BQ22: =IF(COUNT(BP22)>0,"–","?") -> – | BR22: =IF(SUM(C22,E22,G22,I22,K22,M22,O22,Q22,S22,U22,W22,Y22,AA22,AC22,AE22,AG22,AI22,AK22,AM22,AO22,AQ22,AS22,AU22,AW22,AY22,BA22,BC22,BE22,BG22,BI22)>0,MAX(C22,E22,G22,I22,K22,M22,O22,Q22,S22,U22,W22,Y22,AA22,AC22,AE22,AG22,AI22,AK22,AM22,AO22,AQ22,AS22,AU22,AW22,AY22,BA22,BC22,BE22,BG22,BI22),"") -> 37.419355 | BS22: =IF(SUM(B22,D22,F22,H22,J22,L22,N22,P22,R22,T22,V22,X22,Z22,AB22,AD22,AF22,AH22,AJ22,AL22,AN22,AP22,AR22,AT22,AV22,AX22,AZ22,BB22,BD22,BF22,BH22)>0,AVERAGE(B22,D22,F22,H22,J22,L22,N22,P22,R22,T22,V22,X22,Z22,AB22,AD22,AF22,AH22,AJ22,AL22,AN22,AP22,AR22,AT22,AV22,AX22,AZ22,BB22,BD22,BF22,BH22),"?") -> 8.7533333 | BT22: =IF(SUM(C22,E22,G22,I22,K22,M22,O22,Q22,S22,U22,W22,Y22,AA22,AC22,AE22,AG22,AI22,AK22,AM22,AO22,AQ22,AS22,AU22,AW22,AY22,BA22,BC22,BE22,BG22,BI22)>0,AVERAGE(C22,E22,G22,I22,K22,M22,O22,Q22,S22,U22,W22,Y22,AA22,AC22,AE22,AG22,AI22,AK22,AM22,AO22,AQ22,AS22,AU22,AW22,AY22,BA22,BC22,BE22,BG22,BI22),"?") -> 32.971313 | BU22: =IF(COUNT(B22,D22,F22,H22,J22,L22,N22,P22,R22,T22,V22,X22,Z22,AB22,AD22,AF22,AH22,AJ22,AL22,AN22,AP22,AR22,AT22,AV22,AX22,AZ22,BB22,BD22,BF22,BH22)>1,STDEV(B22,D22,F22,H22,J22,L22,N22,P22,R22,T22,V22,X22,Z22,AB22,AD22,AF22,AH22,AJ22,AL22,AN22,AP22,AR22,AT22,AV22,AX22,AZ22,BB22,BD22,BF22,BH22),"?") -> 1.6896711 | BV22: =IF(COUNT(C22,E22,G22,I22,K22,M22,O22,Q22,S22,U22,W22,Y22,AA22,AC22,AE22,AG22,AI22,AK22,AM22,AO22,AQ22,AS22,AU22,AW22,AY22,BA22,BC22,BE22,BG22,BI22)>1,STDEV(C22,E22,G22,I22,K22,M22,O22,Q22,S22,U22,W22,Y22,AA22,AC22,AE22,AG22,AI22,AK22,AM22,AO22,AQ22,AS22,AU22,AW22,AY22,BA22,BC22,BE22,BG22,BI22),"?") -> 2.0391071 | BW22: =IF(COUNT(B22)>0,B22,"?") -> 9.4 | BX22: =IF(COUNT(C22)>0,C22,"?") -> 33.333333
A23: External secondary branch | B23: 7.7 | C23: 27.304965 | D23: 6.8 | E23: 23.050847 | F23: 7.4 | G23: 26.909091 | H23: 6.9 | I23: 23.310811 | J23: 7.8 | K23: 26.086957 | L23: 4.9 | M23: 24.5 | N23: 4 | O23: 18.26484 | P23: 3.9 | Q23: 20.418848 | R23: 5.4 | S23: 24.657534 | T23: 4.2 | U23: 20.588235 | V23: 5.5 | W23: 23.109244 | X23: 6.7 | Y23: 24.363636 | Z23: 8.4 | AA23: 29.577465 | AB23: 7.6 | AC23: 27.240143 | AD23: 8.8 | AE23: 28.664495 | AF23: 6.6 | AG23: 25.581395 | AH23: 8.4 | AI23: 25.225225 | AJ23: 7.2 | AK23: 25.531915 | AL23: 8.5 | AM23: 27.33119 | AN23: 6.3 | AO23: 24.513619 | AP23: 4 | AQ23: 19.138756 | AR23: 3.8 | AS23: 20 | AT23: 9 | AU23: 29.032258 | AV23: 4.5 | AW23: 22.38806 | AX23: 7.4 | AY23: 25.429553 | AZ23: 7.3 | BA23: 27.54717 | BB23: 6.8 | BC23: 24.727273 | BD23: 7.3 | BE23: 25.085911 | BF23: 7.7 | BG23: 27.017544 | BH23: 7.3 | BI23: 23.856209 | BK23: =A23 -> External secondary branch | BL23: 30 | BM23: =IF(SUM(B23,D23,F23,H23,J23,L23,N23,P23,R23,T23,V23,X23,Z23,AB23,AD23,AF23,AH23,AJ23,AL23,AN23,AP23,AR23,AT23,AV23,AX23,AZ23,BB23,BD23,BF23,BH23)>0,MIN(B23,D23,F23,H23,J23,L23,N23,P23,R23,T23,V23,X23,Z23,AB23,AD23,AF23,AH23,AJ23,AL23,AN23,AP23,AR23,AT23,AV23,AX23,AZ23,BB23,BD23,BF23,BH23),"") -> 3.8 | BN23: =IF(COUNT(BM23)>0,"–","?") -> – | BO23: =IF(SUM(B23,D23,F23,H23,J23,L23,N23,P23,R23,T23,V23,X23,Z23,AB23,AD23,AF23,AH23,AJ23,AL23,AN23,AP23,AR23,AT23,AV23,AX23,AZ23,BB23,BD23,BF23,BH23)>0,MAX(B23,D23,F23,H23,J23,L23,N23,P23,R23,T23,V23,X23,Z23,AB23,AD23,AF23,AH23,AJ23,AL23,AN23,AP23,AR23,AT23,AV23,AX23,AZ23,BB23,BD23,BF23,BH23),"") -> 9 | BP23: =IF(SUM(C23,E23,G23,I23,K23,M23,O23,Q23,S23,U23,W23,Y23,AA23,AC23,AE23,AG23,AI23,AK23,AM23,AO23,AQ23,AS23,AU23,AW23,AY23,BA23,BC23,BE23,BG23,BI23)>0,MIN(C23,E23,G23,I23,K23,M23,O23,Q23,S23,U23,W23,Y23,AA23,AC23,AE23,AG23,AI23,AK23,AM23,AO23,AQ23,AS23,AU23,AW23,AY23,BA23,BC23,BE23,BG23,BI23),"") -> 18.26484 | BQ23: =IF(COUNT(BP23)>0,"–","?") -> – | BR23: =IF(SUM(C23,E23,G23,I23,K23,M23,O23,Q23,S23,U23,W23,Y23,AA23,AC23,AE23,AG23,AI23,AK23,AM23,AO23,AQ23,AS23,AU23,AW23,AY23,BA23,BC23,BE23,BG23,BI23)>0,MAX(C23,E23,G23,I23,K23,M23,O23,Q23,S23,U23,W23,Y23,AA23,AC23,AE23,AG23,AI23,AK23,AM23,AO23,AQ23,AS23,AU23,AW23,AY23,BA23,BC23,BE23,BG23,BI23),"") -> 29.577465 | BS23: =IF(SUM(B23,D23,F23,H23,J23,L23,N23,P23,R23,T23,V23,X23,Z23,AB23,AD23,AF23,AH23,AJ23,AL23,AN23,AP23,AR23,AT23,AV23,AX23,AZ23,BB23,BD23,BF23,BH23)>0,AVERAGE(B23,D23,F23,H23,J23,L23,N23,P23,R23,T23,V23,X23,Z23,AB23,AD23,AF23,AH23,AJ23,AL23,AN23,AP23,AR23,AT23,AV23,AX23,AZ23,BB23,BD23,BF23,BH23),"?") -> 6.6033333 | BT23: =IF(SUM(C23,E23,G23,I23,K23,M23,O23,Q23,S23,U23,W23,Y23,AA23,AC23,AE23,AG23,AI23,AK23,AM23,AO23,AQ23,AS23,AU23,AW23,AY23,BA23,BC23,BE23,BG23,BI23)>0,AVERAGE(C23,E23,G23,I23,K23,M23,O23,Q23,S23,U23,W23,Y23,AA23,AC23,AE23,AG23,AI23,AK23,AM23,AO23,AQ23,AS23,AU23,AW23,AY23,BA23,BC23,BE23,BG23,BI23),"?") -> 24.681773 | BU23: =IF(COUNT(B23,D23,F23,H23,J23,L23,N23,P23,R23,T23,V23,X23,Z23,AB23,AD23,AF23,AH23,AJ23,AL23,AN23,AP23,AR23,AT23,AV23,AX23,AZ23,BB23,BD23,BF23,BH23)>1,STDEV(B23,D23,F23,H23,J23,L23,N23,P23,R23,T23,V23,X23,Z23,AB23,AD23,AF23,AH23,AJ23,AL23,AN23,AP23,AR23,AT23,AV23,AX23,AZ23,BB23,BD23,BF23,BH23),"?") -> 1.5897264 | BV23: =IF(COUNT(C23,E23,G23,I23,K23,M23,O23,Q23,S23,U23,W23,Y23,AA23,AC23,AE23,AG23,AI23,AK23,AM23,AO23,AQ23,AS23,AU23,AW23,AY23,BA23,BC23,BE23,BG23,BI23)>1,STDEV(C23,E23,G23,I23,K23,M23,O23,Q23,S23,U23,W23,Y23,AA23,AC23,AE23,AG23,AI23,AK23,AM23,AO23,AQ23,AS23,AU23,AW23,AY23,BA23,BC23,BE23,BG23,BI23),"?") -> 2.9019905 | BW23: =IF(COUNT(B23)>0,B23,"?") -> 7.7 | BX23: =IF(COUNT(C23)>0,C23,"?") -> 27.304965
A24: Internal primary branch | B24: 9 | C24: 31.914894 | D24: 9.8 | E24: 33.220339 | F24: 8.4 | G24: 30.545455 | H24: 8.6 | I24: 29.054054 | J24: 10 | K24: 33.444816 | L24: 5.8 | M24: 29 | N24: 6.9 | O24: 31.506849 | P24: 5.1 | Q24: 26.701571 | R24: 6.5 | S24: 29.680365 | T24: 5.8 | U24: 28.431373 | V24: 7.2 | W24: 30.252101 | X24: 8.2 | Y24: 29.818182 | Z24: 9.4 | AA24: 33.098592 | AB24: 9.1 | AC24: 32.616487 | AD24: 10.1 | AE24: 32.899023 | AF24: 8.6 | AG24: 33.333333 | AH24: 11 | AI24: 33.033033 | AJ24: 9.3 | AK24: 32.978723 | AL24: 8.6 | AM24: 27.652733 | AN24: 8.2 | AO24: 31.906615 | AP24: 5.8 | AQ24: 27.751196 | AR24: 6.3 | AS24: 33.157895 | AT24: 11.2 | AU24: 36.129032 | AV24: 6.5 | AW24: 32.338308 | AX24: 8.3 | AY24: 28.522337 | AZ24: 8.2 | BA24: 30.943396 | BB24: 8.7 | BC24: 31.636364 | BD24: 9.1 | BE24: 31.271478 | BF24: 9.4 | BG24: 32.982456 | BH24: 9.5 | BI24: 31.045752 | BK24: =A24 -> Internal primary branch | BL24: 30 | BM24: =IF(SUM(B24,D24,F24,H24,J24,L24,N24,P24,R24,T24,V24,X24,Z24,AB24,AD24,AF24,AH24,AJ24,AL24,AN24,AP24,AR24,AT24,AV24,AX24,AZ24,BB24,BD24,BF24,BH24)>0,MIN(B24,D24,F24,H24,J24,L24,N24,P24,R24,T24,V24,X24,Z24,AB24,AD24,AF24,AH24,AJ24,AL24,AN24,AP24,AR24,AT24,AV24,AX24,AZ24,BB24,BD24,BF24,BH24),"") -> 5.1 | BN24: =IF(COUNT(BM24)>0,"–","?") -> – | BO24: =IF(SUM(B24,D24,F24,H24,J24,L24,N24,P24,R24,T24,V24,X24,Z24,AB24,AD24,AF24,AH24,AJ24,AL24,AN24,AP24,AR24,AT24,AV24,AX24,AZ24,BB24,BD24,BF24,BH24)>0,MAX(B24,D24,F24,H24,J24,L24,N24,P24,R24,T24,V24,X24,Z24,AB24,AD24,AF24,AH24,AJ24,AL24,AN24,AP24,AR24,AT24,AV24,AX24,AZ24,BB24,BD24,BF24,BH24),"") -> 11.2 | BP24: =IF(SUM(C24,E24,G24,I24,K24,M24,O24,Q24,S24,U24,W24,Y24,AA24,AC24,AE24,AG24,AI24,AK24,AM24,AO24,AQ24,AS24,AU24,AW24,AY24,BA24,BC24,BE24,BG24,BI24)>0,MIN(C24,E24,G24,I24,K24,M24,O24,Q24,S24,U24,W24,Y24,AA24,AC24,AE24,AG24,AI24,AK24,AM24,AO24,AQ24,AS24,AU24,AW24,AY24,BA24,BC24,BE24,BG24,BI24),"") -> 26.701571 | BQ24: =IF(COUNT(BP24)>0,"–","?") -> – | BR24: =IF(SUM(C24,E24,G24,I24,K24,M24,O24,Q24,S24,U24,W24,Y24,AA24,AC24,AE24,AG24,AI24,AK24,AM24,AO24,AQ24,AS24,AU24,AW24,AY24,BA24,BC24,BE24,BG24,BI24)>0,MAX(C24,E24,G24,I24,K24,M24,O24,Q24,S24,U24,W24,Y24,AA24,AC24,AE24,AG24,AI24,AK24,AM24,AO24,AQ24,AS24,AU24,AW24,AY24,BA24,BC24,BE24,BG24,BI24),"") -> 36.129032 | BS24: =IF(SUM(B24,D24,F24,H24,J24,L24,N24,P24,R24,T24,V24,X24,Z24,AB24,AD24,AF24,AH24,AJ24,AL24,AN24,AP24,AR24,AT24,AV24,AX24,AZ24,BB24,BD24,BF24,BH24)>0,AVERAGE(B24,D24,F24,H24,J24,L24,N24,P24,R24,T24,V24,X24,Z24,AB24,AD24,AF24,AH24,AJ24,AL24,AN24,AP24,AR24,AT24,AV24,AX24,AZ24,BB24,BD24,BF24,BH24),"?") -> 8.2866667 | BT24: =IF(SUM(C24,E24,G24,I24,K24,M24,O24,Q24,S24,U24,W24,Y24,AA24,AC24,AE24,AG24,AI24,AK24,AM24,AO24,AQ24,AS24,AU24,AW24,AY24,BA24,BC24,BE24,BG24,BI24)>0,AVERAGE(C24,E24,G24,I24,K24,M24,O24,Q24,S24,U24,W24,Y24,AA24,AC24,AE24,AG24,AI24,AK24,AM24,AO24,AQ24,AS24,AU24,AW24,AY24,BA24,BC24,BE24,BG24,BI24),"?") -> 31.228892 | BU24: =IF(COUNT(B24,D24,F24,H24,J24,L24,N24,P24,R24,T24,V24,X24,Z24,AB24,AD24,AF24,AH24,AJ24,AL24,AN24,AP24,AR24,AT24,AV24,AX24,AZ24,BB24,BD24,BF24,BH24)>1,STDEV(B24,D24,F24,H24,J24,L24,N24,P24,R24,T24,V24,X24,Z24,AB24,AD24,AF24,AH24,AJ24,AL24,AN24,AP24,AR24,AT24,AV24,AX24,AZ24,BB24,BD24,BF24,BH24),"?") -> 1.5954101 | BV24: =IF(COUNT(C24,E24,G24,I24,K24,M24,O24,Q24,S24,U24,W24,Y24,AA24,AC24,AE24,AG24,AI24,AK24,AM24,AO24,AQ24,AS24,AU24,AW24,AY24,BA24,BC24,BE24,BG24,BI24)>1,STDEV(C24,E24,G24,I24,K24,M24,O24,Q24,S24,U24,W24,Y24,AA24,AC24,AE24,AG24,AI24,AK24,AM24,AO24,AQ24,AS24,AU24,AW24,AY24,BA24,BC24,BE24,BG24,BI24),"?") -> 2.175087 | BW24: =IF(COUNT(B24)>0,B24,"?") -> 9 | BX24: =IF(COUNT(C24)>0,C24,"?") -> 31.914894
A25: Internal secondary branch | B25: 7 | C25: 24.822695 | D25: 6.5 | E25: 22.033898 | F25: 6 | G25: 21.818182 | H25: 6.4 | I25: 21.621622 | J25: 7.6 | K25: 25.41806 | L25: 4.8 | M25: 24 | N25: 3.8 | O25: 17.351598 | P25: 3.4 | Q25: 17.801047 | R25: 4.5 | S25: 20.547945 | T25: 3.3 | U25: 16.176471 | V25: 5.1 | W25: 21.428571 | X25: 6.1 | Y25: 22.181818 | Z25: 7.1 | AA25: 25 | AB25: 7.1 | AC25: 25.448029 | AD25: 6.9 | AE25: 22.47557 | AF25: 6.4 | AG25: 24.806202 | AH25: 7.7 | AI25: 23.123123 | AJ25: 7 | AK25: 24.822695 | AL25: 5.3 | AM25: 17.041801 | AN25: 6 | AO25: 23.346304 | AP25: 3.1 | AQ25: 14.832536 | AR25: 3.3 | AS25: 17.368421 | AT25: 8.1 | AU25: 26.129032 | AV25: 3.9 | AW25: 19.402985 | AX25: 6.1 | AY25: 20.962199 | AZ25: 4.6 | BA25: 17.358491 | BB25: 6.3 | BC25: 22.909091 | BD25: 6.7 | BE25: 23.024055 | BF25: 7.5 | BG25: 26.315789 | BH25: 7.2 | BI25: 23.529412 | BK25: =A25 -> Internal secondary branch | BL25: 30 | BM25: =IF(SUM(B25,D25,F25,H25,J25,L25,N25,P25,R25,T25,V25,X25,Z25,AB25,AD25,AF25,AH25,AJ25,AL25,AN25,AP25,AR25,AT25,AV25,AX25,AZ25,BB25,BD25,BF25,BH25)>0,MIN(B25,D25,F25,H25,J25,L25,N25,P25,R25,T25,V25,X25,Z25,AB25,AD25,AF25,AH25,AJ25,AL25,AN25,AP25,AR25,AT25,AV25,AX25,AZ25,BB25,BD25,BF25,BH25),"") -> 3.1 | BN25: =IF(COUNT(BM25)>0,"–","?") -> – | BO25: =IF(SUM(B25,D25,F25,H25,J25,L25,N25,P25,R25,T25,V25,X25,Z25,AB25,AD25,AF25,AH25,AJ25,AL25,AN25,AP25,AR25,AT25,AV25,AX25,AZ25,BB25,BD25,BF25,BH25)>0,MAX(B25,D25,F25,H25,J25,L25,N25,P25,R25,T25,V25,X25,Z25,AB25,AD25,AF25,AH25,AJ25,AL25,AN25,AP25,AR25,AT25,AV25,AX25,AZ25,BB25,BD25,BF25,BH25),"") -> 8.1 | BP25: =IF(SUM(C25,E25,G25,I25,K25,M25,O25,Q25,S25,U25,W25,Y25,AA25,AC25,AE25,AG25,AI25,AK25,AM25,AO25,AQ25,AS25,AU25,AW25,AY25,BA25,BC25,BE25,BG25,BI25)>0,MIN(C25,E25,G25,I25,K25,M25,O25,Q25,S25,U25,W25,Y25,AA25,AC25,AE25,AG25,AI25,AK25,AM25,AO25,AQ25,AS25,AU25,AW25,AY25,BA25,BC25,BE25,BG25,BI25),"") -> 14.832536 | BQ25: =IF(COUNT(BP25)>0,"–","?") -> – | BR25: =IF(SUM(C25,E25,G25,I25,K25,M25,O25,Q25,S25,U25,W25,Y25,AA25,AC25,AE25,AG25,AI25,AK25,AM25,AO25,AQ25,AS25,AU25,AW25,AY25,BA25,BC25,BE25,BG25,BI25)>0,MAX(C25,E25,G25,I25,K25,M25,O25,Q25,S25,U25,W25,Y25,AA25,AC25,AE25,AG25,AI25,AK25,AM25,AO25,AQ25,AS25,AU25,AW25,AY25,BA25,BC25,BE25,BG25,BI25),"") -> 26.315789 | BS25: =IF(SUM(B25,D25,F25,H25,J25,L25,N25,P25,R25,T25,V25,X25,Z25,AB25,AD25,AF25,AH25,AJ25,AL25,AN25,AP25,AR25,AT25,AV25,AX25,AZ25,BB25,BD25,BF25,BH25)>0,AVERAGE(B25,D25,F25,H25,J25,L25,N25,P25,R25,T25,V25,X25,Z25,AB25,AD25,AF25,AH25,AJ25,AL25,AN25,AP25,AR25,AT25,AV25,AX25,AZ25,BB25,BD25,BF25,BH25),"?") -> 5.8266667 | BT25: =IF(SUM(C25,E25,G25,I25,K25,M25,O25,Q25,S25,U25,W25,Y25,AA25,AC25,AE25,AG25,AI25,AK25,AM25,AO25,AQ25,AS25,AU25,AW25,AY25,BA25,BC25,BE25,BG25,BI25)>0,AVERAGE(C25,E25,G25,I25,K25,M25,O25,Q25,S25,U25,W25,Y25,AA25,AC25,AE25,AG25,AI25,AK25,AM25,AO25,AQ25,AS25,AU25,AW25,AY25,BA25,BC25,BE25,BG25,BI25),"?") -> 21.769921 | BU25: =IF(COUNT(B25,D25,F25,H25,J25,L25,N25,P25,R25,T25,V25,X25,Z25,AB25,AD25,AF25,AH25,AJ25,AL25,AN25,AP25,AR25,AT25,AV25,AX25,AZ25,BB25,BD25,BF25,BH25)>1,STDEV(B25,D25,F25,H25,J25,L25,N25,P25,R25,T25,V25,X25,Z25,AB25,AD25,AF25,AH25,AJ25,AL25,AN25,AP25,AR25,AT25,AV25,AX25,AZ25,BB25,BD25,BF25,BH25),"?") -> 1.4971083 | BV25: =IF(COUNT(C25,E25,G25,I25,K25,M25,O25,Q25,S25,U25,W25,Y25,AA25,AC25,AE25,AG25,AI25,AK25,AM25,AO25,AQ25,AS25,AU25,AW25,AY25,BA25,BC25,BE25,BG25,BI25)>1,STDEV(C25,E25,G25,I25,K25,M25,O25,Q25,S25,U25,W25,Y25,AA25,AC25,AE25,AG25,AI25,AK25,AM25,AO25,AQ25,AS25,AU25,AW25,AY25,BA25,BC25,BE25,BG25,BI25),"?") -> 3.2406572 | BW25: =IF(COUNT(B25)>0,B25,"?") -> 7 | BX25: =IF(COUNT(C25)>0,C25,"?") -> 24.822695
A26: Claw III heights | BK26: =A26 -> Claw III heights
A27: External primary branch | B27: 10 | C27: 35.460993 | D27: 11 | E27: 37.288136 | F27: 9.6 | G27: 34.909091 | H27: 9.4 | I27: 31.756757 | J27: 10 | K27: 33.444816 | L27: 6.5 | M27: 32.5 | N27: 7.5 | O27: 34.246575 | P27: 6.6 | Q27: 34.554974 | R27: 7.1 | S27: 32.420091 | T27: 5.4 | U27: 26.470588 | V27: 7.5 | W27: 31.512605 | X27: 9.4 | Y27: 34.181818 | Z27: 9.7 | AA27: 34.15493 | AB27: 10.2 | AC27: 36.55914 | AD27: 10.1 | AE27: 32.899023 | AF27: 9.2 | AG27: 35.658915 | AH27: 10.9 | AI27: 32.732733 | AJ27: 9.6 | AK27: 34.042553 | AL27: 10.1 | AM27: 32.475884 | AN27: 8.1 | AO27: 31.51751 | AP27: 5.9 | AQ27: 28.229665 | AR27: 7.1 | AS27: 37.368421 | AT27: 9.8 | AU27: 31.612903 | AV27: 6.8 | AW27: 33.830846 | AX27: 9.9 | AY27: 34.020619 | AZ27: 9.1 | BA27: 34.339623 | BB27: 8.7 | BC27: 31.636364 | BD27: 9.9 | BE27: 34.020619 | BF27: 9.6 | BG27: 33.684211 | BH27: 9.4 | BI27: 30.718954 | BK27: =A27 -> External primary branch | BL27: 30 | BM27: =IF(SUM(B27,D27,F27,H27,J27,L27,N27,P27,R27,T27,V27,X27,Z27,AB27,AD27,AF27,AH27,AJ27,AL27,AN27,AP27,AR27,AT27,AV27,AX27,AZ27,BB27,BD27,BF27,BH27)>0,MIN(B27,D27,F27,H27,J27,L27,N27,P27,R27,T27,V27,X27,Z27,AB27,AD27,AF27,AH27,AJ27,AL27,AN27,AP27,AR27,AT27,AV27,AX27,AZ27,BB27,BD27,BF27,BH27),"") -> 5.4 | BN27: =IF(COUNT(BM27)>0,"–","?") -> – | BO27: =IF(SUM(B27,D27,F27,H27,J27,L27,N27,P27,R27,T27,V27,X27,Z27,AB27,AD27,AF27,AH27,AJ27,AL27,AN27,AP27,AR27,AT27,AV27,AX27,AZ27,BB27,BD27,BF27,BH27)>0,MAX(B27,D27,F27,H27,J27,L27,N27,P27,R27,T27,V27,X27,Z27,AB27,AD27,AF27,AH27,AJ27,AL27,AN27,AP27,AR27,AT27,AV27,AX27,AZ27,BB27,BD27,BF27,BH27),"") -> 11 | BP27: =IF(SUM(C27,E27,G27,I27,K27,M27,O27,Q27,S27,U27,W27,Y27,AA27,AC27,AE27,AG27,AI27,AK27,AM27,AO27,AQ27,AS27,AU27,AW27,AY27,BA27,BC27,BE27,BG27,BI27)>0,MIN(C27,E27,G27,I27,K27,M27,O27,Q27,S27,U27,W27,Y27,AA27,AC27,AE27,AG27,AI27,AK27,AM27,AO27,AQ27,AS27,AU27,AW27,AY27,BA27,BC27,BE27,BG27,BI27),"") -> 26.470588 | BQ27: =IF(COUNT(BP27)>0,"–","?") -> – | BR27: =IF(SUM(C27,E27,G27,I27,K27,M27,O27,Q27,S27,U27,W27,Y27,AA27,AC27,AE27,AG27,AI27,AK27,AM27,AO27,AQ27,AS27,AU27,AW27,AY27,BA27,BC27,BE27,BG27,BI27)>0,MAX(C27,E27,G27,I27,K27,M27,O27,Q27,S27,U27,W27,Y27,AA27,AC27,AE27,AG27,AI27,AK27,AM27,AO27,AQ27,AS27,AU27,AW27,AY27,BA27,BC27,BE27,BG27,BI27),"") -> 37.368421 | BS27: =IF(SUM(B27,D27,F27,H27,J27,L27,N27,P27,R27,T27,V27,X27,Z27,AB27,AD27,AF27,AH27,AJ27,AL27,AN27,AP27,AR27,AT27,AV27,AX27,AZ27,BB27,BD27,BF27,BH27)>0,AVERAGE(B27,D27,F27,H27,J27,L27,N27,P27,R27,T27,V27,X27,Z27,AB27,AD27,AF27,AH27,AJ27,AL27,AN27,AP27,AR27,AT27,AV27,AX27,AZ27,BB27,BD27,BF27,BH27),"?") -> 8.8033333 | BT27: =IF(SUM(C27,E27,G27,I27,K27,M27,O27,Q27,S27,U27,W27,Y27,AA27,AC27,AE27,AG27,AI27,AK27,AM27,AO27,AQ27,AS27,AU27,AW27,AY27,BA27,BC27,BE27,BG27,BI27)>0,AVERAGE(C27,E27,G27,I27,K27,M27,O27,Q27,S27,U27,W27,Y27,AA27,AC27,AE27,AG27,AI27,AK27,AM27,AO27,AQ27,AS27,AU27,AW27,AY27,BA27,BC27,BE27,BG27,BI27),"?") -> 33.274978 | BU27: =IF(COUNT(B27,D27,F27,H27,J27,L27,N27,P27,R27,T27,V27,X27,Z27,AB27,AD27,AF27,AH27,AJ27,AL27,AN27,AP27,AR27,AT27,AV27,AX27,AZ27,BB27,BD27,BF27,BH27)>1,STDEV(B27,D27,F27,H27,J27,L27,N27,P27,R27,T27,V27,X27,Z27,AB27,AD27,AF27,AH27,AJ27,AL27,AN27,AP27,AR27,AT27,AV27,AX27,AZ27,BB27,BD27,BF27,BH27),"?") -> 1.5392527 | BV27: =IF(COUNT(C27,E27,G27,I27,K27,M27,O27,Q27,S27,U27,W27,Y27,AA27,AC27,AE27,AG27,AI27,AK27,AM27,AO27,AQ27,AS27,AU27,AW27,AY27,BA27,BC27,BE27,BG27,BI27)>1,STDEV(C27,E27,G27,I27,K27,M27,O27,Q27,S27,U27,W27,Y27,AA27,AC27,AE27,AG27,AI27,AK27,AM27,AO27,AQ27,AS27,AU27,AW27,AY27,BA27,BC27,BE27,BG27,BI27),"?") -> 2.3410817 | BW27: =IF(COUNT(B27)>0,B27,"?") -> 10 | BX27: =IF(COUNT(C27)>0,C27,"?") -> 35.460993
A28: External secondary branch | B28: 7.6 | C28: 26.950355 | D28: 7.9 | E28: 26.779661 | F28: 7.3 | G28: 26.545455 | H28: 7.1 | I28: 23.986486 | J28: 7.7 | K28: 25.752508 | L28: 3.3 | M28: 16.5 | N28: 5 | O28: 22.83105 | P28: 3.5 | Q28: 18.324607 | R28: 5.2 | S28: 23.744292 | T28: 3.8 | U28: 18.627451 | V28: 5.6 | W28: 23.529412 | X28: 7.4 | Y28: 26.909091 | Z28: 7.9 | AA28: 27.816901 | AB28: 7.7 | AC28: 27.598566 | AD28: 8 | AE28: 26.058632 | AF28: 7 | AG28: 27.131783 | AH28: 8.1 | AI28: 24.324324 | AJ28: 7.4 | AK28: 26.241135 | AL28: 7.4 | AM28: 23.794212 | AN28: 6.3 | AO28: 24.513619 | AP28: 3.8 | AQ28: 18.181818 | AR28: 3.7 | AS28: 19.473684 | AT28: 8.3 | AU28: 26.774194 | AV28: 4.4 | AW28: 21.890547 | AX28: 7.4 | AY28: 25.429553 | AZ28: 7.1 | BA28: 26.792453 | BB28: 6.5 | BC28: 23.636364 | BD28: 6.5 | BE28: 22.33677 | BF28: 7 | BG28: 24.561404 | BH28: 7.5 | BI28: 24.509804 | BK28: =A28 -> External secondary branch | BL28: 30 | BM28: =IF(SUM(B28,D28,F28,H28,J28,L28,N28,P28,R28,T28,V28,X28,Z28,AB28,AD28,AF28,AH28,AJ28,AL28,AN28,AP28,AR28,AT28,AV28,AX28,AZ28,BB28,BD28,BF28,BH28)>0,MIN(B28,D28,F28,H28,J28,L28,N28,P28,R28,T28,V28,X28,Z28,AB28,AD28,AF28,AH28,AJ28,AL28,AN28,AP28,AR28,AT28,AV28,AX28,AZ28,BB28,BD28,BF28,BH28),"") -> 3.3 | BN28: =IF(COUNT(BM28)>0,"–","?") -> – | BO28: =IF(SUM(B28,D28,F28,H28,J28,L28,N28,P28,R28,T28,V28,X28,Z28,AB28,AD28,AF28,AH28,AJ28,AL28,AN28,AP28,AR28,AT28,AV28,AX28,AZ28,BB28,BD28,BF28,BH28)>0,MAX(B28,D28,F28,H28,J28,L28,N28,P28,R28,T28,V28,X28,Z28,AB28,AD28,AF28,AH28,AJ28,AL28,AN28,AP28,AR28,AT28,AV28,AX28,AZ28,BB28,BD28,BF28,BH28),"") -> 8.3 | BP28: =IF(SUM(C28,E28,G28,I28,K28,M28,O28,Q28,S28,U28,W28,Y28,AA28,AC28,AE28,AG28,AI28,AK28,AM28,AO28,AQ28,AS28,AU28,AW28,AY28,BA28,BC28,BE28,BG28,BI28)>0,MIN(C28,E28,G28,I28,K28,M28,O28,Q28,S28,U28,W28,Y28,AA28,AC28,AE28,AG28,AI28,AK28,AM28,AO28,AQ28,AS28,AU28,AW28,AY28,BA28,BC28,BE28,BG28,BI28),"") -> 16.5 | BQ28: =IF(COUNT(BP28)>0,"–","?") -> – | BR28: =IF(SUM(C28,E28,G28,I28,K28,M28,O28,Q28,S28,U28,W28,Y28,AA28,AC28,AE28,AG28,AI28,AK28,AM28,AO28,AQ28,AS28,AU28,AW28,AY28,BA28,BC28,BE28,BG28,BI28)>0,MAX(C28,E28,G28,I28,K28,M28,O28,Q28,S28,U28,W28,Y28,AA28,AC28,AE28,AG28,AI28,AK28,AM28,AO28,AQ28,AS28,AU28,AW28,AY28,BA28,BC28,BE28,BG28,BI28),"") -> 27.816901 | BS28: =IF(SUM(B28,D28,F28,H28,J28,L28,N28,P28,R28,T28,V28,X28,Z28,AB28,AD28,AF28,AH28,AJ28,AL28,AN28,AP28,AR28,AT28,AV28,AX28,AZ28,BB28,BD28,BF28,BH28)>0,AVERAGE(B28,D28,F28,H28,J28,L28,N28,P28,R28,T28,V28,X28,Z28,AB28,AD28,AF28,AH28,AJ28,AL28,AN28,AP28,AR28,AT28,AV28,AX28,AZ28,BB28,BD28,BF28,BH28),"?") -> 6.4466667 | BT28: =IF(SUM(C28,E28,G28,I28,K28,M28,O28,Q28,S28,U28,W28,Y28,AA28,AC28,AE28,AG28,AI28,AK28,AM28,AO28,AQ28,AS28,AU28,AW28,AY28,BA28,BC28,BE28,BG28,BI28)>0,AVERAGE(C28,E28,G28,I28,K28,M28,O28,Q28,S28,U28,W28,Y28,AA28,AC28,AE28,AG28,AI28,AK28,AM28,AO28,AQ28,AS28,AU28,AW28,AY28,BA28,BC28,BE28,BG28,BI28),"?") -> 24.051538 | BU28: =IF(COUNT(B28,D28,F28,H28,J28,L28,N28,P28,R28,T28,V28,X28,Z28,AB28,AD28,AF28,AH28,AJ28,AL28,AN28,AP28,AR28,AT28,AV28,AX28,AZ28,BB28,BD28,BF28,BH28)>1,STDEV(B28,D28,F28,H28,J28,L28,N28,P28,R28,T28,V28,X28,Z28,AB28,AD28,AF28,AH28,AJ28,AL28,AN28,AP28,AR28,AT28,AV28,AX28,AZ28,BB28,BD28,BF28,BH28),"?") -> 1.5858715 | BV28: =IF(COUNT(C28,E28,G28,I28,K28,M28,O28,Q28,S28,U28,W28,Y28,AA28,AC28,AE28,AG28,AI28,AK28,AM28,AO28,AQ28,AS28,AU28,AW28,AY28,BA28,BC28,BE28,BG28,BI28)>1,STDEV(C28,E28,G28,I28,K28,M28,O28,Q28,S28,U28,W28,Y28,AA28,AC28,AE28,AG28,AI28,AK28,AM28,AO28,AQ28,AS28,AU28,AW28,AY28,BA28,BC28,BE28,BG28,BI28),"?") -> 3.1080592 | BW28: =IF(COUNT(B28)>0,B28,"?") -> 7.6 | BX28: =IF(COUNT(C28)>0,C28,"?") -> 26.950355
A29: Internal primary branch | B29: 9.6 | C29: 34.042553 | D29: 11 | E29: 37.288136 | F29: 8.9 | G29: 32.363636 | H29: 8.2 | I29: 27.702703 | J29: 10 | K29: 33.444816 | L29: 6.1 | M29: 30.5 | N29: 7.1 | O29: 32.420091 | P29: 5.4 | Q29: 28.272251 | R29: 7.1 | S29: 32.420091 | T29: 5.2 | U29: 25.490196 | V29: 6.9 | W29: 28.991597 | X29: 9.2 | Y29: 33.454545 | Z29: 8.9 | AA29: 31.338028 | AB29: 9.8 | AC29: 35.125448 | AD29: 9.9 | AE29: 32.247557 | AF29: 8.8 | AG29: 34.108527 | AH29: 10.7 | AI29: 32.132132 | AJ29: 9.4 | AK29: 33.333333 | AL29: 9.5 | AM29: 30.546624 | AN29: 7.7 | AO29: 29.961089 | AP29: 5.5 | AQ29: 26.315789 | AR29: 6.3 | AS29: 33.157895 | AT29: 9.5 | AU29: 30.645161 | AV29: 6.3 | AW29: 31.343284 | AX29: 9.4 | AY29: 32.302405 | AZ29: 9 | BA29: 33.962264 | BB29: 8.3 | BC29: 30.181818 | BD29: 9.6 | BE29: 32.989691 | BF29: 8.9 | BG29: 31.22807 | BH29: 9.3 | BI29: 30.392157 | BK29: =A29 -> Internal primary branch | BL29: 30 | BM29: =IF(SUM(B29,D29,F29,H29,J29,L29,N29,P29,R29,T29,V29,X29,Z29,AB29,AD29,AF29,AH29,AJ29,AL29,AN29,AP29,AR29,AT29,AV29,AX29,AZ29,BB29,BD29,BF29,BH29)>0,MIN(B29,D29,F29,H29,J29,L29,N29,P29,R29,T29,V29,X29,Z29,AB29,AD29,AF29,AH29,AJ29,AL29,AN29,AP29,AR29,AT29,AV29,AX29,AZ29,BB29,BD29,BF29,BH29),"") -> 5.2 | BN29: =IF(COUNT(BM29)>0,"–","?") -> – | BO29: =IF(SUM(B29,D29,F29,H29,J29,L29,N29,P29,R29,T29,V29,X29,Z29,AB29,AD29,AF29,AH29,AJ29,AL29,AN29,AP29,AR29,AT29,AV29,AX29,AZ29,BB29,BD29,BF29,BH29)>0,MAX(B29,D29,F29,H29,J29,L29,N29,P29,R29,T29,V29,X29,Z29,AB29,AD29,AF29,AH29,AJ29,AL29,AN29,AP29,AR29,AT29,AV29,AX29,AZ29,BB29,BD29,BF29,BH29),"") -> 11 | BP29: =IF(SUM(C29,E29,G29,I29,K29,M29,O29,Q29,S29,U29,W29,Y29,AA29,AC29,AE29,AG29,AI29,AK29,AM29,AO29,AQ29,AS29,AU29,AW29,AY29,BA29,BC29,BE29,BG29,BI29)>0,MIN(C29,E29,G29,I29,K29,M29,O29,Q29,S29,U29,W29,Y29,AA29,AC29,AE29,AG29,AI29,AK29,AM29,AO29,AQ29,AS29,AU29,AW29,AY29,BA29,BC29,BE29,BG29,BI29),"") -> 25.490196 | BQ29: =IF(COUNT(BP29)>0,"–","?") -> – | BR29: =IF(SUM(C29,E29,G29,I29,K29,M29,O29,Q29,S29,U29,W29,Y29,AA29,AC29,AE29,AG29,AI29,AK29,AM29,AO29,AQ29,AS29,AU29,AW29,AY29,BA29,BC29,BE29,BG29,BI29)>0,MAX(C29,E29,G29,I29,K29,M29,O29,Q29,S29,U29,W29,Y29,AA29,AC29,AE29,AG29,AI29,AK29,AM29,AO29,AQ29,AS29,AU29,AW29,AY29,BA29,BC29,BE29,BG29,BI29),"") -> 37.288136 | BS29: =IF(SUM(B29,D29,F29,H29,J29,L29,N29,P29,R29,T29,V29,X29,Z29,AB29,AD29,AF29,AH29,AJ29,AL29,AN29,AP29,AR29,AT29,AV29,AX29,AZ29,BB29,BD29,BF29,BH29)>0,AVERAGE(B29,D29,F29,H29,J29,L29,N29,P29,R29,T29,V29,X29,Z29,AB29,AD29,AF29,AH29,AJ29,AL29,AN29,AP29,AR29,AT29,AV29,AX29,AZ29,BB29,BD29,BF29,BH29),"?") -> 8.3833333 | BT29: =IF(SUM(C29,E29,G29,I29,K29,M29,O29,Q29,S29,U29,W29,Y29,AA29,AC29,AE29,AG29,AI29,AK29,AM29,AO29,AQ29,AS29,AU29,AW29,AY29,BA29,BC29,BE29,BG29,BI29)>0,AVERAGE(C29,E29,G29,I29,K29,M29,O29,Q29,S29,U29,W29,Y29,AA29,AC29,AE29,AG29,AI29,AK29,AM29,AO29,AQ29,AS29,AU29,AW29,AY29,BA29,BC29,BE29,BG29,BI29),"?") -> 31.590063 | BU29: =IF(COUNT(B29,D29,F29,H29,J29,L29,N29,P29,R29,T29,V29,X29,Z29,AB29,AD29,AF29,AH29,AJ29,AL29,AN29,AP29,AR29,AT29,AV29,AX29,AZ29,BB29,BD29,BF29,BH29)>1,STDEV(B29,D29,F29,H29,J29,L29,N29,P29,R29,T29,V29,X29,Z29,AB29,AD29,AF29,AH29,AJ29,AL29,AN29,AP29,AR29,AT29,AV29,AX29,AZ29,BB29,BD29,BF29,BH29),"?") -> 1.6269462 | BV29: =IF(COUNT(C29,E29,G29,I29,K29,M29,O29,Q29,S29,U29,W29,Y29,AA29,AC29,AE29,AG29,AI29,AK29,AM29,AO29,AQ29,AS29,AU29,AW29,AY29,BA29,BC29,BE29,BG29,BI29)>1,STDEV(C29,E29,G29,I29,K29,M29,O29,Q29,S29,U29,W29,Y29,AA29,AC29,AE29,AG29,AI29,AK29,AM29,AO29,AQ29,AS29,AU29,AW29,AY29,BA29,BC29,BE29,BG29,BI29),"?") -> 2.5456441 | BW29: =IF(COUNT(B29)>0,B29,"?") -> 9.6 | BX29: =IF(COUNT(C29)>0,C29,"?") -> 34.042553
A30: Internal secondary branch | B30: 7.3 | C30: 25.886525 | D30: 7.6 | E30: 25.762712 | F30: 6.1 | G30: 22.181818 | H30: 5.9 | I30: 19.932432 | J30: 7.4 | K30: 24.749164 | L30: 3.3 | M30: 16.5 | N30: 4.9 | O30: 22.374429 | P30: 3.4 | Q30: 17.801047 | R30: 5 | S30: 22.83105 | T30: 2.6 | U30: 12.745098 | V30: 5.1 | W30: 21.428571 | X30: 6.7 | Y30: 24.363636 | Z30: 7.1 | AA30: 25 | AB30: 6.7 | AC30: 24.014337 | AD30: 7.5 | AE30: 24.429967 | AF30: 6.7 | AG30: 25.968992 | AH30: 7.3 | AI30: 21.921922 | AJ30: 7 | AK30: 24.822695 | AL30: 7.4 | AM30: 23.794212 | AN30: 5.2 | AO30: 20.233463 | AP30: 2.7 | AQ30: 12.91866 | AR30: 3.6 | AS30: 18.947368 | AT30: 6.2 | AU30: 20 | AV30: 3.1 | AW30: 15.422886 | AX30: 7 | AY30: 24.054983 | AZ30: 6.7 | BA30: 25.283019 | BB30: 5.9 | BC30: 21.454545 | BD30: 7.2 | BE30: 24.742268 | BF30: 7 | BG30: 24.561404 | BH30: 6.9 | BI30: 22.54902 | BK30: =A30 -> Internal secondary branch | BL30: 30 | BM30: =IF(SUM(B30,D30,F30,H30,J30,L30,N30,P30,R30,T30,V30,X30,Z30,AB30,AD30,AF30,AH30,AJ30,AL30,AN30,AP30,AR30,AT30,AV30,AX30,AZ30,BB30,BD30,BF30,BH30)>0,MIN(B30,D30,F30,H30,J30,L30,N30,P30,R30,T30,V30,X30,Z30,AB30,AD30,AF30,AH30,AJ30,AL30,AN30,AP30,AR30,AT30,AV30,AX30,AZ30,BB30,BD30,BF30,BH30),"") -> 2.6 | BN30: =IF(COUNT(BM30)>0,"–","?") -> – | BO30: =IF(SUM(B30,D30,F30,H30,J30,L30,N30,P30,R30,T30,V30,X30,Z30,AB30,AD30,AF30,AH30,AJ30,AL30,AN30,AP30,AR30,AT30,AV30,AX30,AZ30,BB30,BD30,BF30,BH30)>0,MAX(B30,D30,F30,H30,J30,L30,N30,P30,R30,T30,V30,X30,Z30,AB30,AD30,AF30,AH30,AJ30,AL30,AN30,AP30,AR30,AT30,AV30,AX30,AZ30,BB30,BD30,BF30,BH30),"") -> 7.6 | BP30: =IF(SUM(C30,E30,G30,I30,K30,M30,O30,Q30,S30,U30,W30,Y30,AA30,AC30,AE30,AG30,AI30,AK30,AM30,AO30,AQ30,AS30,AU30,AW30,AY30,BA30,BC30,BE30,BG30,BI30)>0,MIN(C30,E30,G30,I30,K30,M30,O30,Q30,S30,U30,W30,Y30,AA30,AC30,AE30,AG30,AI30,AK30,AM30,AO30,AQ30,AS30,AU30,AW30,AY30,BA30,BC30,BE30,BG30,BI30),"") -> 12.745098 | BQ30: =IF(COUNT(BP30)>0,"–","?") -> – | BR30: =IF(SUM(C30,E30,G30,I30,K30,M30,O30,Q30,S30,U30,W30,Y30,AA30,AC30,AE30,AG30,AI30,AK30,AM30,AO30,AQ30,AS30,AU30,AW30,AY30,BA30,BC30,BE30,BG30,BI30)>0,MAX(C30,E30,G30,I30,K30,M30,O30,Q30,S30,U30,W30,Y30,AA30,AC30,AE30,AG30,AI30,AK30,AM30,AO30,AQ30,AS30,AU30,AW30,AY30,BA30,BC30,BE30,BG30,BI30),"") -> 25.968992 | BS30: =IF(SUM(B30,D30,F30,H30,J30,L30,N30,P30,R30,T30,V30,X30,Z30,AB30,AD30,AF30,AH30,AJ30,AL30,AN30,AP30,AR30,AT30,AV30,AX30,AZ30,BB30,BD30,BF30,BH30)>0,AVERAGE(B30,D30,F30,H30,J30,L30,N30,P30,R30,T30,V30,X30,Z30,AB30,AD30,AF30,AH30,AJ30,AL30,AN30,AP30,AR30,AT30,AV30,AX30,AZ30,BB30,BD30,BF30,BH30),"?") -> 5.8833333 | BT30: =IF(SUM(C30,E30,G30,I30,K30,M30,O30,Q30,S30,U30,W30,Y30,AA30,AC30,AE30,AG30,AI30,AK30,AM30,AO30,AQ30,AS30,AU30,AW30,AY30,BA30,BC30,BE30,BG30,BI30)>0,AVERAGE(C30,E30,G30,I30,K30,M30,O30,Q30,S30,U30,W30,Y30,AA30,AC30,AE30,AG30,AI30,AK30,AM30,AO30,AQ30,AS30,AU30,AW30,AY30,BA30,BC30,BE30,BG30,BI30),"?") -> 21.889207 | BU30: =IF(COUNT(B30,D30,F30,H30,J30,L30,N30,P30,R30,T30,V30,X30,Z30,AB30,AD30,AF30,AH30,AJ30,AL30,AN30,AP30,AR30,AT30,AV30,AX30,AZ30,BB30,BD30,BF30,BH30)>1,STDEV(B30,D30,F30,H30,J30,L30,N30,P30,R30,T30,V30,X30,Z30,AB30,AD30,AF30,AH30,AJ30,AL30,AN30,AP30,AR30,AT30,AV30,AX30,AZ30,BB30,BD30,BF30,BH30),"?") -> 1.6030323 | BV30: =IF(COUNT(C30,E30,G30,I30,K30,M30,O30,Q30,S30,U30,W30,Y30,AA30,AC30,AE30,AG30,AI30,AK30,AM30,AO30,AQ30,AS30,AU30,AW30,AY30,BA30,BC30,BE30,BG30,BI30)>1,STDEV(C30,E30,G30,I30,K30,M30,O30,Q30,S30,U30,W30,Y30,AA30,AC30,AE30,AG30,AI30,AK30,AM30,AO30,AQ30,AS30,AU30,AW30,AY30,BA30,BC30,BE30,BG30,BI30),"?") -> 3.7083159 | BW30: =IF(COUNT(B30)>0,B30,"?") -> 7.3 | BX30: =IF(COUNT(C30)>0,C30,"?") -> 25.886525
A31: Claw IV heights | BK31: =A31 -> Claw IV heights
A32: Anterior primary branch | B32: 12.1 | C32: 42.907801 | D32: 13.8 | E32: 46.779661 | F32: 11.9 | G32: 43.272727 | H32: 11.7 | I32: 39.527027 | J32: 11.4 | K32: 38.12709 | L32: 6.9 | M32: 34.5 | N32: 7.9 | O32: 36.073059 | P32: 6.7 | Q32: 35.078534 | R32: 7.5 | S32: 34.246575 | T32: 7.1 | U32: 34.803922 | V32: 8.9 | W32: 37.394958 | X32: 11.7 | Y32: 42.545455 | Z32: 11.2 | AA32: 39.43662 | AB32: 11.2 | AC32: 40.143369 | AD32: 12.2 | AE32: 39.739414 | AF32: 11 | AG32: 42.635659 | AH32: 13.3 | AI32: 39.93994 | AJ32: 11.2 | AK32: 39.716312 | AL32: 11.9 | AM32: 38.263666 | AN32: 9.4 | AO32: 36.575875 | AP32: 6.7 | AQ32: 32.057416 | AR32: 7 | AS32: 36.842105 | AT32: 14.2 | AU32: 45.806452 | AV32: 6.8 | AW32: 33.830846 | AX32: 10.6 | AY32: 36.426117 | AZ32: 10.7 | BA32: 40.377358 | BB32: 11 | BC32: 40 | BD32: 11.9 | BE32: 40.893471 | BF32: 11.4 | BG32: 40 | BH32: 10.9 | BI32: 35.620915 | BK32: =A32 -> Anterior primary branch | BL32: 30 | BM32: =IF(SUM(B32,D32,F32,H32,J32,L32,N32,P32,R32,T32,V32,X32,Z32,AB32,AD32,AF32,AH32,AJ32,AL32,AN32,AP32,AR32,AT32,AV32,AX32,AZ32,BB32,BD32,BF32,BH32)>0,MIN(B32,D32,F32,H32,J32,L32,N32,P32,R32,T32,V32,X32,Z32,AB32,AD32,AF32,AH32,AJ32,AL32,AN32,AP32,AR32,AT32,AV32,AX32,AZ32,BB32,BD32,BF32,BH32),"") -> 6.7 | BN32: =IF(COUNT(BM32)>0,"–","?") -> – | BO32: =IF(SUM(B32,D32,F32,H32,J32,L32,N32,P32,R32,T32,V32,X32,Z32,AB32,AD32,AF32,AH32,AJ32,AL32,AN32,AP32,AR32,AT32,AV32,AX32,AZ32,BB32,BD32,BF32,BH32)>0,MAX(B32,D32,F32,H32,J32,L32,N32,P32,R32,T32,V32,X32,Z32,AB32,AD32,AF32,AH32,AJ32,AL32,AN32,AP32,AR32,AT32,AV32,AX32,AZ32,BB32,BD32,BF32,BH32),"") -> 14.2 | BP32: =IF(SUM(C32,E32,G32,I32,K32,M32,O32,Q32,S32,U32,W32,Y32,AA32,AC32,AE32,AG32,AI32,AK32,AM32,AO32,AQ32,AS32,AU32,AW32,AY32,BA32,BC32,BE32,BG32,BI32)>0,MIN(C32,E32,G32,I32,K32,M32,O32,Q32,S32,U32,W32,Y32,AA32,AC32,AE32,AG32,AI32,AK32,AM32,AO32,AQ32,AS32,AU32,AW32,AY32,BA32,BC32,BE32,BG32,BI32),"") -> 32.057416 | BQ32: =IF(COUNT(BP32)>0,"–","?") -> – | BR32: =IF(SUM(C32,E32,G32,I32,K32,M32,O32,Q32,S32,U32,W32,Y32,AA32,AC32,AE32,AG32,AI32,AK32,AM32,AO32,AQ32,AS32,AU32,AW32,AY32,BA32,BC32,BE32,BG32,BI32)>0,MAX(C32,E32,G32,I32,K32,M32,O32,Q32,S32,U32,W32,Y32,AA32,AC32,AE32,AG32,AI32,AK32,AM32,AO32,AQ32,AS32,AU32,AW32,AY32,BA32,BC32,BE32,BG32,BI32),"") -> 46.779661 | BS32: =IF(SUM(B32,D32,F32,H32,J32,L32,N32,P32,R32,T32,V32,X32,Z32,AB32,AD32,AF32,AH32,AJ32,AL32,AN32,AP32,AR32,AT32,AV32,AX32,AZ32,BB32,BD32,BF32,BH32)>0,AVERAGE(B32,D32,F32,H32,J32,L32,N32,P32,R32,T32,V32,X32,Z32,AB32,AD32,AF32,AH32,AJ32,AL32,AN32,AP32,AR32,AT32,AV32,AX32,AZ32,BB32,BD32,BF32,BH32),"?") -> 10.34 | BT32: =IF(SUM(C32,E32,G32,I32,K32,M32,O32,Q32,S32,U32,W32,Y32,AA32,AC32,AE32,AG32,AI32,AK32,AM32,AO32,AQ32,AS32,AU32,AW32,AY32,BA32,BC32,BE32,BG32,BI32)>0,AVERAGE(C32,E32,G32,I32,K32,M32,O32,Q32,S32,U32,W32,Y32,AA32,AC32,AE32,AG32,AI32,AK32,AM32,AO32,AQ32,AS32,AU32,AW32,AY32,BA32,BC32,BE32,BG32,BI32),"?") -> 38.785411 | BU32: =IF(COUNT(B32,D32,F32,H32,J32,L32,N32,P32,R32,T32,V32,X32,Z32,AB32,AD32,AF32,AH32,AJ32,AL32,AN32,AP32,AR32,AT32,AV32,AX32,AZ32,BB32,BD32,BF32,BH32)>1,STDEV(B32,D32,F32,H32,J32,L32,N32,P32,R32,T32,V32,X32,Z32,AB32,AD32,AF32,AH32,AJ32,AL32,AN32,AP32,AR32,AT32,AV32,AX32,AZ32,BB32,BD32,BF32,BH32),"?") -> 2.2631379 | BV32: =IF(COUNT(C32,E32,G32,I32,K32,M32,O32,Q32,S32,U32,W32,Y32,AA32,AC32,AE32,AG32,AI32,AK32,AM32,AO32,AQ32,AS32,AU32,AW32,AY32,BA32,BC32,BE32,BG32,BI32)>1,STDEV(C32,E32,G32,I32,K32,M32,O32,Q32,S32,U32,W32,Y32,AA32,AC32,AE32,AG32,AI32,AK32,AM32,AO32,AQ32,AS32,AU32,AW32,AY32,BA32,BC32,BE32,BG32,BI32),"?") -> 3.5610881 | BW32: =IF(COUNT(B32)>0,B32,"?") -> 12.1 | BX32: =IF(COUNT(C32)>0,C32,"?") -> 42.907801
A33: Anterior secondary branch | B33: 9.4 | C33: 33.333333 | D33: 10.5 | E33: 35.59322 | F33: 8.3 | G33: 30.181818 | H33: 9.4 | I33: 31.756757 | J33: 7.2 | K33: 24.080268 | L33: 4.4 | M33: 22 | N33: 6.3 | O33: 28.767123 | P33: 4.3 | Q33: 22.513089 | R33: 5.1 | S33: 23.287671 | T33: 4.3 | U33: 21.078431 | V33: 7.3 | W33: 30.672269 | X33: 8.8 | Y33: 32 | Z33: 8.5 | AA33: 29.929577 | AB33: 8.6 | AC33: 30.824373 | AD33: 9.2 | AE33: 29.967427 | AF33: 7.6 | AG33: 29.457364 | AH33: 10 | AI33: 30.03003 | AJ33: 8.5 | AK33: 30.141844 | AL33: 10.1 | AM33: 32.475884 | AN33: 5.9 | AO33: 22.957198 | AP33: 3.8 | AQ33: 18.181818 | AR33: 4.5 | AS33: 23.684211 | AT33: 10.7 | AU33: 34.516129 | AV33: 4.1 | AW33: 20.39801 | AX33: 8.9 | AY33: 30.584192 | AZ33: 7.9 | BA33: 29.811321 | BB33: 7 | BC33: 25.454545 | BD33: 7.9 | BE33: 27.147766 | BF33: 9 | BG33: 31.578947 | BH33: 8 | BI33: 26.143791 | BK33: =A33 -> Anterior secondary branch | BL33: 30 | BM33: =IF(SUM(B33,D33,F33,H33,J33,L33,N33,P33,R33,T33,V33,X33,Z33,AB33,AD33,AF33,AH33,AJ33,AL33,AN33,AP33,AR33,AT33,AV33,AX33,AZ33,BB33,BD33,BF33,BH33)>0,MIN(B33,D33,F33,H33,J33,L33,N33,P33,R33,T33,V33,X33,Z33,AB33,AD33,AF33,AH33,AJ33,AL33,AN33,AP33,AR33,AT33,AV33,AX33,AZ33,BB33,BD33,BF33,BH33),"") -> 3.8 | BN33: =IF(COUNT(BM33)>0,"–","?") -> – | BO33: =IF(SUM(B33,D33,F33,H33,J33,L33,N33,P33,R33,T33,V33,X33,Z33,AB33,AD33,AF33,AH33,AJ33,AL33,AN33,AP33,AR33,AT33,AV33,AX33,AZ33,BB33,BD33,BF33,BH33)>0,MAX(B33,D33,F33,H33,J33,L33,N33,P33,R33,T33,V33,X33,Z33,AB33,AD33,AF33,AH33,AJ33,AL33,AN33,AP33,AR33,AT33,AV33,AX33,AZ33,BB33,BD33,BF33,BH33),"") -> 10.7 | BP33: =IF(SUM(C33,E33,G33,I33,K33,M33,O33,Q33,S33,U33,W33,Y33,AA33,AC33,AE33,AG33,AI33,AK33,AM33,AO33,AQ33,AS33,AU33,AW33,AY33,BA33,BC33,BE33,BG33,BI33)>0,MIN(C33,E33,G33,I33,K33,M33,O33,Q33,S33,U33,W33,Y33,AA33,AC33,AE33,AG33,AI33,AK33,AM33,AO33,AQ33,AS33,AU33,AW33,AY33,BA33,BC33,BE33,BG33,BI33),"") -> 18.181818 | BQ33: =IF(COUNT(BP33)>0,"–","?") -> – | BR33: =IF(SUM(C33,E33,G33,I33,K33,M33,O33,Q33,S33,U33,W33,Y33,AA33,AC33,AE33,AG33,AI33,AK33,AM33,AO33,AQ33,AS33,AU33,AW33,AY33,BA33,BC33,BE33,BG33,BI33)>0,MAX(C33,E33,G33,I33,K33,M33,O33,Q33,S33,U33,W33,Y33,AA33,AC33,AE33,AG33,AI33,AK33,AM33,AO33,AQ33,AS33,AU33,AW33,AY33,BA33,BC33,BE33,BG33,BI33),"") -> 35.59322 | BS33: =IF(SUM(B33,D33,F33,H33,J33,L33,N33,P33,R33,T33,V33,X33,Z33,AB33,AD33,AF33,AH33,AJ33,AL33,AN33,AP33,AR33,AT33,AV33,AX33,AZ33,BB33,BD33,BF33,BH33)>0,AVERAGE(B33,D33,F33,H33,J33,L33,N33,P33,R33,T33,V33,X33,Z33,AB33,AD33,AF33,AH33,AJ33,AL33,AN33,AP33,AR33,AT33,AV33,AX33,AZ33,BB33,BD33,BF33,BH33),"?") -> 7.5166667 | BT33: =IF(SUM(C33,E33,G33,I33,K33,M33,O33,Q33,S33,U33,W33,Y33,AA33,AC33,AE33,AG33,AI33,AK33,AM33,AO33,AQ33,AS33,AU33,AW33,AY33,BA33,BC33,BE33,BG33,BI33)>0,AVERAGE(C33,E33,G33,I33,K33,M33,O33,Q33,S33,U33,W33,Y33,AA33,AC33,AE33,AG33,AI33,AK33,AM33,AO33,AQ33,AS33,AU33,AW33,AY33,BA33,BC33,BE33,BG33,BI33),"?") -> 27.951614 | BU33: =IF(COUNT(B33,D33,F33,H33,J33,L33,N33,P33,R33,T33,V33,X33,Z33,AB33,AD33,AF33,AH33,AJ33,AL33,AN33,AP33,AR33,AT33,AV33,AX33,AZ33,BB33,BD33,BF33,BH33)>1,STDEV(B33,D33,F33,H33,J33,L33,N33,P33,R33,T33,V33,X33,Z33,AB33,AD33,AF33,AH33,AJ33,AL33,AN33,AP33,AR33,AT33,AV33,AX33,AZ33,BB33,BD33,BF33,BH33),"?") -> 2.0940117 | BV33: =IF(COUNT(C33,E33,G33,I33,K33,M33,O33,Q33,S33,U33,W33,Y33,AA33,AC33,AE33,AG33,AI33,AK33,AM33,AO33,AQ33,AS33,AU33,AW33,AY33,BA33,BC33,BE33,BG33,BI33)>1,STDEV(C33,E33,G33,I33,K33,M33,O33,Q33,S33,U33,W33,Y33,AA33,AC33,AE33,AG33,AI33,AK33,AM33,AO33,AQ33,AS33,AU33,AW33,AY33,BA33,BC33,BE33,BG33,BI33),"?") -> 4.5515352 | BW33: =IF(COUNT(B33)>0,B33,"?") -> 9.4 | BX33: =IF(COUNT(C33)>0,C33,"?") -> 33.333333
A34: Posterior primary branch | B34: 11.4 | C34: 40.425532 | D34: 12.5 | E34: 42.372881 | F34: 10.2 | G34: 37.090909 | H34: 10.2 | I34: 34.459459 | J34: 11.6 | K34: 38.795987 | L34: 6.9 | M34: 34.5 | N34: 7.4 | O34: 33.789954 | P34: 6.1 | Q34: 31.937173 | R34: 7.1 | S34: 32.420091 | T34: 6.3 | U34: 30.882353 | V34: 8.1 | W34: 34.033613 | X34: 11.2 | Y34: 40.727273 | Z34: 10.9 | AA34: 38.380282 | AB34: 9.9 | AC34: 35.483871 | AD34: 11.7 | AE34: 38.110749 | AF34: 10.6 | AG34: 41.085271 | AH34: 12.7 | AI34: 38.138138 | AJ34: 10.2 | AK34: 36.170213 | AL34: 11.3 | AM34: 36.334405 | AN34: 8.7 | AO34: 33.85214 | AP34: 6.3 | AQ34: 30.143541 | AR34: 6.9 | AS34: 36.315789 | AT34: 14 | AU34: 45.16129 | AV34: 6.7 | AW34: 33.333333 | AX34: 9.8 | AY34: 33.676976 | AZ34: 10.7 | BA34: 40.377358 | BB34: 9.8 | BC34: 35.636364 | BD34: 10.4 | BE34: 35.738832 | BF34: 11.2 | BG34: 39.298246 | BH34: 10.7 | BI34: 34.96732 | BK34: =A34 -> Posterior primary branch | BL34: 30 | BM34: =IF(SUM(B34,D34,F34,H34,J34,L34,N34,P34,R34,T34,V34,X34,Z34,AB34,AD34,AF34,AH34,AJ34,AL34,AN34,AP34,AR34,AT34,AV34,AX34,AZ34,BB34,BD34,BF34,BH34)>0,MIN(B34,D34,F34,H34,J34,L34,N34,P34,R34,T34,V34,X34,Z34,AB34,AD34,AF34,AH34,AJ34,AL34,AN34,AP34,AR34,AT34,AV34,AX34,AZ34,BB34,BD34,BF34,BH34),"") -> 6.1 | BN34: =IF(COUNT(BM34)>0,"–","?") -> – | BO34: =IF(SUM(B34,D34,F34,H34,J34,L34,N34,P34,R34,T34,V34,X34,Z34,AB34,AD34,AF34,AH34,AJ34,AL34,AN34,AP34,AR34,AT34,AV34,AX34,AZ34,BB34,BD34,BF34,BH34)>0,MAX(B34,D34,F34,H34,J34,L34,N34,P34,R34,T34,V34,X34,Z34,AB34,AD34,AF34,AH34,AJ34,AL34,AN34,AP34,AR34,AT34,AV34,AX34,AZ34,BB34,BD34,BF34,BH34),"") -> 14 | BP34: =IF(SUM(C34,E34,G34,I34,K34,M34,O34,Q34,S34,U34,W34,Y34,AA34,AC34,AE34,AG34,AI34,AK34,AM34,AO34,AQ34,AS34,AU34,AW34,AY34,BA34,BC34,BE34,BG34,BI34)>0,MIN(C34,E34,G34,I34,K34,M34,O34,Q34,S34,U34,W34,Y34,AA34,AC34,AE34,AG34,AI34,AK34,AM34,AO34,AQ34,AS34,AU34,AW34,AY34,BA34,BC34,BE34,BG34,BI34),"") -> 30.143541 | BQ34: =IF(COUNT(BP34)>0,"–","?") -> – | BR34: =IF(SUM(C34,E34,G34,I34,K34,M34,O34,Q34,S34,U34,W34,Y34,AA34,AC34,AE34,AG34,AI34,AK34,AM34,AO34,AQ34,AS34,AU34,AW34,AY34,BA34,BC34,BE34,BG34,BI34)>0,MAX(C34,E34,G34,I34,K34,M34,O34,Q34,S34,U34,W34,Y34,AA34,AC34,AE34,AG34,AI34,AK34,AM34,AO34,AQ34,AS34,AU34,AW34,AY34,BA34,BC34,BE34,BG34,BI34),"") -> 45.16129 | BS34: =IF(SUM(B34,D34,F34,H34,J34,L34,N34,P34,R34,T34,V34,X34,Z34,AB34,AD34,AF34,AH34,AJ34,AL34,AN34,AP34,AR34,AT34,AV34,AX34,AZ34,BB34,BD34,BF34,BH34)>0,AVERAGE(B34,D34,F34,H34,J34,L34,N34,P34,R34,T34,V34,X34,Z34,AB34,AD34,AF34,AH34,AJ34,AL34,AN34,AP34,AR34,AT34,AV34,AX34,AZ34,BB34,BD34,BF34,BH34),"?") -> 9.7166667 | BT34: =IF(SUM(C34,E34,G34,I34,K34,M34,O34,Q34,S34,U34,W34,Y34,AA34,AC34,AE34,AG34,AI34,AK34,AM34,AO34,AQ34,AS34,AU34,AW34,AY34,BA34,BC34,BE34,BG34,BI34)>0,AVERAGE(C34,E34,G34,I34,K34,M34,O34,Q34,S34,U34,W34,Y34,AA34,AC34,AE34,AG34,AI34,AK34,AM34,AO34,AQ34,AS34,AU34,AW34,AY34,BA34,BC34,BE34,BG34,BI34),"?") -> 36.454645 | BU34: =IF(COUNT(B34,D34,F34,H34,J34,L34,N34,P34,R34,T34,V34,X34,Z34,AB34,AD34,AF34,AH34,AJ34,AL34,AN34,AP34,AR34,AT34,AV34,AX34,AZ34,BB34,BD34,BF34,BH34)>1,STDEV(B34,D34,F34,H34,J34,L34,N34,P34,R34,T34,V34,X34,Z34,AB34,AD34,AF34,AH34,AJ34,AL34,AN34,AP34,AR34,AT34,AV34,AX34,AZ34,BB34,BD34,BF34,BH34),"?") -> 2.1559994 | BV34: =IF(COUNT(C34,E34,G34,I34,K34,M34,O34,Q34,S34,U34,W34,Y34,AA34,AC34,AE34,AG34,AI34,AK34,AM34,AO34,AQ34,AS34,AU34,AW34,AY34,BA34,BC34,BE34,BG34,BI34)>1,STDEV(C34,E34,G34,I34,K34,M34,O34,Q34,S34,U34,W34,Y34,AA34,AC34,AE34,AG34,AI34,AK34,AM34,AO34,AQ34,AS34,AU34,AW34,AY34,BA34,BC34,BE34,BG34,BI34),"?") -> 3.5328693 | BW34: =IF(COUNT(B34)>0,B34,"?") -> 11.4 | BX34: =IF(COUNT(C34)>0,C34,"?") -> 40.425532
A35: Posterior secondary branch | B35: 9.1 | C35: 32.269504 | D35: 8.9 | E35: 30.169492 | F35: 7.7 | G35: 28 | H35: 7.3 | I35: 24.662162 | J35: 7.9 | K35: 26.421405 | L35: 3.3 | M35: 16.5 | N35: 5.2 | O35: 23.744292 | P35: 3.5 | Q35: 18.324607 | R35: 4.9 | S35: 22.374429 | T35: 3.6 | U35: 17.647059 | V35: 5.4 | W35: 22.689076 | X35: 8.5 | Y35: 30.909091 | Z35: 8.4 | AA35: 29.577465 | AB35: 7.5 | AC35: 26.88172 | AD35: 9.2 | AE35: 29.967427 | AF35: 7.1 | AG35: 27.51938 | AH35: 9.6 | AI35: 28.828829 | AJ35: 6.1 | AK35: 21.631206 | AL35: 7.8 | AM35: 25.080386 | AN35: 5.7 | AO35: 22.178988 | AP35: 3.7 | AQ35: 17.703349 | AR35: 3.3 | AS35: 17.368421 | AT35: 10.5 | AU35: 33.870968 | AV35: 3.5 | AW35: 17.412935 | AX35: 7.2 | AY35: 24.742268 | AZ35: 7.5 | BA35: 28.301887 | BB35: 6.8 | BC35: 24.727273 | BD35: 6.2 | BE35: 21.305842 | BF35: 8.1 | BG35: 28.421053 | BH35: 7.9 | BI35: 25.816993 | BK35: =A35 -> Posterior secondary branch | BL35: 30 | BM35: =IF(SUM(B35,D35,F35,H35,J35,L35,N35,P35,R35,T35,V35,X35,Z35,AB35,AD35,AF35,AH35,AJ35,AL35,AN35,AP35,AR35,AT35,AV35,AX35,AZ35,BB35,BD35,BF35,BH35)>0,MIN(B35,D35,F35,H35,J35,L35,N35,P35,R35,T35,V35,X35,Z35,AB35,AD35,AF35,AH35,AJ35,AL35,AN35,AP35,AR35,AT35,AV35,AX35,AZ35,BB35,BD35,BF35,BH35),"") -> 3.3 | BN35: =IF(COUNT(BM35)>0,"–","?") -> – | BO35: =IF(SUM(B35,D35,F35,H35,J35,L35,N35,P35,R35,T35,V35,X35,Z35,AB35,AD35,AF35,AH35,AJ35,AL35,AN35,AP35,AR35,AT35,AV35,AX35,AZ35,BB35,BD35,BF35,BH35)>0,MAX(B35,D35,F35,H35,J35,L35,N35,P35,R35,T35,V35,X35,Z35,AB35,AD35,AF35,AH35,AJ35,AL35,AN35,AP35,AR35,AT35,AV35,AX35,AZ35,BB35,BD35,BF35,BH35),"") -> 10.5 | BP35: =IF(SUM(C35,E35,G35,I35,K35,M35,O35,Q35,S35,U35,W35,Y35,AA35,AC35,AE35,AG35,AI35,AK35,AM35,AO35,AQ35,AS35,AU35,AW35,AY35,BA35,BC35,BE35,BG35,BI35)>0,MIN(C35,E35,G35,I35,K35,M35,O35,Q35,S35,U35,W35,Y35,AA35,AC35,AE35,AG35,AI35,AK35,AM35,AO35,AQ35,AS35,AU35,AW35,AY35,BA35,BC35,BE35,BG35,BI35),"") -> 16.5 | BQ35: =IF(COUNT(BP35)>0,"–","?") -> – | BR35: =IF(SUM(C35,E35,G35,I35,K35,M35,O35,Q35,S35,U35,W35,Y35,AA35,AC35,AE35,AG35,AI35,AK35,AM35,AO35,AQ35,AS35,AU35,AW35,AY35,BA35,BC35,BE35,BG35,BI35)>0,MAX(C35,E35,G35,I35,K35,M35,O35,Q35,S35,U35,W35,Y35,AA35,AC35,AE35,AG35,AI35,AK35,AM35,AO35,AQ35,AS35,AU35,AW35,AY35,BA35,BC35,BE35,BG35,BI35),"") -> 33.870968 | BS35: =IF(SUM(B35,D35,F35,H35,J35,L35,N35,P35,R35,T35,V35,X35,Z35,AB35,AD35,AF35,AH35,AJ35,AL35,AN35,AP35,AR35,AT35,AV35,AX35,AZ35,BB35,BD35,BF35,BH35)>0,AVERAGE(B35,D35,F35,H35,J35,L35,N35,P35,R35,T35,V35,X35,Z35,AB35,AD35,AF35,AH35,AJ35,AL35,AN35,AP35,AR35,AT35,AV35,AX35,AZ35,BB35,BD35,BF35,BH35),"?") -> 6.7133333 | BT35: =IF(SUM(C35,E35,G35,I35,K35,M35,O35,Q35,S35,U35,W35,Y35,AA35,AC35,AE35,AG35,AI35,AK35,AM35,AO35,AQ35,AS35,AU35,AW35,AY35,BA35,BC35,BE35,BG35,BI35)>0,AVERAGE(C35,E35,G35,I35,K35,M35,O35,Q35,S35,U35,W35,Y35,AA35,AC35,AE35,AG35,AI35,AK35,AM35,AO35,AQ35,AS35,AU35,AW35,AY35,BA35,BC35,BE35,BG35,BI35),"?") -> 24.834917 | BU35: =IF(COUNT(B35,D35,F35,H35,J35,L35,N35,P35,R35,T35,V35,X35,Z35,AB35,AD35,AF35,AH35,AJ35,AL35,AN35,AP35,AR35,AT35,AV35,AX35,AZ35,BB35,BD35,BF35,BH35)>1,STDEV(B35,D35,F35,H35,J35,L35,N35,P35,R35,T35,V35,X35,Z35,AB35,AD35,AF35,AH35,AJ35,AL35,AN35,AP35,AR35,AT35,AV35,AX35,AZ35,BB35,BD35,BF35,BH35),"?") -> 2.0838845 | BV35: =IF(COUNT(C35,E35,G35,I35,K35,M35,O35,Q35,S35,U35,W35,Y35,AA35,AC35,AE35,AG35,AI35,AK35,AM35,AO35,AQ35,AS35,AU35,AW35,AY35,BA35,BC35,BE35,BG35,BI35)>1,STDEV(C35,E35,G35,I35,K35,M35,O35,Q35,S35,U35,W35,Y35,AA35,AC35,AE35,AG35,AI35,AK35,AM35,AO35,AQ35,AS35,AU35,AW35,AY35,BA35,BC35,BE35,BG35,BI35),"?") -> 4.8557887 | BW35: =IF(COUNT(B35)>0,B35,"?") -> 9.1 | BX35: =IF(COUNT(C35)>0,C35,"?") -> 32.269504
A37: Eyes (0 = absent; 1 = present) | B37: 1 | D37: 1 | F37: 1 | H37: 1 | J37: 1 | L37: 0 | N37: 1 | P37: 0 | R37: 1 | T37: 1 | V37: 1 | X37: 1 | Z37: 1 | AB37: 1 | AD37: 1 | AF37: 1 | AH37: 1 | AJ37: 1 | AL37: 1 | AN37: 1 | AP37: 1 | AR37: 1 | AT37: 1 | AV37: 0 | AX37: 1 | AZ37: 1 | BB37: 1 | BD37: 1 | BF37: 1 | BH37: 1 | BL37: =COUNT(B37:BI37) -> 30 | BS37: =IF(COUNT(B37:BI37)>0,AVERAGE(B37:BI37),"?") -> 0.9
A38: Cuticular pores (0/1) | B38: 1 | D38: 1 | F38: 1 | H38: 1 | J38: 1 | L38: 1 | N38: 1 | P38: 1 | R38: 1 | T38: 1 | V38: 1 | X38: 1 | Z38: 1 | AB38: 1 | AD38: 1 | AF38: 1 | AH38: 1 | AJ38: 1 | AL38: 1 | AN38: 1 | AP38: 1 | AR38: 1 | AT38: 1 | AV38: 1 | AX38: 1 | AZ38: 1 | BB38: 1 | BD38: 1 | BF38: 1 | BH38: 1 | BL38: =COUNT(B38:BI38) -> 30 | BS38: =IF(COUNT(B38:BI38)>0,AVERAGE(B38:BI38),"?") -> 1
A39: Lunules I with teeth (0/1) | B39: 0 | D39: 0 | F39: 0 | H39: 0 | J39: 0 | L39: 0 | N39: 0 | P39: 0 | R39: 0 | T39: 0 | V39: 0 | X39: 0 | Z39: 0 | AB39: 0 | AD39: 0 | AF39: 0 | AH39: 0 | AJ39: 0 | AL39: 0 | AN39: 0 | AP39: 0 | AR39: 0 | AT39: 0 | AV39: 0 | AX39: 0 | AZ39: 0 | BB39: 0 | BD39: 0 | BF39: 0 | BH39: 0 | BL39: =COUNT(B39:BI39) -> 30 | BS39: =IF(COUNT(B39:BI39)>0,AVERAGE(B39:BI39),"?") -> 0
A40: Lunules II with teeth (0/1) | B40: 0 | D40: 0 | F40: 0 | H40: 0 | J40: 0 | L40: 0 | N40: 0 | P40: 0 | R40: 0 | T40: 0 | V40: 0 | X40: 0 | Z40: 1 | AB40: 0 | AD40: 0 | AF40: 0 | AH40: 0 | AJ40: 0 | AL40: 0 | AN40: 0 | AP40: 0 | AR40: 0 | AT40: 0 | AV40: 0 | AX40: 0 | AZ40: 0 | BB40: 0 | BD40: 0 | BF40: 0 | BH40: 0 | BL40: =COUNT(B40:BI40) -> 30 | BS40: =IF(COUNT(B40:BI40)>0,AVERAGE(B40:BI40),"?") -> 0.033333333
A41: Lunules III with teeth (0/1) | B41: 0 | D41: 0 | F41: 0 | H41: 0 | J41: 0 | L41: 0 | N41: 0 | P41: 0 | R41: 0 | T41: 0 | V41: 0 | X41: 0 | Z41: 2 | AB41: 0 | AD41: 0 | AF41: 0 | AH41: 0 | AJ41: 0 | AL41: 0 | AN41: 0 | AP41: 0 | AR41: 0 | AT41: 0 | AV41: 0 | AX41: 0 | AZ41: 0 | BB41: 0 | BD41: 0 | BF41: 0 | BH41: 0 | BL41: =COUNT(B41:BI41) -> 30 | BS41: =IF(COUNT(B41:BI41)>0,AVERAGE(B41:BI41),"?") -> 0.066666667
A42: Lunules IV with teeth (0/1) | B42: 0 | D42: 0 | F42: 0 | H42: 0 | J42: 0 | L42: 0 | N42: 0 | P42: 0 | R42: 0 | T42: 0 | V42: 0 | X42: 0 | Z42: 3 | AB42: 0 | AD42: 0 | AF42: 0 | AH42: 0 | AJ42: 0 | AL42: 0 | AN42: 0 | AP42: 0 | AR42: 0 | AT42: 0 | AV42: 0 | AX42: 0 | AZ42: 0 | BB42: 0 | BD42: 0 | BF42: 0 | BH42: 0 | BL42: =COUNT(B42:BI42) -> 30 | BS42: =IF(COUNT(B42:BI42)>0,AVERAGE(B42:BI42),"?") -> 0.1
A43: Granulation on legs I (0/1) | B43: 0 | D43: 0 | F43: 0 | H43: 0 | J43: 0 | L43: 0 | N43: 0 | P43: 0 | R43: 0 | T43: 0 | V43: 0 | X43: 0 | Z43: 4 | AB43: 0 | AD43: 0 | AF43: 0 | AH43: 0 | AJ43: 0 | AL43: 0 | AN43: 0 | AP43: 0 | AR43: 0 | AT43: 0 | AV43: 0 | AX43: 0 | AZ43: 0 | BB43: 0 | BD43: 0 | BF43: 0 | BH43: 0 | BL43: =COUNT(B43:BI43) -> 30 | BS43: =IF(COUNT(B43:BI43)>0,AVERAGE(B43:BI43),"?") -> 0.13333333
A44: Granulation on legs II (0/1) | B44: 0 | D44: 0 | F44: 0 | H44: 0 | J44: 0 | L44: 0 | N44: 0 | P44: 0 | R44: 0 | T44: 0 | V44: 0 | X44: 0 | Z44: 5 | AB44: 0 | AD44: 0 | AF44: 0 | AH44: 0 | AJ44: 0 | AL44: 0 | AN44: 0 | AP44: 0 | AR44: 0 | AT44: 0 | AV44: 0 | AX44: 0 | AZ44: 0 | BB44: 0 | BD44: 0 | BF44: 0 | BH44: 0 | BL44: =COUNT(B44:BI44) -> 30 | BS44: =IF(COUNT(B44:BI44)>0,AVERAGE(B44:BI44),"?") -> 0.16666667
A45: Granulation on legs III (0/1) | B45: 0 | D45: 0 | F45: 0 | H45: 0 | J45: 0 | L45: 0 | N45: 0 | P45: 0 | R45: 0 | T45: 0 | V45: 0 | X45: 0 | Z45: 6 | AB45: 0 | AD45: 0 | AF45: 0 | AH45: 0 | AJ45: 0 | AL45: 0 | AN45: 0 | AP45: 0 | AR45: 0 | AT45: 0 | AV45: 0 | AX45: 0 | AZ45: 0 | BB45: 0 | BD45: 0 | BF45: 0 | BH45: 0 | BL45: =COUNT(B45:BI45) -> 30 | BS45: =IF(COUNT(B45:BI45)>0,AVERAGE(B45:BI45),"?") -> 0.2
A46: Granulation on legs IV (0/1) | B46: 0 | D46: 0 | F46: 0 | H46: 0 | J46: 0 | L46: 0 | N46: 0 | P46: 0 | R46: 0 | T46: 0 | V46: 0 | X46: 0 | Z46: 7 | AB46: 0 | AD46: 0 | AF46: 0 | AH46: 0 | AJ46: 0 | AL46: 0 | AN46: 0 | AP46: 0 | AR46: 0 | AT46: 0 | AV46: 0 | AX46: 0 | AZ46: 0 | BB46: 0 | BD46: 0 | BF46: 0 | BH46: 0 | BL46: =COUNT(B46:BI46) -> 30 | BS46: =IF(COUNT(B46:BI46)>0,AVERAGE(B46:BI46),"?") -> 0.23333333

Sheet eggs
A1: CHARACTER | B1: 1 | C1: 2 | D1: 3 | E1: 4 | F1: 5 | H1: CHARACTER | I1: N | J1: RANGE | M1: MEAN | N1: SD
A2: Egg bare diameter | B2: 77.5 | C2: 74.7 | D2: - | E2: 78.1 | F2: 70.3 | H2: =A2 -> Egg bare diameter | I2: =COUNTA(B2:F2) -> 5 | J2: =IF(SUM(B2:F2)>0,MIN(B2:F2),"") -> 70.3 | K2: =IF(COUNT(J2)>0,"–","?") -> – | L2: =IF(SUM(B2:F2)>0,MAX(B2:F2),"") -> 78.1 | M2: =IF(SUM(B2:F2)>0,AVERAGE(B2:F2),"?") -> 75.15 | N2: =IF(COUNT(B2:F2)>1,STDEV(B2:F2),"?") -> 3.5566838
A3: Egg full diameter | B3: 84.1 | C3: 85.4 | D3: - | E3: 88.7 | F3: 81 | H3: =A3 -> Egg full diameter | I3: =COUNTA(B3:F3) -> 5 | J3: =IF(SUM(B3:F3)>0,MIN(B3:F3),"") -> 81 | K3: =IF(COUNT(J3)>0,"–","?") -> – | L3: =IF(SUM(B3:F3)>0,MAX(B3:F3),"") -> 88.7 | M3: =IF(SUM(B3:F3)>0,AVERAGE(B3:F3),"?") -> 84.8 | N3: =IF(COUNT(B3:F3)>1,STDEV(B3:F3),"?") -> 3.1885211
A4: Process height | B4: 11.6 | C4: 11.9 | D4: 11.6 | E4: 11.9 | F4: 9.4 | H4: =A4 -> Process height | I4: =COUNTA(B4:F6) -> 15 | J4: =IF(SUM(B4:F6)>0,MIN(B4:F6),"") -> 8.5 | K4: =IF(COUNT(J4)>0,"–","?") -> – | L4: =IF(SUM(B4:F6)>0,MAX(B4:F6),"") -> 13.6 | M4: =IF(SUM(B4:F6)>0,AVERAGE(B4:F6),"?") -> 11.2 | N4: =IF(COUNT(B4:F6)>1,STDEV(B4:F6),"?") -> 1.4412296
B5: 10.6 | C5: 11.6 | D5: 12.8 | E5: 13.6 | F5: 8.5 | H5: =A7 -> Process base width | I5: =COUNTA(B7:F9) -> 15 | J5: =IF(SUM(B7:F9)>0,MIN(B7:F9),"") -> 4.1 | K5: =IF(COUNT(J5)>0,"–","?") -> – | L5: =IF(SUM(B7:F9)>0,MAX(B7:F9),"") -> 7.2 | M5: =IF(SUM(B7:F9)>0,AVERAGE(B7:F9),"?") -> 5.9266667 | N5: =IF(COUNT(B7:F9)>1,STDEV(B7:F9),"?") -> 0.85562564
B6: 9.2 | C6: 12.1 | D6: 10.4 | E6: 12.6 | F6: 10.2 | H6: =A10 -> Process base/height ratio | I6: =COUNT(B10:F12) -> 15 | J6: =IF(SUM(B10:F12)>0,MIN(B10:F12),"") -> 0.34453782 | K6: =IF(COUNT(J6)>0,"–","?") -> – | L6: =IF(SUM(B10:F12)>0,MAX(B10:F12),"") -> 0.77647059 | M6: =IF(SUM(B10:F12)>0,AVERAGE(B10:F12),"?") -> 0.53773722 | N6: =IF(COUNT(B10:F12)>1,STDEV(B10:F12),"?") -> 0.10640361
A7: Process base width | B7: 4.7 | C7: 7.2 | D7: 5.6 | E7: 4.1 | F7: 5.4 | H7: =A13 -> Inter-process distance | I7: =COUNTA(B12:F14) -> 15 | J7: =IF(SUM(B13:F15)>0,MIN(B13:F15),"") -> 2.4 | K7: =IF(COUNT(J7)>0,"–","?") -> – | L7: =IF(SUM(B13:F15)>0,MAX(B13:F15),"") -> 4.5 | M7: =IF(SUM(B13:F15)>0,AVERAGE(B13:F15),"?") -> 3.2 | N7: =IF(COUNT(B13:F15)>1,STDEV(B13:F15),"?") -> 0.63245553
B8: 6.6 | C8: 6.5 | D8: 5.6 | E8: 6.4 | F8: 6.6 | H8: =A16 -> Number of processes on the egg circumference | I8: =COUNTA(B15:F15) -> 5 | J8: =IF(SUM(B16:F16)>0,MIN(B16:F16),"") -> 22 | K8: =IF(COUNT(J8)>0,"–","?") -> – | L8: =IF(SUM(B16:F16)>0,MAX(B16:F16),"") -> 25 | M8: 23.6 | N8: =IF(COUNT(B16:F16)>1,STDEV(B16:F16),"?") -> 1.1401754
B9: 5.1 | C9: 6.4 | D9: 5.6 | E9: 6.4 | F9: 6.7
A10: Process base/height ratio | B10: =IF(AND((B7>0),(B4>0)),(B7/B4),"") -> 0.40517241 | C10: =IF(AND((C7>0),(C4>0)),(C7/C4),"") -> 0.60504202 | D10: =IF(AND((D7>0),(D4>0)),(D7/D4),"") -> 0.48275862 | E10: =IF(AND((E7>0),(E4>0)),(E7/E4),"") -> 0.34453782 | F10: =IF(AND((F7>0),(F4>0)),(F7/F4),"") -> 0.57446809
B11: =(B8/B5) -> 0.62264151 | C11: =IF(AND((C8>0),(C5>0)),(C8/C5),"") -> 0.56034483 | D11: =IF(AND((D8>0),(D5>0)),(D8/D5),"") -> 0.4375 | E11: =IF(AND((E8>0),(E5>0)),(E8/E5),"") -> 0.47058824 | F11: =IF(AND((F8>0),(F5>0)),(F8/F5),"") -> 0.77647059
B12: =IF(AND((B9>0),(B6>0)),(B9/B6),"") -> 0.55434783 | C12: =IF(AND((C9>0),(C6>0)),(C9/C6),"") -> 0.52892562 | D12: =IF(AND((D9>0),(D6>0)),(D9/D6),"") -> 0.53846154 | E12: =IF(AND((E9>0),(E6>0)),(E9/E6),"") -> 0.50793651 | F12: =IF(AND((F9>0),(F6>0)),(F9/F6),"") -> 0.65686275
A13: Inter-process distance | B13: 2.6 | C13: 3.9 | D13: 3.5 | E13: 2.8 | F13: 3.1
B14: 2.9 | C14: 4.5 | D14: 2.9 | E14: 4.4 | F14: 2.9
B15: 3.1 | C15: 2.4 | D15: 3.4 | E15: 2.6 | F15: 3
A16: Number of processes on the egg circumference | B16: 25 | C16: 24 | D16: 23 | E16: 22 | F16: 24

Sheet animals (µm)
A1: Species | B1: Population | C1: Individual | D1: Body length | E1: Buccal tube length | F1: Stylet support insertion point | G1: Buccal tube external width | H1: Buccal tube internal width | I1: Macroplacoid 1 | J1: Macroplacoid 2 | K1: Macroplacoid 3 | L1: Macroplacoid row | M1: Claw I external primary branch | N1: Claw I external secondary branch | O1: Claw I internal primary branch | P1: Claw I internal secondary branch | Q1: Claw II external primary branch | R1: Claw II external secondary branch | S1: Claw II internal primary branch | T1: Claw II internal secondary branch | U1: Claw III external primary branch | V1: Claw III external secondary branch | W1: Claw III internal primary branch | X1: Claw III internal secondary branch | Y1: Claw IV anterior primary branch | Z1: Claw IV anterior secondary branch | AA1: Claw IV posterior primary branch | AB1: Claw IV posterior secondary branch
A2: Minibiotus jonesorum | B2: US.200.01 | C2: =animals!B1 -> 1 | D2: =IF(animals!B3>0,animals!B3,"") -> 309.7 | E2: =IF(animals!B5>0,animals!B5,"") -> 28.2 | F2: =IF(animals!B6>0,animals!B6,"") -> 18.2 | G2: =IF(animals!B7>0,animals!B7,"") -> 2.3 | H2: =IF(animals!B8>0,animals!B8,"") -> 0.7 | I2: =IF(animals!B11>0,animals!B11,"") -> 3.5 | J2: =IF(animals!B12>0,animals!B12,"") -> 2.5 | K2: =IF(animals!B13>0,animals!B13,"") -> 2.3 | L2: =IF(animals!B15>0,animals!B15,"") -> 9.1 | M2: =IF(animals!B17>0,animals!B17,"") -> 9 | N2: =IF(animals!B18>0,animals!B18,"") -> 6.6 | O2: =IF(animals!B19>0,animals!B19,"") -> 8.6 | P2: =IF(animals!B20>0,animals!B20,"") -> 6.5 | Q2: =IF(animals!B22>0,animals!B22,"") -> 9.4 | R2: =IF(animals!B23>0,animals!B23,"") -> 7.7 | S2: =IF(animals!B24>0,animals!B24,"") -> 9 | T2: =IF(animals!B25>0,animals!B25,"") -> 7 | U2: =IF(animals!B27>0,animals!B27,"") -> 10 | V2: =IF(animals!B28>0,animals!B28,"") -> 7.6 | W2: =IF(animals!B29>0,animals!B29,"") -> 9.6 | X2: =IF(animals!B30>0,animals!B30,"") -> 7.3 | Y2: =IF(animals!B32>0,animals!B32,"") -> 12.1 | Z2: =IF(animals!B33>0,animals!B33,"") -> 9.4 | AA2: =IF(animals!B34>0,animals!B34,"") -> 11.4 | AB2: =IF(animals!B35>0,animals!B35,"") -> 9.1
A3: =A$2 -> Minibiotus jonesorum | B3: US.198.01 | C3: =animals!D1 -> 2 | D3: =IF(animals!D3>0,animals!D3,"") -> 384.5 | E3: =IF(animals!D5>0,animals!D5,"") -> 29.5 | F3: =IF(animals!D6>0,animals!D6,"") -> 19.8 | G3: =IF(animals!D7>0,animals!D7,"") -> 3 | H3: =IF(animals!D8>0,animals!D8,"") -> 1.4 | I3: =IF(animals!D11>0,animals!D11,"") -> 3.8 | J3: =IF(animals!D12>0,animals!D12,"") -> 2.4 | K3: =IF(animals!D13>0,animals!D13,"") -> 3.3 | L3: =IF(animals!D15>0,animals!D15,"") -> 10.7 | M3: =IF(animals!D17>0,animals!D17,"") -> 11.2 | N3: =IF(animals!D18>0,animals!D18,"") -> 8.7 | O3: =IF(animals!D19>0,animals!D19,"") -> 9.8 | P3: =IF(animals!D20>0,animals!D20,"") -> 7.5 | Q3: =IF(animals!D22>0,animals!D22,"") -> 10.2 | R3: =IF(animals!D23>0,animals!D23,"") -> 6.8 | S3: =IF(animals!D24>0,animals!D24,"") -> 9.8 | T3: =IF(animals!D25>0,animals!D25,"") -> 6.5 | U3: =IF(animals!D27>0,animals!D27,"") -> 11 | V3: =IF(animals!D28>0,animals!D28,"") -> 7.9 | W3: =IF(animals!D29>0,animals!D29,"") -> 11 | X3: =IF(animals!D30>0,animals!D30,"") -> 7.6 | Y3: =IF(animals!D32>0,animals!D32,"") -> 13.8 | Z3: =IF(animals!D33>0,animals!D33,"") -> 10.5 | AA3: =IF(animals!D34>0,animals!D34,"") -> 12.5 | AB3: =IF(animals!D35>0,animals!D35,"") -> 8.9
A4: =A$2 -> Minibiotus jonesorum | B4: US.198.01 | C4: =animals!F1 -> 3 | D4: =IF(animals!F3>0,animals!F3,"") -> 290 | E4: =IF(animals!F5>0,animals!F5,"") -> 27.5 | F4: =IF(animals!F6>0,animals!F6,"") -> 17.9 | G4: =IF(animals!F7>0,animals!F7,"") -> 2.6 | H4: =IF(animals!F8>0,animals!F8,"") -> 0.7 | I4: =IF(animals!F11>0,animals!F11,"") -> 3.8 | J4: =IF(animals!F12>0,animals!F12,"") -> 2.5 | K4: =IF(animals!F13>0,animals!F13,"") -> 3 | L4: =IF(animals!F15>0,animals!F15,"") -> 9.7 | M4: =IF(animals!F17>0,animals!F17,"") -> 8.7 | N4: =IF(animals!F18>0,animals!F18,"") -> 7.2 | O4: =IF(animals!F19>0,animals!F19,"") -> 2.3 | P4: =IF(animals!F20>0,animals!F20,"") -> 7.6 | Q4: =IF(animals!F22>0,animals!F22,"") -> 8.9 | R4: =IF(animals!F23>0,animals!F23,"") -> 7.4 | S4: =IF(animals!F24>0,animals!F24,"") -> 8.4 | T4: =IF(animals!F25>0,animals!F25,"") -> 6 | U4: =IF(animals!F27>0,animals!F27,"") -> 9.6 | V4: =IF(animals!F28>0,animals!F28,"") -> 7.3 | W4: =IF(animals!F29>0,animals!F29,"") -> 8.9 | X4: =IF(animals!F30>0,animals!F30,"") -> 6.1 | Y4: =IF(animals!F32>0,animals!F32,"") -> 11.9 | Z4: =IF(animals!F33>0,animals!F33,"") -> 8.3 | AA4: =IF(animals!F34>0,animals!F34,"") -> 10.2 | AB4: =IF(animals!F35>0,animals!F35,"") -> 7.7
A5: =A$2 -> Minibiotus jonesorum | B5: US.198.01 | C5: =animals!H1 -> 4 | D5: =IF(animals!H3>0,animals!H3,"") -> 354 | E5: =IF(animals!H5>0,animals!H5,"") -> 29.6 | F5: =IF(animals!H6>0,animals!H6,"") -> 19.8 | G5: =IF(animals!H7>0,animals!H7,"") -> 2.8 | H5: =IF(animals!H8>0,animals!H8,"") -> 0.9 | I5: =IF(animals!H11>0,animals!H11,"") -> 2.8 | J5: =IF(animals!H12>0,animals!H12,"") -> 2.5 | K5: =IF(animals!H13>0,animals!H13,"") -> 2.6 | L5: =IF(animals!H15>0,animals!H15,"") -> 8.9 | M5: =IF(animals!H17>0,animals!H17,"") -> 9.4 | N5: =IF(animals!H18>0,animals!H18,"") -> 7.8 | O5: =IF(animals!H19>0,animals!H19,"") -> 8.2 | P5: =IF(animals!H20>0,animals!H20,"") -> 7 | Q5: =IF(animals!H22>0,animals!H22,"") -> 9.4 | R5: =IF(animals!H23>0,animals!H23,"") -> 6.9 | S5: =IF(animals!H24>0,animals!H24,"") -> 8.6 | T5: =IF(animals!H25>0,animals!H25,"") -> 6.4 | U5: =IF(animals!H27>0,animals!H27,"") -> 9.4 | V5: =IF(animals!H28>0,animals!H28,"") -> 7.1 | W5: =IF(animals!H29>0,animals!H29,"") -> 8.2 | X5: =IF(animals!H30>0,animals!H30,"") -> 5.9 | Y5: =IF(animals!H32>0,animals!H32,"") -> 11.7 | Z5: =IF(animals!H33>0,animals!H33,"") -> 9.4 | AA5: =IF(animals!H34>0,animals!H34,"") -> 10.2 | AB5: =IF(animals!H35>0,animals!H35,"") -> 7.3
A6: =A$2 -> Minibiotus jonesorum | B6: US.198.02 | C6: =animals!J1 -> 5 | D6: =IF(animals!J3>0,animals!J3,"") -> 358.9 | E6: =IF(animals!J5>0,animals!J5,"") -> 29.9 | F6: =IF(animals!J6>0,animals!J6,"") -> 21 | G6: =IF(animals!J7>0,animals!J7,"") -> 2.7 | H6: =IF(animals!J8>0,animals!J8,"") -> 0.7 | I6: =IF(animals!J11>0,animals!J11,"") -> 4.1 | J6: =IF(animals!J12>0,animals!J12,"") -> 2.6 | K6: =IF(animals!J13>0,animals!J13,"") -> 2.8 | L6: =IF(animals!J15>0,animals!J15,"") -> 10.5 | M6: =IF(animals!J17>0,animals!J17,"") -> 9.5 | N6: =IF(animals!J18>0,animals!J18,"") -> 7.6 | O6: =IF(animals!J19>0,animals!J19,"") -> 9.2 | P6: =IF(animals!J20>0,animals!J20,"") -> 7.1 | Q6: =IF(animals!J22>0,animals!J22,"") -> 10.3 | R6: =IF(animals!J23>0,animals!J23,"") -> 7.8 | S6: =IF(animals!J24>0,animals!J24,"") -> 10 | T6: =IF(animals!J25>0,animals!J25,"") -> 7.6 | U6: =IF(animals!J27>0,animals!J27,"") -> 10 | V6: =IF(animals!J28>0,animals!J28,"") -> 7.7 | W6: =IF(animals!J29>0,animals!J29,"") -> 10 | X6: =IF(animals!J30>0,animals!J30,"") -> 7.4 | Y6: =IF(animals!J32>0,animals!J32,"") -> 11.4 | Z6: =IF(animals!J33>0,animals!J33,"") -> 7.2 | AA6: =IF(animals!J34>0,animals!J34,"") -> 11.6 | AB6: =IF(animals!J35>0,animals!J35,"") -> 7.9
A7: =A$2 -> Minibiotus jonesorum | B7: US.198.03 | C7: =animals!L1 -> 6 | D7: =IF(animals!L3>0,animals!L3,"") -> 180.8 | E7: =IF(animals!L5>0,animals!L5,"") -> 20 | F7: =IF(animals!L6>0,animals!L6,"") -> 13.3 | G7: =IF(animals!L7>0,animals!L7,"") -> 1.9 | H7: =IF(animals!L8>0,animals!L8,"") -> 0.7 | I7: =IF(animals!L11>0,animals!L11,"") -> 2 | J7: =IF(animals!L12>0,animals!L12,"") -> 1.6 | K7: =IF(animals!L13>0,animals!L13,"") -> 1.8 | L7: =IF(animals!L15>0,animals!L15,"") -> 5.4 | M7: =IF(animals!L17>0,animals!L17,"") -> 5.8 | N7: =IF(animals!L18>0,animals!L18,"") -> 3.6 | O7: =IF(animals!L19>0,animals!L19,"") -> 5.5 | P7: =IF(animals!L20>0,animals!L20,"") -> 3.5 | Q7: =IF(animals!L22>0,animals!L22,"") -> 5.8 | R7: =IF(animals!L23>0,animals!L23,"") -> 4.9 | S7: =IF(animals!L24>0,animals!L24,"") -> 5.8 | T7: =IF(animals!L25>0,animals!L25,"") -> 4.8 | U7: =IF(animals!L27>0,animals!L27,"") -> 6.5 | V7: =IF(animals!L28>0,animals!L28,"") -> 3.3 | W7: =IF(animals!L29>0,animals!L29,"") -> 6.1 | X7: =IF(animals!L30>0,animals!L30,"") -> 3.3 | Y7: =IF(animals!L32>0,animals!L32,"") -> 6.9 | Z7: =IF(animals!L33>0,animals!L33,"") -> 4.4 | AA7: =IF(animals!L34>0,animals!L34,"") -> 6.9 | AB7: =IF(animals!L35>0,animals!L35,"") -> 3.3
A8: =A$2 -> Minibiotus jonesorum | B8: US.198.03 | C8: =animals!N1 -> 7 | D8: =IF(animals!N3>0,animals!N3,"") -> 237.7 | E8: =IF(animals!N5>0,animals!N5,"") -> 21.9 | F8: =IF(animals!N6>0,animals!N6,"") -> 14.4 | G8: =IF(animals!N7>0,animals!N7,"") -> 2.1 | H8: =IF(animals!N8>0,animals!N8,"") -> 0.6 | I8: =IF(animals!N11>0,animals!N11,"") -> 2.6 | J8: =IF(animals!N12>0,animals!N12,"") -> 2 | K8: =IF(animals!N13>0,animals!N13,"") -> 2.3 | L8: =IF(animals!N15>0,animals!N15,"") -> 7 | M8: =IF(animals!N17>0,animals!N17,"") -> 7 | N8: =IF(animals!N18>0,animals!N18,"") -> 5.2 | O8: =IF(animals!N19>0,animals!N19,"") -> 6.7 | P8: =IF(animals!N20>0,animals!N20,"") -> 5 | Q8: =IF(animals!N22>0,animals!N22,"") -> 6.9 | R8: =IF(animals!N23>0,animals!N23,"") -> 4 | S8: =IF(animals!N24>0,animals!N24,"") -> 6.9 | T8: =IF(animals!N25>0,animals!N25,"") -> 3.8 | U8: =IF(animals!N27>0,animals!N27,"") -> 7.5 | V8: =IF(animals!N28>0,animals!N28,"") -> 5 | W8: =IF(animals!N29>0,animals!N29,"") -> 7.1 | X8: =IF(animals!N30>0,animals!N30,"") -> 4.9 | Y8: =IF(animals!N32>0,animals!N32,"") -> 7.9 | Z8: =IF(animals!N33>0,animals!N33,"") -> 6.3 | AA8: =IF(animals!N34>0,animals!N34,"") -> 7.4 | AB8: =IF(animals!N35>0,animals!N35,"") -> 5.2
A9: =A$2 -> Minibiotus jonesorum | B9: US.198.03 | C9: =animals!P1 -> 8 | D9: =IF(animals!P3>0,animals!P3,"") -> 170.1 | E9: =IF(animals!P5>0,animals!P5,"") -> 19.1 | F9: =IF(animals!P6>0,animals!P6,"") -> 12.4 | G9: =IF(animals!P7>0,animals!P7,"") -> 1.6 | H9: =IF(animals!P8>0,animals!P8,"") -> 0.5 | I9: =IF(animals!P11>0,animals!P11,"") -> 2.1 | J9: =IF(animals!P12>0,animals!P12,"") -> 1.4 | K9: =IF(animals!P13>0,animals!P13,"") -> 1.9 | L9: =IF(animals!P15>0,animals!P15,"") -> 5.8 | M9: =IF(animals!P17>0,animals!P17,"") -> 6.3 | N9: =IF(animals!P18>0,animals!P18,"") -> 3.7 | O9: =IF(animals!P19>0,animals!P19,"") -> 5.6 | P9: =IF(animals!P20>0,animals!P20,"") -> 3.5 | Q9: =IF(animals!P22>0,animals!P22,"") -> 6.5 | R9: =IF(animals!P23>0,animals!P23,"") -> 3.9 | S9: =IF(animals!P24>0,animals!P24,"") -> 5.1 | T9: =IF(animals!P25>0,animals!P25,"") -> 3.4 | U9: =IF(animals!P27>0,animals!P27,"") -> 6.6 | V9: =IF(animals!P28>0,animals!P28,"") -> 3.5 | W9: =IF(animals!P29>0,animals!P29,"") -> 5.4 | X9: =IF(animals!P30>0,animals!P30,"") -> 3.4 | Y9: =IF(animals!P32>0,animals!P32,"") -> 6.7 | Z9: =IF(animals!P33>0,animals!P33,"") -> 4.3 | AA9: =IF(animals!P34>0,animals!P34,"") -> 6.1 | AB9: =IF(animals!P35>0,animals!P35,"") -> 3.5
A10: =A$2 -> Minibiotus jonesorum | B10: US.198.04 | C10: =animals!R1 -> 9 | D10: =IF(animals!R3>0,animals!R3,"") -> 187 | E10: =IF(animals!R5>0,animals!R5,"") -> 21.9 | F10: =IF(animals!R6>0,animals!R6,"") -> 14.9 | G10: =IF(animals!R7>0,animals!R7,"") -> 2.3 | H10: =IF(animals!R8>0,animals!R8,"") -> 0.6 | I10: =IF(animals!R11>0,animals!R11,"") -> 2.7 | J10: =IF(animals!R12>0,animals!R12,"") -> 1.9 | K10: =IF(animals!R13>0,animals!R13,"") -> 2.1 | L10: =IF(animals!R15>0,animals!R15,"") -> 6.6 | M10: =IF(animals!R17>0,animals!R17,"") -> 6.7 | N10: =IF(animals!R18>0,animals!R18,"") -> 4.7 | O10: =IF(animals!R19>0,animals!R19,"") -> 6.5 | P10: =IF(animals!R20>0,animals!R20,"") -> 4.6 | Q10: =IF(animals!R22>0,animals!R22,"") -> 6.5 | R10: =IF(animals!R23>0,animals!R23,"") -> 5.4 | S10: =IF(animals!R24>0,animals!R24,"") -> 6.5 | T10: =IF(animals!R25>0,animals!R25,"") -> 4.5 | U10: =IF(animals!R27>0,animals!R27,"") -> 7.1 | V10: =IF(animals!R28>0,animals!R28,"") -> 5.2 | W10: =IF(animals!R29>0,animals!R29,"") -> 7.1 | X10: =IF(animals!R30>0,animals!R30,"") -> 5 | Y10: =IF(animals!R32>0,animals!R32,"") -> 7.5 | Z10: =IF(animals!R33>0,animals!R33,"") -> 5.1 | AA10: =IF(animals!R34>0,animals!R34,"") -> 7.1 | AB10: =IF(animals!R35>0,animals!R35,"") -> 4.9
A11: =A$2 -> Minibiotus jonesorum | B11: US.198.05 | C11: =animals!T1 -> 10 | D11: =IF(animals!T3>0,animals!T3,"") -> 144.7 | E11: =IF(animals!T5>0,animals!T5,"") -> 20.4 | F11: =IF(animals!T6>0,animals!T6,"") -> 13.3 | G11: =IF(animals!T7>0,animals!T7,"") -> 1.9 | H11: =IF(animals!T8>0,animals!T8,"") -> 0.5 | I11: =IF(animals!T11>0,animals!T11,"") -> 2.4 | J11: =IF(animals!T12>0,animals!T12,"") -> 1.6 | K11: =IF(animals!T13>0,animals!T13,"") -> 1.9 | L11: =IF(animals!T15>0,animals!T15,"") -> 6.3 | M11: =IF(animals!T17>0,animals!T17,"") -> 5.9 | N11: =IF(animals!T18>0,animals!T18,"") -> 3.5 | O11: =IF(animals!T19>0,animals!T19,"") -> 5.7 | P11: =IF(animals!T20>0,animals!T20,"") -> 3.5 | Q11: =IF(animals!T22>0,animals!T22,"") -> 6.1 | R11: =IF(animals!T23>0,animals!T23,"") -> 4.2 | S11: =IF(animals!T24>0,animals!T24,"") -> 5.8 | T11: =IF(animals!T25>0,animals!T25,"") -> 3.3 | U11: =IF(animals!T27>0,animals!T27,"") -> 5.4 | V11: =IF(animals!T28>0,animals!T28,"") -> 3.8 | W11: =IF(animals!T29>0,animals!T29,"") -> 5.2 | X11: =IF(animals!T30>0,animals!T30,"") -> 2.6 | Y11: =IF(animals!T32>0,animals!T32,"") -> 7.1 | Z11: =IF(animals!T33>0,animals!T33,"") -> 4.3 | AA11: =IF(animals!T34>0,animals!T34,"") -> 6.3 | AB11: =IF(animals!T35>0,animals!T35,"") -> 3.6
A12: =A$2 -> Minibiotus jonesorum | B12: US.198.06 | C12: =animals!V1 -> 11 | D12: =IF(animals!V3>0,animals!V3,"") -> 222.1 | E12: =IF(animals!V5>0,animals!V5,"") -> 23.8 | F12: =IF(animals!V6>0,animals!V6,"") -> 15.6 | G12: =IF(animals!V7>0,animals!V7,"") -> 2.3 | H12: =IF(animals!V8>0,animals!V8,"") -> 0.7 | I12: =IF(animals!V11>0,animals!V11,"") -> 3 | J12: =IF(animals!V12>0,animals!V12,"") -> 2.1 | K12: =IF(animals!V13>0,animals!V13,"") -> 2.1 | L12: =IF(animals!V15>0,animals!V15,"") -> 7.9 | M12: =IF(animals!V17>0,animals!V17,"") -> 7.8 | N12: =IF(animals!V18>0,animals!V18,"") -> 5.4 | O12: =IF(animals!V19>0,animals!V19,"") -> 7 | P12: =IF(animals!V20>0,animals!V20,"") -> 5.1 | Q12: =IF(animals!V22>0,animals!V22,"") -> 7.8 | R12: =IF(animals!V23>0,animals!V23,"") -> 5.5 | S12: =IF(animals!V24>0,animals!V24,"") -> 7.2 | T12: =IF(animals!V25>0,animals!V25,"") -> 5.1 | U12: =IF(animals!V27>0,animals!V27,"") -> 7.5 | V12: =IF(animals!V28>0,animals!V28,"") -> 5.6 | W12: =IF(animals!V29>0,animals!V29,"") -> 6.9 | X12: =IF(animals!V30>0,animals!V30,"") -> 5.1 | Y12: =IF(animals!V32>0,animals!V32,"") -> 8.9 | Z12: =IF(animals!V33>0,animals!V33,"") -> 7.3 | AA12: =IF(animals!V34>0,animals!V34,"") -> 8.1 | AB12: =IF(animals!V35>0,animals!V35,"") -> 5.4
A13: =A$2 -> Minibiotus jonesorum | B13: US.199.01 | C13: =animals!X1 -> 12 | D13: =IF(animals!X3>0,animals!X3,"") -> 300.5 | E13: =IF(animals!X5>0,animals!X5,"") -> 27.5 | F13: =IF(animals!X6>0,animals!X6,"") -> 18.4 | G13: =IF(animals!X7>0,animals!X7,"") -> 2.4 | H13: =IF(animals!X8>0,animals!X8,"") -> 0.8 | I13: =IF(animals!X11>0,animals!X11,"") -> 3.3 | J13: =IF(animals!X12>0,animals!X12,"") -> 2.1 | K13: =IF(animals!X13>0,animals!X13,"") -> 2.4 | L13: =IF(animals!X15>0,animals!X15,"") -> 8.9 | M13: =IF(animals!X17>0,animals!X17,"") -> 8.8 | N13: =IF(animals!X18>0,animals!X18,"") -> 6.6 | O13: =IF(animals!X19>0,animals!X19,"") -> 8.7 | P13: =IF(animals!X20>0,animals!X20,"") -> 6.5 | Q13: =IF(animals!X22>0,animals!X22,"") -> 8.7 | R13: =IF(animals!X23>0,animals!X23,"") -> 6.7 | S13: =IF(animals!X24>0,animals!X24,"") -> 8.2 | T13: =IF(animals!X25>0,animals!X25,"") -> 6.1 | U13: =IF(animals!X27>0,animals!X27,"") -> 9.4 | V13: =IF(animals!X28>0,animals!X28,"") -> 7.4 | W13: =IF(animals!X29>0,animals!X29,"") -> 9.2 | X13: =IF(animals!X30>0,animals!X30,"") -> 6.7 | Y13: =IF(animals!X32>0,animals!X32,"") -> 11.7 | Z13: =IF(animals!X33>0,animals!X33,"") -> 8.8 | AA13: =IF(animals!X34>0,animals!X34,"") -> 11.2 | AB13: =IF(animals!X35>0,animals!X35,"") -> 8.5
A14: =A$2 -> Minibiotus jonesorum | B14: US.199.02 | C14: =animals!Z1 -> 13 | D14: =IF(animals!Z3>0,animals!Z3,"") -> 323 | E14: =IF(animals!Z5>0,animals!Z5,"") -> 28.4 | F14: =IF(animals!Z6>0,animals!Z6,"") -> 19.1 | G14: =IF(animals!Z7>0,animals!Z7,"") -> 2.8 | H14: =IF(animals!Z8>0,animals!Z8,"") -> 0.7 | I14: =IF(animals!Z11>0,animals!Z11,"") -> 3.5 | J14: =IF(animals!Z12>0,animals!Z12,"") -> 2.6 | K14: =IF(animals!Z13>0,animals!Z13,"") -> 2.8 | L14: =IF(animals!Z15>0,animals!Z15,"") -> 9.5 | M14: =IF(animals!Z17>0,animals!Z17,"") -> 9.8 | N14: =IF(animals!Z18>0,animals!Z18,"") -> 7.8 | O14: =IF(animals!Z19>0,animals!Z19,"") -> 9.1 | P14: =IF(animals!Z20>0,animals!Z20,"") -> 7.4 | Q14: =IF(animals!Z22>0,animals!Z22,"") -> 10 | R14: =IF(animals!Z23>0,animals!Z23,"") -> 8.4 | S14: =IF(animals!Z24>0,animals!Z24,"") -> 9.4 | T14: =IF(animals!Z25>0,animals!Z25,"") -> 7.1 | U14: =IF(animals!Z27>0,animals!Z27,"") -> 9.7 | V14: =IF(animals!Z28>0,animals!Z28,"") -> 7.9 | W14: =IF(animals!Z29>0,animals!Z29,"") -> 8.9 | X14: =IF(animals!Z30>0,animals!Z30,"") -> 7.1 | Y14: =IF(animals!Z32>0,animals!Z32,"") -> 11.2 | Z14: =IF(animals!Z33>0,animals!Z33,"") -> 8.5 | AA14: =IF(animals!Z34>0,animals!Z34,"") -> 10.9 | AB14: =IF(animals!Z35>0,animals!Z35,"") -> 8.4
A15: =A$2 -> Minibiotus jonesorum | B15: US.199.03 | C15: =animals!AB1 -> 14 | D15: =IF(animals!AB3>0,animals!AB3,"") -> 344.9 | E15: =IF(animals!AB5>0,animals!AB5,"") -> 27.9 | F15: =IF(animals!AB6>0,animals!AB6,"") -> 19.2 | G15: =IF(animals!AB7>0,animals!AB7,"") -> 2.8 | H15: =IF(animals!AB8>0,animals!AB8,"") -> 0.9 | I15: =IF(animals!AB11>0,animals!AB11,"") -> 3.6 | J15: =IF(animals!AB12>0,animals!AB12,"") -> 2.6 | K15: =IF(animals!AB13>0,animals!AB13,"") -> 3.1 | L15: =IF(animals!AB15>0,animals!AB15,"") -> 9.5 | M15: =IF(animals!AB17>0,animals!AB17,"") -> 8.5 | N15: =IF(animals!AB18>0,animals!AB18,"") -> 5.3 | O15: =IF(animals!AB19>0,animals!AB19,"") -> 8.3 | P15: =IF(animals!AB20>0,animals!AB20,"") -> 5.3 | Q15: =IF(animals!AB22>0,animals!AB22,"") -> 9.4 | R15: =IF(animals!AB23>0,animals!AB23,"") -> 7.6 | S15: =IF(animals!AB24>0,animals!AB24,"") -> 9.1 | T15: =IF(animals!AB25>0,animals!AB25,"") -> 7.1 | U15: =IF(animals!AB27>0,animals!AB27,"") -> 10.2 | V15: =IF(animals!AB28>0,animals!AB28,"") -> 7.7 | W15: =IF(animals!AB29>0,animals!AB29,"") -> 9.8 | X15: =IF(animals!AB30>0,animals!AB30,"") -> 6.7 | Y15: =IF(animals!AB32>0,animals!AB32,"") -> 11.2 | Z15: =IF(animals!AB33>0,animals!AB33,"") -> 8.6 | AA15: =IF(animals!AB34>0,animals!AB34,"") -> 9.9 | AB15: =IF(animals!AB35>0,animals!AB35,"") -> 7.5
A16: =A$2 -> Minibiotus jonesorum | B16: US.199.04 | C16: =animals!AD1 -> 15 | D16: =IF(animals!AD3>0,animals!AD3,"") -> 389.7 | E16: =IF(animals!AD5>0,animals!AD5,"") -> 30.7 | F16: =IF(animals!AD6>0,animals!AD6,"") -> 20.9 | G16: =IF(animals!AD7>0,animals!AD7,"") -> 2.8 | H16: =IF(animals!AD8>0,animals!AD8,"") -> 1.2 | I16: =IF(animals!AD11>0,animals!AD11,"") -> 3.7 | J16: =IF(animals!AD12>0,animals!AD12,"") -> 2.8 | K16: =IF(animals!AD13>0,animals!AD13,"") -> 2.9 | L16: =IF(animals!AD15>0,animals!AD15,"") -> 10.2 | M16: =IF(animals!AD17>0,animals!AD17,"") -> 10.9 | N16: =IF(animals!AD18>0,animals!AD18,"") -> 8.7 | O16: =IF(animals!AD19>0,animals!AD19,"") -> 10.4 | P16: =IF(animals!AD20>0,animals!AD20,"") -> 7.4 | Q16: =IF(animals!AD22>0,animals!AD22,"") -> 10.5 | R16: =IF(animals!AD23>0,animals!AD23,"") -> 8.8 | S16: =IF(animals!AD24>0,animals!AD24,"") -> 10.1 | T16: =IF(animals!AD25>0,animals!AD25,"") -> 6.9 | U16: =IF(animals!AD27>0,animals!AD27,"") -> 10.1 | V16: =IF(animals!AD28>0,animals!AD28,"") -> 8 | W16: =IF(animals!AD29>0,animals!AD29,"") -> 9.9 | X16: =IF(animals!AD30>0,animals!AD30,"") -> 7.5 | Y16: =IF(animals!AD32>0,animals!AD32,"") -> 12.2 | Z16: =IF(animals!AD33>0,animals!AD33,"") -> 9.2 | AA16: =IF(animals!AD34>0,animals!AD34,"") -> 11.7 | AB16: =IF(animals!AD35>0,animals!AD35,"") -> 9.2
A17: =A$2 -> Minibiotus jonesorum | B17: US.199.04 | C17: =animals!AF1 -> 16 | D17: =IF(animals!AF3>0,animals!AF3,"") -> 295 | E17: =IF(animals!AF5>0,animals!AF5,"") -> 25.8 | F17: =IF(animals!AF6>0,animals!AF6,"") -> 17.2 | G17: =IF(animals!AF7>0,animals!AF7,"") -> 2.3 | H17: =IF(animals!AF8>0,animals!AF8,"") -> 0.7 | I17: =IF(animals!AF11>0,animals!AF11,"") -> 2.8 | J17: =IF(animals!AF12>0,animals!AF12,"") -> 2.3 | K17: =IF(animals!AF13>0,animals!AF13,"") -> 2.6 | L17: =IF(animals!AF15>0,animals!AF15,"") -> 8.8 | M17: =IF(animals!AF17>0,animals!AF17,"") -> 8.2 | N17: =IF(animals!AF18>0,animals!AF18,"") -> 5.8 | O17: =IF(animals!AF19>0,animals!AF19,"") -> 8.2 | P17: =IF(animals!AF20>0,animals!AF20,"") -> 5.7 | Q17: =IF(animals!AF22>0,animals!AF22,"") -> 8.8 | R17: =IF(animals!AF23>0,animals!AF23,"") -> 6.6 | S17: =IF(animals!AF24>0,animals!AF24,"") -> 8.6 | T17: =IF(animals!AF25>0,animals!AF25,"") -> 6.4 | U17: =IF(animals!AF27>0,animals!AF27,"") -> 9.2 | V17: =IF(animals!AF28>0,animals!AF28,"") -> 7 | W17: =IF(animals!AF29>0,animals!AF29,"") -> 8.8 | X17: =IF(animals!AF30>0,animals!AF30,"") -> 6.7 | Y17: =IF(animals!AF32>0,animals!AF32,"") -> 11 | Z17: =IF(animals!AF33>0,animals!AF33,"") -> 7.6 | AA17: =IF(animals!AF34>0,animals!AF34,"") -> 10.6 | AB17: =IF(animals!AF35>0,animals!AF35,"") -> 7.1
A18: =A$2 -> Minibiotus jonesorum | B18: US.200.02 | C18: =animals!AH1 -> 17 | D18: =IF(animals!AH3>0,animals!AH3,"") -> 410.1 | E18: =IF(animals!AH5>0,animals!AH5,"") -> 33.3 | F18: =IF(animals!AH6>0,animals!AH6,"") -> 23.1 | G18: =IF(animals!AH7>0,animals!AH7,"") -> 3.2 | H18: =IF(animals!AH8>0,animals!AH8,"") -> 1.3 | I18: =IF(animals!AH11>0,animals!AH11,"") -> 4.6 | J18: =IF(animals!AH12>0,animals!AH12,"") -> 2.6 | K18: =IF(animals!AH13>0,animals!AH13,"") -> 3.3 | L18: =IF(animals!AH15>0,animals!AH15,"") -> 11.7 | M18: =IF(animals!AH17>0,animals!AH17,"") -> 10.4 | N18: =IF(animals!AH18>0,animals!AH18,"") -> 8.2 | O18: =IF(animals!AH19>0,animals!AH19,"") -> 9.1 | P18: =IF(animals!AH20>0,animals!AH20,"") -> 7.9 | Q18: =IF(animals!AH22>0,animals!AH22,"") -> 11.8 | R18: =IF(animals!AH23>0,animals!AH23,"") -> 8.4 | S18: =IF(animals!AH24>0,animals!AH24,"") -> 11 | T18: =IF(animals!AH25>0,animals!AH25,"") -> 7.7 | U18: =IF(animals!AH27>0,animals!AH27,"") -> 10.9 | V18: =IF(animals!AH28>0,animals!AH28,"") -> 8.1 | W18: =IF(animals!AH29>0,animals!AH29,"") -> 10.7 | X18: =IF(animals!AH30>0,animals!AH30,"") -> 7.3 | Y18: =IF(animals!AH32>0,animals!AH32,"") -> 13.3 | Z18: =IF(animals!AH33>0,animals!AH33,"") -> 10 | AA18: =IF(animals!AH34>0,animals!AH34,"") -> 12.7 | AB18: =IF(animals!AH35>0,animals!AH35,"") -> 9.6
A19: =A$2 -> Minibiotus jonesorum | B19: US.200.03 | C19: =animals!AJ1 -> 18 | D19: =IF(animals!AJ3>0,animals!AJ3,"") -> 312.5 | E19: =IF(animals!AJ5>0,animals!AJ5,"") -> 28.2 | F19: =IF(animals!AJ6>0,animals!AJ6,"") -> 18.7 | G19: =IF(animals!AJ7>0,animals!AJ7,"") -> 2.6 | H19: =IF(animals!AJ8>0,animals!AJ8,"") -> 0.7 | I19: =IF(animals!AJ11>0,animals!AJ11,"") -> 3 | J19: =IF(animals!AJ12>0,animals!AJ12,"") -> 2 | K19: =IF(animals!AJ13>0,animals!AJ13,"") -> 2.7 | L19: =IF(animals!AJ15>0,animals!AJ15,"") -> 9.5 | M19: =IF(animals!AJ17>0,animals!AJ17,"") -> 9.6 | N19: =IF(animals!AJ18>0,animals!AJ18,"") -> 8.3 | O19: =IF(animals!AJ19>0,animals!AJ19,"") -> 8.6 | P19: =IF(animals!AJ20>0,animals!AJ20,"") -> 7.1 | Q19: =IF(animals!AJ22>0,animals!AJ22,"") -> 9.5 | R19: =IF(animals!AJ23>0,animals!AJ23,"") -> 7.2 | S19: =IF(animals!AJ24>0,animals!AJ24,"") -> 9.3 | T19: =IF(animals!AJ25>0,animals!AJ25,"") -> 7 | U19: =IF(animals!AJ27>0,animals!AJ27,"") -> 9.6 | V19: =IF(animals!AJ28>0,animals!AJ28,"") -> 7.4 | W19: =IF(animals!AJ29>0,animals!AJ29,"") -> 9.4 | X19: =IF(animals!AJ30>0,animals!AJ30,"") -> 7 | Y19: =IF(animals!AJ32>0,animals!AJ32,"") -> 11.2 | Z19: =IF(animals!AJ33>0,animals!AJ33,"") -> 8.5 | AA19: =IF(animals!AJ34>0,animals!AJ34,"") -> 10.2 | AB19: =IF(animals!AJ35>0,animals!AJ35,"") -> 6.1
A20: =A$2 -> Minibiotus jonesorum | B20: US.200.03 | C20: =animals!AL1 -> 19 | D20: =IF(animals!AL3>0,animals!AL3,"") -> 329.1 | E20: =IF(animals!AL5>0,animals!AL5,"") -> 31.1 | F20: =IF(animals!AL6>0,animals!AL6,"") -> 21.1 | G20: =IF(animals!AL7>0,animals!AL7,"") -> 2.6 | H20: =IF(animals!AL8>0,animals!AL8,"") -> 0.9 | I20: =IF(animals!AL11>0,animals!AL11,"") -> 3.8 | J20: =IF(animals!AL12>0,animals!AL12,"") -> 2.9 | K20: =IF(animals!AL13>0,animals!AL13,"") -> 3.1 | L20: =IF(animals!AL15>0,animals!AL15,"") -> 10.8 | M20: =IF(animals!AL17>0,animals!AL17,"") -> 9.7 | N20: =IF(animals!AL18>0,animals!AL18,"") -> 8.3 | O20: =IF(animals!AL19>0,animals!AL19,"") -> 9.4 | P20: =IF(animals!AL20>0,animals!AL20,"") -> 7.3 | Q20: =IF(animals!AL22>0,animals!AL22,"") -> 10.9 | R20: =IF(animals!AL23>0,animals!AL23,"") -> 8.5 | S20: =IF(animals!AL24>0,animals!AL24,"") -> 8.6 | T20: =IF(animals!AL25>0,animals!AL25,"") -> 5.3 | U20: =IF(animals!AL27>0,animals!AL27,"") -> 10.1 | V20: =IF(animals!AL28>0,animals!AL28,"") -> 7.4 | W20: =IF(animals!AL29>0,animals!AL29,"") -> 9.5 | X20: =IF(animals!AL30>0,animals!AL30,"") -> 7.4 | Y20: =IF(animals!AL32>0,animals!AL32,"") -> 11.9 | Z20: =IF(animals!AL33>0,animals!AL33,"") -> 10.1 | AA20: =IF(animals!AL34>0,animals!AL34,"") -> 11.3 | AB20: =IF(animals!AL35>0,animals!AL35,"") -> 7.8
A21: =A$2 -> Minibiotus jonesorum | B21: US.200.03 | C21: =animals!AN1 -> 20 | D21: =IF(animals!AN3>0,animals!AN3,"") -> 257.1 | E21: =IF(animals!AN5>0,animals!AN5,"") -> 25.7 | F21: =IF(animals!AN6>0,animals!AN6,"") -> 17.3 | G21: =IF(animals!AN7>0,animals!AN7,"") -> 2.3 | H21: =IF(animals!AN8>0,animals!AN8,"") -> 0.5 | I21: =IF(animals!AN11>0,animals!AN11,"") -> 3.3 | J21: =IF(animals!AN12>0,animals!AN12,"") -> 2.1 | K21: =IF(animals!AN13>0,animals!AN13,"") -> 2.7 | L21: =IF(animals!AN15>0,animals!AN15,"") -> 8.4 | M21: =IF(animals!AN17>0,animals!AN17,"") -> 8.2 | N21: =IF(animals!AN18>0,animals!AN18,"") -> 6.2 | O21: =IF(animals!AN19>0,animals!AN19,"") -> 7.9 | P21: =IF(animals!AN20>0,animals!AN20,"") -> 6.1 | Q21: =IF(animals!AN22>0,animals!AN22,"") -> 8.9 | R21: =IF(animals!AN23>0,animals!AN23,"") -> 6.3 | S21: =IF(animals!AN24>0,animals!AN24,"") -> 8.2 | T21: =IF(animals!AN25>0,animals!AN25,"") -> 6 | U21: =IF(animals!AN27>0,animals!AN27,"") -> 8.1 | V21: =IF(animals!AN28>0,animals!AN28,"") -> 6.3 | W21: =IF(animals!AN29>0,animals!AN29,"") -> 7.7 | X21: =IF(animals!AN30>0,animals!AN30,"") -> 5.2 | Y21: =IF(animals!AN32>0,animals!AN32,"") -> 9.4 | Z21: =IF(animals!AN33>0,animals!AN33,"") -> 5.9 | AA21: =IF(animals!AN34>0,animals!AN34,"") -> 8.7 | AB21: =IF(animals!AN35>0,animals!AN35,"") -> 5.7
A22: =A$2 -> Minibiotus jonesorum | B22: US.200.03 | C22: =animals!AP1 -> 21 | D22: =IF(animals!AP3>0,animals!AP3,"") -> 138.3 | E22: =IF(animals!AP5>0,animals!AP5,"") -> 20.9 | F22: =IF(animals!AP6>0,animals!AP6,"") -> 14.7 | G22: =IF(animals!AP7>0,animals!AP7,"") -> 2 | H22: =IF(animals!AP8>0,animals!AP8,"") -> 0.4 | I22: =IF(animals!AP11>0,animals!AP11,"") -> 2.4 | J22: =IF(animals!AP12>0,animals!AP12,"") -> 1.9 | K22: =IF(animals!AP13>0,animals!AP13,"") -> 1.9 | L22: =IF(animals!AP15>0,animals!AP15,"") -> 5.9 | M22: =IF(animals!AP17>0,animals!AP17,"") -> 7.1 | N22: =IF(animals!AP18>0,animals!AP18,"") -> 4.4 | O22: =IF(animals!AP19>0,animals!AP19,"") -> 6.5 | P22: =IF(animals!AP20>0,animals!AP20,"") -> 4.1 | Q22: =IF(animals!AP22>0,animals!AP22,"") -> 5.9 | R22: =IF(animals!AP23>0,animals!AP23,"") -> 4 | S22: =IF(animals!AP24>0,animals!AP24,"") -> 5.8 | T22: =IF(animals!AP25>0,animals!AP25,"") -> 3.1 | U22: =IF(animals!AP27>0,animals!AP27,"") -> 5.9 | V22: =IF(animals!AP28>0,animals!AP28,"") -> 3.8 | W22: =IF(animals!AP29>0,animals!AP29,"") -> 5.5 | X22: =IF(animals!AP30>0,animals!AP30,"") -> 2.7 | Y22: =IF(animals!AP32>0,animals!AP32,"") -> 6.7 | Z22: =IF(animals!AP33>0,animals!AP33,"") -> 3.8 | AA22: =IF(animals!AP34>0,animals!AP34,"") -> 6.3 | AB22: =IF(animals!AP35>0,animals!AP35,"") -> 3.7
A23: =A$2 -> Minibiotus jonesorum | B23: US.200.04 | C23: =animals!AR1 -> 22 | D23: =IF(animals!AR3>0,animals!AR3,"") -> 160.7 | E23: =IF(animals!AR5>0,animals!AR5,"") -> 19 | F23: =IF(animals!AR6>0,animals!AR6,"") -> 14 | G23: =IF(animals!AR7>0,animals!AR7,"") -> 1.9 | H23: =IF(animals!AR8>0,animals!AR8,"") -> 0.4 | I23: =IF(animals!AR11>0,animals!AR11,"") -> 2.6 | J23: =IF(animals!AR12>0,animals!AR12,"") -> 1.6 | K23: =IF(animals!AR13>0,animals!AR13,"") -> 2.5 | L23: =IF(animals!AR15>0,animals!AR15,"") -> 7.2 | M23: =IF(animals!AR17>0,animals!AR17,"") -> 3.7 | N23: =IF(animals!AR18>0,animals!AR18,"") -> 3.5 | O23: =IF(animals!AR19>0,animals!AR19,"") -> 6 | P23: =IF(animals!AR20>0,animals!AR20,"") -> 3.5 | Q23: =IF(animals!AR22>0,animals!AR22,"") -> 6.5 | R23: =IF(animals!AR23>0,animals!AR23,"") -> 3.8 | S23: =IF(animals!AR24>0,animals!AR24,"") -> 6.3 | T23: =IF(animals!AR25>0,animals!AR25,"") -> 3.3 | U23: =IF(animals!AR27>0,animals!AR27,"") -> 7.1 | V23: =IF(animals!AR28>0,animals!AR28,"") -> 3.7 | W23: =IF(animals!AR29>0,animals!AR29,"") -> 6.3 | X23: =IF(animals!AR30>0,animals!AR30,"") -> 3.6 | Y23: =IF(animals!AR32>0,animals!AR32,"") -> 7 | Z23: =IF(animals!AR33>0,animals!AR33,"") -> 4.5 | AA23: =IF(animals!AR34>0,animals!AR34,"") -> 6.9 | AB23: =IF(animals!AR35>0,animals!AR35,"") -> 3.3
A24: =A$2 -> Minibiotus jonesorum | B24: US.200.05 | C24: =animals!AT1 -> 23 | D24: =IF(animals!AT3>0,animals!AT3,"") -> 397.2 | E24: =IF(animals!AT5>0,animals!AT5,"") -> 31 | F24: =IF(animals!AT6>0,animals!AT6,"") -> 20.4 | G24: =IF(animals!AT7>0,animals!AT7,"") -> 2.9 | H24: =IF(animals!AT8>0,animals!AT8,"") -> 1 | I24: =IF(animals!AT11>0,animals!AT11,"") -> 4.1 | J24: =IF(animals!AT12>0,animals!AT12,"") -> 2.9 | K24: =IF(animals!AT13>0,animals!AT13,"") -> 3.2 | L24: =IF(animals!AT15>0,animals!AT15,"") -> 10.9 | M24: =IF(animals!AT17>0,animals!AT17,"") -> 11 | N24: =IF(animals!AT18>0,animals!AT18,"") -> 8.4 | O24: =IF(animals!AT19>0,animals!AT19,"") -> 11 | P24: =IF(animals!AT20>0,animals!AT20,"") -> 7.7 | Q24: =IF(animals!AT22>0,animals!AT22,"") -> 11.6 | R24: =IF(animals!AT23>0,animals!AT23,"") -> 9 | S24: =IF(animals!AT24>0,animals!AT24,"") -> 11.2 | T24: =IF(animals!AT25>0,animals!AT25,"") -> 8.1 | U24: =IF(animals!AT27>0,animals!AT27,"") -> 9.8 | V24: =IF(animals!AT28>0,animals!AT28,"") -> 8.3 | W24: =IF(animals!AT29>0,animals!AT29,"") -> 9.5 | X24: =IF(animals!AT30>0,animals!AT30,"") -> 6.2 | Y24: =IF(animals!AT32>0,animals!AT32,"") -> 14.2 | Z24: =IF(animals!AT33>0,animals!AT33,"") -> 10.7 | AA24: =IF(animals!AT34>0,animals!AT34,"") -> 14 | AB24: =IF(animals!AT35>0,animals!AT35,"") -> 10.5
A25: =A$2 -> Minibiotus jonesorum | B25: US.200.06 | C25: =animals!AV1 -> 24 | D25: =IF(animals!AV3>0,animals!AV3,"") -> 152.5 | E25: =IF(animals!AV5>0,animals!AV5,"") -> 20.1 | F25: =IF(animals!AV6>0,animals!AV6,"") -> 13 | G25: =IF(animals!AV7>0,animals!AV7,"") -> 2.1 | H25: =IF(animals!AV8>0,animals!AV8,"") -> 0.5 | I25: =IF(animals!AV11>0,animals!AV11,"") -> 2.6 | J25: =IF(animals!AV12>0,animals!AV12,"") -> 1.4 | K25: =IF(animals!AV13>0,animals!AV13,"") -> 1.9 | L25: =IF(animals!AV15>0,animals!AV15,"") -> 6.8 | M25: =IF(animals!AV17>0,animals!AV17,"") -> 6.8 | N25: =IF(animals!AV18>0,animals!AV18,"") -> 4.2 | O25: =IF(animals!AV19>0,animals!AV19,"") -> 6.2 | P25: =IF(animals!AV20>0,animals!AV20,"") -> 3.7 | Q25: =IF(animals!AV22>0,animals!AV22,"") -> 6.7 | R25: =IF(animals!AV23>0,animals!AV23,"") -> 4.5 | S25: =IF(animals!AV24>0,animals!AV24,"") -> 6.5 | T25: =IF(animals!AV25>0,animals!AV25,"") -> 3.9 | U25: =IF(animals!AV27>0,animals!AV27,"") -> 6.8 | V25: =IF(animals!AV28>0,animals!AV28,"") -> 4.4 | W25: =IF(animals!AV29>0,animals!AV29,"") -> 6.3 | X25: =IF(animals!AV30>0,animals!AV30,"") -> 3.1 | Y25: =IF(animals!AV32>0,animals!AV32,"") -> 6.8 | Z25: =IF(animals!AV33>0,animals!AV33,"") -> 4.1 | AA25: =IF(animals!AV34>0,animals!AV34,"") -> 6.7 | AB25: =IF(animals!AV35>0,animals!AV35,"") -> 3.5
A26: =A$2 -> Minibiotus jonesorum | B26: US.200.06 | C26: =animals!AX1 -> 25 | D26: =IF(animals!AX3>0,animals!AX3,"") -> 287.7 | E26: =IF(animals!AX5>0,animals!AX5,"") -> 29.1 | F26: =IF(animals!AX6>0,animals!AX6,"") -> 19.6 | G26: =IF(animals!AX7>0,animals!AX7,"") -> 2.6 | H26: =IF(animals!AX8>0,animals!AX8,"") -> 0.9 | I26: =IF(animals!AX11>0,animals!AX11,"") -> 3.5 | J26: =IF(animals!AX12>0,animals!AX12,"") -> 2.6 | K26: =IF(animals!AX13>0,animals!AX13,"") -> 2.8 | L26: =IF(animals!AX15>0,animals!AX15,"") -> 9.9 | M26: =IF(animals!AX17>0,animals!AX17,"") -> 8.5 | N26: =IF(animals!AX18>0,animals!AX18,"") -> 6.4 | O26: =IF(animals!AX19>0,animals!AX19,"") -> 8.1 | P26: =IF(animals!AX20>0,animals!AX20,"") -> 6 | Q26: =IF(animals!AX22>0,animals!AX22,"") -> 9.1 | R26: =IF(animals!AX23>0,animals!AX23,"") -> 7.4 | S26: =IF(animals!AX24>0,animals!AX24,"") -> 8.3 | T26: =IF(animals!AX25>0,animals!AX25,"") -> 6.1 | U26: =IF(animals!AX27>0,animals!AX27,"") -> 9.9 | V26: =IF(animals!AX28>0,animals!AX28,"") -> 7.4 | W26: =IF(animals!AX29>0,animals!AX29,"") -> 9.4 | X26: =IF(animals!AX30>0,animals!AX30,"") -> 7 | Y26: =IF(animals!AX32>0,animals!AX32,"") -> 10.6 | Z26: =IF(animals!AX33>0,animals!AX33,"") -> 8.9 | AA26: =IF(animals!AX34>0,animals!AX34,"") -> 9.8 | AB26: =IF(animals!AX35>0,animals!AX35,"") -> 7.2
A27: =A$2 -> Minibiotus jonesorum | B27: US.200.07 | C27: =animals!AZ1 -> 26 | D27: =IF(animals!AZ3>0,animals!AZ3,"") -> 311.5 | E27: =IF(animals!AZ5>0,animals!AZ5,"") -> 26.5 | F27: =IF(animals!AZ6>0,animals!AZ6,"") -> 17.9 | G27: =IF(animals!AZ7>0,animals!AZ7,"") -> 2.8 | H27: =IF(animals!AZ8>0,animals!AZ8,"") -> 0.7 | I27: =IF(animals!AZ11>0,animals!AZ11,"") -> 2.8 | J27: =IF(animals!AZ12>0,animals!AZ12,"") -> 2.1 | K27: =IF(animals!AZ13>0,animals!AZ13,"") -> 2.6 | L27: =IF(animals!AZ15>0,animals!AZ15,"") -> 8.6 | M27: =IF(animals!AZ17>0,animals!AZ17,"") -> 8.8 | N27: =IF(animals!AZ18>0,animals!AZ18,"") -> 5.6 | O27: =IF(animals!AZ19>0,animals!AZ19,"") -> 5.3 | P27: =IF(animals!AZ20>0,animals!AZ20,"") -> 4.6 | Q27: =IF(animals!AZ22>0,animals!AZ22,"") -> 8.9 | R27: =IF(animals!AZ23>0,animals!AZ23,"") -> 7.3 | S27: =IF(animals!AZ24>0,animals!AZ24,"") -> 8.2 | T27: =IF(animals!AZ25>0,animals!AZ25,"") -> 4.6 | U27: =IF(animals!AZ27>0,animals!AZ27,"") -> 9.1 | V27: =IF(animals!AZ28>0,animals!AZ28,"") -> 7.1 | W27: =IF(animals!AZ29>0,animals!AZ29,"") -> 9 | X27: =IF(animals!AZ30>0,animals!AZ30,"") -> 6.7 | Y27: =IF(animals!AZ32>0,animals!AZ32,"") -> 10.7 | Z27: =IF(animals!AZ33>0,animals!AZ33,"") -> 7.9 | AA27: =IF(animals!AZ34>0,animals!AZ34,"") -> 10.7 | AB27: =IF(animals!AZ35>0,animals!AZ35,"") -> 7.5
A28: =A$2 -> Minibiotus jonesorum | B28: US.200.07 | C28: =animals!BB1 -> 27 | D28: =IF(animals!BB3>0,animals!BB3,"") -> 302.3 | E28: =IF(animals!BB5>0,animals!BB5,"") -> 27.5 | F28: =IF(animals!BB6>0,animals!BB6,"") -> 18.6 | G28: =IF(animals!BB7>0,animals!BB7,"") -> 2.3 | H28: =IF(animals!BB8>0,animals!BB8,"") -> 0.7 | I28: =IF(animals!BB11>0,animals!BB11,"") -> 3.3 | J28: =IF(animals!BB12>0,animals!BB12,"") -> 2.6 | K28: =IF(animals!BB13>0,animals!BB13,"") -> 3 | L28: =IF(animals!BB15>0,animals!BB15,"") -> 9.6 | M28: =IF(animals!BB17>0,animals!BB17,"") -> 8.4 | N28: =IF(animals!BB18>0,animals!BB18,"") -> 6.5 | O28: =IF(animals!BB19>0,animals!BB19,"") -> 8.2 | P28: =IF(animals!BB20>0,animals!BB20,"") -> 6.1 | Q28: =IF(animals!BB22>0,animals!BB22,"") -> 8.9 | R28: =IF(animals!BB23>0,animals!BB23,"") -> 6.8 | S28: =IF(animals!BB24>0,animals!BB24,"") -> 8.7 | T28: =IF(animals!BB25>0,animals!BB25,"") -> 6.3 | U28: =IF(animals!BB27>0,animals!BB27,"") -> 8.7 | V28: =IF(animals!BB28>0,animals!BB28,"") -> 6.5 | W28: =IF(animals!BB29>0,animals!BB29,"") -> 8.3 | X28: =IF(animals!BB30>0,animals!BB30,"") -> 5.9 | Y28: =IF(animals!BB32>0,animals!BB32,"") -> 11 | Z28: =IF(animals!BB33>0,animals!BB33,"") -> 7 | AA28: =IF(animals!BB34>0,animals!BB34,"") -> 9.8 | AB28: =IF(animals!BB35>0,animals!BB35,"") -> 6.8
A29: =A$2 -> Minibiotus jonesorum | B29: US.200.08 | C29: =animals!BD1 -> 28 | D29: =IF(animals!BD3>0,animals!BD3,"") -> 372.5 | E29: =IF(animals!BD5>0,animals!BD5,"") -> 29.1 | F29: =IF(animals!BD6>0,animals!BD6,"") -> 19.8 | G29: =IF(animals!BD7>0,animals!BD7,"") -> 2.4 | H29: =IF(animals!BD8>0,animals!BD8,"") -> 1 | I29: =IF(animals!BD11>0,animals!BD11,"") -> 3.3 | J29: =IF(animals!BD12>0,animals!BD12,"") -> 2.5 | K29: =IF(animals!BD13>0,animals!BD13,"") -> 2.8 | L29: =IF(animals!BD15>0,animals!BD15,"") -> 10.2 | M29: =IF(animals!BD17>0,animals!BD17,"") -> 9.1 | N29: =IF(animals!BD18>0,animals!BD18,"") -> 6.8 | O29: =IF(animals!BD19>0,animals!BD19,"") -> 8.5 | P29: =IF(animals!BD20>0,animals!BD20,"") -> 6.6 | Q29: =IF(animals!BD22>0,animals!BD22,"") -> 9.5 | R29: =IF(animals!BD23>0,animals!BD23,"") -> 7.3 | S29: =IF(animals!BD24>0,animals!BD24,"") -> 9.1 | T29: =IF(animals!BD25>0,animals!BD25,"") -> 6.7 | U29: =IF(animals!BD27>0,animals!BD27,"") -> 9.9 | V29: =IF(animals!BD28>0,animals!BD28,"") -> 6.5 | W29: =IF(animals!BD29>0,animals!BD29,"") -> 9.6 | X29: =IF(animals!BD30>0,animals!BD30,"") -> 7.2 | Y29: =IF(animals!BD32>0,animals!BD32,"") -> 11.9 | Z29: =IF(animals!BD33>0,animals!BD33,"") -> 7.9 | AA29: =IF(animals!BD34>0,animals!BD34,"") -> 10.4 | AB29: =IF(animals!BD35>0,animals!BD35,"") -> 6.2
A30: =A$2 -> Minibiotus jonesorum | B30: US.200.09 | C30: =animals!BF1 -> 29 | D30: =IF(animals!BF3>0,animals!BF3,"") -> 327.7 | E30: =IF(animals!BF5>0,animals!BF5,"") -> 28.5 | F30: =IF(animals!BF6>0,animals!BF6,"") -> 19.5 | G30: =IF(animals!BF7>0,animals!BF7,"") -> 2.8 | H30: =IF(animals!BF8>0,animals!BF8,"") -> 0.8 | I30: =IF(animals!BF11>0,animals!BF11,"") -> 3.2 | J30: =IF(animals!BF12>0,animals!BF12,"") -> 2.4 | K30: =IF(animals!BF13>0,animals!BF13,"") -> 2.8 | L30: =IF(animals!BF15>0,animals!BF15,"") -> 10 | M30: =IF(animals!BF17>0,animals!BF17,"") -> 8.7 | N30: =IF(animals!BF18>0,animals!BF18,"") -> 6.3 | O30: =IF(animals!BF19>0,animals!BF19,"") -> 8.6 | P30: =IF(animals!BF20>0,animals!BF20,"") -> 5.4 | Q30: =IF(animals!BF22>0,animals!BF22,"") -> 9.6 | R30: =IF(animals!BF23>0,animals!BF23,"") -> 7.7 | S30: =IF(animals!BF24>0,animals!BF24,"") -> 9.4 | T30: =IF(animals!BF25>0,animals!BF25,"") -> 7.5 | U30: =IF(animals!BF27>0,animals!BF27,"") -> 9.6 | V30: =IF(animals!BF28>0,animals!BF28,"") -> 7 | W30: =IF(animals!BF29>0,animals!BF29,"") -> 8.9 | X30: =IF(animals!BF30>0,animals!BF30,"") -> 7 | Y30: =IF(animals!BF32>0,animals!BF32,"") -> 11.4 | Z30: =IF(animals!BF33>0,animals!BF33,"") -> 9 | AA30: =IF(animals!BF34>0,animals!BF34,"") -> 11.2 | AB30: =IF(animals!BF35>0,animals!BF35,"") -> 8.1
A31: =A$2 -> Minibiotus jonesorum | B31: US.200.10 | C31: =animals!BH1 -> 30 | D31: =IF(animals!BH3>0,animals!BH3,"") -> 316.8 | E31: =IF(animals!BH5>0,animals!BH5,"") -> 30.6 | F31: =IF(animals!BH6>0,animals!BH6,"") -> 20.5 | G31: =IF(animals!BH7>0,animals!BH7,"") -> 2.1 | H31: =IF(animals!BH8>0,animals!BH8,"") -> 0.7 | I31: =IF(animals!BH11>0,animals!BH11,"") -> 3.6 | J31: =IF(animals!BH12>0,animals!BH12,"") -> 2.6 | K31: =IF(animals!BH13>0,animals!BH13,"") -> 3.2 | L31: =IF(animals!BH15>0,animals!BH15,"") -> 9.6 | M31: =IF(animals!BH17>0,animals!BH17,"") -> 8.7 | N31: =IF(animals!BH18>0,animals!BH18,"") -> 7.6 | O31: =IF(animals!BH19>0,animals!BH19,"") -> 8.6 | P31: =IF(animals!BH20>0,animals!BH20,"") -> 6.7 | Q31: =IF(animals!BH22>0,animals!BH22,"") -> 9.6 | R31: =IF(animals!BH23>0,animals!BH23,"") -> 7.3 | S31: =IF(animals!BH24>0,animals!BH24,"") -> 9.5 | T31: =IF(animals!BH25>0,animals!BH25,"") -> 7.2 | U31: =IF(animals!BH27>0,animals!BH27,"") -> 9.4 | V31: =IF(animals!BH28>0,animals!BH28,"") -> 7.5 | W31: =IF(animals!BH29>0,animals!BH29,"") -> 9.3 | X31: =IF(animals!BH30>0,animals!BH30,"") -> 6.9 | Y31: =IF(animals!BH32>0,animals!BH32,"") -> 10.9 | Z31: =IF(animals!BH33>0,animals!BH33,"") -> 8 | AA31: =IF(animals!BH34>0,animals!BH34,"") -> 10.7 | AB31: =IF(animals!BH35>0,animals!BH35,"") -> 7.9

Sheet animals (pt)
A1: Species | B1: Population | C1: Individual | D1: Body length | E1: Stylet support insertion point | F1: Buccal tube external width | G1: Buccal tube internal width | H1: Macroplacoid 1 | I1: Macroplacoid 2 | J1: Macroplacoid 3 | K1: Macroplacoid row | L1: Claw I external primary branch | M1: Claw I external secondary branch | N1: Claw I internal primary branch | O1: Claw I internal secondary branch | P1: Claw II external primary branch | Q1: Claw II external secondary branch | R1: Claw II internal primary branch | S1: Claw II internal secondary branch | T1: Claw III external primary branch | U1: Claw III external secondary branch | V1: Claw III internal primary branch | W1: Claw III internal secondary branch | X1: Claw IV anterior primary branch | Y1: Claw IV anterior secondary branch | Z1: Claw IV posterior primary branch | AA1: Claw IV posterior secondary branch
A2: ='general info'!D2 -> Minibiotus jonesorum | B2: US.200.01 | C2: =animals!B1 -> 1 | D2: =IF(animals!C3>0,animals!C3,"") -> 1098.227 | E2: =IF(animals!C6>0,animals!C6,"") -> 64.539007 | F2: =IF(animals!C7>0,animals!C7,"") -> 8.1560284 | G2: =IF(animals!C8>0,animals!C8,"") -> 2.4822695 | H2: =IF(animals!C11>0,animals!C11,"") -> 12.411348 | I2: =IF(animals!C12>0,animals!C12,"") -> 8.8652482 | J2: =IF(animals!C13>0,animals!C13,"") -> 8.1560284 | K2: =IF(animals!C15>0,animals!C15,"") -> 32.269504 | L2: =IF(animals!C17>0,animals!C17,"") -> 31.914894 | M2: =IF(animals!C18>0,animals!C18,"") -> 23.404255 | N2: =IF(animals!C19>0,animals!C19,"") -> 30.496454 | O2: =IF(animals!C20>0,animals!C20,"") -> 23.049645 | P2: =IF(animals!C22>0,animals!C22,"") -> 33.333333 | Q2: =IF(animals!C23>0,animals!C23,"") -> 27.304965 | R2: =IF(animals!C24>0,animals!C24,"") -> 31.914894 | S2: =IF(animals!C25>0,animals!C25,"") -> 24.822695 | T2: =IF(animals!C27>0,animals!C27,"") -> 35.460993 | U2: =IF(animals!C28>0,animals!C28,"") -> 26.950355 | V2: =IF(animals!C29>0,animals!C29,"") -> 34.042553 | W2: =IF(animals!C30>0,animals!C30,"") -> 25.886525 | X2: =IF(animals!C32>0,animals!C32,"") -> 42.907801 | Y2: =IF(animals!C33>0,animals!C33,"") -> 33.333333 | Z2: =IF(animals!C34>0,animals!C34,"") -> 40.425532 | AA2: =IF(animals!C35>0,animals!C35,"") -> 32.269504
A3: =A$2 -> Minibiotus jonesorum | B3: US.198.01 | C3: =animals!D1 -> 2 | D3: =IF(animals!E3>0,animals!E3,"") -> 1303.3898 | E3: =IF(animals!E6>0,animals!E6,"") -> 67.118644 | F3: =IF(animals!E7>0,animals!E7,"") -> 10.169492 | G3: =IF(animals!E8>0,animals!E8,"") -> 4.7457627 | H3: =IF(animals!E11>0,animals!E11,"") -> 12.881356 | I3: =IF(animals!E12>0,animals!E12,"") -> 8.1355932 | J3: =IF(animals!E13>0,animals!E13,"") -> 11.186441 | K3: =IF(animals!E15>0,animals!E15,"") -> 36.271186 | L3: =IF(animals!E17>0,animals!E17,"") -> 37.966102 | M3: =IF(animals!E18>0,animals!E18,"") -> 29.491525 | N3: =IF(animals!E19>0,animals!E19,"") -> 33.220339 | O3: =IF(animals!E20>0,animals!E20,"") -> 25.423729 | P3: =IF(animals!E22>0,animals!E22,"") -> 34.576271 | Q3: =IF(animals!E23>0,animals!E23,"") -> 23.050847 | R3: =IF(animals!E24>0,animals!E24,"") -> 33.220339 | S3: =IF(animals!E25>0,animals!E25,"") -> 22.033898 | T3: =IF(animals!E27>0,animals!E27,"") -> 37.288136 | U3: =IF(animals!E28>0,animals!E28,"") -> 26.779661 | V3: =IF(animals!E29>0,animals!E29,"") -> 37.288136 | W3: =IF(animals!E30>0,animals!E30,"") -> 25.762712 | X3: =IF(animals!E32>0,animals!E32,"") -> 46.779661 | Y3: =IF(animals!E33>0,animals!E33,"") -> 35.59322 | Z3: =IF(animals!E34>0,animals!E34,"") -> 42.372881 | AA3: =IF(animals!E35>0,animals!E35,"") -> 30.169492
A4: =A$2 -> Minibiotus jonesorum | B4: US.198.01 | C4: =animals!F1 -> 3 | D4: =IF(animals!G3>0,animals!G3,"") -> 1054.5455 | E4: =IF(animals!G6>0,animals!G6,"") -> 65.090909 | F4: =IF(animals!G7>0,animals!G7,"") -> 9.4545455 | G4: =IF(animals!G8>0,animals!G8,"") -> 2.5454545 | H4: =IF(animals!G11>0,animals!G11,"") -> 13.818182 | I4: =IF(animals!G12>0,animals!G12,"") -> 9.0909091 | J4: =IF(animals!G13>0,animals!G13,"") -> 10.909091 | K4: =IF(animals!G15>0,animals!G15,"") -> 35.272727 | L4: =IF(animals!G17>0,animals!G17,"") -> 31.636364 | M4: =IF(animals!G18>0,animals!G18,"") -> 26.181818 | N4: =IF(animals!G19>0,animals!G19,"") -> 8.3636364 | O4: =IF(animals!G20>0,animals!G20,"") -> 27.636364 | P4: =IF(animals!G22>0,animals!G22,"") -> 32.363636 | Q4: =IF(animals!G23>0,animals!G23,"") -> 26.909091 | R4: =IF(animals!G24>0,animals!G24,"") -> 30.545455 | S4: =IF(animals!G25>0,animals!G25,"") -> 21.818182 | T4: =IF(animals!G27>0,animals!G27,"") -> 34.909091 | U4: =IF(animals!G28>0,animals!G28,"") -> 26.545455 | V4: =IF(animals!G29>0,animals!G29,"") -> 32.363636 | W4: =IF(animals!G30>0,animals!G30,"") -> 22.181818 | X4: =IF(animals!G32>0,animals!G32,"") -> 43.272727 | Y4: =IF(animals!G33>0,animals!G33,"") -> 30.181818 | Z4: =IF(animals!G34>0,animals!G34,"") -> 37.090909 | AA4: =IF(animals!G35>0,animals!G35,"") -> 28
A5: =A$2 -> Minibiotus jonesorum | B5: US.198.01 | C5: =animals!H1 -> 4 | D5: =IF(animals!I3>0,animals!I3,"") -> 1195.9459 | E5: =IF(animals!I6>0,animals!I6,"") -> 66.891892 | F5: =IF(animals!I7>0,animals!I7,"") -> 9.4594595 | G5: =IF(animals!I8>0,animals!I8,"") -> 3.0405405 | H5: =IF(animals!I11>0,animals!I11,"") -> 9.4594595 | I5: =IF(animals!I12>0,animals!I12,"") -> 8.4459459 | J5: =IF(animals!I13>0,animals!I13,"") -> 8.7837838 | K5: =IF(animals!I15>0,animals!I15,"") -> 30.067568 | L5: =IF(animals!I17>0,animals!I17,"") -> 31.756757 | M5: =IF(animals!I18>0,animals!I18,"") -> 26.351351 | N5: =IF(animals!I19>0,animals!I19,"") -> 27.702703 | O5: =IF(animals!I20>0,animals!I20,"") -> 23.648649 | P5: =IF(animals!I22>0,animals!I22,"") -> 31.756757 | Q5: =IF(animals!I23>0,animals!I23,"") -> 23.310811 | R5: =IF(animals!I24>0,animals!I24,"") -> 29.054054 | S5: =IF(animals!I25>0,animals!I25,"") -> 21.621622 | T5: =IF(animals!I27>0,animals!I27,"") -> 31.756757 | U5: =IF(animals!I28>0,animals!I28,"") -> 23.986486 | V5: =IF(animals!I29>0,animals!I29,"") -> 27.702703 | W5: =IF(animals!I30>0,animals!I30,"") -> 19.932432 | X5: =IF(animals!I32>0,animals!I32,"") -> 39.527027 | Y5: =IF(animals!I33>0,animals!I33,"") -> 31.756757 | Z5: =IF(animals!I34>0,animals!I34,"") -> 34.459459 | AA5: =IF(animals!I35>0,animals!I35,"") -> 24.662162
A6: =A$2 -> Minibiotus jonesorum | B6: US.198.02 | C6: =animals!J1 -> 5 | D6: =IF(animals!K3>0,animals!K3,"") -> 1200.3344 | E6: =IF(animals!K6>0,animals!K6,"") -> 70.234114 | F6: =IF(animals!K7>0,animals!K7,"") -> 9.0301003 | G6: =IF(animals!K8>0,animals!K8,"") -> 2.3411371 | H6: =IF(animals!K11>0,animals!K11,"") -> 13.712375 | I6: =IF(animals!K12>0,animals!K12,"") -> 8.6956522 | J6: =IF(animals!K13>0,animals!K13,"") -> 9.3645485 | K6: =IF(animals!K15>0,animals!K15,"") -> 35.117057 | L6: =IF(animals!K17>0,animals!K17,"") -> 31.772575 | M6: =IF(animals!K18>0,animals!K18,"") -> 25.41806 | N6: =IF(animals!K19>0,animals!K19,"") -> 30.769231 | O6: =IF(animals!K20>0,animals!K20,"") -> 23.745819 | P6: =IF(animals!K22>0,animals!K22,"") -> 34.448161 | Q6: =IF(animals!K23>0,animals!K23,"") -> 26.086957 | R6: =IF(animals!K24>0,animals!K24,"") -> 33.444816 | S6: =IF(animals!K25>0,animals!K25,"") -> 25.41806 | T6: =IF(animals!K27>0,animals!K27,"") -> 33.444816 | U6: =IF(animals!K28>0,animals!K28,"") -> 25.752508 | V6: =IF(animals!K29>0,animals!K29,"") -> 33.444816 | W6: =IF(animals!K30>0,animals!K30,"") -> 24.749164 | X6: =IF(animals!K32>0,animals!K32,"") -> 38.12709 | Y6: =IF(animals!K33>0,animals!K33,"") -> 24.080268 | Z6: =IF(animals!K34>0,animals!K34,"") -> 38.795987 | AA6: =IF(animals!K35>0,animals!K35,"") -> 26.421405
A7: =A$2 -> Minibiotus jonesorum | B7: US.198.03 | C7: =animals!L1 -> 6 | D7: =IF(animals!M3>0,animals!M3,"") -> 904 | E7: =IF(animals!M6>0,animals!M6,"") -> 66.5 | F7: =IF(animals!M7>0,animals!M7,"") -> 9.5 | G7: =IF(animals!M8>0,animals!M8,"") -> 3.5 | H7: =IF(animals!M11>0,animals!M11,"") -> 10 | I7: =IF(animals!M12>0,animals!M12,"") -> 8 | J7: =IF(animals!M13>0,animals!M13,"") -> 9 | K7: =IF(animals!M15>0,animals!M15,"") -> 27 | L7: =IF(animals!M17>0,animals!M17,"") -> 29 | M7: =IF(animals!M18>0,animals!M18,"") -> 18 | N7: =IF(animals!M19>0,animals!M19,"") -> 27.5 | O7: =IF(animals!M20>0,animals!M20,"") -> 17.5 | P7: =IF(animals!M22>0,animals!M22,"") -> 29 | Q7: =IF(animals!M23>0,animals!M23,"") -> 24.5 | R7: =IF(animals!M24>0,animals!M24,"") -> 29 | S7: =IF(animals!M25>0,animals!M25,"") -> 24 | T7: =IF(animals!M27>0,animals!M27,"") -> 32.5 | U7: =IF(animals!M28>0,animals!M28,"") -> 16.5 | V7: =IF(animals!M29>0,animals!M29,"") -> 30.5 | W7: =IF(animals!M30>0,animals!M30,"") -> 16.5 | X7: =IF(animals!M32>0,animals!M32,"") -> 34.5 | Y7: =IF(animals!M33>0,animals!M33,"") -> 22 | Z7: =IF(animals!M34>0,animals!M34,"") -> 34.5 | AA7: =IF(animals!M35>0,animals!M35,"") -> 16.5
A8: =A$2 -> Minibiotus jonesorum | B8: US.198.03 | C8: =animals!N1 -> 7 | D8: =IF(animals!O3>0,animals!O3,"") -> 1085.3881 | E8: =IF(animals!O6>0,animals!O6,"") -> 65.753425 | F8: =IF(animals!O7>0,animals!O7,"") -> 9.5890411 | G8: =IF(animals!O8>0,animals!O8,"") -> 2.739726 | H8: =IF(animals!O11>0,animals!O11,"") -> 11.872146 | I8: =IF(animals!O12>0,animals!O12,"") -> 9.1324201 | J8: =IF(animals!O13>0,animals!O13,"") -> 10.502283 | K8: =IF(animals!O15>0,animals!O15,"") -> 31.96347 | L8: =IF(animals!O17>0,animals!O17,"") -> 31.96347 | M8: =IF(animals!O18>0,animals!O18,"") -> 23.744292 | N8: =IF(animals!O19>0,animals!O19,"") -> 30.593607 | O8: =IF(animals!O20>0,animals!O20,"") -> 22.83105 | P8: =IF(animals!O22>0,animals!O22,"") -> 31.506849 | Q8: =IF(animals!O23>0,animals!O23,"") -> 18.26484 | R8: =IF(animals!O24>0,animals!O24,"") -> 31.506849 | S8: =IF(animals!O25>0,animals!O25,"") -> 17.351598 | T8: =IF(animals!O27>0,animals!O27,"") -> 34.246575 | U8: =IF(animals!O28>0,animals!O28,"") -> 22.83105 | V8: =IF(animals!O29>0,animals!O29,"") -> 32.420091 | W8: =IF(animals!O30>0,animals!O30,"") -> 22.374429 | X8: =IF(animals!O32>0,animals!O32,"") -> 36.073059 | Y8: =IF(animals!O33>0,animals!O33,"") -> 28.767123 | Z8: =IF(animals!O34>0,animals!O34,"") -> 33.789954 | AA8: =IF(animals!O35>0,animals!O35,"") -> 23.744292
A9: =A$2 -> Minibiotus jonesorum | B9: US.198.03 | C9: =animals!P1 -> 8 | D9: =IF(animals!Q3>0,animals!Q3,"") -> 890.57592 | E9: =IF(animals!Q6>0,animals!Q6,"") -> 64.921466 | F9: =IF(animals!Q7>0,animals!Q7,"") -> 8.3769634 | G9: =IF(animals!Q8>0,animals!Q8,"") -> 2.617801 | H9: =IF(animals!Q11>0,animals!Q11,"") -> 10.994764 | I9: =IF(animals!Q12>0,animals!Q12,"") -> 7.3298429 | J9: =IF(animals!Q13>0,animals!Q13,"") -> 9.947644 | K9: =IF(animals!Q15>0,animals!Q15,"") -> 30.366492 | L9: =IF(animals!Q17>0,animals!Q17,"") -> 32.984293 | M9: =IF(animals!Q18>0,animals!Q18,"") -> 19.371728 | N9: =IF(animals!Q19>0,animals!Q19,"") -> 29.319372 | O9: =IF(animals!Q20>0,animals!Q20,"") -> 18.324607 | P9: =IF(animals!Q22>0,animals!Q22,"") -> 34.031414 | Q9: =IF(animals!Q23>0,animals!Q23,"") -> 20.418848 | R9: =IF(animals!Q24>0,animals!Q24,"") -> 26.701571 | S9: =IF(animals!Q25>0,animals!Q25,"") -> 17.801047 | T9: =IF(animals!Q27>0,animals!Q27,"") -> 34.554974 | U9: =IF(animals!Q28>0,animals!Q28,"") -> 18.324607 | V9: =IF(animals!Q29>0,animals!Q29,"") -> 28.272251 | W9: =IF(animals!Q30>0,animals!Q30,"") -> 17.801047 | X9: =IF(animals!Q32>0,animals!Q32,"") -> 35.078534 | Y9: =IF(animals!Q33>0,animals!Q33,"") -> 22.513089 | Z9: =IF(animals!Q34>0,animals!Q34,"") -> 31.937173 | AA9: =IF(animals!Q35>0,animals!Q35,"") -> 18.324607
A10: =A$2 -> Minibiotus jonesorum | B10: US.198.04 | C10: =animals!R1 -> 9 | D10: =IF(animals!S3>0,animals!S3,"") -> 853.88128 | E10: =IF(animals!S6>0,animals!S6,"") -> 68.03653 | F10: =IF(animals!S7>0,animals!S7,"") -> 10.502283 | G10: =IF(animals!S8>0,animals!S8,"") -> 2.739726 | H10: =IF(animals!S11>0,animals!S11,"") -> 12.328767 | I10: =IF(animals!S12>0,animals!S12,"") -> 8.6757991 | J10: =IF(animals!S13>0,animals!S13,"") -> 9.5890411 | K10: =IF(animals!S15>0,animals!S15,"") -> 30.136986 | L10: =IF(animals!S17>0,animals!S17,"") -> 30.593607 | M10: =IF(animals!S18>0,animals!S18,"") -> 21.461187 | N10: =IF(animals!S19>0,animals!S19,"") -> 29.680365 | O10: =IF(animals!S20>0,animals!S20,"") -> 21.004566 | P10: =IF(animals!S22>0,animals!S22,"") -> 29.680365 | Q10: =IF(animals!S23>0,animals!S23,"") -> 24.657534 | R10: =IF(animals!S24>0,animals!S24,"") -> 29.680365 | S10: =IF(animals!S25>0,animals!S25,"") -> 20.547945 | T10: =IF(animals!S27>0,animals!S27,"") -> 32.420091 | U10: =IF(animals!S28>0,animals!S28,"") -> 23.744292 | V10: =IF(animals!S29>0,animals!S29,"") -> 32.420091 | W10: =IF(animals!S30>0,animals!S30,"") -> 22.83105 | X10: =IF(animals!S32>0,animals!S32,"") -> 34.246575 | Y10: =IF(animals!S33>0,animals!S33,"") -> 23.287671 | Z10: =IF(animals!S34>0,animals!S34,"") -> 32.420091 | AA10: =IF(animals!S35>0,animals!S35,"") -> 22.374429
A11: =A$2 -> Minibiotus jonesorum | B11: US.198.05 | C11: =animals!T1 -> 10 | D11: =IF(animals!U3>0,animals!U3,"") -> 709.31373 | E11: =IF(animals!U6>0,animals!U6,"") -> 65.196078 | F11: =IF(animals!U7>0,animals!U7,"") -> 9.3137255 | G11: =IF(animals!U8>0,animals!U8,"") -> 2.4509804 | H11: =IF(animals!U11>0,animals!U11,"") -> 11.764706 | I11: =IF(animals!U12>0,animals!U12,"") -> 7.8431373 | J11: =IF(animals!U13>0,animals!U13,"") -> 9.3137255 | K11: =IF(animals!U15>0,animals!U15,"") -> 30.882353 | L11: =IF(animals!U17>0,animals!U17,"") -> 28.921569 | M11: =IF(animals!U18>0,animals!U18,"") -> 17.156863 | N11: =IF(animals!U19>0,animals!U19,"") -> 27.941176 | O11: =IF(animals!U20>0,animals!U20,"") -> 17.156863 | P11: =IF(animals!U22>0,animals!U22,"") -> 29.901961 | Q11: =IF(animals!U23>0,animals!U23,"") -> 20.588235 | R11: =IF(animals!U24>0,animals!U24,"") -> 28.431373 | S11: =IF(animals!U25>0,animals!U25,"") -> 16.176471 | T11: =IF(animals!U27>0,animals!U27,"") -> 26.470588 | U11: =IF(animals!U28>0,animals!U28,"") -> 18.627451 | V11: =IF(animals!U29>0,animals!U29,"") -> 25.490196 | W11: =IF(animals!U30>0,animals!U30,"") -> 12.745098 | X11: =IF(animals!U32>0,animals!U32,"") -> 34.803922 | Y11: =IF(animals!U33>0,animals!U33,"") -> 21.078431 | Z11: =IF(animals!U34>0,animals!U34,"") -> 30.882353 | AA11: =IF(animals!U35>0,animals!U35,"") -> 17.647059
A12: =A$2 -> Minibiotus jonesorum | B12: US.198.06 | C12: =animals!V1 -> 11 | D12: =IF(animals!W3>0,animals!W3,"") -> 933.19328 | E12: =IF(animals!W6>0,animals!W6,"") -> 65.546218 | F12: =IF(animals!W7>0,animals!W7,"") -> 9.6638655 | G12: =IF(animals!W8>0,animals!W8,"") -> 2.9411765 | H12: =IF(animals!W11>0,animals!W11,"") -> 12.605042 | I12: =IF(animals!W12>0,animals!W12,"") -> 8.8235294 | J12: =IF(animals!W13>0,animals!W13,"") -> 8.8235294 | K12: =IF(animals!W15>0,animals!W15,"") -> 33.193277 | L12: =IF(animals!W17>0,animals!W17,"") -> 32.773109 | M12: =IF(animals!W18>0,animals!W18,"") -> 22.689076 | N12: =IF(animals!W19>0,animals!W19,"") -> 29.411765 | O12: =IF(animals!W20>0,animals!W20,"") -> 21.428571 | P12: =IF(animals!W22>0,animals!W22,"") -> 32.773109 | Q12: =IF(animals!W23>0,animals!W23,"") -> 23.109244 | R12: =IF(animals!W24>0,animals!W24,"") -> 30.252101 | S12: =IF(animals!W25>0,animals!W25,"") -> 21.428571 | T12: =IF(animals!W27>0,animals!W27,"") -> 31.512605 | U12: =IF(animals!W28>0,animals!W28,"") -> 23.529412 | V12: =IF(animals!W29>0,animals!W29,"") -> 28.991597 | W12: =IF(animals!W30>0,animals!W30,"") -> 21.428571 | X12: =IF(animals!W32>0,animals!W32,"") -> 37.394958 | Y12: =IF(animals!W33>0,animals!W33,"") -> 30.672269 | Z12: =IF(animals!W34>0,animals!W34,"") -> 34.033613 | AA12: =IF(animals!W35>0,animals!W35,"") -> 22.689076
A13: =A$2 -> Minibiotus jonesorum | B13: US.199.01 | C13: =animals!X1 -> 12 | D13: =IF(animals!Y3>0,animals!Y3,"") -> 1092.7273 | E13: =IF(animals!Y6>0,animals!Y6,"") -> 66.909091 | F13: =IF(animals!Y7>0,animals!Y7,"") -> 8.7272727 | G13: =IF(animals!Y8>0,animals!Y8,"") -> 2.9090909 | H13: =IF(animals!Y11>0,animals!Y11,"") -> 12 | I13: =IF(animals!Y12>0,animals!Y12,"") -> 7.6363636 | J13: =IF(animals!Y13>0,animals!Y13,"") -> 8.7272727 | K13: =IF(animals!Y15>0,animals!Y15,"") -> 32.363636 | L13: =IF(animals!Y17>0,animals!Y17,"") -> 32 | M13: =IF(animals!Y18>0,animals!Y18,"") -> 24 | N13: =IF(animals!Y19>0,animals!Y19,"") -> 31.636364 | O13: =IF(animals!Y20>0,animals!Y20,"") -> 23.636364 | P13: =IF(animals!Y22>0,animals!Y22,"") -> 31.636364 | Q13: =IF(animals!Y23>0,animals!Y23,"") -> 24.363636 | R13: =IF(animals!Y24>0,animals!Y24,"") -> 29.818182 | S13: =IF(animals!Y25>0,animals!Y25,"") -> 22.181818 | T13: =IF(animals!Y27>0,animals!Y27,"") -> 34.181818 | U13: =IF(animals!Y28>0,animals!Y28,"") -> 26.909091 | V13: =IF(animals!Y29>0,animals!Y29,"") -> 33.454545 | W13: =IF(animals!Y30>0,animals!Y30,"") -> 24.363636 | X13: =IF(animals!Y32>0,animals!Y32,"") -> 42.545455 | Y13: =IF(animals!Y33>0,animals!Y33,"") -> 32 | Z13: =IF(animals!Y34>0,animals!Y34,"") -> 40.727273 | AA13: =IF(animals!Y35>0,animals!Y35,"") -> 30.909091
A14: =A$2 -> Minibiotus jonesorum | B14: US.199.02 | C14: =animals!Z1 -> 13 | D14: =IF(animals!AA3>0,animals!AA3,"") -> 1137.3239 | E14: =IF(animals!AA6>0,animals!AA6,"") -> 67.253521 | F14: =IF(animals!AA7>0,animals!AA7,"") -> 9.8591549 | G14: =IF(animals!AA8>0,animals!AA8,"") -> 2.4647887 | H14: =IF(animals!AA11>0,animals!AA11,"") -> 12.323944 | I14: =IF(animals!AA12>0,animals!AA12,"") -> 9.1549296 | J14: =IF(animals!AA13>0,animals!AA13,"") -> 9.8591549 | K14: =IF(animals!AA15>0,animals!AA15,"") -> 33.450704 | L14: =IF(animals!AA17>0,animals!AA17,"") -> 34.507042 | M14: =IF(animals!AA18>0,animals!AA18,"") -> 27.464789 | N14: =IF(animals!AA19>0,animals!AA19,"") -> 32.042254 | O14: =IF(animals!AA20>0,animals!AA20,"") -> 26.056338 | P14: =IF(animals!AA22>0,animals!AA22,"") -> 35.211268 | Q14: =IF(animals!AA23>0,animals!AA23,"") -> 29.577465 | R14: =IF(animals!AA24>0,animals!AA24,"") -> 33.098592 | S14: =IF(animals!AA25>0,animals!AA25,"") -> 25 | T14: =IF(animals!AA27>0,animals!AA27,"") -> 34.15493 | U14: =IF(animals!AA28>0,animals!AA28,"") -> 27.816901 | V14: =IF(animals!AA29>0,animals!AA29,"") -> 31.338028 | W14: =IF(animals!AA30>0,animals!AA30,"") -> 25 | X14: =IF(animals!AA32>0,animals!AA32,"") -> 39.43662 | Y14: =IF(animals!AA33>0,animals!AA33,"") -> 29.929577 | Z14: =IF(animals!AA34>0,animals!AA34,"") -> 38.380282 | AA14: =IF(animals!AA35>0,animals!AA35,"") -> 29.577465
A15: =A$2 -> Minibiotus jonesorum | B15: US.199.03 | C15: =animals!AB1 -> 14 | D15: =IF(animals!AC3>0,animals!AC3,"") -> 1236.2007 | E15: =IF(animals!AC6>0,animals!AC6,"") -> 68.817204 | F15: =IF(animals!AC7>0,animals!AC7,"") -> 10.035842 | G15: =IF(animals!AC8>0,animals!AC8,"") -> 3.2258065 | H15: =IF(animals!AC11>0,animals!AC11,"") -> 12.903226 | I15: =IF(animals!AC12>0,animals!AC12,"") -> 9.3189964 | J15: =IF(animals!AC13>0,animals!AC13,"") -> 11.111111 | K15: =IF(animals!AC15>0,animals!AC15,"") -> 34.050179 | L15: =IF(animals!AC17>0,animals!AC17,"") -> 30.46595 | M15: =IF(animals!AC18>0,animals!AC18,"") -> 18.996416 | N15: =IF(animals!AC19>0,animals!AC19,"") -> 29.749104 | O15: =IF(animals!AC20>0,animals!AC20,"") -> 18.996416 | P15: =IF(animals!AC22>0,animals!AC22,"") -> 33.691756 | Q15: =IF(animals!AC23>0,animals!AC23,"") -> 27.240143 | R15: =IF(animals!AC24>0,animals!AC24,"") -> 32.616487 | S15: =IF(animals!AC25>0,animals!AC25,"") -> 25.448029 | T15: =IF(animals!AC27>0,animals!AC27,"") -> 36.55914 | U15: =IF(animals!AC28>0,animals!AC28,"") -> 27.598566 | V15: =IF(animals!AC29>0,animals!AC29,"") -> 35.125448 | W15: =IF(animals!AC30>0,animals!AC30,"") -> 24.014337 | X15: =IF(animals!AC32>0,animals!AC32,"") -> 40.143369 | Y15: =IF(animals!AC33>0,animals!AC33,"") -> 30.824373 | Z15: =IF(animals!AC34>0,animals!AC34,"") -> 35.483871 | AA15: =IF(animals!AC35>0,animals!AC35,"") -> 26.88172
A16: =A$2 -> Minibiotus jonesorum | B16: US.199.04 | C16: =animals!AD1 -> 15 | D16: =IF(animals!AE3>0,animals!AE3,"") -> 1269.3811 | E16: =IF(animals!AE6>0,animals!AE6,"") -> 68.078176 | F16: =IF(animals!AE7>0,animals!AE7,"") -> 9.1205212 | G16: =IF(animals!AE8>0,animals!AE8,"") -> 3.9087948 | H16: =IF(animals!AE11>0,animals!AE11,"") -> 12.052117 | I16: =IF(animals!AE12>0,animals!AE12,"") -> 9.1205212 | J16: =IF(animals!AE13>0,animals!AE13,"") -> 9.4462541 | K16: =IF(animals!AE15>0,animals!AE15,"") -> 33.224756 | L16: =IF(animals!AE17>0,animals!AE17,"") -> 35.504886 | M16: =IF(animals!AE18>0,animals!AE18,"") -> 28.338762 | N16: =IF(animals!AE19>0,animals!AE19,"") -> 33.876221 | O16: =IF(animals!AE20>0,animals!AE20,"") -> 24.104235 | P16: =IF(animals!AE22>0,animals!AE22,"") -> 34.201954 | Q16: =IF(animals!AE23>0,animals!AE23,"") -> 28.664495 | R16: =IF(animals!AE24>0,animals!AE24,"") -> 32.899023 | S16: =IF(animals!AE25>0,animals!AE25,"") -> 22.47557 | T16: =IF(animals!AE27>0,animals!AE27,"") -> 32.899023 | U16: =IF(animals!AE28>0,animals!AE28,"") -> 26.058632 | V16: =IF(animals!AE29>0,animals!AE29,"") -> 32.247557 | W16: =IF(animals!AE30>0,animals!AE30,"") -> 24.429967 | X16: =IF(animals!AE32>0,animals!AE32,"") -> 39.739414 | Y16: =IF(animals!AE33>0,animals!AE33,"") -> 29.967427 | Z16: =IF(animals!AE34>0,animals!AE34,"") -> 38.110749 | AA16: =IF(animals!AE35>0,animals!AE35,"") -> 29.967427
A17: =A$2 -> Minibiotus jonesorum | B17: US.199.04 | C17: =animals!AF1 -> 16 | D17: =IF(animals!AG3>0,animals!AG3,"") -> 1143.4109 | E17: =IF(animals!AG6>0,animals!AG6,"") -> 66.666667 | F17: =IF(animals!AG7>0,animals!AG7,"") -> 8.9147287 | G17: =IF(animals!AG8>0,animals!AG8,"") -> 2.7131783 | H17: =IF(animals!AG11>0,animals!AG11,"") -> 10.852713 | I17: =IF(animals!AG12>0,animals!AG12,"") -> 8.9147287 | J17: =IF(animals!AG13>0,animals!AG13,"") -> 10.077519 | K17: =IF(animals!AG15>0,animals!AG15,"") -> 34.108527 | L17: =IF(animals!AG17>0,animals!AG17,"") -> 31.782946 | M17: =IF(animals!AG18>0,animals!AG18,"") -> 22.48062 | N17: =IF(animals!AG19>0,animals!AG19,"") -> 31.782946 | O17: =IF(animals!AG20>0,animals!AG20,"") -> 22.093023 | P17: =IF(animals!AG22>0,animals!AG22,"") -> 34.108527 | Q17: =IF(animals!AG23>0,animals!AG23,"") -> 25.581395 | R17: =IF(animals!AG24>0,animals!AG24,"") -> 33.333333 | S17: =IF(animals!AG25>0,animals!AG25,"") -> 24.806202 | T17: =IF(animals!AG27>0,animals!AG27,"") -> 35.658915 | U17: =IF(animals!AG28>0,animals!AG28,"") -> 27.131783 | V17: =IF(animals!AG29>0,animals!AG29,"") -> 34.108527 | W17: =IF(animals!AG30>0,animals!AG30,"") -> 25.968992 | X17: =IF(animals!AG32>0,animals!AG32,"") -> 42.635659 | Y17: =IF(animals!AG33>0,animals!AG33,"") -> 29.457364 | Z17: =IF(animals!AG34>0,animals!AG34,"") -> 41.085271 | AA17: =IF(animals!AG35>0,animals!AG35,"") -> 27.51938
A18: =A$2 -> Minibiotus jonesorum | B18: US.200.02 | C18: =animals!AH1 -> 17 | D18: =IF(animals!AI3>0,animals!AI3,"") -> 1231.5315 | E18: =IF(animals!AI6>0,animals!AI6,"") -> 69.369369 | F18: =IF(animals!AI7>0,animals!AI7,"") -> 9.6096096 | G18: =IF(animals!AI8>0,animals!AI8,"") -> 3.9039039 | H18: =IF(animals!AI11>0,animals!AI11,"") -> 13.813814 | I18: =IF(animals!AI12>0,animals!AI12,"") -> 7.8078078 | J18: =IF(animals!AI13>0,animals!AI13,"") -> 9.9099099 | K18: =IF(animals!AI15>0,animals!AI15,"") -> 35.135135 | L18: =IF(animals!AI17>0,animals!AI17,"") -> 31.231231 | M18: =IF(animals!AI18>0,animals!AI18,"") -> 24.624625 | N18: =IF(animals!AI19>0,animals!AI19,"") -> 27.327327 | O18: =IF(animals!AI20>0,animals!AI20,"") -> 23.723724 | P18: =IF(animals!AI22>0,animals!AI22,"") -> 35.435435 | Q18: =IF(animals!AI23>0,animals!AI23,"") -> 25.225225 | R18: =IF(animals!AI24>0,animals!AI24,"") -> 33.033033 | S18: =IF(animals!AI25>0,animals!AI25,"") -> 23.123123 | T18: =IF(animals!AI27>0,animals!AI27,"") -> 32.732733 | U18: =IF(animals!AI28>0,animals!AI28,"") -> 24.324324 | V18: =IF(animals!AI29>0,animals!AI29,"") -> 32.132132 | W18: =IF(animals!AI30>0,animals!AI30,"") -> 21.921922 | X18: =IF(animals!AI32>0,animals!AI32,"") -> 39.93994 | Y18: =IF(animals!AI33>0,animals!AI33,"") -> 30.03003 | Z18: =IF(animals!AI34>0,animals!AI34,"") -> 38.138138 | AA18: =IF(animals!AI35>0,animals!AI35,"") -> 28.828829
A19: =A$2 -> Minibiotus jonesorum | B19: US.200.03 | C19: =animals!AJ1 -> 18 | D19: =IF(animals!AK3>0,animals!AK3,"") -> 1108.156 | E19: =IF(animals!AK6>0,animals!AK6,"") -> 66.312057 | F19: =IF(animals!AK7>0,animals!AK7,"") -> 9.2198582 | G19: =IF(animals!AK8>0,animals!AK8,"") -> 2.4822695 | H19: =IF(animals!AK11>0,animals!AK11,"") -> 10.638298 | I19: =IF(animals!AK12>0,animals!AK12,"") -> 7.0921986 | J19: =IF(animals!AK13>0,animals!AK13,"") -> 9.5744681 | K19: =IF(animals!AK15>0,animals!AK15,"") -> 33.687943 | L19: =IF(animals!AK17>0,animals!AK17,"") -> 34.042553 | M19: =IF(animals!AK18>0,animals!AK18,"") -> 29.432624 | N19: =IF(animals!AK19>0,animals!AK19,"") -> 30.496454 | O19: =IF(animals!AK20>0,animals!AK20,"") -> 25.177305 | P19: =IF(animals!AK22>0,animals!AK22,"") -> 33.687943 | Q19: =IF(animals!AK23>0,animals!AK23,"") -> 25.531915 | R19: =IF(animals!AK24>0,animals!AK24,"") -> 32.978723 | S19: =IF(animals!AK25>0,animals!AK25,"") -> 24.822695 | T19: =IF(animals!AK27>0,animals!AK27,"") -> 34.042553 | U19: =IF(animals!AK28>0,animals!AK28,"") -> 26.241135 | V19: =IF(animals!AK29>0,animals!AK29,"") -> 33.333333 | W19: =IF(animals!AK30>0,animals!AK30,"") -> 24.822695 | X19: =IF(animals!AK32>0,animals!AK32,"") -> 39.716312 | Y19: =IF(animals!AK33>0,animals!AK33,"") -> 30.141844 | Z19: =IF(animals!AK34>0,animals!AK34,"") -> 36.170213 | AA19: =IF(animals!AK35>0,animals!AK35,"") -> 21.631206
A20: =A$2 -> Minibiotus jonesorum | B20: US.200.03 | C20: =animals!AL1 -> 19 | D20: =IF(animals!AM3>0,animals!AM3,"") -> 1058.1994 | E20: =IF(animals!AM6>0,animals!AM6,"") -> 67.845659 | F20: =IF(animals!AM7>0,animals!AM7,"") -> 8.3601286 | G20: =IF(animals!AM8>0,animals!AM8,"") -> 2.8938907 | H20: =IF(animals!AM11>0,animals!AM11,"") -> 12.21865 | I20: =IF(animals!AM12>0,animals!AM12,"") -> 9.3247588 | J20: =IF(animals!AM13>0,animals!AM13,"") -> 9.9678457 | K20: =IF(animals!AM15>0,animals!AM15,"") -> 34.726688 | L20: =IF(animals!AM17>0,animals!AM17,"") -> 31.189711 | M20: =IF(animals!AM18>0,animals!AM18,"") -> 26.688103 | N20: =IF(animals!AM19>0,animals!AM19,"") -> 30.22508 | O20: =IF(animals!AM20>0,animals!AM20,"") -> 23.472669 | P20: =IF(animals!AM22>0,animals!AM22,"") -> 35.048232 | Q20: =IF(animals!AM23>0,animals!AM23,"") -> 27.33119 | R20: =IF(animals!AM24>0,animals!AM24,"") -> 27.652733 | S20: =IF(animals!AM25>0,animals!AM25,"") -> 17.041801 | T20: =IF(animals!AM27>0,animals!AM27,"") -> 32.475884 | U20: =IF(animals!AM28>0,animals!AM28,"") -> 23.794212 | V20: =IF(animals!AM29>0,animals!AM29,"") -> 30.546624 | W20: =IF(animals!AM30>0,animals!AM30,"") -> 23.794212 | X20: =IF(animals!AM32>0,animals!AM32,"") -> 38.263666 | Y20: =IF(animals!AM33>0,animals!AM33,"") -> 32.475884 | Z20: =IF(animals!AM34>0,animals!AM34,"") -> 36.334405 | AA20: =IF(animals!AM35>0,animals!AM35,"") -> 25.080386
A21: =A$2 -> Minibiotus jonesorum | B21: US.200.03 | C21: =animals!AN1 -> 20 | D21: =IF(animals!AO3>0,animals!AO3,"") -> 1000.3891 | E21: =IF(animals!AO6>0,animals!AO6,"") -> 67.315175 | F21: =IF(animals!AO7>0,animals!AO7,"") -> 8.9494163 | G21: =IF(animals!AO8>0,animals!AO8,"") -> 1.9455253 | H21: =IF(animals!AO11>0,animals!AO11,"") -> 12.840467 | I21: =IF(animals!AO12>0,animals!AO12,"") -> 8.1712062 | J21: =IF(animals!AO13>0,animals!AO13,"") -> 10.505837 | K21: =IF(animals!AO15>0,animals!AO15,"") -> 32.684825 | L21: =IF(animals!AO17>0,animals!AO17,"") -> 31.906615 | M21: =IF(animals!AO18>0,animals!AO18,"") -> 24.124514 | N21: =IF(animals!AO19>0,animals!AO19,"") -> 30.7393 | O21: =IF(animals!AO20>0,animals!AO20,"") -> 23.735409 | P21: =IF(animals!AO22>0,animals!AO22,"") -> 34.63035 | Q21: =IF(animals!AO23>0,animals!AO23,"") -> 24.513619 | R21: =IF(animals!AO24>0,animals!AO24,"") -> 31.906615 | S21: =IF(animals!AO25>0,animals!AO25,"") -> 23.346304 | T21: =IF(animals!AO27>0,animals!AO27,"") -> 31.51751 | U21: =IF(animals!AO28>0,animals!AO28,"") -> 24.513619 | V21: =IF(animals!AO29>0,animals!AO29,"") -> 29.961089 | W21: =IF(animals!AO30>0,animals!AO30,"") -> 20.233463 | X21: =IF(animals!AO32>0,animals!AO32,"") -> 36.575875 | Y21: =IF(animals!AO33>0,animals!AO33,"") -> 22.957198 | Z21: =IF(animals!AO34>0,animals!AO34,"") -> 33.85214 | AA21: =IF(animals!AO35>0,animals!AO35,"") -> 22.178988
A22: =A$2 -> Minibiotus jonesorum | B22: US.200.03 | C22: =animals!AP1 -> 21 | D22: =IF(animals!AQ3>0,animals!AQ3,"") -> 661.72249 | E22: =IF(animals!AQ6>0,animals!AQ6,"") -> 70.334928 | F22: =IF(animals!AQ7>0,animals!AQ7,"") -> 9.569378 | G22: =IF(animals!AQ8>0,animals!AQ8,"") -> 1.9138756 | H22: =IF(animals!AQ11>0,animals!AQ11,"") -> 11.483254 | I22: =IF(animals!AQ12>0,animals!AQ12,"") -> 9.0909091 | J22: =IF(animals!AQ13>0,animals!AQ13,"") -> 9.0909091 | K22: =IF(animals!AQ15>0,animals!AQ15,"") -> 28.229665 | L22: =IF(animals!AQ17>0,animals!AQ17,"") -> 33.971292 | M22: =IF(animals!AQ18>0,animals!AQ18,"") -> 21.052632 | N22: =IF(animals!AQ19>0,animals!AQ19,"") -> 31.100478 | O22: =IF(animals!AQ20>0,animals!AQ20,"") -> 19.617225 | P22: =IF(animals!AQ22>0,animals!AQ22,"") -> 28.229665 | Q22: =IF(animals!AQ23>0,animals!AQ23,"") -> 19.138756 | R22: =IF(animals!AQ24>0,animals!AQ24,"") -> 27.751196 | S22: =IF(animals!AQ25>0,animals!AQ25,"") -> 14.832536 | T22: =IF(animals!AQ27>0,animals!AQ27,"") -> 28.229665 | U22: =IF(animals!AQ28>0,animals!AQ28,"") -> 18.181818 | V22: =IF(animals!AQ29>0,animals!AQ29,"") -> 26.315789 | W22: =IF(animals!AQ30>0,animals!AQ30,"") -> 12.91866 | X22: =IF(animals!AQ32>0,animals!AQ32,"") -> 32.057416 | Y22: =IF(animals!AQ33>0,animals!AQ33,"") -> 18.181818 | Z22: =IF(animals!AQ34>0,animals!AQ34,"") -> 30.143541 | AA22: =IF(animals!AQ35>0,animals!AQ35,"") -> 17.703349
A23: =A$2 -> Minibiotus jonesorum | B23: US.200.04 | C23: =animals!AR1 -> 22 | D23: =IF(animals!AS3>0,animals!AS3,"") -> 845.78947 | E23: =IF(animals!AS6>0,animals!AS6,"") -> 73.684211 | F23: =IF(animals!AS7>0,animals!AS7,"") -> 10 | G23: =IF(animals!AS8>0,animals!AS8,"") -> 2.1052632 | H23: =IF(animals!AS11>0,animals!AS11,"") -> 13.684211 | I23: =IF(animals!AS12>0,animals!AS12,"") -> 8.4210526 | J23: =IF(animals!AS13>0,animals!AS13,"") -> 13.157895 | K23: =IF(animals!AS15>0,animals!AS15,"") -> 37.894737 | L23: =IF(animals!AS17>0,animals!AS17,"") -> 19.473684 | M23: =IF(animals!AS18>0,animals!AS18,"") -> 18.421053 | N23: =IF(animals!AS19>0,animals!AS19,"") -> 31.578947 | O23: =IF(animals!AS20>0,animals!AS20,"") -> 18.421053 | P23: =IF(animals!AS22>0,animals!AS22,"") -> 34.210526 | Q23: =IF(animals!AS23>0,animals!AS23,"") -> 20 | R23: =IF(animals!AS24>0,animals!AS24,"") -> 33.157895 | S23: =IF(animals!AS25>0,animals!AS25,"") -> 17.368421 | T23: =IF(animals!AS27>0,animals!AS27,"") -> 37.368421 | U23: =IF(animals!AS28>0,animals!AS28,"") -> 19.473684 | V23: =IF(animals!AS29>0,animals!AS29,"") -> 33.157895 | W23: =IF(animals!AS30>0,animals!AS30,"") -> 18.947368 | X23: =IF(animals!AS32>0,animals!AS32,"") -> 36.842105 | Y23: =IF(animals!AS33>0,animals!AS33,"") -> 23.684211 | Z23: =IF(animals!AS34>0,animals!AS34,"") -> 36.315789 | AA23: =IF(animals!AS35>0,animals!AS35,"") -> 17.368421
A24: =A$2 -> Minibiotus jonesorum | B24: US.200.05 | C24: =animals!AT1 -> 23 | D24: =IF(animals!AU3>0,animals!AU3,"") -> 1281.2903 | E24: =IF(animals!AU6>0,animals!AU6,"") -> 65.806452 | F24: =IF(animals!AU7>0,animals!AU7,"") -> 9.3548387 | G24: =IF(animals!AU8>0,animals!AU8,"") -> 3.2258065 | H24: =IF(animals!AU11>0,animals!AU11,"") -> 13.225806 | I24: =IF(animals!AU12>0,animals!AU12,"") -> 9.3548387 | J24: =IF(animals!AU13>0,animals!AU13,"") -> 10.322581 | K24: =IF(animals!AU15>0,animals!AU15,"") -> 35.16129 | L24: =IF(animals!AU17>0,animals!AU17,"") -> 35.483871 | M24: =IF(animals!AU18>0,animals!AU18,"") -> 27.096774 | N24: =IF(animals!AU19>0,animals!AU19,"") -> 35.483871 | O24: =IF(animals!AU20>0,animals!AU20,"") -> 24.83871 | P24: =IF(animals!AU22>0,animals!AU22,"") -> 37.419355 | Q24: =IF(animals!AU23>0,animals!AU23,"") -> 29.032258 | R24: =IF(animals!AU24>0,animals!AU24,"") -> 36.129032 | S24: =IF(animals!AU25>0,animals!AU25,"") -> 26.129032 | T24: =IF(animals!AU27>0,animals!AU27,"") -> 31.612903 | U24: =IF(animals!AU28>0,animals!AU28,"") -> 26.774194 | V24: =IF(animals!AU29>0,animals!AU29,"") -> 30.645161 | W24: =IF(animals!AU30>0,animals!AU30,"") -> 20 | X24: =IF(animals!AU32>0,animals!AU32,"") -> 45.806452 | Y24: =IF(animals!AU33>0,animals!AU33,"") -> 34.516129 | Z24: =IF(animals!AU34>0,animals!AU34,"") -> 45.16129 | AA24: =IF(animals!AU35>0,animals!AU35,"") -> 33.870968
A25: =A$2 -> Minibiotus jonesorum | B25: US.200.06 | C25: =animals!AV1 -> 24 | D25: =IF(animals!AW3>0,animals!AW3,"") -> 758.70647 | E25: =IF(animals!AW6>0,animals!AW6,"") -> 64.676617 | F25: =IF(animals!AW7>0,animals!AW7,"") -> 10.447761 | G25: =IF(animals!AW8>0,animals!AW8,"") -> 2.4875622 | H25: =IF(animals!AW11>0,animals!AW11,"") -> 12.935323 | I25: =IF(animals!AW12>0,animals!AW12,"") -> 6.9651741 | J25: =IF(animals!AW13>0,animals!AW13,"") -> 9.4527363 | K25: =IF(animals!AW15>0,animals!AW15,"") -> 33.830846 | L25: =IF(animals!AW17>0,animals!AW17,"") -> 33.830846 | M25: =IF(animals!AW18>0,animals!AW18,"") -> 20.895522 | N25: =IF(animals!AW19>0,animals!AW19,"") -> 30.845771 | O25: =IF(animals!AW20>0,animals!AW20,"") -> 18.40796 | P25: =IF(animals!AW22>0,animals!AW22,"") -> 33.333333 | Q25: =IF(animals!AW23>0,animals!AW23,"") -> 22.38806 | R25: =IF(animals!AW24>0,animals!AW24,"") -> 32.338308 | S25: =IF(animals!AW25>0,animals!AW25,"") -> 19.402985 | T25: =IF(animals!AW27>0,animals!AW27,"") -> 33.830846 | U25: =IF(animals!AW28>0,animals!AW28,"") -> 21.890547 | V25: =IF(animals!AW29>0,animals!AW29,"") -> 31.343284 | W25: =IF(animals!AW30>0,animals!AW30,"") -> 15.422886 | X25: =IF(animals!AW32>0,animals!AW32,"") -> 33.830846 | Y25: =IF(animals!AW33>0,animals!AW33,"") -> 20.39801 | Z25: =IF(animals!AW34>0,animals!AW34,"") -> 33.333333 | AA25: =IF(animals!AW35>0,animals!AW35,"") -> 17.412935
A26: =A$2 -> Minibiotus jonesorum | B26: US.200.06 | C26: =animals!AX1 -> 25 | D26: =IF(animals!AY3>0,animals!AY3,"") -> 988.65979 | E26: =IF(animals!AY6>0,animals!AY6,"") -> 67.353952 | F26: =IF(animals!AY7>0,animals!AY7,"") -> 8.9347079 | G26: =IF(animals!AY8>0,animals!AY8,"") -> 3.0927835 | H26: =IF(animals!AY11>0,animals!AY11,"") -> 12.027491 | I26: =IF(animals!AY12>0,animals!AY12,"") -> 8.9347079 | J26: =IF(animals!AY13>0,animals!AY13,"") -> 9.6219931 | K26: =IF(animals!AY15>0,animals!AY15,"") -> 34.020619 | L26: =IF(animals!AY17>0,animals!AY17,"") -> 29.209622 | M26: =IF(animals!AY18>0,animals!AY18,"") -> 21.993127 | N26: =IF(animals!AY19>0,animals!AY19,"") -> 27.835052 | O26: =IF(animals!AY20>0,animals!AY20,"") -> 20.618557 | P26: =IF(animals!AY22>0,animals!AY22,"") -> 31.271478 | Q26: =IF(animals!AY23>0,animals!AY23,"") -> 25.429553 | R26: =IF(animals!AY24>0,animals!AY24,"") -> 28.522337 | S26: =IF(animals!AY25>0,animals!AY25,"") -> 20.962199 | T26: =IF(animals!AY27>0,animals!AY27,"") -> 34.020619 | U26: =IF(animals!AY28>0,animals!AY28,"") -> 25.429553 | V26: =IF(animals!AY29>0,animals!AY29,"") -> 32.302405 | W26: =IF(animals!AY30>0,animals!AY30,"") -> 24.054983 | X26: =IF(animals!AY32>0,animals!AY32,"") -> 36.426117 | Y26: =IF(animals!AY33>0,animals!AY33,"") -> 30.584192 | Z26: =IF(animals!AY34>0,animals!AY34,"") -> 33.676976 | AA26: =IF(animals!AY35>0,animals!AY35,"") -> 24.742268
A27: =A$2 -> Minibiotus jonesorum | B27: US.200.07 | C27: =animals!AZ1 -> 26 | D27: =IF(animals!BA3>0,animals!BA3,"") -> 1175.4717 | E27: =IF(animals!BA6>0,animals!BA6,"") -> 67.54717 | F27: =IF(animals!BA7>0,animals!BA7,"") -> 10.566038 | G27: =IF(animals!BA8>0,animals!BA8,"") -> 2.6415094 | H27: =IF(animals!BA11>0,animals!BA11,"") -> 10.566038 | I27: =IF(animals!BA12>0,animals!BA12,"") -> 7.9245283 | J27: =IF(animals!BA13>0,animals!BA13,"") -> 9.8113208 | K27: =IF(animals!BA15>0,animals!BA15,"") -> 32.45283 | L27: =IF(animals!BA17>0,animals!BA17,"") -> 33.207547 | M27: =IF(animals!BA18>0,animals!BA18,"") -> 21.132075 | N27: =IF(animals!BA19>0,animals!BA19,"") -> 20 | O27: =IF(animals!BA20>0,animals!BA20,"") -> 17.358491 | P27: =IF(animals!BA22>0,animals!BA22,"") -> 33.584906 | Q27: =IF(animals!BA23>0,animals!BA23,"") -> 27.54717 | R27: =IF(animals!BA24>0,animals!BA24,"") -> 30.943396 | S27: =IF(animals!BA25>0,animals!BA25,"") -> 17.358491 | T27: =IF(animals!BA27>0,animals!BA27,"") -> 34.339623 | U27: =IF(animals!BA28>0,animals!BA28,"") -> 26.792453 | V27: =IF(animals!BA29>0,animals!BA29,"") -> 33.962264 | W27: =IF(animals!BA30>0,animals!BA30,"") -> 25.283019 | X27: =IF(animals!BA32>0,animals!BA32,"") -> 40.377358 | Y27: =IF(animals!BA33>0,animals!BA33,"") -> 29.811321 | Z27: =IF(animals!BA34>0,animals!BA34,"") -> 40.377358 | AA27: =IF(animals!BA35>0,animals!BA35,"") -> 28.301887
A28: =A$2 -> Minibiotus jonesorum | B28: US.200.07 | C28: =animals!BB1 -> 27 | D28: =IF(animals!BC3>0,animals!BC3,"") -> 1099.2727 | E28: =IF(animals!BC6>0,animals!BC6,"") -> 67.636364 | F28: =IF(animals!BC7>0,animals!BC7,"") -> 8.3636364 | G28: =IF(animals!BC8>0,animals!BC8,"") -> 2.5454545 | H28: =IF(animals!BC11>0,animals!BC11,"") -> 12 | I28: =IF(animals!BC12>0,animals!BC12,"") -> 9.4545455 | J28: =IF(animals!BC13>0,animals!BC13,"") -> 10.909091 | K28: =IF(animals!BC15>0,animals!BC15,"") -> 34.909091 | L28: =IF(animals!BC17>0,animals!BC17,"") -> 30.545455 | M28: =IF(animals!BC18>0,animals!BC18,"") -> 23.636364 | N28: =IF(animals!BC19>0,animals!BC19,"") -> 29.818182 | O28: =IF(animals!BC20>0,animals!BC20,"") -> 22.181818 | P28: =IF(animals!BC22>0,animals!BC22,"") -> 32.363636 | Q28: =IF(animals!BC23>0,animals!BC23,"") -> 24.727273 | R28: =IF(animals!BC24>0,animals!BC24,"") -> 31.636364 | S28: =IF(animals!BC25>0,animals!BC25,"") -> 22.909091 | T28: =IF(animals!BC27>0,animals!BC27,"") -> 31.636364 | U28: =IF(animals!BC28>0,animals!BC28,"") -> 23.636364 | V28: =IF(animals!BC29>0,animals!BC29,"") -> 30.181818 | W28: =IF(animals!BC30>0,animals!BC30,"") -> 21.454545 | X28: =IF(animals!BC32>0,animals!BC32,"") -> 40 | Y28: =IF(animals!BC33>0,animals!BC33,"") -> 25.454545 | Z28: =IF(animals!BC34>0,animals!BC34,"") -> 35.636364 | AA28: =IF(animals!BC35>0,animals!BC35,"") -> 24.727273
A29: =A$2 -> Minibiotus jonesorum | B29: US.200.08 | C29: =animals!BD1 -> 28 | D29: =IF(animals!BE3>0,animals!BE3,"") -> 1280.0687 | E29: =IF(animals!BE6>0,animals!BE6,"") -> 68.041237 | F29: =IF(animals!BE7>0,animals!BE7,"") -> 8.2474227 | G29: =IF(animals!BE8>0,animals!BE8,"") -> 3.4364261 | H29: =IF(animals!BE11>0,animals!BE11,"") -> 11.340206 | I29: =IF(animals!BE12>0,animals!BE12,"") -> 8.5910653 | J29: =IF(animals!BE13>0,animals!BE13,"") -> 9.6219931 | K29: =IF(animals!BE15>0,animals!BE15,"") -> 35.051546 | L29: =IF(animals!BE17>0,animals!BE17,"") -> 31.271478 | M29: =IF(animals!BE18>0,animals!BE18,"") -> 23.367698 | N29: =IF(animals!BE19>0,animals!BE19,"") -> 29.209622 | O29: =IF(animals!BE20>0,animals!BE20,"") -> 22.680412 | P29: =IF(animals!BE22>0,animals!BE22,"") -> 32.646048 | Q29: =IF(animals!BE23>0,animals!BE23,"") -> 25.085911 | R29: =IF(animals!BE24>0,animals!BE24,"") -> 31.271478 | S29: =IF(animals!BE25>0,animals!BE25,"") -> 23.024055 | T29: =IF(animals!BE27>0,animals!BE27,"") -> 34.020619 | U29: =IF(animals!BE28>0,animals!BE28,"") -> 22.33677 | V29: =IF(animals!BE29>0,animals!BE29,"") -> 32.989691 | W29: =IF(animals!BE30>0,animals!BE30,"") -> 24.742268 | X29: =IF(animals!BE32>0,animals!BE32,"") -> 40.893471 | Y29: =IF(animals!BE33>0,animals!BE33,"") -> 27.147766 | Z29: =IF(animals!BE34>0,animals!BE34,"") -> 35.738832 | AA29: =IF(animals!BE35>0,animals!BE35,"") -> 21.305842
A30: =A$2 -> Minibiotus jonesorum | B30: US.200.09 | C30: =animals!BF1 -> 29 | D30: =IF(animals!BG3>0,animals!BG3,"") -> 1149.8246 | E30: =IF(animals!BG6>0,animals!BG6,"") -> 68.421053 | F30: =IF(animals!BG7>0,animals!BG7,"") -> 9.8245614 | G30: =IF(animals!BG8>0,animals!BG8,"") -> 2.8070175 | H30: =IF(animals!BG11>0,animals!BG11,"") -> 11.22807 | I30: =IF(animals!BG12>0,animals!BG12,"") -> 8.4210526 | J30: =IF(animals!BG13>0,animals!BG13,"") -> 9.8245614 | K30: =IF(animals!BG15>0,animals!BG15,"") -> 35.087719 | L30: =IF(animals!BG17>0,animals!BG17,"") -> 30.526316 | M30: =IF(animals!BG18>0,animals!BG18,"") -> 22.105263 | N30: =IF(animals!BG19>0,animals!BG19,"") -> 30.175439 | O30: =IF(animals!BG20>0,animals!BG20,"") -> 18.947368 | P30: =IF(animals!BG22>0,animals!BG22,"") -> 33.684211 | Q30: =IF(animals!BG23>0,animals!BG23,"") -> 27.017544 | R30: =IF(animals!BG24>0,animals!BG24,"") -> 32.982456 | S30: =IF(animals!BG25>0,animals!BG25,"") -> 26.315789 | T30: =IF(animals!BG27>0,animals!BG27,"") -> 33.684211 | U30: =IF(animals!BG28>0,animals!BG28,"") -> 24.561404 | V30: =IF(animals!BG29>0,animals!BG29,"") -> 31.22807 | W30: =IF(animals!BG30>0,animals!BG30,"") -> 24.561404 | X30: =IF(animals!BG32>0,animals!BG32,"") -> 40 | Y30: =IF(animals!BG33>0,animals!BG33,"") -> 31.578947 | Z30: =IF(animals!BG34>0,animals!BG34,"") -> 39.298246 | AA30: =IF(animals!BG35>0,animals!BG35,"") -> 28.421053
A31: =A$2 -> Minibiotus jonesorum | B31: US.200.10 | C31: =animals!BH1 -> 30 | D31: =IF(animals!BI3>0,animals!BI3,"") -> 1035.2941 | E31: =IF(animals!BI6>0,animals!BI6,"") -> 66.993464 | F31: =IF(animals!BI7>0,animals!BI7,"") -> 6.8627451 | G31: =IF(animals!BI8>0,animals!BI8,"") -> 2.2875817 | H31: =IF(animals!BI11>0,animals!BI11,"") -> 11.764706 | I31: =IF(animals!BI12>0,animals!BI12,"") -> 8.496732 | J31: =IF(animals!BI13>0,animals!BI13,"") -> 10.457516 | K31: =IF(animals!BI15>0,animals!BI15,"") -> 31.372549 | L31: =IF(animals!BI17>0,animals!BI17,"") -> 28.431373 | M31: =IF(animals!BI18>0,animals!BI18,"") -> 24.836601 | N31: =IF(animals!BI19>0,animals!BI19,"") -> 28.104575 | O31: =IF(animals!BI20>0,animals!BI20,"") -> 21.895425 | P31: =IF(animals!BI22>0,animals!BI22,"") -> 31.372549 | Q31: =IF(animals!BI23>0,animals!BI23,"") -> 23.856209 | R31: =IF(animals!BI24>0,animals!BI24,"") -> 31.045752 | S31: =IF(animals!BI25>0,animals!BI25,"") -> 23.529412 | T31: =IF(animals!BI27>0,animals!BI27,"") -> 30.718954 | U31: =IF(animals!BI28>0,animals!BI28,"") -> 24.509804 | V31: =IF(animals!BI29>0,animals!BI29,"") -> 30.392157 | W31: =IF(animals!BI30>0,animals!BI30,"") -> 22.54902 | X31: =IF(animals!BI32>0,animals!BI32,"") -> 35.620915 | Y31: =IF(animals!BI33>0,animals!BI33,"") -> 26.143791 | Z31: =IF(animals!BI34>0,animals!BI34,"") -> 34.96732 | AA31: =IF(animals!BI35>0,animals!BI35,"") -> 25.816993

Sheet eggs (µm)
A1: Species | B1: Population | C1: egg | D1: Egg bare diameter | E1: Egg full diameter | F1: Process height | G1: Process base width | H1: Process base/height ratio | I1: Inter-process distance | J1: Number of processes on the egg circumference
A2: ='general info'!D2 -> Minibiotus jonesorum | B2: US.198.09 | C2: =eggs!B1 -> 1 | D2: =IF(eggs!B2>0,eggs!B2,"") -> 77.5 | E2: =IF(eggs!B3>0,eggs!B3,"") -> 84.1 | F2: =IF(SUM(eggs!B4:B6)>0,AVERAGE(eggs!B4:B6),"") -> 10.466667 | G2: =IF(SUM(eggs!B7:B9)>0,AVERAGE(eggs!B7:B9),"") -> 5.4666667 | H2: =IF(SUM(eggs!B10:B12)>0,AVERAGE(eggs!B10:B12),"") -> 0.52738725 | I2: =IF(SUM(eggs!B13:B15)>0,AVERAGE(eggs!B13:B15),"") -> 2.8666667 | J2: =IF(eggs!B16>0,eggs!B16,"") -> 25
A3: =A$2 -> Minibiotus jonesorum | B3: US.200.11 | C3: =eggs!C1 -> 2 | D3: =IF(eggs!C2>0,eggs!C2,"") -> 74.7 | E3: =IF(eggs!C3>0,eggs!C3,"") -> 85.4 | F3: =IF(SUM(eggs!C4:C6)>0,AVERAGE(eggs!C4:C6),"") -> 11.866667 | G3: =IF(SUM(eggs!C7:C9)>0,AVERAGE(eggs!C7:C9),"") -> 6.7 | H3: =IF(SUM(eggs!C10:C12)>0,AVERAGE(eggs!C10:C12),"") -> 0.56477082 | I3: =IF(SUM(eggs!C13:C15)>0,AVERAGE(eggs!C13:C15),"") -> 3.6 | J3: =IF(eggs!C16>0,eggs!C16,"") -> 24
A4: =A$2 -> Minibiotus jonesorum | B4: US.200.12 | C4: =eggs!D1 -> 3 | D4: =IF(eggs!D2>0,eggs!D2,"") -> - | E4: =IF(eggs!D3>0,eggs!D3,"") -> - | F4: =IF(SUM(eggs!D4:D6)>0,AVERAGE(eggs!D4:D6),"") -> 11.6 | G4: =IF(SUM(eggs!D7:D9)>0,AVERAGE(eggs!D7:D9),"") -> 5.6 | H4: =IF(SUM(eggs!D10:D12)>0,AVERAGE(eggs!D10:D12),"") -> 0.48624005 | I4: =IF(SUM(eggs!D13:D15)>0,AVERAGE(eggs!D13:D15),"") -> 3.2666667 | J4: =IF(eggs!D16>0,eggs!D16,"") -> 23
A5: =A$2 -> Minibiotus jonesorum | B5: US.200.13 | C5: =eggs!E1 -> 4 | D5: =IF(eggs!E2>0,eggs!E2,"") -> 78.1 | E5: =IF(eggs!E3>0,eggs!E3,"") -> 88.7 | F5: =IF(SUM(eggs!E4:E6)>0,AVERAGE(eggs!E4:E6),"") -> 12.7 | G5: =IF(SUM(eggs!E7:E9)>0,AVERAGE(eggs!E7:E9),"") -> 5.6333333 | H5: =IF(SUM(eggs!E10:E12)>0,AVERAGE(eggs!E10:E12),"") -> 0.44102085 | I5: =IF(SUM(eggs!E13:E15)>0,AVERAGE(eggs!E13:E15),"") -> 3.2666667 | J5: =IF(eggs!E16>0,eggs!E16,"") -> 22
A6: =A$2 -> Minibiotus jonesorum | B6: US.200.14 | C6: =eggs!F1 -> 5 | D6: =IF(eggs!F2>0,eggs!F2,"") -> 70.3 | E6: =IF(eggs!F3>0,eggs!F3,"") -> 81 | F6: =IF(SUM(eggs!F4:F6)>0,AVERAGE(eggs!F4:F6),"") -> 9.3666667 | G6: =IF(SUM(eggs!F7:F9)>0,AVERAGE(eggs!F7:F9),"") -> 6.2333333 | H6: =IF(SUM(eggs!F10:F12)>0,AVERAGE(eggs!F10:F12),"") -> 0.66926714 | I6: =IF(SUM(eggs!F13:F15)>0,AVERAGE(eggs!F13:F15),"") -> 3 | J6: =IF(eggs!F16>0,eggs!F16,"") -> 24
