Workbook

Sheet Supplementary Table 4
A1: Transcriptional repression of TGFB2-AS1 by GATA6 drives triple-negative breast cancer metastasis
A2: Supplementary table 4: Information for breast cancer patients from TCGA and GATA6 protein from TCPA
A3: sample | B3: patient | C3: OS | D3: OS.time | E3: TGFB2-AS1-RNA | F3: GATA6 protein | G3: PAM50Call_RNAseq | H3: pathologic_stage | I3: ajcc_pathologic_n.diagnoses | J3: Sample_Type | K3: Tumor_nature2012
A4: TCGA-AO-A0JL-01 | B4: TCGA-AO-A0JL | C4: 0 | D4: 1683 | E4: 0.8299 | F4: 19.56 | G4: Basal | H4: Stage IIIA | I4: N2a | J4: #N/A | K4: =VLOOKUP(A4,[1]GATA6与分期分型!$A:$B,2,FALSE) -> T2
A5: TCGA-BH-A1FE-06 | B5: TCGA-BH-A1FE | C5: 1 | D5: 2273 | E5: #N/A | F5: 19.24 | G5: Normal | H5: #N/A | I5: N1 | J5: Primary | K5: =VLOOKUP(A5,[1]GATA6与分期分型!$A:$B,2,FALSE) -> #N/A
A6: TCGA-A8-A07R-01 | B6: TCGA-A8-A07R | C6: 0 | D6: 273 | E6: 0.10699999999999998 | F6: 18.64 | G6: Basal | H6: Stage IIIC | I6: N3a | J6: Primary | K6: =VLOOKUP(A6,[1]GATA6与分期分型!$A:$B,2,FALSE) -> T2
A7: TCGA-B6-A409-01 | B7: TCGA-B6-A409 | C7: 1 | D7: 573 | E7: #N/A | F7: 18.63 | G7: #N/A | H7: #N/A | I7: N2a | J7: #N/A | K7: =VLOOKUP(A7,[1]GATA6与分期分型!$A:$B,2,FALSE) -> #N/A
A8: TCGA-B6-A0WX-01 | B8: TCGA-B6-A0WX | C8: 1 | D8: 639 | E8: 0.813 | F8: 18.47 | G8: Basal | H8: Stage IIIA | I8: N1b | J8: Primary | K8: =VLOOKUP(A8,[1]GATA6与分期分型!$A:$B,2,FALSE) -> T3
A9: TCGA-A2-A0YJ-01 | B9: TCGA-A2-A0YJ | C9: 0 | D9: 566 | E9: 0.3023 | F9: 18.2 | G9: Basal | H9: Stage IIIA | I9: N2a | J9: #N/A | K9: =VLOOKUP(A9,[1]GATA6与分期分型!$A:$B,2,FALSE) -> T3
A10: TCGA-A8-A08R-01 | B10: TCGA-A8-A08R | C10: 0 | D10: 30 | E10: 0.3612 | F10: 18.08 | G10: #N/A | H10: #N/A | I10: N1a | J10: #N/A | K10: =VLOOKUP(A10,[1]GATA6与分期分型!$A:$B,2,FALSE) -> #N/A
A11: TCGA-AC-A2BK-01 | B11: TCGA-AC-A2BK | C11: 0 | D11: 2222 | E11: #N/A | F11: 17.87 | G11: Basal | H11: #N/A | I11: N2a | J11: Primary | K11: =VLOOKUP(A11,[1]GATA6与分期分型!$A:$B,2,FALSE) -> #N/A
A12: TCGA-PL-A8LZ-01 | B12: TCGA-PL-A8LZ | C12: 0 | D12: 302 | E12: #N/A | F12: 17.75 | G12: #N/A | H12: #N/A | I12: N2 | J12: #N/A | K12: =VLOOKUP(A12,[1]GATA6与分期分型!$A:$B,2,FALSE) -> #N/A
A13: TCGA-A2-A3XT-01 | B13: TCGA-A2-A3XT | C13: 0 | D13: 2770 | E13: #N/A | F13: 17.84 | G13: 0 | H13: #N/A | I13: N1a | J13: #N/A | K13: =VLOOKUP(A13,[1]GATA6与分期分型!$A:$B,2,FALSE) -> #N/A
A14: TCGA-AN-A04D-01 | B14: TCGA-AN-A04D | C14: 0 | D14: 52 | E14: 0.3965 | F14: 17.64 | G14: Basal | H14: Stage IIB | I14: N1 | J14: Primary | K14: =VLOOKUP(A14,[1]GATA6与分期分型!$A:$B,2,FALSE) -> T2
A15: TCGA-E2-A1LK-01 | B15: TCGA-E2-A1LK | C15: 1 | D15: 266 | E15: 0.1561 | F15: 17.71 | G15: Basal | H15: Stage IIIC | I15: N3a | J15: Primary | K15: =VLOOKUP(A15,[1]GATA6与分期分型!$A:$B,2,FALSE) -> T3
A16: TCGA-BH-A1FH-11 | B16: TCGA-BH-A1FH | C16: 1 | D16: 1034 | E16: #N/A | F16: 17.33 | G16: #N/A | H16: #N/A | I16: N1b | J16: #N/A | K16: =VLOOKUP(A16,[1]GATA6与分期分型!$A:$B,2,FALSE) -> #N/A
A17: TCGA-OL-A66I-01 | B17: TCGA-OL-A66I | C17: 0 | D17: 714 | E17: #N/A | F17: 17.28 | G17: #N/A | H17: #N/A | I17: N1mi | J17: Primary | K17: =VLOOKUP(A17,[1]GATA6与分期分型!$A:$B,2,FALSE) -> #N/A
A18: TCGA-AC-A8OQ-01 | B18: TCGA-AC-A8OQ | C18: 0 | D18: 34 | E18: #N/A | F18: 17.23 | G18: 0 | H18: #N/A | I18: N1a | J18: #N/A | K18: =VLOOKUP(A18,[1]GATA6与分期分型!$A:$B,2,FALSE) -> #N/A
A19: TCGA-BH-A1FJ-11 | B19: TCGA-BH-A1FJ | C19: 1 | D19: 1927 | E19: #N/A | F19: 17.16 | G19: #N/A | H19: #N/A | I19: N1b | J19: #N/A | K19: =VLOOKUP(A19,[1]GATA6与分期分型!$A:$B,2,FALSE) -> #N/A
A20: TCGA-BH-A0HK-11 | B20: TCGA-BH-A0HK | C20: 0 | D20: 178 | E20: #N/A | F20: 17.14 | G20: #N/A | H20: #N/A | I20: N1 | J20: Primary | K20: =VLOOKUP(A20,[1]GATA6与分期分型!$A:$B,2,FALSE) -> #N/A
A21: TCGA-AR-A0TS-01 | B21: TCGA-AR-A0TS | C21: 0 | D21: 2558 | E21: 0.17570000000000002 | F21: 16.83 | G21: Basal | H21: Stage IIB | I21: N1 | J21: #N/A | K21: =VLOOKUP(A21,[1]GATA6与分期分型!$A:$B,2,FALSE) -> T2
A22: TCGA-E9-A1N6-01 | B22: TCGA-E9-A1N6 | C22: 1 | D22: 678 | E22: #N/A | F22: 17.04 | G22: LumB | H22: #N/A | I22: N1 | J22: #N/A | K22: =VLOOKUP(A22,[1]GATA6与分期分型!$A:$B,2,FALSE) -> #N/A
A23: TCGA-A2-A0CV-01 | B23: TCGA-A2-A0CV | C23: 0 | D23: 3011 | E23: 0.4371 | F23: 16.91 | G23: LumA | H23: Stage IIB | I23: N1a | J23: Primary | K23: =VLOOKUP(A23,[1]GATA6与分期分型!$A:$B,2,FALSE) -> T2
A24: TCGA-A2-A3XS-01 | B24: TCGA-A2-A3XS | C24: 1 | D24: 1032 | E24: #N/A | F24: 16.88 | G24: #N/A | H24: #N/A | I24: N2a | J24: Primary | K24: =VLOOKUP(A24,[1]GATA6与分期分型!$A:$B,2,FALSE) -> #N/A
A25: TCGA-D8-A13Z-01 | B25: TCGA-D8-A13Z | C25: 0 | D25: 635 | E25: 0.3398 | F25: 16.76 | G25: Her2 | H25: #N/A | I25: N2a | J25: #N/A | K25: =VLOOKUP(A25,[1]GATA6与分期分型!$A:$B,2,FALSE) -> #N/A
A26: TCGA-AC-A3YI-01 | B26: TCGA-AC-A3YI | C26: 0 | D26: 707 | E26: #N/A | F26: 16.84 | G26: #N/A | H26: #N/A | I26: N3a | J26: #N/A | K26: =VLOOKUP(A26,[1]GATA6与分期分型!$A:$B,2,FALSE) -> #N/A
A27: TCGA-AR-A2LH-01 | B27: TCGA-AR-A2LH | C27: 1 | D27: 616 | E27: #N/A | F27: 16.71 | G27: Normal | H27: #N/A | I27: N3 | J27: Primary | K27: =VLOOKUP(A27,[1]GATA6与分期分型!$A:$B,2,FALSE) -> #N/A
A28: TCGA-EW-A1PH-01 | B28: TCGA-EW-A1PH | C28: 0 | D28: 607 | E28: 0.3351 | F28: 16.77 | G28: #N/A | H28: #N/A | I28: N1a | J28: Primary | K28: =VLOOKUP(A28,[1]GATA6与分期分型!$A:$B,2,FALSE) -> #N/A
A29: TCGA-BH-A1FC-01 | B29: TCGA-BH-A1FC | C29: 1 | D29: 3472 | E29: 0.8152999999999999 | F29: 16.63 | G29: Basal | H29: Stage IIA | I29: N1b | J29: Primary | K29: =VLOOKUP(A29,[1]GATA6与分期分型!$A:$B,2,FALSE) -> T1
A30: TCGA-E2-A108-01 | B30: TCGA-E2-A108 | C30: 0 | D30: 837 | E30: 0.034 | F30: 16.66 | G30: Normal | H30: Stage IIIA | I30: N2a | J30: Primary | K30: =VLOOKUP(A30,[1]GATA6与分期分型!$A:$B,2,FALSE) -> T2
A31: TCGA-A2-A04P-01 | B31: TCGA-A2-A04P | C31: 1 | D31: 548 | E31: 0.1501 | F31: 17.1 | G31: Basal | H31: Stage IIIC | I31: N3c | J31: Primary | K31: =VLOOKUP(A31,[1]GATA6与分期分型!$A:$B,2,FALSE) -> T2
A32: TCGA-E2-A14N-01 | B32: TCGA-E2-A14N | C32: 0 | D32: 1434 | E32: 0.066 | F32: 16.79 | G32: Basal | H32: Stage IIB | I32: N1 | J32: Primary | K32: =VLOOKUP(A32,[1]GATA6与分期分型!$A:$B,2,FALSE) -> T2
A33: TCGA-E9-A1N6-11 | B33: TCGA-E9-A1N6 | C33: 1 | D33: 678 | E33: #N/A | F33: 16.55 | G33: Normal | H33: #N/A | I33: N1 | J33: Primary | K33: =VLOOKUP(A33,[1]GATA6与分期分型!$A:$B,2,FALSE) -> #N/A
A34: TCGA-B6-A400-01 | B34: TCGA-B6-A400 | C34: 0 | D34: 215 | E34: #N/A | F34: 16.58 | G34: #N/A | H34: #N/A | I34: N2a | J34: Primary | K34: =VLOOKUP(A34,[1]GATA6与分期分型!$A:$B,2,FALSE) -> #N/A
A35: TCGA-E2-A158-11 | B35: TCGA-E2-A158 | C35: 0 | D35: 450 | E35: #N/A | F35: 16.78 | G35: #N/A | H35: #N/A | I35: N1mi | J35: Primary | K35: =VLOOKUP(A35,[1]GATA6与分期分型!$A:$B,2,FALSE) -> #N/A
A36: TCGA-BH-A18U-11 | B36: TCGA-BH-A18U | C36: 1 | D36: 1563 | E36: #N/A | F36: 16.44 | G36: #N/A | H36: #N/A | I36: N2a | J36: Primary | K36: =VLOOKUP(A36,[1]GATA6与分期分型!$A:$B,2,FALSE) -> #N/A
A37: TCGA-BH-A5IZ-01 | B37: TCGA-BH-A5IZ | C37: 0 | D37: 567 | E37: #N/A | F37: 16.59 | G37: #N/A | H37: #N/A | I37: N1a | J37: Primary | K37: =VLOOKUP(A37,[1]GATA6与分期分型!$A:$B,2,FALSE) -> #N/A
A38: TCGA-BH-A1F0-11 | B38: TCGA-BH-A1F0 | C38: 1 | D38: 785 | E38: #N/A | F38: 16.53 | G38: #N/A | H38: #N/A | I38: N1c | J38: Primary | K38: =VLOOKUP(A38,[1]GATA6与分期分型!$A:$B,2,FALSE) -> #N/A
A39: TCGA-AR-A24U-01 | B39: TCGA-AR-A24U | C39: 0 | D39: 3128 | E39: 0.2153 | F39: 16.54 | G39: Her2 | H39: Stage IIA | I39: N1 | J39: Primary | K39: =VLOOKUP(A39,[1]GATA6与分期分型!$A:$B,2,FALSE) -> T1
A40: TCGA-D8-A1JF-01 | B40: TCGA-D8-A1JF | C40: 0 | D40: 366 | E40: 0.5268 | F40: 16.63 | G40: Her2 | H40: Stage IIIA | I40: N2a | J40: Primary | K40: =VLOOKUP(A40,[1]GATA6与分期分型!$A:$B,2,FALSE) -> T1
A41: TCGA-EW-A1P1-01 | B41: TCGA-EW-A1P1 | C41: 0 | D41: 1210 | E41: 0.0086 | F41: 16.5 | G41: 0 | H41: Stage IIIC | I41: N3b | J41: Primary | K41: =VLOOKUP(A41,[1]GATA6与分期分型!$A:$B,2,FALSE) -> T2
A42: TCGA-AN-A04C-01 | B42: TCGA-AN-A04C | C42: 0 | D42: 54 | E42: 0.277 | F42: 16.66 | G42: #N/A | H42: #N/A | I42: N1 | J42: #N/A | K42: =VLOOKUP(A42,[1]GATA6与分期分型!$A:$B,2,FALSE) -> #N/A
A43: TCGA-A7-A6VY-01 | B43: TCGA-A7-A6VY | C43: 0 | D43: 266 | E43: #N/A | F43: 16.42 | G43: #N/A | H43: #N/A | I43: N1 | J43: Primary | K43: =VLOOKUP(A43,[1]GATA6与分期分型!$A:$B,2,FALSE) -> #N/A
A44: TCGA-E2-A153-11 | B44: TCGA-E2-A153 | C44: 0 | D44: 707 | E44: #N/A | F44: 16.29 | G44: #N/A | H44: #N/A | I44: N1a | J44: #N/A | K44: =VLOOKUP(A44,[1]GATA6与分期分型!$A:$B,2,FALSE) -> #N/A
A45: TCGA-D8-A1JN-01 | B45: TCGA-D8-A1JN | C45: 0 | D45: 620 | E45: 0.5982 | F45: 16.42 | G45: LumA | H45: Stage IIIC | I45: N3a | J45: Primary | K45: =VLOOKUP(A45,[1]GATA6与分期分型!$A:$B,2,FALSE) -> T3
A46: TCGA-BH-A0DS-01 | B46: TCGA-BH-A0DS | C46: 0 | D46: 78 | E46: 0.6269 | F46: 16.43 | G46: LumA | H46: Stage IIIA | I46: N2a | J46: #N/A | K46: =VLOOKUP(A46,[1]GATA6与分期分型!$A:$B,2,FALSE) -> T2
A47: TCGA-AO-A0JE-01 | B47: TCGA-AO-A0JE | C47: 0 | D47: 2335 | E47: 0.4255 | F47: 16.47 | G47: Her2 | H47: Stage IIIA | I47: N2a | J47: Primary | K47: =VLOOKUP(A47,[1]GATA6与分期分型!$A:$B,2,FALSE) -> T2
A48: TCGA-BH-A0DV-11 | B48: TCGA-BH-A0DV | C48: 0 | D48: 2064 | E48: #N/A | F48: 16.21 | G48: #N/A | H48: #N/A | I48: N2a | J48: Primary | K48: =VLOOKUP(A48,[1]GATA6与分期分型!$A:$B,2,FALSE) -> #N/A
A49: TCGA-D8-A1JM-01 | B49: TCGA-D8-A1JM | C49: 0 | D49: 590 | E49: 0.6159 | F49: 16.43 | G49: Basal | H49: Stage IIB | I49: N1a | J49: #N/A | K49: =VLOOKUP(A49,[1]GATA6与分期分型!$A:$B,2,FALSE) -> T2
A50: TCGA-AR-A5QN-01 | B50: TCGA-AR-A5QN | C50: 0 | D50: 1013 | E50: #N/A | F50: 16.17 | G50: 0 | H50: #N/A | I50: N3 | J50: Primary | K50: =VLOOKUP(A50,[1]GATA6与分期分型!$A:$B,2,FALSE) -> #N/A
A51: TCGA-C8-A135-01 | B51: TCGA-C8-A135 | C51: 0 | D51: 393 | E51: 0.1892 | F51: 16.49 | G51: Her2 | H51: Stage IIB | I51: N1 | J51: #N/A | K51: =VLOOKUP(A51,[1]GATA6与分期分型!$A:$B,2,FALSE) -> T2
A52: TCGA-BH-A1FM-11 | B52: TCGA-BH-A1FM | C52: 1 | D52: 1388 | E52: #N/A | F52: 16.21 | G52: #N/A | H52: #N/A | I52: N2 | J52: Primary | K52: =VLOOKUP(A52,[1]GATA6与分期分型!$A:$B,2,FALSE) -> #N/A
A53: TCGA-LL-A5YP-01 | B53: TCGA-LL-A5YP | C53: 0 | D53: 450 | E53: #N/A | F53: 16.29 | G53: 0 | H53: #N/A | I53: N1a | J53: Primary | K53: =VLOOKUP(A53,[1]GATA6与分期分型!$A:$B,2,FALSE) -> #N/A
A54: TCGA-EW-A424-01 | B54: TCGA-EW-A424 | C54: 0 | D54: 715 | E54: #N/A | F54: 16.24 | G54: 0 | H54: #N/A | I54: N1 | J54: #N/A | K54: =VLOOKUP(A54,[1]GATA6与分期分型!$A:$B,2,FALSE) -> #N/A
A55: TCGA-E2-A1AZ-01 | B55: TCGA-E2-A1AZ | C55: 0 | D55: 2329 | E55: 0.1303 | F55: 16.14 | G55: Basal | H55: Stage IIB | I55: N1a | J55: Primary | K55: =VLOOKUP(A55,[1]GATA6与分期分型!$A:$B,2,FALSE) -> T2
A56: TCGA-E2-A1B0-01 | B56: TCGA-E2-A1B0 | C56: 0 | D56: 1631 | E56: 0.5013 | F56: 16.3 | G56: Her2 | H56: Stage IIIA | I56: N2 | J56: Primary | K56: =VLOOKUP(A56,[1]GATA6与分期分型!$A:$B,2,FALSE) -> T2
A57: TCGA-E2-A1IG-11 | B57: TCGA-E2-A1IG | C57: 0 | D57: 2140 | E57: #N/A | F57: 16.36 | G57: #N/A | H57: #N/A | I57: N1mi | J57: Primary | K57: =VLOOKUP(A57,[1]GATA6与分期分型!$A:$B,2,FALSE) -> #N/A
A58: TCGA-OL-A5RV-01 | B58: TCGA-OL-A5RV | C58: 0 | D58: 1062 | E58: #N/A | F58: 16.04 | G58: 0 | H58: #N/A | I58: N3 | J58: Primary | K58: =VLOOKUP(A58,[1]GATA6与分期分型!$A:$B,2,FALSE) -> #N/A
A59: TCGA-BH-A0DT-11 | B59: TCGA-BH-A0DT | C59: 0 | D59: 2403 | E59: #N/A | F59: 16.11 | G59: #N/A | H59: #N/A | I59: N1a | J59: #N/A | K59: =VLOOKUP(A59,[1]GATA6与分期分型!$A:$B,2,FALSE) -> #N/A
A60: TCGA-B6-A3ZX-01 | B60: TCGA-B6-A3ZX | C60: 1 | D60: 1152 | E60: #N/A | F60: 16.07 | G60: #N/A | H60: #N/A | I60: N1 | J60: Primary | K60: =VLOOKUP(A60,[1]GATA6与分期分型!$A:$B,2,FALSE) -> #N/A
A61: TCGA-A7-A5ZX-01 | B61: TCGA-A7-A5ZX | C61: 0 | D61: 336 | E61: #N/A | F61: 16.1 | G61: #N/A | H61: #N/A | I61: N3a | J61: Primary | K61: =VLOOKUP(A61,[1]GATA6与分期分型!$A:$B,2,FALSE) -> #N/A
A62: TCGA-E2-A155-01 | B62: TCGA-E2-A155 | C62: 0 | D62: 640 | E62: 0.0929 | F62: 16.29 | G62: LumB | H62: Stage IIB | I62: N1a | J62: Primary | K62: =VLOOKUP(A62,[1]GATA6与分期分型!$A:$B,2,FALSE) -> T2
A63: TCGA-BH-A1ES-06 | B63: TCGA-BH-A1ES | C63: 1 | D63: 3462 | E63: #N/A | F63: 16.34 | G63: 0 | H63: #N/A | I63: N1a | J63: Metastatic | K63: =VLOOKUP(A63,[1]GATA6与分期分型!$A:$B,2,FALSE) -> #N/A
A64: TCGA-D8-A27K-01 | B64: TCGA-D8-A27K | C64: 0 | D64: 1461 | E64: 0.5157 | F64: 16.07 | G64: LumA | H64: Stage IIB | I64: N1a | J64: Primary | K64: =VLOOKUP(A64,[1]GATA6与分期分型!$A:$B,2,FALSE) -> T2
A65: TCGA-AC-A2FO-01 | B65: TCGA-AC-A2FO | C65: 0 | D65: 2255 | E65: #N/A | F65: 16.06 | G65: #N/A | H65: #N/A | I65: N1 | J65: Primary | K65: =VLOOKUP(A65,[1]GATA6与分期分型!$A:$B,2,FALSE) -> #N/A
A66: TCGA-OL-A5RY-01 | B66: TCGA-OL-A5RY | C66: 0 | D66: 752 | E66: #N/A | F66: 16.2 | G66: #N/A | H66: #N/A | I66: N1 | J66: Primary | K66: =VLOOKUP(A66,[1]GATA6与分期分型!$A:$B,2,FALSE) -> #N/A
A67: TCGA-XX-A899-01 | B67: TCGA-XX-A899 | C67: 0 | D67: 467 | E67: #N/A | F67: 16.08 | G67: 0 | H67: #N/A | I67: N2a | J67: #N/A | K67: =VLOOKUP(A67,[1]GATA6与分期分型!$A:$B,2,FALSE) -> #N/A
A68: TCGA-BH-A0AW-01 | B68: TCGA-BH-A0AW | C68: 0 | D68: 622 | E68: 0.43039999999999995 | F68: 16.35 | G68: #N/A | H68: #N/A | I68: N1a | J68: Primary | K68: =VLOOKUP(A68,[1]GATA6与分期分型!$A:$B,2,FALSE) -> #N/A
A69: TCGA-BH-A18L-11 | B69: TCGA-BH-A18L | C69: 1 | D69: 811 | E69: #N/A | F69: 16.11 | G69: #N/A | H69: #N/A | I69: N1mi | J69: #N/A | K69: =VLOOKUP(A69,[1]GATA6与分期分型!$A:$B,2,FALSE) -> #N/A
A70: TCGA-BH-A1F8-11 | B70: TCGA-BH-A1F8 | C70: 1 | D70: 1 | E70: #N/A | F70: 16.15 | G70: Normal | H70: #N/A | I70: N2 | J70: Primary | K70: =VLOOKUP(A70,[1]GATA6与分期分型!$A:$B,2,FALSE) -> #N/A
A71: TCGA-A8-A08X-01 | B71: TCGA-A8-A08X | C71: 0 | D71: 1308 | E71: 0.4107 | F71: 16.26 | G71: Her2 | H71: Stage IIIC | I71: N3a | J71: Primary | K71: =VLOOKUP(A71,[1]GATA6与分期分型!$A:$B,2,FALSE) -> T4
A72: TCGA-BH-A18V-11 | B72: TCGA-BH-A18V | C72: 1 | D72: 1556 | E72: #N/A | F72: 16.22 | G72: #N/A | H72: #N/A | I72: N1b | J72: Primary | K72: =VLOOKUP(A72,[1]GATA6与分期分型!$A:$B,2,FALSE) -> #N/A
A73: TCGA-AO-A0JJ-01 | B73: TCGA-AO-A0JJ | C73: 0 | D73: 1887 | E73: 0.3541 | F73: 16.07 | G73: LumA | H73: Stage IIB | I73: N1a | J73: Primary | K73: =VLOOKUP(A73,[1]GATA6与分期分型!$A:$B,2,FALSE) -> T2
A74: TCGA-GM-A4E0-01 | B74: TCGA-GM-A4E0 | C74: 0 | D74: 2191 | E74: #N/A | F74: 16.22 | G74: 0 | H74: #N/A | I74: N3a | J74: Primary | K74: =VLOOKUP(A74,[1]GATA6与分期分型!$A:$B,2,FALSE) -> #N/A
A75: TCGA-AC-A6IX-06 | B75: TCGA-AC-A6IX | C75: 0 | D75: 373 | E75: #N/A | F75: 15.97 | G75: #N/A | H75: #N/A | I75: N3a | J75: #N/A | K75: =VLOOKUP(A75,[1]GATA6与分期分型!$A:$B,2,FALSE) -> #N/A
A76: TCGA-HN-A2OB-01 | B76: TCGA-HN-A2OB | C76: 1 | D76: 1900 | E76: #N/A | F76: 16.08 | G76: 0 | H76: #N/A | I76: N1 | J76: Primary | K76: =VLOOKUP(A76,[1]GATA6与分期分型!$A:$B,2,FALSE) -> #N/A
A77: TCGA-A7-A4SB-01 | B77: TCGA-A7-A4SB | C77: 0 | D77: 418 | E77: #N/A | F77: 16.08 | G77: #N/A | H77: #N/A | I77: N1mi | J77: #N/A | K77: =VLOOKUP(A77,[1]GATA6与分期分型!$A:$B,2,FALSE) -> #N/A
A78: TCGA-BH-A1F2-11 | B78: TCGA-BH-A1F2 | C78: 1 | D78: 959 | E78: #N/A | F78: 16.2 | G78: #N/A | H78: #N/A | I78: N1b | J78: Primary | K78: =VLOOKUP(A78,[1]GATA6与分期分型!$A:$B,2,FALSE) -> #N/A
A79: TCGA-B6-A1KN-01 | B79: TCGA-B6-A1KN | C79: 0 | D79: 4233 | E79: 0.1132 | F79: 16.03 | G79: #N/A | H79: #N/A | I79: N1 | J79: Primary | K79: =VLOOKUP(A79,[1]GATA6与分期分型!$A:$B,2,FALSE) -> #N/A
A80: TCGA-E9-A1N4-11 | B80: TCGA-E9-A1N4 | C80: 0 | D80: 1000 | E80: #N/A | F80: 15.95 | G80: #N/A | H80: #N/A | I80: N2 | J80: #N/A | K80: =VLOOKUP(A80,[1]GATA6与分期分型!$A:$B,2,FALSE) -> #N/A
A81: TCGA-E2-A1L7-11 | B81: TCGA-E2-A1L7 | C81: 0 | D81: 1836 | E81: #N/A | F81: 15.95 | G81: #N/A | H81: #N/A | I81: N2 | J81: Primary | K81: =VLOOKUP(A81,[1]GATA6与分期分型!$A:$B,2,FALSE) -> #N/A
A82: TCGA-E2-A2P5-01 | B82: TCGA-E2-A2P5 | C82: 1 | D82: 821 | E82: #N/A | F82: 16.17 | G82: 0 | H82: #N/A | I82: N3 | J82: Primary | K82: =VLOOKUP(A82,[1]GATA6与分期分型!$A:$B,2,FALSE) -> #N/A
A83: TCGA-BH-A1EV-11 | B83: TCGA-BH-A1EV | C83: 1 | D83: 365 | E83: #N/A | F83: 15.98 | G83: #N/A | H83: #N/A | I83: N1b | J83: Primary | K83: =VLOOKUP(A83,[1]GATA6与分期分型!$A:$B,2,FALSE) -> #N/A
A84: TCGA-AC-A2FG-01 | B84: TCGA-AC-A2FG | C84: 0 | D84: 1853 | E84: #N/A | F84: 15.92 | G84: LumA | H84: #N/A | I84: N1a | J84: Primary | K84: =VLOOKUP(A84,[1]GATA6与分期分型!$A:$B,2,FALSE) -> #N/A
A85: TCGA-A2-A0EW-01 | B85: TCGA-A2-A0EW | C85: 1 | D85: 1884 | E85: 0.0214 | F85: 15.95 | G85: LumA | H85: Stage IIIC | I85: N3a | J85: Primary | K85: =VLOOKUP(A85,[1]GATA6与分期分型!$A:$B,2,FALSE) -> T1
A86: TCGA-A8-A099-01 | B86: TCGA-A8-A099 | C86: 0 | D86: 304 | E86: #N/A | F86: 15.95 | G86: LumA | H86: #N/A | I86: N3a | J86: #N/A | K86: =VLOOKUP(A86,[1]GATA6与分期分型!$A:$B,2,FALSE) -> #N/A
A87: TCGA-AR-A1AM-01 | B87: TCGA-AR-A1AM | C87: 0 | D87: 2991 | E87: #N/A | F87: 15.87 | G87: 0 | H87: #N/A | I87: N1 | J87: Primary | K87: =VLOOKUP(A87,[1]GATA6与分期分型!$A:$B,2,FALSE) -> #N/A
A88: TCGA-BH-A1FC-11 | B88: TCGA-BH-A1FC | C88: 1 | D88: 3472 | E88: #N/A | F88: 15.94 | G88: #N/A | H88: #N/A | I88: N1b | J88: #N/A | K88: =VLOOKUP(A88,[1]GATA6与分期分型!$A:$B,2,FALSE) -> #N/A
A89: TCGA-BH-A18Q-11 | B89: TCGA-BH-A18Q | C89: 1 | D89: 1692 | E89: #N/A | F89: 15.84 | G89: Normal | H89: #N/A | I89: N1b | J89: Primary | K89: =VLOOKUP(A89,[1]GATA6与分期分型!$A:$B,2,FALSE) -> #N/A
A90: TCGA-AO-A0JD-01 | B90: TCGA-AO-A0JD | C90: 0 | D90: 2190 | E90: 0.5011 | F90: 16.04 | G90: LumB | H90: Stage IIIA | I90: N1a | J90: Primary | K90: =VLOOKUP(A90,[1]GATA6与分期分型!$A:$B,2,FALSE) -> T3
A91: TCGA-B6-A0IH-01 | B91: TCGA-B6-A0IH | C91: 1 | D91: 2965 | E91: 0.5548 | F91: 15.92 | G91: #N/A | H91: #N/A | I91: N1b | J91: Primary | K91: =VLOOKUP(A91,[1]GATA6与分期分型!$A:$B,2,FALSE) -> #N/A
A92: TCGA-A1-A0SO-01 | B92: TCGA-A1-A0SO | C92: 0 | D92: 852 | E92: 0.1303 | F92: 15.9 | G92: Basal | H92: Stage IIB | I92: N1 | J92: Primary | K92: =VLOOKUP(A92,[1]GATA6与分期分型!$A:$B,2,FALSE) -> T2
A93: TCGA-C8-A8HR-01 | B93: TCGA-C8-A8HR | C93: 0 | D93: 408 | E93: #N/A | F93: 15.91 | G93: 0 | H93: #N/A | I93: N2 | J93: Primary | K93: =VLOOKUP(A93,[1]GATA6与分期分型!$A:$B,2,FALSE) -> #N/A
A94: TCGA-A8-A07J-01 | B94: TCGA-A8-A07J | C94: 0 | D94: 365 | E94: 0.0394 | F94: 15.96 | G94: #N/A | H94: #N/A | I94: N1a | J94: Primary | K94: =VLOOKUP(A94,[1]GATA6与分期分型!$A:$B,2,FALSE) -> #N/A
A95: TCGA-BH-A0BJ-11 | B95: TCGA-BH-A0BJ | C95: 0 | D95: 660 | E95: #N/A | F95: 15.9 | G95: #N/A | H95: #N/A | I95: N1a | J95: Primary | K95: =VLOOKUP(A95,[1]GATA6与分期分型!$A:$B,2,FALSE) -> #N/A
A96: TCGA-BH-A0HK-01 | B96: TCGA-BH-A0HK | C96: 0 | D96: 178 | E96: 0.9601 | F96: 16.24 | G96: LumA | H96: Stage IIB | I96: N1 | J96: Primary | K96: =VLOOKUP(A96,[1]GATA6与分期分型!$A:$B,2,FALSE) -> T2
A97: TCGA-BH-A0DZ-11 | B97: TCGA-BH-A0DZ | C97: 0 | D97: 495 | E97: #N/A | F97: 16.01 | G97: #N/A | H97: #N/A | I97: N1a | J97: Primary | K97: =VLOOKUP(A97,[1]GATA6与分期分型!$A:$B,2,FALSE) -> #N/A
A98: TCGA-AN-A0FT-01 | B98: TCGA-AN-A0FT | C98: 0 | D98: 214 | E98: #N/A | F98: 16.32 | G98: LumA | H98: #N/A | I98: N1 | J98: Primary | K98: =VLOOKUP(A98,[1]GATA6与分期分型!$A:$B,2,FALSE) -> #N/A
A99: TCGA-A2-A3XY-01 | B99: TCGA-A2-A3XY | C99: 1 | D99: 1093 | E99: #N/A | F99: 15.95 | G99: #N/A | H99: #N/A | I99: N1a | J99: Primary | K99: =VLOOKUP(A99,[1]GATA6与分期分型!$A:$B,2,FALSE) -> #N/A
A100: TCGA-BH-A0BA-01 | B100: TCGA-BH-A0BA | C100: 0 | D100: 1132 | E100: 0.6114 | F100: 15.8 | G100: LumA | H100: Stage IIIC | I100: N3a | J100: Primary | K100: =VLOOKUP(A100,[1]GATA6与分期分型!$A:$B,2,FALSE) -> T3
...
