Workbook

Sheet Supplementary Table 4
A1: Transcriptional repression of TGFB2-AS1 by GATA6 drives triple-negative breast cancer metastasis
A2: Supplementary table 4: Information for breast cancer patients from TCGA and GATA6 protein from TCPA
A3: sample | B3: patient | C3: OS | D3: OS.time | E3: TGFB2-AS1-RNA | F3: GATA6 protein | G3: PAM50Call_RNAseq | H3: pathologic_stage | I3: ajcc_pathologic_n.diagnoses | J3: Sample_Type | K3: Tumor_nature2012
A4: TCGA-AO-A0JL-01 | B4: TCGA-AO-A0JL | C4: 0 | D4: 1683 | E4: 0.8299 | F4: 19.56 | G4: Basal | H4: Stage IIIA | I4: N2a | J4: #N/A | K4: =VLOOKUP(A4,[1]GATA6与分期分型!$A:$B,2,FALSE) -> T2
A5: TCGA-BH-A1FE-06 | B5: TCGA-BH-A1FE | C5: 1 | D5: 2273 | E5: #N/A | F5: 19.24 | G5: Normal | H5: #N/A | I5: N1 | J5: Primary | K5: =VLOOKUP(A5,[1]GATA6与分期分型!$A:$B,2,FALSE) -> #N/A
A6: TCGA-A8-A07R-01 | B6: TCGA-A8-A07R | C6: 0 | D6: 273 | E6: 0.10699999999999998 | F6: 18.64 | G6: Basal | H6: Stage IIIC | I6: N3a | J6: Primary | K6: =VLOOKUP(A6,[1]GATA6与分期分型!$A:$B,2,FALSE) -> T2
A7: TCGA-B6-A409-01 | B7: TCGA-B6-A409 | C7: 1 | D7: 573 | E7: #N/A | F7: 18.63 | G7: #N/A | H7: #N/A | I7: N2a | J7: #N/A | K7: =VLOOKUP(A7,[1]GATA6与分期分型!$A:$B,2,FALSE) -> #N/A
A8: TCGA-B6-A0WX-01 | B8: TCGA-B6-A0WX | C8: 1 | D8: 639 | E8: 0.813 | F8: 18.47 | G8: Basal | H8: Stage IIIA | I8: N1b | J8: Primary | K8: =VLOOKUP(A8,[1]GATA6与分期分型!$A:$B,2,FALSE) -> T3
A9: TCGA-A2-A0YJ-01 | B9: TCGA-A2-A0YJ | C9: 0 | D9: 566 | E9: 0.3023 | F9: 18.2 | G9: Basal | H9: Stage IIIA | I9: N2a | J9: #N/A | K9: =VLOOKUP(A9,[1]GATA6与分期分型!$A:$B,2,FALSE) -> T3
A10: TCGA-A8-A08R-01 | B10: TCGA-A8-A08R | C10: 0 | D10: 30 | E10: 0.3612 | F10: 18.08 | G10: #N/A | H10: #N/A | I10: N1a | J10: #N/A | K10: =VLOOKUP(A10,[1]GATA6与分期分型!$A:$B,2,FALSE) -> #N/A
A11: TCGA-AC-A2BK-01 | B11: TCGA-AC-A2BK | C11: 0 | D11: 2222 | E11: #N/A | F11: 17.87 | G11: Basal | H11: #N/A | I11: N2a | J11: Primary | K11: =VLOOKUP(A11,[1]GATA6与分期分型!$A:$B,2,FALSE) -> #N/A
A12: TCGA-PL-A8LZ-01 | B12: TCGA-PL-A8LZ | C12: 0 | D12: 302 | E12: #N/A | F12: 17.75 | G12: #N/A | H12: #N/A | I12: N2 | J12: #N/A | K12: =VLOOKUP(A12,[1]GATA6与分期分型!$A:$B,2,FALSE) -> #N/A
A13: TCGA-A2-A3XT-01 | B13: TCGA-A2-A3XT | C13: 0 | D13: 2770 | E13: #N/A | F13: 17.84 | G13: 0 | H13: #N/A | I13: N1a | J13: #N/A | K13: =VLOOKUP(A13,[1]GATA6与分期分型!$A:$B,2,FALSE) -> #N/A
A14: TCGA-AN-A04D-01 | B14: TCGA-AN-A04D | C14: 0 | D14: 52 | E14: 0.3965 | F14: 17.64 | G14: Basal | H14: Stage IIB | I14: N1 | J14: Primary | K14: =VLOOKUP(A14,[1]GATA6与分期分型!$A:$B,2,FALSE) -> T2
A15: TCGA-E2-A1LK-01 | B15: TCGA-E2-A1LK | C15: 1 | D15: 266 | E15: 0.1561 | F15: 17.71 | G15: Basal | H15: Stage IIIC | I15: N3a | J15: Primary | K15: =VLOOKUP(A15,[1]GATA6与分期分型!$A:$B,2,FALSE) -> T3
A16: TCGA-BH-A1FH-11 | B16: TCGA-BH-A1FH | C16: 1 | D16: 1034 | E16: #N/A | F16: 17.33 | G16: #N/A | H16: #N/A | I16: N1b | J16: #N/A | K16: =VLOOKUP(A16,[1]GATA6与分期分型!$A:$B,2,FALSE) -> #N/A
A17: TCGA-OL-A66I-01 | B17: TCGA-OL-A66I | C17: 0 | D17: 714 | E17: #N/A | F17: 17.28 | G17: #N/A | H17: #N/A | I17: N1mi | J17: Primary | K17: =VLOOKUP(A17,[1]GATA6与分期分型!$A:$B,2,FALSE) -> #N/A
A18: TCGA-AC-A8OQ-01 | B18: TCGA-AC-A8OQ | C18: 0 | D18: 34 | E18: #N/A | F18: 17.23 | G18: 0 | H18: #N/A | I18: N1a | J18: #N/A | K18: =VLOOKUP(A18,[1]GATA6与分期分型!$A:$B,2,FALSE) -> #N/A
A19: TCGA-BH-A1FJ-11 | B19: TCGA-BH-A1FJ | C19: 1 | D19: 1927 | E19: #N/A | F19: 17.16 | G19: #N/A | H19: #N/A | I19: N1b | J19: #N/A | K19: =VLOOKUP(A19,[1]GATA6与分期分型!$A:$B,2,FALSE) -> #N/A
A20: TCGA-BH-A0HK-11 | B20: TCGA-BH-A0HK | C20: 0 | D20: 178 | E20: #N/A | F20: 17.14 | G20: #N/A | H20: #N/A | I20: N1 | J20: Primary | K20: =VLOOKUP(A20,[1]GATA6与分期分型!$A:$B,2,FALSE) -> #N/A
A21: TCGA-AR-A0TS-01 | B21: TCGA-AR-A0TS | C21: 0 | D21: 2558 | E21: 0.17570000000000002 | F21: 16.83 | G21: Basal | H21: Stage IIB | I21: N1 | J21: #N/A | K21: =VLOOKUP(A21,[1]GATA6与分期分型!$A:$B,2,FALSE) -> T2
A22: TCGA-E9-A1N6-01 | B22: TCGA-E9-A1N6 | C22: 1 | D22: 678 | E22: #N/A | F22: 17.04 | G22: LumB | H22: #N/A | I22: N1 | J22: #N/A | K22: =VLOOKUP(A22,[1]GATA6与分期分型!$A:$B,2,FALSE) -> #N/A
A23: TCGA-A2-A0CV-01 | B23: TCGA-A2-A0CV | C23: 0 | D23: 3011 | E23: 0.4371 | F23: 16.91 | G23: LumA | H23: Stage IIB | I23: N1a | J23: Primary | K23: =VLOOKUP(A23,[1]GATA6与分期分型!$A:$B,2,FALSE) -> T2
A24: TCGA-A2-A3XS-01 | B24: TCGA-A2-A3XS | C24: 1 | D24: 1032 | E24: #N/A | F24: 16.88 | G24: #N/A | H24: #N/A | I24: N2a | J24: Primary | K24: =VLOOKUP(A24,[1]GATA6与分期分型!$A:$B,2,FALSE) -> #N/A
A25: TCGA-D8-A13Z-01 | B25: TCGA-D8-A13Z | C25: 0 | D25: 635 | E25: 0.3398 | F25: 16.76 | G25: Her2 | H25: #N/A | I25: N2a | J25: #N/A | K25: =VLOOKUP(A25,[1]GATA6与分期分型!$A:$B,2,FALSE) -> #N/A
A26: TCGA-AC-A3YI-01 | B26: TCGA-AC-A3YI | C26: 0 | D26: 707 | E26: #N/A | F26: 16.84 | G26: #N/A | H26: #N/A | I26: N3a | J26: #N/A | K26: =VLOOKUP(A26,[1]GATA6与分期分型!$A:$B,2,FALSE) -> #N/A
A27: TCGA-AR-A2LH-01 | B27: TCGA-AR-A2LH | C27: 1 | D27: 616 | E27: #N/A | F27: 16.71 | G27: Normal | H27: #N/A | I27: N3 | J27: Primary | K27: =VLOOKUP(A27,[1]GATA6与分期分型!$A:$B,2,FALSE) -> #N/A
A28: TCGA-EW-A1PH-01 | B28: TCGA-EW-A1PH | C28: 0 | D28: 607 | E28: 0.3351 | F28: 16.77 | G28: #N/A | H28: #N/A | I28: N1a | J28: Primary | K28: =VLOOKUP(A28,[1]GATA6与分期分型!$A:$B,2,FALSE) -> #N/A
A29: TCGA-BH-A1FC-01 | B29: TCGA-BH-A1FC | C29: 1 | D29: 3472 | E29: 0.8152999999999999 | F29: 16.63 | G29: Basal | H29: Stage IIA | I29: N1b | J29: Primary | K29: =VLOOKUP(A29,[1]GATA6与分期分型!$A:$B,2,FALSE) -> T1
A30: TCGA-E2-A108-01 | B30: TCGA-E2-A108 | C30: 0 | D30: 837 | E30: 0.034 | F30: 16.66 | G30: Normal | H30: Stage IIIA | I30: N2a | J30: Primary | K30: =VLOOKUP(A30,[1]GATA6与分期分型!$A:$B,2,FALSE) -> T2
A31: TCGA-A2-A04P-01 | B31: TCGA-A2-A04P | C31: 1 | D31: 548 | E31: 0.1501 | F31: 17.1 | G31: Basal | H31: Stage IIIC | I31: N3c | J31: Primary | K31: =VLOOKUP(A31,[1]GATA6与分期分型!$A:$B,2,FALSE) -> T2
A32: TCGA-E2-A14N-01 | B32: TCGA-E2-A14N | C32: 0 | D32: 1434 | E32: 0.066 | F32: 16.79 | G32: Basal | H32: Stage IIB | I32: N1 | J32: Primary | K32: =VLOOKUP(A32,[1]GATA6与分期分型!$A:$B,2,FALSE) -> T2
A33: TCGA-E9-A1N6-11 | B33: TCGA-E9-A1N6 | C33: 1 | D33: 678 | E33: #N/A | F33: 16.55 | G33: Normal | H33: #N/A | I33: N1 | J33: Primary | K33: =VLOOKUP(A33,[1]GATA6与分期分型!$A:$B,2,FALSE) -> #N/A
A34: TCGA-B6-A400-01 | B34: TCGA-B6-A400 | C34: 0 | D34: 215 | E34: #N/A | F34: 16.58 | G34: #N/A | H34: #N/A | I34: N2a | J34: Primary | K34: =VLOOKUP(A34,[1]GATA6与分期分型!$A:$B,2,FALSE) -> #N/A
A35: TCGA-E2-A158-11 | B35: TCGA-E2-A158 | C35: 0 | D35: 450 | E35: #N/A | F35: 16.78 | G35: #N/A | H35: #N/A | I35: N1mi | J35: Primary | K35: =VLOOKUP(A35,[1]GATA6与分期分型!$A:$B,2,FALSE) -> #N/A
A36: TCGA-BH-A18U-11 | B36: TCGA-BH-A18U | C36: 1 | D36: 1563 | E36: #N/A | F36: 16.44 | G36: #N/A | H36: #N/A | I36: N2a | J36: Primary | K36: =VLOOKUP(A36,[1]GATA6与分期分型!$A:$B,2,FALSE) -> #N/A
A37: TCGA-BH-A5IZ-01 | B37: TCGA-BH-A5IZ | C37: 0 | D37: 567 | E37: #N/A | F37: 16.59 | G37: #N/A | H37: #N/A | I37: N1a | J37: Primary | K37: =VLOOKUP(A37,[1]GATA6与分期分型!$A:$B,2,FALSE) -> #N/A
A38: TCGA-BH-A1F0-11 | B38: TCGA-BH-A1F0 | C38: 1 | D38: 785 | E38: #N/A | F38: 16.53 | G38: #N/A | H38: #N/A | I38: N1c | J38: Primary | K38: =VLOOKUP(A38,[1]GATA6与分期分型!$A:$B,2,FALSE) -> #N/A
A39: TCGA-AR-A24U-01 | B39: TCGA-AR-A24U | C39: 0 | D39: 3128 | E39: 0.2153 | F39: 16.54 | G39: Her2 | H39: Stage IIA | I39: N1 | J39: Primary | K39: =VLOOKUP(A39,[1]GATA6与分期分型!$A:$B,2,FALSE) -> T1
A40: TCGA-D8-A1JF-01 | B40: TCGA-D8-A1JF | C40: 0 | D40: 366 | E40: 0.5268 | F40: 16.63 | G40: Her2 | H40: Stage IIIA | I40: N2a | J40: Primary | K40: =VLOOKUP(A40,[1]GATA6与分期分型!$A:$B,2,FALSE) -> T1
...
