Workbook
Name IQ_CH: 110000
Name IQ_CQ: 5000
Name IQ_CY: 10000
Name IQ_DAILY: 500000
Name IQ_FH: 100000
Name IQ_FQ: 500
Name IQ_FY: 1000
Name IQ_LTM: 2000
Name IQ_MONTH: 15000
Name IQ_NTM: 6000
Name IQ_WEEK: 50000
Name IQ_YTD: 3000
Name Net_Generation_by_State__Type_1: #REF!
Name Net_Generation_by_State__Type_of_Producer__Energy_Source: #REF!
Name state: [1]!state_table[State]
Name state: #REF!

Sheet List of Tables
A1: List of Tables
A2: ='Table S1a'!A1 -> Table S1a. | B2: ='Table S1a'!C1 -> Concentrations of some minerals and rare earth elements (REEs) in the upper continental crust (UCC).
A3: ='Table S1b'!A1 -> Table S1b. | B3: ='Table S1b'!B1 -> List of critical minerals, including rare earth elements (REEs), published by the U.S. Geological Survey in 2022.
A4: ='Table S2a'!A1 -> Table S2a | B4: ='Table S2a'!B1 -> Details of samples analyzed for critical minerals, including rare earth elements (REEs), in this study.
A5: ='Table S3a'!A1 -> Table S3a. | B5: ='Table S3a'!B1 -> Concentrations of REEs on a dry coal basis.
A6: ='Table S3b'!A1 -> Table S3b. | B6: ='Table S3b'!B1 -> Concentrations of critical minerals on a dry coal basis.
A7: ='Table S3c'!A1 -> Table S3c. | B7: ='Table S3c'!B1 -> Laboratory number; field number; and available as received moisture, dry ash, sulfur, and calorific value (CV) for samples analyzed in this study.
A8: ='Table S4a'!A1 -> Table S4a. | B8: ='Table S4a'!B1 -> Ratios of rare earth elements (REEs) (dry coal basis) relative to concentrations in upper continental crust (UCC).
A9: ='Table S4b'!A1 -> Table S4b. | B9: ='Table S4b'!B1 -> Ratios of critical minerals (dry coal basis) relative to concentrations in upper continental crust (UCC).
A10: ='Table S5 '!A1 -> Table S5. | B10: ='Table S5 '!B1 -> Correlation matrix of critical minerals, including rare earth elements (REEs), on a dry coal basis.
A11: ='Table S6a'!A1 -> Table S6a. | B11: ='Table S6a'!B1 -> Concentrations of rare earth elements (REEs) on an ash basis.
A12: ='Table S6b'!A1 -> Table S6b. | B12: ='Table S6b'!B1 -> Concentrations of critical minerals on an ash basis.
A13: ='Table S7a'!A1 -> Table S7a. | B13: ='Table S7a'!B1 -> Ratios of rare earth elements (REEs) (ash basis) relative to concentrations in upper continental crust (UCC).
A14: ='Table S7b'!A1 -> Table S7b. | B14: ='Table S7b'!B1 -> Ratios of critical minerals (ash basis) relative to concentrations in upper continental crust (UCC).
A15: ='Table S8'!A1 -> Table S8. | B15: ='Table S8'!B1 -> Concentrations of rare earth elements (REEs) in coal and partings (ppm on dry coal basis) in samples from the Gibbons Creek and San Miguel mines.
A16: ='Table S9'!A1 -> Table S9. | B16: ='Table S9'!B1 -> Extractability of rare earth elements (REEs) using water, ammonium acetate, and weak hydrochloric acid in samples from coal from Gibbons Creek and San Miguel mines and ash from San Miguel mine-mouth power plant.
A17: ='Table S10'!A1 -> Table S10. | B17: ='Table S10'!B1 -> Rare earth oxides (REOs) mean annual prices, USD/kg, 2000 - 2024.
A18: ='Table S11a'!A1 -> Table S11a. | B18: ='Table S11a'!B1 -> Rare earth oxide (REO) concentrations on a dry coal basis.
A19: ='Table S11b'!A1 -> Table S11b. | B19: ='Table S11b'!B1 -> Value of rare earth oxides (REOs) per tonne assuming 70% extractability and using prices in Table S10 for 2024.
A20: ='Table S12a'!A1 -> Table S12a. | B20: ='Table S12a'!B1 -> Rare earth oxide (REO) concentrations on an ash basis.
A21: ='Table S12b'!A1 -> Table S12b. | B21: ='Table S12b'!B1 -> Value of rare earth oxides (REOs) on an ash basis assuming 30% extractability and using prices in Table S10 for 2024.
A22: ='Table S13'!A1 -> Table S13. | B22: ='Table S13'!B1 -> Coal production from mines in the Gulf Coast region during 1983 - 2022.
A23: ='Table S14'!A1 -> Table S14. | B23: ='Table S14'!B1 -> Status of coal mines in Texas.
A24: ='Table S15a'!A1 -> Table S15a. | B24: ='Table S15a'!B1 -> Source of coal for power plants (lignite [LIG], subbituminous [SUB], and bituminous [BIT]) from Appalachia, Powder River Basin [PRB], Western U.S. Basins, Gulf Coast, and Imported.
A25: ='Table S15b'!A1 -> Table S15b. | B25: ='Table S15b'!B1 -> Disposition of coal combustion byproducts (CCBs) for Gulf Coast power plants during 1985 - 2021.
A26: ='Table S16'!A1 -> Table S16. | B26: ='Table S16'!B1 -> Electricity generation by fuel source in Gulf Coast States (AL, AR, LA, MS, and TX).

Sheet Table S1a
A1: Table S1a. | C1: Concentrations of some minerals and rare earth elements (REEs) in the upper continental crust (UCC).
C2: No data, - .
A4: Oxide | B4: Element | C4: Unit | D4: UCC (ppm) | E4: 1 Sigma
A5: TiO2 | B5: Ti | C5: ppm | D5: 3836
A6: Al2O3 | B6: Al | C6: ppm | D6: 81505
A7: MnO | B7: Mn | C7: ppm | D7: 775
A8: MgO | B8: Mg | C8: ppm | D8: 14955
A9: P2O5 | B9: P | C9: ppm | D9: 655
A11: Li | C11: ppm | D11: 24 | E11: 5 | I11: Table 1 | K11: Table S11
A12: Be | C12: ppm | D12: 2.1 | E12: 0.9
A13: B | C13: ppm | D13: 17 | E13: 8 | I13: Statistic | J13: Conc. REOs (ppm) | L13: REO USD/Tonne | N13: Total Value ($B)
A14: N | C14: ppm | D14: 83 | J14: Pr, Nd, Tb, Dy | K14: REY | L14: Pr, Nd, Tb, Dy | M14: REY | N14: Pr, Nd, Tb, Dy | O14: REY
A15: F | C15: ppm | D15: 557 | E15: 56 | I15: 83 Gt in-place-coal (~58 Gt dry, whole coal)
A16: S | C16: ppm | D16: 62 | E16: 33 | I16: Min. | J16: ='Table S11a'!W125 -> 4.336232 | K16: ='Table S11a'!X125 -> 21.910122 | L16: ='Table S11b'!W125 -> 0.48575686 | M16: ='Table S11b'!X125 -> 0.62235022 | N16: =L16*58000000000/1000000000 -> 28.173898 | O16: =M16*58000000000/1000000000 -> 36.096313
A17: Cl | C17: ppm | D17: 370 | E17: 382 | I17: Max. | J17: ='Table S11a'!W126 -> 949.67978 | K17: ='Table S11a'!X126 -> 3374.9363 | L17: ='Table S11b'!W126 -> 84.692695 | M17: ='Table S11b'!X126 -> 100.1039 | N17: =L17*58000000000/1000000000 -> 4912.1763 | O17: =M17*58000000000/1000000000 -> 5806.0261
A18: Sc | C18: ppm | D18: 14 | E18: 0.9 | I18: Mean | J18: ='Table S11a'!W127 -> 49.955539 | K18: ='Table S11a'!X127 -> 210.09526 | L18: ='Table S11b'!W127 -> 4.5866588 | M18: ='Table S11b'!X127 -> 5.554556 | N18: =L18*58000000000/1000000000 -> 266.02621 | O18: =M18*58000000000/1000000000 -> 322.16425
A19: V | C19: ppm | D19: 97 | E19: 11 | I19: Median | J19: ='Table S11a'!W128 -> 27.691328 | K19: ='Table S11a'!X128 -> 128.52092 | L19: ='Table S11b'!W128 -> 2.6067767 | M19: ='Table S11b'!X128 -> 3.1989757 | N19: =L19*58000000000/1000000000 -> 151.19305 | O19: =M19*58000000000/1000000000 -> 185.54059
A20: Cr | C20: ppm | D20: 92 | E20: 17 | I20: Ash Basis (258 Millon Tonnes coal ash)
A21: Co | C21: ppm | D21: 17.3 | E21: 0.6 | G21: Table 12a | I21: Min. | J21: ='Table S12a'!W125 -> 9.5009694 | K21: ='Table S12a'!X125 -> 48.748523 | L21: ='Table S12b'!W126 -> 0.33668786 | M21: ='Table S12b'!X126 -> 0.40088167 | N21: =L21*260000000/1000000000 -> 0.087538844 | O21: =M21*260000000/1000000000 -> 0.10422924
A22: Ni | C22: ppm | D22: 47 | E22: 11 | I22: Max. | J22: ='Table S12a'!W126 -> 2565.3155 | K22: ='Table S12a'!X126 -> 9116.5215 | L22: ='Table S12b'!W127 -> 98.046649 | M22: ='Table S12b'!X127 -> 114.19022 | N22: =L22*260000000/1000000000 -> 25.492129 | O22: =M22*260000000/1000000000 -> 29.689456
A23: Cu | C23: ppm | D23: 28 | E23: 4 | I23: Mean | J23: ='Table S12a'!W127 -> 171.31754 | K23: ='Table S12a'!X127 -> 741.47085 | L23: ='Table S12b'!W128 -> 6.936882 | M23: ='Table S12b'!X128 -> 8.3680466 | N23: =L23*260000000/1000000000 -> 1.8035893 | O23: =M23*260000000/1000000000 -> 2.1756921
A24: Zn | C24: ppm | D24: 67 | E24: 6 | I24: Median | J24: ='Table S12a'!W128 -> 80.999149 | K24: ='Table S12a'!X128 -> 394.94937 | L24: ='Table S12b'!W129 -> 3.6709138 | M24: ='Table S12b'!X129 -> 4.4372429 | N24: =L24*260000000/1000000000 -> 0.95443758 | O24: =M24*260000000/1000000000 -> 1.1536832
A25: Ga | C25: ppm | D25: 17.5 | E25: 0.7
A26: Ge | C26: ppm | D26: 1.4 | E26: 0.1
A27: As | C27: ppm | D27: 4.8 | E27: 0.5
A28: Se | C28: ppm | D28: 0.09 | E28: 0.05
A29: Br | C29: ppm | D29: 1.6 | E29: -
A30: Rb | C30: ppm | D30: 84 | E30: 17
A31: Sr | C31: ppm | D31: 320 | E31: 46
A32: Y | C32: ppm | D32: 21 | E32: 2
A33: Zr | C33: ppm | D33: 193 | E33: 28
A34: Nb | C34: ppm | D34: 12 | E34: 1
A35: Mo | C35: ppm | D35: 1.1 | E35: 0.3
A36: Ru | C36: ppm | D36: 0.34 | E36: 0.02
A37: Pd | C37: ppm | D37: 0.52 | E37: 0.02
A38: Ag | C38: ppm | D38: 53 | E38: 3
A39: Cd | C39: ppm | D39: 0.09 | E39: 0.01
A40: In | C40: ppm | D40: 0.056 | E40: 0.008
A41: Sn | C41: ppm | D41: 2.1 | E41: 0.5
A42: Sb | C42: ppm | D42: 0.4 | E42: 0.1
A43: I | C43: ppm | D43: 1.4 | E43: -
A44: Cs | C44: ppm | D44: 4.9 | E44: 1.5
A45: Ba | C45: ppm | D45: 628 | E45: 83
A46: La | C46: ppm | D46: 31 | E46: 3
A47: Ce | C47: ppm | D47: 63 | E47: 4
A48: Pr | C48: ppm | D48: 7.1 | E48: -
A49: Nd | C49: ppm | D49: 27 | E49: 2
A50: Sm | C50: ppm | D50: 4.7 | E50: 0.3
A51: Eu | C51: ppm | D51: 1 | E51: 0.1
A52: Gd | C52: ppm | D52: 4 | E52: 0.3
A53: Tb | C53: ppm | D53: 0.7 | E53: 0.1
A54: Dy | C54: ppm | D54: 3.9 | E54: -
A55: Ho | C55: ppm | D55: 0.83 | E55: -
A56: Er | C56: ppm | D56: 2.3 | E56: -
A57: Tm | C57: ppm | D57: 0.3 | E57: -
A58: Yb | C58: ppm | D58: 1.96 | E58: 0.4
A59: Lu | C59: ppm | D59: 0.31 | E59: 0.05
A60: Hf | C60: ppm | D60: 5.3 | E60: 0.7
A61: Ta | C61: ppm | D61: 0.9 | E61: 0.1
A62: W | C62: ppm | D62: 1.9 | E62: 1
A63: Re | C63: ppm | D63: 0.198 | E63: -
A64: Os | C64: ppm | D64: 0.031 | E64: 0.009
A65: Ir | C65: ppm | D65: 0.022 | E65: 0.007
A66: Pt | C66: ppm | D66: 0.5 | E66: 0.5
A67: Au | C67: ppm | D67: 1.5 | E67: 0.4
A68: Hg | C68: ppm | D68: 0.05 | E68: 0.04
A69: Tl | C69: ppm | D69: 0.9 | E69: 0.5
A70: Pb | C70: ppm | D70: 17 | E70: 0.5
A71: Bi | C71: ppm | D71: 0.16 | E71: 0.06
A72: Th | C72: ppm | D72: 10.5 | E72: 1
A73: U | C73: ppm | D73: 2.7 | E73: 0.6
A75: Data sources listed in Rudnick and Gao (2003)7.

Sheet Table S1b
A1: Table S1b. | B1: List of critical minerals, including rare earth elements (REEs), published by the U.S. Geological Survey in 2022.
B2: REY + scandium (Sc) are shown in BOLD; no data - .
A4: Alphabetic | B4: Atomic Number | C4: Symbol | D4: Name | E4: Uses
A5: 24 | B5: 3 | C5: Li | D5: Lithium | E5: rechargeable batteries
A6: 5 | B6: 4 | C6: Be | D6: Beryllium | E6: an alloying agent in aerospace and defense industries
A7: 18 | B7: 6 | C7: C | D7: Graphite | E7: lubricants, batteries, and fuel cells
A8: 26 | B8: 12 | C8: Mg | D8: Magnesium | E8: an alloy and for reducing metals
A9: 1 | B9: 13 | C9: Al | D9: Aluminum | E9: almost all sectors of the economy
A10: 38 | B10: 21 | C10: Sc | D10: Scandium | E10: alloys, ceramics, and fuel cells
A11: 44 | B11: 22 | C11: Ti | D11: Titanium | E11: a white pigment or metal alloys
A12: 46 | B12: 23 | C12: Va | D12: Vanadium | E12: alloying agent for iron and steel
A13: 9 | B13: 24 | C13: Cr | D13: Chromium | E13: primarily in stainless steel and other alloys
A14: 27 | B14: 25 | C14: Mn | D14: Manganese | E14: steelmaking and batteries
A15: 10 | B15: 27 | C15: Co | D15: Cobalt | E15: rechargeable batteries and superalloys
A16: 29 | B16: 28 | C16: Ni | D16: Nickel | E16: make stainless steel, superalloys, and rechargeable batteries
... A52: 6 | B52: 83 | C52: Bi | D52: Bismuth | E52: medical and atomic research
A53: 4 | B53: - | C53: Ba2SO4 | D53: Barite | E53: hydrocarbon production.
A54: 14 | B54: - | C54: CaF2 | D54: Fluorspar | E54: manufacture of aluminum, cement, steel, gasoline, and fluorine chemicals
A56: Data sources: US Geological Survey (2022a,b)8,9.

Sheet Table S2a
A1: Table S2a | B1: Details of samples analyzed for critical minerals, including rare earth elements (REEs), in this study.
B2: Samples from the sequence 37 - 46, 91 -102, and 107 - 118 were obtained from Zygarlicke et al. (2019)10; no data - .
A4: Sequence | B4: Lab Number (this study) | C4: Sample ID | D4: Collected | E4: State | F4: County | G4: Collector | H4: Latitude | I4: Longitude | J4: Geologic Age | K4: Formation/Group Name | L4: Coal Rank or Lithology | M4: Mine or location name | N4: Sample type | O4: Elevation (approx., ft) | P4: Elev. (approx. m) | Q4: Bed thickness (ft) | R4: Bed thickness (m) | S4: Moisture (%) | T4: Relevant Publications | U4: Comments
A5: 0 | B5: 202202464-005 | C5: AL-CR-SCH-1 | D5: 44845 | E5: AL | F5: Crenshaw | G5: Alabama Geol Surv | H5: 31.5958 | I5: -86.1707 | J5: Paleocene | K5: Nanafalia Formation? | L5: Lignite | M5: Shell SCH. 24-A well | N5: coal channel | O5: - | P5: - | Q5: 3 | R5: =Q5*0.3048 -> 0.9144 | T5: - | U5: -
A6: 1 | B6: 202202464-002 | C6: AL-WI-GCS-6-12 | D6: 44845 | E6: AL | F6: Wilcox | G6: Alabama Geol Surv | H6: 31.915199 | I6: -87.358398 | J6: Paleocene | K6: Naheola Formation | L6: Lignite | M6: Gravel Creek sand pit | N6: coal channel | O6: - | P6: - | Q6: 2 | R6: =Q6*0.3048 -> 0.6096 | T6: - | U6: -
A7: 2 | B7: 202300618-004 | C7: AL-WI-GCS-11 | D7: 44992 | E7: AL | F7: Wilcox | G7: Alabama Geol Surv | H7: 31.915199 | I7: -87.358398 | J7: Paleocene | K7: Naheola Formation | L7: Lignitic Clay | M7: Gravel Creek sand pit | N7: clay channel | O7: - | P7: - | Q7: 2 | R7: =Q7*0.3048 -> 0.6096 | T7: - | U7: -
A8: 3 | B8: 202300618-001 | C8: AL-CL-US43-3 | D8: 44992 | E8: AL | F8: Clarke | G8: Alabama Geol Surv | H8: 31.971701 | I8: -87.752602 | J8: Paleocene | K8: Tuscahoma Formation | L8: Lignitic Clay | M8: U.S. Highway 43 | N8: clay channel | O8: - | P8: - | Q8: 0.33 | R8: =Q8*0.3048 -> 0.100584 | T8: - | U8: -
A9: 4 | B9: 202202464-004 | C9: AL-CL-US43-6 | D9: 44845 | E9: AL | F9: Clarke | G9: Alabama Geol Surv | H9: 31.971701 | I9: -87.752602 | J9: Paleocene | K9: Tuscahoma Formation | L9: Lignite | M9: U.S. Highway 43 | N9: coal channel | O9: - | P9: - | Q9: 0.5 | R9: =Q9*0.3048 -> 0.1524 | T9: - | U9: -
A10: 5 | B10: 202300618-003 | C10: AL-CL-US43-8 | D10: 44992 | E10: AL | F10: Clarke | G10: Alabama Geol Surv | H10: 31.971701 | I10: -87.752602 | J10: Paleocene | K10: Tuscahoma Formation | L10: Lignitic Clay | M10: U.S. Highway 43 | N10: clay channel | O10: - | P10: - | Q10: 1.08 | R10: =Q10*0.3048 -> 0.329184 | T10: - | U10: -
A11: 6 | B11: 202202464-003 | C11: AL-CL-US43-11 | D11: 44845 | E11: AL | F11: Clarke | G11: Alabama Geol Surv | H11: 31.971701 | I11: -87.752602 | J11: Paleocene | K11: Tuscahoma Formation | L11: Lignite | M11: U.S. Highway 43 | N11: coal channel | O11: - | P11: - | Q11: 0.5 | R11: =Q11*0.3048 -> 0.1524 | T11: - | U11: -
A12: 7 | B12: 202202464-001 | C12: AL-CH-KCSC-1-2-3 | D12: 44845 | E12: AL | F12: Choctaw | G12: Alabama Geol Surv | H12: 32.297501 | I12: -88.174202 | J12: Paleocene | K12: Naheola Formation | L12: Lignite | M12: Outcrop | N12: coal channel | O12: - | P12: - | Q12: 2 | R12: =Q12*0.3048 -> 0.6096 | T12: - | U12: -
A13: 8 | B13: 202202464-007 | C13: AL-CH-OSM1-245-247 | D13: 44845 | E13: AL | F13: Choctaw | G13: Alabama Geol Surv | H13: 32.188 | I13: -88.175697 | J13: Paleocene | K13: Naheola Formation | L13: Lignite | M13: Outcrop | N13: coal channel | O13: - | P13: - | Q13: 2 | R13: =Q13*0.3048 -> 0.6096 | T13: - | U13: -
A14: 9 | B14: 202202464-008 | C14: AL-CH-OSM1-242.8-244.5 | D14: 44845 | E14: AL | F14: Choctaw | G14: Alabama Geol Surv | H14: 32.188 | I14: -88.175697 | J14: Paleocene | K14: Naheola Formation | L14: Lignite | M14: Outcrop | N14: coal channel | O14: - | P14: - | Q14: 2 | R14: =Q14*0.3048 -> 0.6096 | T14: - | U14: -
A15: 10 | B15: 202300618-002 | C15: AL-CH-OSM1-249.0 | D15: 44992 | E15: AL | F15: Choctaw | G15: Alabama Geol Surv | H15: 32.188 | I15: -88.175697 | J15: Paleocene | K15: Naheola Formation | L15: Carbonaceous Clay | M15: Outcrop | N15: clay channel | O15: - | P15: - | Q15: 2 | R15: =Q15*0.3048 -> 0.6096 | T15: - | U15: -
A16: 11 | B16: 202202464-006 | C16: AL-CH-OSM2-253 | D16: 44845 | E16: AL | F16: Choctaw | G16: Alabama Geol Surv | H16: 32.0565 | I16: -88.278397 | J16: Paleocene | K16: Naheola Formation | L16: Lignite | M16: Outcrop | N16: coal channel | O16: - | P16: - | Q16: 2 | R16: =Q16*0.3048 -> 0.6096 | T16: - | U16: -
... A19: 14 | B19: 202301262-009 | C19: MALV | D19: 44455 | E19: AR | F19: Hot Spring | G19: Akansas Geol Surv | H19: 34.3367 | I19: -92.7834 | J19: Paleocene-Eocene | K19: Wilcox Group | L19: Lignite | M19: Malvern | N19: coal channel | O19: - | P19: - | Q19: 2 | R19: =Q19*0.3048 -> 0.6096 | T19: - | U19: -
A20: 15 | B20: 202302281-007 | C20: CDM-CP | D20: 35181 | E20: AR | F20: Oauchita | G20: PD Warwick (USGS) | H20: 33.74477 | I20: -92.91239 | J20: Paleocene-Eocene | K20: Wilcox Group | L20: Lignite | M20: Camden mine | N20: coal channel | O20: 172.64 | P20: =O20*0.3048 -> 52.620672 | Q20: 1.57 | R20: =Q20*0.3048 -> 0.478536 | T20: Hackley et al. (2011)11 | U20: -
A21: 16 | B21: 202302281-001 | C21: OX-1D | D21: 34310 | E21: LA | F21: Red River | G21: PD Warwick (USGS) | H21: 32.00444 | I21: -93.39889 | J21: Paleocene-Eocene | K21: Naborton Formation | L21: Lignite | M21: Oxbow mine | N21: coal channel | O21: 152.63 | P21: =O21*0.3048 -> 46.521624 | Q21: 1.08 | R21: =Q21*0.3048 -> 0.329184 | T21: USGS Energy Resources Program (2014)12 | U21: well banded coal
A22: 17 | B22: 202302281-002 | C22: OX-2A | D22: 34310 | E22: LA | F22: Red River | G22: PD Warwick (USGS) | H22: 32.00444 | I22: -93.39889 | J22: Paleocene-Eocene | K22: Naborton Formation | L22: Lignite | M22: Oxbow mine | N22: coal channel | O22: 152.63 | P22: =O22*0.3048 -> 46.521624 | Q22: 1.08 | R22: =Q22*0.3048 -> 0.329184 | T22: USGS Energy Resources Program (2014)12 | U22: channel top of coal - banded
A23: 18 | B23: 202302281-003 | C23: OX-P2 | D23: 34310 | E23: LA | F23: Red River | G23: PD Warwick (USGS) | H23: 32.00444 | I23: -93.39889 | J23: Paleocene-Eocene | K23: Naborton Formation | L23: Lignite | M23: Oxbow mine | N23: Rock parting | O23: 152.63 | P23: =O23*0.3048 -> 46.521624 | Q23: 2.95 | R23: =Q23*0.3048 -> 0.89916 | T23: - | U23: clay parting - thickness variable
A24: 19 | B24: 202201316-010 | C24: DH2-1A | D24: 34309 | E24: LA | F24: DE SOTO | G24: PD Warwick (USGS) | H24: 31.971389 | I24: -93.551111 | J24: Paleocene-Eocene | K24: Naborton Formation | L24: Lignite | M24: Dolet Hills mine | N24: coal channel | O24: 350 | P24: =O24*0.3048 -> 106.68 | Q24: 0.69 | R24: =Q24*0.3048 -> 0.210312 | S24: 8.25 | T24: USGS Energy Resources Program (2014)12 | U24: Base of coal
A25: 20 | B25: 202201316-011 | C25: DH2-1C | D25: 34309 | E25: LA | F25: DE SOTO | G25: PD Warwick (USGS) | H25: 31.971389 | I25: -93.551111 | J25: Paleocene-Eocene | K25: Naborton Formation | L25: Lignite | M25: Dolet Hills mine | N25: coal channel | O25: 350 | P25: =O25*0.3048 -> 106.68 | Q25: 0.92 | R25: =Q25*0.3048 -> 0.280416 | S25: 7.97 | T25: USGS Energy Resources Program (2014)12 | U25: upper lower bench
A26: 21 | B26: 202201316-012 | C26: DH2-3A | D26: 34309 | E26: LA | F26: DE SOTO | G26: PD Warwick (USGS) | H26: 31.971389 | I26: -93.551111 | J26: Paleocene-Eocene | K26: Naborton Formation | L26: Lignite | M26: Dolet Hills mine | N26: coal channel | O26: 350 | P26: =O26*0.3048 -> 106.68 | Q26: 1.11 | R26: =Q26*0.3048 -> 0.338328 | S26: 7.84 | T26: USGS Energy Resources Program (2014)12 | U26: Lower middle bench
A27: 22 | B27: 202201316-013 | C27: DH2-3C | D27: 34309 | E27: LA | F27: DE SOTO | G27: PD Warwick (USGS) | H27: 31.971389 | I27: -93.551111 | J27: Paleocene-Eocene | K27: Naborton Formation | L27: Lignite | M27: Dolet Hills mine | N27: coal channel | O27: 350 | P27: =O27*0.3048 -> 106.68 | Q27: 0.77 | R27: =Q27*0.3048 -> 0.234696 | S27: 7.79 | T27: USGS Energy Resources Program (2014)12 | U27: Upper middle bench
A28: 23 | B28: 202201316-014 | C28: DH2-4A | D28: 34309 | E28: LA | F28: DE SOTO | G28: PD Warwick (USGS) | H28: 31.971389 | I28: -93.551111 | J28: Paleocene-Eocene | K28: Naborton Formation | L28: Lignite | M28: Dolet Hills mine | N28: coal channel | O28: 350 | P28: =O28*0.3048 -> 106.68 | Q28: 0.79 | R28: =Q28*0.3048 -> 0.240792 | S28: 7.48 | T28: USGS Energy Resources Program (2014)12 | U28: Top of coal
A29: 24 | B29: 202201316-015 | C29: DH BLUE-P1 | D29: 34082 | E29: LA | F29: DE SOTO | G29: PD Warwick (USGS) | H29: 31.9625 | I29: -93.523167 | J29: Paleocene-Eocene | K29: Naborton Formation | L29: Claystone | M29: Dolet Hills mine | N29: rock - tonstein? | O29: 227.04 | P29: =O29*0.3048 -> 69.201792 | Q29: 0.26 | R29: =Q29*0.3048 -> 0.079248 | S29: 2.65 | T29: - | U29: Dolet Hills "tonstein" parting
A30: 25 | B30: 202201316-009 | C30: MS-02-H | D30: 37384 | E30: MS | F30: Choctaw | G30: PD Warwick (USGS) | H30: 33.38011 | I30: -89.23919 | J30: Paleocene-Eocene | K30: Nanafalia Formation | L30: Lignite | M30: Red Hills mine | N30: coal channel | O30: 394 | P30: =O30*0.3048 -> 120.0912 | Q30: 2.7 | R30: =Q30*0.3048 -> 0.82296 | S30: 14.29 | T30: USGS Energy Resources Program (2014)12 | U30: -
A31: 26 | B31: 202201316-008 | C31: MS-02-G | D31: 37384 | E31: MS | F31: Choctaw | G31: PD Warwick (USGS) | H31: 33.37852 | I31: -89.24039 | J31: Paleocene-Eocene | K31: Nanafalia Formation | L31: Lignite | M31: Red Hills mine | N31: coal channel | O31: 383 | P31: =O31*0.3048 -> 116.7384 | Q31: 2.8 | R31: =Q31*0.3048 -> 0.85344 | S31: 33.01 | T31: USGS Energy Resources Program (2014)12 | U31: -
A32: 27 | B32: 202201316-007 | C32: MS-02-F | D32: 37384 | E32: MS | F32: Choctaw | G32: PD Warwick (USGS) | H32: 33.3772 | I32: -89.24298 | J32: Paleocene-Eocene | K32: Nanafalia Formation | L32: Lignite | M32: Red Hills mine | N32: coal channel | O32: 387 | P32: =O32*0.3048 -> 117.9576 | Q32: 5.7 | R32: =Q32*0.3048 -> 1.73736 | S32: 32.19 | T32: USGS Energy Resources Program (2014)12 | U32: -
A33: 28 | B33: 202201316-005 | C33: MS-02-E | D33: 37384 | E33: MS | F33: Choctaw | G33: PD Warwick (USGS) | H33: 33.37689 | I33: -89.24347 | J33: Paleocene-Eocene | K33: Nanafalia Formation | L33: Lignite | M33: Red Hills mine | N33: coal channel | O33: 344.5 | P33: =O33*0.3048 -> 105.0036 | Q33: 4 | R33: =Q33*0.3048 -> 1.2192 | S33: 10.48 | T33: USGS Energy Resources Program (2014)12 | U33: -
A34: 29 | B34: 202201316-001 | C34: MS-08-C3.4 | D34: 39510 | E34: MS | F34: Choctaw | G34: PD Warwick (USGS) | H34: 33.389492 | I34: -89.243611 | J34: Paleocene-Eocene | K34: Nanafalia Formation | L34: Lignite | M34: Red Hills mine | N34: coal channel | O34: 307 | P34: =O34*0.3048 -> 93.5736 | Q34: 3.2 | R34: =Q34*0.3048 -> 0.97536 | S34: 27.53 | T34: - | U34: -
A35: 30 | B35: 202201316-003 | C35: MS-02-DP | D35: 37384 | E35: MS | F35: Choctaw | G35: PD Warwick (USGS) | H35: 33.37539 | I35: -89.24625 | J35: Paleocene-Eocene | K35: Nanafalia Formation | L35: Lignite | M35: Red Hills mine | N35: coal channel | O35: 253 | P35: =O35*0.3048 -> 77.1144 | Q35: 0.3 | R35: =Q35*0.3048 -> 0.09144 | S35: 8.03 | T35: - | U35: -
... A40: 35 | B40: 202201316-017 | C40: SBN-1C | D40: 35180 | E40: TX | F40: Harrison | G40: PD Warwick (USGS) | H40: 32.450292 | I40: -94.558033 | J40: Paleocene-Eocene | K40: Wilcox Group | L40: Lignite | M40: Sabine mine | N40: coal channel | O40: 337.13 | P40: =O40*0.3048 -> 102.75722 | Q40: 1.74 | R40: =Q40*0.3048 -> 0.530352 | S40: 13.3 | T40: USGS Energy Resources Program (2014)12 | U40: -
A41: 36 | B41: - | C41: 124331 | D41: - | E41: TX | F41: Harrison | G41: - | H41: 32.353 | I41: -94.527889 | J41: Paleocene-Eocene | K41: Wilcox Group | L41: Lignite | M41: Sabine mine | N41: coal channel | O41: - | P41: - | Q41: - | R41: - | T41: Zygarlicke et al. (2019)10 | U41: Sabine coal 17218-1 W100 38.2 - 39.6 ft
A42: 37 | B42: - | C42: 124332 | D42: - | E42: TX | F42: Harrison | G42: - | H42: 32.353 | I42: -94.527889 | J42: Paleocene-Eocene | K42: Wilcox Group | L42: Lignite | M42: Sabine mine | N42: coal channel | O42: - | P42: - | Q42: - | R42: - | T42: Zygarlicke et al. (2019)10 | U42: Sabine coal 17218-2 W100 58.2 - 61.2 ft
A43: 38 | B43: - | C43: 124333 | D43: - | E43: TX | F43: Harrison | G43: - | H43: 32.353 | I43: -94.527889 | J43: Paleocene-Eocene | K43: Wilcox Group | L43: Lignite | M43: Sabine mine | N43: coal channel | O43: - | P43: - | Q43: - | R43: - | T43: Zygarlicke et al. (2019)10 | U43: Sabine coal 17218-3 W100 80.3 - 82.2 ft
A44: 39 | B44: - | C44: 124338 | D44: - | E44: TX | F44: Harrison | G44: - | H44: 32.353 | I44: -94.527889 | J44: Paleocene-Eocene | K44: Wilcox Group | L44: Lignite | M44: Sabine mine | N44: coal channel | O44: - | P44: - | Q44: - | R44: - | T44: Zygarlicke et al. (2019)10 | U44: Sabine coal 17218-4 W100 82.7 - 85.1 ft
A45: 40 | B45: - | C45: 124339 | D45: - | E45: TX | F45: Harrison | G45: - | H45: 32.352722 | I45: -94.527361 | J45: Paleocene-Eocene | K45: Wilcox Group | L45: Lignite | M45: Sabine mine | N45: coal channel | O45: - | P45: - | Q45: - | R45: - | T45: Zygarlicke et al. (2019)10 | U45: Sabine coal 17218-5 W101 27.3 - 30.7 ft
A46: 41 | B46: - | C46: 124340 | D46: - | E46: TX | F46: Harrison | G46: - | H46: 32.353028 | I46: -94.526694 | J46: Paleocene-Eocene | K46: Wilcox Group | L46: Lignite | M46: Sabine mine | N46: coal channel | O46: - | P46: - | Q46: - | R46: - | T46: Zygarlicke et al. (2019)10 | U46: Sabine coal 17218-13 W104 71.4 - 74.7 ft
A47: 42 | B47: - | C47: 124341 | D47: - | E47: TX | F47: Harrison | G47: - | H47: 32.353028 | I47: -94.526694 | J47: Paleocene-Eocene | K47: Wilcox Group | L47: Lignite | M47: Sabine mine | N47: coal channel | O47: - | P47: - | Q47: - | R47: - | T47: Zygarlicke et al. (2019)10 | U47: Sabine coal 17218-14 W104 97.0 - 99.4 ft
A48: 43 | B48: - | C48: 124342 | D48: - | E48: TX | F48: Harrison | G48: - | H48: 32.353028 | I48: -94.526694 | J48: Paleocene-Eocene | K48: Wilcox Group | L48: Lignite | M48: Sabine mine | N48: coal channel | O48: - | P48: - | Q48: - | R48: - | T48: Zygarlicke et al. (2019)10 | U48: Sabine coal 17218-15 W104 99.9 - 102.1 ft
A49: 44 | B49: - | C49: 124343 | D49: - | E49: TX | F49: Harrison | G49: - | H49: 32.352667 | I49: -94.526972 | J49: Paleocene-Eocene | K49: Wilcox Group | L49: Lignite | M49: Sabine mine | N49: coal channel | O49: - | P49: - | Q49: - | R49: - | T49: Zygarlicke et al. (2019)10 | U49: Sabine coal 17218-16 W105 35.4 - 37.7 ft
A50: 45 | B50: - | C50: 124344 | D50: - | E50: TX | F50: Harrison | G50: - | H50: 32.352667 | I50: -94.526972 | J50: Paleocene-Eocene | K50: Wilcox Group | L50: Lignite | M50: Sabine mine | N50: coal channel | O50: - | P50: - | Q50: - | R50: - | T50: Zygarlicke et al. (2019)10 | U50: Sabine coal 17218-17 W105 38.2 - 40.2 ft
A51: 46 | B51: 202302281-004 | C51: BB2-CP | D51: 34760 | E51: TX | F51: Freestone | G51: PD Warwick (USGS) | H51: 31.85361 | I51: -96.05861 | J51: Paleocene-Eocene | K51: Calvert Bluff Formation | L51: Lignite | M51: Big Brown mine | N51: coal channel | O51: 334.02 | P51: =O51*0.3048 -> 101.8093 | Q51: 5.61 | R51: =Q51*0.3048 -> 1.709928 | T51: USGS Energy Resources Program (2014)12 | U51: -
A52: 47 | B52: 202302281-008 | C52: JE-3-CP | D52: 35530 | E52: TX | F52: Freestone | G52: PD Warwick (USGS) | H52: 31.46194 | I52: -96.15944 | J52: Paleocene-Eocene | K52: Wilcox Group | L52: Lignite | M52: Jewett mine | N52: coal channel | O52: 434.2 | P52: =O52*0.3048 -> 132.34416 | Q52: 2.03 | R52: =Q52*0.3048 -> 0.618744 | T52: USGS Energy Resources Program (2014)12 | U52: -
A53: 48 | B53: 202302281-009 | C53: JE-4-CP | D53: 35530 | E53: TX | F53: Freestone | G53: PD Warwick (USGS) | H53: 31.46472 | I53: -96.15972 | J53: Paleocene-Eocene | K53: Wilcox Group | L53: Lignite | M53: Jewett mine | N53: coal channel | O53: 435.7 | P53: =O53*0.3048 -> 132.80136 | Q53: 3.31 | R53: =Q53*0.3048 -> 1.008888 | T53: USGS Energy Resources Program (2014)12 | U53: -
A54: 49 | B54: 202302281-010 | C54: JE-6-CP | D54: 35530 | E54: TX | F54: Leon | G54: PD Warwick (USGS) | H54: 31.37472 | I54: -96.26111 | J54: Paleocene-Eocene | K54: Wilcox Group | L54: Lignite | M54: Jewett mine | N54: coal channel | O54: 466.05 | P54: =O54*0.3048 -> 142.05204 | Q54: 1.8 | R54: =Q54*0.3048 -> 0.54864 | T54: USGS Energy Resources Program (2014)12 | U54: -
A55: 50 | B55: 202201316-026 | C55: WC-A1.1 | D55: 34078 | E55: TX | F55: Robertson | G55: PD Warwick (USGS) | H55: 31.096167 | I55: -96.653167 | J55: Paleocene-Eocene | K55: Calvert Bluff Formation | L55: Lignite | M55: Walnut Creek mine | N55: coal channel | O55: 400.3 | P55: =O55*0.3048 -> 122.01144 | Q55: 1.28 | R55: =Q55*0.3048 -> 0.390144 | S55: 8.14 | T55: USGS Energy Resources Program (2014)12 | U55: -
A56: 51 | B56: 202201316-027 | C56: WC-A1.4 | D56: 34078 | E56: TX | F56: Robertson | G56: PD Warwick (USGS) | H56: 31.096167 | I56: -96.653167 | J56: Paleocene-Eocene | K56: Calvert Bluff Formation | L56: Lignite | M56: Walnut Creek mine | N56: coal channel | O56: 400.3 | P56: =O56*0.3048 -> 122.01144 | Q56: 1.64 | R56: =Q56*0.3048 -> 0.499872 | S56: 10.44 | T56: USGS Energy Resources Program (2014)12 | U56: -
A57: 52 | B57: 202201316-028 | C57: WC-A2.1 | D57: 34078 | E57: TX | F57: Robertson | G57: PD Warwick (USGS) | H57: 31.096167 | I57: -96.653167 | J57: Paleocene-Eocene | K57: Calvert Bluff Formation | L57: Lignite | M57: Walnut Creek mine | N57: coal channel | O57: 400.3 | P57: =O57*0.3048 -> 122.01144 | Q57: 1.48 | R57: =Q57*0.3048 -> 0.451104 | S57: 9.84 | T57: USGS Energy Resources Program (2014)12 | U57: -
A58: 53 | B58: 202201316-029 | C58: WC-A2.3 | D58: 34078 | E58: TX | F58: Robertson | G58: PD Warwick (USGS) | H58: 31.096167 | I58: -96.653167 | J58: Paleocene-Eocene | K58: Calvert Bluff Formation | L58: Lignite | M58: Walnut Creek mine | N58: coal channel | O58: 400.3 | P58: =O58*0.3048 -> 122.01144 | Q58: 0.66 | R58: =Q58*0.3048 -> 0.201168 | S58: 10.17 | T58: USGS Energy Resources Program (2014)12 | U58: -
A59: 54 | B59: 202202141-004 | C59: M128 CH1 | D59: 34074 | E59: TX | F59: Grimes | G59: PD Warwick (USGS) | H59: 30.60444 | I59: -96.0144 | J59: Eocene | K59: Manning Formation | L59: Lignite | M59: Gibbons Creek mine | N59: coal core | O59: 343 | P59: =O59*0.3048 -> 104.5464 | Q59: 2 | R59: =Q59*0.3048 -> 0.6096 | S59: 9.61 | T59: USGS Energy Resources Program (2014)12 | U59: -
A60: 55 | B60: 202202141-005 | C60: M128 CH2 | D60: 34074 | E60: TX | F60: Grimes | G60: PD Warwick (USGS) | H60: 30.60444 | I60: -96.0144 | J60: Eocene | K60: Manning Formation | L60: Lignite | M60: Gibbons Creek mine | N60: coal core | O60: 343 | P60: =O60*0.3048 -> 104.5464 | Q60: 2 | R60: =Q60*0.3048 -> 0.6096 | S60: 10.08 | T60: USGS Energy Resources Program (2014)12 | U60: -
A61: 56 | B61: 202202141-006 | C61: M128 CH3 | D61: 34074 | E61: TX | F61: Grimes | G61: PD Warwick (USGS) | H61: 30.60444 | I61: -96.0144 | J61: Eocene | K61: Manning Formation | L61: Lignite | M61: Gibbons Creek mine | N61: coal core | O61: 343 | P61: =O61*0.3048 -> 104.5464 | Q61: 0.95 | R61: =Q61*0.3048 -> 0.28956 | S61: 7.98 | T61: USGS Energy Resources Program (2014)12 | U61: -
A62: 57 | B62: 202202141-007 | C62: M128 CH4 | D62: 34074 | E62: TX | F62: Grimes | G62: PD Warwick (USGS) | H62: 30.60444 | I62: -96.0144 | J62: Eocene | K62: Manning Formation | L62: Lignite | M62: Gibbons Creek mine | N62: coal core | O62: 343 | P62: =O62*0.3048 -> 104.5464 | Q62: 1.1 | R62: =Q62*0.3048 -> 0.33528 | S62: 7.74 | T62: USGS Energy Resources Program (2014)12 | U62: -
A63: 58 | B63: 202202141-001 | C63: GC 4500 ROOF | D63: 34079 | E63: TX | F63: Grimes | G63: PD Warwick (USGS) | H63: 30.5675 | I63: -96.066944 | J63: Eocene | K63: Manning Formation | L63: Lignite | M63: Gibbons Creek mine | N63: mudstone channel | O63: 243.86 | P63: =O63*0.3048 -> 74.328528 | Q63: grab | R63: 3.34 | S63: 3.34 | T63: Warwick et al. (1997)13, Hower et al. (2023)14 | U63: -
A64: 59 | B64: 202201316-018 | C64: GC-4500.1 | D64: 34079 | E64: TX | F64: Grimes | G64: PD Warwick (USGS) | H64: 30.5675 | I64: -96.066944 | J64: Eocene | K64: Manning Formation | L64: Lignite | M64: Gibbons Creek mine | N64: coal channel | O64: 243.86 | P64: =O64*0.3048 -> 74.328528 | Q64: 0.46 | R64: =Q64*0.3048 -> 0.140208 | S64: 21.22 | T64: Warwick et al. (1997)13, Hower et al. (2023)14 | U64: -
A65: 60 | B65: 202201316-019 | C65: GC-4500.2 | D65: 34079 | E65: TX | F65: Grimes | G65: PD Warwick (USGS) | H65: 30.5675 | I65: -96.066944 | J65: Eocene | K65: Manning Formation | L65: Lignite | M65: Gibbons Creek mine | N65: coal channel | O65: 243.86 | P65: =O65*0.3048 -> 74.328528 | Q65: 0.95 | R65: =Q65*0.3048 -> 0.28956 | S65: 35.49 | T65: Warwick et al. (1997)13, Hower et al. (2023)14 | U65: -
A66: 61 | B66: 202201316-020 | C66: GC-4500.3 | D66: 34079 | E66: TX | F66: Grimes | G66: PD Warwick (USGS) | H66: 30.5675 | I66: -96.066944 | J66: Eocene | K66: Manning Formation | L66: Lignite | M66: Gibbons Creek mine | N66: coal channel | O66: 243.86 | P66: =O66*0.3048 -> 74.328528 | Q66: 0.95 | R66: =Q66*0.3048 -> 0.28956 | S66: 32.18 | T66: Warwick et al. (1997)13, Hower et al. (2023)14 | U66: -
A67: 62 | B67: 202201316-021 | C67: GC-4500 - P1 Channel | D67: 34079 | E67: TX | F67: Grimes | G67: PD Warwick (USGS) | H67: 30.5675 | I67: -96.066944 | J67: Eocene | K67: Manning Formation | L67: Claystone | M67: Gibbons Creek mine | N67: rock - tonstein? | O67: 243.86 | P67: =O67*0.3048 -> 74.328528 | Q67: 0.67 | R67: =Q67*0.3048 -> 0.204216 | S67: 14.79 | T67: Warwick et al. (1997)13, Hower et al. (2023)14 | U67: -
A68: 63 | B68: 202201316-022 | C68: GC-3500.1 | D68: 34079 | E68: TX | F68: Grimes | G68: PD Warwick (USGS) | H68: 30.5675 | I68: -96.066944 | J68: Eocene | K68: Manning Formation | L68: Lignite | M68: Gibbons Creek mine | N68: coal channel | O68: 243.86 | P68: =O68*0.3048 -> 74.328528 | Q68: 1.25 | R68: =Q68*0.3048 -> 0.381 | S68: 10.15 | T68: Warwick et al. (1997)13, Hower et al. (2023)14 | U68: -
A69: 64 | B69: 202202141-002 | C69: GC 3500.2 | D69: 34079 | E69: TX | F69: Grimes | G69: PD Warwick (USGS) | H69: 30.5675 | I69: -96.066944 | J69: Eocene | K69: Manning Formation | L69: Lignite | M69: Gibbons Creek mine | N69: coal channel | O69: 243.86 | P69: =O69*0.3048 -> 74.328528 | Q69: 1.93 | R69: =Q69*0.3048 -> 0.588264 | S69: 8.64 | T69: Warwick et al. (1997)13, Hower et al. (2023)14 | U69: -
A70: 65 | B70: 202201316-023 | C70: GC-3500.3 | D70: 34079 | E70: TX | F70: Grimes | G70: PD Warwick (USGS) | H70: 30.5675 | I70: -96.066944 | J70: Eocene | K70: Manning Formation | L70: Lignite | M70: Gibbons Creek mine | N70: coal channel | O70: 243.86 | P70: =O70*0.3048 -> 74.328528 | Q70: 1.18 | R70: =Q70*0.3048 -> 0.359664 | S70: 10.54 | T70: Warwick et al. (1997)13, Hower et al. (2023)14 | U70: -
A71: 66 | B71: 202202141-003 | C71: GC 3500.4 | D71: 34079 | E71: TX | F71: Grimes | G71: PD Warwick (USGS) | H71: 30.5675 | I71: -96.066944 | J71: Eocene | K71: Manning Formation | L71: Lignite | M71: Gibbons Creek mine | N71: coal channel | O71: 243.86 | P71: =O71*0.3048 -> 74.328528 | Q71: 0.85 | R71: =Q71*0.3048 -> 0.25908 | S71: 20.16 | T71: Warwick et al. (1997)13, Hower et al. (2023)14 | U71: -
A72: 67 | B72: 202201316-024 | C72: GC-3500.5 | D72: 34079 | E72: TX | F72: Grimes | G72: PD Warwick (USGS) | H72: 30.5675 | I72: -96.066944 | J72: Eocene | K72: Manning Formation | L72: Lignite | M72: Gibbons Creek mine | N72: coal channel | O72: 243.86 | P72: =O72*0.3048 -> 74.328528 | Q72: 1.11 | R72: =Q72*0.3048 -> 0.338328 | S72: 8.38 | T72: Warwick et al. (1997)13, Hower et al. (2023)14 | U72: -
A73: 68 | B73: 202201316-025 | C73: GC-3500-P1 | D73: 34079 | E73: TX | F73: Grimes | G73: PD Warwick (USGS) | H73: 30.5675 | I73: -96.066944 | J73: Eocene | K73: Manning Formation | L73: Claystone | M73: Gibbons Creek mine | N73: rock - tonstein? | O73: 243.86 | P73: =O73*0.3048 -> 74.328528 | Q73: 0.06 | R73: =Q73*0.3048 -> 0.018288 | S73: 4.89 | T73: Warwick et al. (1997)13; Ruppert et al. (1994)15, Hower et al. (2023)13 | U73: Tonstein
A74: 69 | B74: 202201316-030 | C74: SM-2-A1 | D74: 34075 | E74: TX | F74: Atascosa | G74: PD Warwick (USGS) | H74: 28.667222 | I74: -98.4875 | J74: Eocene | K74: Jackson Group | L74: Lignite | M74: San Miguel mine | N74: coal channel | O74: 360.16 | P74: =O74*0.3048 -> 109.77677 | Q74: 0.72 | R74: =Q74*0.3048 -> 0.219456 | S74: 8.4 | T74: Warwick et al. (1996)16, Hower et al. (2023)14 | U74: -
A75: 70 | B75: 202201316-031 | C75: SM-2-A2 | D75: 34075 | E75: TX | F75: Atascosa | G75: PD Warwick (USGS) | H75: 28.667222 | I75: -98.4875 | J75: Eocene | K75: Jackson Group | L75: Lignite | M75: San Miguel mine | N75: coal channel | O75: 360.16 | P75: =O75*0.3048 -> 109.77677 | Q75: 0.26 | R75: =Q75*0.3048 -> 0.079248 | S75: 7.98 | T75: Warwick et al. (1996)16, Hower et al. (2023)14 | U75: -
... A84: 79 | B84: 202202141-014 | C84: SM1 D.1 | D84: 34075 | E84: TX | F84: Atascosa | G84: PD Warwick (USGS) | H84: 28.667222 | I84: -98.4944 | J84: Eocene | K84: Jackson Group | L84: Lignite | M84: San Miguel mine | N84: coal channel | O84: 353.7 | P84: =O84*0.3048 -> 107.80776 | Q84: 1.21 | R84: =Q84*0.3048 -> 0.368808 | S84: 8.71 | T84: Warwick et al. (1996)16, Hower et al. (2023)14 | U84: -
A85: 80 | B85: 202301262-001 | C85: SM-B1 | D85: 44972 | E85: TX | F85: Atascosa | G85: Hook, Malito (UTBEG) | H85: 28.588998 | I85: -98.53415 | J85: Eocene | K85: Jackson Group | L85: Lignite | M85: San Miguel mine | N85: coal channel | O85: - | P85: - | Q85: 0.6 | R85: =Q85*0.3048 -> 0.18288 | T85: - | U85: -
A86: 81 | B86: 202301262-002 | C86: SM-B2T | D86: 44972 | E86: TX | F86: Atascosa | G86: Hook, Malito (UTBEG) | H86: 28.588998 | I86: -98.53415 | J86: Eocene | K86: Jackson Group | L86: Lignite | M86: San Miguel mine | N86: coal channel | O86: - | P86: - | Q86: 1.25 | R86: =Q86*0.3048 -> 0.381 | T86: - | U86: -
A87: 82 | B87: 202301262-003 | C87: SM-B2B | D87: 44972 | E87: TX | F87: Atascosa | G87: Hook, Malito (UTBEG) | H87: 28.588998 | I87: -98.53415 | J87: Eocene | K87: Jackson Group | L87: Lignite | M87: San Miguel mine | N87: coal channel | O87: - | P87: - | Q87: 1.25 | R87: =Q87*0.3048 -> 0.381 | T87: - | U87: -
A88: 83 | B88: 202301262-004 | C88: SM-C1T | D88: 44972 | E88: TX | F88: Atascosa | G88: Hook, Malito (UTBEG) | H88: 28.588998 | I88: -98.53415 | J88: Eocene | K88: Jackson Group | L88: Lignite | M88: San Miguel mine | N88: coal channel | O88: - | P88: - | Q88: 1.1 | R88: =Q88*0.3048 -> 0.33528 | S88: 7.69 | T88: - | U88: -
A89: 84 | B89: 202301262-005 | C89: SM-C2B | D89: 44972 | E89: TX | F89: Atascosa | G89: Hook, Malito (UTBEG) | H89: 28.588998 | I89: -98.53415 | J89: Eocene | K89: Jackson Group | L89: Lignite | M89: San Miguel mine | N89: coal channel | O89: - | P89: - | Q89: 1.1 | R89: =Q89*0.3048 -> 0.33528 | T89: - | U89: -
A90: 85 | B90: 202301262-006 | C90: SM-D1 | D90: 44972 | E90: TX | F90: Atascosa | G90: Hook, Malito (UTBEG) | H90: 28.588998 | I90: -98.53415 | J90: Eocene | K90: Jackson Group | L90: Lignite | M90: San Miguel mine | N90: coal channel | O90: - | P90: - | Q90: 0.9 | R90: =Q90*0.3048 -> 0.27432 | S90: 8.71 | T90: - | U90: -
A91: 86 | B91: 202202141-008 | C91: SM1 P2 | D91: 34075 | E91: TX | F91: Atascosa | G91: PD Warwick (USGS) | H91: 28.667222 | I91: -98.4944 | J91: Eocene | K91: Jackson Group | L91: Claystone | M91: San Miguel mine | N91: claystone channel | O91: 353.7 | P91: =O91*0.3048 -> 107.80776 | Q91: 0.75 | R91: =Q91*0.3048 -> 0.2286 | S91: 4.4 | T91: Warwick et al. (1996)16, Hower et al. (2023)14 | U91: -
A92: 87 | B92: 202202141-011 | C92: SM1 P3.1 | D92: 34075 | E92: TX | F92: Atascosa | G92: PD Warwick (USGS) | H92: 28.667222 | I92: -98.4944 | J92: Eocene | K92: Jackson Group | L92: Mudstone | M92: San Miguel mine | N92: mudstone channel | O92: 353.7 | P92: =O92*0.3048 -> 107.80776 | Q92: 0.328 | R92: =Q92*0.3048 -> 0.0999744 | S92: 6.22 | T92: Warwick et al. (1996)16, Hower et al. (2023)14 | U92: -
A93: 88 | B93: 202202141-012 | C93: SM1 P3.2 | D93: 34075 | E93: TX | F93: Atascosa | G93: PD Warwick (USGS) | H93: 28.667222 | I93: -98.4944 | J93: Eocene | K93: Jackson Group | L93: Claystone | M93: San Miguel mine | N93: claystone channel | O93: 353.7 | P93: =O93*0.3048 -> 107.80776 | Q93: 0.098 | R93: =Q93*0.3048 -> 0.0298704 | S93: 6.95 | T93: Warwick et al. (1996)16, Hower et al. (2023)14 | U93: -
A94: 89 | B94: 202202141-013 | C94: SM1 P3.3 | D94: 34075 | E94: TX | F94: Atascosa | G94: PD Warwick (USGS) | H94: 28.667222 | I94: -98.4944 | J94: Eocene | K94: Jackson Group | L94: Claystone | M94: San Miguel mine | N94: claystone channel | O94: 353.7 | P94: =O94*0.3048 -> 107.80776 | Q94: 0.688 | R94: =Q94*0.3048 -> 0.2097024 | S94: 5.48 | T94: Warwick et al. (1996)16, Hower et al. (2023)14 | U94: -
A95: 90 | B95: - | C95: 124833 | D95: - | E95: TX | F95: Atascosa | G95: - | H95: 28.686734 | I95: -98.477819 | J95: Eocene | K95: Jackson Group | L95: Lignite | M95: San Miguel mine | N95: coal channel | O95: - | P95: - | Q95: - | R95: - | T95: Zygarlicke et al. (2019)10 | U95: San Miguel - 5H B-Seam Top 6"
A96: 91 | B96: - | C96: 124834 | D96: - | E96: TX | F96: Atascosa | G96: - | H96: 28.686734 | I96: -98.477819 | J96: Eocene | K96: Jackson Group | L96: Lignite | M96: San Miguel mine | N96: coal channel | O96: - | P96: - | Q96: - | R96: - | T96: Zygarlicke et al. (2019)10 | U96: San Miguel - 1B-A-CO
A97: 92 | B97: - | C97: 124835 | D97: - | E97: TX | F97: Atascosa | G97: - | H97: 28.686734 | I97: -98.477819 | J97: Eocene | K97: Jackson Group | L97: Lignite | M97: San Miguel mine | N97: coal channel | O97: - | P97: - | Q97: - | R97: - | T97: Zygarlicke et al. (2019)10 | U97: San Miguel - Bottom 6" A-Seam
A98: 93 | B98: - | C98: 124836 | D98: - | E98: TX | F98: Atascosa | G98: - | H98: 28.686734 | I98: -98.477819 | J98: Eocene | K98: Jackson Group | L98: Lignite | M98: San Miguel mine | N98: coal channel | O98: - | P98: - | Q98: - | R98: - | T98: Zygarlicke et al. (2019)10 | U98: San Miguel - 5H B-Seam Bottom 6"
A99: 94 | B99: - | C99: 124837 | D99: - | E99: TX | F99: Atascosa | G99: - | H99: 28.686734 | I99: -98.477819 | J99: Eocene | K99: Jackson Group | L99: Lignite | M99: San Miguel mine | N99: coal channel | O99: - | P99: - | Q99: - | R99: - | T99: Zygarlicke et al. (2019)10 | U99: San Miguel - 5H - Cleaning
A100: 95 | B100: - | C100: 124838 | D100: - | E100: TX | F100: Atascosa | G100: - | H100: 28.686734 | I100: -98.477819 | J100: Eocene | K100: Jackson Group | L100: Lignite | M100: San Miguel mine | N100: coal channel | O100: - | P100: - | Q100: - | R100: - | T100: Zygarlicke et al. (2019)10 | U100: San Miguel - 5H - #2 Clay parting
A101: 96 | B101: - | C101: 124839 | D101: - | E101: TX | F101: Atascosa | G101: - | H101: 28.686734 | I101: -98.477819 | J101: Eocene | K101: Jackson Group | L101: Lignite | M101: San Miguel mine | N101: coal channel | O101: - | P101: - | Q101: - | R101: - | T101: Zygarlicke et al. (2019)10 | U101: San Miguel - 5H - #3
A102: 97 | B102: - | C102: 124840 | D102: - | E102: TX | F102: Atascosa | G102: - | H102: 28.686734 | I102: -98.477819 | J102: Eocene | K102: Jackson Group | L102: Lignite | M102: San Miguel mine | N102: coal channel | O102: - | P102: - | Q102: - | R102: - | T102: Zygarlicke et al. (2019)10 | U102: San Miguel - 5H - D-Seam Top 6"
A103: 98 | B103: - | C103: 124841 | D103: - | E103: TX | F103: Atascosa | G103: - | H103: 28.686734 | I103: -98.477819 | J103: Eocene | K103: Jackson Group | L103: Lignite | M103: San Miguel mine | N103: coal channel | O103: - | P103: - | Q103: - | R103: - | T103: Zygarlicke et al. (2019)10 | U103: San Miguel - #1 Clay parting
A104: 99 | B104: - | C104: 124842 | D104: - | E104: TX | F104: Atascosa | G104: - | H104: 28.686734 | I104: -98.477819 | J104: Eocene | K104: Jackson Group | L104: Lignite | M104: San Miguel mine | N104: coal channel | O104: - | P104: - | Q104: - | R104: - | T104: Zygarlicke et al. (2019)10 | U104: San Miguel - 5H C-Seam Bottom 6"
A105: 100 | B105: - | C105: 124843 | D105: - | E105: TX | F105: Atascosa | G105: - | H105: 28.686734 | I105: -98.477819 | J105: Eocene | K105: Jackson Group | L105: Lignite | M105: San Miguel mine | N105: coal channel | O105: - | P105: - | Q105: - | R105: - | T105: Zygarlicke et al. (2019)10 | U105: San Miguel - 5H D-Seam Bottom 6"
A106: 101 | B106: - | C106: 124844 | D106: - | E106: TX | F106: Atascosa | G106: - | H106: 28.686734 | I106: -98.477819 | J106: Eocene | K106: Jackson Group | L106: Lignite | M106: San Miguel mine | N106: coal channel | O106: - | P106: - | Q106: - | R106: - | T106: Zygarlicke et al. (2019)10 | U106: San Miguel - 5H C-Seam Top 6"
A107: 102 | B107: 202201316-042 | C107: SP2-1 | D107: 34429 | E107: TX | F107: Webb | G107: PD Warwick (USGS) | H107: 27.817 | I107: -99.838667 | J107: Eocene | K107: Bigford Formation | L107: Bituminous | M107: Palafox mine | N107: coal channel | O107: 269 | P107: =O107*0.3048 -> 81.9912 | Q107: 0.85 | R107: =Q107*0.3048 -> 0.25908 | S107: 2.62 | T107: USGS Energy Resources Program (2014)12
A108: 103 | B108: 202201316-040 | C108: ST-94-2 | D108: 34428 | E108: TX | F108: Webb | G108: PD Warwick (USGS) | H108: 27.942222 | I108: -99.854722 | J108: Eocene | K108: El Pico Clay | L108: Bituminous | M108: Rachel mine | N108: coal parting channel | O108: 341 | P108: =O108*0.3048 -> 103.9368 | Q108: 0.02 | R108: =Q108*0.3048 -> 0.006096 | S108: 3.44 | T108: Warwick and Hook (1995)17
A109: 104 | B109: 202201316-038 | C109: ST-94-1 | D109: 34428 | E109: TX | F109: Webb | G109: PD Warwick (USGS) | H109: 27.942222 | I109: -99.854722 | J109: Eocene | K109: El Pico Clay | L109: Bituminous | M109: Trevino mine | N109: coal channel | O109: 341 | P109: =O109*0.3048 -> 103.9368 | Q109: 1.18 | R109: =Q109*0.3048 -> 0.359664 | S109: 2.76 | T109: Warwick and Hook (1995)17 | U109: Santo Tomas coal
A110: 105 | B110: 202201316-041 | C110: STR-2-96-1 | D110: 35299 | E110: TX | F110: Webb | G110: PD Warwick (USGS) | H110: 27.960556 | I110: -99.851389 | J110: Eocene | K110: El Pico Clay | L110: Bituminous | M110: Trevino mine | N110: coal channel | O110: 600.4 | P110: =O110*0.3048 -> 183.00192 | Q110: 0.42 | R110: =Q110*0.3048 -> 0.128016 | S110: 2.18 | T110: USGS Energy Resources Program (2014)12
A111: 106 | C111: 124915 | E111: TX | F111: Maverick | G111: - | H111: 28.8026 | I111: -100.47187 | J111: Late Cretaceous | K111: Olmos Formation | L111: Coal | M111: Eagle Pass mine | N111: coal channel | O111: - | P111: - | Q111: - | R111: - | T111: Zygarlicke et al. (2019)10 | U111: Eagle Pass - EP#1-C2U Upper
A112: 107 | C112: 124916 | E112: TX | F112: Maverick | G112: - | H112: 28.8026 | I112: -100.47187 | J112: Late Cretaceous | K112: Olmos Formation | L112: Coal | M112: Eagle Pass mine | N112: coal channel | O112: - | P112: - | Q112: - | R112: - | T112: Zygarlicke et al. (2019)10 | U112: Eagle Pass - EP#2-C2U Lower
A113: 108 | C113: 124917 | E113: TX | F113: Maverick | G113: - | H113: 28.8026 | I113: -100.47187 | J113: Late Cretaceous | K113: Olmos Formation | L113: Coal | M113: Eagle Pass mine | N113: coal channel | O113: - | P113: - | Q113: - | R113: - | T113: Zygarlicke et al. (2019)10 | U113: Eagle Pass - EP#3-C2L_IB (Clay)
A114: 109 | C114: 124918 | E114: TX | F114: Maverick | G114: - | H114: 28.8026 | I114: -100.47187 | J114: Late Cretaceous | K114: Olmos Formation | L114: Coal | M114: Eagle Pass mine | N114: coal channel | O114: - | P114: - | Q114: - | R114: - | T114: Zygarlicke et al. (2019)10 | U114: Eagle Pass - EP#4-C2L
A115: 110 | C115: 124919 | E115: TX | F115: Maverick | G115: - | H115: 28.8026 | I115: -100.47187 | J115: Late Cretaceous | K115: Olmos Formation | L115: Coal | M115: Eagle Pass mine | N115: coal channel | O115: - | P115: - | Q115: - | R115: - | T115: Zygarlicke et al. (2019)10 | U115: Eagle Pass - EP#7-C1U (Clay)
...

Sheet Table S2b
A1: Table S2b | B1: Quality Control Data for samples analyzed by Standard Labs. | N1: Results of duplicate analyses of samples 28 and 104 showing replicability of the analyses..
N2: Sequence | O2: Lab. No. | P2: Sample ID | R2: La | S2: Ce | T2: Pr | U2: Nd | V2: Sm | W2: Eu | X2: Gd | Y2: Tb | Z2: Dy | AA2: Ho | AB2: Er | AC2: Tm | AD2: Yb | AE2: Lu | AF2: Y | AG2: Sc | AI2: LI | AJ2: Be | AK2: Mg | AL2: Al | AM2: P | AN2: Ti | AO2: V | AP2: Cr | AQ2: Mn | AR2: Co | AS2: Ni | AT2: Zn | AU2: Ga | AV2: Ge | AW2: As | AX2: Zr | AY2: Nb | AZ2: Sn | BA2: Sb | BB2: Ba | BC2: Hf | BD2: Ta | BE2: W | BF2: U
A3: Elemental recoveries (Result) relative to quality control reference values (Spike Amount) | N3: 28 | O3: 202201316-005 | P3: MS-02-E | R3: 3.9 | S3: 8.2 | T3: 1 | U3: 4.3 | V3: 1 | W3: 0.25 | X3: 1 | Y3: 0.17 | Z3: 1.1 | AA3: 0.24 | AB3: 0.76 | AC3: 0.11 | AD3: 0.7 | AE3: 0.11 | AF3: 8.7 | AG3: 3.6 | AI3: 5.3 | AJ3: 1.5 | AK3: 2950 | AL3: 10200 | AM3: <10 | AN3: 1190 | AO3: 26 | AP3: 15 | AQ3: 352 | AR3: 5.7 | AS3: 13 | AT3: 3 | AU3: 5.3 | AV3: 3 | AW3: 11.3 | AX3: 24.9 | AY3: 3 | AZ3: 0.6 | BA3: 0.83 | BB3: 219 | BC3: 0.7 | BD3: 0.24 | BE3: 1.6 | BF3: 1.1
A4: NIST 1632d contains 0.445 Sb, same as "Spike Amount" entries. | N4: 28 duplicate | O4: 202201316-006 | P4: X1 | R4: 3.8 | S4: 8 | T4: 1 | U4: 4.2 | V4: 0.9 | W4: 0.24 | X4: 1 | Y4: 0.17 | Z4: 1.1 | AA4: 0.24 | AB4: 0.75 | AC4: 0.11 | AD4: 0.69 | AE4: 0.11 | AF4: 8.5 | AG4: 3.5 | AI4: 4.9 | AJ4: 1.4 | AK4: 2930 | AL4: 9850 | AM4: <10 | AN4: 1160 | AO4: 26 | AP4: 15 | AQ4: 349 | AR4: 5.8 | AS4: 13 | AT4: 3 | AU4: 5.3 | AV4: 3 | AW4: 11.3 | AX4: 24.8 | AY4: 3 | AZ4: 0.6 | BA4: 0.83 | BB4: 221 | BC4: 0.7 | BD4: 0.23 | BE4: 1.5 | BF4: 1.1
A5: The RDL column shows the reporting detection limit - the lowest analyte concentration that can be reported at some degree of confidence | Q5: % diff. | R5: =(R3-R4)/R3*100 -> 2.5641026 | S5: =(S3-S4)/S3*100 -> 2.4390244 | T5: =(T3-T4)/T3*100 -> 0 | U5: =(U3-U4)/U3*100 -> 2.3255814 | V5: =(V3-V4)/V3*100 -> 10 | W5: =(W3-W4)/W3*100 -> 4 | X5: =(X3-X4)/X3*100 -> 0 | Y5: =(Y3-Y4)/Y3*100 -> 0 | ... AG5: =(AG3-AG4)/AG3*100 -> 2.7777778 | AI5: =(AI3-AI4)/AI3*100 -> 7.5471698 | AJ5: =(AJ3-AJ4)/AJ3*100 -> 6.6666667 | AK5: =(AK3-AK4)/AK3*100 -> 0.6779661 | AL5: =(AL3-AL4)/AL3*100 -> 3.4313725 | AN5: =(AN3-AN4)/AN3*100 -> 2.5210084 | AO5: =(AO3-AO4)/AO3*100 -> 0 | AP5: =(AP3-AP4)/AP3*100 -> 0 | AQ5: =(AQ3-AQ4)/AQ3*100 -> 0.85227273 | AR5: =(AR3-AR4)/AR3*100 -> -1.754386 | AS5: =(AS3-AS4)/AS3*100 -> 0 | AT5: =(AT3-AT4)/AT3*100 -> 0 | AU5: =(AU3-AU4)/AU3*100 -> 0 | ... BF5: =(BF3-BF4)/BF3*100 -> 0
A6: The data show accuracy (% recovery) and to some extent signal to noise (SpikeAmount/RDL). | N6: 104 | O6: 202201316-038 | P6: ST-94-1 | R6: 7.7 | S6: 14.6 | T6: 1.6 | U6: 6 | V6: 1.2 | W6: 0.25 | X6: 1.1 | Y6: 0.16 | Z6: 0.9 | AA6: 0.17 | AB6: 0.5 | AC6: 0.07 | AD6: 0.45 | AE6: 0.07 | AF6: 5.1 | AG6: 6.9 | AI6: 51 | AJ6: 0.6 | AK6: 594 | AL6: 23700 | AM6: 20 | AN6: 1450 | AO6: 44 | AP6: 21 | AQ6: 51 | AR6: 2.7 | AS6: 9 | AT6: 5 | AU6: 6.7 | AV6: 5 | AW6: 0.9 | AX6: 46.9 | AY6: 3.1 | AZ6: 1.1 | BA6: 0.98 | BB6: 42 | BC6: 1.3 | BD6: 0.29 | BE6: 0.4 | BF6: 1.7
A7: The measured analyte concentrations were significantly higher than RDLs | N7: 104 duplicate | O7: 202201316-039 | P7: X2 | R7: 7.8 | S7: 14.8 | T7: 1.6 | U7: 6.1 | V7: 1.2 | W7: 0.25 | X7: 1.1 | Y7: 0.16 | Z7: 0.9 | AA7: 0.17 | AB7: 0.49 | AC7: 0.07 | AD7: 0.44 | AE7: 0.07 | AF7: 4.9 | AG7: 6.9 | AI7: 49.4 | AJ7: 0.5 | AK7: 594 | AL7: 23100 | AM7: 19 | AN7: 1470 | AO7: 44 | AP7: 22 | AQ7: 44 | AR7: 2.7 | AS7: 9 | AT7: 7 | AU7: 6.7 | AV7: 5 | AW7: 0.9 | AX7: 46.3 | AY7: 3.2 | AZ7: 4.8 | BA7: 0.93 | BB7: 46 | BC7: 1.3 | BD7: 0.29 | BE7: 0.4 | BF7: 1.7
A8: QC standards (while numerous) were only analyzed once per run, so no precision information can be extracted | Q8: % diff. | R8: =(R6-R7)/R6*100 -> -1.2987013 | S8: =(S6-S7)/S6*100 -> -1.369863 | T8: =(T6-T7)/T6*100 -> 0 | U8: =(U6-U7)/U6*100 -> -1.6666667 | V8: =(V6-V7)/V6*100 -> 0 | W8: =(W6-W7)/W6*100 -> 0 | X8: =(X6-X7)/X6*100 -> 0 | Y8: =(Y6-Y7)/Y6*100 -> 0 | ... AG8: =(AG6-AG7)/AG6*100 -> 0 | AI8: =(AI6-AI7)/AI6*100 -> 3.1372549 | AJ8: =(AJ6-AJ7)/AJ6*100 -> 16.666667 | AK8: =(AK6-AK7)/AK6*100 -> 0 | AL8: =(AL6-AL7)/AL6*100 -> 2.5316456 | AM8: =(AM6-AM7)/AM6*100 -> 5 | AN8: =(AN6-AN7)/AN6*100 -> -1.3793103 | AO8: =(AO6-AO7)/AO6*100 -> 0 | AP8: =(AP6-AP7)/AP6*100 -> -4.7619048 | ... BF8: =(BF6-BF7)/BF6*100 -> 0
A9: Approximatly 20 - 25% of analyte recoveries were outside the 10% bounds of the QC standards.
A11: Quality Control Standard Results for Samples 202201316-001 through 202201316-025
A12: QCBatchID | B12: Description | C12: QCType | D12: SpikeAmount | E12: Result | F12: PercentRecovery | G12: Method | H12: Units | I12: RDL | J12: AnalysisTime | K12: AnalysisEmployee
A13: QC2206051 | B13: Antimony | C13: Nist 1632d | D13: 0.445 | E13: 0.435 | F13: 97.752809 | G13: ASTM D6357 MOD - ICP-MS | H13: ug/g | I13: 0.02 | J13: 44721.667 | K13: JMW
A14: QC2206051 | B14: Antimony | C14: Nist 1633b | D14: 6 | E14: 5.66 | F14: 94.333333 | G14: ASTM D6357 MOD - ICP-MS | H14: µg/g | I14: 0.02 | J14: 44721.667 | K14: JMW
A15: QC2206051 | B15: Antimony | C15: Nist 1633c | D15: 8.56 | E15: 8.78 | F15: 102.57009 | G15: ASTM D6357 MOD - ICP-MS | H15: µg/g | I15: 0.02 | J15: 44721.667 | K15: JMW
A16: QC2206051 | B16: Antimony | C16: Nist 1633c Dup | D16: 8.56 | E16: 8.51 | F16: 99.415888 | G16: ASTM D6357 MOD - ICP-MS | H16: µg/g | I16: 0.02 | J16: 44721.667 | K16: JMW
A17: QC2206051 | B17: Antimony | C17: Nist 2702 | D17: 5.6 | E17: 5.46 | F17: 97.5 | G17: ASTM D6357 MOD - ICP-MS | H17: µg/g | I17: 0.02 | J17: 44721.667 | K17: JMW
A18: QC2206051 | B18: Antimony | C18: Nist 2711 | D18: 19.4 | E18: 19.5 | F18: 100.51546 | G18: ASTM D6357 MOD - ICP-MS | H18: µg/g | I18: 0.02 | J18: 44721.667 | K18: JMW
A19: QC2206051 | B19: Antimony | C19: SARM 18 | D19: 0.3 | E19: 0.275 | F19: 91.666667 | G19: ASTM D6357 MOD - ICP-MS | H19: µg/g | I19: 0.02 | J19: 44721.667 | K19: JMW
A20: QC2206051 | B20: Antimony | C20: SARM 19 | D20: 0.3 | E20: 0.351 | F20: 117 | G20: ASTM D6357 MOD - ICP-MS | H20: µg/g | I20: 0.02 | J20: 44721.667 | K20: JMW
A21: QC2206051 | B21: Arsenic | C21: Nist 1632d | D21: 6.1 | E21: 6.12 | F21: 100.32787 | G21: ASTM D6357 MOD - ICP-MS | H21: ug/g | I21: 0.1 | J21: 44721.667 | K21: JMW
A22: QC2206051 | B22: Arsenic | C22: Nist 1633b | D22: 136.2 | E22: 137 | F22: 100.58737 | G22: ASTM D6357 MOD - ICP-MS | H22: µg/g | I22: 0.1 | J22: 44721.667 | K22: JMW
A23: QC2206051 | B23: Arsenic | C23: Nist 1633c | D23: 186.2 | E23: 185 | F23: 99.355532 | G23: ASTM D6357 MOD - ICP-MS | H23: µg/g | I23: 0.1 | J23: 44721.667 | K23: JMW
A24: QC2206051 | B24: Arsenic | C24: Nist 1633c Dup | D24: 186.2 | E24: 185 | F24: 99.355532 | G24: ASTM D6357 MOD - ICP-MS | H24: µg/g | I24: 0.1 | J24: 44721.667 | K24: JMW
... A298: QC2206089 | B298: Tantalum | C298: USGS SGR-1 | D298: 0.42 | E298: 0.447 | F298: 106.42857 | G298: ASTM D6357 MOD - ICP-MS | H298: ug/g | I298: 0.02 | J298: 44721.667 | K298: JMW
A301: Quality Control Standard Results for Samples 202201316-026 through 202201316-042
A302: QCBatchID | B302: Description | C302: QCType | D302: SpikeAmount | E302: Result | F302: PercentRecovery | G302: Method | H302: Units | I302: RDL | J302: AnalysisTime | K302: AnalysisEmployee
A303: QC2206058 | B303: Antimony | C303: Nist 1632d | D303: 0.445 | E303: 0.433 | F303: 97.303371 | G303: ASTM D6357 MOD - ICP-MS | H303: ug/g | I303: 0.02 | J303: 44726.667 | K303: JMW
A304: QC2206058 | B304: Antimony | C304: Nist 1633b | D304: 6 | E304: 5.03 | F304: 83.833333 | G304: ASTM D6357 MOD - ICP-MS | H304: µg/g | I304: 0.02 | J304: 44726.667 | K304: JMW
A305: QC2206058 | B305: Antimony | C305: Nist 1633c | D305: 8.56 | E305: 8.82 | F305: 103.03738 | G305: ASTM D6357 MOD - ICP-MS | H305: µg/g | I305: 0.02 | J305: 44726.667 | K305: JMW
A306: QC2206058 | B306: Antimony | C306: Nist 1633c Dup | D306: 8.56 | E306: 8.6 | F306: 100.46729 | G306: ASTM D6357 MOD - ICP-MS | H306: µg/g | I306: 0.02 | J306: 44726.667 | K306: JMW
A307: QC2206058 | B307: Antimony | C307: Nist 2702 | D307: 5.6 | E307: 5.82 | F307: 103.92857 | G307: ASTM D6357 MOD - ICP-MS | H307: µg/g | I307: 0.02 | J307: 44726.667 | K307: JMW
A308: QC2206058 | B308: Antimony | C308: Nist 2711 | D308: 19.4 | E308: 19.7 | F308: 101.54639 | G308: ASTM D6357 MOD - ICP-MS | H308: µg/g | I308: 0.02 | J308: 44726.667 | K308: JMW
A309: QC2206058 | B309: Antimony | C309: SARM 18 | D309: 0.3 | E309: 0.294 | F309: 98 | G309: ASTM D6357 MOD - ICP-MS | H309: µg/g | I309: 0.02 | J309: 44726.667 | K309: JMW
A310: QC2206058 | B310: Arsenic | C310: Nist 1632d | D310: 6.1 | E310: 5.97 | F310: 97.868852 | G310: ASTM D6357 MOD - ICP-MS | H310: ug/g | I310: 0.1 | J310: 44726.667 | K310: JMW
A311: QC2206058 | B311: Arsenic | C311: Nist 1633b | D311: 136.2 | E311: 133 | F311: 97.650514 | G311: ASTM D6357 MOD - ICP-MS | H311: µg/g | I311: 0.1 | J311: 44726.667 | K311: JMW
A312: QC2206058 | B312: Arsenic | C312: Nist 1633c | D312: 186.2 | E312: 188 | F312: 100.9667 | G312: ASTM D6357 MOD - ICP-MS | H312: µg/g | I312: 0.1 | J312: 44726.667 | K312: JMW
A313: QC2206058 | B313: Arsenic | C313: Nist 1633c Dup | D313: 186.2 | E313: 185 | F313: 99.355532 | G313: ASTM D6357 MOD - ICP-MS | H313: µg/g | I313: 0.1 | J313: 44726.667 | K313: JMW
A314: QC2206058 | B314: Arsenic | C314: Nist 2702 | D314: 45.3 | E314: 49.2 | F314: 108.60927 | G314: ASTM D6357 MOD - ICP-MS | H314: µg/g | I314: 0.1 | J314: 44726.667 | K314: JMW
... A578: QC2206168 | B578: Tantalum | C578: USGS SGR-1 | D578: 0.42 | E578: 0.426 | F578: 101.42857 | G578: ASTM D6357 MOD - ICP-MS | H578: ug/g | I578: 0.02 | J578: 44726.667 | K578: JMW

Sheet Table S3a
A1: Table S3a. | B1: Concentrations of REEs on a dry coal basis.
B2: REY concentrations exceeding 300 ppm bolded in column W.
B3: Coutl, outlook coefficient (Seredin & Dai, 2012)21, defined in footnote. | F3: REE, Dry Coal Basis (ppm)
AD4: REY | AE4: REY | AF4: REY
F5: Light REE | K5: Heavy REE | AD5: ppm | AE5: Ratio | AF5: Ratio
A6: Sequence | B6: Sample ID | C6: Sample | D6: State | E6: Location | F6: La | G6: Ce | H6: Pr | I6: Nd | J6: Sm | K6: Eu | L6: Gd | M6: Tb | N6: Dy | O6: Ho | P6: Er | Q6: Tm | R6: Yb | S6: Lu | T6: Y | U6: Sc | V6: Pr, Nd, Tb, Dy | W6: REY | X6: REYSc | Y6: HREE/LREE | Z6: Coutl | AA6: Critical REE % | AB6: Ash % | AC6: Coal | AD6: ash basis | AE6: Ash/Coal | AF6: median
A7: 0 | B7: AL-CR-SCH-1 | C7: Lignite | D7: AL | E7: Shell SCH. 24-A well | F7: 19.2 | G7: 37 | H7: 4.2 | I7: 16.3 | J7: 3.3 | K7: 0.65 | L7: 3.1 | M7: 0.48 | N7: 2.7 | O7: 0.52 | P7: 1.5 | Q7: 0.2 | R7: 1.28 | S7: 0.18 | T7: 13.4 | U7: 7.5 | V7: =SUM(H7:I7,M7:N7) -> 23.68 | W7: =SUM(F7:T7) -> 104.01 | X7: =SUM(F7:U7) -> 111.51 | Y7: =SUM(K7:T7)/SUM(F7:J7) -> 0.300125 | Z7: =(SUM(I7,K7,M7,N7,P7,T7)/W7)/(SUM(G7,O7,Q7,R7,S7)/W7) -> 0.89407861 | AA7: =SUM(I7,K7,M7,N7,P7,T7)/W7*100 -> 33.679454 | AB7: 35.83 | AC7: =IF(AB7<50,"yes","no") -> yes | AD7: =W7/(AB7/100) -> 290.28747 | AE7: =AD7/W7 -> 2.7909573 | AF7: 3.9362344
A8: 1 | B8: AL-WI-GCS-6-12 | C8: Lignite | D8: AL | E8: Gravel Creek Sandpit | F8: 50.1 | G8: 110 | H8: 13 | I8: 51.9 | J8: 10.6 | K8: 2.03 | L8: 9.3 | M8: 1.32 | N8: 6.8 | O8: 1.2 | P8: 3.17 | Q8: 0.39 | R8: 2.29 | S8: 0.32 | T8: 29.8 | U8: 10 | V8: =SUM(H8:I8,M8:N8) -> 73.02 | W8: =SUM(F8:T8) -> 292.22 | X8: =SUM(F8:U8) -> 302.22 | Y8: =SUM(K8:T8)/SUM(F8:J8) -> 0.24032258 | Z8: =(SUM(I8,K8,M8,N8,P8,T8)/W8)/(SUM(G8,O8,Q8,R8,S8)/W8) -> 0.83204904 | AA8: =SUM(I8,K8,M8,N8,P8,T8)/W8*100 -> 32.516597 | AB8: 34.89 | AC8: =IF(AB8<50,"yes","no") -> yes | AD8: =W8/(AB8/100) -> 837.54657 | AE8: =AD8/W8 -> 2.8661508 | AF8: 3.9362344
A9: 2 | B9: AL-WI-GCS-11 | C9: Lignite | D9: AL | E9: Gravel Creek Sandpit | F9: 70 | G9: 144 | H9: 16.6 | I9: 60 | J9: 11.8 | K9: 2.28 | L9: 10 | M9: 1.36 | N9: 6.5 | O9: 1 | P9: 2.5 | Q9: 0.3 | R9: 1.9 | S9: 0.27 | T9: 21.2 | U9: 25 | V9: =SUM(H9:I9,M9:N9) -> 84.46 | W9: =SUM(F9:T9) -> 349.71 | X9: =SUM(F9:U9) -> 374.71 | Y9: =SUM(K9:T9)/SUM(F9:J9) -> 0.15644841 | Z9: =(SUM(I9,K9,M9,N9,P9,T9)/W9)/(SUM(G9,O9,Q9,R9,S9)/W9) -> 0.63633281 | AA9: =SUM(I9,K9,M9,N9,P9,T9)/W9*100 -> 26.833662 | AB9: 86.99 | AC9: =IF(AB9<50,"yes","no") -> no | AD9: =W9/(AB9/100) -> 402.01173 | AE9: =AD9/W9 -> 1.1495574 | AF9: 3.9362344
A10: 3 | B10: AL-CL-US43-3 | C10: Lignite | D10: AL | E10: U.S. Highway 43 | F10: 44.5 | G10: 82.8 | H10: 12.6 | I10: 51.1 | J10: 11.1 | K10: 2.51 | L10: 9 | M10: 1.22 | N10: 6.8 | O10: 1.25 | P10: 3.69 | Q10: 0.53 | R10: 3.56 | S10: 0.55 | T10: 28 | U10: 15.8 | V10: =SUM(H10:I10,M10:N10) -> 71.72 | W10: =SUM(F10:T10) -> 259.21 | X10: =SUM(F10:U10) -> 275.01 | Y10: =SUM(K10:T10)/SUM(F10:J10) -> 0.28258288 | Z10: =(SUM(I10,K10,M10,N10,P10,T10)/W10)/(SUM(G10,O10,Q10,R10,S10)/W10) -> 1.0522043 | AA10: =SUM(I10,K10,M10,N10,P10,T10)/W10*100 -> 36.001697 | AB10: 84.05 | AC10: =IF(AB10<50,"yes","no") -> no | AD10: =W10/(AB10/100) -> 308.39976 | AE10: =AD10/W10 -> 1.189768 | AF10: 3.9362344
A11: 4 | B11: AL-CL-US43-6 | C11: Lignite | D11: AL | E11: U.S. Highway 43 | F11: 4.9 | G11: 9.4 | H11: 1.2 | I11: 5.5 | J11: 1.5 | K11: 0.43 | L11: 1.9 | M11: 0.36 | N11: 2.5 | O11: 0.6 | P11: 2.01 | Q11: 0.29 | R11: 1.97 | S11: 0.31 | T11: 17.8 | U11: 4.1 | V11: =SUM(H11:I11,M11:N11) -> 9.56 | W11: =SUM(F11:T11) -> 50.67 | X11: =SUM(F11:U11) -> 54.77 | Y11: =SUM(K11:T11)/SUM(F11:J11) -> 1.252 | Z11: =(SUM(I11,K11,M11,N11,P11,T11)/W11)/(SUM(G11,O11,Q11,R11,S11)/W11) -> 2.2752586 | AA11: =SUM(I11,K11,M11,N11,P11,T11)/W11*100 -> 56.443655 | AB11: 13.51 | AC11: =IF(AB11<50,"yes","no") -> yes | AD11: =W11/(AB11/100) -> 375.05551 | AE11: =AD11/W11 -> 7.4019245 | AF11: 3.9362344
A12: 5 | B12: AL-CL-US43-8 | C12: Lignite | D12: AL | E12: U.S. Highway 43 | F12: 50.1 | G12: 101 | H12: 13.9 | I12: 55.6 | J12: 11.6 | K12: 2.7 | L12: 11.1 | M12: 1.59 | N12: 9.3 | O12: 1.8 | P12: 5.26 | Q12: 0.76 | R12: 5.02 | S12: 0.76 | T12: 44.7 | U12: 9.3 | V12: =SUM(H12:I12,M12:N12) -> 80.39 | W12: =SUM(F12:T12) -> 315.19 | X12: =SUM(F12:U12) -> 324.49 | Y12: =SUM(K12:T12)/SUM(F12:J12) -> 0.35740741 | Z12: =(SUM(I12,K12,M12,N12,P12,T12)/W12)/(SUM(G12,O12,Q12,R12,S12)/W12) -> 1.0897201 | AA12: =SUM(I12,K12,M12,N12,P12,T12)/W12*100 -> 37.802595 | AB12: 70.88 | AC12: =IF(AB12<50,"yes","no") -> no | AD12: =W12/(AB12/100) -> 444.68115 | AE12: =AD12/W12 -> 1.4108352 | AF12: 3.9362344
A13: 6 | B13: AL-CL-US43-11 | C13: Lignite | D13: AL | E13: U.S. Highwayy 43 | F13: 13.7 | G13: 27.1 | H13: 5.2 | I13: 24.5 | J13: 5.8 | K13: 1.38 | L13: 5.4 | M13: 0.75 | N13: 4.1 | O13: 0.8 | P13: 2.32 | Q13: 0.31 | R13: 2.04 | S13: 0.31 | T13: 19.1 | U13: 2.6 | V13: =SUM(H13:I13,M13:N13) -> 34.55 | W13: =SUM(F13:T13) -> 112.81 | X13: =SUM(F13:U13) -> 115.41 | Y13: =SUM(K13:T13)/SUM(F13:J13) -> 0.4785059 | Z13: =(SUM(I13,K13,M13,N13,P13,T13)/W13)/(SUM(G13,O13,Q13,R13,S13)/W13) -> 1.7064791 | AA13: =SUM(I13,K13,M13,N13,P13,T13)/W13*100 -> 46.228171 | AB13: 11.25 | AC13: =IF(AB13<50,"yes","no") -> yes | AD13: =W13/(AB13/100) -> 1002.7556 | AE13: =AD13/W13 -> 8.8888889 | AF13: 3.9362344
A14: 7 | B14: AL-CH-KCSC-1-2-3 | C14: Lignite | D14: AL | E14: Outcrop | F14: 10.4 | G14: 28 | H14: 3.7 | I14: 15.7 | J14: 3.4 | K14: 0.77 | L14: 2.9 | M14: 0.42 | N14: 2.4 | O14: 0.49 | P14: 1.48 | Q14: 0.21 | R14: 1.4 | S14: 0.21 | T14: 11.6 | U14: 3.3 | V14: =SUM(H14:I14,M14:N14) -> 22.22 | W14: =SUM(F14:T14) -> 83.08 | X14: =SUM(F14:U14) -> 86.38 | Y14: =SUM(K14:T14)/SUM(F14:J14) -> 0.35751634 | Z14: =(SUM(I14,K14,M14,N14,P14,T14)/W14)/(SUM(G14,O14,Q14,R14,S14)/W14) -> 1.0679644 | AA14: =SUM(I14,K14,M14,N14,P14,T14)/W14*100 -> 38.962446 | AB14: 6.66 | AC14: =IF(AB14<50,"yes","no") -> yes | AD14: =W14/(AB14/100) -> 1247.4474 | AE14: =AD14/W14 -> 15.015015 | AF14: 3.9362344
A15: 8 | B15: AL-CH-OSM1-245-247 | C15: Lignite | D15: AL | E15: Outcrop | F15: 2 | G15: 4.1 | H15: 0.5 | I15: 2.4 | J15: 0.6 | K15: 0.14 | L15: 0.7 | M15: 0.11 | N15: 0.7 | O15: 0.15 | P15: 0.43 | Q15: 0.05 | R15: 0.32 | S15: 0.05 | T15: 6 | U15: 1.1 | V15: =SUM(H15:I15,M15:N15) -> 3.71 | W15: =SUM(F15:T15) -> 18.25 | X15: =SUM(F15:U15) -> 19.35 | Y15: =SUM(K15:T15)/SUM(F15:J15) -> 0.90104167 | Z15: =(SUM(I15,K15,M15,N15,P15,T15)/W15)/(SUM(G15,O15,Q15,R15,S15)/W15) -> 2.0942184 | AA15: =SUM(I15,K15,M15,N15,P15,T15)/W15*100 -> 53.589041 | AB15: 12.99 | AC15: =IF(AB15<50,"yes","no") -> yes | AD15: =W15/(AB15/100) -> 140.49269 | AE15: =AD15/W15 -> 7.6982294 | AF15: 3.9362344
A16: 9 | B16: AL-CH-OSM1-242.8-244.5 | C16: Lignite | D16: AL | E16: Outcrop | F16: 3.6 | G16: 6.9 | H16: 0.8 | I16: 3.5 | J16: 0.8 | K16: 0.21 | L16: 1 | M16: 0.17 | N16: 1.1 | O16: 0.26 | P16: 0.84 | Q16: 0.12 | R16: 0.8 | S16: 0.13 | T16: 8.1 | U16: 2.6 | V16: =SUM(H16:I16,M16:N16) -> 5.57 | W16: =SUM(F16:T16) -> 28.33 | X16: =SUM(F16:U16) -> 30.93 | Y16: =SUM(K16:T16)/SUM(F16:J16) -> 0.81602564 | Z16: =(SUM(I16,K16,M16,N16,P16,T16)/W16)/(SUM(G16,O16,Q16,R16,S16)/W16) -> 1.6954933 | AA16: =SUM(I16,K16,M16,N16,P16,T16)/W16*100 -> 49.135192 | AB16: 17.14 | AC16: =IF(AB16<50,"yes","no") -> yes | AD16: =W16/(AB16/100) -> 165.28588 | AE16: =AD16/W16 -> 5.8343057 | AF16: 3.9362344
A17: 10 | B17: AL-CH-OSM1-249.0 | C17: Lignite | D17: AL | E17: Outcrop | F17: 28.9 | G17: 55.3 | H17: 6.5 | I17: 23.9 | J17: 4.3 | K17: 0.92 | L17: 3.6 | M17: 0.46 | N17: 2.6 | O17: 0.49 | P17: 1.51 | Q17: 0.22 | R17: 1.5 | S17: 0.24 | T17: 12.4 | U17: 12.2 | V17: =SUM(H17:I17,M17:N17) -> 33.46 | W17: =SUM(F17:T17) -> 142.84 | X17: =SUM(F17:U17) -> 155.04 | Y17: =SUM(K17:T17)/SUM(F17:J17) -> 0.20134567 | Z17: =(SUM(I17,K17,M17,N17,P17,T17)/W17)/(SUM(G17,O17,Q17,R17,S17)/W17) -> 0.72363636 | AA17: =SUM(I17,K17,M17,N17,P17,T17)/W17*100 -> 29.256511 | AB17: 85.2 | AC17: =IF(AB17<50,"yes","no") -> no | AD17: =W17/(AB17/100) -> 167.65258 | AE17: =AD17/W17 -> 1.1737089 | AF17: 3.9362344
A18: 11 | B18: AL-CH-OSM2-253 | C18: Lignite | D18: AL | E18: Outcrop | F18: 19.1 | G18: 37.8 | H18: 4.4 | I18: 17.3 | J18: 3.4 | K18: 0.75 | L18: 3 | M18: 0.45 | N18: 2.6 | O18: 0.55 | P18: 1.73 | Q18: 0.25 | R18: 1.75 | S18: 0.27 | T18: 15.3 | U18: 8.1 | V18: =SUM(H18:I18,M18:N18) -> 24.75 | W18: =SUM(F18:T18) -> 108.65 | X18: =SUM(F18:U18) -> 116.75 | Y18: =SUM(K18:T18)/SUM(F18:J18) -> 0.325 | Z18: =(SUM(I18,K18,M18,N18,P18,T18)/W18)/(SUM(G18,O18,Q18,R18,S18)/W18) -> 0.93870015 | AA18: =SUM(I18,K18,M18,N18,P18,T18)/W18*100 -> 35.09434 | AB18: 58.43 | AC18: =IF(AB18<50,"yes","no") -> no | AD18: =W18/(AB18/100) -> 185.949 | AE18: =AD18/W18 -> 1.7114496 | AF18: 3.9362344
... A42: 35 | B42: SBN-1C | C42: Lignite | D42: TX | E42: Sabine Mine | F42: 7.1 | G42: 12.3 | H42: 1.4 | I42: 5.6 | J42: 1.2 | K42: 0.33 | L42: 1.7 | M42: 0.28 | N42: 1.8 | O42: 0.42 | P42: 1.27 | Q42: 0.17 | R42: 1.05 | S42: 0.16 | T42: 15.9 | U42: 3.9 | V42: =SUM(H42:I42,M42:N42) -> 9.08 | W42: =SUM(F42:T42) -> 50.68 | X42: =SUM(F42:U42) -> 54.58 | Y42: =SUM(K42:T42)/SUM(F42:J42) -> 0.83623188 | Z42: =(SUM(I42,K42,M42,N42,P42,T42)/W42)/(SUM(G42,O42,Q42,R42,S42)/W42) -> 1.7858156 | AA42: =SUM(I42,K42,M42,N42,P42,T42)/W42*100 -> 49.684294 | AB42: 16.52 | AC42: =IF(AB42<50,"yes","no") -> yes | AD42: =W42/(AB42/100) -> 306.77966 | AE42: =AD42/W42 -> 6.0532688 | AF42: 3.9362344
A43: 36 | B43: 124331 | C43: Lignite | D43: TX | E43: Sabine Mine | F43: 5.5417112 | G43: 11.103516 | H43: 1.3822588 | I43: 5.7621976 | J43: 1.4120888 | K43: 0.3917809 | L43: 1.8355012 | M43: 0.32633179 | N43: 2.3129715 | O43: 0.53799347 | P43: 1.6808299 | Q43: 0.24870218 | R43: 1.6521231 | S43: 0.2565361 | T43: 14.629054 | U43: 5.4860144 | V43: =SUM(H43:I43,M43:N43) -> 9.7837597 | W43: =SUM(F43:T43) -> 49.073596 | X43: =SUM(F43:U43) -> 54.559611 | Y43: =SUM(K43:T43)/SUM(F43:J43) -> 0.94722802 | Z43: =(SUM(I43,K43,M43,N43,P43,T43)/W43)/(SUM(G43,O43,Q43,R43,S43)/W43) -> 1.8192189 | AA43: =SUM(I43,K43,M43,N43,P43,T43)/W43*100 -> 51.154119 | AB43: 17.736738 | AC43: =IF(AB43<50,"yes","no") -> yes | AD43: =W43/(AB43/100) -> 276.67768 | AE43: =AD43/W43 -> 5.6380152 | AF43: 3.9362344
A44: 37 | B44: 124332 | C44: Lignite | D44: TX | E44: Sabine Mine | F44: 6.6629726 | G44: 13.149239 | H44: 1.5579373 | I44: 6.096134 | J44: 1.3287138 | K44: 0.33580066 | L44: 1.5366251 | M44: 0.26184801 | N44: 1.7367389 | O44: 0.39534114 | P44: 1.2034239 | Q44: 0.17640644 | R44: 1.1586183 | S44: 0.17509864 | T44: 10.926367 | U44: 4.8692242 | V44: =SUM(H44:I44,M44:N44) -> 9.6526582 | W44: =SUM(F44:T44) -> 46.701265 | X44: =SUM(F44:U44) -> 51.570489 | Y44: =SUM(K44:T44)/SUM(F44:J44) -> 0.62185346 | Z44: =(SUM(I44,K44,M44,N44,P44,T44)/W44)/(SUM(G44,O44,Q44,R44,S44)/W44) -> 1.3657069 | AA44: =SUM(I44,K44,M44,N44,P44,T44)/W44*100 -> 44.025173 | AB44: 22.186147 | AC44: =IF(AB44<50,"yes","no") -> yes | AD44: =W44/(AB44/100) -> 210.49741 | AE44: =AD44/W44 -> 4.5073171 | AF44: 3.9362344
A45: 38 | B45: 124333 | C45: Lignite | D45: TX | E45: Sabine Mine | F45: 5.8490118 | G45: 12.356437 | H45: 1.4728492 | I45: 5.9342768 | J45: 1.366298 | K45: 0.35076028 | L45: 1.525048 | M45: 0.26504091 | N45: 1.7380282 | O45: 0.37980793 | P45: 1.1397196 | Q45: 0.16531752 | R45: 1.0799367 | S45: 0.16079983 | T45: 9.884551 | U45: 5.024702 | V45: =SUM(H45:I45,M45:N45) -> 9.4101951 | W45: =SUM(F45:T45) -> 43.667883 | X45: =SUM(F45:U45) -> 48.692585 | Y45: =SUM(K45:T45)/SUM(F45:J45) -> 0.61859551 | Z45: =(SUM(I45,K45,M45,N45,P45,T45)/W45)/(SUM(G45,O45,Q45,R45,S45)/W45) -> 1.3655754 | AA45: =SUM(I45,K45,M45,N45,P45,T45)/W45*100 -> 44.225585 | AB45: 19.38533 | AC45: =IF(AB45<50,"yes","no") -> yes | AD45: =W45/(AB45/100) -> 225.26252 | AE45: =AD45/W45 -> 5.15854 | AF45: 3.9362344
A46: 39 | B46: 124338 | C46: Lignite | D46: TX | E46: Sabine Mine | F46: 5.7230849 | G46: 12.020041 | H46: 1.4515358 | I46: 5.6968524 | J46: 1.2785666 | K46: 0.3303844 | L46: 1.3812006 | M46: 0.23857746 | N46: 1.5085189 | O46: 0.32443092 | P46: 0.95533097 | Q46: 0.13789595 | R46: 0.86824009 | S46: 0.130849 | T46: 8.6073068 | U46: 4.4795308 | V46: =SUM(H46:I46,M46:N46) -> 8.8954845 | W46: =SUM(F46:T46) -> 40.652815 | X46: =SUM(F46:U46) -> 45.132346 | Y46: =SUM(K46:T46)/SUM(F46:J46) -> 0.55340813 | Z46: =(SUM(I46,K46,M46,N46,P46,T46)/W46)/(SUM(G46,O46,Q46,R46,S46)/W46) -> 1.2859865 | AA46: =SUM(I46,K46,M46,N46,P46,T46)/W46*100 -> 42.646421 | AB46: 14.410253 | AC46: =IF(AB46<50,"yes","no") -> yes | AD46: =W46/(AB46/100) -> 282.11035 | AE46: =AD46/W46 -> 6.9395034 | AF46: 3.9362344
A47: 40 | B47: 124339 | C47: Lignite | D47: TX | E47: Sabine Mine | F47: 2.9352036 | G47: 6.0637076 | H47: 0.76261804 | I47: 3.1473818 | J47: 0.76287408 | K47: 0.22142476 | L47: 0.97910112 | M47: 0.17262686 | N47: 1.1789104 | O47: 0.27433801 | P47: 0.84632262 | Q47: 0.12429831 | R47: 0.80912073 | S47: 0.12289009 | T47: 7.8898485 | U47: 3.2389658 | V47: =SUM(H47:I47,M47:N47) -> 5.2615372 | W47: =SUM(F47:T47) -> 26.290667 | X47: =SUM(F47:U47) -> 29.529632 | Y47: =SUM(K47:T47)/SUM(F47:J47) -> 0.92298711 | Z47: =(SUM(I47,K47,M47,N47,P47,T47)/W47)/(SUM(G47,O47,Q47,R47,S47)/W47) -> 1.8198363 | AA47: =SUM(I47,K47,M47,N47,P47,T47)/W47*100 -> 51.183621 | AB47: 11.712387 | AC47: =IF(AB47<50,"yes","no") -> yes | AD47: =W47/(AB47/100) -> 224.4689 | AE47: =AD47/W47 -> 8.5379693 | AF47: 3.9362344
A48: 41 | B48: 124340 | C48: Lignite | D48: TX | E48: Sabine Mine | F48: 4.0102999 | G48: 8.5007508 | H48: 1.043719 | I48: 4.3569478 | J48: 1.0293943 | K48: 0.28378117 | L48: 1.2821148 | M48: 0.22025068 | N48: 1.512675 | O48: 0.3492083 | P48: 1.0793574 | Q48: 0.15804072 | R48: 1.0361428 | S48: 0.16094227 | T48: 10.122808 | U48: 3.6207581 | V48: =SUM(H48:I48,M48:N48) -> 7.1335924 | W48: =SUM(F48:T48) -> 35.146433 | X48: =SUM(F48:U48) -> 38.767191 | Y48: =SUM(K48:T48)/SUM(F48:J48) -> 0.85556334 | Z48: =(SUM(I48,K48,M48,N48,P48,T48)/W48)/(SUM(G48,O48,Q48,R48,S48)/W48) -> 1.722261 | AA48: =SUM(I48,K48,M48,N48,P48,T48)/W48*100 -> 50.007407 | AB48: 15.365301 | AC48: =IF(AB48<50,"yes","no") -> yes | AD48: =W48/(AB48/100) -> 228.73898 | AE48: =AD48/W48 -> 6.5081706 | AF48: 3.9362344
A49: 42 | B49: 124341 | C49: Lignite | D49: TX | E49: Sabine Mine | F49: 5.9731816 | G49: 12.477667 | H49: 1.4711157 | I49: 5.8442484 | J49: 1.2914801 | K49: 0.32684541 | L49: 1.4083016 | M49: 0.23741008 | N49: 1.5277439 | O49: 0.32570477 | P49: 0.96215816 | Q49: 0.14063084 | R49: 0.90887605 | S49: 0.13517181 | T49: 8.6587395 | U49: 4.4199759 | V49: =SUM(H49:I49,M49:N49) -> 9.080518 | W49: =SUM(F49:T49) -> 41.689275 | X49: =SUM(F49:U49) -> 46.109251 | Y49: =SUM(K49:T49)/SUM(F49:J49) -> 0.54075498 | Z49: =(SUM(I49,K49,M49,N49,P49,T49)/W49)/(SUM(G49,O49,Q49,R49,S49)/W49) -> 1.2551532 | AA49: =SUM(I49,K49,M49,N49,P49,T49)/W49*100 -> 42.114298 | AB49: 16.483329 | AC49: =IF(AB49<50,"yes","no") -> yes | AD49: =W49/(AB49/100) -> 252.91782 | AE49: =AD49/W49 -> 6.0667358 | AF49: 3.9362344
A50: 43 | B50: 124342 | C50: Lignite | D50: TX | E50: Sabine Mine | F50: 5.7517938 | G50: 11.116352 | H50: 1.2889222 | I50: 4.8901713 | J50: 1.0429027 | K50: 0.26032195 | L50: 1.1402746 | M50: 0.19365257 | N50: 1.261145 | O50: 0.27579685 | P50: 0.82395532 | Q50: 0.11710378 | R50: 0.76186197 | S50: 0.11422844 | T50: 7.4698218 | U50: 3.5801801 | V50: =SUM(H50:I50,M50:N50) -> 7.633891 | W50: =SUM(F50:T50) -> 36.508304 | X50: =SUM(F50:U50) -> 40.088484 | Y50: =SUM(K50:T50)/SUM(F50:J50) -> 0.5154873 | Z50: =(SUM(I50,K50,M50,N50,P50,T50)/W50)/(SUM(G50,O50,Q50,R50,S50)/W50) -> 1.2029596 | AA50: =SUM(I50,K50,M50,N50,P50,T50)/W50*100 -> 40.810079 | AB50: 14.922307 | AC50: =IF(AB50<50,"yes","no") -> yes | AD50: =W50/(AB50/100) -> 244.6559 | AE50: =AD50/W50 -> 6.7013766 | AF50: 3.9362344
A51: 44 | B51: 124343 | C51: Lignite | D51: TX | E51: Sabine Mine | F51: 7.4089408 | G51: 15.325532 | H51: 1.8061428 | I51: 7.0181536 | J51: 1.4873988 | K51: 0.3663546 | L51: 1.5812383 | M51: 0.26486768 | N51: 1.7042978 | O51: 0.36490555 | P51: 1.0776186 | Q51: 0.1576256 | R51: 1.0148151 | S51: 0.15221512 | T51: 9.5795459 | U51: 4.8291364 | V51: =SUM(H51:I51,M51:N51) -> 10.793462 | W51: =SUM(F51:T51) -> 49.309652 | X51: =SUM(F51:U51) -> 54.138788 | Y51: =SUM(K51:T51)/SUM(F51:J51) -> 0.49214434 | Z51: =(SUM(I51,K51,M51,N51,P51,T51)/W51)/(SUM(G51,O51,Q51,R51,S51)/W51) -> 1.176064 | AA51: =SUM(I51,K51,M51,N51,P51,T51)/W51*100 -> 40.58199 | AB51: 19.437786 | AC51: =IF(AB51<50,"yes","no") -> yes | AD51: =W51/(AB51/100) -> 253.67936 | AE51: =AD51/W51 -> 5.1446188 | AF51: 3.9362344
A52: 45 | B52: 124344 | C52: Lignite | D52: TX | E52: Sabine Mine | F52: 5.8638194 | G52: 12.042896 | H52: 1.4087425 | I52: 5.421045 | J52: 1.1895611 | K52: 0.3020781 | L52: 1.3227999 | M52: 0.22840977 | N52: 1.4923144 | O52: 0.32644683 | P52: 0.97430019 | Q52: 0.14014531 | R52: 0.90408994 | S52: 0.13300249 | T52: 8.7167487 | U52: 4.6755613 | V52: =SUM(H52:I52,M52:N52) -> 8.5505117 | W52: =SUM(F52:T52) -> 40.4664 | X52: =SUM(F52:U52) -> 45.141961 | Y52: =SUM(K52:T52)/SUM(F52:J52) -> 0.56083853 | Z52: =(SUM(I52,K52,M52,N52,P52,T52)/W52)/(SUM(G52,O52,Q52,R52,S52)/W52) -> 1.2648872 | AA52: =SUM(I52,K52,M52,N52,P52,T52)/W52*100 -> 42.343515 | AB52: 16.655907 | AC52: =IF(AB52<50,"yes","no") -> yes | AD52: =W52/(AB52/100) -> 242.95524 | AE52: =AD52/W52 -> 6.003876 | AF52: 3.9362344
A53: 46 | B53: BB2-CP | C53: Lignite | D53: TX | E53: Big Brown Mine | F53: 11.3 | G53: 21.7 | H53: 2.5 | I53: 9.3 | J53: 1.9 | K53: 0.42 | L53: 1.9 | M53: 0.3 | N53: 1.9 | O53: 0.4 | P53: 1.22 | Q53: 0.17 | R53: 1.1 | S53: 0.17 | T53: 11.7 | U53: 5.5 | V53: =SUM(H53:I53,M53:N53) -> 14 | W53: =SUM(F53:T53) -> 65.98 | X53: =SUM(F53:U53) -> 71.48 | Y53: =SUM(K53:T53)/SUM(F53:J53) -> 0.41284797 | Z53: =(SUM(I53,K53,M53,N53,P53,T53)/W53)/(SUM(G53,O53,Q53,R53,S53)/W53) -> 1.0552251 | AA53: =SUM(I53,K53,M53,N53,P53,T53)/W53*100 -> 37.647772 | AB53: 17.1 | AC53: =IF(AB53<50,"yes","no") -> yes | AD53: =W53/(AB53/100) -> 385.84795 | AE53: =AD53/W53 -> 5.8479532 | AF53: 3.9362344
A54: 47 | B54: JE-3-CP | C54: Lignite | D54: TX | E54: Jewett Mine | F54: 7.2 | G54: 14.5 | H54: 1.8 | I54: 6.9 | J54: 1.7 | K54: 0.46 | L54: 2.1 | M54: 0.38 | N54: 2.7 | O54: 0.59 | P54: 1.86 | Q54: 0.26 | R54: 1.69 | S54: 0.27 | T54: 18.9 | U54: 10.9 | V54: =SUM(H54:I54,M54:N54) -> 11.78 | W54: =SUM(F54:T54) -> 61.31 | X54: =SUM(F54:U54) -> 72.21 | Y54: =SUM(K54:T54)/SUM(F54:J54) -> 0.90996885 | Z54: =(SUM(I54,K54,M54,N54,P54,T54)/W54)/(SUM(G54,O54,Q54,R54,S54)/W54) -> 1.8024263 | AA54: =SUM(I54,K54,M54,N54,P54,T54)/W54*100 -> 50.888925 | AB54: 28.06 | AC54: =IF(AB54<50,"yes","no") -> yes | AD54: =W54/(AB54/100) -> 218.49608 | AE54: =AD54/W54 -> 3.5637919 | AF54: 3.9362344
A55: 48 | B55: JE-4-CP | C55: Lignite | D55: TX | E55: Jewett Mine | F55: 5.7 | G55: 11.3 | H55: 1.4 | I55: 5.3 | J55: 1.1 | K55: 0.3 | L55: 1.3 | M55: 0.22 | N55: 1.5 | O55: 0.32 | P55: 1.01 | Q55: 0.14 | R55: 0.91 | S55: 0.14 | T55: 10.4 | U55: 4.9 | V55: =SUM(H55:I55,M55:N55) -> 8.42 | W55: =SUM(F55:T55) -> 41.04 | X55: =SUM(F55:U55) -> 45.94 | Y55: =SUM(K55:T55)/SUM(F55:J55) -> 0.65483871 | Z55: =(SUM(I55,K55,M55,N55,P55,T55)/W55)/(SUM(G55,O55,Q55,R55,S55)/W55) -> 1.462139 | AA55: =SUM(I55,K55,M55,N55,P55,T55)/W55*100 -> 45.638402 | AB55: 17.48 | AC55: =IF(AB55<50,"yes","no") -> yes | AD55: =W55/(AB55/100) -> 234.78261 | AE55: =AD55/W55 -> 5.7208238 | AF55: 3.9362344
A56: 49 | B56: JE-6-CP | C56: Lignite | D56: TX | E56: Jewett Mine | F56: 12.3 | G56: 21.5 | H56: 2.4 | I56: 8.3 | J56: 1.5 | K56: 0.32 | L56: 1.4 | M56: 0.21 | N56: 1.3 | O56: 0.25 | P56: 0.78 | Q56: 0.11 | R56: 0.76 | S56: 0.12 | T56: 6.8 | U56: 5.8 | V56: =SUM(H56:I56,M56:N56) -> 12.21 | W56: =SUM(F56:T56) -> 58.05 | X56: =SUM(F56:U56) -> 63.85 | Y56: =SUM(K56:T56)/SUM(F56:J56) -> 0.26195652 | Z56: =(SUM(I56,K56,M56,N56,P56,T56)/W56)/(SUM(G56,O56,Q56,R56,S56)/W56) -> 0.77880387 | AA56: =SUM(I56,K56,M56,N56,P56,T56)/W56*100 -> 30.508183 | AB56: 27.72 | AC56: =IF(AB56<50,"yes","no") -> yes | AD56: =W56/(AB56/100) -> 209.41558 | AE56: =AD56/W56 -> 3.6075036 | AF56: 3.9362344
A57: 50 | B57: WC-A1.1 | C57: Lignite | D57: TX | E57: Walnut Creek Mine | F57: 15 | G57: 30.8 | H57: 3.4 | I57: 13 | J57: 2.5 | K57: 0.55 | L57: 2.3 | M57: 0.37 | N57: 2.2 | O57: 0.47 | P57: 1.48 | Q57: 0.21 | R57: 1.44 | S57: 0.23 | T57: 13.7 | U57: 6.2 | V57: =SUM(H57:I57,M57:N57) -> 18.97 | W57: =SUM(F57:T57) -> 87.65 | X57: =SUM(F57:U57) -> 93.85 | Y57: =SUM(K57:T57)/SUM(F57:J57) -> 0.35471406 | Z57: =(SUM(I57,K57,M57,N57,P57,T57)/W57)/(SUM(G57,O57,Q57,R57,S57)/W57) -> 0.94419306 | AA57: =SUM(I57,K57,M57,N57,P57,T57)/W57*100 -> 35.710211 | AB57: 32.15 | AC57: =IF(AB57<50,"yes","no") -> yes | AD57: =W57/(AB57/100) -> 272.6283 | AE57: =AD57/W57 -> 3.1104199 | AF57: 3.9362344
A58: 51 | B58: WC-A1.4 | C58: Lignite | D58: TX | E58: Walnut Creek Mine | F58: 6.7 | G58: 12.4 | H58: 1.5 | I58: 5.9 | J58: 1.2 | K58: 0.27 | L58: 1.2 | M58: 0.18 | N58: 1 | O58: 0.2 | P58: 0.56 | Q58: 0.07 | R58: 0.47 | S58: 0.07 | T58: 5.6 | U58: 2.7 | V58: =SUM(H58:I58,M58:N58) -> 8.58 | W58: =SUM(F58:T58) -> 37.32 | X58: =SUM(F58:U58) -> 40.02 | Y58: =SUM(K58:T58)/SUM(F58:J58) -> 0.34729242 | Z58: =(SUM(I58,K58,M58,N58,P58,T58)/W58)/(SUM(G58,O58,Q58,R58,S58)/W58) -> 1.0227101 | AA58: =SUM(I58,K58,M58,N58,P58,T58)/W58*100 -> 36.200429 | AB58: 8.5 | AC58: =IF(AB58<50,"yes","no") -> yes | AD58: =W58/(AB58/100) -> 439.05882 | AE58: =AD58/W58 -> 11.764706 | AF58: 3.9362344
A59: 52 | B59: WC-A2.1 | C59: Lignite | D59: TX | E59: Walnut Creek Mine | F59: 10.8 | G59: 24.1 | H59: 3 | I59: 12.3 | J59: 2.7 | K59: 0.6 | L59: 2.6 | M59: 0.41 | N59: 2.4 | O59: 0.47 | P59: 1.33 | Q59: 0.18 | R59: 1.09 | S59: 0.16 | T59: 14.4 | U59: 4.7 | V59: =SUM(H59:I59,M59:N59) -> 18.11 | W59: =SUM(F59:T59) -> 76.54 | X59: =SUM(F59:U59) -> 81.24 | Y59: =SUM(K59:T59)/SUM(F59:J59) -> 0.44688091 | Z59: =(SUM(I59,K59,M59,N59,P59,T59)/W59)/(SUM(G59,O59,Q59,R59,S59)/W59) -> 1.2092308 | AA59: =SUM(I59,K59,M59,N59,P59,T59)/W59*100 -> 41.076561 | AB59: 11.24 | AC59: =IF(AB59<50,"yes","no") -> yes | AD59: =W59/(AB59/100) -> 680.96085 | AE59: =AD59/W59 -> 8.8967972 | AF59: 3.9362344
A60: 53 | B60: WC-A2.3 | C60: Lignite | D60: TX | E60: Walnut Creek Mine | F60: 21.9 | G60: 47.8 | H60: 5.4 | I60: 21.1 | J60: 4.3 | K60: 0.96 | L60: 4.3 | M60: 0.69 | N60: 4.3 | O60: 0.92 | P60: 2.78 | Q60: 0.39 | R60: 2.47 | S60: 0.38 | T60: 28 | U60: 8.9 | V60: =SUM(H60:I60,M60:N60) -> 31.49 | W60: =SUM(F60:T60) -> 145.69 | X60: =SUM(F60:U60) -> 154.59 | Y60: =SUM(K60:T60)/SUM(F60:J60) -> 0.44965174 | Z60: =(SUM(I60,K60,M60,N60,P60,T60)/W60)/(SUM(G60,O60,Q60,R60,S60)/W60) -> 1.1129715 | AA60: =SUM(I60,K60,M60,N60,P60,T60)/W60*100 -> 39.693871 | AB60: 16.34 | AC60: =IF(AB60<50,"yes","no") -> yes | AD60: =W60/(AB60/100) -> 891.61567 | AE60: =AD60/W60 -> 6.119951 | AF60: 3.9362344
A61: 54 | B61: M128 CH1 | C61: Lignite | D61: TX | E61: Gibbons Creek Mine | F61: 6.5 | G61: 12 | H61: 1.4 | I61: 5.3 | J61: 1.1 | K61: 0.19 | L61: 1.3 | M61: 0.22 | N61: 1.5 | O61: 0.36 | P61: 1.19 | Q61: 0.18 | R61: 1.16 | S61: 0.19 | T61: 14.2 | U61: 3 | V61: =SUM(H61:I61,M61:N61) -> 8.42 | W61: =SUM(F61:T61) -> 46.79 | X61: =SUM(F61:U61) -> 49.79 | Y61: =SUM(K61:T61)/SUM(F61:J61) -> 0.77908745 | Z61: =(SUM(I61,K61,M61,N61,P61,T61)/W61)/(SUM(G61,O61,Q61,R61,S61)/W61) -> 1.6270698 | AA61: =SUM(I61,K61,M61,N61,P61,T61)/W61*100 -> 48.300919 | AB61: 11.85 | AC61: =IF(AB61<50,"yes","no") -> yes | AD61: =W61/(AB61/100) -> 394.85232 | AE61: =AD61/W61 -> 8.4388186 | AF61: 3.9362344
A62: 55 | B62: M128 CH2 | C62: Lignite | D62: TX | E62: Gibbons Creek Mine | F62: 9.4 | G62: 15.7 | H62: 1.7 | I62: 6.4 | J62: 1.3 | K62: 0.24 | L62: 1.5 | M62: 0.25 | N62: 1.7 | O62: 0.38 | P62: 1.19 | Q62: 0.17 | R62: 1.13 | S62: 0.17 | T62: 13.8 | U62: 3.8 | V62: =SUM(H62:I62,M62:N62) -> 10.05 | W62: =SUM(F62:T62) -> 55.03 | X62: =SUM(F62:U62) -> 58.83 | Y62: =SUM(K62:T62)/SUM(F62:J62) -> 0.59507246 | Z62: =(SUM(I62,K62,M62,N62,P62,T62)/W62)/(SUM(G62,O62,Q62,R62,S62)/W62) -> 1.3435897 | AA62: =SUM(I62,K62,M62,N62,P62,T62)/W62*100 -> 42.849355 | AB62: 16.77 | AC62: =IF(AB62<50,"yes","no") -> yes | AD62: =W62/(AB62/100) -> 328.1455 | AE62: =AD62/W62 -> 5.9630292 | AF62: 3.9362344
A63: 56 | B63: M128 CH3 | C63: Lignite | D63: TX | E63: Gibbons Creek Mine | F63: 44.5 | G63: 95.8 | H63: 10.5 | I63: 39 | J63: 7.5 | K63: 1.28 | L63: 6.9 | M63: 1.06 | N63: 6 | O63: 1.14 | P63: 3.33 | Q63: 0.48 | R63: 3.1 | S63: 0.45 | T63: 31.3 | U63: 7.7 | V63: =SUM(H63:I63,M63:N63) -> 56.56 | W63: =SUM(F63:T63) -> 252.34 | X63: =SUM(F63:U63) -> 260.04 | Y63: =SUM(K63:T63)/SUM(F63:J63) -> 0.27896604 | Z63: =(SUM(I63,K63,M63,N63,P63,T63)/W63)/(SUM(G63,O63,Q63,R63,S63)/W63) -> 0.81182529 | AA63: =SUM(I63,K63,M63,N63,P63,T63)/W63*100 -> 32.48395 | AB63: 55.09 | AC63: =IF(AB63<50,"yes","no") -> no | AD63: =W63/(AB63/100) -> 458.05046 | AE63: =AD63/W63 -> 1.8152115 | AF63: 3.9362344
A64: 57 | B64: M128 CH4 | C64: Lignite | D64: TX | E64: Gibbons Creek Mine | F64: 56.2 | G64: 109 | H64: 10.9 | I64: 39.1 | J64: 6.7 | K64: 1.31 | L64: 7.2 | M64: 1.06 | N64: 6.1 | O64: 1.27 | P64: 3.72 | Q64: 0.51 | R64: 3.18 | S64: 0.48 | T64: 45.5 | U64: 4.9 | V64: =SUM(H64:I64,M64:N64) -> 57.16 | W64: =SUM(F64:T64) -> 292.23 | X64: =SUM(F64:U64) -> 297.13 | Y64: =SUM(K64:T64)/SUM(F64:J64) -> 0.31694457 | Z64: =(SUM(I64,K64,M64,N64,P64,T64)/W64)/(SUM(G64,O64,Q64,R64,S64)/W64) -> 0.84577071 | AA64: =SUM(I64,K64,M64,N64,P64,T64)/W64*100 -> 33.121172 | AB64: 25.82 | AC64: =IF(AB64<50,"yes","no") -> yes | AD64: =W64/(AB64/100) -> 1131.7971 | AE64: =AD64/W64 -> 3.8729667 | AF64: 3.9362344
... A96: 89 | B96: SM1 P3.3 | C96: Parting | D96: TX | E96: San Miguel Mine | F96: 24 | G96: 51.7 | H96: 5.9 | I96: 22.2 | J96: 4.6 | K96: 0.7 | L96: 4 | M96: 0.62 | N96: 3.5 | O96: 0.68 | P96: 2.03 | Q96: 0.3 | R96: 1.99 | S96: 0.29 | T96: 16.1 | U96: 6.2 | V96: =SUM(H96:I96,M96:N96) -> 32.22 | W96: =SUM(F96:T96) -> 138.61 | X96: =SUM(F96:U96) -> 144.81 | Y96: =SUM(K96:T96)/SUM(F96:J96) -> 0.27869004 | Z96: =(SUM(I96,K96,M96,N96,P96,T96)/W96)/(SUM(G96,O96,Q96,R96,S96)/W96) -> 0.82150655 | AA96: =SUM(I96,K96,M96,N96,P96,T96)/W96*100 -> 32.573407 | AB96: 82.04 | AC96: =IF(AB96<50,"yes","no") -> no | AD96: =W96/(AB96/100) -> 168.95417 | AE96: =AD96/W96 -> 1.2189176 | AF96: 3.9362344
A97: 90 | B97: 124833 | C97: Lignite | D97: TX | E97: San Miguel Mine | F97: 16.413855 | G97: 35.013097 | H97: 4.0834453 | I97: 15.228617 | J97: 3.2192229 | K97: 0.55627665 | L97: 3.0788437 | M97: 0.52799378 | N97: 3.1224835 | O97: 0.64078555 | P97: 1.7966175 | Q97: 0.27435794 | R97: 1.6705763 | S97: 0.25868197 | T97: 15.946924 | U97: 6.8475911 | V97: =SUM(H97:I97,M97:N97) -> 22.96254 | W97: =SUM(F97:T97) -> 101.83178 | X97: =SUM(F97:U97) -> 108.67937 | Y97: =SUM(K97:T97)/SUM(F97:J97) -> 0.37688216 | Z97: =(SUM(I97,K97,M97,N97,P97,T97)/W97)/(SUM(G97,O97,Q97,R97,S97)/W97) -> 0.98207524 | AA97: =SUM(I97,K97,M97,N97,P97,T97)/W97*100 -> 36.510128 | AB97: 34.813762 | AC97: =IF(AB97<50,"yes","no") -> yes | AD97: =W97/(AB97/100) -> 292.50438 | AE97: =AD97/W97 -> 2.8724273 | AF97: 3.9362344
A98: 91 | B98: 124834 | C98: Lignite | D98: TX | E98: San Miguel Mine | F98: 17.705302 | G98: 37.008372 | H98: 4.1674435 | I98: 15.346736 | J98: 3.2151497 | K98: 0.5334776 | L98: 3.1424698 | M98: 0.5423778 | N98: 3.5366804 | O98: 0.7886797 | P98: 2.5295515 | Q98: 0.39233817 | R98: 2.676236 | S98: 0.41650673 | T98: 22.559136 | U98: 5.7171936 | V98: =SUM(H98:I98,M98:N98) -> 23.593238 | W98: =SUM(F98:T98) -> 114.56046 | X98: =SUM(F98:U98) -> 120.27765 | Y98: =SUM(K98:T98)/SUM(F98:J98) -> 0.47928737 | Z98: =(SUM(I98,K98,M98,N98,P98,T98)/W98)/(SUM(G98,O98,Q98,R98,S98)/W98) -> 1.0912217 | AA98: =SUM(I98,K98,M98,N98,P98,T98)/W98*100 -> 39.322433 | AB98: 61.845682 | AC98: =IF(AB98<50,"yes","no") -> no | AD98: =W98/(AB98/100) -> 185.23598 | AE98: =AD98/W98 -> 1.6169278 | AF98: 3.9362344
A99: 92 | B99: 124835 | C99: Lignite | D99: TX | E99: San Miguel Mine | F99: 17.815137 | G99: 36.722995 | H99: 4.2331219 | I99: 15.991784 | J99: 3.4289043 | K99: 0.54565902 | L99: 3.6357988 | M99: 0.63976228 | N99: 4.3418433 | O99: 0.99837848 | P99: 3.3017119 | Q99: 0.51976453 | R99: 3.6288083 | S99: 0.56304474 | T99: 28.899914 | U99: 6.1858464 | V99: =SUM(H99:I99,M99:N99) -> 25.206511 | W99: =SUM(F99:T99) -> 125.26663 | X99: =SUM(F99:U99) -> 131.45247 | Y99: =SUM(K99:T99)/SUM(F99:J99) -> 0.60204011 | Z99: =(SUM(I99,K99,M99,N99,P99,T99)/W99)/(SUM(G99,O99,Q99,R99,S99)/W99) -> 1.266012 | AA99: =SUM(I99,K99,M99,N99,P99,T99)/W99*100 -> 42.885065 | AB99: 46.793065 | AC99: =IF(AB99<50,"yes","no") -> yes | AD99: =W99/(AB99/100) -> 267.70341 | AE99: =AD99/W99 -> 2.1370688 | AF99: 3.9362344
A100: 93 | B100: 124836 | C100: Lignite | D100: TX | E100: San Miguel Mine | F100: 12.13231 | G100: 25.083743 | H100: 2.9135105 | I100: 11.038423 | J100: 2.3770885 | K100: 0.42727369 | L100: 2.2811255 | M100: 0.37641672 | N100: 2.286151 | O100: 0.44462825 | P100: 1.2702639 | Q100: 0.1814176 | R100: 1.183728 | S100: 0.16822341 | T100: 10.615994 | U100: 5.1919627 | V100: =SUM(H100:I100,M100:N100) -> 16.614502 | W100: =SUM(F100:T100) -> 72.780297 | X100: =SUM(F100:U100) -> 77.97226 | Y100: =SUM(K100:T100)/SUM(F100:J100) -> 0.35923418 | Z100: =(SUM(I100,K100,M100,N100,P100,T100)/W100)/(SUM(G100,O100,Q100,R100,S100)/W100) -> 0.96130262 | AA100: =SUM(I100,K100,M100,N100,P100,T100)/W100*100 -> 35.743908 | AB100: 35.611319 | AC100: =IF(AB100<50,"yes","no") -> yes | AD100: =W100/(AB100/100) -> 204.37406 | AE100: =AD100/W100 -> 2.808096 | AF100: 3.9362344
A101: 94 | B101: 124837 | C101: Lignite | D101: TX | E101: San Miguel Mine | F101: 37.108623 | G101: 75.80961 | H101: 8.486109 | I101: 31.5096 | J101: 6.2579094 | K101: 0.98236445 | L101: 5.6366354 | M101: 0.8682767 | N101: 5.1515719 | O101: 1.0723443 | P101: 3.3783744 | Q101: 0.52338226 | R101: 3.7118163 | S101: 0.58163678 | T101: 27.896747 | U101: 7.0564414 | V101: =SUM(H101:I101,M101:N101) -> 46.015558 | W101: =SUM(F101:T101) -> 208.975 | X101: =SUM(F101:U101) -> 216.03144 | Y101: =SUM(K101:T101)/SUM(F101:J101) -> 0.31288918 | Z101: =(SUM(I101,K101,M101,N101,P101,T101)/W101)/(SUM(G101,O101,Q101,R101,S101)/W101) -> 0.85419791 | AA101: =SUM(I101,K101,M101,N101,P101,T101)/W101*100 -> 33.394872 | AB101: 83.334162 | AC101: =IF(AB101<50,"yes","no") -> no | AD101: =W101/(AB101/100) -> 250.76751 | AE101: =AD101/W101 -> 1.1999881 | AF101: 3.9362344
A102: 95 | B102: 124838 | C102: Lignite | D102: TX | E102: San Miguel Mine | F102: 20.798106 | G102: 38.401121 | H102: 4.1305374 | I102: 14.902305 | J102: 2.9180127 | K102: 0.50698521 | L102: 2.6005857 | M102: 0.39685882 | N102: 2.271304 | O102: 0.42252134 | P102: 1.1942408 | Q102: 0.16459248 | R102: 1.1041678 | S102: 0.15397008 | T102: 9.419935 | U102: 7.5587962 | V102: =SUM(H102:I102,M102:N102) -> 21.701006 | W102: =SUM(F102:T102) -> 99.385243 | X102: =SUM(F102:U102) -> 106.94404 | Y102: =SUM(K102:T102)/SUM(F102:J102) -> 0.22470909 | Z102: =(SUM(I102,K102,M102,N102,P102,T102)/W102)/(SUM(G102,O102,Q102,R102,S102)/W102) -> 0.71289976 | AA102: =SUM(I102,K102,M102,N102,P102,T102)/W102*100 -> 28.869104 | AB102: 76.922448 | AC102: =IF(AB102<50,"yes","no") -> no | AD102: =W102/(AB102/100) -> 129.20187 | AE102: =AD102/W102 -> 1.3000106 | AF102: 3.9362344
A103: 96 | B103: 124839 | C103: Lignite | D103: TX | E103: San Miguel Mine | F103: 24.468754 | G103: 48.555244 | H103: 5.4842456 | I103: 20.164949 | J103: 4.0622643 | K103: 0.54693416 | L103: 3.5386513 | M103: 0.54583484 | N103: 3.0904679 | O103: 0.57787593 | P103: 1.6245725 | Q103: 0.23057566 | R103: 1.5622932 | S103: 0.22131156 | T103: 13.014329 | U103: 5.4122875 | V103: =SUM(H103:I103,M103:N103) -> 29.285497 | W103: =SUM(F103:T103) -> 127.6883 | X103: =SUM(F103:U103) -> 133.10059 | Y103: =SUM(K103:T103)/SUM(F103:J103) -> 0.24288446 | Z103: =(SUM(I103,K103,M103,N103,P103,T103)/W103)/(SUM(G103,O103,Q103,R103,S103)/W103) -> 0.76225113 | AA103: =SUM(I103,K103,M103,N103,P103,T103)/W103*100 -> 30.533014 | AB103: 83.953581 | AC103: =IF(AB103<50,"yes","no") -> no | AD103: =W103/(AB103/100) -> 152.09393 | AE103: =AD103/W103 -> 1.1911344 | AF103: 3.9362344
A104: 97 | B104: 124840 | C104: Lignite | D104: TX | E104: San Miguel Mine | F104: 12.844983 | G104: 26.918278 | H104: 3.1924812 | I104: 12.354602 | J104: 2.6814765 | K104: 0.43671759 | L104: 2.7636699 | M104: 0.46553208 | N104: 2.9902352 | O104: 0.6432186 | P104: 1.9565682 | Q104: 0.2879682 | R104: 1.8941101 | S104: 0.27931169 | T104: 19.036627 | U104: 4.3984916 | V104: =SUM(H104:I104,M104:N104) -> 19.002851 | W104: =SUM(F104:T104) -> 88.74578 | X104: =SUM(F104:U104) -> 93.144272 | Y104: =SUM(K104:T104)/SUM(F104:J104) -> 0.53031545 | Z104: =(SUM(I104,K104,M104,N104,P104,T104)/W104)/(SUM(G104,O104,Q104,R104,S104)/W104) -> 1.2403965 | AA104: =SUM(I104,K104,M104,N104,P104,T104)/W104*100 -> 41.962877 | AB104: 35.323622 | AC104: =IF(AB104<50,"yes","no") -> yes | AD104: =W104/(AB104/100) -> 251.23635 | AE104: =AD104/W104 -> 2.8309668 | AF104: 3.9362344
A105: 98 | B105: 124841 | C105: Lignite | D105: TX | E105: San Miguel Mine | F105: 18.942131 | G105: 37.800177 | H105: 4.255657 | I105: 15.455284 | J105: 3.1347566 | K105: 0.50567179 | L105: 2.9245226 | M105: 0.48488273 | N105: 3.0164723 | O105: 0.62748669 | P105: 1.8958455 | Q105: 0.27479423 | R105: 1.8542565 | S105: 0.2714657 | T105: 16.979657 | U105: 6.8479908 | V105: =SUM(H105:I105,M105:N105) -> 23.212296 | W105: =SUM(F105:T105) -> 108.42306 | X105: =SUM(F105:U105) -> 115.27105 | Y105: =SUM(K105:T105)/SUM(F105:J105) -> 0.36230403 | Z105: =(SUM(I105,K105,M105,N105,P105,T105)/W105)/(SUM(G105,O105,Q105,R105,S105)/W105) -> 0.93900373 | AA105: =SUM(I105,K105,M105,N105,P105,T105)/W105*100 -> 35.359465 | AB105: 69.105965 | AC105: =IF(AB105<50,"yes","no") -> no | AD105: =W105/(AB105/100) -> 156.89393 | AE105: =AD105/W105 -> 1.4470531 | AF105: 3.9362344
A106: 99 | B106: 124842 | C106: Lignite | D106: TX | E106: San Miguel Mine | F106: 20.26099 | G106: 41.289253 | H106: 4.7582389 | I106: 17.999471 | J106: 3.822566 | K106: 0.57509547 | L106: 3.5953866 | M106: 0.59002765 | N106: 3.5869926 | O106: 0.7174084 | P106: 2.0905338 | Q106: 0.30235627 | R106: 2.0011615 | S106: 0.29104066 | T106: 16.973514 | U106: 6.000088 | V106: =SUM(H106:I106,M106:N106) -> 26.934731 | W106: =SUM(F106:T106) -> 118.85404 | X106: =SUM(F106:U106) -> 124.85412 | Y106: =SUM(K106:T106)/SUM(F106:J106) -> 0.34861382 | Z106: =(SUM(I106,K106,M106,N106,P106,T106)/W106)/(SUM(G106,O106,Q106,R106,S106)/W106) -> 0.93754464 | AA106: =SUM(I106,K106,M106,N106,P106,T106)/W106*100 -> 35.182343 | AB106: 47.069755 | AC106: =IF(AB106<50,"yes","no") -> yes | AD106: =W106/(AB106/100) -> 252.50617 | AE106: =AD106/W106 -> 2.1245065 | AF106: 3.9362344
A107: 100 | B107: 124843 | C107: Lignite | D107: TX | E107: San Miguel Mine | F107: 19.152198 | G107: 33.903486 | H107: 4.5898803 | I107: 17.308689 | J107: 3.6700386 | K107: 0.54909834 | L107: 3.4604869 | M107: 0.56563891 | N107: 3.4972219 | O107: 0.71633114 | P107: 2.1113578 | Q107: 0.30621019 | R107: 2.0192134 | S107: 0.29784203 | T107: 19.272833 | U107: 5.4835735 | V107: =SUM(H107:I107,M107:N107) -> 25.96143 | W107: =SUM(F107:T107) -> 111.42053 | X107: =SUM(F107:U107) -> 116.9041 | Y107: =SUM(K107:T107)/SUM(F107:J107) -> 0.41712597 | Z107: =(SUM(I107,K107,M107,N107,P107,T107)/W107)/(SUM(G107,O107,Q107,R107,S107)/W107) -> 1.1627619 | AA107: =SUM(I107,K107,M107,N107,P107,T107)/W107*100 -> 38.866123 | AB107: 50.556303 | AC107: =IF(AB107<50,"yes","no") -> no | AD107: =W107/(AB107/100) -> 220.38899 | AE107: =AD107/W107 -> 1.9779927 | AF107: 3.9362344
A108: 101 | B108: 124844 | C108: Parting | D108: TX | E108: San Miguel Mine | F108: 17.118702 | G108: 35.530196 | H108: 4.1960433 | I108: 16.064651 | J108: 3.4665917 | K108: 0.52417777 | L108: 3.3821716 | M108: 0.55828226 | N108: 3.4790468 | O108: 0.71617543 | P108: 2.1377749 | Q108: 0.31104972 | R108: 2.0703369 | S108: 0.30370021 | T108: 18.111278 | U108: 4.925783 | V108: =SUM(H108:I108,M108:N108) -> 24.298023 | W108: =SUM(F108:T108) -> 107.97018 | X108: =SUM(F108:U108) -> 112.89596 | Y108: =SUM(K108:T108)/SUM(F108:J108) -> 0.4136629 | Z108: =(SUM(I108,K108,M108,N108,P108,T108)/W108)/(SUM(G108,O108,Q108,R108,S108)/W108) -> 1.0499275 | AA108: =SUM(I108,K108,M108,N108,P108,T108)/W108*100 -> 37.857871 | AB108: 36.302454 | AC108: =IF(AB108<50,"yes","no") -> yes | AD108: =W108/(AB108/100) -> 297.41839 | AE108: =AD108/W108 -> 2.7546347 | AF108: 3.9362344
A109: 102 | B109: SP2-1 | C109: Bituminous | D109: TX | E109: Palafox Mine | F109: 11.4 | G109: 24.4 | H109: 3 | I109: 12.7 | J109: 2.7 | K109: 0.66 | L109: 2.7 | M109: 0.4 | N109: 2.2 | O109: 0.44 | P109: 1.28 | Q109: 0.18 | R109: 1.1 | S109: 0.17 | T109: 14.1 | U109: 4.3 | V109: =SUM(H109:I109,M109:N109) -> 18.3 | W109: =SUM(F109:T109) -> 77.43 | X109: =SUM(F109:U109) -> 81.73 | Y109: =SUM(K109:T109)/SUM(F109:J109) -> 0.42859779 | Z109: =(SUM(I109,K109,M109,N109,P109,T109)/W109)/(SUM(G109,O109,Q109,R109,S109)/W109) -> 1.1920882 | AA109: =SUM(I109,K109,M109,N109,P109,T109)/W109*100 -> 40.475268 | AB109: 19.76 | AC109: =IF(AB109<50,"yes","no") -> yes | AD109: =W109/(AB109/100) -> 391.85223 | AE109: =AD109/W109 -> 5.0607287 | AF109: 3.9362344
A110: 103 | B110: ST-94-2 | C110: Bituminous | D110: TX | E110: Rachel Mine | F110: 6.6 | G110: 13.3 | H110: 1.7 | I110: 7.4 | J110: 1.8 | K110: 0.48 | L110: 2 | M110: 0.32 | N110: 1.9 | O110: 0.39 | P110: 1.12 | Q110: 0.15 | R110: 0.91 | S110: 0.14 | T110: 13.3 | U110: 3.5 | V110: =SUM(H110:I110,M110:N110) -> 11.32 | W110: =SUM(F110:T110) -> 51.51 | X110: =SUM(F110:U110) -> 55.01 | Y110: =SUM(K110:T110)/SUM(F110:J110) -> 0.6724026 | Z110: =(SUM(I110,K110,M110,N110,P110,T110)/W110)/(SUM(G110,O110,Q110,R110,S110)/W110) -> 1.6467428 | AA110: =SUM(I110,K110,M110,N110,P110,T110)/W110*100 -> 47.602407 | AB110: 10.55 | AC110: =IF(AB110<50,"yes","no") -> yes | AD110: =W110/(AB110/100) -> 488.24645 | AE110: =AD110/W110 -> 9.478673 | AF110: 3.9362344
A111: 104 | B111: ST-94-1 | C111: Bituminous | D111: TX | E111: Trevino Mine | F111: 7.7 | G111: 14.6 | H111: 1.6 | I111: 6 | J111: 1.2 | K111: 0.25 | L111: 1.1 | M111: 0.16 | N111: 0.9 | O111: 0.17 | P111: 0.5 | Q111: 0.07 | R111: 0.45 | S111: 0.07 | T111: 5.1 | U111: 6.9 | V111: =SUM(H111:I111,M111:N111) -> 8.66 | W111: =SUM(F111:T111) -> 39.87 | X111: =SUM(F111:U111) -> 46.77 | Y111: =SUM(K111:T111)/SUM(F111:J111) -> 0.28199357 | Z111: =(SUM(I111,K111,M111,N111,P111,T111)/W111)/(SUM(G111,O111,Q111,R111,S111)/W111) -> 0.84049479 | AA111: =SUM(I111,K111,M111,N111,P111,T111)/W111*100 -> 32.380236 | AB111: 15.89 | AC111: =IF(AB111<50,"yes","no") -> yes | AD111: =W111/(AB111/100) -> 250.91252 | AE111: =AD111/W111 -> 6.2932662 | AF111: 3.9362344
A112: 105 | B112: STR-2-96-1 | C112: Bituminous | D112: TX | E112: Trevino Mine | F112: 12.1 | G112: 25 | H112: 2.9 | I112: 11.1 | J112: 2.4 | K112: 0.59 | L112: 2.4 | M112: 0.37 | N112: 2.2 | O112: 0.44 | P112: 1.27 | Q112: 0.17 | R112: 1.12 | S112: 0.17 | T112: 14.2 | U112: 5.1 | V112: =SUM(H112:I112,M112:N112) -> 16.57 | W112: =SUM(F112:T112) -> 76.43 | X112: =SUM(F112:U112) -> 81.53 | Y112: =SUM(K112:T112)/SUM(F112:J112) -> 0.42859813 | Z112: =(SUM(I112,K112,M112,N112,P112,T112)/W112)/(SUM(G112,O112,Q112,R112,S112)/W112) -> 1.1052045 | AA112: =SUM(I112,K112,M112,N112,P112,T112)/W112*100 -> 38.898338 | AB112: 43.64 | AC112: =IF(AB112<50,"yes","no") -> yes | AD112: =W112/(AB112/100) -> 175.13749 | AE112: =AD112/W112 -> 2.2914757 | AF112: 3.9362344
A113: 106 | B113: 124915 | C113: Bituminous | D113: TX | E113: Eagle Pass Mine | F113: 7.1590531 | G113: 15.962751 | H113: 1.9079632 | I113: 7.4211855 | J113: 1.6772527 | K113: 0.33848538 | L113: 1.8988481 | M113: 0.34039469 | N113: 2.415177 | O113: 0.5225551 | P113: 1.7906547 | Q113: 0.25757826 | R113: 1.8592539 | S113: 0.30339586 | T113: 16.974987 | U113: 4.0225904 | V113: =SUM(H113:I113,M113:N113) -> 12.08472 | W113: =SUM(F113:T113) -> 60.829536 | X113: =SUM(F113:U113) -> 64.852126 | Y113: =SUM(K113:T113)/SUM(F113:J113) -> 0.78238306 | Z113: =(SUM(I113,K113,M113,N113,P113,T113)/W113)/(SUM(G113,O113,Q113,R113,S113)/W113) -> 1.5487996 | AA113: =SUM(I113,K113,M113,N113,P113,T113)/W113*100 -> 48.135966 | AB113: 15.54843 | AC113: =IF(AB113<50,"yes","no") -> yes | AD113: =W113/(AB113/100) -> 391.22623 | AE113: =AD113/W113 -> 6.4315175 | AF113: 3.9362344
A114: 107 | B114: 124916 | C114: Bituminous | D114: TX | E114: Eagle Pass Mine | F114: 8.895423 | G114: 20.019991 | H114: 2.3847224 | I114: 9.1081567 | J114: 2.0240945 | K114: 0.38643968 | L114: 2.1626287 | M114: 0.36903252 | N114: 2.6271764 | O114: 0.54637046 | P114: 1.8751151 | Q114: 0.26571781 | R114: 1.9716695 | S114: 0.31083984 | T114: 17.728016 | U114: 5.0961151 | V114: =SUM(H114:I114,M114:N114) -> 14.489088 | W114: =SUM(F114:T114) -> 70.675394 | X114: =SUM(F114:U114) -> 75.771509 | Y114: =SUM(K114:T114)/SUM(F114:J114) -> 0.66560019 | Z114: =(SUM(I114,K114,M114,N114,P114,T114)/W114)/(SUM(G114,O114,Q114,R114,S114)/W114) -> 1.388471 | AA114: =SUM(I114,K114,M114,N114,P114,T114)/W114*100 -> 45.410339 | AB114: 24.113475 | AC114: =IF(AB114<50,"yes","no") -> yes | AD114: =W114/(AB114/100) -> 293.09502 | AE114: =AD114/W114 -> 4.1470588 | AF114: 3.9362344
A115: 108 | B115: 124917 | C115: Bituminous | D115: TX | E115: Eagle Pass Mine | F115: 46.897399 | G115: 91.613854 | H115: 9.9048682 | I115: 35.959043 | J115: 6.4072531 | K115: 1.2361248 | L115: 5.5849492 | M115: 0.7665714 | N115: 4.3702968 | O115: 0.76663956 | P115: 2.354228 | Q115: 0.30741562 | R115: 2.1964088 | S115: 0.33097255 | T115: 22.487895 | U115: 8.1735714 | V115: =SUM(H115:I115,M115:N115) -> 51.00078 | W115: =SUM(F115:T115) -> 231.18392 | X115: =SUM(F115:U115) -> 239.35749 | Y115: =SUM(K115:T115)/SUM(F115:J115) -> 0.21176743 | Z115: =(SUM(I115,K115,M115,N115,P115,T115)/W115)/(SUM(G115,O115,Q115,R115,S115)/W115) -> 0.7054976 | AA115: =SUM(I115,K115,M115,N115,P115,T115)/W115*100 -> 29.056588 | AB115: 81.068359 | AC115: =IF(AB115<50,"yes","no") -> no | AD115: =W115/(AB115/100) -> 285.17158 | AE115: =AD115/W115 -> 1.2335269 | AF115: 3.9362344
A116: 109 | B116: 124918 | C116: Bituminous | D116: TX | E116: Eagle Pass Mine | F116: 9.5644061 | G116: 20.122767 | H116: 2.2661868 | I116: 8.5026602 | J116: 1.73984 | K116: 0.34975299 | L116: 1.8598997 | M116: 0.31978975 | N116: 2.3358393 | O116: 0.51396589 | P116: 1.8516825 | Q116: 0.273883 | R116: 2.1354572 | S116: 0.34734398 | T116: 15.708268 | U116: 3.5450195 | V116: =SUM(H116:I116,M116:N116) -> 13.424476 | W116: =SUM(F116:T116) -> 67.891743 | X116: =SUM(F116:U116) -> 71.436762 | Y116: =SUM(K116:T116)/SUM(F116:J116) -> 0.6089669 | Z116: =(SUM(I116,K116,M116,N116,P116,T116)/W116)/(SUM(G116,O116,Q116,R116,S116)/W116) -> 1.2425715 | AA116: =SUM(I116,K116,M116,N116,P116,T116)/W116*100 -> 42.815211 | AB116: 11.09214 | AC116: =IF(AB116<50,"yes","no") -> yes | AD116: =W116/(AB116/100) -> 612.07073 | AE116: =AD116/W116 -> 9.0153928 | AF116: 3.9362344
A117: 110 | B117: 124919 | C117: Bituminous | D117: TX | E117: Eagle Pass Mine | F117: 6.8912861 | G117: 14.36717 | H117: 1.6710818 | I117: 6.6328084 | J117: 1.5063769 | K117: 0.33813872 | L117: 1.89088 | M117: 0.35645634 | N117: 2.8358808 | O117: 0.64628362 | P117: 2.3577576 | Q117: 0.35693158 | R117: 2.8221199 | S117: 0.46316977 | T117: 18.849925 | U117: 5.1463289 | V117: =SUM(H117:I117,M117:N117) -> 11.496227 | W117: =SUM(F117:T117) -> 61.986267 | X117: =SUM(F117:U117) -> 67.132596 | Y117: =SUM(K117:T117)/SUM(F117:J117) -> 0.99513404 | Z117: =(SUM(I117,K117,M117,N117,P117,T117)/W117)/(SUM(G117,O117,Q117,R117,S117)/W117) -> 1.6815778 | AA117: =SUM(I117,K117,M117,N117,P117,T117)/W117*100 -> 50.609545 | AB117: 13.659136 | AC117: =IF(AB117<50,"yes","no") -> yes | AD117: =W117/(AB117/100) -> 453.80812 | AE117: =AD117/W117 -> 7.3211075 | AF117: 3.9362344
A118: 111 | B118: 124920 | C118: Bituminous | D118: TX | E118: Eagle Pass Mine | F118: 27.84195 | G118: 40.647327 | H118: 3.9978303 | I118: 13.850352 | J118: 2.3298097 | K118: 0.45689487 | L118: 2.2021464 | M118: 0.32455091 | N118: 2.1228408 | O118: 0.41266857 | P118: 1.3855326 | Q118: 0.1909139 | R118: 1.4470389 | S118: 0.22525573 | T118: 12.760431 | U118: 6.4223478 | V118: =SUM(H118:I118,M118:N118) -> 20.295574 | W118: =SUM(F118:T118) -> 110.19554 | X118: =SUM(F118:U118) -> 116.61789 | Y118: =SUM(K118:T118)/SUM(F118:J118) -> 0.24279843 | Z118: =(SUM(I118,K118,M118,N118,P118,T118)/W118)/(SUM(G118,O118,Q118,R118,S118)/W118) -> 0.71990437 | AA118: =SUM(I118,K118,M118,N118,P118,T118)/W118*100 -> 28.041608 | AB118: 90.43851 | AC118: =IF(AB118<50,"yes","no") -> no | AD118: =W118/(AB118/100) -> 121.84582 | AE118: =AD118/W118 -> 1.1057237 | AF118: 3.9362344
A119: 112 | B119: 124925 | C119: Bituminous | D119: TX | E119: Eagle Pass Mine | F119: 13.719902 | G119: 24.995677 | H119: 2.7313593 | I119: 9.9991058 | J119: 1.9723983 | K119: 0.33186744 | L119: 1.915589 | M119: 0.33265556 | N119: 2.4479562 | O119: 0.50841052 | P119: 1.8033098 | Q119: 0.25289658 | R119: 1.9321029 | S119: 0.28082528 | T119: 15.962898 | U119: 7.9785554 | V119: =SUM(H119:I119,M119:N119) -> 15.511077 | W119: =SUM(F119:T119) -> 79.186955 | X119: =SUM(F119:U119) -> 87.16551 | Y119: =SUM(K119:T119)/SUM(F119:J119) -> 0.48238978 | Z119: =(SUM(I119,K119,M119,N119,P119,T119)/W119)/(SUM(G119,O119,Q119,R119,S119)/W119) -> 1.1039646 | AA119: =SUM(I119,K119,M119,N119,P119,T119)/W119*100 -> 38.993535 | AB119: 91.294099 | AC119: =IF(AB119<50,"yes","no") -> no | AD119: =W119/(AB119/100) -> 86.738305 | AE119: =AD119/W119 -> 1.095361 | AF119: 3.9362344
A120: 113 | B120: 124926 | C120: Bituminous | D120: TX | E120: Eagle Pass Mine | F120: 37.477012 | G120: 74.630461 | H120: 8.3345795 | I120: 30.463663 | J120: 5.9348778 | K120: 0.74588803 | L120: 5.3336747 | M120: 0.82923117 | N120: 5.2147919 | O120: 0.98443636 | P120: 3.2020855 | Q120: 0.44820501 | R120: 3.3496431 | S120: 0.51289973 | T120: 28.378815 | U120: 7.2646044 | V120: =SUM(H120:I120,M120:N120) -> 44.842266 | W120: =SUM(F120:T120) -> 205.84026 | X120: =SUM(F120:U120) -> 213.10487 | Y120: =SUM(K120:T120)/SUM(F120:J120) -> 0.31241701 | Z120: =(SUM(I120,K120,M120,N120,P120,T120)/W120)/(SUM(G120,O120,Q120,R120,S120)/W120) -> 0.86123138 | AA120: =SUM(I120,K120,M120,N120,P120,T120)/W120*100 -> 33.440724 | AB120: 41.994872 | AC120: =IF(AB120<50,"yes","no") -> yes | AD120: =W120/(AB120/100) -> 490.15571 | AE120: =AD120/W120 -> 2.3812431 | AF120: 3.9362344
A121: 114 | B121: 124927 | C121: Bituminous | D121: TX | E121: Eagle Pass Mine | F121: 51.496943 | G121: 103.83193 | H121: 11.485721 | I121: 40.000693 | J121: 7.3929647 | K121: 0.53696527 | L121: 6.512223 | M121: 0.99709146 | N121: 6.2938402 | O121: 1.1494725 | P121: 3.7248354 | Q121: 0.51211696 | R121: 3.7164439 | S121: 0.52296448 | T121: 34.468606 | U121: 5.7552551 | V121: =SUM(H121:I121,M121:N121) -> 58.777345 | W121: =SUM(F121:T121) -> 272.64281 | X121: =SUM(F121:U121) -> 278.39806 | Y121: =SUM(K121:T121)/SUM(F121:J121) -> 0.27279322 | Z121: =(SUM(I121,K121,M121,N121,P121,T121)/W121)/(SUM(G121,O121,Q121,R121,S121)/W121) -> 0.78392177 | AA121: =SUM(I121,K121,M121,N121,P121,T121)/W121*100 -> 31.551183 | AB121: 96.077313 | AC121: =IF(AB121<50,"yes","no") -> no | AD121: =W121/(AB121/100) -> 283.77439 | AE121: =AD121/W121 -> 1.0408284 | AF121: 3.9362344
A122: 115 | B122: 124928 | C122: Bituminous | D122: TX | E122: Eagle Pass Mine | F122: 51.64581 | G122: 104.208 | H122: 11.530823 | I122: 39.992037 | J122: 7.3898123 | K122: 0.52442539 | L122: 6.4687707 | M122: 0.99324787 | N122: 6.2363016 | O122: 1.1448093 | P122: 3.6459879 | Q122: 0.50179771 | R122: 3.642425 | S122: 0.51934451 | T122: 33.689615 | U122: 5.7683908 | V122: =SUM(H122:I122,M122:N122) -> 58.752409 | W122: =SUM(F122:T122) -> 272.13321 | X122: =SUM(F122:U122) -> 277.9016 | Y122: =SUM(K122:T122)/SUM(F122:J122) -> 0.26711209 | Z122: =(SUM(I122,K122,M122,N122,P122,T122)/W122)/(SUM(G122,O122,Q122,R122,S122)/W122) -> 0.77335408 | AA122: =SUM(I122,K122,M122,N122,P122,T122)/W122*100 -> 31.264694 | AB122: 96.696107 | AC122: =IF(AB122<50,"yes","no") -> no | AD122: =W122/(AB122/100) -> 281.4314 | AE122: =AD122/W122 -> 1.0341678 | AF122: 3.9362344
A123: 116 | B123: 124929 | C123: Bituminous | D123: TX | E123: Eagle Pass Mine | F123: 37.26516 | G123: 81.695919 | H123: 8.409807 | I123: 30.434815 | J123: 5.7536594 | K123: 0.72371075 | L123: 5.264728 | M123: 0.81466212 | N123: 5.4133394 | O123: 1.0871715 | P123: 3.7674738 | Q123: 0.54387697 | R123: 4.1313568 | S123: 0.67121601 | T123: 37.003713 | U123: 5.7261983 | V123: =SUM(H123:I123,M123:N123) -> 45.072623 | W123: =SUM(F123:T123) -> 222.98061 | X123: =SUM(F123:U123) -> 228.70681 | Y123: =SUM(K123:T123)/SUM(F123:J123) -> 0.36330081 | Z123: =(SUM(I123,K123,M123,N123,P123,T123)/W123)/(SUM(G123,O123,Q123,R123,S123)/W123) -> 0.88685035 | AA123: =SUM(I123,K123,M123,N123,P123,T123)/W123*100 -> 35.05135 | AB123: 23.343311 | AC123: =IF(AB123<50,"yes","no") -> yes | AD123: =W123/(AB123/100) -> 955.22271 | AE123: =AD123/W123 -> 4.2838824 | AF123: 3.9362344
A124: 117 | B124: 124930 | C124: Bituminous | D124: TX | E124: Eagle Pass Mine | F124: 43.447002 | G124: 95.050629 | H124: 9.7116084 | I124: 34.871919 | J124: 6.5036132 | K124: 0.80492262 | L124: 5.7951751 | M124: 0.88309479 | N124: 5.6920236 | O124: 1.1379781 | P124: 3.9073388 | Q124: 0.56363929 | R124: 4.2271728 | S124: 0.68563366 | T124: 38.430847 | U124: 5.4391188 | V124: =SUM(H124:I124,M124:N124) -> 51.158645 | W124: =SUM(F124:T124) -> 251.7126 | X124: =SUM(F124:U124) -> 257.15171 | Y124: =SUM(K124:T124)/SUM(F124:J124) -> 0.32770473 | Z124: =(SUM(I124,K124,M124,N124,P124,T124)/W124)/(SUM(G124,O124,Q124,R124,S124)/W124) -> 0.83204743 | AA124: =SUM(I124,K124,M124,N124,P124,T124)/W124*100 -> 33.605845 | AB124: 21.403218 | AC124: =IF(AB124<50,"yes","no") -> yes | AD124: =W124/(AB124/100) -> 1176.0502 | AE124: =AD124/W124 -> 4.6721946 | AF124: 3.9362344
E126: Minimum | F126: =MIN(F7:F124) -> 2 | G126: =MIN(G7:G124) -> 4.1 | H126: =MIN(H7:H124) -> 0.5 | I126: =MIN(I7:I124) -> 2.4 | J126: =MIN(J7:J124) -> 0.6 | K126: =MIN(K7:K124) -> 0.14 | L126: =MIN(L7:L124) -> 0.7 | M126: =MIN(M7:M124) -> 0.1 | ... AB126: =MIN(AB7:AB124) -> 5.1 | AD126: =MIN(AD7:AD124) -> 41.195239 | AE126: =MIN(AE7:AE124) -> 1.0331646
E127: Maximum | F127: =MAX(F7:F124) -> 321 | G127: =MAX(G7:G124) -> 1060 | H127: =MAX(H7:H124) -> 141 | I127: =MAX(I7:I124) -> 567 | J127: =MAX(J7:J124) -> 131 | K127: =MAX(K7:K124) -> 21.7 | L127: =MAX(L7:L124) -> 102 | M127: =MAX(M7:M124) -> 15.8 | ... AB127: =MAX(AB7:AB124) -> 96.79 | AD127: =MAX(AD7:AD124) -> 7730.6051 | AE127: =MAX(AE7:AE124) -> 19.607843
E128: Mean | F128: =AVERAGE(F7:F124) -> 26.571038 | G128: =AVERAGE(G7:G124) -> 62.143544 | H128: =AVERAGE(H7:H124) -> 7.510789 | I128: =AVERAGE(I7:I124) -> 29.211601 | J128: =AVERAGE(J7:J124) -> 6.2430103 | K128: =AVERAGE(K7:K124) -> 1.1018041 | L128: =AVERAGE(L7:L124) -> 5.5510345 | M128: =AVERAGE(M7:M124) -> 0.86472609 | ... AB128: =AVERAGE(AB7:AB124) -> 36.149293 | AD128: =AVERAGE(AD7:AD124) -> 625.37016 | AE128: =AVERAGE(AE7:AE124) -> 4.5751868
E129: Median | F129: =MEDIAN(F7:F124) -> 17.159351 | G129: =MEDIAN(G7:G124) -> 34.506549 | H129: =MEDIAN(H7:H124) -> 4.1152687 | I129: =MEDIAN(I7:I124) -> 15.75 | J129: =MEDIAN(J7:J124) -> 3.3 | K129: =MEDIAN(K7:K124) -> 0.57254774 | L129: =MEDIAN(L7:L124) -> 3.1212349 | M129: =MEDIAN(M7:M124) -> 0.48244136 | ... AB129: =MEDIAN(AB7:AB124) -> 25.405 | AD129: =MEDIAN(AD7:AD124) -> 332.61721 | AE129: =MEDIAN(AE7:AE124) -> 3.9362344
L168: Median REY

Sheet Table S3b
A1: Table S3b. | B1: Concentrations of critical minerals on a dry coal basis.
B2: No data, - .
F3: Critical Minerals, Dry Coal Basis (ppm)
A5: Sequence | B5: Sample ID | C5: Sample | D5: State | E5: Location | F5: LI | G5: Be | H5: Mg | I5: Al | J5: P | K5: Ti | L5: V | M5: Cr | N5: Mn | O5: Co | P5: Ni | Q5: Zn | R5: Ga | S5: Ge | T5: As | U5: Zr | V5: Nb | W5: Sn | X5: Sb | Y5: Ba | Z5: Hf | AA5: Ta | AB5: W | AC5: U
A6: 0 | B6: AL-CR-SCH-1 | C6: Lignite | D6: AL | E6: Shell SCH. 24-A well | F6: 106 | G6: 1 | H6: 2860 | I6: 37400 | K6: 2900 | L6: 73 | M6: 44 | N6: 95 | O6: 4.8 | P6: 20 | Q6: 27 | R6: 15.3 | S6: 2 | T6: 4.8 | U6: 36 | V6: 7.3 | W6: 1.7 | X6: 0.25 | Y6: 130 | Z6: 1.1 | AA6: 0.53 | AB6: 0.9 | AC6: 7.6
A7: 1 | B7: AL-WI-GCS-6-12 | C7: Lignite | D7: AL | E7: Gravel Creek sand pit | F7: 82.6 | G7: 2.6 | H7: 1550 | I7: 56900 | K7: 2010 | L7: 81 | M7: 68 | N7: 16 | O7: 4 | P7: 16 | Q7: 24 | R7: 19.5 | S7: 6 | T7: 3.5 | U7: 27.2 | V7: 6.9 | W7: 1.3 | X7: 0.12 | Y7: 61 | Z7: 0.9 | AA7: 0.45 | AB7: 3.1 | AC7: 3.7
A8: 2 | B8: AL-WI-GCS-11 | C8: Lignite | D8: AL | E8: Gravel Creek sand pit | F8: 387 | G8: 3.3 | H8: 5990 | I8: 150000 | K8: 7910 | L8: 137 | M8: 203 | N8: 32 | O8: 5.5 | P8: 39 | Q8: 40 | R8: 42.5 | S8: 4 | T8: 3.6 | U8: 92.3 | V8: 27.9 | W8: 4 | X8: 0.38 | Y8: 206 | Z8: 3.2 | AA8: 1.92 | AB8: 2.4 | AC8: 7.4
A9: 3 | B9: AL-CL-US43-3 | C9: Lignite | D9: AL | E9: U.S. Highway 43 | F9: 64.9 | G9: 1.1 | H9: 5230 | I9: 85900 | K9: 5740 | L9: 163 | M9: 108 | N9: 32 | O9: 3.9 | P9: 18 | Q9: 37 | R9: 35.3 | S9: 8 | T9: 8 | U9: 106 | V9: 19.9 | W9: 3 | X9: 0.67 | Y9: 666 | Z9: 3.4 | AA9: 1.4 | AB9: 2.5 | AC9: 6.4
A10: 4 | B10: AL-CL-US43-6 | C10: Lignite | D10: AL | E10: U.S. Highway 43 | F10: 9.1 | G10: 2.9 | H10: 608 | I10: 9350 | K10: 420 | L10: 24 | M10: 15 | N10: 66 | O10: 7.1 | P10: 64 | Q10: 67 | R10: 9.8 | S10: 14 | T10: 4.4 | U10: 16 | V10: 2.4 | W10: 0.5 | X10: 0.26 | Y10: 96 | Z10: 0.5 | AA10: 0.11 | AB10: 0.8 | AC10: 6.8
A11: 5 | B11: AL-CL-US43-8 | C11: Lignite | D11: AL | E11: U.S. Highway 43 | F11: 36 | G11: 2.2 | H11: 3020 | I11: 41100 | K11: 7700 | L11: 95 | M11: 65 | N11: 80 | O11: 6.3 | P11: 32 | Q11: 58 | R11: 16.4 | S11: 5 | T11: 11.3 | U11: 141 | V11: 28 | W11: 2.2 | X11: 0.83 | Y11: 445 | Z11: 3.8 | AA11: 1.9 | AB11: 3.2 | AC11: 4.1
A12: 6 | B12: AL-CL-US43-11 | C12: Lignite | D12: AL | E12: U.S. Highway 43 | F12: 10.3 | G12: 0.6 | H12: 461 | I12: 10100 | K12: 490 | L12: 22 | M12: 16 | N12: 19 | O12: 4.2 | P12: 15 | Q12: 25 | R12: 3.1 | S12: 10 | T12: 5.2 | U12: 23.4 | V12: 2.4 | W12: 0.7 | X12: 0.33 | Y12: 35 | Z12: 0.6 | AA12: 0.13 | AB12: 1 | AC12: 6.1
A13: 7 | B13: AL-CH-KCSC-1-2-3 | C13: Lignite | D13: AL | E13: Outcrop | F13: 1 | G13: 0.2 | H13: 36 | I13: 4330 | K13: 503 | L13: 11 | M13: 9 | N13: 8 | O13: 2.2 | P13: 6 | Q13: 3 | R13: 4.7 | S13: 3 | T13: 3.3 | U13: 16.3 | V13: 1.4 | W13: 0.3 | X13: 0.11 | Y13: 83 | Z13: 0.4 | AA13: 0.08 | AB13: 0.5 | AC13: 0.9
A14: 8 | B14: AL-CH-OSM1-245-247 | C14: Lignite | D14: AL | E14: Outcrop | F14: 2.9 | G14: 0.5 | H14: 2950 | I14: 5050 | K14: 232 | L14: 9 | M14: 3 | N14: 172 | O14: 0.6 | P14: 3 | Q14: 1 | R14: 1.6 | S14: <1 | T14: 1.3 | U14: 7.3 | V14: 0.5 | W14: <0.2 | X14: 0.12 | Y14: 123 | Z14: 0.2 | AA14: 0.04 | AB14: 1.1 | AC14: 0.2
A15: 9 | B15: AL-CH-OSM1-242.8-244.5 | C15: Lignite | D15: AL | E15: Outcrop | F15: 4.9 | G15: 0.8 | H15: 3120 | I15: 9100 | K15: 535 | L15: 26 | M15: 11 | N15: 162 | O15: 2 | P15: 6 | Q15: 11 | R15: 3 | S15: 2 | T15: 2.2 | U15: 16.7 | V15: 2.6 | W15: 0.3 | X15: 0.14 | Y15: 147 | Z15: 0.5 | AA15: 0.12 | AB15: 1.4 | AC15: 1.3
A16: 10 | B16: AL-CH-OSM1-249.0 | C16: Lignite | D16: AL | E16: Outcrop | F16: 42.6 | G16: 1.7 | H16: 8630 | I16: 74800 | K16: 3730 | L16: 148 | M16: 89 | N16: 113 | O16: 7.5 | P16: 32 | Q16: 66 | R16: 20.1 | S16: 2 | T16: 4.9 | U16: 84.7 | V16: 13.6 | W16: 2 | X16: 1 | Y16: 635 | Z16: 2.8 | AA16: 0.99 | AB16: 1.6 | AC16: 3.6
A17: 11 | B17: AL-CH-OSM2-253 | C17: Lignite | D17: AL | E17: Outcrop | F17: 39.9 | G17: 2.1 | H17: 5130 | I17: 42200 | K17: 2460 | L17: 60 | M17: 48 | N17: 570 | O17: 6.5 | P17: 20 | Q17: 46 | R17: 11.7 | S17: 2 | T17: 9.3 | U17: 53.3 | V17: 7.7 | W17: 1.2 | X17: 0.57 | Y17: 249 | Z17: 1.7 | AA17: 0.62 | AB17: 0.9 | AC17: 3.5
A18: 12 | B18: BOLI | C18: Lignite | D18: AR | E18: Bolivar Creek | F18: 9.7 | G18: 0.9 | H18: 2680 | I18: 15100 | J18: 36 | K18: 489 | L18: 28 | M18: 11 | N18: 735 | O18: 14.8 | P18: 9 | Q18: 9 | R18: 5.8 | S18: 4 | T18: 2.5 | U18: 27.7 | V18: 3.7 | W18: 0.5 | X18: 0.28 | Y18: 334 | Z18: 0.8 | AA18: 0.27 | AB18: 1.1 | AC18: 2.3
A19: 13 | B19: BAUX | C19: Lignite | D19: AR | E19: Bauxite | F19: 155 | G19: 0.9 | H19: 735 | I19: 121000 | J19: 109 | K19: 6820 | L19: 96 | M19: 57 | N19: 146 | O19: 2 | P19: 10 | Q19: 19 | R19: 43.3 | S19: 7 | T19: 10.2 | U19: 600 | V19: 215 | W19: 9.2 | X19: 1.08 | Y19: 129 | Z19: 14 | AA19: 17.2 | AB19: 8.2 | AC19: 9.5
A20: 14 | B20: MALV | C20: Lignite | D20: AR | E20: Malvern | F20: 20.2 | G20: 4.4 | H20: 257 | I20: 33200 | J20: 309 | K20: 11000 | L20: 128 | M20: 72 | N20: 23 | O20: 5.7 | P20: 19 | Q20: 55 | R20: 26 | S20: 4 | T20: 5.8 | U20: 226 | V20: 39.1 | W20: 5.2 | X20: 2.63 | Y20: 120 | Z20: 6 | AA20: 3.12 | AB20: 5.4 | AC20: 5.4
A21: 15 | B21: CDM-CP | C21: Lignite | D21: AR | E21: Camden mine | F21: 26.8 | G21: 1.2 | H21: 1280 | I21: 58200 | K21: 9000 | L21: 157 | M21: 173 | N21: 42 | O21: 7.2 | P21: 92 | Q21: 34 | R21: 34.1 | S21: 3 | T21: 5.7 | U21: 173 | V21: 45 | W21: 6.8 | X21: 3.2 | Y21: 119 | Z21: 5.3 | AA21: 3.76 | AB21: 5.4 | AC21: 4.1
A22: 16 | B22: OX-1D | C22: Lignite | D22: LA | E22: Oxbow mine | F22: 14.8 | G22: 1.2 | H22: 1790 | I22: 14100 | K22: 779 | L22: 31 | M22: 14 | N22: 202 | O22: 2.5 | P22: 13 | Q22: 5 | R22: 5.4 | S22: 1 | T22: 2.6 | U22: 34.5 | V22: 6.6 | W22: 0.9 | X22: 0.96 | Y22: 339 | Z22: 1.3 | AA22: 0.31 | AB22: 1 | AC22: 2.1
A23: 17 | B23: OX-2A | C23: Lignite | D23: LA | E23: Oxbow mine | F23: 17.7 | G23: 2.4 | H23: 2060 | I23: 20200 | K23: 931 | L23: 31 | M23: 21 | N23: 244 | O23: 5.5 | P23: 20 | Q23: 11 | R23: 7.3 | S23: 2 | T23: 3.2 | U23: 40.9 | V23: 6.7 | W23: 1.1 | X23: 1.38 | Y23: 312 | Z23: 1.6 | AA23: 0.43 | AB23: 0.7 | AC23: 2.2
A24: 18 | B24: OX-P2 | C24: Parting | D24: LA | E24: Oxbow mine | F24: 1.5 | G24: 0.6 | H24: 1050 | I24: 4090 | K24: 424 | L24: 81 | M24: 22 | N24: 104 | O24: 3 | P24: 16 | Q24: 4 | R24: 17.5 | S24: 21 | T24: 7.2 | U24: 99.4 | V24: 27.6 | W24: 0.3 | X24: 9.29 | Y24: 230 | Z24: 2.7 | AA24: 0.43 | AB24: 4.2 | AC24: 5
A25: 19 | B25: DH2-1A | C25: Lignite | D25: LA | E25: Dolet Hills mine | F25: 5.7 | G25: 2.2 | H25: 1430 | I25: 11000 | J25: 17 | K25: 678 | L25: 22 | M25: 12 | N25: 58 | O25: 7.6 | P25: 29 | Q25: 13 | R25: 6.8 | S25: 8 | T25: 2.7 | U25: 45.4 | V25: 3.4 | W25: 0.5 | X25: 1.76 | Y25: 185 | Z25: 0.9 | AA25: 0.13 | AB25: 0.7 | AC25: 1.1
A26: 20 | B26: DH2-1C | C26: Lignite | D26: LA | E26: Dolet Hills mine | F26: 14.4 | G26: 0.4 | H26: 1360 | I26: 14300 | J26: 15 | K26: 604 | L26: 27 | M26: 13 | N26: 79 | O26: 2.7 | P26: 9 | Q26: 3 | R26: 4.4 | S26: 1 | T26: 6.7 | U26: 20.4 | V26: 1.8 | W26: 0.8 | X26: 0.29 | Y26: 221 | Z26: 0.6 | AA26: 0.12 | AB26: 0.4 | AC26: 0.7
A27: 21 | B27: DH2-3A | C27: Lignite | D27: LA | E27: Dolet Hills mine | F27: 16.2 | G27: 0.3 | H27: 1440 | I27: 11000 | J27: 28 | K27: 871 | L27: 23 | M27: 10 | N27: 88 | O27: 1.7 | P27: 5 | Q27: 4 | R27: 4.1 | S27: 1 | T27: 3 | U27: 23.5 | V27: 2.1 | W27: 0.8 | X27: 0.26 | Y27: 248 | Z27: 0.6 | AA27: 0.15 | AB27: 0.6 | AC27: 0.6
A28: 22 | B28: DH2-3C | C28: Lignite | D28: LA | E28: Dolet Hills mine | F28: 13.6 | G28: 2.7 | H28: 1240 | I28: 11400 | J28: 17 | K28: 699 | L28: 21 | M28: 10 | N28: 78 | O28: 14.2 | P28: 39 | Q28: 38 | R28: 5.2 | S28: 1 | T28: 13.6 | U28: 30.5 | V28: 2.9 | W28: 0.8 | X28: 0.42 | Y28: 236 | Z28: 1 | AA28: 0.15 | AB28: 0.8 | AC28: 1.7
A29: 23 | B29: DH2-4A | C29: Lignite | D29: LA | E29: Dolet Hills mine | F29: 18.4 | G29: 6.8 | H29: 1160 | I29: 21300 | J29: 17 | K29: 1150 | L29: 35 | M29: 16 | N29: 70 | O29: 16.8 | P29: 44 | Q29: 120 | R29: 13.3 | S29: 3 | T29: 16.2 | U29: 66.2 | V29: 7.5 | W29: 1.4 | X29: 0.77 | Y29: 226 | Z29: 2.2 | AA29: 0.48 | AB29: 1.1 | AC29: 3.8
A30: 24 | B30: DH BLUE-P1 | C30: Parting | D30: LA | E30: Dolet Hills mine | F30: 58 | G30: 1.3 | H30: 1490 | I30: 174000 | J30: 19 | K30: 1690 | L30: 13 | M30: 11 | N30: 25 | O30: 6.1 | P30: 14 | Q30: 87 | R30: 34.4 | S30: 2 | T30: 0.8 | U30: 36.7 | V30: 18 | W30: 4.3 | X30: 0.26 | Y30: 156 | Z30: 2.2 | AA30: 2.75 | AB30: 2.5 | AC30: 2
A31: 25 | B31: MS-02-H | C31: Lignite | D31: MS | E31: Red Hills mine | F31: 13.5 | G31: 1.7 | H31: 3240 | I31: 17600 | J31: 39 | K31: 1140 | L31: 55 | M31: 25 | N31: 120 | O31: 4.4 | P31: 7 | Q31: 3 | R31: 7.1 | S31: 3 | T31: 6.5 | U31: 30.5 | V31: 3.4 | W31: 0.7 | X31: 1.66 | Y31: 236 | Z31: 0.8 | AA31: 0.25 | AB31: 1.4 | AC31: 3.4
A32: 26 | B32: MS-02-G | C32: Lignite | D32: MS | E32: Red Hills mine | F32: 33 | G32: 1.6 | H32: 3980 | I32: 36900 | J32: 73 | K32: 2110 | L32: 100 | M32: 42 | N32: 339 | O32: 5.2 | P32: 17 | Q32: 11 | R32: 12.9 | S32: 3 | T32: 9.4 | U32: 53 | V32: 6.1 | W32: 1.3 | X32: 1.47 | Y32: 308 | Z32: 1.5 | AA32: 0.49 | AB32: 1.3 | AC32: 3.7
A33: 27 | B33: MS-02-F | C33: Lignite | D33: MS | E33: Red Hills mine | F33: 21.6 | G33: 1.5 | H33: 4010 | I33: 31600 | J33: 53 | K33: 1610 | L33: 95 | M33: 35 | N33: 348 | O33: 3.7 | P33: 13 | Q33: 9 | R33: 9.9 | S33: 1 | T33: 7.2 | U33: 43.1 | V33: 4.1 | W33: 1.3 | X33: 1.23 | Y33: 233 | Z33: 1.2 | AA33: 0.33 | AB33: 1.2 | AC33: 3.1
A34: 28 | B34: MS-02-E | C34: Lignite | D34: MS | E34: Red Hills mine | F34: 5.3 | G34: 1.5 | H34: 2950 | I34: 10200 | J34: <10 | K34: 1190 | L34: 26 | M34: 15 | N34: 352 | O34: 5.7 | P34: 13 | Q34: 3 | R34: 5.3 | S34: 3 | T34: 11.3 | U34: 24.9 | V34: 3 | W34: 0.6 | X34: 0.83 | Y34: 219 | Z34: 0.7 | AA34: 0.24 | AB34: 1.6 | AC34: 1.1
A35: 29 | B35: MS-08-C3.4 | C35: Lignite | D35: MS | E35: Red Hills mine | F35: 7.3 | G35: 2 | H35: 2950 | I35: 9230 | J35: 42 | K35: 756 | L35: 23 | M35: 15 | N35: 554 | O35: 3 | P35: 9 | Q35: 5 | R35: 7.8 | S35: 9 | T35: 9.9 | U35: 19.2 | V35: 2.2 | W35: 0.5 | X35: 0.32 | Y35: 218 | Z35: 0.5 | AA35: 0.16 | AB35: 0.7 | AC35: 0.9
A36: 30 | B36: MS-02-DP | C36: Lignite | D36: MS | E36: Red Hills mine | F36: 81.4 | G36: 1.5 | H36: 4670 | I36: 102000 | J36: 178 | K36: 4950 | L36: 141 | M36: 77 | N36: 201 | O36: 4.8 | P36: 21 | Q36: 29 | R36: 31.1 | S36: 3 | T36: 3.3 | U36: 79.2 | V36: 15.5 | W36: 3.2 | X36: 0.76 | Y36: 330 | Z36: 2.3 | AA36: 1.11 | AB36: 1.3 | AC36: 3.2
A37: 31 | B37: MS-02-DU | C37: Lignite | D37: MS | E37: Red Hills mine | F37: 33 | G37: 1.9 | H37: 3700 | I37: 44000 | J37: 96 | K37: 2410 | L37: 117 | M37: 43 | N37: 310 | O37: 4 | P37: 10 | Q37: 25 | R37: 15.8 | S37: 4 | T37: 5.1 | U37: 49.2 | V37: 7.4 | W37: 1.6 | X37: 1.36 | Y37: 202 | Z37: 1.4 | AA37: 0.55 | AB37: 1.2 | AC37: 3.7
A38: 32 | B38: PW-94-29-31-CP | C38: Lignite | D38: KY | E38: Sims clay pit | F38: 27.9 | G38: 10.3 | H38: 1820 | I38: 50500 | J38: - | K38: 3030 | L38: 89 | M38: 48 | N38: 73 | O38: 8.3 | P38: 23 | Q38: 137 | R38: 18.3 | S38: 6 | T38: 7.3 | U38: 95.5 | V38: 14.5 | W38: 2.5 | X38: 1.09 | Y38: 249 | Z38: 3 | AA38: 1.19 | AB38: 1.5 | AC38: 3.7
A39: 33 | B39: PW-94-16-18-CP | C39: Lignite | D39: TN | E39: Swaim clay pit | F39: 30.2 | G39: 6.7 | H39: 1040 | I39: 46900 | J39: - | K39: 5540 | L39: 94 | M39: 55 | N39: 22 | O39: 6 | P39: 19 | Q39: 24 | R39: 20.7 | S39: 12 | T39: 7.2 | U39: 144 | V39: 25.9 | W39: 4.7 | X39: 1.55 | Y39: 156 | Z39: 4.7 | AA39: 2.26 | AB39: 3 | AC39: 4.5
A40: 34 | B40: SBN-1A | C40: Lignite | D40: TX | E40: Sabine mine | F40: 5.5 | G40: 2.8 | H40: 3330 | I40: 9830 | J40: 12 | K40: 746 | L40: 35 | M40: 11 | N40: 54 | O40: 5 | P40: 10 | Q40: 2 | R40: 6.4 | S40: 5 | T40: 3.9 | U40: 24.7 | V40: 2.7 | W40: 0.5 | X40: 1.51 | Y40: 375 | Z40: 0.7 | AA40: 0.18 | AB40: 1 | AC40: 2.1
A41: 35 | B41: SBN-1C | C41: Lignite | D41: TX | E41: Sabine mine | F41: 5.9 | G41: 14.8 | H41: 3010 | I41: 12200 | J41: 14 | K41: 1090 | L41: 30 | M41: 15 | N41: 36 | O41: 2.8 | P41: 6 | Q41: 4 | R41: 5.7 | S41: 5 | T41: 4.2 | U41: 33.4 | V41: 3 | W41: 0.6 | X41: 0.55 | Y41: 210 | Z41: 0.9 | AA41: 0.24 | AB41: 1.3 | AC41: 1.8
A42: 36 | B42: 124331 | C42: Lignite | D42: TX | E42: Sabine mine | F42: - | G42: - | H42: - | I42: - | J42: - | K42: - | L42: - | M42: - | N42: - | O42: - | P42: - | Q42: - | R42: - | S42: - | T42: - | U42: - | V42: - | W42: - | X42: - | Y42: - | Z42: - | AA42: - | AB42: - | AC42: -
A43: 37 | B43: 124332 | C43: Lignite | D43: TX | E43: Sabine mine | F43: - | G43: - | H43: - | I43: - | J43: - | K43: - | L43: - | M43: - | N43: - | O43: - | P43: - | Q43: - | R43: - | S43: - | T43: - | U43: - | V43: - | W43: - | X43: - | Y43: - | Z43: - | AA43: - | AB43: - | AC43: -
A44: 38 | B44: 124333 | C44: Lignite | D44: TX | E44: Sabine mine | F44: - | G44: - | H44: - | I44: - | J44: - | K44: - | L44: - | M44: - | N44: - | O44: - | P44: - | Q44: - | R44: - | S44: - | T44: - | U44: - | V44: - | W44: - | X44: - | Y44: - | Z44: - | AA44: - | AB44: - | AC44: -
A45: 39 | B45: 124338 | C45: Lignite | D45: TX | E45: Sabine mine | F45: - | G45: - | H45: - | I45: - | J45: - | K45: - | L45: - | M45: - | N45: - | O45: - | P45: - | Q45: - | R45: - | S45: - | T45: - | U45: - | V45: - | W45: - | X45: - | Y45: - | Z45: - | AA45: - | AB45: - | AC45: -
A46: 40 | B46: 124339 | C46: Lignite | D46: TX | E46: Sabine mine | F46: - | G46: - | H46: - | I46: - | J46: - | K46: - | L46: - | M46: - | N46: - | O46: - | P46: - | Q46: - | R46: - | S46: - | T46: - | U46: - | V46: - | W46: - | X46: - | Y46: - | Z46: - | AA46: - | AB46: - | AC46: -
A47: 41 | B47: 124340 | C47: Lignite | D47: TX | E47: Sabine mine | F47: - | G47: - | H47: - | I47: - | J47: - | K47: - | L47: - | M47: - | N47: - | O47: - | P47: - | Q47: - | R47: - | S47: - | T47: - | U47: - | V47: - | W47: - | X47: - | Y47: - | Z47: - | AA47: - | AB47: - | AC47: -
A48: 42 | B48: 124341 | C48: Lignite | D48: TX | E48: Sabine mine | F48: - | G48: - | H48: - | I48: - | J48: - | K48: - | L48: - | M48: - | N48: - | O48: - | P48: - | Q48: - | R48: - | S48: - | T48: - | U48: - | V48: - | W48: - | X48: - | Y48: - | Z48: - | AA48: - | AB48: - | AC48: -
A49: 43 | B49: 124342 | C49: Lignite | D49: TX | E49: Sabine mine | F49: - | G49: - | H49: - | I49: - | J49: - | K49: - | L49: - | M49: - | N49: - | O49: - | P49: - | Q49: - | R49: - | S49: - | T49: - | U49: - | V49: - | W49: - | X49: - | Y49: - | Z49: - | AA49: - | AB49: - | AC49: -
A50: 44 | B50: 124343 | C50: Lignite | D50: TX | E50: Sabine mine | F50: - | G50: - | H50: - | I50: - | J50: - | K50: - | L50: - | M50: - | N50: - | O50: - | P50: - | Q50: - | R50: - | S50: - | T50: - | U50: - | V50: - | W50: - | X50: - | Y50: - | Z50: - | AA50: - | AB50: - | AC50: -
A51: 45 | B51: 124344 | C51: Lignite | D51: TX | E51: Sabine mine | F51: - | G51: - | H51: - | I51: - | J51: - | K51: - | L51: - | M51: - | N51: - | O51: - | P51: - | Q51: - | R51: - | S51: - | T51: - | U51: - | V51: - | W51: - | X51: - | Y51: - | Z51: - | AA51: - | AB51: - | AC51: -
A52: 46 | B52: BB2-CP | C52: Lignite | D52: TX | E52: Big Brown mine | F52: 10.1 | G52: 1.1 | H52: 2450 | I52: 14600 | J52: - | K52: 2130 | L52: 44 | M52: 17 | N52: 180 | O52: 3.5 | P52: 7 | Q52: 11 | R52: 6.4 | S52: 1 | T52: 2 | U52: 48.1 | V52: 6.9 | W52: 0.9 | X52: 0.72 | Y52: 234 | Z52: 1.5 | AA52: 0.58 | AB52: 1.1 | AC52: 2.1
A53: 47 | B53: JE-3-CP | C53: Lignite | D53: TX | E53: Jewett mine | F53: 21.1 | G53: 3.1 | H53: 3480 | I53: 26500 | J53: - | K53: 1540 | L53: 77 | M53: 51 | N53: 84 | O53: 7.8 | P53: 35 | Q53: 11 | R53: 9.1 | S53: 3 | T53: 14.2 | U53: 54.5 | V53: 5.2 | W53: 1 | X53: 2.14 | Y53: 245 | Z53: 1.5 | AA53: 0.37 | AB53: 1.1 | AC53: 3.8
A54: 48 | B54: JE-4-CP | C54: Lignite | D54: TX | E54: Jewett mine | F54: 8.2 | G54: 1.6 | H54: 2390 | I54: 10700 | J54: - | K54: 1070 | L54: 28 | M54: 38 | N54: 110 | O54: 4.8 | P54: 32 | Q54: 7 | R54: 4.7 | S54: 2 | T54: 9.8 | U54: 30.7 | V54: 3.5 | W54: 0.6 | X54: 0.87 | Y54: 203 | Z54: 0.9 | AA54: 0.26 | AB54: 1.5 | AC54: 1.6
A55: 49 | B55: JE-6-CP | C55: Lignite | D55: TX | E55: Jewett mine | F55: 21.5 | G55: 0.5 | H55: 3770 | I55: 32000 | J55: - | K55: 2210 | L55: 53 | M55: 32 | N55: 168 | O55: 1.6 | P55: 13 | Q55: 9 | R55: 10.3 | S55: 1 | T55: 3 | U55: 51.6 | V55: 8.1 | W55: 1.3 | X55: 0.6 | Y55: 244 | Z55: 1.6 | AA55: 0.63 | AB55: 1.2 | AC55: 2
A56: 50 | B56: WC-A1.1 | C56: Lignite | D56: TX | E56: Walnut Creek mine | F56: 13.4 | G56: 2.4 | H56: 1840 | I56: 21600 | J56: 57 | K56: 1660 | L56: 44 | M56: 22 | N56: 102 | O56: 7.3 | P56: 10 | Q56: 29 | R56: 10.3 | S56: 20 | T56: 4.6 | U56: 49.5 | V56: 6.6 | W56: 1 | X56: 1.73 | Y56: 196 | Z56: 1.4 | AA56: 0.44 | AB56: 1.2 | AC56: 2.8
A57: 51 | B57: WC-A1.4 | C57: Lignite | D57: TX | E57: Walnut Creek mine | F57: 6.3 | G57: 0.4 | H57: 1780 | I57: 9400 | J57: 13 | K57: 598 | L57: 18 | M57: 7 | N57: 226 | O57: 2.1 | P57: 7 | Q57: 2 | R57: 4.2 | S57: 1 | T57: 1.7 | U57: 15.2 | V57: 1.6 | W57: 0.4 | X57: 0.67 | Y57: 64 | Z57: 0.4 | AA57: 0.13 | AB57: 0.8 | AC57: 1.1
A58: 52 | B58: WC-A2.1 | C58: Lignite | D58: TX | E58: Walnut Creek mine | F58: 11.3 | G58: 1.1 | H58: 1540 | I58: 10900 | J58: 21 | K58: 1050 | L58: 28 | M58: 10 | N58: 201 | O58: 4.8 | P58: 8 | Q58: 2 | R58: 4.7 | S58: 1 | T58: 2.3 | U58: 27.2 | V58: 2.5 | W58: 0.5 | X58: 0.78 | Y58: 102 | Z58: 0.8 | AA58: 0.21 | AB58: 0.9 | AC58: 1.7
A59: 53 | B59: WC-A2.3 | C59: Lignite | D59: TX | E59: Walnut Creek mine | F59: 9.1 | G59: 3.9 | H59: 1560 | I59: 14500 | J59: 47 | K59: 1320 | L59: 47 | M59: 19 | N59: 141 | O59: 11.4 | P59: 13 | Q59: 4 | R59: 13.8 | S59: 7 | T59: 3.2 | U59: 36.8 | V59: 5 | W59: 0.9 | X59: 3.1 | Y59: 127 | Z59: 1 | AA59: 0.37 | AB59: 1.1 | AC59: 4.1
A60: 54 | B60: M128 CH1 | C60: Lignite | D60: TX | E60: Gibbons Creek mine | F60: 10.2 | G60: 2.5 | H60: 2240 | I60: 8960 | J60: - | K60: 706 | L60: 15 | M60: 10 | N60: 508 | O60: 0.6 | P60: 5 | Q60: 5 | R60: 3.2 | S60: 2 | T60: 2.3 | U60: 33 | V60: 4.4 | W60: 1.6 | X60: 0.19 | Y60: 24 | Z60: 0.9 | AA60: 0.22 | AB60: 1.1 | AC60: 0.9
A61: 55 | B61: M128 CH2 | C61: Lignite | D61: TX | E61: Gibbons Creek mine | F61: 19.8 | G61: 1.8 | H61: 2330 | I61: 17600 | J61: - | K61: 1410 | L61: 30 | M61: 15 | N61: 427 | O61: 1.3 | P61: 6 | Q61: 12 | R61: 8.1 | S61: 4 | T61: 3.5 | U61: 51.3 | V61: 7.9 | W61: 1.2 | X61: 0.42 | Y61: 42 | Z61: 1.4 | AA61: 0.59 | AB61: 1.6 | AC61: 1.7
A62: 56 | B62: M128 CH3 | C62: Lignite | D62: TX | E62: Gibbons Creek mine | F62: 45.3 | G62: 2.4 | H62: 4010 | I62: 59600 | J62: - | K62: 2130 | L62: 52 | M62: 30 | N62: 281 | O62: 13.3 | P62: 24 | Q62: 153 | R62: 17 | S62: 3 | T62: 9.1 | U62: 122 | V62: 13.4 | W62: 2.6 | X62: 0.81 | Y62: 164 | Z62: 3.5 | AA62: 0.99 | AB62: 1 | AC62: 4.1
A63: 57 | B63: M128 CH4 | C63: Lignite | D63: TX | E63: Gibbons Creek mine | F63: 11.1 | G63: 9.7 | H63: 2020 | I63: 19900 | J63: - | K63: 1210 | L63: 36 | M63: 135 | N63: 258 | O63: 6.3 | P63: 79 | Q63: 42 | R63: 9.7 | S63: 6 | T63: 7.2 | U63: 59.6 | V63: 6.6 | W63: 3.5 | X63: 0.5 | Y63: 31 | Z63: 1.6 | AA63: 0.39 | AB63: 2.9 | AC63: 2.1
A64: 58 | B64: GC 4500 ROOF | C64: Roof | D64: TX | E64: Gibbons Creek mine | F64: 12 | G64: 1 | H64: 2410 | I64: 50000 | J64: - | K64: 1960 | L64: 34 | M64: 99 | N64: 79 | O64: 3.6 | P64: 50 | Q64: 44 | R64: 12.9 | S64: 2 | T64: 5.4 | U64: 79.6 | V64: 12.1 | W64: 4.2 | X64: 0.67 | Y64: 638 | Z64: 2.6 | AA64: 0.87 | AB64: 1.2 | AC64: 2
A65: 59 | B65: GC-4500.1 | C65: Lignite | D65: TX | E65: Gibbons Creek mine | F65: 31.4 | G65: 2.3 | H65: 3120 | I65: 74400 | J65: 133 | K65: 3900 | L65: 84 | M65: 35 | N65: 61 | O65: 5.4 | P65: 12 | Q65: 40 | R65: 29.8 | S65: 8 | T65: 12.2 | U65: 231 | V65: 24.6 | W65: 4.2 | X65: 1.39 | Y65: 894 | Z65: 6.6 | AA65: 1.76 | AB65: 2.5 | AC65: 17.6
A66: 60 | B66: GC-4500.2 | C66: Lignite | D66: TX | E66: Gibbons Creek mine | F66: 15.2 | G66: 4.6 | H66: 1060 | I66: 52200 | J66: 67 | K66: 1920 | L66: 44 | M66: 18 | N66: 26 | O66: 21.3 | P66: 27 | Q66: 22 | R66: 52.6 | S66: 28 | T66: 9.7 | U66: 258 | V66: 32.9 | W66: 8.2 | X66: 1.06 | Y66: 316 | Z66: 8.3 | AA66: 1.5 | AB66: 7.9 | AC66: 35.2
A67: 61 | B67: GC-4500.3 | C67: Lignite | D67: TX | E67: Gibbons Creek mine | F67: 21.6 | G67: 2.4 | H67: 845 | I67: 57700 | J67: 96 | K67: 2440 | L67: 42 | M67: 22 | N67: 27 | O67: 8.3 | P67: 11 | Q67: 14 | R67: 37 | S67: 28 | T67: 17.3 | U67: 201 | V67: 19.8 | W67: 6.3 | X67: 1.2 | Y67: 801 | Z67: 6.2 | AA67: 1.57 | AB67: 11.7 | AC67: 7.8
A68: 62 | B68: GC-4500 - P1 Channel | C68: Parting | D68: TX | E68: Gibbons Creek mine | F68: 41.2 | G68: 1.4 | H68: 5030 | I68: 125000 | J68: 140 | K68: 4130 | L68: 99 | M68: 29 | N68: 79 | O68: 4.8 | P68: 9 | Q68: 59 | R68: 40.7 | S68: 4 | T68: 3.2 | U68: 145 | V68: 34.1 | W68: 3.8 | X68: 1.04 | Y68: 110 | Z68: 5.8 | AA68: 3.23 | AB68: 3.9 | AC68: 2.8
A69: 63 | B69: GC-3500.1 | C69: Lignite | D69: TX | E69: Gibbons Creek mine | F69: 20.5 | G69: 7.4 | H69: 519 | I69: 25800 | J69: 29 | K69: 1000 | L69: 23 | M69: 8 | N69: 44 | O69: 7.1 | P69: 18 | Q69: 46 | R69: 15 | S69: 9 | T69: 7.4 | U69: 78.2 | V69: 8.2 | W69: 2.4 | X69: 0.55 | Y69: 91 | Z69: 2.4 | AA69: 0.6 | AB69: 2.8 | AC69: 2.6
A70: 64 | B70: GC 3500.2 | C70: Parting | D70: TX | E70: Gibbons Creek mine | F70: 34.9 | G70: 7.7 | H70: 361 | I70: 25500 | J70: - | K70: 1150 | L70: 24 | M70: 10 | N70: 46 | O70: 3.6 | P70: 14 | Q70: 40 | R70: 17.3 | S70: 5 | T70: 5.5 | U70: 75.7 | V70: 9 | W70: 2.6 | X70: 0.48 | Y70: 46 | Z70: 2.6 | AA70: 0.8 | AB70: 1.7 | AC70: 2.9
A71: 65 | B71: GC-3500.3 | C71: Lignite | D71: TX | E71: Gibbons Creek mine | F71: 7.3 | G71: 4 | H71: 380 | I71: 15000 | J71: <10 | K71: 522 | L71: 18 | M71: 4 | N71: 56 | O71: 5.4 | P71: 8 | Q71: 19 | R71: 8 | S71: 13 | T71: 7.2 | U71: 31.8 | V71: 3.5 | W71: 2.4 | X71: 0.47 | Y71: 64 | Z71: 1 | AA71: 0.23 | AB71: 4.7 | AC71: 2.1
A72: 66 | B72: GC 3500.4 | C72: Parting | D72: TX | E72: Gibbons Creek mine | F72: 7.1 | G72: 4.3 | H72: 355 | I72: 14500 | J72: - | K72: 550 | L72: 18 | M72: 8 | N72: 56 | O72: 8.1 | P72: 10 | Q72: 23 | R72: 8.6 | S72: 14 | T72: 7.3 | U72: 30.7 | V72: 3.9 | W72: 2.3 | X72: 0.48 | Y72: 33 | Z72: 1 | AA72: 0.24 | AB72: 4.9 | AC72: 2.1
A73: 67 | B73: GC-3500.5 | C73: Lignite | D73: TX | E73: Gibbons Creek mine | F73: 26.8 | G73: 3.7 | H73: 1510 | I73: 68400 | J73: 44 | K73: 1500 | L73: 21 | M73: 12 | N73: 98 | O73: 4.6 | P73: 9 | Q73: 50 | R73: 19.9 | S73: 2 | T73: 7.1 | U73: 137 | V73: 16 | W73: 2.8 | X73: 0.79 | Y73: 182 | Z73: 5.2 | AA73: 2.18 | AB73: 1.2 | AC73: 11.6
A74: 68 | B74: GC-3500-P1 | C74: Parting | D74: TX | E74: Gibbons Creek mine | F74: 126 | G74: 4.5 | H74: 911 | I74: 104000 | J74: 78 | K74: 1680 | L74: 10 | M74: 4 | N74: 62 | O74: 4.2 | P74: 11 | Q74: 34 | R74: 33.6 | S74: 4 | T74: 3.6 | U74: 73.6 | V74: 4.3 | W74: 1.1 | X74: 0.86 | Y74: 210 | Z74: 3 | AA74: 1.47 | AB74: 1 | AC74: 2
A75: 69 | B75: SM-2-A1 | C75: Lignite | D75: TX | E75: San Miguel mine | F75: 19.2 | G75: 8.8 | H75: 855 | I75: 28200 | J75: 17 | K75: 1140 | L75: 33 | M75: 11 | N75: 104 | O75: 2.1 | P75: 4 | Q75: 37 | R75: 10.5 | S75: 25 | T75: 8.1 | U75: 230 | V75: 20.8 | W75: 3 | X75: 1.64 | Y75: 691 | Z75: 4.8 | AA75: 0.62 | AB75: 5.3 | AC75: 4.4
A76: 70 | B76: SM-2-A2 | C76: Lignite | D76: TX | E76: San Miguel mine | F76: 23 | G76: 6.2 | H76: 898 | I76: 22800 | J76: 13 | K76: 1430 | L76: 43 | M76: 17 | N76: 131 | O76: 1.5 | P76: 5 | Q76: 16 | R76: 13.1 | S76: 4 | T76: 7.5 | U76: 202 | V76: 9.2 | W76: 2.9 | X76: 1.78 | Y76: 507 | Z76: 5.6 | AA76: 0.61 | AB76: 3.6 | AC76: 6.3
A77: 71 | B77: SM-2-B1 | C77: Lignite | D77: TX | E77: San Miguel mine | F77: 14 | G77: 2.5 | H77: 738 | I77: 20500 | J77: 25 | K77: 1040 | L77: 26 | M77: 10 | N77: 94 | O77: 2.8 | P77: 4 | Q77: 18 | R77: 7 | S77: 2 | T77: 6.1 | U77: 110 | V77: 5 | W77: 1.2 | X77: 1.16 | Y77: 462 | Z77: 3 | AA77: 0.41 | AB77: 3.5 | AC77: 2.9
A78: 72 | B78: SM-2-B2 | C78: Lignite | D78: TX | E78: San Miguel mine | F78: 11.8 | G78: 3 | H78: 679 | I78: 14100 | J78: 13 | K78: 957 | L78: 32 | M78: 9 | N78: 108 | O78: 1.7 | P78: 4 | Q78: 25 | R78: 6.1 | S78: 2 | T78: 7.9 | U78: 229 | V78: 5 | W78: 1.2 | X78: 1.06 | Y78: 288 | Z78: 4.9 | AA78: 0.35 | AB78: 2.6 | AC78: 3.3
A79: 73 | B79: SM-2-C1 | C79: Lignite | D79: TX | E79: San Miguel mine | F79: 10.7 | G79: 3.4 | H79: 666 | I79: 13900 | J79: 27 | K79: 717 | L79: 28 | M79: 8 | N79: 134 | O79: 2.4 | P79: 5 | Q79: 19 | R79: 6.5 | S79: 2 | T79: 18.7 | U79: 171 | V79: 14 | W79: 1.1 | X79: 0.8 | Y79: 269 | Z79: 4.5 | AA79: 1.1 | AB79: 1.8 | AC79: 4.7
A80: 74 | B80: SM-2-C2 | C80: Lignite | D80: TX | E80: San Miguel mine | F80: 8.4 | G80: 3.9 | H80: 681 | I80: 15000 | J80: 28 | K80: 1030 | L80: 21 | M80: 8 | N80: 117 | O80: 1.2 | P80: 4 | Q80: 19 | R80: 7 | S80: 3 | T80: 6.6 | U80: 154 | V80: 11.3 | W80: 1.1 | X80: 0.47 | Y80: 267 | Z80: 3.8 | AA80: 0.65 | AB80: 1.4 | AC80: 2.8
A81: 75 | B81: SM-2-D1 | C81: Lignite | D81: TX | E81: San Miguel mine | F81: 5.5 | G81: 2.7 | H81: 642 | I81: 11300 | J81: 23 | K81: 678 | L81: 15 | M81: 6 | N81: 110 | O81: 1.6 | P81: 3 | Q81: 17 | R81: 3.6 | S81: 2 | T81: 4.8 | U81: 85.2 | V81: 4.1 | W81: 0.7 | X81: 0.45 | Y81: 237 | Z81: 2.3 | AA81: 0.33 | AB81: 2.2 | AC81: 1.7
A82: 76 | B82: SM-2-D2 | C82: Lignite | D82: TX | E82: San Miguel mine | F82: 15.6 | G82: 3.1 | H82: 1460 | I82: 23700 | J82: 28 | K82: 1450 | L82: 31 | M82: 12 | N82: 130 | O82: 1.5 | P82: 6 | Q82: 11 | R82: 7.6 | S82: 2 | T82: 13.3 | U82: 94.9 | V82: 6.6 | W82: 1.3 | X82: 0.56 | Y82: 226 | Z82: 2.6 | AA82: 0.59 | AB82: 1 | AC82: 2
A83: 77 | B83: SM1 C.1 | C83: Lignite | D83: TX | E83: San Miguel mine | F83: 8.7 | G83: 3 | H83: 747 | I83: 16000 | J83: - | K83: 962 | L83: 41 | M83: 16 | N83: 124 | O83: 2.3 | P83: 7 | Q83: 34 | R83: 8.8 | S83: 2 | T83: 7.4 | U83: 230 | V83: 24.8 | W83: 2.8 | X83: 1.11 | Y83: 195 | Z83: 5.9 | AA83: 2.19 | AB83: 1.8 | AC83: 5.3
A84: 78 | B84: SM1 C.2 | C84: Lignite | D84: TX | E84: San Miguel mine | F84: 7.2 | G84: 3.1 | H84: 792 | I84: 18000 | J84: - | K84: 1070 | L84: 21 | M84: 9 | N84: 129 | O84: 0.9 | P84: 5 | Q84: 11 | R84: 8.1 | S84: 2 | T84: 7.7 | U84: 154 | V84: 14.4 | W84: 1.7 | X84: 0.82 | Y84: 79 | Z84: 4.1 | AA84: 0.77 | AB84: 1.4 | AC84: 3.6
A85: 79 | B85: SM1 D.1 | C85: Lignite | D85: TX | E85: San Miguel mine | F85: 4.1 | G85: 2.4 | H85: 784 | I85: 14900 | J85: - | K85: 748 | L85: 18 | M85: 12 | N85: 144 | O85: 1.2 | P85: 6 | Q85: 21 | R85: 4.4 | S85: 2 | T85: 14.2 | U85: 76.7 | V85: 5.5 | W85: 1 | X85: 0.53 | Y85: 227 | Z85: 2.1 | AA85: 0.35 | AB85: 2.1 | AC85: 1.6
A86: 80 | B86: SM-B1 | C86: Lignite | D86: TX | E86: San Miguel mine | F86: 48.7 | G86: 3 | H86: 1910 | I86: 28600 | J86: 37 | K86: 4160 | L86: 94 | M86: 25 | N86: 150 | O86: 1.6 | P86: 4 | Q86: 20 | R86: 22.3 | S86: 4 | T86: 11.2 | U86: 333 | V86: 18.2 | W86: 6.5 | X86: 2.23 | Y86: 362 | Z86: 8.2 | AA86: 1.17 | AB86: 4.1 | AC86: 6.9
A87: 81 | B87: SM-B2T | C87: Lignite | D87: TX | E87: San Miguel mine | F87: 33.7 | G87: 1.6 | H87: 1340 | I87: 22200 | J87: 15 | K87: 815 | L87: 24 | M87: 8 | N87: 108 | O87: 2.5 | P87: 3 | Q87: 20 | R87: 5.6 | S87: 3 | T87: 8.2 | U87: 109 | V87: 4.6 | W87: 1.2 | X87: 1.03 | Y87: 472 | Z87: 3 | AA87: 0.3 | AB87: 3.2 | AC87: 2.4
A88: 82 | B88: SM-B2B | C88: Lignite | D88: TX | E88: San Miguel mine | F88: 66.7 | G88: 0.9 | H88: 2250 | I88: 89900 | J88: 59 | K88: 3730 | L88: 34 | M88: 10 | N88: 49 | O88: 1.3 | P88: 4 | Q88: 25 | R88: 25 | S88: 2 | T88: 5.3 | U88: 146 | V88: 20.4 | W88: 3.5 | X88: 1.06 | Y88: 1290 | Z88: 5.2 | AA88: 1.75 | AB88: 2 | AC88: 4
A89: 83 | B89: SM-C1T | C89: Lignite | D89: TX | E89: San Miguel mine | F89: 7.2 | G89: 4.1 | H89: 1240 | I89: 16200 | J89: 34 | K89: 892 | L89: 17 | M89: 5 | N89: 123 | O89: 1 | P89: 2 | Q89: 45 | R89: 7.2 | S89: 2 | T89: 11.2 | U89: 118 | V89: 19.5 | W89: 1.6 | X89: 0.42 | Y89: 318 | Z89: 3.6 | AA89: 2.42 | AB89: 1.6 | AC89: 3.1
A90: 84 | B90: SM-C2B | C90: Lignite | D90: TX | E90: San Miguel mine | F90: 13.4 | G90: 4.3 | H90: 1660 | I90: 26900 | J90: 47 | K90: 1480 | L90: 20 | M90: 7 | N90: 107 | O90: 1.2 | P90: 4 | Q90: 14 | R90: 10.3 | S90: 3 | T90: 10.1 | U90: 238 | V90: 11 | W90: 1.4 | X90: 0.51 | Y90: 574 | Z90: 5.3 | AA90: 0.68 | AB90: 1.4 | AC90: 3.2
A91: 85 | B91: SM-D1 | C91: Lignite | D91: TX | E91: San Miguel mine | F91: 7 | G91: 4.1 | H91: 1520 | I91: 17200 | J91: 33 | K91: 1160 | L91: 31 | M91: 9 | N91: 126 | O91: 1.7 | P91: 6 | Q91: 21 | R91: 11.6 | S91: 2 | T91: 11.2 | U91: 243 | V91: 16.2 | W91: 2.6 | X91: 0.75 | Y91: 501 | Z91: 6.1 | AA91: 0.8 | AB91: 1.4 | AC91: 4.6
A92: 86 | B92: SM1 P2 | C92: Parting | D92: TX | E92: San Miguel mine | F92: 105 | G92: 0.8 | H92: 1810 | I92: 110000 | J92: - | K92: 4710 | L92: 38 | M92: 18 | N92: 51 | O92: 1.2 | P92: 9 | Q92: 44 | R92: 32.3 | S92: 2 | T92: 5.7 | U92: 126 | V92: 23.9 | W92: 3.8 | X92: 1.2 | Y92: 519 | Z92: 4.5 | AA92: 2 | AB92: 2.5 | AC92: 3.2
A93: 87 | B93: SM1 P3.1 | C93: Parting | D93: TX | E93: San Miguel mine | F93: 33.8 | G93: 1.1 | H93: 2890 | I93: 96600 | J93: - | K93: 3370 | L93: 20 | M93: 13 | N93: 69 | O93: 0.7 | P93: 6 | Q93: 57 | R93: 31.7 | S93: 1 | T93: 12.9 | U93: 177 | V93: 27.2 | W93: 3.7 | X93: 1.23 | Y93: 338 | Z93: 6.7 | AA93: 2.03 | AB93: 2 | AC93: 3.1
A94: 88 | B94: SM1 P3.2 | C94: Parting | D94: TX | E94: San Miguel mine | F94: 30 | G94: 0.8 | H94: 4960 | I94: 118000 | J94: - | K94: 2320 | L94: 22 | M94: 12 | N94: 121 | O94: 3 | P94: 7 | Q94: 196 | R94: 38.5 | S94: 1 | T94: 25.1 | U94: 376 | V94: 20 | W94: 5.2 | X94: 2.42 | Y94: 558 | Z94: 12 | AA94: 2.32 | AB94: 1.4 | AC94: 3.3
A95: 89 | B95: SM1 P3.3 | C95: Parting | D95: TX | E95: San Miguel mine | F95: 42.9 | G95: 1.4 | H95: 2030 | I95: 81900 | J95: - | K95: 3380 | L95: 33 | M95: 20 | N95: 63 | O95: 2.1 | P95: 9 | Q95: 27 | R95: 26.8 | S95: 1 | T95: 4.2 | U95: 195 | V95: 26.6 | W95: 5 | X95: 0.68 | Y95: 737 | Z95: 5.6 | AA95: 2.1 | AB95: 1.8 | AC95: 4.2
A96: 90 | B96: 124833 | C96: Lignite | D96: TX | E96: San Miguel mine | F96: - | G96: - | H96: - | I96: - | J96: - | K96: - | L96: - | M96: - | N96: - | O96: - | P96: - | Q96: - | R96: - | S96: - | T96: - | U96: - | V96: - | W96: - | X96: - | Y96: - | Z96: - | AA96: - | AB96: - | AC96: -
A97: 91 | B97: 124834 | C97: Lignite | D97: TX | E97: San Miguel mine | F97: - | G97: - | H97: - | I97: - | J97: - | K97: - | L97: - | M97: - | N97: - | O97: - | P97: - | Q97: - | R97: - | S97: - | T97: - | U97: - | V97: - | W97: - | X97: - | Y97: - | Z97: - | AA97: - | AB97: - | AC97: -
A98: 92 | B98: 124835 | C98: Lignite | D98: TX | E98: San Miguel mine | F98: - | G98: - | H98: - | I98: - | J98: - | K98: - | L98: - | M98: - | N98: - | O98: - | P98: - | Q98: - | R98: - | S98: - | T98: - | U98: - | V98: - | W98: - | X98: - | Y98: - | Z98: - | AA98: - | AB98: - | AC98: -
A99: 93 | B99: 124836 | C99: Lignite | D99: TX | E99: San Miguel mine | F99: - | G99: - | H99: - | I99: - | J99: - | K99: - | L99: - | M99: - | N99: - | O99: - | P99: - | Q99: - | R99: - | S99: - | T99: - | U99: - | V99: - | W99: - | X99: - | Y99: - | Z99: - | AA99: - | AB99: - | AC99: -
A100: 94 | B100: 124837 | C100: Lignite | D100: TX | E100: San Miguel mine | F100: - | G100: - | H100: - | I100: - | J100: - | K100: - | L100: - | M100: - | N100: - | O100: - | P100: - | Q100: - | R100: - | S100: - | T100: - | U100: - | V100: - | W100: - | X100: - | Y100: - | Z100: - | AA100: - | AB100: - | AC100: -
A101: 95 | B101: 124838 | C101: Lignite | D101: TX | E101: San Miguel mine | F101: - | G101: - | H101: - | I101: - | J101: - | K101: - | L101: - | M101: - | N101: - | O101: - | P101: - | Q101: - | R101: - | S101: - | T101: - | U101: - | V101: - | W101: - | X101: - | Y101: - | Z101: - | AA101: - | AB101: - | AC101: -
...

Sheet Table S3c
A1: Table S3c. | B1: Laboratory number; field number; and available as received moisture, dry ash, sulfur, and calorific value (CV) for samples analyzed in this study.
B2: (British thermal units: BTU; no data, -; dl, below detection limit.) Data sources: + USGS Energy Resources Program (2014, 2025)18,19; SM samples, Warwick et al. (1996)16;
B3: ST samples, Warwick and Hook (1995)17; WC samples, Crowley et al. (1997)20; samples 124331 to 124344, 124833 to 124844, and 124915 to 124930, Zygarlicke et al. (2019)10.
F5: As Received | G5: Dry
F6: Moisture | G6: Ash | H6: Sulfur | I6: CV | J6: CV | K6: USGS | L6: %; dry | M6: %; ash basis+
A7: Lab Number | B7: Sample ID | C7: Sample | D7: State | E7: Location | F7: % | G7: % | H7: % | I7: Btu/lb | J7: MJ/kg | K7: Lab No.+ | L7: Ash+ | M7: Na2O | N7: MgO | O7: Al2O3 | P7: SiO2 | Q7: P2O5 | R7: SO3 | S7: K2O | T7: CaO | U7: TiO2 | V7: FeTO3
A8: 202202464-005 | B8: AL-CR-SCH-1 | C8: Lignite | D8: AL | E8: Shell SCH. 24-A well | F8: - | G8: - | H8: - | I8: - | J8: - | K8: - | L8: - | M8: - | N8: - | O8: - | P8: - | Q8: - | R8: - | S8: - | T8: - | U8: - | V8: -
A9: 202202464-002 | B9: AL-WI-GCS-6-12 | C9: Lignite | D9: AL | E9: Gravel Creek sand pit | F9: - | G9: - | H9: - | I9: - | J9: - | K9: - | L9: - | M9: - | N9: - | O9: - | P9: - | Q9: - | R9: - | S9: - | T9: - | U9: - | V9: -
A10: 202300618-004 | B10: AL-WI-GCS-11 | C10: Lignite | D10: AL | E10: Gravel Creek sand pit | F10: - | G10: - | H10: - | I10: - | J10: - | K10: - | L10: - | M10: - | N10: - | O10: - | P10: - | Q10: - | R10: - | S10: - | T10: - | U10: - | V10: -
A11: 202300618-001 | B11: AL-CL-US43-3 | C11: Lignite | D11: AL | E11: U.S. Highway 43 | F11: - | G11: - | H11: - | I11: - | J11: - | K11: - | L11: - | M11: - | N11: - | O11: - | P11: - | Q11: - | R11: - | S11: - | T11: - | U11: - | V11: -
A12: 202202464-004 | B12: AL-CL-US43-6 | C12: Lignite | D12: AL | E12: U.S. Highway 43 | F12: - | G12: - | H12: - | I12: - | J12: - | K12: - | L12: - | M12: - | N12: - | O12: - | P12: - | Q12: - | R12: - | S12: - | T12: - | U12: - | V12: -
A13: 202300618-003 | B13: AL-CL-US43-8 | C13: Lignite | D13: AL | E13: U.S. Highway 43 | F13: - | G13: - | H13: - | I13: - | J13: - | K13: - | L13: - | M13: - | N13: - | O13: - | P13: - | Q13: - | R13: - | S13: - | T13: - | U13: - | V13: -
A14: 202202464-003 | B14: AL-CL-US43-11 | C14: Lignite | D14: AL | E14: U.S. Highway 43 | F14: - | G14: - | H14: - | I14: - | J14: - | K14: - | L14: - | M14: - | N14: - | O14: - | P14: - | Q14: - | R14: - | S14: - | T14: - | U14: - | V14: -
A15: 202202464-001 | B15: AL-CH-KCSC-1-2-3 | C15: Lignite | D15: AL | E15: Outcrop | F15: - | G15: - | H15: - | I15: - | J15: - | K15: - | L15: - | M15: - | N15: - | O15: - | P15: - | Q15: - | R15: - | S15: - | T15: - | U15: - | V15: -
A16: 202202464-007 | B16: AL-CH-OSM1-245-247 | C16: Lignite | D16: AL | E16: Outcrop | F16: - | G16: - | H16: - | I16: - | J16: - | K16: - | L16: - | M16: - | N16: - | O16: - | P16: - | Q16: - | R16: - | S16: - | T16: - | U16: - | V16: -
A17: 202202464-008 | B17: AL-CH-OSM1-242.8-244.5 | C17: Lignite | D17: AL | E17: Outcrop | F17: - | G17: - | H17: - | I17: - | J17: - | K17: - | L17: - | M17: - | N17: - | O17: - | P17: - | Q17: - | R17: - | S17: - | T17: - | U17: - | V17: -
A18: 202300618-002 | B18: AL-CH-OSM1-249.0 | C18: Lignite | D18: AL | E18: Outcrop | F18: - | G18: - | H18: - | I18: - | J18: - | K18: - | L18: - | M18: - | N18: - | O18: - | P18: - | Q18: - | R18: - | S18: - | T18: - | U18: - | V18: -
... A22: 202301262-009 | B22: MALV | C22: Lignite | D22: AR | E22: Malvern | F22: - | G22: - | H22: - | I22: - | J22: - | K22: - | L22: - | M22: - | N22: - | O22: - | P22: - | Q22: - | R22: - | S22: - | T22: - | U22: - | V22: -
A23: 202302281-007 | B23: CDM-CP + | C23: Lignite | D23: AR | E23: Camden mine | F23: 40.69 | G23: 39.79 | H23: 0.65 | I23: 6834 | J23: 15.895884 | K23: - | L23: - | M23: - | N23: - | O23: - | P23: - | Q23: - | R23: - | S23: - | T23: - | U23: - | V23: -
A24: 202302281-001 | B24: OX-1D + | C24: Lignite | D24: LA | E24: Oxbow mine | F24: 30.1 | G24: 12.8 | H24: 1.05 | I24: 10938 | J24: 25.441788 | K24: D565086 | L24: 12.6 | M24: 34 | O24: 7.9 | P24: 2.3 | Q24: 10 | R24: 0.56 | S24: 0.98 | T24: 0.04 | V24: 0.26
A25: 202302281-002 | B25: OX-2A + | C25: Lignite | D25: LA | E25: Oxbow mine | F25: 34.3 | G25: 16.26 | H25: 0.78 | I25: 10682 | J25: 24.846332 | K25: D565087 | L25: 16 | M25: 40 | O25: 7.7 | P25: 2.1 | Q25: 8.9 | R25: 0.5 | S25: 0.89 | T25: 0.04 | V25: 0.47
A26: 202302281-003 | B26: OX-P2 + | C26: Parting | D26: LA | E26: Oxbow mine | F26: - | G26: - | H26: - | I26: - | J26: - | K26: - | L26: - | M26: - | N26: - | O26: - | P26: - | Q26: - | R26: - | S26: - | T26: - | U26: - | V26: -
A27: 202201316-010 | B27: DH2-1A + | C27: Lignite | D27: LA | E27: Dolet Hills mine | F27: 37.18 | G27: 9.88 | H27: 0.92 | I27: 11607 | J27: 26.997882 | K27: D565074 | L27: 10 | M27: 0.49 | N27: 3.1 | O27: 26 | P27: 56 | Q27: 0.09 | R27: - | S27: 1.9 | T27: 8.5 | U27: 1.4 | V27: 8.3
A28: 202201316-011 | B28: DH2-1C + | C28: Lignite | D28: LA | E28: Dolet Hills mine | F28: 32.67 | G28: 12.5 | H28: 1.01 | I28: 11161 | J28: 25.960486 | K28: D565076 | L28: 12.2 | M28: 0.39 | N28: 1.8 | O28: 21 | P28: 41 | Q28: 0.03 | R28: - | S28: 0.64 | T28: 6.2 | U28: 0.78 | V28: 8.1
A29: 202201316-012 | B29: DH2-3A + | C29: Lignite | D29: LA | E29: Dolet Hills mine | F29: 31.29 | G29: 11.11 | H29: 0.84 | I29: 11342 | J29: 26.381492 | K29: D565078 | L29: 11 | M29: 0.33 | N29: 2.1 | O29: 18 | P29: 42 | Q29: 0.06 | R29: - | S29: 0.42 | T29: 7.7 | U29: 1.3 | V29: 7.2
A30: 202201316-013 | B30: DH2-3C + | C30: Lignite | D30: LA | E30: Dolet Hills mine | F30: 31.31 | G30: 11.48 | H30: 2.68 | I30: 11271 | J30: 26.216346 | K30: D565080 | L30: 11.5 | M30: 0.28 | N30: 1.7 | O30: 17 | P30: 27 | Q30: 0.04 | R30: - | S30: 0.19 | T30: 6.4 | U30: 0.88 | V30: 23
A31: 202201316-014 | B31: DH2-4A + | C31: Lignite | D31: LA | E31: Dolet Hills mine | F31: 27.24 | G31: 16.82 | H31: 2.47 | I31: 10542 | J31: 24.520692 | K31: D565082 | L31: 16.3 | M31: 0.34 | N31: 1.2 | O31: 24 | P31: 38 | Q31: 0.03 | R31: - | S31: 0.41 | T31: 4.1 | U31: 1.1 | V31: 14
A32: 202201316-015 | B32: DH BLUE-P1 | C32: Parting | D32: LA | E32: Dolet Hills mine | F32: - | G32: - | H32: - | I32: - | J32: - | K32: - | L32: - | M32: - | N32: - | O32: - | P32: - | Q32: - | R32: - | S32: - | T32: - | U32: - | V32: -
A33: 202201316-009 | B33: MS-02-H + | C33: Lignite | D33: MS | E33: Red Hills mine | F33: 45.8 | G33: 17.22 | H33: 0.75 | I33: 10256 | J33: 23.855456 | K33: E206906 | L33: 14.4 | M33: 0.03 | N33: 3 | O33: 19.2 | P33: 37.2 | Q33: 0.1 | R33: 9.6 | S33: 0.59 | T33: 14.7 | U33: 1.1 | V33: 6.3
A34: 202201316-008 | B34: MS-02-G + | C34: Lignite | D34: MS | E34: Red Hills mine | F34: 43.88 | G34: 28.86 | H34: 0.9 | I34: 8535 | J34: 19.85241 | K34: E206905 | L34: 26.1 | M34: 0.06 | N34: 2.2 | O34: 24 | P34: 42.5 | Q34: 0.05 | R34: 7.7 | S34: 1 | T34: 10.2 | U34: 1.2 | V34: 4.1
A35: 202201316-007 | B35: MS-02-F + | C35: Lignite | D35: MS | E35: Red Hills mine | F35: 43.79 | G35: 25.91 | H35: 0.92 | I35: 9011 | J35: 20.959586 | K35: E206901 | L35: 21.4 | M35: 0.14 | N35: 2.4 | O35: 22.3 | P35: 43.1 | Q35: 0.08 | R35: 6.9 | S35: 0.96 | T35: 11.8 | U35: 1 | V35: 2.8
A36: 202201316-005 | B36: MS-02-E + | C36: Lignite | D36: MS | E36: Red Hills mine | F36: 43.08 | G36: 18.57 | H36: 0.93 | I36: 10100 | J36: 23.4926 | K36: E206900 | L36: 16.2 | M36: 0.11 | N36: 2.5 | O36: 10 | P36: 45.6 | Q36: 0.04 | R36: 10.6 | S36: 0.39 | T36: 16.4 | U36: 1.1 | V36: 4.3
A37: 202201316-001 | B37: MS-08-C3.4 + | C37: Lignite | D37: MS | E37: Red Hills mine
A38: 202201316-003 | B38: MS-02-DP + | C38: Lignite | D38: MS | E38: Red Hills mine | F38: - | G38: - | H38: - | I38: - | J38: - | K38: - | L38: - | M38: - | N38: - | O38: - | P38: - | Q38: - | R38: - | S38: - | T38: - | U38: - | V38: -
A39: 202201316-004 | B39: MS-02-DU + | C39: Lignite | D39: MS | E39: Red Hills mine | F39: 39.49 | G39: 35.02 | H39: 0.65 | I39: 7762 | J39: 18.054412 | K39: E206904 | L39: 30.7 | M39: 0.12 | N39: 1.8 | O39: 26.4 | P39: 45 | Q39: 0.09 | R39: 4.1 | S39: 1.1 | T39: 7.7 | U39: 1.2 | V39: 2.9
A40: 202302281-005 | B40: PW-94-29-31-CP + | C40: Lignite | D40: KY | E40: Sims clay pit | F40: 42.95 | G40: 32.31 | H40: 1.43 | I40: 8131 | J40: 18.912706 | K40: D584649, D584650, D584651 | L40: 29 | M40: 48 | O40: 6.4 | P40: 0.92 | Q40: 1.8 | R40: 0.14 | S40: 1.4 | T40: 0.09 | V40: 0.61
A41: 202302281-006 | B41: PW-94-16-18-CP + | C41: Lignite | D41: TN | E41: Swaim clay pit | F41: 42.57 | G41: 29.21 | H41: 0.91 | I41: 8828 | J41: 20.533928 | K41: - | L41: - | M41: - | N41: - | O41: - | P41: - | Q41: - | R41: - | S41: - | T41: - | U41: - | V41: -
A42: 202201316-016 | B42: SBN-1A + | C42: Lignite | D42: TX | E42: Sabine mine | F42: 34.88 | G42: 11.58 | H42: 1.49 | I42: 11404 | J42: 26.525704 | K42: E000285 | L42: 11 | M42: 0.95 | N42: 4.3 | O42: 12 | P42: 21 | Q42: 0.03 | S42: 0.35 | T42: 18 | U42: 0.88 | V42: 6.8
A43: 202201316-017 | B43: SBN-1C + | C43: Lignite | D43: TX | E43: Sabine mine | F43: 33.69 | G43: 16.9 | H43: 1.75 | I43: 10614 | J43: 24.688164 | K43: E000287 | L43: 16.3 | M43: 0.46 | N43: 2.8 | O43: 14 | P43: 37 | Q43: 0.03 | S43: 0.62 | T43: 12 | U43: 0.98 | V43: 7.5
B44: 124331 | C44: Lignite | D44: TX | E44: Sabine mine | F44: 36.535249 | G44: 17.736738 | H44: - | I44: - | J44: - | K44: - | L44: - | M44: - | N44: - | O44: - | P44: - | Q44: - | R44: - | S44: - | T44: - | U44: - | V44: -
B45: 124332 | C45: Lignite | D45: TX | E45: Sabine mine | F45: 33.810396 | G45: 22.186147 | H45: - | I45: - | J45: - | K45: - | L45: - | M45: - | N45: - | O45: - | P45: - | Q45: - | R45: - | S45: - | T45: - | U45: - | V45: -
B46: 124333 | C46: Lignite | D46: TX | E46: Sabine mine | F46: 33.789875 | G46: 19.38533 | H46: - | I46: - | J46: - | K46: - | L46: - | M46: - | N46: - | O46: - | P46: - | Q46: - | R46: - | S46: - | T46: - | U46: - | V46: -
B47: 124338 | C47: Lignite | D47: TX | E47: Sabine mine | F47: 34.23909 | G47: 14.410253 | H47: - | I47: - | J47: - | K47: - | L47: - | M47: - | N47: - | O47: - | P47: - | Q47: - | R47: - | S47: - | T47: - | U47: - | V47: -
B48: 124339 | C48: Lignite | D48: TX | E48: Sabine mine | F48: 35.871796 | G48: 11.712387 | H48: - | I48: - | J48: - | K48: - | L48: - | M48: - | N48: - | O48: - | P48: - | Q48: - | R48: - | S48: - | T48: - | U48: - | V48: -
B49: 124340 | C49: Lignite | D49: TX | E49: Sabine mine | F49: 35.571344 | G49: 15.365301 | H49: - | I49: - | J49: - | K49: - | L49: - | M49: - | N49: - | O49: - | P49: - | Q49: - | R49: - | S49: - | T49: - | U49: - | V49: -
B50: 124341 | C50: Lignite | D50: TX | E50: Sabine mine | F50: 33.316326 | G50: 16.483329 | H50: - | I50: - | J50: - | K50: - | L50: - | M50: - | N50: - | O50: - | P50: - | Q50: - | R50: - | S50: - | T50: - | U50: - | V50: -
B51: 124342 | C51: Lignite | D51: TX | E51: Sabine mine | F51: 33.709417 | G51: 14.922307 | H51: - | I51: - | J51: - | K51: - | L51: - | M51: - | N51: - | O51: - | P51: - | Q51: - | R51: - | S51: - | T51: - | U51: - | V51: -
B52: 124343 | C52: Lignite | D52: TX | E52: Sabine mine | F52: 33.303594 | G52: 19.437786 | H52: - | I52: - | J52: - | K52: - | L52: - | M52: - | N52: - | O52: - | P52: - | Q52: - | R52: - | S52: - | T52: - | U52: - | V52: -
B53: 124344 | C53: Lignite | D53: TX | E53: Sabine mine | F53: 33.179428 | G53: 16.655907 | H53: - | I53: - | J53: - | K53: - | L53: - | M53: - | N53: - | O53: - | P53: - | Q53: - | R53: - | S53: - | T53: - | U53: - | V53: -
A54: 202302281-004 | B54: BB2-CP + | C54: Lignite | D54: TX | E54: Big Brown mine | F54: 28.08 | G54: 17.72 | H54: 0.74 | I54: 10574 | J54: 24.595124 | K54: D584656, D584657 | L54: 11 | M54: 43 | O54: 2.6 | P54: 2.4 | Q54: 14 | R54: 0.49 | S54: 1.8 | T54: 0.042 | V54: 0.29
A55: 202302281-008 | B55: JE-3-CP + | C55: Lignite | D55: TX | E55: Jewett mine | F55: 28.91 | G55: 27.59 | H55: 2.16 | I55: 6834 | J55: 15.895884 | K55: E002090, E002091 | L55: 25 | M55: 43 | O55: 10 | P55: 2.4 | Q55: 8.2 | R55: 0.18 | S55: 0.93 | T55: 0.032 | V55: 0.79
A56: 202302281-009 | B56: JE-4-CP + | C56: Lignite | D56: TX | E56: Jewett mine | F56: 29.97 | G56: 18.72 | H56: 3.22 | I56: 9388 | J56: 21.836488 | K56: E002092, E002093 | L56: 18 | M56: 34 | O56: 23 | P56: 2.1 | Q56: 8.6 | R56: 0.18 | S56: 0.9 | T56: 0.018 | V56: 0.52
A57: 202302281-010 | B57: JE-6-CP + | C57: Lignite | D57: TX | E57: Jewett mine | F57: 31.05 | G57: 15.94 | H57: 0.84 | I57: 10390 | J57: 24.16714 | K57: E002094, E002095, E002097, E002096 | L57: 15 | M57: 34 | O57: 2.7 | P57: 3.3 | Q57: 18 | R57: 0.25 | S57: 1.1 | T57: 0.015 | V57: 0.34
A58: 202201316-026 | B58: WC-A1.1 | C58: Lignite | D58: TX | E58: Walnut Creek mine | F58: 29.35 | G58: 32.61 | H58: 0.84 | I58: 8512 | J58: 19.798912 | K58: W258389 | L58: 29.96 | M58: 0.25 | N58: 1.1 | O58: 12 | P58: 75 | Q58: 0.04 | R58: 5.85 | S58: 1.5 | T58: 4.2 | U58: 1 | V58: 2.1
A59: 202201316-027 | B59: WC-A1.4 | C59: Lignite | D59: TX | E59: Walnut Creek mine | F59: 33.09 | G59: 8.85 | H59: 0.97 | I59: 11792 | J59: 27.428192 | K59: W258392 | L59: 8.4 | M59: 0.83 | N59: 2.8 | O59: 17 | P59: 24 | Q59: 0.03 | R59: 25.2 | S59: 0.14 | T59: 18 | U59: 1.1 | V59: 4.1
A60: 202201316-028 | B60: WC-A2.1 | C60: Lignite | D60: TX | E60: Walnut Creek mine | F60: 32.32 | G60: 11.35 | H60: 0.96 | I60: 11578 | J60: 26.930428 | K60: W258393 | L60: 10.8 | M60: 0.61 | N60: 2.3 | O60: 16 | P60: 38 | Q60: 0.04 | R60: 20.5 | S60: 0.14 | T60: 16 | U60: 1.7 | V60: 3
A61: 202201316-029 | B61: WC-A2.3 | C61: Lignite | D61: TX | E61: Walnut Creek mine | F61: 35.15 | G61: 16.54 | H61: 1.17 | I61: 10632 | J61: 24.730032 | K61: W258395 | L61: 15.24 | M61: 0.39 | N61: 1.9 | O61: 18 | P61: 50 | Q61: 0.07 | R61: 14.8 | S61: 0.63 | T61: 10 | U61: 1.5 | V61: 2.8
A62: 202202141-004 | B62: M128 CH1 + | C62: Lignite | D62: TX | E62: Gibbons Creek mine | F62: 8.61 | G62: 12.63 | H62: 2.44 | I62: 11086 | J62: 25.786036 | K62: - | L62: - | M62: - | N62: - | O62: - | P62: - | Q62: - | R62: - | S62: - | T62: - | U62: - | V62: -
A63: 202202141-005 | B63: M128 CH2 + | C63: Lignite | D63: TX | E63: Gibbons Creek mine | F63: 8.79 | G63: 17.59 | H63: 2.61 | I63: 10157 | J63: 23.625182 | K63: D537512 | L63: 17.8 | M63: 0.64 | N63: 2.1 | O63: 19 | P63: 45 | Q63: 0.03 | R63: 16.4 | S63: 0.62 | T63: 10 | U63: 1.4 | V63: 2.5
A64: 202202141-006 | B64: M128 CH3 + | C64: Lignite | D64: TX | E64: Gibbons Creek mine | F64: 6.38 | G64: 57.43 | H64: 4.52 | I64: 4578 | J64: 10.648428 | K64: D537513 | L64: 57 | M64: 0.49 | N64: 1.1 | O64: 20 | P64: 56 | Q64: 0.04 | R64: 3.45 | S64: 1.5 | T64: 1.7 | U64: 0.63 | V64: 8.9
A65: 202202141-007 | B65: M128 CH4 + | C65: Lignite | D65: TX | E65: Gibbons Creek mine | F65: 7.46 | G65: 26 | H65: 6.04 | I65: 8794 | J65: 20.454844 | K65: D537514 | L65: 24.7 | M65: 0.31 | N65: 1.3 | O65: 15 | P65: 45 | Q65: 0.02 | R65: 7.48 | S65: 0.51 | T65: 3.6 | U65: 0.84 | V65: 21
A66: 202202141-001 | B66: GC 4500 ROOF | C66: Roof | D66: TX | E66: Gibbons Creek mine | F66: - | G66: - | H66: - | I66: - | J66: - | K66: - | L66: - | M66: - | N66: - | O66: - | P66: - | Q66: - | R66: - | S66: - | T66: - | U66: - | V66: -
A67: 202201316-018 | B67: GC-4500.1 | C67: Lignite | D67: TX | E67: Gibbons Creek mine | F67: 42.49 | G67: 74.61 | H67: 0.57 | I67: 2126 | J67: 4.95 | K67: W258404 | L67: 71.88 | M67: 0.46 | N67: 0.82 | O67: 19 | P67: 72 | Q67: 0.05 | R67: 1.05 | S67: 1.3 | T67: 0.13 | U67: 0.94 | V67: 4.2
A68: 202201316-019 | B68: GC-4500.2 | C68: Lignite | D68: TX | E68: Gibbons Creek mine | F68: 59.42 | G68: 41 | H68: 1.37 | I68: 5188 | J68: 12.07 | K68: W258405 | L68: 38.96 | M68: 0.13 | N68: 0.58 | O68: 26 | P68: 56 | Q68: 0.03 | R68: 2.6 | S68: 0.37 | T68: 0.15 | U68: 0.82 | V68: 4
A69: 202201316-020 | B69: GC-4500.3 | C69: Lignite | D69: TX | E69: Gibbons Creek mine | F69: 61.63 | G69: 47.65 | H69: 0.94 | I69: 4492 | J69: 10.45 | K69: W258406 | L69: 44.96 | M69: 0.11 | N69: 0.33 | O69: 21 | P69: 57 | Q69: 0.05 | R69: 1.72 | S69: 0.33 | T69: 0.12 | U69: 0.94 | V69: 11
A70: 202201316-021 | B70: GC-4500 - P1 Channel | C70: Parting | D70: TX | E70: Gibbons Creek mine | F70: - | G70: - | H70: - | I70: - | J70: - | K70: - | L70: - | M70: - | N70: - | O70: - | P70: - | Q70: - | R70: - | S70: - | T70: - | U70: - | V70: -
A71: 202201316-022 | B71: GC-3500.1 | C71: Lignite | D71: TX | E71: Gibbons Creek mine | F71: 45.23 | G71: 16.7 | H71: 2.96 | I71: 9786 | J71: 22.76 | K71: W258396 | L71: 15.72 | M71: 0.36 | N71: 0.45 | O71: 25 | P71: 56 | Q71: 0.03 | R71: 2.41 | S71: 0.63 | T71: 0.67 | U71: 0.96 | V71: 4.1
A72: 202202141-002 | B72: GC 3500.2 | C72: Parting | D72: TX | E72: Gibbons Creek mine | F72: 42.67 | G72: 16.07 | H72: 2.8S | I72: 10292 | J72: 23.94 | K72: W258397 | L72: 13.44 | M72: 0 | N72: 0.74 | O72: 31.99 | P72: 58.04 | Q72: 0 | R72: 3.05 | S72: 0 | T72: 1.49 | U72: 1.49 | V72: 2.23
A73: 202201316-023 | B73: GC-3500.3 | C73: Lignite | D73: TX | E73: Gibbons Creek mine | F73: 46.71 | G73: 10.21 | H73: 3.81 | I73: 10619 | J73: 24.7 | K73: W258398 | L73: 9.32 | M73: 0.41 | N73: 0.72 | O73: 29 | P73: 49 | Q73: 0.02 | R73: 4.58 | S73: 0.42 | T73: 1.8 | U73: 0.94 | V73: 8.4
A74: 202202141-003 | B74: GC 3500.4 | C74: Parting | D74: TX | E74: Gibbons Creek mine | F74: 45.62 | G74: 13.62 | H74: 5.42 | I74: 9964 | J74: 23.18 | K74: W258399 | L74: 13.36 | M74: 0.34 | N74: 0.58 | O74: 27 | P74: 49 | Q74: 0.02 | R74: 3.54 | S74: 0.34 | T74: 1.3 | U74: 0.62 | V74: 15
A75: 202201316-024 | B75: GC-3500.5 | C75: Lignite | D75: TX | E75: Gibbons Creek mine | F75: 35.55 | G75: 59.33 | H75: 2.05 | I75: 4256 | J75: 9.9 | K75: W258400 | L75: 57.48 | M75: 0.9 | N75: 0.48 | O75: 22 | P75: 71 | Q75: 0.03 | R75: 0.69 | S75: 1.1 | T75: 0.46 | U75: 0.48 | V75: 2.1
A76: 202201316-025 | B76: GC-3500-P1 | C76: Parting | D76: TX | E76: Gibbons Creek mine | F76: - | G76: - | H76: - | I76: - | J76: - | K76: D549831 | L76: 68.6 | M76: 0.76 | N76: 0.24 | O76: - | P76: 54 | Q76: 0.05 | R76: - | S76: 0.72 | T76: 0.26 | U76: 0.31 | V76: 0.46
A77: 202201316-030 | B77: SM-2-A1 | C77: Lignite | D77: TX | E77: San Miguel mine | F77: 29.49 | G77: 37.34 | H77: 2.29 | I77: 7888 | J77: 18.35 | K77: W258407 | L77: 36.6 | M77: 4.4 | N77: 0.39 | O77: 13 | P77: 58 | Q77: dl | R77: 8.28 | S77: 1.9 | T77: 4.3 | U77: 0.49 | V77: 1.3
A78: 202201316-031 | B78: SM-2-A2 | C78: Lignite | D78: TX | E78: San Miguel mine | F78: 30.15 | G78: 34.6 | H78: 2.81 | I78: 8201 | J78: 19.08 | K78: W258408 | L78: 33 | M78: 4.5 | N78: 0.47 | O78: 12 | P78: 57 | Q78: dl | R78: 10.2 | S78: 1.5 | T78: 5.2 | U78: 0.71 | V78: 2.8
A79: 202201316-032 | B79: SM-2-B1 | C79: Lignite | D79: TX | E79: San Miguel mine | F79: 32.93 | G79: 27.45 | H79: 3.06 | I79: 9055 | J79: 21.06 | K79: W258409 | L79: 26.76 | M79: 4.9 | N79: 0.48 | O79: 14 | P79: 51 | Q79: 0.02 | R79: 11.6 | S79: 1.4 | T79: 5.8 | U79: 0.63 | V79: 5.2
A80: 202201316-033 | B80: SM-2-B2 | C80: Lignite | D80: TX | E80: San Miguel mine | F80: 34.17 | G80: 18.96 | H80: 2.71 | I80: 10336 | J80: 24.04 | K80: W258410 | L80: 21.28 | M80: 6.2 | N80: 0.6 | O80: 13 | P80: 40 | Q80: 0.02 | R80: 18.3 | S80: 1.2 | T80: 8.8 | U80: 0.78 | V80: 4.3
A81: 202201316-034 | B81: SM-2-C1 | C81: Lignite | D81: TX | E81: San Miguel mine | F81: 36.53 | G81: 17.38 | H81: 2.76 | I81: 10273 | J81: 23.9 | K81: W258411 | L81: 17.16 | M81: 7 | N81: 0.63 | O81: 12 | P81: 34 | Q81: 0.04 | R81: 21.1 | S81: 1.1 | T81: 9.6 | U81: 0.64 | V81: 5.4
A82: 202201316-035 | B82: SM-2-C2 | C82: Lignite | D82: TX | E82: San Miguel mine | F82: 32.3 | G82: 18.77 | H82: 2.75 | I82: 10270 | J82: 23.89 | K82: W258412 | L82: 18.52 | M82: 6.2 | N82: 0.63 | O82: 14 | P82: 40 | Q82: 0.04 | R82: 18.5 | S82: 0.94 | T82: 9.1 | U82: 0.91 | V82: 6.2
A83: 202201316-036 | B83: SM-2-D1 | C83: Lignite | D83: TX | E83: San Miguel mine | F83: 37.44 | G83: 15.77 | H83: 2.46 | I83: 10521 | J83: 24.47 | K83: W258413 | L83: 15 | M83: 8 | N83: 0.74 | O83: 13 | P83: 34 | Q83: 0.02 | R83: 22.2 | S83: 0.99 | T83: 10 | U83: 0.73 | V83: 6
A84: 202201316-037 | B84: SM-2-D2 | C84: Lignite | D84: TX | E84: San Miguel mine | F84: 34.11 | G84: 27.3 | H84: 2.6 | I84: 9019 | J84: 20.98 | K84: W258414 | L84: 26.2 | M84: 4.6 | N84: 1 | O84: 16 | P84: 49 | Q84: 0.02 | R84: 12.1 | S84: 1.7 | T84: 5.8 | U84: 0.92 | V84: 4.2
A85: 202202141-009 | B85: SM1 C.1 | C85: Lignite | D85: TX | E85: San Miguel mine | F85: 31.22 | G85: 23.82 | H85: 2.81 | I85: 9173 | J85: 21.34 | K85: D532638 | L85: 24.11 | M85: 7 | N85: 0.63 | O85: 12 | P85: 34 | Q85: 0.04 | R85: 21.1 | S85: 1.1 | T85: 9.6 | U85: 0.64 | V85: 5.4
A86: 202202141-010 | B86: SM1 C.2 | C86: Lignite | D86: TX | E86: San Miguel mine | F86: 30.64 | G86: 25.97 | H86: 2.54 | I86: 9032 | J86: 21.01 | K86: D532639 | L86: 26.13 | M86: 6.2 | N86: 0.63 | O86: 14 | P86: 40 | Q86: 0.04 | R86: 18.5 | S86: 0.94 | T86: 9.1 | U86: 0.91 | V86: 6.2
A87: 202202141-014 | B87: SM1 D.1 | C87: Lignite | D87: TX | E87: San Miguel mine | F87: 29.86 | G87: 25.66 | H87: 2.65 | I87: 8922 | J87: 20.75 | K87: D532640 | L87: 25.44 | M87: 8 | N87: 0.74 | O87: 13 | P87: 34 | Q87: 0.02 | R87: 22.2 | S87: 0.99 | T87: 10 | U87: 0.73 | V87: 6
A88: 202301262-001 | B88: SM-B1 | C88: Lignite | D88: TX | E88: San Miguel mine | F88: - | G88: - | H88: - | I88: - | J88: - | K88: - | L88: - | M88: - | N88: - | O88: - | P88: - | Q88: - | R88: - | S88: - | T88: - | U88: - | V88: -
A89: 202301262-002 | B89: SM-B2T | C89: Lignite | D89: TX | E89: San Miguel mine | F89: - | G89: - | H89: - | I89: - | J89: - | K89: - | L89: - | M89: - | N89: - | O89: - | P89: - | Q89: - | R89: - | S89: - | T89: - | U89: - | V89: -
A90: 202301262-003 | B90: SM-B2B | C90: Lignite | D90: TX | E90: San Miguel mine | F90: - | G90: - | H90: - | I90: - | J90: - | K90: - | L90: - | M90: - | N90: - | O90: - | P90: - | Q90: - | R90: - | S90: - | T90: - | U90: - | V90: -
A91: 202301262-004 | B91: SM-C1T | C91: Lignite | D91: TX | E91: San Miguel mine | F91: - | G91: - | H91: - | I91: - | J91: - | K91: - | L91: - | M91: - | N91: - | O91: - | P91: - | Q91: - | R91: - | S91: - | T91: - | U91: - | V91: -
A92: 202301262-005 | B92: SM-C2B | C92: Lignite | D92: TX | E92: San Miguel mine | F92: - | G92: - | H92: - | I92: - | J92: - | K92: - | L92: - | M92: - | N92: - | O92: - | P92: - | Q92: - | R92: - | S92: - | T92: - | U92: - | V92: -
A93: 202301262-006 | B93: SM-D1 | C93: Lignite | D93: TX | E93: San Miguel mine | F93: - | G93: - | H93: - | I93: - | J93: - | K93: - | L93: - | M93: - | N93: - | O93: - | P93: - | Q93: - | R93: - | S93: - | T93: - | U93: - | V93: -
A94: 202202141-008 | B94: SM1 P2 | C94: Parting | D94: TX | E94: San Miguel mine | F94: - | G94: - | H94: - | I94: - | J94: - | K94: - | L94: - | M94: - | N94: - | O94: - | P94: - | Q94: - | R94: - | S94: - | T94: - | U94: - | V94: -
A95: 202202141-011 | B95: SM1 P3.1 | C95: Parting | D95: TX | E95: San Miguel mine | F95: - | G95: - | H95: - | I95: - | J95: - | K95: - | L95: - | M95: - | N95: - | O95: - | P95: - | Q95: - | R95: - | S95: - | T95: - | U95: - | V95: -
A96: 202202141-012 | B96: SM1 P3.2 | C96: Parting | D96: TX | E96: San Miguel mine | F96: - | G96: - | H96: - | I96: - | J96: - | K96: - | L96: - | M96: - | N96: - | O96: - | P96: - | Q96: - | R96: - | S96: - | T96: - | U96: - | V96: -
A97: 202202141-013 | B97: SM1 P3.3 | C97: Parting | D97: TX | E97: San Miguel mine | F97: - | G97: - | H97: - | I97: - | J97: - | K97: - | L97: - | M97: - | N97: - | O97: - | P97: - | Q97: - | R97: - | S97: - | T97: - | U97: - | V97: -
B98: 124833 | C98: Lignite | D98: TX | E98: San Miguel mine | F98: 19.123024 | G98: 34.813762 | H98: - | I98: - | J98: - | K98: - | L98: - | M98: - | N98: - | O98: - | P98: - | Q98: - | R98: - | S98: - | T98: - | U98: - | V98: -
B99: 124834 | C99: Lignite | D99: TX | E99: San Miguel mine | F99: 12.182752 | G99: 61.845682 | H99: - | I99: - | J99: - | K99: - | L99: - | M99: - | N99: - | O99: - | P99: - | Q99: - | R99: - | S99: - | T99: - | U99: - | V99: -
B100: 124835 | C100: Lignite | D100: TX | E100: San Miguel mine | F100: 17.483864 | G100: 46.793065 | H100: - | I100: - | J100: - | K100: - | L100: - | M100: - | N100: - | O100: - | P100: - | Q100: - | R100: - | S100: - | T100: - | U100: - | V100: -
B101: 124836 | C101: Lignite | D101: TX | E101: San Miguel mine | F101: 19.640292 | G101: 35.611319 | H101: - | I101: - | J101: - | K101: - | L101: - | M101: - | N101: - | O101: - | P101: - | Q101: - | R101: - | S101: - | T101: - | U101: - | V101: -
B102: 124837 | C102: Lignite | D102: TX | E102: San Miguel mine | F102: 10.857096 | G102: 83.334162 | H102: - | I102: - | J102: - | K102: - | L102: - | M102: - | N102: - | O102: - | P102: - | Q102: - | R102: - | S102: - | T102: - | U102: - | V102: -
B103: 124838 | C103: Lignite | D103: TX | E103: San Miguel mine | F103: 11.076047 | G103: 76.922448 | H103: - | I103: - | J103: - | K103: - | L103: - | M103: - | N103: - | O103: - | P103: - | Q103: - | R103: - | S103: - | T103: - | U103: - | V103: -
B104: 124839 | C104: Lignite | D104: TX | E104: San Miguel mine | F104: 9.9304136 | G104: 83.953581 | H104: - | I104: - | J104: - | K104: - | L104: - | M104: - | N104: - | O104: - | P104: - | Q104: - | R104: - | S104: - | T104: - | U104: - | V104: -
...

Sheet Table S4a
A1: Table S4a. | B1: Ratios of rare earth elements (REEs) (dry coal basis) relative to concentrations in upper continental crust (UCC).
B2: UCC values were obtained from Rudnick and Gao (2003)7. NUC, Normalized by UCC; no data, - .
G4: REE Coal Basis normalized by Upper Continental Crust (NUCC) values | GG4: 1
F5: UCC (ppm) | G5: 31 | H5: 63 | I5: 7.1 | J5: 27 | K5: 4.7 | L5: 1 | M5: 4 | N5: 0.7 | O5: 3.9 | P5: 0.83 | Q5: 2.3 | R5: 0.3 | S5: 1.96 | T5: 0.31 | U5: 21 | V5: 14 | X5: =SUM(G5:U5) -> 169.1 | Y5: =SUM(G5:V5) -> 183.1 | Z5: =SUM(L5:U5)/SUM(G5:K5) -> 0.27334337
G6: Light REE | L6: Heavy REE
A7: Sequence | B7: Lab Number | C7: Sample ID | D7: Sample | E7: State | F7: Location | G7: La | H7: Ce | I7: Pr | J7: Nd | K7: Sm | L7: Eu | M7: Gd | N7: Tb | O7: Dy | P7: Ho | Q7: Er | R7: Th | S7: Yb | T7: Lu | U7: Y | V7: Sc | W7: Pr, Nd, Tb, Dy | X7: REY | Y7: REYSc | Z7: HREE/LREE (NUCC) | AA7: HREE/LREE | GC7: Lithium | GD7: 24 | GE7: LI | GF7: 4.4166667 | GG7: 3.4416667 | GH7: 16.125 | GI7: 2.7041667 | GJ7: 0.37916667 | GK7: 1.5 | GL7: 0.42916667 | GM7: 0.041666667 | GN7: 0.12083333 | GO7: 0.20416667 | GP7: 1.775 | GQ7: 1.6625 | GR7: 0.40416667 | GS7: 6.4583333 | GT7: 0.84166667 | GU7: 1.1166667 | GV7: 0.61666667 | GW7: 0.7375 | GX7: 0.0625 | GY7: 0.2375 | GZ7: 0.6 | HA7: 0.675 | HB7: 0.56666667 | HC7: 0.76666667 | HD7: 2.4166667 | HE7: 0.5625 | HF7: 1.375 | HG7: 0.9 | HH7: 0.22083333 | HI7: 0.30416667 | HJ7: 3.3916667 | HK7: 1.375 | HL7: 1.1625 | HM7: 1.2583333 | HN7: 0.22916667 | HO7: 0.24583333 | HP7: 0.42083333 | HQ7: 0.87916667 | HR7: 0.34166667 | HS7: 0.89583333 | HT7: 0.55833333 | HU7: 0.2625 | HV7: 0.47083333 | HW7: 0.37916667 | HX7: 0.425 | HY7: 0.825 | HZ7: 1.8875 | IA7: 0.4625 | IB7: 0.5 | IC7: 1.3083333 | ID7: 0.63333333 | IE7: 0.9 | IF7: 1.7166667 | IG7: 0.85416667 | IH7: 1.4541667 | II7: 0.30416667 | IJ7: 0.29583333 | IK7: 1.1166667 | IL7: 5.25 | IM7: 0.8 | IN7: 0.95833333 | IO7: 0.58333333 | IP7: 0.49166667 | IQ7: 0.44583333 | IR7: 0.35 | IS7: 0.22916667 | IT7: 0.65 | IU7: 0.3625 | IV7: 0.3 | IW7: 0.17083333 | IX7: 2.0291667 | IY7: 1.4041667 | IZ7: 2.7791667 | JA7: 0.3 | JB7: 0.55833333 | JC7: 0.29166667 | JD7: 4.375 | JE7: 1.4083333 | JF7: 1.25 | JG7: 1.7875 | JH7: 0.8 | JI7: 0.4 | JJ7: 2.125 | JK7: 1.6375
A8: 0 | B8: 202202464-005 | C8: AL-CR-SCH-1 | D8: Lignite | E8: AL | F8: Shell SCH. 24-A well | G8: ='Table S3a'!F7/'Table S4a'!G$5 -> 0.61935484 | H8: ='Table S3a'!G7/'Table S4a'!H$5 -> 0.58730159 | I8: ='Table S3a'!H7/'Table S4a'!I$5 -> 0.5915493 | J8: ='Table S3a'!I7/'Table S4a'!J$5 -> 0.6037037 | K8: ='Table S3a'!J7/'Table S4a'!K$5 -> 0.70212766 | L8: ='Table S3a'!K7/'Table S4a'!L$5 -> 0.65 | M8: ='Table S3a'!L7/'Table S4a'!M$5 -> 0.775 | N8: ='Table S3a'!M7/'Table S4a'!N$5 -> 0.68571429 | ... V8: ='Table S3a'!U7/'Table S4a'!V$5 -> 0.53571429 | W8: =SUM(I8:J8,N8:O8) -> 2.573275 | X8: ='Table S3a'!W7/'Table S4a'!X$5 -> 0.61507983 | Y8: ='Table S3a'!Y7/'Table S4a'!Y$5 -> 0.0016391316 | Z8: =SUM(L8:U8)/SUM(G8:K8) -> 2.1327613 | AA8: ='Table S3a'!Y7 -> 0.300125 | GD8: Beryllium | GE8: 2.1 | GF8: Be | GG8: 0.47619048 | GH8: 1.2380952 | GI8: 1.5714286 | GJ8: 0.52380952 | GK8: 1.3809524 | GL8: 1.047619 | GM8: 0.28571429 | GN8: 0.095238095 | GO8: 0.23809524 | GP8: 0.38095238 | GQ8: 0.80952381 | GR8: 1 | GS8: 0.42857143 | GT8: 0.42857143 | GU8: 2.0952381 | GV8: 0.57142857 | GW8: 0.57142857 | GX8: 1.1428571 | GY8: 0.28571429 | GZ8: 1.047619 | HA8: 0.19047619 | HB8: 0.14285714 | HC8: 1.2857143 | HD8: 3.2380952 | HE8: 0.61904762 | HF8: 0.80952381 | HG8: 0.76190476 | HH8: 0.71428571 | HI8: 0.71428571 | HJ8: 0.95238095 | HK8: 0.71428571 | HL8: 0.9047619 | HM8: 4.9047619 | HN8: 3.1904762 | HO8: 1.3333333 | HP8: 7.047619 | HQ8: 0.52380952 | HR8: 1.4761905 | HS8: 0.76190476 | HT8: 0.23809524 | HU8: 1.1428571 | HV8: 0.19047619 | HW8: 0.52380952 | HX8: 1.8571429 | HY8: 1.1904762 | HZ8: 0.85714286 | IA8: 1.1428571 | IB8: 4.6190476 | IC8: 0.47619048 | ID8: 1.0952381 | IE8: 2.1904762 | IF8: 1.1428571 | IG8: 0.66666667 | IH8: 3.5238095 | II8: 3.6666667 | IJ8: 1.9047619 | IK8: 2.047619 | IL8: 1.7619048 | IM8: 2.1428571 | IN8: 4.1904762 | IO8: 2.952381 | IP8: 1.1904762 | IQ8: 1.4285714 | IR8: 1.6190476 | IS8: 1.8571429 | IT8: 1.2857143 | IU8: 1.4761905 | IV8: 1.4285714 | IW8: 1.4761905 | IX8: 1.1428571 | IY8: 1.4285714 | IZ8: 0.76190476 | JA8: 0.42857143 | JB8: 1.952381 | JC8: 2.047619 | JD8: 1.952381 | JE8: 0.38095238 | JF8: 0.52380952 | JG8: 0.38095238 | JH8: 0.66666667 | JI8: 0.66666667 | JJ8: 0.76190476 | JK8: 0.28571429 | JL8: 1.2380952
A9: 1 | B9: 202202464-002 | C9: AL-WI-GCS-6-12 | D9: Lignite | E9: AL | F9: Gravel Creek sand pit | G9: ='Table S3a'!F8/'Table S4a'!G$5 -> 1.616129 | H9: ='Table S3a'!G8/'Table S4a'!H$5 -> 1.7460317 | I9: ='Table S3a'!H8/'Table S4a'!I$5 -> 1.8309859 | J9: ='Table S3a'!I8/'Table S4a'!J$5 -> 1.9222222 | K9: ='Table S3a'!J8/'Table S4a'!K$5 -> 2.2553191 | L9: ='Table S3a'!K8/'Table S4a'!L$5 -> 2.03 | M9: ='Table S3a'!L8/'Table S4a'!M$5 -> 2.325 | N9: ='Table S3a'!M8/'Table S4a'!N$5 -> 1.8857143 | ... V9: ='Table S3a'!U8/'Table S4a'!V$5 -> 0.71428571 | W9: =SUM(I9:J9,N9:O9) -> 7.3825122 | X9: ='Table S3a'!W8/'Table S4a'!X$5 -> 1.7280899 | Y9: =SUM(G9:V9) -> 25.812995 | Z9: =SUM(L9:U9)/SUM(G9:K9) -> 1.6784276 | AA9: ='Table S3a'!Y8 -> 0.24032258 | GD9: Magnesium | GE9: 4.11 | GF9: Mg | GG9: 695.86375 | GH9: 377.12895 | GI9: 1457.4209 | GJ9: 1272.5061 | GK9: 147.93187 | GL9: 734.79319 | GM9: 112.16545 | GN9: 8.7591241 | GO9: 717.76156 | GP9: 759.12409 | GQ9: 2099.7567 | GR9: 1248.1752 | GS9: 652.06813 | GT9: 178.83212 | GU9: 62.530414 | GV9: 311.43552 | GW9: 435.52311 | GX9: 501.21655 | GY9: 255.47445 | GZ9: 347.93187 | HA9: 330.90024 | HB9: 350.36496 | HC9: 301.70316 | HD9: 282.23844 | HE9: 362.53041 | HF9: 788.32117 | HG9: 968.36983 | HH9: 975.6691 | HI9: 717.76156 | HJ9: 717.76156 | HK9: 1136.253 | HL9: 900.24331 | HM9: 442.82238 | HN9: 253.04136 | HO9: 810.21898 | HP9: 732.3601 | HQ9: 596.10706 | HR9: 846.71533 | HS9: 581.50852 | HT9: 917.27494 | HU9: 447.68856 | HV9: 433.09002 | HW9: 374.69586 | HX9: 379.56204 | HY9: 545.01217 | HZ9: 566.90998 | IA9: 975.6691 | IB9: 491.48418 | IC9: 586.3747 | ID9: 759.12409 | IE9: 257.90754 | IF9: 205.59611 | IG9: 1223.8443 | IH9: 126.27737 | II9: 87.83455 | IJ9: 92.457421 | IK9: 86.374696 | IL9: 367.39659 | IM9: 221.6545 | IN9: 208.0292 | IO9: 218.49148 | IP9: 179.56204 | IQ9: 165.20681 | IR9: 162.0438 | IS9: 165.69343 | IT9: 156.20438 | IU9: 355.23114 | IV9: 181.75182 | IW9: 192.70073 | IX9: 190.75426 | IY9: 464.72019 | IZ9: 326.03406 | JA9: 547.44526 | JB9: 301.70316 | JC9: 403.89294 | JD9: 369.82968 | JE9: 440.38929 | JF9: 703.16302 | JG9: 1206.8127 | JH9: 493.91727 | JI9: 282.23844 | JJ9: 154.98783 | JK9: 144.52555 | JL9: 151.82482
A10: 2 | B10: 202300618-004 | C10: AL-WI-GCS-11 | D10: Lignite | E10: AL | F10: Gravel Creek sand pit | G10: ='Table S3a'!F9/'Table S4a'!G$5 -> 2.2580645 | H10: ='Table S3a'!G9/'Table S4a'!H$5 -> 2.2857143 | I10: ='Table S3a'!H9/'Table S4a'!I$5 -> 2.3380282 | J10: ='Table S3a'!I9/'Table S4a'!J$5 -> 2.2222222 | K10: ='Table S3a'!J9/'Table S4a'!K$5 -> 2.5106383 | L10: ='Table S3a'!K9/'Table S4a'!L$5 -> 2.28 | M10: ='Table S3a'!L9/'Table S4a'!M$5 -> 2.5 | N10: ='Table S3a'!M9/'Table S4a'!N$5 -> 1.9428571 | ... V10: ='Table S3a'!U9/'Table S4a'!V$5 -> 1.7857143 | W10: =SUM(I10:J10,N10:O10) -> 8.1697742 | X10: ='Table S3a'!W9/'Table S4a'!X$5 -> 2.0680662 | Y10: =SUM(G10:V10) -> 27.931561 | Z10: =SUM(L10:U10)/SUM(G10:K10) -> 1.2511059 | AA10: ='Table S3a'!Y9 -> 0.15644841 | GD10: Aluminum | GE10: 29.1 | GF10: Al | GG10: 1285.2234 | GH10: 1955.3265 | GI10: 5154.6392 | GJ10: 2951.89 | GK10: 321.30584 | GL10: 1412.3711 | GM10: 347.07904 | GN10: 148.79725 | GO10: 173.53952 | GP10: 312.71478 | GQ10: 2570.4467 | GR10: 1450.1718 | GS10: 518.90034 | GT10: 4158.0756 | GU10: 1140.8935 | GV10: 2000 | GW10: 484.53608 | GX10: 694.15808 | GY10: 140.54983 | GZ10: 378.00687 | HA10: 491.40893 | HB10: 378.00687 | HC10: 391.75258 | HD10: 731.95876 | HE10: 5979.3814 | HF10: 604.811 | HG10: 1268.0412 | HH10: 1085.9107 | HI10: 350.51546 | HJ10: 317.18213 | HK10: 3505.1546 | HL10: 1512.0275 | HM10: 1735.3952 | HN10: 1611.6838 | HO10: 337.80069 | HP10: 419.24399 | HQ10: 501.71821 | HR10: 910.65292 | HS10: 367.69759 | HT10: 1099.6564 | HU10: 742.26804 | HV10: 323.02405 | HW10: 374.57045 | HX10: 498.28179 | HY10: 307.90378 | HZ10: 604.811 | IA10: 2048.11 | IB10: 683.8488 | IC10: 1718.2131 | ID10: 2556.701 | IE10: 1793.8144 | IF10: 1982.8179 | IG10: 4295.5326 | IH10: 886.59794 | II10: 876.28866 | IJ10: 515.46392 | IK10: 498.28179 | IL10: 2350.5155 | IM10: 3573.8832 | IN10: 969.07216 | IO10: 783.50515 | IP10: 704.46735 | IQ10: 484.53608 | IR10: 477.66323 | IS10: 515.46392 | IT10: 388.31615 | IU10: 814.43299 | IV10: 549.82818 | IW10: 618.5567 | IX10: 512.02749 | IY10: 982.81787 | IZ10: 762.8866 | JA10: 3089.3471 | JB10: 556.70103 | JC10: 924.39863 | JD10: 591.06529 | JE10: 3780.0687 | JF10: 3319.5876 | JG10: 4054.9828 | JH10: 2814.433 | JI10: 824.74227 | JJ10: 419.24399 | JK10: 814.43299 | JL10: 601.37457
A11: 3 | B11: 202300618-001 | C11: AL-CL-US43-3 | D11: Lignite | E11: AL | F11: U.S. Highway 43 | G11: ='Table S3a'!F10/'Table S4a'!G$5 -> 1.4354839 | H11: ='Table S3a'!G10/'Table S4a'!H$5 -> 1.3142857 | I11: ='Table S3a'!H10/'Table S4a'!I$5 -> 1.7746479 | J11: ='Table S3a'!I10/'Table S4a'!J$5 -> 1.8925926 | K11: ='Table S3a'!J10/'Table S4a'!K$5 -> 2.3617021 | L11: ='Table S3a'!K10/'Table S4a'!L$5 -> 2.51 | M11: ='Table S3a'!L10/'Table S4a'!M$5 -> 2.25 | N11: ='Table S3a'!M10/'Table S4a'!N$5 -> 1.7428571 | ... V11: ='Table S3a'!U10/'Table S4a'!V$5 -> 1.1285714 | W11: =SUM(I11:J11,N11:O11) -> 7.1536874 | X11: ='Table S3a'!W10/'Table S4a'!X$5 -> 1.53288 | Y11: =SUM(G11:V11) -> 27.954623 | Z11: =SUM(L11:U11)/SUM(G11:K11) -> 2.0558071 | AA11: ='Table S3a'!Y10 -> 0.28258288 | GD11: Phosphorus | GE11: 0.3437 | GF11: P | GG11: 0 | GH11: 0 | GI11: 0 | GJ11: 0 | GK11: 0 | GL11: 0 | GM11: 0 | GN11: 0 | GO11: 0 | GP11: 0 | GQ11: 0 | GR11: 0 | GS11: 104.74251 | GT11: 317.13704 | GU11: 899.03986 | GV11: 0 | GW11: 0 | GX11: 0 | GY11: 0 | GZ11: 49.46174 | HA11: 43.642712 | HB11: 81.466395 | HC11: 49.46174 | HD11: 49.46174 | HE11: 55.280768 | HF11: 113.47105 | HG11: 212.39453 | HH11: 154.20425 | HI11: #VALUE! | HJ11: 122.19959 | HK11: 517.89351 | HL11: 279.31335 | HM11: 0 | HN11: 0 | HO11: 34.914169 | HP11: 40.733198 | HQ11: 0 | HR11: 0 | HS11: 0 | HT11: 0 | HU11: 165.8423 | HV11: 37.823683 | HW11: 61.099796 | HX11: 136.74716 | HY11: 0 | HZ11: 0 | IA11: 0 | IB11: 0 | IC11: 0 | ID11: 386.96538 | IE11: 194.93745 | IF11: 279.31335 | IG11: 407.33198 | IH11: 84.375909 | II11: 0 | IJ11: #VALUE! | IK11: 0 | IL11: 128.01862 | IM11: 226.9421 | IN11: 49.46174 | IO11: 37.823683 | IP11: 72.737853 | IQ11: 37.823683 | IR11: 78.556881 | IS11: 81.466395 | IT11: 66.918825 | IU11: 81.466395 | IV11: 0 | IW11: 0 | IX11: 0 | IY11: 107.65202 | IZ11: 43.642712 | JA11: 171.66133 | JB11: 98.92348 | JC11: 136.74716 | JD11: 96.013966 | JE11: 0 | JF11: 0 | JG11: 0 | JH11: 0 | JI11: 133.83765 | JJ11: 34.914169 | JK11: 58.190282 | JL11: 119.29008
A12: 4 | B12: 202202464-004 | C12: AL-CL-US43-6 | D12: Lignite | E12: AL | F12: U.S. Highway 43 | G12: ='Table S3a'!F11/'Table S4a'!G$5 -> 0.15806452 | H12: ='Table S3a'!G11/'Table S4a'!H$5 -> 0.14920635 | I12: ='Table S3a'!H11/'Table S4a'!I$5 -> 0.16901408 | J12: ='Table S3a'!I11/'Table S4a'!J$5 -> 0.2037037 | K12: ='Table S3a'!J11/'Table S4a'!K$5 -> 0.31914894 | L12: ='Table S3a'!K11/'Table S4a'!L$5 -> 0.43 | M12: ='Table S3a'!L11/'Table S4a'!M$5 -> 0.475 | N12: ='Table S3a'!M11/'Table S4a'!N$5 -> 0.51428571 | ... V12: ='Table S3a'!U11/'Table S4a'!V$5 -> 0.29285714 | W12: =SUM(I12:J12,N12:O12) -> 1.5280291 | X12: ='Table S3a'!W11/'Table S4a'!X$5 -> 0.29964518 | Y12: =SUM(G12:V12) -> 8.7684985 | Z12: =SUM(L12:U12)/SUM(G12:K12) -> 7.4829571 | AA12: ='Table S3a'!Y11 -> 1.252 | GD12: Titanium | GE12: 1.0677 | GF12: Ti | GG12: 2716.1188 | GH12: 1882.5513 | GI12: 7408.4481 | GJ12: 5376.042 | GK12: 393.36892 | GL12: 7211.7636 | GM12: 458.93041 | GN12: 471.10612 | GO12: 217.2895 | GP12: 501.07708 | GQ12: 3493.4907 | GR12: 2304.018 | GS12: 457.99382 | GT12: 6387.562 | GU12: 10302.519 | GV12: 8429.3341 | GW12: 729.60569 | GX12: 871.96778 | GY12: 397.11529 | GZ12: 635.00983 | HA12: 565.70198 | HB12: 815.77222 | HC12: 654.67828 | HD12: 1077.0816 | HE12: 1582.8416 | HF12: 1067.7157 | HG12: 1976.2105 | HH12: 1507.9142 | HI12: 1114.5453 | HJ12: 708.06406 | HK12: 4636.1337 | HL12: 2257.1883 | HM12: 2837.8758 | HN12: 5188.7234 | HO12: 698.69814 | HP12: 1020.886 | HQ12: 1994.9424 | HR12: 1442.3527 | HS12: 1002.1542 | HT12: 2069.8698 | HU12: 1554.7438 | HV12: 560.08242 | HW12: 983.42231 | HX12: 1236.3023 | HY12: 661.23443 | HZ12: 1320.5957 | IA12: 1994.9424 | IB12: 1133.2771 | IC12: 1835.7216 | ID12: 3652.7114 | IE12: 1798.2579 | IF12: 2285.2861 | IG12: 3868.1278 | IH12: 936.59268 | II12: 1077.0816 | IJ12: 488.90138 | IK12: 515.12597 | IL12: 1404.889 | IM12: 1573.4757 | IN12: 1067.7157 | IO12: 1339.3275 | IP12: 974.05638 | IQ12: 896.31919 | IR12: 671.53695 | IS12: 964.69046 | IT12: 635.00983 | IU12: 1358.0594 | IV12: 901.00215 | IW12: 1002.1542 | IX12: 700.57132 | IY12: 3896.2255 | IZ12: 763.32303 | JA12: 3493.4907 | JB12: 835.44067 | JC12: 1386.1572 | JD12: 1086.4475 | JE12: 4411.3515 | JF12: 3156.3173 | JG12: 2172.895 | JH12: 3165.6832 | JI12: 955.32453 | JJ12: 1011.5201 | JK12: 1358.0594 | JL12: 1966.8446
A13: 5 | B13: 202300618-003 | C13: AL-CL-US43-8 | D13: Lignite | E13: AL | F13: U.S. Highway 43 | G13: ='Table S3a'!F12/'Table S4a'!G$5 -> 1.616129 | H13: ='Table S3a'!G12/'Table S4a'!H$5 -> 1.6031746 | I13: ='Table S3a'!H12/'Table S4a'!I$5 -> 1.9577465 | J13: ='Table S3a'!I12/'Table S4a'!J$5 -> 2.0592593 | K13: ='Table S3a'!J12/'Table S4a'!K$5 -> 2.4680851 | L13: ='Table S3a'!K12/'Table S4a'!L$5 -> 2.7 | M13: ='Table S3a'!L12/'Table S4a'!M$5 -> 2.775 | N13: ='Table S3a'!M12/'Table S4a'!N$5 -> 2.2714286 | ... V13: ='Table S3a'!U12/'Table S4a'!V$5 -> 0.66428571 | W13: =SUM(I13:J13,N13:O13) -> 8.6730497 | X13: ='Table S3a'!W12/'Table S4a'!X$5 -> 1.8639267 | Y13: =SUM(G13:V13) -> 34.630098 | Z13: =SUM(L13:U13)/SUM(G13:K13) -> 2.5000444 | AA13: ='Table S3a'!Y12 -> 0.35740741 | GD13: Vanadium | GE13: 97 | GF13: V | GG13: 0.75257732 | GH13: 0.83505155 | GI13: 1.4123711 | GJ13: 1.6804124 | GK13: 0.24742268 | GL13: 0.97938144 | GM13: 0.22680412 | GN13: 0.11340206 | GO13: 0.092783505 | GP13: 0.26804124 | GQ13: 1.5257732 | GR13: 0.6185567 | GS13: 0.28865979 | GT13: 0.98969072 | GU13: 1.3195876 | GV13: 1.6185567 | GW13: 0.31958763 | GX13: 0.31958763 | GY13: 0.83505155 | GZ13: 0.22680412 | HA13: 0.27835052 | HB13: 0.2371134 | HC13: 0.21649485 | HD13: 0.36082474 | HE13: 0.13402062 | HF13: 0.56701031 | HG13: 1.0309278 | HH13: 0.97938144 | HI13: 0.26804124 | HJ13: 0.2371134 | HK13: 1.4536082 | HL13: 1.2061856 | HM13: 0.91752577 | HN13: 0.96907216 | HO13: 0.36082474 | HP13: 0.30927835 | HQ13: 0.45360825 | HR13: 0.79381443 | HS13: 0.28865979 | HT13: 0.54639175 | HU13: 0.45360825 | HV13: 0.18556701 | HW13: 0.28865979 | HX13: 0.48453608 | HY13: 0.15463918 | HZ13: 0.30927835 | IA13: 0.53608247 | IB13: 0.37113402 | IC13: 0.35051546 | ID13: 0.86597938 | IE13: 0.45360825 | IF13: 0.43298969 | IG13: 1.0206186 | IH13: 0.2371134 | II13: 0.24742268 | IJ13: 0.18556701 | IK13: 0.18556701 | IL13: 0.21649485 | IM13: 0.10309278 | IN13: 0.34020619 | IO13: 0.44329897 | IP13: 0.26804124 | IQ13: 0.32989691 | IR13: 0.28865979 | IS13: 0.21649485 | IT13: 0.15463918 | IU13: 0.31958763 | IV13: 0.42268041 | IW13: 0.21649485 | IX13: 0.18556701 | IY13: 0.96907216 | IZ13: 0.24742268 | JA13: 0.35051546 | JB13: 0.17525773 | JC13: 0.20618557 | JD13: 0.31958763 | JE13: 0.39175258 | JF13: 0.20618557 | JG13: 0.22680412 | JH13: 0.34020619 | JI13: 0.43298969 | JJ13: 0.24742268 | JK13: 0.45360825 | JL13: 0.51546392
A14: 6 | B14: 202202464-003 | C14: AL-CL-US43-11 | D14: Lignite | E14: AL | F14: U.S. Highway 43 | G14: ='Table S3a'!F13/'Table S4a'!G$5 -> 0.44193548 | H14: ='Table S3a'!G13/'Table S4a'!H$5 -> 0.43015873 | I14: ='Table S3a'!H13/'Table S4a'!I$5 -> 0.73239437 | J14: ='Table S3a'!I13/'Table S4a'!J$5 -> 0.90740741 | K14: ='Table S3a'!J13/'Table S4a'!K$5 -> 1.2340426 | L14: ='Table S3a'!K13/'Table S4a'!L$5 -> 1.38 | M14: ='Table S3a'!L13/'Table S4a'!M$5 -> 1.35 | N14: ='Table S3a'!M13/'Table S4a'!N$5 -> 1.0714286 | ... V14: ='Table S3a'!U13/'Table S4a'!V$5 -> 0.18571429 | W14: =SUM(I14:J14,N14:O14) -> 3.7625124 | X14: ='Table S3a'!W13/'Table S4a'!X$5 -> 0.66712005 | Y14: =SUM(G14:V14) -> 14.740588 | Z14: =SUM(L14:U14)/SUM(G14:K14) -> 2.8855079 | AA14: ='Table S3a'!Y13 -> 0.4785059 | GD14: Chromium | GE14: 92 | GF14: Cr | GG14: 0.47826087 | GH14: 0.73913043 | GI14: 2.2065217 | GJ14: 1.173913 | GK14: 0.16304348 | GL14: 0.70652174 | GM14: 0.17391304 | GN14: 0.097826087 | GO14: 0.032608696 | GP14: 0.11956522 | GQ14: 0.9673913 | GR14: 0.52173913 | GS14: 0.11956522 | GT14: 0.61956522 | GU14: 0.7826087 | GV14: 1.8804348 | GW14: 0.15217391 | GX14: 0.22826087 | GY14: 0.23913043 | GZ14: 0.13043478 | HA14: 0.14130435 | HB14: 0.10869565 | HC14: 0.10869565 | HD14: 0.17391304 | HE14: 0.11956522 | HF14: 0.27173913 | HG14: 0.45652174 | HH14: 0.38043478 | HI14: 0.16304348 | HJ14: 0.16304348 | HK14: 0.83695652 | HL14: 0.4673913 | HM14: 0.52173913 | HN14: 0.59782609 | HO14: 0.11956522 | HP14: 0.16304348 | HQ14: 0.18478261 | HR14: 0.55434783 | HS14: 0.41304348 | HT14: 0.34782609 | HU14: 0.23913043 | HV14: 0.076086957 | HW14: 0.10869565 | HX14: 0.20652174 | HY14: 0.10869565 | HZ14: 0.16304348 | IA14: 0.32608696 | IB14: 1.4673913 | IC14: 1.076087 | ID14: 0.38043478 | IE14: 0.19565217 | IF14: 0.23913043 | IG14: 0.31521739 | IH14: 0.086956522 | II14: 0.10869565 | IJ14: 0.043478261 | IK14: 0.086956522 | IL14: 0.13043478 | IM14: 0.043478261 | IN14: 0.11956522 | IO14: 0.18478261 | IP14: 0.10869565 | IQ14: 0.097826087 | IR14: 0.086956522 | IS14: 0.086956522 | IT14: 0.065217391 | IU14: 0.13043478 | IV14: 0.17391304 | IW14: 0.097826087 | IX14: 0.13043478 | IY14: 0.27173913 | IZ14: 0.086956522 | JA14: 0.10869565 | JB14: 0.054347826 | JC14: 0.076086957 | JD14: 0.097826087 | JE14: 0.19565217 | JF14: 0.14130435 | JG14: 0.13043478 | JH14: 0.2173913 | JI14: 0.19565217 | JJ14: 0.17391304 | JK14: 0.22826087 | JL14: 0.4673913
A15: 7 | B15: 202202464-001 | C15: AL-CH-KCSC-1-2-3 | D15: Lignite | E15: AL | F15: Outcrop | G15: ='Table S3a'!F14/'Table S4a'!G$5 -> 0.33548387 | H15: ='Table S3a'!G14/'Table S4a'!H$5 -> 0.44444444 | I15: ='Table S3a'!H14/'Table S4a'!I$5 -> 0.52112676 | J15: ='Table S3a'!I14/'Table S4a'!J$5 -> 0.58148148 | K15: ='Table S3a'!J14/'Table S4a'!K$5 -> 0.72340426 | L15: ='Table S3a'!K14/'Table S4a'!L$5 -> 0.77 | M15: ='Table S3a'!L14/'Table S4a'!M$5 -> 0.725 | N15: ='Table S3a'!M14/'Table S4a'!N$5 -> 0.6 | ... V15: ='Table S3a'!U14/'Table S4a'!V$5 -> 0.23571429 | W15: =SUM(I15:J15,N15:O15) -> 2.3179929 | X15: ='Table S3a'!W14/'Table S4a'!X$5 -> 0.49130692 | Y15: =SUM(G15:V15) -> 9.4299654 | Z15: =SUM(L15:U15)/SUM(G15:K15) -> 2.5281888 | AA15: ='Table S3a'!Y14 -> 0.35751634 | GD15: Manganese | GE15: 0.129 | GF15: Mg | GG15: 736.43411 | GH15: 124.03101 | GI15: 248.06202 | GJ15: 248.06202 | GK15: 511.62791 | GL15: 620.15504 | GM15: 147.28682 | GN15: 62.015504 | GO15: 1333.3333 | GP15: 1255.814 | GQ15: 875.96899 | GR15: 4418.6047 | GS15: 5697.6744 | GT15: 1131.7829 | GU15: 178.29457 | GV15: 325.5814 | GW15: 1565.8915 | GX15: 1891.4729 | GY15: 806.20155 | GZ15: 449.6124 | HA15: 612.4031 | HB15: 682.17054 | HC15: 604.65116 | HD15: 542.63566 | HE15: 193.79845 | HF15: 930.23256 | HG15: 2627.907 | HH15: 2697.6744 | HI15: 2728.6822 | HJ15: 4294.5736 | HK15: 1558.1395 | HL15: 2403.1008 | HM15: 565.89147 | HN15: 170.54264 | HO15: 418.60465 | HP15: 279.06977 | HQ15: 1395.3488 | HR15: 651.16279 | HS15: 852.71318 | HT15: 1302.3256 | HU15: 790.69767 | HV15: 1751.938 | HW15: 1558.1395 | HX15: 1093.0233 | HY15: 3937.9845 | HZ15: 3310.0775 | IA15: 2178.2946 | IB15: 2000 | IC15: 612.4031 | ID15: 472.86822 | IE15: 201.55039 | IF15: 209.30233 | IG15: 612.4031 | IH15: 341.08527 | II15: 356.58915 | IJ15: 434.10853 | IK15: 434.10853 | IL15: 759.68992 | IM15: 480.62016 | IN15: 806.20155 | IO15: 1015.5039 | IP15: 728.68217 | IQ15: 837.2093 | IR15: 1038.7597 | IS15: 906.97674 | IT15: 852.71318 | IU15: 1007.7519 | IV15: 961.24031 | IW15: 1000 | IX15: 1116.2791 | IY15: 1162.7907 | IZ15: 837.2093 | JA15: 379.84496 | JB15: 953.48837 | JC15: 829.45736 | JD15: 976.74419 | JE15: 395.34884 | JF15: 534.88372 | JG15: 937.9845 | JH15: 488.37209 | JI15: 294.57364 | JJ15: 651.16279 | JK15: 395.34884 | JL15: 534.88372
A16: 8 | B16: 202202464-007 | C16: AL-CH-OSM1-245-247 | D16: Lignite | E16: AL | F16: Outcrop | G16: ='Table S3a'!F15/'Table S4a'!G$5 -> 0.064516129 | H16: ='Table S3a'!G15/'Table S4a'!H$5 -> 0.065079365 | I16: ='Table S3a'!H15/'Table S4a'!I$5 -> 0.070422535 | J16: ='Table S3a'!I15/'Table S4a'!J$5 -> 0.088888889 | K16: ='Table S3a'!J15/'Table S4a'!K$5 -> 0.12765957 | L16: ='Table S3a'!K15/'Table S4a'!L$5 -> 0.14 | M16: ='Table S3a'!L15/'Table S4a'!M$5 -> 0.175 | N16: ='Table S3a'!M15/'Table S4a'!N$5 -> 0.15714286 | ... V16: ='Table S3a'!U15/'Table S4a'!V$5 -> 0.078571429 | W16: =SUM(I16:J16,N16:O16) -> 0.49594146 | X16: ='Table S3a'!W15/'Table S4a'!X$5 -> 0.10792431 | Y16: =SUM(G16:V16) -> 2.291384 | Z16: =SUM(L16:U16)/SUM(G16:K16) -> 4.3120272 | AA16: ='Table S3a'!Y15 -> 0.90104167 | GD16: Cobalt | GE16: 17.3 | GF16: Co | GG16: 0.27745665 | GH16: 0.23121387 | GI16: 0.31791908 | GJ16: 0.22543353 | GK16: 0.41040462 | GL16: 0.36416185 | GM16: 0.24277457 | GN16: 0.12716763 | GO16: 0.034682081 | GP16: 0.11560694 | GQ16: 0.43352601 | GR16: 0.37572254 | GS16: 0.85549133 | GT16: 0.11560694 | GU16: 0.32947977 | GV16: 0.41618497 | GW16: 0.14450867 | GX16: 0.31791908 | GY16: 0.1734104 | GZ16: 0.43930636 | HA16: 0.15606936 | HB16: 0.098265896 | HC16: 0.82080925 | HD16: 0.97109827 | HE16: 0.35260116 | HF16: 0.25433526 | HG16: 0.30057803 | HH16: 0.21387283 | HI16: 0.32947977 | HJ16: 0.1734104 | HK16: 0.27745665 | HL16: 0.23121387 | HM16: 0.47976879 | HN16: 0.34682081 | HO16: 0.28901734 | HP16: 0.16184971 | HQ16: 0.20231214 | HR16: 0.45086705 | HS16: 0.27745665 | HT16: 0.092485549 | HU16: 0.42196532 | HV16: 0.12138728 | HW16: 0.27745665 | HX16: 0.65895954 | HY16: 0.034682081 | HZ16: 0.075144509 | IA16: 0.76878613 | IB16: 0.36416185 | IC16: 0.20809249 | ID16: 0.31213873 | IE16: 1.2312139 | IF16: 0.47976879 | IG16: 0.27745665 | IH16: 0.41040462 | II16: 0.20809249 | IJ16: 0.31213873 | IK16: 0.46820809 | IL16: 0.26589595 | IM16: 0.24277457 | IN16: 0.12138728 | IO16: 0.086705202 | IP16: 0.16184971 | IQ16: 0.098265896 | IR16: 0.13872832 | IS16: 0.069364162 | IT16: 0.092485549 | IU16: 0.086705202 | IV16: 0.13294798 | IW16: 0.052023121 | IX16: 0.069364162 | IY16: 0.092485549 | IZ16: 0.14450867 | JA16: 0.075144509 | JB16: 0.057803468 | JC16: 0.069364162 | JD16: 0.098265896 | JE16: 0.069364162 | JF16: 0.040462428 | JG16: 0.1734104 | JH16: 0.12138728 | JI16: 0.30635838 | JJ16: 0.20231214 | JK16: 0.15606936 | JL16: 0.1849711
A17: 9 | B17: 202202464-008 | C17: AL-CH-OSM1-242.8-244.5 | D17: Lignite | E17: AL | F17: Outcrop | G17: ='Table S3a'!F16/'Table S4a'!G$5 -> 0.11612903 | H17: ='Table S3a'!G16/'Table S4a'!H$5 -> 0.10952381 | I17: ='Table S3a'!H16/'Table S4a'!I$5 -> 0.11267606 | J17: ='Table S3a'!I16/'Table S4a'!J$5 -> 0.12962963 | K17: ='Table S3a'!J16/'Table S4a'!K$5 -> 0.17021277 | L17: ='Table S3a'!K16/'Table S4a'!L$5 -> 0.21 | M17: ='Table S3a'!L16/'Table S4a'!M$5 -> 0.25 | N17: ='Table S3a'!M16/'Table S4a'!N$5 -> 0.24285714 | ... V17: ='Table S3a'!U16/'Table S4a'!V$5 -> 0.18571429 | W17: =SUM(I17:J17,N17:O17) -> 0.76721411 | X17: ='Table S3a'!W16/'Table S4a'!X$5 -> 0.167534 | Y17: =SUM(G17:V17) -> 4.1004968 | Z17: =SUM(L17:U17)/SUM(G17:K17) -> 5.1343758 | AA17: ='Table S3a'!Y16 -> 0.81602564 | GD17: Nickel | GE17: 47 | GF17: Ni | GG17: 0.42553191 | GH17: 0.34042553 | GI17: 0.82978723 | GJ17: 0.38297872 | GK17: 1.3617021 | GL17: 0.68085106 | GM17: 0.31914894 | GN17: 0.12765957 | GO17: 0.063829787 | GP17: 0.12765957 | GQ17: 0.68085106 | GR17: 0.42553191 | GS17: 0.19148936 | GT17: 0.21276596 | GU17: 0.40425532 | GV17: 1.9574468 | GW17: 0.27659574 | GX17: 0.42553191 | GY17: 0.34042553 | GZ17: 0.61702128 | HA17: 0.19148936 | HB17: 0.10638298 | HC17: 0.82978723 | HD17: 0.93617021 | HE17: 0.29787234 | HF17: 0.14893617 | HG17: 0.36170213 | HH17: 0.27659574 | HI17: 0.27659574 | HJ17: 0.19148936 | HK17: 0.44680851 | HL17: 0.21276596 | HM17: 0.4893617 | HN17: 0.40425532 | HO17: 0.21276596 | HP17: 0.12765957 | HQ17: 0.14893617 | HR17: 0.74468085 | HS17: 0.68085106 | HT17: 0.27659574 | HU17: 0.21276596 | HV17: 0.14893617 | HW17: 0.17021277 | HX17: 0.27659574 | HY17: 0.10638298 | HZ17: 0.12765957 | IA17: 0.5106383 | IB17: 1.6808511 | IC17: 1.0638298 | ID17: 0.25531915 | IE17: 0.57446809 | IF17: 0.23404255 | IG17: 0.19148936 | IH17: 0.38297872 | II17: 0.29787234 | IJ17: 0.17021277 | IK17: 0.21276596 | IL17: 0.19148936 | IM17: 0.23404255 | IN17: 0.085106383 | IO17: 0.10638298 | IP17: 0.085106383 | IQ17: 0.085106383 | IR17: 0.10638298 | IS17: 0.085106383 | IT17: 0.063829787 | IU17: 0.12765957 | IV17: 0.14893617 | IW17: 0.10638298 | IX17: 0.12765957 | IY17: 0.085106383 | IZ17: 0.063829787 | JA17: 0.085106383 | JB17: 0.042553191 | JC17: 0.085106383 | JD17: 0.12765957 | JE17: 0.19148936 | JF17: 0.12765957 | JG17: 0.14893617 | JH17: 0.19148936 | JI17: 0.19148936 | JJ17: 0.25531915 | JK17: 0.19148936 | JL17: 0.46808511
A18: 10 | B18: 202300618-002 | C18: AL-CH-OSM1-249.0 | D18: Lignite | E18: AL | F18: Outcrop | G18: ='Table S3a'!F17/'Table S4a'!G$5 -> 0.93225806 | H18: ='Table S3a'!G17/'Table S4a'!H$5 -> 0.87777778 | I18: ='Table S3a'!H17/'Table S4a'!I$5 -> 0.91549296 | J18: ='Table S3a'!I17/'Table S4a'!J$5 -> 0.88518519 | K18: ='Table S3a'!J17/'Table S4a'!K$5 -> 0.91489362 | L18: ='Table S3a'!K17/'Table S4a'!L$5 -> 0.92 | M18: ='Table S3a'!L17/'Table S4a'!M$5 -> 0.9 | N18: ='Table S3a'!M17/'Table S4a'!N$5 -> 0.65714286 | ... V18: ='Table S3a'!U17/'Table S4a'!V$5 -> 0.87142857 | W18: =SUM(I18:J18,N18:O18) -> 3.1244877 | X18: ='Table S3a'!W17/'Table S4a'!X$5 -> 0.84470727 | Y18: =SUM(G18:V18) -> 12.651038 | Z18: =SUM(L18:U18)/SUM(G18:K18) -> 1.6028791 | AA18: ='Table S3a'!Y17 -> 0.20134567 | GD18: Zinc | GE18: 67 | GF18: Zn | GG18: 0.40298507 | GH18: 0.35820896 | GI18: 0.59701493 | GJ18: 0.55223881 | GK18: 1 | GL18: 0.86567164 | GM18: 0.37313433 | GN18: 0.044776119 | GO18: 0.014925373 | GP18: 0.1641791 | GQ18: 0.98507463 | GR18: 0.68656716 | GS18: 0.13432836 | GT18: 0.28358209 | GU18: 0.82089552 | GV18: 0.50746269 | GW18: 0.074626866 | GX18: 0.1641791 | GY18: 0.059701493 | GZ18: 0.19402985 | HA18: 0.044776119 | HB18: 0.059701493 | HC18: 0.56716418 | HD18: 1.7910448 | HE18: 1.2985075 | HF18: 0.044776119 | HG18: 0.1641791 | HH18: 0.13432836 | HI18: 0.044776119 | HJ18: 0.074626866 | HK18: 0.43283582 | HL18: 0.37313433 | HM18: 2.0447761 | HN18: 0.35820896 | HO18: 0.029850746 | HP18: 0.059701493 | HQ18: 0.1641791 | HR18: 0.1641791 | HS18: 0.10447761 | HT18: 0.13432836 | HU18: 0.43283582 | HV18: 0.029850746 | HW18: 0.029850746 | HX18: 0.059701493 | HY18: 0.074626866 | HZ18: 0.17910448 | IA18: 2.2835821 | IB18: 0.62686567 | IC18: 0.65671642 | ID18: 0.59701493 | IE18: 0.32835821 | IF18: 0.20895522 | IG18: 0.88059701 | IH18: 0.68656716 | II18: 0.59701493 | IJ18: 0.28358209 | IK18: 0.34328358 | IL18: 0.74626866 | IM18: 0.50746269 | IN18: 0.55223881 | IO18: 0.23880597 | IP18: 0.26865672 | IQ18: 0.37313433 | IR18: 0.28358209 | IS18: 0.28358209 | IT18: 0.25373134 | IU18: 0.1641791 | IV18: 0.50746269 | IW18: 0.1641791 | IX18: 0.31343284 | IY18: 0.29850746 | IZ18: 0.29850746 | JA18: 0.37313433 | JB18: 0.67164179 | JC18: 0.20895522 | JD18: 0.31343284 | JE18: 0.65671642 | JF18: 0.85074627 | JG18: 2.9253731 | JH18: 0.40298507 | JI18: 0.32835821 | JJ18: 0.13432836 | JK18: 0.074626866 | JL18: 0.13432836
A19: 11 | B19: 202202464-006 | C19: AL-CH-OSM2-253 | D19: Lignite | E19: AL | F19: Outcrop | G19: ='Table S3a'!F18/'Table S4a'!G$5 -> 0.61612903 | H19: ='Table S3a'!G18/'Table S4a'!H$5 -> 0.6 | I19: ='Table S3a'!H18/'Table S4a'!I$5 -> 0.61971831 | J19: ='Table S3a'!I18/'Table S4a'!J$5 -> 0.64074074 | K19: ='Table S3a'!J18/'Table S4a'!K$5 -> 0.72340426 | L19: ='Table S3a'!K18/'Table S4a'!L$5 -> 0.75 | M19: ='Table S3a'!L18/'Table S4a'!M$5 -> 0.75 | N19: ='Table S3a'!M18/'Table S4a'!N$5 -> 0.64285714 | ... V19: ='Table S3a'!U18/'Table S4a'!V$5 -> 0.57857143 | W19: =SUM(I19:J19,N19:O19) -> 2.5699829 | X19: ='Table S3a'!W18/'Table S4a'!X$5 -> 0.64251922 | Y19: =SUM(G19:V19) -> 11.328642 | Z19: =SUM(L19:U19)/SUM(G19:K19) -> 2.359405 | AA19: ='Table S3a'!Y18 -> 0.325 | GD19: Gallium | GE19: 17.5 | GF19: Ga | GG19: 0.87428571 | GH19: 1.1142857 | GI19: 2.4285714 | GJ19: 2.0171429 | GK19: 0.56 | GL19: 0.93714286 | GM19: 0.17714286 | GN19: 0.26857143 | GO19: 0.091428571 | GP19: 0.17142857 | GQ19: 1.1485714 | GR19: 0.66857143 | GS19: 0.33142857 | GT19: 2.4742857 | GU19: 1.4857143 | GV19: 1.9485714 | GW19: 0.30857143 | GX19: 0.41714286 | GY19: 1 | GZ19: 0.38857143 | HA19: 0.25142857 | HB19: 0.23428571 | HC19: 0.29714286 | HD19: 0.76 | HE19: 1.9657143 | HF19: 0.40571429 | HG19: 0.73714286 | HH19: 0.56571429 | HI19: 0.30285714 | HJ19: 0.44571429 | HK19: 1.7771429 | HL19: 0.90285714 | HM19: 1.0457143 | HN19: 1.1828571 | HO19: 0.36571429 | HP19: 0.32571429 | HQ19: 0.36571429 | HR19: 0.52 | HS19: 0.26857143 | HT19: 0.58857143 | HU19: 0.58857143 | HV19: 0.24 | HW19: 0.26857143 | HX19: 0.78857143 | HY19: 0.18285714 | HZ19: 0.46285714 | IA19: 0.97142857 | IB19: 0.55428571 | IC19: 0.73714286 | ID19: 1.7028571 | IE19: 3.0057143 | IF19: 2.1142857 | IG19: 2.3257143 | IH19: 0.85714286 | II19: 0.98857143 | IJ19: 0.45714286 | IK19: 0.49142857 | IL19: 1.1371429 | IM19: 1.92 | IN19: 0.6 | IO19: 0.74857143 | IP19: 0.4 | IQ19: 0.34857143 | IR19: 0.37142857 | IS19: 0.4 | IT19: 0.20571429 | IU19: 0.43428571 | IV19: 0.50285714 | IW19: 0.46285714 | IX19: 0.25142857 | IY19: 1.2742857 | IZ19: 0.32 | JA19: 1.4285714 | JB19: 0.41142857 | JC19: 0.58857143 | JD19: 0.66285714 | JE19: 1.8457143 | JF19: 1.8114286 | JG19: 2.2 | JH19: 1.5314286 | JI19: 0.37714286 | JJ19: 0.31428571 | JK19: 0.38285714 | JL19: 0.44571429
A20: 12 | B20: 202301262-008 | C20: BOLI | D20: Lignite | E20: AR | F20: Bolivar Creek | G20: ='Table S3a'!F19/'Table S4a'!G$5 -> 0.37096774 | H20: ='Table S3a'!G19/'Table S4a'!H$5 -> 0.43333333 | I20: ='Table S3a'!H19/'Table S4a'!I$5 -> 0.46478873 | J20: ='Table S3a'!I19/'Table S4a'!J$5 -> 0.48148148 | K20: ='Table S3a'!J19/'Table S4a'!K$5 -> 0.61702128 | L20: ='Table S3a'!K19/'Table S4a'!L$5 -> 0.59 | M20: ='Table S3a'!L19/'Table S4a'!M$5 -> 0.7 | N20: ='Table S3a'!M19/'Table S4a'!N$5 -> 0.58571429 | ... V20: ='Table S3a'!U19/'Table S4a'!V$5 -> 0.28571429 | W20: =SUM(I20:J20,N20:O20) -> 2.1217281 | X20: ='Table S3a'!W19/'Table S4a'!X$5 -> 0.45943229 | Y20: =SUM(G20:V20) -> 8.1435963 | Z20: =SUM(L20:U20)/SUM(G20:K20) -> 2.3189334 | AA20: ='Table S3a'!Y19 -> 0.33948276 | GD20: Germanium | GE20: 1.4 | GF20: Ge | GG20: 1.4285714 | GH20: 4.2857143 | GI20: 2.8571429 | GJ20: 5.7142857 | GK20: 10 | GL20: 3.5714286 | GM20: 7.1428571 | GN20: 2.1428571 | GO20: #VALUE! | GP20: 1.4285714 | GQ20: 1.4285714 | GR20: 1.4285714 | GS20: 2.8571429 | GT20: 5 | GU20: 2.8571429 | GV20: 2.1428571 | GW20: 0.71428571 | GX20: 1.4285714 | GY20: 15 | GZ20: 5.7142857 | HA20: 0.71428571 | HB20: 0.71428571 | HC20: 0.71428571 | HD20: 2.1428571 | HE20: 1.4285714 | HF20: 2.1428571 | HG20: 2.1428571 | HH20: 0.71428571 | HI20: 2.1428571 | HJ20: 6.4285714 | HK20: 2.1428571 | HL20: 2.8571429 | HM20: 4.2857143 | HN20: 8.5714286 | HO20: 3.5714286 | HP20: 3.5714286 | HQ20: 0.71428571 | HR20: 2.1428571 | HS20: 1.4285714 | HT20: 0.71428571 | HU20: 14.285714 | HV20: 0.71428571 | HW20: 0.71428571 | HX20: 5 | HY20: 1.4285714 | HZ20: 2.8571429 | IA20: 2.1428571 | IB20: 4.2857143 | IC20: 1.4285714 | ID20: 5.7142857 | IE20: 20 | IF20: 20 | IG20: 2.8571429 | IH20: 6.4285714 | II20: 3.5714286 | IJ20: 9.2857143 | IK20: 10 | IL20: 1.4285714 | IM20: 2.8571429 | IN20: 17.857143 | IO20: 2.8571429 | IP20: 1.4285714 | IQ20: 1.4285714 | IR20: 1.4285714 | IS20: 2.1428571 | IT20: 1.4285714 | IU20: 1.4285714 | IV20: 1.4285714 | IW20: 1.4285714 | IX20: 1.4285714 | IY20: 2.8571429 | IZ20: 2.1428571 | JA20: 1.4285714 | JB20: 1.4285714 | JC20: 2.1428571 | JD20: 1.4285714 | JE20: 1.4285714 | JF20: 0.71428571 | JG20: 0.71428571 | JH20: 0.71428571 | JI20: 2.1428571 | JJ20: 1.4285714 | JK20: 3.5714286 | JL20: 2.1428571
A21: 13 | B21: 202301262-007 | C21: BAUX | D21: Lignite | E21: AR | F21: Bauxite | G21: ='Table S3a'!F20/'Table S4a'!G$5 -> 0.8483871 | H21: ='Table S3a'!G20/'Table S4a'!H$5 -> 1.4 | I21: ='Table S3a'!H20/'Table S4a'!I$5 -> 0.97183099 | J21: ='Table S3a'!I20/'Table S4a'!J$5 -> 0.94814815 | K21: ='Table S3a'!J20/'Table S4a'!K$5 -> 1.0638298 | L21: ='Table S3a'!K20/'Table S4a'!L$5 -> 0.8 | M21: ='Table S3a'!L20/'Table S4a'!M$5 -> 0.95 | N21: ='Table S3a'!M20/'Table S4a'!N$5 -> 0.78571429 | ... V21: ='Table S3a'!U20/'Table S4a'!V$5 -> 0.71428571 | W21: =SUM(I21:J21,N21:O21) -> 3.4492832 | X21: ='Table S3a'!W20/'Table S4a'!X$5 -> 1.0380248 | Y21: =SUM(G21:V21) -> 13.4546 | Z21: =SUM(L21:U21)/SUM(G21:K21) -> 1.4349841 | AA21: ='Table S3a'!Y20 -> 0.15480263 | GD21: Arsenic | GE21: 4.8 | GF21: As | GG21: 1 | GH21: 0.72916667 | GI21: 0.75 | GJ21: 1.6666667 | GK21: 0.91666667 | GL21: 2.3541667 | GM21: 1.0833333 | GN21: 0.6875 | GO21: 0.27083333 | GP21: 0.45833333 | GQ21: 1.0208333 | GR21: 1.9375 | GS21: 0.52083333 | GT21: 2.125 | GU21: 1.2083333 | GV21: 1.1875 | GW21: 0.54166667 | GX21: 0.66666667 | GY21: 1.5 | GZ21: 0.5625 | HA21: 1.3958333 | HB21: 0.625 | HC21: 2.8333333 | HD21: 3.375 | HE21: 0.16666667 | HF21: 1.3541667 | HG21: 1.9583333 | HH21: 1.5 | HI21: 2.3541667 | HJ21: 2.0625 | HK21: 0.6875 | HL21: 1.0625 | HM21: 1.5208333 | HN21: 1.5 | HO21: 0.8125 | HP21: 0.875 | HQ21: 0.41666667 | HR21: 2.9583333 | HS21: 2.0416667 | HT21: 0.625 | HU21: 0.95833333 | HV21: 0.35416667 | HW21: 0.47916667 | HX21: 0.66666667 | HY21: 0.47916667 | HZ21: 0.72916667 | IA21: 1.8958333 | IB21: 1.5 | IC21: 1.125 | ID21: 2.5416667 | IE21: 2.0208333 | IF21: 3.6041667 | IG21: 0.66666667 | IH21: 1.5416667 | II21: 1.1458333 | IJ21: 1.5 | IK21: 1.5208333 | IL21: 1.4791667 | IM21: 0.75 | IN21: 1.6875 | IO21: 1.5625 | IP21: 1.2708333 | IQ21: 1.6458333 | IR21: 3.8958333 | IS21: 1.375 | IT21: 1 | IU21: 2.7708333 | IV21: 1.5416667 | IW21: 1.6041667 | IX21: 2.9583333 | IY21: 2.3333333 | IZ21: 1.7083333 | JA21: 1.1041667 | JB21: 2.3333333 | JC21: 2.1041667 | JD21: 2.3333333 | JE21: 1.1875 | JF21: 2.6875 | JG21: 5.2291667 | JH21: 0.875 | JI21: 0.375 | JJ21: 0.39583333 | JK21: 0.1875 | JL21: 1.6875
