Workbook
Name IQ_CH: 110000
Name IQ_CQ: 5000
Name IQ_CY: 10000
Name IQ_DAILY: 500000
Name IQ_FH: 100000
Name IQ_FQ: 500
Name IQ_FY: 1000
Name IQ_LTM: 2000
Name IQ_MONTH: 15000
Name IQ_NTM: 6000
Name IQ_WEEK: 50000
Name IQ_YTD: 3000
Name Net_Generation_by_State__Type_1: #REF!
Name Net_Generation_by_State__Type_of_Producer__Energy_Source: #REF!
Name state: [1]!state_table[State]
Name state: #REF!

Sheet List of Tables
A1: List of Tables
A2: ='Table S1a'!A1 -> Table S1a. | B2: ='Table S1a'!C1 -> Concentrations of some minerals and rare earth elements (REEs) in the upper continental crust (UCC).
A3: ='Table S1b'!A1 -> Table S1b. | B3: ='Table S1b'!B1 -> List of critical minerals, including rare earth elements (REEs), published by the U.S. Geological Survey in 2022.
A4: ='Table S2a'!A1 -> Table S2a | B4: ='Table S2a'!B1 -> Details of samples analyzed for critical minerals, including rare earth elements (REEs), in this study.
A5: ='Table S3a'!A1 -> Table S3a. | B5: ='Table S3a'!B1 -> Concentrations of REEs on a dry coal basis.
A6: ='Table S3b'!A1 -> Table S3b. | B6: ='Table S3b'!B1 -> Concentrations of critical minerals on a dry coal basis.
A7: ='Table S3c'!A1 -> Table S3c. | B7: ='Table S3c'!B1 -> Laboratory number; field number; and available as received moisture, dry ash, sulfur, and calorific value (CV) for samples analyzed in this study.
A8: ='Table S4a'!A1 -> Table S4a. | B8: ='Table S4a'!B1 -> Ratios of rare earth elements (REEs) (dry coal basis) relative to concentrations in upper continental crust (UCC).
A9: ='Table S4b'!A1 -> Table S4b. | B9: ='Table S4b'!B1 -> Ratios of critical minerals (dry coal basis) relative to concentrations in upper continental crust (UCC).
A10: ='Table S5 '!A1 -> Table S5. | B10: ='Table S5 '!B1 -> Correlation matrix of critical minerals, including rare earth elements (REEs), on a dry coal basis.
A11: ='Table S6a'!A1 -> Table S6a. | B11: ='Table S6a'!B1 -> Concentrations of rare earth elements (REEs) on an ash basis.
A12: ='Table S6b'!A1 -> Table S6b. | B12: ='Table S6b'!B1 -> Concentrations of critical minerals on an ash basis.
A13: ='Table S7a'!A1 -> Table S7a. | B13: ='Table S7a'!B1 -> Ratios of rare earth elements (REEs) (ash basis) relative to concentrations in upper continental crust (UCC).
A14: ='Table S7b'!A1 -> Table S7b. | B14: ='Table S7b'!B1 -> Ratios of critical minerals (ash basis) relative to concentrations in upper continental crust (UCC).
A15: ='Table S8'!A1 -> Table S8. | B15: ='Table S8'!B1 -> Concentrations of rare earth elements (REEs) in coal and partings (ppm on dry coal basis) in samples from the Gibbons Creek and San Miguel mines.
A16: ='Table S9'!A1 -> Table S9. | B16: ='Table S9'!B1 -> Extractability of rare earth elements (REEs) using water, ammonium acetate, and weak hydrochloric acid in samples from coal from Gibbons Creek and San Miguel mines and ash from San Miguel mine-mouth power plant.
A17: ='Table S10'!A1 -> Table S10. | B17: ='Table S10'!B1 -> Rare earth oxides (REOs) mean annual prices, USD/kg, 2000 - 2024.
A18: ='Table S11a'!A1 -> Table S11a. | B18: ='Table S11a'!B1 -> Rare earth oxide (REO) concentrations on a dry coal basis.
A19: ='Table S11b'!A1 -> Table S11b. | B19: ='Table S11b'!B1 -> Value of rare earth oxides (REOs) per tonne assuming 70% extractability and using prices in Table S10 for 2024.
A20: ='Table S12a'!A1 -> Table S12a. | B20: ='Table S12a'!B1 -> Rare earth oxide (REO) concentrations on an ash basis.
A21: ='Table S12b'!A1 -> Table S12b. | B21: ='Table S12b'!B1 -> Value of rare earth oxides (REOs) on an ash basis assuming 30% extractability and using prices in Table S10 for 2024.
A22: ='Table S13'!A1 -> Table S13. | B22: ='Table S13'!B1 -> Coal production from mines in the Gulf Coast region during 1983 - 2022.
A23: ='Table S14'!A1 -> Table S14. | B23: ='Table S14'!B1 -> Status of coal mines in Texas.
A24: ='Table S15a'!A1 -> Table S15a. | B24: ='Table S15a'!B1 -> Source of coal for power plants (lignite [LIG], subbituminous [SUB], and bituminous [BIT]) from Appalachia, Powder River Basin [PRB], Western U.S. Basins, Gulf Coast, and Imported.
A25: ='Table S15b'!A1 -> Table S15b. | B25: ='Table S15b'!B1 -> Disposition of coal combustion byproducts (CCBs) for Gulf Coast power plants during 1985 - 2021.
A26: ='Table S16'!A1 -> Table S16. | B26: ='Table S16'!B1 -> Electricity generation by fuel source in Gulf Coast States (AL, AR, LA, MS, and TX).

Sheet Table S1a
A1: Table S1a. | C1: Concentrations of some minerals and rare earth elements (REEs) in the upper continental crust (UCC).
C2: No data, - .
A4: Oxide | B4: Element | C4: Unit | D4: UCC (ppm) | E4: 1 Sigma
A5: TiO2 | B5: Ti | C5: ppm | D5: 3836
A6: Al2O3 | B6: Al | C6: ppm | D6: 81505
A7: MnO | B7: Mn | C7: ppm | D7: 775
A8: MgO | B8: Mg | C8: ppm | D8: 14955
A9: P2O5 | B9: P | C9: ppm | D9: 655
A11: Li | C11: ppm | D11: 24 | E11: 5 | I11: Table 1 | K11: Table S11
A12: Be | C12: ppm | D12: 2.1 | E12: 0.9
A13: B | C13: ppm | D13: 17 | E13: 8 | I13: Statistic | J13: Conc. REOs (ppm) | L13: REO USD/Tonne | N13: Total Value ($B)
A14: N | C14: ppm | D14: 83 | J14: Pr, Nd, Tb, Dy | K14: REY | L14: Pr, Nd, Tb, Dy | M14: REY | N14: Pr, Nd, Tb, Dy | O14: REY
A15: F | C15: ppm | D15: 557 | E15: 56 | I15: 83 Gt in-place-coal (~58 Gt dry, whole coal)
A16: S | C16: ppm | D16: 62 | E16: 33 | I16: Min. | J16: ='Table S11a'!W125 -> 4.336232 | K16: ='Table S11a'!X125 -> 21.910122 | L16: ='Table S11b'!W125 -> 0.48575686 | M16: ='Table S11b'!X125 -> 0.62235022 | N16: =L16*58000000000/1000000000 -> 28.173898 | O16: =M16*58000000000/1000000000 -> 36.096313
A17: Cl | C17: ppm | D17: 370 | E17: 382 | I17: Max. | J17: ='Table S11a'!W126 -> 949.67978 | K17: ='Table S11a'!X126 -> 3374.9363 | L17: ='Table S11b'!W126 -> 84.692695 | M17: ='Table S11b'!X126 -> 100.1039 | N17: =L17*58000000000/1000000000 -> 4912.1763 | O17: =M17*58000000000/1000000000 -> 5806.0261
A18: Sc | C18: ppm | D18: 14 | E18: 0.9 | I18: Mean | J18: ='Table S11a'!W127 -> 49.955539 | K18: ='Table S11a'!X127 -> 210.09526 | L18: ='Table S11b'!W127 -> 4.5866588 | M18: ='Table S11b'!X127 -> 5.554556 | N18: =L18*58000000000/1000000000 -> 266.02621 | O18: =M18*58000000000/1000000000 -> 322.16425
A19: V | C19: ppm | D19: 97 | E19: 11 | I19: Median | J19: ='Table S11a'!W128 -> 27.691328 | K19: ='Table S11a'!X128 -> 128.52092 | L19: ='Table S11b'!W128 -> 2.6067767 | M19: ='Table S11b'!X128 -> 3.1989757 | N19: =L19*58000000000/1000000000 -> 151.19305 | O19: =M19*58000000000/1000000000 -> 185.54059
A20: Cr | C20: ppm | D20: 92 | E20: 17 | I20: Ash Basis (258 Millon Tonnes coal ash)
A21: Co | C21: ppm | D21: 17.3 | E21: 0.6 | G21: Table 12a | I21: Min. | J21: ='Table S12a'!W125 -> 9.5009694 | K21: ='Table S12a'!X125 -> 48.748523 | L21: ='Table S12b'!W126 -> 0.33668786 | M21: ='Table S12b'!X126 -> 0.40088167 | N21: =L21*260000000/1000000000 -> 0.087538844 | O21: =M21*260000000/1000000000 -> 0.10422924
A22: Ni | C22: ppm | D22: 47 | E22: 11 | I22: Max. | J22: ='Table S12a'!W126 -> 2565.3155 | K22: ='Table S12a'!X126 -> 9116.5215 | L22: ='Table S12b'!W127 -> 98.046649 | M22: ='Table S12b'!X127 -> 114.19022 | N22: =L22*260000000/1000000000 -> 25.492129 | O22: =M22*260000000/1000000000 -> 29.689456
A23: Cu | C23: ppm | D23: 28 | E23: 4 | I23: Mean | J23: ='Table S12a'!W127 -> 171.31754 | K23: ='Table S12a'!X127 -> 741.47085 | L23: ='Table S12b'!W128 -> 6.936882 | M23: ='Table S12b'!X128 -> 8.3680466 | N23: =L23*260000000/1000000000 -> 1.8035893 | O23: =M23*260000000/1000000000 -> 2.1756921
A24: Zn | C24: ppm | D24: 67 | E24: 6 | I24: Median | J24: ='Table S12a'!W128 -> 80.999149 | K24: ='Table S12a'!X128 -> 394.94937 | L24: ='Table S12b'!W129 -> 3.6709138 | M24: ='Table S12b'!X129 -> 4.4372429 | N24: =L24*260000000/1000000000 -> 0.95443758 | O24: =M24*260000000/1000000000 -> 1.1536832
A25: Ga | C25: ppm | D25: 17.5 | E25: 0.7
A26: Ge | C26: ppm | D26: 1.4 | E26: 0.1
A27: As | C27: ppm | D27: 4.8 | E27: 0.5
A28: Se | C28: ppm | D28: 0.09 | E28: 0.05
A29: Br | C29: ppm | D29: 1.6 | E29: -
A30: Rb | C30: ppm | D30: 84 | E30: 17
A31: Sr | C31: ppm | D31: 320 | E31: 46
A32: Y | C32: ppm | D32: 21 | E32: 2
A33: Zr | C33: ppm | D33: 193 | E33: 28
A34: Nb | C34: ppm | D34: 12 | E34: 1
A35: Mo | C35: ppm | D35: 1.1 | E35: 0.3
A36: Ru | C36: ppm | D36: 0.34 | E36: 0.02
A37: Pd | C37: ppm | D37: 0.52 | E37: 0.02
A38: Ag | C38: ppm | D38: 53 | E38: 3
A39: Cd | C39: ppm | D39: 0.09 | E39: 0.01
A40: In | C40: ppm | D40: 0.056 | E40: 0.008
A41: Sn | C41: ppm | D41: 2.1 | E41: 0.5
A42: Sb | C42: ppm | D42: 0.4 | E42: 0.1
...

Sheet Table S1b
A1: Table S1b. | B1: List of critical minerals, including rare earth elements (REEs), published by the U.S. Geological Survey in 2022.
B2: REY + scandium (Sc) are shown in BOLD; no data - .
A4: Alphabetic | B4: Atomic Number | C4: Symbol | D4: Name | E4: Uses
A5: 24 | B5: 3 | C5: Li | D5: Lithium | E5: rechargeable batteries
A6: 5 | B6: 4 | C6: Be | D6: Beryllium | E6: an alloying agent in aerospace and defense industries
A7: 18 | B7: 6 | C7: C | D7: Graphite | E7: lubricants, batteries, and fuel cells
A8: 26 | B8: 12 | C8: Mg | D8: Magnesium | E8: an alloy and for reducing metals
A9: 1 | B9: 13 | C9: Al | D9: Aluminum | E9: almost all sectors of the economy
A10: 38 | B10: 21 | C10: Sc | D10: Scandium | E10: alloys, ceramics, and fuel cells
A11: 44 | B11: 22 | C11: Ti | D11: Titanium | E11: a white pigment or metal alloys
A12: 46 | B12: 23 | C12: Va | D12: Vanadium | E12: alloying agent for iron and steel
A13: 9 | B13: 24 | C13: Cr | D13: Chromium | E13: primarily in stainless steel and other alloys
A14: 27 | B14: 25 | C14: Mn | D14: Manganese | E14: steelmaking and batteries
A15: 10 | B15: 27 | C15: Co | D15: Cobalt | E15: rechargeable batteries and superalloys
A16: 29 | B16: 28 | C16: Ni | D16: Nickel | E16: make stainless steel, superalloys, and rechargeable batteries
... A52: 6 | B52: 83 | C52: Bi | D52: Bismuth | E52: medical and atomic research
A53: 4 | B53: - | C53: Ba2SO4 | D53: Barite | E53: hydrocarbon production.
A54: 14 | B54: - | C54: CaF2 | D54: Fluorspar | E54: manufacture of aluminum, cement, steel, gasoline, and fluorine chemicals
A56: Data sources: US Geological Survey (2022a,b)8,9.

Sheet Table S2a
A1: Table S2a | B1: Details of samples analyzed for critical minerals, including rare earth elements (REEs), in this study.
B2: Samples from the sequence 37 - 46, 91 -102, and 107 - 118 were obtained from Zygarlicke et al. (2019)10; no data - .
A4: Sequence | B4: Lab Number (this study) | C4: Sample ID | D4: Collected | E4: State | F4: County | G4: Collector | H4: Latitude | I4: Longitude | J4: Geologic Age | K4: Formation/Group Name | L4: Coal Rank or Lithology | M4: Mine or location name | N4: Sample type | O4: Elevation (approx., ft) | P4: Elev. (approx. m) | Q4: Bed thickness (ft) | R4: Bed thickness (m) | S4: Moisture (%) | T4: Relevant Publications | U4: Comments
A5: 0 | B5: 202202464-005 | C5: AL-CR-SCH-1 | D5: 44845 | E5: AL | F5: Crenshaw | G5: Alabama Geol Surv | H5: 31.5958 | I5: -86.1707 | J5: Paleocene | K5: Nanafalia Formation? | L5: Lignite | M5: Shell SCH. 24-A well | N5: coal channel | O5: - | P5: - | Q5: 3 | R5: =Q5*0.3048 -> 0.9144 | T5: - | U5: -
A6: 1 | B6: 202202464-002 | C6: AL-WI-GCS-6-12 | D6: 44845 | E6: AL | F6: Wilcox | G6: Alabama Geol Surv | H6: 31.915199 | I6: -87.358398 | J6: Paleocene | K6: Naheola Formation | L6: Lignite | M6: Gravel Creek sand pit | N6: coal channel | O6: - | P6: - | Q6: 2 | R6: =Q6*0.3048 -> 0.6096 | T6: - | U6: -
A7: 2 | B7: 202300618-004 | C7: AL-WI-GCS-11 | D7: 44992 | E7: AL | F7: Wilcox | G7: Alabama Geol Surv | H7: 31.915199 | I7: -87.358398 | J7: Paleocene | K7: Naheola Formation | L7: Lignitic Clay | M7: Gravel Creek sand pit | N7: clay channel | O7: - | P7: - | Q7: 2 | R7: =Q7*0.3048 -> 0.6096 | T7: - | U7: -
A8: 3 | B8: 202300618-001 | C8: AL-CL-US43-3 | D8: 44992 | E8: AL | F8: Clarke | G8: Alabama Geol Surv | H8: 31.971701 | I8: -87.752602 | J8: Paleocene | K8: Tuscahoma Formation | L8: Lignitic Clay | M8: U.S. Highway 43 | N8: clay channel | O8: - | P8: - | Q8: 0.33 | R8: =Q8*0.3048 -> 0.100584 | T8: - | U8: -
A9: 4 | B9: 202202464-004 | C9: AL-CL-US43-6 | D9: 44845 | E9: AL | F9: Clarke | G9: Alabama Geol Surv | H9: 31.971701 | I9: -87.752602 | J9: Paleocene | K9: Tuscahoma Formation | L9: Lignite | M9: U.S. Highway 43 | N9: coal channel | O9: - | P9: - | Q9: 0.5 | R9: =Q9*0.3048 -> 0.1524 | T9: - | U9: -
A10: 5 | B10: 202300618-003 | C10: AL-CL-US43-8 | D10: 44992 | E10: AL | F10: Clarke | G10: Alabama Geol Surv | H10: 31.971701 | I10: -87.752602 | J10: Paleocene | K10: Tuscahoma Formation | L10: Lignitic Clay | M10: U.S. Highway 43 | N10: clay channel | O10: - | P10: - | Q10: 1.08 | R10: =Q10*0.3048 -> 0.329184 | T10: - | U10: -
A11: 6 | B11: 202202464-003 | C11: AL-CL-US43-11 | D11: 44845 | E11: AL | F11: Clarke | G11: Alabama Geol Surv | H11: 31.971701 | I11: -87.752602 | J11: Paleocene | K11: Tuscahoma Formation | L11: Lignite | M11: U.S. Highway 43 | N11: coal channel | O11: - | P11: - | Q11: 0.5 | R11: =Q11*0.3048 -> 0.1524 | T11: - | U11: -
A12: 7 | B12: 202202464-001 | C12: AL-CH-KCSC-1-2-3 | D12: 44845 | E12: AL | F12: Choctaw | G12: Alabama Geol Surv | H12: 32.297501 | I12: -88.174202 | J12: Paleocene | K12: Naheola Formation | L12: Lignite | M12: Outcrop | N12: coal channel | O12: - | P12: - | Q12: 2 | R12: =Q12*0.3048 -> 0.6096 | T12: - | U12: -
A13: 8 | B13: 202202464-007 | C13: AL-CH-OSM1-245-247 | D13: 44845 | E13: AL | F13: Choctaw | G13: Alabama Geol Surv | H13: 32.188 | I13: -88.175697 | J13: Paleocene | K13: Naheola Formation | L13: Lignite | M13: Outcrop | N13: coal channel | O13: - | P13: - | Q13: 2 | R13: =Q13*0.3048 -> 0.6096 | T13: - | U13: -
A14: 9 | B14: 202202464-008 | C14: AL-CH-OSM1-242.8-244.5 | D14: 44845 | E14: AL | F14: Choctaw | G14: Alabama Geol Surv | H14: 32.188 | I14: -88.175697 | J14: Paleocene | K14: Naheola Formation | L14: Lignite | M14: Outcrop | N14: coal channel | O14: - | P14: - | Q14: 2 | R14: =Q14*0.3048 -> 0.6096 | T14: - | U14: -
A15: 10 | B15: 202300618-002 | C15: AL-CH-OSM1-249.0 | D15: 44992 | E15: AL | F15: Choctaw | G15: Alabama Geol Surv | H15: 32.188 | I15: -88.175697 | J15: Paleocene | K15: Naheola Formation | L15: Carbonaceous Clay | M15: Outcrop | N15: clay channel | O15: - | P15: - | Q15: 2 | R15: =Q15*0.3048 -> 0.6096 | T15: - | U15: -
A16: 11 | B16: 202202464-006 | C16: AL-CH-OSM2-253 | D16: 44845 | E16: AL | F16: Choctaw | G16: Alabama Geol Surv | H16: 32.0565 | I16: -88.278397 | J16: Paleocene | K16: Naheola Formation | L16: Lignite | M16: Outcrop | N16: coal channel | O16: - | P16: - | Q16: 2 | R16: =Q16*0.3048 -> 0.6096 | T16: - | U16: -
... A19: 14 | B19: 202301262-009 | C19: MALV | D19: 44455 | E19: AR | F19: Hot Spring | G19: Akansas Geol Surv | H19: 34.3367 | I19: -92.7834 | J19: Paleocene-Eocene | K19: Wilcox Group | L19: Lignite | M19: Malvern | N19: coal channel | O19: - | P19: - | Q19: 2 | R19: =Q19*0.3048 -> 0.6096 | T19: - | U19: -
A20: 15 | B20: 202302281-007 | C20: CDM-CP | D20: 35181 | E20: AR | F20: Oauchita | G20: PD Warwick (USGS) | H20: 33.74477 | I20: -92.91239 | J20: Paleocene-Eocene | K20: Wilcox Group | L20: Lignite | M20: Camden mine | N20: coal channel | O20: 172.64 | P20: =O20*0.3048 -> 52.620672 | Q20: 1.57 | R20: =Q20*0.3048 -> 0.478536 | T20: Hackley et al. (2011)11 | U20: -
A21: 16 | B21: 202302281-001 | C21: OX-1D | D21: 34310 | E21: LA | F21: Red River | G21: PD Warwick (USGS) | H21: 32.00444 | I21: -93.39889 | J21: Paleocene-Eocene | K21: Naborton Formation | L21: Lignite | M21: Oxbow mine | N21: coal channel | O21: 152.63 | P21: =O21*0.3048 -> 46.521624 | Q21: 1.08 | R21: =Q21*0.3048 -> 0.329184 | T21: USGS Energy Resources Program (2014)12 | U21: well banded coal
A22: 17 | B22: 202302281-002 | C22: OX-2A | D22: 34310 | E22: LA | F22: Red River | G22: PD Warwick (USGS) | H22: 32.00444 | I22: -93.39889 | J22: Paleocene-Eocene | K22: Naborton Formation | L22: Lignite | M22: Oxbow mine | N22: coal channel | O22: 152.63 | P22: =O22*0.3048 -> 46.521624 | Q22: 1.08 | R22: =Q22*0.3048 -> 0.329184 | T22: USGS Energy Resources Program (2014)12 | U22: channel top of coal - banded
A23: 18 | B23: 202302281-003 | C23: OX-P2 | D23: 34310 | E23: LA | F23: Red River | G23: PD Warwick (USGS) | H23: 32.00444 | I23: -93.39889 | J23: Paleocene-Eocene | K23: Naborton Formation | L23: Lignite | M23: Oxbow mine | N23: Rock parting | O23: 152.63 | P23: =O23*0.3048 -> 46.521624 | Q23: 2.95 | R23: =Q23*0.3048 -> 0.89916 | T23: - | U23: clay parting - thickness variable
A24: 19 | B24: 202201316-010 | C24: DH2-1A | D24: 34309 | E24: LA | F24: DE SOTO | G24: PD Warwick (USGS) | H24: 31.971389 | I24: -93.551111 | J24: Paleocene-Eocene | K24: Naborton Formation | L24: Lignite | M24: Dolet Hills mine | N24: coal channel | O24: 350 | P24: =O24*0.3048 -> 106.68 | Q24: 0.69 | R24: =Q24*0.3048 -> 0.210312 | S24: 8.25 | T24: USGS Energy Resources Program (2014)12 | U24: Base of coal
A25: 20 | B25: 202201316-011 | C25: DH2-1C | D25: 34309 | E25: LA | F25: DE SOTO | G25: PD Warwick (USGS) | H25: 31.971389 | I25: -93.551111 | J25: Paleocene-Eocene | K25: Naborton Formation | L25: Lignite | M25: Dolet Hills mine | N25: coal channel | O25: 350 | P25: =O25*0.3048 -> 106.68 | Q25: 0.92 | R25: =Q25*0.3048 -> 0.280416 | S25: 7.97 | T25: USGS Energy Resources Program (2014)12 | U25: upper lower bench
A26: 21 | B26: 202201316-012 | C26: DH2-3A | D26: 34309 | E26: LA | F26: DE SOTO | G26: PD Warwick (USGS) | H26: 31.971389 | I26: -93.551111 | J26: Paleocene-Eocene | K26: Naborton Formation | L26: Lignite | M26: Dolet Hills mine | N26: coal channel | O26: 350 | P26: =O26*0.3048 -> 106.68 | Q26: 1.11 | R26: =Q26*0.3048 -> 0.338328 | S26: 7.84 | T26: USGS Energy Resources Program (2014)12 | U26: Lower middle bench
A27: 22 | B27: 202201316-013 | C27: DH2-3C | D27: 34309 | E27: LA | F27: DE SOTO | G27: PD Warwick (USGS) | H27: 31.971389 | I27: -93.551111 | J27: Paleocene-Eocene | K27: Naborton Formation | L27: Lignite | M27: Dolet Hills mine | N27: coal channel | O27: 350 | P27: =O27*0.3048 -> 106.68 | Q27: 0.77 | R27: =Q27*0.3048 -> 0.234696 | S27: 7.79 | T27: USGS Energy Resources Program (2014)12 | U27: Upper middle bench
A28: 23 | B28: 202201316-014 | C28: DH2-4A | D28: 34309 | E28: LA | F28: DE SOTO | G28: PD Warwick (USGS) | H28: 31.971389 | I28: -93.551111 | J28: Paleocene-Eocene | K28: Naborton Formation | L28: Lignite | M28: Dolet Hills mine | N28: coal channel | O28: 350 | P28: =O28*0.3048 -> 106.68 | Q28: 0.79 | R28: =Q28*0.3048 -> 0.240792 | S28: 7.48 | T28: USGS Energy Resources Program (2014)12 | U28: Top of coal
A29: 24 | B29: 202201316-015 | C29: DH BLUE-P1 | D29: 34082 | E29: LA | F29: DE SOTO | G29: PD Warwick (USGS) | H29: 31.9625 | I29: -93.523167 | J29: Paleocene-Eocene | K29: Naborton Formation | L29: Claystone | M29: Dolet Hills mine | N29: rock - tonstein? | O29: 227.04 | P29: =O29*0.3048 -> 69.201792 | Q29: 0.26 | R29: =Q29*0.3048 -> 0.079248 | S29: 2.65 | T29: - | U29: Dolet Hills "tonstein" parting
A30: 25 | B30: 202201316-009 | C30: MS-02-H | D30: 37384 | E30: MS | F30: Choctaw | G30: PD Warwick (USGS) | H30: 33.38011 | I30: -89.23919 | J30: Paleocene-Eocene | K30: Nanafalia Formation | L30: Lignite | M30: Red Hills mine | N30: coal channel | O30: 394 | P30: =O30*0.3048 -> 120.0912 | Q30: 2.7 | R30: =Q30*0.3048 -> 0.82296 | S30: 14.29 | T30: USGS Energy Resources Program (2014)12 | U30: -
A31: 26 | B31: 202201316-008 | C31: MS-02-G | D31: 37384 | E31: MS | F31: Choctaw | G31: PD Warwick (USGS) | H31: 33.37852 | I31: -89.24039 | J31: Paleocene-Eocene | K31: Nanafalia Formation | L31: Lignite | M31: Red Hills mine | N31: coal channel | O31: 383 | P31: =O31*0.3048 -> 116.7384 | Q31: 2.8 | R31: =Q31*0.3048 -> 0.85344 | S31: 33.01 | T31: USGS Energy Resources Program (2014)12 | U31: -
A32: 27 | B32: 202201316-007 | C32: MS-02-F | D32: 37384 | E32: MS | F32: Choctaw | G32: PD Warwick (USGS) | H32: 33.3772 | I32: -89.24298 | J32: Paleocene-Eocene | K32: Nanafalia Formation | L32: Lignite | M32: Red Hills mine | N32: coal channel | O32: 387 | P32: =O32*0.3048 -> 117.9576 | Q32: 5.7 | R32: =Q32*0.3048 -> 1.73736 | S32: 32.19 | T32: USGS Energy Resources Program (2014)12 | U32: -
A33: 28 | B33: 202201316-005 | C33: MS-02-E | D33: 37384 | E33: MS | F33: Choctaw | G33: PD Warwick (USGS) | H33: 33.37689 | I33: -89.24347 | J33: Paleocene-Eocene | K33: Nanafalia Formation | L33: Lignite | M33: Red Hills mine | N33: coal channel | O33: 344.5 | P33: =O33*0.3048 -> 105.0036 | Q33: 4 | R33: =Q33*0.3048 -> 1.2192 | S33: 10.48 | T33: USGS Energy Resources Program (2014)12 | U33: -
A34: 29 | B34: 202201316-001 | C34: MS-08-C3.4 | D34: 39510 | E34: MS | F34: Choctaw | G34: PD Warwick (USGS) | H34: 33.389492 | I34: -89.243611 | J34: Paleocene-Eocene | K34: Nanafalia Formation | L34: Lignite | M34: Red Hills mine | N34: coal channel | O34: 307 | P34: =O34*0.3048 -> 93.5736 | Q34: 3.2 | R34: =Q34*0.3048 -> 0.97536 | S34: 27.53 | T34: - | U34: -
A35: 30 | B35: 202201316-003 | C35: MS-02-DP | D35: 37384 | E35: MS | F35: Choctaw | G35: PD Warwick (USGS) | H35: 33.37539 | I35: -89.24625 | J35: Paleocene-Eocene | K35: Nanafalia Formation | L35: Lignite | M35: Red Hills mine | N35: coal channel | O35: 253 | P35: =O35*0.3048 -> 77.1144 | Q35: 0.3 | R35: =Q35*0.3048 -> 0.09144 | S35: 8.03 | T35: - | U35: -
... A40: 35 | B40: 202201316-017 | C40: SBN-1C | D40: 35180 | E40: TX | F40: Harrison | G40: PD Warwick (USGS) | H40: 32.450292 | I40: -94.558033 | J40: Paleocene-Eocene | K40: Wilcox Group | L40: Lignite | M40: Sabine mine | N40: coal channel | O40: 337.13 | P40: =O40*0.3048 -> 102.75722 | Q40: 1.74 | R40: =Q40*0.3048 -> 0.530352 | S40: 13.3 | T40: USGS Energy Resources Program (2014)12 | U40: -
A41: 36 | B41: - | C41: 124331 | D41: - | E41: TX | F41: Harrison | G41: - | H41: 32.353 | I41: -94.527889 | J41: Paleocene-Eocene | K41: Wilcox Group | L41: Lignite | M41: Sabine mine | N41: coal channel | O41: - | P41: - | Q41: - | R41: - | T41: Zygarlicke et al. (2019)10 | U41: Sabine coal 17218-1 W100 38.2 - 39.6 ft
A42: 37 | B42: - | C42: 124332 | D42: - | E42: TX | F42: Harrison | G42: - | H42: 32.353 | I42: -94.527889 | J42: Paleocene-Eocene | K42: Wilcox Group | L42: Lignite | M42: Sabine mine | N42: coal channel | O42: - | P42: - | Q42: - | R42: - | T42: Zygarlicke et al. (2019)10 | U42: Sabine coal 17218-2 W100 58.2 - 61.2 ft
A43: 38 | B43: - | C43: 124333 | D43: - | E43: TX | F43: Harrison | G43: - | H43: 32.353 | I43: -94.527889 | J43: Paleocene-Eocene | K43: Wilcox Group | L43: Lignite | M43: Sabine mine | N43: coal channel | O43: - | P43: - | Q43: - | R43: - | T43: Zygarlicke et al. (2019)10 | U43: Sabine coal 17218-3 W100 80.3 - 82.2 ft
A44: 39 | B44: - | C44: 124338 | D44: - | E44: TX | F44: Harrison | G44: - | H44: 32.353 | I44: -94.527889 | J44: Paleocene-Eocene | K44: Wilcox Group | L44: Lignite | M44: Sabine mine | N44: coal channel | O44: - | P44: - | Q44: - | R44: - | T44: Zygarlicke et al. (2019)10 | U44: Sabine coal 17218-4 W100 82.7 - 85.1 ft
A45: 40 | B45: - | C45: 124339 | D45: - | E45: TX | F45: Harrison | G45: - | H45: 32.352722 | I45: -94.527361 | J45: Paleocene-Eocene | K45: Wilcox Group | L45: Lignite | M45: Sabine mine | N45: coal channel | O45: - | P45: - | Q45: - | R45: - | T45: Zygarlicke et al. (2019)10 | U45: Sabine coal 17218-5 W101 27.3 - 30.7 ft
A46: 41 | B46: - | C46: 124340 | D46: - | E46: TX | F46: Harrison | G46: - | H46: 32.353028 | I46: -94.526694 | J46: Paleocene-Eocene | K46: Wilcox Group | L46: Lignite | M46: Sabine mine | N46: coal channel | O46: - | P46: - | Q46: - | R46: - | T46: Zygarlicke et al. (2019)10 | U46: Sabine coal 17218-13 W104 71.4 - 74.7 ft
A47: 42 | B47: - | C47: 124341 | D47: - | E47: TX | F47: Harrison | G47: - | H47: 32.353028 | I47: -94.526694 | J47: Paleocene-Eocene | K47: Wilcox Group | L47: Lignite | M47: Sabine mine | N47: coal channel | O47: - | P47: - | Q47: - | R47: - | T47: Zygarlicke et al. (2019)10 | U47: Sabine coal 17218-14 W104 97.0 - 99.4 ft
...

Sheet Table S2b
A1: Table S2b | B1: Quality Control Data for samples analyzed by Standard Labs. | N1: Results of duplicate analyses of samples 28 and 104 showing replicability of the analyses..
N2: Sequence | O2: Lab. No. | P2: Sample ID | R2: La | S2: Ce | T2: Pr | U2: Nd | V2: Sm | W2: Eu | X2: Gd | Y2: Tb | Z2: Dy | AA2: Ho | AB2: Er | AC2: Tm | AD2: Yb | AE2: Lu | AF2: Y | AG2: Sc | AI2: LI | AJ2: Be | AK2: Mg | AL2: Al | AM2: P | AN2: Ti | AO2: V | AP2: Cr | AQ2: Mn | AR2: Co | AS2: Ni | AT2: Zn | AU2: Ga | AV2: Ge | AW2: As | AX2: Zr | AY2: Nb | AZ2: Sn | BA2: Sb | BB2: Ba | BC2: Hf | BD2: Ta | BE2: W | BF2: U
A3: Elemental recoveries (Result) relative to quality control reference values (Spike Amount) | N3: 28 | O3: 202201316-005 | P3: MS-02-E | R3: 3.9 | S3: 8.2 | T3: 1 | U3: 4.3 | V3: 1 | W3: 0.25 | X3: 1 | Y3: 0.17 | Z3: 1.1 | AA3: 0.24 | AB3: 0.76 | AC3: 0.11 | AD3: 0.7 | AE3: 0.11 | AF3: 8.7 | AG3: 3.6 | AI3: 5.3 | AJ3: 1.5 | AK3: 2950 | AL3: 10200 | AM3: <10 | AN3: 1190 | AO3: 26 | AP3: 15 | AQ3: 352 | AR3: 5.7 | AS3: 13 | AT3: 3 | AU3: 5.3 | AV3: 3 | AW3: 11.3 | AX3: 24.9 | AY3: 3 | AZ3: 0.6 | BA3: 0.83 | BB3: 219 | BC3: 0.7 | BD3: 0.24 | BE3: 1.6 | BF3: 1.1
A4: NIST 1632d contains 0.445 Sb, same as "Spike Amount" entries. | N4: 28 duplicate | O4: 202201316-006 | P4: X1 | R4: 3.8 | S4: 8 | T4: 1 | U4: 4.2 | V4: 0.9 | W4: 0.24 | X4: 1 | Y4: 0.17 | Z4: 1.1 | AA4: 0.24 | AB4: 0.75 | AC4: 0.11 | AD4: 0.69 | AE4: 0.11 | AF4: 8.5 | AG4: 3.5 | AI4: 4.9 | AJ4: 1.4 | AK4: 2930 | AL4: 9850 | AM4: <10 | AN4: 1160 | AO4: 26 | AP4: 15 | AQ4: 349 | AR4: 5.8 | AS4: 13 | AT4: 3 | AU4: 5.3 | AV4: 3 | AW4: 11.3 | AX4: 24.8 | AY4: 3 | AZ4: 0.6 | BA4: 0.83 | BB4: 221 | BC4: 0.7 | BD4: 0.23 | BE4: 1.5 | BF4: 1.1
A5: The RDL column shows the reporting detection limit - the lowest analyte concentration that can be reported at some degree of confidence | Q5: % diff. | R5: =(R3-R4)/R3*100 -> 2.5641026 | S5: =(S3-S4)/S3*100 -> 2.4390244 | T5: =(T3-T4)/T3*100 -> 0 | U5: =(U3-U4)/U3*100 -> 2.3255814 | V5: =(V3-V4)/V3*100 -> 10 | W5: =(W3-W4)/W3*100 -> 4 | X5: =(X3-X4)/X3*100 -> 0 | Y5: =(Y3-Y4)/Y3*100 -> 0 | ... AG5: =(AG3-AG4)/AG3*100 -> 2.7777778 | AI5: =(AI3-AI4)/AI3*100 -> 7.5471698 | AJ5: =(AJ3-AJ4)/AJ3*100 -> 6.6666667 | AK5: =(AK3-AK4)/AK3*100 -> 0.6779661 | AL5: =(AL3-AL4)/AL3*100 -> 3.4313725 | AN5: =(AN3-AN4)/AN3*100 -> 2.5210084 | AO5: =(AO3-AO4)/AO3*100 -> 0 | AP5: =(AP3-AP4)/AP3*100 -> 0 | AQ5: =(AQ3-AQ4)/AQ3*100 -> 0.85227273 | AR5: =(AR3-AR4)/AR3*100 -> -1.754386 | AS5: =(AS3-AS4)/AS3*100 -> 0 | AT5: =(AT3-AT4)/AT3*100 -> 0 | AU5: =(AU3-AU4)/AU3*100 -> 0 | ... BF5: =(BF3-BF4)/BF3*100 -> 0
A6: The data show accuracy (% recovery) and to some extent signal to noise (SpikeAmount/RDL). | N6: 104 | O6: 202201316-038 | P6: ST-94-1 | R6: 7.7 | S6: 14.6 | T6: 1.6 | U6: 6 | V6: 1.2 | W6: 0.25 | X6: 1.1 | Y6: 0.16 | Z6: 0.9 | AA6: 0.17 | AB6: 0.5 | AC6: 0.07 | AD6: 0.45 | AE6: 0.07 | AF6: 5.1 | AG6: 6.9 | AI6: 51 | AJ6: 0.6 | AK6: 594 | AL6: 23700 | AM6: 20 | AN6: 1450 | AO6: 44 | AP6: 21 | AQ6: 51 | AR6: 2.7 | AS6: 9 | AT6: 5 | AU6: 6.7 | AV6: 5 | AW6: 0.9 | AX6: 46.9 | AY6: 3.1 | AZ6: 1.1 | BA6: 0.98 | BB6: 42 | BC6: 1.3 | BD6: 0.29 | BE6: 0.4 | BF6: 1.7
A7: The measured analyte concentrations were significantly higher than RDLs | N7: 104 duplicate | O7: 202201316-039 | P7: X2 | R7: 7.8 | S7: 14.8 | T7: 1.6 | U7: 6.1 | V7: 1.2 | W7: 0.25 | X7: 1.1 | Y7: 0.16 | Z7: 0.9 | AA7: 0.17 | AB7: 0.49 | AC7: 0.07 | AD7: 0.44 | AE7: 0.07 | AF7: 4.9 | AG7: 6.9 | AI7: 49.4 | AJ7: 0.5 | AK7: 594 | AL7: 23100 | AM7: 19 | AN7: 1470 | AO7: 44 | AP7: 22 | AQ7: 44 | AR7: 2.7 | AS7: 9 | AT7: 7 | AU7: 6.7 | AV7: 5 | AW7: 0.9 | AX7: 46.3 | AY7: 3.2 | AZ7: 4.8 | BA7: 0.93 | BB7: 46 | BC7: 1.3 | BD7: 0.29 | BE7: 0.4 | BF7: 1.7
A8: QC standards (while numerous) were only analyzed once per run, so no precision information can be extracted | Q8: % diff. | R8: =(R6-R7)/R6*100 -> -1.2987013 | S8: =(S6-S7)/S6*100 -> -1.369863 | T8: =(T6-T7)/T6*100 -> 0 | U8: =(U6-U7)/U6*100 -> -1.6666667 | V8: =(V6-V7)/V6*100 -> 0 | W8: =(W6-W7)/W6*100 -> 0 | X8: =(X6-X7)/X6*100 -> 0 | Y8: =(Y6-Y7)/Y6*100 -> 0 | ... AG8: =(AG6-AG7)/AG6*100 -> 0 | AI8: =(AI6-AI7)/AI6*100 -> 3.1372549 | AJ8: =(AJ6-AJ7)/AJ6*100 -> 16.666667 | AK8: =(AK6-AK7)/AK6*100 -> 0 | AL8: =(AL6-AL7)/AL6*100 -> 2.5316456 | AM8: =(AM6-AM7)/AM6*100 -> 5 | AN8: =(AN6-AN7)/AN6*100 -> -1.3793103 | AO8: =(AO6-AO7)/AO6*100 -> 0 | AP8: =(AP6-AP7)/AP6*100 -> -4.7619048 | ... BF8: =(BF6-BF7)/BF6*100 -> 0
A9: Approximatly 20 - 25% of analyte recoveries were outside the 10% bounds of the QC standards.
A11: Quality Control Standard Results for Samples 202201316-001 through 202201316-025
A12: QCBatchID | B12: Description | C12: QCType | D12: SpikeAmount | E12: Result | F12: PercentRecovery | G12: Method | H12: Units | I12: RDL | J12: AnalysisTime | K12: AnalysisEmployee
A13: QC2206051 | B13: Antimony | C13: Nist 1632d | D13: 0.445 | E13: 0.435 | F13: 97.752809 | G13: ASTM D6357 MOD - ICP-MS | H13: ug/g | I13: 0.02 | J13: 44721.667 | K13: JMW
A14: QC2206051 | B14: Antimony | C14: Nist 1633b | D14: 6 | E14: 5.66 | F14: 94.333333 | G14: ASTM D6357 MOD - ICP-MS | H14: µg/g | I14: 0.02 | J14: 44721.667 | K14: JMW
A15: QC2206051 | B15: Antimony | C15: Nist 1633c | D15: 8.56 | E15: 8.78 | F15: 102.57009 | G15: ASTM D6357 MOD - ICP-MS | H15: µg/g | I15: 0.02 | J15: 44721.667 | K15: JMW
A16: QC2206051 | B16: Antimony | C16: Nist 1633c Dup | D16: 8.56 | E16: 8.51 | F16: 99.415888 | G16: ASTM D6357 MOD - ICP-MS | H16: µg/g | I16: 0.02 | J16: 44721.667 | K16: JMW
A17: QC2206051 | B17: Antimony | C17: Nist 2702 | D17: 5.6 | E17: 5.46 | F17: 97.5 | G17: ASTM D6357 MOD - ICP-MS | H17: µg/g | I17: 0.02 | J17: 44721.667 | K17: JMW
A18: QC2206051 | B18: Antimony | C18: Nist 2711 | D18: 19.4 | E18: 19.5 | F18: 100.51546 | G18: ASTM D6357 MOD - ICP-MS | H18: µg/g | I18: 0.02 | J18: 44721.667 | K18: JMW
A19: QC2206051 | B19: Antimony | C19: SARM 18 | D19: 0.3 | E19: 0.275 | F19: 91.666667 | G19: ASTM D6357 MOD - ICP-MS | H19: µg/g | I19: 0.02 | J19: 44721.667 | K19: JMW
A20: QC2206051 | B20: Antimony | C20: SARM 19 | D20: 0.3 | E20: 0.351 | F20: 117 | G20: ASTM D6357 MOD - ICP-MS | H20: µg/g | I20: 0.02 | J20: 44721.667 | K20: JMW
A21: QC2206051 | B21: Arsenic | C21: Nist 1632d | D21: 6.1 | E21: 6.12 | F21: 100.32787 | G21: ASTM D6357 MOD - ICP-MS | H21: ug/g | I21: 0.1 | J21: 44721.667 | K21: JMW
A22: QC2206051 | B22: Arsenic | C22: Nist 1633b | D22: 136.2 | E22: 137 | F22: 100.58737 | G22: ASTM D6357 MOD - ICP-MS | H22: µg/g | I22: 0.1 | J22: 44721.667 | K22: JMW
A23: QC2206051 | B23: Arsenic | C23: Nist 1633c | D23: 186.2 | E23: 185 | F23: 99.355532 | G23: ASTM D6357 MOD - ICP-MS | H23: µg/g | I23: 0.1 | J23: 44721.667 | K23: JMW
A24: QC2206051 | B24: Arsenic | C24: Nist 1633c Dup | D24: 186.2 | E24: 185 | F24: 99.355532 | G24: ASTM D6357 MOD - ICP-MS | H24: µg/g | I24: 0.1 | J24: 44721.667 | K24: JMW
... A298: QC2206089 | B298: Tantalum | C298: USGS SGR-1 | D298: 0.42 | E298: 0.447 | F298: 106.42857 | G298: ASTM D6357 MOD - ICP-MS | H298: ug/g | I298: 0.02 | J298: 44721.667 | K298: JMW
A301: Quality Control Standard Results for Samples 202201316-026 through 202201316-042
A302: QCBatchID | B302: Description | C302: QCType | D302: SpikeAmount | E302: Result | F302: PercentRecovery | G302: Method | H302: Units | I302: RDL | J302: AnalysisTime | K302: AnalysisEmployee
A303: QC2206058 | B303: Antimony | C303: Nist 1632d | D303: 0.445 | E303: 0.433 | F303: 97.303371 | G303: ASTM D6357 MOD - ICP-MS | H303: ug/g | I303: 0.02 | J303: 44726.667 | K303: JMW
A304: QC2206058 | B304: Antimony | C304: Nist 1633b | D304: 6 | E304: 5.03 | F304: 83.833333 | G304: ASTM D6357 MOD - ICP-MS | H304: µg/g | I304: 0.02 | J304: 44726.667 | K304: JMW
A305: QC2206058 | B305: Antimony | C305: Nist 1633c | D305: 8.56 | E305: 8.82 | F305: 103.03738 | G305: ASTM D6357 MOD - ICP-MS | H305: µg/g | I305: 0.02 | J305: 44726.667 | K305: JMW
A306: QC2206058 | B306: Antimony | C306: Nist 1633c Dup | D306: 8.56 | E306: 8.6 | F306: 100.46729 | G306: ASTM D6357 MOD - ICP-MS | H306: µg/g | I306: 0.02 | J306: 44726.667 | K306: JMW
A307: QC2206058 | B307: Antimony | C307: Nist 2702 | D307: 5.6 | E307: 5.82 | F307: 103.92857 | G307: ASTM D6357 MOD - ICP-MS | H307: µg/g | I307: 0.02 | J307: 44726.667 | K307: JMW
A308: QC2206058 | B308: Antimony | C308: Nist 2711 | D308: 19.4 | E308: 19.7 | F308: 101.54639 | G308: ASTM D6357 MOD - ICP-MS | H308: µg/g | I308: 0.02 | J308: 44726.667 | K308: JMW
A309: QC2206058 | B309: Antimony | C309: SARM 18 | D309: 0.3 | E309: 0.294 | F309: 98 | G309: ASTM D6357 MOD - ICP-MS | H309: µg/g | I309: 0.02 | J309: 44726.667 | K309: JMW
A310: QC2206058 | B310: Arsenic | C310: Nist 1632d | D310: 6.1 | E310: 5.97 | F310: 97.868852 | G310: ASTM D6357 MOD - ICP-MS | H310: ug/g | I310: 0.1 | J310: 44726.667 | K310: JMW
A311: QC2206058 | B311: Arsenic | C311: Nist 1633b | D311: 136.2 | E311: 133 | F311: 97.650514 | G311: ASTM D6357 MOD - ICP-MS | H311: µg/g | I311: 0.1 | J311: 44726.667 | K311: JMW
A312: QC2206058 | B312: Arsenic | C312: Nist 1633c | D312: 186.2 | E312: 188 | F312: 100.9667 | G312: ASTM D6357 MOD - ICP-MS | H312: µg/g | I312: 0.1 | J312: 44726.667 | K312: JMW
A313: QC2206058 | B313: Arsenic | C313: Nist 1633c Dup | D313: 186.2 | E313: 185 | F313: 99.355532 | G313: ASTM D6357 MOD - ICP-MS | H313: µg/g | I313: 0.1 | J313: 44726.667 | K313: JMW
A314: QC2206058 | B314: Arsenic | C314: Nist 2702 | D314: 45.3 | E314: 49.2 | F314: 108.60927 | G314: ASTM D6357 MOD - ICP-MS | H314: µg/g | I314: 0.1 | J314: 44726.667 | K314: JMW
... A578: QC2206168 | B578: Tantalum | C578: USGS SGR-1 | D578: 0.42 | E578: 0.426 | F578: 101.42857 | G578: ASTM D6357 MOD - ICP-MS | H578: ug/g | I578: 0.02 | J578: 44726.667 | K578: JMW

Sheet Table S3a
A1: Table S3a. | B1: Concentrations of REEs on a dry coal basis.
B2: REY concentrations exceeding 300 ppm bolded in column W.
B3: Coutl, outlook coefficient (Seredin & Dai, 2012)21, defined in footnote. | F3: REE, Dry Coal Basis (ppm)
AD4: REY | AE4: REY | AF4: REY
F5: Light REE | K5: Heavy REE | AD5: ppm | AE5: Ratio | AF5: Ratio
A6: Sequence | B6: Sample ID | C6: Sample | D6: State | E6: Location | F6: La | G6: Ce | H6: Pr | I6: Nd | J6: Sm | K6: Eu | L6: Gd | M6: Tb | N6: Dy | O6: Ho | P6: Er | Q6: Tm | R6: Yb | S6: Lu | T6: Y | U6: Sc | V6: Pr, Nd, Tb, Dy | W6: REY | X6: REYSc | Y6: HREE/LREE | Z6: Coutl | AA6: Critical REE % | AB6: Ash % | AC6: Coal | AD6: ash basis | AE6: Ash/Coal | AF6: median
A7: 0 | B7: AL-CR-SCH-1 | C7: Lignite | D7: AL | E7: Shell SCH. 24-A well | F7: 19.2 | G7: 37 | H7: 4.2 | I7: 16.3 | J7: 3.3 | K7: 0.65 | L7: 3.1 | M7: 0.48 | N7: 2.7 | O7: 0.52 | P7: 1.5 | Q7: 0.2 | R7: 1.28 | S7: 0.18 | T7: 13.4 | U7: 7.5 | V7: =SUM(H7:I7,M7:N7) -> 23.68 | W7: =SUM(F7:T7) -> 104.01 | X7: =SUM(F7:U7) -> 111.51 | Y7: =SUM(K7:T7)/SUM(F7:J7) -> 0.300125 | Z7: =(SUM(I7,K7,M7,N7,P7,T7)/W7)/(SUM(G7,O7,Q7,R7,S7)/W7) -> 0.89407861 | AA7: =SUM(I7,K7,M7,N7,P7,T7)/W7*100 -> 33.679454 | AB7: 35.83 | AC7: =IF(AB7<50,"yes","no") -> yes | AD7: =W7/(AB7/100) -> 290.28747 | AE7: =AD7/W7 -> 2.7909573 | AF7: 3.9362344
A8: 1 | B8: AL-WI-GCS-6-12 | C8: Lignite | D8: AL | E8: Gravel Creek Sandpit | F8: 50.1 | G8: 110 | H8: 13 | I8: 51.9 | J8: 10.6 | K8: 2.03 | L8: 9.3 | M8: 1.32 | N8: 6.8 | O8: 1.2 | P8: 3.17 | Q8: 0.39 | R8: 2.29 | S8: 0.32 | T8: 29.8 | U8: 10 | V8: =SUM(H8:I8,M8:N8) -> 73.02 | W8: =SUM(F8:T8) -> 292.22 | X8: =SUM(F8:U8) -> 302.22 | Y8: =SUM(K8:T8)/SUM(F8:J8) -> 0.24032258 | Z8: =(SUM(I8,K8,M8,N8,P8,T8)/W8)/(SUM(G8,O8,Q8,R8,S8)/W8) -> 0.83204904 | AA8: =SUM(I8,K8,M8,N8,P8,T8)/W8*100 -> 32.516597 | AB8: 34.89 | AC8: =IF(AB8<50,"yes","no") -> yes | AD8: =W8/(AB8/100) -> 837.54657 | AE8: =AD8/W8 -> 2.8661508 | AF8: 3.9362344
A9: 2 | B9: AL-WI-GCS-11 | C9: Lignite | D9: AL | E9: Gravel Creek Sandpit | F9: 70 | G9: 144 | H9: 16.6 | I9: 60 | J9: 11.8 | K9: 2.28 | L9: 10 | M9: 1.36 | N9: 6.5 | O9: 1 | P9: 2.5 | Q9: 0.3 | R9: 1.9 | S9: 0.27 | T9: 21.2 | U9: 25 | V9: =SUM(H9:I9,M9:N9) -> 84.46 | W9: =SUM(F9:T9) -> 349.71 | X9: =SUM(F9:U9) -> 374.71 | Y9: =SUM(K9:T9)/SUM(F9:J9) -> 0.15644841 | Z9: =(SUM(I9,K9,M9,N9,P9,T9)/W9)/(SUM(G9,O9,Q9,R9,S9)/W9) -> 0.63633281 | AA9: =SUM(I9,K9,M9,N9,P9,T9)/W9*100 -> 26.833662 | AB9: 86.99 | AC9: =IF(AB9<50,"yes","no") -> no | AD9: =W9/(AB9/100) -> 402.01173 | AE9: =AD9/W9 -> 1.1495574 | AF9: 3.9362344
A10: 3 | B10: AL-CL-US43-3 | C10: Lignite | D10: AL | E10: U.S. Highway 43 | F10: 44.5 | G10: 82.8 | H10: 12.6 | I10: 51.1 | J10: 11.1 | K10: 2.51 | L10: 9 | M10: 1.22 | N10: 6.8 | O10: 1.25 | P10: 3.69 | Q10: 0.53 | R10: 3.56 | S10: 0.55 | T10: 28 | U10: 15.8 | V10: =SUM(H10:I10,M10:N10) -> 71.72 | W10: =SUM(F10:T10) -> 259.21 | X10: =SUM(F10:U10) -> 275.01 | Y10: =SUM(K10:T10)/SUM(F10:J10) -> 0.28258288 | Z10: =(SUM(I10,K10,M10,N10,P10,T10)/W10)/(SUM(G10,O10,Q10,R10,S10)/W10) -> 1.0522043 | AA10: =SUM(I10,K10,M10,N10,P10,T10)/W10*100 -> 36.001697 | AB10: 84.05 | AC10: =IF(AB10<50,"yes","no") -> no | AD10: =W10/(AB10/100) -> 308.39976 | AE10: =AD10/W10 -> 1.189768 | AF10: 3.9362344
A11: 4 | B11: AL-CL-US43-6 | C11: Lignite | D11: AL | E11: U.S. Highway 43 | F11: 4.9 | G11: 9.4 | H11: 1.2 | I11: 5.5 | J11: 1.5 | K11: 0.43 | L11: 1.9 | M11: 0.36 | N11: 2.5 | O11: 0.6 | P11: 2.01 | Q11: 0.29 | R11: 1.97 | S11: 0.31 | T11: 17.8 | U11: 4.1 | V11: =SUM(H11:I11,M11:N11) -> 9.56 | W11: =SUM(F11:T11) -> 50.67 | X11: =SUM(F11:U11) -> 54.77 | Y11: =SUM(K11:T11)/SUM(F11:J11) -> 1.252 | Z11: =(SUM(I11,K11,M11,N11,P11,T11)/W11)/(SUM(G11,O11,Q11,R11,S11)/W11) -> 2.2752586 | AA11: =SUM(I11,K11,M11,N11,P11,T11)/W11*100 -> 56.443655 | AB11: 13.51 | AC11: =IF(AB11<50,"yes","no") -> yes | AD11: =W11/(AB11/100) -> 375.05551 | AE11: =AD11/W11 -> 7.4019245 | AF11: 3.9362344
A12: 5 | B12: AL-CL-US43-8 | C12: Lignite | D12: AL | E12: U.S. Highway 43 | F12: 50.1 | G12: 101 | H12: 13.9 | I12: 55.6 | J12: 11.6 | K12: 2.7 | L12: 11.1 | M12: 1.59 | N12: 9.3 | O12: 1.8 | P12: 5.26 | Q12: 0.76 | R12: 5.02 | S12: 0.76 | T12: 44.7 | U12: 9.3 | V12: =SUM(H12:I12,M12:N12) -> 80.39 | W12: =SUM(F12:T12) -> 315.19 | X12: =SUM(F12:U12) -> 324.49 | Y12: =SUM(K12:T12)/SUM(F12:J12) -> 0.35740741 | Z12: =(SUM(I12,K12,M12,N12,P12,T12)/W12)/(SUM(G12,O12,Q12,R12,S12)/W12) -> 1.0897201 | AA12: =SUM(I12,K12,M12,N12,P12,T12)/W12*100 -> 37.802595 | AB12: 70.88 | AC12: =IF(AB12<50,"yes","no") -> no | AD12: =W12/(AB12/100) -> 444.68115 | AE12: =AD12/W12 -> 1.4108352 | AF12: 3.9362344
A13: 6 | B13: AL-CL-US43-11 | C13: Lignite | D13: AL | E13: U.S. Highwayy 43 | F13: 13.7 | G13: 27.1 | H13: 5.2 | I13: 24.5 | J13: 5.8 | K13: 1.38 | L13: 5.4 | M13: 0.75 | N13: 4.1 | O13: 0.8 | P13: 2.32 | Q13: 0.31 | R13: 2.04 | S13: 0.31 | T13: 19.1 | U13: 2.6 | V13: =SUM(H13:I13,M13:N13) -> 34.55 | W13: =SUM(F13:T13) -> 112.81 | X13: =SUM(F13:U13) -> 115.41 | Y13: =SUM(K13:T13)/SUM(F13:J13) -> 0.4785059 | Z13: =(SUM(I13,K13,M13,N13,P13,T13)/W13)/(SUM(G13,O13,Q13,R13,S13)/W13) -> 1.7064791 | AA13: =SUM(I13,K13,M13,N13,P13,T13)/W13*100 -> 46.228171 | AB13: 11.25 | AC13: =IF(AB13<50,"yes","no") -> yes | AD13: =W13/(AB13/100) -> 1002.7556 | AE13: =AD13/W13 -> 8.8888889 | AF13: 3.9362344
A14: 7 | B14: AL-CH-KCSC-1-2-3 | C14: Lignite | D14: AL | E14: Outcrop | F14: 10.4 | G14: 28 | H14: 3.7 | I14: 15.7 | J14: 3.4 | K14: 0.77 | L14: 2.9 | M14: 0.42 | N14: 2.4 | O14: 0.49 | P14: 1.48 | Q14: 0.21 | R14: 1.4 | S14: 0.21 | T14: 11.6 | U14: 3.3 | V14: =SUM(H14:I14,M14:N14) -> 22.22 | W14: =SUM(F14:T14) -> 83.08 | X14: =SUM(F14:U14) -> 86.38 | Y14: =SUM(K14:T14)/SUM(F14:J14) -> 0.35751634 | Z14: =(SUM(I14,K14,M14,N14,P14,T14)/W14)/(SUM(G14,O14,Q14,R14,S14)/W14) -> 1.0679644 | AA14: =SUM(I14,K14,M14,N14,P14,T14)/W14*100 -> 38.962446 | AB14: 6.66 | AC14: =IF(AB14<50,"yes","no") -> yes | AD14: =W14/(AB14/100) -> 1247.4474 | AE14: =AD14/W14 -> 15.015015 | AF14: 3.9362344
A15: 8 | B15: AL-CH-OSM1-245-247 | C15: Lignite | D15: AL | E15: Outcrop | F15: 2 | G15: 4.1 | H15: 0.5 | I15: 2.4 | J15: 0.6 | K15: 0.14 | L15: 0.7 | M15: 0.11 | N15: 0.7 | O15: 0.15 | P15: 0.43 | Q15: 0.05 | R15: 0.32 | S15: 0.05 | T15: 6 | U15: 1.1 | V15: =SUM(H15:I15,M15:N15) -> 3.71 | W15: =SUM(F15:T15) -> 18.25 | X15: =SUM(F15:U15) -> 19.35 | Y15: =SUM(K15:T15)/SUM(F15:J15) -> 0.90104167 | Z15: =(SUM(I15,K15,M15,N15,P15,T15)/W15)/(SUM(G15,O15,Q15,R15,S15)/W15) -> 2.0942184 | AA15: =SUM(I15,K15,M15,N15,P15,T15)/W15*100 -> 53.589041 | AB15: 12.99 | AC15: =IF(AB15<50,"yes","no") -> yes | AD15: =W15/(AB15/100) -> 140.49269 | AE15: =AD15/W15 -> 7.6982294 | AF15: 3.9362344
A16: 9 | B16: AL-CH-OSM1-242.8-244.5 | C16: Lignite | D16: AL | E16: Outcrop | F16: 3.6 | G16: 6.9 | H16: 0.8 | I16: 3.5 | J16: 0.8 | K16: 0.21 | L16: 1 | M16: 0.17 | N16: 1.1 | O16: 0.26 | P16: 0.84 | Q16: 0.12 | R16: 0.8 | S16: 0.13 | T16: 8.1 | U16: 2.6 | V16: =SUM(H16:I16,M16:N16) -> 5.57 | W16: =SUM(F16:T16) -> 28.33 | X16: =SUM(F16:U16) -> 30.93 | Y16: =SUM(K16:T16)/SUM(F16:J16) -> 0.81602564 | Z16: =(SUM(I16,K16,M16,N16,P16,T16)/W16)/(SUM(G16,O16,Q16,R16,S16)/W16) -> 1.6954933 | AA16: =SUM(I16,K16,M16,N16,P16,T16)/W16*100 -> 49.135192 | AB16: 17.14 | AC16: =IF(AB16<50,"yes","no") -> yes | AD16: =W16/(AB16/100) -> 165.28588 | AE16: =AD16/W16 -> 5.8343057 | AF16: 3.9362344
A17: 10 | B17: AL-CH-OSM1-249.0 | C17: Lignite | D17: AL | E17: Outcrop | F17: 28.9 | G17: 55.3 | H17: 6.5 | I17: 23.9 | J17: 4.3 | K17: 0.92 | L17: 3.6 | M17: 0.46 | N17: 2.6 | O17: 0.49 | P17: 1.51 | Q17: 0.22 | R17: 1.5 | S17: 0.24 | T17: 12.4 | U17: 12.2 | V17: =SUM(H17:I17,M17:N17) -> 33.46 | W17: =SUM(F17:T17) -> 142.84 | X17: =SUM(F17:U17) -> 155.04 | Y17: =SUM(K17:T17)/SUM(F17:J17) -> 0.20134567 | Z17: =(SUM(I17,K17,M17,N17,P17,T17)/W17)/(SUM(G17,O17,Q17,R17,S17)/W17) -> 0.72363636 | AA17: =SUM(I17,K17,M17,N17,P17,T17)/W17*100 -> 29.256511 | AB17: 85.2 | AC17: =IF(AB17<50,"yes","no") -> no | AD17: =W17/(AB17/100) -> 167.65258 | AE17: =AD17/W17 -> 1.1737089 | AF17: 3.9362344
A18: 11 | B18: AL-CH-OSM2-253 | C18: Lignite | D18: AL | E18: Outcrop | F18: 19.1 | G18: 37.8 | H18: 4.4 | I18: 17.3 | J18: 3.4 | K18: 0.75 | L18: 3 | M18: 0.45 | N18: 2.6 | O18: 0.55 | P18: 1.73 | Q18: 0.25 | R18: 1.75 | S18: 0.27 | T18: 15.3 | U18: 8.1 | V18: =SUM(H18:I18,M18:N18) -> 24.75 | W18: =SUM(F18:T18) -> 108.65 | X18: =SUM(F18:U18) -> 116.75 | Y18: =SUM(K18:T18)/SUM(F18:J18) -> 0.325 | Z18: =(SUM(I18,K18,M18,N18,P18,T18)/W18)/(SUM(G18,O18,Q18,R18,S18)/W18) -> 0.93870015 | AA18: =SUM(I18,K18,M18,N18,P18,T18)/W18*100 -> 35.09434 | AB18: 58.43 | AC18: =IF(AB18<50,"yes","no") -> no | AD18: =W18/(AB18/100) -> 185.949 | AE18: =AD18/W18 -> 1.7114496 | AF18: 3.9362344
... A42: 35 | B42: SBN-1C | C42: Lignite | D42: TX | E42: Sabine Mine | F42: 7.1 | G42: 12.3 | H42: 1.4 | I42: 5.6 | J42: 1.2 | K42: 0.33 | L42: 1.7 | M42: 0.28 | N42: 1.8 | O42: 0.42 | P42: 1.27 | Q42: 0.17 | R42: 1.05 | S42: 0.16 | T42: 15.9 | U42: 3.9 | V42: =SUM(H42:I42,M42:N42) -> 9.08 | W42: =SUM(F42:T42) -> 50.68 | X42: =SUM(F42:U42) -> 54.58 | Y42: =SUM(K42:T42)/SUM(F42:J42) -> 0.83623188 | Z42: =(SUM(I42,K42,M42,N42,P42,T42)/W42)/(SUM(G42,O42,Q42,R42,S42)/W42) -> 1.7858156 | AA42: =SUM(I42,K42,M42,N42,P42,T42)/W42*100 -> 49.684294 | AB42: 16.52 | AC42: =IF(AB42<50,"yes","no") -> yes | AD42: =W42/(AB42/100) -> 306.77966 | AE42: =AD42/W42 -> 6.0532688 | AF42: 3.9362344
A43: 36 | B43: 124331 | C43: Lignite | D43: TX | E43: Sabine Mine | F43: 5.5417112 | G43: 11.103516 | H43: 1.3822588 | I43: 5.7621976 | J43: 1.4120888 | K43: 0.3917809 | L43: 1.8355012 | M43: 0.32633179 | N43: 2.3129715 | O43: 0.53799347 | P43: 1.6808299 | Q43: 0.24870218 | R43: 1.6521231 | S43: 0.2565361 | T43: 14.629054 | U43: 5.4860144 | V43: =SUM(H43:I43,M43:N43) -> 9.7837597 | W43: =SUM(F43:T43) -> 49.073596 | X43: =SUM(F43:U43) -> 54.559611 | Y43: =SUM(K43:T43)/SUM(F43:J43) -> 0.94722802 | Z43: =(SUM(I43,K43,M43,N43,P43,T43)/W43)/(SUM(G43,O43,Q43,R43,S43)/W43) -> 1.8192189 | AA43: =SUM(I43,K43,M43,N43,P43,T43)/W43*100 -> 51.154119 | AB43: 17.736738 | AC43: =IF(AB43<50,"yes","no") -> yes | AD43: =W43/(AB43/100) -> 276.67768 | AE43: =AD43/W43 -> 5.6380152 | AF43: 3.9362344
A44: 37 | B44: 124332 | C44: Lignite | D44: TX | E44: Sabine Mine | F44: 6.6629726 | G44: 13.149239 | H44: 1.5579373 | I44: 6.096134 | J44: 1.3287138 | K44: 0.33580066 | L44: 1.5366251 | M44: 0.26184801 | N44: 1.7367389 | O44: 0.39534114 | P44: 1.2034239 | Q44: 0.17640644 | R44: 1.1586183 | S44: 0.17509864 | T44: 10.926367 | U44: 4.8692242 | V44: =SUM(H44:I44,M44:N44) -> 9.6526582 | W44: =SUM(F44:T44) -> 46.701265 | X44: =SUM(F44:U44) -> 51.570489 | Y44: =SUM(K44:T44)/SUM(F44:J44) -> 0.62185346 | Z44: =(SUM(I44,K44,M44,N44,P44,T44)/W44)/(SUM(G44,O44,Q44,R44,S44)/W44) -> 1.3657069 | AA44: =SUM(I44,K44,M44,N44,P44,T44)/W44*100 -> 44.025173 | AB44: 22.186147 | AC44: =IF(AB44<50,"yes","no") -> yes | AD44: =W44/(AB44/100) -> 210.49741 | AE44: =AD44/W44 -> 4.5073171 | AF44: 3.9362344
A45: 38 | B45: 124333 | C45: Lignite | D45: TX | E45: Sabine Mine | F45: 5.8490118 | G45: 12.356437 | H45: 1.4728492 | I45: 5.9342768 | J45: 1.366298 | K45: 0.35076028 | L45: 1.525048 | M45: 0.26504091 | N45: 1.7380282 | O45: 0.37980793 | P45: 1.1397196 | Q45: 0.16531752 | R45: 1.0799367 | S45: 0.16079983 | T45: 9.884551 | U45: 5.024702 | V45: =SUM(H45:I45,M45:N45) -> 9.4101951 | W45: =SUM(F45:T45) -> 43.667883 | X45: =SUM(F45:U45) -> 48.692585 | Y45: =SUM(K45:T45)/SUM(F45:J45) -> 0.61859551 | Z45: =(SUM(I45,K45,M45,N45,P45,T45)/W45)/(SUM(G45,O45,Q45,R45,S45)/W45) -> 1.3655754 | AA45: =SUM(I45,K45,M45,N45,P45,T45)/W45*100 -> 44.225585 | AB45: 19.38533 | AC45: =IF(AB45<50,"yes","no") -> yes | AD45: =W45/(AB45/100) -> 225.26252 | AE45: =AD45/W45 -> 5.15854 | AF45: 3.9362344
A46: 39 | B46: 124338 | C46: Lignite | D46: TX | E46: Sabine Mine | F46: 5.7230849 | G46: 12.020041 | H46: 1.4515358 | I46: 5.6968524 | J46: 1.2785666 | K46: 0.3303844 | L46: 1.3812006 | M46: 0.23857746 | N46: 1.5085189 | O46: 0.32443092 | P46: 0.95533097 | Q46: 0.13789595 | R46: 0.86824009 | S46: 0.130849 | T46: 8.6073068 | U46: 4.4795308 | V46: =SUM(H46:I46,M46:N46) -> 8.8954845 | W46: =SUM(F46:T46) -> 40.652815 | X46: =SUM(F46:U46) -> 45.132346 | Y46: =SUM(K46:T46)/SUM(F46:J46) -> 0.55340813 | Z46: =(SUM(I46,K46,M46,N46,P46,T46)/W46)/(SUM(G46,O46,Q46,R46,S46)/W46) -> 1.2859865 | AA46: =SUM(I46,K46,M46,N46,P46,T46)/W46*100 -> 42.646421 | AB46: 14.410253 | AC46: =IF(AB46<50,"yes","no") -> yes | AD46: =W46/(AB46/100) -> 282.11035 | AE46: =AD46/W46 -> 6.9395034 | AF46: 3.9362344
A47: 40 | B47: 124339 | C47: Lignite | D47: TX | E47: Sabine Mine | F47: 2.9352036 | G47: 6.0637076 | H47: 0.76261804 | I47: 3.1473818 | J47: 0.76287408 | K47: 0.22142476 | L47: 0.97910112 | M47: 0.17262686 | N47: 1.1789104 | O47: 0.27433801 | P47: 0.84632262 | Q47: 0.12429831 | R47: 0.80912073 | S47: 0.12289009 | T47: 7.8898485 | U47: 3.2389658 | V47: =SUM(H47:I47,M47:N47) -> 5.2615372 | W47: =SUM(F47:T47) -> 26.290667 | X47: =SUM(F47:U47) -> 29.529632 | Y47: =SUM(K47:T47)/SUM(F47:J47) -> 0.92298711 | Z47: =(SUM(I47,K47,M47,N47,P47,T47)/W47)/(SUM(G47,O47,Q47,R47,S47)/W47) -> 1.8198363 | AA47: =SUM(I47,K47,M47,N47,P47,T47)/W47*100 -> 51.183621 | AB47: 11.712387 | AC47: =IF(AB47<50,"yes","no") -> yes | AD47: =W47/(AB47/100) -> 224.4689 | AE47: =AD47/W47 -> 8.5379693 | AF47: 3.9362344
A48: 41 | B48: 124340 | C48: Lignite | D48: TX | E48: Sabine Mine | F48: 4.0102999 | G48: 8.5007508 | H48: 1.043719 | I48: 4.3569478 | J48: 1.0293943 | K48: 0.28378117 | L48: 1.2821148 | M48: 0.22025068 | N48: 1.512675 | O48: 0.3492083 | P48: 1.0793574 | Q48: 0.15804072 | R48: 1.0361428 | S48: 0.16094227 | T48: 10.122808 | U48: 3.6207581 | V48: =SUM(H48:I48,M48:N48) -> 7.1335924 | W48: =SUM(F48:T48) -> 35.146433 | X48: =SUM(F48:U48) -> 38.767191 | Y48: =SUM(K48:T48)/SUM(F48:J48) -> 0.85556334 | Z48: =(SUM(I48,K48,M48,N48,P48,T48)/W48)/(SUM(G48,O48,Q48,R48,S48)/W48) -> 1.722261 | AA48: =SUM(I48,K48,M48,N48,P48,T48)/W48*100 -> 50.007407 | AB48: 15.365301 | AC48: =IF(AB48<50,"yes","no") -> yes | AD48: =W48/(AB48/100) -> 228.73898 | AE48: =AD48/W48 -> 6.5081706 | AF48: 3.9362344
A49: 42 | B49: 124341 | C49: Lignite | D49: TX | E49: Sabine Mine | F49: 5.9731816 | G49: 12.477667 | H49: 1.4711157 | I49: 5.8442484 | J49: 1.2914801 | K49: 0.32684541 | L49: 1.4083016 | M49: 0.23741008 | N49: 1.5277439 | O49: 0.32570477 | P49: 0.96215816 | Q49: 0.14063084 | R49: 0.90887605 | S49: 0.13517181 | T49: 8.6587395 | U49: 4.4199759 | V49: =SUM(H49:I49,M49:N49) -> 9.080518 | W49: =SUM(F49:T49) -> 41.689275 | X49: =SUM(F49:U49) -> 46.109251 | Y49: =SUM(K49:T49)/SUM(F49:J49) -> 0.54075498 | Z49: =(SUM(I49,K49,M49,N49,P49,T49)/W49)/(SUM(G49,O49,Q49,R49,S49)/W49) -> 1.2551532 | AA49: =SUM(I49,K49,M49,N49,P49,T49)/W49*100 -> 42.114298 | AB49: 16.483329 | AC49: =IF(AB49<50,"yes","no") -> yes | AD49: =W49/(AB49/100) -> 252.91782 | AE49: =AD49/W49 -> 6.0667358 | AF49: 3.9362344
A50: 43 | B50: 124342 | C50: Lignite | D50: TX | E50: Sabine Mine | F50: 5.7517938 | G50: 11.116352 | H50: 1.2889222 | I50: 4.8901713 | J50: 1.0429027 | K50: 0.26032195 | L50: 1.1402746 | M50: 0.19365257 | N50: 1.261145 | O50: 0.27579685 | P50: 0.82395532 | Q50: 0.11710378 | R50: 0.76186197 | S50: 0.11422844 | T50: 7.4698218 | U50: 3.5801801 | V50: =SUM(H50:I50,M50:N50) -> 7.633891 | W50: =SUM(F50:T50) -> 36.508304 | X50: =SUM(F50:U50) -> 40.088484 | Y50: =SUM(K50:T50)/SUM(F50:J50) -> 0.5154873 | Z50: =(SUM(I50,K50,M50,N50,P50,T50)/W50)/(SUM(G50,O50,Q50,R50,S50)/W50) -> 1.2029596 | AA50: =SUM(I50,K50,M50,N50,P50,T50)/W50*100 -> 40.810079 | AB50: 14.922307 | AC50: =IF(AB50<50,"yes","no") -> yes | AD50: =W50/(AB50/100) -> 244.6559 | AE50: =AD50/W50 -> 6.7013766 | AF50: 3.9362344
A51: 44 | B51: 124343 | C51: Lignite | D51: TX | E51: Sabine Mine | F51: 7.4089408 | G51: 15.325532 | H51: 1.8061428 | I51: 7.0181536 | J51: 1.4873988 | K51: 0.3663546 | L51: 1.5812383 | M51: 0.26486768 | N51: 1.7042978 | O51: 0.36490555 | P51: 1.0776186 | Q51: 0.1576256 | R51: 1.0148151 | S51: 0.15221512 | T51: 9.5795459 | U51: 4.8291364 | V51: =SUM(H51:I51,M51:N51) -> 10.793462 | W51: =SUM(F51:T51) -> 49.309652 | X51: =SUM(F51:U51) -> 54.138788 | Y51: =SUM(K51:T51)/SUM(F51:J51) -> 0.49214434 | Z51: =(SUM(I51,K51,M51,N51,P51,T51)/W51)/(SUM(G51,O51,Q51,R51,S51)/W51) -> 1.176064 | AA51: =SUM(I51,K51,M51,N51,P51,T51)/W51*100 -> 40.58199 | AB51: 19.437786 | AC51: =IF(AB51<50,"yes","no") -> yes | AD51: =W51/(AB51/100) -> 253.67936 | AE51: =AD51/W51 -> 5.1446188 | AF51: 3.9362344
A52: 45 | B52: 124344 | C52: Lignite | D52: TX | E52: Sabine Mine | F52: 5.8638194 | G52: 12.042896 | H52: 1.4087425 | I52: 5.421045 | J52: 1.1895611 | K52: 0.3020781 | L52: 1.3227999 | M52: 0.22840977 | N52: 1.4923144 | O52: 0.32644683 | P52: 0.97430019 | Q52: 0.14014531 | R52: 0.90408994 | S52: 0.13300249 | T52: 8.7167487 | U52: 4.6755613 | V52: =SUM(H52:I52,M52:N52) -> 8.5505117 | W52: =SUM(F52:T52) -> 40.4664 | X52: =SUM(F52:U52) -> 45.141961 | Y52: =SUM(K52:T52)/SUM(F52:J52) -> 0.56083853 | Z52: =(SUM(I52,K52,M52,N52,P52,T52)/W52)/(SUM(G52,O52,Q52,R52,S52)/W52) -> 1.2648872 | AA52: =SUM(I52,K52,M52,N52,P52,T52)/W52*100 -> 42.343515 | AB52: 16.655907 | AC52: =IF(AB52<50,"yes","no") -> yes | AD52: =W52/(AB52/100) -> 242.95524 | AE52: =AD52/W52 -> 6.003876 | AF52: 3.9362344
A53: 46 | B53: BB2-CP | C53: Lignite | D53: TX | E53: Big Brown Mine | F53: 11.3 | G53: 21.7 | H53: 2.5 | I53: 9.3 | J53: 1.9 | K53: 0.42 | L53: 1.9 | M53: 0.3 | N53: 1.9 | O53: 0.4 | P53: 1.22 | Q53: 0.17 | R53: 1.1 | S53: 0.17 | T53: 11.7 | U53: 5.5 | V53: =SUM(H53:I53,M53:N53) -> 14 | W53: =SUM(F53:T53) -> 65.98 | X53: =SUM(F53:U53) -> 71.48 | Y53: =SUM(K53:T53)/SUM(F53:J53) -> 0.41284797 | Z53: =(SUM(I53,K53,M53,N53,P53,T53)/W53)/(SUM(G53,O53,Q53,R53,S53)/W53) -> 1.0552251 | AA53: =SUM(I53,K53,M53,N53,P53,T53)/W53*100 -> 37.647772 | AB53: 17.1 | AC53: =IF(AB53<50,"yes","no") -> yes | AD53: =W53/(AB53/100) -> 385.84795 | AE53: =AD53/W53 -> 5.8479532 | AF53: 3.9362344
A54: 47 | B54: JE-3-CP | C54: Lignite | D54: TX | E54: Jewett Mine | F54: 7.2 | G54: 14.5 | H54: 1.8 | I54: 6.9 | J54: 1.7 | K54: 0.46 | L54: 2.1 | M54: 0.38 | N54: 2.7 | O54: 0.59 | P54: 1.86 | Q54: 0.26 | R54: 1.69 | S54: 0.27 | T54: 18.9 | U54: 10.9 | V54: =SUM(H54:I54,M54:N54) -> 11.78 | W54: =SUM(F54:T54) -> 61.31 | X54: =SUM(F54:U54) -> 72.21 | Y54: =SUM(K54:T54)/SUM(F54:J54) -> 0.90996885 | Z54: =(SUM(I54,K54,M54,N54,P54,T54)/W54)/(SUM(G54,O54,Q54,R54,S54)/W54) -> 1.8024263 | AA54: =SUM(I54,K54,M54,N54,P54,T54)/W54*100 -> 50.888925 | AB54: 28.06 | AC54: =IF(AB54<50,"yes","no") -> yes | AD54: =W54/(AB54/100) -> 218.49608 | AE54: =AD54/W54 -> 3.5637919 | AF54: 3.9362344
A55: 48 | B55: JE-4-CP | C55: Lignite | D55: TX | E55: Jewett Mine | F55: 5.7 | G55: 11.3 | H55: 1.4 | I55: 5.3 | J55: 1.1 | K55: 0.3 | L55: 1.3 | M55: 0.22 | N55: 1.5 | O55: 0.32 | P55: 1.01 | Q55: 0.14 | R55: 0.91 | S55: 0.14 | T55: 10.4 | U55: 4.9 | V55: =SUM(H55:I55,M55:N55) -> 8.42 | W55: =SUM(F55:T55) -> 41.04 | X55: =SUM(F55:U55) -> 45.94 | Y55: =SUM(K55:T55)/SUM(F55:J55) -> 0.65483871 | Z55: =(SUM(I55,K55,M55,N55,P55,T55)/W55)/(SUM(G55,O55,Q55,R55,S55)/W55) -> 1.462139 | AA55: =SUM(I55,K55,M55,N55,P55,T55)/W55*100 -> 45.638402 | AB55: 17.48 | AC55: =IF(AB55<50,"yes","no") -> yes | AD55: =W55/(AB55/100) -> 234.78261 | AE55: =AD55/W55 -> 5.7208238 | AF55: 3.9362344
A56: 49 | B56: JE-6-CP | C56: Lignite | D56: TX | E56: Jewett Mine | F56: 12.3 | G56: 21.5 | H56: 2.4 | I56: 8.3 | J56: 1.5 | K56: 0.32 | L56: 1.4 | M56: 0.21 | N56: 1.3 | O56: 0.25 | P56: 0.78 | Q56: 0.11 | R56: 0.76 | S56: 0.12 | T56: 6.8 | U56: 5.8 | V56: =SUM(H56:I56,M56:N56) -> 12.21 | W56: =SUM(F56:T56) -> 58.05 | X56: =SUM(F56:U56) -> 63.85 | Y56: =SUM(K56:T56)/SUM(F56:J56) -> 0.26195652 | Z56: =(SUM(I56,K56,M56,N56,P56,T56)/W56)/(SUM(G56,O56,Q56,R56,S56)/W56) -> 0.77880387 | AA56: =SUM(I56,K56,M56,N56,P56,T56)/W56*100 -> 30.508183 | AB56: 27.72 | AC56: =IF(AB56<50,"yes","no") -> yes | AD56: =W56/(AB56/100) -> 209.41558 | AE56: =AD56/W56 -> 3.6075036 | AF56: 3.9362344
A57: 50 | B57: WC-A1.1 | C57: Lignite | D57: TX | E57: Walnut Creek Mine | F57: 15 | G57: 30.8 | H57: 3.4 | I57: 13 | J57: 2.5 | K57: 0.55 | L57: 2.3 | M57: 0.37 | N57: 2.2 | O57: 0.47 | P57: 1.48 | Q57: 0.21 | R57: 1.44 | S57: 0.23 | T57: 13.7 | U57: 6.2 | V57: =SUM(H57:I57,M57:N57) -> 18.97 | W57: =SUM(F57:T57) -> 87.65 | X57: =SUM(F57:U57) -> 93.85 | Y57: =SUM(K57:T57)/SUM(F57:J57) -> 0.35471406 | Z57: =(SUM(I57,K57,M57,N57,P57,T57)/W57)/(SUM(G57,O57,Q57,R57,S57)/W57) -> 0.94419306 | AA57: =SUM(I57,K57,M57,N57,P57,T57)/W57*100 -> 35.710211 | AB57: 32.15 | AC57: =IF(AB57<50,"yes","no") -> yes | AD57: =W57/(AB57/100) -> 272.6283 | AE57: =AD57/W57 -> 3.1104199 | AF57: 3.9362344
A58: 51 | B58: WC-A1.4 | C58: Lignite | D58: TX | E58: Walnut Creek Mine | F58: 6.7 | G58: 12.4 | H58: 1.5 | I58: 5.9 | J58: 1.2 | K58: 0.27 | L58: 1.2 | M58: 0.18 | N58: 1 | O58: 0.2 | P58: 0.56 | Q58: 0.07 | R58: 0.47 | S58: 0.07 | T58: 5.6 | U58: 2.7 | V58: =SUM(H58:I58,M58:N58) -> 8.58 | W58: =SUM(F58:T58) -> 37.32 | X58: =SUM(F58:U58) -> 40.02 | Y58: =SUM(K58:T58)/SUM(F58:J58) -> 0.34729242 | Z58: =(SUM(I58,K58,M58,N58,P58,T58)/W58)/(SUM(G58,O58,Q58,R58,S58)/W58) -> 1.0227101 | AA58: =SUM(I58,K58,M58,N58,P58,T58)/W58*100 -> 36.200429 | AB58: 8.5 | AC58: =IF(AB58<50,"yes","no") -> yes | AD58: =W58/(AB58/100) -> 439.05882 | AE58: =AD58/W58 -> 11.764706 | AF58: 3.9362344
A59: 52 | B59: WC-A2.1 | C59: Lignite | D59: TX | E59: Walnut Creek Mine | F59: 10.8 | G59: 24.1 | H59: 3 | I59: 12.3 | J59: 2.7 | K59: 0.6 | L59: 2.6 | M59: 0.41 | N59: 2.4 | O59: 0.47 | P59: 1.33 | Q59: 0.18 | R59: 1.09 | S59: 0.16 | T59: 14.4 | U59: 4.7 | V59: =SUM(H59:I59,M59:N59) -> 18.11 | W59: =SUM(F59:T59) -> 76.54 | X59: =SUM(F59:U59) -> 81.24 | Y59: =SUM(K59:T59)/SUM(F59:J59) -> 0.44688091 | Z59: =(SUM(I59,K59,M59,N59,P59,T59)/W59)/(SUM(G59,O59,Q59,R59,S59)/W59) -> 1.2092308 | AA59: =SUM(I59,K59,M59,N59,P59,T59)/W59*100 -> 41.076561 | AB59: 11.24 | AC59: =IF(AB59<50,"yes","no") -> yes | AD59: =W59/(AB59/100) -> 680.96085 | AE59: =AD59/W59 -> 8.8967972 | AF59: 3.9362344
A60: 53 | B60: WC-A2.3 | C60: Lignite | D60: TX | E60: Walnut Creek Mine | F60: 21.9 | G60: 47.8 | H60: 5.4 | I60: 21.1 | J60: 4.3 | K60: 0.96 | L60: 4.3 | M60: 0.69 | N60: 4.3 | O60: 0.92 | P60: 2.78 | Q60: 0.39 | R60: 2.47 | S60: 0.38 | T60: 28 | U60: 8.9 | V60: =SUM(H60:I60,M60:N60) -> 31.49 | W60: =SUM(F60:T60) -> 145.69 | X60: =SUM(F60:U60) -> 154.59 | Y60: =SUM(K60:T60)/SUM(F60:J60) -> 0.44965174 | Z60: =(SUM(I60,K60,M60,N60,P60,T60)/W60)/(SUM(G60,O60,Q60,R60,S60)/W60) -> 1.1129715 | AA60: =SUM(I60,K60,M60,N60,P60,T60)/W60*100 -> 39.693871 | AB60: 16.34 | AC60: =IF(AB60<50,"yes","no") -> yes | AD60: =W60/(AB60/100) -> 891.61567 | AE60: =AD60/W60 -> 6.119951 | AF60: 3.9362344
A61: 54 | B61: M128 CH1 | C61: Lignite | D61: TX | E61: Gibbons Creek Mine | F61: 6.5 | G61: 12 | H61: 1.4 | I61: 5.3 | J61: 1.1 | K61: 0.19 | L61: 1.3 | M61: 0.22 | N61: 1.5 | O61: 0.36 | P61: 1.19 | Q61: 0.18 | R61: 1.16 | S61: 0.19 | T61: 14.2 | U61: 3 | V61: =SUM(H61:I61,M61:N61) -> 8.42 | W61: =SUM(F61:T61) -> 46.79 | X61: =SUM(F61:U61) -> 49.79 | Y61: =SUM(K61:T61)/SUM(F61:J61) -> 0.77908745 | Z61: =(SUM(I61,K61,M61,N61,P61,T61)/W61)/(SUM(G61,O61,Q61,R61,S61)/W61) -> 1.6270698 | AA61: =SUM(I61,K61,M61,N61,P61,T61)/W61*100 -> 48.300919 | AB61: 11.85 | AC61: =IF(AB61<50,"yes","no") -> yes | AD61: =W61/(AB61/100) -> 394.85232 | AE61: =AD61/W61 -> 8.4388186 | AF61: 3.9362344
A62: 55 | B62: M128 CH2 | C62: Lignite | D62: TX | E62: Gibbons Creek Mine | F62: 9.4 | G62: 15.7 | H62: 1.7 | I62: 6.4 | J62: 1.3 | K62: 0.24 | L62: 1.5 | M62: 0.25 | N62: 1.7 | O62: 0.38 | P62: 1.19 | Q62: 0.17 | R62: 1.13 | S62: 0.17 | T62: 13.8 | U62: 3.8 | V62: =SUM(H62:I62,M62:N62) -> 10.05 | W62: =SUM(F62:T62) -> 55.03 | X62: =SUM(F62:U62) -> 58.83 | Y62: =SUM(K62:T62)/SUM(F62:J62) -> 0.59507246 | Z62: =(SUM(I62,K62,M62,N62,P62,T62)/W62)/(SUM(G62,O62,Q62,R62,S62)/W62) -> 1.3435897 | AA62: =SUM(I62,K62,M62,N62,P62,T62)/W62*100 -> 42.849355 | AB62: 16.77 | AC62: =IF(AB62<50,"yes","no") -> yes | AD62: =W62/(AB62/100) -> 328.1455 | AE62: =AD62/W62 -> 5.9630292 | AF62: 3.9362344
A63: 56 | B63: M128 CH3 | C63: Lignite | D63: TX | E63: Gibbons Creek Mine | F63: 44.5 | G63: 95.8 | H63: 10.5 | I63: 39 | J63: 7.5 | K63: 1.28 | L63: 6.9 | M63: 1.06 | N63: 6 | O63: 1.14 | P63: 3.33 | Q63: 0.48 | R63: 3.1 | S63: 0.45 | T63: 31.3 | U63: 7.7 | V63: =SUM(H63:I63,M63:N63) -> 56.56 | W63: =SUM(F63:T63) -> 252.34 | X63: =SUM(F63:U63) -> 260.04 | Y63: =SUM(K63:T63)/SUM(F63:J63) -> 0.27896604 | Z63: =(SUM(I63,K63,M63,N63,P63,T63)/W63)/(SUM(G63,O63,Q63,R63,S63)/W63) -> 0.81182529 | AA63: =SUM(I63,K63,M63,N63,P63,T63)/W63*100 -> 32.48395 | AB63: 55.09 | AC63: =IF(AB63<50,"yes","no") -> no | AD63: =W63/(AB63/100) -> 458.05046 | AE63: =AD63/W63 -> 1.8152115 | AF63: 3.9362344
...

Sheet Table S3b
A1: Table S3b. | B1: Concentrations of critical minerals on a dry coal basis.
B2: No data, - .
F3: Critical Minerals, Dry Coal Basis (ppm)
A5: Sequence | B5: Sample ID | C5: Sample | D5: State | E5: Location | F5: LI | G5: Be | H5: Mg | I5: Al | J5: P | K5: Ti | L5: V | M5: Cr | N5: Mn | O5: Co | P5: Ni | Q5: Zn | R5: Ga | S5: Ge | T5: As | U5: Zr | V5: Nb | W5: Sn | X5: Sb | Y5: Ba | Z5: Hf | AA5: Ta | AB5: W | AC5: U
A6: 0 | B6: AL-CR-SCH-1 | C6: Lignite | D6: AL | E6: Shell SCH. 24-A well | F6: 106 | G6: 1 | H6: 2860 | I6: 37400 | K6: 2900 | L6: 73 | M6: 44 | N6: 95 | O6: 4.8 | P6: 20 | Q6: 27 | R6: 15.3 | S6: 2 | T6: 4.8 | U6: 36 | V6: 7.3 | W6: 1.7 | X6: 0.25 | Y6: 130 | Z6: 1.1 | AA6: 0.53 | AB6: 0.9 | AC6: 7.6
A7: 1 | B7: AL-WI-GCS-6-12 | C7: Lignite | D7: AL | E7: Gravel Creek sand pit | F7: 82.6 | G7: 2.6 | H7: 1550 | I7: 56900 | K7: 2010 | L7: 81 | M7: 68 | N7: 16 | O7: 4 | P7: 16 | Q7: 24 | R7: 19.5 | S7: 6 | T7: 3.5 | U7: 27.2 | V7: 6.9 | W7: 1.3 | X7: 0.12 | Y7: 61 | Z7: 0.9 | AA7: 0.45 | AB7: 3.1 | AC7: 3.7
