Workbook
Name COMBINED: '[1]Table 1'!$A$3:$K$3

Sheet S1-Study QC
A1: Supplementary Table 1. Study design, number of individuals and sample quality control for genome-wide association studies and metabochip studies
A2: Study | B2: Full name | C2: Study design | D2: Ethnicity | E2: Total sample size (N) | F2: Sample QC | H2: Samples in analyses (N) (Trait - Cases/Controls) | I2: Anthropometric assessment method | J2: References
F3: Call rate* | G3: Other exclusions
A4: Previous genome-wide association studies (Speliotes et al., 2010)
A5: AGES | B5: Age, Gene/Environment Susceptibility-Reykjavik Study | C5: Population-based | D5: white European | E5: 3219 | F5: ≥ 97% | G5: 1) Mismatch with previous genotypes 2) Remove A/T & G/C SNPs 3) Remove SNPs not in HapMap | H5: 3207 | I5: measured | J5: [PMID: 17351290] Harris et al. Age, Gene/Environment Susceptibility-Reykjavik Study: multidisciplinary applied phenomics. American Journal of Epidemiology (2007) vol. 165 (9) pp. 1076-87
A6: Amish HAPI Heart Study | B6: Amish Heredity and Phenotype Intervention Heart Study | C6: Founder population | D6: white European | E6: 915 | F6: ≥ 93% | G6: 1) Misidentified pedigree relationships 2) Misidentified sex | H6: 905 | I6: measured | J6: [PMCID: PMC2443415] Mitchell BD, McArdle PF, Shen H, et al. The genetic response to short-term interventions affecting cardiovascular function: Rationale and design of the Heredity and Phenotype Intervention (HAPI) Heart Study. Am Heart J 823:828, 2008 [PMID: 18779467] Rampersaud E, Mitchell BD, Pollin TI, et al. Physical Activity and the Association of common FTO Gene Variants with Body Mass Index and Obesity.Arch Intern Med 168:1791-1797,2008
A7: ARIC | B7: Atherosclerosis Risk in Communities Study | C7: Population-based | D7: white European | E7: 15792 | F7: ≥ 90% | G7: 1) Sex/gender mismatch 2) Discordant genotype with earlier TaqMan genotyping. If >10/47 genotypes discordant -> exclude 3) First-degree relative 4) PC>8SD in Eigenstrat run (10 iterations with 10 PCs) 5) Outlier based on average IBS 6) Missing body weight or height | H7: 8108 | I7: measured | J7: [PMID: 2646917] Atherosclerosis Risk in Communities (ARIC) Study: design and objectives. 1989. ARIC Investigators. Am. J. Epidemiol. 129: 687-702. [PMID: 19557197] Heard-Costa, NL et al. NRXN3 is a novel locus for waist circumference: a genome-wide association study from the CHARGE Consortium. 2009. Plos Genet. 5(6): e1000539.
A8: B58C (T1DGC) | B8: British 1958 birth cohort (Type 1 Diabetes Genetic Consortium controls) | C8: Population-based | D8: white European | E8: 2592 | F8: ≥ 98% | G8: 1) Contamination 2) Non-European identity 3) Missing body weight and height | H8: 2587 | I8: measured | J8: [PMID: 17255346] Strachan DP, et al. Lifecourse influences on health among British adults: effects of region of residence in childhood and adulthood. Int J Epidemiol 2007;36:522-531. [PMID: 19430480] Barrett JC, The Type 1 Diabetes Genetics Consortium, et al. Genome-wide association study and meta-analysis find that over 40 loci affect risk of type 1 diabetes. Nat Genet 2009 May 10. [Epub ahead of print]
A9: B58C (WTCCC) | B9: British 1958 birth cohort (Wellcome Trust Case Control Consortium controls) | C9: Population-based | D9: white European | E9: 1502 | F9: ≥ 97% | G9: 1) Contamination 2) Non-European identity 3) Missing body weight and height | H9: 1479 | I9: measured | J9: [PMID: 17554300] The Wellcome Trust Case Control Consortium Genome-wide association study of 14,000 cases of seven common diseases and 3,000 shared controls. Nature 2007;447: 661-678. [PMID: 16155052] Power,C. & Elliott,J. Cohort profile: 1958 British birth cohort (National Child Development Study). Int J Epidemiol 2006;35:34-41.
A10: BRIGHT | B10: The British Genetics of Hypertension (BRIGHT) Study | C10: Hypertension case series | D10: white European | E10: 2000 | F10: ≥ 97% | G10: 1) Heterozygosity <23% or >30% 2) External discordance 3) Non-European ancestry 4) Duplicate/first/second degree relatives | H10: 1,960 (HTN - 1,960 cases) | I10: measured | J10: [PMID: 17554300] The Wellcome Trust Case Control Consortium Genome-wide association study of 14,000 cases of seven common diseases and 3,000 shared controls. Nature 447, 661-678 (2007). [PMID: 12826435] Caulfield,M. et al. Genome-wide mapping of human loci for essential hypertension. Lancet 361, 2118-2123 (2003).
A11: CAD_WTCCC | B11: WTCCC Coronary Heart Disease cases | C11: Case series | D11: white European | E11: 2000 | F11: ≥ 97% | G11: 1) Heterozygosity <23% or >30% 2) Discrepancy with external identifying information 3) Ethnic outliers 4) Related individuals and duplicates | H11: 1876 | I11: self reported | J11: [PMID: 17554300] The Wellcome Trust Case Control Consortium Genome‐wide association study of 14,000 cases of seven common diseases and 3,000 shared controls. Nature 447, 661-678 (2007)
A12: CAPS1 Cases | B12: Cancer Prostate in Sweden 1 | C12: Case/control study of prostate cancer | D12: white European | E12: 505 | F12: > 95% | G12: 1) Related individuals and duplicates 2) Ethnic outliers 3) Missing body weight and height | H12: 505 | I12: self-reported | J12: [PMID: 18073375] Duggan D, et al. Two genome-wide association studies of aggressive prostate cancer implicate putative prostate tumor suppressor gene DAB2IP. J Natl Cancer Inst 2007 Dec 19;99(24):1836-44 (2007).
A13: CAPS1 Controls | B13: Cancer Prostate in Sweden 1 | C13: Case/control study of prostate cancer | D13: white European | E13: 506 | F13: > 95% | G13: 1) Related individuals and duplicates 2) Ethnic outliers 3) Missing body weight and height | H13: 506 | I13: self-reported | J13: [PMID: 18073375] Duggan D, et al. Two genome-wide association studies of aggressive prostate cancer implicate putative prostate tumor suppressor gene DAB2IP. J Natl Cancer Inst 2007 Dec 19;99(24):1836-44 (2007).
A14: CAPS2 Cases | B14: Cancer Prostate in Sweden 2 | C14: Case/control study of prostate cancer | D14: white European | E14: 1483 | F14: > 95% | G14: 1) Related individuals and duplicates 2) Ethnic outliers 3) Missing body weight and height | H14: 1483 | I14: self-reported | J14: [PMID: 18073375] Duggan D, et al. Two genome-wide association studies of aggressive prostate cancer implicate putative prostate tumor suppressor gene DAB2IP. J Natl Cancer Inst 2007 Dec 19;99(24):1836-44 (2007).
A15: CAPS2 Controls | B15: Cancer Prostate in Sweden 2 | C15: Case/control study of prostate cancer | D15: white European | E15: 519 | F15: > 95% | G15: 1) Related individuals and duplicates 2) Ethnic outliers 3) Missing body weight and height | H15: 519 | I15: self-reported | J15: [PMID: 18073375] Duggan D, et al. Two genome-wide association studies of aggressive prostate cancer implicate putative prostate tumor suppressor gene DAB2IP. J Natl Cancer Inst 2007 Dec 19;99(24):1836-44 (2007).
A16: CHS | B16: Cardiovascular Health Study | C16: Population-based cohort study | D16: white European | E16: 3228 | F16: >95% | G16: 1) Prevalent clinical CVD 2) African-americans 3) Sex discordant 4) Missing body weight and height | H16: 3228 | I16: measured | J16: [PMID: 1669507] Fried LP, Borhani NO, Enright P, Furberg CD, Gardin JM, Kronmal RA, Kuller LH, Manolio TA, Mittelmark MB, Newman A. The Cardiovascular Health Study: design and rationale. Ann Epidemiol. 1991; 1: 263-276.
A17: CoLaus | B17: Cohorte Lausannoise | C17: Population-based | D17: white European | E17: 6188 | F17: >90% | G17: 1) Ethnic outliers 2) Related individuals and duplicates 3) Missing body weight and height | H17: 5408 | I17: measured | J17: [PMID 18366642] Firmann et al. The CoLaus study: a population-based study to investigate the epidemiology and genetic determinants of cardiovascular risk factors and metabolic syndrome BMC Cardiovascular Disorders 2008, 8:6
A18: CROATIA | B18: VIS (EUROSPAN) and KORCULA | C18: Population-based | D18: white European | E18: 795 | F18: ≥ 97% | G18: 1) Ethnic outliers 2) Duplicates 3) Missing body weight and height | H18: 770 | I18: measured | J18: [PMID: 18952825 Johansson A. et al. Common variants in the JAZF1 gene associated with height identified by linkage and genome-wide association analysis. Hum Mol Genet. 18(2), 373-80 (2009). [PMID: 19798445] Hicks, AA. et al. Genetic determinants of circulating sphingolipid concentrations in European populations. PLoS Genet. 5(10):e1000672 (2009)
A19: deCODE | B19: deCODE genetics sample set | C19: Population-based | D19: white European | E19: 38446 | F19: ≥ 96% | G19: Missing body weight and height | H19: 26799 | I19: measured | J19: [PMID: 19079260] Thorleifsson, G. et al. Genome-wide association yields new sequence variants at seven loci that associate with measures of obesity. Nat Genet. 41, 18-24 (2009).
A20: DGI (cases) | B20: Diabetes Genetics Initiative of Broad Institute of Harvard and MIT, Lund University, and Novartis Institutes of BioMedical Research | C20: Case/control study of diabetes | D20: white European | E20: 1658 | F20: ≥ 95% | G20: 1) Related individuals 2) Sample contamination 3) Missing body weight and height | H20: 1,317 (T2D - 1,317 cases) | I20: measured | J20: [PMID: 17463246] Saxena et al. Genome-wide association analysis identifies loci for type 2 diabetes and triglyceride levels. Science 316, 1331-6 (2007).
A21: DGI (controls) | B21: Diabetes Genetics Initiative of Broad Institute of Harvard and MIT, Lund University, and Novartis Institutes of BioMedical Research | C21: Case/control study of diabetes | D21: white European | E21: 1595 | F21: ≥ 95% | G21: 1) Related individuals 2) Sample contamination 3) Missing body weight and height | H21: 1,088 (T2D - 1,088 controls) | I21: measured | J21: [PMID: 17463246] Saxena et al. Genome-wide association analysis identifies loci for type 2 diabetes and triglyceride levels. Science 316, 1331-6 (2007).
A22: EGCUT | B22: Estonian Genome Center, University of Tartu | C22: Population-based | D22: white European | E22: 1412 | F22: ≥ 95% | G22: 1) Related individuals and duplicates 2) Sex mismatch 3) Phenotype missing | H22: 1412 | I22: measured | J22: [PMID: 19424496] Nelis M, Esko T, Magi R, Zimprich F, Zimprich A, et al. (2009) Genetic Structure of Europeans: A View from the North–East. PLoS ONE 4(5): e5472. [PMID: 15133739] Metspalu,A. The Estonian Genome Project. Drug Development Research 62, 97-101 (2004).
A23: EPIC-Obesity Study | B23: European Prospective Investigation into Cancer and Nutrition - Obesity Study | C23: Population-based | D23: white European | E23: 2566 | F23: ≥ 94% | G23: 1) Heterozygosity <23% or >30% 2) >5.0% discordance in SNP pairs with r2= 1 in HapMap 3) Ethnic outliers 4) related individuals and duplicates 5) Missing body weight and height | H23: 2415 | I23: measured | J23: [PMID: 10466767] Day,N.E. et al. EPIC-Norfolk: study design and characteristics of the cohort. European Prospective Investigation of Cancer. British Journal of Cancer 80, 95-103 (1999). [PMID: 18454148] Loos,R.J. et al. Common variants near MC4R are associated with fat mass, weight and risk of obesity. Nat Genet 40, 768-775 (2008).
A24: Fenland | B24: Fenland Study | C24: Population-based | D24: white European | E24: 1500 | F24: ≥ 95% | G24: 1) Heterozygosity <27.3% or >28.8% 2) Duplicate check 3) Relatedness check | H24: 1402 | I24: measured | J24: [PMID: 19079261] Willer CJ, Speliotes EK, Loos RJ et al. (2009) Six new loci associated with body mass index highlight a neuronal influence on body weight regulation. Nat Genet, 41(1): 25-34.
A25: FRAM | B25: Framingham Heart Study | C25: Population-based, multi-generational | D25: white European | E25: 9274 | F25: ≥ 97% | G25: 1) HWE P<1E-6 2) Call rate<97% 3) Mishap P<1E-9 4) MAF<0.01 5) Mendelian errors>100 6) SNPs not in Hapmap or strandedness issues merging with Hapmap | H25: 8094 | I25: measured | J25: [PMID 14025561] DAWBER TR, KANNEL WB, LYELL LP. An approach to longitudinal studies in a community: the Framingham Study. Ann N Y Acad Sci. 1963;107:539-556. [PMID 1208363] Feinleib M, KANNEL WB, Garrison RJ, McNamara PM, Castelli WP. The Framingham Offspring Study. Design and preliminary data. Prev Med. 1975;4:518-525. [PMID 17372189] Splansky GL, Corey D, Yang Q et al. The Third Generation Cohort of the National Heart, Lung, and Blood Institute's Framingham Heart Study: design, recruitment, and initial examination. Am J Epidemiol. 2007;165:1328-1335.
A26: FTC | B26: Finnish Twin Cohort | C26: Monozygotic twins | D26: white European | E26: 152 pairs | F26: ≥ 95% | G26: 1) Ethnic outliers 2) Related individuals and duplicates 3) Missing body weight and height for both individuals of the pair | H26: 138 pairs | I26: measured | J26: [PMID: 19060911] Aulchenko YS, Ripatti S, Lindqvist I et al. Loci influencing lipid levels and coronary heart disease risk in 16 European population cohorts, Nat Genet (2009) 41(1): 47-55.
A27: FUSION cases | B27: Finland-United States Investigation of NIDDM Genetics | C27: Case/control study of diabetes | D27: white European | E27: 1161 | F27: > 97.5% | G27: 1) Related individuals 2) Missing BMI | H27: 1,092 (T2D - 1,092 cases) | I27: measured | J27: [PMID: 17463248] Scott,LJ et al. A genome-wide association study of type 2 diabetes in Finns detects multiple susceptibility variants. Science 316(5829):1341-5 (2007).
A28: FUSION controls | B28: Finland-United States Investigation of NIDDM Genetics | C28: Case/control study of diabetes | D28: white European | E28: 1174 | F28: > 97.5% | G28: 1) Related individuals 2) Missing BMI | H28: 1,171 (T2D - 1,171 controls) | I28: measured | J28: [PMID: 17463248] Scott,LJ et al. A genome-wide association study of type 2 diabetes in Finns detects multiple susceptibility variants. Science 316(5829):1341-5 (2007).
A29: GENMETS cases | B29: Health 2000 / GENMETS substudy | C29: Case/control study of Metabolic syndrome | D29: white European | E29: 932 | F29: ≥ 95% | G29: 1) Ethnic outliers 2) Related individuals and duplicates 3) Missing BMI | H29: 857 (Metabolic syndrome - 857 cases) | I29: measured | J29: http://www.terveys2000.fi/indexe.html
A30: GENMETS controls | B30: Health 2000 / GENMETS substudy | C30: Case/control study of Metabolic syndrome | D30: white European | E30: 948 | F30: ≥ 95% | G30: 1) Ethnic outliers 2) Related individuals and duplicates 3) Missing BMI | H30: 892 (Metabolic syndrome - 892 controls) | I30: measured | J30: http://www.terveys2000.fi/indexe.html
A31: GerMiFSI | B31: German Myocard Infarct Family Study I | C31: Case/control study of MI (only Cases) | D31: white European | E31: 875 | F31: > 97% | G31: 1) Related individuals and duplicates 2) Missing phenotypes 3) Heterozygosity mean +- 3*sd outlier | H31: 600 (MI - 600 cases) | I31: measured | J31: [PMID: 17634449 ] Samani NJ, Erdmann J, Hall AS et al. Genomewide association study of coronary artery disease. NEJM 2007; 357(5): 436-9.
A32: GerMiFSII | B32: German Myocard Infarct Family Study II | C32: Case/control study of MI (only Cases) | D32: white European | E32: 1222 | F32: > 97% | G32: 1) Related individuals and duplicates 2) Missing phenotypes 3) Heterozygosity mean +- 3*sd outlier | H32: 1,124 (MI - 1,124 cases) | I32: measured | J32: [PMID: 19198612] Erdmann J, Grosshennig A, Braund PS et al. New susceptibility locus for coronary artery disease on chromosome 3q22.3. Nat Genet 2009; 41(3): 280-2.
A33: KORA3 | B33: Cooperative Health Research in the Region of Augsburg, KOoperative Gesundheitsforschung in der Region Augsburg | C33: Population-based | D33: white European | E33: 1644 | F33: >=93% | G33: 1) All with German passport | H33: 1644 | I33: measured | J33: [PMID 20031538] Heid IM, Boes E, Müller M, Kollerits B, et al. Genome-wide association analysis of high-density lipoprotein cholesterol in the population-based KORA study sheds new light on intergenic regions. Circ Cardiovasc Genet, 2008; 1(10): 10-20.
A34: KORA4 | B34: Cooperative Health Research in the Region of Augsburg, KOoperative Gesundheitsforschung in der Region Augsburg | C34: Population-based | D34: white European | E34: 1814 | F34: >=93% | G34: 1) All with German passport | H34: 1814 | I34: measured | J34: [PMID 16032514] Wichmann HE, Gieger C, Illig T; MONICA/KORA Study Group. KORA-gen--resource for population genetics, controls and a broad spectrum of disease phenotypes. Gesundheitswesen 2005; 67 Suppl 1: S26-30.
A35: MICROS | B35: MICROS (EUROSPAN) | C35: Population-based | D35: white European | E35: 1098 | F35: ≥ 97% | G35: 1) Ethnic outliers 2) Duplicates 3) Missing body weight and height | H35: 1079 | I35: measured | J35: [PMID: 17550581 ] Pattaro C, Marroni F, Riegler A, et al. The genetic study of three population microisolates in South Tyrol (MICROS): study design and epidemiological perspectives. BMC Med Genet. 2007 Jun 5;8-29. [PMID: 18952825] Johansson A. et al. Common variants in the JAZF1 gene associated with height identified by linkage and genome-wide association analysis. Hum Mol Genet. 18(2), 373-80 (2009). [PMID: 19798445] Hicks, AA. et al. Genetic determinants of circulating sphingolipid concentrations in European populations. PLoS Genet. 5(10):e1000672 (2009)
A36: Migen (cases) | B36: Myocardial Infarction Genetics Consortium | C36: Case/control of early onset MI | D36: white European | E36: 1420 | F36: ≥ 95% | G36: 1) Cohort deficient or excess heterozygosity 2) Population stratification outliers 3) Close relatives and sample duplicates 4) Sample contamination (excess close low-level genome sharing) 5) Missing body weight or height | H36: 1,245 (MI - 1,245 cases) | I36: measured | J36: [PMID: 19198609] Kathiresan et al. Genome-wide association of early-onset myocardial infarction with single nucleotide polymorphisms and copy number variants. Nature Genetics 41, 334-41 (2009).
A37: Migen (controls) | B37: Myocardial Infarction Genetics Consortium | C37: Case/control of early onset MI | D37: white European | E37: 1558 | F37: ≥ 95% | G37: 1) Cohort deficient or excess heterozygosity 2) Population stratification outliers 3) Close relatives and sample duplicates 4) Sample contamination (excess close low-level genome sharing) 5) Missing body weight or height | H37: 1,402 (MI - 1,402 controls) | I37: measured | J37: [PMID: 19198609] Kathiresan et al. Genome-wide association of early-onset myocardial infarction with single nucleotide polymorphisms and copy number variants. Nature Genetics 41, 334-41 (2009).
A38: NBS_WTCCC | B38: WTCCC National Blood Service donors | C38: Population-based | D38: white European | E38: 1500 | F38: ≥ 97% | G38: 1) Heterozygosity <23% or >30% 2) Discrepancy with external identifying information 3) Ethnic outliers 4) Related individuals and duplicates | H38: 1437 | I38: self reported | J38: [PMID: 17554300] The Wellcome Trust Case Control Consortium Genome‐wide association study of 14,000 cases of seven common diseases and 3,000 shared controls. Nature 447, 661-678 (2007)
A39: NFBC-1966 | B39: Northern Finland Birth Cohorts 1966 | C39: Population-based | D39: white European | E39: 5654 | F39: ≥ 95% | G39: 1) Gender discrepancy with genetic data from X-linked markers 2) Withdrawn consent 3) Duplicates and first and second degree relatives 4) Contaminated samples | H39: 4773 | I39: measured | J39: [PMID: 19060910 ] Sabatti, C. et al. Genome-wide association analysis of metabolic traits in a birth cohort from a founder population. Nat Genet (2008).
A40: NHS | B40: The Nurses' Health Study | C40: Nested case/control | D40: white European | E40: 2368 | F40: >90% | G40: 1) Low genotying completion (<90%) 2) Unclear identity and admixed origin 3) Missing body weight and height | H40: 2265 | I40: self-reported | J40: [PMID: 17529973] Hunter D, et al. A genome-wide association study identifies alleles in FGFR2 associated with risk of sporadic postmenopausal breast cancer. Nat Genet. 2007 Jul;39(7):870-4.
...

Sheet S2-Study QC
A1: Supplementary Table 2. Information on genotyping methods, quality control of SNPs, imputation, and statistical analysis for genome-wide association studies and Metabochip studies
A2: Study | B2: Genotyping | H2: Imputation | K2: Association analyses
B3: Platform | C3: Genotype calling algorithm | D3: Inclusion criteria | G3: SNPs that met QC criteria | H3: Imputation software | I3: Inclusion criteria | K3: SNPs in meta-analysis | L3: Analysis software
D4: MAF | E4: Call rate* | F4: HWE P | I4: MAF | J4: Imputation quality*
A5: Previous genome-wide association studies (Speliotes et al., 2010)
A6: AGES | B6: Illumina Human370CNV | C6: BeadStudio | D6: ≥ 1% | E6: ≥ 95% | F6: > 10-6 | G6: 308340 | H6: MACH | I6: none | J6: r2_hat ≥ 0.30 | K6: 2458927 | L6: ProbABEL
A7: Amish | B7: Affymetrix GeneChip Human Mapping 500K | C7: BRLMM | D7: ≥ 1% | E7: ≥ 95% | F7: > 10-6 | G7: 338598 | H7: MACH | I7: none | J7: r2_hat ≥ 0.30 | K7: 2291092 | L7: MMAP
A8: ARIC | B8: Affymetrix Genome-Wide Human SNP Array 6.0 | C8: Birdseed | D8: ≥ 1% | E8: ≥90% | F8: >10-6 | G8: 685812 | H8: MACH v1.0.16 | I8: none | J8: r2_hat ≥ 0.30 | K8: 2511301 | L8: ProbABEL
A9: B58C (T1DGC) | B9: Illumina HumanHap 550 V.1 | C9: ILLUMINUS | D9: > 0% | E9: none | F9: none | G9: 539458 | H9: MACH | I9: none | J9: r2_hat ≥ 0.30 | K9: 2507904 | L9: ProbABEL
A10: B58C (WTCCC) | B10: Affymetrix GeneChip Human Mapping 500K | C10: CHIAMO | D10: > 0% | E10: none | F10: none | G10: 490032 | H10: IMPUTE | I10: none | J10: proper-info ≥ 0.40 | K10: 2448867 | L10: SNPTEST
A11: BRIGHT | B11: Affymetrix GeneChip Human Mapping 500K | C11: CHIAMO | D11: ≥5% | E11: ≥ 95% | F11: > 10-6 | G11: 387666 | H11: IMPUTE | I11: none | J11: proper-info ≥ 0.40 | K11: 2429493 | L11: SNPTEST
A12: CAD_WTCCC | B12: Affymetrix GeneChip Human Mapping 500K | C12: CHIAMO | D12: >5% | E12: ≥ 95% | F12: > 10-6 | G12: 387667 | H12: IMPUTE | I12: none | J12: proper-info ≥ 0.40 | K12: 2430162 | L12: SNPTEST
A13: CAPS1 cases | B13: Affymetrix GeneChip Human Mapping 500K | C13: BRLMM | D13: ≥ 1% | E13: ≥ 95% | F13: > 10-7 | G13: 330124 | H13: IMPUTE | I13: none | J13: proper-info ≥ 0.40 | K13: 2388288 | L13: SNPTEST
A14: CAPS1 controls | B14: Affymetrix GeneChip Human Mapping 500K | C14: BRLMM | D14: ≥ 1% | E14: ≥ 95% | F14: > 10-7 | G14: 330124 | H14: IMPUTE | I14: none | J14: proper-info ≥ 0.40 | K14: 2391197 | L14: SNPTEST
A15: CAPS2 cases | B15: Affymetrix GeneChip Human Mapping 5.0K | C15: BLRMM-P | D15: ≥ 1% | E15: ≥ 95% | F15: > 10-7 | G15: 348163 | H15: IMPUTE | I15: none | J15: proper-info ≥ 0.40 | K15: 2416628 | L15: SNPTEST
A16: CAPS2 controls | B16: Affymetrix GeneChip Human Mapping 5.0K | C16: BLRMM-P | D16: ≥ 1% | E16: ≥ 95% | F16: > 10-7 | G16: 348163 | H16: IMPUTE | I16: none | J16: proper-info ≥ 0.40 | K16: 2392236 | L16: SNPTEST
A17: CHS | B17: Illumina 370-CNV | C17: BeadStudio | D17: -** | E17: >97% | F17: > 10-5 | G17: 306655 | H17: BimBam | I17: >1% | J17: r2_hat ≥ 0.30 | K17: 2191627 | L17: R
... A53: VIS | B53: ILLUMINA318K | C53: BeadStudio | D53: ≥ 1% | E53: ≥ 98% | F53: > 10-6 | G53: 317465 | H53: MACH 1.0 | I53: none | J53: r2_hat ≥ 0.30 | K53: 2423020 | L53: ProbABEL
A54: New genome-wide association studies
A55: AE | B55: Affymetrix Genome-Wide Human SNP Array 5.0 | C55: BRLMM-P | D55: ≥ 3% | E55: ≥ 97% | F55: > 10-6 | G55: 403789 | H55: BEAGLE v3.3.2 | I55: - | J55: Uploaded without filtering | K55: 2416861 | L55: PLINK v1.07 and GoldenHelix SVS 7.7.3
A56: ASCOT | B56: Illumina HumanCNV 370 | C56: BeadStudio | D56: >0% | E56: ≥ 97% | F56: >10-7 | G56: 283291 | H56: MACH | I56: none | J56: r2 hat ≥0.3 | K56: 2,477, 983 | L56: MACH2QTL
A57: BLSA | B57: Illumina 550K | C57: BeadStudio | D57: ≥ 1% | E57: ≥ 99% | F57: > 10-4 | G57: 514027 | H57: MACH1.0 | I57: ≥1% | J57: Rsq ≥ 0.30 | K57: 2557230 | L57: MERLIN
A58: BNS (BHS) | B58: Illumina Human 610-Quad | C58: BeadStudio | D58: ≥ 1% | E58: ≥ 95% | F58: > 10-6 | G58: 549284 | H58: MACH | I58: ≥1% | J58: proper-info ≥ 0.30 | K58: 1977680 | L58: R
A59: COROGENE | B59: Illumina BeadChip Human 610-Quad | C59: Illuminus | D59: ≥ 1% | E59: ≥ 95% | F59: > 10-6 | G59: 554988 | H59: MACH | I59: ≥1% | J59: none | K59: 2543887 | L59: PLINK
A60: DESIR | B60: Illumina Human CNV370-Duo Array and Illumina HAP300 array | C60: Illumina Beadstation Genotyping Solution GenomeStudio v2010.2 | D60: ≥ 1% | E60: ≥ 95% | F60: > 10-4 | G60: 291609 | H60: IMPUTE | I60: ≥1% | J60: proper-info ≥ 0.40 | K60: 2544187 | L60: SNPTEST
A61: DNBC | B61: ILLUMINA660w-quad | C61: BeadStudio Genotyping Module, version 3.3.7 | D61: ≥ 0.5% | E61: ≥ 98% | F61: > 10-3 | G61: 518097 | H61: MACH | I61: No exclusions made based on MAF or imputation quality | J61: Uploaded without filtering | K61: 2549123 | L61: MACH2QTL
A62: EGCUT-370 | B62: Illumina Human370CNV | C62: GenomeStudio | D62: ≥ 1% | E62: ≥ 97% | F62: > 10-6 | G62: 320955 | H62: IMPUTE | I62: ≥ 1% | J62: proper-info ≥ 0.40 | K62: 2341594 | L62: SNPTEST
A63: EGCUT-OMNI | B63: Illumina OMNI-Express | C63: GenomeStudio | D63: ≥ 1% | E63: ≥ 97% | F63: > 10-6 | G63: 647357 | H63: IMPUTE | I63: ≥ 1% | J63: proper-info ≥ 0.40 | K63: 2375437 | L63: SNPTEST
A64: Erasmus Ruchphen Family Study (ERF) | B64: Illumina 318K, Illumina 370K and Affymetrix 250K | C64: Illumina Bead Studio, BRLMM | D64: ≥ 1% | E64: ≥ 98% | F64: > 10-6 | G64: 450877 | H64: MACH | I64: ≥1% | J64: Uploaded without filtering | K64: Uploaded without filtering | L64: ProbABEL / GenABEL
A65: FamHS | B65: Illumina HumMap 550K, Human 610-Quadv1 Illumina, Human 1M-Duov3 Illumina | C65: BeadStudio GENCALL v3.0 | D65: ≥ 1% | E65: ≥ 98% | F65: > 10-6 | G65: 849551 | H65: MACH 1.0.16 | I65: ≥1% | J65: r2_hat>0.30 | K65: 2543887 | L65: pipeline
A66: FinGesture cases | B66: Affymetrix Genome-Wide Human SNP Array 6.0 | C66: Birdseed | D66: ≥ 5% | E66: ≥ 95% | F66: > 10-6 | G66: 606717 | H66: MACH | I66: 0 | J66: r2-hat ≥ 0.30 | K66: 665 | L66: MACH2QTL
A67: GOOD | B67: Illumina Infinium HumanHap 610K | C67: BeadStudio | D67: ≥ 1% | E67: ≥ 98% | F67: > 10-6 | G67: 521160 | H67: MACH | I67: none | J67: none | K67: 2543887 | L67: MACH2QTL
A68: Health ABC | B68: Illumina 1M-Duo | C68: Beadchip | D68: ≥ 1% | E68: ≥ 97% | F68: > 10-6 | G68: 914263 | H68: MACH | I68: n/a | J68: R-sq>0.3 | K68: 2543887 | L68: R
A69: HBCS | B69: Illumina custom made BeadChip Human 670-Quad | C69: Illuminus | D69: ≥ 1% | E69: ≥ 95% | F69: > 10-6 | G69: 533491 | H69: MACH | I69: ≥1% | J69: none | K69: 2543887 | L69: PLINK
A70: HERITAGE Family Study | B70: Illumina HumanCNV370-Quad v3.0 | C70: Illumina Genome Studio | D70: ≥ 1% | E70: ≥ 99% | F70: > 10-6 | G70: 324607 | H70: MACH | I70: ≥1% | J70: r2 > 0.3 | K70: 2453887 | L70: ProbABEL
A71: InCHIANTI | B71: Illumina 550K | C71: BeadStudio | D71: ≥ 1% | E71: ≥ 99% | F71: > 10-4 | G71: 495343 | H71: MACH | I71: ≥1% | J71: Rsq ≥ 0.30 | K71: 2461088 | L71: MERLIN
A72: IPM (Mount Sinai BioMe) | B72: Affymetrix SNP 6.0 | C72: Birdsuite | D72: ≥ 1% | E72: ≥ 95% | F72: > E-3 | G72: 665889 | H72: MACH | I72: all | J72: Uploaded without filtering | K72: 3021329 | L72: MACH2QTL
A73: LifeLines | B73: Illumina Cyto SNP12 v2 | C73: GenomeStudio | D73: ≥ 1% | E73: ≥ 95% | F73: > 10-4 | G73: 257.581 | H73: BEAGLE v3.1.0 | I73: >0% | J73: Uploaded without filtering | K73: 2472812 | L73: PLINK1.07
A74: LLS | B74: Illumina Infinium HD Human660W-Quad, Illumina Infinium HD Human OmniExpress | C74: BeadStudio | D74: ≥ 1% | E74: ≥ 95% | F74: > 10-4 | G74: 516712 | H74: IMPUTE | I74: ≥1% | J74: R2T QTassoc ≥ 0.40 | K74: 3801289 | L74: QT-assoc
A75: LOLIPOP_EW610 | B75: Illumina Human610 | C75: BeadStudio | D75: ≥ 1% | E75: ≥ 90% | F75: > 10-6 | G75: 544620 | H75: MACH | I75: All | J75: Uploaded without filtering | K75: 2543887 | L75: MACH2QTL
...

Sheet S3-Study Descriptives
A1: Supplementary Table 3. Study-specific descriptive statistics genome-wide association studies and Metabochip studies
A2: Study | B2: Available phenotypes | C2: Trait | D2: Men | M2: Women
D3: N | E3: Mean | F3: SD | G3: Median | H3: Min. | I3: Max. | J3: Correlation with BMI | K3: Correlation with height | M3: N | N3: Mean | O3: SD | P3: Median | Q3: Min. | R3: Max. | S3: Correlation with BMI | T3: Correlation with height
A4: Previous genome-wide association studies (Speliotes et al., 2010)
A5: AGES | B5: Height, BMI, Weight | C5: Age (yrs) | D5: 1352 | E5: 49.685651 | F5: 5.8658455 | G5: 50 | H5: 34 | I5: 75 | J5: NA | K5: NA | M5: 1867 | N5: 52 | O5: 6.543121 | P5: 52 | Q5: 34 | R5: 77 | S5: NA | T5: NA
C6: BMI (kg/m²) | D6: 1351 | E6: 25.624599 | F6: 3.0871135 | G6: 25.477925 | H6: 16.940875 | I6: 38.612985 | J6: NA | K6: NA | M6: 1856 | N6: 24.890886 | O6: 3.8120893 | P6: 24.306168 | Q6: 13.652445 | R6: 50.414142 | S6: NA | T6: NA
C7: Weight (kg) | D7: 1351 | E7: 81.3245 | F7: 11.412217 | G7: 80.4 | H7: 51 | I7: 139 | J7: NA | K7: NA | M7: 1856 | N7: 67.13125 | O7: 10.50636 | P7: 66 | Q7: 32.8 | R7: 140.6 | S7: NA | T7: NA
C8: Height (m) | D8: 1352 | E8: 1.7802308 | F8: 0.061304014 | G8: 1.78 | H8: 1.56 | I8: 1.98 | J8: NA | K8: NA | M8: 1867 | N8: 1.642677 | O8: 0.053598475 | P8: 1.64 | Q8: 1.45 | R8: 1.83 | S8: NA | T8: NA
A10: Amish | B10: Height, BMI, Weight | C10: Age (yrs) | D10: 468 | E10: 45.9 | F10: 16.6 | G10: 43 | H10: 20 | I10: 98 | J10: NA | K10: NA | M10: 437 | N10: 47.5 | O10: 15.1 | P10: 48 | Q10: 20 | R10: 95 | S10: NA | T10: NA
C11: BMI (kg/m²) | D11: 468 | E11: 26.3 | F11: 3.5 | G11: 26 | H11: 18.6 | I11: 39 | J11: NA | K11: NA | M11: 437 | N11: 28.5 | O11: 5.7 | P11: 28.3 | Q11: 16.9 | R11: 47.1 | S11: NA | T11: NA
C12: Weight (kg) | D12: 468 | E12: 78.6 | F12: 11.7 | G12: 77 | H12: 49.4 | I12: 112.8 | J12: NA | K12: NA | M12: 437 | N12: 73.5 | O12: 14.4 | P12: 71.9 | Q12: 37.8 | R12: 114.3 | S12: NA | T12: NA
C13: Height (m) | D13: 468 | E13: 1.727 | F13: 0.0655 | G13: 1.73 | H13: 1.48 | I13: 1.93 | J13: NA | K13: NA | M13: 437 | N13: 1.6073 | O13: 0.0605 | P13: 1.61 | Q13: 1.39 | R13: 1.75 | S13: NA | T13: NA
A15: ARIC | B15: Height, BMI, Weight | C15: Age (yrs) | D15: 3822 | E15: 54.68786 | F15: 5.696517 | G15: 55 | H15: 44 | I15: 66 | J15: NA | K15: NA | M15: 4286 | N15: 53.9692 | O15: 5.666004 | P15: 54 | Q15: 44 | R15: 66 | S15: NA | T15: NA
C16: BMI (kg/m²) | D16: 3822 | E16: 27.48043 | F16: 4.008091 | G16: 26.974 | H16: 17.20832 | I16: 56.25701 | J16: NA | K16: NA | M16: 4286 | N16: 26.63439 | O16: 5.522475 | P16: 25.454 | Q16: 14.38378 | R16: 55.19864 | S16: NA | T16: NA
C17: Weight (kg) | D17: 3822 | E17: 85.5391 | F17: 13.76262 | G17: 84.1 | H17: 44.54546 | I17: 182.2727 | J17: NA | K17: NA | M17: 4286 | N17: 69.99788 | O17: 14.98863 | P17: 66.8 | Q17: 36.36364 | R17: 141.8182 | S17: NA | T17: NA
C18: Height (m) | D18: 3822 | E18: 1.76338 | F18: 0.0645629 | G18: 1.76 | H18: 1.49 | I18: 1.99 | J18: NA | K18: NA | M18: 4286 | N18: 1.62109 | O18: 0.058799 | P18: 1.62 | Q18: 1.37 | R18: 1.87 | S18: NA | T18: NA
A20: B58C (T1DGC) | B20: Height, BMI, Weight | C20: Age (yrs) | D20: 1259 | E20: 45.31 | F20: 0.34 | G20: 45.33 | H20: 44.5 | I20: 46 | J20: NA | K20: NA | M20: 1328 | N20: 45.27 | O20: 0.34 | P20: 45.25 | Q20: 44.5 | R20: 46 | S20: NA | T20: NA
C21: BMI (kg/m²) | D21: 1259 | E21: 28.02 | F21: 4.19 | G21: 27.56 | H21: 16.84 | I21: 51.63 | J21: NA | K21: NA | M21: 1328 | N21: 26.97 | O21: 5.58 | P21: 25.73 | Q21: 17.18 | R21: 52.2 | S21: NA | T21: NA
C22: Weight (kg) | D22: 1259 | E22: 87.05 | F22: 14.41 | G22: 86 | H22: 50.8 | I22: 177.1 | J22: NA | K22: NA | M22: 1328 | N22: 71.63 | O22: 15.45 | P22: 68.4 | Q22: 43 | R22: 155.3 | S22: NA | T22: NA
C23: Height (m) | D23: 1261 | E23: 1.762 | F23: 0.066 | G23: 1.759 | H23: 1.55 | I23: 1.988 | J23: NA | K23: NA | M23: 1330 | N23: 1.629 | O23: 0.06 | P23: 1.631 | Q23: 1.4 | R23: 1.845 | S23: NA | T23: NA
A25: B58C (WTCCC) | B25: Height, BMI, Weight | C25: Age (yrs) | D25: 741 | E25: 44.89 | F25: 0.34 | G25: 44.75 | H25: 44.5 | I25: 45.6 | J25: NA | K25: NA | M25: 738 | N25: 44.89 | O25: 0.35 | P25: 44.75 | Q25: 44.5 | R25: 45.6 | S25: NA | T25: NA
C26: BMI (kg/m²) | D26: 741 | E26: 27.84 | F26: 4.29 | G26: 27.23 | H26: 15.93 | I26: 48.41 | J26: NA | K26: NA | M26: 738 | N26: 26.92 | O26: 5.44 | P26: 25.56 | Q26: 17.34 | R26: 56.55 | S26: NA | T26: NA
C27: Weight (kg) | D27: 741 | E27: 86.56 | F27: 14.63 | G27: 85.2 | H27: 51 | I27: 137.5 | J27: NA | K27: NA | M27: 738 | N27: 70.96 | O27: 14.68 | P27: 68.2 | Q27: 41.8 | R27: 139.4 | S27: NA | T27: NA
C28: Height (m) | D28: 741 | E28: 1.762 | F28: 0.069 | G28: 1.761 | H28: 1.52 | I28: 2.024 | J28: NA | K28: NA | M28: 738 | N28: 1.624 | O28: 0.063 | P28: 1.625 | Q28: 1.416 | R28: 1.795 | S28: NA | T28: NA
A30: BRIGHT | B30: Height, BMI, Weight | C30: Age (yrs) | D30: 719 | E30: 56.2879 | F30: 11.148242 | G30: 57 | H30: 21 | I30: 84 | J30: NA | K30: NA | M30: 1087 | N30: 57.425023 | O30: 11.229222 | P30: 58 | Q30: 21 | R30: 85 | S30: NA | T30: NA
C31: BMI (kg/m²) | D31: 719 | E31: 27.74346 | F31: 3.2817372 | G31: 27.678689 | H31: 17.195646 | I31: 38.256082 | J31: NA | K31: NA | M31: 1087 | N31: 27.358121 | O31: 4.0398484 | P31: 27.03373 | Q31: 16.850599 | R31: 41.664976 | S31: NA | T31: NA
C32: Weight (kg) | D32: 719 | E32: 84.223713 | F32: 11.896216 | G32: 83.45 | H32: 51 | I32: 121 | J32: NA | K32: NA | M32: 1087 | N32: 71.188864 | O32: 11.547108 | P32: 69.9 | Q32: 41.7 | R32: 122.8 | S32: NA | T32: NA
C33: Height (m) | D33: 719 | E33: 1.7413373 | F33: 0.073378459 | G33: 1.74 | H33: 1.51 | I33: 1.95 | J33: NA | K33: NA | M33: 1087 | N33: 1.6126035 | O33: 0.064153951 | P33: 1.61 | Q33: 1.39 | R33: 1.81 | S33: NA | T33: NA
A35: CAD_WTCCC | C35: Age (yrs) | D35: 1489 | E35: 59.97112 | F35: 7.980308 | G35: 61 | H35: 35 | I35: 82 | J35: NA | K35: NA | M35: 387 | N35: 60.30233 | O35: 8.470863 | P35: 61 | Q35: 36 | R35: 81 | S35: NA | T35: NA
C36: BMI (kg/m²) | D36: 1489 | E36: 27.55026 | F36: 3.908922 | G36: 27.13141 | H36: 16.53436 | I36: 53.39507 | J36: NA | K36: NA | M36: 387 | N36: 27.84169 | O36: 5.229642 | P36: 27.1809 | Q36: 12.80646 | R36: 51.7301 | S36: NA | T36: NA
C37: Weight (kg) | D37: 1489 | E37: 83.25342 | F37: 13.06662 | G37: 82.49999 | H37: 37.69999 | I37: 173 | J37: NA | K37: NA | M37: 387 | N37: 71.03995 | O37: 14.13149 | P37: 69.20001 | Q37: 29.20001 | R37: 149.5 | S37: NA | T37: NA
C38: Height (m) | D38: 1489 | E38: 1.737709 | F38: 0.06892724 | G38: 1.74 | H38: 1.4 | I38: 1.98 | J38: NA | K38: NA | M38: 387 | N38: 1.597171 | O38: 0.06638475 | P38: 1.58 | Q38: 1.42 | R38: 1.78 | S38: NA | T38: NA
A40: CAPS1 cases | C40: Age (yrs) | D40: 505 | E40: 68.147327 | F40: 7.3830482 | G40: 67.900002 | H40: 49.5 | I40: 81.099998 | J40: NA | K40: NA | M40: NA | N40: NA | O40: NA | P40: NA | Q40: NA | R40: NA | S40: NA | T40: NA
C41: BMI (kg/m²) | D41: 484 | E41: 26.420165 | F41: 3.4808103 | G41: 26.007744 | H41: 18.359375 | I41: 41.765511 | J41: NA | K41: NA | M41: NA | N41: NA | O41: NA | P41: NA | Q41: NA | R41: NA | S41: NA | T41: NA
C42: Weight (kg) | D42: 485 | E42: 82.501031 | F42: 12.264075 | G42: 82 | H42: 47 | I42: 135 | J42: NA | K42: NA | M42: NA | N42: NA | O42: NA | P42: NA | Q42: NA | R42: NA | S42: NA | T42: NA
C43: Height (m) | D43: 489 | E43: 1.7663804 | F43: 0.066497462 | G43: 1.77 | H43: 1.58 | I43: 1.97 | J43: NA | K43: NA | M43: NA | N43: NA | O43: NA | P43: NA | Q43: NA | R43: NA | S43: NA | T43: NA
A45: CAPS1 controls | C45: Age (yrs) | D45: 506 | E45: 66.35751 | F45: 7.5001039 | G45: 65.900002 | H45: 44.900002 | I45: 79.800003 | J45: NA | K45: NA | M45: NA | N45: NA | O45: NA | P45: NA | Q45: NA | R45: NA | S45: NA | T45: NA
C46: BMI (kg/m²) | D46: 483 | E46: 26.492398 | F46: 3.5825886 | G46: 26.250725 | H46: 16.604275 | I46: 58.362724 | J46: NA | K46: NA | M46: NA | N46: NA | O46: NA | P46: NA | Q46: NA | R46: NA | S46: NA | T46: NA
C47: Weight (kg) | D47: 485 | E47: 82.752577 | F47: 13.099611 | G47: 82 | H47: 53 | I47: 187 | J47: NA | K47: NA | M47: NA | N47: NA | O47: NA | P47: NA | Q47: NA | R47: NA | S47: NA | T47: NA
C48: Height (m) | D48: 491 | E48: 1.7664969 | F48: 0.065676616 | G48: 1.76 | H48: 1.58 | I48: 2.01 | J48: NA | K48: NA | M48: NA | N48: NA | O48: NA | P48: NA | Q48: NA | R48: NA | S48: NA | T48: NA
...

Sheet S4-Euro sex-combined
A1: Supplementary Table 4. Significant loci for BMI at P < 1 × 10-5 for European sex-combined analysis
A2: SNP | B2: Chr. | C2: Position (bp) | D2: Genes | E2: Alleles | G2: β | H2: SE | I2: Effect allele frequency | J2: Variance explained | K2: GWAS I+II | N2: Metabochip | Q2: European sex-combined GWAS I+II + Metabochip | S2: Most significant analysis | T2: P value | U2: Variance explained in European All
D4: Nearest | E4: Effect | F4: Other | K4: N | L4: P value | N4: N | O4: P value | Q4: N | R4: P value
A5: rs1558902 | B5: 16 | C5: 52361075 | D5: FTO | E5: A | F5: T | G5: 0.0818 | H5: 0.0031 | I5: 0.415 | J5: 0.0032489316 | K5: 233662 | L5: 1.25e-104 | N5: 86411 | O5: 3.595e-49 | Q5: 320073 | R5: 7.51e-153 | S5: European sex-combined | T5: 7.51e-153 | U5: 0.0032489316
A6: rs6567160 | B6: 18 | C6: 55980115 | D6: MC4R | E6: C | F6: T | G6: 0.0556 | H6: 0.0036 | I6: 0.2357 | J6: 0.0011137892 | K6: 233839 | L6: 2.436e-41 | N6: 88119 | O6: 2.625e-13 | Q6: 321958 | R6: 3.93e-53 | S6: European sex-combined | T6: 3.93e-53 | U6: 0.0011137892
A7: rs13021737 | B7: 2 | C7: 622348 | D7: TMEM18 | E7: G | F7: A | G7: 0.0601 | H7: 0.004 | I7: 0.828 | J7: 0.001028816 | K7: 230252 | L7: 3.051e-34 | N7: 88035 | O7: 2.335e-17 | Q7: 318287 | R7: 1.113e-50 | S7: European sex-combined | T7: 1.113e-50 | U7: 0.001028816
A8: rs10938397 | B8: 4 | C8: 44877284 | D8: GNPDA2 | E8: G | F8: A | G8: 0.0402 | H8: 0.0031 | I8: 0.4341 | J8: 0.00079398369 | K8: 233014 | L8: 2.244e-26 | N8: 87941 | O8: 3.195e-13 | Q8: 320955 | R8: 3.205e-38 | S8: European sex-combined | T8: 3.205e-38 | U8: 0.00079398369
A9: rs543874 | B9: 1 | C9: 176156103 | D9: SEC16B | E9: G | F9: A | G9: 0.0482 | H9: 0.0039 | I9: 0.1927 | J9: 0.00072283761 | K9: 233888 | L9: 1.389e-26 | N9: 88120 | O9: 2.187e-10 | Q9: 322008 | R9: 2.618e-35 | S9: European sex-combined | T9: 2.618e-35 | U9: 0.00072283761
A10: rs2207139 | B10: 6 | C10: 50953449 | D10: TFAP2B | E10: G | F10: A | G10: 0.0447 | H10: 0.004 | I10: 0.1773 | J10: 0.00058290164 | K10: 233894 | L10: 1.608e-18 | N10: 88125 | O10: 8.026e-12 | Q10: 322019 | R10: 4.126e-29 | S10: European sex-combined | T10: 4.126e-29 | U10: 0.00058290164
A11: rs11030104 | B11: 11 | C11: 27641093 | D11: BDNF | E11: A | F11: G | G11: 0.0414 | H11: 0.0038 | I11: 0.7923 | J11: 0.00056410095 | K11: 233980 | L11: 2.177e-20 | N11: 88123 | O11: 2.122e-09 | Q11: 322103 | R11: 5.557e-28 | S11: European sex-combined | T11: 5.557e-28 | U11: 0.00056410095
A12: rs3101336 | B12: 1 | C12: 72523773 | D12: NEGR1 | E12: C | F12: T | G12: 0.0334 | H12: 0.0031 | I12: 0.6125 | J12: 0.00052954239 | K12: 233947 | L12: 8.67e-19 | N12: 82925 | O12: 8.404e-09 | Q12: 316872 | R12: 2.661e-26 | S12: European sex-combined | T12: 2.661e-26 | U12: 0.00052954239
A13: rs7138803 | B13: 12 | C13: 48533735 | D13: BCDIN3D | E13: A | F13: G | G13: 0.0315 | H13: 0.0031 | I13: 0.3843 | J13: 0.00046955951 | K13: 233977 | L13: 4.2e-17 | N13: 88115 | O13: 4.819e-08 | Q13: 322092 | R13: 8.153e-24 | S13: European sex-combined | T13: 8.153e-24 | U13: 0.00046955951
A14: rs10182181 | B14: 2 | C14: 25003800 | D14: ADCY3 | E14: G | F14: A | G14: 0.0307 | H14: 0.0031 | I14: 0.4617 | J14: 0.00046847994 | K14: 233684 | L14: 3.842e-17 | N14: 88075 | O14: 3.475e-08 | Q14: 321759 | R14: 8.777e-24 | S14: European sex-combined | T14: 8.777e-24 | U14: 0.00046847994
A15: rs3888190 | B15: 16 | C15: 28796987 | D15: ATP2A1 | E15: A | F15: C | G15: 0.0309 | H15: 0.0031 | I15: 0.4025 | J15: 0.00045925167 | K15: 234006 | L15: 5.5e-14 | N15: 87924 | O15: 6.942e-11 | Q15: 321930 | R15: 3.14e-23 | S15: European sex-combined | T15: 3.14e-23 | U15: 0.00045925167
A16: rs1516725 | B16: 3 | C16: 187306698 | D16: ETV5 | E16: C | F16: T | G16: 0.0451 | H16: 0.0046 | I16: 0.8719 | J16: 0.00045435874 | K16: 232625 | L16: 1.521e-17 | N16: 88019 | O16: 8.958e-07 | Q16: 320644 | R16: 1.886e-22 | S16: European sex-combined | T16: 1.886e-22 | U16: 0.00045435874
... A45: rs12885454 | B45: 14 | C45: 28806589 | D45: PRKD1 | E45: C | F45: A | G45: 0.0207 | H45: 0.0033 | I45: 0.6416 | J45: 0.00019706207 | K45: 232840 | L45: 1.196e-06 | N45: 87983 | O45: 2.239e-05 | Q45: 320823 | R45: 1.943e-10 | S45: European sex-combined | T45: 1.943e-10 | U45: 0.00019706207
A46: rs9641123 | B46: 7 | C46: 93035668 | D46: CALCR | E46: C | F46: G | G46: 0.0191 | H46: 0.0038 | I46: 0.4285 | J46: 0.000178675 | K46: 233515 | L46: 6.136e-07 | N46: - | O46: - | Q46: 233515 | R46: 5e-07 | S46: European Population Based | T46: 2.077e-10 | U46: 0.000178675
A47: rs12016871 | B47: 13 | C47: 26915782 | D47: MTIF3 | E47: T | F47: C | G47: 0.0298 | H47: 0.0047 | I47: 0.2029 | J47: 0.00028724824 | K47: 233803 | L47: 2.191e-10 | N47: - | O47: - | Q47: 233803 | R47: 2.291e-10 | S47: European sex-combined | T47: 2.291e-10 | U47: 0.00028724824
A48: rs16851483 | B48: 3 | C48: 142758126 | D48: RASA2 | E48: T | F48: G | G48: 0.0483 | H48: 0.0077 | I48: 0.0655 | J48: 0.00028559123 | K48: 233929 | L48: 2.875e-10 | N48: - | O48: - | Q48: 233929 | R48: 3.548e-10 | S48: European sex-combined | T48: 3.548e-10 | U48: 0.00028559123
A49: rs1167827 | B49: 7 | C49: 75001105 | D49: HIP1 | E49: G | F49: A | G49: 0.0202 | H49: 0.0033 | I49: 0.5526 | J49: 0.0002017621 | K49: 218171 | L49: 1.417e-05 | N49: 88067 | O49: 4.987e-06 | Q49: 306238 | R49: 6.333e-10 | S49: European sex-combined | T49: 6.333e-10 | U49: 0.0002017621
A50: rs758747 | B50: 16 | C50: 3567359 | D50: NLRC3 | E50: T | F50: C | G50: 0.0225 | H50: 0.0037 | I50: 0.2651 | J50: 0.00019725726 | K50: 220606 | L50: 5.696e-05 | N50: 88082 | O50: 1.118e-06 | Q50: 308688 | R50: 7.473e-10 | S50: European sex-combined | T50: 7.473e-10 | U50: 0.00019725726
A51: rs1928295 | B51: 9 | C51: 119418304 | D51: TLR4 | E51: T | F51: C | G51: 0.0188 | H51: 0.0031 | I51: 0.5479 | J51: 0.00017509813 | K51: 233872 | L51: 3.959e-06 | N51: 88107 | O51: 3.247e-05 | Q51: 321979 | R51: 7.91e-10 | S51: European sex-combined | T51: 7.91e-10 | U51: 0.00017509813
A52: rs9925964 | B52: 16 | C52: 31037396 | D52: KAT8 | E52: A | F52: G | G52: 0.0192 | H52: 0.0031 | I52: 0.6198 | J52: 0.00017373853 | K52: 230293 | L52: 1.77e-06 | N52: 88092 | O52: 0.0001174 | Q52: 318385 | R52: 8.108e-10 | S52: European sex-combined | T52: 8.108e-10 | U52: 0.00017373853
A53: rs11126666 | B53: 2 | C53: 26782315 | D53: KCNK3 | E53: A | F53: G | G53: 0.0207 | H53: 0.0034 | I53: 0.2833 | J53: 0.00017400217 | K53: 233902 | L53: 0.0002244 | N53: 88077 | O53: 1.534e-07 | Q53: 321979 | R53: 1.332e-09 | S53: European sex-combined | T53: 1.332e-09 | U53: 0.00017400217
A54: rs2650492 | B54: 16 | C54: 28240912 | D54: SBK1 | E54: A | F54: G | G54: 0.0207 | H54: 0.0035 | I54: 0.3033 | J54: 0.00018108768 | K54: 231376 | L54: 5.216e-07 | N54: 88088 | O54: 0.001083 | Q54: 319464 | R54: 1.915e-09 | S54: European sex-combined | T54: 1.915e-09 | U54: 0.00018108768
A55: rs6804842 | B55: 3 | C55: 25081441 | D55: RARB | E55: G | F55: A | G55: 0.0185 | H55: 0.0031 | I55: 0.5749 | J55: 0.00016728495 | K55: 233354 | L55: 2.015e-06 | N55: 88109 | O55: 0.0003466 | Q55: 321463 | R55: 2.476e-09 | S55: European sex-combined | T55: 2.476e-09 | U55: 0.00016728495
A56: rs12940622 | B56: 17 | C56: 76230166 | D56: RPTOR | E56: G | F56: A | G56: 0.0182 | H56: 0.0031 | I56: 0.5748 | J56: 0.0001619134 | K56: 233983 | L56: 3.412e-07 | N56: 88049 | O56: 0.001859 | Q56: 322032 | R56: 2.494e-09 | S56: European sex-combined | T56: 2.494e-09 | U56: 0.0001619134
A57: rs7164727 | B57: 15 | C57: 70881044 | D57: LOC100287559 | E57: T | F57: C | G57: 0.018 | H57: 0.0033 | I57: 0.6864 | J57: 0.00013948527 | K57: 233198 | L57: 1.196e-06 | N57: 88114 | O57: 0.01155 | Q57: 321312 | R57: 6.829e-08 | S57: All Ancestries | T57: 3.915e-09 | U57: 0.00013948527
A58: rs11847697 | B58: 14 | C58: 29584863 | D58: PRKD1 | E58: T | F58: C | G58: 0.0492 | H58: 0.0084 | I58: 0.042 | J58: 0.00019479374 | K58: 218365 | L58: 2.76e-07 | N58: 87878 | O58: 0.003048 | Q58: 306243 | R58: 3.99e-09 | S58: European sex-combined | T58: 3.99e-09 | U58: 0.00019479374
A59: rs4740619 | B59: 9 | C59: 15624326 | D59: C9orf93 | E59: T | F59: C | G59: 0.0179 | H59: 0.0031 | I59: 0.5416 | J59: 0.00015909602 | K59: 233939 | L59: 1.239e-05 | N59: 87948 | O59: 6.167e-05 | Q59: 321887 | R59: 4.564e-09 | S59: European sex-combined | T59: 4.564e-09 | U59: 0.00015909602
A60: rs492400 | B60: 2 | C60: 219057996 | D60: USP37 | E60: C | F60: T | G60: 0.0158 | H60: 0.0031 | I60: 0.4234 | J60: 0.00012189044 | K60: 233662 | L60: 5.189e-05 | N60: 87428 | O60: 0.002596 | Q60: 321090 | R60: 4.167e-07 | S60: European Men | T60: 6.784e-09 | U60: 0.00012189044
... A62: rs3736485 | B62: 15 | C62: 49535902 | D62: DMXL2 | E62: A | F62: G | G62: 0.0176 | H62: 0.0031 | I62: 0.454 | J62: 0.0001535691 | K62: 233281 | L62: 9.66e-06 | N62: 88117 | O62: 0.0001551 | Q62: 321398 | R62: 7.412e-09 | S62: European sex-combined | T62: 7.412e-09 | U62: 0.0001535691
A63: rs17001654 | B63: 4 | C63: 77348592 | D63: SCARB2 | E63: G | F63: C | G63: 0.0306 | H63: 0.0053 | I63: 0.1532 | J63: 0.00024294752 | K63: 233722 | L63: 8.42e-09 | N63: - | O63: - | Q63: 233722 | R63: 7.76e-09 | S63: European sex-combined | T63: 7.76e-09 | U63: 0.00024294752
A64: rs11191560 | B64: 10 | C64: 104859028 | D64: NT5C2 | E64: C | F64: T | G64: 0.0308 | H64: 0.0053 | I64: 0.0891 | J64: 0.0001539855 | K64: 233821 | L64: 7.129e-06 | N64: 88072 | O64: 0.0003327 | Q64: 321893 | R64: 8.446e-09 | S64: European sex-combined | T64: 8.446e-09 | U64: 0.0001539855
A65: rs2080454 | B65: 16 | C65: 47620091 | D65: CBLN1 | E65: C | F65: A | G65: 0.0168 | H65: 0.0031 | I65: 0.4051 | J65: 0.00013612164 | K65: 233990 | L65: 7.51e-08 | N65: 88109 | O65: 0.08994 | Q65: 322099 | R65: 6.547e-08 | S65: All Ancestries | T65: 8.604e-09 | U65: 0.00013603629
A66: rs7715256 | B66: 5 | C66: 153518086 | D66: GALNT10 | E66: G | F66: T | G66: 0.0163 | H66: 0.0031 | I66: 0.4211 | J66: 0.00012953705 | K66: 234014 | L66: 4.677e-07 | N66: 88070 | O66: 0.05983 | Q66: 322084 | R66: 1.695e-07 | S66: All Ancestries | T66: 8.851e-09 | U66: 0.00012953705
A67: rs2176040 | B67: 2 | C67: 226801046 | D67: LOC646736 | E67: A | F67: G | G67: 0.0141 | H67: 0.0031 | I67: 0.3654 | J67: 9.2201255e-05 | K67: 233848 | L67: 0.001206 | N67: 88124 | O67: 0.001157 | Q67: 321972 | R67: 6.058e-06 | S67: European Men | T67: 9.989e-09 | U67: 9.2201255e-05
A68: rs1528435 | B68: 2 | C68: 181259207 | D68: UBE2E3 | E68: T | F68: C | G68: 0.0178 | H68: 0.0031 | I68: 0.6312 | J68: 0.00014751219 | K68: 233802 | L68: 1.364e-06 | N68: 88122 | O68: 0.002757 | Q68: 321924 | R68: 1.196e-08 | S68: European sex-combined | T68: 1.196e-08 | U68: 0.00014751219
A69: rs2075650 | B69: 19 | C69: 50087459 | D69: TOMM40 | E69: A | F69: G | G69: 0.0258 | H69: 0.0045 | I69: 0.8484 | J69: 0.00017122583 | K69: 220285 | L69: 4.462e-05 | N69: 88123 | O69: 4.943e-05 | Q69: 308408 | R69: 1.247e-08 | S69: European sex-combined | T69: 1.247e-08 | U69: 0.00017122583
A70: rs1000940 | B70: 17 | C70: 5223976 | D70: RABEP1 | E70: G | F70: A | G70: 0.0192 | H70: 0.0034 | I70: 0.3199 | J70: 0.00016040558 | K70: 233748 | L70: 1.06e-06 | N70: 88088 | O70: 0.003038 | Q70: 321836 | R70: 1.284e-08 | S70: European sex-combined | T70: 1.284e-08 | U70: 0.00016040558
...

Sheet S5-Euro men only
A1: Supplementary Table 5. Significant loci for BMI at P < 1 × 10-5 for European Men only
A2: SNP | B2: Chr. | C2: Position (bp) | D2: Genes | E2: Alleles | G2: β | H2: SE | I2: Effect allele frequency | J2: Variance explained | K2: GWAS I+II | N2: Metabochip | Q2: European Men only GWAS I+II + Metabochip | S2: Most significant analysis | T2: P value | U2: Variance explained in European All
D4: Nearest | E4: Effect | F4: Other | K4: N | L4: P value | N4: N | O4: P value | Q4: N | R4: P value
A5: rs1558902 | B5: 16 | C5: 52361075 | D5: FTO | E5: A | F5: T | G5: 0.0842 | H5: 0.0041 | I5: 0.4175 | J5: 0.0034483123 | K5: 104455 | L5: 1.799e-63 | N5: 47282 | O5: 1.716e-32 | Q5: 151737 | R5: 1.04e-93 | S5: European sex-combined | T5: 7.51e-153 | U5: 0.0032489316
A6: rs6567160 | B6: 18 | C6: 55980115 | D6: MC4R | E6: C | F6: T | G6: 0.0546 | H6: 0.0048 | I6: 0.2343 | J6: 0.0010696611 | K6: 104528 | L6: 7.852e-24 | N6: 48265 | O6: 2.243e-08 | Q6: 152793 | R6: 4.553e-30 | S6: European sex-combined | T6: 3.93e-53 | U6: 0.0011137892
A7: rs13021737 | B7: 2 | C7: 622348 | D7: TMEM18 | E7: G | F7: A | G7: 0.052 | H7: 0.0054 | I7: 0.828 | J7: 0.00077018573 | K7: 104117 | L7: 9.583e-16 | N7: 48207 | O7: 4.907e-08 | Q7: 152324 | R7: 3.858e-22 | S7: European sex-combined | T7: 1.113e-50 | U7: 0.001028816
A8: rs10938397 | B8: 4 | C8: 44877284 | D8: GNPDA2 | E8: G | F8: A | G8: 0.0402 | H8: 0.0041 | I8: 0.4358 | J8: 0.00079469853 | K8: 104119 | L8: 8.906e-12 | N8: 48160 | O8: 1.03e-12 | Q8: 152279 | R8: 2.082e-22 | S8: European sex-combined | T8: 3.205e-38 | U8: 0.00079398369
A9: rs543874 | B9: 1 | C9: 176156103 | D9: SEC16B | E9: G | F9: A | G9: 0.0341 | H9: 0.0051 | I9: 0.1916 | J9: 0.00036021398 | K9: 104553 | L9: 3.28e-08 | N9: 48265 | O9: 0.0002277 | Q9: 152818 | R9: 2.729e-11 | S9: European sex-combined | T9: 2.618e-35 | U9: 0.00072283761
A10: rs2207139 | B10: 6 | C10: 50953449 | D10: TFAP2B | E10: G | F10: A | G10: 0.044 | H10: 0.0053 | I10: 0.1778 | J10: 0.00056603668 | K10: 104561 | L10: 2.094e-12 | N10: 48265 | O10: 9.616e-06 | Q10: 152826 | R10: 1.621e-16 | S10: European sex-combined | T10: 4.126e-29 | U10: 0.00058290164
A11: rs11030104 | B11: 11 | C11: 27641093 | D11: BDNF | E11: A | F11: G | G11: 0.0445 | H11: 0.005 | I11: 0.7924 | J11: 0.00065151112 | K11: 104600 | L11: 1.172e-11 | N11: 48264 | O11: 5.846e-09 | Q11: 152864 | R11: 4.696e-19 | S11: European sex-combined | T11: 5.557e-28 | U11: 0.00056410095
A12: rs3101336 | B12: 1 | C12: 72523773 | D12: NEGR1 | E12: C | F12: T | G12: 0.0346 | H12: 0.0042 | I12: 0.6137 | J12: 0.00056762697 | K12: 104587 | L12: 1.516e-12 | N12: 46070 | O12: 1.831e-05 | Q12: 150657 | R12: 1.732e-16 | S12: European sex-combined | T12: 2.661e-26 | U12: 0.00052954239
A13: rs7138803 | B13: 12 | C13: 48533735 | D13: BCDIN3D | E13: A | F13: G | G13: 0.0273 | H13: 0.0042 | I13: 0.3847 | J13: 0.0003528291 | K13: 104593 | L13: 1.11e-09 | N13: 48262 | O13: 0.00551 | Q13: 152855 | R13: 5.897e-11 | S13: European sex-combined | T13: 8.153e-24 | U13: 0.00046955951
A14: rs10182181 | B14: 2 | C14: 25003800 | D14: ADCY3 | E14: G | F14: A | G14: 0.0234 | H14: 0.004 | I14: 0.4629 | J14: 0.00027227267 | K14: 104465 | L14: 1.158e-06 | N14: 48236 | O14: 0.00117 | Q14: 152701 | R14: 6.031e-09 | S14: European sex-combined | T14: 8.777e-24 | U14: 0.00046847994
A15: rs3888190 | B15: 16 | C15: 28796987 | D15: ATP2A1 | E15: A | F15: C | G15: 0.035 | H15: 0.0041 | I15: 0.4024 | J15: 0.00058916189 | K15: 104614 | L15: 1.322e-10 | N15: 48170 | O15: 1.134e-08 | Q15: 152784 | R15: 1.323e-17 | S15: European sex-combined | T15: 3.14e-23 | U15: 0.00045925167
A16: rs1516725 | B16: 3 | C16: 187306698 | D16: ETV5 | E16: C | F16: T | G16: 0.0439 | H16: 0.0062 | I16: 0.8731 | J16: 0.00042705582 | K16: 104081 | L16: 3.978e-10 | N16: 48225 | O16: 0.0004021 | Q16: 152306 | R16: 1.048e-12 | S16: European sex-combined | T16: 1.886e-22 | U16: 0.00045435874
... A45: rs12885454 | B45: 14 | C45: 28806589 | D45: PRKD1 | E45: C | F45: A | G45: 0.0188 | H45: 0.0042 | I45: 0.6441 | J45: 0.00016204177 | K45: 104042 | L45: 0.003143 | N45: 48182 | O45: 0.0006153 | Q45: 152224 | R45: 9.818e-06 | S45: European sex-combined | T45: 1.943e-10 | U45: 0.00019706207
A46: rs9641123 | B46: 7 | C46: 93035668 | D46: CALCR | E46: C | F46: G | G46: 0.0114 | H46: 0.0052 | I46: 0.4285 | J46: 6.3651224e-05 | K46: 104401 | L46: 0.02844 | N46: - | O46: - | Q46: 104401 | R46: 0.02836 | S46: European Population Based | T46: 2.077e-10 | U46: 0.000178675
A47: rs12016871 | B47: 13 | C47: 26915782 | D47: MTIF3 | E47: T | F47: C | G47: 0.0273 | H47: 0.0062 | I47: 0.2043 | J47: 0.00024231094 | K47: 104506 | L47: 1.141e-05 | N47: - | O47: - | Q47: 104506 | R47: 1.067e-05 | S47: European sex-combined | T47: 2.291e-10 | U47: 0.00028724824
A48: rs16851483 | B48: 3 | C48: 142758126 | D48: RASA2 | E48: T | F48: G | G48: 0.0433 | H48: 0.0103 | I48: 0.0657 | J48: 0.00023017466 | K48: 104613 | L48: 2.589e-05 | N48: - | O48: - | Q48: 104613 | R48: 2.624e-05 | S48: European sex-combined | T48: 3.548e-10 | U48: 0.00028559123
A49: rs1167827 | B49: 7 | C49: 75001105 | D49: HIP1 | E49: G | F49: A | G49: 0.0234 | H49: 0.0044 | I49: 0.5484 | J49: 0.00027121462 | K49: 94278.7 | L49: 0.0001907 | N49: 48227 | O49: 8.684e-05 | Q49: 142506 | R49: 8.804e-08 | S49: European sex-combined | T49: 6.333e-10 | U49: 0.0002017621
A50: rs758747 | B50: 16 | C50: 3567359 | D50: NLRC3 | E50: T | F50: C | G50: 0.0259 | H50: 0.0048 | I50: 0.2643 | J50: 0.00026087199 | K50: 98367.7 | L50: 0.0001919 | N50: 48239 | O50: 9.878e-05 | Q50: 146607 | R50: 8.042e-08 | S50: European sex-combined | T50: 7.473e-10 | U50: 0.00019725726
A51: rs1928295 | B51: 9 | C51: 119418304 | D51: TLR4 | E51: T | F51: C | G51: 0.0119 | H51: 0.004 | I51: 0.5472 | J51: 7.0174031e-05 | K51: 104553 | L51: 0.01201 | N51: 48255 | O51: 0.1078 | Q51: 152808 | R51: 0.00304 | S51: European sex-combined | T51: 7.91e-10 | U51: 0.00017509813
A52: rs9925964 | B52: 16 | C52: 31037396 | D52: KAT8 | E52: A | F52: G | G52: 0.0184 | H52: 0.0042 | I52: 0.6187 | J52: 0.00015973959 | K52: 104137 | L52: 0.002243 | N52: 48247 | O52: 0.001106 | Q52: 152384 | R52: 1.098e-05 | S52: European sex-combined | T52: 8.108e-10 | U52: 0.00017373853
A53: rs11126666 | B53: 2 | C53: 26782315 | D53: KCNK3 | E53: A | F53: G | G53: 0.0258 | H53: 0.0045 | I53: 0.2847 | J53: 0.00027110973 | K53: 104561 | L53: 0.000289 | N53: 48238 | O53: 3.241e-06 | Q53: 152799 | R53: 1.292e-08 | S53: European sex-combined | T53: 1.332e-09 | U53: 0.00017400217
A54: rs2650492 | B54: 16 | C54: 28240912 | D54: SBK1 | E54: A | F54: G | G54: 0.0213 | H54: 0.0047 | I54: 0.3033 | J54: 0.00019173766 | K54: 102516 | L54: 0.002984 | N54: 48243 | O54: 0.0003161 | Q54: 150759 | R54: 4.722e-06 | S54: European sex-combined | T54: 1.915e-09 | U54: 0.00018108768
A55: rs6804842 | B55: 3 | C55: 25081441 | D55: RARB | E55: G | F55: A | G55: 0.0202 | H55: 0.0041 | I55: 0.572 | J55: 0.00019978944 | K55: 104282 | L55: 1.988e-06 | N55: 48264 | O55: 0.0551 | Q55: 152546 | R55: 7.688e-07 | S55: European sex-combined | T55: 2.476e-09 | U55: 0.00016728495
A56: rs12940622 | B56: 17 | C56: 76230166 | D56: RPTOR | E56: G | F56: A | G56: 0.0206 | H56: 0.0041 | I56: 0.5767 | J56: 0.00020718707 | K56: 104600 | L56: 0.0001086 | N56: 48223 | O56: 0.001197 | Q56: 152823 | R56: 4.974e-07 | S56: European sex-combined | T56: 2.494e-09 | U56: 0.0001619134
A57: rs7164727 | B57: 15 | C57: 70881044 | D57: LOC100287559 | E57: T | F57: C | G57: 0.0171 | H57: 0.0043 | I57: 0.6872 | J57: 0.00012571066 | K57: 104279 | L57: 0.0002469 | N57: 48261 | O57: 0.1034 | Q57: 152540 | R57: 8.419e-05 | S57: All Ancestries | T57: 3.915e-09 | U57: 0.00013948527
A58: rs11847697 | B58: 14 | C58: 29584863 | D58: PRKD1 | E58: T | F58: C | G58: 0.0452 | H58: 0.011 | I58: 0.0416 | J58: 0.00016290972 | K58: 97878 | L58: 0.003991 | N58: 48172 | O58: 0.002559 | Q58: 146050 | R58: 3.967e-05 | S58: European sex-combined | T58: 3.99e-09 | U58: 0.00019479374
A59: rs4740619 | B59: 9 | C59: 15624326 | D59: C9orf93 | E59: T | F59: C | G59: 0.0198 | H59: 0.004 | I59: 0.5395 | J59: 0.00019479664 | K59: 104575 | L59: 0.0005903 | N59: 48167 | O59: 0.0002531 | Q59: 152742 | R59: 8.842e-07 | S59: European sex-combined | T59: 4.564e-09 | U59: 0.00015909602
A60: rs492400 | B60: 2 | C60: 219057996 | D60: USP37 | E60: C | F60: T | G60: 0.0238 | H60: 0.0041 | I60: 0.424 | J60: 0.00027667649 | K60: 104435 | L60: 9.841e-06 | N60: 47718 | O60: 0.0001496 | Q60: 152153 | R60: 6.784e-09 | S60: European Men | T60: 6.784e-09 | U60: 0.00012189044
... A62: rs3736485 | B62: 15 | C62: 49535902 | D62: DMXL2 | E62: A | F62: G | G62: 0.0167 | H62: 0.0041 | I62: 0.4532 | J62: 0.00013822333 | K62: 104250 | L62: 0.001669 | N62: 48259 | O62: 0.007912 | Q62: 152509 | R62: 4.167e-05 | S62: European sex-combined | T62: 7.412e-09 | U62: 0.0001535691
A63: rs17001654 | B63: 4 | C63: 77348592 | D63: SCARB2 | E63: G | F63: C | G63: 0.0278 | H63: 0.0072 | I63: 0.1539 | J63: 0.0002012704 | K63: 104471 | L63: 0.0001228 | N63: - | O63: - | Q63: 104471 | R63: 0.0001129 | S63: European sex-combined | T63: 7.76e-09 | U63: 0.00024294752
A64: rs11191560 | B64: 10 | C64: 104859028 | D64: NT5C2 | E64: C | F64: T | G64: 0.0313 | H64: 0.0071 | I64: 0.089 | J64: 0.00015886457 | K64: 104550 | L64: 0.0002865 | N64: 48256 | O64: 0.01189 | Q64: 152806 | R64: 1.007e-05 | S64: European sex-combined | T64: 8.446e-09 | U64: 0.0001539855
A65: rs2080454 | B65: 16 | C65: 47620091 | D65: CBLN1 | E65: C | F65: A | G65: 0.0167 | H65: 0.0042 | I65: 0.4077 | J65: 0.00013469311 | K65: 104602 | L65: 5.004e-05 | N65: 48258 | O65: 0.1911 | Q65: 152860 | R65: 5.685e-05 | S65: All Ancestries | T65: 8.604e-09 | U65: 0.00013603629
A66: rs7715256 | B66: 5 | C66: 153518086 | D66: GALNT10 | E66: G | F66: T | G66: 0.0151 | H66: 0.0041 | I66: 0.4221 | J66: 0.00011123768 | K66: 104615 | L66: 0.0002387 | N66: 48237 | O66: 0.2223 | Q66: 152852 | R66: 0.0002404 | S66: All Ancestries | T66: 8.851e-09 | U66: 0.00012953705
A67: rs2176040 | B67: 2 | C67: 226801046 | D67: LOC646736 | E67: A | F67: G | G67: 0.0239 | H67: 0.0042 | I67: 0.3654 | J67: 0.00026490759 | K67: 104550 | L67: 1.528e-05 | N67: 48268 | O67: 0.0001498 | Q67: 152818 | R67: 9.989e-09 | S67: European Men | T67: 9.989e-09 | U67: 9.2201255e-05
A68: rs1528435 | B68: 2 | C68: 181259207 | D68: UBE2E3 | E68: T | F68: C | G68: 0.0229 | H68: 0.0042 | I68: 0.6322 | J68: 0.00024387494 | K68: 104511 | L68: 5.263e-07 | N68: 48264 | O68: 0.01501 | Q68: 152775 | R68: 4.317e-08 | S68: European sex-combined | T68: 1.196e-08 | U68: 0.00014751219
A69: rs2075650 | B69: 19 | C69: 50087459 | D69: TOMM40 | E69: A | F69: G | G69: 0.0206 | H69: 0.006 | I69: 0.8475 | J69: 0.00010969176 | K69: 96917.6 | L69: 0.06872 | N69: 48263 | O69: 0.001325 | Q69: 145181 | R69: 0.0005803 | S69: European sex-combined | T69: 1.247e-08 | U69: 0.00017122583
A70: rs1000940 | B70: 17 | C70: 5223976 | D70: RABEP1 | E70: G | F70: A | G70: 0.0184 | H70: 0.0045 | I70: 0.3203 | J70: 0.00014741438 | K70: 104527 | L70: 1.599e-05 | N70: 48241 | O70: 0.227 | Q70: 152768 | R70: 4.021e-05 | S70: European sex-combined | T70: 1.284e-08 | U70: 0.00016040558
...

Sheet S6-Euro women only
A1: Supplementary Table 6. Significant loci for BMI at P < 1 × 10-5 for European Women only
A2: SNP | B2: Chr. | C2: Position (bp) | D2: Genes | E2: Alleles | G2: β | H2: SE | I2: Effect allele frequency | J2: Variance explained | K2: GWAS I+II | N2: Metabochip | Q2: European Women only GWAS I+II + Metabochip | S2: Most significant analysis | T2: P value | U2: Variance explained in European All
D4: Nearest | E4: Effect | F4: Other | K4: N | L4: P value | N4: N | O4: P value | Q4: N | R4: P value
A5: rs1558902 | B5: 16 | C5: 52361075 | D5: FTO | E5: A | F5: T | G5: 0.0791 | H5: 0.0041 | I5: 0.4127 | J5: 0.0030330351 | K5: 131918 | L5: 6.058e-63 | N5: 39129 | O5: 3.472e-24 | Q5: 171047 | R5: 4.032e-84 | S5: European sex-combined | T5: 7.51e-153 | U5: 0.0032489316
A6: rs6567160 | B6: 18 | C6: 55980115 | D6: MC4R | E6: C | F6: T | G6: 0.0563 | H6: 0.0046 | I6: 0.2372 | J6: 0.0011470231 | K6: 132021 | L6: 2.96e-27 | N6: 39854 | O6: 3.858e-08 | Q6: 171875 | R6: 5.083e-34 | S6: European sex-combined | T6: 3.93e-53 | U6: 0.0011137892
A7: rs13021737 | B7: 2 | C7: 622348 | D7: TMEM18 | E7: G | F7: A | G7: 0.0686 | H7: 0.0052 | I7: 0.828 | J7: 0.001340408 | K7: 128846 | L7: 3.525e-27 | N7: 39828 | O7: 6.464e-14 | Q7: 168674 | R7: 6.987e-40 | S7: European sex-combined | T7: 1.113e-50 | U7: 0.001028816
A8: rs10938397 | B8: 4 | C8: 44877284 | D8: GNPDA2 | E8: G | F8: A | G8: 0.0404 | H8: 0.0041 | I8: 0.4321 | J8: 0.00080103015 | K8: 131605 | L8: 5.855e-21 | N8: 39781 | O8: 7.594e-05 | Q8: 171386 | R8: 2.984e-23 | S8: European sex-combined | T8: 3.205e-38 | U8: 0.00079398369
