Workbook

Sheet parameter&results
B2: Parameters
B3: Average time of rapid test (in hours) | C3: 1
B4: Average time of PCR test (in days) | C4: 2
B5: Daily number of suspected Ebola cases seeking care | C5: 60
B6: Prevalence of infection among those cases (%) | C6: 70
B7: Rate of transmission (per day) | C7: 0.15
B8: Average duration from hospitalisation to discharge | C8: 7
B9: Sensitivity of rapid test | C9: 0.92
B10: Specificity of rapid test | C10: 0.85
B11: Bed capacity (total) | C11: 200
A12: For patients perspective | B12: CFR ebola | C12: 0.6
B13: CFR for non-Ebola illness mistaken as Ebola | C13: 0.2
B14: Reduction in CFR with care | C14: 0.7
A15: For transmission perspective | B15: Community reproduction number | C15: 1.7
B16: Average duration of infectiousness | C16: 15
B17: Delay between symptom onset to hospitalisation | C17: 4
B20: Evaluation of simple HU model - patient perspective
B21: Testing strategy | C21: CFR among patients seeking care | D21: CFR relative to community | E21: Number of patients dying | L21: Total dying | M21: Number dying if they stayed in the community
E22: Among initally Ebola-infected | H22: Among initially Ebola-uninfected (in bracket: from Ebola)
E23: In confirmed ward | F23: In community (due to bed limitations issues) | G23: Iin community (due to imperfect sensitivity of RDT) | H23: In community after testing | I23: In community (due to bed limitations issues) | J23: In confirmed ward (due to imperfect RDT specificity) | K23: In community after being discharged from confirmed ward (RDT specificity)
A24: No limit in bed capacity | B24: PCR-only | C24: =transmission!O22/'parameter&results'!$C$5 -> 0.37908015 | D24: =transmission!Q22 -> 0.78975031 | E24: =transmission!H22 -> 17.64 | F24: =transmission!I22 -> - | G24: =transmission!J22 -> - | H24: =CONCATENATE(ROUND(transmission!K22,2)," (",ROUND(transmission!K32,2),")") -> 5.1 (1.5) | I24: - | J24: - | K24: - | L24: =transmission!O22 -> 22.744809 | M24: =transmission!P22 -> 28.8
B25: RDT-only | C25: =transmission!O23/'parameter&results'!$C$5 -> 0.37596884 | D25: =transmission!Q23 -> 0.78326842 | E25: =transmission!H23 -> 16.2288 | F25: =transmission!I23 -> - | G25: =transmission!J23 -> 2.016 | H25: =CONCATENATE(ROUND(transmission!K23,2)," (",ROUND(transmission!K33,2),")") -> 3.09 (0.03) | I25: - | J25: =CONCATENATE(ROUND(transmission!M23,2)," (",ROUND(transmission!M33,2),")") -> 0.45 (0.07) | K25: =CONCATENATE(ROUND(transmission!N23,2)," (",ROUND(transmission!N33,2),")") -> 0.77 (0.77) | L25: =transmission!O23 -> 22.558131
B26: Dual | C26: =transmission!O24/'parameter&results'!$C$5 -> 0.36538221 | D26: =transmission!Q24 -> 0.76121293 | E26: =transmission!H24 -> 17.64 | F26: =transmission!I24 -> - | G26: =transmission!J24 -> - | H26: =CONCATENATE(ROUND(transmission!K24,2)," (",ROUND(transmission!K34,2),")") -> 4.28 (0.68) | I26: - | J26: - | K26: - | L26: =transmission!O24 -> 21.922932
A27: With limits in bed capacity | B27: PCR-only | C27: =transmission!O25/'parameter&results'!$C$5 -> 0.41883645 | D27: =transmission!Q25 -> 0.87257595 | E27: =transmission!H25 -> 10.690909 | F27: =transmission!I25 -> 9.9272727 | G27: =transmission!J25 -> - | H27: =CONCATENATE(ROUND(transmission!K25,2)," (",ROUND(transmission!K35,2),")") -> 3.09 (0.91) | I27: =CONCATENATE(ROUND(transmission!L25,2)," (",ROUND(transmission!L35,2),")") -> 1.42 (0) | J27: - | K27: - | L27: =transmission!O25 -> 25.130187
B28: RDT-only | C28: =transmission!O26/'parameter&results'!$C$5 -> 0.40829332 | D28: =transmission!Q26 -> 0.85061108 | E28: =transmission!H26 -> 11.186201 | F28: =transmission!I26 -> 7.8301233 | G28: =transmission!J26 -> 1.3895901 | H28: =CONCATENATE(ROUND(transmission!K26,2)," (",ROUND(transmission!K36,2),")") -> 2.13 (0.02) | I28: =CONCATENATE(ROUND(transmission!L26,2)," (",ROUND(transmission!L36,2),")") -> 1.12 (0) | J28: =CONCATENATE(ROUND(transmission!M26,2)," (",ROUND(transmission!M36,2),")") -> 0.31 (0.31) | K28: =CONCATENATE(ROUND(transmission!N26,2)," (",ROUND(transmission!N36,2),")") -> 0.53 (0.53) | L28: =transmission!O26 -> 24.497599
B29: Dual | C29: =transmission!O27/'parameter&results'!$C$5 -> 0.41053467 | D29: =transmission!Q27 -> 0.85528057 | E29: =transmission!H27 -> 10.690909 | F29: =transmission!I27 -> 9.9272727 | G29: =transmission!J27 -> - | H29: =CONCATENATE(ROUND(transmission!K27,2)," (",ROUND(transmission!K37,2),")") -> 2.6 (0.41) | I29: =CONCATENATE(ROUND(transmission!L27,2)," (",ROUND(transmission!L37,2),")") -> 1.42 (0) | J29: - | K29: - | L29: =transmission!O27 -> 24.63208
B35: Evaluation of simple HU model - transmission perspective
B36: Testing strategy | C36: Reproduction number among patients seeking care | D36: Reproduction number (relative to PCR) | E36: Contributions to the reproduction number from admitted patients | I36: Contribution from infected that are never admitted | J36: Proportion of patients admitted | K36: Bed demand
E37: Initially infected in the community - Infection pre-hospital | F37: Nosocomial infection discharged to the community after testing | G37: Nosocomial infection sent to confirmed ward (false positive) | H37: Initally infected discharged to the community (false negative) - infection post-hospital
A38: No limit in bed capacity | B38: PCR-only | C38: =transmission!M10 -> 0.52797664 | D38: 1 | E38: =transmission!H10 -> 0.45333333 | F38: =transmission!I10 -> 0.074643303 | G38: - | H38: - | I38: =transmission!L10 -> 0 | J38: =transmission!N10 -> 1 | K38: =transmission!O10 -> 330
B39: RDT-only | C39: =transmission!M11 -> 0.59457351 | D39: =(C39)/C38 -> 1.126136 | E39: =transmission!H11 -> 0.45333333 | F39: =transmission!I11 -> 0.0015868077 | G39: =transmission!J11 -> 0.040297812 | H39: =transmission!K11 -> 0.099355556 | I39: =transmission!L11 -> 0 | J39: =transmission!N11 -> 1 | K39: =transmission!O11 -> 290.1575
B40: Dual | C40: =transmission!M12 -> 0.48720895 | D40: =(C40)/C38 -> 0.92278506 | E40: =transmission!H12 -> 0.45333333 | F40: =transmission!I12 -> 0.03387562 | G40: - | H40: - | I40: =transmission!L12 -> 0 | J40: =transmission!N12 -> 1 | K40: =transmission!O12 -> 330
A41: With limits in bed capacity | B41: PCR-only | C41: =transmission!M13 -> 0.98968281 | D41: 1 | E41: =transmission!H13 -> 0.27474747 | F41: =transmission!I13 -> 0.045238366 | G41: - | H41: - | I41: =transmission!L13 -> 0.66969697 | J41: =transmission!N13 -> 0.60606061 | K41: =transmission!O13 -> 330
B42: RDT-only | C42: =transmission!M14 -> 0.93805072 | D42: =(C42)/C41 -> 0.94782966 | E42: =transmission!H14 -> 0.31247397 | F42: =transmission!I14 -> 0.0010937561 | G42: =transmission!J14 -> 0.027776509 | H42: =transmission!K14 -> 0.068483879 | I42: =transmission!L14 -> 0.5282226 | J42: =transmission!N14 -> 0.68928082 | K42: =transmission!O14 -> 290.1575
B43: Dual | C43: =transmission!M15 -> 0.96497512 | D43: =(C43)/C41 -> 0.97503474 | E43: =transmission!H15 -> 0.27474747 | F43: =transmission!I15 -> 0.020530679 | G43: - | H43: - | I43: =transmission!L15 -> 0.66969697 | J43: =transmission!N15 -> 0.60606061 | K43: =transmission!O15 -> 330

Sheet transmission
B4: timing
B5: rate for RDT results | C5: =1/(C27/24) -> 24
B6: rate for PCR results | C6: =1/(C28-C27/24) -> 0.5106383
B7: deltaRDT | C7: =C35-C27/24-C36 -> 10.958333 | F7: transmission | Q7: checked
G9: contribution | H9: infectious - pre-hospitalisation | I9: nosocomial infection released to the community | J9: nosocomial infection sent to confirmed ward | K9: infectious diagnosed false negative- post-hospitalisation | L9: infectious never admitted | M9: Reproduction number | N9: % admitted patients | O9: bed demand | P9: Reproduction number relative to pcr
F10: no limit | G10: PCR | H10: =C36/C35*C32 -> 0.45333333 | I10: =C31*(1-C30/100)/(C5+C31*C30/100)*(1+C5/(C6+C31*C30/100)) -> 0.074643303 | J10: 0 | K10: 0 | L10: 0 | M10: =SUM(H10:L10) -> 0.52797664 | N10: =C29/C29 -> 1 | O10: =((1-C30/100)*C28+C30/100*C37)*C29 -> 330 | P10: =(M10-M10)/M10 -> 0
B11: bed demand | G11: RDT | H11: =C36/C35*C32 -> 0.45333333 | I11: =C31*(1-C30/100)/(C5+C31*C30/100)*C34 -> 0.0015868077 | J11: =(1-C34)*C5*(1-C30/100)*(1-EXP(-C31*C21*C25))/(C5+C31*C30/100)/C22+(1-C34)*C31*(1-C30/100)/(C5+C31*C30/100) -> 0.040297812 | K11: =(1-C33)*C7/C35*C32 -> 0.099355556 | L11: 0 | M11: =SUM(H11:L11) -> 0.59457351 | N11: =C29/C29 -> 1 | O11: =(C27/24+((1-C30/100)*(1-C34)+C30/100*C33)*(C37-C27/24))*C29 -> 290.1575 | P11: =(M11-M10)/M10 -> 0.12613602
B12: PCR & Dual | C12: =((1-C30/100)*C28+C30/100*C37)*C29 -> 330 | G12: Dual | H12: =C36/C35*C32 -> 0.45333333 | I12: =C31*(1-C30/100)/(C5+C31*C30/100)*(1+C34*C5*(1-C33)/(C6*((1-C30/100)*C34+C30/100*(1-C33))+C31*C30/100*(1-C33))+(1-C34)*C5*C33/(C6*((1-C30/100)*(1-C34)+C30/100*C33)+C31*C30/100*C33)) -> 0.03387562 | J12: 0 | K12: 0 | L12: 0 | M12: =SUM(H12:L12) -> 0.48720895 | N12: =C29/C29 -> 1 | O12: =O10 -> 330 | P12: =(M12-M10)/M10 -> -0.077214938
B13: RDT | C13: =(C27/24+((1-C30/100)*(1-C34)+C30/100*C33)*(C37-C27/24))*C29 -> 290.1575 | F13: limit | G13: PCR | H13: =C16*H10/C29 -> 0.27474747 | I13: =C16*I10/C29 -> 0.045238366 | J13: 0 | K13: 0 | L13: =(C29-C16)*C32/C29 -> 0.66969697 | M13: =SUM(H13:L13) -> 0.98968281 | N13: =MIN(1,C38/O13) -> 0.60606061 | O13: =O10 -> 330 | P13: =(M13-M13)/M13 -> 0
G14: RDT | H14: =C17*H11/C29 -> 0.31247397 | I14: =C17*I11/C29 -> 0.0010937561 | J14: =C17*J11/C29 -> 0.027776509 | K14: =C17*K11/C29 -> 0.068483879 | L14: =(C29-C17)*C32/C29 -> 0.5282226 | M14: =SUM(H14:L14) -> 0.93805072 | N14: =MIN(1,C38/O14) -> 0.68928082 | O14: =O11 -> 290.1575 | P14: =(M14-M13)/M13 -> -0.052170342
B15: bed use (Neff) | G15: Dual | H15: =C16*H12/C29 -> 0.27474747 | I15: =C16*I12/C29 -> 0.020530679 | J15: 0 | K15: 0 | L15: =L13 -> 0.66969697 | M15: =SUM(H15:L15) -> 0.96497512 | N15: =MIN(1,C38/O15) -> 0.60606061 | O15: =O12 -> 330 | P15: =(M15-M13)/M13 -> -0.024965258
B16: PCR & Dual | C16: =C29*MIN(1,C38/C12) -> 36.363636
B17: RDT | C17: =C29*MIN(1,C38/C13) -> 41.356849
H19: number dying
B20: incubation period | C20: 4.5 | H20: infected | K20: uninfected
B21: tau4 | C21: =C37 -> 7 | F21: patient | H21: in confirmed ward | I21: in community (turned away) | J21: in community (false negative) | K21: in community after testing | L21: in community (turned away) | M21: in confirmed ward | N21: in community after being discharged from confirmed ward | O21: Total | P21: if no hosp
B22: p | C22: =C30/100 -> 0.7 | F22: no limit | G22: PCR | H22: =C29*C22*C39*C41 -> 17.64 | I22: - | J22: - | K22: =C29*(1-C22)*C40+(1-C40)*C43*C39 -> 5.104809 | L22: - | M22: - | N22: - | O22: =SUM(H22:N22) -> 22.744809 | P22: =C29*C22*C39+C29*(1-C22)*C40 -> 28.8 | Q22: =O22/$P$22 -> 0.78975031
B23: padmit_PCR | C23: =C16/C29 -> 0.60606061 | G23: RDT | H23: =C29*C22*C39*C41*C33 -> 16.2288 | I23: - | J23: =C29*C22*C39*(1-C33) -> 2.016 | K23: =C34*C51*C40+C34*C44*(C40+C39*(1-C40)) -> 3.09199 | L23: - | M23: =(1-C34)*C44*C41*(C40+C39*(1-C41*C40))+(1-C34)*C51*(C41*C40+C41*C39*C54) -> 0.44798512 | N23: =(1-C34)*C51*(C39*C55) -> 0.77335544 | O23: =SUM(H23:N23) -> 22.558131 | Q23: =O23/$P$22 -> 0.78326842
B24: padmit_RDT | C24: =C17/C29 -> 0.68928082 | G24: Dual | H24: =C29*C22*C39*C41 -> 17.64 | I24: - | J24: - | K24: =C29*(1-C22)*C40+(1-C40)*(C45+D45)*C39 -> 4.2829325 | L24: - | M24: - | N24: - | O24: =SUM(H24:N24) -> 21.922932 | Q24: =O24/$P$22 -> 0.76121293
B25: p2 (prev in confirmed) | C25: =C22*C33/(C22*C33+(1-C22)*(1-C34)) -> 0.93468795 | F25: limit | G25: PCR | H25: =C29*C22*C23*C39*C41 -> 10.690909 | I25: =C29*C22*(1-C23)*C39 -> 9.9272727 | J25: - | K25: =C29*(1-C22)*C40*C23+(1-C40)*C48*C39 -> 3.0938236 | L25: =C29*(1-C22)*C40*(1-C23) -> 1.4181818 | M25: - | N25: - | O25: =SUM(H25:N25) -> 25.130187 | Q25: =O25/$P$22 -> 0.87257595
B26: Parameters | G26: RDT | H26: =C29*C22*C24*C39*C41*C33 -> 11.186201 | I26: =C29*C22*(1-C24)*C39 -> 7.8301233 | J26: =C29*C22*C39*(1-C33)*C24 -> 1.3895901 | K26: =C34*C52*C40+C34*C49*(C40+C39*(1-C40)) -> 2.1312494 | L26: =+C29*(1-C22)*(1-C24)*C40 -> 1.118589 | M26: =(1-C34)*C49*C41*(C40+C39*(1-C41*C40))+(1-C34)*C52*(C41*C40+C41*C39*C54) -> 0.30878755 | N26: =(1-C34)*C52*(C39*C55) -> 0.53305908 | O26: =SUM(H26:N26) -> 24.497599 | Q26: =O26/$P$22 -> 0.85061108
B27: average time of rapid test (in hours) | C27: ='parameter&results'!C3 -> 1 | G27: Dual | H27: =C29*C22*C23*C39*C41 -> 10.690909 | I27: =C29*(1-C23)*C39*C22 -> 9.9272727 | J27: - | K27: =C29*(1-C22)*C40*C23+(1-C40)*(C50+D50)*C39 -> 2.5957167 | L27: =C29*(1-C22)*C40*(1-C23) -> 1.4181818 | M27: - | N27: - | O27: =SUM(H27:N27) -> 24.63208 | Q27: =O27/$P$22 -> 0.85528057
B28: average time of PCR test (in days) | C28: ='parameter&results'!C4 -> 2
B29: number of suspect Ebola cases seeking healthcare per day | C29: ='parameter&results'!C5 -> 60 | H29: number dying from Ebola
B30: prevalence of infection among those cases (%) | C30: ='parameter&results'!C6 -> 70 | H30: infected | K30: uninfected
B31: rate of transmission (per day) | C31: ='parameter&results'!C7 -> 0.15 | F31: patient | K31: in community after testing | L31: in community (turned away) | M31: in confirmed ward | N31: in community after being discharged from confirmed ward | O31: Total | P31: if no hosp
B32: Reproduction number | C32: ='parameter&results'!C15 -> 1.7 | F32: no limit | G32: PCR | K32: =(1-C40)*C43*C39 -> 1.504809 | L32: - | M32: - | N32: -
B33: sensitivity of rapid test | C33: ='parameter&results'!C9 -> 0.92 | G33: RDT | K33: =C34*C44*(+C39*(1-C40)) -> 0.031990044 | L33: - | M33: =(1-C34)*C44*C41*(+C39*(1-C41*C40))+(1-C34)*C51*(+C41*C39*C54) -> 0.069985119 | N33: =(1-C34)*C51*(C39*C55) -> 0.77335544
B34: specificity of rapid test | C34: ='parameter&results'!C10 -> 0.85 | G34: Dual | K34: =(1-C40)*(C45+D45)*C39 -> 0.6829325 | L34: - | M34: - | N34: -
B35: average duration of infectiousness | C35: ='parameter&results'!C16 -> 15 | F35: limit | G35: PCR | K35: =(1-C40)*C48*C39 -> 0.91200545 | L35: =0 -> 0 | M35: - | N35: -
B36: delay between symptom onset to hospitalisation | C36: ='parameter&results'!C17 -> 4 | G36: RDT | K36: =C34*C49*(+C39*(1-C40)) -> 0.022050124 | L36: =0 -> 0 | M36: =(1-C34)*C49*C41*(C40+C39*(1-C41*C40))+(1-C34)*C52*(C41*C40+C41*C39*C54) -> 0.30878755 | N36: =(1-C34)*C52*(C39*C55) -> 0.53305908
B37: average duration from hospitalisation to discharge | C37: ='parameter&results'!C8 -> 7 | G37: Dual | K37: =+(1-C40)*(C50+D50)*C39 -> 0.41389848 | L37: =0 -> 0 | M37: - | N37: -
B38: bed capacity (total) | C38: ='parameter&results'!C11 -> 200
B39: CFR ebola | C39: ='parameter&results'!C12 -> 0.6
B40: CFR Lassa | C40: ='parameter&results'!C13 -> 0.2
B41: reduction in CFR with care | C41: ='parameter&results'!C14 -> 0.7
G42: checks | H42: =SUM(H22:J22) -> 17.64 | I42: ok | K42: =SUM(K22:N22) -> 5.104809 | L42: ok
A43: no limit | B43: Eh_.5 | C43: =C31*C29*C22*(1-C22)/(C5+C22*C31)*(1+C5/(C6+C22*C31)) -> 3.1350187 | H43: =SUM(H23:J23) -> 18.2448 | I43: ok | K43: =SUM(K23:N23) -> 4.3133306 | L43: ok
B44: rdt | C44: =C31*C29*C22*(1-C22)/(C5+C22*C31) -> 0.07840697 | H44: =SUM(H24:J24) -> 17.64 | I44: ok | K44: =SUM(K24:N24) -> 4.2829325 | L44: ok
B45: Eh low-high | C45: =(1-C34)*C31*C29*C22*(1-C22)/(C5+C22*C31)*C46 -> 0.59085702 | D45: =(C34)*C31*C29*C22*(1-C22)/(C5+C22*C31)*C47 -> 0.83191902 | H45: =SUM(H25:J25) -> 20.618182 | I45: ok | K45: =SUM(K25:N25) -> 4.5120055 | L45: ok
...
