Workbook

Sheet N. alesi dental calculation
A1: Supplementary Data 4 | Calculation sheet to determine the age at death and the general developmental timing of KNM-NP 59050 (Nyanzapithecus alesi) based on dental increments. Main input includes periodicity, daily axial dentine secretion rates, counts of Andresen lines, earliest reference stress observable and distance between dentin horns and this earliest observable stress. Measurements were performed for both sides and results are presented as developmental charts for the right side, left side and their average (second sheet).
A4: 5 | B4: periodicity (days) | L4: distance blue ref stress / neonatal line (um) | T4: root extension measurement on M1 (yellow stress to death)
A5: 4.21 | B5: dentine axial DSR from HR ULM1-DL used for molars cusps initiation and I1 initiations | L5: RI1 | M5: =543+545 -> 1088 | U5: meas1 | V5: meas2 | W5: meas3 | X5: meas4
A6: 4.02 | B6: dentine axial DSR from HR ULI2 used for incisors, canines and premolar cusps initiations | L6: LI1 | M6: =621+550 -> 1171 | O6: =MIN(M6:M12) -> 1078 | P6: min | T6: URM1-DB | U6: 758 | V6: 755 | W6: 743 | X6: 758
L7: RM1-1 | M7: =1121 -> 1121 | O7: =MAX(M6:M12) -> 1171 | P7: max | T7: URM1-ML | U7: 735 | V7: 737 | W7: 731 | X7: 744
B8: label | C8: Andresen lines from death | E8: days / birth | G8: erro margin (AL) | L8: RM1-3 | M8: 1125 | O8: =AVERAGE(M5:M12) -> 1116.625 | P8: mean distance blue stress / neonatal | T8: ULM1-DB | U8: 778 | V8: 787 | W8: 785 | X8: 771
A9: death-stress1 | B9: red | C9: 6 | E9: =(C$15-C9)*$A$4 -> 455 | L9: RM1-4 | M9: 1105 | O9: =ROUNDDOWN(O6/A$5/A$4,0) -> 51 | P9: min AL number | T9: ULM1-ML | U9: 686 | V9: 668 | W9: 743 | X9: 722
A10: death-stress2 | B10: yellow | C10: 13 | E10: =(C$15-C10)*$A$4 -> 420 | L10: LM1-1 | M10: 1092 | O10: =ROUNDDOWN(O7/A$5/A$4,0) -> 55 | P10: max AL number
A11: death-stress3 | B11: turquoise | C11: 24 | E11: =(C$15-C11)*$A$4 -> 365 | L11: LM1-3 | M11: 1078 | O11: =ROUNDDOWN(O8/A$5/A$4,0) -> 53 | P11: mean AL number | T11: average M1 RDER | U11: =AVERAGE(U6:X9)/(C10*A4) -> 11.443269 | V11: =AVERAGE(U15:X16)/(C10*A4) -> 22.498077 | X11: average I1 RDER
A12: death-stress4 | B12: green | C12: 31 | E12: =(C$15-C12)*$A$4 -> 330 | L12: LM1-4 | M12: 1153
A13: death-stress5 | B13: blue | C13: 44 | E13: =(C$15-C13)*$A$4 -> 265 | G13: 3 | H13: estimated max error on Andresen lines counts | T13: root extension measurement on I1 (yellow stress to death)
U14: meas1 | V14: meas2 | W14: meas3 | X14: meas4
A15: neonatal line (from dentin A-DSR) | B15: pink | C15: =ROUND(C13+(O8/A5)/A4,0) -> 97 | E15: =(C$15-C15)*$A$4 -> 0 | G15: =MAX(O10-O11,O11-O9) -> 2 | H15: error margin on time estimation between blue stress and neonatal line from measurements of all cusps | T15: URI1 | U15: 1490 | V15: 1489 | W15: 1481 | X15: 1476
G16: =ROUNDUP(ABS(O8/A5/A4-O8/A6/A4),0) -> 3 | H16: error margin due to dentin DSR along developmental axis (+/- 0.21 microns/day) | T16: ULI1 | U16: 1444 | V16: 1443 | W16: 1435 | X16: 1441
A17: age at death (days) | C17: =C15*A4 -> 485 | D17: +/- | E17: =G17*A4 -> 40 | G17: =SUM(G9:G16) -> 8 | H17: total error margin expressed in Andresen lines
C20: URI1 | E20: URI2 | G20: URC | I20: URP3-1 | J20: URP3-2 | L20: URP4-1 | M20: URP4-2 | O20: URM1-DB | P20: URM1-DL | Q20: URM1-MB | R20: URM1-ML | T20: URM2-DB | U20: URM2-DL | V20: URM2-MB | W20: URM2-ML
A21: earliest stress visible | C21: pink | E21: blue | G21: blue | I21: green | J21: none | L21: green | M21: red | O21: pink | P21: blue | Q21: pink | R21: pink | T21: green | U21: yellow | V21: blue | W21: blue
A22: Andresen lines after earliest stress | C22: =IF(C21=$B$9,$C$9,IF(C21=$B$10,$C$10,IF(C21=$B$11,$C$11,IF(C21=$B$12,$C$12,IF(C21=$B$13,$C$13,IF(C21=$B$14,#REF!,IF(C21=$B$15,$C$15,0))))))) -> 97 | E22: =IF(E21=$B$9,$C$9,IF(E21=$B$10,$C$10,IF(E21=$B$11,$C$11,IF(E21=$B$12,$C$12,IF(E21=$B$13,$C$13,IF(E21=$B$14,#REF!,IF(E21=$B$15,$C$15,0))))))) -> 44 | G22: =IF(G21=$B$9,$C$9,IF(G21=$B$10,$C$10,IF(G21=$B$11,$C$11,IF(G21=$B$12,$C$12,IF(G21=$B$13,$C$13,IF(G21=$B$14,#REF!,IF(G21=$B$15,$C$15,0))))))) -> 44 | I22: =IF(I21=$B$9,$C$9,IF(I21=$B$10,$C$10,IF(I21=$B$11,$C$11,IF(I21=$B$12,$C$12,IF(I21=$B$13,$C$13,IF(I21=$B$14,#REF!,IF(I21=$B$15,$C$15,0))))))) -> 31 | J22: =IF(J21=$B$9,$C$9,IF(J21=$B$10,$C$10,IF(J21=$B$11,$C$11,IF(J21=$B$12,$C$12,IF(J21=$B$13,$C$13,IF(J21=$B$14,#REF!,IF(J21=$B$15,$C$15,0))))))) -> 0 | L22: =IF(L21=$B$9,$C$9,IF(L21=$B$10,$C$10,IF(L21=$B$11,$C$11,IF(L21=$B$12,$C$12,IF(L21=$B$13,$C$13,IF(L21=$B$14,#REF!,IF(L21=$B$15,$C$15,0))))))) -> 31 | M22: =IF(M21=$B$9,$C$9,IF(M21=$B$10,$C$10,IF(M21=$B$11,$C$11,IF(M21=$B$12,$C$12,IF(M21=$B$13,$C$13,IF(M21=$B$14,#REF!,IF(M21=$B$15,$C$15,0))))))) -> 6 | O22: =IF(O21=$B$9,$C$9,IF(O21=$B$10,$C$10,IF(O21=$B$11,$C$11,IF(O21=$B$12,$C$12,IF(O21=$B$13,$C$13,IF(O21=$B$14,#REF!,IF(O21=$B$15,$C$15,0))))))) -> 97 | P22: =IF(P21=$B$9,$C$9,IF(P21=$B$10,$C$10,IF(P21=$B$11,$C$11,IF(P21=$B$12,$C$12,IF(P21=$B$13,$C$13,IF(P21=$B$14,#REF!,IF(P21=$B$15,$C$15,0))))))) -> 44 | Q22: =IF(Q21=$B$9,$C$9,IF(Q21=$B$10,$C$10,IF(Q21=$B$11,$C$11,IF(Q21=$B$12,$C$12,IF(Q21=$B$13,$C$13,IF(Q21=$B$14,#REF!,IF(Q21=$B$15,$C$15,0))))))) -> 97 | R22: =IF(R21=$B$9,$C$9,IF(R21=$B$10,$C$10,IF(R21=$B$11,$C$11,IF(R21=$B$12,$C$12,IF(R21=$B$13,$C$13,IF(R21=$B$14,#REF!,IF(R21=$B$15,$C$15,0))))))) -> 97 | T22: =IF(T21=$B$9,$C$9,IF(T21=$B$10,$C$10,IF(T21=$B$11,$C$11,IF(T21=$B$12,$C$12,IF(T21=$B$13,$C$13,IF(T21=$B$14,#REF!,IF(T21=$B$15,$C$15,0))))))) -> 31 | U22: =IF(U21=$B$9,$C$9,IF(U21=$B$10,$C$10,IF(U21=$B$11,$C$11,IF(U21=$B$12,$C$12,IF(U21=$B$13,$C$13,IF(U21=$B$14,#REF!,IF(U21=$B$15,$C$15,0))))))) -> 13 | V22: =IF(V21=$B$9,$C$9,IF(V21=$B$10,$C$10,IF(V21=$B$11,$C$11,IF(V21=$B$12,$C$12,IF(V21=$B$13,$C$13,IF(V21=$B$14,#REF!,IF(V21=$B$15,$C$15,0))))))) -> 44 | W22: =IF(W21=$B$9,$C$9,IF(W21=$B$10,$C$10,IF(W21=$B$11,$C$11,IF(W21=$B$12,$C$12,IF(W21=$B$13,$C$13,IF(W21=$B$14,#REF!,IF(W21=$B$15,$C$15,0))))))) -> 44
A23: corresponding time (days) | C23: =C22*$A$4 -> 485 | E23: =E22*$A$4 -> 220 | G23: =G22*$A$4 -> 220 | I23: =I22*$A$4 -> 155 | J23: =J22*$A$4 -> 0 | L23: =L22*$A$4 -> 155 | M23: =M22*$A$4 -> 30 | O23: =O22*$A$4 -> 485 | P23: =P22*$A$4 -> 220 | Q23: =Q22*$A$4 -> 485 | R23: =R22*$A$4 -> 485 | T23: =T22*$A$4 -> 155 | U23: =U22*$A$4 -> 65 | V23: =V22*$A$4 -> 220 | W23: =W22*$A$4 -> 220
A24: distance to cusp tip (um) | C24: 107 | E24: 430 | G24: 334 | I24: 112 | J24: 126 | L24: 65 | M24: 175 | O24: 165 | P24: 1064 | Q24: 323 | R24: 225 | T24: 112 | U24: 86 | V24: 17 | W24: 43
A25: corresponding time (days) | C25: =C24/$A$5 -> 25.415677 | E25: =E24/$A$6 -> 106.96517 | G25: =G24/$A$6 -> 83.084577 | I25: =I24/$A$6 -> 27.860697 | J25: =J24/$A$6 -> 31.343284 | L25: =L24/$A$6 -> 16.169154 | M25: =M24/$A$6 -> 43.532338 | O25: =O24/$A$5 -> 39.192399 | P25: =P24/$A$5 -> 252.73159 | Q25: =Q24/$A$5 -> 76.72209 | R25: =R24/$A$5 -> 53.444181 | T25: =T24/$A$5 -> 26.603325 | U25: =U24/$A$5 -> 20.427553 | V25: =V24/$A$5 -> 4.0380048 | W25: =W24/$A$5 -> 10.213777
A26: time initation to death (days) | C26: =C25+C23 -> 510.41568 | E26: =E25+E23 -> 326.96517 | G26: =G25+G23 -> 303.08458 | I26: =I25+I23 -> 182.8607 | J26: =J25+J23 -> 31.343284 | L26: =L25+L23 -> 171.16915 | M26: =M25+M23 -> 73.532338 | O26: =O25+O23 -> 524.1924 | P26: =P25+P23 -> 472.73159 | Q26: =Q25+Q23 -> 561.72209 | R26: =R25+R23 -> 538.44418 | T26: =T25+T23 -> 181.60333 | U26: =U25+U23 -> 85.427553 | V26: =V25+V23 -> 224.038 | W26: =W25+W23 -> 230.21378
A27: cusp initiation / birth (days) | C27: =$C$17-C26 -> -25.415677 | E27: =$C$17-E26 -> 158.03483 | G27: =$C$17-G26 -> 181.91542 | I27: =$C$17-I26 -> 302.1393 | J27: =$C$17-J26 -> 453.65672 | L27: =$C$17-L26 -> 313.83085 | M27: =$C$17-M26 -> 411.46766 | O27: =$C$17-O26 -> -39.192399 | P27: =$C$17-P26 -> 12.268409 | Q27: =$C$17-Q26 -> -76.72209 | R27: =$C$17-R26 -> -53.444181 | T27: =$C$17-T26 -> 303.39667 | U27: =$C$17-U26 -> 399.57245 | V27: =$C$17-V26 -> 260.962 | W27: =$C$17-W26 -> 254.78622
A28: cusp completion reference stress | C28: yellow | E28: none | G28: none | I28: none | J28: none | L28: none | M28: none | O28: yellow | P28: extension | Q28: extension | R28: yellow | T28: none | U28: none | V28: none | W28: none
A29: corresponding root formation time (days) | C29: =IF(C28=$B$9,$C$9,IF(C28=$B$10,$C$10,IF(C28=$B$11,$C$11,IF(C28=$B$12,$C$12,IF(C28=$B$13,$C$13,IF(C28=$B$14,#REF!,IF(C28=$B$15,$C$15,0)))))))*$A$4 -> 65 | E29: =IF(E28=$B$9,$C$9,IF(E28=$B$10,$C$10,IF(E28=$B$11,$C$11,IF(E28=$B$12,$C$12,IF(E28=$B$13,$C$13,IF(E28=$B$14,#REF!,IF(E28=$B$15,$C$15,0)))))))*$A$4 -> 0 | G29: =IF(G28=$B$9,$C$9,IF(G28=$B$10,$C$10,IF(G28=$B$11,$C$11,IF(G28=$B$12,$C$12,IF(G28=$B$13,$C$13,IF(G28=$B$14,#REF!,IF(G28=$B$15,$C$15,0)))))))*$A$4 -> 0 | I29: =IF(I28=$B$9,$C$9,IF(I28=$B$10,$C$10,IF(I28=$B$11,$C$11,IF(I28=$B$12,$C$12,IF(I28=$B$13,$C$13,IF(I28=$B$14,#REF!,IF(I28=$B$15,$C$15,0)))))))*$A$4 -> 0 | J29: =IF(J28=$B$9,$C$9,IF(J28=$B$10,$C$10,IF(J28=$B$11,$C$11,IF(J28=$B$12,$C$12,IF(J28=$B$13,$C$13,IF(J28=$B$14,#REF!,IF(J28=$B$15,$C$15,0)))))))*$A$4 -> 0 | L29: =IF(L28=$B$9,$C$9,IF(L28=$B$10,$C$10,IF(L28=$B$11,$C$11,IF(L28=$B$12,$C$12,IF(L28=$B$13,$C$13,IF(L28=$B$14,#REF!,IF(L28=$B$15,$C$15,0)))))))*$A$4 -> 0 | M29: =IF(M28=$B$9,$C$9,IF(M28=$B$10,$C$10,IF(M28=$B$11,$C$11,IF(M28=$B$12,$C$12,IF(M28=$B$13,$C$13,IF(M28=$B$14,#REF!,IF(M28=$B$15,$C$15,0)))))))*$A$4 -> 0 | O29: =IF(O28=$B$9,$C$9,IF(O28=$B$10,$C$10,IF(O28=$B$11,$C$11,IF(O28=$B$12,$C$12,IF(O28=$B$13,$C$13,IF(O28=$B$14,#REF!,IF(O28=$B$15,$C$15,0)))))))*$A$4 -> 65 | P29: N.A. | Q29: N.A. | R29: =IF(R28=$B$9,$C$9,IF(R28=$B$10,$C$10,IF(R28=$B$11,$C$11,IF(R28=$B$12,$C$12,IF(R28=$B$13,$C$13,IF(R28=$B$14,#REF!,IF(R28=$B$15,$C$15,0)))))))*$A$4 -> 65 | T29: =IF(T28=$B$9,$C$9,IF(T28=$B$10,$C$10,IF(T28=$B$11,$C$11,IF(T28=$B$12,$C$12,IF(T28=$B$13,$C$13,IF(T28=$B$14,#REF!,IF(T28=$B$15,$C$15,0)))))))*$A$4 -> 0 | U29: =IF(U28=$B$9,$C$9,IF(U28=$B$10,$C$10,IF(U28=$B$11,$C$11,IF(U28=$B$12,$C$12,IF(U28=$B$13,$C$13,IF(U28=$B$14,#REF!,IF(U28=$B$15,$C$15,0)))))))*$A$4 -> 0 | V29: =IF(V28=$B$9,$C$9,IF(V28=$B$10,$C$10,IF(V28=$B$11,$C$11,IF(V28=$B$12,$C$12,IF(V28=$B$13,$C$13,IF(V28=$B$14,#REF!,IF(V28=$B$15,$C$15,0)))))))*$A$4 -> 0 | W29: =IF(W28=$B$9,$C$9,IF(W28=$B$10,$C$10,IF(W28=$B$11,$C$11,IF(W28=$B$12,$C$12,IF(W28=$B$13,$C$13,IF(W28=$B$14,#REF!,IF(W28=$B$15,$C$15,0)))))))*$A$4 -> 0
A30: dentin thickness / dentin extension (um) | C30: 0 | E30: 0 | G30: 0 | I30: 0 | J30: 0 | L30: 0 | M30: 0 | O30: 0 | P30: 653 | Q30: 2022 | R30: 48 | T30: 0 | U30: 0 | V30: 0 | W30: 0
A31: root formation time (days) | C31: =C29+C30/$A$6 -> 65 | E31: =E29+E30/$A$6 -> 0 | G31: =G29+G30/$A$6 -> 0 | I31: =I29+I30/$A$6 -> 0 | J31: =J29+J30/$A$6 -> 0 | L31: =L29+L30/$A$6 -> 0 | M31: =M29+M30/$A$6 -> 0 | O31: =O29+O30/$A$6 -> 65 | P31: =P30/$U$11 -> 57.064112 | Q31: =Q30/$U$11 -> 176.69776 | R31: =R29+R30/$A$6 -> 76.940299 | T31: =T29+T30/$A$6 -> 0 | U31: =U29+U30/$A$6 -> 0 | V31: =V29+V30/$A$6 -> 0 | W31: =W29+W30/$A$6 -> 0
A32: crown formation time (days) | C32: =C26-C31 -> 445.41568 | E32: =E26-E31 -> 326.96517 | G32: =G26-G31 -> 303.08458 | I32: =I26-I31 -> 182.8607 | J32: =J26-J31 -> 31.343284 | L32: =L26-L31 -> 171.16915 | M32: =M26-M31 -> 73.532338 | O32: =O26-O31 -> 459.1924 | P32: =P26-P31 -> 415.66748 | Q32: =Q26-Q31 -> 385.02433 | R32: =R26-R31 -> 461.50388 | T32: =T26-T31 -> 181.60333 | U32: =U26-U31 -> 85.427553 | V32: =V26-V31 -> 224.038 | W32: =W26-W31 -> 230.21378
C34: ULI1 | E34: ULI2 | G34: ULC | I34: ULP3-1 | J34: ULP3-2 | L34: ULP4-1 | M34: ULP4-2 | O34: ULM1-DB | P34: ULM1-DL | Q34: ULM1-MB | R34: ULM1-ML | T34: ULM2-DB | U34: ULM2-DL | V34: ULM2-MB | W34: ULM2-ML
A35: earliest stress visible | C35: pink | E35: blue | G35: blue | I35: turquoise | J35: none | L35: green | M35: red | O35: pink | P35: blue | Q35: pink | R35: pink | T35: green | U35: yellow | V35: blue | W35: blue
A36: Andresen lines after earliest stress | C36: =IF(C35=$B$9,$C$9,IF(C35=$B$10,$C$10,IF(C35=$B$11,$C$11,IF(C35=$B$12,$C$12,IF(C35=$B$13,$C$13,IF(C35=$B$14,#REF!,IF(C35=$B$15,$C$15,0))))))) -> 97 | E36: =IF(E35=$B$9,$C$9,IF(E35=$B$10,$C$10,IF(E35=$B$11,$C$11,IF(E35=$B$12,$C$12,IF(E35=$B$13,$C$13,IF(E35=$B$14,#REF!,IF(E35=$B$15,$C$15,0))))))) -> 44 | G36: =IF(G35=$B$9,$C$9,IF(G35=$B$10,$C$10,IF(G35=$B$11,$C$11,IF(G35=$B$12,$C$12,IF(G35=$B$13,$C$13,IF(G35=$B$14,#REF!,IF(G35=$B$15,$C$15,0))))))) -> 44 | I36: =IF(I35=$B$9,$C$9,IF(I35=$B$10,$C$10,IF(I35=$B$11,$C$11,IF(I35=$B$12,$C$12,IF(I35=$B$13,$C$13,IF(I35=$B$14,#REF!,IF(I35=$B$15,$C$15,0))))))) -> 24 | J36: =IF(J35=$B$9,$C$9,IF(J35=$B$10,$C$10,IF(J35=$B$11,$C$11,IF(J35=$B$12,$C$12,IF(J35=$B$13,$C$13,IF(J35=$B$14,#REF!,IF(J35=$B$15,$C$15,0))))))) -> 0 | L36: =IF(L35=$B$9,$C$9,IF(L35=$B$10,$C$10,IF(L35=$B$11,$C$11,IF(L35=$B$12,$C$12,IF(L35=$B$13,$C$13,IF(L35=$B$14,#REF!,IF(L35=$B$15,$C$15,0))))))) -> 31 | M36: =IF(M35=$B$9,$C$9,IF(M35=$B$10,$C$10,IF(M35=$B$11,$C$11,IF(M35=$B$12,$C$12,IF(M35=$B$13,$C$13,IF(M35=$B$14,#REF!,IF(M35=$B$15,$C$15,0))))))) -> 6 | O36: =IF(O35=$B$9,$C$9,IF(O35=$B$10,$C$10,IF(O35=$B$11,$C$11,IF(O35=$B$12,$C$12,IF(O35=$B$13,$C$13,IF(O35=$B$14,#REF!,IF(O35=$B$15,$C$15,0))))))) -> 97 | P36: =IF(P35=$B$9,$C$9,IF(P35=$B$10,$C$10,IF(P35=$B$11,$C$11,IF(P35=$B$12,$C$12,IF(P35=$B$13,$C$13,IF(P35=$B$14,#REF!,IF(P35=$B$15,$C$15,0))))))) -> 44 | Q36: =IF(Q35=$B$9,$C$9,IF(Q35=$B$10,$C$10,IF(Q35=$B$11,$C$11,IF(Q35=$B$12,$C$12,IF(Q35=$B$13,$C$13,IF(Q35=$B$14,#REF!,IF(Q35=$B$15,$C$15,0))))))) -> 97 | R36: =IF(R35=$B$9,$C$9,IF(R35=$B$10,$C$10,IF(R35=$B$11,$C$11,IF(R35=$B$12,$C$12,IF(R35=$B$13,$C$13,IF(R35=$B$14,#REF!,IF(R35=$B$15,$C$15,0))))))) -> 97 | T36: =IF(T35=$B$9,$C$9,IF(T35=$B$10,$C$10,IF(T35=$B$11,$C$11,IF(T35=$B$12,$C$12,IF(T35=$B$13,$C$13,IF(T35=$B$14,#REF!,IF(T35=$B$15,$C$15,0))))))) -> 31 | U36: =IF(U35=$B$9,$C$9,IF(U35=$B$10,$C$10,IF(U35=$B$11,$C$11,IF(U35=$B$12,$C$12,IF(U35=$B$13,$C$13,IF(U35=$B$14,#REF!,IF(U35=$B$15,$C$15,0))))))) -> 13 | V36: =IF(V35=$B$9,$C$9,IF(V35=$B$10,$C$10,IF(V35=$B$11,$C$11,IF(V35=$B$12,$C$12,IF(V35=$B$13,$C$13,IF(V35=$B$14,#REF!,IF(V35=$B$15,$C$15,0))))))) -> 44 | W36: =IF(W35=$B$9,$C$9,IF(W35=$B$10,$C$10,IF(W35=$B$11,$C$11,IF(W35=$B$12,$C$12,IF(W35=$B$13,$C$13,IF(W35=$B$14,#REF!,IF(W35=$B$15,$C$15,0))))))) -> 44
A37: corresponding time (days) | C37: =C36*$A$4 -> 485 | E37: =E36*$A$4 -> 220 | G37: =G36*$A$4 -> 220 | I37: =I36*$A$4 -> 120 | J37: =J36*$A$4 -> 0 | L37: =L36*$A$4 -> 155 | M37: =M36*$A$4 -> 30 | O37: =O36*$A$4 -> 485 | P37: =P36*$A$4 -> 220 | Q37: =Q36*$A$4 -> 485 | R37: =R36*$A$4 -> 485 | T37: =T36*$A$4 -> 155 | U37: =U36*$A$4 -> 65 | V37: =V36*$A$4 -> 220 | W37: =W36*$A$4 -> 220
A38: distance to cusp tip (um) | C38: 74 | E38: 370 | G38: 339 | I38: 74 | J38: 129 | L38: 10 | M38: 110 | O38: 191 | P38: 1030 | Q38: 311 | R38: 235 | T38: 112 | U38: 53 | V38: 100 | W38: 26
A39: corresponding time (days) | C39: =C38/$A$5 -> 17.577197 | E39: =E38/$A$6 -> 92.039801 | G39: =G38/$A$6 -> 84.328358 | I39: =I38/$A$6 -> 18.40796 | J39: =J38/$A$6 -> 32.089552 | L39: =L38/$A$6 -> 2.4875622 | M39: =M38/$A$6 -> 27.363184 | O39: =O38/$A$5 -> 45.368171 | P39: =P38/$A$5 -> 244.65558 | Q39: =Q38/$A$5 -> 73.871734 | R39: =R38/$A$5 -> 55.819477 | T39: =T38/$A$5 -> 26.603325 | U39: =U38/$A$5 -> 12.589074 | V39: =V38/$A$5 -> 23.752969 | W39: =W38/$A$5 -> 6.175772
A40: time initation to death (days) | C40: =C39+C37 -> 502.5772 | E40: =E39+E37 -> 312.0398 | G40: =G39+G37 -> 304.32836 | I40: =I39+I37 -> 138.40796 | J40: =J39+J37 -> 32.089552 | L40: =L39+L37 -> 157.48756 | M40: =M39+M37 -> 57.363184 | O40: =O39+O37 -> 530.36817 | P40: =P39+P37 -> 464.65558 | Q40: =Q39+Q37 -> 558.87173 | R40: =R39+R37 -> 540.81948 | T40: =T39+T37 -> 181.60333 | U40: =U39+U37 -> 77.589074 | V40: =V39+V37 -> 243.75297 | W40: =W39+W37 -> 226.17577
A41: cusp initiation / birth (days) | C41: =$C$17-C40 -> -17.577197 | E41: =$C$17-E40 -> 172.9602 | G41: =$C$17-G40 -> 180.67164 | I41: =$C$17-I40 -> 346.59204 | J41: =$C$17-J40 -> 452.91045 | L41: =$C$17-L40 -> 327.51244 | M41: =$C$17-M40 -> 427.63682 | O41: =$C$17-O40 -> -45.368171 | P41: =$C$17-P40 -> 20.344418 | Q41: =$C$17-Q40 -> -73.871734 | R41: =$C$17-R40 -> -55.819477 | T41: =$C$17-T40 -> 303.39667 | U41: =$C$17-U40 -> 407.41093 | V41: =$C$17-V40 -> 241.24703 | W41: =$C$17-W40 -> 258.82423
A42: cusp completion reference stress | C42: yellow | E42: none | G42: none | I42: none | J42: none | L42: none | M42: none | O42: yellow | P42: extension | Q42: extension | R42: yellow | T42: none | U42: none | V42: none | W42: none
A43: corresponding root formation time (days) | C43: =IF(C42=$B$9,$C$9,IF(C42=$B$10,$C$10,IF(C42=$B$11,$C$11,IF(C42=$B$12,$C$12,IF(C42=$B$13,$C$13,IF(C42=$B$14,#REF!,IF(C42=$B$15,$C$15,0)))))))*$A$4 -> 65 | E43: =IF(E42=$B$9,$C$9,IF(E42=$B$10,$C$10,IF(E42=$B$11,$C$11,IF(E42=$B$12,$C$12,IF(E42=$B$13,$C$13,IF(E42=$B$14,#REF!,IF(E42=$B$15,$C$15,0)))))))*$A$4 -> 0 | G43: =IF(G42=$B$9,$C$9,IF(G42=$B$10,$C$10,IF(G42=$B$11,$C$11,IF(G42=$B$12,$C$12,IF(G42=$B$13,$C$13,IF(G42=$B$14,#REF!,IF(G42=$B$15,$C$15,0)))))))*$A$4 -> 0 | I43: =IF(I42=$B$9,$C$9,IF(I42=$B$10,$C$10,IF(I42=$B$11,$C$11,IF(I42=$B$12,$C$12,IF(I42=$B$13,$C$13,IF(I42=$B$14,#REF!,IF(I42=$B$15,$C$15,0)))))))*$A$4 -> 0 | J43: =IF(J42=$B$9,$C$9,IF(J42=$B$10,$C$10,IF(J42=$B$11,$C$11,IF(J42=$B$12,$C$12,IF(J42=$B$13,$C$13,IF(J42=$B$14,#REF!,IF(J42=$B$15,$C$15,0)))))))*$A$4 -> 0 | L43: =IF(L42=$B$9,$C$9,IF(L42=$B$10,$C$10,IF(L42=$B$11,$C$11,IF(L42=$B$12,$C$12,IF(L42=$B$13,$C$13,IF(L42=$B$14,#REF!,IF(L42=$B$15,$C$15,0)))))))*$A$4 -> 0 | M43: =IF(M42=$B$9,$C$9,IF(M42=$B$10,$C$10,IF(M42=$B$11,$C$11,IF(M42=$B$12,$C$12,IF(M42=$B$13,$C$13,IF(M42=$B$14,#REF!,IF(M42=$B$15,$C$15,0)))))))*$A$4 -> 0 | O43: =IF(O42=$B$9,$C$9,IF(O42=$B$10,$C$10,IF(O42=$B$11,$C$11,IF(O42=$B$12,$C$12,IF(O42=$B$13,$C$13,IF(O42=$B$14,#REF!,IF(O42=$B$15,$C$15,0)))))))*$A$4 -> 65 | P43: N.A. | Q43: N.A. | R43: =IF(R42=$B$9,$C$9,IF(R42=$B$10,$C$10,IF(R42=$B$11,$C$11,IF(R42=$B$12,$C$12,IF(R42=$B$13,$C$13,IF(R42=$B$14,#REF!,IF(R42=$B$15,$C$15,0)))))))*$A$4 -> 65 | T43: =IF(T42=$B$9,$C$9,IF(T42=$B$10,$C$10,IF(T42=$B$11,$C$11,IF(T42=$B$12,$C$12,IF(T42=$B$13,$C$13,IF(T42=$B$14,#REF!,IF(T42=$B$15,$C$15,0)))))))*$A$4 -> 0 | U43: =IF(U42=$B$9,$C$9,IF(U42=$B$10,$C$10,IF(U42=$B$11,$C$11,IF(U42=$B$12,$C$12,IF(U42=$B$13,$C$13,IF(U42=$B$14,#REF!,IF(U42=$B$15,$C$15,0)))))))*$A$4 -> 0 | V43: =IF(V42=$B$9,$C$9,IF(V42=$B$10,$C$10,IF(V42=$B$11,$C$11,IF(V42=$B$12,$C$12,IF(V42=$B$13,$C$13,IF(V42=$B$14,#REF!,IF(V42=$B$15,$C$15,0)))))))*$A$4 -> 0 | W43: =IF(W42=$B$9,$C$9,IF(W42=$B$10,$C$10,IF(W42=$B$11,$C$11,IF(W42=$B$12,$C$12,IF(W42=$B$13,$C$13,IF(W42=$B$14,#REF!,IF(W42=$B$15,$C$15,0)))))))*$A$4 -> 0
A44: dentin thickness / dentin extension (um) | C44: 0 | E44: 0 | G44: 0 | I44: 0 | J44: 0 | L44: 0 | M44: 0 | O44: 40 | P44: 459 | Q44: 1984 | R44: 0 | T44: 0 | U44: 0 | V44: 0 | W44: 0
A45: root formation time (days) | C45: =C43+C44/$A$6 -> 65 | E45: =E43+E44/$A$6 -> 0 | G45: =G43+G44/$A$6 -> 0 | I45: =I43+I44/$A$6 -> 0 | J45: =J43+J44/$A$6 -> 0 | L45: =L43+L44/$A$6 -> 0 | M45: =M43+M44/$A$6 -> 0 | O45: =O43+O44/$A$6 -> 74.950249 | P45: =P44/$U$11 -> 40.110915 | Q45: =Q44/$U$11 -> 173.37703 | R45: =R43+R44/$A$6 -> 65 | T45: =T43+T44/$A$6 -> 0 | U45: =U43+U44/$A$6 -> 0 | V45: =V43+V44/$A$6 -> 0 | W45: =W43+W44/$A$6 -> 0
...

Sheet developmental charts
D1: relative time
B2: tooth | D2: initiation | E2: prenatal | F2: initiation | G2: CFT | H2: RFT
B4: URI1 | D4: ='N. alesi dental calculation'!C27 -> -25.415677 | E4: =IF(D4<0,D4,0) -> -25.415677 | F4: =IF(D4>0,D4,0) -> 0 | G4: ='N. alesi dental calculation'!C32+IF(D4<0,D4,0) -> 420 | H4: ='N. alesi dental calculation'!C31 -> 65
D5: =D4 -> -25.415677 | E5: =E4 -> -25.415677 | F5: =F4 -> 0 | G5: =G4 -> 420 | H5: =H4 -> 65
B7: URI2 | D7: ='N. alesi dental calculation'!E27 -> 158.03483 | E7: =IF(D7<0,D7,0) -> 0 | F7: =IF(D7>0,D7,0) -> 158.03483 | G7: ='N. alesi dental calculation'!E32+IF(D7<0,D7,0) -> 326.96517 | H7: ='N. alesi dental calculation'!E31 -> 0
D8: =D7 -> 158.03483 | E8: =E7 -> 0 | F8: =F7 -> 158.03483 | G8: =G7 -> 326.96517 | H8: =H7 -> 0
B10: URC | D10: ='N. alesi dental calculation'!G27 -> 181.91542 | E10: =IF(D10<0,D10,0) -> 0 | F10: =IF(D10>0,D10,0) -> 181.91542 | G10: ='N. alesi dental calculation'!G32 -> 303.08458 | H10: ='N. alesi dental calculation'!G30 -> 0
D11: =D10 -> 181.91542 | E11: =E10 -> 0 | F11: =F10 -> 181.91542 | G11: =G10 -> 303.08458 | H11: =H10 -> 0
B13: URP3-B | D13: ='N. alesi dental calculation'!I27 -> 302.1393 | E13: =IF(D13<0,D13,0) -> 0 | F13: =IF(D13>0,D13,0) -> 302.1393 | G13: ='N. alesi dental calculation'!I32+IF(D13<0,D13,0) -> 182.8607 | H13: ='N. alesi dental calculation'!I31 -> 0
B14: URP3-L | D14: ='N. alesi dental calculation'!J27 -> 453.65672 | E14: =IF(D14<0,D14,0) -> 0 | F14: =IF(D14>0,D14,0) -> 453.65672 | G14: ='N. alesi dental calculation'!J32+IF(D14<0,D14,0) -> 31.343284 | H14: ='N. alesi dental calculation'!J31 -> 0
B16: URP4-B | D16: ='N. alesi dental calculation'!L27 -> 313.83085 | E16: =IF(D16<0,D16,0) -> 0 | F16: =IF(D16>0,D16,0) -> 313.83085 | G16: ='N. alesi dental calculation'!L32+IF(D16<0,D16,0) -> 171.16915 | H16: ='N. alesi dental calculation'!L31 -> 0
B17: URP4-L | D17: ='N. alesi dental calculation'!M27 -> 411.46766 | E17: =IF(D17<0,D17,0) -> 0 | F17: =IF(D17>0,D17,0) -> 411.46766 | G17: ='N. alesi dental calculation'!M32+IF(D17<0,D17,0) -> 73.532338 | H17: ='N. alesi dental calculation'!M31 -> 0
B19: URM1-DB | D19: ='N. alesi dental calculation'!O27 -> -39.192399 | E19: =IF(D19<0,D19,0) -> -39.192399 | F19: =IF(D19>0,D19,0) -> 0 | G19: ='N. alesi dental calculation'!O32+IF(D19<0,D19,0) -> 420 | H19: ='N. alesi dental calculation'!O31 -> 65
B20: URM1-DL | D20: ='N. alesi dental calculation'!P27 -> 12.268409 | E20: =IF(D20<0,D20,0) -> 0 | F20: =IF(D20>0,D20,0) -> 12.268409 | G20: ='N. alesi dental calculation'!P32+IF(D20<0,D20,0) -> 415.66748 | H20: ='N. alesi dental calculation'!P31 -> 57.064112
B21: URM1-MB | D21: ='N. alesi dental calculation'!Q27 -> -76.72209 | E21: =IF(D21<0,D21,0) -> -76.72209 | F21: =IF(D21>0,D21,0) -> 0 | G21: ='N. alesi dental calculation'!Q32+IF(D21<0,D21,0) -> 308.30224 | H21: ='N. alesi dental calculation'!Q31 -> 176.69776
B22: URM1-ML | D22: ='N. alesi dental calculation'!R27 -> -53.444181 | E22: =IF(D22<0,D22,0) -> -53.444181 | F22: =IF(D22>0,D22,0) -> 0 | G22: ='N. alesi dental calculation'!R32+IF(D22<0,D22,0) -> 408.0597 | H22: ='N. alesi dental calculation'!R31 -> 76.940299
B24: URM2-DB | D24: ='N. alesi dental calculation'!T27 -> 303.39667 | E24: =IF(D24<0,D24,0) -> 0 | F24: =IF(D24>0,D24,0) -> 303.39667 | G24: ='N. alesi dental calculation'!T32+IF(D24<0,D24,0) -> 181.60333 | H24: ='N. alesi dental calculation'!T31 -> 0
B25: URM2-DL | D25: ='N. alesi dental calculation'!U27 -> 399.57245 | E25: =IF(D25<0,D25,0) -> 0 | F25: =IF(D25>0,D25,0) -> 399.57245 | G25: ='N. alesi dental calculation'!U32+IF(D25<0,D25,0) -> 85.427553 | H25: ='N. alesi dental calculation'!U31 -> 0
B26: URM2-MB | D26: ='N. alesi dental calculation'!V27 -> 260.962 | E26: =IF(D26<0,D26,0) -> 0 | F26: =IF(D26>0,D26,0) -> 260.962 | G26: ='N. alesi dental calculation'!V32+IF(D26<0,D26,0) -> 224.038 | H26: ='N. alesi dental calculation'!V31 -> 0
B27: URM2-ML | D27: ='N. alesi dental calculation'!W27 -> 254.78622 | E27: =IF(D27<0,D27,0) -> 0 | F27: =IF(D27>0,D27,0) -> 254.78622 | G27: ='N. alesi dental calculation'!W32+IF(D27<0,D27,0) -> 230.21378 | H27: ='N. alesi dental calculation'!W31 -> 0
B32: ULI1 | D32: ='N. alesi dental calculation'!C41 -> -17.577197 | E32: =IF(D32<0,D32,0) -> -17.577197 | F32: =IF(D32>0,D32,0) -> 0 | G32: ='N. alesi dental calculation'!C46+IF(D32<0,E32,0) -> 420 | H32: ='N. alesi dental calculation'!C43 -> 65
D33: =D32 -> -17.577197 | E33: =E32 -> -17.577197 | F33: =F32 -> 0 | G33: =G32 -> 420 | H33: =H32 -> 65
B35: ULI2 | D35: ='N. alesi dental calculation'!E41 -> 172.9602 | E35: =IF(D35<0,D35,0) -> 0 | F35: =IF(D35>0,D35,0) -> 172.9602 | G35: ='N. alesi dental calculation'!E46+IF(D35<0,D35,0) -> 312.0398 | H35: ='N. alesi dental calculation'!E45 -> 0
D36: =D35 -> 172.9602 | E36: =E35 -> 0 | F36: =F35 -> 172.9602 | G36: =G35 -> 312.0398 | H36: =H35 -> 0
B38: ULC | D38: ='N. alesi dental calculation'!G41 -> 180.67164 | E38: =IF(D38<0,D38,0) -> 0 | F38: =IF(D38>0,D38,0) -> 180.67164 | G38: ='N. alesi dental calculation'!G46+IF(D38<0,D38,0) -> 304.32836 | H38: ='N. alesi dental calculation'!G45 -> 0
D39: =D38 -> 180.67164 | E39: =E38 -> 0 | F39: =F38 -> 180.67164 | G39: =G38 -> 304.32836 | H39: =H38 -> 0
B41: ULP3-1 | D41: ='N. alesi dental calculation'!I41 -> 346.59204 | E41: =IF(D41<0,D41,0) -> 0 | F41: =IF(D41>0,D41,0) -> 346.59204 | G41: ='N. alesi dental calculation'!I46+IF(D41<0,D41,0) -> 138.40796 | H41: ='N. alesi dental calculation'!I45 -> 0
B42: ULP3-2 | D42: ='N. alesi dental calculation'!J41 -> 452.91045 | E42: =IF(D42<0,D42,0) -> 0 | F42: =IF(D42>0,D42,0) -> 452.91045 | G42: ='N. alesi dental calculation'!J46+IF(D42<0,D42,0) -> 32.089552 | H42: ='N. alesi dental calculation'!J45 -> 0
B44: ULP4-1 | D44: ='N. alesi dental calculation'!L41 -> 327.51244 | E44: =IF(D44<0,D44,0) -> 0 | F44: =IF(D44>0,D44,0) -> 327.51244 | G44: ='N. alesi dental calculation'!L46+IF(D44<0,D44,0) -> 157.48756 | H44: ='N. alesi dental calculation'!L45 -> 0
B45: ULP4-2 | D45: ='N. alesi dental calculation'!M41 -> 427.63682 | E45: =IF(D45<0,D45,0) -> 0 | F45: =IF(D45>0,D45,0) -> 427.63682 | G45: ='N. alesi dental calculation'!M46+IF(D45<0,D45,0) -> 57.363184 | H45: ='N. alesi dental calculation'!M45 -> 0
B47: ULM1-DB | D47: ='N. alesi dental calculation'!O41 -> -45.368171 | E47: =IF(D47<0,D47,0) -> -45.368171 | F47: =IF(D47>0,D47,0) -> 0 | G47: ='N. alesi dental calculation'!O46+IF(D47<0,D47,0) -> 410.04975 | H47: ='N. alesi dental calculation'!O45 -> 74.950249
B48: ULM1-DL | D48: ='N. alesi dental calculation'!P41 -> 20.344418 | E48: =IF(D48<0,D48,0) -> 0 | F48: =IF(D48>0,D48,0) -> 20.344418 | G48: ='N. alesi dental calculation'!P46+IF(D48<0,D48,0) -> 424.54467 | H48: ='N. alesi dental calculation'!P45 -> 40.110915
B49: ULM1-MB | D49: ='N. alesi dental calculation'!Q41 -> -73.871734 | E49: =IF(D49<0,D49,0) -> -73.871734 | F49: =IF(D49>0,D49,0) -> 0 | G49: ='N. alesi dental calculation'!Q46+IF(D49<0,D49,0) -> 311.62297 | H49: ='N. alesi dental calculation'!Q45 -> 173.37703
B50: ULM1-ML | D50: ='N. alesi dental calculation'!R41 -> -55.819477 | E50: =IF(D50<0,D50,0) -> -55.819477 | F50: =IF(D50>0,D50,0) -> 0 | G50: ='N. alesi dental calculation'!R46+IF(D50<0,D50,0) -> 420 | H50: ='N. alesi dental calculation'!R45 -> 65
B52: ULM2-DB | D52: ='N. alesi dental calculation'!T41 -> 303.39667 | E52: =IF(D52<0,D52,0) -> 0 | F52: =IF(D52>0,D52,0) -> 303.39667 | G52: ='N. alesi dental calculation'!T46+IF(D52<0,D52,0) -> 181.60333 | H52: ='N. alesi dental calculation'!T45 -> 0
B53: ULM2-DL | D53: ='N. alesi dental calculation'!U41 -> 407.41093 | E53: =IF(D53<0,D53,0) -> 0 | F53: =IF(D53>0,D53,0) -> 407.41093 | G53: ='N. alesi dental calculation'!U46+IF(D53<0,D53,0) -> 77.589074 | H53: ='N. alesi dental calculation'!U45 -> 0
B54: ULM2-MB | D54: ='N. alesi dental calculation'!V41 -> 241.24703 | E54: =IF(D54<0,D54,0) -> 0 | F54: =IF(D54>0,D54,0) -> 241.24703 | G54: ='N. alesi dental calculation'!V46+IF(D54<0,D54,0) -> 243.75297 | H54: ='N. alesi dental calculation'!V45 -> 0
B55: ULM2-ML | D55: ='N. alesi dental calculation'!W41 -> 258.82423 | E55: =IF(D55<0,D55,0) -> 0 | F55: =IF(D55>0,D55,0) -> 258.82423 | G55: ='N. alesi dental calculation'!W46+IF(D55<0,D55,0) -> 226.17577 | H55: ='N. alesi dental calculation'!W45 -> 0
I58: error margin
B60: UI1s | D60: =AVERAGE(D32,D4) -> -21.496437 | E60: =AVERAGE(E32,E4) -> -21.496437 | F60: =AVERAGE(F32,F4) -> 0 | G60: =AVERAGE(G32,G4) -> 420 | H60: =AVERAGE(H32,H4) -> 65 | I60: =G60/'N. alesi dental calculation'!$C$17*'N. alesi dental calculation'!$E$17+ABS(G32-G4)/2 -> 34.639175
...
