Workbook

Sheet Supplementary Table 2
E2: SUSonly vs SHAM significant proteins
K4: RAW values | Z4: FC value
E5: Uniprot | F5: Gene Name | G5: PvalProteins SUS VS SHAM | H5: FCProteins SUS VS SHAM | I5: PvalProteins SUSMB VS SHAM | J5: FCProteins SUSMB VS SHAM | K5: X1068 | L5: X2396 | M5: X1066 | N5: X1071 | O5: X1065 | P5: X2400 | Q5: X2408 | R5: X2403 | S5: X2398 | T5: X2404 | U5: X2315 | V5: X2402 | W5: X962 | X5: X2314 | Y5: X956 | Z5: X1068 | AA5: X2396 | AB5: X1066 | AC5: X1071 | AD5: X1065 | AE5: X2400 | AF5: X2408 | AG5: X2403 | AH5: X2398 | AI5: X2404 | AJ5: X2315 | AK5: X2402 | AL5: X962 | AM5: X2314 | AN5: X956 | AO5: Sham SD | AP5: SUS SD | AQ5: SUSMB SD | AR5: STRING annotation
E6: Q8R1T1 | F6: Chmp7 | G6: 0.023964043 | H6: 0.073967395 | I6: =VLOOKUP(F6,'[1]SUSMB vs SHAM all proteins sum'!$B$2:$E$3214,2,FALSE) -> 0.03382046 | J6: =VLOOKUP(F6,'[1]SUSMB vs SHAM all proteins sum'!$B$2:$E$3214,3,FALSE) -> 0.10705813 | K6: =VLOOKUP($E6,[1]AllProteinsNorm!$A$1:$Q$3226,4,FALSE) -> 2075758.8 | L6: =VLOOKUP($E6,[1]AllProteinsNorm!$A$1:$Q$3226,5,FALSE) -> 2063036.5 | M6: =VLOOKUP($E6,[1]AllProteinsNorm!$A$1:$Q$3226,10,FALSE) -> 1938090.9 | N6: =VLOOKUP($E6,[1]AllProteinsNorm!$A$1:$Q$3226,11,FALSE) -> 2342519.2 | O6: =VLOOKUP($E6,[1]AllProteinsNorm!$A$1:$Q$3226,15,FALSE) -> 2023286.1 | P6: =VLOOKUP($E6,[1]AllProteinsNorm!$A$1:$Q$3226,6,FALSE) -> 63267.258 | Q6: =VLOOKUP($E6,[1]AllProteinsNorm!$A$1:$Q$3226,8,FALSE) -> 50898.273 | R6: =VLOOKUP($E6,[1]AllProteinsNorm!$A$1:$Q$3226,13,FALSE) -> 13989.342 | S6: =VLOOKUP($E6,[1]AllProteinsNorm!$A$1:$Q$3226,16,FALSE) -> 1126556.9 | T6: =VLOOKUP($E6,[1]AllProteinsNorm!$A$1:$Q$3226,17,FALSE) -> 1716198.4 | U6: =VLOOKUP($E6,[1]AllProteinsNorm!$A$1:$Q$3226,3,FALSE) -> 41586.092 | V6: =VLOOKUP($E6,[1]AllProteinsNorm!$A$1:$Q$3226,7,FALSE) -> 101616.36 | W6: =VLOOKUP($E6,[1]AllProteinsNorm!$A$1:$Q$3226,9,FALSE) -> 1531741.1 | X6: =VLOOKUP($E6,[1]AllProteinsNorm!$A$1:$Q$3226,12,FALSE) -> 39777.392 | Y6: =VLOOKUP($E6,[1]AllProteinsNorm!$A$1:$Q$3226,14,FALSE) -> 2148638.2 | Z6: =K6/AVERAGE($K6:$O6) -> 0.99388112 | AA6: =L6/AVERAGE($K6:$O6) -> 0.98778964 | AB6: =M6/AVERAGE($K6:$O6) -> 0.92796523 | AC6: =N6/AVERAGE($K6:$O6) -> 1.121607 | AD6: =O6/AVERAGE($K6:$O6) -> 0.96875699 | AE6: =P6/AVERAGE($K6:$O6) -> 0.030292602 | AF6: =Q6/AVERAGE($K6:$O6) -> 0.024370285 | AG6: =R6/AVERAGE($K6:$O6) -> 0.0066981496 | ... AN6: =Y6/AVERAGE($K6:$O6) -> 1.0287761 | AO6: =_xlfn.STDEV.P(K6:O6) -> 135802.97 | AP6: =_xlfn.STDEV.P(P6:T6) -> 700855.93 | AQ6: =_xlfn.STDEV.P(U6:Y6) -> 893465.8 | AR6: Charged multivesicular body protein 7; ESCRT-III-like protein required to recruit the ESCRT-III complex to the nuclear envelope during late anaphase. Together with SPAST, the ESCRT-III complex promotes nuclear envelope sealing and mitotic spindle disassembly during late anaphase. Plays a role in the endosomal sorting pathway; Belongs to the SNF7 family
E7: Q9WV91 | F7: Ptgfrn | G7: 0.016282753 | H7: 0.20148778 | I7: =VLOOKUP(F7,'[1]SUSMB vs SHAM all proteins sum'!$B$2:$E$3214,2,FALSE) -> 0.31984734 | J7: =VLOOKUP(F7,'[1]SUSMB vs SHAM all proteins sum'!$B$2:$E$3214,3,FALSE) -> 0.650158 | K7: =VLOOKUP($E7,[1]AllProteinsNorm!$A$1:$Q$3226,4,FALSE) -> 58165.491 | L7: =VLOOKUP($E7,[1]AllProteinsNorm!$A$1:$Q$3226,5,FALSE) -> 159955.72 | M7: =VLOOKUP($E7,[1]AllProteinsNorm!$A$1:$Q$3226,10,FALSE) -> 57966.151 | N7: =VLOOKUP($E7,[1]AllProteinsNorm!$A$1:$Q$3226,11,FALSE) -> 157474.45 | O7: =VLOOKUP($E7,[1]AllProteinsNorm!$A$1:$Q$3226,15,FALSE) -> 160926.9 | P7: =VLOOKUP($E7,[1]AllProteinsNorm!$A$1:$Q$3226,6,FALSE) -> 5858.678 | Q7: =VLOOKUP($E7,[1]AllProteinsNorm!$A$1:$Q$3226,8,FALSE) -> 38947.233 | R7: =VLOOKUP($E7,[1]AllProteinsNorm!$A$1:$Q$3226,13,FALSE) -> 87697.252 | S7: =VLOOKUP($E7,[1]AllProteinsNorm!$A$1:$Q$3226,16,FALSE) -> 12194.479 | T7: =VLOOKUP($E7,[1]AllProteinsNorm!$A$1:$Q$3226,17,FALSE) -> 18599.293 | U7: =VLOOKUP($E7,[1]AllProteinsNorm!$A$1:$Q$3226,3,FALSE) -> 26450.742 | V7: =VLOOKUP($E7,[1]AllProteinsNorm!$A$1:$Q$3226,7,FALSE) -> 88708.693 | W7: =VLOOKUP($E7,[1]AllProteinsNorm!$A$1:$Q$3226,9,FALSE) -> 127952.95 | X7: =VLOOKUP($E7,[1]AllProteinsNorm!$A$1:$Q$3226,12,FALSE) -> 40214.765 | Y7: =VLOOKUP($E7,[1]AllProteinsNorm!$A$1:$Q$3226,14,FALSE) -> 131502.2 | Z7: =K7/AVERAGE($K7:$O7) -> 0.48920602 | AA7: =L7/AVERAGE($K7:$O7) -> 1.3453218 | AB7: =M7/AVERAGE($K7:$O7) -> 0.48752945 | AC7: =N7/AVERAGE($K7:$O7) -> 1.3244528 | AD7: =O7/AVERAGE($K7:$O7) -> 1.3534899 | AE7: =P7/AVERAGE($K7:$O7) -> 0.049274931 | AF7: =Q7/AVERAGE($K7:$O7) -> 0.32756916 | AG7: =R7/AVERAGE($K7:$O7) -> 0.73758552 | ... AN7: =Y7/AVERAGE($K7:$O7) -> 1.106011 | AO7: =_xlfn.STDEV.P(K7:O7) -> 49681.857 | AP7: =_xlfn.STDEV.P(P7:T7) -> 29676.524 | AQ7: =_xlfn.STDEV.P(U7:Y7) -> 43437.794 | AR7: Prostaglandin F2 receptor negative regulator; Inhibits the binding of prostaglandin F2-alpha (PGF2- alpha) to its specific FP receptor, by decreasing the receptor number rather than the affinity constant. Functional coupling with the prostaglandin F2-alpha receptor seems to occur (By similarity)
E8: Q9D832 | F8: Dnajb4 | G8: 0.0020650341 | H8: 0.21686344 | I8: =VLOOKUP(F8,'[1]SUSMB vs SHAM all proteins sum'!$B$2:$E$3214,2,FALSE) -> 0.5689104 | J8: =VLOOKUP(F8,'[1]SUSMB vs SHAM all proteins sum'!$B$2:$E$3214,3,FALSE) -> 0.77463961 | K8: =VLOOKUP($E8,[1]AllProteinsNorm!$A$1:$Q$3226,4,FALSE) -> 60026.702 | L8: =VLOOKUP($E8,[1]AllProteinsNorm!$A$1:$Q$3226,5,FALSE) -> 30265.82 | M8: =VLOOKUP($E8,[1]AllProteinsNorm!$A$1:$Q$3226,10,FALSE) -> 57689.211 | N8: =VLOOKUP($E8,[1]AllProteinsNorm!$A$1:$Q$3226,11,FALSE) -> 43785.492 | O8: =VLOOKUP($E8,[1]AllProteinsNorm!$A$1:$Q$3226,15,FALSE) -> 51538.965 | P8: =VLOOKUP($E8,[1]AllProteinsNorm!$A$1:$Q$3226,6,FALSE) -> 6160.8948 | Q8: =VLOOKUP($E8,[1]AllProteinsNorm!$A$1:$Q$3226,8,FALSE) -> 7390.592 | R8: =VLOOKUP($E8,[1]AllProteinsNorm!$A$1:$Q$3226,13,FALSE) -> 15318.945 | S8: =VLOOKUP($E8,[1]AllProteinsNorm!$A$1:$Q$3226,16,FALSE) -> 5524.6595 | T8: =VLOOKUP($E8,[1]AllProteinsNorm!$A$1:$Q$3226,17,FALSE) -> 29439.589 | U8: =VLOOKUP($E8,[1]AllProteinsNorm!$A$1:$Q$3226,3,FALSE) -> 75510.134 | V8: =VLOOKUP($E8,[1]AllProteinsNorm!$A$1:$Q$3226,7,FALSE) -> 8261.4544 | W8: =VLOOKUP($E8,[1]AllProteinsNorm!$A$1:$Q$3226,9,FALSE) -> 74114.425 | X8: =VLOOKUP($E8,[1]AllProteinsNorm!$A$1:$Q$3226,12,FALSE) -> 49549.699 | Y8: =VLOOKUP($E8,[1]AllProteinsNorm!$A$1:$Q$3226,14,FALSE) -> 28797.21 | Z8: =K8/AVERAGE($K8:$O8) -> 1.233563 | AA8: =L8/AVERAGE($K8:$O8) -> 0.62196978 | AB8: =M8/AVERAGE($K8:$O8) -> 1.185527 | AC8: =N8/AVERAGE($K8:$O8) -> 0.89980226 | AD8: =O8/AVERAGE($K8:$O8) -> 1.059138 | AE8: =P8/AVERAGE($K8:$O8) -> 0.12660785 | AF8: =Q8/AVERAGE($K8:$O8) -> 0.15187842 | AG8: =R8/AVERAGE($K8:$O8) -> 0.31480796 | ... AN8: =Y8/AVERAGE($K8:$O8) -> 0.59178951 | AO8: =_xlfn.STDEV.P(K8:O8) -> 10780.758 | AP8: =_xlfn.STDEV.P(P8:T8) -> 9049.7021 | AQ8: =_xlfn.STDEV.P(U8:Y8) -> 26023.963 | AR8: DnaJ homolog subfamily B member 4; Probable chaperone. Stimulates ATP hydrolysis and the folding of unfolded proteins mediated by HSPA1A/B (in vitro)
E9: Q8CCJ4 | F9: Amer2 | G9: 0.0014866711 | H9: 0.27319903 | I9: =VLOOKUP(F9,'[1]SUSMB vs SHAM all proteins sum'!$B$2:$E$3214,2,FALSE) -> 0.25314324 | J9: =VLOOKUP(F9,'[1]SUSMB vs SHAM all proteins sum'!$B$2:$E$3214,3,FALSE) -> 0.69627616 | K9: =VLOOKUP($E9,[1]AllProteinsNorm!$A$1:$Q$3226,4,FALSE) -> 26496.128 | L9: =VLOOKUP($E9,[1]AllProteinsNorm!$A$1:$Q$3226,5,FALSE) -> 36847.882 | M9: =VLOOKUP($E9,[1]AllProteinsNorm!$A$1:$Q$3226,10,FALSE) -> 62066.305 | N9: =VLOOKUP($E9,[1]AllProteinsNorm!$A$1:$Q$3226,11,FALSE) -> 49723.25 | O9: =VLOOKUP($E9,[1]AllProteinsNorm!$A$1:$Q$3226,15,FALSE) -> 55954.616 | P9: =VLOOKUP($E9,[1]AllProteinsNorm!$A$1:$Q$3226,6,FALSE) -> 27152.892 | Q9: =VLOOKUP($E9,[1]AllProteinsNorm!$A$1:$Q$3226,8,FALSE) -> 14255.856 | R9: =VLOOKUP($E9,[1]AllProteinsNorm!$A$1:$Q$3226,13,FALSE) -> 8034.0471 | S9: =VLOOKUP($E9,[1]AllProteinsNorm!$A$1:$Q$3226,16,FALSE) -> 9885.1601 | T9: =VLOOKUP($E9,[1]AllProteinsNorm!$A$1:$Q$3226,17,FALSE) -> 8346.6954 | U9: =VLOOKUP($E9,[1]AllProteinsNorm!$A$1:$Q$3226,3,FALSE) -> 31789.248 | V9: =VLOOKUP($E9,[1]AllProteinsNorm!$A$1:$Q$3226,7,FALSE) -> 40489.965 | W9: =VLOOKUP($E9,[1]AllProteinsNorm!$A$1:$Q$3226,9,FALSE) -> 39957.154 | X9: =VLOOKUP($E9,[1]AllProteinsNorm!$A$1:$Q$3226,12,FALSE) -> 46019.659 | Y9: =VLOOKUP($E9,[1]AllProteinsNorm!$A$1:$Q$3226,14,FALSE) -> 11657.04 | Z9: =K9/AVERAGE($K9:$O9) -> 0.57329041 | AA9: =L9/AVERAGE($K9:$O9) -> 0.79726885 | AB9: =M9/AVERAGE($K9:$O9) -> 1.3429139 | AC9: =N9/AVERAGE($K9:$O9) -> 1.0758501 | AD9: =O9/AVERAGE($K9:$O9) -> 1.2106767 | AE9: =P9/AVERAGE($K9:$O9) -> 0.58750066 | AF9: =Q9/AVERAGE($K9:$O9) -> 0.30845056 | AG9: =R9/AVERAGE($K9:$O9) -> 0.17383077 | ... AN9: =Y9/AVERAGE($K9:$O9) -> 0.25222059 | AO9: =_xlfn.STDEV.P(K9:O9) -> 12922.915 | AP9: =_xlfn.STDEV.P(P9:T9) -> 7161.94 | AQ9: =_xlfn.STDEV.P(U9:Y9) -> 12051.335 | AR9: APC membrane recruitment protein 2; Negative regulator of the canonical Wnt signaling pathway involved in neuroectodermal patterning. Acts by specifically binding phosphatidylinositol 4,5-bisphosphate (PtdIns(4,5)P2), translocating to the cell membrane and interacting with key regulators of the canonical Wnt signaling pathway, such as components of the beta-catenin destruction complex; Belongs to the Amer family
C10: SHAM | E10: Q9D7V2 | F10: Lysmd2 | G10: 0.039317063 | H10: 0.30562549 | I10: =VLOOKUP(F10,'[1]SUSMB vs SHAM all proteins sum'!$B$2:$E$3214,2,FALSE) -> 0.15320395 | J10: =VLOOKUP(F10,'[1]SUSMB vs SHAM all proteins sum'!$B$2:$E$3214,3,FALSE) -> 1.2068791 | K10: =VLOOKUP($E10,[1]AllProteinsNorm!$A$1:$Q$3226,4,FALSE) -> 23527.967 | L10: =VLOOKUP($E10,[1]AllProteinsNorm!$A$1:$Q$3226,5,FALSE) -> 22749.312 | M10: =VLOOKUP($E10,[1]AllProteinsNorm!$A$1:$Q$3226,10,FALSE) -> 31893.957 | N10: =VLOOKUP($E10,[1]AllProteinsNorm!$A$1:$Q$3226,11,FALSE) -> 36881.601 | O10: =VLOOKUP($E10,[1]AllProteinsNorm!$A$1:$Q$3226,15,FALSE) -> 23210.853 | P10: =VLOOKUP($E10,[1]AllProteinsNorm!$A$1:$Q$3226,6,FALSE) -> 23324.71 | Q10: =VLOOKUP($E10,[1]AllProteinsNorm!$A$1:$Q$3226,8,FALSE) -> 2199.4106 | R10: =VLOOKUP($E10,[1]AllProteinsNorm!$A$1:$Q$3226,13,FALSE) -> 4786.6026 | S10: =VLOOKUP($E10,[1]AllProteinsNorm!$A$1:$Q$3226,16,FALSE) -> 6288.9074 | T10: =VLOOKUP($E10,[1]AllProteinsNorm!$A$1:$Q$3226,17,FALSE) -> 25233.919 | U10: =VLOOKUP($E10,[1]AllProteinsNorm!$A$1:$Q$3226,3,FALSE) -> 29005.644 | V10: =VLOOKUP($E10,[1]AllProteinsNorm!$A$1:$Q$3226,7,FALSE) -> 41944.808 | W10: =VLOOKUP($E10,[1]AllProteinsNorm!$A$1:$Q$3226,9,FALSE) -> 29889.629 | X10: =VLOOKUP($E10,[1]AllProteinsNorm!$A$1:$Q$3226,12,FALSE) -> 33274.905 | Y10: =VLOOKUP($E10,[1]AllProteinsNorm!$A$1:$Q$3226,14,FALSE) -> 30923.073 | Z10: =K10/AVERAGE($K10:$O10) -> 0.85083681 | AA10: =L10/AVERAGE($K10:$O10) -> 0.82267846 | AB10: =M10/AVERAGE($K10:$O10) -> 1.1533743 | AC10: =N10/AVERAGE($K10:$O10) -> 1.3337414 | AD10: =O10/AVERAGE($K10:$O10) -> 0.83936906 | AE10: =P10/AVERAGE($K10:$O10) -> 0.84348644 | AF10: =Q10/AVERAGE($K10:$O10) -> 0.079536811 | AG10: =R10/AVERAGE($K10:$O10) -> 0.17309688 | ... AN10: =Y10/AVERAGE($K10:$O10) -> 1.1182644 | AO10: =_xlfn.STDEV.P(K10:O10) -> 5726.2119 | AP10: =_xlfn.STDEV.P(P10:T10) -> 9832.7463 | AQ10: =_xlfn.STDEV.P(U10:Y10) -> 4691.0082 | AR10: LysM, putative peptidoglycan-binding, domain containing 2
C11: SUSMB | E11: Q9WTS4 | F11: Tenm1 | G11: 0.0099856506 | H11: 0.3085277 | I11: =VLOOKUP(F11,'[1]SUSMB vs SHAM all proteins sum'!$B$2:$E$3214,2,FALSE) -> 0.36634671 | J11: =VLOOKUP(F11,'[1]SUSMB vs SHAM all proteins sum'!$B$2:$E$3214,3,FALSE) -> 0.76640773 | K11: =VLOOKUP($E11,[1]AllProteinsNorm!$A$1:$Q$3226,4,FALSE) -> 77324.716 | L11: =VLOOKUP($E11,[1]AllProteinsNorm!$A$1:$Q$3226,5,FALSE) -> 114494.45 | M11: =VLOOKUP($E11,[1]AllProteinsNorm!$A$1:$Q$3226,10,FALSE) -> 92815.656 | N11: =VLOOKUP($E11,[1]AllProteinsNorm!$A$1:$Q$3226,11,FALSE) -> 168997.32 | O11: =VLOOKUP($E11,[1]AllProteinsNorm!$A$1:$Q$3226,15,FALSE) -> 160253.74 | P11: =VLOOKUP($E11,[1]AllProteinsNorm!$A$1:$Q$3226,6,FALSE) -> 105316.17 | Q11: =VLOOKUP($E11,[1]AllProteinsNorm!$A$1:$Q$3226,8,FALSE) -> 19097.888 | R11: =VLOOKUP($E11,[1]AllProteinsNorm!$A$1:$Q$3226,13,FALSE) -> 51793.91 | S11: =VLOOKUP($E11,[1]AllProteinsNorm!$A$1:$Q$3226,16,FALSE) -> 26121.406 | T11: =VLOOKUP($E11,[1]AllProteinsNorm!$A$1:$Q$3226,17,FALSE) -> 22862.684 | U11: =VLOOKUP($E11,[1]AllProteinsNorm!$A$1:$Q$3226,3,FALSE) -> 61140.538 | V11: =VLOOKUP($E11,[1]AllProteinsNorm!$A$1:$Q$3226,7,FALSE) -> 115100.51 | W11: =VLOOKUP($E11,[1]AllProteinsNorm!$A$1:$Q$3226,9,FALSE) -> 200746.96 | X11: =VLOOKUP($E11,[1]AllProteinsNorm!$A$1:$Q$3226,12,FALSE) -> 60242.584 | Y11: =VLOOKUP($E11,[1]AllProteinsNorm!$A$1:$Q$3226,14,FALSE) -> 69143.654 | Z11: =K11/AVERAGE($K11:$O11) -> 0.62979715 | AA11: =L11/AVERAGE($K11:$O11) -> 0.93253854 | AB11: =M11/AVERAGE($K11:$O11) -> 0.75596831 | AC11: =N11/AVERAGE($K11:$O11) -> 1.3764555 | AD11: =O11/AVERAGE($K11:$O11) -> 1.3052405 | AE11: =P11/AVERAGE($K11:$O11) -> 0.85778295 | AF11: =Q11/AVERAGE($K11:$O11) -> 0.15554917 | AG11: =R11/AVERAGE($K11:$O11) -> 0.42185291 | ... AN11: =Y11/AVERAGE($K11:$O11) -> 0.56316374 | AO11: =_xlfn.STDEV.P(K11:O11) -> 36257.461 | AP11: =_xlfn.STDEV.P(P11:T11) -> 32253.904 | AQ11: =_xlfn.STDEV.P(U11:Y11) -> 53689.243 | AR11: Teneurin-1; Involved in neural development, regulating the establishment of proper connectivity within the nervous system. May function as a cellular signal transducer (By similarity); Belongs to the tenascin family. Teneurin subfamily
C12: SUS | E12: Q3UTQ8 | F12: Cdkl5 | G12: 0.041759343 | H12: 0.34648744 | I12: =VLOOKUP(F12,'[1]SUSMB vs SHAM all proteins sum'!$B$2:$E$3214,2,FALSE) -> 0.59962225 | J12: =VLOOKUP(F12,'[1]SUSMB vs SHAM all proteins sum'!$B$2:$E$3214,3,FALSE) -> 0.73464878 | K12: =VLOOKUP($E12,[1]AllProteinsNorm!$A$1:$Q$3226,4,FALSE) -> 120635.26 | L12: =VLOOKUP($E12,[1]AllProteinsNorm!$A$1:$Q$3226,5,FALSE) -> 36847.133 | M12: =VLOOKUP($E12,[1]AllProteinsNorm!$A$1:$Q$3226,10,FALSE) -> 45527.897 | N12: =VLOOKUP($E12,[1]AllProteinsNorm!$A$1:$Q$3226,11,FALSE) -> 60792.238 | O12: =VLOOKUP($E12,[1]AllProteinsNorm!$A$1:$Q$3226,15,FALSE) -> 62802.739 | P12: =VLOOKUP($E12,[1]AllProteinsNorm!$A$1:$Q$3226,6,FALSE) -> 44985.954 | Q12: =VLOOKUP($E12,[1]AllProteinsNorm!$A$1:$Q$3226,8,FALSE) -> 44950.658 | R12: =VLOOKUP($E12,[1]AllProteinsNorm!$A$1:$Q$3226,13,FALSE) -> 11608.912 | S12: =VLOOKUP($E12,[1]AllProteinsNorm!$A$1:$Q$3226,16,FALSE) -> 6253.3846 | T12: =VLOOKUP($E12,[1]AllProteinsNorm!$A$1:$Q$3226,17,FALSE) -> 26284.524 | U12: =VLOOKUP($E12,[1]AllProteinsNorm!$A$1:$Q$3226,3,FALSE) -> 85758.044 | V12: =VLOOKUP($E12,[1]AllProteinsNorm!$A$1:$Q$3226,7,FALSE) -> 33981.573 | W12: =VLOOKUP($E12,[1]AllProteinsNorm!$A$1:$Q$3226,9,FALSE) -> 57699.643 | X12: =VLOOKUP($E12,[1]AllProteinsNorm!$A$1:$Q$3226,12,FALSE) -> 146393.06 | Y12: =VLOOKUP($E12,[1]AllProteinsNorm!$A$1:$Q$3226,14,FALSE) -> 6716.9035 | Z12: =K12/AVERAGE($K12:$O12) -> 1.8468052 | AA12: =L12/AVERAGE($K12:$O12) -> 0.56409275 | AB12: =M12/AVERAGE($K12:$O12) -> 0.69698657 | AC12: =N12/AVERAGE($K12:$O12) -> 0.93066837 | AD12: =O12/AVERAGE($K12:$O12) -> 0.96144712 | AE12: =P12/AVERAGE($K12:$O12) -> 0.68868997 | AF12: =Q12/AVERAGE($K12:$O12) -> 0.68814961 | AG12: =R12/AVERAGE($K12:$O12) -> 0.17772084 | ... AN12: =Y12/AVERAGE($K12:$O12) -> 0.10282907 | AO12: =_xlfn.STDEV.P(K12:O12) -> 29288.383 | AP12: =_xlfn.STDEV.P(P12:T12) -> 16207.234 | AQ12: =_xlfn.STDEV.P(U12:Y12) -> 47878.858 | AR12: Cyclin-dependent kinase-like 5; Mediates phosphorylation of MECP2; Belongs to the protein kinase superfamily. CMGC Ser/Thr protein kinase family. CDC2/CDKX subfamily
E13: Q9Z2W0 | F13: Dnpep | G13: 0.025643496 | H13: 0.35108069 | I13: =VLOOKUP(F13,'[1]SUSMB vs SHAM all proteins sum'!$B$2:$E$3214,2,FALSE) -> 0.95523306 | J13: =VLOOKUP(F13,'[1]SUSMB vs SHAM all proteins sum'!$B$2:$E$3214,3,FALSE) -> 0.97642694 | K13: =VLOOKUP($E13,[1]AllProteinsNorm!$A$1:$Q$3226,4,FALSE) -> 24904.461 | L13: =VLOOKUP($E13,[1]AllProteinsNorm!$A$1:$Q$3226,5,FALSE) -> 17798.15 | M13: =VLOOKUP($E13,[1]AllProteinsNorm!$A$1:$Q$3226,10,FALSE) -> 19724.46 | N13: =VLOOKUP($E13,[1]AllProteinsNorm!$A$1:$Q$3226,11,FALSE) -> 19713.561 | O13: =VLOOKUP($E13,[1]AllProteinsNorm!$A$1:$Q$3226,15,FALSE) -> 19306.91 | P13: =VLOOKUP($E13,[1]AllProteinsNorm!$A$1:$Q$3226,6,FALSE) -> 2817.5266 | Q13: =VLOOKUP($E13,[1]AllProteinsNorm!$A$1:$Q$3226,8,FALSE) -> 6070.7051 | R13: =VLOOKUP($E13,[1]AllProteinsNorm!$A$1:$Q$3226,13,FALSE) -> 20093.721 | S13: =VLOOKUP($E13,[1]AllProteinsNorm!$A$1:$Q$3226,16,FALSE) -> 14081.546 | T13: =VLOOKUP($E13,[1]AllProteinsNorm!$A$1:$Q$3226,17,FALSE) -> 3667.3455 | U13: =VLOOKUP($E13,[1]AllProteinsNorm!$A$1:$Q$3226,3,FALSE) -> 34167.509 | V13: =VLOOKUP($E13,[1]AllProteinsNorm!$A$1:$Q$3226,7,FALSE) -> 18931.26 | W13: =VLOOKUP($E13,[1]AllProteinsNorm!$A$1:$Q$3226,9,FALSE) -> 4109.0885 | X13: =VLOOKUP($E13,[1]AllProteinsNorm!$A$1:$Q$3226,12,FALSE) -> 36324.271 | Y13: =VLOOKUP($E13,[1]AllProteinsNorm!$A$1:$Q$3226,14,FALSE) -> 30591.339 | Z13: =K13/AVERAGE($K13:$O13) -> 1.2274551 | AA13: =L13/AVERAGE($K13:$O13) -> 0.87720952 | AB13: =M13/AVERAGE($K13:$O13) -> 0.97215071 | AC13: =N13/AVERAGE($K13:$O13) -> 0.97161354 | AD13: =O13/AVERAGE($K13:$O13) -> 0.9515711 | AE13: =P13/AVERAGE($K13:$O13) -> 0.13886618 | AF13: =Q13/AVERAGE($K13:$O13) -> 0.29920415 | AG13: =R13/AVERAGE($K13:$O13) -> 0.99035033 | ... AN13: =Y13/AVERAGE($K13:$O13) -> 1.5077418 | AO13: =_xlfn.STDEV.P(K13:O13) -> 2413.3441 | AP13: =_xlfn.STDEV.P(P13:T13) -> 6686.3225 | AQ13: =_xlfn.STDEV.P(U13:Y13) -> 11972.063 | AR13: Aspartyl aminopeptidase; Aminopeptidase with specificity towards an acidic amino acid at the N-terminus. Likely to play an important role in intracellular protein and peptide metabolism (By similarity)
E14: Q8CE50 | F14: Snx30 | G14: 0.031197976 | H14: 0.38271786 | I14: =VLOOKUP(F14,'[1]SUSMB vs SHAM all proteins sum'!$B$2:$E$3214,2,FALSE) -> 0.2435042 | J14: =VLOOKUP(F14,'[1]SUSMB vs SHAM all proteins sum'!$B$2:$E$3214,3,FALSE) -> 0.68129493 | K14: =VLOOKUP($E14,[1]AllProteinsNorm!$A$1:$Q$3226,4,FALSE) -> 82450.696 | L14: =VLOOKUP($E14,[1]AllProteinsNorm!$A$1:$Q$3226,5,FALSE) -> 51361.507 | M14: =VLOOKUP($E14,[1]AllProteinsNorm!$A$1:$Q$3226,10,FALSE) -> 70540.22 | N14: =VLOOKUP($E14,[1]AllProteinsNorm!$A$1:$Q$3226,11,FALSE) -> 94483.156 | O14: =VLOOKUP($E14,[1]AllProteinsNorm!$A$1:$Q$3226,15,FALSE) -> 100949 | P14: =VLOOKUP($E14,[1]AllProteinsNorm!$A$1:$Q$3226,6,FALSE) -> 79241.013 | Q14: =VLOOKUP($E14,[1]AllProteinsNorm!$A$1:$Q$3226,8,FALSE) -> 54471.612 | R14: =VLOOKUP($E14,[1]AllProteinsNorm!$A$1:$Q$3226,13,FALSE) -> 19142.978 | S14: =VLOOKUP($E14,[1]AllProteinsNorm!$A$1:$Q$3226,16,FALSE) -> 11808.873 | T14: =VLOOKUP($E14,[1]AllProteinsNorm!$A$1:$Q$3226,17,FALSE) -> 23976.222 | U14: =VLOOKUP($E14,[1]AllProteinsNorm!$A$1:$Q$3226,3,FALSE) -> 19406.367 | V14: =VLOOKUP($E14,[1]AllProteinsNorm!$A$1:$Q$3226,7,FALSE) -> 45500.898 | W14: =VLOOKUP($E14,[1]AllProteinsNorm!$A$1:$Q$3226,9,FALSE) -> 68999.208 | X14: =VLOOKUP($E14,[1]AllProteinsNorm!$A$1:$Q$3226,12,FALSE) -> 69123.784 | Y14: =VLOOKUP($E14,[1]AllProteinsNorm!$A$1:$Q$3226,14,FALSE) -> 99303.657 | Z14: =K14/AVERAGE($K14:$O14) -> 1.0311891 | AA14: =L14/AVERAGE($K14:$O14) -> 0.64236479 | AB14: =M14/AVERAGE($K14:$O14) -> 0.88222789 | AC14: =N14/AVERAGE($K14:$O14) -> 1.1816759 | AD14: =O14/AVERAGE($K14:$O14) -> 1.2625424 | AE14: =P14/AVERAGE($K14:$O14) -> 0.99104641 | AF14: =Q14/AVERAGE($K14:$O14) -> 0.68126206 | AG14: =R14/AVERAGE($K14:$O14) -> 0.23941616 | ... AN14: =Y14/AVERAGE($K14:$O14) -> 1.2419646 | AO14: =_xlfn.STDEV.P(K14:O14) -> 17687.677 | AP14: =_xlfn.STDEV.P(P14:T14) -> 25337.697 | AQ14: =_xlfn.STDEV.P(U14:Y14) -> 26705.745 | AR14: Sorting nexin-30; May be involved in several stages of intracellular trafficking
E15: Q8BHK1 | F15: Nipa1 | G15: 0.036057899 | H15: 0.39197903 | I15: =VLOOKUP(F15,'[1]SUSMB vs SHAM all proteins sum'!$B$2:$E$3214,2,FALSE) -> 0.52698129 | J15: =VLOOKUP(F15,'[1]SUSMB vs SHAM all proteins sum'!$B$2:$E$3214,3,FALSE) -> 0.94265049 | K15: =VLOOKUP($E15,[1]AllProteinsNorm!$A$1:$Q$3226,4,FALSE) -> 54449.554 | L15: =VLOOKUP($E15,[1]AllProteinsNorm!$A$1:$Q$3226,5,FALSE) -> 48454.577 | M15: =VLOOKUP($E15,[1]AllProteinsNorm!$A$1:$Q$3226,10,FALSE) -> 51931.15 | N15: =VLOOKUP($E15,[1]AllProteinsNorm!$A$1:$Q$3226,11,FALSE) -> 72758.42 | O15: =VLOOKUP($E15,[1]AllProteinsNorm!$A$1:$Q$3226,15,FALSE) -> 60214.23 | P15: =VLOOKUP($E15,[1]AllProteinsNorm!$A$1:$Q$3226,6,FALSE) -> 13514.707 | Q15: =VLOOKUP($E15,[1]AllProteinsNorm!$A$1:$Q$3226,8,FALSE) -> 58683.992 | R15: =VLOOKUP($E15,[1]AllProteinsNorm!$A$1:$Q$3226,13,FALSE) -> 10413.706 | S15: =VLOOKUP($E15,[1]AllProteinsNorm!$A$1:$Q$3226,16,FALSE) -> 49963.673 | T15: =VLOOKUP($E15,[1]AllProteinsNorm!$A$1:$Q$3226,17,FALSE) -> 13460.701 | U15: =VLOOKUP($E15,[1]AllProteinsNorm!$A$1:$Q$3226,3,FALSE) -> 51778.122 | V15: =VLOOKUP($E15,[1]AllProteinsNorm!$A$1:$Q$3226,7,FALSE) -> 46959.748 | W15: =VLOOKUP($E15,[1]AllProteinsNorm!$A$1:$Q$3226,9,FALSE) -> 51716.471 | X15: =VLOOKUP($E15,[1]AllProteinsNorm!$A$1:$Q$3226,12,FALSE) -> 54320.643 | Y15: =VLOOKUP($E15,[1]AllProteinsNorm!$A$1:$Q$3226,14,FALSE) -> 65407.435 | Z15: =K15/AVERAGE($K15:$O15) -> 0.94593561 | AA15: =L15/AVERAGE($K15:$O15) -> 0.84178669 | AB15: =M15/AVERAGE($K15:$O15) -> 0.90218413 | AC15: =N15/AVERAGE($K15:$O15) -> 1.26401 | AD15: =O15/AVERAGE($K15:$O15) -> 1.0460836 | AE15: =P15/AVERAGE($K15:$O15) -> 0.23478691 | AF15: =Q15/AVERAGE($K15:$O15) -> 1.0194992 | AG15: =R15/AVERAGE($K15:$O15) -> 0.18091417 | ... AN15: =Y15/AVERAGE($K15:$O15) -> 1.1363036 | AO15: =_xlfn.STDEV.P(K15:O15) -> 8512.3962 | AP15: =_xlfn.STDEV.P(P15:T15) -> 20722.521 | AQ15: =_xlfn.STDEV.P(U15:Y15) -> 6163.4751 | AR15: Magnesium transporter NIPA1; Acts as a Mg(2+) transporter. Can also transport other divalent cations such as Fe(2+), Sr(2+), Ba(2+), Mn(2+) and Co(2+) but to a much less extent than Mg(2+); Belongs to the NIPA family
E16: Q3UMU9 | F16: Hdgfl2 | G16: 0.045174309 | H16: 0.40756381 | I16: =VLOOKUP(F16,'[1]SUSMB vs SHAM all proteins sum'!$B$2:$E$3214,2,FALSE) -> 0.9762599 | J16: =VLOOKUP(F16,'[1]SUSMB vs SHAM all proteins sum'!$B$2:$E$3214,3,FALSE) -> 0.99662917 | K16: =VLOOKUP($E16,[1]AllProteinsNorm!$A$1:$Q$3226,4,FALSE) -> 44961.973 | L16: =VLOOKUP($E16,[1]AllProteinsNorm!$A$1:$Q$3226,5,FALSE) -> 50655.9 | M16: =VLOOKUP($E16,[1]AllProteinsNorm!$A$1:$Q$3226,10,FALSE) -> 63260.052 | N16: =VLOOKUP($E16,[1]AllProteinsNorm!$A$1:$Q$3226,11,FALSE) -> 39863.697 | O16: =VLOOKUP($E16,[1]AllProteinsNorm!$A$1:$Q$3226,15,FALSE) -> 55265.595 | P16: =VLOOKUP($E16,[1]AllProteinsNorm!$A$1:$Q$3226,6,FALSE) -> 45770.815 | Q16: =VLOOKUP($E16,[1]AllProteinsNorm!$A$1:$Q$3226,8,FALSE) -> 11375.217 | R16: =VLOOKUP($E16,[1]AllProteinsNorm!$A$1:$Q$3226,13,FALSE) -> 7591.9822 | S16: =VLOOKUP($E16,[1]AllProteinsNorm!$A$1:$Q$3226,16,FALSE) -> 18538.41 | T16: =VLOOKUP($E16,[1]AllProteinsNorm!$A$1:$Q$3226,17,FALSE) -> 48712.386 | U16: =VLOOKUP($E16,[1]AllProteinsNorm!$A$1:$Q$3226,3,FALSE) -> 54038.765 | V16: =VLOOKUP($E16,[1]AllProteinsNorm!$A$1:$Q$3226,7,FALSE) -> 38995.562 | W16: =VLOOKUP($E16,[1]AllProteinsNorm!$A$1:$Q$3226,9,FALSE) -> 49479.071 | X16: =VLOOKUP($E16,[1]AllProteinsNorm!$A$1:$Q$3226,12,FALSE) -> 61798.53 | Y16: =VLOOKUP($E16,[1]AllProteinsNorm!$A$1:$Q$3226,14,FALSE) -> 48437.872 | Z16: =K16/AVERAGE($K16:$O16) -> 0.88505307 | AA16: =L16/AVERAGE($K16:$O16) -> 0.99713505 | AB16: =M16/AVERAGE($K16:$O16) -> 1.2452412 | AC16: =N16/AVERAGE($K16:$O16) -> 0.78469615 | AD16: =O16/AVERAGE($K16:$O16) -> 1.0878745 | AE16: =P16/AVERAGE($K16:$O16) -> 0.90097471 | AF16: =Q16/AVERAGE($K16:$O16) -> 0.22391523 | AG16: =R16/AVERAGE($K16:$O16) -> 0.14944422 | ... AN16: =Y16/AVERAGE($K16:$O16) -> 0.95347432 | AO16: =_xlfn.STDEV.P(K16:O16) -> 8110.4927 | AP16: =_xlfn.STDEV.P(P16:T16) -> 17403.225 | AQ16: =_xlfn.STDEV.P(U16:Y16) -> 7454.0447 | AR16: Hepatoma-derived growth factor-related protein 2; Involved in cellular growth control, through the regulation of cyclin D1 expression (By similarity). Associates with chromatin. Isoform 1 and isoform 3 bind to condensed chromatin in mitotic cells. Isoform 4 binds to non-condensed chromatin in the presence of HDGF
E17: Q9DBS5 | F17: Klc4 | G17: 0.017410575 | H17: 0.43239218 | I17: =VLOOKUP(F17,'[1]SUSMB vs SHAM all proteins sum'!$B$2:$E$3214,2,FALSE) -> 0.40087499 | J17: =VLOOKUP(F17,'[1]SUSMB vs SHAM all proteins sum'!$B$2:$E$3214,3,FALSE) -> 1.1400626 | K17: =VLOOKUP($E17,[1]AllProteinsNorm!$A$1:$Q$3226,4,FALSE) -> 99102.376 | L17: =VLOOKUP($E17,[1]AllProteinsNorm!$A$1:$Q$3226,5,FALSE) -> 131271.05 | M17: =VLOOKUP($E17,[1]AllProteinsNorm!$A$1:$Q$3226,10,FALSE) -> 126258.9 | N17: =VLOOKUP($E17,[1]AllProteinsNorm!$A$1:$Q$3226,11,FALSE) -> 136014.21 | O17: =VLOOKUP($E17,[1]AllProteinsNorm!$A$1:$Q$3226,15,FALSE) -> 117307.26 | P17: =VLOOKUP($E17,[1]AllProteinsNorm!$A$1:$Q$3226,6,FALSE) -> 22099.317 | Q17: =VLOOKUP($E17,[1]AllProteinsNorm!$A$1:$Q$3226,8,FALSE) -> 65215.797 | R17: =VLOOKUP($E17,[1]AllProteinsNorm!$A$1:$Q$3226,13,FALSE) -> 35018.401 | S17: =VLOOKUP($E17,[1]AllProteinsNorm!$A$1:$Q$3226,16,FALSE) -> 84071.904 | T17: =VLOOKUP($E17,[1]AllProteinsNorm!$A$1:$Q$3226,17,FALSE) -> 93354.331 | U17: =VLOOKUP($E17,[1]AllProteinsNorm!$A$1:$Q$3226,3,FALSE) -> 102293.39 | V17: =VLOOKUP($E17,[1]AllProteinsNorm!$A$1:$Q$3226,7,FALSE) -> 126552.33 | W17: =VLOOKUP($E17,[1]AllProteinsNorm!$A$1:$Q$3226,9,FALSE) -> 142260.78 | X17: =VLOOKUP($E17,[1]AllProteinsNorm!$A$1:$Q$3226,12,FALSE) -> 228799.22 | Y17: =VLOOKUP($E17,[1]AllProteinsNorm!$A$1:$Q$3226,14,FALSE) -> 119787.14 | Z17: =K17/AVERAGE($K17:$O17) -> 0.8123761 | AA17: =L17/AVERAGE($K17:$O17) -> 1.0760737 | AB17: =M17/AVERAGE($K17:$O17) -> 1.0349874 | AC17: =N17/AVERAGE($K17:$O17) -> 1.114955 | AD17: =O17/AVERAGE($K17:$O17) -> 0.96160774 | AE17: =P17/AVERAGE($K17:$O17) -> 0.18115567 | AF17: =Q17/AVERAGE($K17:$O17) -> 0.53459621 | AG17: =R17/AVERAGE($K17:$O17) -> 0.28705782 | ... AN17: =Y17/AVERAGE($K17:$O17) -> 0.98193619 | AO17: =_xlfn.STDEV.P(K17:O17) -> 13013.924 | AP17: =_xlfn.STDEV.P(P17:T17) -> 27494.374 | AQ17: =_xlfn.STDEV.P(U17:Y17) -> 44326.152 | AR17: Kinesin light chain 4; Kinesin is a microtubule-associated force-producing protein that may play a role in organelle transport. The light chain may function in coupling of cargo to the heavy chain or in the modulation of its ATPase activity (By similarity)
E18: Q8CHP5 | F18: Pym1 | G18: 0.022275669 | H18: 0.44973732 | I18: =VLOOKUP(F18,'[1]SUSMB vs SHAM all proteins sum'!$B$2:$E$3214,2,FALSE) -> 0.40817692 | J18: =VLOOKUP(F18,'[1]SUSMB vs SHAM all proteins sum'!$B$2:$E$3214,3,FALSE) -> 1.2436603 | K18: =VLOOKUP($E18,[1]AllProteinsNorm!$A$1:$Q$3226,4,FALSE) -> 12286.622 | L18: =VLOOKUP($E18,[1]AllProteinsNorm!$A$1:$Q$3226,5,FALSE) -> 28924.49 | M18: =VLOOKUP($E18,[1]AllProteinsNorm!$A$1:$Q$3226,10,FALSE) -> 19774.345 | N18: =VLOOKUP($E18,[1]AllProteinsNorm!$A$1:$Q$3226,11,FALSE) -> 18747.132 | O18: =VLOOKUP($E18,[1]AllProteinsNorm!$A$1:$Q$3226,15,FALSE) -> 34929.37 | P18: =VLOOKUP($E18,[1]AllProteinsNorm!$A$1:$Q$3226,6,FALSE) -> 11460.605 | Q18: =VLOOKUP($E18,[1]AllProteinsNorm!$A$1:$Q$3226,8,FALSE) -> 7562.4743 | R18: =VLOOKUP($E18,[1]AllProteinsNorm!$A$1:$Q$3226,13,FALSE) -> 17582.54 | S18: =VLOOKUP($E18,[1]AllProteinsNorm!$A$1:$Q$3226,16,FALSE) -> 4893.6642 | T18: =VLOOKUP($E18,[1]AllProteinsNorm!$A$1:$Q$3226,17,FALSE) -> 11353.593 | U18: =VLOOKUP($E18,[1]AllProteinsNorm!$A$1:$Q$3226,3,FALSE) -> 17021.263 | V18: =VLOOKUP($E18,[1]AllProteinsNorm!$A$1:$Q$3226,7,FALSE) -> 35909.057 | W18: =VLOOKUP($E18,[1]AllProteinsNorm!$A$1:$Q$3226,9,FALSE) -> 29227.783 | X18: =VLOOKUP($E18,[1]AllProteinsNorm!$A$1:$Q$3226,12,FALSE) -> 40369.477 | Y18: =VLOOKUP($E18,[1]AllProteinsNorm!$A$1:$Q$3226,14,FALSE) -> 18984.096 | Z18: =K18/AVERAGE($K18:$O18) -> 0.53577587 | AA18: =L18/AVERAGE($K18:$O18) -> 1.2612941 | AB18: =M18/AVERAGE($K18:$O18) -> 0.86228882 | AC18: =N18/AVERAGE($K18:$O18) -> 0.81749572 | AD18: =O18/AVERAGE($K18:$O18) -> 1.5231455 | AE18: =P18/AVERAGE($K18:$O18) -> 0.49975621 | AF18: =Q18/AVERAGE($K18:$O18) -> 0.32977259 | AG18: =R18/AVERAGE($K18:$O18) -> 0.766712 | ... AN18: =Y18/AVERAGE($K18:$O18) -> 0.82782887 | AO18: =_xlfn.STDEV.P(K18:O18) -> 8008.1808 | AP18: =_xlfn.STDEV.P(P18:T18) -> 4285.9984 | AQ18: =_xlfn.STDEV.P(U18:Y18) -> 9147.9698 | AR18: Partner of Y14 and mago; Key regulator of the exon junction complex (EJC), a multiprotein complex that associates immediately upstream of the exon-exon junction on mRNAs and serves as a positional landmark for the intron exon structure of genes and directs post- transcriptional processes in the cytoplasm such as mRNA export, nonsense-mediated mRNA decay (NMD) or translation. Acts as an EJC disassembly factor, allowing translation-dependent EJC removal and recycling by disrupting mature EJC from spliced mRNAs. Its association with the 40S ribosomal subunit probably prevents a translation
E19: Q8CBF3 | F19: Ephb1 | G19: 0.027393565 | H19: 0.48335502 | I19: =VLOOKUP(F19,'[1]SUSMB vs SHAM all proteins sum'!$B$2:$E$3214,2,FALSE) -> 0.72657633 | J19: =VLOOKUP(F19,'[1]SUSMB vs SHAM all proteins sum'!$B$2:$E$3214,3,FALSE) -> 0.83936002 | K19: =VLOOKUP($E19,[1]AllProteinsNorm!$A$1:$Q$3226,4,FALSE) -> 28850.014 | L19: =VLOOKUP($E19,[1]AllProteinsNorm!$A$1:$Q$3226,5,FALSE) -> 33419.103 | M19: =VLOOKUP($E19,[1]AllProteinsNorm!$A$1:$Q$3226,10,FALSE) -> 26723.444 | N19: =VLOOKUP($E19,[1]AllProteinsNorm!$A$1:$Q$3226,11,FALSE) -> 31786.759 | O19: =VLOOKUP($E19,[1]AllProteinsNorm!$A$1:$Q$3226,15,FALSE) -> 30529.644 | P19: =VLOOKUP($E19,[1]AllProteinsNorm!$A$1:$Q$3226,6,FALSE) -> 13081.705 | Q19: =VLOOKUP($E19,[1]AllProteinsNorm!$A$1:$Q$3226,8,FALSE) -> 17129.618 | R19: =VLOOKUP($E19,[1]AllProteinsNorm!$A$1:$Q$3226,13,FALSE) -> 35671.861 | S19: =VLOOKUP($E19,[1]AllProteinsNorm!$A$1:$Q$3226,16,FALSE) -> 6957.5866 | T19: =VLOOKUP($E19,[1]AllProteinsNorm!$A$1:$Q$3226,17,FALSE) -> 11861.401 | U19: 3279.5533 | V19: =VLOOKUP($E19,[1]AllProteinsNorm!$A$1:$Q$3226,7,FALSE) -> 3830.8663 | W19: =VLOOKUP($E19,[1]AllProteinsNorm!$A$1:$Q$3226,9,FALSE) -> 44347.026 | X19: =VLOOKUP($E19,[1]AllProteinsNorm!$A$1:$Q$3226,12,FALSE) -> 37286.202 | Y19: =VLOOKUP($E19,[1]AllProteinsNorm!$A$1:$Q$3226,14,FALSE) -> 54310.465 | Z19: =K19/AVERAGE($K19:$O19) -> 0.95334781 | AA19: =L19/AVERAGE($K19:$O19) -> 1.1043332 | AB19: =M19/AVERAGE($K19:$O19) -> 0.88307538 | AC19: =N19/AVERAGE($K19:$O19) -> 1.0503925 | AD19: =O19/AVERAGE($K19:$O19) -> 1.0088511 | AE19: =P19/AVERAGE($K19:$O19) -> 0.43228454 | AF19: =Q19/AVERAGE($K19:$O19) -> 0.56604769 | AG19: =R19/AVERAGE($K19:$O19) -> 1.1787755 | ... AN19: =Y19/AVERAGE($K19:$O19) -> 1.7946876 | AO19: =_xlfn.STDEV.P(K19:O19) -> 2318.5729 | AP19: =_xlfn.STDEV.P(P19:T19) -> 9912.071 | AQ19: =_xlfn.STDEV.P(U19:Y19) -> 21161.67 | AR19: Ephrin type-B receptor 1; Receptor tyrosine kinase which binds promiscuously transmembrane ephrin-B family ligands residing on adjacent cells, leading to contact-dependent bidirectional signaling into neighboring cells. The signaling pathway downstream of the receptor is referred to as forward signaling while the signaling pathway downstream of the ephrin ligand is referred to as reverse signaling. Cognate/functional ephrin ligands for this receptor include EFNB1, EFNB2 and EFNB3. During nervous system development, regulates retinal axon guidance redirecting
E20: P63248 | F20: Pkia | G20: 0.012537678 | H20: 0.49415997 | I20: =VLOOKUP(F20,'[1]SUSMB vs SHAM all proteins sum'!$B$2:$E$3214,2,FALSE) -> 0.039424878 | J20: =VLOOKUP(F20,'[1]SUSMB vs SHAM all proteins sum'!$B$2:$E$3214,3,FALSE) -> 0.59194908 | K20: =VLOOKUP($E20,[1]AllProteinsNorm!$A$1:$Q$3226,4,FALSE) -> 23087.487 | L20: =VLOOKUP($E20,[1]AllProteinsNorm!$A$1:$Q$3226,5,FALSE) -> 17289.354 | M20: =VLOOKUP($E20,[1]AllProteinsNorm!$A$1:$Q$3226,10,FALSE) -> 27639.732 | N20: =VLOOKUP($E20,[1]AllProteinsNorm!$A$1:$Q$3226,11,FALSE) -> 26327.46 | O20: =VLOOKUP($E20,[1]AllProteinsNorm!$A$1:$Q$3226,15,FALSE) -> 34941.98 | P20: =VLOOKUP($E20,[1]AllProteinsNorm!$A$1:$Q$3226,6,FALSE) -> 16368.606 | Q20: =VLOOKUP($E20,[1]AllProteinsNorm!$A$1:$Q$3226,8,FALSE) -> 18536.877 | R20: =VLOOKUP($E20,[1]AllProteinsNorm!$A$1:$Q$3226,13,FALSE) -> 9323.7287 | S20: =VLOOKUP($E20,[1]AllProteinsNorm!$A$1:$Q$3226,16,FALSE) -> 6931.1716 | T20: =VLOOKUP($E20,[1]AllProteinsNorm!$A$1:$Q$3226,17,FALSE) -> 15252.428 | U20: =VLOOKUP($E20,[1]AllProteinsNorm!$A$1:$Q$3226,3,FALSE) -> 15439.953 | V20: =VLOOKUP($E20,[1]AllProteinsNorm!$A$1:$Q$3226,7,FALSE) -> 16756.26 | W20: =VLOOKUP($E20,[1]AllProteinsNorm!$A$1:$Q$3226,9,FALSE) -> 24598.947 | X20: =VLOOKUP($E20,[1]AllProteinsNorm!$A$1:$Q$3226,12,FALSE) -> 14353.749 | Y20: =VLOOKUP($E20,[1]AllProteinsNorm!$A$1:$Q$3226,14,FALSE) -> 8075.3715 | Z20: =K20/AVERAGE($K20:$O20) -> 0.89288417 | AA20: =L20/AVERAGE($K20:$O20) -> 0.66864751 | AB20: =M20/AVERAGE($K20:$O20) -> 1.0689374 | AC20: =N20/AVERAGE($K20:$O20) -> 1.0181867 | AD20: =O20/AVERAGE($K20:$O20) -> 1.3513442 | AE20: =P20/AVERAGE($K20:$O20) -> 0.63303854 | AF20: =Q20/AVERAGE($K20:$O20) -> 0.71689414 | AG20: =R20/AVERAGE($K20:$O20) -> 0.36058536 | ... AN20: =Y20/AVERAGE($K20:$O20) -> 0.31230647 | AO20: =_xlfn.STDEV.P(K20:O20) -> 5779.465 | AP20: =_xlfn.STDEV.P(P20:T20) -> 4405.0967 | AQ20: =_xlfn.STDEV.P(U20:Y20) -> 5295.6021 | AR20: cAMP-dependent protein kinase inhibitor alpha; Extremely potent competitive inhibitor of cAMP-dependent protein kinase activity, this protein interacts with the catalytic subunit of the enzyme after the cAMP-induced dissociation of its regulatory chains; Belongs to the PKI family
E21: Q8K274 | F21: Fn3krp | G21: 0.023767635 | H21: 0.51548292 | I21: =VLOOKUP(F21,'[1]SUSMB vs SHAM all proteins sum'!$B$2:$E$3214,2,FALSE) -> 0.013487332 | J21: =VLOOKUP(F21,'[1]SUSMB vs SHAM all proteins sum'!$B$2:$E$3214,3,FALSE) -> 0.3017856 | K21: =VLOOKUP($E21,[1]AllProteinsNorm!$A$1:$Q$3226,4,FALSE) -> 18625.072 | L21: =VLOOKUP($E21,[1]AllProteinsNorm!$A$1:$Q$3226,5,FALSE) -> 20646.198 | M21: =VLOOKUP($E21,[1]AllProteinsNorm!$A$1:$Q$3226,10,FALSE) -> 12665.797 | N21: =VLOOKUP($E21,[1]AllProteinsNorm!$A$1:$Q$3226,11,FALSE) -> 8257.9944 | O21: =VLOOKUP($E21,[1]AllProteinsNorm!$A$1:$Q$3226,15,FALSE) -> 23286.01 | P21: =VLOOKUP($E21,[1]AllProteinsNorm!$A$1:$Q$3226,6,FALSE) -> 9210.3821 | Q21: =VLOOKUP($E21,[1]AllProteinsNorm!$A$1:$Q$3226,8,FALSE) -> 5260.5359 | R21: =VLOOKUP($E21,[1]AllProteinsNorm!$A$1:$Q$3226,13,FALSE) -> 8006.7838 | S21: =VLOOKUP($E21,[1]AllProteinsNorm!$A$1:$Q$3226,16,FALSE) -> 7009.7335 | T21: =VLOOKUP($E21,[1]AllProteinsNorm!$A$1:$Q$3226,17,FALSE) -> 12535.579 | U21: =VLOOKUP($E21,[1]AllProteinsNorm!$A$1:$Q$3226,3,FALSE) -> 5461.7764 | V21: =VLOOKUP($E21,[1]AllProteinsNorm!$A$1:$Q$3226,7,FALSE) -> 5154.2157 | W21: =VLOOKUP($E21,[1]AllProteinsNorm!$A$1:$Q$3226,9,FALSE) -> 2171.4255 | X21: =VLOOKUP($E21,[1]AllProteinsNorm!$A$1:$Q$3226,12,FALSE) -> 14234.046 | Y21: =VLOOKUP($E21,[1]AllProteinsNorm!$A$1:$Q$3226,14,FALSE) -> 2694.4056 | Z21: =K21/AVERAGE($K21:$O21) -> 1.1155267 | AA21: =L21/AVERAGE($K21:$O21) -> 1.2365796 | AB21: =M21/AVERAGE($K21:$O21) -> 0.75860291 | AC21: =N21/AVERAGE($K21:$O21) -> 0.4946028 | AD21: =O21/AVERAGE($K21:$O21) -> 1.394688 | AE21: =P21/AVERAGE($K21:$O21) -> 0.55164494 | AF21: =Q21/AVERAGE($K21:$O21) -> 0.31507357 | AG21: =R21/AVERAGE($K21:$O21) -> 0.47955684 | ... AN21: =Y21/AVERAGE($K21:$O21) -> 0.16137824 | AO21: =_xlfn.STDEV.P(K21:O21) -> 5480.8047 | AP21: =_xlfn.STDEV.P(P21:T21) -> 2437.3477 | AQ21: =_xlfn.STDEV.P(U21:Y21) -> 4344.4986 | AR21: Ketosamine-3-kinase; Phosphorylates psicosamines and ribulosamines, but not fructosamines, on the third carbon of the sugar moiety. Protein- bound psicosamine 3-phosphates and ribulosamine 3-phosphates are unstable and decompose under physiological conditions. Thus phosphorylation leads to deglycation
E22: P58774 | F22: Tpm2 | G22: 0.021495128 | H22: 0.52566605 | I22: =VLOOKUP(F22,'[1]SUSMB vs SHAM all proteins sum'!$B$2:$E$3214,2,FALSE) -> 0.93904651 | J22: =VLOOKUP(F22,'[1]SUSMB vs SHAM all proteins sum'!$B$2:$E$3214,3,FALSE) -> 0.97598157 | K22: =VLOOKUP($E22,[1]AllProteinsNorm!$A$1:$Q$3226,4,FALSE) -> 67773.855 | L22: =VLOOKUP($E22,[1]AllProteinsNorm!$A$1:$Q$3226,5,FALSE) -> 79135.935 | M22: =VLOOKUP($E22,[1]AllProteinsNorm!$A$1:$Q$3226,10,FALSE) -> 118464.05 | N22: =VLOOKUP($E22,[1]AllProteinsNorm!$A$1:$Q$3226,11,FALSE) -> 97458.73 | O22: =VLOOKUP($E22,[1]AllProteinsNorm!$A$1:$Q$3226,15,FALSE) -> 83911.954 | P22: =VLOOKUP($E22,[1]AllProteinsNorm!$A$1:$Q$3226,6,FALSE) -> 38862.973 | Q22: =VLOOKUP($E22,[1]AllProteinsNorm!$A$1:$Q$3226,8,FALSE) -> 22529.014 | R22: =VLOOKUP($E22,[1]AllProteinsNorm!$A$1:$Q$3226,13,FALSE) -> 57010.868 | S22: =VLOOKUP($E22,[1]AllProteinsNorm!$A$1:$Q$3226,16,FALSE) -> 58100.736 | T22: =VLOOKUP($E22,[1]AllProteinsNorm!$A$1:$Q$3226,17,FALSE) -> 71911.647 | U22: =VLOOKUP($E22,[1]AllProteinsNorm!$A$1:$Q$3226,3,FALSE) -> 117159.77 | V22: =VLOOKUP($E22,[1]AllProteinsNorm!$A$1:$Q$3226,7,FALSE) -> 28475.022 | W22: =VLOOKUP($E22,[1]AllProteinsNorm!$A$1:$Q$3226,9,FALSE) -> 88280.647 | X22: =VLOOKUP($E22,[1]AllProteinsNorm!$A$1:$Q$3226,12,FALSE) -> 159793.3 | Y22: =VLOOKUP($E22,[1]AllProteinsNorm!$A$1:$Q$3226,14,FALSE) -> 97770.652 | Z22: =K22/AVERAGE($K22:$O22) -> 0.75853034 | AA22: =L22/AVERAGE($K22:$O22) -> 0.88569564 | AB22: =M22/AVERAGE($K22:$O22) -> 1.325859 | AC22: =N22/AVERAGE($K22:$O22) -> 1.0907658 | AD22: =O22/AVERAGE($K22:$O22) -> 0.93914922 | AE22: =P22/AVERAGE($K22:$O22) -> 0.43495747 | AF22: =Q22/AVERAGE($K22:$O22) -> 0.25214651 | AG22: =R22/AVERAGE($K22:$O22) -> 0.63807014 | ... AN22: =Y22/AVERAGE($K22:$O22) -> 1.0942569 | AO22: =_xlfn.STDEV.P(K22:O22) -> 17394.302 | AP22: =_xlfn.STDEV.P(P22:T22) -> 17164.385 | AQ22: =_xlfn.STDEV.P(U22:Y22) -> 42692.65 | AR22: Tropomyosin beta chain; Binds to actin filaments in muscle and non-muscle cells. Plays a central role, in association with the troponin complex, in the calcium dependent regulation of vertebrate striated muscle contraction. Smooth muscle contraction is regulated by interaction with caldesmon. In non-muscle cells is implicated in stabilizing cytoskeleton actin filaments. The non-muscle isoform may have a role in agonist-mediated receptor internalization; Belongs to the tropomyosin family
E23: Q0VGU4 | F23: Vgf | G23: 0.024768394 | H23: 0.52817009 | I23: =VLOOKUP(F23,'[1]SUSMB vs SHAM all proteins sum'!$B$2:$E$3214,2,FALSE) -> 0.019571444 | J23: =VLOOKUP(F23,'[1]SUSMB vs SHAM all proteins sum'!$B$2:$E$3214,3,FALSE) -> 0.77968202 | K23: =VLOOKUP($E23,[1]AllProteinsNorm!$A$1:$Q$3226,4,FALSE) -> 437726.64 | L23: =VLOOKUP($E23,[1]AllProteinsNorm!$A$1:$Q$3226,5,FALSE) -> 420508.89 | M23: =VLOOKUP($E23,[1]AllProteinsNorm!$A$1:$Q$3226,10,FALSE) -> 548795.91 | N23: =VLOOKUP($E23,[1]AllProteinsNorm!$A$1:$Q$3226,11,FALSE) -> 498350.72 | O23: =VLOOKUP($E23,[1]AllProteinsNorm!$A$1:$Q$3226,15,FALSE) -> 464425.77 | P23: =VLOOKUP($E23,[1]AllProteinsNorm!$A$1:$Q$3226,6,FALSE) -> 420498.61 | Q23: =VLOOKUP($E23,[1]AllProteinsNorm!$A$1:$Q$3226,8,FALSE) -> 324939.85 | R23: =VLOOKUP($E23,[1]AllProteinsNorm!$A$1:$Q$3226,13,FALSE) -> 235791.94 | S23: =VLOOKUP($E23,[1]AllProteinsNorm!$A$1:$Q$3226,16,FALSE) -> 109777.29 | T23: =VLOOKUP($E23,[1]AllProteinsNorm!$A$1:$Q$3226,17,FALSE) -> 271706.75 | U23: =VLOOKUP($E23,[1]AllProteinsNorm!$A$1:$Q$3226,3,FALSE) -> 403938.33 | V23: =VLOOKUP($E23,[1]AllProteinsNorm!$A$1:$Q$3226,7,FALSE) -> 410589.18 | W23: =VLOOKUP($E23,[1]AllProteinsNorm!$A$1:$Q$3226,9,FALSE) -> 355487.6 | X23: =VLOOKUP($E23,[1]AllProteinsNorm!$A$1:$Q$3226,12,FALSE) -> 404762.17 | Y23: =VLOOKUP($E23,[1]AllProteinsNorm!$A$1:$Q$3226,14,FALSE) -> 282280.64 | Z23: =K23/AVERAGE($K23:$O23) -> 0.92354878 | AA23: =L23/AVERAGE($K23:$O23) -> 0.88722146 | AB23: =M23/AVERAGE($K23:$O23) -> 1.1578911 | AC23: =N23/AVERAGE($K23:$O23) -> 1.051458 | AD23: =O23/AVERAGE($K23:$O23) -> 0.97988062 | AE23: =P23/AVERAGE($K23:$O23) -> 0.88719976 | AF23: =Q23/AVERAGE($K23:$O23) -> 0.68558268 | AG23: =R23/AVERAGE($K23:$O23) -> 0.49749168 | ... AN23: =Y23/AVERAGE($K23:$O23) -> 0.59557705 | AO23: =_xlfn.STDEV.P(K23:O23) -> 45729.857 | AP23: =_xlfn.STDEV.P(P23:T23) -> 102450.29 | AQ23: =_xlfn.STDEV.P(U23:Y23) -> 48791.46 | AR23: VGF nerve growth factor inducible
E24: Q3TIR3 | F24: Ric8a | G24: 0.045510206 | H24: 0.53183547 | I24: =VLOOKUP(F24,'[1]SUSMB vs SHAM all proteins sum'!$B$2:$E$3214,2,FALSE) -> 0.59903704 | J24: =VLOOKUP(F24,'[1]SUSMB vs SHAM all proteins sum'!$B$2:$E$3214,3,FALSE) -> 0.88178158 | K24: =VLOOKUP($E24,[1]AllProteinsNorm!$A$1:$Q$3226,4,FALSE) -> 164262.4 | L24: =VLOOKUP($E24,[1]AllProteinsNorm!$A$1:$Q$3226,5,FALSE) -> 186128.41 | M24: =VLOOKUP($E24,[1]AllProteinsNorm!$A$1:$Q$3226,10,FALSE) -> 211517.25 | N24: =VLOOKUP($E24,[1]AllProteinsNorm!$A$1:$Q$3226,11,FALSE) -> 213541.56 | O24: =VLOOKUP($E24,[1]AllProteinsNorm!$A$1:$Q$3226,15,FALSE) -> 225577.48 | P24: =VLOOKUP($E24,[1]AllProteinsNorm!$A$1:$Q$3226,6,FALSE) -> 65901.678 | Q24: =VLOOKUP($E24,[1]AllProteinsNorm!$A$1:$Q$3226,8,FALSE) -> 67285.265 | R24: =VLOOKUP($E24,[1]AllProteinsNorm!$A$1:$Q$3226,13,FALSE) -> 201412.92 | S24: =VLOOKUP($E24,[1]AllProteinsNorm!$A$1:$Q$3226,16,FALSE) -> 198345.25 | T24: =VLOOKUP($E24,[1]AllProteinsNorm!$A$1:$Q$3226,17,FALSE) -> 74823.094 | U24: =VLOOKUP($E24,[1]AllProteinsNorm!$A$1:$Q$3226,3,FALSE) -> 72152.027 | V24: =VLOOKUP($E24,[1]AllProteinsNorm!$A$1:$Q$3226,7,FALSE) -> 217633.13 | W24: =VLOOKUP($E24,[1]AllProteinsNorm!$A$1:$Q$3226,9,FALSE) -> 216181.75 | X24: =VLOOKUP($E24,[1]AllProteinsNorm!$A$1:$Q$3226,12,FALSE) -> 231174.44 | Y24: =VLOOKUP($E24,[1]AllProteinsNorm!$A$1:$Q$3226,14,FALSE) -> 211615.5 | Z24: =K24/AVERAGE($K24:$O24) -> 0.8204693 | AA24: =L24/AVERAGE($K24:$O24) -> 0.92968717 | AB24: =M24/AVERAGE($K24:$O24) -> 1.0565011 | AC24: =N24/AVERAGE($K24:$O24) -> 1.0666123 | AD24: =O24/AVERAGE($K24:$O24) -> 1.1267301 | AE24: =P24/AVERAGE($K24:$O24) -> 0.3291703 | AF24: =Q24/AVERAGE($K24:$O24) -> 0.33608114 | AG24: =R24/AVERAGE($K24:$O24) -> 1.0060313 | ... AN24: =Y24/AVERAGE($K24:$O24) -> 1.0569919 | AO24: =_xlfn.STDEV.P(K24:O24) -> 22088.976 | AP24: =_xlfn.STDEV.P(P24:T24) -> 64031.864 | AQ24: =_xlfn.STDEV.P(U24:Y24) -> 59159.909 | AR24: Synembryn-A; Guanine nucleotide exchange factor (GEF), which can activate some, but not all, G-alpha proteins. Able to activate GNAI1, GNAO1 and GNAQ, but not GNAS by exchanging bound GDP for free GTP. Involved in regulation of microtubule pulling forces during mitotic movement of chromosomes by stimulating G(i)-alpha protein, possibly leading to release G(i)-alpha-GTP and NuMA proteins from the NuMA-GPSM2-G(i)-alpha-GDP complex. Also acts as an activator for G(q)-alpha (GNAQ) protein by enhancing the G(q)- coupled receptor-mediated ERK activation (By similarity)
E25: Q922H4 | F25: Gmppa | G25: 0.01246133 | H25: 0.53391114 | I25: =VLOOKUP(F25,'[1]SUSMB vs SHAM all proteins sum'!$B$2:$E$3214,2,FALSE) -> 0.16579942 | J25: =VLOOKUP(F25,'[1]SUSMB vs SHAM all proteins sum'!$B$2:$E$3214,3,FALSE) -> 0.77084682 | K25: =VLOOKUP($E25,[1]AllProteinsNorm!$A$1:$Q$3226,4,FALSE) -> 68982.042 | L25: =VLOOKUP($E25,[1]AllProteinsNorm!$A$1:$Q$3226,5,FALSE) -> 46928.136 | M25: =VLOOKUP($E25,[1]AllProteinsNorm!$A$1:$Q$3226,10,FALSE) -> 50421.17 | N25: =VLOOKUP($E25,[1]AllProteinsNorm!$A$1:$Q$3226,11,FALSE) -> 83349.379 | O25: =VLOOKUP($E25,[1]AllProteinsNorm!$A$1:$Q$3226,15,FALSE) -> 62002.398 | P25: =VLOOKUP($E25,[1]AllProteinsNorm!$A$1:$Q$3226,6,FALSE) -> 39679.009 | Q25: =VLOOKUP($E25,[1]AllProteinsNorm!$A$1:$Q$3226,8,FALSE) -> 17821.296 | R25: =VLOOKUP($E25,[1]AllProteinsNorm!$A$1:$Q$3226,13,FALSE) -> 43608.941 | S25: =VLOOKUP($E25,[1]AllProteinsNorm!$A$1:$Q$3226,16,FALSE) -> 40559.548 | T25: =VLOOKUP($E25,[1]AllProteinsNorm!$A$1:$Q$3226,17,FALSE) -> 29259.659 | U25: =VLOOKUP($E25,[1]AllProteinsNorm!$A$1:$Q$3226,3,FALSE) -> 61934.748 | V25: =VLOOKUP($E25,[1]AllProteinsNorm!$A$1:$Q$3226,7,FALSE) -> 60964.577 | W25: =VLOOKUP($E25,[1]AllProteinsNorm!$A$1:$Q$3226,9,FALSE) -> 52495.238 | X25: =VLOOKUP($E25,[1]AllProteinsNorm!$A$1:$Q$3226,12,FALSE) -> 34440.027 | Y25: =VLOOKUP($E25,[1]AllProteinsNorm!$A$1:$Q$3226,14,FALSE) -> 33630.879 | Z25: =K25/AVERAGE($K25:$O25) -> 1.1066053 | AA25: =L25/AVERAGE($K25:$O25) -> 0.75281804 | AB25: =M25/AVERAGE($K25:$O25) -> 0.80885306 | AC25: =N25/AVERAGE($K25:$O25) -> 1.3370852 | AD25: =O25/AVERAGE($K25:$O25) -> 0.99463836 | AE25: =P25/AVERAGE($K25:$O25) -> 0.63652802 | AF25: =Q25/AVERAGE($K25:$O25) -> 0.28588805 | AG25: =R25/AVERAGE($K25:$O25) -> 0.69957174 | ... AN25: =Y25/AVERAGE($K25:$O25) -> 0.53950433 | AO25: =_xlfn.STDEV.P(K25:O25) -> 13154.533 | AP25: =_xlfn.STDEV.P(P25:T25) -> 9504.309 | AQ25: =_xlfn.STDEV.P(U25:Y25) -> 12412.955 | AR25: Mannose-1-phosphate guanyltransferase alpha; May serve as a regulatory subunit and allow allosteric feedback inhibition of GMPPB by GDP-mannose; Belongs to the transferase hexapeptide repeat family
E26: Q91WK2 | F26: Eif3h | G26: 0.037047746 | H26: 0.5441735 | I26: =VLOOKUP(F26,'[1]SUSMB vs SHAM all proteins sum'!$B$2:$E$3214,2,FALSE) -> 0.23261276 | J26: =VLOOKUP(F26,'[1]SUSMB vs SHAM all proteins sum'!$B$2:$E$3214,3,FALSE) -> 0.82030188 | K26: =VLOOKUP($E26,[1]AllProteinsNorm!$A$1:$Q$3226,4,FALSE) -> 23433.143 | L26: =VLOOKUP($E26,[1]AllProteinsNorm!$A$1:$Q$3226,5,FALSE) -> 20245.324 | M26: =VLOOKUP($E26,[1]AllProteinsNorm!$A$1:$Q$3226,10,FALSE) -> 22901.405 | N26: =VLOOKUP($E26,[1]AllProteinsNorm!$A$1:$Q$3226,11,FALSE) -> 25904.021 | O26: =VLOOKUP($E26,[1]AllProteinsNorm!$A$1:$Q$3226,15,FALSE) -> 24730.089 | P26: =VLOOKUP($E26,[1]AllProteinsNorm!$A$1:$Q$3226,6,FALSE) -> 20384.412 | Q26: =VLOOKUP($E26,[1]AllProteinsNorm!$A$1:$Q$3226,8,FALSE) -> 6074.4086 | R26: =VLOOKUP($E26,[1]AllProteinsNorm!$A$1:$Q$3226,13,FALSE) -> 8854.5396 | S26: =VLOOKUP($E26,[1]AllProteinsNorm!$A$1:$Q$3226,16,FALSE) -> 20551.032 | T26: =VLOOKUP($E26,[1]AllProteinsNorm!$A$1:$Q$3226,17,FALSE) -> 14739.93 | U26: =VLOOKUP($E26,[1]AllProteinsNorm!$A$1:$Q$3226,3,FALSE) -> 12817.705 | V26: =VLOOKUP($E26,[1]AllProteinsNorm!$A$1:$Q$3226,7,FALSE) -> 14468.491 | W26: =VLOOKUP($E26,[1]AllProteinsNorm!$A$1:$Q$3226,9,FALSE) -> 27457.753 | X26: =VLOOKUP($E26,[1]AllProteinsNorm!$A$1:$Q$3226,12,FALSE) -> 20773.202 | Y26: =VLOOKUP($E26,[1]AllProteinsNorm!$A$1:$Q$3226,14,FALSE) -> 24438.629 | Z26: =K26/AVERAGE($K26:$O26) -> 0.99958821 | AA26: =L26/AVERAGE($K26:$O26) -> 0.86360533 | AB26: =M26/AVERAGE($K26:$O26) -> 0.97690587 | AC26: =N26/AVERAGE($K26:$O26) -> 1.1049885 | AD26: =O26/AVERAGE($K26:$O26) -> 1.0549121 | AE26: =P26/AVERAGE($K26:$O26) -> 0.86953841 | AF26: =Q26/AVERAGE($K26:$O26) -> 0.25911621 | AG26: =R26/AVERAGE($K26:$O26) -> 0.37770834 | ... AN26: =Y26/AVERAGE($K26:$O26) -> 1.0424793 | AO26: =_xlfn.STDEV.P(K26:O26) -> 1909.5432 | AP26: =_xlfn.STDEV.P(P26:T26) -> 5889.685 | AQ26: =_xlfn.STDEV.P(U26:Y26) -> 5623.165 | AR26: Eukaryotic translation initiation factor 3 subunit H; Component of the eukaryotic translation initiation factor 3 (eIF-3) complex, which is required for several steps in the initiation of protein synthesis. The eIF-3 complex associates with the 40S ribosome and facilitates the recruitment of eIF-1, eIF-1A, eIF-2:GTP:methionyl-tRNAi and eIF-5 to form the 43S pre- initiation complex (43S PIC). The eIF-3 complex stimulates mRNA recruitment to the 43S PIC and scanning of the mRNA for AUG recognition. The eIF-3 complex is also required for disassembly and recycling of post-termination ribosomes
E27: Q6W8Q3 | F27: Pcp4l1 | G27: 0.0052989217 | H27: 0.54470998 | I27: =VLOOKUP(F27,'[1]SUSMB vs SHAM all proteins sum'!$B$2:$E$3214,2,FALSE) -> 0.034101551 | J27: =VLOOKUP(F27,'[1]SUSMB vs SHAM all proteins sum'!$B$2:$E$3214,3,FALSE) -> 0.69955641 | K27: =VLOOKUP($E27,[1]AllProteinsNorm!$A$1:$Q$3226,4,FALSE) -> 79400.553 | L27: =VLOOKUP($E27,[1]AllProteinsNorm!$A$1:$Q$3226,5,FALSE) -> 71015.13 | M27: =VLOOKUP($E27,[1]AllProteinsNorm!$A$1:$Q$3226,10,FALSE) -> 67273.299 | N27: =VLOOKUP($E27,[1]AllProteinsNorm!$A$1:$Q$3226,11,FALSE) -> 66263.191 | O27: =VLOOKUP($E27,[1]AllProteinsNorm!$A$1:$Q$3226,15,FALSE) -> 77689.023 | P27: =VLOOKUP($E27,[1]AllProteinsNorm!$A$1:$Q$3226,6,FALSE) -> 52344.757 | Q27: =VLOOKUP($E27,[1]AllProteinsNorm!$A$1:$Q$3226,8,FALSE) -> 37584.786 | R27: =VLOOKUP($E27,[1]AllProteinsNorm!$A$1:$Q$3226,13,FALSE) -> 54967.855 | S27: =VLOOKUP($E27,[1]AllProteinsNorm!$A$1:$Q$3226,16,FALSE) -> 37679.356 | T27: =VLOOKUP($E27,[1]AllProteinsNorm!$A$1:$Q$3226,17,FALSE) -> 22981.495 | U27: =VLOOKUP($E27,[1]AllProteinsNorm!$A$1:$Q$3226,3,FALSE) -> 48753.953 | V27: =VLOOKUP($E27,[1]AllProteinsNorm!$A$1:$Q$3226,7,FALSE) -> 40203.646 | W27: =VLOOKUP($E27,[1]AllProteinsNorm!$A$1:$Q$3226,9,FALSE) -> 59658.229 | X27: =VLOOKUP($E27,[1]AllProteinsNorm!$A$1:$Q$3226,12,FALSE) -> 36385.739 | Y27: =VLOOKUP($E27,[1]AllProteinsNorm!$A$1:$Q$3226,14,FALSE) -> 76892.861 | Z27: =K27/AVERAGE($K27:$O27) -> 1.0977808 | AA27: =L27/AVERAGE($K27:$O27) -> 0.98184514 | AB27: =M27/AVERAGE($K27:$O27) -> 0.93011111 | AC27: =N27/AVERAGE($K27:$O27) -> 0.9161455 | AD27: =O27/AVERAGE($K27:$O27) -> 1.0741174 | AE27: =P27/AVERAGE($K27:$O27) -> 0.7237112 | AF27: =Q27/AVERAGE($K27:$O27) -> 0.51964194 | AG27: =R27/AVERAGE($K27:$O27) -> 0.75997779 | ... AN27: =Y27/AVERAGE($K27:$O27) -> 1.0631098 | AO27: =_xlfn.STDEV.P(K27:O27) -> 5344.4759 | AP27: =_xlfn.STDEV.P(P27:T27) -> 11585.327 | AQ27: =_xlfn.STDEV.P(U27:Y27) -> 14636.128 | AR27: Purkinje cell protein 4-like 1; Belongs to the PCP4 family
E28: P56812 | F28: Pdcd5 | G28: 0.048128698 | H28: 0.58587463 | I28: =VLOOKUP(F28,'[1]SUSMB vs SHAM all proteins sum'!$B$2:$E$3214,2,FALSE) -> 0.029304573 | J28: =VLOOKUP(F28,'[1]SUSMB vs SHAM all proteins sum'!$B$2:$E$3214,3,FALSE) -> 0.74715988 | K28: =VLOOKUP($E28,[1]AllProteinsNorm!$A$1:$Q$3226,4,FALSE) -> 223860.15 | L28: =VLOOKUP($E28,[1]AllProteinsNorm!$A$1:$Q$3226,5,FALSE) -> 159881 | M28: =VLOOKUP($E28,[1]AllProteinsNorm!$A$1:$Q$3226,10,FALSE) -> 168850.8 | N28: =VLOOKUP($E28,[1]AllProteinsNorm!$A$1:$Q$3226,11,FALSE) -> 174481.56 | O28: =VLOOKUP($E28,[1]AllProteinsNorm!$A$1:$Q$3226,15,FALSE) -> 181416.14 | P28: =VLOOKUP($E28,[1]AllProteinsNorm!$A$1:$Q$3226,6,FALSE) -> 172297.02 | Q28: =VLOOKUP($E28,[1]AllProteinsNorm!$A$1:$Q$3226,8,FALSE) -> 121134.25 | R28: =VLOOKUP($E28,[1]AllProteinsNorm!$A$1:$Q$3226,13,FALSE) -> 56121.666 | S28: =VLOOKUP($E28,[1]AllProteinsNorm!$A$1:$Q$3226,16,FALSE) -> 159167.52 | T28: =VLOOKUP($E28,[1]AllProteinsNorm!$A$1:$Q$3226,17,FALSE) -> 70826.525 | U28: =VLOOKUP($E28,[1]AllProteinsNorm!$A$1:$Q$3226,3,FALSE) -> 147117.91 | V28: =VLOOKUP($E28,[1]AllProteinsNorm!$A$1:$Q$3226,7,FALSE) -> 160776.94 | W28: =VLOOKUP($E28,[1]AllProteinsNorm!$A$1:$Q$3226,9,FALSE) -> 94467.793 | X28: =VLOOKUP($E28,[1]AllProteinsNorm!$A$1:$Q$3226,12,FALSE) -> 149186.82 | Y28: =VLOOKUP($E28,[1]AllProteinsNorm!$A$1:$Q$3226,14,FALSE) -> 133618.44 | Z28: =K28/AVERAGE($K28:$O28) -> 1.2320457 | AA28: =L28/AVERAGE($K28:$O28) -> 0.87992745 | AB28: =M28/AVERAGE($K28:$O28) -> 0.92929402 | AC28: =N28/AVERAGE($K28:$O28) -> 0.96028369 | AD28: =O28/AVERAGE($K28:$O28) -> 0.99844914 | AE28: =P28/AVERAGE($K28:$O28) -> 0.94826079 | AF28: =Q28/AVERAGE($K28:$O28) -> 0.66667931 | AG28: =R28/AVERAGE($K28:$O28) -> 0.30887345 | ... AN28: =Y28/AVERAGE($K28:$O28) -> 0.73538782 | AO28: =_xlfn.STDEV.P(K28:O28) -> 22229.87 | AP28: =_xlfn.STDEV.P(P28:T28) -> 46228.058 | AQ28: =_xlfn.STDEV.P(U28:Y28) -> 22963.673 | AR28: Programmed cell death protein 5; May function in the process of apoptosis
E29: P49312 | F29: Hnrnpa1 | G29: 0.035891942 | H29: 0.58908733 | I29: =VLOOKUP(F29,'[1]SUSMB vs SHAM all proteins sum'!$B$2:$E$3214,2,FALSE) -> 0.51843632 | J29: =VLOOKUP(F29,'[1]SUSMB vs SHAM all proteins sum'!$B$2:$E$3214,3,FALSE) -> 0.94766491 | K29: =VLOOKUP($E29,[1]AllProteinsNorm!$A$1:$Q$3226,4,FALSE) -> 316071.89 | L29: =VLOOKUP($E29,[1]AllProteinsNorm!$A$1:$Q$3226,5,FALSE) -> 223990.29 | M29: =VLOOKUP($E29,[1]AllProteinsNorm!$A$1:$Q$3226,10,FALSE) -> 303262.94 | N29: =VLOOKUP($E29,[1]AllProteinsNorm!$A$1:$Q$3226,11,FALSE) -> 330698.44 | O29: =VLOOKUP($E29,[1]AllProteinsNorm!$A$1:$Q$3226,15,FALSE) -> 286726.88 | P29: =VLOOKUP($E29,[1]AllProteinsNorm!$A$1:$Q$3226,6,FALSE) -> 257525.99 | Q29: =VLOOKUP($E29,[1]AllProteinsNorm!$A$1:$Q$3226,8,FALSE) -> 82063.935 | R29: =VLOOKUP($E29,[1]AllProteinsNorm!$A$1:$Q$3226,13,FALSE) -> 164797.68 | S29: =VLOOKUP($E29,[1]AllProteinsNorm!$A$1:$Q$3226,16,FALSE) -> 184033.44 | T29: =VLOOKUP($E29,[1]AllProteinsNorm!$A$1:$Q$3226,17,FALSE) -> 225326.41 | U29: =VLOOKUP($E29,[1]AllProteinsNorm!$A$1:$Q$3226,3,FALSE) -> 261522.17 | V29: =VLOOKUP($E29,[1]AllProteinsNorm!$A$1:$Q$3226,7,FALSE) -> 245072.09 | W29: =VLOOKUP($E29,[1]AllProteinsNorm!$A$1:$Q$3226,9,FALSE) -> 271131.1 | X29: =VLOOKUP($E29,[1]AllProteinsNorm!$A$1:$Q$3226,12,FALSE) -> 287975.73 | Y29: =VLOOKUP($E29,[1]AllProteinsNorm!$A$1:$Q$3226,14,FALSE) -> 310936.27 | Z29: =K29/AVERAGE($K29:$O29) -> 1.0818819 | AA29: =L29/AVERAGE($K29:$O29) -> 0.76669594 | AB29: =M29/AVERAGE($K29:$O29) -> 1.0380382 | AC29: =N29/AVERAGE($K29:$O29) -> 1.1319471 | AD29: =O29/AVERAGE($K29:$O29) -> 0.98143691 | AE29: =P29/AVERAGE($K29:$O29) -> 0.88148525 | AF29: =Q29/AVERAGE($K29:$O29) -> 0.28089649 | AG29: =R29/AVERAGE($K29:$O29) -> 0.56408569 | ... AN29: =Y29/AVERAGE($K29:$O29) -> 1.0643032 | AO29: =_xlfn.STDEV.P(K29:O29) -> 37032.13 | AP29: =_xlfn.STDEV.P(P29:T29) -> 59775.943 | AQ29: =_xlfn.STDEV.P(U29:Y29) -> 22590.038 | AR29: Heterogeneous nuclear ribonucleoprotein A1
E30: P84086 | F30: Cplx2 | G30: 0.026395009 | H30: 0.59700102 | I30: =VLOOKUP(F30,'[1]SUSMB vs SHAM all proteins sum'!$B$2:$E$3214,2,FALSE) -> 0.83970016 | J30: =VLOOKUP(F30,'[1]SUSMB vs SHAM all proteins sum'!$B$2:$E$3214,3,FALSE) -> 0.94698921 | K30: =VLOOKUP($E30,[1]AllProteinsNorm!$A$1:$Q$3226,4,FALSE) -> 186502.71 | L30: =VLOOKUP($E30,[1]AllProteinsNorm!$A$1:$Q$3226,5,FALSE) -> 314126.48 | M30: =VLOOKUP($E30,[1]AllProteinsNorm!$A$1:$Q$3226,10,FALSE) -> 225680.58 | N30: =VLOOKUP($E30,[1]AllProteinsNorm!$A$1:$Q$3226,11,FALSE) -> 477565.1 | O30: =VLOOKUP($E30,[1]AllProteinsNorm!$A$1:$Q$3226,15,FALSE) -> 254033.26 | P30: =VLOOKUP($E30,[1]AllProteinsNorm!$A$1:$Q$3226,6,FALSE) -> 229265.82 | Q30: =VLOOKUP($E30,[1]AllProteinsNorm!$A$1:$Q$3226,8,FALSE) -> 134440.92 | R30: =VLOOKUP($E30,[1]AllProteinsNorm!$A$1:$Q$3226,13,FALSE) -> 133072.18 | S30: =VLOOKUP($E30,[1]AllProteinsNorm!$A$1:$Q$3226,16,FALSE) -> 165926.18 | T30: =VLOOKUP($E30,[1]AllProteinsNorm!$A$1:$Q$3226,17,FALSE) -> 178734.93 | U30: =VLOOKUP($E30,[1]AllProteinsNorm!$A$1:$Q$3226,3,FALSE) -> 246741.22 | V30: =VLOOKUP($E30,[1]AllProteinsNorm!$A$1:$Q$3226,7,FALSE) -> 259404.95 | W30: =VLOOKUP($E30,[1]AllProteinsNorm!$A$1:$Q$3226,9,FALSE) -> 440671.56 | X30: =VLOOKUP($E30,[1]AllProteinsNorm!$A$1:$Q$3226,12,FALSE) -> 128805.33 | Y30: =VLOOKUP($E30,[1]AllProteinsNorm!$A$1:$Q$3226,14,FALSE) -> 336250.85 | Z30: =K30/AVERAGE($K30:$O30) -> 0.63962435 | AA30: =L30/AVERAGE($K30:$O30) -> 1.0773192 | AB30: =M30/AVERAGE($K30:$O30) -> 0.77398766 | AC30: =N30/AVERAGE($K30:$O30) -> 1.6378436 | AD30: =O30/AVERAGE($K30:$O30) -> 0.8712252 | AE30: =P30/AVERAGE($K30:$O30) -> 0.78628348 | AF30: =Q30/AVERAGE($K30:$O30) -> 0.46107472 | AG30: =R30/AVERAGE($K30:$O30) -> 0.45638053 | ... AN30: =Y30/AVERAGE($K30:$O30) -> 1.1531963 | AO30: =_xlfn.STDEV.P(K30:O30) -> 101874.95 | AP30: =_xlfn.STDEV.P(P30:T30) -> 35266.953 | AQ30: =_xlfn.STDEV.P(U30:Y30) -> 103287.41 | AR30: Complexin-2; Negatively regulates the formation of synaptic vesicle clustering at active zone to the presynaptic membrane in postmitotic neurons. Positively regulates a late step in exocytosis of various cytoplasmic vesicles, such as synaptic vesicles and other secretory vesicles. Also involved in mast cell exocytosis. Although not essential for development, seems critical for the acquisition of higher cognitive functions in the adult brain; Belongs to the complexin/synaphin family
E31: Q8BH43 | F31: Wasf2 | G31: 0.0078099958 | H31: 0.61981448 | I31: =VLOOKUP(F31,'[1]SUSMB vs SHAM all proteins sum'!$B$2:$E$3214,2,FALSE) -> 0.57088391 | J31: =VLOOKUP(F31,'[1]SUSMB vs SHAM all proteins sum'!$B$2:$E$3214,3,FALSE) -> 0.90366452 | K31: =VLOOKUP($E31,[1]AllProteinsNorm!$A$1:$Q$3226,4,FALSE) -> 64391.816 | L31: =VLOOKUP($E31,[1]AllProteinsNorm!$A$1:$Q$3226,5,FALSE) -> 69483.769 | M31: =VLOOKUP($E31,[1]AllProteinsNorm!$A$1:$Q$3226,10,FALSE) -> 41778.516 | N31: =VLOOKUP($E31,[1]AllProteinsNorm!$A$1:$Q$3226,11,FALSE) -> 70979.754 | O31: =VLOOKUP($E31,[1]AllProteinsNorm!$A$1:$Q$3226,15,FALSE) -> 50863.155 | P31: =VLOOKUP($E31,[1]AllProteinsNorm!$A$1:$Q$3226,6,FALSE) -> 35189.113 | Q31: =VLOOKUP($E31,[1]AllProteinsNorm!$A$1:$Q$3226,8,FALSE) -> 28024.923 | R31: =VLOOKUP($E31,[1]AllProteinsNorm!$A$1:$Q$3226,13,FALSE) -> 32153.393 | S31: =VLOOKUP($E31,[1]AllProteinsNorm!$A$1:$Q$3226,16,FALSE) -> 43198.407 | T31: =VLOOKUP($E31,[1]AllProteinsNorm!$A$1:$Q$3226,17,FALSE) -> 45067.778 | U31: =VLOOKUP($E31,[1]AllProteinsNorm!$A$1:$Q$3226,3,FALSE) -> 58779.147 | V31: =VLOOKUP($E31,[1]AllProteinsNorm!$A$1:$Q$3226,7,FALSE) -> 32309.948 | W31: =VLOOKUP($E31,[1]AllProteinsNorm!$A$1:$Q$3226,9,FALSE) -> 47589.764 | X31: =VLOOKUP($E31,[1]AllProteinsNorm!$A$1:$Q$3226,12,FALSE) -> 68214.787 | Y31: =VLOOKUP($E31,[1]AllProteinsNorm!$A$1:$Q$3226,14,FALSE) -> 65961.329 | Z31: =K31/AVERAGE($K31:$O31) -> 1.0822263 | AA31: =L31/AVERAGE($K31:$O31) -> 1.1678062 | AB31: =M31/AVERAGE($K31:$O31) -> 0.70216699 | AC31: =N31/AVERAGE($K31:$O31) -> 1.192949 | AD31: =O31/AVERAGE($K31:$O31) -> 0.85485153 | AE31: =P31/AVERAGE($K31:$O31) -> 0.5914196 | AF31: =Q31/AVERAGE($K31:$O31) -> 0.47101185 | AG31: =R31/AVERAGE($K31:$O31) -> 0.54039858 | ... AN31: =Y31/AVERAGE($K31:$O31) -> 1.1086049 | AO31: =_xlfn.STDEV.P(K31:O31) -> 11349.329 | AP31: =_xlfn.STDEV.P(P31:T31) -> 6487.7856 | AQ31: =_xlfn.STDEV.P(U31:Y31) -> 13250.609 | AR31: Wiskott-Aldrich syndrome protein family member 2; Downstream effector molecule involved in the transmission of signals from tyrosine kinase receptors and small GTPases to the actin cytoskeleton. Promotes formation of actin filaments. Part of the WAVE complex that regulates lamellipodia formation. The WAVE complex regulates actin filament reorganization via its interaction with the Arp2/3 complex (By similarity)
... E57: P55096 | F57: Abcd3 | G57: 0.019303905 | H57: 4.94147 | I57: =VLOOKUP(F57,'[1]SUSMB vs SHAM all proteins sum'!$B$2:$E$3214,2,FALSE) -> 0.13577867 | J57: =VLOOKUP(F57,'[1]SUSMB vs SHAM all proteins sum'!$B$2:$E$3214,3,FALSE) -> 2.5606228 | K57: =VLOOKUP($E57,[1]AllProteinsNorm!$A$1:$Q$3226,4,FALSE) -> 10466.042 | L57: =VLOOKUP($E57,[1]AllProteinsNorm!$A$1:$Q$3226,5,FALSE) -> 1587.9766 | M57: =VLOOKUP($E57,[1]AllProteinsNorm!$A$1:$Q$3226,10,FALSE) -> 4787.7643 | N57: =VLOOKUP($E57,[1]AllProteinsNorm!$A$1:$Q$3226,11,FALSE) -> 1001.0881 | O57: =VLOOKUP($E57,[1]AllProteinsNorm!$A$1:$Q$3226,15,FALSE) -> 4136.7281 | P57: =VLOOKUP($E57,[1]AllProteinsNorm!$A$1:$Q$3226,6,FALSE) -> 4814.789 | Q57: =VLOOKUP($E57,[1]AllProteinsNorm!$A$1:$Q$3226,8,FALSE) -> 17804.193 | R57: =VLOOKUP($E57,[1]AllProteinsNorm!$A$1:$Q$3226,13,FALSE) -> 13342.729 | S57: =VLOOKUP($E57,[1]AllProteinsNorm!$A$1:$Q$3226,16,FALSE) -> 19633.659 | T57: =VLOOKUP($E57,[1]AllProteinsNorm!$A$1:$Q$3226,17,FALSE) -> 43233.854 | U57: =VLOOKUP($E57,[1]AllProteinsNorm!$A$1:$Q$3226,3,FALSE) -> 29225.797 | V57: =VLOOKUP($E57,[1]AllProteinsNorm!$A$1:$Q$3226,7,FALSE) -> 4683.1059 | W57: =VLOOKUP($E57,[1]AllProteinsNorm!$A$1:$Q$3226,9,FALSE) -> 7026.0493 | X57: =VLOOKUP($E57,[1]AllProteinsNorm!$A$1:$Q$3226,12,FALSE) -> 11713.787 | Y57: =VLOOKUP($E57,[1]AllProteinsNorm!$A$1:$Q$3226,14,FALSE) -> 3220.3853 | Z57: =K57/AVERAGE($K57:$O57) -> 2.3808537 | AA57: =L57/AVERAGE($K57:$O57) -> 0.36123876 | AB57: =M57/AVERAGE($K57:$O57) -> 1.0891382 | AC57: =N57/AVERAGE($K57:$O57) -> 0.22773121 | AD57: =O57/AVERAGE($K57:$O57) -> 0.94103811 | AE57: =P57/AVERAGE($K57:$O57) -> 1.0952859 | AF57: =Q57/AVERAGE($K57:$O57) -> 4.0501634 | AG57: =R57/AVERAGE($K57:$O57) -> 3.0352531 | ... AN57: =Y57/AVERAGE($K57:$O57) -> 0.73258509 | AO57: =_xlfn.STDEV.P(K57:O57) -> 3360.849 | AP57: =_xlfn.STDEV.P(P57:T57) -> 12801.59 | AQ57: =_xlfn.STDEV.P(U57:Y57) -> 9473.7104 | AR57: ATP-binding cassette sub-family D member 3; Probable transporter involved in the transport of branched-chain fatty acids and C27 bile acids into the peroxisome; the latter function is a crucial step in bile acid biosynthesis. The nucleotide-binding fold acts as an ATP-binding subunit with ATPase activity; Belongs to the ABC transporter superfamily. ABCD family. Peroxisomal fatty acyl CoA transporter (TC 3.A.1.203) subfamily
E91: SUSMB vs SHAM significant proteins
K93: RAW values | Z93: FC value
E94: Uniprot | F94: Gene Name | G94: PvalProteins SUS VS SHAM | H94: FCProteins SUS VS SHAM | I94: PvalProteins SUSMB VS SHAM | J94: FCProteins SUSMB VS SHAM | K94: X1068 | L94: X2396 | M94: X1066 | N94: X1071 | O94: X1065 | P94: X2400 | Q94: X2408 | R94: X2403 | S94: X2398 | T94: X2404 | U94: X2315 | V94: X2402 | W94: X962 | X94: X2314 | Y94: X956 | Z94: X1068 | AA94: X2396 | AB94: X1066 | AC94: X1071 | AD94: X1065 | AE94: X2400 | AF94: X2408 | AG94: X2403 | AH94: X2398 | AI94: X2404 | AJ94: X2315 | AK94: X2402 | AL94: X962 | AM94: X2314 | AN94: X956 | AO94: Sham SD | AP94: SUS SD | AQ94: SUSMB SD | AR94: STRING annotation
E95: Q9ESE1 | F95: Lrba | G95: =VLOOKUP($F95,$F$141:$AU$3354,2,FALSE) -> 0.31864432 | H95: =VLOOKUP($F95,$F$141:$AU$3354,3,FALSE) -> 1.7135865 | I95: =VLOOKUP($F95,$F$141:$AU$3354,4,FALSE) -> 0.00081273507 | J95: =VLOOKUP($F95,$F$141:$AU$3354,5,FALSE) -> 4.8752802 | K95: =VLOOKUP($F95,$F$141:$AU$3354,6,FALSE) -> 7681.2106 | L95: =VLOOKUP($F95,$F$141:$AU$3354,7,FALSE) -> 3086.4749 | M95: =VLOOKUP($F95,$F$141:$AU$3354,8,FALSE) -> 16859.906 | N95: =VLOOKUP($F95,$F$141:$AU$3354,9,FALSE) -> 14070.661 | O95: =VLOOKUP($F95,$F$141:$AU$3354,10,FALSE) -> 8789.3281 | P95: =VLOOKUP($F95,$F$141:$AU$3354,11,FALSE) -> 7091.9365 | Q95: =VLOOKUP($F95,$F$141:$AU$3354,12,FALSE) -> 4459.6342 | R95: =VLOOKUP($F95,$F$141:$AU$3354,13,FALSE) -> 32705.686 | S95: =VLOOKUP($F95,$F$141:$AU$3354,14,FALSE) -> 32386.553 | T95: =VLOOKUP($F95,$F$141:$AU$3354,15,FALSE) -> 21801.977 | U95: =VLOOKUP($F95,$F$141:$AU$3354,16,FALSE) -> 45409.99 | V95: =VLOOKUP($F95,$F$141:$AU$3354,17,FALSE) -> 37370.56 | W95: =VLOOKUP($F95,$F$141:$AU$3354,18,FALSE) -> 53388.351 | X95: =VLOOKUP($F95,$F$141:$AU$3354,19,FALSE) -> 39702.677 | Y95: =VLOOKUP($F95,$F$141:$AU$3354,20,FALSE) -> 37850.215 | Z95: =VLOOKUP($F95,$F$141:$AU$3354,21,FALSE) -> 0.76070297 | AA95: =VLOOKUP($F95,$F$141:$AU$3354,22,FALSE) -> 0.30566674 | AB95: =VLOOKUP($F95,$F$141:$AU$3354,23,FALSE) -> 1.6697082 | AC95: =VLOOKUP($F95,$F$141:$AU$3354,24,FALSE) -> 1.3934775 | AD95: =VLOOKUP($F95,$F$141:$AU$3354,25,FALSE) -> 0.87044457 | AE95: =VLOOKUP($F95,$F$141:$AU$3354,26,FALSE) -> 0.70234465 | AF95: =VLOOKUP($F95,$F$141:$AU$3354,27,FALSE) -> 0.44165656 | AG95: =VLOOKUP($F95,$F$141:$AU$3354,28,FALSE) -> 3.2389832 | AH95: =VLOOKUP($F95,$F$141:$AU$3354,29,FALSE) -> 3.2073782 | AI95: =VLOOKUP($F95,$F$141:$AU$3354,30,FALSE) -> 2.1591425 | AJ95: =VLOOKUP($F95,$F$141:$AU$3354,31,FALSE) -> 4.4971446 | AK95: =VLOOKUP($F95,$F$141:$AU$3354,32,FALSE) -> 3.7009656 | AL95: =VLOOKUP($F95,$F$141:$AU$3354,33,FALSE) -> 5.2872757 | AM95: =VLOOKUP($F95,$F$141:$AU$3354,34,FALSE) -> 3.9319251 | AN95: =VLOOKUP($F95,$F$141:$AU$3354,35,FALSE) -> 3.7484679 | AO95: =VLOOKUP($F95,$F$141:$AU$3354,37,FALSE) -> 12047.79 | AP95: =VLOOKUP($F95,$F$141:$AU$3354,38,FALSE) -> 6041.231 | AQ95: =VLOOKUP($F95,$F$141:$AU$3354,39,FALSE) -> 0 | AR95: Lipopolysaccharide-responsive and beige-like anchor protein; May be involved in coupling signal transduction and vesicle trafficking to enable polarized secretion and/or membrane deposition of immune effector molecules
E96: Q61220 | F96: Nell2 | G96: =VLOOKUP($F96,$F$141:$AU$3354,2,FALSE) -> 0.13260764 | H96: =VLOOKUP($F96,$F$141:$AU$3354,3,FALSE) -> 0.50461009 | I96: =VLOOKUP($F96,$F$141:$AU$3354,4,FALSE) -> 0.004417801 | J96: =VLOOKUP($F96,$F$141:$AU$3354,5,FALSE) -> 0.45356605 | K96: =VLOOKUP($F96,$F$141:$AU$3354,6,FALSE) -> 63656.806 | L96: =VLOOKUP($F96,$F$141:$AU$3354,7,FALSE) -> 53295.187 | M96: =VLOOKUP($F96,$F$141:$AU$3354,8,FALSE) -> 56617.148 | N96: =VLOOKUP($F96,$F$141:$AU$3354,9,FALSE) -> 74191.277 | O96: =VLOOKUP($F96,$F$141:$AU$3354,10,FALSE) -> 75463.641 | P96: =VLOOKUP($F96,$F$141:$AU$3354,11,FALSE) -> 62348.787 | Q96: =VLOOKUP($F96,$F$141:$AU$3354,12,FALSE) -> 61901.676 | R96: =VLOOKUP($F96,$F$141:$AU$3354,13,FALSE) -> 6967.858 | S96: =VLOOKUP($F96,$F$141:$AU$3354,14,FALSE) -> 38281.352 | T96: =VLOOKUP($F96,$F$141:$AU$3354,15,FALSE) -> 34177.012 | U96: =VLOOKUP($F96,$F$141:$AU$3354,16,FALSE) -> 28347.432 | V96: =VLOOKUP($F96,$F$141:$AU$3354,17,FALSE) -> 28009.208 | W96: =VLOOKUP($F96,$F$141:$AU$3354,18,FALSE) -> 14958.466 | X96: =VLOOKUP($F96,$F$141:$AU$3354,19,FALSE) -> 45118.646 | Y96: =VLOOKUP($F96,$F$141:$AU$3354,20,FALSE) -> 38522.677 | Z96: =VLOOKUP($F96,$F$141:$AU$3354,21,FALSE) -> 0.9847164 | AA96: =VLOOKUP($F96,$F$141:$AU$3354,22,FALSE) -> 0.824431 | AB96: =VLOOKUP($F96,$F$141:$AU$3354,23,FALSE) -> 0.8758189 | AC96: =VLOOKUP($F96,$F$141:$AU$3354,24,FALSE) -> 1.1476757 | AD96: =VLOOKUP($F96,$F$141:$AU$3354,25,FALSE) -> 1.167358 | AE96: =VLOOKUP($F96,$F$141:$AU$3354,26,FALSE) -> 0.96448246 | AF96: =VLOOKUP($F96,$F$141:$AU$3354,27,FALSE) -> 0.95756603 | AG96: =VLOOKUP($F96,$F$141:$AU$3354,28,FALSE) -> 0.10778681 | AH96: =VLOOKUP($F96,$F$141:$AU$3354,29,FALSE) -> 0.59217981 | AI96: =VLOOKUP($F96,$F$141:$AU$3354,30,FALSE) -> 0.52868918 | AJ96: =VLOOKUP($F96,$F$141:$AU$3354,31,FALSE) -> 0.43851054 | AK96: =VLOOKUP($F96,$F$141:$AU$3354,32,FALSE) -> 0.43327852 | AL96: =VLOOKUP($F96,$F$141:$AU$3354,33,FALSE) -> 0.23139469 | AM96: =VLOOKUP($F96,$F$141:$AU$3354,34,FALSE) -> 0.69794691 | AN96: =VLOOKUP($F96,$F$141:$AU$3354,35,FALSE) -> 0.59591289 | AO96: =VLOOKUP($F96,$F$141:$AU$3354,37,FALSE) -> 20515.513 | AP96: =VLOOKUP($F96,$F$141:$AU$3354,38,FALSE) -> 10288.228 | AQ96: =VLOOKUP($F96,$F$141:$AU$3354,39,FALSE) -> 0 | AR96: Protein kinase C-binding protein NELL2; Required for neuron survival through the modulation of MAPK pathways (By similarity). Involved in the regulation of hypothalamic GNRH secretion and the control of puberty (By similarity)
E97: Q80Y56 | F97: Rbsn | G97: =VLOOKUP($F97,$F$141:$AU$3354,2,FALSE) -> 0.11835464 | H97: =VLOOKUP($F97,$F$141:$AU$3354,3,FALSE) -> 0.38414644 | I97: =VLOOKUP($F97,$F$141:$AU$3354,4,FALSE) -> 0.0070813436 | J97: =VLOOKUP($F97,$F$141:$AU$3354,5,FALSE) -> 0.32500766 | K97: =VLOOKUP($F97,$F$141:$AU$3354,6,FALSE) -> 54392.994 | L97: =VLOOKUP($F97,$F$141:$AU$3354,7,FALSE) -> 45255.256 | M97: =VLOOKUP($F97,$F$141:$AU$3354,8,FALSE) -> 47044.258 | N97: =VLOOKUP($F97,$F$141:$AU$3354,9,FALSE) -> 49365.524 | O97: =VLOOKUP($F97,$F$141:$AU$3354,10,FALSE) -> 44470.801 | P97: =VLOOKUP($F97,$F$141:$AU$3354,11,FALSE) -> 46849.812 | Q97: =VLOOKUP($F97,$F$141:$AU$3354,12,FALSE) -> 2703.2013 | R97: =VLOOKUP($F97,$F$141:$AU$3354,13,FALSE) -> 39463.336 | S97: =VLOOKUP($F97,$F$141:$AU$3354,14,FALSE) -> 10976.729 | T97: =VLOOKUP($F97,$F$141:$AU$3354,15,FALSE) -> 38765.773 | U97: =VLOOKUP($F97,$F$141:$AU$3354,16,FALSE) -> 22484.566 | V97: =VLOOKUP($F97,$F$141:$AU$3354,17,FALSE) -> 11862.209 | W97: =VLOOKUP($F97,$F$141:$AU$3354,18,FALSE) -> 43698.609 | X97: =VLOOKUP($F97,$F$141:$AU$3354,19,FALSE) -> 7828.1183 | Y97: =VLOOKUP($F97,$F$141:$AU$3354,20,FALSE) -> 10104.393 | Z97: =VLOOKUP($F97,$F$141:$AU$3354,21,FALSE) -> 1.1306959 | AA97: =VLOOKUP($F97,$F$141:$AU$3354,22,FALSE) -> 0.94074493 | AB97: =VLOOKUP($F97,$F$141:$AU$3354,23,FALSE) -> 0.97793386 | AC97: =VLOOKUP($F97,$F$141:$AU$3354,24,FALSE) -> 1.0261872 | AD97: =VLOOKUP($F97,$F$141:$AU$3354,25,FALSE) -> 0.92443805 | AE97: =VLOOKUP($F97,$F$141:$AU$3354,26,FALSE) -> 0.97389181 | AF97: =VLOOKUP($F97,$F$141:$AU$3354,27,FALSE) -> 0.056192875 | AG97: =VLOOKUP($F97,$F$141:$AU$3354,28,FALSE) -> 0.82034522 | AH97: =VLOOKUP($F97,$F$141:$AU$3354,29,FALSE) -> 0.22817906 | AI97: =VLOOKUP($F97,$F$141:$AU$3354,30,FALSE) -> 0.80584461 | AJ97: =VLOOKUP($F97,$F$141:$AU$3354,31,FALSE) -> 0.46739856 | AK97: =VLOOKUP($F97,$F$141:$AU$3354,32,FALSE) -> 0.246586 | AL97: =VLOOKUP($F97,$F$141:$AU$3354,33,FALSE) -> 0.90838609 | AM97: =VLOOKUP($F97,$F$141:$AU$3354,34,FALSE) -> 0.16272723 | AN97: =VLOOKUP($F97,$F$141:$AU$3354,35,FALSE) -> 0.21004536 | AO97: =VLOOKUP($F97,$F$141:$AU$3354,37,FALSE) -> 17504.497 | AP97: =VLOOKUP($F97,$F$141:$AU$3354,38,FALSE) -> 13242.833 | AQ97: =VLOOKUP($F97,$F$141:$AU$3354,39,FALSE) -> 0 | AR97: Rabenosyn-5; Rab4/Rab5 effector protein acting in early endocytic membrane fusion and membrane trafficking of recycling endosomes. Required for endosome fusion either homotypically or with clathrin coated vesicles. Plays a role in the lysosomal trafficking of CTSD/cathepsin D from the Golgi to lysosomes. Also promotes the recycling of transferrin directly from early endosomes to the plasma membrane. Binds phospholipid vesicles containing phosphatidylinositol 3-phosphate (PtdInsP3). Plays a role in the recycling of transferrin receptor to the plasma membrane (By similarity)
E98: Q6A4J8 | F98: Usp7 | G98: =VLOOKUP($F98,$F$141:$AU$3354,2,FALSE) -> 0.17679795 | H98: =VLOOKUP($F98,$F$141:$AU$3354,3,FALSE) -> 0.66640917 | I98: =VLOOKUP($F98,$F$141:$AU$3354,4,FALSE) -> 0.01284006 | J98: =VLOOKUP($F98,$F$141:$AU$3354,5,FALSE) -> 0.4827794 | K98: =VLOOKUP($F98,$F$141:$AU$3354,6,FALSE) -> 202462.43 | L98: =VLOOKUP($F98,$F$141:$AU$3354,7,FALSE) -> 366892.74 | M98: =VLOOKUP($F98,$F$141:$AU$3354,8,FALSE) -> 244675.14 | N98: =VLOOKUP($F98,$F$141:$AU$3354,9,FALSE) -> 314108.81 | O98: =VLOOKUP($F98,$F$141:$AU$3354,10,FALSE) -> 161969.17 | P98: =VLOOKUP($F98,$F$141:$AU$3354,11,FALSE) -> 124824.63 | Q98: =VLOOKUP($F98,$F$141:$AU$3354,12,FALSE) -> 306279.14 | R98: =VLOOKUP($F98,$F$141:$AU$3354,13,FALSE) -> 99398.146 | S98: =VLOOKUP($F98,$F$141:$AU$3354,14,FALSE) -> 269927.45 | T98: =VLOOKUP($F98,$F$141:$AU$3354,15,FALSE) -> 118480.72 | U98: =VLOOKUP($F98,$F$141:$AU$3354,16,FALSE) -> 198182.05 | V98: =VLOOKUP($F98,$F$141:$AU$3354,17,FALSE) -> 79878.077 | W98: =VLOOKUP($F98,$F$141:$AU$3354,18,FALSE) -> 130894.61 | X98: =VLOOKUP($F98,$F$141:$AU$3354,19,FALSE) -> 144197.78 | Y98: =VLOOKUP($F98,$F$141:$AU$3354,20,FALSE) -> 81162.848 | Z98: =VLOOKUP($F98,$F$141:$AU$3354,21,FALSE) -> 0.78467221 | AA98: =VLOOKUP($F98,$F$141:$AU$3354,22,FALSE) -> 1.4219455 | AB98: =VLOOKUP($F98,$F$141:$AU$3354,23,FALSE) -> 0.94827367 | AC98: =VLOOKUP($F98,$F$141:$AU$3354,24,FALSE) -> 1.2173738 | AD98: =VLOOKUP($F98,$F$141:$AU$3354,25,FALSE) -> 0.62773478 | AE98: =VLOOKUP($F98,$F$141:$AU$3354,26,FALSE) -> 0.48377577 | AF98: =VLOOKUP($F98,$F$141:$AU$3354,27,FALSE) -> 1.1870288 | AG98: =VLOOKUP($F98,$F$141:$AU$3354,28,FALSE) -> 0.3852318 | AH98: =VLOOKUP($F98,$F$141:$AU$3354,29,FALSE) -> 1.0461426 | AI98: =VLOOKUP($F98,$F$141:$AU$3354,30,FALSE) -> 0.45918905 | AJ98: =VLOOKUP($F98,$F$141:$AU$3354,31,FALSE) -> 0.76808299 | AK98: =VLOOKUP($F98,$F$141:$AU$3354,32,FALSE) -> 0.30957896 | AL98: =VLOOKUP($F98,$F$141:$AU$3354,33,FALSE) -> 0.50730088 | AM98: =VLOOKUP($F98,$F$141:$AU$3354,34,FALSE) -> 0.55885921 | AN98: =VLOOKUP($F98,$F$141:$AU$3354,35,FALSE) -> 0.31455828 | AO98: =VLOOKUP($F98,$F$141:$AU$3354,37,FALSE) -> 86356.761 | AP98: =VLOOKUP($F98,$F$141:$AU$3354,38,FALSE) -> 44043.71 | AQ98: =VLOOKUP($F98,$F$141:$AU$3354,39,FALSE) -> 0 | AR98: Ubiquitin carboxyl-terminal hydrolase 7; Hydrolase that deubiquitinates target proteins such as FOXO4, p53/TP53, MDM2, ERCC6, DNMT1, UHRF1, PTEN and DAXX. Together with DAXX, prevents MDM2 self-ubiquitination and enhances the E3 ligase activity of MDM2 towards p53/TP53, thereby promoting p53/TP53 ubiquitination and proteasomal degradation. Deubiquitinates p53/TP53, preventing degradation of p53/TP53, and enhances p53/TP53-dependent transcription regulation, cell growth repression and apoptosis (By similarity).
E99: Q3UH99 | F99: Shisa6 | G99: =VLOOKUP($F99,$F$141:$AU$3354,2,FALSE) -> 0.2010333 | H99: =VLOOKUP($F99,$F$141:$AU$3354,3,FALSE) -> 0.81472962 | I99: =VLOOKUP($F99,$F$141:$AU$3354,4,FALSE) -> 0.014772568 | J99: =VLOOKUP($F99,$F$141:$AU$3354,5,FALSE) -> 0.61932492 | K99: =VLOOKUP($F99,$F$141:$AU$3354,6,FALSE) -> 165508.12 | L99: =VLOOKUP($F99,$F$141:$AU$3354,7,FALSE) -> 202734.06 | M99: =VLOOKUP($F99,$F$141:$AU$3354,8,FALSE) -> 181270.23 | N99: =VLOOKUP($F99,$F$141:$AU$3354,9,FALSE) -> 210974.97 | O99: =VLOOKUP($F99,$F$141:$AU$3354,10,FALSE) -> 201818.95 | P99: =VLOOKUP($F99,$F$141:$AU$3354,11,FALSE) -> 93699.45 | Q99: =VLOOKUP($F99,$F$141:$AU$3354,12,FALSE) -> 149814.06 | R99: =VLOOKUP($F99,$F$141:$AU$3354,13,FALSE) -> 168064.64 | S99: =VLOOKUP($F99,$F$141:$AU$3354,14,FALSE) -> 185152.4 | T99: =VLOOKUP($F99,$F$141:$AU$3354,15,FALSE) -> 212832.33 | U99: =VLOOKUP($F99,$F$141:$AU$3354,16,FALSE) -> 135774.19 | V99: =VLOOKUP($F99,$F$141:$AU$3354,17,FALSE) -> 76474.33 | W99: =VLOOKUP($F99,$F$141:$AU$3354,18,FALSE) -> 108445.64 | X99: =VLOOKUP($F99,$F$141:$AU$3354,19,FALSE) -> 110978.87 | Y99: =VLOOKUP($F99,$F$141:$AU$3354,20,FALSE) -> 188830.82 | Z99: =VLOOKUP($F99,$F$141:$AU$3354,21,FALSE) -> 0.85995549 | AA99: =VLOOKUP($F99,$F$141:$AU$3354,22,FALSE) -> 1.0533759 | AB99: =VLOOKUP($F99,$F$141:$AU$3354,23,FALSE) -> 0.94185305 | AC99: =VLOOKUP($F99,$F$141:$AU$3354,24,FALSE) -> 1.0961944 | AD99: =VLOOKUP($F99,$F$141:$AU$3354,25,FALSE) -> 1.0486211 | AE99: =VLOOKUP($F99,$F$141:$AU$3354,26,FALSE) -> 0.48684834 | AF99: =VLOOKUP($F99,$F$141:$AU$3354,27,FALSE) -> 0.7784115 | AG99: =VLOOKUP($F99,$F$141:$AU$3354,28,FALSE) -> 0.87323877 | AH99: =VLOOKUP($F99,$F$141:$AU$3354,29,FALSE) -> 0.96202423 | AI99: =VLOOKUP($F99,$F$141:$AU$3354,30,FALSE) -> 1.105845 | AJ99: =VLOOKUP($F99,$F$141:$AU$3354,31,FALSE) -> 0.70546243 | AK99: =VLOOKUP($F99,$F$141:$AU$3354,32,FALSE) -> 0.3973492 | AL99: =VLOOKUP($F99,$F$141:$AU$3354,33,FALSE) -> 0.56346736 | AM99: =VLOOKUP($F99,$F$141:$AU$3354,34,FALSE) -> 0.57662962 | AN99: =VLOOKUP($F99,$F$141:$AU$3354,35,FALSE) -> 0.98113671 | AO99: =VLOOKUP($F99,$F$141:$AU$3354,37,FALSE) -> 39925.34 | AP99: =VLOOKUP($F99,$F$141:$AU$3354,38,FALSE) -> 37448.078 | AQ99: =VLOOKUP($F99,$F$141:$AU$3354,39,FALSE) -> 0 | AR99: Protein shisa-6 homolog; Shisa homolog 6 (Xenopus laevis)
E100: P24452 | F100: Capg | G100: =VLOOKUP($F100,$F$141:$AU$3354,2,FALSE) -> 0.19253136 | H100: =VLOOKUP($F100,$F$141:$AU$3354,3,FALSE) -> 2.1980461 | I100: =VLOOKUP($F100,$F$141:$AU$3354,4,FALSE) -> 0.015022607 | J100: =VLOOKUP($F100,$F$141:$AU$3354,5,FALSE) -> 2.8872944 | K100: =VLOOKUP($F100,$F$141:$AU$3354,6,FALSE) -> 5057.9772 | L100: =VLOOKUP($F100,$F$141:$AU$3354,7,FALSE) -> 11420.703 | M100: =VLOOKUP($F100,$F$141:$AU$3354,8,FALSE) -> 8726.8571 | N100: =VLOOKUP($F100,$F$141:$AU$3354,9,FALSE) -> 36767.287 | O100: =VLOOKUP($F100,$F$141:$AU$3354,10,FALSE) -> 15125.119 | P100: =VLOOKUP($F100,$F$141:$AU$3354,11,FALSE) -> 4748.1535 | Q100: =VLOOKUP($F100,$F$141:$AU$3354,12,FALSE) -> 52840.535 | R100: =VLOOKUP($F100,$F$141:$AU$3354,13,FALSE) -> 29109.512 | S100: =VLOOKUP($F100,$F$141:$AU$3354,14,FALSE) -> 44281.971 | T100: =VLOOKUP($F100,$F$141:$AU$3354,15,FALSE) -> 44475.225 | U100: =VLOOKUP($F100,$F$141:$AU$3354,16,FALSE) -> 33900.43 | V100: =VLOOKUP($F100,$F$141:$AU$3354,17,FALSE) -> 24847.123 | W100: =VLOOKUP($F100,$F$141:$AU$3354,18,FALSE) -> 40216.97 | X100: =VLOOKUP($F100,$F$141:$AU$3354,19,FALSE) -> 36344.548 | Y100: =VLOOKUP($F100,$F$141:$AU$3354,20,FALSE) -> 45689.178 | Z100: =VLOOKUP($F100,$F$141:$AU$3354,21,FALSE) -> 0.32802283 | AA100: =VLOOKUP($F100,$F$141:$AU$3354,22,FALSE) -> 0.74066196 | AB100: =VLOOKUP($F100,$F$141:$AU$3354,23,FALSE) -> 0.56595914 | AC100: =VLOOKUP($F100,$F$141:$AU$3354,24,FALSE) -> 2.3844532 | AD100: =VLOOKUP($F100,$F$141:$AU$3354,25,FALSE) -> 0.9809029 | AE100: =VLOOKUP($F100,$F$141:$AU$3354,26,FALSE) -> 0.30792997 | AF100: =VLOOKUP($F100,$F$141:$AU$3354,27,FALSE) -> 3.4268446 | AG100: =VLOOKUP($F100,$F$141:$AU$3354,28,FALSE) -> 1.8878267 | AH100: =VLOOKUP($F100,$F$141:$AU$3354,29,FALSE) -> 2.8717997 | AI100: =VLOOKUP($F100,$F$141:$AU$3354,30,FALSE) -> 2.8843328 | AJ100: =VLOOKUP($F100,$F$141:$AU$3354,31,FALSE) -> 2.1985301 | AK100: =VLOOKUP($F100,$F$141:$AU$3354,32,FALSE) -> 1.6113998 | AL100: =VLOOKUP($F100,$F$141:$AU$3354,33,FALSE) -> 2.608174 | AM100: =VLOOKUP($F100,$F$141:$AU$3354,34,FALSE) -> 2.3570375 | AN100: =VLOOKUP($F100,$F$141:$AU$3354,35,FALSE) -> 2.9630608 | AO100: =VLOOKUP($F100,$F$141:$AU$3354,37,FALSE) -> 16994.412 | AP100: =VLOOKUP($F100,$F$141:$AU$3354,38,FALSE) -> 6933.6469 | AQ100: =VLOOKUP($F100,$F$141:$AU$3354,39,FALSE) -> 0 | AR100: Macrophage-capping protein; Calcium-sensitive protein which reversibly blocks the barbed ends of actin filaments but does not sever preformed actin filaments. May play an important role in macrophage function. May play a role in regulating cytoplasmic and/or nuclear structures through potential interactions with actin. May bind DNA. Uncapping occurs either when Ca(2+) falls or when the concentration of polyphosphoinositide rises, both at low and high Ca(2+)
E101: Q8R3D1 | F101: Tbc1d13 | G101: =VLOOKUP($F101,$F$141:$AU$3354,2,FALSE) -> 0.59659927 | H101: =VLOOKUP($F101,$F$141:$AU$3354,3,FALSE) -> 1.3481303 | I101: =VLOOKUP($F101,$F$141:$AU$3354,4,FALSE) -> 0.015468757 | J101: =VLOOKUP($F101,$F$141:$AU$3354,5,FALSE) -> 2.8468484 | K101: =VLOOKUP($F101,$F$141:$AU$3354,6,FALSE) -> 24068.178 | L101: =VLOOKUP($F101,$F$141:$AU$3354,7,FALSE) -> 4073.9583 | M101: =VLOOKUP($F101,$F$141:$AU$3354,8,FALSE) -> 16083.03 | N101: =VLOOKUP($F101,$F$141:$AU$3354,9,FALSE) -> 24088.465 | O101: =VLOOKUP($F101,$F$141:$AU$3354,10,FALSE) -> 8990.0506 | P101: =VLOOKUP($F101,$F$141:$AU$3354,11,FALSE) -> 22339.4 | Q101: =VLOOKUP($F101,$F$141:$AU$3354,12,FALSE) -> 35337.102 | R101: =VLOOKUP($F101,$F$141:$AU$3354,13,FALSE) -> 3267.3158 | S101: =VLOOKUP($F101,$F$141:$AU$3354,14,FALSE) -> 22965.455 | T101: =VLOOKUP($F101,$F$141:$AU$3354,15,FALSE) -> 25673.767 | U101: =VLOOKUP($F101,$F$141:$AU$3354,16,FALSE) -> 31754.281 | V101: =VLOOKUP($F101,$F$141:$AU$3354,17,FALSE) -> 36738.506 | W101: =VLOOKUP($F101,$F$141:$AU$3354,18,FALSE) -> 41596.484 | X101: =VLOOKUP($F101,$F$141:$AU$3354,19,FALSE) -> 34070.169 | Y101: =VLOOKUP($F101,$F$141:$AU$3354,20,FALSE) -> 38624.773 | Z101: =VLOOKUP($F101,$F$141:$AU$3354,21,FALSE) -> 1.5567291 | AA101: =VLOOKUP($F101,$F$141:$AU$3354,22,FALSE) -> 0.26350351 | AB101: =VLOOKUP($F101,$F$141:$AU$3354,23,FALSE) -> 1.0402499 | AC101: =VLOOKUP($F101,$F$141:$AU$3354,24,FALSE) -> 1.5580413 | AD101: =VLOOKUP($F101,$F$141:$AU$3354,25,FALSE) -> 0.58147622 | AE101: =VLOOKUP($F101,$F$141:$AU$3354,26,FALSE) -> 1.4449118 | AF101: =VLOOKUP($F101,$F$141:$AU$3354,27,FALSE) -> 2.2856028 | AG101: =VLOOKUP($F101,$F$141:$AU$3354,28,FALSE) -> 0.2113299 | AH101: =VLOOKUP($F101,$F$141:$AU$3354,29,FALSE) -> 1.485405 | AI101: =VLOOKUP($F101,$F$141:$AU$3354,30,FALSE) -> 1.6605785 | AJ101: =VLOOKUP($F101,$F$141:$AU$3354,31,FALSE) -> 2.053866 | AK101: =VLOOKUP($F101,$F$141:$AU$3354,32,FALSE) -> 2.3762455 | AL101: =VLOOKUP($F101,$F$141:$AU$3354,33,FALSE) -> 2.6904594 | AM101: =VLOOKUP($F101,$F$141:$AU$3354,34,FALSE) -> 2.2036576 | AN101: =VLOOKUP($F101,$F$141:$AU$3354,35,FALSE) -> 2.4982492 | AO101: =VLOOKUP($F101,$F$141:$AU$3354,37,FALSE) -> 10424.019 | AP101: =VLOOKUP($F101,$F$141:$AU$3354,38,FALSE) -> 3433.816 | AQ101: =VLOOKUP($F101,$F$141:$AU$3354,39,FALSE) -> 0 | AR101: TBC1 domain family member 13; Acts as a GTPase-activating protein for RAB35. Together with RAB35 may be involved in regulation of insulin-induced glucose transporter SLC2A4/GLUT4 translocation to the plasma membrane in adipocytes
E102: Q9Z2W8 | F102: Gria4 | G102: =VLOOKUP($F102,$F$141:$AU$3354,2,FALSE) -> 0.10713621 | H102: =VLOOKUP($F102,$F$141:$AU$3354,3,FALSE) -> 0.4499974 | I102: =VLOOKUP($F102,$F$141:$AU$3354,4,FALSE) -> 0.015950448 | J102: =VLOOKUP($F102,$F$141:$AU$3354,5,FALSE) -> 0.26855308 | K102: =VLOOKUP($F102,$F$141:$AU$3354,6,FALSE) -> 19176.503 | L102: =VLOOKUP($F102,$F$141:$AU$3354,7,FALSE) -> 8324.9628 | M102: =VLOOKUP($F102,$F$141:$AU$3354,8,FALSE) -> 15656.145 | N102: =VLOOKUP($F102,$F$141:$AU$3354,9,FALSE) -> 12733.143 | O102: =VLOOKUP($F102,$F$141:$AU$3354,10,FALSE) -> 10678.072 | P102: =VLOOKUP($F102,$F$141:$AU$3354,11,FALSE) -> 27280.657 | Q102: =VLOOKUP($F102,$F$141:$AU$3354,12,FALSE) -> 2332.2213 | R102: =VLOOKUP($F102,$F$141:$AU$3354,13,FALSE) -> 3829.7589 | S102: =VLOOKUP($F102,$F$141:$AU$3354,14,FALSE) -> 5547.8068 | T102: =VLOOKUP($F102,$F$141:$AU$3354,15,FALSE) -> 4638.7154 | U102: =VLOOKUP($F102,$F$141:$AU$3354,16,FALSE) -> 2534.6761 | V102: =VLOOKUP($F102,$F$141:$AU$3354,17,FALSE) -> 12715.923 | W102: =VLOOKUP($F102,$F$141:$AU$3354,18,FALSE) -> 4385.3091 | X102: =VLOOKUP($F102,$F$141:$AU$3354,19,FALSE) -> 3244.791 | Y102: =VLOOKUP($F102,$F$141:$AU$3354,20,FALSE) -> 1035.0432 | Z102: =VLOOKUP($F102,$F$141:$AU$3354,21,FALSE) -> 1.4403516 | AA102: =VLOOKUP($F102,$F$141:$AU$3354,22,FALSE) -> 0.62528989 | AB102: =VLOOKUP($F102,$F$141:$AU$3354,23,FALSE) -> 1.1759367 | AC102: =VLOOKUP($F102,$F$141:$AU$3354,24,FALSE) -> 0.95638933 | AD102: =VLOOKUP($F102,$F$141:$AU$3354,25,FALSE) -> 0.80203248 | AE102: =VLOOKUP($F102,$F$141:$AU$3354,26,FALSE) -> 2.0490565 | AF102: =VLOOKUP($F102,$F$141:$AU$3354,27,FALSE) -> 0.17517368 | AG102: =VLOOKUP($F102,$F$141:$AU$3354,28,FALSE) -> 0.28765408 | AH102: =VLOOKUP($F102,$F$141:$AU$3354,29,FALSE) -> 0.41669706 | AI102: =VLOOKUP($F102,$F$141:$AU$3354,30,FALSE) -> 0.34841499 | AJ102: =VLOOKUP($F102,$F$141:$AU$3354,31,FALSE) -> 0.19038011 | AK102: =VLOOKUP($F102,$F$141:$AU$3354,32,FALSE) -> 0.95509594 | AL102: =VLOOKUP($F102,$F$141:$AU$3354,33,FALSE) -> 0.32938158 | AM102: =VLOOKUP($F102,$F$141:$AU$3354,34,FALSE) -> 0.243717 | AN102: =VLOOKUP($F102,$F$141:$AU$3354,35,FALSE) -> 0.077742332 | AO102: =VLOOKUP($F102,$F$141:$AU$3354,37,FALSE) -> 9337.4053 | AP102: =VLOOKUP($F102,$F$141:$AU$3354,38,FALSE) -> 4112.3632 | AQ102: =VLOOKUP($F102,$F$141:$AU$3354,39,FALSE) -> 0 | AR102: Glutamate receptor 4; Receptor for glutamate that functions as ligand-gated ion channel in the central nervous system and plays an important role in excitatory synaptic transmission. L-glutamate acts as an excitatory neurotransmitter at many synapses in the central nervous system. Binding of the excitatory neurotransmitter L- glutamate induces a conformation change, leading to the opening of the cation channel, and thereby converts the chemical signal to an electrical impulse.
E103: O70310 | F103: Nmt1 | G103: =VLOOKUP($F103,$F$141:$AU$3354,2,FALSE) -> 0.93995322 | H103: =VLOOKUP($F103,$F$141:$AU$3354,3,FALSE) -> 0.97974296 | I103: =VLOOKUP($F103,$F$141:$AU$3354,4,FALSE) -> 0.017309553 | J103: =VLOOKUP($F103,$F$141:$AU$3354,5,FALSE) -> 1.5317711 | K103: =VLOOKUP($F103,$F$141:$AU$3354,6,FALSE) -> 123183.16 | L103: =VLOOKUP($F103,$F$141:$AU$3354,7,FALSE) -> 189021.71 | M103: =VLOOKUP($F103,$F$141:$AU$3354,8,FALSE) -> 142070.46 | N103: =VLOOKUP($F103,$F$141:$AU$3354,9,FALSE) -> 104681.92 | O103: =VLOOKUP($F103,$F$141:$AU$3354,10,FALSE) -> 104715.08 | P103: =VLOOKUP($F103,$F$141:$AU$3354,11,FALSE) -> 187060.46 | Q103: =VLOOKUP($F103,$F$141:$AU$3354,12,FALSE) -> 52695.653 | R103: =VLOOKUP($F103,$F$141:$AU$3354,13,FALSE) -> 130366.45 | S103: =VLOOKUP($F103,$F$141:$AU$3354,14,FALSE) -> 202448.1 | T103: =VLOOKUP($F103,$F$141:$AU$3354,15,FALSE) -> 125826.49 | U103: =VLOOKUP($F103,$F$141:$AU$3354,16,FALSE) -> 149623.04 | V103: =VLOOKUP($F103,$F$141:$AU$3354,17,FALSE) -> 174136.38 | W103: =VLOOKUP($F103,$F$141:$AU$3354,18,FALSE) -> 246694.69 | X103: =VLOOKUP($F103,$F$141:$AU$3354,19,FALSE) -> 218346.81 | Y103: =VLOOKUP($F103,$F$141:$AU$3354,20,FALSE) -> 217882.55 | Z103: =VLOOKUP($F103,$F$141:$AU$3354,21,FALSE) -> 0.92804199 | AA103: =VLOOKUP($F103,$F$141:$AU$3354,22,FALSE) -> 1.424059 | AB103: =VLOOKUP($F103,$F$141:$AU$3354,23,FALSE) -> 1.0703359 | AC103: =VLOOKUP($F103,$F$141:$AU$3354,24,FALSE) -> 0.78865666 | AD103: =VLOOKUP($F103,$F$141:$AU$3354,25,FALSE) -> 0.78890646 | AE103: =VLOOKUP($F103,$F$141:$AU$3354,26,FALSE) -> 1.4092832 | AF103: =VLOOKUP($F103,$F$141:$AU$3354,27,FALSE) -> 0.39700054 | AG103: =VLOOKUP($F103,$F$141:$AU$3354,28,FALSE) -> 0.98215977 | AH103: =VLOOKUP($F103,$F$141:$AU$3354,29,FALSE) -> 1.5252113 | AI103: =VLOOKUP($F103,$F$141:$AU$3354,30,FALSE) -> 0.94795648 | AJ103: =VLOOKUP($F103,$F$141:$AU$3354,31,FALSE) -> 1.1272358 | AK103: =VLOOKUP($F103,$F$141:$AU$3354,32,FALSE) -> 1.3119153 | AL103: =VLOOKUP($F103,$F$141:$AU$3354,33,FALSE) -> 1.8585579 | AM103: =VLOOKUP($F103,$F$141:$AU$3354,34,FALSE) -> 1.6449896 | AN103: =VLOOKUP($F103,$F$141:$AU$3354,35,FALSE) -> 1.6414919 | AO103: =VLOOKUP($F103,$F$141:$AU$3354,37,FALSE) -> 52971.088 | AP103: =VLOOKUP($F103,$F$141:$AU$3354,38,FALSE) -> 34740.801 | AQ103: =VLOOKUP($F103,$F$141:$AU$3354,39,FALSE) -> 0 | AR103: Glycylpeptide N-tetradecanoyltransferase 1; Adds a myristoyl group to the N-terminal glycine residue of certain cellular and viral proteins. Required for normal embryogenesis
E104: Q9WTQ5 | F104: Akap12 | G104: =VLOOKUP($F104,$F$141:$AU$3354,2,FALSE) -> 0.075272009 | H104: =VLOOKUP($F104,$F$141:$AU$3354,3,FALSE) -> 2.5447745 | I104: =VLOOKUP($F104,$F$141:$AU$3354,4,FALSE) -> 0.018338982 | J104: =VLOOKUP($F104,$F$141:$AU$3354,5,FALSE) -> 4.6941754 | K104: =VLOOKUP($F104,$F$141:$AU$3354,6,FALSE) -> 8852.221 | L104: =VLOOKUP($F104,$F$141:$AU$3354,7,FALSE) -> 3967.1937 | M104: =VLOOKUP($F104,$F$141:$AU$3354,8,FALSE) -> 24944.314 | N104: =VLOOKUP($F104,$F$141:$AU$3354,9,FALSE) -> 6652.8037 | O104: =VLOOKUP($F104,$F$141:$AU$3354,10,FALSE) -> 12421.947 | P104: =VLOOKUP($F104,$F$141:$AU$3354,11,FALSE) -> 56308.722 | Q104: =VLOOKUP($F104,$F$141:$AU$3354,12,FALSE) -> 42742.807 | R104: =VLOOKUP($F104,$F$141:$AU$3354,13,FALSE) -> 22294.642 | S104: =VLOOKUP($F104,$F$141:$AU$3354,14,FALSE) -> 8398.1855 | T104: =VLOOKUP($F104,$F$141:$AU$3354,15,FALSE) -> 17144.444 | U104: =VLOOKUP($F104,$F$141:$AU$3354,16,FALSE) -> 9268.4071 | V104: =VLOOKUP($F104,$F$141:$AU$3354,17,FALSE) -> 43589.622 | W104: =VLOOKUP($F104,$F$141:$AU$3354,18,FALSE) -> 51082.592 | X104: =VLOOKUP($F104,$F$141:$AU$3354,19,FALSE) -> 115638.85 | Y104: =VLOOKUP($F104,$F$141:$AU$3354,20,FALSE) -> 69140.619 | Z104: =VLOOKUP($F104,$F$141:$AU$3354,21,FALSE) -> 0.77871726 | AA104: =VLOOKUP($F104,$F$141:$AU$3354,22,FALSE) -> 0.34898838 | AB104: =VLOOKUP($F104,$F$141:$AU$3354,23,FALSE) -> 2.1943157 | AC104: =VLOOKUP($F104,$F$141:$AU$3354,24,FALSE) -> 0.58523766 | AD104: =VLOOKUP($F104,$F$141:$AU$3354,25,FALSE) -> 1.092741 | AE104: =VLOOKUP($F104,$F$141:$AU$3354,26,FALSE) -> 4.953398 | AF104: =VLOOKUP($F104,$F$141:$AU$3354,27,FALSE) -> 3.7600238 | AG104: =VLOOKUP($F104,$F$141:$AU$3354,28,FALSE) -> 1.9612279 | AH104: =VLOOKUP($F104,$F$141:$AU$3354,29,FALSE) -> 0.73877641 | AI104: =VLOOKUP($F104,$F$141:$AU$3354,30,FALSE) -> 1.5081723 | AJ104: =VLOOKUP($F104,$F$141:$AU$3354,31,FALSE) -> 0.81532856 | AK104: =VLOOKUP($F104,$F$141:$AU$3354,32,FALSE) -> 3.8345169 | AL104: =VLOOKUP($F104,$F$141:$AU$3354,33,FALSE) -> 4.4936628 | AM104: =VLOOKUP($F104,$F$141:$AU$3354,34,FALSE) -> 10.172585 | AN104: =VLOOKUP($F104,$F$141:$AU$3354,35,FALSE) -> 6.0822017 | AO104: =VLOOKUP($F104,$F$141:$AU$3354,37,FALSE) -> 17571.957 | AP104: =VLOOKUP($F104,$F$141:$AU$3354,38,FALSE) -> 34860.581 | AQ104: =VLOOKUP($F104,$F$141:$AU$3354,39,FALSE) -> 0 | AR104: A-kinase anchor protein 12; Anchoring protein that mediates the subcellular compartmentation of protein kinase A (PKA) and protein kinase C (PKC)
E105: Q8BP40 | F105: Acp6 | G105: =VLOOKUP($F105,$F$141:$AU$3354,2,FALSE) -> 0.86661321 | H105: =VLOOKUP($F105,$F$141:$AU$3354,3,FALSE) -> 1.0937365 | I105: =VLOOKUP($F105,$F$141:$AU$3354,4,FALSE) -> 0.019773255 | J105: =VLOOKUP($F105,$F$141:$AU$3354,5,FALSE) -> 1.9608994 | K105: =VLOOKUP($F105,$F$141:$AU$3354,6,FALSE) -> 31487.99 | L105: =VLOOKUP($F105,$F$141:$AU$3354,7,FALSE) -> 32428.952 | M105: =VLOOKUP($F105,$F$141:$AU$3354,8,FALSE) -> 55234.969 | N105: =VLOOKUP($F105,$F$141:$AU$3354,9,FALSE) -> 27276.442 | O105: =VLOOKUP($F105,$F$141:$AU$3354,10,FALSE) -> 69966.918 | P105: =VLOOKUP($F105,$F$141:$AU$3354,11,FALSE) -> 41166.01 | Q105: =VLOOKUP($F105,$F$141:$AU$3354,12,FALSE) -> 68617.211 | R105: =VLOOKUP($F105,$F$141:$AU$3354,13,FALSE) -> 100331.4 | S105: =VLOOKUP($F105,$F$141:$AU$3354,14,FALSE) -> 7027.4369 | T105: =VLOOKUP($F105,$F$141:$AU$3354,15,FALSE) -> 84592.217 | U105: =VLOOKUP($F105,$F$141:$AU$3354,16,FALSE) -> 73313.073 | V105: =VLOOKUP($F105,$F$141:$AU$3354,17,FALSE) -> 50956.469 | W105: =VLOOKUP($F105,$F$141:$AU$3354,18,FALSE) -> 73431.243 | X105: =VLOOKUP($F105,$F$141:$AU$3354,19,FALSE) -> 120057.49 | Y105: =VLOOKUP($F105,$F$141:$AU$3354,20,FALSE) -> 94754.133 | Z105: =VLOOKUP($F105,$F$141:$AU$3354,21,FALSE) -> 0.72755726 | AA105: =VLOOKUP($F105,$F$141:$AU$3354,22,FALSE) -> 0.749299 | AB105: =VLOOKUP($F105,$F$141:$AU$3354,23,FALSE) -> 1.2762517 | AC105: =VLOOKUP($F105,$F$141:$AU$3354,24,FALSE) -> 0.6302458 | AD105: =VLOOKUP($F105,$F$141:$AU$3354,25,FALSE) -> 1.6166462 | AE105: =VLOOKUP($F105,$F$141:$AU$3354,26,FALSE) -> 0.95117627 | AF105: =VLOOKUP($F105,$F$141:$AU$3354,27,FALSE) -> 1.58546 | AG105: =VLOOKUP($F105,$F$141:$AU$3354,28,FALSE) -> 2.3182438 | AH105: =VLOOKUP($F105,$F$141:$AU$3354,29,FALSE) -> 0.16237501 | AI105: =VLOOKUP($F105,$F$141:$AU$3354,30,FALSE) -> 1.9545764 | AJ105: =VLOOKUP($F105,$F$141:$AU$3354,31,FALSE) -> 1.693962 | AK105: =VLOOKUP($F105,$F$141:$AU$3354,32,FALSE) -> 1.1773933 | AL105: =VLOOKUP($F105,$F$141:$AU$3354,33,FALSE) -> 1.6966924 | AM105: =VLOOKUP($F105,$F$141:$AU$3354,34,FALSE) -> 2.7740321 | AN105: =VLOOKUP($F105,$F$141:$AU$3354,35,FALSE) -> 2.1893762 | AO105: =VLOOKUP($F105,$F$141:$AU$3354,37,FALSE) -> 33063.168 | AP105: =VLOOKUP($F105,$F$141:$AU$3354,38,FALSE) -> 23333.944 | AQ105: =VLOOKUP($F105,$F$141:$AU$3354,39,FALSE) -> 0 | AR105: Lysophosphatidic acid phosphatase type 6; Hydrolyzes lysophosphatidic acid (LPA) containing a medium length fatty acid chain to the corresponding monoacylglycerol. Has highest activity with lysophosphatidic acid containing myristate (C14:0), monounsaturated oleate (C18:1) or palmitate (C16:0), and lower activity with C18:0 and C6:0 lysophosphatidic acid (By similarity)
E106: Q8VD75 | F106: Hip1 | G106: =VLOOKUP($F106,$F$141:$AU$3354,2,FALSE) -> 0.091729336 | H106: =VLOOKUP($F106,$F$141:$AU$3354,3,FALSE) -> 3.0710163 | I106: =VLOOKUP($F106,$F$141:$AU$3354,4,FALSE) -> 0.020878871 | J106: =VLOOKUP($F106,$F$141:$AU$3354,5,FALSE) -> 4.3880336 | K106: =VLOOKUP($F106,$F$141:$AU$3354,6,FALSE) -> 101407.92 | L106: =VLOOKUP($F106,$F$141:$AU$3354,7,FALSE) -> 19171.224 | M106: =VLOOKUP($F106,$F$141:$AU$3354,8,FALSE) -> 224783.13 | N106: =VLOOKUP($F106,$F$141:$AU$3354,9,FALSE) -> 326335.74 | O106: =VLOOKUP($F106,$F$141:$AU$3354,10,FALSE) -> 121297.87 | P106: =VLOOKUP($F106,$F$141:$AU$3354,11,FALSE) -> 411548.99 | Q106: =VLOOKUP($F106,$F$141:$AU$3354,12,FALSE) -> 235967.3 | R106: =VLOOKUP($F106,$F$141:$AU$3354,13,FALSE) -> 543825.96 | S106: =VLOOKUP($F106,$F$141:$AU$3354,14,FALSE) -> 119705.06 | T106: =VLOOKUP($F106,$F$141:$AU$3354,15,FALSE) -> 747425.74 | U106: =VLOOKUP($F106,$F$141:$AU$3354,16,FALSE) -> 628098.77 | V106: =VLOOKUP($F106,$F$141:$AU$3354,17,FALSE) -> 287124.12 | W106: =VLOOKUP($F106,$F$141:$AU$3354,18,FALSE) -> 382370.15 | X106: =VLOOKUP($F106,$F$141:$AU$3354,19,FALSE) -> 674883.49 | Y106: =VLOOKUP($F106,$F$141:$AU$3354,20,FALSE) -> 604703.59 | Z106: =VLOOKUP($F106,$F$141:$AU$3354,21,FALSE) -> 0.63939752 | AA106: =VLOOKUP($F106,$F$141:$AU$3354,22,FALSE) -> 0.12087845 | AB106: =VLOOKUP($F106,$F$141:$AU$3354,23,FALSE) -> 1.4173032 | AC106: =VLOOKUP($F106,$F$141:$AU$3354,24,FALSE) -> 2.0576131 | AD106: =VLOOKUP($F106,$F$141:$AU$3354,25,FALSE) -> 0.76480771 | AE106: =VLOOKUP($F106,$F$141:$AU$3354,26,FALSE) -> 2.5948999 | AF106: =VLOOKUP($F106,$F$141:$AU$3354,27,FALSE) -> 1.4878217 | AG106: =VLOOKUP($F106,$F$141:$AU$3354,28,FALSE) -> 3.4289331 | AH106: =VLOOKUP($F106,$F$141:$AU$3354,29,FALSE) -> 0.75476473 | AI106: =VLOOKUP($F106,$F$141:$AU$3354,30,FALSE) -> 4.712671 | AJ106: =VLOOKUP($F106,$F$141:$AU$3354,31,FALSE) -> 3.9602902 | AK106: =VLOOKUP($F106,$F$141:$AU$3354,32,FALSE) -> 1.8103758 | AL106: =VLOOKUP($F106,$F$141:$AU$3354,33,FALSE) -> 2.4109214 | AM106: =VLOOKUP($F106,$F$141:$AU$3354,34,FALSE) -> 4.2552773 | AN106: =VLOOKUP($F106,$F$141:$AU$3354,35,FALSE) -> 3.8127788 | AO106: =VLOOKUP($F106,$F$141:$AU$3354,37,FALSE) -> 221951.39 | AP106: =VLOOKUP($F106,$F$141:$AU$3354,38,FALSE) -> 152261.58 | AQ106: =VLOOKUP($F106,$F$141:$AU$3354,39,FALSE) -> 0 | AR106: Huntingtin-interacting protein 1; Plays a role in clathrin-mediated endocytosis and trafficking. Involved in regulating AMPA receptor trafficking in the central nervous system in an NMDA- dependent manner. Regulates presynaptic nerve terminal activity. Enhances androgen receptor (AR)-mediated transcription (By similarity). May act as a proapoptotic protein that induces cell death by acting through the intrinsic apoptosis pathway (By similarity). Binds 3- phosphoinositides (via ENTH domain) (By similarity).
... E133: Q9D162 | F133: Ccdc167 | G133: =VLOOKUP($F133,$F$141:$AU$3354,2,FALSE) -> 0.022493526 | H133: =VLOOKUP($F133,$F$141:$AU$3354,3,FALSE) -> 2.9827295 | I133: =VLOOKUP($F133,$F$141:$AU$3354,4,FALSE) -> 0.044084073 | J133: =VLOOKUP($F133,$F$141:$AU$3354,5,FALSE) -> 2.8262443 | K133: =VLOOKUP($F133,$F$141:$AU$3354,6,FALSE) -> 11086.917 | L133: =VLOOKUP($F133,$F$141:$AU$3354,7,FALSE) -> 6849.7664 | M133: =VLOOKUP($F133,$F$141:$AU$3354,8,FALSE) -> 5234.3256 | N133: =VLOOKUP($F133,$F$141:$AU$3354,9,FALSE) -> 15323.034 | O133: =VLOOKUP($F133,$F$141:$AU$3354,10,FALSE) -> 15296.958 | P133: =VLOOKUP($F133,$F$141:$AU$3354,11,FALSE) -> 50530.482 | Q133: =VLOOKUP($F133,$F$141:$AU$3354,12,FALSE) -> 11703.572 | R133: =VLOOKUP($F133,$F$141:$AU$3354,13,FALSE) -> 55069.01 | S133: =VLOOKUP($F133,$F$141:$AU$3354,14,FALSE) -> 42910.748 | T133: =VLOOKUP($F133,$F$141:$AU$3354,15,FALSE) -> 15740.599 | U133: =VLOOKUP($F133,$F$141:$AU$3354,16,FALSE) -> 57057.528 | V133: =VLOOKUP($F133,$F$141:$AU$3354,17,FALSE) -> 12321.555 | W133: =VLOOKUP($F133,$F$141:$AU$3354,18,FALSE) -> 50004.814 | X133: =VLOOKUP($F133,$F$141:$AU$3354,19,FALSE) -> 10023.868 | Y133: =VLOOKUP($F133,$F$141:$AU$3354,20,FALSE) -> 47678.218 | Z133: =VLOOKUP($F133,$F$141:$AU$3354,21,FALSE) -> 1.030555 | AA133: =VLOOKUP($F133,$F$141:$AU$3354,22,FALSE) -> 0.63670188 | AB133: =VLOOKUP($F133,$F$141:$AU$3354,23,FALSE) -> 0.48654287 | AC133: =VLOOKUP($F133,$F$141:$AU$3354,24,FALSE) -> 1.424312 | AD133: =VLOOKUP($F133,$F$141:$AU$3354,25,FALSE) -> 1.4218882 | AE133: =VLOOKUP($F133,$F$141:$AU$3354,26,FALSE) -> 4.696927 | AF133: =VLOOKUP($F133,$F$141:$AU$3354,27,FALSE) -> 1.0878745 | AG133: =VLOOKUP($F133,$F$141:$AU$3354,28,FALSE) -> 5.1187939 | AH133: =VLOOKUP($F133,$F$141:$AU$3354,29,FALSE) -> 3.9886549 | AI133: =VLOOKUP($F133,$F$141:$AU$3354,30,FALSE) -> 1.4631257 | AJ133: =VLOOKUP($F133,$F$141:$AU$3354,31,FALSE) -> 5.3036313 | AK133: =VLOOKUP($F133,$F$141:$AU$3354,32,FALSE) -> 1.1453175 | AL133: =VLOOKUP($F133,$F$141:$AU$3354,33,FALSE) -> 4.648065 | AM133: =VLOOKUP($F133,$F$141:$AU$3354,34,FALSE) -> 0.93174206 | AN133: =VLOOKUP($F133,$F$141:$AU$3354,35,FALSE) -> 4.4318024 | AO133: =VLOOKUP($F133,$F$141:$AU$3354,37,FALSE) -> 18000.038 | AP133: =VLOOKUP($F133,$F$141:$AU$3354,38,FALSE) -> 20048.267 | AQ133: =VLOOKUP($F133,$F$141:$AU$3354,39,FALSE) -> 0 | AR133: Coiled-coil domain containing 167
E138: All proteins
K140: RAW values | Z140: FC value
E141: Uniprot | F141: Gene Name | G141: PvalProteins SUS VS SHAM | H141: FCProteins SUS VS SHAM | I141: PvalProteins SUSMB VS SHAM | J141: FCProteins SUSMB VS SHAM | K141: X1068 | L141: X2396 | M141: X1066 | N141: X1071 | O141: X1065 | P141: X2400 | Q141: X2408 | R141: X2403 | S141: X2398 | T141: X2404 | U141: X2315 | V141: X2402 | W141: X962 | X141: X2314 | Y141: X956 | Z141: X1068 | AA141: X2396 | AB141: X1066 | AC141: X1071 | AD141: X1065 | AE141: X2400 | AF141: X2408 | AG141: X2403 | AH141: X2398 | AI141: X2404 | AJ141: X2315 | AK141: X2402 | AL141: X962 | AM141: X2314 | AN141: X956 | AO141: Sham SD | AP141: SUS SD | AQ141: SUSMB SD
E142: A2A432 | F142: Cul4b | G142: 0.2393608 | H142: 0.78720303 | I142: =VLOOKUP(F142,'[1]SUSMB vs SHAM all proteins sum'!$B$2:$E$3214,2,FALSE) -> 0.40952116 | J142: =VLOOKUP(F142,'[1]SUSMB vs SHAM all proteins sum'!$B$2:$E$3214,3,FALSE) -> 1.1543837 | K142: =VLOOKUP($E142,[1]AllProteinsNorm!$A$1:$Q$3226,4,FALSE) -> 66119.478 | L142: =VLOOKUP($E142,[1]AllProteinsNorm!$A$1:$Q$3226,5,FALSE) -> 39662.42 | M142: =VLOOKUP($E142,[1]AllProteinsNorm!$A$1:$Q$3226,10,FALSE) -> 59002.359 | N142: =VLOOKUP($E142,[1]AllProteinsNorm!$A$1:$Q$3226,11,FALSE) -> 55894.724 | O142: =VLOOKUP($E142,[1]AllProteinsNorm!$A$1:$Q$3226,15,FALSE) -> 39819.186 | P142: =VLOOKUP($E142,[1]AllProteinsNorm!$A$1:$Q$3226,6,FALSE) -> 28385.341 | Q142: =VLOOKUP($E142,[1]AllProteinsNorm!$A$1:$Q$3226,8,FALSE) -> 30364.324 | R142: =VLOOKUP($E142,[1]AllProteinsNorm!$A$1:$Q$3226,13,FALSE) -> 66182.059 | S142: =VLOOKUP($E142,[1]AllProteinsNorm!$A$1:$Q$3226,16,FALSE) -> 37700.807 | T142: =VLOOKUP($E142,[1]AllProteinsNorm!$A$1:$Q$3226,17,FALSE) -> 48409.023 | U142: =VLOOKUP($E142,[1]AllProteinsNorm!$A$1:$Q$3226,3,FALSE) -> 43890.758 | V142: =VLOOKUP($E142,[1]AllProteinsNorm!$A$1:$Q$3226,7,FALSE) -> 45232.607 | W142: =VLOOKUP($E142,[1]AllProteinsNorm!$A$1:$Q$3226,9,FALSE) -> 65607.828 | X142: =VLOOKUP($E142,[1]AllProteinsNorm!$A$1:$Q$3226,12,FALSE) -> 86955.551 | Y142: =VLOOKUP($E142,[1]AllProteinsNorm!$A$1:$Q$3226,14,FALSE) -> 62332.493 | Z142: =K142/AVERAGE($K142:$O142) -> 1.2690968 | AA142: =L142/AVERAGE($K142:$O142) -> 0.76128021 | AB142: =M142/AVERAGE($K142:$O142) -> 1.1324909 | AC142: =N142/AVERAGE($K142:$O142) -> 1.0728429 | AD142: =O142/AVERAGE($K142:$O142) -> 0.76428918 | AE142: =P142/AVERAGE($K142:$O142) -> 0.54482803 | AF142: =Q142/AVERAGE($K142:$O142) -> 0.58281263 | AG142: =R142/AVERAGE($K142:$O142) -> 1.270298 | ... AN142: =Y142/AVERAGE($K142:$O142) -> 1.1964094 | AO142: =_xlfn.STDEV.P(K142:O142) -> 10621.676 | AP142: =_xlfn.STDEV.P(P142:T142) -> 13891.447 | AQ142: =_xlfn.STDEV.P(U142:Y142) -> 15734.311
E143: A2A690 | F143: Tanc2 | G143: 0.35886162 | H143: 0.75703187 | I143: =VLOOKUP(F143,'[1]SUSMB vs SHAM all proteins sum'!$B$2:$E$3214,2,FALSE) -> 0.42728194 | J143: =VLOOKUP(F143,'[1]SUSMB vs SHAM all proteins sum'!$B$2:$E$3214,3,FALSE) -> 0.76674635 | K143: =VLOOKUP($E143,[1]AllProteinsNorm!$A$1:$Q$3226,4,FALSE) -> 783352.03 | L143: =VLOOKUP($E143,[1]AllProteinsNorm!$A$1:$Q$3226,5,FALSE) -> 1135906.9 | M143: =VLOOKUP($E143,[1]AllProteinsNorm!$A$1:$Q$3226,10,FALSE) -> 862875.34 | N143: =VLOOKUP($E143,[1]AllProteinsNorm!$A$1:$Q$3226,11,FALSE) -> 907716.19 | O143: =VLOOKUP($E143,[1]AllProteinsNorm!$A$1:$Q$3226,15,FALSE) -> 646857.61 | P143: =VLOOKUP($E143,[1]AllProteinsNorm!$A$1:$Q$3226,6,FALSE) -> 973497.74 | Q143: =VLOOKUP($E143,[1]AllProteinsNorm!$A$1:$Q$3226,8,FALSE) -> 770318.92 | R143: =VLOOKUP($E143,[1]AllProteinsNorm!$A$1:$Q$3226,13,FALSE) -> 713398.51 | S143: =VLOOKUP($E143,[1]AllProteinsNorm!$A$1:$Q$3226,16,FALSE) -> 224175.72 | T143: =VLOOKUP($E143,[1]AllProteinsNorm!$A$1:$Q$3226,17,FALSE) -> 934654.43 | U143: =VLOOKUP($E143,[1]AllProteinsNorm!$A$1:$Q$3226,3,FALSE) -> 704228.83 | V143: =VLOOKUP($E143,[1]AllProteinsNorm!$A$1:$Q$3226,7,FALSE) -> 200793.18 | W143: =VLOOKUP($E143,[1]AllProteinsNorm!$A$1:$Q$3226,9,FALSE) -> 1006614.8 | X143: =VLOOKUP($E143,[1]AllProteinsNorm!$A$1:$Q$3226,12,FALSE) -> 803250.35 | Y143: =VLOOKUP($E143,[1]AllProteinsNorm!$A$1:$Q$3226,14,FALSE) -> 1044932.3 | Z143: =K143/AVERAGE($K143:$O143) -> 0.90316436 | AA143: =L143/AVERAGE($K143:$O143) -> 1.3096419 | AB143: =M143/AVERAGE($K143:$O143) -> 0.99485062 | AC143: =N143/AVERAGE($K143:$O143) -> 1.0465498 | AD143: =O143/AVERAGE($K143:$O143) -> 0.74579336 | AE143: =P143/AVERAGE($K143:$O143) -> 1.1223925 | AF143: =Q143/AVERAGE($K143:$O143) -> 0.88813786 | AG143: =R143/AVERAGE($K143:$O143) -> 0.82251157 | ... AN143: =Y143/AVERAGE($K143:$O143) -> 1.2047528 | AO143: =_xlfn.STDEV.P(K143:O143) -> 160900.47 | AP143: =_xlfn.STDEV.P(P143:T143) -> 267844.52 | AQ143: =_xlfn.STDEV.P(U143:Y143) -> 303109.1
E144: A2A699 | F144: Fam171a2 | G144: 0.12381625 | H144: 0.74363438 | I144: =VLOOKUP(F144,'[1]SUSMB vs SHAM all proteins sum'!$B$2:$E$3214,2,FALSE) -> 0.12447805 | J144: =VLOOKUP(F144,'[1]SUSMB vs SHAM all proteins sum'!$B$2:$E$3214,3,FALSE) -> 0.35565358 | K144: =VLOOKUP($E144,[1]AllProteinsNorm!$A$1:$Q$3226,4,FALSE) -> 59202.342 | L144: =VLOOKUP($E144,[1]AllProteinsNorm!$A$1:$Q$3226,5,FALSE) -> 66233.834 | M144: =VLOOKUP($E144,[1]AllProteinsNorm!$A$1:$Q$3226,10,FALSE) -> 70060.539 | N144: =VLOOKUP($E144,[1]AllProteinsNorm!$A$1:$Q$3226,11,FALSE) -> 58278.622 | O144: =VLOOKUP($E144,[1]AllProteinsNorm!$A$1:$Q$3226,15,FALSE) -> 59279.948 | P144: =VLOOKUP($E144,[1]AllProteinsNorm!$A$1:$Q$3226,6,FALSE) -> 35444.254 | Q144: =VLOOKUP($E144,[1]AllProteinsNorm!$A$1:$Q$3226,8,FALSE) -> 71321.89 | R144: =VLOOKUP($E144,[1]AllProteinsNorm!$A$1:$Q$3226,13,FALSE) -> 40907.545 | S144: =VLOOKUP($E144,[1]AllProteinsNorm!$A$1:$Q$3226,16,FALSE) -> 66972.853 | T144: =VLOOKUP($E144,[1]AllProteinsNorm!$A$1:$Q$3226,17,FALSE) -> 31162.749 | U144: =VLOOKUP($E144,[1]AllProteinsNorm!$A$1:$Q$3226,3,FALSE) -> 41933.276 | V144: =VLOOKUP($E144,[1]AllProteinsNorm!$A$1:$Q$3226,7,FALSE) -> 12798.922 | W144: =VLOOKUP($E144,[1]AllProteinsNorm!$A$1:$Q$3226,9,FALSE) -> 71247.656 | X144: =VLOOKUP($E144,[1]AllProteinsNorm!$A$1:$Q$3226,12,FALSE) -> 2704.5515 | Y144: =VLOOKUP($E144,[1]AllProteinsNorm!$A$1:$Q$3226,14,FALSE) -> 52221.244 | Z144: =K144/AVERAGE($K144:$O144) -> 0.9455573 | AA144: =L144/AVERAGE($K144:$O144) -> 1.0578616 | AB144: =M144/AVERAGE($K144:$O144) -> 1.1189803 | AC144: =N144/AVERAGE($K144:$O144) -> 0.930804 | AD144: =O144/AVERAGE($K144:$O144) -> 0.94679679 | AE144: =P144/AVERAGE($K144:$O144) -> 0.56610215 | AF144: =Q144/AVERAGE($K144:$O144) -> 1.1391261 | AG144: =R144/AVERAGE($K144:$O144) -> 0.65335975 | ... AN144: =Y144/AVERAGE($K144:$O144) -> 0.83405786 | AO144: =_xlfn.STDEV.P(K144:O144) -> 4692.6521 | AP144: =_xlfn.STDEV.P(P144:T144) -> 16664.77 | AQ144: =_xlfn.STDEV.P(U144:Y144) -> 25248.535
E145: A2A8Z1 | F145: Osbpl9 | G145: 0.14944507 | H145: 4.6397385 | I145: =VLOOKUP(F145,'[1]SUSMB vs SHAM all proteins sum'!$B$2:$E$3214,2,FALSE) -> 0.39716664 | J145: =VLOOKUP(F145,'[1]SUSMB vs SHAM all proteins sum'!$B$2:$E$3214,3,FALSE) -> 2.9645848 | K145: =VLOOKUP($E145,[1]AllProteinsNorm!$A$1:$Q$3226,4,FALSE) -> 58402.814 | L145: =VLOOKUP($E145,[1]AllProteinsNorm!$A$1:$Q$3226,5,FALSE) -> 7741.4827 | M145: =VLOOKUP($E145,[1]AllProteinsNorm!$A$1:$Q$3226,10,FALSE) -> 3042.0163 | N145: =VLOOKUP($E145,[1]AllProteinsNorm!$A$1:$Q$3226,11,FALSE) -> 807.99087 | O145: =VLOOKUP($E145,[1]AllProteinsNorm!$A$1:$Q$3226,15,FALSE) -> 552.2208 | P145: =VLOOKUP($E145,[1]AllProteinsNorm!$A$1:$Q$3226,6,FALSE) -> 5950.5786 | Q145: =VLOOKUP($E145,[1]AllProteinsNorm!$A$1:$Q$3226,8,FALSE) -> 5260.137 | R145: =VLOOKUP($E145,[1]AllProteinsNorm!$A$1:$Q$3226,13,FALSE) -> 37688.642 | S145: =VLOOKUP($E145,[1]AllProteinsNorm!$A$1:$Q$3226,16,FALSE) -> 21754.243 | T145: =VLOOKUP($E145,[1]AllProteinsNorm!$A$1:$Q$3226,17,FALSE) -> 51415.668 | U145: =VLOOKUP($E145,[1]AllProteinsNorm!$A$1:$Q$3226,3,FALSE) -> 45396.286 | V145: =VLOOKUP($E145,[1]AllProteinsNorm!$A$1:$Q$3226,7,FALSE) -> 2560.8021 | W145: =VLOOKUP($E145,[1]AllProteinsNorm!$A$1:$Q$3226,9,FALSE) -> 690.3927 | X145: =VLOOKUP($E145,[1]AllProteinsNorm!$A$1:$Q$3226,12,FALSE) -> 47290.003 | Y145: =VLOOKUP($E145,[1]AllProteinsNorm!$A$1:$Q$3226,14,FALSE) -> 37025.098 | Z145: =K145/AVERAGE($K145:$O145) -> 4.1393119 | AA145: =L145/AVERAGE($K145:$O145) -> 0.54867924 | AB145: =M145/AVERAGE($K145:$O145) -> 0.21560355 | AC145: =N145/AVERAGE($K145:$O145) -> 0.057266525 | AD145: =O145/AVERAGE($K145:$O145) -> 0.039138767 | AE145: =P145/AVERAGE($K145:$O145) -> 0.42174853 | AF145: =Q145/AVERAGE($K145:$O145) -> 0.37281334 | AG145: =R145/AVERAGE($K145:$O145) -> 2.6711905 | ... AN145: =Y145/AVERAGE($K145:$O145) -> 2.6241617 | AO145: =_xlfn.STDEV.P(K145:O145) -> 22296.495 | AP145: =_xlfn.STDEV.P(P145:T145) -> 18000.827 | AQ145: =_xlfn.STDEV.P(U145:Y145) -> 20684.534
E146: A2AAE1 | F146: Kiaa1109 | G146: 0.96589418 | H146: 1.0499265 | I146: =VLOOKUP(F146,'[1]SUSMB vs SHAM all proteins sum'!$B$2:$E$3214,2,FALSE) -> 0.93813071 | J146: =VLOOKUP(F146,'[1]SUSMB vs SHAM all proteins sum'!$B$2:$E$3214,3,FALSE) -> 0.90632538 | K146: =VLOOKUP($E146,[1]AllProteinsNorm!$A$1:$Q$3226,4,FALSE) -> 882696.07 | L146: =VLOOKUP($E146,[1]AllProteinsNorm!$A$1:$Q$3226,5,FALSE) -> 34065.721 | M146: =VLOOKUP($E146,[1]AllProteinsNorm!$A$1:$Q$3226,10,FALSE) -> 33445.861 | N146: =VLOOKUP($E146,[1]AllProteinsNorm!$A$1:$Q$3226,11,FALSE) -> 1005592.9 | O146: =VLOOKUP($E146,[1]AllProteinsNorm!$A$1:$Q$3226,15,FALSE) -> 29328.509 | P146: =VLOOKUP($E146,[1]AllProteinsNorm!$A$1:$Q$3226,6,FALSE) -> 50455.499 | Q146: =VLOOKUP($E146,[1]AllProteinsNorm!$A$1:$Q$3226,8,FALSE) -> 40435.832 | R146: =VLOOKUP($E146,[1]AllProteinsNorm!$A$1:$Q$3226,13,FALSE) -> 729380.06 | S146: =VLOOKUP($E146,[1]AllProteinsNorm!$A$1:$Q$3226,16,FALSE) -> 30936.713 | T146: =VLOOKUP($E146,[1]AllProteinsNorm!$A$1:$Q$3226,17,FALSE) -> 822005.83 | U146: =VLOOKUP($E146,[1]AllProteinsNorm!$A$1:$Q$3226,3,FALSE) -> 31482.747 | V146: =VLOOKUP($E146,[1]AllProteinsNorm!$A$1:$Q$3226,7,FALSE) -> 778376.93 | W146: =VLOOKUP($E146,[1]AllProteinsNorm!$A$1:$Q$3226,9,FALSE) -> 8564.9392 | X146: =VLOOKUP($E146,[1]AllProteinsNorm!$A$1:$Q$3226,12,FALSE) -> 93528.763 | Y146: =VLOOKUP($E146,[1]AllProteinsNorm!$A$1:$Q$3226,14,FALSE) -> 924000 | Z146: =K146/AVERAGE($K146:$O146) -> 2.2232713 | AA146: =L146/AVERAGE($K146:$O146) -> 0.085802283 | AB146: =M146/AVERAGE($K146:$O146) -> 0.084241025 | AC146: =N146/AVERAGE($K146:$O146) -> 2.5328149 | AD146: =O146/AVERAGE($K146:$O146) -> 0.073870534 | AE146: =P146/AVERAGE($K146:$O146) -> 0.12708367 | AF146: =Q146/AVERAGE($K146:$O146) -> 0.10184686 | AG146: =R146/AVERAGE($K146:$O146) -> 1.8371099 | ... AN146: =Y146/AVERAGE($K146:$O146) -> 2.3273046 | AO146: =_xlfn.STDEV.P(K146:O146) -> 448410.79 | AP146: =_xlfn.STDEV.P(P146:T146) -> 361357.93 | AQ146: =_xlfn.STDEV.P(U146:Y146) -> 398826.74
E147: A2ADY9 | F147: Ddi2 | G147: 0.084736286 | H147: 0.43769014 | I147: =VLOOKUP(F147,'[1]SUSMB vs SHAM all proteins sum'!$B$2:$E$3214,2,FALSE) -> 0.6440497 | J147: =VLOOKUP(F147,'[1]SUSMB vs SHAM all proteins sum'!$B$2:$E$3214,3,FALSE) -> 0.91098095 | K147: =VLOOKUP($E147,[1]AllProteinsNorm!$A$1:$Q$3226,4,FALSE) -> 65755.824 | L147: =VLOOKUP($E147,[1]AllProteinsNorm!$A$1:$Q$3226,5,FALSE) -> 78612.954 | M147: =VLOOKUP($E147,[1]AllProteinsNorm!$A$1:$Q$3226,10,FALSE) -> 102709.18 | N147: =VLOOKUP($E147,[1]AllProteinsNorm!$A$1:$Q$3226,11,FALSE) -> 100870.32 | O147: =VLOOKUP($E147,[1]AllProteinsNorm!$A$1:$Q$3226,15,FALSE) -> 142364.76 | P147: =VLOOKUP($E147,[1]AllProteinsNorm!$A$1:$Q$3226,6,FALSE) -> 90396.214 | Q147: =VLOOKUP($E147,[1]AllProteinsNorm!$A$1:$Q$3226,8,FALSE) -> 12754.052 | R147: =VLOOKUP($E147,[1]AllProteinsNorm!$A$1:$Q$3226,13,FALSE) -> 20446.568 | S147: =VLOOKUP($E147,[1]AllProteinsNorm!$A$1:$Q$3226,16,FALSE) -> 87553.141 | T147: =VLOOKUP($E147,[1]AllProteinsNorm!$A$1:$Q$3226,17,FALSE) -> 59339.886 | U147: =VLOOKUP($E147,[1]AllProteinsNorm!$A$1:$Q$3226,3,FALSE) -> 95431.187 | V147: =VLOOKUP($E147,[1]AllProteinsNorm!$A$1:$Q$3226,7,FALSE) -> 87673.688 | W147: =VLOOKUP($E147,[1]AllProteinsNorm!$A$1:$Q$3226,9,FALSE) -> 120518.76 | X147: =VLOOKUP($E147,[1]AllProteinsNorm!$A$1:$Q$3226,12,FALSE) -> 50759.29 | Y147: =VLOOKUP($E147,[1]AllProteinsNorm!$A$1:$Q$3226,14,FALSE) -> 93458.79 | Z147: =K147/AVERAGE($K147:$O147) -> 0.67054942 | AA147: =L147/AVERAGE($K147:$O147) -> 0.80166086 | AB147: =M147/AVERAGE($K147:$O147) -> 1.0473837 | AC147: =N147/AVERAGE($K147:$O147) -> 1.0286319 | AD147: =O147/AVERAGE($K147:$O147) -> 1.4517742 | AE147: =P147/AVERAGE($K147:$O147) -> 0.92182144 | AF147: =Q147/AVERAGE($K147:$O147) -> 0.1300603 | AG147: =R147/AVERAGE($K147:$O147) -> 0.20850525 | ... AN147: =Y147/AVERAGE($K147:$O147) -> 0.95305227 | AO147: =_xlfn.STDEV.P(K147:O147) -> 26131.099 | AP147: =_xlfn.STDEV.P(P147:T147) -> 32576.142 | AQ147: =_xlfn.STDEV.P(U147:Y147) -> 22437.332
E148: A2AG50 | F148: Map7d2 | G148: 0.060084024 | H148: 0.77088091 | I148: =VLOOKUP(F148,'[1]SUSMB vs SHAM all proteins sum'!$B$2:$E$3214,2,FALSE) -> 0.1352896 | J148: =VLOOKUP(F148,'[1]SUSMB vs SHAM all proteins sum'!$B$2:$E$3214,3,FALSE) -> 0.6172363 | K148: =VLOOKUP($E148,[1]AllProteinsNorm!$A$1:$Q$3226,4,FALSE) -> 87382.642 | L148: =VLOOKUP($E148,[1]AllProteinsNorm!$A$1:$Q$3226,5,FALSE) -> 59657.476 | M148: =VLOOKUP($E148,[1]AllProteinsNorm!$A$1:$Q$3226,10,FALSE) -> 88168.499 | N148: =VLOOKUP($E148,[1]AllProteinsNorm!$A$1:$Q$3226,11,FALSE) -> 67418.304 | O148: =VLOOKUP($E148,[1]AllProteinsNorm!$A$1:$Q$3226,15,FALSE) -> 95898.136 | P148: =VLOOKUP($E148,[1]AllProteinsNorm!$A$1:$Q$3226,6,FALSE) -> 82203.553 | Q148: =VLOOKUP($E148,[1]AllProteinsNorm!$A$1:$Q$3226,8,FALSE) -> 57737.707 | R148: =VLOOKUP($E148,[1]AllProteinsNorm!$A$1:$Q$3226,13,FALSE) -> 54822.706 | S148: =VLOOKUP($E148,[1]AllProteinsNorm!$A$1:$Q$3226,16,FALSE) -> 55407.856 | T148: =VLOOKUP($E148,[1]AllProteinsNorm!$A$1:$Q$3226,17,FALSE) -> 56110.741 | U148: =VLOOKUP($E148,[1]AllProteinsNorm!$A$1:$Q$3226,3,FALSE) -> 25818.552 | V148: =VLOOKUP($E148,[1]AllProteinsNorm!$A$1:$Q$3226,7,FALSE) -> 27315.544 | W148: =VLOOKUP($E148,[1]AllProteinsNorm!$A$1:$Q$3226,9,FALSE) -> 67713.282 | X148: =VLOOKUP($E148,[1]AllProteinsNorm!$A$1:$Q$3226,12,FALSE) -> 110924.17 | Y148: =VLOOKUP($E148,[1]AllProteinsNorm!$A$1:$Q$3226,14,FALSE) -> 50258.209 | Z148: =K148/AVERAGE($K148:$O148) -> 1.0963256 | AA148: =L148/AVERAGE($K148:$O148) -> 0.74847836 | AB148: =M148/AVERAGE($K148:$O148) -> 1.1061851 | AC148: =N148/AVERAGE($K148:$O148) -> 0.84584774 | AD148: =O148/AVERAGE($K148:$O148) -> 1.2031632 | AE148: =P148/AVERAGE($K148:$O148) -> 1.0313474 | AF148: =Q148/AVERAGE($K148:$O148) -> 0.72439243 | AG148: =R148/AVERAGE($K148:$O148) -> 0.68782007 | ... AN148: =Y148/AVERAGE($K148:$O148) -> 0.63055269 | AO148: =_xlfn.STDEV.P(K148:O148) -> 13752.533 | AP148: =_xlfn.STDEV.P(P148:T148) -> 10518.936 | AQ148: =_xlfn.STDEV.P(U148:Y148) -> 31367.904
E149: A2AGT5 | F149: Ckap5 | G149: 0.16855703 | H149: 1.127442 | I149: =VLOOKUP(F149,'[1]SUSMB vs SHAM all proteins sum'!$B$2:$E$3214,2,FALSE) -> 0.044882278 | J149: =VLOOKUP(F149,'[1]SUSMB vs SHAM all proteins sum'!$B$2:$E$3214,3,FALSE) -> 1.1419522 | K149: =VLOOKUP($E149,[1]AllProteinsNorm!$A$1:$Q$3226,4,FALSE) -> 613430.24 | L149: =VLOOKUP($E149,[1]AllProteinsNorm!$A$1:$Q$3226,5,FALSE) -> 626977.05 | M149: =VLOOKUP($E149,[1]AllProteinsNorm!$A$1:$Q$3226,10,FALSE) -> 617731.18 | N149: =VLOOKUP($E149,[1]AllProteinsNorm!$A$1:$Q$3226,11,FALSE) -> 611007.21 | O149: =VLOOKUP($E149,[1]AllProteinsNorm!$A$1:$Q$3226,15,FALSE) -> 584256.08 | P149: =VLOOKUP($E149,[1]AllProteinsNorm!$A$1:$Q$3226,6,FALSE) -> 587450.83 | Q149: =VLOOKUP($E149,[1]AllProteinsNorm!$A$1:$Q$3226,8,FALSE) -> 913029.64 | R149: =VLOOKUP($E149,[1]AllProteinsNorm!$A$1:$Q$3226,13,FALSE) -> 685253.76 | S149: =VLOOKUP($E149,[1]AllProteinsNorm!$A$1:$Q$3226,16,FALSE) -> 602652.64 | T149: =VLOOKUP($E149,[1]AllProteinsNorm!$A$1:$Q$3226,17,FALSE) -> 697528.62 | U149: =VLOOKUP($E149,[1]AllProteinsNorm!$A$1:$Q$3226,3,FALSE) -> 630958.09 | V149: =VLOOKUP($E149,[1]AllProteinsNorm!$A$1:$Q$3226,7,FALSE) -> 771754.65 | W149: =VLOOKUP($E149,[1]AllProteinsNorm!$A$1:$Q$3226,9,FALSE) -> 592601.8 | X149: =VLOOKUP($E149,[1]AllProteinsNorm!$A$1:$Q$3226,12,FALSE) -> 751502.26 | Y149: =VLOOKUP($E149,[1]AllProteinsNorm!$A$1:$Q$3226,14,FALSE) -> 759508.15 | Z149: =K149/AVERAGE($K149:$O149) -> 1.004503 | AA149: =L149/AVERAGE($K149:$O149) -> 1.0266861 | AB149: =M149/AVERAGE($K149:$O149) -> 1.0115459 | AC149: =N149/AVERAGE($K149:$O149) -> 1.0005352 | AD149: =O149/AVERAGE($K149:$O149) -> 0.95672979 | AE149: =P149/AVERAGE($K149:$O149) -> 0.96196124 | AF149: =Q149/AVERAGE($K149:$O149) -> 1.4951024 | AG149: =R149/AVERAGE($K149:$O149) -> 1.1221153 | ... AN149: =Y149/AVERAGE($K149:$O149) -> 1.2437082 | AO149: =_xlfn.STDEV.P(K149:O149) -> 14291.306 | AP149: =_xlfn.STDEV.P(P149:T149) -> 116369.53 | AQ149: =_xlfn.STDEV.P(U149:Y149) -> 74344.591
E150: A2AHC3 | F150: Camsap1 | G150: 0.34837228 | H150: 2.0880552 | I150: =VLOOKUP(F150,'[1]SUSMB vs SHAM all proteins sum'!$B$2:$E$3214,2,FALSE) -> 0.26730782 | J150: =VLOOKUP(F150,'[1]SUSMB vs SHAM all proteins sum'!$B$2:$E$3214,3,FALSE) -> 2.3520052 | K150: =VLOOKUP($E150,[1]AllProteinsNorm!$A$1:$Q$3226,4,FALSE) -> 3015.3696 | L150: =VLOOKUP($E150,[1]AllProteinsNorm!$A$1:$Q$3226,5,FALSE) -> 29391.939 | M150: =VLOOKUP($E150,[1]AllProteinsNorm!$A$1:$Q$3226,10,FALSE) -> 1263.9427 | N150: =VLOOKUP($E150,[1]AllProteinsNorm!$A$1:$Q$3226,11,FALSE) -> 27193.335 | O150: =VLOOKUP($E150,[1]AllProteinsNorm!$A$1:$Q$3226,15,FALSE) -> 37552.759 | P150: =VLOOKUP($E150,[1]AllProteinsNorm!$A$1:$Q$3226,6,FALSE) -> 18305.837 | Q150: =VLOOKUP($E150,[1]AllProteinsNorm!$A$1:$Q$3226,8,FALSE) -> 24244.262 | R150: =VLOOKUP($E150,[1]AllProteinsNorm!$A$1:$Q$3226,13,FALSE) -> 8744.3861 | S150: =VLOOKUP($E150,[1]AllProteinsNorm!$A$1:$Q$3226,16,FALSE) -> 30997.504 | T150: =VLOOKUP($E150,[1]AllProteinsNorm!$A$1:$Q$3226,17,FALSE) -> 37744.682 | U150: =VLOOKUP($E150,[1]AllProteinsNorm!$A$1:$Q$3226,3,FALSE) -> 15071.273 | V150: =VLOOKUP($E150,[1]AllProteinsNorm!$A$1:$Q$3226,7,FALSE) -> 24141.68 | W150: =VLOOKUP($E150,[1]AllProteinsNorm!$A$1:$Q$3226,9,FALSE) -> 20729.426 | X150: =VLOOKUP($E150,[1]AllProteinsNorm!$A$1:$Q$3226,12,FALSE) -> 46152.643 | Y150: =VLOOKUP($E150,[1]AllProteinsNorm!$A$1:$Q$3226,14,FALSE) -> 23653.236 | Z150: =K150/AVERAGE($K150:$O150) -> 0.153193 | AA150: =L150/AVERAGE($K150:$O150) -> 1.4932296 | AB150: =M150/AVERAGE($K150:$O150) -> 0.064213411 | AC150: =N150/AVERAGE($K150:$O150) -> 1.3815316 | AD150: =O150/AVERAGE($K150:$O150) -> 1.9078323 | AE150: =P150/AVERAGE($K150:$O150) -> 0.93001073 | AF150: =Q150/AVERAGE($K150:$O150) -> 1.2317068 | AG150: =R150/AVERAGE($K150:$O150) -> 0.44425025 | ... AN150: =Y150/AVERAGE($K150:$O150) -> 1.2016803 | AO150: =_xlfn.STDEV.P(K150:O150) -> 14744.955 | AP150: =_xlfn.STDEV.P(P150:T150) -> 10030.932 | AQ150: =_xlfn.STDEV.P(U150:Y150) -> 10604.65
E151: A2AIL4 | F151: Ndufaf6 | G151: 0.90711748 | H151: 1.0553128 | I151: =VLOOKUP(F151,'[1]SUSMB vs SHAM all proteins sum'!$B$2:$E$3214,2,FALSE) -> 0.20791341 | J151: =VLOOKUP(F151,'[1]SUSMB vs SHAM all proteins sum'!$B$2:$E$3214,3,FALSE) -> 1.8733215 | K151: =VLOOKUP($E151,[1]AllProteinsNorm!$A$1:$Q$3226,4,FALSE) -> 17218.156 | L151: =VLOOKUP($E151,[1]AllProteinsNorm!$A$1:$Q$3226,5,FALSE) -> 32877.628 | M151: =VLOOKUP($E151,[1]AllProteinsNorm!$A$1:$Q$3226,10,FALSE) -> 33616.008 | N151: =VLOOKUP($E151,[1]AllProteinsNorm!$A$1:$Q$3226,11,FALSE) -> 31961.803 | O151: =VLOOKUP($E151,[1]AllProteinsNorm!$A$1:$Q$3226,15,FALSE) -> 58390.841 | P151: =VLOOKUP($E151,[1]AllProteinsNorm!$A$1:$Q$3226,6,FALSE) -> 36227.681 | Q151: =VLOOKUP($E151,[1]AllProteinsNorm!$A$1:$Q$3226,8,FALSE) -> 111998.7 | R151: =VLOOKUP($E151,[1]AllProteinsNorm!$A$1:$Q$3226,13,FALSE) -> 34874.79 | S151: =VLOOKUP($E151,[1]AllProteinsNorm!$A$1:$Q$3226,16,FALSE) -> 37172.007 | T151: =VLOOKUP($E151,[1]AllProteinsNorm!$A$1:$Q$3226,17,FALSE) -> 8837.5944 | U151: =VLOOKUP($E151,[1]AllProteinsNorm!$A$1:$Q$3226,3,FALSE) -> 59964.324 | V151: =VLOOKUP($E151,[1]AllProteinsNorm!$A$1:$Q$3226,7,FALSE) -> 36813.426 | W151: =VLOOKUP($E151,[1]AllProteinsNorm!$A$1:$Q$3226,9,FALSE) -> 25849.709 | X151: =VLOOKUP($E151,[1]AllProteinsNorm!$A$1:$Q$3226,12,FALSE) -> 288709.25 | Y151: =VLOOKUP($E151,[1]AllProteinsNorm!$A$1:$Q$3226,14,FALSE) -> 49734.223 | Z151: =K151/AVERAGE($K151:$O151) -> 0.49459143 | AA151: =L151/AVERAGE($K151:$O151) -> 0.9444097 | AB151: =M151/AVERAGE($K151:$O151) -> 0.96561964 | AC151: =N151/AVERAGE($K151:$O151) -> 0.91810263 | AD151: =O151/AVERAGE($K151:$O151) -> 1.6772766 | AE151: =P151/AVERAGE($K151:$O151) -> 1.0406399 | AF151: =Q151/AVERAGE($K151:$O151) -> 3.2171621 | AG151: =R151/AVERAGE($K151:$O151) -> 1.0017782 | ... AN151: =Y151/AVERAGE($K151:$O151) -> 1.4286153 | AO151: =_xlfn.STDEV.P(K151:O151) -> 13257.458 | AP151: =_xlfn.STDEV.P(P151:T151) -> 34738.788 | AQ151: =_xlfn.STDEV.P(U151:Y151) -> 98922.596
E152: A2AJA9 | F152: Ajm1 | G152: 0.41473956 | H152: 1.3316499 | I152: =VLOOKUP(F152,'[1]SUSMB vs SHAM all proteins sum'!$B$2:$E$3214,2,FALSE) -> 0.3383896 | J152: =VLOOKUP(F152,'[1]SUSMB vs SHAM all proteins sum'!$B$2:$E$3214,3,FALSE) -> 1.3292587 | K152: =VLOOKUP($E152,[1]AllProteinsNorm!$A$1:$Q$3226,4,FALSE) -> 28041.117 | L152: =VLOOKUP($E152,[1]AllProteinsNorm!$A$1:$Q$3226,5,FALSE) -> 75274.696 | M152: =VLOOKUP($E152,[1]AllProteinsNorm!$A$1:$Q$3226,10,FALSE) -> 115889.67 | N152: =VLOOKUP($E152,[1]AllProteinsNorm!$A$1:$Q$3226,11,FALSE) -> 89392.421 | O152: =VLOOKUP($E152,[1]AllProteinsNorm!$A$1:$Q$3226,15,FALSE) -> 110890.09 | P152: =VLOOKUP($E152,[1]AllProteinsNorm!$A$1:$Q$3226,6,FALSE) -> 128190.98 | Q152: =VLOOKUP($E152,[1]AllProteinsNorm!$A$1:$Q$3226,8,FALSE) -> 144771.11 | R152: =VLOOKUP($E152,[1]AllProteinsNorm!$A$1:$Q$3226,13,FALSE) -> 115284.71 | S152: =VLOOKUP($E152,[1]AllProteinsNorm!$A$1:$Q$3226,16,FALSE) -> 106542.15 | T152: =VLOOKUP($E152,[1]AllProteinsNorm!$A$1:$Q$3226,17,FALSE) -> 44545.136 | U152: =VLOOKUP($E152,[1]AllProteinsNorm!$A$1:$Q$3226,3,FALSE) -> 108742 | V152: =VLOOKUP($E152,[1]AllProteinsNorm!$A$1:$Q$3226,7,FALSE) -> 110900.08 | W152: =VLOOKUP($E152,[1]AllProteinsNorm!$A$1:$Q$3226,9,FALSE) -> 66018.187 | X152: =VLOOKUP($E152,[1]AllProteinsNorm!$A$1:$Q$3226,12,FALSE) -> 117782.61 | Y152: =VLOOKUP($E152,[1]AllProteinsNorm!$A$1:$Q$3226,14,FALSE) -> 107313.93 | Z152: =K152/AVERAGE($K152:$O152) -> 0.33423026 | AA152: =L152/AVERAGE($K152:$O152) -> 0.89722111 | AB152: =M152/AVERAGE($K152:$O152) -> 1.3813228 | AC152: =N152/AVERAGE($K152:$O152) -> 1.0654944 | AD152: =O152/AVERAGE($K152:$O152) -> 1.3217315 | AE152: =P152/AVERAGE($K152:$O152) -> 1.5279457 | AF152: =Q152/AVERAGE($K152:$O152) -> 1.7255692 | AG152: =R152/AVERAGE($K152:$O152) -> 1.3741122 | ... AN152: =Y152/AVERAGE($K152:$O152) -> 1.279106 | AO152: =_xlfn.STDEV.P(K152:O152) -> 31548.633 | AP152: =_xlfn.STDEV.P(P152:T152) -> 34180.152 | AQ152: =_xlfn.STDEV.P(U152:Y152) -> 18420.483
E153: A2AKB9 | F153: Dcaf10 | G153: 0.3188329 | H153: 2.9652707 | I153: =VLOOKUP(F153,'[1]SUSMB vs SHAM all proteins sum'!$B$2:$E$3214,2,FALSE) -> 0.26005768 | J153: =VLOOKUP(F153,'[1]SUSMB vs SHAM all proteins sum'!$B$2:$E$3214,3,FALSE) -> 3.1201834 | K153: =VLOOKUP($E153,[1]AllProteinsNorm!$A$1:$Q$3226,4,FALSE) -> 185012.1 | L153: =VLOOKUP($E153,[1]AllProteinsNorm!$A$1:$Q$3226,5,FALSE) -> 5016.5342 | M153: =VLOOKUP($E153,[1]AllProteinsNorm!$A$1:$Q$3226,10,FALSE) -> 2924.5198 | N153: =VLOOKUP($E153,[1]AllProteinsNorm!$A$1:$Q$3226,11,FALSE) -> 104512.78 | O153: =VLOOKUP($E153,[1]AllProteinsNorm!$A$1:$Q$3226,15,FALSE) -> 44796.181 | P153: =VLOOKUP($E153,[1]AllProteinsNorm!$A$1:$Q$3226,6,FALSE) -> 32911.067 | Q153: =VLOOKUP($E153,[1]AllProteinsNorm!$A$1:$Q$3226,8,FALSE) -> 221500.99 | R153: =VLOOKUP($E153,[1]AllProteinsNorm!$A$1:$Q$3226,13,FALSE) -> 166470.46 | S153: =VLOOKUP($E153,[1]AllProteinsNorm!$A$1:$Q$3226,16,FALSE) -> 10913.901 | T153: =VLOOKUP($E153,[1]AllProteinsNorm!$A$1:$Q$3226,17,FALSE) -> 219966.12 | U153: =VLOOKUP($E153,[1]AllProteinsNorm!$A$1:$Q$3226,3,FALSE) -> 118904.14 | V153: =VLOOKUP($E153,[1]AllProteinsNorm!$A$1:$Q$3226,7,FALSE) -> 94608.217 | W153: =VLOOKUP($E153,[1]AllProteinsNorm!$A$1:$Q$3226,9,FALSE) -> 14107.046 | X153: =VLOOKUP($E153,[1]AllProteinsNorm!$A$1:$Q$3226,12,FALSE) -> 167797.59 | Y153: =VLOOKUP($E153,[1]AllProteinsNorm!$A$1:$Q$3226,14,FALSE) -> 141130.8 | Z153: =K153/AVERAGE($K153:$O153) -> 2.7027838 | AA153: =L153/AVERAGE($K153:$O153) -> 0.073284978 | AB153: =M153/AVERAGE($K153:$O153) -> 0.042723395 | AC153: =N153/AVERAGE($K153:$O153) -> 1.5267944 | AD153: =O153/AVERAGE($K153:$O153) -> 0.65441339 | AE153: =P153/AVERAGE($K153:$O153) -> 0.48078747 | AF153: =Q153/AVERAGE($K153:$O153) -> 3.2358386 | AG153: =R153/AVERAGE($K153:$O153) -> 2.4319148 | ... AN153: =Y153/AVERAGE($K153:$O153) -> 2.0617357 | AO153: =_xlfn.STDEV.P(K153:O153) -> 68940.761 | AP153: =_xlfn.STDEV.P(P153:T153) -> 90998.425 | AQ153: =_xlfn.STDEV.P(U153:Y153) -> 52507.419
... E3354: Q9Z351 | F3354: Kcnq2 | G3354: 0.35789239 | H3354: 1.212921 | I3354: =VLOOKUP(F3354,'[1]SUSMB vs SHAM all proteins sum'!$B$2:$E$3214,2,FALSE) -> 0.98312272 | J3354: =VLOOKUP(F3354,'[1]SUSMB vs SHAM all proteins sum'!$B$2:$E$3214,3,FALSE) -> 1.0043586 | K3354: =VLOOKUP($E3354,[1]AllProteinsNorm!$A$1:$Q$3226,4,FALSE) -> 210319.44 | L3354: =VLOOKUP($E3354,[1]AllProteinsNorm!$A$1:$Q$3226,5,FALSE) -> 224569.24 | M3354: =VLOOKUP($E3354,[1]AllProteinsNorm!$A$1:$Q$3226,10,FALSE) -> 424397.07 | N3354: =VLOOKUP($E3354,[1]AllProteinsNorm!$A$1:$Q$3226,11,FALSE) -> 348803.91 | O3354: =VLOOKUP($E3354,[1]AllProteinsNorm!$A$1:$Q$3226,15,FALSE) -> 415969.91 | P3354: =VLOOKUP($E3354,[1]AllProteinsNorm!$A$1:$Q$3226,6,FALSE) -> 281124.71 | Q3354: =VLOOKUP($E3354,[1]AllProteinsNorm!$A$1:$Q$3226,8,FALSE) -> 441321.52 | R3354: =VLOOKUP($E3354,[1]AllProteinsNorm!$A$1:$Q$3226,13,FALSE) -> 272296.26 | S3354: =VLOOKUP($E3354,[1]AllProteinsNorm!$A$1:$Q$3226,16,FALSE) -> 500767.92 | T3354: =VLOOKUP($E3354,[1]AllProteinsNorm!$A$1:$Q$3226,17,FALSE) -> 451310.67 | U3354: =VLOOKUP($E3354,[1]AllProteinsNorm!$A$1:$Q$3226,3,FALSE) -> 194586.92 | V3354: =VLOOKUP($E3354,[1]AllProteinsNorm!$A$1:$Q$3226,7,FALSE) -> 323415.86 | W3354: =VLOOKUP($E3354,[1]AllProteinsNorm!$A$1:$Q$3226,9,FALSE) -> 302009.25 | X3354: =VLOOKUP($E3354,[1]AllProteinsNorm!$A$1:$Q$3226,12,FALSE) -> 411687.31 | Y3354: =VLOOKUP($E3354,[1]AllProteinsNorm!$A$1:$Q$3226,14,FALSE) -> 379862.74 | Z3354: =K3354/AVERAGE($K3354:$O3354) -> 0.64751147 | AA3354: =L3354/AVERAGE($K3354:$O3354) -> 0.69138239 | AB3354: =M3354/AVERAGE($K3354:$O3354) -> 1.3065933 | AC3354: =N3354/AVERAGE($K3354:$O3354) -> 1.0738643 | AD3354: =O3354/AVERAGE($K3354:$O3354) -> 1.2806486 | AE3354: =P3354/AVERAGE($K3354:$O3354) -> 0.86549999 | AF3354: =Q3354/AVERAGE($K3354:$O3354) -> 1.3586987 | AG3354: =R3354/AVERAGE($K3354:$O3354) -> 0.83831981 | ... AN3354: =Y3354/AVERAGE($K3354:$O3354) -> 1.1694853 | AO3354: =_xlfn.STDEV.P(K3354:O3354) -> 91607.554 | AP3354: =_xlfn.STDEV.P(P3354:T3354) -> 94200.22 | AQ3354: =_xlfn.STDEV.P(U3354:Y3354) -> 74869.421

Sheet Fig 3 Overlapping proteins
A1: Unique to SUSMB vs SHAM | B1: SUSMB FC | C1: SUSonly FC | E1: Shared | F1: SUSMB FC | G1: SUSonly FC | I1: Unique to SUSonly vs SHAM | J1: SUSMB FC | K1: SUSonly FC
A3: Lrba | B3: =VLOOKUP('Fig 3 Overlapping proteins'!A3,'[1]SUSMB vs SHAM all proteins sum'!$B$1:$D$3214,3,FALSE) -> 4.8752802 | C3: =VLOOKUP('Fig 3 Overlapping proteins'!A3,'[1]SUS vs SHAM all proteins sum'!$B$1:$D$3214,3,FALSE) -> 1.7135865 | E3: Arfgef3 | F3: =VLOOKUP('Fig 3 Overlapping proteins'!E3,'[1]SUSMB vs SHAM all proteins sum'!$B$1:$D$3214,3,FALSE) -> 2.1536161 | G3: =VLOOKUP('Fig 3 Overlapping proteins'!E3,'[1]SUS vs SHAM all proteins sum'!$B$1:$D$3214,3,FALSE) -> 1.7319666 | I3: Dnajb4 | J3: =VLOOKUP('Fig 3 Overlapping proteins'!I3,'[1]SUSMB vs SHAM all proteins sum'!$B$1:$D$3214,3,FALSE) -> 0.77463961 | K3: =VLOOKUP('Fig 3 Overlapping proteins'!I3,'[1]SUS vs SHAM all proteins sum'!$B$1:$D$3214,3,FALSE) -> 0.21686344
A4: Nell2 | B4: =VLOOKUP('Fig 3 Overlapping proteins'!A4,'[1]SUSMB vs SHAM all proteins sum'!$B$1:$D$3214,3,FALSE) -> 0.45356605 | C4: =VLOOKUP('Fig 3 Overlapping proteins'!A4,'[1]SUS vs SHAM all proteins sum'!$B$1:$D$3214,3,FALSE) -> 0.50461009 | E4: Lrrtm4 | F4: =VLOOKUP('Fig 3 Overlapping proteins'!E4,'[1]SUSMB vs SHAM all proteins sum'!$B$1:$D$3214,3,FALSE) -> 4.283188 | G4: =VLOOKUP('Fig 3 Overlapping proteins'!E4,'[1]SUS vs SHAM all proteins sum'!$B$1:$D$3214,3,FALSE) -> 4.1768509 | I4: Sorl1 | J4: =VLOOKUP('Fig 3 Overlapping proteins'!I4,'[1]SUSMB vs SHAM all proteins sum'!$B$1:$D$3214,3,FALSE) -> 1.2367485 | K4: =VLOOKUP('Fig 3 Overlapping proteins'!I4,'[1]SUS vs SHAM all proteins sum'!$B$1:$D$3214,3,FALSE) -> 2.7942553
A5: Rbsn | B5: =VLOOKUP('Fig 3 Overlapping proteins'!A5,'[1]SUSMB vs SHAM all proteins sum'!$B$1:$D$3214,3,FALSE) -> 0.32500766 | C5: =VLOOKUP('Fig 3 Overlapping proteins'!A5,'[1]SUS vs SHAM all proteins sum'!$B$1:$D$3214,3,FALSE) -> 0.38414644 | E5: Fn3krp | F5: =VLOOKUP('Fig 3 Overlapping proteins'!E5,'[1]SUSMB vs SHAM all proteins sum'!$B$1:$D$3214,3,FALSE) -> 0.3017856 | G5: =VLOOKUP('Fig 3 Overlapping proteins'!E5,'[1]SUS vs SHAM all proteins sum'!$B$1:$D$3214,3,FALSE) -> 0.51548292 | I5: Pcp4l1 | J5: =VLOOKUP('Fig 3 Overlapping proteins'!I5,'[1]SUSMB vs SHAM all proteins sum'!$B$1:$D$3214,3,FALSE) -> 0.69955641 | K5: =VLOOKUP('Fig 3 Overlapping proteins'!I5,'[1]SUS vs SHAM all proteins sum'!$B$1:$D$3214,3,FALSE) -> 0.54470998
A6: Usp7 | B6: =VLOOKUP('Fig 3 Overlapping proteins'!A6,'[1]SUSMB vs SHAM all proteins sum'!$B$1:$D$3214,3,FALSE) -> 0.4827794 | C6: =VLOOKUP('Fig 3 Overlapping proteins'!A6,'[1]SUS vs SHAM all proteins sum'!$B$1:$D$3214,3,FALSE) -> 0.66640917 | E6: Grm1 | F6: =VLOOKUP('Fig 3 Overlapping proteins'!E6,'[1]SUSMB vs SHAM all proteins sum'!$B$1:$D$3214,3,FALSE) -> 3.230868 | G6: =VLOOKUP('Fig 3 Overlapping proteins'!E6,'[1]SUS vs SHAM all proteins sum'!$B$1:$D$3214,3,FALSE) -> 2.6250474 | I6: Fam98b | J6: =VLOOKUP('Fig 3 Overlapping proteins'!I6,'[1]SUSMB vs SHAM all proteins sum'!$B$1:$D$3214,3,FALSE) -> 1.2337745 | K6: =VLOOKUP('Fig 3 Overlapping proteins'!I6,'[1]SUS vs SHAM all proteins sum'!$B$1:$D$3214,3,FALSE) -> 1.6172791
A7: Shisa6 | B7: =VLOOKUP('Fig 3 Overlapping proteins'!A7,'[1]SUSMB vs SHAM all proteins sum'!$B$1:$D$3214,3,FALSE) -> 0.61932492 | C7: =VLOOKUP('Fig 3 Overlapping proteins'!A7,'[1]SUS vs SHAM all proteins sum'!$B$1:$D$3214,3,FALSE) -> 0.81472962 | E7: Tle5 | F7: =VLOOKUP('Fig 3 Overlapping proteins'!E7,'[1]SUSMB vs SHAM all proteins sum'!$B$1:$D$3214,3,FALSE) -> 3.5713953 | G7: =VLOOKUP('Fig 3 Overlapping proteins'!E7,'[1]SUS vs SHAM all proteins sum'!$B$1:$D$3214,3,FALSE) -> 4.8149924 | I7: Wasf2 | J7: =VLOOKUP('Fig 3 Overlapping proteins'!I7,'[1]SUSMB vs SHAM all proteins sum'!$B$1:$D$3214,3,FALSE) -> 0.90366452 | K7: =VLOOKUP('Fig 3 Overlapping proteins'!I7,'[1]SUS vs SHAM all proteins sum'!$B$1:$D$3214,3,FALSE) -> 0.61981448
A8: Capg | B8: =VLOOKUP('Fig 3 Overlapping proteins'!A8,'[1]SUSMB vs SHAM all proteins sum'!$B$1:$D$3214,3,FALSE) -> 2.8872944 | C8: =VLOOKUP('Fig 3 Overlapping proteins'!A8,'[1]SUS vs SHAM all proteins sum'!$B$1:$D$3214,3,FALSE) -> 2.1980461 | E8: Chmp7 | F8: =VLOOKUP('Fig 3 Overlapping proteins'!E8,'[1]SUSMB vs SHAM all proteins sum'!$B$1:$D$3214,3,FALSE) -> 0.10705813 | G8: =VLOOKUP('Fig 3 Overlapping proteins'!E8,'[1]SUS vs SHAM all proteins sum'!$B$1:$D$3214,3,FALSE) -> 0.073967395 | I8: Gap43 | J8: =VLOOKUP('Fig 3 Overlapping proteins'!I8,'[1]SUSMB vs SHAM all proteins sum'!$B$1:$D$3214,3,FALSE) -> 0.80209537 | K8: =VLOOKUP('Fig 3 Overlapping proteins'!I8,'[1]SUS vs SHAM all proteins sum'!$B$1:$D$3214,3,FALSE) -> 0.62882218
A9: Tbc1d13 | B9: =VLOOKUP('Fig 3 Overlapping proteins'!A9,'[1]SUSMB vs SHAM all proteins sum'!$B$1:$D$3214,3,FALSE) -> 2.8468484 | C9: =VLOOKUP('Fig 3 Overlapping proteins'!A9,'[1]SUS vs SHAM all proteins sum'!$B$1:$D$3214,3,FALSE) -> 1.3481303 | E9: Pkia | F9: =VLOOKUP('Fig 3 Overlapping proteins'!E9,'[1]SUSMB vs SHAM all proteins sum'!$B$1:$D$3214,3,FALSE) -> 0.59194908 | G9: =VLOOKUP('Fig 3 Overlapping proteins'!E9,'[1]SUS vs SHAM all proteins sum'!$B$1:$D$3214,3,FALSE) -> 0.49415997 | I9: Ppm1k | J9: =VLOOKUP('Fig 3 Overlapping proteins'!I9,'[1]SUSMB vs SHAM all proteins sum'!$B$1:$D$3214,3,FALSE) -> 1.5800009 | K9: =VLOOKUP('Fig 3 Overlapping proteins'!I9,'[1]SUS vs SHAM all proteins sum'!$B$1:$D$3214,3,FALSE) -> 3.1283498
A10: Gria4 | B10: =VLOOKUP('Fig 3 Overlapping proteins'!A10,'[1]SUSMB vs SHAM all proteins sum'!$B$1:$D$3214,3,FALSE) -> 0.26855308 | C10: =VLOOKUP('Fig 3 Overlapping proteins'!A10,'[1]SUS vs SHAM all proteins sum'!$B$1:$D$3214,3,FALSE) -> 0.4499974 | E10: Ccdc167 | F10: =VLOOKUP('Fig 3 Overlapping proteins'!E10,'[1]SUSMB vs SHAM all proteins sum'!$B$1:$D$3214,3,FALSE) -> 2.8262443 | G10: =VLOOKUP('Fig 3 Overlapping proteins'!E10,'[1]SUS vs SHAM all proteins sum'!$B$1:$D$3214,3,FALSE) -> 2.9827295 | I10: Tenm1 | J10: =VLOOKUP('Fig 3 Overlapping proteins'!I10,'[1]SUSMB vs SHAM all proteins sum'!$B$1:$D$3214,3,FALSE) -> 0.76640773 | K10: =VLOOKUP('Fig 3 Overlapping proteins'!I10,'[1]SUS vs SHAM all proteins sum'!$B$1:$D$3214,3,FALSE) -> 0.3085277
A11: Nmt1 | B11: =VLOOKUP('Fig 3 Overlapping proteins'!A11,'[1]SUSMB vs SHAM all proteins sum'!$B$1:$D$3214,3,FALSE) -> 1.5317711 | C11: =VLOOKUP('Fig 3 Overlapping proteins'!A11,'[1]SUS vs SHAM all proteins sum'!$B$1:$D$3214,3,FALSE) -> 0.97974296 | I11: Gmppa | J11: =VLOOKUP('Fig 3 Overlapping proteins'!I11,'[1]SUSMB vs SHAM all proteins sum'!$B$1:$D$3214,3,FALSE) -> 0.77084682 | K11: =VLOOKUP('Fig 3 Overlapping proteins'!I11,'[1]SUS vs SHAM all proteins sum'!$B$1:$D$3214,3,FALSE) -> 0.53391114
A12: Akap12 | B12: =VLOOKUP('Fig 3 Overlapping proteins'!A12,'[1]SUSMB vs SHAM all proteins sum'!$B$1:$D$3214,3,FALSE) -> 4.6941754 | C12: =VLOOKUP('Fig 3 Overlapping proteins'!A12,'[1]SUS vs SHAM all proteins sum'!$B$1:$D$3214,3,FALSE) -> 2.5447745 | I12: Ptgfrn | J12: =VLOOKUP('Fig 3 Overlapping proteins'!I12,'[1]SUSMB vs SHAM all proteins sum'!$B$1:$D$3214,3,FALSE) -> 0.650158 | K12: =VLOOKUP('Fig 3 Overlapping proteins'!I12,'[1]SUS vs SHAM all proteins sum'!$B$1:$D$3214,3,FALSE) -> 0.20148778
A13: Acp6 | B13: =VLOOKUP('Fig 3 Overlapping proteins'!A13,'[1]SUSMB vs SHAM all proteins sum'!$B$1:$D$3214,3,FALSE) -> 1.9608994 | C13: =VLOOKUP('Fig 3 Overlapping proteins'!A13,'[1]SUS vs SHAM all proteins sum'!$B$1:$D$3214,3,FALSE) -> 1.0937365 | I13: Klc4 | J13: =VLOOKUP('Fig 3 Overlapping proteins'!I13,'[1]SUSMB vs SHAM all proteins sum'!$B$1:$D$3214,3,FALSE) -> 1.1400626 | K13: =VLOOKUP('Fig 3 Overlapping proteins'!I13,'[1]SUS vs SHAM all proteins sum'!$B$1:$D$3214,3,FALSE) -> 0.43239218
A14: Hip1 | B14: =VLOOKUP('Fig 3 Overlapping proteins'!A14,'[1]SUSMB vs SHAM all proteins sum'!$B$1:$D$3214,3,FALSE) -> 4.3880336 | C14: =VLOOKUP('Fig 3 Overlapping proteins'!A14,'[1]SUS vs SHAM all proteins sum'!$B$1:$D$3214,3,FALSE) -> 3.0710163 | I14: Qars | J14: =VLOOKUP('Fig 3 Overlapping proteins'!I14,'[1]SUSMB vs SHAM all proteins sum'!$B$1:$D$3214,3,FALSE) -> 1.2466618 | K14: =VLOOKUP('Fig 3 Overlapping proteins'!I14,'[1]SUS vs SHAM all proteins sum'!$B$1:$D$3214,3,FALSE) -> 1.5859161
A15: Numb | B15: =VLOOKUP('Fig 3 Overlapping proteins'!A15,'[1]SUSMB vs SHAM all proteins sum'!$B$1:$D$3214,3,FALSE) -> 0.4087972 | C15: =VLOOKUP('Fig 3 Overlapping proteins'!A15,'[1]SUS vs SHAM all proteins sum'!$B$1:$D$3214,3,FALSE) -> 0.51531984 | I15: Abcd3 | J15: =VLOOKUP('Fig 3 Overlapping proteins'!I15,'[1]SUSMB vs SHAM all proteins sum'!$B$1:$D$3214,3,FALSE) -> 2.5606228 | K15: =VLOOKUP('Fig 3 Overlapping proteins'!I15,'[1]SUS vs SHAM all proteins sum'!$B$1:$D$3214,3,FALSE) -> 4.94147
A16: Lmtk3 | B16: =VLOOKUP('Fig 3 Overlapping proteins'!A16,'[1]SUSMB vs SHAM all proteins sum'!$B$1:$D$3214,3,FALSE) -> 1.8613487 | C16: =VLOOKUP('Fig 3 Overlapping proteins'!A16,'[1]SUS vs SHAM all proteins sum'!$B$1:$D$3214,3,FALSE) -> 1.1811045 | I16: Tpm2 | J16: =VLOOKUP('Fig 3 Overlapping proteins'!I16,'[1]SUSMB vs SHAM all proteins sum'!$B$1:$D$3214,3,FALSE) -> 0.97598157 | K16: =VLOOKUP('Fig 3 Overlapping proteins'!I16,'[1]SUS vs SHAM all proteins sum'!$B$1:$D$3214,3,FALSE) -> 0.52566605
A17: Hapln4 | B17: =VLOOKUP('Fig 3 Overlapping proteins'!A17,'[1]SUSMB vs SHAM all proteins sum'!$B$1:$D$3214,3,FALSE) -> 1.9650642 | C17: =VLOOKUP('Fig 3 Overlapping proteins'!A17,'[1]SUS vs SHAM all proteins sum'!$B$1:$D$3214,3,FALSE) -> 1.148451 | I17: Pym1 | J17: =VLOOKUP('Fig 3 Overlapping proteins'!I17,'[1]SUSMB vs SHAM all proteins sum'!$B$1:$D$3214,3,FALSE) -> 1.2436603 | K17: =VLOOKUP('Fig 3 Overlapping proteins'!I17,'[1]SUS vs SHAM all proteins sum'!$B$1:$D$3214,3,FALSE) -> 0.44973732
A18: Bcl2l1 | B18: =VLOOKUP('Fig 3 Overlapping proteins'!A18,'[1]SUSMB vs SHAM all proteins sum'!$B$1:$D$3214,3,FALSE) -> 0.45896889 | C18: =VLOOKUP('Fig 3 Overlapping proteins'!A18,'[1]SUS vs SHAM all proteins sum'!$B$1:$D$3214,3,FALSE) -> 0.6004021 | I18: Eps15 | J18: =VLOOKUP('Fig 3 Overlapping proteins'!I18,'[1]SUSMB vs SHAM all proteins sum'!$B$1:$D$3214,3,FALSE) -> 0.98123006 | K18: =VLOOKUP('Fig 3 Overlapping proteins'!I18,'[1]SUS vs SHAM all proteins sum'!$B$1:$D$3214,3,FALSE) -> 1.5232734
A19: Washc5 | B19: =VLOOKUP('Fig 3 Overlapping proteins'!A19,'[1]SUSMB vs SHAM all proteins sum'!$B$1:$D$3214,3,FALSE) -> 1.7613345 | C19: =VLOOKUP('Fig 3 Overlapping proteins'!A19,'[1]SUS vs SHAM all proteins sum'!$B$1:$D$3214,3,FALSE) -> 1.3737985 | I19: Vgf | J19: =VLOOKUP('Fig 3 Overlapping proteins'!I19,'[1]SUSMB vs SHAM all proteins sum'!$B$1:$D$3214,3,FALSE) -> 0.77968202 | K19: =VLOOKUP('Fig 3 Overlapping proteins'!I19,'[1]SUS vs SHAM all proteins sum'!$B$1:$D$3214,3,FALSE) -> 0.52817009
A20: Wdr54 | B20: =VLOOKUP('Fig 3 Overlapping proteins'!A20,'[1]SUSMB vs SHAM all proteins sum'!$B$1:$D$3214,3,FALSE) -> 0.63154877 | C20: =VLOOKUP('Fig 3 Overlapping proteins'!A20,'[1]SUS vs SHAM all proteins sum'!$B$1:$D$3214,3,FALSE) -> 0.80145405 | I20: Ndufb1 | J20: =VLOOKUP('Fig 3 Overlapping proteins'!I20,'[1]SUSMB vs SHAM all proteins sum'!$B$1:$D$3214,3,FALSE) -> 1.2315606 | K20: =VLOOKUP('Fig 3 Overlapping proteins'!I20,'[1]SUS vs SHAM all proteins sum'!$B$1:$D$3214,3,FALSE) -> 1.5416149
A21: Gfra2 | B21: =VLOOKUP('Fig 3 Overlapping proteins'!A21,'[1]SUSMB vs SHAM all proteins sum'!$B$1:$D$3214,3,FALSE) -> 2.581063 | C21: =VLOOKUP('Fig 3 Overlapping proteins'!A21,'[1]SUS vs SHAM all proteins sum'!$B$1:$D$3214,3,FALSE) -> 1.9263621 | I21: Coq8a | J21: =VLOOKUP('Fig 3 Overlapping proteins'!I21,'[1]SUSMB vs SHAM all proteins sum'!$B$1:$D$3214,3,FALSE) -> 2.2009757 | K21: =VLOOKUP('Fig 3 Overlapping proteins'!I21,'[1]SUS vs SHAM all proteins sum'!$B$1:$D$3214,3,FALSE) -> 2.640894
A22: Akap7 | B22: =VLOOKUP('Fig 3 Overlapping proteins'!A22,'[1]SUSMB vs SHAM all proteins sum'!$B$1:$D$3214,3,FALSE) -> 0.31228725 | C22: =VLOOKUP('Fig 3 Overlapping proteins'!A22,'[1]SUS vs SHAM all proteins sum'!$B$1:$D$3214,3,FALSE) -> 1.7544464 | I22: Dnpep | J22: =VLOOKUP('Fig 3 Overlapping proteins'!I22,'[1]SUSMB vs SHAM all proteins sum'!$B$1:$D$3214,3,FALSE) -> 0.97642694 | K22: =VLOOKUP('Fig 3 Overlapping proteins'!I22,'[1]SUS vs SHAM all proteins sum'!$B$1:$D$3214,3,FALSE) -> 0.35108069
... A33: Lysmd1 | B33: =VLOOKUP('Fig 3 Overlapping proteins'!A33,'[1]SUSMB vs SHAM all proteins sum'!$B$1:$D$3214,3,FALSE) -> 0.43912048 | C33: =VLOOKUP('Fig 3 Overlapping proteins'!A33,'[1]SUS vs SHAM all proteins sum'!$B$1:$D$3214,3,FALSE) -> 0.8734821 | I33: Lysmd2 | J33: =VLOOKUP('Fig 3 Overlapping proteins'!I33,'[1]SUSMB vs SHAM all proteins sum'!$B$1:$D$3214,3,FALSE) -> 1.2068791 | K33: =VLOOKUP('Fig 3 Overlapping proteins'!I33,'[1]SUS vs SHAM all proteins sum'!$B$1:$D$3214,3,FALSE) -> 0.30562549
I34: Gdap1 | J34: =VLOOKUP('Fig 3 Overlapping proteins'!I34,'[1]SUSMB vs SHAM all proteins sum'!$B$1:$D$3214,3,FALSE) -> 1.4635513 | K34: =VLOOKUP('Fig 3 Overlapping proteins'!I34,'[1]SUS vs SHAM all proteins sum'!$B$1:$D$3214,3,FALSE) -> 1.8549227
I35: Cdkl5 | J35: =VLOOKUP('Fig 3 Overlapping proteins'!I35,'[1]SUSMB vs SHAM all proteins sum'!$B$1:$D$3214,3,FALSE) -> 0.73464878 | K35: =VLOOKUP('Fig 3 Overlapping proteins'!I35,'[1]SUS vs SHAM all proteins sum'!$B$1:$D$3214,3,FALSE) -> 0.34648744
I36: Nae1 | J36: =VLOOKUP('Fig 3 Overlapping proteins'!I36,'[1]SUSMB vs SHAM all proteins sum'!$B$1:$D$3214,3,FALSE) -> 1.0214664 | K36: =VLOOKUP('Fig 3 Overlapping proteins'!I36,'[1]SUS vs SHAM all proteins sum'!$B$1:$D$3214,3,FALSE) -> 0.63985201
I37: Hdgfl2 | J37: =VLOOKUP('Fig 3 Overlapping proteins'!I37,'[1]SUSMB vs SHAM all proteins sum'!$B$1:$D$3214,3,FALSE) -> 0.99662917 | K37: =VLOOKUP('Fig 3 Overlapping proteins'!I37,'[1]SUS vs SHAM all proteins sum'!$B$1:$D$3214,3,FALSE) -> 0.40756381
I38: Ric8a | J38: =VLOOKUP('Fig 3 Overlapping proteins'!I38,'[1]SUSMB vs SHAM all proteins sum'!$B$1:$D$3214,3,FALSE) -> 0.88178158 | K38: =VLOOKUP('Fig 3 Overlapping proteins'!I38,'[1]SUS vs SHAM all proteins sum'!$B$1:$D$3214,3,FALSE) -> 0.53183547
I39: Mrpl20 | J39: =VLOOKUP('Fig 3 Overlapping proteins'!I39,'[1]SUSMB vs SHAM all proteins sum'!$B$1:$D$3214,3,FALSE) -> 2.2698996 | K39: =VLOOKUP('Fig 3 Overlapping proteins'!I39,'[1]SUS vs SHAM all proteins sum'!$B$1:$D$3214,3,FALSE) -> 3.3709867
I40: Krt8 | J40: =VLOOKUP('Fig 3 Overlapping proteins'!I40,'[1]SUSMB vs SHAM all proteins sum'!$B$1:$D$3214,3,FALSE) -> 2.2047095 | K40: =VLOOKUP('Fig 3 Overlapping proteins'!I40,'[1]SUS vs SHAM all proteins sum'!$B$1:$D$3214,3,FALSE) -> 3.7415908
I41: Sort1 | J41: =VLOOKUP('Fig 3 Overlapping proteins'!I41,'[1]SUSMB vs SHAM all proteins sum'!$B$1:$D$3214,3,FALSE) -> 2.1614048 | K41: =VLOOKUP('Fig 3 Overlapping proteins'!I41,'[1]SUS vs SHAM all proteins sum'!$B$1:$D$3214,3,FALSE) -> 2.2598771
I42: Adcy5 | J42: =VLOOKUP('Fig 3 Overlapping proteins'!I42,'[1]SUSMB vs SHAM all proteins sum'!$B$1:$D$3214,3,FALSE) -> 1.21486 | K42: =VLOOKUP('Fig 3 Overlapping proteins'!I42,'[1]SUS vs SHAM all proteins sum'!$B$1:$D$3214,3,FALSE) -> 3.2236993
I43: Chchd7 | J43: =VLOOKUP('Fig 3 Overlapping proteins'!I43,'[1]SUSMB vs SHAM all proteins sum'!$B$1:$D$3214,3,FALSE) -> 2.0954251 | K43: =VLOOKUP('Fig 3 Overlapping proteins'!I43,'[1]SUS vs SHAM all proteins sum'!$B$1:$D$3214,3,FALSE) -> 1.8877456
I44: Coq9 | J44: =VLOOKUP('Fig 3 Overlapping proteins'!I44,'[1]SUSMB vs SHAM all proteins sum'!$B$1:$D$3214,3,FALSE) -> 1.404861 | K44: =VLOOKUP('Fig 3 Overlapping proteins'!I44,'[1]SUS vs SHAM all proteins sum'!$B$1:$D$3214,3,FALSE) -> 1.6666554
I45: Pdcd5 | J45: =VLOOKUP('Fig 3 Overlapping proteins'!I45,'[1]SUSMB vs SHAM all proteins sum'!$B$1:$D$3214,3,FALSE) -> 0.74715988 | K45: =VLOOKUP('Fig 3 Overlapping proteins'!I45,'[1]SUS vs SHAM all proteins sum'!$B$1:$D$3214,3,FALSE) -> 0.58587463
... I53: Ccdc167 | J53: =VLOOKUP('Fig 3 Overlapping proteins'!I53,'[1]SUSMB vs SHAM all proteins sum'!$B$1:$D$3214,3,FALSE) -> 2.8262443 | K53: =VLOOKUP('Fig 3 Overlapping proteins'!I53,'[1]SUS vs SHAM all proteins sum'!$B$1:$D$3214,3,FALSE) -> 2.9827295

Sheet SUS protein functions
C1: FC | D1: Protien | E1: Function
B2: 1 | C2: 0.073967395 | D2: Chmp7 | E2: Endosomal sorting
B3: 2 | C3: 0.20148778 | D3: Ptgfrn | E3: Decreases FP receptor numbers
B4: 3 | C4: 0.21686344 | D4: Dnajb4 | E4: Protein chaperone, heat shock protein
B5: 4 | C5: 0.30562549 | D5: Lysmd2
B6: 5 | C6: 0.3085277 | D6: Tenm1 | E6: Invovled in neural development and neuroplasticity in the limbic systems.
B7: 6 | C7: 0.34648744 | D7: Cdkl5 | E7: Regulates axon outgrowth, dendritic morphogenesis, and synapse formation. | H7: Cell sorting
B8: 7 | C8: 0.35108069 | D8: Dnpep | E8: Likely to play an important role in intracellular protein and peptide metabolism. | H8: Synapse
B9: 8 | C9: 0.38271786 | D9: Snx30 | E9: Plays a role in the reorganization of the cytoskeleton, endocytosis and cellular vesicle trafficking via its interactions with membranes, | H9: Mitochonrdia
B10: 9 | C10: 0.39197903 | D10: Nipa1 | E10: Acts as a Mg2+ transporter. | H10: Neuronal structural changes/neurogensis
B11: 10 | C11: 0.40756381 | D11: Hdgfl2
B12: 11 | C12: 0.43239218 | D12: Klc4 | E12: Kinesin is a microtubule-associated force-producing protein that may play a role in organelle transport
B13: 12 | C13: 0.44973732 | D13: Pym1 | E13: Key regulator of the exon junction complex (EJC)
B14: 13 | C14: 0.48335502 | D14: Ephb1 | E14: Receptor tyrosine kinase which binds promiscuously transmembrane ephrin-B family ligands residing on adjacent cells, leading to contact-dependent bidirectional signaling into neighboring cells.
B15: 14 | C15: 0.49415997 | D15: Pkia | E15: Extremely potent competitive inhibitor of cAMP-dependent protein kinase activity
B16: 15 | C16: 0.51548292 | D16: Fn3krp | E16: Ketosamine-3-kinase involved in protein deglycation by mediating phosphorylation of ribuloselysine and psicoselysine on glycated proteins
B17: 16 | C17: 0.52566605 | D17: Tpm2 | E17: In non-muscle cells is implicated in stabilizing cytoskeleton actin filaments.
B18: 17 | C18: 0.52817009 | D18: Vgf | E18: VGF and peptides derived from its processing play many roles in neurogenesis and neuroplasticity associated with learning, memory, depression and chronic pain
B19: 18 | C19: 0.53183547 | D19: Ric8a | E19: Guanine nucleotide exchange factor (GEF), which can activate some, but not all, G-alpha proteins
B20: 19 | C20: 0.53391114 | D20: Gmppa | E20: GMPPA is a close homolog of GMPPB, that has been shown to catalyze the formation of GDP-mannose, an essential precursor of glycan moieties of glycoproteins and glycolipids.
B21: 20 | C21: 0.5441735 | D21: Eif3h | E21: Component of the eukaryotic translation initiation factor 3 (eIF-3) complex, which is required for several steps in the initiation of protein synthesis
B22: 21 | C22: 0.54470998 | D22: Pcp4l1
B23: 22 | C23: 0.58587463 | D23: Pdcd5 | E23: May function in the process of apoptosis.
B24: 23 | C24: 0.58908733 | D24: Hnrnpa1 | E24: Involved in the packaging of pre-mRNA into hnRNP particles, transport of poly(A) mRNA from the nucleus to the cytoplasm and may modulate splice site selection. (We observed decreased synthesis in LTM)
B25: 24 | C25: 0.59700102 | D25: Cplx2 | E25: Negatively regulates the formation of synaptic vesicle clustering at active zone to the presynaptic membrane in postmitotic neurons.
B26: 25 | C26: 0.61981448 | D26: Wasf2 | E26: Downstream effector molecule involved in the transmission of signals from tyrosine kinase receptors and small GTPases to the actin cytoskeleton.
B27: 26 | C27: 0.62882218 | D27: Gap43 | E27: This protein is associated with nerve growth.
B28: 27 | C28: 0.63985201 | D28: Nae1
B29: 1 | C29: 1.5232734 | D29: Eps15 | E29: Involved in cell growth regulation. Acts as a clathrin adapter required for post-Golgi trafficking.
B30: 2 | C30: 1.5299667 | D30: Scn2b | E30: Crucial in the assembly, expression, and functional modulation of the heterotrimeric complex of the sodium channel. | F30: Possible synapse?
B31: 3 | C31: 1.5416149 | D31: Ndufb1 | E31: Accessory subunit of the mitochondrial membrane respiratory chain NADH dehydrogenase (Complex I)
B32: 4 | C32: 1.5859161 | D32: Qars | E32: Glutamine--tRNA ligase
B33: 5 | C33: 1.6172791 | D33: Fam98b | E33: Positively stimulates PRMT1-induced protein arginine dimethylated arginine methylation
B34: 6 | C34: 1.6666554 | D34: Coq9 | E34: Lipid-binding protein involved in the biosynthesis of coenzyme Q, also named ubiquinone, an essential lipid-soluble electron transporter for aerobic cellular respiration
B35: 7 | C35: 1.7319666 | D35: Arfgef3 | E35: Participates in the regulation of systemic glucose homeostasis, where it negatively regulates insulin granule biogenesis in pancreatic islet beta cells
B36: 8 | C36: 1.8549227 | D36: Gdap1 | E36: Regulates the mitochondrial network by promoting mitochondrial fission
B37: 9 | C37: 1.8877456 | D37: Chchd7 | E37: Mitochondrial protein
B38: 10 | C38: 2.2598771 | D38: Sort1 | E38: Functions as a sorting receptor in the Golgi compartment and as a clearance receptor on the cell surface.
B39: 11 | C39: 2.5284973 | D39: Phldb1
B40: 12 | C40: 2.6250474 | D40: Grm1 | E40: G-protein coupled receptor for glutamate. mGluR1
B41: 13 | C41: 2.640894 | D41: Coq8a | E41: Atypical kinase involved in the biosynthesis of coenzyme Q, also named ubiquinone, an essential lipid-soluble electron transporter for aerobic cellular respiration
B42: 14 | C42: 2.7437075 | D42: Gstm3 | E42: Conjugation of reduced glutathione to a wide number of exogenous and endogenous hydrophobic electrophiles.
B43: 15 | C43: 2.7942553 | D43: Sorl1 | E43: Sorting receptor that directs several proteins to their correct location within the cell
B44: 16 | C44: 2.9827295 | D44: Ccdc167
B45: 17 | C45: 3.1283498 | D45: Ppm1k | E45: Regulates the mitochondrial permeability transition pore and is essential for cellular survival and development.
B46: 18 | C46: 3.2236993 | D46: Adcy5 | E46: Catalyzes the formation of the signaling molecule cAMP in response to G-protein signaling
B47: 19 | C47: 3.3709867 | D47: Mrpl20 | E47: Mitochondrial ribosome protein
B48: 20 | C48: 3.7415908 | D48: Krt8
B49: 21 | C49: 3.8176126 | D49: Tbc1d9b | E49: May act as a GTPase-activating protein for Rab family protein
B50: 22 | C50: 4.1768509 | D50: Lrrtm4 | E50: May play a role in the development and maintenance of the vertebrate nervous system. Exhibits strong synaptogenic activity, restricted to excitatory presynaptic differentiation
B51: 23 | C51: 4.8149924 | D51: Tle5 | E51: Transcriptional corepressor. Acts as dominant repressor towards other family members. Inhibits NF-kappa-B-regulated gene expression.
B52: 24 | C52: 4.94147 | D52: Abcd3 | E52: Probable transporter involved in the transport of branched-chain fatty acids and C27 bile acids into the peroxisome
