Workbook

Sheet Supplementary Table 2
E2: SUSonly vs SHAM significant proteins
K4: RAW values | Z4: FC value
E5: Uniprot | F5: Gene Name | G5: PvalProteins SUS VS SHAM | H5: FCProteins SUS VS SHAM | I5: PvalProteins SUSMB VS SHAM | J5: FCProteins SUSMB VS SHAM | K5: X1068 | L5: X2396 | M5: X1066 | N5: X1071 | O5: X1065 | P5: X2400 | Q5: X2408 | R5: X2403 | S5: X2398 | T5: X2404 | U5: X2315 | V5: X2402 | W5: X962 | X5: X2314 | Y5: X956 | Z5: X1068 | AA5: X2396 | AB5: X1066 | AC5: X1071 | AD5: X1065 | AE5: X2400 | AF5: X2408 | AG5: X2403 | AH5: X2398 | AI5: X2404 | AJ5: X2315 | AK5: X2402 | AL5: X962 | AM5: X2314 | AN5: X956 | AO5: Sham SD | AP5: SUS SD | AQ5: SUSMB SD | AR5: STRING annotation
E6: Q8R1T1 | F6: Chmp7 | G6: 0.023964043 | H6: 0.073967395 | I6: =VLOOKUP(F6,'[1]SUSMB vs SHAM all proteins sum'!$B$2:$E$3214,2,FALSE) -> 0.03382046 | J6: =VLOOKUP(F6,'[1]SUSMB vs SHAM all proteins sum'!$B$2:$E$3214,3,FALSE) -> 0.10705813 | K6: =VLOOKUP($E6,[1]AllProteinsNorm!$A$1:$Q$3226,4,FALSE) -> 2075758.8 | L6: =VLOOKUP($E6,[1]AllProteinsNorm!$A$1:$Q$3226,5,FALSE) -> 2063036.5 | M6: =VLOOKUP($E6,[1]AllProteinsNorm!$A$1:$Q$3226,10,FALSE) -> 1938090.9 | N6: =VLOOKUP($E6,[1]AllProteinsNorm!$A$1:$Q$3226,11,FALSE) -> 2342519.2 | O6: =VLOOKUP($E6,[1]AllProteinsNorm!$A$1:$Q$3226,15,FALSE) -> 2023286.1 | P6: =VLOOKUP($E6,[1]AllProteinsNorm!$A$1:$Q$3226,6,FALSE) -> 63267.258 | Q6: =VLOOKUP($E6,[1]AllProteinsNorm!$A$1:$Q$3226,8,FALSE) -> 50898.273 | R6: =VLOOKUP($E6,[1]AllProteinsNorm!$A$1:$Q$3226,13,FALSE) -> 13989.342 | S6: =VLOOKUP($E6,[1]AllProteinsNorm!$A$1:$Q$3226,16,FALSE) -> 1126556.9 | T6: =VLOOKUP($E6,[1]AllProteinsNorm!$A$1:$Q$3226,17,FALSE) -> 1716198.4 | U6: =VLOOKUP($E6,[1]AllProteinsNorm!$A$1:$Q$3226,3,FALSE) -> 41586.092 | V6: =VLOOKUP($E6,[1]AllProteinsNorm!$A$1:$Q$3226,7,FALSE) -> 101616.36 | W6: =VLOOKUP($E6,[1]AllProteinsNorm!$A$1:$Q$3226,9,FALSE) -> 1531741.1 | X6: =VLOOKUP($E6,[1]AllProteinsNorm!$A$1:$Q$3226,12,FALSE) -> 39777.392 | Y6: =VLOOKUP($E6,[1]AllProteinsNorm!$A$1:$Q$3226,14,FALSE) -> 2148638.2 | Z6: =K6/AVERAGE($K6:$O6) -> 0.99388112 | AA6: =L6/AVERAGE($K6:$O6) -> 0.98778964 | AB6: =M6/AVERAGE($K6:$O6) -> 0.92796523 | AC6: =N6/AVERAGE($K6:$O6) -> 1.121607 | AD6: =O6/AVERAGE($K6:$O6) -> 0.96875699 | AE6: =P6/AVERAGE($K6:$O6) -> 0.030292602 | AF6: =Q6/AVERAGE($K6:$O6) -> 0.024370285 | AG6: =R6/AVERAGE($K6:$O6) -> 0.0066981496 | ... AN6: =Y6/AVERAGE($K6:$O6) -> 1.0287761 | AO6: =_xlfn.STDEV.P(K6:O6) -> 135802.97 | AP6: =_xlfn.STDEV.P(P6:T6) -> 700855.93 | AQ6: =_xlfn.STDEV.P(U6:Y6) -> 893465.8 | AR6: Charged multivesicular body protein 7; ESCRT-III-like protein required to recruit the ESCRT-III complex to the nuclear envelope during late anaphase. Together with SPAST, the ESCRT-III complex promotes nuclear envelope sealing and mitotic spindle disassembly during late anaphase. Plays a role in the endosomal sorting pathway; Belongs to the SNF7 family
E7: Q9WV91 | F7: Ptgfrn | G7: 0.016282753 | H7: 0.20148778 | I7: =VLOOKUP(F7,'[1]SUSMB vs SHAM all proteins sum'!$B$2:$E$3214,2,FALSE) -> 0.31984734 | J7: =VLOOKUP(F7,'[1]SUSMB vs SHAM all proteins sum'!$B$2:$E$3214,3,FALSE) -> 0.650158 | K7: =VLOOKUP($E7,[1]AllProteinsNorm!$A$1:$Q$3226,4,FALSE) -> 58165.491 | L7: =VLOOKUP($E7,[1]AllProteinsNorm!$A$1:$Q$3226,5,FALSE) -> 159955.72 | M7: =VLOOKUP($E7,[1]AllProteinsNorm!$A$1:$Q$3226,10,FALSE) -> 57966.151 | N7: =VLOOKUP($E7,[1]AllProteinsNorm!$A$1:$Q$3226,11,FALSE) -> 157474.45 | O7: =VLOOKUP($E7,[1]AllProteinsNorm!$A$1:$Q$3226,15,FALSE) -> 160926.9 | P7: =VLOOKUP($E7,[1]AllProteinsNorm!$A$1:$Q$3226,6,FALSE) -> 5858.678 | Q7: =VLOOKUP($E7,[1]AllProteinsNorm!$A$1:$Q$3226,8,FALSE) -> 38947.233 | R7: =VLOOKUP($E7,[1]AllProteinsNorm!$A$1:$Q$3226,13,FALSE) -> 87697.252 | S7: =VLOOKUP($E7,[1]AllProteinsNorm!$A$1:$Q$3226,16,FALSE) -> 12194.479 | T7: =VLOOKUP($E7,[1]AllProteinsNorm!$A$1:$Q$3226,17,FALSE) -> 18599.293 | U7: =VLOOKUP($E7,[1]AllProteinsNorm!$A$1:$Q$3226,3,FALSE) -> 26450.742 | V7: =VLOOKUP($E7,[1]AllProteinsNorm!$A$1:$Q$3226,7,FALSE) -> 88708.693 | W7: =VLOOKUP($E7,[1]AllProteinsNorm!$A$1:$Q$3226,9,FALSE) -> 127952.95 | X7: =VLOOKUP($E7,[1]AllProteinsNorm!$A$1:$Q$3226,12,FALSE) -> 40214.765 | Y7: =VLOOKUP($E7,[1]AllProteinsNorm!$A$1:$Q$3226,14,FALSE) -> 131502.2 | Z7: =K7/AVERAGE($K7:$O7) -> 0.48920602 | AA7: =L7/AVERAGE($K7:$O7) -> 1.3453218 | AB7: =M7/AVERAGE($K7:$O7) -> 0.48752945 | AC7: =N7/AVERAGE($K7:$O7) -> 1.3244528 | AD7: =O7/AVERAGE($K7:$O7) -> 1.3534899 | AE7: =P7/AVERAGE($K7:$O7) -> 0.049274931 | AF7: =Q7/AVERAGE($K7:$O7) -> 0.32756916 | AG7: =R7/AVERAGE($K7:$O7) -> 0.73758552 | ... AN7: =Y7/AVERAGE($K7:$O7) -> 1.106011 | AO7: =_xlfn.STDEV.P(K7:O7) -> 49681.857 | AP7: =_xlfn.STDEV.P(P7:T7) -> 29676.524 | AQ7: =_xlfn.STDEV.P(U7:Y7) -> 43437.794 | AR7: Prostaglandin F2 receptor negative regulator; Inhibits the binding of prostaglandin F2-alpha (PGF2- alpha) to its specific FP receptor, by decreasing the receptor number rather than the affinity constant. Functional coupling with the prostaglandin F2-alpha receptor seems to occur (By similarity)
E8: Q9D832 | F8: Dnajb4 | G8: 0.0020650341 | H8: 0.21686344 | I8: =VLOOKUP(F8,'[1]SUSMB vs SHAM all proteins sum'!$B$2:$E$3214,2,FALSE) -> 0.5689104 | J8: =VLOOKUP(F8,'[1]SUSMB vs SHAM all proteins sum'!$B$2:$E$3214,3,FALSE) -> 0.77463961 | K8: =VLOOKUP($E8,[1]AllProteinsNorm!$A$1:$Q$3226,4,FALSE) -> 60026.702 | L8: =VLOOKUP($E8,[1]AllProteinsNorm!$A$1:$Q$3226,5,FALSE) -> 30265.82 | M8: =VLOOKUP($E8,[1]AllProteinsNorm!$A$1:$Q$3226,10,FALSE) -> 57689.211 | N8: =VLOOKUP($E8,[1]AllProteinsNorm!$A$1:$Q$3226,11,FALSE) -> 43785.492 | O8: =VLOOKUP($E8,[1]AllProteinsNorm!$A$1:$Q$3226,15,FALSE) -> 51538.965 | P8: =VLOOKUP($E8,[1]AllProteinsNorm!$A$1:$Q$3226,6,FALSE) -> 6160.8948 | Q8: =VLOOKUP($E8,[1]AllProteinsNorm!$A$1:$Q$3226,8,FALSE) -> 7390.592 | R8: =VLOOKUP($E8,[1]AllProteinsNorm!$A$1:$Q$3226,13,FALSE) -> 15318.945 | S8: =VLOOKUP($E8,[1]AllProteinsNorm!$A$1:$Q$3226,16,FALSE) -> 5524.6595 | T8: =VLOOKUP($E8,[1]AllProteinsNorm!$A$1:$Q$3226,17,FALSE) -> 29439.589 | U8: =VLOOKUP($E8,[1]AllProteinsNorm!$A$1:$Q$3226,3,FALSE) -> 75510.134 | V8: =VLOOKUP($E8,[1]AllProteinsNorm!$A$1:$Q$3226,7,FALSE) -> 8261.4544 | W8: =VLOOKUP($E8,[1]AllProteinsNorm!$A$1:$Q$3226,9,FALSE) -> 74114.425 | X8: =VLOOKUP($E8,[1]AllProteinsNorm!$A$1:$Q$3226,12,FALSE) -> 49549.699 | Y8: =VLOOKUP($E8,[1]AllProteinsNorm!$A$1:$Q$3226,14,FALSE) -> 28797.21 | Z8: =K8/AVERAGE($K8:$O8) -> 1.233563 | AA8: =L8/AVERAGE($K8:$O8) -> 0.62196978 | AB8: =M8/AVERAGE($K8:$O8) -> 1.185527 | AC8: =N8/AVERAGE($K8:$O8) -> 0.89980226 | AD8: =O8/AVERAGE($K8:$O8) -> 1.059138 | AE8: =P8/AVERAGE($K8:$O8) -> 0.12660785 | AF8: =Q8/AVERAGE($K8:$O8) -> 0.15187842 | AG8: =R8/AVERAGE($K8:$O8) -> 0.31480796 | ... AN8: =Y8/AVERAGE($K8:$O8) -> 0.59178951 | AO8: =_xlfn.STDEV.P(K8:O8) -> 10780.758 | AP8: =_xlfn.STDEV.P(P8:T8) -> 9049.7021 | AQ8: =_xlfn.STDEV.P(U8:Y8) -> 26023.963 | AR8: DnaJ homolog subfamily B member 4; Probable chaperone. Stimulates ATP hydrolysis and the folding of unfolded proteins mediated by HSPA1A/B (in vitro)
E9: Q8CCJ4 | F9: Amer2 | G9: 0.0014866711 | H9: 0.27319903 | I9: =VLOOKUP(F9,'[1]SUSMB vs SHAM all proteins sum'!$B$2:$E$3214,2,FALSE) -> 0.25314324 | J9: =VLOOKUP(F9,'[1]SUSMB vs SHAM all proteins sum'!$B$2:$E$3214,3,FALSE) -> 0.69627616 | K9: =VLOOKUP($E9,[1]AllProteinsNorm!$A$1:$Q$3226,4,FALSE) -> 26496.128 | L9: =VLOOKUP($E9,[1]AllProteinsNorm!$A$1:$Q$3226,5,FALSE) -> 36847.882 | M9: =VLOOKUP($E9,[1]AllProteinsNorm!$A$1:$Q$3226,10,FALSE) -> 62066.305 | N9: =VLOOKUP($E9,[1]AllProteinsNorm!$A$1:$Q$3226,11,FALSE) -> 49723.25 | O9: =VLOOKUP($E9,[1]AllProteinsNorm!$A$1:$Q$3226,15,FALSE) -> 55954.616 | P9: =VLOOKUP($E9,[1]AllProteinsNorm!$A$1:$Q$3226,6,FALSE) -> 27152.892 | Q9: =VLOOKUP($E9,[1]AllProteinsNorm!$A$1:$Q$3226,8,FALSE) -> 14255.856 | R9: =VLOOKUP($E9,[1]AllProteinsNorm!$A$1:$Q$3226,13,FALSE) -> 8034.0471 | S9: =VLOOKUP($E9,[1]AllProteinsNorm!$A$1:$Q$3226,16,FALSE) -> 9885.1601 | T9: =VLOOKUP($E9,[1]AllProteinsNorm!$A$1:$Q$3226,17,FALSE) -> 8346.6954 | U9: =VLOOKUP($E9,[1]AllProteinsNorm!$A$1:$Q$3226,3,FALSE) -> 31789.248 | V9: =VLOOKUP($E9,[1]AllProteinsNorm!$A$1:$Q$3226,7,FALSE) -> 40489.965 | W9: =VLOOKUP($E9,[1]AllProteinsNorm!$A$1:$Q$3226,9,FALSE) -> 39957.154 | X9: =VLOOKUP($E9,[1]AllProteinsNorm!$A$1:$Q$3226,12,FALSE) -> 46019.659 | Y9: =VLOOKUP($E9,[1]AllProteinsNorm!$A$1:$Q$3226,14,FALSE) -> 11657.04 | Z9: =K9/AVERAGE($K9:$O9) -> 0.57329041 | AA9: =L9/AVERAGE($K9:$O9) -> 0.79726885 | AB9: =M9/AVERAGE($K9:$O9) -> 1.3429139 | AC9: =N9/AVERAGE($K9:$O9) -> 1.0758501 | AD9: =O9/AVERAGE($K9:$O9) -> 1.2106767 | AE9: =P9/AVERAGE($K9:$O9) -> 0.58750066 | AF9: =Q9/AVERAGE($K9:$O9) -> 0.30845056 | AG9: =R9/AVERAGE($K9:$O9) -> 0.17383077 | ... AN9: =Y9/AVERAGE($K9:$O9) -> 0.25222059 | AO9: =_xlfn.STDEV.P(K9:O9) -> 12922.915 | AP9: =_xlfn.STDEV.P(P9:T9) -> 7161.94 | AQ9: =_xlfn.STDEV.P(U9:Y9) -> 12051.335 | AR9: APC membrane recruitment protein 2; Negative regulator of the canonical Wnt signaling pathway involved in neuroectodermal patterning. Acts by specifically binding phosphatidylinositol 4,5-bisphosphate (PtdIns(4,5)P2), translocating to the cell membrane and interacting with key regulators of the canonical Wnt signaling pathway, such as components of the beta-catenin destruction complex; Belongs to the Amer family
C10: SHAM | E10: Q9D7V2 | F10: Lysmd2 | G10: 0.039317063 | H10: 0.30562549 | I10: =VLOOKUP(F10,'[1]SUSMB vs SHAM all proteins sum'!$B$2:$E$3214,2,FALSE) -> 0.15320395 | J10: =VLOOKUP(F10,'[1]SUSMB vs SHAM all proteins sum'!$B$2:$E$3214,3,FALSE) -> 1.2068791 | K10: =VLOOKUP($E10,[1]AllProteinsNorm!$A$1:$Q$3226,4,FALSE) -> 23527.967 | L10: =VLOOKUP($E10,[1]AllProteinsNorm!$A$1:$Q$3226,5,FALSE) -> 22749.312 | M10: =VLOOKUP($E10,[1]AllProteinsNorm!$A$1:$Q$3226,10,FALSE) -> 31893.957 | N10: =VLOOKUP($E10,[1]AllProteinsNorm!$A$1:$Q$3226,11,FALSE) -> 36881.601 | O10: =VLOOKUP($E10,[1]AllProteinsNorm!$A$1:$Q$3226,15,FALSE) -> 23210.853 | P10: =VLOOKUP($E10,[1]AllProteinsNorm!$A$1:$Q$3226,6,FALSE) -> 23324.71 | Q10: =VLOOKUP($E10,[1]AllProteinsNorm!$A$1:$Q$3226,8,FALSE) -> 2199.4106 | R10: =VLOOKUP($E10,[1]AllProteinsNorm!$A$1:$Q$3226,13,FALSE) -> 4786.6026 | S10: =VLOOKUP($E10,[1]AllProteinsNorm!$A$1:$Q$3226,16,FALSE) -> 6288.9074 | T10: =VLOOKUP($E10,[1]AllProteinsNorm!$A$1:$Q$3226,17,FALSE) -> 25233.919 | U10: =VLOOKUP($E10,[1]AllProteinsNorm!$A$1:$Q$3226,3,FALSE) -> 29005.644 | V10: =VLOOKUP($E10,[1]AllProteinsNorm!$A$1:$Q$3226,7,FALSE) -> 41944.808 | W10: =VLOOKUP($E10,[1]AllProteinsNorm!$A$1:$Q$3226,9,FALSE) -> 29889.629 | X10: =VLOOKUP($E10,[1]AllProteinsNorm!$A$1:$Q$3226,12,FALSE) -> 33274.905 | Y10: =VLOOKUP($E10,[1]AllProteinsNorm!$A$1:$Q$3226,14,FALSE) -> 30923.073 | Z10: =K10/AVERAGE($K10:$O10) -> 0.85083681 | AA10: =L10/AVERAGE($K10:$O10) -> 0.82267846 | AB10: =M10/AVERAGE($K10:$O10) -> 1.1533743 | AC10: =N10/AVERAGE($K10:$O10) -> 1.3337414 | AD10: =O10/AVERAGE($K10:$O10) -> 0.83936906 | AE10: =P10/AVERAGE($K10:$O10) -> 0.84348644 | AF10: =Q10/AVERAGE($K10:$O10) -> 0.079536811 | AG10: =R10/AVERAGE($K10:$O10) -> 0.17309688 | ... AN10: =Y10/AVERAGE($K10:$O10) -> 1.1182644 | AO10: =_xlfn.STDEV.P(K10:O10) -> 5726.2119 | AP10: =_xlfn.STDEV.P(P10:T10) -> 9832.7463 | AQ10: =_xlfn.STDEV.P(U10:Y10) -> 4691.0082 | AR10: LysM, putative peptidoglycan-binding, domain containing 2
C11: SUSMB | E11: Q9WTS4 | F11: Tenm1 | G11: 0.0099856506 | H11: 0.3085277 | I11: =VLOOKUP(F11,'[1]SUSMB vs SHAM all proteins sum'!$B$2:$E$3214,2,FALSE) -> 0.36634671 | J11: =VLOOKUP(F11,'[1]SUSMB vs SHAM all proteins sum'!$B$2:$E$3214,3,FALSE) -> 0.76640773 | K11: =VLOOKUP($E11,[1]AllProteinsNorm!$A$1:$Q$3226,4,FALSE) -> 77324.716 | L11: =VLOOKUP($E11,[1]AllProteinsNorm!$A$1:$Q$3226,5,FALSE) -> 114494.45 | M11: =VLOOKUP($E11,[1]AllProteinsNorm!$A$1:$Q$3226,10,FALSE) -> 92815.656 | N11: =VLOOKUP($E11,[1]AllProteinsNorm!$A$1:$Q$3226,11,FALSE) -> 168997.32 | O11: =VLOOKUP($E11,[1]AllProteinsNorm!$A$1:$Q$3226,15,FALSE) -> 160253.74 | P11: =VLOOKUP($E11,[1]AllProteinsNorm!$A$1:$Q$3226,6,FALSE) -> 105316.17 | Q11: =VLOOKUP($E11,[1]AllProteinsNorm!$A$1:$Q$3226,8,FALSE) -> 19097.888 | R11: =VLOOKUP($E11,[1]AllProteinsNorm!$A$1:$Q$3226,13,FALSE) -> 51793.91 | S11: =VLOOKUP($E11,[1]AllProteinsNorm!$A$1:$Q$3226,16,FALSE) -> 26121.406 | T11: =VLOOKUP($E11,[1]AllProteinsNorm!$A$1:$Q$3226,17,FALSE) -> 22862.684 | U11: =VLOOKUP($E11,[1]AllProteinsNorm!$A$1:$Q$3226,3,FALSE) -> 61140.538 | V11: =VLOOKUP($E11,[1]AllProteinsNorm!$A$1:$Q$3226,7,FALSE) -> 115100.51 | W11: =VLOOKUP($E11,[1]AllProteinsNorm!$A$1:$Q$3226,9,FALSE) -> 200746.96 | X11: =VLOOKUP($E11,[1]AllProteinsNorm!$A$1:$Q$3226,12,FALSE) -> 60242.584 | Y11: =VLOOKUP($E11,[1]AllProteinsNorm!$A$1:$Q$3226,14,FALSE) -> 69143.654 | Z11: =K11/AVERAGE($K11:$O11) -> 0.62979715 | AA11: =L11/AVERAGE($K11:$O11) -> 0.93253854 | AB11: =M11/AVERAGE($K11:$O11) -> 0.75596831 | AC11: =N11/AVERAGE($K11:$O11) -> 1.3764555 | AD11: =O11/AVERAGE($K11:$O11) -> 1.3052405 | AE11: =P11/AVERAGE($K11:$O11) -> 0.85778295 | AF11: =Q11/AVERAGE($K11:$O11) -> 0.15554917 | AG11: =R11/AVERAGE($K11:$O11) -> 0.42185291 | ... AN11: =Y11/AVERAGE($K11:$O11) -> 0.56316374 | AO11: =_xlfn.STDEV.P(K11:O11) -> 36257.461 | AP11: =_xlfn.STDEV.P(P11:T11) -> 32253.904 | AQ11: =_xlfn.STDEV.P(U11:Y11) -> 53689.243 | AR11: Teneurin-1; Involved in neural development, regulating the establishment of proper connectivity within the nervous system. May function as a cellular signal transducer (By similarity); Belongs to the tenascin family. Teneurin subfamily
C12: SUS | E12: Q3UTQ8 | F12: Cdkl5 | G12: 0.041759343 | H12: 0.34648744 | I12: =VLOOKUP(F12,'[1]SUSMB vs SHAM all proteins sum'!$B$2:$E$3214,2,FALSE) -> 0.59962225 | J12: =VLOOKUP(F12,'[1]SUSMB vs SHAM all proteins sum'!$B$2:$E$3214,3,FALSE) -> 0.73464878 | K12: =VLOOKUP($E12,[1]AllProteinsNorm!$A$1:$Q$3226,4,FALSE) -> 120635.26 | L12: =VLOOKUP($E12,[1]AllProteinsNorm!$A$1:$Q$3226,5,FALSE) -> 36847.133 | M12: =VLOOKUP($E12,[1]AllProteinsNorm!$A$1:$Q$3226,10,FALSE) -> 45527.897 | N12: =VLOOKUP($E12,[1]AllProteinsNorm!$A$1:$Q$3226,11,FALSE) -> 60792.238 | O12: =VLOOKUP($E12,[1]AllProteinsNorm!$A$1:$Q$3226,15,FALSE) -> 62802.739 | P12: =VLOOKUP($E12,[1]AllProteinsNorm!$A$1:$Q$3226,6,FALSE) -> 44985.954 | Q12: =VLOOKUP($E12,[1]AllProteinsNorm!$A$1:$Q$3226,8,FALSE) -> 44950.658 | R12: =VLOOKUP($E12,[1]AllProteinsNorm!$A$1:$Q$3226,13,FALSE) -> 11608.912 | S12: =VLOOKUP($E12,[1]AllProteinsNorm!$A$1:$Q$3226,16,FALSE) -> 6253.3846 | T12: =VLOOKUP($E12,[1]AllProteinsNorm!$A$1:$Q$3226,17,FALSE) -> 26284.524 | U12: =VLOOKUP($E12,[1]AllProteinsNorm!$A$1:$Q$3226,3,FALSE) -> 85758.044 | V12: =VLOOKUP($E12,[1]AllProteinsNorm!$A$1:$Q$3226,7,FALSE) -> 33981.573 | W12: =VLOOKUP($E12,[1]AllProteinsNorm!$A$1:$Q$3226,9,FALSE) -> 57699.643 | X12: =VLOOKUP($E12,[1]AllProteinsNorm!$A$1:$Q$3226,12,FALSE) -> 146393.06 | Y12: =VLOOKUP($E12,[1]AllProteinsNorm!$A$1:$Q$3226,14,FALSE) -> 6716.9035 | Z12: =K12/AVERAGE($K12:$O12) -> 1.8468052 | AA12: =L12/AVERAGE($K12:$O12) -> 0.56409275 | AB12: =M12/AVERAGE($K12:$O12) -> 0.69698657 | AC12: =N12/AVERAGE($K12:$O12) -> 0.93066837 | AD12: =O12/AVERAGE($K12:$O12) -> 0.96144712 | AE12: =P12/AVERAGE($K12:$O12) -> 0.68868997 | AF12: =Q12/AVERAGE($K12:$O12) -> 0.68814961 | AG12: =R12/AVERAGE($K12:$O12) -> 0.17772084 | ... AN12: =Y12/AVERAGE($K12:$O12) -> 0.10282907 | AO12: =_xlfn.STDEV.P(K12:O12) -> 29288.383 | AP12: =_xlfn.STDEV.P(P12:T12) -> 16207.234 | AQ12: =_xlfn.STDEV.P(U12:Y12) -> 47878.858 | AR12: Cyclin-dependent kinase-like 5; Mediates phosphorylation of MECP2; Belongs to the protein kinase superfamily. CMGC Ser/Thr protein kinase family. CDC2/CDKX subfamily
E13: Q9Z2W0 | F13: Dnpep | G13: 0.025643496 | H13: 0.35108069 | I13: =VLOOKUP(F13,'[1]SUSMB vs SHAM all proteins sum'!$B$2:$E$3214,2,FALSE) -> 0.95523306 | J13: =VLOOKUP(F13,'[1]SUSMB vs SHAM all proteins sum'!$B$2:$E$3214,3,FALSE) -> 0.97642694 | K13: =VLOOKUP($E13,[1]AllProteinsNorm!$A$1:$Q$3226,4,FALSE) -> 24904.461 | L13: =VLOOKUP($E13,[1]AllProteinsNorm!$A$1:$Q$3226,5,FALSE) -> 17798.15 | M13: =VLOOKUP($E13,[1]AllProteinsNorm!$A$1:$Q$3226,10,FALSE) -> 19724.46 | N13: =VLOOKUP($E13,[1]AllProteinsNorm!$A$1:$Q$3226,11,FALSE) -> 19713.561 | O13: =VLOOKUP($E13,[1]AllProteinsNorm!$A$1:$Q$3226,15,FALSE) -> 19306.91 | P13: =VLOOKUP($E13,[1]AllProteinsNorm!$A$1:$Q$3226,6,FALSE) -> 2817.5266 | Q13: =VLOOKUP($E13,[1]AllProteinsNorm!$A$1:$Q$3226,8,FALSE) -> 6070.7051 | R13: =VLOOKUP($E13,[1]AllProteinsNorm!$A$1:$Q$3226,13,FALSE) -> 20093.721 | S13: =VLOOKUP($E13,[1]AllProteinsNorm!$A$1:$Q$3226,16,FALSE) -> 14081.546 | T13: =VLOOKUP($E13,[1]AllProteinsNorm!$A$1:$Q$3226,17,FALSE) -> 3667.3455 | U13: =VLOOKUP($E13,[1]AllProteinsNorm!$A$1:$Q$3226,3,FALSE) -> 34167.509 | V13: =VLOOKUP($E13,[1]AllProteinsNorm!$A$1:$Q$3226,7,FALSE) -> 18931.26 | W13: =VLOOKUP($E13,[1]AllProteinsNorm!$A$1:$Q$3226,9,FALSE) -> 4109.0885 | X13: =VLOOKUP($E13,[1]AllProteinsNorm!$A$1:$Q$3226,12,FALSE) -> 36324.271 | Y13: =VLOOKUP($E13,[1]AllProteinsNorm!$A$1:$Q$3226,14,FALSE) -> 30591.339 | Z13: =K13/AVERAGE($K13:$O13) -> 1.2274551 | AA13: =L13/AVERAGE($K13:$O13) -> 0.87720952 | AB13: =M13/AVERAGE($K13:$O13) -> 0.97215071 | AC13: =N13/AVERAGE($K13:$O13) -> 0.97161354 | AD13: =O13/AVERAGE($K13:$O13) -> 0.9515711 | AE13: =P13/AVERAGE($K13:$O13) -> 0.13886618 | AF13: =Q13/AVERAGE($K13:$O13) -> 0.29920415 | AG13: =R13/AVERAGE($K13:$O13) -> 0.99035033 | ... AN13: =Y13/AVERAGE($K13:$O13) -> 1.5077418 | AO13: =_xlfn.STDEV.P(K13:O13) -> 2413.3441 | AP13: =_xlfn.STDEV.P(P13:T13) -> 6686.3225 | AQ13: =_xlfn.STDEV.P(U13:Y13) -> 11972.063 | AR13: Aspartyl aminopeptidase; Aminopeptidase with specificity towards an acidic amino acid at the N-terminus. Likely to play an important role in intracellular protein and peptide metabolism (By similarity)
E14: Q8CE50 | F14: Snx30 | G14: 0.031197976 | H14: 0.38271786 | I14: =VLOOKUP(F14,'[1]SUSMB vs SHAM all proteins sum'!$B$2:$E$3214,2,FALSE) -> 0.2435042 | J14: =VLOOKUP(F14,'[1]SUSMB vs SHAM all proteins sum'!$B$2:$E$3214,3,FALSE) -> 0.68129493 | K14: =VLOOKUP($E14,[1]AllProteinsNorm!$A$1:$Q$3226,4,FALSE) -> 82450.696 | L14: =VLOOKUP($E14,[1]AllProteinsNorm!$A$1:$Q$3226,5,FALSE) -> 51361.507 | M14: =VLOOKUP($E14,[1]AllProteinsNorm!$A$1:$Q$3226,10,FALSE) -> 70540.22 | N14: =VLOOKUP($E14,[1]AllProteinsNorm!$A$1:$Q$3226,11,FALSE) -> 94483.156 | O14: =VLOOKUP($E14,[1]AllProteinsNorm!$A$1:$Q$3226,15,FALSE) -> 100949 | P14: =VLOOKUP($E14,[1]AllProteinsNorm!$A$1:$Q$3226,6,FALSE) -> 79241.013 | Q14: =VLOOKUP($E14,[1]AllProteinsNorm!$A$1:$Q$3226,8,FALSE) -> 54471.612 | R14: =VLOOKUP($E14,[1]AllProteinsNorm!$A$1:$Q$3226,13,FALSE) -> 19142.978 | S14: =VLOOKUP($E14,[1]AllProteinsNorm!$A$1:$Q$3226,16,FALSE) -> 11808.873 | T14: =VLOOKUP($E14,[1]AllProteinsNorm!$A$1:$Q$3226,17,FALSE) -> 23976.222 | U14: =VLOOKUP($E14,[1]AllProteinsNorm!$A$1:$Q$3226,3,FALSE) -> 19406.367 | V14: =VLOOKUP($E14,[1]AllProteinsNorm!$A$1:$Q$3226,7,FALSE) -> 45500.898 | W14: =VLOOKUP($E14,[1]AllProteinsNorm!$A$1:$Q$3226,9,FALSE) -> 68999.208 | X14: =VLOOKUP($E14,[1]AllProteinsNorm!$A$1:$Q$3226,12,FALSE) -> 69123.784 | Y14: =VLOOKUP($E14,[1]AllProteinsNorm!$A$1:$Q$3226,14,FALSE) -> 99303.657 | Z14: =K14/AVERAGE($K14:$O14) -> 1.0311891 | AA14: =L14/AVERAGE($K14:$O14) -> 0.64236479 | AB14: =M14/AVERAGE($K14:$O14) -> 0.88222789 | AC14: =N14/AVERAGE($K14:$O14) -> 1.1816759 | AD14: =O14/AVERAGE($K14:$O14) -> 1.2625424 | AE14: =P14/AVERAGE($K14:$O14) -> 0.99104641 | AF14: =Q14/AVERAGE($K14:$O14) -> 0.68126206 | AG14: =R14/AVERAGE($K14:$O14) -> 0.23941616 | ... AN14: =Y14/AVERAGE($K14:$O14) -> 1.2419646 | AO14: =_xlfn.STDEV.P(K14:O14) -> 17687.677 | AP14: =_xlfn.STDEV.P(P14:T14) -> 25337.697 | AQ14: =_xlfn.STDEV.P(U14:Y14) -> 26705.745 | AR14: Sorting nexin-30; May be involved in several stages of intracellular trafficking
E15: Q8BHK1 | F15: Nipa1 | G15: 0.036057899 | H15: 0.39197903 | I15: =VLOOKUP(F15,'[1]SUSMB vs SHAM all proteins sum'!$B$2:$E$3214,2,FALSE) -> 0.52698129 | J15: =VLOOKUP(F15,'[1]SUSMB vs SHAM all proteins sum'!$B$2:$E$3214,3,FALSE) -> 0.94265049 | K15: =VLOOKUP($E15,[1]AllProteinsNorm!$A$1:$Q$3226,4,FALSE) -> 54449.554 | L15: =VLOOKUP($E15,[1]AllProteinsNorm!$A$1:$Q$3226,5,FALSE) -> 48454.577 | M15: =VLOOKUP($E15,[1]AllProteinsNorm!$A$1:$Q$3226,10,FALSE) -> 51931.15 | N15: =VLOOKUP($E15,[1]AllProteinsNorm!$A$1:$Q$3226,11,FALSE) -> 72758.42 | O15: =VLOOKUP($E15,[1]AllProteinsNorm!$A$1:$Q$3226,15,FALSE) -> 60214.23 | P15: =VLOOKUP($E15,[1]AllProteinsNorm!$A$1:$Q$3226,6,FALSE) -> 13514.707 | Q15: =VLOOKUP($E15,[1]AllProteinsNorm!$A$1:$Q$3226,8,FALSE) -> 58683.992 | R15: =VLOOKUP($E15,[1]AllProteinsNorm!$A$1:$Q$3226,13,FALSE) -> 10413.706 | S15: =VLOOKUP($E15,[1]AllProteinsNorm!$A$1:$Q$3226,16,FALSE) -> 49963.673 | T15: =VLOOKUP($E15,[1]AllProteinsNorm!$A$1:$Q$3226,17,FALSE) -> 13460.701 | U15: =VLOOKUP($E15,[1]AllProteinsNorm!$A$1:$Q$3226,3,FALSE) -> 51778.122 | V15: =VLOOKUP($E15,[1]AllProteinsNorm!$A$1:$Q$3226,7,FALSE) -> 46959.748 | W15: =VLOOKUP($E15,[1]AllProteinsNorm!$A$1:$Q$3226,9,FALSE) -> 51716.471 | X15: =VLOOKUP($E15,[1]AllProteinsNorm!$A$1:$Q$3226,12,FALSE) -> 54320.643 | Y15: =VLOOKUP($E15,[1]AllProteinsNorm!$A$1:$Q$3226,14,FALSE) -> 65407.435 | Z15: =K15/AVERAGE($K15:$O15) -> 0.94593561 | AA15: =L15/AVERAGE($K15:$O15) -> 0.84178669 | AB15: =M15/AVERAGE($K15:$O15) -> 0.90218413 | AC15: =N15/AVERAGE($K15:$O15) -> 1.26401 | AD15: =O15/AVERAGE($K15:$O15) -> 1.0460836 | AE15: =P15/AVERAGE($K15:$O15) -> 0.23478691 | AF15: =Q15/AVERAGE($K15:$O15) -> 1.0194992 | AG15: =R15/AVERAGE($K15:$O15) -> 0.18091417 | ... AN15: =Y15/AVERAGE($K15:$O15) -> 1.1363036 | AO15: =_xlfn.STDEV.P(K15:O15) -> 8512.3962 | AP15: =_xlfn.STDEV.P(P15:T15) -> 20722.521 | AQ15: =_xlfn.STDEV.P(U15:Y15) -> 6163.4751 | AR15: Magnesium transporter NIPA1; Acts as a Mg(2+) transporter. Can also transport other divalent cations such as Fe(2+), Sr(2+), Ba(2+), Mn(2+) and Co(2+) but to a much less extent than Mg(2+); Belongs to the NIPA family
E16: Q3UMU9 | F16: Hdgfl2 | G16: 0.045174309 | H16: 0.40756381 | I16: =VLOOKUP(F16,'[1]SUSMB vs SHAM all proteins sum'!$B$2:$E$3214,2,FALSE) -> 0.9762599 | J16: =VLOOKUP(F16,'[1]SUSMB vs SHAM all proteins sum'!$B$2:$E$3214,3,FALSE) -> 0.99662917 | K16: =VLOOKUP($E16,[1]AllProteinsNorm!$A$1:$Q$3226,4,FALSE) -> 44961.973 | L16: =VLOOKUP($E16,[1]AllProteinsNorm!$A$1:$Q$3226,5,FALSE) -> 50655.9 | M16: =VLOOKUP($E16,[1]AllProteinsNorm!$A$1:$Q$3226,10,FALSE) -> 63260.052 | N16: =VLOOKUP($E16,[1]AllProteinsNorm!$A$1:$Q$3226,11,FALSE) -> 39863.697 | O16: =VLOOKUP($E16,[1]AllProteinsNorm!$A$1:$Q$3226,15,FALSE) -> 55265.595 | P16: =VLOOKUP($E16,[1]AllProteinsNorm!$A$1:$Q$3226,6,FALSE) -> 45770.815 | Q16: =VLOOKUP($E16,[1]AllProteinsNorm!$A$1:$Q$3226,8,FALSE) -> 11375.217 | R16: =VLOOKUP($E16,[1]AllProteinsNorm!$A$1:$Q$3226,13,FALSE) -> 7591.9822 | S16: =VLOOKUP($E16,[1]AllProteinsNorm!$A$1:$Q$3226,16,FALSE) -> 18538.41 | T16: =VLOOKUP($E16,[1]AllProteinsNorm!$A$1:$Q$3226,17,FALSE) -> 48712.386 | U16: =VLOOKUP($E16,[1]AllProteinsNorm!$A$1:$Q$3226,3,FALSE) -> 54038.765 | V16: =VLOOKUP($E16,[1]AllProteinsNorm!$A$1:$Q$3226,7,FALSE) -> 38995.562 | W16: =VLOOKUP($E16,[1]AllProteinsNorm!$A$1:$Q$3226,9,FALSE) -> 49479.071 | X16: =VLOOKUP($E16,[1]AllProteinsNorm!$A$1:$Q$3226,12,FALSE) -> 61798.53 | Y16: =VLOOKUP($E16,[1]AllProteinsNorm!$A$1:$Q$3226,14,FALSE) -> 48437.872 | Z16: =K16/AVERAGE($K16:$O16) -> 0.88505307 | AA16: =L16/AVERAGE($K16:$O16) -> 0.99713505 | AB16: =M16/AVERAGE($K16:$O16) -> 1.2452412 | AC16: =N16/AVERAGE($K16:$O16) -> 0.78469615 | AD16: =O16/AVERAGE($K16:$O16) -> 1.0878745 | AE16: =P16/AVERAGE($K16:$O16) -> 0.90097471 | AF16: =Q16/AVERAGE($K16:$O16) -> 0.22391523 | AG16: =R16/AVERAGE($K16:$O16) -> 0.14944422 | ... AN16: =Y16/AVERAGE($K16:$O16) -> 0.95347432 | AO16: =_xlfn.STDEV.P(K16:O16) -> 8110.4927 | AP16: =_xlfn.STDEV.P(P16:T16) -> 17403.225 | AQ16: =_xlfn.STDEV.P(U16:Y16) -> 7454.0447 | AR16: Hepatoma-derived growth factor-related protein 2; Involved in cellular growth control, through the regulation of cyclin D1 expression (By similarity). Associates with chromatin. Isoform 1 and isoform 3 bind to condensed chromatin in mitotic cells. Isoform 4 binds to non-condensed chromatin in the presence of HDGF
E17: Q9DBS5 | F17: Klc4 | G17: 0.017410575 | H17: 0.43239218 | I17: =VLOOKUP(F17,'[1]SUSMB vs SHAM all proteins sum'!$B$2:$E$3214,2,FALSE) -> 0.40087499 | J17: =VLOOKUP(F17,'[1]SUSMB vs SHAM all proteins sum'!$B$2:$E$3214,3,FALSE) -> 1.1400626 | K17: =VLOOKUP($E17,[1]AllProteinsNorm!$A$1:$Q$3226,4,FALSE) -> 99102.376 | L17: =VLOOKUP($E17,[1]AllProteinsNorm!$A$1:$Q$3226,5,FALSE) -> 131271.05 | M17: =VLOOKUP($E17,[1]AllProteinsNorm!$A$1:$Q$3226,10,FALSE) -> 126258.9 | N17: =VLOOKUP($E17,[1]AllProteinsNorm!$A$1:$Q$3226,11,FALSE) -> 136014.21 | O17: =VLOOKUP($E17,[1]AllProteinsNorm!$A$1:$Q$3226,15,FALSE) -> 117307.26 | P17: =VLOOKUP($E17,[1]AllProteinsNorm!$A$1:$Q$3226,6,FALSE) -> 22099.317 | Q17: =VLOOKUP($E17,[1]AllProteinsNorm!$A$1:$Q$3226,8,FALSE) -> 65215.797 | R17: =VLOOKUP($E17,[1]AllProteinsNorm!$A$1:$Q$3226,13,FALSE) -> 35018.401 | S17: =VLOOKUP($E17,[1]AllProteinsNorm!$A$1:$Q$3226,16,FALSE) -> 84071.904 | T17: =VLOOKUP($E17,[1]AllProteinsNorm!$A$1:$Q$3226,17,FALSE) -> 93354.331 | U17: =VLOOKUP($E17,[1]AllProteinsNorm!$A$1:$Q$3226,3,FALSE) -> 102293.39 | V17: =VLOOKUP($E17,[1]AllProteinsNorm!$A$1:$Q$3226,7,FALSE) -> 126552.33 | W17: =VLOOKUP($E17,[1]AllProteinsNorm!$A$1:$Q$3226,9,FALSE) -> 142260.78 | X17: =VLOOKUP($E17,[1]AllProteinsNorm!$A$1:$Q$3226,12,FALSE) -> 228799.22 | Y17: =VLOOKUP($E17,[1]AllProteinsNorm!$A$1:$Q$3226,14,FALSE) -> 119787.14 | Z17: =K17/AVERAGE($K17:$O17) -> 0.8123761 | AA17: =L17/AVERAGE($K17:$O17) -> 1.0760737 | AB17: =M17/AVERAGE($K17:$O17) -> 1.0349874 | AC17: =N17/AVERAGE($K17:$O17) -> 1.114955 | AD17: =O17/AVERAGE($K17:$O17) -> 0.96160774 | AE17: =P17/AVERAGE($K17:$O17) -> 0.18115567 | AF17: =Q17/AVERAGE($K17:$O17) -> 0.53459621 | AG17: =R17/AVERAGE($K17:$O17) -> 0.28705782 | ... AN17: =Y17/AVERAGE($K17:$O17) -> 0.98193619 | AO17: =_xlfn.STDEV.P(K17:O17) -> 13013.924 | AP17: =_xlfn.STDEV.P(P17:T17) -> 27494.374 | AQ17: =_xlfn.STDEV.P(U17:Y17) -> 44326.152 | AR17: Kinesin light chain 4; Kinesin is a microtubule-associated force-producing protein that may play a role in organelle transport. The light chain may function in coupling of cargo to the heavy chain or in the modulation of its ATPase activity (By similarity)
E18: Q8CHP5 | F18: Pym1 | G18: 0.022275669 | H18: 0.44973732 | I18: =VLOOKUP(F18,'[1]SUSMB vs SHAM all proteins sum'!$B$2:$E$3214,2,FALSE) -> 0.40817692 | J18: =VLOOKUP(F18,'[1]SUSMB vs SHAM all proteins sum'!$B$2:$E$3214,3,FALSE) -> 1.2436603 | K18: =VLOOKUP($E18,[1]AllProteinsNorm!$A$1:$Q$3226,4,FALSE) -> 12286.622 | L18: =VLOOKUP($E18,[1]AllProteinsNorm!$A$1:$Q$3226,5,FALSE) -> 28924.49 | M18: =VLOOKUP($E18,[1]AllProteinsNorm!$A$1:$Q$3226,10,FALSE) -> 19774.345 | N18: =VLOOKUP($E18,[1]AllProteinsNorm!$A$1:$Q$3226,11,FALSE) -> 18747.132 | O18: =VLOOKUP($E18,[1]AllProteinsNorm!$A$1:$Q$3226,15,FALSE) -> 34929.37 | P18: =VLOOKUP($E18,[1]AllProteinsNorm!$A$1:$Q$3226,6,FALSE) -> 11460.605 | Q18: =VLOOKUP($E18,[1]AllProteinsNorm!$A$1:$Q$3226,8,FALSE) -> 7562.4743 | R18: =VLOOKUP($E18,[1]AllProteinsNorm!$A$1:$Q$3226,13,FALSE) -> 17582.54 | S18: =VLOOKUP($E18,[1]AllProteinsNorm!$A$1:$Q$3226,16,FALSE) -> 4893.6642 | T18: =VLOOKUP($E18,[1]AllProteinsNorm!$A$1:$Q$3226,17,FALSE) -> 11353.593 | U18: =VLOOKUP($E18,[1]AllProteinsNorm!$A$1:$Q$3226,3,FALSE) -> 17021.263 | V18: =VLOOKUP($E18,[1]AllProteinsNorm!$A$1:$Q$3226,7,FALSE) -> 35909.057 | W18: =VLOOKUP($E18,[1]AllProteinsNorm!$A$1:$Q$3226,9,FALSE) -> 29227.783 | X18: =VLOOKUP($E18,[1]AllProteinsNorm!$A$1:$Q$3226,12,FALSE) -> 40369.477 | Y18: =VLOOKUP($E18,[1]AllProteinsNorm!$A$1:$Q$3226,14,FALSE) -> 18984.096 | Z18: =K18/AVERAGE($K18:$O18) -> 0.53577587 | AA18: =L18/AVERAGE($K18:$O18) -> 1.2612941 | AB18: =M18/AVERAGE($K18:$O18) -> 0.86228882 | AC18: =N18/AVERAGE($K18:$O18) -> 0.81749572 | AD18: =O18/AVERAGE($K18:$O18) -> 1.5231455 | AE18: =P18/AVERAGE($K18:$O18) -> 0.49975621 | AF18: =Q18/AVERAGE($K18:$O18) -> 0.32977259 | AG18: =R18/AVERAGE($K18:$O18) -> 0.766712 | ... AN18: =Y18/AVERAGE($K18:$O18) -> 0.82782887 | AO18: =_xlfn.STDEV.P(K18:O18) -> 8008.1808 | AP18: =_xlfn.STDEV.P(P18:T18) -> 4285.9984 | AQ18: =_xlfn.STDEV.P(U18:Y18) -> 9147.9698 | AR18: Partner of Y14 and mago; Key regulator of the exon junction complex (EJC), a multiprotein complex that associates immediately upstream of the exon-exon junction on mRNAs and serves as a positional landmark for the intron exon structure of genes and directs post- transcriptional processes in the cytoplasm such as mRNA export, nonsense-mediated mRNA decay (NMD) or translation. Acts as an EJC disassembly factor, allowing translation-dependent EJC removal and recycling by disrupting mature EJC from spliced mRNAs. Its association with the 40S ribosomal subunit probably prevents a translation
E19: Q8CBF3 | F19: Ephb1 | G19: 0.027393565 | H19: 0.48335502 | I19: =VLOOKUP(F19,'[1]SUSMB vs SHAM all proteins sum'!$B$2:$E$3214,2,FALSE) -> 0.72657633 | J19: =VLOOKUP(F19,'[1]SUSMB vs SHAM all proteins sum'!$B$2:$E$3214,3,FALSE) -> 0.83936002 | K19: =VLOOKUP($E19,[1]AllProteinsNorm!$A$1:$Q$3226,4,FALSE) -> 28850.014 | L19: =VLOOKUP($E19,[1]AllProteinsNorm!$A$1:$Q$3226,5,FALSE) -> 33419.103 | M19: =VLOOKUP($E19,[1]AllProteinsNorm!$A$1:$Q$3226,10,FALSE) -> 26723.444 | N19: =VLOOKUP($E19,[1]AllProteinsNorm!$A$1:$Q$3226,11,FALSE) -> 31786.759 | O19: =VLOOKUP($E19,[1]AllProteinsNorm!$A$1:$Q$3226,15,FALSE) -> 30529.644 | P19: =VLOOKUP($E19,[1]AllProteinsNorm!$A$1:$Q$3226,6,FALSE) -> 13081.705 | Q19: =VLOOKUP($E19,[1]AllProteinsNorm!$A$1:$Q$3226,8,FALSE) -> 17129.618 | R19: =VLOOKUP($E19,[1]AllProteinsNorm!$A$1:$Q$3226,13,FALSE) -> 35671.861 | S19: =VLOOKUP($E19,[1]AllProteinsNorm!$A$1:$Q$3226,16,FALSE) -> 6957.5866 | T19: =VLOOKUP($E19,[1]AllProteinsNorm!$A$1:$Q$3226,17,FALSE) -> 11861.401 | U19: 3279.5533 | V19: =VLOOKUP($E19,[1]AllProteinsNorm!$A$1:$Q$3226,7,FALSE) -> 3830.8663 | W19: =VLOOKUP($E19,[1]AllProteinsNorm!$A$1:$Q$3226,9,FALSE) -> 44347.026 | X19: =VLOOKUP($E19,[1]AllProteinsNorm!$A$1:$Q$3226,12,FALSE) -> 37286.202 | Y19: =VLOOKUP($E19,[1]AllProteinsNorm!$A$1:$Q$3226,14,FALSE) -> 54310.465 | Z19: =K19/AVERAGE($K19:$O19) -> 0.95334781 | AA19: =L19/AVERAGE($K19:$O19) -> 1.1043332 | AB19: =M19/AVERAGE($K19:$O19) -> 0.88307538 | AC19: =N19/AVERAGE($K19:$O19) -> 1.0503925 | AD19: =O19/AVERAGE($K19:$O19) -> 1.0088511 | AE19: =P19/AVERAGE($K19:$O19) -> 0.43228454 | AF19: =Q19/AVERAGE($K19:$O19) -> 0.56604769 | AG19: =R19/AVERAGE($K19:$O19) -> 1.1787755 | ... AN19: =Y19/AVERAGE($K19:$O19) -> 1.7946876 | AO19: =_xlfn.STDEV.P(K19:O19) -> 2318.5729 | AP19: =_xlfn.STDEV.P(P19:T19) -> 9912.071 | AQ19: =_xlfn.STDEV.P(U19:Y19) -> 21161.67 | AR19: Ephrin type-B receptor 1; Receptor tyrosine kinase which binds promiscuously transmembrane ephrin-B family ligands residing on adjacent cells, leading to contact-dependent bidirectional signaling into neighboring cells. The signaling pathway downstream of the receptor is referred to as forward signaling while the signaling pathway downstream of the ephrin ligand is referred to as reverse signaling. Cognate/functional ephrin ligands for this receptor include EFNB1, EFNB2 and EFNB3. During nervous system development, regulates retinal axon guidance redirecting
E20: P63248 | F20: Pkia | G20: 0.012537678 | H20: 0.49415997 | I20: =VLOOKUP(F20,'[1]SUSMB vs SHAM all proteins sum'!$B$2:$E$3214,2,FALSE) -> 0.039424878 | J20: =VLOOKUP(F20,'[1]SUSMB vs SHAM all proteins sum'!$B$2:$E$3214,3,FALSE) -> 0.59194908 | K20: =VLOOKUP($E20,[1]AllProteinsNorm!$A$1:$Q$3226,4,FALSE) -> 23087.487 | L20: =VLOOKUP($E20,[1]AllProteinsNorm!$A$1:$Q$3226,5,FALSE) -> 17289.354 | M20: =VLOOKUP($E20,[1]AllProteinsNorm!$A$1:$Q$3226,10,FALSE) -> 27639.732 | N20: =VLOOKUP($E20,[1]AllProteinsNorm!$A$1:$Q$3226,11,FALSE) -> 26327.46 | O20: =VLOOKUP($E20,[1]AllProteinsNorm!$A$1:$Q$3226,15,FALSE) -> 34941.98 | P20: =VLOOKUP($E20,[1]AllProteinsNorm!$A$1:$Q$3226,6,FALSE) -> 16368.606 | Q20: =VLOOKUP($E20,[1]AllProteinsNorm!$A$1:$Q$3226,8,FALSE) -> 18536.877 | R20: =VLOOKUP($E20,[1]AllProteinsNorm!$A$1:$Q$3226,13,FALSE) -> 9323.7287 | S20: =VLOOKUP($E20,[1]AllProteinsNorm!$A$1:$Q$3226,16,FALSE) -> 6931.1716 | T20: =VLOOKUP($E20,[1]AllProteinsNorm!$A$1:$Q$3226,17,FALSE) -> 15252.428 | U20: =VLOOKUP($E20,[1]AllProteinsNorm!$A$1:$Q$3226,3,FALSE) -> 15439.953 | V20: =VLOOKUP($E20,[1]AllProteinsNorm!$A$1:$Q$3226,7,FALSE) -> 16756.26 | W20: =VLOOKUP($E20,[1]AllProteinsNorm!$A$1:$Q$3226,9,FALSE) -> 24598.947 | X20: =VLOOKUP($E20,[1]AllProteinsNorm!$A$1:$Q$3226,12,FALSE) -> 14353.749 | Y20: =VLOOKUP($E20,[1]AllProteinsNorm!$A$1:$Q$3226,14,FALSE) -> 8075.3715 | Z20: =K20/AVERAGE($K20:$O20) -> 0.89288417 | AA20: =L20/AVERAGE($K20:$O20) -> 0.66864751 | AB20: =M20/AVERAGE($K20:$O20) -> 1.0689374 | AC20: =N20/AVERAGE($K20:$O20) -> 1.0181867 | AD20: =O20/AVERAGE($K20:$O20) -> 1.3513442 | AE20: =P20/AVERAGE($K20:$O20) -> 0.63303854 | AF20: =Q20/AVERAGE($K20:$O20) -> 0.71689414 | AG20: =R20/AVERAGE($K20:$O20) -> 0.36058536 | ... AN20: =Y20/AVERAGE($K20:$O20) -> 0.31230647 | AO20: =_xlfn.STDEV.P(K20:O20) -> 5779.465 | AP20: =_xlfn.STDEV.P(P20:T20) -> 4405.0967 | AQ20: =_xlfn.STDEV.P(U20:Y20) -> 5295.6021 | AR20: cAMP-dependent protein kinase inhibitor alpha; Extremely potent competitive inhibitor of cAMP-dependent protein kinase activity, this protein interacts with the catalytic subunit of the enzyme after the cAMP-induced dissociation of its regulatory chains; Belongs to the PKI family
E21: Q8K274 | F21: Fn3krp | G21: 0.023767635 | H21: 0.51548292 | I21: =VLOOKUP(F21,'[1]SUSMB vs SHAM all proteins sum'!$B$2:$E$3214,2,FALSE) -> 0.013487332 | J21: =VLOOKUP(F21,'[1]SUSMB vs SHAM all proteins sum'!$B$2:$E$3214,3,FALSE) -> 0.3017856 | K21: =VLOOKUP($E21,[1]AllProteinsNorm!$A$1:$Q$3226,4,FALSE) -> 18625.072 | L21: =VLOOKUP($E21,[1]AllProteinsNorm!$A$1:$Q$3226,5,FALSE) -> 20646.198 | M21: =VLOOKUP($E21,[1]AllProteinsNorm!$A$1:$Q$3226,10,FALSE) -> 12665.797 | N21: =VLOOKUP($E21,[1]AllProteinsNorm!$A$1:$Q$3226,11,FALSE) -> 8257.9944 | O21: =VLOOKUP($E21,[1]AllProteinsNorm!$A$1:$Q$3226,15,FALSE) -> 23286.01 | P21: =VLOOKUP($E21,[1]AllProteinsNorm!$A$1:$Q$3226,6,FALSE) -> 9210.3821 | Q21: =VLOOKUP($E21,[1]AllProteinsNorm!$A$1:$Q$3226,8,FALSE) -> 5260.5359 | R21: =VLOOKUP($E21,[1]AllProteinsNorm!$A$1:$Q$3226,13,FALSE) -> 8006.7838 | S21: =VLOOKUP($E21,[1]AllProteinsNorm!$A$1:$Q$3226,16,FALSE) -> 7009.7335 | T21: =VLOOKUP($E21,[1]AllProteinsNorm!$A$1:$Q$3226,17,FALSE) -> 12535.579 | U21: =VLOOKUP($E21,[1]AllProteinsNorm!$A$1:$Q$3226,3,FALSE) -> 5461.7764 | V21: =VLOOKUP($E21,[1]AllProteinsNorm!$A$1:$Q$3226,7,FALSE) -> 5154.2157 | W21: =VLOOKUP($E21,[1]AllProteinsNorm!$A$1:$Q$3226,9,FALSE) -> 2171.4255 | X21: =VLOOKUP($E21,[1]AllProteinsNorm!$A$1:$Q$3226,12,FALSE) -> 14234.046 | Y21: =VLOOKUP($E21,[1]AllProteinsNorm!$A$1:$Q$3226,14,FALSE) -> 2694.4056 | Z21: =K21/AVERAGE($K21:$O21) -> 1.1155267 | AA21: =L21/AVERAGE($K21:$O21) -> 1.2365796 | AB21: =M21/AVERAGE($K21:$O21) -> 0.75860291 | AC21: =N21/AVERAGE($K21:$O21) -> 0.4946028 | AD21: =O21/AVERAGE($K21:$O21) -> 1.394688 | AE21: =P21/AVERAGE($K21:$O21) -> 0.55164494 | AF21: =Q21/AVERAGE($K21:$O21) -> 0.31507357 | AG21: =R21/AVERAGE($K21:$O21) -> 0.47955684 | ... AN21: =Y21/AVERAGE($K21:$O21) -> 0.16137824 | AO21: =_xlfn.STDEV.P(K21:O21) -> 5480.8047 | AP21: =_xlfn.STDEV.P(P21:T21) -> 2437.3477 | AQ21: =_xlfn.STDEV.P(U21:Y21) -> 4344.4986 | AR21: Ketosamine-3-kinase; Phosphorylates psicosamines and ribulosamines, but not fructosamines, on the third carbon of the sugar moiety. Protein- bound psicosamine 3-phosphates and ribulosamine 3-phosphates are unstable and decompose under physiological conditions. Thus phosphorylation leads to deglycation
E22: P58774 | F22: Tpm2 | G22: 0.021495128 | H22: 0.52566605 | I22: =VLOOKUP(F22,'[1]SUSMB vs SHAM all proteins sum'!$B$2:$E$3214,2,FALSE) -> 0.93904651 | J22: =VLOOKUP(F22,'[1]SUSMB vs SHAM all proteins sum'!$B$2:$E$3214,3,FALSE) -> 0.97598157 | K22: =VLOOKUP($E22,[1]AllProteinsNorm!$A$1:$Q$3226,4,FALSE) -> 67773.855 | L22: =VLOOKUP($E22,[1]AllProteinsNorm!$A$1:$Q$3226,5,FALSE) -> 79135.935 | M22: =VLOOKUP($E22,[1]AllProteinsNorm!$A$1:$Q$3226,10,FALSE) -> 118464.05 | N22: =VLOOKUP($E22,[1]AllProteinsNorm!$A$1:$Q$3226,11,FALSE) -> 97458.73 | O22: =VLOOKUP($E22,[1]AllProteinsNorm!$A$1:$Q$3226,15,FALSE) -> 83911.954 | P22: =VLOOKUP($E22,[1]AllProteinsNorm!$A$1:$Q$3226,6,FALSE) -> 38862.973 | Q22: =VLOOKUP($E22,[1]AllProteinsNorm!$A$1:$Q$3226,8,FALSE) -> 22529.014 | R22: =VLOOKUP($E22,[1]AllProteinsNorm!$A$1:$Q$3226,13,FALSE) -> 57010.868 | S22: =VLOOKUP($E22,[1]AllProteinsNorm!$A$1:$Q$3226,16,FALSE) -> 58100.736 | T22: =VLOOKUP($E22,[1]AllProteinsNorm!$A$1:$Q$3226,17,FALSE) -> 71911.647 | U22: =VLOOKUP($E22,[1]AllProteinsNorm!$A$1:$Q$3226,3,FALSE) -> 117159.77 | V22: =VLOOKUP($E22,[1]AllProteinsNorm!$A$1:$Q$3226,7,FALSE) -> 28475.022 | W22: =VLOOKUP($E22,[1]AllProteinsNorm!$A$1:$Q$3226,9,FALSE) -> 88280.647 | X22: =VLOOKUP($E22,[1]AllProteinsNorm!$A$1:$Q$3226,12,FALSE) -> 159793.3 | Y22: =VLOOKUP($E22,[1]AllProteinsNorm!$A$1:$Q$3226,14,FALSE) -> 97770.652 | Z22: =K22/AVERAGE($K22:$O22) -> 0.75853034 | AA22: =L22/AVERAGE($K22:$O22) -> 0.88569564 | AB22: =M22/AVERAGE($K22:$O22) -> 1.325859 | AC22: =N22/AVERAGE($K22:$O22) -> 1.0907658 | AD22: =O22/AVERAGE($K22:$O22) -> 0.93914922 | AE22: =P22/AVERAGE($K22:$O22) -> 0.43495747 | AF22: =Q22/AVERAGE($K22:$O22) -> 0.25214651 | AG22: =R22/AVERAGE($K22:$O22) -> 0.63807014 | ... AN22: =Y22/AVERAGE($K22:$O22) -> 1.0942569 | AO22: =_xlfn.STDEV.P(K22:O22) -> 17394.302 | AP22: =_xlfn.STDEV.P(P22:T22) -> 17164.385 | AQ22: =_xlfn.STDEV.P(U22:Y22) -> 42692.65 | AR22: Tropomyosin beta chain; Binds to actin filaments in muscle and non-muscle cells. Plays a central role, in association with the troponin complex, in the calcium dependent regulation of vertebrate striated muscle contraction. Smooth muscle contraction is regulated by interaction with caldesmon. In non-muscle cells is implicated in stabilizing cytoskeleton actin filaments. The non-muscle isoform may have a role in agonist-mediated receptor internalization; Belongs to the tropomyosin family
E23: Q0VGU4 | F23: Vgf | G23: 0.024768394 | H23: 0.52817009 | I23: =VLOOKUP(F23,'[1]SUSMB vs SHAM all proteins sum'!$B$2:$E$3214,2,FALSE) -> 0.019571444 | J23: =VLOOKUP(F23,'[1]SUSMB vs SHAM all proteins sum'!$B$2:$E$3214,3,FALSE) -> 0.77968202 | K23: =VLOOKUP($E23,[1]AllProteinsNorm!$A$1:$Q$3226,4,FALSE) -> 437726.64 | L23: =VLOOKUP($E23,[1]AllProteinsNorm!$A$1:$Q$3226,5,FALSE) -> 420508.89 | M23: =VLOOKUP($E23,[1]AllProteinsNorm!$A$1:$Q$3226,10,FALSE) -> 548795.91 | N23: =VLOOKUP($E23,[1]AllProteinsNorm!$A$1:$Q$3226,11,FALSE) -> 498350.72 | O23: =VLOOKUP($E23,[1]AllProteinsNorm!$A$1:$Q$3226,15,FALSE) -> 464425.77 | P23: =VLOOKUP($E23,[1]AllProteinsNorm!$A$1:$Q$3226,6,FALSE) -> 420498.61 | Q23: =VLOOKUP($E23,[1]AllProteinsNorm!$A$1:$Q$3226,8,FALSE) -> 324939.85 | R23: =VLOOKUP($E23,[1]AllProteinsNorm!$A$1:$Q$3226,13,FALSE) -> 235791.94 | S23: =VLOOKUP($E23,[1]AllProteinsNorm!$A$1:$Q$3226,16,FALSE) -> 109777.29 | T23: =VLOOKUP($E23,[1]AllProteinsNorm!$A$1:$Q$3226,17,FALSE) -> 271706.75 | U23: =VLOOKUP($E23,[1]AllProteinsNorm!$A$1:$Q$3226,3,FALSE) -> 403938.33 | V23: =VLOOKUP($E23,[1]AllProteinsNorm!$A$1:$Q$3226,7,FALSE) -> 410589.18 | W23: =VLOOKUP($E23,[1]AllProteinsNorm!$A$1:$Q$3226,9,FALSE) -> 355487.6 | X23: =VLOOKUP($E23,[1]AllProteinsNorm!$A$1:$Q$3226,12,FALSE) -> 404762.17 | Y23: =VLOOKUP($E23,[1]AllProteinsNorm!$A$1:$Q$3226,14,FALSE) -> 282280.64 | Z23: =K23/AVERAGE($K23:$O23) -> 0.92354878 | AA23: =L23/AVERAGE($K23:$O23) -> 0.88722146 | AB23: =M23/AVERAGE($K23:$O23) -> 1.1578911 | AC23: =N23/AVERAGE($K23:$O23) -> 1.051458 | AD23: =O23/AVERAGE($K23:$O23) -> 0.97988062 | AE23: =P23/AVERAGE($K23:$O23) -> 0.88719976 | AF23: =Q23/AVERAGE($K23:$O23) -> 0.68558268 | AG23: =R23/AVERAGE($K23:$O23) -> 0.49749168 | ... AN23: =Y23/AVERAGE($K23:$O23) -> 0.59557705 | AO23: =_xlfn.STDEV.P(K23:O23) -> 45729.857 | AP23: =_xlfn.STDEV.P(P23:T23) -> 102450.29 | AQ23: =_xlfn.STDEV.P(U23:Y23) -> 48791.46 | AR23: VGF nerve growth factor inducible
E24: Q3TIR3 | F24: Ric8a | G24: 0.045510206 | H24: 0.53183547 | I24: =VLOOKUP(F24,'[1]SUSMB vs SHAM all proteins sum'!$B$2:$E$3214,2,FALSE) -> 0.59903704 | J24: =VLOOKUP(F24,'[1]SUSMB vs SHAM all proteins sum'!$B$2:$E$3214,3,FALSE) -> 0.88178158 | K24: =VLOOKUP($E24,[1]AllProteinsNorm!$A$1:$Q$3226,4,FALSE) -> 164262.4 | L24: =VLOOKUP($E24,[1]AllProteinsNorm!$A$1:$Q$3226,5,FALSE) -> 186128.41 | M24: =VLOOKUP($E24,[1]AllProteinsNorm!$A$1:$Q$3226,10,FALSE) -> 211517.25 | N24: =VLOOKUP($E24,[1]AllProteinsNorm!$A$1:$Q$3226,11,FALSE) -> 213541.56 | O24: =VLOOKUP($E24,[1]AllProteinsNorm!$A$1:$Q$3226,15,FALSE) -> 225577.48 | P24: =VLOOKUP($E24,[1]AllProteinsNorm!$A$1:$Q$3226,6,FALSE) -> 65901.678 | Q24: =VLOOKUP($E24,[1]AllProteinsNorm!$A$1:$Q$3226,8,FALSE) -> 67285.265 | R24: =VLOOKUP($E24,[1]AllProteinsNorm!$A$1:$Q$3226,13,FALSE) -> 201412.92 | S24: =VLOOKUP($E24,[1]AllProteinsNorm!$A$1:$Q$3226,16,FALSE) -> 198345.25 | T24: =VLOOKUP($E24,[1]AllProteinsNorm!$A$1:$Q$3226,17,FALSE) -> 74823.094 | U24: =VLOOKUP($E24,[1]AllProteinsNorm!$A$1:$Q$3226,3,FALSE) -> 72152.027 | V24: =VLOOKUP($E24,[1]AllProteinsNorm!$A$1:$Q$3226,7,FALSE) -> 217633.13 | W24: =VLOOKUP($E24,[1]AllProteinsNorm!$A$1:$Q$3226,9,FALSE) -> 216181.75 | X24: =VLOOKUP($E24,[1]AllProteinsNorm!$A$1:$Q$3226,12,FALSE) -> 231174.44 | Y24: =VLOOKUP($E24,[1]AllProteinsNorm!$A$1:$Q$3226,14,FALSE) -> 211615.5 | Z24: =K24/AVERAGE($K24:$O24) -> 0.8204693 | AA24: =L24/AVERAGE($K24:$O24) -> 0.92968717 | AB24: =M24/AVERAGE($K24:$O24) -> 1.0565011 | AC24: =N24/AVERAGE($K24:$O24) -> 1.0666123 | AD24: =O24/AVERAGE($K24:$O24) -> 1.1267301 | AE24: =P24/AVERAGE($K24:$O24) -> 0.3291703 | AF24: =Q24/AVERAGE($K24:$O24) -> 0.33608114 | AG24: =R24/AVERAGE($K24:$O24) -> 1.0060313 | ... AN24: =Y24/AVERAGE($K24:$O24) -> 1.0569919 | AO24: =_xlfn.STDEV.P(K24:O24) -> 22088.976 | AP24: =_xlfn.STDEV.P(P24:T24) -> 64031.864 | AQ24: =_xlfn.STDEV.P(U24:Y24) -> 59159.909 | AR24: Synembryn-A; Guanine nucleotide exchange factor (GEF), which can activate some, but not all, G-alpha proteins. Able to activate GNAI1, GNAO1 and GNAQ, but not GNAS by exchanging bound GDP for free GTP. Involved in regulation of microtubule pulling forces during mitotic movement of chromosomes by stimulating G(i)-alpha protein, possibly leading to release G(i)-alpha-GTP and NuMA proteins from the NuMA-GPSM2-G(i)-alpha-GDP complex. Also acts as an activator for G(q)-alpha (GNAQ) protein by enhancing the G(q)- coupled receptor-mediated ERK activation (By similarity)
E25: Q922H4 | F25: Gmppa | G25: 0.01246133 | H25: 0.53391114 | I25: =VLOOKUP(F25,'[1]SUSMB vs SHAM all proteins sum'!$B$2:$E$3214,2,FALSE) -> 0.16579942 | J25: =VLOOKUP(F25,'[1]SUSMB vs SHAM all proteins sum'!$B$2:$E$3214,3,FALSE) -> 0.77084682 | K25: =VLOOKUP($E25,[1]AllProteinsNorm!$A$1:$Q$3226,4,FALSE) -> 68982.042 | L25: =VLOOKUP($E25,[1]AllProteinsNorm!$A$1:$Q$3226,5,FALSE) -> 46928.136 | M25: =VLOOKUP($E25,[1]AllProteinsNorm!$A$1:$Q$3226,10,FALSE) -> 50421.17 | N25: =VLOOKUP($E25,[1]AllProteinsNorm!$A$1:$Q$3226,11,FALSE) -> 83349.379 | O25: =VLOOKUP($E25,[1]AllProteinsNorm!$A$1:$Q$3226,15,FALSE) -> 62002.398 | P25: =VLOOKUP($E25,[1]AllProteinsNorm!$A$1:$Q$3226,6,FALSE) -> 39679.009 | Q25: =VLOOKUP($E25,[1]AllProteinsNorm!$A$1:$Q$3226,8,FALSE) -> 17821.296 | R25: =VLOOKUP($E25,[1]AllProteinsNorm!$A$1:$Q$3226,13,FALSE) -> 43608.941 | S25: =VLOOKUP($E25,[1]AllProteinsNorm!$A$1:$Q$3226,16,FALSE) -> 40559.548 | T25: =VLOOKUP($E25,[1]AllProteinsNorm!$A$1:$Q$3226,17,FALSE) -> 29259.659 | U25: =VLOOKUP($E25,[1]AllProteinsNorm!$A$1:$Q$3226,3,FALSE) -> 61934.748 | V25: =VLOOKUP($E25,[1]AllProteinsNorm!$A$1:$Q$3226,7,FALSE) -> 60964.577 | W25: =VLOOKUP($E25,[1]AllProteinsNorm!$A$1:$Q$3226,9,FALSE) -> 52495.238 | X25: =VLOOKUP($E25,[1]AllProteinsNorm!$A$1:$Q$3226,12,FALSE) -> 34440.027 | Y25: =VLOOKUP($E25,[1]AllProteinsNorm!$A$1:$Q$3226,14,FALSE) -> 33630.879 | Z25: =K25/AVERAGE($K25:$O25) -> 1.1066053 | AA25: =L25/AVERAGE($K25:$O25) -> 0.75281804 | AB25: =M25/AVERAGE($K25:$O25) -> 0.80885306 | AC25: =N25/AVERAGE($K25:$O25) -> 1.3370852 | AD25: =O25/AVERAGE($K25:$O25) -> 0.99463836 | AE25: =P25/AVERAGE($K25:$O25) -> 0.63652802 | AF25: =Q25/AVERAGE($K25:$O25) -> 0.28588805 | AG25: =R25/AVERAGE($K25:$O25) -> 0.69957174 | ... AN25: =Y25/AVERAGE($K25:$O25) -> 0.53950433 | AO25: =_xlfn.STDEV.P(K25:O25) -> 13154.533 | AP25: =_xlfn.STDEV.P(P25:T25) -> 9504.309 | AQ25: =_xlfn.STDEV.P(U25:Y25) -> 12412.955 | AR25: Mannose-1-phosphate guanyltransferase alpha; May serve as a regulatory subunit and allow allosteric feedback inhibition of GMPPB by GDP-mannose; Belongs to the transferase hexapeptide repeat family
E26: Q91WK2 | F26: Eif3h | G26: 0.037047746 | H26: 0.5441735 | I26: =VLOOKUP(F26,'[1]SUSMB vs SHAM all proteins sum'!$B$2:$E$3214,2,FALSE) -> 0.23261276 | J26: =VLOOKUP(F26,'[1]SUSMB vs SHAM all proteins sum'!$B$2:$E$3214,3,FALSE) -> 0.82030188 | K26: =VLOOKUP($E26,[1]AllProteinsNorm!$A$1:$Q$3226,4,FALSE) -> 23433.143 | L26: =VLOOKUP($E26,[1]AllProteinsNorm!$A$1:$Q$3226,5,FALSE) -> 20245.324 | M26: =VLOOKUP($E26,[1]AllProteinsNorm!$A$1:$Q$3226,10,FALSE) -> 22901.405 | N26: =VLOOKUP($E26,[1]AllProteinsNorm!$A$1:$Q$3226,11,FALSE) -> 25904.021 | O26: =VLOOKUP($E26,[1]AllProteinsNorm!$A$1:$Q$3226,15,FALSE) -> 24730.089 | P26: =VLOOKUP($E26,[1]AllProteinsNorm!$A$1:$Q$3226,6,FALSE) -> 20384.412 | Q26: =VLOOKUP($E26,[1]AllProteinsNorm!$A$1:$Q$3226,8,FALSE) -> 6074.4086 | R26: =VLOOKUP($E26,[1]AllProteinsNorm!$A$1:$Q$3226,13,FALSE) -> 8854.5396 | S26: =VLOOKUP($E26,[1]AllProteinsNorm!$A$1:$Q$3226,16,FALSE) -> 20551.032 | T26: =VLOOKUP($E26,[1]AllProteinsNorm!$A$1:$Q$3226,17,FALSE) -> 14739.93 | U26: =VLOOKUP($E26,[1]AllProteinsNorm!$A$1:$Q$3226,3,FALSE) -> 12817.705 | V26: =VLOOKUP($E26,[1]AllProteinsNorm!$A$1:$Q$3226,7,FALSE) -> 14468.491 | W26: =VLOOKUP($E26,[1]AllProteinsNorm!$A$1:$Q$3226,9,FALSE) -> 27457.753 | X26: =VLOOKUP($E26,[1]AllProteinsNorm!$A$1:$Q$3226,12,FALSE) -> 20773.202 | Y26: =VLOOKUP($E26,[1]AllProteinsNorm!$A$1:$Q$3226,14,FALSE) -> 24438.629 | Z26: =K26/AVERAGE($K26:$O26) -> 0.99958821 | AA26: =L26/AVERAGE($K26:$O26) -> 0.86360533 | AB26: =M26/AVERAGE($K26:$O26) -> 0.97690587 | AC26: =N26/AVERAGE($K26:$O26) -> 1.1049885 | AD26: =O26/AVERAGE($K26:$O26) -> 1.0549121 | AE26: =P26/AVERAGE($K26:$O26) -> 0.86953841 | AF26: =Q26/AVERAGE($K26:$O26) -> 0.25911621 | AG26: =R26/AVERAGE($K26:$O26) -> 0.37770834 | ... AN26: =Y26/AVERAGE($K26:$O26) -> 1.0424793 | AO26: =_xlfn.STDEV.P(K26:O26) -> 1909.5432 | AP26: =_xlfn.STDEV.P(P26:T26) -> 5889.685 | AQ26: =_xlfn.STDEV.P(U26:Y26) -> 5623.165 | AR26: Eukaryotic translation initiation factor 3 subunit H; Component of the eukaryotic translation initiation factor 3 (eIF-3) complex, which is required for several steps in the initiation of protein synthesis. The eIF-3 complex associates with the 40S ribosome and facilitates the recruitment of eIF-1, eIF-1A, eIF-2:GTP:methionyl-tRNAi and eIF-5 to form the 43S pre- initiation complex (43S PIC). The eIF-3 complex stimulates mRNA recruitment to the 43S PIC and scanning of the mRNA for AUG recognition. The eIF-3 complex is also required for disassembly and recycling of post-termination ribosomes
E27: Q6W8Q3 | F27: Pcp4l1 | G27: 0.0052989217 | H27: 0.54470998 | I27: =VLOOKUP(F27,'[1]SUSMB vs SHAM all proteins sum'!$B$2:$E$3214,2,FALSE) -> 0.034101551 | J27: =VLOOKUP(F27,'[1]SUSMB vs SHAM all proteins sum'!$B$2:$E$3214,3,FALSE) -> 0.69955641 | K27: =VLOOKUP($E27,[1]AllProteinsNorm!$A$1:$Q$3226,4,FALSE) -> 79400.553 | L27: =VLOOKUP($E27,[1]AllProteinsNorm!$A$1:$Q$3226,5,FALSE) -> 71015.13 | M27: =VLOOKUP($E27,[1]AllProteinsNorm!$A$1:$Q$3226,10,FALSE) -> 67273.299 | N27: =VLOOKUP($E27,[1]AllProteinsNorm!$A$1:$Q$3226,11,FALSE) -> 66263.191 | O27: =VLOOKUP($E27,[1]AllProteinsNorm!$A$1:$Q$3226,15,FALSE) -> 77689.023 | P27: =VLOOKUP($E27,[1]AllProteinsNorm!$A$1:$Q$3226,6,FALSE) -> 52344.757 | Q27: =VLOOKUP($E27,[1]AllProteinsNorm!$A$1:$Q$3226,8,FALSE) -> 37584.786 | R27: =VLOOKUP($E27,[1]AllProteinsNorm!$A$1:$Q$3226,13,FALSE) -> 54967.855 | S27: =VLOOKUP($E27,[1]AllProteinsNorm!$A$1:$Q$3226,16,FALSE) -> 37679.356 | T27: =VLOOKUP($E27,[1]AllProteinsNorm!$A$1:$Q$3226,17,FALSE) -> 22981.495 | U27: =VLOOKUP($E27,[1]AllProteinsNorm!$A$1:$Q$3226,3,FALSE) -> 48753.953 | V27: =VLOOKUP($E27,[1]AllProteinsNorm!$A$1:$Q$3226,7,FALSE) -> 40203.646 | W27: =VLOOKUP($E27,[1]AllProteinsNorm!$A$1:$Q$3226,9,FALSE) -> 59658.229 | X27: =VLOOKUP($E27,[1]AllProteinsNorm!$A$1:$Q$3226,12,FALSE) -> 36385.739 | Y27: =VLOOKUP($E27,[1]AllProteinsNorm!$A$1:$Q$3226,14,FALSE) -> 76892.861 | Z27: =K27/AVERAGE($K27:$O27) -> 1.0977808 | AA27: =L27/AVERAGE($K27:$O27) -> 0.98184514 | AB27: =M27/AVERAGE($K27:$O27) -> 0.93011111 | AC27: =N27/AVERAGE($K27:$O27) -> 0.9161455 | AD27: =O27/AVERAGE($K27:$O27) -> 1.0741174 | AE27: =P27/AVERAGE($K27:$O27) -> 0.7237112 | AF27: =Q27/AVERAGE($K27:$O27) -> 0.51964194 | AG27: =R27/AVERAGE($K27:$O27) -> 0.75997779 | ... AN27: =Y27/AVERAGE($K27:$O27) -> 1.0631098 | AO27: =_xlfn.STDEV.P(K27:O27) -> 5344.4759 | AP27: =_xlfn.STDEV.P(P27:T27) -> 11585.327 | AQ27: =_xlfn.STDEV.P(U27:Y27) -> 14636.128 | AR27: Purkinje cell protein 4-like 1; Belongs to the PCP4 family
E28: P56812 | F28: Pdcd5 | G28: 0.048128698 | H28: 0.58587463 | I28: =VLOOKUP(F28,'[1]SUSMB vs SHAM all proteins sum'!$B$2:$E$3214,2,FALSE) -> 0.029304573 | J28: =VLOOKUP(F28,'[1]SUSMB vs SHAM all proteins sum'!$B$2:$E$3214,3,FALSE) -> 0.74715988 | K28: =VLOOKUP($E28,[1]AllProteinsNorm!$A$1:$Q$3226,4,FALSE) -> 223860.15 | L28: =VLOOKUP($E28,[1]AllProteinsNorm!$A$1:$Q$3226,5,FALSE) -> 159881 | M28: =VLOOKUP($E28,[1]AllProteinsNorm!$A$1:$Q$3226,10,FALSE) -> 168850.8 | N28: =VLOOKUP($E28,[1]AllProteinsNorm!$A$1:$Q$3226,11,FALSE) -> 174481.56 | O28: =VLOOKUP($E28,[1]AllProteinsNorm!$A$1:$Q$3226,15,FALSE) -> 181416.14 | P28: =VLOOKUP($E28,[1]AllProteinsNorm!$A$1:$Q$3226,6,FALSE) -> 172297.02 | Q28: =VLOOKUP($E28,[1]AllProteinsNorm!$A$1:$Q$3226,8,FALSE) -> 121134.25 | R28: =VLOOKUP($E28,[1]AllProteinsNorm!$A$1:$Q$3226,13,FALSE) -> 56121.666 | S28: =VLOOKUP($E28,[1]AllProteinsNorm!$A$1:$Q$3226,16,FALSE) -> 159167.52 | T28: =VLOOKUP($E28,[1]AllProteinsNorm!$A$1:$Q$3226,17,FALSE) -> 70826.525 | U28: =VLOOKUP($E28,[1]AllProteinsNorm!$A$1:$Q$3226,3,FALSE) -> 147117.91 | V28: =VLOOKUP($E28,[1]AllProteinsNorm!$A$1:$Q$3226,7,FALSE) -> 160776.94 | W28: =VLOOKUP($E28,[1]AllProteinsNorm!$A$1:$Q$3226,9,FALSE) -> 94467.793 | X28: =VLOOKUP($E28,[1]AllProteinsNorm!$A$1:$Q$3226,12,FALSE) -> 149186.82 | Y28: =VLOOKUP($E28,[1]AllProteinsNorm!$A$1:$Q$3226,14,FALSE) -> 133618.44 | Z28: =K28/AVERAGE($K28:$O28) -> 1.2320457 | AA28: =L28/AVERAGE($K28:$O28) -> 0.87992745 | AB28: =M28/AVERAGE($K28:$O28) -> 0.92929402 | AC28: =N28/AVERAGE($K28:$O28) -> 0.96028369 | AD28: =O28/AVERAGE($K28:$O28) -> 0.99844914 | AE28: =P28/AVERAGE($K28:$O28) -> 0.94826079 | AF28: =Q28/AVERAGE($K28:$O28) -> 0.66667931 | AG28: =R28/AVERAGE($K28:$O28) -> 0.30887345 | ... AN28: =Y28/AVERAGE($K28:$O28) -> 0.73538782 | AO28: =_xlfn.STDEV.P(K28:O28) -> 22229.87 | AP28: =_xlfn.STDEV.P(P28:T28) -> 46228.058 | AQ28: =_xlfn.STDEV.P(U28:Y28) -> 22963.673 | AR28: Programmed cell death protein 5; May function in the process of apoptosis
E29: P49312 | F29: Hnrnpa1 | G29: 0.035891942 | H29: 0.58908733 | I29: =VLOOKUP(F29,'[1]SUSMB vs SHAM all proteins sum'!$B$2:$E$3214,2,FALSE) -> 0.51843632 | J29: =VLOOKUP(F29,'[1]SUSMB vs SHAM all proteins sum'!$B$2:$E$3214,3,FALSE) -> 0.94766491 | K29: =VLOOKUP($E29,[1]AllProteinsNorm!$A$1:$Q$3226,4,FALSE) -> 316071.89 | L29: =VLOOKUP($E29,[1]AllProteinsNorm!$A$1:$Q$3226,5,FALSE) -> 223990.29 | M29: =VLOOKUP($E29,[1]AllProteinsNorm!$A$1:$Q$3226,10,FALSE) -> 303262.94 | N29: =VLOOKUP($E29,[1]AllProteinsNorm!$A$1:$Q$3226,11,FALSE) -> 330698.44 | O29: =VLOOKUP($E29,[1]AllProteinsNorm!$A$1:$Q$3226,15,FALSE) -> 286726.88 | P29: =VLOOKUP($E29,[1]AllProteinsNorm!$A$1:$Q$3226,6,FALSE) -> 257525.99 | Q29: =VLOOKUP($E29,[1]AllProteinsNorm!$A$1:$Q$3226,8,FALSE) -> 82063.935 | R29: =VLOOKUP($E29,[1]AllProteinsNorm!$A$1:$Q$3226,13,FALSE) -> 164797.68 | S29: =VLOOKUP($E29,[1]AllProteinsNorm!$A$1:$Q$3226,16,FALSE) -> 184033.44 | T29: =VLOOKUP($E29,[1]AllProteinsNorm!$A$1:$Q$3226,17,FALSE) -> 225326.41 | U29: =VLOOKUP($E29,[1]AllProteinsNorm!$A$1:$Q$3226,3,FALSE) -> 261522.17 | V29: =VLOOKUP($E29,[1]AllProteinsNorm!$A$1:$Q$3226,7,FALSE) -> 245072.09 | W29: =VLOOKUP($E29,[1]AllProteinsNorm!$A$1:$Q$3226,9,FALSE) -> 271131.1 | X29: =VLOOKUP($E29,[1]AllProteinsNorm!$A$1:$Q$3226,12,FALSE) -> 287975.73 | Y29: =VLOOKUP($E29,[1]AllProteinsNorm!$A$1:$Q$3226,14,FALSE) -> 310936.27 | Z29: =K29/AVERAGE($K29:$O29) -> 1.0818819 | AA29: =L29/AVERAGE($K29:$O29) -> 0.76669594 | AB29: =M29/AVERAGE($K29:$O29) -> 1.0380382 | AC29: =N29/AVERAGE($K29:$O29) -> 1.1319471 | AD29: =O29/AVERAGE($K29:$O29) -> 0.98143691 | AE29: =P29/AVERAGE($K29:$O29) -> 0.88148525 | AF29: =Q29/AVERAGE($K29:$O29) -> 0.28089649 | AG29: =R29/AVERAGE($K29:$O29) -> 0.56408569 | ... AN29: =Y29/AVERAGE($K29:$O29) -> 1.0643032 | AO29: =_xlfn.STDEV.P(K29:O29) -> 37032.13 | AP29: =_xlfn.STDEV.P(P29:T29) -> 59775.943 | AQ29: =_xlfn.STDEV.P(U29:Y29) -> 22590.038 | AR29: Heterogeneous nuclear ribonucleoprotein A1
E30: P84086 | F30: Cplx2 | G30: 0.026395009 | H30: 0.59700102 | I30: =VLOOKUP(F30,'[1]SUSMB vs SHAM all proteins sum'!$B$2:$E$3214,2,FALSE) -> 0.83970016 | J30: =VLOOKUP(F30,'[1]SUSMB vs SHAM all proteins sum'!$B$2:$E$3214,3,FALSE) -> 0.94698921 | K30: =VLOOKUP($E30,[1]AllProteinsNorm!$A$1:$Q$3226,4,FALSE) -> 186502.71 | L30: =VLOOKUP($E30,[1]AllProteinsNorm!$A$1:$Q$3226,5,FALSE) -> 314126.48 | M30: =VLOOKUP($E30,[1]AllProteinsNorm!$A$1:$Q$3226,10,FALSE) -> 225680.58 | N30: =VLOOKUP($E30,[1]AllProteinsNorm!$A$1:$Q$3226,11,FALSE) -> 477565.1 | O30: =VLOOKUP($E30,[1]AllProteinsNorm!$A$1:$Q$3226,15,FALSE) -> 254033.26 | P30: =VLOOKUP($E30,[1]AllProteinsNorm!$A$1:$Q$3226,6,FALSE) -> 229265.82 | Q30: =VLOOKUP($E30,[1]AllProteinsNorm!$A$1:$Q$3226,8,FALSE) -> 134440.92 | R30: =VLOOKUP($E30,[1]AllProteinsNorm!$A$1:$Q$3226,13,FALSE) -> 133072.18 | S30: =VLOOKUP($E30,[1]AllProteinsNorm!$A$1:$Q$3226,16,FALSE) -> 165926.18 | T30: =VLOOKUP($E30,[1]AllProteinsNorm!$A$1:$Q$3226,17,FALSE) -> 178734.93 | U30: =VLOOKUP($E30,[1]AllProteinsNorm!$A$1:$Q$3226,3,FALSE) -> 246741.22 | V30: =VLOOKUP($E30,[1]AllProteinsNorm!$A$1:$Q$3226,7,FALSE) -> 259404.95 | W30: =VLOOKUP($E30,[1]AllProteinsNorm!$A$1:$Q$3226,9,FALSE) -> 440671.56 | X30: =VLOOKUP($E30,[1]AllProteinsNorm!$A$1:$Q$3226,12,FALSE) -> 128805.33 | Y30: =VLOOKUP($E30,[1]AllProteinsNorm!$A$1:$Q$3226,14,FALSE) -> 336250.85 | Z30: =K30/AVERAGE($K30:$O30) -> 0.63962435 | AA30: =L30/AVERAGE($K30:$O30) -> 1.0773192 | AB30: =M30/AVERAGE($K30:$O30) -> 0.77398766 | AC30: =N30/AVERAGE($K30:$O30) -> 1.6378436 | AD30: =O30/AVERAGE($K30:$O30) -> 0.8712252 | AE30: =P30/AVERAGE($K30:$O30) -> 0.78628348 | AF30: =Q30/AVERAGE($K30:$O30) -> 0.46107472 | AG30: =R30/AVERAGE($K30:$O30) -> 0.45638053 | ... AN30: =Y30/AVERAGE($K30:$O30) -> 1.1531963 | AO30: =_xlfn.STDEV.P(K30:O30) -> 101874.95 | AP30: =_xlfn.STDEV.P(P30:T30) -> 35266.953 | AQ30: =_xlfn.STDEV.P(U30:Y30) -> 103287.41 | AR30: Complexin-2; Negatively regulates the formation of synaptic vesicle clustering at active zone to the presynaptic membrane in postmitotic neurons. Positively regulates a late step in exocytosis of various cytoplasmic vesicles, such as synaptic vesicles and other secretory vesicles. Also involved in mast cell exocytosis. Although not essential for development, seems critical for the acquisition of higher cognitive functions in the adult brain; Belongs to the complexin/synaphin family
E31: Q8BH43 | F31: Wasf2 | G31: 0.0078099958 | H31: 0.61981448 | I31: =VLOOKUP(F31,'[1]SUSMB vs SHAM all proteins sum'!$B$2:$E$3214,2,FALSE) -> 0.57088391 | J31: =VLOOKUP(F31,'[1]SUSMB vs SHAM all proteins sum'!$B$2:$E$3214,3,FALSE) -> 0.90366452 | K31: =VLOOKUP($E31,[1]AllProteinsNorm!$A$1:$Q$3226,4,FALSE) -> 64391.816 | L31: =VLOOKUP($E31,[1]AllProteinsNorm!$A$1:$Q$3226,5,FALSE) -> 69483.769 | M31: =VLOOKUP($E31,[1]AllProteinsNorm!$A$1:$Q$3226,10,FALSE) -> 41778.516 | N31: =VLOOKUP($E31,[1]AllProteinsNorm!$A$1:$Q$3226,11,FALSE) -> 70979.754 | O31: =VLOOKUP($E31,[1]AllProteinsNorm!$A$1:$Q$3226,15,FALSE) -> 50863.155 | P31: =VLOOKUP($E31,[1]AllProteinsNorm!$A$1:$Q$3226,6,FALSE) -> 35189.113 | Q31: =VLOOKUP($E31,[1]AllProteinsNorm!$A$1:$Q$3226,8,FALSE) -> 28024.923 | R31: =VLOOKUP($E31,[1]AllProteinsNorm!$A$1:$Q$3226,13,FALSE) -> 32153.393 | S31: =VLOOKUP($E31,[1]AllProteinsNorm!$A$1:$Q$3226,16,FALSE) -> 43198.407 | T31: =VLOOKUP($E31,[1]AllProteinsNorm!$A$1:$Q$3226,17,FALSE) -> 45067.778 | U31: =VLOOKUP($E31,[1]AllProteinsNorm!$A$1:$Q$3226,3,FALSE) -> 58779.147 | V31: =VLOOKUP($E31,[1]AllProteinsNorm!$A$1:$Q$3226,7,FALSE) -> 32309.948 | W31: =VLOOKUP($E31,[1]AllProteinsNorm!$A$1:$Q$3226,9,FALSE) -> 47589.764 | X31: =VLOOKUP($E31,[1]AllProteinsNorm!$A$1:$Q$3226,12,FALSE) -> 68214.787 | Y31: =VLOOKUP($E31,[1]AllProteinsNorm!$A$1:$Q$3226,14,FALSE) -> 65961.329 | Z31: =K31/AVERAGE($K31:$O31) -> 1.0822263 | AA31: =L31/AVERAGE($K31:$O31) -> 1.1678062 | AB31: =M31/AVERAGE($K31:$O31) -> 0.70216699 | AC31: =N31/AVERAGE($K31:$O31) -> 1.192949 | AD31: =O31/AVERAGE($K31:$O31) -> 0.85485153 | AE31: =P31/AVERAGE($K31:$O31) -> 0.5914196 | AF31: =Q31/AVERAGE($K31:$O31) -> 0.47101185 | AG31: =R31/AVERAGE($K31:$O31) -> 0.54039858 | ... AN31: =Y31/AVERAGE($K31:$O31) -> 1.1086049 | AO31: =_xlfn.STDEV.P(K31:O31) -> 11349.329 | AP31: =_xlfn.STDEV.P(P31:T31) -> 6487.7856 | AQ31: =_xlfn.STDEV.P(U31:Y31) -> 13250.609 | AR31: Wiskott-Aldrich syndrome protein family member 2; Downstream effector molecule involved in the transmission of signals from tyrosine kinase receptors and small GTPases to the actin cytoskeleton. Promotes formation of actin filaments. Part of the WAVE complex that regulates lamellipodia formation. The WAVE complex regulates actin filament reorganization via its interaction with the Arp2/3 complex (By similarity)
