Workbook

Sheet Legend
B2: Supplementary data file 1. Kinase selectivity of SGC8158. Data relating to Supplementary Fig 2.
B4: File name and experiment code refers to the original data sheets
B5: Kinase HR_name column indicates kinase PDB name
B6: 1μM (micromolar) or 0.1μM replicates (n1 and n2) and average values are indicated as % inhibition

Sheet Suppl data 1
A1: File name | B1: Exp_Code | C1: Kinase HR_name | D1: 1μM (n1) | E1: 1μM (n2) | F1: 0.1μM (n1) | G1: 0.1μM (n2) | H1: 1μM (average) | I1: 0.1μM (average)
A2: 20180308_AAK1LGF1.xlsx | B2: =MID(A2,10,8) -> AAK1LGF1 | C2: =VLOOKUP(B2,Sheet2!B:C,2,FALSE) -> AAK1 | D2: 4.6759741 | E2: 0.49431604 | F2: -1.968383 | G2: 3.9558484 | H2: 2.5851451 | I2: 0.99373274
A3: 20180319_ABL1IHY1.xlsx | B3: =MID(A3,10,8) -> ABL1IHY1 | C3: =VLOOKUP(B3,Sheet2!B:C,2,FALSE) -> ABL1 | D3: 2.1997478 | E3: -5.0480929 | F3: -9.5281271 | G3: 2.0749967 | H3: -1.4241725 | I3: -3.7265652
A4: 20180308_ABL2LGF1.xlsx | B4: =MID(A4,10,8) -> ABL2LGF1 | C4: =VLOOKUP(B4,Sheet2!B:C,2,FALSE) -> ABL2 | D4: 2.5778524 | E4: -2.4801341 | F4: -6.0787797 | G4: -5.1756427 | H4: 0.048859147 | I4: -5.6272112
A5: 20180308_ACV1LGF1.xlsx | B5: =MID(A5,10,8) -> ACV1LGF1 | C5: =VLOOKUP(B5,Sheet2!B:C,2,FALSE) -> ACVR1 | D5: 5.0963978 | E5: -0.92245373 | F5: 2.0773998 | G5: -5.0155745 | H5: 2.086972 | I5: -1.4690873
A6: 20180308_AC1BLGF1.xlsx | B6: =MID(A6,10,8) -> AC1BLGF1 | C6: =VLOOKUP(B6,Sheet2!B:C,2,FALSE) -> ACVR1B | D6: 3.6501601 | E6: -0.056587766 | F6: -0.60384245 | G6: -1.531787 | H6: 1.7967862 | I6: -1.0678148
A7: 20180315_AC2ALGE1.xlsx | B7: =MID(A7,10,8) -> AC2ALGE1 | C7: =VLOOKUP(B7,Sheet2!B:C,2,FALSE) -> ACVR2A | D7: -3.9975664 | E7: -3.6357864 | F7: -6.1260952 | G7: -6.1900123 | H7: -3.8166764 | I7: -6.1580537
A8: 20180309_ACL1LGF1.xlsx | B8: =MID(A8,10,8) -> ACL1LGF1 | C8: =VLOOKUP(B8,Sheet2!B:C,2,FALSE) -> ACVRL1 | D8: 3.8597156 | E8: 2.9626372 | F8: 0.12601207 | G8: 2.0352655 | H8: 3.4111764 | I8: 1.0806388
A9: 20180314_ADR1LGG5.xlsx | B9: =MID(A9,10,8) -> ADR1LGG5 | C9: =VLOOKUP(B9,Sheet2!B:C,2,FALSE) -> ADRBK1 | D9: 3.400218 | E9: 1.1731925 | F9: -0.78265166 | G9: 7.6316713 | H9: 2.2867053 | I9: 3.4245098
A10: 20180314_ADR2LGG5.xlsx | B10: =MID(A10,10,8) -> ADR2LGG5 | C10: =VLOOKUP(B10,Sheet2!B:C,2,FALSE) -> ADRBK2 | D10: -1.1912208 | E10: -6.3264335 | F10: 0.26500835 | G10: 1.146332 | H10: -3.7588272 | I10: 0.70567019
A11: 20180320_AKT1PHFB.xlsx | B11: =MID(A11,10,8) -> AKT1PHFB | C11: =VLOOKUP(B11,Sheet2!B:C,2,FALSE) -> AKT1 | D11: -0.78350649 | E11: -6.0174066 | F11: -3.789904 | G11: 1.1993335 | H11: -3.4004565 | I11: -1.2952852
A12: 20180312_AKT2CGY1.xlsx | B12: =MID(A12,10,8) -> AKT2CGY1 | C12: =VLOOKUP(B12,Sheet2!B:C,2,FALSE) -> AKT2 | D12: 1.5685797 | E12: 5.0097643 | F12: -7.3227612 | G12: 6.4878327 | H12: 3.289172 | I12: -0.41746426
A13: 20180313_AKT3LGY1.xlsx | B13: =MID(A13,10,8) -> AKT3LGY1 | C13: =VLOOKUP(B13,Sheet2!B:C,2,FALSE) -> AKT3 | D13: -6.2726516 | E13: 2.4115399 | F13: -10.929244 | G13: 3.714833 | H13: -1.9305559 | I13: -3.6072056
... A87: 20180313_DCL3LGP1.xlsx | B87: =MID(A87,10,8) -> DCL3LGP1 | C87: =VLOOKUP(B87,Sheet2!B:C,2,FALSE) -> DCLK3 | D87: -9.6745141 | E87: 0.5198999 | F87: 1.2550356 | G87: -4.7433656 | H87: -4.5773071 | I87: -1.744165
A88: 20180309_DDR1LGF1.xlsx | B88: =MID(A88,10,8) -> DDR1LGF1 | C88: =VLOOKUP(B88,Sheet2!B:C,2,FALSE) -> DDR1 | D88: -1.8715565 | E88: * | F88: 0.21677145 | G88: -3.5845058 | H88: -1.8715565 | I88: -1.6838672 | K88: *excluded due to abnormal value
A89: 20180309_DMPKLGF1.xlsx | B89: =MID(A89,10,8) -> DMPKLGF1 | C89: =VLOOKUP(B89,Sheet2!B:C,2,FALSE) -> DMPK | D89: -4.3624934 | E89: 0.52140682 | F89: 1.7069995 | G89: -7.8411252 | H89: -1.9205433 | I89: -3.0670629
A90: 20180313_DY1ALGP1.xlsx | B90: =MID(A90,10,8) -> DY1ALGP1 | C90: =VLOOKUP(B90,Sheet2!B:C,2,FALSE) -> DYRK1A | D90: 4.6281613 | E90: -4.9890581 | F90: 8.6240098 | G90: -6.9581564 | H90: -0.18044842 | I90: 0.83292671
A91: 20180319_DY1BLHY1.xlsx | B91: =MID(A91,10,8) -> DY1BLHY1 | C91: =VLOOKUP(B91,Sheet2!B:C,2,FALSE) -> DYRK1B | D91: -7.2952468 | E91: -5.5666658 | F91: -3.8963748 | G91: -8.4740923 | H91: -6.4309563 | I91: -6.1852335
A92: 20180312_DYR2LGY1.xlsx | B92: =MID(A92,10,8) -> DYR2LGY1 | C92: =VLOOKUP(B92,Sheet2!B:C,2,FALSE) -> DYRK2 | D92: -12.458301 | E92: 1.9049114 | F92: -7.7989748 | G92: -19.945566 | H92: -5.2766946 | I92: -13.872271
A93: 20180319_DYR4LHY1.xlsx | B93: =MID(A93,10,8) -> DYR4LHY1 | C93: =VLOOKUP(B93,Sheet2!B:C,2,FALSE) -> DYRK4 | D93: -3.0409998 | E93: -0.25027232 | F93: -10.949805 | G93: 11.010248 | H93: -1.645636 | I93: 0.030221476
A94: 20180316_EGFRMGB1.xlsx | B94: =MID(A94,10,8) -> EGFRMGB1 | C94: =VLOOKUP(B94,Sheet2!B:C,2,FALSE) -> EGFR | D94: -2.7573884 | E94: -7.3225704 | F94: -4.6951212 | G94: -3.0553935 | H94: -5.0399794 | I94: -3.8752574
A95: 20180316_EIK1CGQ1.xlsx | B95: =MID(A95,10,8) -> EIK1CGQ1 | C95: =VLOOKUP(B95,Sheet2!B:C,2,FALSE) -> EIF2AK1 | D95: -7.0387834 | E95: 1.1008019 | F95: 3.495379 | G95: -9.4187534 | H95: -2.9689907 | I95: -2.9616872
A96: 20180312_EIK2LGY1.xlsx | B96: =MID(A96,10,8) -> EIK2LGY1 | C96: =VLOOKUP(B96,Sheet2!B:C,2,FALSE) -> EIF2AK2 | D96: -2.9902344 | E96: -4.2689812 | F96: -0.77044634 | G96: 3.733662 | H96: -3.6296078 | I96: 1.4816078
A97: 20180316_EIK3CGQ1.xlsx | B97: =MID(A97,10,8) -> EIK3CGQ1 | C97: =VLOOKUP(B97,Sheet2!B:C,2,FALSE) -> EIF2AK3 | D97: -9.9651191 | E97: -0.38647961 | F97: -0.78550963 | G97: -10.150245 | H97: -5.1757993 | I97: -5.4678772
A98: 20180320_EIK4PHK1.xlsx | B98: =MID(A98,10,8) -> EIK4PHK1 | C98: =VLOOKUP(B98,Sheet2!B:C,2,FALSE) -> EIF2AK4 | D98: -0.79324786 | E98: -1.9022723 | F98: -0.59013515 | G98: -0.42599607 | H98: -1.3477601 | I98: -0.50806561
A99: 20180309_EPA1LGY1.xlsx | B99: =MID(A99,10,8) -> EPA1LGY1 | C99: =VLOOKUP(B99,Sheet2!B:C,2,FALSE) -> EPHA1 | D99: -1.5839628 | E99: -0.97751653 | F99: -6.9007618 | G99: 0.19543292 | H99: -1.2807397 | I99: -3.3526644
A100: 20180312_EPA2LGY1.xlsx | B100: =MID(A100,10,8) -> EPA2LGY1 | C100: =VLOOKUP(B100,Sheet2!B:C,2,FALSE) -> EPHA2 | D100: 0.67733505 | E100: 0.50110888 | F100: 0.40755703 | G100: 0.32221485 | H100: 0.58922197 | I100: 0.36488594
... A343: 20180313_ZAP7LGP1.xlsx | B343: =MID(A343,10,8) -> ZAP7LGP1 | C343: =VLOOKUP(B343,Sheet2!B:C,2,FALSE) -> ZAP70 | D343: 1.1815889 | E343: -14.479595 | F343: -33.073388 | G343: 3.9203812 | H343: -6.649003 | I343: -14.576503

Sheet Sheet2
A1: Exp_no | B1: Exp_code | C1: HR_name | D1: HR_code
A2: 64351 | B2: AAK1LGF1 | C2: AAK1 | D2: HR_0001
A3: 64839 | B3: ABL1IHY1 | C3: ABL1 | D3: HR_0003
A4: 64030 | B4: ABL2LGF1 | C4: ABL2 | D4: HR_0004
A5: 64085 | B5: ACV1LGF1 | C5: ACVR1 | D5: HR_0005
A6: 63968 | B6: AC1BLGF1 | C6: ACVR1B | D6: HR_0006
A7: 64332 | B7: AC2ALGE1 | C7: ACVR2A | D7: HR_0008
A8: 64154 | B8: ACL1LGF1 | C8: ACVRL1 | D8: HR_0010
A9: 64672 | B9: ADR1LGG5 | C9: ADRBK1 | D9: HR_0016
A10: 64673 | B10: ADR2LGG5 | C10: ADRBK2 | D10: HR_0017
A11: 64984 | B11: AKT1PHFB | C11: AKT1 | D11: HR_0018
A12: 64597 | B12: AKT2CGY1 | C12: AKT2 | D12: HR_0019
A13: 64747 | B13: AKT3LGY1 | C13: AKT3 | D13: HR_0020
... A25: 64732 | B25: BRAFLGY1 | C25: BRAF | D25: HR_0044
A26: 64852 | B26: BRD2LHRC | C26: BRD2 | D26: #N/A
A27: 64847 | B27: BRD4LGRC | C27: BRD4 | D27: #N/A
A28: 64848 | B28: BRDTLGRC | C28: BRDT | D28: #N/A
A29: 64300 | B29: BRS1LGA1 | C29: BRSK1 | D29: HR_0048
A30: 64180 | B30: BTK1CGF1 | C30: BTK | D30: HR_0050
A31: 65188 | B31: BUB1LGRL | C31: BUB1 | D31: HR_0051
A32: 64942 | B32: CAM1LGT5 | C32: CAMK1 | D32: HR_0054
A33: 64943 | B33: CA1DLGT5 | C33: CAMK1D | D33: HR_0055
A34: 64211 | B34: CA1GLGN1 | C34: CAMK1G | D34: HR_0056
A35: 64449 | B35: CA2ACGT1 | C35: CAMK2A | D35: HR_0057
A36: 64451 | B36: CA2BCGT1 | C36: CAMK2B | D36: HR_0058
A37: 64450 | B37: CA2DCGT1 | C37: CAMK2D | D37: HR_0059
A38: 64944 | B38: CA2GLGT5 | C38: CAMK2G | D38: HR_0060
A39: 64748 | B39: CAM4LGY1 | C39: CAMK4 | D39: HR_0061
A40: 64941 | B40: CAK1LGT5 | C40: CAMKK1 | D40: HR_0062
... A46: 63925 | B46: CDK1CGS1 | C46: CDK1 | D46: HR_0070
A47: 64840 | B47: C11ALGS1 | C47: CDK11A | D47: #N/A
A48: 64132 | B48: C11BLGS1 | C48: CDK11B | D48: HR_0073
A49: 64470 | B49: CD12PHS1 | C49: CDK12 | D49: HR_0074
A50: 64546 | B50: CD13PHS1 | C50: CDK13 | D50: HR_0075
A51: 63932 | B51: CD14CGS1 | C51: CDK14 | D51: HR_0076
A52: 65098 | B52: CD16SGS1 | C52: CDK16 | D52: HR_0078
A53: 64547 | B53: CD17SGS1 | C53: CDK17 | D53: HR_0079
A54: 64548 | B54: CD18SGS1 | C54: CDK18 | D54: HR_0080
A55: 63926 | B55: CD19CGS1 | C55: CDK19 | D55: HR_0081
A56: 63923 | B56: CDK2CGS1 | C56: CDK2 | D56: HR_0082
A57: 63929 | B57: CDK3CGS1 | C57: CDK3 | D57: HR_0084
A58: 63928 | B58: CDK4CGS1 | C58: CDK4 | D58: HR_0085
A59: 63924 | B59: CDK5CGS1 | C59: CDK5 | D59: HR_0086
... A231: 64204 | B231: PI3ACGR1 | C231: PI3KCA | D231: HR_0539
A232: 65186 | B232: PI3BCGRK | C232: PI3KCB | D232: #N/A
A233: 65187 | B233: PI3DCGRK | C233: PI3KCD | D233: #N/A
A234: 64281 | B234: PIM1LGP1 | C234: PIM1 | D234: HR_0348
A235: 64756 | B235: PIM2LHY1 | C235: PIM2 | D235: HR_0349
A236: 64272 | B236: PIM3LGP1 | C236: PIM3 | D236: HR_0350
A237: 64851 | B237: PIN1PHRE | C237: PINK1 | D237: HR_0351
A238: 64920 | B238: PKN1LGY1 | C238: PKN1 | D238: HR_0354
A239: 64674 | B239: PKN2LGG5 | C239: PKN2 | D239: HR_0355
A240: 64613 | B240: PLK1LGY1 | C240: PLK1 | D240: HR_0357
A241: 65096 | B241: PLK3PHY1 | C241: PLK3 | D241: HR_0359
A242: 64003 | B242: PLK4LGF1 | C242: PLK4 | D242: HR_0360
A243: 65181 | B243: PNCKLGRI | C243: PNCK | D243: HR_0361
A244: 64177 | B244: PRA1PGF1 | C244: PRKAA1 | D244: HR_0362
A245: 64727 | B245: PRA2LGY1 | C245: PRKAA2 | D245: HR_0363
... A343: 64222 | B343: ZAP7LGP1 | C343: ZAP70 | D343: HR_0527
