Workbook

Sheet Fig. 1B
A1: Figure 1B: BL-7SWCE exhibits a higher yield than conventional cell lysates in batch CFPS reactions.
C3: 50x dilution
B4: Replicate | C4: BL-7SWCE | D4: BL-PWCE | E4: BL-EWCE | F4: S30 | I4: Replicate | J4: BL-7SWCE | K4: BL-PWCE | L4: BL-EWCE | M4: S30
B5: 1 | C5: 18166 | D5: 7966 | E5: 7920 | F5: 8439 | G5: Fluorescence (a.u) | I5: 1 | J5: 1588.7254 | K5: 690.15198 | L5: 686.09959 | M5: 731.82112 | N5: deGFP(ug/mL)
C6: 17070 | D6: 7768 | E6: 7442 | F6: 8232 | G6: Fluorescence (a.u) | J6: 1492.1728 | K6: 672.70908 | L6: 643.98997 | M6: 713.58536 | N6: deGFP(ug/mL)
C7: 17477 | D7: 8196 | E7: 8203 | F7: 8350 | G7: Fluorescence (a.u) | J7: 1528.0277 | K7: 710.41393 | L7: 711.0306 | M7: 723.98062 | N7: deGFP(ug/mL)
C8: 16934 | D8: 7712 | E8: 8136 | F8: 8030 | G8: Fluorescence (a.u) | J8: 1480.1918 | K8: 667.77574 | L8: 705.1282 | M8: 695.79009 | N8: deGFP(ug/mL)
B9: 2 | C9: 17256 | D9: 4341 | E9: 8568 | F9: 7186 | G9: Fluorescence (a.u) | I9: 2 | J9: 1508.5586 | K9: 370.80602 | L9: 743.18543 | M9: 621.43754 | N9: deGFP(ug/mL)
C10: 17133 | D10: 4226 | E10: 8275 | F10: 6942 | G10: Fluorescence (a.u) | J10: 1497.7228 | K10: 360.67505 | L10: 717.37347 | M10: 599.94225 | N10: deGFP(ug/mL)
C11: 17419 | D11: 4310 | E11: 8775 | F11: 7327 | G11: Fluorescence (a.u) | J11: 1522.9181 | K11: 368.07506 | L11: 761.42118 | M11: 633.85899 | N11: deGFP(ug/mL)
C12: 17237 | D12: 4095 | E12: 8203 | F12: 7154 | G12: Fluorescence (a.u) | J12: 1506.8848 | K12: 349.13455 | L12: 711.0306 | M12: 618.61848 | N12: deGFP(ug/mL)
B13: 3 | C13: 17668 | D13: 4653 | E13: 8396 | F13: 7598 | G13: Fluorescence (a.u) | I13: 3 | J13: 1544.8539 | K13: 398.2918 | L13: 728.03301 | M13: 657.73286 | N13: deGFP(ug/mL)
C14: 16571 | D14: 4491 | E14: 8203 | F14: 7420 | G14: Fluorescence (a.u) | J14: 1448.2132 | K14: 384.02034 | L14: 711.0306 | M14: 642.05187 | N14: deGFP(ug/mL)
C15: 17609 | D15: 4622 | E15: 8321 | F15: 8047 | G15: Fluorescence (a.u) | J15: 1539.6563 | K15: 395.56084 | L15: 721.42586 | M15: 697.28771 | N15: deGFP(ug/mL)
C16: 16758 | D16: 4465 | E16: 7848 | F16: 7351 | G16: Fluorescence (a.u) | J16: 1464.687 | K16: 381.72986 | L16: 679.75672 | M16: 635.97328 | N16: deGFP(ug/mL)
B18: Rep 1 Avg | C18: =AVERAGE(C5:C8) -> 17411.75 | D18: =AVERAGE(D5:D8) -> 7910.5 | E18: =AVERAGE(E5:E8) -> 7925.25 | F18: =AVERAGE(F5:F8) -> 8262.75 | G18: Fluorescence (a.u) | I18: Rep 1 Avg | J18: =AVERAGE(J5:J8)/1000 -> 1.5222794 | K18: =AVERAGE(K5:K8)/1000 -> 0.68526268 | L18: =AVERAGE(L5:L8)/1000 -> 0.68656209 | M18: =AVERAGE(M5:M8)/1000 -> 0.7162943 | N18: deGFP(mg/mL)
B19: Rep 2 Avg | C19: =AVERAGE(C9:C12) -> 17261.25 | D19: =AVERAGE(D9:D12) -> 4243 | E19: =AVERAGE(E9:E12) -> 8455.25 | F19: =AVERAGE(F9:F12) -> 7152.25 | G19: Fluorescence (a.u) | I19: Rep 2 Avg | J19: =AVERAGE(J9:J12)/1000 -> 1.5090211 | K19: =AVERAGE(K9:K12)/1000 -> 0.36217267 | L19: =AVERAGE(L9:L12)/1000 -> 0.73325267 | M19: =AVERAGE(M9:M12)/1000 -> 0.61846432 | N19: deGFP(mg/mL)
B20: Rep 3 Avg | C20: =AVERAGE(C13:C16) -> 17151.5 | D20: =AVERAGE(D13:D16) -> 4557.75 | E20: =AVERAGE(E13:E16) -> 8192 | F20: =AVERAGE(F13:F16) -> 7604 | G20: Fluorescence (a.u) | I20: Rep 3 Avg | J20: =AVERAGE(J13:J16)/1000 -> 1.4993526 | K20: =AVERAGE(K13:K16)/1000 -> 0.38990071 | L20: =AVERAGE(L13:L16)/1000 -> 0.71006155 | M20: =AVERAGE(M13:M16)/1000 -> 0.65826143 | N20: deGFP(mg/mL)
B22: Overall Avg | C22: =AVERAGE(C5:C16) -> 17274.833 | D22: =AVERAGE(D5:D16) -> 5570.4167 | E22: =AVERAGE(E5:E16) -> 8190.8333 | F22: =AVERAGE(F5:F16) -> 7673 | G22: Fluorescence (a.u) | I22: Overall Avg | J22: =AVERAGE(J5:J16)/1000 -> 1.5102177 | K22: =AVERAGE(K5:K16)/1000 -> 0.47911202 | L22: =AVERAGE(L5:L16)/1000 -> 0.70995877 | M22: =AVERAGE(M5:M16)/1000 -> 0.66434001 | N22: deGFP(mg/mL)
B23: Overall STD | C23: =STDEV(C5:C16) -> 433.23368 | D23: =STDEV(D5:D16) -> 1738.8847 | E23: =STDEV(E5:E16) -> 344.39851 | F23: =STDEV(F5:F16) -> 518.63597 | G23: Fluorescence (a.u) | I23: Overall STD | J23: =STDEV(J5:J16)/1000 -> 0.03816591 | K23: =STDEV(K5:K16)/1000 -> 0.1531878 | L23: =STDEV(L5:L16)/1000 -> 0.030339937 | M23: =STDEV(M5:M16)/1000 -> 0.045689462 | N23: deGFP(mg/mL)

Sheet Fig. 1C
A1: Figure 1C: BL-7SWCE exhibit ~2-fold more deGFP expression than the controls in semi-continuous exchange reactions.
C3: 150x dilution
B4: Replicate | C4: BL-7SWCE | D4: BL-PWCE | E4: BL-EWCE | H4: Replicate | I4: BL-7SWCE | J4: BL-PWCE | K4: BL-EWCE
B5: 1 | C5: 19997 | D5: 10941 | E5: 11662 | F5: Fluorescence (a.u) | H5: 1 | I5: 5296.4102 | J5: 3074.1465 | K5: 2881.9147 | L5: deGFP(ug/mL)
C6: 18870 | D6: 10937 | E6: 11097 | F6: Fluorescence (a.u) | I6: 4995.9313 | J6: 2923.5072 | K6: 2880.8482 | L6: deGFP(ug/mL)
C7: 19867 | D7: 11008 | E7: 11641 | F7: Fluorescence (a.u) | I7: 5261.7498 | J7: 3068.5475 | K7: 2899.7781 | L7: deGFP(ug/mL)
C8: 18862 | D8: 10568 | E8: 11088 | F8: Fluorescence (a.u) | I8: 4993.7984 | J8: 2921.1076 | K8: 2782.4661 | L8: deGFP(ug/mL)
B9: 2 | C9: 16236 | D9: 6380 | E9: 8158 | F9: Fluorescence (a.u) | H9: 2 | I9: 4293.6587 | J9: 2139.9159 | K9: 1665.8686 | L9: deGFP(ug/mL)
C10: 15429 | D10: 6374 | E10: 7786 | F10: Fluorescence (a.u) | I10: 4078.4977 | J10: 2040.7339 | K10: 1664.2688 | L10: deGFP(ug/mL)
C11: 16184 | D11: 6361 | E11: 8145 | F11: Fluorescence (a.u) | I11: 4279.7945 | J11: 2136.4499 | K11: 1660.8028 | L11: deGFP(ug/mL)
C12: 15317 | D12: 6142 | E12: 7800 | F12: Fluorescence (a.u) | I12: 4048.6364 | J12: 2044.4666 | K12: 1602.4134 | L12: deGFP(ug/mL)
B13: 3 | C13: 19777 | D13: 10324 | E13: 10857 | F13: Fluorescence (a.u) | H13: 3 | I13: 5237.7541 | J13: 2859.5188 | K13: 2717.4112 | L13: deGFP(ug/mL)
C14: 18763 | D14: 10302 | E14: 10357 | F14: Fluorescence (a.u) | I14: 4967.4032 | J14: 2726.2096 | K14: 2711.5456 | L14: deGFP(ug/mL)
C15: 19874 | D15: 10274 | E15: 10826 | F15: Fluorescence (a.u) | I15: 5263.6161 | J15: 2851.2536 | K15: 2704.0803 | L15: deGFP(ug/mL)
C16: 18857 | D16: 9959 | E16: 10372 | F16: Fluorescence (a.u) | I16: 4992.4653 | J16: 2730.2089 | K16: 2620.0955 | L16: deGFP(ug/mL)
B18: Rep 1 Avg | C18: =AVERAGE(C5:C8) -> 19399 | D18: =AVERAGE(D5:D8) -> 10863.5 | E18: =AVERAGE(E5:E8) -> 11372 | F18: Fluorescence (a.u) | H18: Rep 1 Avg | I18: =AVERAGE(I5:I8)/1000 -> 5.1369724 | J18: =AVERAGE(J5:J8)/1000 -> 2.9968272 | K18: =AVERAGE(K5:K8)/1000 -> 2.8612518 | L18: deGFP(mg/mL)
B19: Rep 2 Avg | C19: =AVERAGE(C9:C12) -> 15791.5 | D19: =AVERAGE(D9:D12) -> 6314.25 | E19: =AVERAGE(E9:E12) -> 7972.25 | F19: Fluorescence (a.u) | H19: Rep 2 Avg | I19: =AVERAGE(I9:I12)/1000 -> 4.1751468 | J19: =AVERAGE(J9:J12)/1000 -> 2.0903916 | K19: =AVERAGE(K9:K12)/1000 -> 1.6483384 | L19: deGFP(mg/mL)
B20: Rep 3 Avg | C20: =AVERAGE(C13:C16) -> 19317.75 | D20: =AVERAGE(D13:D16) -> 10214.75 | E20: =AVERAGE(E13:E16) -> 10603 | F20: Fluorescence (a.u) | H20: Rep 3 Avg | I20: =AVERAGE(I13:I16)/1000 -> 5.1153097 | J20: =AVERAGE(J13:J16)/1000 -> 2.7917977 | K20: =AVERAGE(K13:K16)/1000 -> 2.6882831 | L20: deGFP(mg/mL)
B22: Overall Avg | C22: =AVERAGE(C5:C16) -> 18169.417 | D22: =AVERAGE(D5:D16) -> 9130.8333 | E22: =AVERAGE(E5:E16) -> 9982.4167 | F22: Fluorescence (a.u) | H22: Overall Avg | I22: =AVERAGE(I5:I16)/1000 -> 4.809143 | J22: =AVERAGE(J5:J16)/1000 -> 2.6263388 | K22: =AVERAGE(K5:K16)/1000 -> 2.3992911 | L22: deGFP(mg/mL)
B23: Overall STD | C23: =STDEV(C5:C16) -> 1829.8913 | D23: =STDEV(D5:D16) -> 2103.8585 | E23: =STDEV(E5:E16) -> 1540.2748 | F23: Fluorescence (a.u) | H23: Overall STD | I23: =STDEV(I5:I16)/1000 -> 0.48788253 | J23: =STDEV(J5:J16)/1000 -> 0.41066547 | K23: =STDEV(K5:K16)/1000 -> 0.56092722 | L23: deGFP(mg/mL)

Sheet Fig. 1D
A1: Figure 1D: Time series showing the expression dynamics of BL-7SWCE compared to controls under semi-continuous agitation.
B3: Time (s) | C3: 0 | D3: 618.6 | E3: 1237.1 | F3: 1855.7 | G3: 2474.3 | H3: 3092.8 | I3: 3711.4 | J3: 4330 | K3: 4948.6 | L3: 5567.2 | M3: 6185.7 | N3: 6804.3 | O3: 7422.9 | P3: 8041.4 | Q3: 8660 | R3: 9278.6 | S3: 9897.2 | T3: 10515.7 | U3: 11134.3 | V3: 11752.9 | W3: 12371.5 | X3: 12990 | Y3: 13608.6 | Z3: 14227.1 | AA3: 14845.7 | AB3: 15464.3 | AC3: 16082.8 | AD3: 16701.5 | AE3: 17320.1 | AF3: 17938.6 | AG3: 18557.2 | AH3: 19175.8 | AI3: 19794.4 | AJ3: 20412.9 | AK3: 21031.5 | AL3: 21650.1 | AM3: 22268.7
B5: Replicate
A6: BL-7SWCE | B6: 1 | C6: 9 | D6: 16 | E6: 155 | F6: 560 | G6: 1137 | H6: 1778 | I6: 2420 | J6: 3016 | K6: 3560 | L6: 4032 | M6: 4478 | N6: 4862 | O6: 5194 | P6: 5503 | Q6: 5790 | R6: 6051 | S6: 6282 | T6: 6485 | U6: 6665 | V6: 6828 | W6: 6966 | X6: 7080 | Y6: 7190 | Z6: 7299 | AA6: 7371 | AB6: 7451 | AC6: 7547 | AD6: 7603 | AE6: 7675 | AF6: 7726 | AG6: 7770 | AH6: 7812 | AI6: 7841 | AJ6: 7860 | AK6: 7897 | AL6: 7911 | AM6: 7923 | AN6: Fluorescence (a.u)
B7: 2 | C7: 9 | D7: 15 | E7: 131 | F7: 521 | G7: 1094 | H7: 1754 | I7: 2408 | J7: 3026 | K7: 3596 | L7: 4110 | M7: 4569 | N7: 4989 | O7: 5329 | P7: 5690 | Q7: 5994 | R7: 6281 | S7: 6515 | T7: 6750 | U7: 6963 | V7: 7155 | W7: 7297 | X7: 7434 | Y7: 7544 | Z7: 7644 | AA7: 7735 | AB7: 7834 | AC7: 7904 | AD7: 7994 | AE7: 8032 | AF7: 8091 | AG7: 8140 | AH7: 8203 | AI7: 8243 | AJ7: 8264 | AK7: 8295 | AL7: 8323 | AM7: 8353 | AN7: Fluorescence (a.u)
B8: 3 | C8: 9 | D8: 14 | E8: 129 | F8: 510 | G8: 1071 | H8: 1715 | I8: 2352 | J8: 2959 | K8: 3504 | L8: 3982 | M8: 4429 | N8: 4829 | O8: 5181 | P8: 5502 | Q8: 5805 | R8: 6061 | S8: 6302 | T8: 6513 | U8: 6713 | V8: 6874 | W8: 7023 | X8: 7142 | Y8: 7253 | Z8: 7355 | AA8: 7444 | AB8: 7518 | AC8: 7577 | AD8: 7648 | AE8: 7708 | AF8: 7750 | AG8: 7808 | AH8: 7839 | AI8: 7867 | AJ8: 7894 | AK8: 7922 | AL8: 7961 | AM8: 7987 | AN8: Fluorescence (a.u)
B9: 4 | C9: 9 | D9: 13 | E9: 114 | F9: 457 | G9: 983 | H9: 1593 | I9: 2199 | J9: 2782 | K9: 3313 | L9: 3794 | M9: 4242 | N9: 4629 | O9: 4975 | P9: 5290 | Q9: 5571 | R9: 5854 | S9: 6084 | T9: 6298 | U9: 6502 | V9: 6658 | W9: 6812 | X9: 6923 | Y9: 7028 | Z9: 7118 | AA9: 7197 | AB9: 7269 | AC9: 7336 | AD9: 7399 | AE9: 7439 | AF9: 7482 | AG9: 7528 | AH9: 7564 | AI9: 7594 | AJ9: 7621 | AK9: 7643 | AL9: 7660 | AM9: 7667 | AN9: Fluorescence (a.u)
B10: Replicate
A11: BL-PWCE | B11: 1 | C11: 10 | D11: 11 | E11: 36 | F11: 74 | G11: 116 | H11: 160 | I11: 202 | J11: 248 | K11: 296 | L11: 348 | M11: 405 | N11: 468 | O11: 535 | P11: 607 | Q11: 682 | R11: 761 | S11: 843 | T11: 928 | U11: 1017 | V11: 1103 | W11: 1195 | X11: 1283 | Y11: 1363 | Z11: 1443 | AA11: 1514 | AB11: 1580 | AC11: 1635 | AD11: 1684 | AE11: 1722 | AF11: 1754 | AG11: 1780 | AH11: 1805 | AI11: 1823 | AJ11: 1835 | AK11: 1845 | AL11: 1850 | AM11: 1862 | AN11: Fluorescence (a.u)
B12: 2 | C12: 9 | D12: 11 | E12: 33 | F12: 73 | G12: 119 | H12: 171 | I12: 228 | J12: 291 | K12: 361 | L12: 439 | M12: 528 | N12: 621 | O12: 722 | P12: 828 | Q12: 942 | R12: 1056 | S12: 1174 | T12: 1295 | U12: 1413 | V12: 1526 | W12: 1634 | X12: 1730 | Y12: 1823 | Z12: 1901 | AA12: 1978 | AB12: 2037 | AC12: 2085 | AD12: 2135 | AE12: 2168 | AF12: 2196 | AG12: 2217 | AH12: 2240 | AI12: 2257 | AJ12: 2263 | AK12: 2268 | AL12: 2271 | AM12: 2286 | AN12: Fluorescence (a.u)
B13: 3 | C13: 10 | D13: 11 | E13: 29 | F13: 63 | G13: 101 | H13: 142 | I13: 185 | J13: 232 | K13: 282 | L13: 335 | M13: 395 | N13: 463 | O13: 536 | P13: 613 | Q13: 695 | R13: 784 | S13: 880 | T13: 979 | U13: 1083 | V13: 1184 | W13: 1292 | X13: 1395 | Y13: 1494 | Z13: 1588 | AA13: 1676 | AB13: 1757 | AC13: 1829 | AD13: 1889 | AE13: 1945 | AF13: 1996 | AG13: 2033 | AH13: 2073 | AI13: 2099 | AJ13: 2128 | AK13: 2142 | AL13: 2167 | AM13: 2179 | AN13: Fluorescence (a.u)
B14: 4 | C14: 9 | D14: 11 | E14: 33 | F14: 70 | G14: 109 | H14: 149 | I14: 188 | J14: 229 | K14: 271 | L14: 316 | M14: 362 | N14: 411 | O14: 460 | P14: 514 | Q14: 565 | R14: 619 | S14: 672 | T14: 723 | U14: 781 | V14: 833 | W14: 889 | X14: 941 | Y14: 995 | Z14: 1043 | AA14: 1094 | AB14: 1141 | AC14: 1180 | AD14: 1211 | AE14: 1242 | AF14: 1265 | AG14: 1283 | AH14: 1300 | AI14: 1309 | AJ14: 1315 | AK14: 1327 | AL14: 1329 | AM14: 1333 | AN14: Fluorescence (a.u)
B15: Replicate
A16: BL-EWCE | B16: 1 | C16: 9 | D16: 11 | E16: 44 | F16: 118 | G16: 204 | H16: 290 | I16: 370 | J16: 448 | K16: 520 | L16: 591 | M16: 654 | N16: 718 | O16: 774 | P16: 831 | Q16: 879 | R16: 925 | S16: 965 | T16: 1007 | U16: 1039 | V16: 1063 | W16: 1092 | X16: 1109 | Y16: 1126 | Z16: 1143 | AA16: 1157 | AB16: 1166 | AC16: 1177 | AD16: 1183 | AE16: 1190 | AF16: 1194 | AG16: 1194 | AH16: 1202 | AI16: 1210 | AJ16: 1208 | AK16: 1207 | AL16: 1208 | AM16: 1215 | AN16: Fluorescence (a.u)
B17: 2 | C17: 9 | D17: 10 | E17: 45 | F17: 125 | G17: 222 | H17: 317 | I17: 409 | J17: 496 | K17: 578 | L17: 653 | M17: 727 | N17: 790 | O17: 857 | P17: 915 | Q17: 969 | R17: 1019 | S17: 1065 | T17: 1102 | U17: 1141 | V17: 1169 | W17: 1197 | X17: 1220 | Y17: 1238 | Z17: 1256 | AA17: 1271 | AB17: 1279 | AC17: 1290 | AD17: 1298 | AE17: 1310 | AF17: 1311 | AG17: 1315 | AH17: 1322 | AI17: 1323 | AJ17: 1324 | AK17: 1327 | AL17: 1330 | AM17: 1334 | AN17: Fluorescence (a.u)
B18: 3 | C18: 10 | D18: 11 | E18: 52 | F18: 147 | G18: 254 | H18: 358 | I18: 450 | J18: 534 | K18: 614 | L18: 685 | M18: 752 | N18: 819 | O18: 875 | P18: 928 | Q18: 976 | R18: 1025 | S18: 1061 | T18: 1100 | U18: 1136 | V18: 1160 | W18: 1183 | X18: 1203 | Y18: 1221 | Z18: 1235 | AA18: 1248 | AB18: 1253 | AC18: 1262 | AD18: 1272 | AE18: 1276 | AF18: 1283 | AG18: 1290 | AH18: 1283 | AI18: 1294 | AJ18: 1294 | AK18: 1294 | AL18: 1297 | AM18: 1296 | AN18: Fluorescence (a.u)
B19: 4 | C19: 8 | D19: 10 | E19: 43 | F19: 121 | G19: 216 | H19: 314 | I19: 411 | J19: 511 | K19: 608 | L19: 705 | M19: 802 | N19: 897 | O19: 982 | P19: 1065 | Q19: 1147 | R19: 1224 | S19: 1295 | T19: 1365 | U19: 1430 | V19: 1479 | W19: 1531 | X19: 1582 | Y19: 1627 | Z19: 1667 | AA19: 1701 | AB19: 1738 | AC19: 1767 | AD19: 1797 | AE19: 1823 | AF19: 1849 | AG19: 1875 | AH19: 1895 | AI19: 1913 | AJ19: 1936 | AK19: 1954 | AL19: 1976 | AM19: 1990 | AN19: Fluorescence (a.u)
C23: Time (h) | D23: 0 | E23: 0.17183333 | F23: 0.34363889 | G23: 0.51547222 | H23: 0.68730556 | I23: 0.85911111 | J23: 1.0309444 | K23: 1.2027778 | L23: 1.3746111 | M23: 1.5464444 | N23: 1.71825 | O23: 1.8900833 | P23: 2.0619167 | Q23: 2.2337222 | R23: 2.4055556 | S23: 2.5773889 | T23: 2.7492222 | U23: 2.9210278 | V23: 3.0928611 | W23: 3.2646944 | X23: 3.4365278 | Y23: 3.6083333 | Z23: 3.7801667 | AA23: 3.9519722 | AB23: 4.1238056 | AC23: 4.2956389 | AD23: 4.4674444 | AE23: 4.6393056 | AF23: 4.8111389 | AG23: 4.9829444 | AH23: 5.1547778 | AI23: 5.3266111 | AJ23: 5.4984444 | AK23: 5.67025 | AL23: 5.8420833 | AM23: 6.0139167
B25: Mean values | C25: BL-7SWCE | D25: 9 | E25: 14.5 | F25: 132.25 | G25: 512 | H25: 1071.25 | I25: 1710 | J25: 2344.75 | K25: 2945.75 | L25: 3493.25 | M25: 3979.5 | N25: 4429.5 | O25: 4827.25 | P25: 5169.75 | Q25: 5496.25 | R25: 5790 | S25: 6061.75 | T25: 6295.75 | U25: 6511.5 | V25: 6710.75 | W25: 6878.75 | X25: 7024.5 | Y25: 7144.75 | Z25: 7253.75 | AA25: 7354 | AB25: 7436.75 | AC25: 7518 | AD25: 7591 | AE25: 7661 | AF25: 7713.5 | AG25: 7762.25 | AH25: 7811.5 | AI25: 7854.5 | AJ25: 7886.25 | AK25: 7909.75 | AL25: 7939.25 | AM25: 7963.75 | AN25: Fluorescence (a.u)
C26: BL-PWCE | D26: 9.5 | E26: 11 | F26: 32.75 | G26: 70 | H26: 111.25 | I26: 155.5 | J26: 200.75 | K26: 250 | L26: 302.5 | M26: 359.5 | N26: 422.5 | O26: 490.75 | P26: 563.25 | Q26: 640.5 | R26: 721 | S26: 805 | T26: 892.25 | U26: 981.25 | V26: 1073.5 | W26: 1161.5 | X26: 1252.5 | Y26: 1337.25 | Z26: 1418.75 | AA26: 1493.75 | AB26: 1565.5 | AC26: 1628.75 | AD26: 1682.25 | AE26: 1729.75 | AF26: 1769.25 | AG26: 1802.75 | AH26: 1828.25 | AI26: 1854.5 | AJ26: 1872 | AK26: 1885.25 | AL26: 1895.5 | AM26: 1904.25 | AN26: Fluorescence (a.u)
C27: BL-EWCE | D27: 9 | E27: 10.5 | F27: 46 | G27: 127.75 | H27: 224 | I27: 319.75 | J27: 410 | K27: 497.25 | L27: 580 | M27: 658.5 | N27: 733.75 | O27: 806 | P27: 872 | Q27: 934.75 | R27: 992.75 | S27: 1048.25 | T27: 1096.5 | U27: 1143.5 | V27: 1186.5 | W27: 1217.75 | X27: 1250.75 | Y27: 1278.5 | Z27: 1303 | AA27: 1325.25 | AB27: 1344.25 | AC27: 1359 | AD27: 1374 | AE27: 1387.5 | AF27: 1399.75 | AG27: 1409.25 | AH27: 1418.5 | AI27: 1425.5 | AJ27: 1435 | AK27: 1440.5 | AL27: 1445.5 | AM27: 1452.75 | AN27: Fluorescence (a.u)
B30: Upper B | C30: BL-7SWCE | D30: 9 | E30: 16.569406 | F30: 159.43337 | G30: 580.09573 | H30: 1175.2518 | I30: 1841.7742 | J30: 2507.5868 | K30: 3127.0204 | L30: 3695.2028 | M30: 4194.9629 | N30: 4650.392 | O30: 5066.2225 | P30: 5403.8816 | Q30: 5758.2678 | R30: 6067.3344 | S30: 6341.4596 | T30: 6578.1868 | U30: 6808.7593 | V30: 7016.721 | W30: 7209.3926 | X30: 7348.8586 | Y30: 7487.3461 | Z30: 7599.1274 | AA30: 7703.7505 | AB30: 7796.1467 | AC30: 7895.4565 | AD30: 7967.0698 | AE30: 8056.9721 | AF30: 8104.2892 | AG30: 8163.609 | AH30: 8214.9217 | AI30: 8276.4651 | AJ30: 8315.4698 | AK30: 8335.4574 | AL30: 8369.7708 | AM30: 8401.8729
C31: BL-PWCE | D31: 10.425467 | E31: 11 | F31: 37.354139 | G31: 77.961165 | H31: 124.09866 | I31: 175.88129 | J31: 232.19885 | K31: 295.80826 | L31: 367.13045 | M31: 447.0288 | N31: 539.0243 | O31: 635.94139 | P31: 742.23332 | Q31: 853.63278 | R31: 975.08063 | S31: 1097.6202 | T31: 1226.5328 | U31: 1360.5477 | V31: 1491.601 | W31: 1619.303 | X31: 1744.428 | Y31: 1858.7607 | Z31: 1967.6327 | AA31: 2064.6112 | AB31: 2156.1559 | AC31: 2230.9385 | AD31: 2294.8997 | AE31: 2357.9658 | AF31: 2403.7954 | AG31: 2446.294 | AH31: 2477.8424 | AI31: 2512.996 | AJ31: 2538.8011 | AK31: 2558.5757 | AL31: 2566.231 | AM31: 2582.6863
C32: BL-EWCE | D32: 10.308808 | E32: 11.425467 | F32: 52.544038 | G32: 148.82851 | H32: 258.22976 | I32: 364.98204 | J32: 462.36866 | K32: 555.53787 | L32: 648.90844 | M32: 738.38552 | N32: 832.54871 | O32: 924.69809 | P32: 1009.0753 | Q32: 1090.0651 | R32: 1172.1492 | S32: 1249.8972 | T32: 1321.1941 | U32: 1390.6343 | V32: 1457.3773 | W32: 1507.3349 | X32: 1559.3911 | Y32: 1612.1368 | Z32: 1658.1357 | AA32: 1698.8323 | AB32: 1733.5655 | AC32: 1771.3533 | AD32: 1800.9783 | AE32: 1832.1682 | AF32: 1859.2372 | AG32: 1885.937 | AH32: 1913.4447 | AI32: 1933.5812 | AJ32: 1951.5514 | AK32: 1975.8415 | AL32: 1994.9256 | AM32: 2017.9812
B34: Lower B | C34: BL-7SWCE | D34: 9 | E34: 12.430594 | F34: 105.06663 | G34: 443.90427 | H34: 967.24817 | I34: 1578.2258 | J34: 2181.9132 | K34: 2764.4796 | L34: 3291.2972 | M34: 3764.0371 | N34: 4208.608 | O34: 4588.2775 | P34: 4935.6184 | Q34: 5234.2322 | R34: 5512.6656 | S34: 5782.0404 | T34: 6013.3132 | U34: 6214.2407 | V34: 6404.779 | W34: 6548.1074 | X34: 6700.1414 | Y34: 6802.1539 | Z34: 6908.3726 | AA34: 7004.2495 | AB34: 7077.3533 | AC34: 7140.5435 | AD34: 7214.9302 | AE34: 7265.0279 | AF34: 7322.7108 | AG34: 7360.891 | AH34: 7408.0783 | AI34: 7432.5349 | AJ34: 7457.0302 | AK34: 7484.0426 | AL34: 7508.7292 | AM34: 7525.6271
C35: BL-PWCE | D35: 8.5745333 | E35: 11 | F35: 28.145861 | G35: 62.038835 | H35: 98.401336 | I35: 135.11871 | J35: 169.30115 | K35: 204.19174 | L35: 237.86955 | M35: 271.9712 | N35: 305.9757 | O35: 345.55861 | P35: 384.26668 | Q35: 427.36722 | R35: 466.91937 | S35: 512.37979 | T35: 557.9672 | U35: 601.95231 | V35: 655.39899 | W35: 703.69698 | X35: 760.57203 | Y35: 815.73927 | Z35: 869.86731 | AA35: 922.88877 | AB35: 974.84415 | AC35: 1026.5615 | AD35: 1069.6003 | AE35: 1101.5342 | AF35: 1134.7046 | AG35: 1159.206 | AH35: 1178.6576 | AI35: 1196.004 | AJ35: 1205.1989 | AK35: 1211.9243 | AL35: 1224.769 | AM35: 1225.8137
C36: BL-EWCE | D36: 7.6911925 | E36: 9.5745333 | F36: 39.455962 | G36: 106.67149 | H36: 189.77024 | I36: 274.51796 | J36: 357.63134 | K36: 438.96213 | L36: 511.09156 | M36: 578.61448 | N36: 634.95129 | O36: 687.30191 | P36: 734.92467 | Q36: 779.43488 | R36: 813.35085 | S36: 846.60283 | T36: 871.80592 | U36: 896.36574 | V36: 915.62269 | W36: 928.16506 | X36: 942.10895 | Y36: 944.86317 | Z36: 947.8643 | AA36: 951.66769 | AB36: 954.93449 | AC36: 946.6467 | AD36: 947.02173 | AE36: 942.83181 | AF36: 940.26279 | AG36: 932.56302 | AH36: 923.55527 | AI36: 917.4188 | AJ36: 918.44864 | AK36: 905.15853 | AL36: 896.07436 | AM36: 887.51882
B38: CI | C38: BL-7SWCE | D38: 0 | E38: 2.0694064 | F38: 27.183368 | G38: 68.095734 | H38: 104.00183 | I38: 131.77423 | J38: 162.83677 | K38: 181.27043 | L38: 201.95275 | M38: 215.46287 | N38: 220.89205 | O38: 238.97254 | P38: 234.13164 | Q38: 262.01782 | R38: 277.33443 | S38: 279.70957 | T38: 282.43682 | U38: 297.25926 | V38: 305.97102 | W38: 330.64264 | X38: 324.35857 | Y38: 342.59615 | Z38: 345.37735 | AA38: 349.75049 | AB38: 359.39667 | AC38: 377.45655 | AD38: 376.06985 | AE38: 395.97214 | AF38: 390.78919 | AG38: 401.35895 | AH38: 403.42174 | AI38: 421.9651 | AJ38: 429.21978 | AK38: 425.70737 | AL38: 430.52084 | AM38: 438.12295
C39: BL-PWCE | D39: 0.92546667 | E39: 0 | F39: 4.6041385 | G39: 7.9611653 | H39: 12.848664 | I39: 20.381289 | J39: 31.44885 | K39: 45.808263 | L39: 64.630447 | M39: 87.528796 | N39: 116.5243 | O39: 145.19139 | P39: 178.98332 | Q39: 213.13278 | R39: 254.08063 | S39: 292.62021 | T39: 334.2828 | U39: 379.29769 | V39: 418.10101 | W39: 457.80302 | X39: 491.92797 | Y39: 521.51073 | Z39: 548.88269 | AA39: 570.86123 | AB39: 590.65585 | AC39: 602.18854 | AD39: 612.64967 | AE39: 628.21585 | AF39: 634.54543 | AG39: 643.54396 | AH39: 649.5924 | AI39: 658.49604 | AJ39: 666.80114 | AK39: 673.32566 | AL39: 670.73097 | AM39: 678.43635
C40: BL-EWCE | D40: 1.3088075 | E40: 0.92546667 | F40: 6.5440376 | G40: 21.078506 | H40: 34.229758 | I40: 45.232035 | J40: 52.368658 | K40: 58.287871 | L40: 68.908436 | M40: 79.885519 | N40: 98.798714 | O40: 118.69809 | P40: 137.07533 | Q40: 155.31512 | R40: 179.39915 | S40: 201.64717 | T40: 224.69408 | U40: 247.13426 | V40: 270.87731 | W40: 289.58494 | X40: 308.64105 | Y40: 333.63683 | Z40: 355.1357 | AA40: 373.58231 | AB40: 389.31551 | AC40: 412.3533 | AD40: 426.97827 | AE40: 444.66819 | AF40: 459.48721 | AG40: 476.68698 | AH40: 494.94473 | AI40: 508.0812 | AJ40: 516.55136 | AK40: 535.34147 | AL40: 549.42564 | AM40: 565.23118
B42: STDV | C42: BL-7SWCE | D42: 0 | E42: 1.2909944 | F42: 16.958282 | G42: 42.481368 | H42: 64.881302 | I42: 82.207056 | J42: 101.58535 | K42: 113.08514 | L42: 125.98776 | M42: 134.41602 | N42: 137.803 | O42: 149.08247 | P42: 146.06249 | Q42: 163.45922 | R42: 173.01445 | S42: 174.49618 | T42: 176.19757 | U42: 185.44451 | V42: 190.87932 | W42: 206.27066 | X42: 202.35036 | Y42: 213.72783 | Z42: 215.46287 | AA42: 218.19105 | AB42: 224.20879 | AC42: 235.47541 | AD42: 234.61032 | AE42: 247.02631 | AF42: 243.79294 | AG42: 250.38687 | AH42: 251.67373 | AI42: 263.24197 | AJ42: 267.76778 | AK42: 265.57657 | AL42: 268.57944 | AM42: 273.322
C43: BL-PWCE | D43: 0.57735027 | E43: 0 | F43: 2.8722813 | G43: 4.9665548 | H43: 8.0156098 | I43: 12.714821 | J43: 19.619293 | K43: 28.57738 | L43: 40.319557 | M43: 54.60464 | N43: 72.69342 | O43: 90.577315 | P43: 111.65833 | Q43: 132.9624 | R43: 158.50762 | S43: 182.55045 | T43: 208.54156 | U43: 236.624 | V43: 260.83136 | W43: 285.59937 | X43: 306.88814 | Y43: 325.34328 | Z43: 342.41921 | AA43: 356.13048 | AB43: 368.47931 | AC43: 375.67395 | AD43: 382.2001 | AE43: 391.91102 | AF43: 395.85972 | AG43: 401.47343 | AH43: 405.24674 | AI43: 410.80125 | AJ43: 415.98237 | AK43: 420.05268 | AL43: 418.43399 | AM43: 423.24097
C44: BL-EWCE | D44: 0.81649658 | E44: 0.57735027 | F44: 4.0824829 | G44: 13.149778 | H44: 21.354157 | I44: 28.217902 | J44: 32.670068 | K44: 36.362756 | L44: 42.988371 | M44: 49.836399 | N44: 61.635352 | O44: 74.049533 | P44: 85.514131 | Q44: 96.892982 | R44: 111.91775 | S44: 125.79713 | T44: 140.17489 | U44: 154.17414 | V44: 168.98619 | W44: 180.6569 | X44: 192.54502 | Y44: 208.13858 | Z44: 221.5506 | AA44: 233.05847 | AB44: 242.8736 | AC44: 257.24567 | AD44: 266.36942 | AE44: 277.40524 | AF44: 286.65005 | AG44: 297.38009 | AH44: 308.77014 | AI44: 316.9653 | AJ44: 322.24939 | AK44: 333.97156 | AL44: 342.75793 | AM44: 352.61818

Sheet Fig. 2B
A1: Figure 2B: Expression yield of BL-EWCE increases proportionally with the supplementation of purified translation machinery.
C3: 50x dilution
B4: Replicate | C4: 0 | D4: 2 | E4: 5 | F4: 10 | G4: 13 | H4: 18 | I4: ug of purified translation machinery added | K4: Replicate | L4: 0 | M4: 2 | N4: 5 | O4: 10 | P4: 13 | Q4: 18 | R4: ug of purified translation machinery added
B5: 1 | C5: 6401.5 | D5: 6291.5 | E5: 6390.5 | F5: 8472 | G5: 7679.5 | H5: 9474.5 | I5: Fluorescence (a.u) | K5: 1 | L5: 0.55241157 | M5: 0.54272088 | N5: 0.5514425 | O5: 0.73481681 | P5: 0.66499978 | Q5: 0.82313425 | R5: deGFP(mg/mL)
B6: 2 | C6: 6113 | D6: 6154 | E6: 6702 | F6: 9033 | G6: 10565.5 | H6: 11088 | I6: Fluorescence (a.u) | K6: 2 | L6: 0.52699553 | M6: 0.53060752 | N6: 0.57888478 | O6: 0.78423934 | P6: 0.91924828 | Q6: 0.96527907 | R6: deGFP(mg/mL)
B7: 3 | C7: 4447 | D7: 5865.5 | E7: 5534.5 | F7: 9015 | G7: 7505 | H7: 11008 | I7: Fluorescence (a.u) | K7: 3 | L7: 0.38022561 | M7: 0.50519148 | N7: 0.4760313 | O7: 0.78265359 | P7: 0.64962682 | Q7: 0.95823129 | R7: deGFP(mg/mL)
B8: 4 | C8: 5400.5 | D8: 6010.5 | E8: 6623.5 | F8: 5853 | G8: 8196.5 | H8: 9748.5 | I8: Fluorescence (a.u) | K8: 4 | L8: 0.46422628 | M8: 0.51796557 | N8: 0.57196915 | O8: 0.50409026 | P8: 0.71054603 | Q8: 0.84727288 | R8: deGFP(mg/mL)
B10: Average | C10: 5590.5 | D10: 6080.375 | E10: 6312.625 | F10: 8093.25 | G10: 8486.625 | H10: 10329.75 | I10: Fluorescence (a.u) | K10: Average | L10: 0.48096475 | M10: 0.52412136 | N10: 0.54458193 | O10: 0.70145 | P10: 0.73610523 | Q10: 0.89847937 | R10: deGFP(mg/mL)
B11: STD | C11: 870.71226 | D11: 183.52855 | E11: 535.3501 | F11: 1516.0172 | G11: 1416.6783 | H11: 837.51025 | I11: Fluorescence (a.u) | K11: STD | L11: 0.076707306 | M11: 0.01616835 | N11: 0.047162841 | O11: 0.13355686 | P11: 0.12480538 | Q11: 0.073782302 | R11: deGFP(mg/mL)

Sheet Fig. 2C
A1: Figure 2C: Expression yield of BL-CFPWCE increases proportionally with the supplementation of purified translation machinery.
C3: 30x dilution
B4: Replicate | C4: 0 | D4: 2 | E4: 4 | F4: 8 | G4: 12 | H4: 17 | I4: ug of purified translation machinery added | K4: Replicate | L4: 0 | M4: 2 | N4: 4 | O4: 8 | P4: 12 | Q4: 17 | R4: ug of purified translation machinery added
B5: 1 | C5: 8506 | D5: 10228.25 | E5: 15844.25 | F5: 19355.5 | G5: 20414 | H5: 21044 | I5: Fluorescence (a.u) | K5: 1 | L5: 0.44268727 | M5: 0.5337225 | N5: 0.83057481 | O5: 1.0161736 | P5: 1.0721241 | Q5: 1.1054248 | R5: deGFP(mg/mL)
B6: 2 | C6: 6824.5 | D6: 6297.25 | E6: 16949.25 | F6: 18009.25 | G6: 19229.75 | H6: 12113.75 | I6: Fluorescence (a.u) | K6: 2 | L6: 0.35380601 | M6: 0.32593646 | N6: 0.88898325 | O6: 0.94501306 | P6: 1.0095266 | Q6: 0.63338686 | R6: deGFP(mg/mL)
B7: 3 | C7: 11408.25 | D7: 14553.25 | E7: 11751.25 | F7: 18331.25 | G7: 17466.75 | H7: 8534.5 | I7: Fluorescence (a.u) | K7: 3 | L7: 0.59609532 | M7: 0.76233472 | N7: 0.61422572 | O7: 0.96203344 | P7: 0.91633742 | Q7: 0.44419373 | R7: deGFP(mg/mL)
B8: 4 | C8: 9474.25 | D8: 17817.75 | E8: 8925 | F8: 15095.5 | G8: 14514.75 | H8: 17655.25 | I8: Fluorescence (a.u) | K8: 4 | L8: 0.49386733 | M8: 0.93489069 | N8: 0.4648349 | O8: 0.79099714 | P8: 0.76029968 | Q8: 0.92630122 | R8: deGFP(mg/mL)
B10: Average | C10: 9053.25 | D10: 12224.125 | E10: 13367.438 | F10: 17697.875 | G10: 17906.312 | H10: 14836.875 | I10: Fluorescence (a.u) | K10: Average | L10: 0.47161398 | M10: 0.6392211 | N10: 0.69965467 | O10: 0.9285543 | P10: 0.93957196 | Q10: 0.77732666 | R10: deGFP(mg/mL)
B11: STD | C11: 1725.9753 | D11: 4507.0435 | E11: 3335.0133 | F11: 1688.3452 | G11: 2324.5163 | H11: 5021.5638 | I11: Fluorescence (a.u) | K11: STD | L11: 0.1011703 | M11: 0.26574091 | N11: 0.19614945 | O11: 0.096593394 | P11: 0.13557547 | Q11: 0.29526149 | R11: deGFP(mg/mL)

Sheet Fig. 3A
A1: Figure 3A: deGFP expression levels of all extracts used in mass spectrometry analysis
D3: Dilution Factor
B4: Replicates | D4: 30 | E4: 50 | F4: 30 | G4: 50 | J4: Replicates
B5: Experiments | C5: Independent dilutions | D5: BL-E | E5: BL-CFP | F5: BL-1S | G5: BL-7S | J5: Experiments | K5: Independent dilutions | L5: BL-E | M5: BL-CFP | N5: BL-1S | O5: BL-7S
B6: 1 | C6: 1 | D6: 11180 | E6: 4356 | F6: 9545 | G6: 18031 | H6: Fluorescence (a.u) | J6: 1 | K6: 1 | L6: =((D6-131.86)/492.56)*D$4*25389.6/29255.89/1000 -> 0.58397442 | M6: =((E6-131.86)/492.56)*E$4*25389.6/29255.89/1000 -> 0.37212745 | N6: =((F6-131.86)/492.56)*F$4*25389.6/29255.89/1000 -> 0.4975528 | O6: =((G6-131.86)/492.56)*G$4*25389.6/29255.89/1000 -> 1.5768325 | P6: deGFP(mg/mL)
D7: 10856 | E7: 4184 | F7: 9250 | G7: 17354 | H7: Fluorescence (a.u) | L7: =((D7-131.86)/492.56)*D$4*25389.6/29255.89/1000 -> 0.56684867 | M7: =((E7-131.86)/492.56)*E$4*25389.6/29255.89/1000 -> 0.35697504 | N7: =((F7-131.86)/492.56)*F$4*25389.6/29255.89/1000 -> 0.48195991 | O7: =((G7-131.86)/492.56)*G$4*25389.6/29255.89/1000 -> 1.5171919 | P7: deGFP(mg/mL)
D8: 11096 | E8: 4306 | F8: 9488 | G8: 17868 | H8: Fluorescence (a.u) | L8: =((D8-131.86)/492.56)*D$4*25389.6/29255.89/1000 -> 0.57953441 | M8: =((E8-131.86)/492.56)*E$4*25389.6/29255.89/1000 -> 0.36772268 | N8: =((F8-131.86)/492.56)*F$4*25389.6/29255.89/1000 -> 0.49453994 | O8: =((G8-131.86)/492.56)*G$4*25389.6/29255.89/1000 -> 1.562473 | P8: deGFP(mg/mL)
D9: 10596 | E9: 4100 | F9: 8963 | G9: 16964 | H9: Fluorescence (a.u) | L9: =((D9-131.86)/492.56)*D$4*25389.6/29255.89/1000 -> 0.55310578 | M9: =((E9-131.86)/492.56)*E$4*25389.6/29255.89/1000 -> 0.34957502 | N9: =((F9-131.86)/492.56)*F$4*25389.6/29255.89/1000 -> 0.46678988 | O9: =((G9-131.86)/492.56)*G$4*25389.6/29255.89/1000 -> 1.4828347 | P9: deGFP(mg/mL)
C10: 2 | D10: 9686 | E10: 6501 | F10: 9043 | G10: 13789 | H10: Fluorescence (a.u) | K10: 2 | L10: =((D10-131.86)/492.56)*D$4*25389.6/29255.89/1000 -> 0.50500568 | M10: =((E10-131.86)/492.56)*E$4*25389.6/29255.89/1000 -> 0.56109216 | N10: =((F10-131.86)/492.56)*F$4*25389.6/29255.89/1000 -> 0.47101846 | O10: =((G10-131.86)/492.56)*G$4*25389.6/29255.89/1000 -> 1.2031317 | P10: deGFP(mg/mL)
D11: 9450 | E11: 6393 | F11: 8803 | G11: 13543 | H11: Fluorescence (a.u) | L11: =((D11-131.86)/492.56)*D$4*25389.6/29255.89/1000 -> 0.49253136 | M11: =((E11-131.86)/492.56)*E$4*25389.6/29255.89/1000 -> 0.55157786 | N11: =((F11-131.86)/492.56)*F$4*25389.6/29255.89/1000 -> 0.45833271 | O11: =((G11-131.86)/492.56)*G$4*25389.6/29255.89/1000 -> 1.1814602 | P11: deGFP(mg/mL)
D12: 9437 | E12: 6453 | F12: 8850 | G12: 13639 | H12: Fluorescence (a.u) | L12: =((D12-131.86)/492.56)*D$4*25389.6/29255.89/1000 -> 0.49184422 | M12: =((E12-131.86)/492.56)*E$4*25389.6/29255.89/1000 -> 0.55686358 | N12: =((F12-131.86)/492.56)*F$4*25389.6/29255.89/1000 -> 0.46081701 | O12: =((G12-131.86)/492.56)*G$4*25389.6/29255.89/1000 -> 1.1899174 | P12: deGFP(mg/mL)
D13: 9133 | E13: 6215 | F13: 8483 | G13: 13159 | H13: Fluorescence (a.u) | L13: =((D13-131.86)/492.56)*D$4*25389.6/29255.89/1000 -> 0.47577561 | M13: =((E13-131.86)/492.56)*E$4*25389.6/29255.89/1000 -> 0.53589687 | N13: =((F13-131.86)/492.56)*F$4*25389.6/29255.89/1000 -> 0.44141839 | O13: =((G13-131.86)/492.56)*G$4*25389.6/29255.89/1000 -> 1.1476316 | P13: deGFP(mg/mL)
C14: 3 | D14: 9216 | E14: 8203 | F14: 9593 | G14: 14769 | H14: Fluorescence (a.u) | K14: 3 | L14: =((D14-131.86)/492.56)*D$4*25389.6/29255.89/1000 -> 0.48016276 | M14: =((E14-131.86)/492.56)*E$4*25389.6/29255.89/1000 -> 0.7110306 | N14: =((F14-131.86)/492.56)*F$4*25389.6/29255.89/1000 -> 0.50008995 | O14: =((G14-131.86)/492.56)*G$4*25389.6/29255.89/1000 -> 1.2894652 | P14: deGFP(mg/mL)
D15: 8766 | E15: 7771 | F15: 9582 | G15: 14115 | H15: Fluorescence (a.u) | L15: =((D15-131.86)/492.56)*D$4*25389.6/29255.89/1000 -> 0.456377 | M15: =((E15-131.86)/492.56)*E$4*25389.6/29255.89/1000 -> 0.67297337 | N15: =((F15-131.86)/492.56)*F$4*25389.6/29255.89/1000 -> 0.49950852 | O15: =((G15-131.86)/492.56)*G$4*25389.6/29255.89/1000 -> 1.2318508 | P15: deGFP(mg/mL)
D16: 9165 | E16: 8201 | F16: 9604 | G16: 14835 | H16: Fluorescence (a.u) | L16: =((D16-131.86)/492.56)*D$4*25389.6/29255.89/1000 -> 0.47746704 | M16: =((E16-131.86)/492.56)*E$4*25389.6/29255.89/1000 -> 0.7108544 | N16: =((F16-131.86)/492.56)*F$4*25389.6/29255.89/1000 -> 0.50067138 | O16: =((G16-131.86)/492.56)*G$4*25389.6/29255.89/1000 -> 1.2952795 | P16: deGFP(mg/mL)
D17: 8884 | E17: 7867 | F17: 9002 | G17: 14321 | H17: Fluorescence (a.u) | L17: =((D17-131.86)/492.56)*D$4*25389.6/29255.89/1000 -> 0.46261415 | M17: =((E17-131.86)/492.56)*E$4*25389.6/29255.89/1000 -> 0.68143053 | N17: =((F17-131.86)/492.56)*F$4*25389.6/29255.89/1000 -> 0.46885131 | O17: =((G17-131.86)/492.56)*G$4*25389.6/29255.89/1000 -> 1.2499985 | P17: deGFP(mg/mL)
B18: 2 | C18: 1 | D18: 6363 | E18: 6304 | F18: 6645 | G18: 15762 | H18: Fluorescence (a.u) | J18: 2 | K18: 1 | L18: =((D18-131.86)/492.56)*D$4*25389.6/29255.89/1000 -> 0.329361 | M18: =((E18-131.86)/492.56)*E$4*25389.6/29255.89/1000 -> 0.54373736 | N18: =((F18-131.86)/492.56)*F$4*25389.6/29255.89/1000 -> 0.34426674 | O18: =((G18-131.86)/492.56)*G$4*25389.6/29255.89/1000 -> 1.376944 | P18: deGFP(mg/mL)
D19: 6072 | E19: 6071 | F19: 6444 | G19: 15330 | H19: Fluorescence (a.u) | L19: =((D19-131.86)/492.56)*D$4*25389.6/29255.89/1000 -> 0.31397953 | M19: =((E19-131.86)/492.56)*E$4*25389.6/29255.89/1000 -> 0.52321113 | N19: =((F19-131.86)/492.56)*F$4*25389.6/29255.89/1000 -> 0.33364243 | O19: =((G19-131.86)/492.56)*G$4*25389.6/29255.89/1000 -> 1.3388868 | P19: deGFP(mg/mL)
D20: 6186 | E20: 6240 | F20: 6501 | G20: 15678 | H20: Fluorescence (a.u) | L20: =((D20-131.86)/492.56)*D$4*25389.6/29255.89/1000 -> 0.32000526 | M20: =((E20-131.86)/492.56)*E$4*25389.6/29255.89/1000 -> 0.53809926 | N20: =((F20-131.86)/492.56)*F$4*25389.6/29255.89/1000 -> 0.3366553 | O20: =((G20-131.86)/492.56)*G$4*25389.6/29255.89/1000 -> 1.369544 | P20: deGFP(mg/mL)
D21: 5890 | E21: 5897 | F21: 6216 | G21: 14890 | H21: Fluorescence (a.u) | L21: =((D21-131.86)/492.56)*D$4*25389.6/29255.89/1000 -> 0.30435951 | M21: =((E21-131.86)/492.56)*E$4*25389.6/29255.89/1000 -> 0.50788252 | N21: =((F21-131.86)/492.56)*F$4*25389.6/29255.89/1000 -> 0.32159098 | O21: =((G21-131.86)/492.56)*G$4*25389.6/29255.89/1000 -> 1.3001248 | P21: deGFP(mg/mL)
C22: 2 | D22: 6714 | E22: 6741 | F22: 6784 | G22: 15421 | H22: Fluorescence (a.u) | K22: 2 | L22: =((D22-131.86)/492.56)*D$4*25389.6/29255.89/1000 -> 0.34791389 | M22: =((E22-131.86)/492.56)*E$4*25389.6/29255.89/1000 -> 0.58223507 | N22: =((F22-131.86)/492.56)*F$4*25389.6/29255.89/1000 -> 0.3516139 | O22: =((G22-131.86)/492.56)*G$4*25389.6/29255.89/1000 -> 1.3469035 | P22: deGFP(mg/mL)
D23: 6566 | E23: 6651 | F23: 6627 | G23: 15076 | H23: Fluorescence (a.u) | L23: =((D23-131.86)/492.56)*D$4*25389.6/29255.89/1000 -> 0.34009102 | M23: =((E23-131.86)/492.56)*E$4*25389.6/29255.89/1000 -> 0.57430648 | N23: =((F23-131.86)/492.56)*F$4*25389.6/29255.89/1000 -> 0.34331531 | O23: =((G23-131.86)/492.56)*G$4*25389.6/29255.89/1000 -> 1.3165105 | P23: deGFP(mg/mL)
D24: 6669 | E24: 6676 | F24: 6684 | G24: 15209 | H24: Fluorescence (a.u) | L24: =((D24-131.86)/492.56)*D$4*25389.6/29255.89/1000 -> 0.34553532 | M24: =((E24-131.86)/492.56)*E$4*25389.6/29255.89/1000 -> 0.57650887 | N24: =((F24-131.86)/492.56)*F$4*25389.6/29255.89/1000 -> 0.34632818 | O24: =((G24-131.86)/492.56)*G$4*25389.6/29255.89/1000 -> 1.3282272 | P24: deGFP(mg/mL)
D25: 6331 | E25: 6408 | F25: 6391 | G25: 14714 | H25: Fluorescence (a.u) | L25: =((D25-131.86)/492.56)*D$4*25389.6/29255.89/1000 -> 0.32766956 | M25: =((E25-131.86)/492.56)*E$4*25389.6/29255.89/1000 -> 0.55289929 | N25: =((F25-131.86)/492.56)*F$4*25389.6/29255.89/1000 -> 0.330841 | O25: =((G25-131.86)/492.56)*G$4*25389.6/29255.89/1000 -> 1.28462 | P25: deGFP(mg/mL)
C26: 3 | D26: 5846 | E26: 6742 | F26: 6481 | G26: 14778 | H26: Fluorescence (a.u) | K26: 3 | L26: =((D26-131.86)/492.56)*D$4*25389.6/29255.89/1000 -> 0.30203379 | M26: =((E26-131.86)/492.56)*E$4*25389.6/29255.89/1000 -> 0.58232316 | N26: =((F26-131.86)/492.56)*F$4*25389.6/29255.89/1000 -> 0.33559815 | O26: =((G26-131.86)/492.56)*G$4*25389.6/29255.89/1000 -> 1.2902581 | P26: deGFP(mg/mL)
D27: 5495 | E27: 6106 | F27: 6204 | G27: 14050 | H27: Fluorescence (a.u) | L27: =((D27-131.86)/492.56)*D$4*25389.6/29255.89/1000 -> 0.28348089 | M27: =((E27-131.86)/492.56)*E$4*25389.6/29255.89/1000 -> 0.52629447 | N27: =((F27-131.86)/492.56)*F$4*25389.6/29255.89/1000 -> 0.32095669 | O27: =((G27-131.86)/492.56)*G$4*25389.6/29255.89/1000 -> 1.2261246 | P27: deGFP(mg/mL)
D28: 5825 | E28: 6626 | F28: 6615 | G28: 14480 | H28: Fluorescence (a.u) | L28: =((D28-131.86)/492.56)*D$4*25389.6/29255.89/1000 -> 0.30092379 | M28: =((E28-131.86)/492.56)*E$4*25389.6/29255.89/1000 -> 0.57210409 | N28: =((F28-131.86)/492.56)*F$4*25389.6/29255.89/1000 -> 0.34268103 | O28: =((G28-131.86)/492.56)*G$4*25389.6/29255.89/1000 -> 1.2640056 | P28: deGFP(mg/mL)
D29: 5569 | E29: 6385 | F29: 6315 | G29: 13933 | H29: Fluorescence (a.u) | L29: =((D29-131.86)/492.56)*D$4*25389.6/29255.89/1000 -> 0.28739233 | M29: =((E29-131.86)/492.56)*E$4*25389.6/29255.89/1000 -> 0.55087309 | N29: =((F29-131.86)/492.56)*F$4*25389.6/29255.89/1000 -> 0.32682385 | O29: =((G29-131.86)/492.56)*G$4*25389.6/29255.89/1000 -> 1.2158174 | P29: deGFP(mg/mL)
B31: Replicates | D31: Averages | J31: Replicates | L31: Averages
B32: Experiments | C32: Independent dilutions | D32: BL-E | E32: BL-CFP | F32: BL-1S | G32: BL-7S | J32: Experiments | K32: Independent dilutions | L32: BL-E | M32: BL-CFP | N32: BL-1S | O32: BL-7S
B33: 1 | C33: 1 | D33: =AVERAGE(D6:D9) -> 10932 | E33: =AVERAGE(E6:E9) -> 4236.5 | F33: =AVERAGE(F6:F9) -> 9311.5 | G33: =AVERAGE(G6:G9) -> 17554.25 | H33: Fluorescence (a.u) | J33: 1 | K33: 1 | L33: =AVERAGE(L6:L9) -> 0.57086582 | M33: =AVERAGE(M6:M9) -> 0.36160005 | N33: =AVERAGE(N6:N9) -> 0.48521063 | O33: =AVERAGE(O6:O9) -> 1.534833 | P33: deGFP(mg/mL)
C34: 2 | D34: =AVERAGE(D10:D13) -> 9426.5 | E34: =AVERAGE(E10:E13) -> 6390.5 | F34: =AVERAGE(F10:F13) -> 8794.75 | G34: =AVERAGE(G10:G13) -> 13532.5 | H34: Fluorescence (a.u) | K34: 2 | L34: =AVERAGE(L10:L13) -> 0.49128922 | M34: =AVERAGE(M10:M13) -> 0.55135762 | N34: =AVERAGE(N10:N13) -> 0.45789664 | O34: =AVERAGE(O10:O13) -> 1.1805352 | P34: deGFP(mg/mL)
C35: 3 | D35: =AVERAGE(D14:D17) -> 9007.75 | E35: =AVERAGE(E14:E17) -> 8010.5 | F35: =AVERAGE(F14:F17) -> 9445.25 | G35: =AVERAGE(G14:G17) -> 14510 | H35: Fluorescence (a.u) | K35: 3 | L35: =AVERAGE(L14:L17) -> 0.46915524 | M35: =AVERAGE(M14:M17) -> 0.69407222 | N35: =AVERAGE(N14:N17) -> 0.49228029 | O35: =AVERAGE(O14:O17) -> 1.2666485 | P35: deGFP(mg/mL)
B36: 2 | C36: 1 | D36: =AVERAGE(D18:D21) -> 6127.75 | E36: =AVERAGE(E18:E21) -> 6128 | F36: =AVERAGE(F18:F21) -> 6451.5 | G36: =AVERAGE(G18:G21) -> 15415 | H36: Fluorescence (a.u) | J36: 2 | K36: 1 | L36: =AVERAGE(L18:L21) -> 0.31692633 | M36: =AVERAGE(M18:M21) -> 0.52823257 | N36: =AVERAGE(N18:N21) -> 0.33403886 | O36: =AVERAGE(O18:O21) -> 1.3463749 | P36: deGFP(mg/mL)
C37: 2 | D37: =AVERAGE(D22:D25) -> 6570 | E37: =AVERAGE(E22:E25) -> 6619 | F37: =AVERAGE(F22:F25) -> 6621.5 | G37: =AVERAGE(G22:G25) -> 15105 | H37: Fluorescence (a.u) | K37: 2 | L37: =AVERAGE(L22:L25) -> 0.34030245 | M37: =AVERAGE(M22:M25) -> 0.57148743 | N37: =AVERAGE(N22:N25) -> 0.3430246 | O37: =AVERAGE(O22:O25) -> 1.3190653 | P37: deGFP(mg/mL)
C38: 3 | D38: =AVERAGE(D26:D29) -> 5683.75 | E38: =AVERAGE(E26:E29) -> 6464.75 | F38: =AVERAGE(F26:F29) -> 6403.75 | G38: =AVERAGE(G26:G29) -> 14310.25 | H38: Fluorescence (a.u) | K38: 3 | L38: =AVERAGE(L26:L29) -> 0.2934577 | M38: =AVERAGE(M26:M29) -> 0.5578987 | N38: =AVERAGE(N26:N29) -> 0.33151493 | O38: =AVERAGE(O26:O29) -> 1.2490514 | P38: deGFP(mg/mL)
C40: Overall Avg | D40: =AVERAGE(D6:D29) -> 7957.9583 | E40: =AVERAGE(E6:E29) -> 6308.2083 | F40: =AVERAGE(F6:F29) -> 7838.0417 | G40: =AVERAGE(G6:G29) -> 15071.167 | H40: Fluorescence (a.u) | K40: Overall Avg | L40: =AVERAGE(L6:L29) -> 0.41366613 | M40: =AVERAGE(M6:M29) -> 0.5441081 | N40: =AVERAGE(N6:N29) -> 0.40732766 | O40: =AVERAGE(O6:O29) -> 1.3160847 | P40: deGFP(mg/mL)
C41: Overall STD | D41: =STDEV(D6:D29) -> 1989.2214 | E41: =STDEV(E6:E29) -> 1142.8592 | F41: =STDEV(F6:F29) -> 1405.4075 | G41: =STDEV(G6:G29) -> 1329.8539 | H41: Fluorescence (a.u) | K41: Overall STD | L41: =STDEV(L6:L29) -> 0.1051448 | M41: =STDEV(M6:M29) -> 0.10068068 | N41: =STDEV(N6:N29) -> 0.07428599 | O41: =STDEV(O6:O29) -> 0.11715406 | P41: deGFP(mg/mL)

Sheet Fig. 3B
A1: Figure 3B: Principal component analysis showing the grouping of the various extracts based on their protein profile.
B3: Sample Name | C3: Dim.1 | D3: Dim.2 | E3: Dim.3 | F3: Dim.4 | G3: Dim.5 | H3: Dim.6 | I3: Dim.7 | J3: Dim.8 | K3: Dim.9 | L3: Dim.10 | M3: Dim.11 | N3: Dim.12 | O3: Dim.13 | P3: Dim.14 | Q3: Dim.15 | R3: Dim.16 | S3: Dim.17 | T3: Dim.18 | U3: Dim.19 | V3: Dim.20
B4: BL21-B1T1 | C4: -36.915162 | D4: 18.19303 | E4: 26.054238 | F4: 8.2777698 | G4: 18.009273 | H4: -0.33312173 | I4: -1.1007089 | J4: 7.4436283 | K4: -2.6937412 | L4: 1.818848 | M4: -2.0864121 | N4: 2.5682013 | O4: -3.6081394 | P4: 4.8821812 | Q4: -0.54679274 | R4: 0.98830455 | S4: 1.1716827 | T4: -0.41854416 | U4: -1.0320195e-14 | V4: 6.4392935e-14
B5: BL21-B1T2 | C5: -29.567494 | D5: 26.518184 | E5: -8.0521183 | F5: 6.0369227 | G5: 10.044091 | H5: 18.017412 | I5: 1.4400991 | J5: -2.6448448 | K5: 5.993328 | L5: -0.9772046 | M5: 3.8730474 | N5: -5.2747003 | O5: 4.9084436 | P5: -3.187677 | Q5: 0.48472971 | R5: -2.2509793 | S5: 1.7607678 | T5: 0.053945562 | U5: -9.6183912e-15 | V5: 1.6167623e-14
B6: BL21-B2T1 | C6: -31.613621 | D6: 30.554674 | E6: -4.4114356 | F6: -5.2398175 | G6: -12.291339 | H6: 0.43998488 | I6: -0.10092303 | J6: -14.055126 | K6: 5.834279 | L6: -0.28947794 | M6: -1.875546 | N6: 5.1296744 | O6: -4.5844946 | P6: 2.6646299 | Q6: -0.96895547 | R6: 2.1307362 | S6: 0.9899782 | T6: 0.99581283 | U6: -2.695435e-15 | V6: 7.4888012e-15
B7: BL21-B2T2 | C7: -41.803047 | D7: 27.917174 | E7: -0.83879536 | F7: -1.7348941 | G7: -13.738626 | H7: -16.923933 | I7: -2.5139847 | J7: 6.6775526 | K7: -7.8946776 | L7: -1.6582718 | M7: 2.1881717 | N7: -3.512034 | O7: 3.5939378 | P7: -1.9798282 | Q7: -0.016739506 | R7: -1.6233823 | S7: 1.7479353 | T7: -0.11465191 | U7: -2.7027805e-15 | V7: 3.8092793e-14
B8: BL_CFP-B1T1 | C8: -29.804202 | D8: -36.582357 | E8: 16.59571 | F8: -9.0964251 | G8: 6.6377498 | H8: -3.8222807 | I8: 1.8327935 | J8: -12.566162 | K8: -6.5826589 | L8: -1.5224929 | M8: 5.6383844 | N8: 2.3769918 | O8: 3.6530967 | P8: -0.6898084 | Q8: 1.8521713 | R8: -1.0722723 | S8: 1.2832961 | T8: 0.64004749 | U8: -6.0165089e-15 | V8: 3.0218883e-14
B9: BL_CFP-B1T2 | C9: -24.841291 | D9: -30.701869 | E9: -5.7722221 | F9: -3.9890699 | G9: -1.545441 | H9: 3.6680423 | I9: -12.946062 | J9: 3.0049439 | K9: 3.0537964 | L9: -7.1543585 | M9: 2.2446599 | N9: -4.9814071 | O9: -5.1820802 | P9: 0.31078181 | Q9: -5.1593024 | R9: 0.70500353 | S9: 0.68977076 | T9: -0.59655588 | U9: -4.4415155e-15 | V9: 1.1428358e-14
B10: BL_CFP-B2T1 | C10: -30.931077 | D10: -24.11649 | E10: -8.2943887 | F10: 0.46335352 | G10: -5.6350779 | H10: 2.5587593 | I10: 19.416591 | J10: 3.9399149 | K10: -0.54816779 | L10: 2.5573868 | M10: -4.4592279 | N10: -2.7484941 | O10: -0.74130151 | P10: 1.469487 | Q10: -3.7952364 | R10: 0.60302935 | S10: 1.0973876 | T10: -0.46851413 | U10: -5.3107475e-15 | V10: -5.6829541e-15
B11: BL_CFP-B2T2 | C11: -27.041308 | D11: -23.347629 | E11: -9.4658475 | F11: 0.042311755 | G11: -7.5121463 | H11: 4.9956936 | I11: -7.1967155 | J11: 8.1577125 | K11: 6.2378485 | L11: 6.8305763 | M11: -2.2990158 | N11: 6.6645241 | O11: 3.1600864 | P11: 1.4335697 | Q11: 5.5405995 | R11: -1.2943817 | S11: 1.2268702 | T11: 0.63311359 | U11: -1.5177204e-15 | V11: -1.8767106e-14
B12: BL_S1-B1T1 | C12: 41.61835 | D12: -5.2308066 | E12: 31.060211 | F12: 12.457447 | G12: -11.468236 | H12: -3.2719544 | I12: 1.2701037 | J12: 0.022084176 | K12: 12.02499 | L12: -2.6067095 | M12: 0.27029926 | N12: -1.9520662 | O12: 3.8495714 | P12: 1.1267897 | Q12: -1.5813556 | R12: -0.49070685 | S12: 0.038994731 | T12: 0.4224322 | U12: -3.9910566e-15 | V12: -3.4625081e-14
B13: BL_S1-B1T2 | C13: 26.494176 | D13: -6.1293078 | E13: -13.160508 | F13: 14.619243 | G13: 2.2723213 | H13: -5.8536037 | I13: -2.1371961 | J13: -6.3303494 | K13: -2.9553056 | L13: 2.230261 | M13: -1.7241033 | N13: -8.6762512 | O13: -1.4191325 | P13: 5.6070787 | Q13: 6.0482947 | R13: 1.555282 | S13: 1.3592605 | T13: -0.22039212 | U13: 3.5014309e-15 | V13: -3.4394362e-14
B14: BL_S1-B2T1 | C14: 32.438642 | D14: 0.59566921 | E14: -3.0442521 | F14: 15.119568 | G14: -6.6496609 | H14: 9.7404556 | I14: 3.7597897 | J14: 3.2517778 | K14: -8.7558177 | L14: -10.468704 | M14: 2.0868313 | N14: 6.1589183 | O14: -3.0692368 | P14: -1.8882654 | Q14: 2.8506927 | R14: -0.28040896 | S14: 1.8258043 | T14: -0.10668876 | U14: 3.5476586e-15 | V14: -1.3824879e-14
B15: BL_S1-B2T2 | C15: 30.190751 | D15: -2.562497 | E15: -11.223314 | F15: 18.082113 | G15: 3.7017171 | H15: -4.2994083 | I15: -4.5296367 | J15: -3.8783216 | K15: -3.9513905 | L15: 9.2714424 | M15: 1.4910129 | N15: 4.1069866 | O15: 0.85795418 | P15: -2.5968203 | Q15: -7.4018272 | R15: -1.3371119 | S15: 1.3366884 | T15: 0.16242249 | U15: 1.4863328e-15 | V15: -2.744506e-14
... B23: POOLED-T4 | C23: -3.8624882 | D23: -0.45718855 | E23: -0.57616856 | F23: 1.4908435 | G23: 2.5825777 | H23: -1.1203593 | I23: -0.63531563 | J23: 1.08975 | K23: 0.10552182 | L23: 0.10947957 | M23: -1.0070623 | N23: 0.34619628 | O23: 2.3345887 | P23: -4.6220304 | Q23: 0.84313316 | R23: 9.0719272 | S23: -2.9136459 | T23: -0.42755847 | U23: 2.3122791e-13 | V23: -2.5058081e-14
B25: B: Biological replicate number
B26: T: Technical replicate number

Sheet Fig. 3C
A1: Figure 3C: Volcano plots displaying the changes in protein intensity between each extract and the BL21(DE3) control.
A3: Protein name | B3: Gene name | C3: Accession number | D3: Extract name | E3: Label | F3: Log2(Extract / BL-E) | G3: Log10(p-value) | H3: BL-E mean | I3: BL-E std | J3: BL-CFP mean | K3: BL-CFP std | L3: BL-1S mean | M3: BL-1S std | N3: BL-7S mean | O3: BL-7S std | P3: Over expressed?
A4: Sulfite reductase [NADPH] hemoprotein beta-component (SiR-HP) (SiRHP) (EC 1.8.1.2) | B4: cysI ECBD_0966 ECD_02608 B21_02571 | C4: C5W865 | D4: BL-CFP | E4: Unchanged | F4: -0.12367231 | G4: 0.93971382 | H4: 30854989 | I4: 2302797.1 | J4: 28320200 | K4: 609628.11 | L4: 16832589 | M4: 343871.19 | N4: 15305043 | O4: 835547.53 | P4: not_exp
A5: Acetolactate synthase (EC 2.2.1.6) | B5: ECBD_0032 | C5: A0A140N2H0 | D5: BL-CFP | E5: Unchanged | F5: 0.30481519 | G5: 1.6741484 | H5: 409171.96 | I5: 46254.823 | J5: 505433.91 | K5: 27520.232 | L5: 393004.47 | M5: 38095.803 | N5: 431225.67 | O5: 44717.309 | P5: not_exp | Q5: BL-S7 mean | R5: BL-S7 std
A6: Acetyltransferase (EC 2.3.1.-) | B6: ECBD_0118 | C6: A0A140N494 | D6: BL-CFP | E6: Low | F6: -0.41043146 | G6: 2.2012021 | H6: 1949880.6 | I6: 108164.2 | J6: 1467086.9 | K6: 172375.2 | L6: 1030851.9 | M6: 139549.84 | N6: 1078556.2 | O6: 183945.64 | P6: not_exp | Q6: 1832074.1 | R6: 33776.61
A7: Aspartate-semialdehyde dehydrogenase (ASA dehydrogenase) (ASADH) (EC 1.2.1.11) (Aspartate-beta-semialdehyde dehydrogenase) | B7: asd ECBD_0309 | C7: A0A140N4Y5 | D7: BL-CFP | E7: Unchanged | F7: -0.12767746 | G7: 1.1026424 | H7: 19051844 | I7: 1128211.8 | J7: 17438225 | K7: 689394.34 | L7: 12236367 | M7: 667282.51 | N7: 10871271 | O7: 584589.06 | P7: not_exp | Q7: 2751587.6 | R7: 71592.317
A8: T-protein | B8: ECBD_1086 | C8: A0A140N544 | D8: BL-CFP | E8: Unchanged | F8: 0.0062973239 | G8: 0.056723646 | H8: 404783.02 | I8: 16876.987 | J8: 406553.75 | K8: 8896.2529 | L8: 430126.94 | M8: 23951.058 | N8: 392645.68 | O8: 27321.535 | P8: not_exp | Q8: 169990.1 | R8: 11994.396
A9: Cysteine synthase (EC 2.5.1.47) | B9: ECBD_1267 | C9: A0A140N5L9 | D9: BL-CFP | E9: Unchanged | F9: 0.07814109 | G9: 1.0267403 | H9: 92008123 | I9: 3594704.7 | J9: 97129015 | K9: 2644230.4 | L9: 59216068 | M9: 2793617.4 | N9: 52419890 | O9: 3044172.5 | P9: not_exp | Q9: 4255589.6 | R9: 162712.42
A10: Histidinol dehydrogenase (HDH) (EC 1.1.1.23) | B10: hisD ECBD_1639 | C10: A0A140N5W6 | D10: BL-CFP | E10: High | F10: 0.35675955 | G10: 4.7813696 | H10: 1383840.4 | I10: 47792.454 | J10: 1772071.9 | K10: 25328.845 | L10: 1393690.8 | M10: 21511.61 | N10: 1833972.6 | O10: 34355.004 | P10: not_exp | Q10: 53761477 | R10: 4969885.1
A11: Selenide, water dikinase (EC 2.7.9.3) (Selenium donor protein) (Selenophosphate synthase) | B11: selD ECBD_1880 | C11: A0A140N6I5 | D11: BL-CFP | E11: Unchanged | F11: 0.25519702 | G11: 3.5803965 | H11: 4066982.2 | I11: 103532.49 | J11: 4853938.1 | K11: 145345.83 | L11: 3399516.9 | M11: 143464.08 | N11: 3470659.4 | O11: 174253.52 | P11: not_exp | Q11: 1944770.6 | R11: 154767.67
A12: Amino-acid acetyltransferase (EC 2.3.1.1) (N-acetylglutamate synthase) (AGS) (NAGS) | B12: argA ECBD_0907 | C12: A0A140N6K1 | D12: BL-CFP | E12: Unchanged | F12: -0.028673771 | G12: 0.14189436 | H12: 1519470.5 | I12: 63899.879 | J12: 1489568.9 | K12: 122865.05 | L12: 717120.21 | M12: 36820.609 | N12: 856296.31 | O12: 38997.853 | P12: not_exp | Q12: 1654692 | R12: 44867.827
A13: Imidazole glycerol phosphate synthase subunit HisF (EC 4.3.2.10) (IGP synthase cyclase subunit) (IGP synthase subunit HisF) (ImGP synthase subunit HisF) (IGPS subunit HisF) | B13: hisF ECBD_1634 | C13: A0A140N6L4 | D13: BL-CFP | E13: Unchanged | F13: -0.01261348 | G13: 0.10353246 | H13: 1747869 | I13: 24765.233 | J13: 1732654 | K13: 90333.825 | L13: 1293417.7 | M13: 87826.602 | N13: 1291752.1 | O13: 110716.53 | P13: not_exp | Q13: 3337755.3 | R13: 548566.03
A14: Shikimate kinase 1 (SK 1) (EC 2.7.1.71) | B14: aroK ECBD_0357 | C14: A0A140N6R9 | D14: BL-CFP | E14: Unchanged | F14: -0.00030125746 | G14: 0.0014968052 | H14: 6083501.8 | I14: 372979.67 | J14: 6082231.6 | K14: 316960.62 | L14: 5871771.8 | M14: 51558.194 | N14: 6314849 | O14: 288328.36 | P14: not_exp | Q14: 352428.5 | R14: 16095.972
A15: Diaminopimelate decarboxylase (DAP decarboxylase) (DAPDC) (EC 4.1.1.20) | B15: lysA ECBD_0886 | C15: A0A140N6V2 | D15: BL-CFP | E15: Unchanged | F15: -0.37462393 | G15: 1.3759258 | H15: 125736.38 | I15: 16443.44 | J15: 96981.276 | K15: 10191.564 | L15: 71982.731 | M15: 12391.155 | N15: 68537.193 | O15: 8596.047 | P15: not_exp | Q15: 21276265 | R15: 1096670.1
A16: Shikimate dehydrogenase (NADP(+)) (SDH) (EC 1.1.1.25) | B16: aroE ECBD_0470 | C16: A0A140N735 | D16: BL-CFP | E16: Unchanged | F16: 0.074905697 | G16: 0.62539162 | H16: 1008734.2 | I16: 59434.671 | J16: 1062491.8 | K16: 38608.755 | L16: 1109971.4 | M16: 56742.287 | N16: 1040220.6 | O16: 47273.634 | P16: not_exp | Q16: 500066.55 | R16: 50016.467
A17: 4-hydroxy-tetrahydrodipicolinate synthase (HTPA synthase) (EC 4.3.3.7) | B17: dapA ECBD_1211 | C17: A0A140N770 | D17: BL-CFP | E17: Unchanged | F17: 0.013636297 | G17: 0.15829243 | H17: 10960065 | I17: 395689.5 | J17: 11064150 | K17: 186470.6 | L17: 8557534.6 | M17: 314003.05 | N17: 7766295.6 | O17: 227326.04 | P17: not_exp | Q17: 664914.91 | R17: 36643.195
... A889: Thioredoxin reductase (EC 1.8.1.9) | B889: ECBD_2707 | C889: A0A140NDA6 | D889: BL-CFP | E889: Unchanged | F889: 0.05645191 | G889: 0.43437372 | H889: 24585304 | I889: 1532314.8 | J889: 25566383 | K889: 835280.34 | L889: 22078002 | M889: 539858.94 | N889: 20696180 | O889: 246825.57 | P889: not_exp | Q889: 213709.08 | R889: 45853.976
A890: Cyan Fluorescent Protein | D890: BL-CFP | E890: High | F890: 6.052313 | G890: 6.9246184 | H890: 13890039 | I890: 9901946.9 | J890: 9.2178841e+08 | K890: 53925072 | L890: 49971963 | M890: 23945012 | N890: 23920108 | O890: 21659087 | P890: exp | Q890: 531078.86 | R890: 128624.69
A891: Periplasmic chaperone Spy (Spheroplast protein Y) | B891: spy ECBD_1902 | C891: C6ECL5 | D891: BL-CFP | E891: Unchanged | F891: 0.34744195 | G891: 1.8326624 | H891: 667973.25 | I891: 85505.819 | J891: 849864.17 | K891: 36502.449 | L891: 477718.54 | M891: 47328.094 | N891: 415858.19 | O891: 40069.202 | P891: not_exp | Q891: 4974991.1 | R891: 292615.12
A892: Rhodanese domain protein | B892: ECBD_0114 | C892: A0A140N2P2 | D892: BL-CFP | E892: Unchanged | F892: 0.072917161 | G892: 0.39309312 | H892: 11788656 | I892: 906250.6 | J892: 12399796 | K892: 756739.92 | L892: 12555288 | M892: 694710.87 | N892: 12736899 | O892: 851610.78 | P892: not_exp | Q892: 4434821.1 | R892: 272871.89
A893: IS600 orf | B893: ECBD_0527 | C893: A0A140N307 | D893: BL-CFP | E893: Unchanged | F893: -0.0063964198 | G893: 0.053153018 | H893: 328048.65 | I893: 15635.113 | J893: 326597.42 | K893: 5662.3546 | L893: 86893.718 | M893: 31811.088 | N893: 135036.37 | O893: 25271.051 | P893: not_exp | Q893: 3436636.5 | R893: 52049.589
A894: Universal stress protein | B894: ECBD_0246 | C894: A0A140N312 | D894: BL-CFP | E894: Unchanged | F894: 0.12993998 | G894: 0.36537372 | H894: 1642492.5 | I894: 182320.59 | J894: 1797294.5 | K894: 260264.72 | L894: 856652.62 | M894: 92800.848 | N894: 871948.31 | O894: 76093.564 | P894: not_exp | Q894: 1891146.2 | R894: 155307.55
A895: Hydrogenase assembly chaperone hypC/hupF | B895: ECBD_0748 | C895: A0A140N3K3 | D895: BL-CFP | E895: Unchanged | F895: 0.47448702 | G895: 1.2331531 | H895: 118806.56 | I895: 14323.873 | J895: 165072.7 | K895: 31231.174 | L895: 136389.81 | M895: 19256.09 | N895: 130146.59 | O895: 19392.344 | P895: not_exp | Q895: 1664930.3 | R895: 224430.51
A896: AsmA family protein | B896: ECBD_0069 | C896: A0A140N3K4 | D896: BL-CFP | E896: Unchanged | F896: -0.034635737 | G896: 0.18370723 | H896: 457383.76 | I896: 20602.945 | J896: 446533.8 | K896: 34286.197 | L896: 320307.53 | M896: 15334.898 | N896: 319290.25 | O896: 29346.078 | P896: not_exp | Q896: 353197.67 | R896: 37611.949
A897: BolA family protein | B897: ECBD_0552 | C897: A0A140N3R5 | D897: BL-CFP | E897: Unchanged | F897: -0.035144627 | G897: 0.36150204 | H897: 2464854.8 | I897: 64530.545 | J897: 2405535.4 | K897: 104539.36 | L897: 2308179.8 | M897: 109513.46 | N897: 2216004.1 | O897: 84049.538 | P897: not_exp | Q897: 90376.202 | R897: 9083.6277
A898: UPF0441 protein YgiB | B898: ygiB ECBD_0703 | C898: A0A140N443 | D898: BL-CFP | E898: Low | F898: -0.63544929 | G898: 3.3803951 | H898: 1661043.8 | I898: 142177.55 | J898: 1069280.9 | K898: 33078.552 | L898: 948523.97 | M898: 120939.79 | N898: 922241.16 | O898: 49634.101 | P898: not_exp | Q898: 9437470.5 | R898: 2343496.9
A899: Peptidase M28 | B899: ECBD_0971 | C899: A0A140N458 | D899: BL-CFP | E899: High | F899: 0.6353923 | G899: 3.2896892 | H899: 68005.209 | I899: 7560.8523 | J899: 105636.58 | K899: 5993.5977 | L899: 81181.435 | M899: 2074.5949 | N899: 77121.94 | O899: 5732.3916 | P899: not_exp | Q899: 586241.78 | R899: 42237.867
A900: Pirin domain protein | B900: ECBD_0303 | C900: A0A140N475 | D900: BL-CFP | E900: Unchanged | F900: 0.012660229 | G900: 0.018533553 | H900: 87946.582 | I900: 21146.615 | J900: 88721.745 | K900: 12541.506 | L900: 75349.736 | M900: 8995.7688 | N900: 71588.571 | O900: 3275.5522 | P900: not_exp | Q900: 131759.44 | R900: 55431.582
A901: Lipoprotein | B901: ECBD_0044 | C901: A0A140N495 | D901: BL-CFP | E901: Unchanged | F901: 0.14817381 | G901: 0.41955971 | H901: 1279901 | I901: 203167.66 | J901: 1418342.6 | K901: 151476.44 | L901: 895188.35 | M901: 144635.38 | N901: 852041.38 | O901: 149356.54 | P901: not_exp | Q901: 1601581.6 | R901: 104781.63
A902: Uncharacterized protein | B902: ECBD_0065 | C902: A0A140N4B1 | D902: BL-CFP | E902: Unchanged | F902: -0.12867146 | G902: 0.26280179 | H902: 597359.89 | I902: 117981.76 | J902: 546389.18 | K902: 71603.53 | L902: 382801.13 | M902: 66759.764 | N902: 425502.85 | O902: 97890.87 | P902: not_exp | Q902: 607067.79 | R902: 56739.153
... A2715: Thioredoxin reductase (EC 1.8.1.9) | B2715: ECBD_2707 | C2715: A0A140NDA6 | D2715: BL-1S | E2715: Unchanged | F2715: -0.15518658 | G2715: 1.4332696 | H2715: 24585304 | I2715: 1532314.8 | J2715: 25566383 | K2715: 835280.34 | L2715: 22078002 | M2715: 539858.94 | N2715: 20696180 | O2715: 246825.57 | P2715: not_exp | Q2715: 4311057 | R2715: 229504.29
A2716: Cyan Fluorescent Protein | D2716: BL-1S | E2716: Unchanged | F2716: 1.8470682 | G2716: 1.2803416 | H2716: 13890039 | I2716: 9901946.9 | J2716: 9.2178841e+08 | K2716: 53925072 | L2716: 49971963 | M2716: 23945012 | N2716: 23920108 | O2716: 21659087 | P2716: exp | Q2716: 1601581.6 | R2716: 104781.63
A2717: Periplasmic chaperone Spy (Spheroplast protein Y) | B2717: spy ECBD_1902 | C2717: C6ECL5 | D2717: BL-1S | E2717: Unchanged | F2717: -0.48362944 | G2717: 1.8236699 | H2717: 667973.25 | I2717: 85505.819 | J2717: 849864.17 | K2717: 36502.449 | L2717: 477718.54 | M2717: 47328.094 | N2717: 415858.19 | O2717: 40069.202 | P2717: not_exp | Q2717: 1585714.3 | R2717: 81282.564
A2718: Rhodanese domain protein | B2718: ECBD_0114 | C2718: A0A140N2P2 | D2718: BL-1S | E2718: Unchanged | F2718: 0.090895941 | G2718: 0.5390356 | H2718: 11788656 | I2718: 906250.6 | J2718: 12399796 | K2718: 756739.92 | L2718: 12555288 | M2718: 694710.87 | N2718: 12736899 | O2718: 851610.78 | P2718: not_exp | Q2718: 2753217.2 | R2718: 91101.918
A2719: IS600 orf | B2719: ECBD_0527 | C2719: A0A140N307 | D2719: BL-1S | E2719: Low | F2719: -1.916586 | G2719: 4.6467004 | H2719: 328048.65 | I2719: 15635.113 | J2719: 326597.42 | K2719: 5662.3546 | L2719: 86893.718 | M2719: 31811.088 | N2719: 135036.37 | O2719: 25271.051 | P2719: not_exp | Q2719: 866971.25 | R2719: 42249.949
A2720: Universal stress protein | B2720: ECBD_0246 | C2720: A0A140N312 | D2720: BL-1S | E2720: Low | F2720: -0.9391046 | G2720: 3.254036 | H2720: 1642492.5 | I2720: 182320.59 | J2720: 1797294.5 | K2720: 260264.72 | L2720: 856652.62 | M2720: 92800.848 | N2720: 871948.31 | O2720: 76093.564 | P2720: not_exp | Q2720: 4482841 | R2720: 184496.46
A2721: Hydrogenase assembly chaperone hypC/hupF | B2721: ECBD_0748 | C2721: A0A140N3K3 | D2721: BL-1S | E2721: Unchanged | F2721: 0.19912135 | G2721: 0.59955386 | H2721: 118806.56 | I2721: 14323.873 | J2721: 165072.7 | K2721: 31231.174 | L2721: 136389.81 | M2721: 19256.09 | N2721: 130146.59 | O2721: 19392.344 | P2721: not_exp | Q2721: 1066345.7 | R2721: 67676.121
A2722: AsmA family protein | B2722: ECBD_0069 | C2722: A0A140N3K4 | D2722: BL-1S | E2722: Low | F2722: -0.5139474 | G2722: 4.0433354 | H2722: 457383.76 | I2722: 20602.945 | J2722: 446533.8 | K2722: 34286.197 | L2722: 320307.53 | M2722: 15334.898 | N2722: 319290.25 | O2722: 29346.078 | P2722: not_exp | Q2722: 108015.97 | R2722: 11181.133
A2723: BolA family protein | B2723: ECBD_0552 | C2723: A0A140N3R5 | D2723: BL-1S | E2723: Unchanged | F2723: -0.094747015 | G2723: 1.1152605 | H2723: 2464854.8 | I2723: 64530.545 | J2723: 2405535.4 | K2723: 104539.36 | L2723: 2308179.8 | M2723: 109513.46 | N2723: 2216004.1 | O2723: 84049.538 | P2723: not_exp | Q2723: 6204764.9 | R2723: 437726.24
A2724: UPF0441 protein YgiB | B2724: ygiB ECBD_0703 | C2724: A0A140N443 | D2724: BL-1S | E2724: Low | F2724: -0.80833402 | G2724: 3.2394384 | H2724: 1661043.8 | I2724: 142177.55 | J2724: 1069280.9 | K2724: 33078.552 | L2724: 948523.97 | M2724: 120939.79 | N2724: 922241.16 | O2724: 49634.101 | P2724: not_exp | Q2724: 95408.271 | R2724: 32034.085
A2725: Peptidase M28 | B2725: ECBD_0971 | C2725: A0A140N458 | D2725: BL-1S | E2725: Unchanged | F2725: 0.25550459 | G2725: 1.5694275 | H2725: 68005.209 | I2725: 7560.8523 | J2725: 105636.58 | K2725: 5993.5977 | L2725: 81181.435 | M2725: 2074.5949 | N2725: 77121.94 | O2725: 5732.3916 | P2725: not_exp | Q2725: 197243.62 | R2725: 26141.927
A2726: Pirin domain protein | B2726: ECBD_0303 | C2726: A0A140N475 | D2726: BL-1S | E2726: Unchanged | F2726: -0.22302506 | G2726: 0.4212928 | H2726: 87946.582 | I2726: 21146.615 | J2726: 88721.745 | K2726: 12541.506 | L2726: 75349.736 | M2726: 8995.7688 | N2726: 71588.571 | O2726: 3275.5522 | P2726: not_exp | Q2726: 3567424.8 | R2726: 171078.16
A2727: Lipoprotein | B2727: ECBD_0044 | C2727: A0A140N495 | D2727: BL-1S | E2727: Unchanged | F2727: -0.51576909 | G2727: 1.4325657 | H2727: 1279901 | I2727: 203167.66 | J2727: 1418342.6 | K2727: 151476.44 | L2727: 895188.35 | M2727: 144635.38 | N2727: 852041.38 | O2727: 149356.54 | P2727: not_exp | Q2727: 34018.224 | R2727: 3159.9777
A2728: Uncharacterized protein | B2728: ECBD_0065 | C2728: A0A140N4B1 | D2728: BL-1S | E2728: Unchanged | F2728: -0.64200526 | G2728: 1.4727245 | H2728: 597359.89 | I2728: 117981.76 | J2728: 546389.18 | K2728: 71603.53 | L2728: 382801.13 | M2728: 66759.764 | N2728: 425502.85 | O2728: 97890.87 | P2728: not_exp | Q2728: 545270 | R2728: 44338.444
... A4541: Thioredoxin reductase (EC 1.8.1.9) | B4541: ECBD_2707 | C4541: A0A140NDA6 | D4541: BL-7S | E4541: Unchanged | F4541: -0.24843167 | G4541: 2.312056 | H4541: 24585304 | I4541: 1532314.8 | J4541: 25566383 | K4541: 835280.34 | L4541: 22078002 | M4541: 539858.94 | N4541: 20696180 | O4541: 246825.57 | P4541: not_exp | Q4541: 8596423.2 | R4541: 294430.21
A4542: Cyan Fluorescent Protein | D4542: BL-7S | E4542: Unchanged | F4542: 0.78417324 | G4542: 0.30698248 | H4542: 13890039 | I4542: 9901946.9 | J4542: 9.2178841e+08 | K4542: 53925072 | L4542: 49971963 | M4542: 23945012 | N4542: 23920108 | O4542: 21659087 | P4542: exp | Q4542: 3413877.5 | R4542: 139767.39
A4543: Periplasmic chaperone Spy (Spheroplast protein Y) | B4543: spy ECBD_1902 | C4543: C6ECL5 | D4543: BL-7S | E4543: Low | F4543: -0.68369869 | G4543: 2.44385 | H4543: 667973.25 | I4543: 85505.819 | J4543: 849864.17 | K4543: 36502.449 | L4543: 477718.54 | M4543: 47328.094 | N4543: 415858.19 | O4543: 40069.202 | P4543: not_exp | Q4543: 169990.1 | R4543: 11994.396
A4544: Rhodanese domain protein | B4544: ECBD_0114 | C4544: A0A140N2P2 | D4544: BL-7S | E4544: Unchanged | F4544: 0.11161485 | G4544: 0.62941052 | H4544: 11788656 | I4544: 906250.6 | J4544: 12399796 | K4544: 756739.92 | L4544: 12555288 | M4544: 694710.87 | N4544: 12736899 | O4544: 851610.78 | P4544: not_exp | Q4544: 1577167.8 | R4544: 38205.152
A4545: IS600 orf | B4545: ECBD_0527 | C4545: A0A140N307 | D4545: BL-7S | E4545: Low | F4545: -1.2805618 | G4545: 4.5304015 | H4545: 328048.65 | I4545: 15635.113 | J4545: 326597.42 | K4545: 5662.3546 | L4545: 86893.718 | M4545: 31811.088 | N4545: 135036.37 | O4545: 25271.051 | P4545: not_exp | Q4545: 529129.36 | R4545: 52313.728
A4546: Universal stress protein | B4546: ECBD_0246 | C4546: A0A140N312 | D4546: BL-7S | E4546: Low | F4546: -0.91357229 | G4546: 3.2896536 | H4546: 1642492.5 | I4546: 182320.59 | J4546: 1797294.5 | K4546: 260264.72 | L4546: 856652.62 | M4546: 92800.848 | N4546: 871948.31 | O4546: 76093.564 | P4546: not_exp | Q4546: 2178157.3 | R4546: 21657.879
A4547: Hydrogenase assembly chaperone hypC/hupF | B4547: ECBD_0748 | C4547: A0A140N3K3 | D4547: BL-7S | E4547: Unchanged | F4547: 0.131523 | G4547: 0.35030823 | H4547: 118806.56 | I4547: 14323.873 | J4547: 165072.7 | K4547: 31231.174 | L4547: 136389.81 | M4547: 19256.09 | N4547: 130146.59 | O4547: 19392.344 | P4547: not_exp | Q4547: 2268199.9 | R4547: 70496.295
A4548: AsmA family protein | B4548: ECBD_0069 | C4548: A0A140N3K4 | D4548: BL-7S | E4548: Low | F4548: -0.51853662 | G4548: 3.2601397 | H4548: 457383.76 | I4548: 20602.945 | J4548: 446533.8 | K4548: 34286.197 | L4548: 320307.53 | M4548: 15334.898 | N4548: 319290.25 | O4548: 29346.078 | P4548: not_exp | Q4548: 3173319.7 | R4548: 67528.283
A4549: BolA family protein | B4549: ECBD_0552 | C4549: A0A140N3R5 | D4549: BL-7S | E4549: Unchanged | F4549: -0.15354206 | G4549: 2.180873 | H4549: 2464854.8 | I4549: 64530.545 | J4549: 2405535.4 | K4549: 104539.36 | L4549: 2308179.8 | M4549: 109513.46 | N4549: 2216004.1 | O4549: 84049.538 | P4549: not_exp | Q4549: 1271648 | R4549: 90689.07
A4550: UPF0441 protein YgiB | B4550: ygiB ECBD_0703 | C4550: A0A140N443 | D4550: BL-7S | E4550: Low | F4550: -0.84887419 | G4550: 3.8375082 | H4550: 1661043.8 | I4550: 142177.55 | J4550: 1069280.9 | K4550: 33078.552 | L4550: 948523.97 | M4550: 120939.79 | N4550: 922241.16 | O4550: 49634.101 | P4550: not_exp | Q4550: 393725.96 | R4550: 285807.42
A4551: Peptidase M28 | B4551: ECBD_0971 | C4551: A0A140N458 | D4551: BL-7S | E4551: Unchanged | F4551: 0.1814961 | G4551: 0.83232108 | H4551: 68005.209 | I4551: 7560.8523 | J4551: 105636.58 | K4551: 5993.5977 | L4551: 81181.435 | M4551: 2074.5949 | N4551: 77121.94 | O4551: 5732.3916 | P4551: not_exp | Q4551: 5462654.9 | R4551: 1446703
A4552: Pirin domain protein | B4552: ECBD_0303 | C4552: A0A140N475 | D4552: BL-7S | E4552: Unchanged | F4552: -0.29689823 | G4552: 0.63135397 | H4552: 87946.582 | I4552: 21146.615 | J4552: 88721.745 | K4552: 12541.506 | L4552: 75349.736 | M4552: 8995.7688 | N4552: 71588.571 | O4552: 3275.5522 | P4552: not_exp | Q4552: 1870949.7 | R4552: 44922.886
A4553: Lipoprotein | B4553: ECBD_0044 | C4553: A0A140N495 | D4553: BL-7S | E4553: Unchanged | F4553: -0.58703686 | G4553: 1.5852876 | H4553: 1279901 | I4553: 203167.66 | J4553: 1418342.6 | K4553: 151476.44 | L4553: 895188.35 | M4553: 144635.38 | N4553: 852041.38 | O4553: 149356.54 | P4553: not_exp | Q4553: 28661.444 | R4553: 6684.0228
A4554: Uncharacterized protein | B4554: ECBD_0065 | C4554: A0A140N4B1 | D4554: BL-7S | E4554: Unchanged | F4554: -0.48943155 | G4554: 0.99908296 | H4554: 597359.89 | I4554: 117981.76 | J4554: 546389.18 | K4554: 71603.53 | L4554: 382801.13 | M4554: 66759.764 | N4554: 425502.85 | O4554: 97890.87 | P4554: not_exp | Q4554: 53641.74 | R4554: 5329.6769
... A5481: tRNA-dihydrouridine(20/20a) synthase (EC 1.3.1.-) (EC 1.3.1.91) (U20-specific dihydrouridine synthase) (U20-specific Dus) (tRNA-dihydrouridine synthase A) | B5481: dusA ECBD_3984 | C5481: A0A140NGW4 | D5481: BL-7S | E5481: Unchanged | F5481: -0.12644243 | G5481: 1.9436299 | H5481: 1457062 | I5481: 47971.87 | J5481: 1473277.5 | K5481: 34784.097 | L5481: 1448882.1 | M5481: 53374.384 | N5481: 1334796.5 | O5481: 34085.502 | P5481: not_exp | Q5481: 59847144 | R5481: 1090286
A5482: 30S ribosomal protein S2 | B5482: BL-7S | C5482: Unchanged | D5482: 0.67148244 | E5482: 0.058863492 | F5482: rpsB ECBD_3450 | G5482: A0A140NFK2 | H5482: A0A140NFK2_ECOBD | I5482: 30S ribosomal protein S2 | J5482: rpsB | K5482: 1.0900731e+08 | L5482: 4988510.9 | M5482: 1.1600728e+08 | N5482: 5451126.5 | O5482: 1.248231e+08 | P5482: 1643276 | Q5482: 1.1354691e+08 | R5482: 2641844.3
A5483: 50S ribosomal protein L1 | B5483: BL-7S | C5483: Unchanged | D5483: 2.602279 | E5483: 0.22314578 | F5483: rplA ECBD_4049 | G5483: A0A140NFM7 | H5483: A0A140NFM7_ECOBD | I5483: 50S ribosomal protein L1 | J5483: rplA | K5483: 1.0872944e+08 | L5483: 5915451.6 | M5483: 1.1652914e+08 | N5483: 1980815 | O5483: 1.376677e+08 | P5483: 2281268.2 | Q5483: 1.2691727e+08 | R5483: 2236810.3
A5484: Ribosomal silencing factor RsfS | B5484: BL-7S | C5484: Unchanged | D5484: 0.25232459 | E5484: 0.089101068 | F5484: rsfS ECBD_3014 | G5484: A0A140NCP8 | H5484: A0A140NCP8_ECOBD | I5484: Ribosomal silencing factor RsfS | J5484: rsfS | K5484: 535149.98 | L5484: 82670.811 | M5484: 750990.45 | N5484: 86090.542 | O5484: 532030.11 | P5484: 46788.532 | Q5484: 569242.88 | R5484: 47938.288
A5485: Heat shock protein 15 | B5485: BL-7S | C5485: Unchanged | D5485: 1.0484287 | E5485: -0.35020891 | F5485: ECBD_0346 | G5485: A0A140N4B4 | H5485: A0A140N4B4_ECOBD | I5485: Heat shock protein 15 | J5485: ECBD_0346 | K5485: 188225.69 | L5485: 34116.276 | M5485: 229346.06 | N5485: 43392.478 | O5485: 164010.96 | P5485: 21204.191 | Q5485: 147657.5 | R5485: 6460.7769
A5486: Ribosome-binding ATPase YchF | B5486: BL-7S | C5486: Unchanged | D5486: 1.0944551 | E5486: -0.044646092 | F5486: ychF ECBD_2418 | G5486: A0A140NAR5 | H5486: A0A140NAR5_ECOBD | I5486: Ribosome-binding ATPase YchF | J5486: ychF | K5486: 21862707 | L5486: 455349.61 | M5486: 23275681 | N5486: 1352158.9 | O5486: 20960738 | P5486: 525164.91 | Q5486: 21196498 | R5486: 307444.39
A5487: [Ribosomal protein S18]-alanine N-acetyltransferase (EC 2.3.1.266) | B5487: BL-7S | C5487: Unchanged | D5487: 0.55837538 | E5487: 0.15055341 | F5487: ECBD_3648 | G5487: A0A140NE02 | H5487: A0A140NE02_ECOBD | I5487: [Ribosomal protein S18]-alanine N-acetyltransferas | J5487: ECBD_3648 | K5487: 80969.975 | L5487: 11145.97 | M5487: 95265.483 | N5487: 17954.366 | O5487: 76858.037 | P5487: 12511.06 | Q5487: 89876.282 | R5487: 6469.544
A5488: ATP-dependent RNA helicase SrmB (EC 3.6.4.13) | B5488: BL-7S | C5488: Unchanged | D5488: 2.7161549 | E5488: -0.20992187 | F5488: srmB ECBD_1104 | G5488: A0A140N989 | H5488: A0A140N989_ECOBD | I5488: ATP-dependent RNA helicase SrmB | J5488: srmB | K5488: 7142648.1 | L5488: 238915.11 | M5488: 7277461.1 | N5488: 99519.532 | O5488: 6796393 | P5488: 86380.731 | Q5488: 6175419.6 | R5488: 211661.96
A5489: ATP-dependent RNA helicase DbpA (EC 3.6.4.13) | B5489: BL-7S | C5489: Unchanged | D5489: 0.223308 | E5489: 0.043351798 | F5489: dbpA ECBD_2273 | G5489: A0A140NC60 | H5489: A0A140NC60_ECOBD | I5489: ATP-dependent RNA helicase DbpA | J5489: dbpA | K5489: 286087.24 | L5489: 18803.716 | M5489: 323895.79 | N5489: 40055.247 | O5489: 215906.82 | P5489: 14619.987 | Q5489: 294814.39 | R5489: 19600.494
A5490: Ribosome maturation factor RimP | B5490: BL-7S | C5490: Unchanged | D5490: 0.33571216 | E5490: -0.03594163 | F5490: rimP ECBD_0570 | G5490: A0A140N7S1 | H5490: A0A140N7S1_ECOBD | I5490: Ribosome maturation factor RimP | J5490: rimP | K5490: 1970013.4 | L5490: 92740.043 | M5490: 2071214.4 | N5490: 102732.36 | O5490: 1959116.5 | P5490: 144381.94 | Q5490: 1921541.1 | R5490: 52922.951
A5491: GTPase Era | B5491: BL-7S | C5491: Unchanged | D5491: 0.88703555 | E5491: 0.11370522 | F5491: era ECBD_1115 | G5491: A0A140N8X3 | H5491: A0A140N8X3_ECOBD | I5491: GTPase Era | J5491: era | K5491: 2287130.5 | L5491: 171304.1 | M5491: 2808561.7 | N5491: 215506.72 | O5491: 2149743 | P5491: 65178.977 | Q5491: 2474683.3 | R5491: 69993.317
A5492: GTPase Der (GTP-binding protein EngA) | B5492: BL-7S | C5492: Unchanged | D5492: 3.4842972 | E5492: -0.17641783 | F5492: der ECBD_1175 | G5492: A0A140N942 | H5492: A0A140N942_ECOBD | I5492: GTPase Der (GTP-binding protein EngA) | J5492: der | K5492: 9693064 | L5492: 225218.06 | M5492: 10528183 | N5492: 133506.34 | O5492: 7989915.8 | P5492: 425059.17 | Q5492: 8577367.6 | R5492: 136586.15
A5493: Small ribosomal subunit biogenesis GTPase RsgA (EC 3.6.1.-) | B5493: BL-7S | C5493: Unchanged | D5493: 1.6047619 | E5493: 0.10668326 | F5493: rsgA ECBD_3870 | G5493: A0A140NC02 | H5493: A0A140NC02_ECOBD | I5493: Small ribosomal subunit biogenesis GTPase RsgA | J5493: rsgA | K5493: 1347155.3 | L5493: 42530.681 | M5493: 1749180.2 | N5493: 19104.829 | O5493: 1669490 | P5493: 50641.375 | Q5493: 1450549.4 | R5493: 42642.766
... A5609: tRNA-dihydrouridine(20/20a) synthase (EC 1.3.1.-) (EC 1.3.1.91) (U20-specific dihydrouridine synthase) (U20-specific Dus) (tRNA-dihydrouridine synthase A) | B5609: BL-7S | C5609: Unchanged | D5609: 1.918239 | E5609: -0.12516909 | F5609: dusA ECBD_3984 | G5609: A0A140NGW4 | H5609: A0A140NGW4_ECOBD | I5609: tRNA-dihydrouridine(20/20a) synthase | J5609: dusA | K5609: 1454283.2 | L5609: 47985.384 | M5609: 1479627.1 | N5609: 34920.237 | O5609: 1446783.2 | P5609: 53485.664 | Q5609: 1333427.3 | R5609: 34267.962

Sheet Fig. 3D
A1: Figure 3D: The sum of protein intensity in each category for each extract is presented as percentages of the total protein intensity in that extract.
B3: Extract Name | C3: General Protein Category | D3: Percent of total protein
B4: BL21 | C4: Gene Expression | D4: 39.161006
B5: BL-CFP | C5: Gene Expression | D5: 40.906432
B6: BL-1S | C6: Gene Expression | D6: 55.493334
B7: BL-7S | C7: Gene Expression | D7: 57.716563
B8: BL21 | C8: Homeostasis | D8: 13.930911
B9: BL-CFP | C9: Homeostasis | D9: 13.420432
B10: BL-1S | C10: Homeostasis | D10: 10.97702
B11: BL-7S | C11: Homeostasis | D11: 10.552019
B12: BL21 | C12: Metabolism | D12: 41.575901
B13: BL-CFP | C13: Metabolism | D13: 35.994078
B14: BL-1S | C14: Metabolism | D14: 28.757629
B15: BL-7S | C15: Metabolism | D15: 27.18607
... B23: BL-7S | C23: Regulation | D23: 2.0991019

Sheet Fig. 3E
A1: Figure 3E: The identified proteins were further subdivided into more specific functional groups.
B3: Category | C3: BL-CFP | D3: BL-1S | E3: BL-7S
B4: Amino Acid Metabolism | C4: -0.1228594 | D4: -0.26561471 | E4: -0.28557163
B5: Cell Division | C5: 0.017034788 | D5: -0.070909492 | E5: -0.072539384
B6: Central Metabolism | C6: -0.052837827 | D6: -0.14535588 | E6: -0.17140517
B7: Chaperone | C7: 0.064024906 | D7: 0.041349765 | E7: -0.03401371
B8: Degradation | C8: 0.016353585 | D8: -0.037219309 | E8: -0.080282261
B9: Homeostasis | C9: -0.027535168 | D9: -0.12191227 | E9: -0.13554236
B10: Post-translational modification | C10: 0.039009876 | D10: -0.018554424 | E10: -0.038248143
B11: Regulation | C11: 0.019940662 | D11: -0.031128663 | E11: -0.059260772
B12: Ribosome | C12: 0.029343652 | D12: 0.083322211 | E12: 0.045940862
B13: Ribosome Processing | C13: 0.015258198 | D13: -0.03324638 | E13: -0.025299745
B14: Secondary Metabolism | C14: -0.027609901 | D14: -0.094168597 | E14: -0.11679147
B15: Transcription | C15: -0.0053093218 | D15: -0.050783118 | E15: -0.083311192
... B20: Unknown | C20: 0.41323336 | D20: -0.20089976 | E20: -0.20924215

Sheet Fig. 4A
A1: Figure 4A: CFPS of ferritin using BL-7SWCE and BL-PWCE.
G2: Gel 1 | H2: BL-7SWCE & BL-PWCE | K2: SDS-PAGE | N2: Gel 2 | O2: BL-7SWCE & BL-PWCE | R2: SDS-PAGE
B3: Replicate | C3: BL-7SWCE | D3: BL-EWCE
B4: 1 | C4: 13664 | D4: 8665 | E4: Band intensity
B5: 2 | C5: 12545 | D5: 6388 | E5: Band intensity
B6: 3 | C6: 14265 | D6: 11941 | E6: Band intensity
B8: Average | C8: 13491.333 | D8: 8998 | E8: Normalization value
B10: Replicate | C10: BL-7SWCE | D10: BL-EWCE
B11: 1 | C11: 1.5185597 | D11: 0.96299178 | E11: Norm Fold Change
B12: 2 | C12: 1.3941987 | D12: 0.70993554 | E12: Norm Fold Change
B13: 3 | C13: 1.5853523 | D13: 1.3270727 | E13: Norm Fold Change
C15: BL-7SWCE | D15: BL-EWCE
B16: Norm Average | C16: 1.4993702 | D16: 1 | E16: Fold Change
B17: Norm STDV | C17: 0.097011 | D17: 0.310229 | E17: Fold Change

Sheet Fig. 4C
A1: Figure 4C: CFPS of Cas9 using BL-7SWCE and control extracts.
N2: Cas9 Calibration Curves
A3: Gel 1 | B3: Replicate | C3: BL-7SWCE | D3: BL-EWCE | E3: S30 | G3: Gel 2 | H3: Replicate | I3: BL-7SWCE | J3: BL-EWCE | K3: S30 | N3: BL-7SWCE gels
B4: 1 | C4: 1615.92 | D4: 566.385 | E4: 402.899 | F4: Band intensity | H4: 1 | I4: 1684.384 | J4: 1020.456 | K4: 137.435 | L4: Band intensity | N4: Gel 1 | O4: Band intensity | P4: Cas9 [mg/mL] | Q4: Gel 2 | R4: Band intensity | S4: Cas9 [mg/mL]
B5: 2 | C5: 2323.677 | D5: 1003.92 | E5: 218.899 | F5: Band intensity | H5: 2 | I5: 2480.799 | J5: 1108.285 | K5: 203.092 | L5: Band intensity | O5: 6916.64 | P5: 1.61 | R5: 6537.64 | S5: 1.61 | U5: Gel 1 | V5: BL-7SWCE | Y5: SDS-PAGE | AB5: Gel 2 | AC5: BL-7SWCE | AF5: SDS-PAGE
B6: 3 | C6: 2900.02 | D6: 874.92 | E6: 533.142 | F6: Band intensity | H6: 3 | I6: 3365.334 | J6: 1007.092 | K6: 522.335 | L6: Band intensity | O6: 4027.276 | P6: 0.805 | R6: 3962.74 | S6: 0.805
O7: 1653.083 | P7: 0.4025 | R7: 1799.083 | S7: 0.4025
A8: Gel 1 | B8: Replicate | C8: BL-7SWCE | D8: BL-EWCE | E8: S30 | G8: Gel 2 | H8: Replicate | I8: BL-7SWCE | J8: BL-EWCE | K8: S30 | O8: 527.113 | P8: 0.20125 | R8: 593.355 | S8: 0.20125
B9: 1 | C9: 0.37754148 | D9: 0.13135292 | E9: 0.11404114 | F9: Cas9 [mg/mL] | H9: 1 | I9: 0.41560545 | J9: 0.24931297 | K9: 0.063034343 | L9: Cas9 [mg/mL] | O9: 0 | P9: 0 | R9: 0 | S9: 0
B10: 2 | C10: 0.53623139 | D10: 0.22399018 | E10: 0.076302199 | F10: Cas9 [mg/mL] | H10: 2 | I10: 0.60604424 | J10: 0.26978832 | K10: 0.074627351 | L10: Cas9 [mg/mL]
B11: 3 | C11: 0.66545628 | D11: 0.19667761 | E11: 0.14075437 | F11: Cas9 [mg/mL] | H11: 3 | I11: 0.81755428 | J11: 0.24619746 | K11: 0.13099585 | L11: Cas9 [mg/mL] | O11: y = 4460x - 67.915 | R11: y = 4182x + 53.678
O12: R² = 0.9879 | R12: R² = 0.9842
C13: BL-7SWCE | D13: BL-EWCE | E13: S30
B14: Average | C14: 0.56973885 | D14: 0.21955324 | E14: 0.099959209 | F14: Cas9 [mg/mL] | N14: BL-EWCE gels
B15: STDV | C15: 0.16353108 | D15: 0.049882654 | E15: 0.032834805 | F15: Cas9 [mg/mL] | N15: Gel 1 | O15: Band intensity | P15: Cas9 [mg/mL] | Q15: Gel 2 | R15: Band intensity | S15: Cas9 [mg/mL]
O16: 7494.397 | P16: 1.61 | R16: 6827.276 | S16: 1.61
O17: 3837.033 | P17: 0.805 | R17: 3477.79 | S17: 0.805
O18: 2024.376 | P18: 0.4025 | R18: 1713.841 | S18: 0.4025
O19: 631.941 | P19: 0.20125 | R19: 685.062 | S19: 0.20125
O20: 0 | P20: 0 | R20: 0 | S20: 0 | U20: Gel 1 | V20: BL-EWCE | Y20: SDS-PAGE | AB20: Gel 2 | AC20: BL-EWCE | AF20: SDS-PAGE
O22: y = 4723.1x - 54.008 | R22: y = 4289.5x - 48.972
O23: R² = 0.9968 | R23: R² = 0.9991
N25: S30 gels
N26: Gel 1 | O26: Band intensity | P26: Cas9 [mg/mL] | Q26: Gel 2 | R26: Band intensity | S26: Cas9 [mg/mL]
O27: 7615.347 | P27: 1.61 | R27: 8818.418 | S27: 1.61
O28: 4045.569 | P28: 0.805 | R28: 4643.155 | S28: 0.805
O29: 1709.255 | P29: 0.4025 | R29: 1930.841 | S29: 0.4025
O30: 582.355 | P30: 0.20125 | R30: 606.527 | S30: 0.20125
O31: 0 | P31: 0 | R31: 0 | S31: 0
O33: y = 4875.6x - 153.12 | R33: y = 5663.5x - 219.56
O34: R² = 0.9955 | R34: R² = 0.995
U35: Gel 1 | V35: S30 | Y35: SDS-PAGE | AB35: Gel 2 | AC35: S30 | AF35: SDS-PAGE

Sheet Fig. 4D
A1: Fugure 4D: CFPS of deGFP using linear DNA as a template.
C3: Plasmid template | D3: Linear template | N3: Plasmid template | O3: Linear template
B4: Replicate | C4: BL-7SWCE | D4: BL-GamWCE 1:1 Innoculation Ratio | E4: BL-7SWCE | F4: BL-GamWCE 1:5 Innoculation Ratio | G4: BL-7SWCE | M4: Replicate | N4: BL-7SWCE | O4: BL-GamWCE 1:1 Innoculation Ratio | P4: BL-7SWCE | Q4: BL-GamWCE 1:5 Innoculation Ratio | R4: BL-7SWCE
B5: 1 | C5: 144675 | D5: 100900 | E5: 54330 | F5: 31820 | G5: 16560 | H5: Fluorescence (a.u) | J5: Normalization Reference | K5: =C19 -> 131167.5 | M5: 1 | N5: =C5/$K$5 -> 1.102979 | O5: =D5/$K$5 -> 0.76924543 | P5: =E5/$K$5 -> 0.41420321 | Q5: =F5/$K$5 -> 0.24259058 | R5: =G5/$K$5 -> 0.12625079 | S5: Normalized Fluorescence
C6: 142335 | D6: 97460 | E6: 52330 | F6: 30700 | G6: 15970 | H6: Fluorescence (a.u) | N6: =C6/$K$5 -> 1.0851392 | O6: =D6/$K$5 -> 0.74301942 | P6: =E6/$K$5 -> 0.39895553 | Q6: =F6/$K$5 -> 0.23405188 | R6: =G6/$K$5 -> 0.12175272 | S6: Normalized Fluorescence
B7: 2 | C7: 144600 | D7: 99280 | E7: 53730 | F7: 32380 | G7: 16940 | H7: Fluorescence (a.u) | M7: 2 | N7: =C7/$K$5 -> 1.1024072 | O7: =D7/$K$5 -> 0.75689481 | P7: =E7/$K$5 -> 0.40962891 | Q7: =F7/$K$5 -> 0.24685993 | R7: =G7/$K$5 -> 0.12914785 | S7: Normalized Fluorescence
C8: 142380 | D8: 93080 | E8: 49500 | F8: 30700 | G8: 16180 | H8: Fluorescence (a.u) | N8: =C8/$K$5 -> 1.0854823 | O8: =D8/$K$5 -> 0.709627 | P8: =E8/$K$5 -> 0.37738007 | Q8: =F8/$K$5 -> 0.23405188 | R8: =G8/$K$5 -> 0.12335373 | S8: Normalized Fluorescence
B9: 3 | C9: 117090 | D9: 99160 | E9: 49510 | F9: 31660 | G9: 16580 | H9: Fluorescence (a.u) | M9: 3 | N9: =C9/$K$5 -> 0.8926754 | O9: =D9/$K$5 -> 0.75597995 | P9: =E9/$K$5 -> 0.37745631 | Q9: =F9/$K$5 -> 0.24137077 | R9: =G9/$K$5 -> 0.12640326 | S9: Normalized Fluorescence
C10: 119385 | D10: 96480 | E10: 47440 | F10: 30660 | G10: 16120 | H10: Fluorescence (a.u) | N10: =C10/$K$5 -> 0.91017211 | O10: =D10/$K$5 -> 0.73554806 | P10: =E10/$K$5 -> 0.36167496 | Q10: =F10/$K$5 -> 0.23374693 | R10: =G10/$K$5 -> 0.1228963 | S10: Normalized Fluorescence
B11: 4 | C11: 118800 | D11: 97680 | E11: 47380 | F11: 32720 | G11: 17100 | H11: Fluorescence (a.u) | M11: 4 | N11: =C11/$K$5 -> 0.90571216 | O11: =D11/$K$5 -> 0.74469667 | P11: =E11/$K$5 -> 0.36121753 | Q11: =F11/$K$5 -> 0.24945204 | R11: =G11/$K$5 -> 0.13036766 | S11: Normalized Fluorescence
C12: 120075 | D12: 93860 | E12: 45180 | F12: 30440 | G12: 16060 | H12: Fluorescence (a.u) | N12: =C12/$K$5 -> 0.91543256 | O12: =D12/$K$5 -> 0.7155736 | P12: =E12/$K$5 -> 0.34444508 | Q12: =F12/$K$5 -> 0.23206968 | R12: =G12/$K$5 -> 0.12243887 | S12: Normalized Fluorescence
B14: Rep 1 Avg | C14: =AVERAGE(C5:C6) -> 143505 | D14: =AVERAGE(D5:D6) -> 99180 | E14: =AVERAGE(E5:E6) -> 53330 | F14: =AVERAGE(F5:F6) -> 31260 | G14: =AVERAGE(G5:G6) -> 16265 | H14: Fluorescence (a.u) | M14: Rep 1 Avg | N14: =AVERAGE(N5:N6) -> 1.0940591 | O14: =AVERAGE(O5:O6) -> 0.75613243 | P14: =AVERAGE(P5:P6) -> 0.40657937 | Q14: =AVERAGE(Q5:Q6) -> 0.23832123 | R14: =AVERAGE(R5:R6) -> 0.12400175 | S14: Normalized Fluorescence
B15: Rep 2 Avg | C15: =AVERAGE(C7:C8) -> 143490 | D15: =AVERAGE(D7:D8) -> 96180 | E15: =AVERAGE(E7:E8) -> 51615 | F15: =AVERAGE(F7:F8) -> 31540 | G15: =AVERAGE(G7:G8) -> 16560 | H15: Fluorescence (a.u) | M15: Rep 2 Avg | N15: =AVERAGE(N7:N8) -> 1.0939448 | O15: =AVERAGE(O7:O8) -> 0.73326091 | P15: =AVERAGE(P7:P8) -> 0.39350449 | Q15: =AVERAGE(Q7:Q8) -> 0.24045591 | R15: =AVERAGE(R7:R8) -> 0.12625079 | S15: Normalized Fluorescence
B16: Rep 3 Avg | C16: =AVERAGE(C9:C10) -> 118237.5 | D16: =AVERAGE(D9:D10) -> 97820 | E16: =AVERAGE(E9:E10) -> 48475 | F16: =AVERAGE(F9:F10) -> 31160 | G16: =AVERAGE(G9:G10) -> 16350 | H16: Fluorescence (a.u) | M16: Rep 3 Avg | N16: =AVERAGE(N9:N10) -> 0.90142375 | O16: =AVERAGE(O9:O10) -> 0.745764 | P16: =AVERAGE(P9:P10) -> 0.36956563 | Q16: =AVERAGE(Q9:Q10) -> 0.23755885 | R16: =AVERAGE(R9:R10) -> 0.12464978 | S16: Normalized Fluorescence
B17: Rep 4 Avg | C17: =AVERAGE(C11:C12) -> 119437.5 | D17: =AVERAGE(D11:D12) -> 95770 | E17: =AVERAGE(E11:E12) -> 46280 | F17: =AVERAGE(F11:F12) -> 31580 | G17: =AVERAGE(G11:G12) -> 16580 | H17: Fluorescence (a.u) | M17: Rep 4 Avg | N17: =AVERAGE(N11:N12) -> 0.91057236 | O17: =AVERAGE(O11:O12) -> 0.73013513 | P17: =AVERAGE(P11:P12) -> 0.3528313 | Q17: =AVERAGE(Q11:Q12) -> 0.24076086 | R17: =AVERAGE(R11:R12) -> 0.12640326 | S17: Normalized Fluorescence
B19: Average | C19: 131167.5 | D19: 97237.5 | E19: 49925 | F19: 31385 | G19: 16412.5 | H19: Fluorescence (a.u) | M19: Average | N19: =AVERAGE(N5:N12) -> 1 | O19: =AVERAGE(O5:O12) -> 0.74132312 | P19: =AVERAGE(P5:P12) -> 0.3806202 | Q19: =AVERAGE(Q5:Q12) -> 0.23927421 | R19: =AVERAGE(R5:R12) -> 0.1253264 | S19: Normalized Fluorescence
B20: STDV | C20: 13235.881 | D20: 2693.7268 | E20: 3277.3291 | F20: 877.83825 | G20: 423.40246 | H20: Fluorescence (a.u) | M20: STDV | N20: =STDEV(N5:N12) -> 0.10090823 | O20: =STDEV(O5:O12) -> 0.020536542 | P20: =STDEV(P5:P12) -> 0.024985831 | Q20: =STDEV(Q5:Q12) -> 0.0066924982 | R20: =STDEV(R5:R12) -> 0.0032279525 | S20: Normalized Fluorescence

Sheet Supplementary Fig. 1A
A1: Figure S1A: Gradient of Magnesium concentrations in cell-free reaction supplement
B3: Raw Fluorescence Values | K3: Normalized Fluorescence Values
C4: Mg2+ Concentration (uM) | L4: Mg2+ Concentration (uM)
B5: Replicates | C5: 10 | D5: 12 | E5: 14 | K5: Replicates | L5: 10 | M5: 12 | N5: 14
B6: 1 | C6: 4224 | D6: 5282 | E6: 5165 | F6: Fluorescence (a.u) | H6: Normalization Reference | I6: =MAX(C76:E76) -> 5640.6719 | K6: 1 | L6: =C6/$I$6 -> 0.74884696 | M6: =D6/$I$6 -> 0.93641327 | N6: =E6/$I$6 -> 0.91567106 | O6: Normalized Fluorescence
C7: 4104 | D7: 5108 | E7: 4945 | F7: Fluorescence (a.u) | L7: =C7/$I$6 -> 0.7275729 | M7: =D7/$I$6 -> 0.90556588 | N7: =E7/$I$6 -> 0.87666861 | O7: Normalized Fluorescence
C8: 4192 | D8: 5274 | E8: 5133 | F8: Fluorescence (a.u) | L8: =C8/$I$6 -> 0.74317388 | M8: =D8/$I$6 -> 0.934995 | N8: =E8/$I$6 -> 0.90999798 | O8: Normalized Fluorescence
C9: 3930 | D9: 4928 | E9: 4826 | F9: Fluorescence (a.u) | L9: =C9/$I$6 -> 0.69672551 | M9: =D9/$I$6 -> 0.87365479 | N9: =E9/$I$6 -> 0.85557184 | O9: Normalized Fluorescence
C10: 4196 | D10: 5209 | E10: 5114 | F10: Fluorescence (a.u) | L10: =C10/$I$6 -> 0.74388301 | M10: =D10/$I$6 -> 0.92347155 | N10: =E10/$I$6 -> 0.90662958 | O10: Normalized Fluorescence
C11: 4067 | D11: 5095 | E11: 4987 | F11: Fluorescence (a.u) | L11: =C11/$I$6 -> 0.7210134 | M11: =D11/$I$6 -> 0.90326119 | N11: =E11/$I$6 -> 0.88411454 | O11: Normalized Fluorescence
C12: 4142 | D12: 5166 | E12: 5067 | F12: Fluorescence (a.u) | L12: =C12/$I$6 -> 0.73430969 | M12: =D12/$I$6 -> 0.91584834 | N12: =E12/$I$6 -> 0.89829724 | O12: Normalized Fluorescence
C13: 3987 | D13: 4988 | E13: 4913 | F13: Fluorescence (a.u) | L13: =C13/$I$6 -> 0.70683069 | M13: =D13/$I$6 -> 0.88429182 | N13: =E13/$I$6 -> 0.87099553 | O13: Normalized Fluorescence
C14: 4146 | D14: 5148 | E14: 5022 | F14: Fluorescence (a.u) | L14: =C14/$I$6 -> 0.73501882 | M14: =D14/$I$6 -> 0.91265724 | N14: =E14/$I$6 -> 0.89031947 | O14: Normalized Fluorescence
C15: 3983 | D15: 4979 | E15: 4859 | F15: Fluorescence (a.u) | L15: =C15/$I$6 -> 0.70612156 | M15: =D15/$I$6 -> 0.88269627 | N15: =E15/$I$6 -> 0.8614222 | O15: Normalized Fluorescence
C16: 4205 | D16: 5226 | E16: 5150 | F16: Fluorescence (a.u) | L16: =C16/$I$6 -> 0.74547857 | M16: =D16/$I$6 -> 0.92648538 | N16: =E16/$I$6 -> 0.9130118 | O16: Normalized Fluorescence
C17: 4058 | D17: 5014 | E17: 4936 | F17: Fluorescence (a.u) | L17: =C17/$I$6 -> 0.71941784 | M17: =D17/$I$6 -> 0.8889012 | N17: =E17/$I$6 -> 0.87507306 | O17: Normalized Fluorescence
C18: 4176 | D18: 5175 | E18: 5123 | F18: Fluorescence (a.u) | L18: =C18/$I$6 -> 0.74033734 | M18: =D18/$I$6 -> 0.9174439 | N18: =E18/$I$6 -> 0.90822514 | O18: Normalized Fluorescence
... C21: 4028 | D21: 5086 | E21: 4925 | F21: Fluorescence (a.u) | L21: =C21/$I$6 -> 0.71409933 | M21: =D21/$I$6 -> 0.90166564 | N21: =E21/$I$6 -> 0.87312294 | O21: Normalized Fluorescence
B22: 2 | C22: 3894 | D22: 5889 | E22: 4062 | F22: Fluorescence (a.u) | K22: 2 | L22: =C22/$I$6 -> 0.69034329 | M22: =D22/$I$6 -> 1.0440246 | N22: =E22/$I$6 -> 0.72012698 | O22: Normalized Fluorescence
C23: 3752 | D23: 5682 | E23: 3903 | F23: Fluorescence (a.u) | L23: =C23/$I$6 -> 0.66516899 | M23: =D23/$I$6 -> 1.0073268 | N23: =E23/$I$6 -> 0.69193885 | O23: Normalized Fluorescence
C24: 3877 | D24: 5840 | E24: 4046 | F24: Fluorescence (a.u) | L24: =C24/$I$6 -> 0.68732947 | M24: =D24/$I$6 -> 1.0353377 | N24: =E24/$I$6 -> 0.71729044 | O24: Normalized Fluorescence
C25: 3625 | D25: 5517 | E25: 3778 | F25: Fluorescence (a.u) | L25: =C25/$I$6 -> 0.64265394 | M25: =D25/$I$6 -> 0.97807497 | N25: =E25/$I$6 -> 0.66977837 | O25: Normalized Fluorescence
C26: 3847 | D26: 5856 | E26: 4016 | F26: Fluorescence (a.u) | L26: =C26/$I$6 -> 0.68201095 | M26: =D26/$I$6 -> 1.0381742 | N26: =E26/$I$6 -> 0.71197192 | O26: Normalized Fluorescence
C27: 3799 | D27: 5867 | E27: 3899 | F27: Fluorescence (a.u) | L27: =C27/$I$6 -> 0.67350133 | M27: =D27/$I$6 -> 1.0401243 | N27: =E27/$I$6 -> 0.69122971 | O27: Normalized Fluorescence
C28: 3859 | D28: 5805 | E28: 3974 | F28: Fluorescence (a.u) | L28: =C28/$I$6 -> 0.68413836 | M28: =D28/$I$6 -> 1.0291327 | N28: =E28/$I$6 -> 0.704526 | O28: Normalized Fluorescence
C29: 3588 | D29: 5593 | E29: 3830 | F29: Fluorescence (a.u) | L29: =C29/$I$6 -> 0.63609444 | M29: =D29/$I$6 -> 0.99154855 | N29: =E29/$I$6 -> 0.67899713 | O29: Normalized Fluorescence
C30: 3813 | D30: 5773 | E30: 3933 | F30: Fluorescence (a.u) | L30: =C30/$I$6 -> 0.6759833 | M30: =D30/$I$6 -> 1.0234596 | N30: =E30/$I$6 -> 0.69725736 | O30: Normalized Fluorescence
C31: 3695 | D31: 5549 | E31: 3811 | F31: Fluorescence (a.u) | L31: =C31/$I$6 -> 0.65506381 | M31: =D31/$I$6 -> 0.98374806 | N31: =E31/$I$6 -> 0.67562873 | O31: Normalized Fluorescence
C32: 3892 | D32: 5909 | E32: 4041 | F32: Fluorescence (a.u) | L32: =C32/$I$6 -> 0.68998873 | M32: =D32/$I$6 -> 1.0475702 | N32: =E32/$I$6 -> 0.71640402 | O32: Normalized Fluorescence
C33: 3714 | D33: 5663 | E33: 3855 | F33: Fluorescence (a.u) | L33: =C33/$I$6 -> 0.6584322 | M33: =D33/$I$6 -> 1.0039584 | N33: =E33/$I$6 -> 0.68342922 | O33: Normalized Fluorescence
C34: 3839 | D34: 5859 | E34: 3999 | F34: Fluorescence (a.u) | L34: =C34/$I$6 -> 0.68059268 | M34: =D34/$I$6 -> 1.038706 | N34: =E34/$I$6 -> 0.7089581 | O34: Normalized Fluorescence
... C37: 3758 | D37: 5684 | E37: 3870 | F37: Fluorescence (a.u) | L37: =C37/$I$6 -> 0.66623269 | M37: =D37/$I$6 -> 1.0076814 | N37: =E37/$I$6 -> 0.68608848 | O37: Normalized Fluorescence
B38: 3 | C38: 4611 | D38: 4720 | E38: 5382 | F38: Fluorescence (a.u) | K38: 3 | L38: =C38/$I$6 -> 0.81745581 | M38: =D38/$I$6 -> 0.83677975 | N38: =E38/$I$6 -> 0.95414166 | O38: Normalized Fluorescence
C39: 4392 | D39: 4511 | E39: 5193 | F39: Fluorescence (a.u) | L39: =C39/$I$6 -> 0.77863065 | M39: =D39/$I$6 -> 0.79972743 | N39: =E39/$I$6 -> 0.92063501 | O39: Normalized Fluorescence
C40: 4563 | D40: 4676 | E40: 5349 | F40: Fluorescence (a.u) | L40: =C40/$I$6 -> 0.80894619 | M40: =D40/$I$6 -> 0.82897926 | N40: =E40/$I$6 -> 0.94829129 | O40: Normalized Fluorescence
C41: 4255 | D41: 4376 | E41: 5032 | F41: Fluorescence (a.u) | L41: =C41/$I$6 -> 0.75434276 | M41: =D41/$I$6 -> 0.77579411 | N41: =E41/$I$6 -> 0.89209231 | O41: Normalized Fluorescence
C42: 4564 | D42: 4656 | E42: 5361 | F42: Fluorescence (a.u) | L42: =C42/$I$6 -> 0.80912347 | M42: =D42/$I$6 -> 0.82543358 | N42: =E42/$I$6 -> 0.95041869 | O42: Normalized Fluorescence
C43: 4464 | D43: 4542 | E43: 5224 | F43: Fluorescence (a.u) | L43: =C43/$I$6 -> 0.79139509 | M43: =D43/$I$6 -> 0.80522323 | N43: =E43/$I$6 -> 0.92613081 | O43: Normalized Fluorescence
C44: 4544 | D44: 4643 | E44: 5415 | F44: Fluorescence (a.u) | L44: =C44/$I$6 -> 0.80557779 | M44: =D44/$I$6 -> 0.82312889 | N44: =E44/$I$6 -> 0.95999202 | O44: Normalized Fluorescence
C45: 4358 | D45: 4456 | E45: 5118 | F45: Fluorescence (a.u) | L45: =C45/$I$6 -> 0.772603 | M45: =D45/$I$6 -> 0.78997681 | N45: =E45/$I$6 -> 0.90733872 | O45: Normalized Fluorescence
C46: 4500 | D46: 4606 | E46: 5293 | F46: Fluorescence (a.u) | L46: =C46/$I$6 -> 0.7977773 | M46: =D46/$I$6 -> 0.81656939 | N46: =E46/$I$6 -> 0.93836339 | O46: Normalized Fluorescence
C47: 4287 | D47: 4434 | E47: 5115 | F47: Fluorescence (a.u) | L47: =C47/$I$6 -> 0.76001584 | M47: =D47/$I$6 -> 0.78607657 | N47: =E47/$I$6 -> 0.90680687 | O47: Normalized Fluorescence
C48: 4582 | D48: 4691 | E48: 5404 | F48: Fluorescence (a.u) | L48: =C48/$I$6 -> 0.81231458 | M48: =D48/$I$6 -> 0.83163852 | N48: =E48/$I$6 -> 0.9580419 | O48: Normalized Fluorescence
C49: 4394 | D49: 4488 | E49: 5177 | F49: Fluorescence (a.u) | L49: =C49/$I$6 -> 0.77898522 | M49: =D49/$I$6 -> 0.7956499 | N49: =E49/$I$6 -> 0.91779847 | O49: Normalized Fluorescence
C50: 4554 | D50: 4644 | E50: 5338 | F50: Fluorescence (a.u) | L50: =C50/$I$6 -> 0.80735063 | M50: =D50/$I$6 -> 0.82330618 | N50: =E50/$I$6 -> 0.94634117 | O50: Normalized Fluorescence
... C53: 4384 | D53: 4526 | E53: 5192 | F53: Fluorescence (a.u) | L53: =C53/$I$6 -> 0.77721238 | M53: =D53/$I$6 -> 0.80238668 | N53: =E53/$I$6 -> 0.92045772 | O53: Normalized Fluorescence
B54: 4 | C54: 4453 | D54: 7281 | E54: 5010 | F54: Fluorescence (a.u) | K54: 4 | L54: =C54/$I$6 -> 0.78944496 | M54: =D54/$I$6 -> 1.2908037 | N54: =E54/$I$6 -> 0.88819206 | O54: Normalized Fluorescence
C55: 4287 | D55: 6986 | E55: 4806 | F55: Fluorescence (a.u) | L55: =C55/$I$6 -> 0.76001584 | M55: =D55/$I$6 -> 1.2385049 | N55: =E55/$I$6 -> 0.85202616 | O55: Normalized Fluorescence
C56: 4414 | D56: 7254 | E56: 4982 | F56: Fluorescence (a.u) | L56: =C56/$I$6 -> 0.78253089 | M56: =D56/$I$6 -> 1.286017 | N56: =E56/$I$6 -> 0.88322812 | O56: Normalized Fluorescence
C57: 4176 | D57: 6611 | E57: 4686 | F57: Fluorescence (a.u) | L57: =C57/$I$6 -> 0.74033734 | M57: =D57/$I$6 -> 1.1720235 | N57: =E57/$I$6 -> 0.8307521 | O57: Normalized Fluorescence
C58: 4424 | D58: 7234 | E58: 4948 | F58: Fluorescence (a.u) | L58: =C58/$I$6 -> 0.78430373 | M58: =D58/$I$6 -> 1.2824713 | N58: =E58/$I$6 -> 0.87720047 | O58: Normalized Fluorescence
C59: 4278 | D59: 7050 | E59: 4820 | F59: Fluorescence (a.u) | L59: =C59/$I$6 -> 0.75842029 | M59: =D59/$I$6 -> 1.2498511 | N59: =E59/$I$6 -> 0.85450813 | O59: Normalized Fluorescence
C60: 4387 | D60: 7253 | E60: 4913 | F60: Fluorescence (a.u) | L60: =C60/$I$6 -> 0.77774423 | M60: =D60/$I$6 -> 1.2858397 | N60: =E60/$I$6 -> 0.87099553 | O60: Normalized Fluorescence
C61: 4240 | D61: 6873 | E61: 4725 | F61: Fluorescence (a.u) | L61: =C61/$I$6 -> 0.7516835 | M61: =D61/$I$6 -> 1.2184719 | N61: =E61/$I$6 -> 0.83766617 | O61: Normalized Fluorescence
C62: 4375 | D62: 7094 | E62: 4853 | F62: Fluorescence (a.u) | L62: =C62/$I$6 -> 0.77561682 | M62: =D62/$I$6 -> 1.2576516 | N62: =E62/$I$6 -> 0.8603585 | O62: Normalized Fluorescence
C63: 4248 | D63: 6814 | E63: 4710 | F63: Fluorescence (a.u) | L63: =C63/$I$6 -> 0.75310177 | M63: =D63/$I$6 -> 1.2080121 | N63: =E63/$I$6 -> 0.83500691 | O63: Normalized Fluorescence
C64: 4458 | D64: 7279 | E64: 4959 | F64: Fluorescence (a.u) | L64: =C64/$I$6 -> 0.79033138 | M64: =D64/$I$6 -> 1.2904491 | N64: =E64/$I$6 -> 0.87915059 | O64: Normalized Fluorescence
C65: 4264 | D65: 6978 | E65: 4726 | F65: Fluorescence (a.u) | L65: =C65/$I$6 -> 0.75593832 | M65: =D65/$I$6 -> 1.2370867 | N65: =E65/$I$6 -> 0.83784345 | O65: Normalized Fluorescence
C66: 4422 | D66: 7211 | E66: 4908 | F66: Fluorescence (a.u) | L66: =C66/$I$6 -> 0.78394916 | M66: =D66/$I$6 -> 1.2783938 | N66: =E66/$I$6 -> 0.87010911 | O66: Normalized Fluorescence
... C69: 4314 | D69: 6956 | E69: 4746 | F69: Fluorescence (a.u) | L69: =C69/$I$6 -> 0.76480251 | M69: =D69/$I$6 -> 1.2331864 | N69: =E69/$I$6 -> 0.84138913 | O69: Normalized Fluorescence
B71: Rep 1 Avg | C71: =AVERAGE('Supplementary Fig. 1A'!C6:C21) -> 4111.5 | D71: =AVERAGE('Supplementary Fig. 1A'!D6:D21) -> 5131.25 | E71: =AVERAGE('Supplementary Fig. 1A'!E6:E21) -> 5025.125 | F71: Fluorescence (a.u) | K71: Rep 1 Avg | L71: =AVERAGE('Supplementary Fig. 1A'!L6:L21) -> 0.72890253 | M71: =AVERAGE('Supplementary Fig. 1A'!M6:M21) -> 0.90968773 | N71: =AVERAGE('Supplementary Fig. 1A'!N6:N21) -> 0.89087348 | O71: Normalized Fluorescence
B72: Rep 2 Avg | C72: =AVERAGE('Supplementary Fig. 1A'!C22:C37) -> 3789.8125 | D72: =AVERAGE('Supplementary Fig. 1A'!D22:D37) -> 5765.6875 | E72: =AVERAGE('Supplementary Fig. 1A'!E22:E37) -> 3939 | F72: Fluorescence (a.u) | K72: Rep 2 Avg | L72: =AVERAGE('Supplementary Fig. 1A'!L22:L37) -> 0.67187253 | M72: =AVERAGE('Supplementary Fig. 1A'!M22:M37) -> 1.0221633 | N72: =AVERAGE('Supplementary Fig. 1A'!N22:N37) -> 0.69832107 | O72: Normalized Fluorescence
B73: Rep 3 Avg | C73: =AVERAGE('Supplementary Fig. 1A'!C38:C53) -> 4471.375 | D73: =AVERAGE('Supplementary Fig. 1A'!D38:D53) -> 4583.9375 | E73: =AVERAGE('Supplementary Fig. 1A'!E38:E53) -> 5268.3125 | F73: Fluorescence (a.u) | K73: Rep 3 Avg | L73: =AVERAGE('Supplementary Fig. 1A'!L38:L53) -> 0.79270255 | M73: =AVERAGE('Supplementary Fig. 1A'!M38:M53) -> 0.81265807 | N73: =AVERAGE('Supplementary Fig. 1A'!N38:N53) -> 0.9339867 | O73: Normalized Fluorescence
B74: Rep 4 Avg | C74: =AVERAGE('Supplementary Fig. 1A'!C54:C69) -> 4350.125 | D74: =AVERAGE('Supplementary Fig. 1A'!D54:D69) -> 7081.8125 | E74: =AVERAGE('Supplementary Fig. 1A'!E54:E69) -> 4850.9375 | F74: Fluorescence (a.u) | K74: Rep 4 Avg | L74: =AVERAGE('Supplementary Fig. 1A'!L54:L69) -> 0.77120689 | M74: =AVERAGE('Supplementary Fig. 1A'!M54:M69) -> 1.255491 | N74: =AVERAGE('Supplementary Fig. 1A'!N54:N69) -> 0.85999285 | O74: Normalized Fluorescence
B76: Overal Avg | C76: =AVERAGE(C6:C69) -> 4180.7031 | D76: =AVERAGE(D6:D69) -> 5640.6719 | E76: =AVERAGE(E6:E69) -> 4770.8438 | F76: Fluorescence (a.u) | K76: Overal Avg | L76: =AVERAGE(L6:L69) -> 0.74117113 | M76: =AVERAGE(M6:M69) -> 1 | N76: =AVERAGE(N6:N69) -> 0.84579353 | O76: Normalized Fluorescence
B77: Overal STD | C77: =STDEV(C6:C69) -> 283.12192 | D77: =STDEV(D6:D69) -> 951.2486 | E77: =STDEV(E6:E69) -> 520.48827 | F77: Fluorescence (a.u) | K77: Overal STD | L77: =STDEV(L6:L69) -> 0.050192943 | M77: =STDEV(M6:M69) -> 0.16864101 | N77: =STDEV(N6:N69) -> 0.092274162 | O77: Normalized Fluorescence

Sheet Supplementary Fig. 1B
A1: Figure S1B: K+ gradient
C3: K+ Concentration (mM) | N3: K+ Concentration (mM)
B4: Replicates | C4: 130 | D4: 160 | E4: 190 | F4: 220 | G4: 250 | J4: Normalization Reference | K4: =MAX(C11:G11) -> 2181.7135 | M4: Replicates | N4: 130 | O4: 160 | P4: 190 | Q4: 220 | R4: 250
B5: 1 | C5: 1052.4921 | D5: 2394.3099 | E5: 1789.9557 | F5: 1861.2417 | G5: 2072.5765 | H5: Fluorescence (a.u) | M5: 1 | N5: =C5/$K$4 -> 0.48241536 | O5: =D5/$K$4 -> 1.0974447 | P5: =E5/$K$4 -> 0.82043572 | Q5: =F5/$K$4 -> 0.85311006 | R5: =G5/$K$4 -> 0.94997646 | S5: Normalized Fluorescence
B6: 2 | C6: 1036.09 | D6: 2623.9393 | E6: 1692.174 | F6: 1776.7078 | G6: 2133.7689 | H6: Fluorescence (a.u) | M6: 2 | N6: =C6/$K$4 -> 0.47489737 | O6: =D6/$K$4 -> 1.2026966 | P6: =E6/$K$4 -> 0.77561694 | Q6: =F6/$K$4 -> 0.8143635 | R6: =G6/$K$4 -> 0.97802434 | S6: Normalized Fluorescence
B7: 3 | C7: 914.96681 | D7: 2030.9404 | E7: 2080.1467 | F7: 2125.5679 | G7: 2187.3912 | H7: Fluorescence (a.u) | M7: 3 | N7: =C7/$K$4 -> 0.41937991 | O7: =D7/$K$4 -> 0.93089233 | P7: =E7/$K$4 -> 0.9534463 | Q7: =F7/$K$4 -> 0.97426534 | R7: =G7/$K$4 -> 1.0026024 | S7: Normalized Fluorescence
B8: 4 | C8: 1178.6621 | D8: 1622.1496 | E8: 1892.1534 | F8: 2295.8974 | G8: 1793.7408 | H8: Fluorescence (a.u) | M8: 4 | N8: =C8/$K$4 -> 0.54024604 | O8: =D8/$K$4 -> 0.74352091 | P8: =E8/$K$4 -> 0.86727857 | Q8: =F8/$K$4 -> 1.0523368 | R8: =G8/$K$4 -> 0.82217064 | S8: Normalized Fluorescence
B9: 5 | C9: 952.18696 | D9: 2237.2283 | E9: 2135.0306 | F9: 2187.3912 | G9: 1999.3979 | H9: Fluorescence (a.u) | M9: 5 | N9: =C9/$K$4 -> 0.43643996 | O9: =D9/$K$4 -> 1.0254455 | P9: =E9/$K$4 -> 0.97860265 | Q9: =F9/$K$4 -> 1.0026024 | R9: =G9/$K$4 -> 0.91643466 | S9: Normalized Fluorescence
B11: Average | C11: =AVERAGE(C5:C9) -> 1026.8796 | D11: =AVERAGE(D5:D9) -> 2181.7135 | E11: =AVERAGE(E5:E9) -> 1917.8921 | F11: =AVERAGE(F5:F9) -> 2049.3612 | G11: =AVERAGE(G5:G9) -> 2037.375 | H11: Fluorescence (a.u) | M11: Average | N11: =AVERAGE(N5:N9) -> 0.47067573 | O11: =AVERAGE(O5:O9) -> 1 | P11: =AVERAGE(P5:P9) -> 0.87907603 | Q11: =AVERAGE(Q5:Q9) -> 0.93933561 | R11: =AVERAGE(R5:R9) -> 0.93384169 | S11: Normalized Fluorescence
B12: STD | C12: =STDEV(C5:C9) -> 102.32573 | D12: =STDEV(D5:D9) -> 380.68593 | E12: =STDEV(E5:E9) -> 188.05223 | F12: =STDEV(F5:F9) -> 221.00259 | G12: =STDEV(G5:G9) -> 153.16304 | H12: Fluorescence (a.u) | M12: STD | N12: =STDEV(N5:N9) -> 0.046901542 | O12: =STDEV(O5:O9) -> 0.17448942 | P12: =STDEV(P5:P9) -> 0.086194742 | Q12: =STDEV(Q5:Q9) -> 0.10129772 | R12: =STDEV(R5:R9) -> 0.070203095 | S12: Normalized Fluorescence

Sheet Supplementary Fig. 1C
A1: Figure S1C: Gradient of creatine phosphate added to the cell-free reaction
C3: Creatine Phosphate Concentration (mM) | H3: Normalization Reference | I3: =MAX(C9:E9) -> 1483.0546 | L3: Creatine Phosphate Concentration (mM)
B4: Replicate | C4: 67 | D4: 83.7 | E4: 100.5 | F4: Fluorescence (a.u) | K4: Replicate | L4: 67 | M4: 83.7 | N4: 100.5
B5: 1 | C5: 1622.1405 | D5: 1249.608 | E5: 323.90926 | F5: Fluorescence (a.u) | K5: 1 | L5: =C5/$I$3 -> 1.0937834 | M5: =D5/$I$3 -> 0.84259072 | N5: =E5/$I$3 -> 0.21840683 | O5: Normalized Fluorescence
B6: 2 | C6: 1389.6493 | D6: 1357.8773 | E6: 397.78475 | F6: Fluorescence (a.u) | K6: 2 | L6: =C6/$I$3 -> 0.93701831 | M6: =D6/$I$3 -> 0.91559495 | N6: =E6/$I$3 -> 0.2682199 | O6: Normalized Fluorescence
B7: 3 | C7: 1437.374 | D7: 1430.353 | E7: 524.3618 | F7: Fluorescence (a.u) | K7: 3 | L7: =C7/$I$3 -> 0.9691983 | M7: =D7/$I$3 -> 0.96446419 | N7: =E7/$I$3 -> 0.35356877 | O7: Normalized Fluorescence
B9: Average | C9: =AVERAGE(C5:C7) -> 1483.0546 | D9: =AVERAGE(D5:D7) -> 1345.9461 | E9: =AVERAGE(E5:E7) -> 415.35193 | F9: Fluorescence (a.u) | K9: Average | L9: =AVERAGE(L5:L7) -> 1 | M9: =AVERAGE(M5:M7) -> 0.90754995 | N9: =AVERAGE(N5:N7) -> 0.28006517 | O9: Normalized Fluorescence
B10: STD | C10: =STDEV(C5:C7) -> 122.79281 | D10: =STDEV(D5:D7) -> 90.961274 | E10: =STDEV(E5:E7) -> 101.37435 | F10: Fluorescence (a.u) | K10: STD | L10: =STDEV(L5:L7) -> 0.082797228 | M10: =STDEV(M5:M7) -> 0.061333732 | N10: =STDEV(N5:N7) -> 0.068355105 | O10: Normalized Fluorescence

Sheet Supplementary Fig. 1D
A1: Figure S1D: Gradient of DNA concentrations added to the cell-free reaction
C3: Amount of plasmid added (ng) | K3: Normalization Reference | L3: =MAX(C9:H9) -> 1642.5516 | O3: Amount of plasmid added (ng)
B4: Replicates | C4: 50 | D4: 100 | E4: 150 | F4: 200 | G4: 250 | H4: 300 | N4: Replicates | O4: 50 | P4: 100 | Q4: 150 | R4: 200 | S4: 250 | T4: 300
B5: 1 | D5: 1533.4455 | E5: 1591.9682 | F5: 1494.7192 | G5: 1112.8551 | H5: 1326.8163 | I5: Fluorescence (a.u) | N5: 1 | P5: =D5/$L$3 -> 0.93357521 | Q5: =E5/$L$3 -> 0.96920437 | R5: =F5/$L$3 -> 0.90999829 | S5: =G5/$L$3 -> 0.67751605 | T5: =H5/$L$3 -> 0.80777753 | U5: Normalized Fluorescence
B6: 2 | C6: 1561.7959 | D6: 1749.0952 | E6: 1571.6163 | F6: 1076.2395 | G6: 970.81416 | H6: 1545.4211 | I6: Fluorescence (a.u) | N6: 2 | O6: =C6/$L$3 -> 0.9508352 | P6: =D6/$L$3 -> 1.0648647 | Q6: =E6/$L$3 -> 0.95681397 | R6: =F6/$L$3 -> 0.65522416 | S6: =G6/$L$3 -> 0.59104028 | T6: =H6/$L$3 -> 0.94086607 | U6: Normalized Fluorescence
B7: 3 | C7: 1673.1757 | D7: 1645.1141 | E7: 1508.9832 | F7: 1533.801 | G7: 1168.0895 | H7: 1747.9177 | I7: Fluorescence (a.u) | N7: 3 | O7: =C7/$L$3 -> 1.0186442 | P7: =D7/$L$3 -> 1.0015601 | Q7: =E7/$L$3 -> 0.91868239 | R7: =F7/$L$3 -> 0.93379164 | S7: =G7/$L$3 -> 0.71114326 | T7: =H7/$L$3 -> 1.0641478 | U7: Normalized Fluorescence
B9: Average | C9: =AVERAGE(C5:C7) -> 1617.4858 | D9: =AVERAGE(D5:D7) -> 1642.5516 | E9: =AVERAGE(E5:E7) -> 1557.5226 | F9: =AVERAGE(F5:F7) -> 1368.2532 | G9: =AVERAGE(G5:G7) -> 1083.9196 | H9: =AVERAGE(H5:H7) -> 1540.0517 | I9: Fluorescence (a.u) | N9: Average | O9: =AVERAGE(O5:O7) -> 0.9847397 | P9: =AVERAGE(P5:P7) -> 1 | Q9: =AVERAGE(Q5:Q7) -> 0.94823358 | R9: =AVERAGE(R5:R7) -> 0.8330047 | S9: =AVERAGE(S5:S7) -> 0.65989986 | T9: =AVERAGE(T5:T7) -> 0.93759713 | U9: Normalized Fluorescence
B10: STD | C10: =STDEV(C5:C7) -> 78.757413 | D10: =STDEV(D5:D7) -> 107.84772 | E10: =STDEV(E5:E7) -> 43.250441 | F10: =STDEV(F5:F7) -> 253.64513 | G10: =STDEV(G5:G7) -> 101.771 | H10: =STDEV(H5:H7) -> 210.60205 | I10: Fluorescence (a.u) | N10: STD | O10: =STDEV(O5:O7) -> 0.047948212 | P10: =STDEV(P5:P7) -> 0.065658652 | Q10: =STDEV(Q5:Q7) -> 0.026331252 | R10: =STDEV(R5:R7) -> 0.15442141 | S10: =STDEV(S5:S7) -> 0.061959089 | T10: =STDEV(T5:T7) -> 0.1282164 | U10: Normalized Fluorescence

Sheet Supplementary Fig. 2A
A1: Figure S2A: Culture media screen for WCE preparation
C3: Culture Media | I3: Normalization Reference | J3: =MAX(C10:F10) -> 6741.0625 | M3: Culture Media
B4: Replicate | C4: 2xYTP | D4: 2xYT | E4: 2xYTP+Glucose | F4: 2xYTP+Maltose | L4: Replicate | M4: 2xYTP | N4: 2xYT | O4: 2xYTP+Glucose | P4: 2xYTP+Maltose
B5: 1 | C5: 5290.625 | D5: 6617.3125 | E5: 2474.75 | F5: 3899.75 | G5: Fluorescence (a.u) | L5: 1 | M5: =C5/$J$3 -> 0.78483548 | N5: =D5/$J$3 -> 0.98164236 | O5: =E5/$J$3 -> 0.36711572 | P5: =F5/$J$3 -> 0.57850673 | Q5: Normalized Fluorescence
B6: 2 | C6: 8746.3125 | D6: 7359.0625 | E6: 4741.25 | F6: 3297.125 | G6: Fluorescence (a.u) | L6: 2 | M6: =C6/$J$3 -> 1.2974679 | N6: =D6/$J$3 -> 1.0916769 | O6: =E6/$J$3 -> 0.70333868 | P6: =F6/$J$3 -> 0.48911058 | Q6: Normalized Fluorescence
B7: 3 | C7: 5999.1875 | D7: 5841 | E7: 3565.4375 | F7: 3554.625 | G7: Fluorescence (a.u) | L7: 3 | M7: =C7/$J$3 -> 0.88994687 | N7: =D7/$J$3 -> 0.86648062 | O7: =E7/$J$3 -> 0.52891328 | P7: =F7/$J$3 -> 0.52730931 | Q7: Normalized Fluorescence
B8: 4 | C8: 6928.125 | D8: 6246.3125 | E8: 3579.8125 | F8: 3394.1875 | G8: Fluorescence (a.u) | L8: 4 | M8: =C8/$J$3 -> 1.0277497 | N8: =D8/$J$3 -> 0.92660653 | O8: =E8/$J$3 -> 0.53104574 | P8: =F8/$J$3 -> 0.50350928 | Q8: Normalized Fluorescence
B10: Average | C10: =AVERAGE(C5:C8) -> 6741.0625 | D10: =AVERAGE(D5:D8) -> 6515.9219 | E10: =AVERAGE(E5:E8) -> 3590.3125 | F10: =AVERAGE(F5:F8) -> 3536.4219 | G10: Fluorescence (a.u) | L10: Average | M10: =AVERAGE(M5:M8) -> 1 | N10: =AVERAGE(N5:N8) -> 0.96660161 | O10: =AVERAGE(O5:O8) -> 0.53260335 | P10: =AVERAGE(P5:P8) -> 0.52460897 | Q10: Normalized Fluorescence
B11: STD | C11: =STDEV(C5:C8) -> 1495.5676 | D11: =STDEV(D5:D8) -> 645.33581 | E11: =STDEV(E5:E8) -> 925.53873 | F11: =STDEV(F5:F8) -> 264.46946 | G11: Fluorescence (a.u) | L11: STD | M11: =STDEV(M5:M8) -> 0.22185933 | N11: =STDEV(N5:N8) -> 0.095732062 | O11: =STDEV(O5:O8) -> 0.13729864 | P11: =STDEV(P5:P8) -> 0.039232608 | Q11: Normalized Fluorescence

Sheet Supplementary Fig. 2B
A1: Figure S2B: Cell mass to resuspension volume
C3: Cell (g) to Volume (mL) Ratio | L3: Normalization Reference | M3: =MAX(C11:I11) -> 3136.9465 | P3: Cell (g) to Volume (mL) Ratio
B4: Replicates | C4: 0.5 | D4: 0.75 | E4: 1 | F4: 1.25 | G4: 1.5 | H4: 1.75 | I4: 2 | O4: Replicates | P4: 0.5 | Q4: 0.75 | R4: 1 | S4: 1.25 | T4: 1.5 | U4: 1.75 | V4: 2
B5: 1 | C5: 1988.6734 | D5: 2647.9116 | E5: 3170.2554 | F5: 2743.17 | G5: 4061.0155 | H5: 3498.9282 | I5: 2786.6986 | J5: Fluorescence (a.u) | O5: 1 | P5: =C5/$M$3 -> 0.63395197 | Q5: =D5/$M$3 -> 0.84410481 | R5: =E5/$M$3 -> 1.0106182 | S5: =F5/$M$3 -> 0.87447139 | T5: =G5/$M$3 -> 1.294576 | U5: =H5/$M$3 -> 1.115393 | V5: =I5/$M$3 -> 0.88834751 | W5: Normalized Fluorescence
B6: 2 | C6: 1666.94 | D6: 2869.9708 | E6: 3510.9144 | F6: 2897.7282 | G6: 3167.732 | H6: 2943.7803 | I6: 2502.1853 | J6: Fluorescence (a.u) | O6: 2 | P6: =C6/$M$3 -> 0.53138935 | Q6: =D6/$M$3 -> 0.91489313 | R6: =E6/$M$3 -> 1.119214 | S6: =F6/$M$3 -> 0.92374167 | T6: =G6/$M$3 -> 1.0098138 | U6: =H6/$M$3 -> 0.9384222 | V6: =I6/$M$3 -> 0.79764997 | W6: Normalized Fluorescence
B7: 3 | C7: 1437.3106 | D7: 2119.8902 | E7: 2454.8715 | F7: 2712.8892 | G7: 2807.5167 | H7: 2874.3868 | I7: 2777.2359 | J7: Fluorescence (a.u) | O7: 3 | P7: =C7/$M$3 -> 0.45818779 | Q7: =D7/$M$3 -> 0.67578144 | R7: =E7/$M$3 -> 0.78256723 | S7: =F7/$M$3 -> 0.86481844 | T7: =G7/$M$3 -> 0.89498391 | U7: =H7/$M$3 -> 0.91630085 | V7: =I7/$M$3 -> 0.88533096 | W7: Normalized Fluorescence
B8: 4 | C8: 1825.9141 | D8: 2284.5421 | F8: 2343.842 | G8: 2452.3481 | H8: 2671.2531 | I8: 2364.0292 | J8: Fluorescence (a.u) | O8: 4 | P8: =C8/$M$3 -> 0.58206735 | Q8: =D8/$M$3 -> 0.72826937 | S8: =F8/$M$3 -> 0.74717307 | T8: =G8/$M$3 -> 0.78176282 | U8: =H8/$M$3 -> 0.85154563 | V8: =I8/$M$3 -> 0.75360837 | W8: Normalized Fluorescence
B9: 5 | C9: 1906.0321 | D9: 2425.8524 | E9: 2706.5807 | F9: 2976.5845 | G9: 3196.1202 | H9: 3321.0285 | I9: 2695.2254 | J9: Fluorescence (a.u) | O9: 5 | P9: =C9/$M$3 -> 0.60760746 | Q9: =D9/$M$3 -> 0.77331648 | R9: =E9/$M$3 -> 0.8628074 | S9: =F9/$M$3 -> 0.94887957 | T9: =G9/$M$3 -> 1.0188635 | U9: =H9/$M$3 -> 1.0586819 | V9: =I9/$M$3 -> 0.85918755 | W9: Normalized Fluorescence
B11: Average | C11: =AVERAGE(C5:C9) -> 1764.974 | D11: =AVERAGE(D5:D9) -> 2469.6334 | E11: =AVERAGE(E5:E9) -> 2960.6555 | F11: =AVERAGE(F5:F9) -> 2734.8428 | G11: =AVERAGE(G5:G9) -> 3136.9465 | H11: =AVERAGE(H5:H9) -> 3061.8754 | I11: =AVERAGE(I5:I9) -> 2625.0749 | J11: Fluorescence (a.u) | O11: Average | P11: =AVERAGE(P5:P9) -> 0.56264078 | Q11: =AVERAGE(Q5:Q9) -> 0.78727305 | R11: =AVERAGE(R5:R9) -> 0.94380171 | S11: =AVERAGE(S5:S9) -> 0.87181683 | T11: =AVERAGE(T5:T9) -> 1 | U11: =AVERAGE(U5:U9) -> 0.97606872 | V11: =AVERAGE(V5:V9) -> 0.83682487 | W11: Normalized Fluorescence
B12: STD | C12: =STDEV(C5:C9) -> 218.30398 | D12: =STDEV(D5:D9) -> 296.03591 | E12: =STDEV(E5:E9) -> 471.55359 | F12: =STDEV(F5:F9) -> 244.13298 | G12: =STDEV(G5:G9) -> 599.07256 | H12: =STDEV(H5:H9) -> 339.0648 | I12: =STDEV(I5:I9) -> 185.36654 | J12: Fluorescence (a.u) | O12: STD | P12: =STDEV(P5:P9) -> 0.069591235 | Q12: =STDEV(Q5:Q9) -> 0.094370723 | R12: =STDEV(R5:R9) -> 0.15032248 | S12: =STDEV(S5:S9) -> 0.077825038 | T12: =STDEV(T5:T9) -> 0.19097315 | U12: =STDEV(U5:U9) -> 0.10808753 | V12: =STDEV(V5:V9) -> 0.059091393 | W12: Normalized Fluorescence

Sheet Supplementary Fig. 2C
A1: Figure S2C: Gradient of input energy during sonication
C3: Energy Input (J) | L3: Normalization Reference | M3: =MAX(C11:I11) -> 2890.0873 | P3: Energy Input (J)
B4: Replicates | C4: 500 | D4: 750 | E4: 1000 | F4: 1250 | G4: 1500 | H4: 1750 | I4: 2000 | O4: Replicates | P4: 500 | Q4: 750 | R4: 1000 | S4: 1250 | T4: 1500 | U4: 1750 | V4: 2000
B5: 1 | C5: 1882.3166 | D5: 2145.381 | E5: 2530.9881 | F5: 2704.1564 | G5: 3267.19 | H5: 2692.8011 | I5: 1764.0323 | J5: Fluorescence (a.u) | O5: 1 | P5: =C5/$M$3 -> 0.65130096 | Q5: =D5/$M$3 -> 0.74232397 | R5: =E5/$M$3 -> 0.87574798 | S5: =F5/$M$3 -> 0.935666 | T5: =G5/$M$3 -> 1.1304814 | U5: =H5/$M$3 -> 0.93173695 | V5: =I5/$M$3 -> 0.61037335 | W5: Normalized Fluorescence
B6: 2 | C6: 2400.4021 | D6: 2722.1356 | E6: 3304.3313 | F6: 2571.6779 | G6: 2658.4986 | H6: 2774.1807 | I6: 2311.4523 | J6: Fluorescence (a.u) | O6: 2 | P6: =C6/$M$3 -> 0.8305639 | Q6: =D6/$M$3 -> 0.941887 | R6: =E6/$M$3 -> 1.1433327 | S6: =F6/$M$3 -> 0.88982708 | T6: =G6/$M$3 -> 0.91986794 | U6: =H6/$M$3 -> 0.95989515 | V6: =I6/$M$3 -> 0.79978634 | W6: Normalized Fluorescence
B7: 3 | C7: 1842.9471 | D7: 2579.149 | E7: 2454.2407 | F7: 2755.787 | G7: 2769.0348 | H7: 2616.3691 | I7: 2512.2789 | J7: Fluorescence (a.u) | O7: 3 | P7: =C7/$M$3 -> 0.6376787 | Q7: =D7/$M$3 -> 0.89241215 | R7: =E7/$M$3 -> 0.84919259 | S7: =F7/$M$3 -> 0.95353072 | T7: =G7/$M$3 -> 0.95811461 | U7: =H7/$M$3 -> 0.90529071 | V7: =I7/$M$3 -> 0.86927441 | W7: Normalized Fluorescence
B8: 4 | C8: 2300.9442 | D8: 2754.5253 | E8: 2777.8667 | F8: 3071.8428 | G8: 2966.4909 | H8: 2585.4575 | I8: 2449.8247 | J8: Fluorescence (a.u) | O8: 4 | P8: =C8/$M$3 -> 0.79615041 | Q8: =D8/$M$3 -> 0.95309415 | R8: =E8/$M$3 -> 0.96117054 | S8: =F8/$M$3 -> 1.0628893 | T8: =G8/$M$3 -> 1.0264364 | U8: =H8/$M$3 -> 0.89459496 | V8: =I8/$M$3 -> 0.84766463 | W8: Normalized Fluorescence
B9: 5 | C9: 2148.2785 | D9: 2401.2493 | E9: 2626.4627 | F9: 3109.6938 | G9: 2789.222 | H9: 2689.5477 | I9: 2900.8825 | J9: Fluorescence (a.u) | O9: 5 | P9: =C9/$M$3 -> 0.74332651 | Q9: =D9/$M$3 -> 0.83085702 | R9: =E9/$M$3 -> 0.90878319 | S9: =F9/$M$3 -> 1.0759861 | T9: =G9/$M$3 -> 0.96509959 | U9: =H9/$M$3 -> 0.93061125 | V9: =I9/$M$3 -> 1.0037353 | W9: Normalized Fluorescence
B11: Average | C11: =AVERAGE(C5:C9) -> 2114.9777 | D11: =AVERAGE(D5:D9) -> 2520.488 | E11: =AVERAGE(E5:E9) -> 2738.7779 | F11: =AVERAGE(F5:F9) -> 2842.6316 | G11: =AVERAGE(G5:G9) -> 2890.0873 | H11: =AVERAGE(H5:H9) -> 2671.6712 | I11: =AVERAGE(I5:I9) -> 2387.6941 | J11: Fluorescence (a.u) | O11: Average | P11: =AVERAGE(P5:P9) -> 0.7318041 | Q11: =AVERAGE(Q5:Q9) -> 0.87211486 | R11: =AVERAGE(R5:R9) -> 0.9476454 | S11: =AVERAGE(S5:S9) -> 0.98357984 | T11: =AVERAGE(T5:T9) -> 1 | U11: =AVERAGE(U5:U9) -> 0.9244258 | V11: =AVERAGE(V5:V9) -> 0.8261668 | W11: Normalized Fluorescence
B12: STD | C12: =STDEV(C5:C9) -> 247.63451 | D12: =STDEV(D5:D9) -> 251.89254 | E12: =STDEV(E5:E9) -> 338.42697 | F12: =STDEV(F5:F9) -> 236.63963 | G12: =STDEV(G5:G9) -> 237.96258 | H12: =STDEV(H5:H9) -> 73.765458 | I12: =STDEV(I5:I9) -> 411.55522 | J12: Fluorescence (a.u) | O12: STD | P12: =STDEV(P5:P9) -> 0.085684095 | Q12: =STDEV(Q5:Q9) -> 0.087157417 | R12: =STDEV(R5:R9) -> 0.11709922 | S12: =STDEV(S5:S9) -> 0.081879754 | T12: =STDEV(T5:T9) -> 0.082337506 | U12: =STDEV(U5:U9) -> 0.025523609 | V12: =STDEV(V5:V9) -> 0.14240235 | W12: Normalized Fluorescence

Sheet Supplementary Fig. 2D
A1: Figure S2D: Gradient of different runoff times during WCE preparation
C3: Runoff time (min) | L3: Normalization Reference | M3: =MAX(C9:I9) -> 2332.3815 | P3: Runoff time (min)
B4: Replicates | C4: 0 | D4: 15 | E4: 30 | F4: 45 | G4: 60 | H4: 75 | I4: 90 | O4: Replicates | P4: 0 | Q4: 15 | R4: 30 | S4: 45 | T4: 60 | U4: 75 | V4: 90
B5: 1 | C5: 1855.8795 | D5: 2400.9339 | E5: 2109.1658 | F5: 2325.2319 | G5: 1942.6214 | H5: 2315.1383 | I5: 2242.906 | J5: Fluorescence (a.u) | O5: 1 | P5: =C5/$M$3 -> 0.79570152 | Q5: =D5/$M$3 -> 1.0293916 | R5: =E5/$M$3 -> 0.90429707 | S5: =F5/$M$3 -> 0.99693462 | T5: =G5/$M$3 -> 0.83289178 | U5: =H5/$M$3 -> 0.99260703 | V5: =I5/$M$3 -> 0.96163769 | W5: Normalized Fluorescence
B6: 2 | C6: 2344.1574 | D6: 2358.6669 | E6: 2013.592 | F6: 1688.3889 | G6: 1709.5223 | H6: 1675.4564 | I6: 1554.3332 | J6: Fluorescence (a.u) | O6: 2 | P6: =C6/$M$3 -> 1.0050489 | Q6: =D6/$M$3 -> 1.0112698 | R6: =E6/$M$3 -> 0.86332017 | S6: =F6/$M$3 -> 0.72389052 | T6: =G6/$M$3 -> 0.73295141 | U6: =H6/$M$3 -> 0.71834579 | V6: =I6/$M$3 -> 0.66641466 | W6: Normalized Fluorescence
B7: 3 | C7: 1725.609 | D7: 2237.5437 | E7: 2000.0287 | F7: 1566.3194 | G7: 1619.9416 | H7: 1736.6489 | I7: 1608.9018 | J7: Fluorescence (a.u) | O7: 3 | P7: =C7/$M$3 -> 0.73984852 | Q7: =D7/$M$3 -> 0.95933865 | R7: =E7/$M$3 -> 0.85750497 | S7: =F7/$M$3 -> 0.67155368 | T7: =G7/$M$3 -> 0.69454402 | U7: =H7/$M$3 -> 0.74458182 | V7: =I7/$M$3 -> 0.68981072 | W7: Normalized Fluorescence
B9: Average | C9: =AVERAGE(C5:C7) -> 1975.2153 | D9: =AVERAGE(D5:D7) -> 2332.3815 | E9: =AVERAGE(E5:E7) -> 2040.9288 | F9: =AVERAGE(F5:F7) -> 1859.98 | G9: =AVERAGE(G5:G7) -> 1757.3618 | H9: =AVERAGE(H5:H7) -> 1909.0812 | I9: =AVERAGE(I5:I7) -> 1802.047 | J9: Fluorescence (a.u) | O9: Average | P9: =AVERAGE(P5:P7) -> 0.8468663 | Q9: =AVERAGE(Q5:Q7) -> 1 | R9: =AVERAGE(R5:R7) -> 0.87504074 | S9: =AVERAGE(S5:S7) -> 0.79745961 | T9: =AVERAGE(T5:T7) -> 0.7534624 | U9: =AVERAGE(U5:U7) -> 0.81851155 | V9: =AVERAGE(V5:V7) -> 0.77262102 | W9: Normalized Fluorescence
B10: STD | C10: =STDEV(C5:C7) -> 326.0848 | D10: =STDEV(D5:D7) -> 84.80729 | E10: =STDEV(E5:E7) -> 59.482772 | F10: =STDEV(F5:F7) -> 407.51649 | G10: =STDEV(G5:G7) -> 166.57435 | H10: =STDEV(H5:H7) -> 352.98427 | I10: =STDEV(I5:I7) -> 382.76874 | J10: Fluorescence (a.u) | O10: STD | P10: =STDEV(P5:P7) -> 0.13980766 | Q10: =STDEV(Q5:Q7) -> 0.036360814 | R10: =STDEV(R5:R7) -> 0.02550302 | S10: =STDEV(S5:S7) -> 0.1747212 | T10: =STDEV(T5:T7) -> 0.071418142 | U10: =STDEV(U5:U7) -> 0.15134071 | V10: =STDEV(V5:V7) -> 0.16411069 | W10: Normalized Fluorescence

Sheet Supplementary Fig. 3
A1: Figure S3: Addition of Maltose to cell-free reactions with WCE grown with and without maltose
A3: Grown without Maltose | G3: Grown with Maltose | M3: Grown without Maltose | S3: Grown with Maltose
A4: Replicate | B4: 0mM | C4: 10mM | D4: 15 mM | G4: Replicate | H4: 0mM | I4: 10mM | J4: 15 mM | M4: Replicate | N4: 0mM | O4: 10mM | P4: 15 mM | S4: Replicate | T4: 0mM | U4: 10mM | V4: 15 mM
A5: 1 | B5: 12248 | C5: 13654 | D5: 9475 | E5: Fluorescence (a.u) | G5: 1 | H5: 10497 | I5: 13565 | J5: 15280 | K5: Fluorescence (a.u) | M5: 1 | N5: =((B5-131.86)/492.56)*50*25389.6/29000 -> 1076.7949 | O5: =((C5-131.86)/492.56)*50*25389.6/29000 -> 1201.7501 | P5: =((D5-131.86)/492.56)*50*25389.6/29000 -> 830.35075 | Q5: deGFP (ng/uL) | S5: 1 | T5: =((H5-131.86)/492.56)*50*25389.6/29000 -> 921.17872 | U5: =((I5-131.86)/492.56)*50*25389.6/29000 -> 1193.8404 | V5: =((J5-131.86)/492.56)*50*25389.6/29000 -> 1346.2572 | W5: deGFP (ng/uL)
B6: 11893 | C6: 13159 | D6: 9221 | E6: Fluorescence (a.u) | H6: 10118 | I6: 13200 | J6: 14825 | K6: Fluorescence (a.u) | N6: =((B6-131.86)/492.56)*50*25389.6/29000 -> 1045.2451 | O6: =((C6-131.86)/492.56)*50*25389.6/29000 -> 1157.758 | P6: =((D6-131.86)/492.56)*50*25389.6/29000 -> 807.77706 | Q6: deGFP (ng/uL) | T6: =((H6-131.86)/492.56)*50*25389.6/29000 -> 887.49594 | U6: =((I6-131.86)/492.56)*50*25389.6/29000 -> 1161.4018 | V6: =((J6-131.86)/492.56)*50*25389.6/29000 -> 1305.8201 | W6: deGFP (ng/uL)
B7: 12223 | C7: 13895 | D7: 9487 | E7: Fluorescence (a.u) | H7: 10727 | I7: 13314 | J7: 15698 | K7: Fluorescence (a.u) | N7: =((B7-131.86)/492.56)*50*25389.6/29000 -> 1074.5731 | O7: =((C7-131.86)/492.56)*50*25389.6/29000 -> 1223.1684 | P7: =((D7-131.86)/492.56)*50*25389.6/29000 -> 831.41722 | Q7: deGFP (ng/uL) | T7: =((H7-131.86)/492.56)*50*25389.6/29000 -> 941.61946 | U7: =((I7-131.86)/492.56)*50*25389.6/29000 -> 1171.5333 | V7: =((J7-131.86)/492.56)*50*25389.6/29000 -> 1383.406 | W7: deGFP (ng/uL)
B8: 11664 | C8: 13288 | D8: 9015 | E8: Fluorescence (a.u) | H8: 10065 | I8: 12824 | J8: 14652 | K8: Fluorescence (a.u) | N8: =((B8-131.86)/492.56)*50*25389.6/29000 -> 1024.8932 | O8: =((C8-131.86)/492.56)*50*25389.6/29000 -> 1169.2226 | P8: =((D8-131.86)/492.56)*50*25389.6/29000 -> 789.46927 | Q8: deGFP (ng/uL) | T8: =((H8-131.86)/492.56)*50*25389.6/29000 -> 882.78568 | U8: =((I8-131.86)/492.56)*50*25389.6/29000 -> 1127.9857 | V8: =((J8-131.86)/492.56)*50*25389.6/29000 -> 1290.4451 | W8: deGFP (ng/uL)
A9: 2 | B9: 12132 | C9: 9010 | D9: 4839 | E9: Fluorescence (a.u) | G9: 2 | H9: 12033 | I9: 14392 | J9: 14775 | K9: Fluorescence (a.u) | M9: 2 | N9: =((B9-131.86)/492.56)*50*25389.6/29000 -> 1066.4857 | O9: =((C9-131.86)/492.56)*50*25389.6/29000 -> 789.02491 | P9: =((D9-131.86)/492.56)*50*25389.6/29000 -> 418.33658 | Q9: deGFP (ng/uL) | S9: 2 | T9: =((H9-131.86)/492.56)*50*25389.6/29000 -> 1057.6873 | U9: =((I9-131.86)/492.56)*50*25389.6/29000 -> 1267.3382 | V9: =((J9-131.86)/492.56)*50*25389.6/29000 -> 1301.3764 | W9: deGFP (ng/uL)
B10: 11821 | C10: 8892 | D10: 4733 | E10: Fluorescence (a.u) | H10: 11641 | I10: 13914 | J10: 14265 | K10: Fluorescence (a.u) | N10: =((B10-131.86)/492.56)*50*25389.6/29000 -> 1038.8463 | O10: =((C10-131.86)/492.56)*50*25389.6/29000 -> 778.53792 | P10: =((D10-131.86)/492.56)*50*25389.6/29000 -> 408.91606 | Q10: deGFP (ng/uL) | T10: =((H10-131.86)/492.56)*50*25389.6/29000 -> 1022.8492 | U10: =((I10-131.86)/492.56)*50*25389.6/29000 -> 1224.857 | V10: =((J10-131.86)/492.56)*50*25389.6/29000 -> 1256.0513 | W10: deGFP (ng/uL)
B11: 11964 | C11: 9390 | D11: 4785 | E11: Fluorescence (a.u) | H11: 11942 | I11: 14712 | J11: 14686 | K11: Fluorescence (a.u) | N11: =((B11-131.86)/492.56)*50*25389.6/29000 -> 1051.5551 | O11: =((C11-131.86)/492.56)*50*25389.6/29000 -> 822.79656 | P11: =((D11-131.86)/492.56)*50*25389.6/29000 -> 413.53745 | Q11: deGFP (ng/uL) | T11: =((H11-131.86)/492.56)*50*25389.6/29000 -> 1049.5999 | U11: =((I11-131.86)/492.56)*50*25389.6/29000 -> 1295.7775 | V11: =((J11-131.86)/492.56)*50*25389.6/29000 -> 1293.4668 | W11: deGFP (ng/uL)
B12: 11562 | C12: 8659 | D12: 4633 | E12: Fluorescence (a.u) | H12: 11277 | I12: 14090 | J12: 13966 | K12: Fluorescence (a.u) | N12: =((B12-131.86)/492.56)*50*25389.6/29000 -> 1015.8282 | O12: =((C12-131.86)/492.56)*50*25389.6/29000 -> 757.83057 | P12: =((D12-131.86)/492.56)*50*25389.6/29000 -> 400.02879 | Q12: deGFP (ng/uL) | T12: =((H12-131.86)/492.56)*50*25389.6/29000 -> 990.49948 | U12: =((I12-131.86)/492.56)*50*25389.6/29000 -> 1240.4986 | V12: =((J12-131.86)/492.56)*50*25389.6/29000 -> 1229.4784 | W12: deGFP (ng/uL)
A13: 3 | B13: 12553 | C13: 11486 | D13: 6942 | E13: Fluorescence (a.u) | G13: 3 | H13: 10946 | I13: 14774 | J13: 15544 | K13: Fluorescence (a.u) | M13: 3 | N13: =((B13-131.86)/492.56)*50*25389.6/29000 -> 1103.9011 | O13: =((C13-131.86)/492.56)*50*25389.6/29000 -> 1009.0739 | P13: =((D13-131.86)/492.56)*50*25389.6/29000 -> 605.23602 | Q13: deGFP (ng/uL) | S13: 3 | T13: =((H13-131.86)/492.56)*50*25389.6/29000 -> 961.0826 | U13: =((I13-131.86)/492.56)*50*25389.6/29000 -> 1301.2876 | V13: =((J13-131.86)/492.56)*50*25389.6/29000 -> 1369.7196 | W13: deGFP (ng/uL)
B14: 12070 | C14: 11197 | D14: 6716 | E14: Fluorescence (a.u) | H14: 10657 | I14: 14309 | J14: 14921 | K14: Fluorescence (a.u) | N14: =((B14-131.86)/492.56)*50*25389.6/29000 -> 1060.9756 | O14: =((C14-131.86)/492.56)*50*25389.6/29000 -> 983.38966 | P14: =((D14-131.86)/492.56)*50*25389.6/29000 -> 585.15077 | Q14: deGFP (ng/uL) | T14: =((H14-131.86)/492.56)*50*25389.6/29000 -> 935.39836 | U14: =((I14-131.86)/492.56)*50*25389.6/29000 -> 1259.9617 | V14: =((J14-131.86)/492.56)*50*25389.6/29000 -> 1314.3519 | W14: deGFP (ng/uL)
B15: 12789 | C15: 11413 | D15: 7126 | E15: Fluorescence (a.u) | H15: 10786 | I15: 15266 | J15: 15134 | K15: Fluorescence (a.u) | N15: =((B15-131.86)/492.56)*50*25389.6/29000 -> 1124.8751 | O15: =((C15-131.86)/492.56)*50*25389.6/29000 -> 1002.5862 | P15: =((D15-131.86)/492.56)*50*25389.6/29000 -> 621.58861 | Q15: deGFP (ng/uL) | T15: =((H15-131.86)/492.56)*50*25389.6/29000 -> 946.86295 | U15: =((I15-131.86)/492.56)*50*25389.6/29000 -> 1345.013 | V15: =((J15-131.86)/492.56)*50*25389.6/29000 -> 1333.2818 | W15: deGFP (ng/uL)
B16: 12221 | C16: 10792 | D16: 6823 | E16: Fluorescence (a.u) | H16: 10452 | I16: 14276 | J16: 14556 | K16: Fluorescence (a.u) | N16: =((B16-131.86)/492.56)*50*25389.6/29000 -> 1074.3954 | O16: =((C16-131.86)/492.56)*50*25389.6/29000 -> 947.39619 | P16: =((D16-131.86)/492.56)*50*25389.6/29000 -> 594.66016 | Q16: deGFP (ng/uL) | T16: =((H16-131.86)/492.56)*50*25389.6/29000 -> 917.17945 | U16: =((I16-131.86)/492.56)*50*25389.6/29000 -> 1257.0289 | V16: =((J16-131.86)/492.56)*50*25389.6/29000 -> 1281.9133 | W16: deGFP (ng/uL)
A18: Rep 1 Avg | B18: =AVERAGE(B5:B8) -> 12007 | C18: =AVERAGE(C5:C8) -> 13499 | D18: =AVERAGE(D5:D8) -> 9299.5 | E18: Fluorescence (a.u) | G18: Rep 1 Avg | H18: =AVERAGE(H5:H8) -> 10351.75 | I18: =AVERAGE(I5:I8) -> 13225.75 | J18: =AVERAGE(J5:J8) -> 15113.75 | K18: Fluorescence (a.u) | M18: Rep 1 Avg | N18: =AVERAGE(N5:N8) -> 1055.3766 | O18: =AVERAGE(O5:O8) -> 1187.9748 | P18: =AVERAGE(P5:P8) -> 814.75358 | Q18: deGFP (ng/uL) | S18: Rep 1 Avg | T18: =AVERAGE(T5:T8) -> 908.26995 | U18: =AVERAGE(U5:U8) -> 1163.6903 | V18: =AVERAGE(V5:V8) -> 1331.4821 | W18: deGFP (ng/uL)
A19: Rep 2 Avg | B19: =AVERAGE(B9:B12) -> 11869.75 | C19: =AVERAGE(C9:C12) -> 8987.75 | D19: =AVERAGE(D9:D12) -> 4747.5 | E19: Fluorescence (a.u) | G19: Rep 2 Avg | H19: =AVERAGE(H9:H12) -> 11723.25 | I19: =AVERAGE(I9:I12) -> 14277 | J19: =AVERAGE(J9:J12) -> 14423 | K19: Fluorescence (a.u) | M19: Rep 2 Avg | N19: =AVERAGE(N9:N12) -> 1043.1788 | O19: =AVERAGE(O9:O12) -> 787.04749 | P19: =AVERAGE(P9:P12) -> 410.20472 | Q19: deGFP (ng/uL) | S19: Rep 2 Avg | T19: =AVERAGE(T9:T12) -> 1030.159 | U19: =AVERAGE(U9:U12) -> 1257.1178 | V19: =AVERAGE(V9:V12) -> 1270.0932 | W19: deGFP (ng/uL)
A20: Rep 3 Avg | B20: =AVERAGE(B13:B16) -> 12408.25 | C20: =AVERAGE(C13:C16) -> 11222 | D20: =AVERAGE(D13:D16) -> 6901.75 | E20: Fluorescence (a.u) | G20: Rep 3 Avg | H20: =AVERAGE(H13:H16) -> 10710.25 | I20: =AVERAGE(I13:I16) -> 14656.25 | J20: =AVERAGE(J13:J16) -> 15038.75 | K20: Fluorescence (a.u) | M20: Rep 3 Avg | N20: =AVERAGE(N13:N16) -> 1091.0368 | O20: =AVERAGE(O13:O16) -> 985.61148 | P20: =AVERAGE(P13:P16) -> 601.65889 | Q20: deGFP (ng/uL) | S20: Rep 3 Avg | T20: =AVERAGE(T13:T16) -> 940.13084 | U20: =AVERAGE(U13:U16) -> 1290.8228 | V20: =AVERAGE(V13:V16) -> 1324.8166 | W20: deGFP (ng/uL)
A22: Overal Avg | B22: =AVERAGE(B5:B16) -> 12095 | C22: =AVERAGE(C5:C16) -> 11236.25 | D22: =AVERAGE(D5:D16) -> 6982.9167 | E22: Fluorescence (a.u) | G22: Overal Avg | H22: =AVERAGE(H5:H16) -> 10928.417 | I22: =AVERAGE(I5:I16) -> 14053 | J22: =AVERAGE(J5:J16) -> 14858.5 | K22: Fluorescence (a.u) | M22: Overal Avg | N22: =AVERAGE(N5:N16) -> 1063.1974 | O22: =AVERAGE(O5:O16) -> 986.87792 | P22: =AVERAGE(P5:P16) -> 608.87239 | Q22: deGFP (ng/uL) | S22: Overal Avg | T22: =AVERAGE(T5:T16) -> 959.51992 | U22: =AVERAGE(U5:U16) -> 1237.2103 | V22: =AVERAGE(V5:V16) -> 1308.7973 | W22: deGFP (ng/uL)
A23: Overal STD | B23: =STDEV(B5:B16) -> 350.57796 | C23: =STDEV(C5:C16) -> 1945.0679 | D23: =STDEV(D5:D16) -> 1948.1858 | E23: Fluorescence (a.u) | G23: Overal STD | H23: =STDEV(H5:H16) -> 662.42838 | I23: =STDEV(I5:I16) -> 719.76524 | J23: =STDEV(J5:J16) -> 500.26693 | K23: Fluorescence (a.u) | M23: Overal STD | N23: =STDEV(N5:N16) -> 31.156835 | O23: =STDEV(O5:O16) -> 172.86357 | P23: =STDEV(P5:P16) -> 173.14067 | Q23: deGFP (ng/uL) | S23: Overal STD | T23: =STDEV(T5:T16) -> 58.871846 | U23: =STDEV(U5:U16) -> 63.967532 | V23: =STDEV(V5:V16) -> 44.460109 | W23: deGFP (ng/uL)

Sheet Supplementary Fig. 4
A1: Figure S4: Comparison of deGFP expression between CFPS reactions assembled using S12 supplement and the optimized reaction buffer.
B4: Replicate | C4: S12 Supplement | D4: Optimized reaction buffer
B5: 1 | C5: 847.5 | D5: 2023.5 | E5: Fluorescence (a.u)
B6: 2 | C6: 672 | D6: 1363.9536 | E6: Fluorescence (a.u)
B7: 3 | C7: 959.25 | D7: 2278.5 | E7: Fluorescence (a.u)
B8: 4 | C8: 354.25 | D8: 1068.75 | E8: Fluorescence (a.u)
B10: Average | C10: 708.25 | D10: 1683.6759
B11: STDV | C11: 263.95809 | D11: 562.62846
B13: Normalized deGFP expression | C13: 1 | D13: 2.3772339
B14: Normalized STDV | C14: 0.37269057 | D14: 0.79439247

Sheet Supplementary Fig. 5
A1: Fig S5. Comparison of deGFP expression between CFPS reactions assembled using BL-7SWCE and BL-18SWCE.
B4: Replicate | C4: BL-18SWCE | D4: BL-7SWCE
B5: 1 | C5: 15304 | D5: 16934 | E5: Fluorescence (a.u)
C6: 14768 | D6: 16686 | E6: Fluorescence (a.u)
C7: 14758 | D7: 16599 | E7: Fluorescence (a.u)
C8: 14025 | D8: 15871 | E8: Fluorescence (a.u)
B9: 2 | C9: 12403 | D9: 16878 | E9: Fluorescence (a.u)
C10: 12284 | D10: 16712 | E10: Fluorescence (a.u)
C11: 12304 | D11: 16571 | E11: Fluorescence (a.u)
C12: 11718 | D12: 15988 | E12: Fluorescence (a.u)
B13: 3 | C13: 16298 | D13: 12968 | E13: Fluorescence (a.u)
C14: 15702 | D14: 12354 | E14: Fluorescence (a.u)
C15: 16336 | D15: 12989 | E15: Fluorescence (a.u)
C16: 15748 | D16: 12420 | E16: Fluorescence (a.u)
B18: Replicate | C18: BL-18SWCE | D18: BL-7SWCE
B19: 1 | C19: 14713.75 | D19: 16522.5 | E19: Fluorescence (a.u)
B20: 2 | C20: 12177.25 | D20: 16537.25 | E20: Fluorescence (a.u)
B21: 3 | C21: 16021 | D21: 12682.75 | E21: Fluorescence (a.u)
B23: Average | C23: 14304 | D23: 15247.5
B24: STDV | C24: 1651.1305 | D24: 2140.3757
B26: Replicate | C26: BL-18SWCE | D26: BL-7SWCE
B27: 1 | C27: =C19/$C$23 -> 1.0286458 | D27: =D19/$C$23 -> 1.1550965 | E27: Normalized
B28: 2 | C28: =C20/$C$23 -> 0.85131781 | D28: =D20/$C$23 -> 1.1561277 | E28: Normalized
B29: 3 | C29: =C21/$C$23 -> 1.1200364 | D29: =D21/$C$23 -> 0.88665758 | E29: Normalized
B31: Normalized deGFP expression | C31: 1 | D31: 1.0340133
B32: Normalized STDV | C32: 0.096198639 | D32: 0.087452037

Sheet Supplementary Fig. 6
A1: Figure S6: EGFP standard curve for deGFP quantification.
C4: 0 | D4: 1 | E4: 5 | F4: 10 | G4: 20 | H4: 30 | I4: 40 | J4: 50 | K4: EGFP [ug/mL]
C5: 0 | D5: 0.86784249 | E5: 4.3392125 | F5: 8.6784249 | G5: 17.35685 | H5: 26.035275 | I5: 34.7137 | J5: 43.392125 | K5: deGFP [ug/mL]
B6: Replicates
B7: 1 | C7: 16 | D7: 514 | E7: 2488 | F7: 4994 | G7: 10410 | H7: 15342 | I7: 20168 | J7: 24400 | K7: Fluorescence (a.u)
C8: 18 | D8: 508 | E8: 2419 | F8: 4896 | G8: 10092 | H8: 14989 | I8: 19428 | J8: 24140 | K8: Fluorescence (a.u)
C9: 20 | D9: 517 | E9: 2479 | F9: 4946 | G9: 10263 | H9: 15366 | I9: 19783 | J9: 24393 | K9: Fluorescence (a.u)
C10: 17 | D10: 486 | E10: 2340 | F10: 4667 | G10: 9797 | H10: 14487 | I10: 18769 | J10: 23136 | K10: Fluorescence (a.u)
C11: 16 | D11: 514 | E11: 2480 | F11: 4968 | G11: 10368 | H11: 15337 | I11: 19968 | J11: 24612 | K11: Fluorescence (a.u)
C12: 16 | D12: 494 | E12: 2428 | F12: 4862 | G12: 10121 | H12: 14989 | I12: 19521 | J12: 24001 | K12: Fluorescence (a.u)
C13: 16 | D13: 506 | E13: 2473 | F13: 4936 | G13: 10289 | H13: 15202 | I13: 19780 | J13: 24248 | K13: Fluorescence (a.u)
C14: 15 | D14: 484 | E14: 2372 | F14: 4756 | G14: 9966 | H14: 14581 | I14: 18973 | J14: 23332 | K14: Fluorescence (a.u)
C15: 15 | D15: 498 | E15: 2440 | F15: 4900 | G15: 10232 | H15: 15143 | I15: 19687 | J15: 24242 | K15: Fluorescence (a.u)
C16: 18 | D16: 481 | E16: 2334 | F16: 4738 | G16: 9884 | H16: 14673 | I16: 18944 | J16: 23468 | K16: Fluorescence (a.u)
C17: 15 | D17: 508 | E17: 2489 | F17: 4978 | G17: 10477 | H17: 15510 | I17: 20111 | J17: 24908 | K17: Fluorescence (a.u)
C18: 25 | D18: 495 | E18: 2386 | F18: 4761 | G18: 10040 | H18: 14779 | I18: 19256 | J18: 23747 | K18: Fluorescence (a.u)
C19: 18 | D19: 507 | E19: 2466 | F19: 4933 | G19: 10484 | H19: 15365 | I19: 19920 | J19: 24528 | K19: Fluorescence (a.u)
... C22: 17 | D22: 493 | E22: 2386 | F22: 4789 | G22: 10052 | H22: 14928 | I22: 19284 | J22: 23754 | K22: Fluorescence (a.u)
B23: 2 | C23: 17 | D23: 465 | E23: 2528 | F23: 5257 | G23: 10711 | H23: 15747 | I23: 19685 | J23: 24504 | K23: Fluorescence (a.u)
C24: 20 | D24: 460 | E24: 2474 | F24: 5140 | G24: 10459 | H24: 15261 | I24: 19081 | J24: 24044 | K24: Fluorescence (a.u)
C25: 20 | D25: 468 | E25: 2508 | F25: 5207 | G25: 10653 | H25: 15676 | I25: 19585 | J25: 24397 | K25: Fluorescence (a.u)
C26: 18 | D26: 437 | E26: 2366 | F26: 4930 | G26: 10034 | H26: 14792 | I26: 18598 | J26: 23261 | K26: Fluorescence (a.u)
C27: 18 | D27: 462 | E27: 2518 | F27: 5241 | G27: 10805 | H27: 15895 | I27: 19803 | J27: 24532 | K27: Fluorescence (a.u)
C28: 16 | D28: 454 | E28: 2469 | F28: 5156 | G28: 10452 | H28: 15455 | I28: 19331 | J28: 24022 | K28: Fluorescence (a.u)
C29: 17 | D29: 458 | E29: 2487 | F29: 5142 | G29: 10504 | H29: 15723 | I29: 19503 | J29: 24282 | K29: Fluorescence (a.u)
C30: 19 | D30: 445 | E30: 2411 | F30: 5003 | G30: 10108 | H30: 15067 | I30: 18823 | J30: 23399 | K30: Fluorescence (a.u)
C31: 17 | D31: 457 | E31: 2490 | F31: 5180 | G31: 10464 | H31: 15582 | I31: 19411 | J31: 24300 | K31: Fluorescence (a.u)
C32: 20 | D32: 447 | E32: 2405 | F32: 5009 | G32: 10010 | H32: 14964 | I32: 18686 | J32: 23498 | K32: Fluorescence (a.u)
C33: 18 | D33: 473 | E33: 2542 | F33: 5262 | G33: 10729 | H33: 15876 | I33: 19763 | J33: 25122 | K33: Fluorescence (a.u)
C34: 28 | D34: 458 | E34: 2443 | F34: 5025 | G34: 10106 | H34: 15035 | I34: 18900 | J34: 23907 | K34: Fluorescence (a.u)
C35: 18 | D35: 463 | E35: 2517 | F35: 5217 | G35: 10582 | H35: 15839 | I35: 19819 | J35: 24772 | K35: Fluorescence (a.u)
... C38: 23 | D38: 456 | E38: 2464 | F38: 5025 | G38: 10120 | H38: 15170 | I38: 18958 | J38: 24043 | K38: Fluorescence (a.u)
B39: 3 | C39: 17 | D39: 447 | E39: 2634 | F39: 5326 | G39: 11063 | H39: 15753 | I39: 20917 | J39: 25566 | K39: Fluorescence (a.u)
C40: 19 | D40: 444 | E40: 2553 | F40: 5129 | G40: 10738 | H40: 15341 | I40: 20261 | J40: 24899 | K40: Fluorescence (a.u)
C41: 21 | D41: 448 | E41: 2588 | F41: 5231 | G41: 10983 | H41: 15572 | I41: 20597 | J41: 25401 | K41: Fluorescence (a.u)
C42: 18 | D42: 422 | E42: 2454 | F42: 4947 | G42: 10425 | H42: 14762 | I42: 19419 | J42: 24033 | K42: Fluorescence (a.u)
C43: 17 | D43: 449 | E43: 2596 | F43: 5313 | G43: 11013 | H43: 15661 | I43: 20690 | J43: 25462 | K43: Fluorescence (a.u)
C44: 16 | D44: 436 | E44: 2544 | F44: 5163 | G44: 10770 | H44: 15398 | I44: 20213 | J44: 24927 | K44: Fluorescence (a.u)
C45: 17 | D45: 440 | E45: 2559 | F45: 5217 | G45: 10853 | H45: 15576 | I45: 20531 | J45: 25033 | K45: Fluorescence (a.u)
C46: 18 | D46: 429 | E46: 2455 | F46: 5034 | G46: 10495 | H46: 14965 | I46: 19569 | J46: 24216 | K46: Fluorescence (a.u)
C47: 17 | D47: 438 | E47: 2537 | F47: 5183 | G47: 10842 | H47: 15398 | I47: 20486 | J47: 25175 | K47: Fluorescence (a.u)
C48: 19 | D48: 426 | E48: 2442 | F48: 4960 | G48: 10420 | H48: 14742 | I48: 19433 | J48: 24115 | K48: Fluorescence (a.u)
C49: 17 | D49: 451 | E49: 2610 | F49: 5295 | G49: 11161 | H49: 15736 | I49: 20652 | J49: 25745 | K49: Fluorescence (a.u)
C50: 28 | D50: 439 | E50: 2488 | F50: 5087 | G50: 10597 | H50: 14864 | I50: 19572 | J50: 24612 | K50: Fluorescence (a.u)
C51: 17 | D51: 443 | E51: 2595 | F51: 5265 | G51: 11010 | H51: 15668 | I51: 20476 | J51: 25360 | K51: Fluorescence (a.u)
... C57: 0 | D57: 0.86784249 | E57: 4.3392125 | F57: 8.6784249 | G57: 17.35685 | H57: 26.035275 | I57: 34.7137 | J57: 43.392125 | K57: deGFP [ug/mL]
B59: Average | C59: 18.729167 | D59: 467.14583 | E59: 2486.3958 | F59: 5065.5 | G59: 10485.729 | H59: 15317.5 | I59: 19733.771 | J59: 24460.771 | K59: Fluorescence (a.u)
B60: Corr Average | C60: 0 | D60: 448.41667 | E60: 2467.6667 | F60: 5046.7708 | G60: 10467 | H60: 15298.771 | I60: 19715.042 | J60: 24442.042 | K60: Fluorescence (a.u)
B61: STDV | C61: 3.400498 | D61: 27.58892 | E61: 76.123567 | F61: 180.27568 | G61: 367.86068 | H61: 416.60982 | I61: 643.80234 | J61: 706.21539 | K61: Fluorescence (a.u)

Sheet Supplementary Fig. 8A-C
A1: Figure S8: TMM versus IRS normalization of TMT-mass spectrometry results. (TMM Normalized Data)
A3: Identification Code | B3: POOL1 | C3: CF11 | D3: BL22 | E3: S112 | F3: S721 | G3: POOL2 | H3: CF21 | I3: BL11 | J3: S122 | K3: S712 | L3: S722 | M3: S111 | N3: BL21 | O3: CF12 | P3: POOL3 | Q3: S711 | R3: S121 | S3: BL12 | T3: CF22 | U3: POOL4
A4: CONT_011|gi|136425|sp|P00760|TRYP_BOVIN (+1) | B4: 21.872245 | C4: 21.686621 | D4: 21.722462 | E4: 21.976229 | F4: 22.147261 | G4: 21.962123 | H4: 21.989461 | I4: 21.688513 | J4: 22.123604 | K4: 22.062459 | L4: 22.50596 | M4: 22.048968 | N4: 21.788318 | O4: 21.978636 | P4: 21.964829 | Q4: 22.057418 | R4: 22.299228 | S4: 21.777746 | T4: 21.887975 | U4: 21.886448
A5: CONT_048|gi|553163 (+5) | B5: =-Inf -> #NAME? | C5: =-Inf -> #NAME? | D5: =-Inf -> #NAME? | E5: =-Inf -> #NAME? | F5: =-Inf -> #NAME? | G5: =-Inf -> #NAME? | H5: =-Inf -> #NAME? | I5: =-Inf -> #NAME? | ... K5: =-Inf -> #NAME? | L5: 14.068108 | M5: 12.949619 | N5: 14.871608 | O5: 14.14696 | P5: 14.20801 | Q5: 13.760476 | R5: 14.046528 | S5: 15.239261 | T5: 14.551417 | U5: 14.26363
A6: CONT_066|gi|386644|bbs|134977 (+1) | B6: =-Inf -> #NAME? | C6: =-Inf -> #NAME? | D6: =-Inf -> #NAME? | E6: =-Inf -> #NAME? | F6: =-Inf -> #NAME? | G6: =-Inf -> #NAME? | H6: =-Inf -> #NAME? | I6: =-Inf -> #NAME? | ... K6: =-Inf -> #NAME? | L6: 17.955563 | M6: 17.472882 | N6: 13.287976 | O6: 18.834397 | P6: 17.935278 | Q6: 17.97235 | R6: 17.970171 | S6: 14.143087 | T6: 18.870806 | U6: 18.074147
A7: CONT_068|gi|1082558|pir||S41161 (+1) | B7: 22.706415 | C7: 22.383977 | D7: 22.579123 | E7: 22.926539 | F7: 23.164489 | G7: 22.742895 | H7: 22.574931 | I7: 22.409014 | J7: 22.765105 | K7: 23.136625 | L7: 23.257692 | M7: 22.393028 | N7: 22.465203 | O7: 22.380689 | P7: 22.651702 | Q7: 22.078104 | R7: 22.802959 | S7: 22.60342 | T7: 23.384088 | U7: 22.702926
A8: CONT_072|gi|547754|sp|P35908|K22E_HUMAN (+1) | B8: 20.926282 | C8: 20.637632 | D8: 21.032176 | E8: 21.342225 | F8: 21.527776 | G8: 20.96421 | H8: 20.866949 | I8: 20.570543 | J8: 20.788916 | K8: 21.563717 | L8: 21.461926 | M8: 19.775967 | N8: 20.569643 | O8: 20.179402 | P8: 20.649329 | Q8: 20.403606 | R8: 20.77273 | S8: 20.312905 | T8: 20.429541 | U8: 20.614611
A9: CONT_079|gi|125105|sp|P13647|K2C5_HUMAN_family | B9: 18.199537 | C9: 17.921346 | D9: 18.080508 | E9: 18.205746 | F9: 18.81467 | G9: 18.278747 | H9: 18.106239 | I9: 17.769917 | J9: 18.160705 | K9: 18.788623 | L9: 18.019576 | M9: 17.460408 | N9: 17.419539 | O9: 17.343684 | P9: 17.622258 | Q9: 17.422552 | R9: 17.670049 | S9: 17.425564 | T9: 17.724624 | U9: 17.547576
A10: CONT_082|gi|125080|sp|P02533|K1CN_HUMAN_family | B10: 18.161093 | C10: 17.771217 | D10: 18.186141 | E10: 18.475941 | F10: 18.52597 | G10: 18.206186 | H10: 17.857484 | I10: 17.746431 | J10: 18.260986 | K10: 18.605426 | L10: 18.478946 | M10: 17.381334 | N10: 17.995303 | O10: 17.568781 | P10: 17.954704 | Q10: 17.476361 | R10: 17.873219 | S10: 18.324934 | T10: 18.318471 | U10: 18.013119
A11: CONT_088|gi|1346343|sp|P04264|K2C1_HUMAN_family | B11: 22.004674 | C11: 21.802219 | D11: 21.732566 | E11: 22.148306 | F11: 22.493777 | G11: 21.998133 | H11: 21.824869 | I11: 21.601971 | J11: 21.957271 | K11: 22.435402 | L11: 22.675713 | M11: 21.783977 | N11: 21.708389 | O11: 21.720486 | P11: 21.963673 | Q11: 21.57036 | R11: 22.108668 | S11: 21.87943 | T11: 22.655155 | U11: 21.978838
A12: CONT_089|gi|71536|pir||KRHU2 | B12: 21.035154 | C12: 20.845833 | D12: 20.835647 | E12: 21.177657 | F12: 21.633565 | G12: 21.011582 | H12: 20.920912 | I12: 20.546475 | J12: 21.006717 | K12: 21.352681 | L12: 22.079203 | M12: 20.945324 | N12: 21.085961 | O12: 21.071894 | P12: 21.32845 | Q12: 20.888148 | R12: 21.395825 | S12: 21.242878 | T12: 22.045924 | U12: 21.309566
A13: CONT_092|gi|71528|pir||KRHU0 (+2) | B13: 21.982708 | C13: 21.767156 | D13: 21.914354 | E13: 22.326129 | F13: 22.672541 | G13: 22.011479 | H13: 21.836326 | I13: 21.547931 | J13: 21.86688 | K13: 22.530227 | L13: 23.108382 | M13: 21.897789 | N13: 22.211646 | O13: 22.062972 | P13: 22.378709 | Q13: 22.339639 | R13: 22.615178 | S13: 22.041319 | T13: 22.404042 | U13: 22.395326
A14: CONT_101|gi|125081|sp|P19012|K1CO_HUMAN | B14: =-Inf -> #NAME? | C14: =-Inf -> #NAME? | D14: =-Inf -> #NAME? | E14: =-Inf -> #NAME? | F14: =-Inf -> #NAME? | G14: =-Inf -> #NAME? | H14: =-Inf -> #NAME? | I14: =-Inf -> #NAME? | ... U14: =-Inf -> #NAME?
A15: CONT_102|gi|88044|pir||S01068 (+1) | B15: =-Inf -> #NAME? | C15: =-Inf -> #NAME? | D15: =-Inf -> #NAME? | E15: =-Inf -> #NAME? | F15: =-Inf -> #NAME? | G15: =-Inf -> #NAME? | H15: =-Inf -> #NAME? | I15: =-Inf -> #NAME? | ... U15: =-Inf -> #NAME?
A16: CONT_123|gi|125091|sp|P25690|K1M2_SHEEP (+1) | B16: =-Inf -> #NAME? | C16: =-Inf -> #NAME? | D16: =-Inf -> #NAME? | E16: =-Inf -> #NAME? | F16: =-Inf -> #NAME? | G16: =-Inf -> #NAME? | H16: =-Inf -> #NAME? | I16: =-Inf -> #NAME? | ... U16: =-Inf -> #NAME?
A17: CONT_129|gi|1346344|sp|P02538|K2CA_HUMAN_family | B17: 11.524035 | C17: 10.911014 | D17: 10.354817 | E17: 11.537953 | F17: 11.101221 | G17: 11.401777 | H17: 10.856553 | I17: 10.619737 | J17: 11.741689 | K17: 11.742779 | L17: 17.748597 | M17: 17.813055 | N17: 17.350624 | O17: 17.259259 | P17: 17.543862 | Q17: 17.705771 | R17: 17.662894 | S17: 17.387206 | T17: 17.325563 | U17: 17.250574
A18: CONT_133|gi|1346349|sp|P48669|K2CF_HUMAN | B18: =-Inf -> #NAME? | C18: =-Inf -> #NAME? | D18: =-Inf -> #NAME? | E18: =-Inf -> #NAME? | F18: =-Inf -> #NAME? | G18: =-Inf -> #NAME? | H18: =-Inf -> #NAME? | I18: =-Inf -> #NAME? | ... U18: =-Inf -> #NAME?
A19: CONT_142|gi|88053|pir||A29666 | B19: =-Inf -> #NAME? | C19: =-Inf -> #NAME? | D19: =-Inf -> #NAME? | E19: =-Inf -> #NAME? | F19: =-Inf -> #NAME? | G19: =-Inf -> #NAME? | H19: =-Inf -> #NAME? | I19: =-Inf -> #NAME? | ... K19: =-Inf -> #NAME? | L19: 14.156927 | M19: 13.43811 | N19: 13.770414 | O19: 13.809913 | P19: 14.165028 | Q19: 13.909463 | R19: 14.106707 | S19: 13.874824 | T19: 14.128449 | U19: 14.052537
A20: CONT_152|gi|2135530|pir||S60034 (+1) | B20: =-Inf -> #NAME? | C20: =-Inf -> #NAME? | D20: =-Inf -> #NAME? | E20: =-Inf -> #NAME? | F20: =-Inf -> #NAME? | G20: =-Inf -> #NAME? | H20: =-Inf -> #NAME? | I20: =-Inf -> #NAME? | ... U20: =-Inf -> #NAME?
A21: CONT_153|gi|1181994 (+1) | B21: =-Inf -> #NAME? | C21: =-Inf -> #NAME? | D21: =-Inf -> #NAME? | E21: =-Inf -> #NAME? | F21: =-Inf -> #NAME? | G21: =-Inf -> #NAME? | H21: =-Inf -> #NAME? | I21: =-Inf -> #NAME? | ... U21: =-Inf -> #NAME?
A22: CONT_156|gi|1363944|pir||JC4313_family | B22: 14.98474 | C22: 14.970397 | D22: 14.700169 | E22: 15.144198 | F22: 15.09278 | G22: 14.945233 | H22: 14.667382 | I22: 14.635999 | J22: 15.20457 | K22: 15.349803 | L22: 15.803337 | M22: 15.42636 | N22: 15.896172 | O22: 15.88614 | P22: 15.836709 | Q22: 15.478945 | R22: 15.877535 | S22: 16.115935 | T22: 15.968164 | U22: 15.870841
A23: EXTRA_0010_family | B23: =-Inf -> #NAME? | C23: =-Inf -> #NAME? | D23: =-Inf -> #NAME? | E23: =-Inf -> #NAME? | F23: =-Inf -> #NAME? | G23: =-Inf -> #NAME? | H23: =-Inf -> #NAME? | I23: =-Inf -> #NAME? | ... U23: =-Inf -> #NAME?
A24: EXTRA_0016 | B24: =-Inf -> #NAME? | C24: =-Inf -> #NAME? | D24: =-Inf -> #NAME? | E24: =-Inf -> #NAME? | F24: =-Inf -> #NAME? | G24: =-Inf -> #NAME? | H24: =-Inf -> #NAME? | I24: =-Inf -> #NAME? | ... K24: =-Inf -> #NAME? | L24: 18.380835 | M24: 18.733588 | N24: 18.805153 | O24: 18.303037 | P24: 18.566134 | Q24: 18.208962 | R24: 18.725553 | S24: 18.68487 | T24: 18.51788 | U24: 18.335902
A25: EXTRA_0117 (+1) | B25: 25.181472 | C25: 23.267023 | D25: 23.557137 | E25: 23.68634 | F25: 26.79513 | G25: 25.129188 | H25: 23.862501 | I25: 23.67001 | J25: 23.763965 | K25: 27.095674 | L25: 26.874835 | M25: 23.725157 | N25: 23.913731 | O25: 23.582606 | P25: 25.003249 | Q25: 26.972955 | R25: 24.030223 | S25: 24.042644 | T25: 23.422723 | U25: 25.033094
A26: EXTRA_0118 | B26: 29.600515 | C26: 28.220086 | D26: 28.446913 | E26: 30.574696 | F26: 30.023972 | G26: 29.623055 | H26: 28.413019 | I26: 28.502142 | J26: 30.594885 | K26: 30.096041 | L26: 30.278418 | M26: 30.910676 | N26: 28.677383 | O26: 28.524303 | P26: 29.656809 | Q26: 30.216856 | R26: 30.678446 | S26: 28.661519 | T26: 28.353072 | U26: 29.63715
A27: EXTRA_0119 | B27: 29.655519 | C27: 26.583287 | D27: 27.117971 | E27: 30.997114 | F27: 30.211016 | G27: 29.67725 | H27: 27.457605 | I27: 27.056826 | J27: 30.933084 | K27: 30.427683 | L27: 30.454441 | M27: 31.097372 | N27: 27.42295 | O27: 27.727425 | P27: 29.609425 | Q27: 30.332144 | R27: 30.934133 | S27: 27.413863 | T27: 27.285227 | U27: 29.575529
A28: EXTRA_0121 | B28: 24.943238 | C28: 23.446684 | D28: 23.701723 | E28: 23.662489 | F28: 26.50132 | G28: 24.883742 | H28: 23.870939 | I28: 23.723023 | J28: 23.744734 | K28: 26.764276 | L28: 26.572397 | M28: 23.606848 | N28: 23.848769 | O28: 23.602633 | P28: 24.773401 | Q28: 26.51721 | R28: 23.920449 | S28: 23.883229 | T28: 23.385293 | U28: 24.805186
A29: EXTRA_0123_family | B29: 27.159095 | C29: 26.191209 | D29: 26.292929 | E29: 26.398978 | F29: 28.485648 | G29: 27.118757 | H29: 26.454419 | I29: 26.284459 | J29: 26.354942 | K29: 28.607135 | L29: 28.828292 | M29: 26.501565 | N29: 26.647651 | O29: 26.481132 | P29: 27.255057 | Q29: 28.69641 | R29: 26.574138 | S29: 26.641807 | T29: 26.34079 | U29: 27.250491
A30: EXTRA_0125 | B30: 25.771194 | C30: 25.32908 | D30: 24.519023 | E30: 24.894658 | F30: 27.082073 | G30: 25.660105 | H30: 25.426883 | I30: 24.60238 | J30: 24.799031 | K30: 27.02314 | L30: 27.828493 | M30: 25.306829 | N30: 25.25118 | O30: 25.767499 | P30: 26.133537 | Q30: 27.47348 | R30: 25.40818 | S30: 25.190595 | T30: 25.701926 | U30: 26.135878
A31: EXTRA_0126 | B31: 28.945393 | C31: 27.939461 | D31: 27.97754 | E31: 28.297198 | F31: 30.306284 | G31: 28.880048 | H31: 28.120846 | I31: 28.157255 | J31: 28.373255 | K31: 30.262398 | L31: 30.513637 | M31: 28.517575 | N31: 28.213644 | O31: 28.026296 | P31: 28.906611 | Q31: 30.313852 | R31: 28.498179 | S31: 28.278185 | T31: 27.899905 | U31: 28.921832
A32: EXTRA_0127 | B32: 25.710695 | C32: 22.779392 | D32: 23.411743 | E32: 22.426422 | F32: 27.690228 | G32: 25.616211 | H32: 23.96482 | I32: 23.500182 | J32: 23.338034 | K32: 27.813628 | L32: 27.489761 | M32: 22.410354 | N32: 23.710165 | O32: 22.897856 | P32: 25.263601 | Q32: 27.124761 | R32: 23.572987 | S32: 23.618645 | T32: 22.542946 | U32: 25.324339
A33: EXTRA_0130 | B33: 28.034097 | C33: 29.688681 | D33: 24.765188 | E33: 26.54697 | F33: 25.176956 | G33: 27.812432 | H33: 29.789156 | I33: 24.050373 | J33: 25.990198 | K33: 21.791907 | L33: 22.517249 | M33: 23.672849 | N33: 22.470532 | O33: 29.528432 | P33: 27.519453 | Q33: 25.745391 | R33: 25.594054 | S33: 21.096183 | T33: 29.565851 | U33: 27.623108
A34: REV_A0A140N4K3 | B34: 20.891593 | C34: 21.043957 | D34: 21.070357 | E34: 20.56689 | F34: 20.559078 | G34: 20.736435 | H34: 20.930324 | I34: 21.15398 | J34: 20.452618 | K34: 20.303526 | L34: 21.381868 | M34: 21.812454 | N34: 21.807477 | O34: 21.895978 | P34: 21.664656 | Q34: 21.638988 | R34: 21.529626 | S34: 21.581794 | T34: 21.940396 | U34: 21.548207
A35: REV_A0A140N4S5 | B35: 16.456697 | C35: 16.969558 | D35: 16.537668 | E35: 17.070224 | F35: 16.11174 | G35: 16.124332 | H35: 18.016427 | I35: 14.961846 | J35: 16.428769 | K35: 16.054981 | L35: 16.465862 | M35: 15.568796 | N35: 15.916229 | O35: 17.112203 | P35: 15.829341 | Q35: 16.317646 | R35: 16.19373 | S35: 15.416885 | T35: 16.618899 | U35: 15.826097
A36: REV_A0A140N6I8 | B36: =-Inf -> #NAME? | C36: =-Inf -> #NAME? | D36: =-Inf -> #NAME? | E36: =-Inf -> #NAME? | F36: =-Inf -> #NAME? | G36: =-Inf -> #NAME? | H36: =-Inf -> #NAME? | I36: =-Inf -> #NAME? | ... K36: =-Inf -> #NAME? | L36: 18.368131 | M36: 17.747916 | N36: 17.659061 | O36: 18.08274 | P36: 18.082836 | Q36: 17.922887 | R36: 18.158099 | S36: 17.909221 | T36: 17.892857 | U36: 18.457681
A37: REV_A0A140N6N3 | B37: 14.297343 | C37: 14.353123 | D37: 14.63278 | E37: 15.116923 | F37: 15.051734 | G37: 14.554512 | H37: 14.479251 | I37: 14.605663 | J37: 15.030584 | K37: 15.002773 | L37: =-Inf -> #NAME? | M37: =-Inf -> #NAME? | N37: =-Inf -> #NAME? | O37: =-Inf -> #NAME? | P37: =-Inf -> #NAME? | Q37: =-Inf -> #NAME? | R37: =-Inf -> #NAME? | S37: =-Inf -> #NAME? | ... U37: =-Inf -> #NAME?
A38: REV_A0A140N6X1 | B38: 19.244697 | C38: 15.821695 | D38: 16.752431 | E38: 14.777684 | F38: 21.127676 | G38: 19.189847 | H38: 17.349407 | I38: 17.09229 | J38: 16.460951 | K38: 21.505617 | L38: 21.942625 | M38: 17.176509 | N38: 17.927202 | O38: 16.810782 | P38: 19.712233 | Q38: 22.032019 | R38: 17.664705 | S38: 18.022777 | T38: 15.456821 | U38: 19.677047
A39: REV_A0A140N745 | B39: 18.69089 | C39: 19.013891 | D39: 18.602873 | E39: 18.694188 | F39: 18.667486 | G39: 18.737152 | H39: 18.696976 | I39: 18.792322 | J39: 18.768516 | K39: 18.681517 | L39: =-Inf -> #NAME? | M39: =-Inf -> #NAME? | N39: =-Inf -> #NAME? | O39: =-Inf -> #NAME? | P39: =-Inf -> #NAME? | Q39: =-Inf -> #NAME? | R39: =-Inf -> #NAME? | S39: =-Inf -> #NAME? | ... U39: =-Inf -> #NAME?
A40: REV_A0A140N7F8 | B40: 18.647993 | C40: 17.024002 | D40: 17.780946 | E40: 19.848758 | F40: 19.067605 | G40: 18.738687 | H40: 17.752814 | I40: 17.310377 | J40: 19.83556 | K40: 19.498082 | L40: 20.423138 | M40: 20.368808 | N40: 18.83335 | O40: 18.652464 | P40: 19.819807 | Q40: 20.116346 | R40: 20.896271 | S40: 19.006795 | T40: 18.674572 | U40: 19.810523
A41: REV_A0A140N818 | B41: 16.617365 | C41: 16.819162 | D41: 16.300354 | E41: 17.014205 | F41: 16.74807 | G41: 16.467796 | H41: 16.9234 | I41: 16.257142 | J41: 16.973004 | K41: 16.633996 | L41: 14.88352 | M41: 15.010258 | N41: 14.213744 | O41: 14.929988 | P41: 14.51248 | Q41: 14.887688 | R41: 15.246894 | S41: 14.408266 | T41: 14.58063 | U41: 15.836067
A42: REV_A0A140N8F7 | B42: 15.024091 | C42: 14.815516 | D42: 14.809355 | E42: 15.490842 | F42: 15.21655 | G42: 15.003967 | H42: 15.046286 | I42: 14.773899 | J42: 15.193468 | K42: 15.43697 | L42: 15.768458 | M42: 16.047469 | N42: 15.421194 | O42: 15.223343 | P42: 15.515285 | Q42: 15.604356 | R42: 15.984814 | S42: 15.297762 | T42: 15.452451 | U42: 15.743428
A43: REV_A0A140N988 | B43: =-Inf -> #NAME? | C43: =-Inf -> #NAME? | D43: =-Inf -> #NAME? | E43: =-Inf -> #NAME? | F43: =-Inf -> #NAME? | G43: =-Inf -> #NAME? | H43: =-Inf -> #NAME? | I43: =-Inf -> #NAME? | ... K43: =-Inf -> #NAME? | L43: 12.824933 | M43: 12.900491 | N43: 12.21807 | O43: 11.794333 | P43: 12.631654 | Q43: 12.580988 | R43: 12.744619 | S43: 12.071503 | T43: 11.393598 | U43: 12.627167
A44: REV_A0A140N9R6 | B44: =-Inf -> #NAME? | C44: =-Inf -> #NAME? | D44: =-Inf -> #NAME? | E44: =-Inf -> #NAME? | F44: =-Inf -> #NAME? | G44: =-Inf -> #NAME? | H44: =-Inf -> #NAME? | I44: =-Inf -> #NAME? | ... K44: =-Inf -> #NAME? | L44: 15.826477 | M44: 16.021213 | N44: 16.113185 | O44: 16.302463 | P44: 15.972256 | Q44: 15.767181 | R44: 16.190771 | S44: 15.930507 | T44: 16.128792 | U44: 16.086493
A45: REV_A0A140NA18 | B45: 15.091773 | C45: 15.532894 | D45: 14.682531 | E45: 14.498435 | F45: 14.842996 | G45: 15.064671 | H45: 15.310673 | I45: 15.622314 | J45: 14.69743 | K45: 14.997922 | L45: =-Inf -> #NAME? | M45: =-Inf -> #NAME? | N45: =-Inf -> #NAME? | O45: =-Inf -> #NAME? | P45: =-Inf -> #NAME? | Q45: =-Inf -> #NAME? | R45: =-Inf -> #NAME? | S45: =-Inf -> #NAME? | ... U45: =-Inf -> #NAME?
A46: REV_A0A140NAC6 | B46: 19.94844 | C46: 19.817847 | D46: 19.514428 | E46: 19.827503 | F46: 19.809299 | G46: 19.827633 | H46: 19.634787 | I46: 19.765277 | J46: 20.236881 | K46: 19.98258 | L46: 20.95029 | M46: 20.882483 | N46: 20.524359 | O46: 20.35609 | P46: 20.747922 | Q46: 21.054217 | R46: 20.955171 | S46: 20.684741 | T46: 20.472452 | U46: 20.392146
A47: REV_A0A140NAK7 | B47: 18.24068 | C47: 18.476036 | D47: 17.886039 | E47: 18.30564 | F47: 18.402363 | G47: 18.324166 | H47: 18.30036 | I47: 18.22587 | J47: 18.223567 | K47: 18.193438 | L47: =-Inf -> #NAME? | M47: =-Inf -> #NAME? | N47: =-Inf -> #NAME? | O47: =-Inf -> #NAME? | P47: =-Inf -> #NAME? | Q47: =-Inf -> #NAME? | R47: =-Inf -> #NAME? | S47: =-Inf -> #NAME? | ... U47: =-Inf -> #NAME?
A48: REV_A0A140NAL6 | B48: =-Inf -> #NAME? | C48: =-Inf -> #NAME? | D48: =-Inf -> #NAME? | E48: =-Inf -> #NAME? | F48: =-Inf -> #NAME? | G48: =-Inf -> #NAME? | H48: =-Inf -> #NAME? | I48: =-Inf -> #NAME? | ... K48: =-Inf -> #NAME? | L48: 15.140667 | M48: 15.358988 | N48: 14.393292 | O48: 15.065097 | P48: 15.462174 | Q48: 15.202145 | R48: 15.69991 | S48: 14.470954 | T48: 15.27058 | U48: 15.162444
A49: REV_A0A140NB10 | B49: 20.258567 | C49: 20.244781 | D49: 20.274373 | E49: 20.133326 | F49: 20.190254 | G49: 20.205295 | H49: 20.260327 | I49: 20.214189 | J49: 20.222145 | K49: 20.067105 | L49: 16.662522 | M49: 16.812559 | N49: 16.044284 | O49: 16.221428 | P49: 16.392008 | Q49: 16.676119 | R49: 16.768253 | S49: 16.173782 | T49: 16.154657 | U49: 16.429099
A50: REV_A0A140NBN5 | B50: 17.251404 | C50: 17.424169 | D50: 17.085934 | E50: 17.307516 | F50: 17.410949 | G50: 17.258574 | H50: 17.23211 | I50: 17.096861 | J50: 17.42565 | K50: 17.377704 | L50: =-Inf -> #NAME? | M50: =-Inf -> #NAME? | N50: =-Inf -> #NAME? | O50: =-Inf -> #NAME? | P50: =-Inf -> #NAME? | Q50: =-Inf -> #NAME? | R50: =-Inf -> #NAME? | S50: =-Inf -> #NAME? | ... U50: =-Inf -> #NAME?
A51: REV_A0A140NC56 | B51: =-Inf -> #NAME? | C51: =-Inf -> #NAME? | D51: =-Inf -> #NAME? | E51: =-Inf -> #NAME? | F51: =-Inf -> #NAME? | G51: =-Inf -> #NAME? | H51: =-Inf -> #NAME? | I51: =-Inf -> #NAME? | ... K51: =-Inf -> #NAME? | L51: 19.729529 | M51: 19.6176 | N51: 19.761747 | O51: 19.749402 | P51: 19.713739 | Q51: 19.723447 | R51: 19.688936 | S51: 19.785753 | T51: 19.772995 | U51: 19.739497
A52: REV_A0A140NCH0 | B52: 17.173641 | C52: 17.215553 | D52: 17.587772 | E52: 17.285436 | F52: 17.24633 | G52: 17.347559 | H52: 17.339706 | I52: 17.449784 | J52: 17.229534 | K52: 17.186594 | L52: 14.396311 | M52: 14.781617 | N52: 14.364954 | O52: 15.016186 | P52: 14.358961 | Q52: 14.116899 | R52: 14.666596 | S52: 13.754557 | T52: 14.288713 | U52: 14.001654
A53: REV_A0A140NCL4 | B53: =-Inf -> #NAME? | C53: =-Inf -> #NAME? | D53: =-Inf -> #NAME? | E53: =-Inf -> #NAME? | F53: =-Inf -> #NAME? | G53: =-Inf -> #NAME? | H53: =-Inf -> #NAME? | I53: =-Inf -> #NAME? | ... K53: =-Inf -> #NAME? | L53: 14.94443 | M53: 15.69183 | N53: 16.649138 | O53: 15.285329 | P53: 15.73829 | Q53: 15.82613 | R53: 15.439922 | S53: 15.742578 | T53: 15.436176 | U53: 16.109133
A54: REV_A0A140NDA1 | B54: 19.080016 | C54: 18.839517 | D54: 18.686193 | E54: 19.219263 | F54: 19.192472 | G54: 18.927909 | H54: 18.821539 | I54: 18.8034 | J54: 19.353664 | K54: 19.261042 | L54: 19.094728 | M54: 19.346639 | N54: 18.498596 | O54: 18.676585 | P54: 18.885079 | Q54: 19.101752 | R54: 19.122977 | S54: 18.489494 | T54: 18.571702 | U54: 18.810501
A55: REV_A0A140NDA2 | B55: 15.04524 | C55: 15.101254 | D55: 14.811503 | E55: 15.314597 | F55: 15.36655 | G55: 15.30079 | H55: 14.970921 | I55: 15.023816 | J55: 15.425517 | K55: 15.60427 | L55: 14.55057 | M55: 15.836032 | N55: 14.220603 | O55: 14.377389 | P55: 14.530822 | Q55: 14.927864 | R55: 14.830871 | S55: 14.556648 | T55: 14.220238 | U55: 14.629567
A56: REV_A0A140NDB0 | B56: 15.138562 | C56: 15.365479 | D56: 14.812033 | E56: 15.249628 | F56: 15.24547 | G56: 15.210353 | H56: 15.107404 | I56: 15.044386 | J56: 15.421503 | K56: 15.286538 | L56: 17.774873 | M56: 17.671529 | N56: 17.132587 | O56: 17.46607 | P56: 17.312109 | Q56: 17.433196 | R56: 17.539958 | S56: 17.228399 | T56: 17.433813 | U56: 17.444825
A57: REV_A0A140NDB2 | B57: =-Inf -> #NAME? | C57: =-Inf -> #NAME? | D57: =-Inf -> #NAME? | E57: =-Inf -> #NAME? | F57: =-Inf -> #NAME? | G57: =-Inf -> #NAME? | H57: =-Inf -> #NAME? | I57: =-Inf -> #NAME? | ... K57: =-Inf -> #NAME? | L57: 20.547282 | M57: 15.627518 | N57: 16.68817 | O57: 16.067284 | P57: 18.212526 | Q57: 20.538342 | R57: 16.531408 | S57: 16.88235 | T57: 15.431386 | U57: 18.665847
A58: REV_A0A140NE43 | B58: 19.053905 | C58: 19.216537 | D58: 17.366918 | E58: 19.422815 | F58: 19.486402 | G58: 19.064084 | H58: 19.393936 | I58: 17.3915 | J58: 19.502564 | K58: 19.470318 | L58: =-Inf -> #NAME? | M58: =-Inf -> #NAME? | N58: =-Inf -> #NAME? | O58: =-Inf -> #NAME? | P58: =-Inf -> #NAME? | Q58: =-Inf -> #NAME? | R58: =-Inf -> #NAME? | S58: =-Inf -> #NAME? | ... U58: =-Inf -> #NAME?
A59: REV_A0A140NHI6 | B59: =-Inf -> #NAME? | C59: =-Inf -> #NAME? | D59: =-Inf -> #NAME? | E59: =-Inf -> #NAME? | F59: =-Inf -> #NAME? | G59: =-Inf -> #NAME? | H59: =-Inf -> #NAME? | I59: =-Inf -> #NAME? | ... K59: =-Inf -> #NAME? | L59: 20.012941 | M59: 19.546457 | N59: 19.357862 | O59: 20.298955 | P59: 19.223011 | Q59: 19.23765 | R59: 20.573317 | S59: 18.965876 | T59: 19.87811 | U59: 19.128944
A60: REV_A0A140SS70 | B60: =-Inf -> #NAME? | C60: =-Inf -> #NAME? | D60: =-Inf -> #NAME? | E60: =-Inf -> #NAME? | F60: =-Inf -> #NAME? | G60: =-Inf -> #NAME? | H60: =-Inf -> #NAME? | I60: =-Inf -> #NAME? | ... K60: =-Inf -> #NAME? | L60: 12.316399 | M60: 12.730437 | N60: 11.887365 | O60: 11.581818 | P60: 12.183825 | Q60: 11.745907 | R60: 12.203408 | S60: 12.036033 | T60: 11.895212 | U60: 11.77071
A61: REV_CONT_050 (+1) | B61: 20.991165 | C61: 20.843448 | D61: 20.775302 | E61: 21.334717 | F61: 21.16033 | G61: 20.964423 | H61: 20.718272 | I61: 20.619229 | J61: 21.381122 | K61: 21.380841 | L61: 19.419174 | M61: 19.549642 | N61: 18.894446 | O61: 19.30808 | P61: 19.255158 | Q61: 19.402314 | R61: 19.454457 | S61: 19.00867 | T61: 19.279729 | U61: 19.30981
A62: REV_CONT_118 (+2) | B62: 18.263302 | C62: 18.113165 | D62: 18.26801 | E62: 18.569291 | F62: 18.278412 | G62: 18.254128 | H62: 18.219489 | I62: 18.174473 | J62: 18.373187 | K62: 18.262493 | L62: 18.021856 | M62: 18.093354 | N62: 17.95743 | O62: 17.76451 | P62: 18.050876 | Q62: 17.965479 | R62: 18.11366 | S62: 18.0408 | T62: 17.792822 | U62: 18.003376
A63: REV_EXTRA_0039 | B63: 18.848306 | C63: 18.812349 | D63: 19.909397 | E63: 18.238788 | F63: 18.225564 | G63: 19.04269 | H63: 18.64935 | I63: 20.04914 | J63: 18.404662 | K63: 17.965489 | L63: 17.843615 | M63: 18.121503 | N63: 19.731234 | O63: 18.0628 | P63: 18.784835 | Q63: 17.93031 | R63: 17.89848 | S63: 19.399862 | T63: 18.440242 | U63: 18.605061
A64: sp|A0A140N5J7|KDSC_ECOBD | B64: 20.270893 | C64: 20.15968 | D64: 20.077076 | E64: 20.431536 | F64: 20.351036 | G64: 20.321286 | H64: 20.337583 | I64: 20.195092 | J64: 20.642446 | K64: 20.140499 | L64: 20.111995 | M64: 20.349143 | N64: 19.864725 | O64: 19.996309 | P64: 20.098716 | Q64: 20.164292 | R64: 20.087775 | S64: 19.815908 | T64: 20.149703 | U64: 20.133101
A65: sp|A0A140NDS5|YAFV_ECOBD | B65: 15.429853 | C65: 15.477217 | D65: 15.444894 | E65: 15.176169 | F65: 15.193464 | G65: 15.210995 | H65: 15.687621 | I65: 15.296796 | J65: 15.097399 | K65: 15.212409 | L65: 16.342215 | M65: 16.488605 | N65: 16.205172 | O65: 16.470263 | P65: 16.37713 | Q65: 16.310306 | R65: 16.252705 | S65: 16.254253 | T65: 16.502948 | U65: 16.281682
A66: sp|C5W331|RSMH_ECOBD | B66: 20.400118 | C66: 20.539931 | D66: 20.277571 | E66: 20.585614 | F66: 20.602677 | G66: 20.492584 | H66: 20.378219 | I66: 20.324985 | J66: 20.631035 | K66: 20.468402 | L66: 20.369951 | M66: 20.318605 | N66: 20.24893 | O66: 20.345314 | P66: 20.28462 | Q66: 20.303829 | R66: 20.473334 | S66: 20.274387 | T66: 20.358272 | U66: 20.338122
A67: sp|C5W716|NUOK_ECOBD | B67: 15.983213 | C67: 15.653966 | D67: 16.217546 | E67: 16.506255 | F67: 16.224603 | G67: 16.054482 | H67: 15.894242 | I67: 15.871111 | J67: 16.465349 | K67: 16.0138 | L67: 16.404428 | M67: 16.572199 | N67: 16.546831 | O67: 16.653288 | P67: 16.579657 | Q67: 16.440241 | R67: 16.348536 | S67: 16.532018 | T67: 16.590254 | U67: 16.591494
A68: sp|C5W7S9|TRMN6_ECOBD | B68: 15.402166 | C68: 15.810505 | D68: 15.210656 | E68: 15.111852 | F68: 15.614973 | G68: 15.52479 | H68: 15.542942 | I68: 15.464227 | J68: 15.10969 | K68: 15.061503 | L68: 16.286306 | M68: 16.138673 | N68: 15.67641 | O68: 16.391226 | P68: 16.251483 | Q68: 16.071703 | R68: 16.30195 | S68: 15.671349 | T68: 16.061604 | U68: 15.955575
A69: sp|C5W865|CYSI_ECOBD | B69: 24.460761 | C69: 24.669506 | D69: 24.623005 | E69: 24.157338 | F69: 24.129548 | G69: 24.431218 | H69: 24.60352 | I69: 24.865285 | J69: 24.11066 | K69: 23.961362 | L69: 24.005378 | M69: 24.210795 | N69: 24.675124 | O69: 24.597509 | P69: 24.440112 | Q69: 24.042308 | R69: 24.099334 | S69: 24.762847 | T69: 24.612164 | U69: 24.440681
A70: sp|C5W8B2|RLMM_ECOBD | B70: 20.382657 | C70: 20.132911 | D70: 20.21373 | E70: 20.45876 | F70: 20.435404 | G70: 20.319637 | H70: 20.192915 | I70: 20.201274 | J70: 20.556375 | K70: 20.449903 | L70: 20.141627 | M70: 19.978464 | N70: 19.909509 | O70: 19.861808 | P70: 19.988481 | Q70: 20.073049 | R70: 20.074467 | S70: 19.90789 | T70: 19.896938 | U70: 19.919997
A71: sp|C5WBK5|TRMA_ECOBD | B71: 21.501685 | C71: 21.458557 | D71: 21.277395 | E71: 21.774815 | F71: 21.629536 | G71: 21.513258 | H71: 21.624897 | I71: 21.416203 | J71: 21.735222 | K71: 21.676347 | L71: 21.220464 | M71: 21.336972 | N71: 20.870477 | O71: 21.242114 | P71: 21.076803 | Q71: 21.109083 | R71: 21.445151 | S71: 21.054475 | T71: 21.138849 | U71: 21.142768
A72: sp|C6ECL5|SPY_ECOBD | B72: 19.201114 | C72: 19.524107 | D72: 19.224368 | E72: 19.09181 | F72: 18.936391 | G72: 19.148192 | H72: 19.508826 | I72: 19.026302 | J72: 19.154702 | K72: 18.850748 | L72: 18.633187 | M72: 18.929368 | N72: 19.502497 | O72: 19.553589 | P72: 19.18314 | Q72: 18.89085 | R72: 18.819199 | S72: 19.024862 | T72: 19.658473 | U72: 19.138001
... A120: tr|A0A140N3E6|A0A140N3E6_ECOBD | B120: 20.301405 | C120: 20.337599 | D120: 20.395329 | E120: 20.374487 | F120: 20.270115 | G120: 20.323385 | H120: 20.440033 | I120: 20.239686 | J120: 20.386891 | K120: 20.363255 | L120: 19.786748 | M120: 19.767406 | N120: 20.019927 | O120: 20.044176 | P120: 20.078307 | Q120: 19.801603 | R120: 19.895304 | S120: 20.004905 | T120: 20.073703 | U120: 19.963062
A121: tr|A0A140N3F4|A0A140N3F4_ECOBD | B121: 19.520332 | C121: 19.216529 | D121: 19.701485 | E121: 19.407207 | F121: 19.363313 | G121: 19.619871 | H121: 19.466909 | I121: 19.694812 | J121: 19.560252 | K121: 19.68709 | L121: =-Inf -> #NAME? | M121: =-Inf -> #NAME? | N121: =-Inf -> #NAME? | O121: =-Inf -> #NAME? | P121: =-Inf -> #NAME? | Q121: =-Inf -> #NAME? | R121: =-Inf -> #NAME? | S121: =-Inf -> #NAME? | ... U121: =-Inf -> #NAME?
A122: tr|A0A140N3F8|A0A140N3F8_ECOBD | B122: 21.266943 | C122: 21.014526 | D122: 21.69114 | E122: 21.207536 | F122: 21.032835 | G122: 21.256302 | H122: 21.121055 | I122: 21.491878 | J122: 21.069083 | K122: 21.135438 | L122: 21.045864 | M122: 20.973287 | N122: 21.751777 | O122: 21.198323 | P122: 21.359322 | Q122: 21.054334 | R122: 21.194955 | S122: 21.808293 | T122: 21.262966 | U122: 21.366259
A123: tr|A0A140N3G6|A0A140N3G6_ECOBD | B123: 20.105273 | C123: 20.447812 | D123: 18.46082 | E123: 20.734527 | F123: 19.946419 | G123: 20.022077 | H123: 19.895721 | I123: 19.42192 | J123: 20.708074 | K123: 20.485363 | L123: 20.7475 | M123: 21.799884 | N123: 18.857553 | O123: 21.074967 | P123: 20.753959 | Q123: 21.558212 | R123: 21.192706 | S123: 19.778405 | T123: 20.666093 | U123: 20.725658
A124: tr|A0A140N3G7|A0A140N3G7_ECOBD | B124: 26.8484 | C124: 26.718212 | D124: 26.398031 | E124: 26.999268 | F124: 26.980801 | G124: 26.777321 | H124: 26.582677 | I124: 26.664827 | J124: 27.070097 | K124: 26.849485 | L124: 27.914854 | M124: 28.023802 | N124: 27.257389 | O124: 27.393372 | P124: 27.478625 | Q124: 27.861157 | R124: 27.870508 | S124: 27.342272 | T124: 27.319599 | U124: 27.485775
A125: tr|A0A140N3H1|A0A140N3H1_ECOBD | B125: 16.699793 | C125: 17.377653 | D125: 16.476277 | E125: 15.973941 | F125: 16.802729 | G125: 16.779943 | H125: 16.971287 | I125: 17.197882 | J125: 15.861215 | K125: 16.589532 | L125: 16.830257 | M125: 16.21629 | N125: 17.122358 | O125: 17.498432 | P125: 17.074171 | Q125: 16.979549 | R125: 16.223135 | S125: 17.523629 | T125: 17.173503 | U125: 17.06999
A126: tr|A0A140N3H4|A0A140N3H4_ECOBD | B126: 25.803312 | C126: 25.632845 | D126: 25.437883 | E126: 26.017835 | F126: 25.982863 | G126: 25.789361 | H126: 25.644292 | I126: 25.586245 | J126: 26.051832 | K126: 25.938293 | L126: 26.442884 | M126: 26.411704 | N126: 25.85484 | O126: 26.036626 | P126: 26.105656 | Q126: 26.395841 | R126: 26.453867 | S126: 25.991422 | T126: 26.022864 | U126: 26.129
A127: tr|A0A140N3I1|A0A140N3I1_ECOBD | B127: 22.865649 | C127: 22.619129 | D127: 22.686011 | E127: 23.022031 | F127: 22.968711 | G127: 22.814402 | H127: 22.80834 | I127: 22.414827 | J127: 22.903251 | K127: 22.899842 | L127: 22.737732 | M127: 22.082403 | N127: 22.446481 | O127: 22.464007 | P127: 22.433403 | Q127: 22.495593 | R127: 22.686933 | S127: 22.560189 | T127: 22.428838 | U127: 22.431044
A128: tr|A0A140N3I2|A0A140N3I2_ECOBD | B128: 16.161494 | C128: 15.722883 | D128: 16.507455 | E128: 16.317277 | F128: 16.368327 | G128: 16.242834 | H128: 16.136206 | I128: 16.120908 | J128: 16.219967 | K128: 16.362298 | L128: 16.219674 | M128: 16.104194 | N128: 16.22925 | O128: 15.987827 | P128: 16.058523 | Q128: 16.046146 | R128: 16.138813 | S128: 16.149998 | T128: 16.222691 | U128: 16.161224
A129: tr|A0A140N3I5|A0A140N3I5_ECOBD | B129: 18.518366 | C129: 18.358924 | D129: 19.133482 | E129: 18.321419 | F129: 18.244478 | G129: 18.547511 | H129: 18.493296 | I129: 19.046154 | J129: 18.086848 | K129: 18.211684 | L129: 16.609121 | M129: 17.132762 | N129: 17.87096 | O129: 17.124699 | P129: 17.480051 | Q129: 16.807368 | R129: 17.555386 | S129: 17.854662 | T129: 17.287168 | U129: 17.436596
A130: tr|A0A140N3I9|A0A140N3I9_ECOBD | B130: 18.38818 | C130: 17.429992 | D130: 18.469227 | E130: 18.454123 | F130: 18.523992 | G130: 18.147904 | H130: 18.576935 | I130: 17.198357 | J130: 18.053227 | K130: 18.54744 | L130: 18.055252 | M130: 16.101885 | N130: 17.827343 | O130: 17.996877 | P130: 17.729608 | Q130: 17.27486 | R130: 17.793393 | S130: 18.094547 | T130: 17.746618 | U130: 17.710191
A131: tr|A0A140N3K3|A0A140N3K3_ECOBD | B131: 16.960304 | C131: 17.502809 | D131: 16.904352 | E131: 17.468955 | F131: 17.44168 | G131: 17.001019 | H131: 16.769053 | I131: 16.723141 | J131: 17.042547 | K131: 17.032465 | L131: 17.012367 | M131: 17.097673 | N131: 16.521462 | O131: 17.344172 | P131: 16.998354 | Q131: 17.090274 | R131: 17.127887 | S131: 16.667909 | T131: 17.071346 | U131: 17.010637
A132: tr|A0A140N3K4|A0A140N3K4_ECOBD | B132: 18.590294 | C132: 18.606076 | D132: 18.575412 | E132: 18.429551 | F132: 18.560988 | G132: 18.593285 | H132: 18.428963 | I132: 18.718406 | J132: 18.408936 | K132: 18.421454 | L132: 18.30326 | M132: 18.376148 | N132: 18.680842 | O132: 18.723634 | P132: 18.60694 | Q132: 18.503927 | R132: 18.49524 | S132: 18.657708 | T132: 18.75995 | U132: 18.634443
A133: tr|A0A140N3K8|A0A140N3K8_ECOBD | B133: 19.533178 | C133: 19.492911 | D133: 19.112441 | E133: 19.515902 | F133: 20.255146 | G133: 19.571009 | H133: 19.473398 | I133: 19.381337 | J133: 19.58232 | K133: 20.038821 | L133: =-Inf -> #NAME? | M133: =-Inf -> #NAME? | N133: =-Inf -> #NAME? | O133: =-Inf -> #NAME? | P133: =-Inf -> #NAME? | Q133: =-Inf -> #NAME? | R133: =-Inf -> #NAME? | S133: =-Inf -> #NAME? | ... U133: =-Inf -> #NAME?
A134: tr|A0A140N3L9|A0A140N3L9_ECOBD | B134: 25.164943 | C134: 25.027571 | D134: 24.908421 | E134: 25.353387 | F134: 25.331307 | G134: 25.111909 | H134: 25.057008 | I134: 25.01009 | J134: 25.387578 | K134: 25.347837 | L134: 25.712151 | M134: 25.688192 | N134: 25.203999 | O134: 25.309294 | P134: 25.402114 | Q134: 25.642708 | R134: 25.694356 | S134: 25.338952 | T134: 25.307242 | U134: 25.37084
A135: tr|A0A140N3M3|A0A140N3M3_ECOBD | B135: 22.257974 | C135: 22.294873 | D135: 22.168811 | E135: 22.368354 | F135: 22.229377 | G135: 22.298746 | H135: 22.30758 | I135: 22.265564 | J135: 22.400166 | K135: 22.285722 | L135: 22.243739 | M135: 22.353467 | N135: 22.099853 | O135: 22.237236 | P135: 22.226273 | Q135: 22.255497 | R135: 22.38852 | S135: 22.162316 | T135: 22.293147 | U135: 22.212433
A136: tr|A0A140N3M9|A0A140N3M9_ECOBD | B136: 18.856008 | C136: 18.879688 | D136: 18.794073 | E136: 18.991676 | F136: 19.035078 | G136: 18.907317 | H136: 18.883085 | I136: 18.811542 | J136: 19.00467 | K136: 19.007593 | L136: 19.018137 | M136: 18.990189 | N136: 18.798246 | O136: 18.908601 | P136: 18.917335 | Q136: 19.006494 | R136: 19.06947 | S136: 18.865377 | T136: 18.85745 | U136: 18.934515
A137: tr|A0A140N3N3|A0A140N3N3_ECOBD | B137: 20.991213 | C137: 20.981593 | D137: 20.821516 | E137: 21.266364 | F137: 21.233824 | G137: 21.071742 | H137: 20.847914 | I137: 20.991321 | J137: 21.357514 | K137: 21.2375 | L137: 20.955872 | M137: 21.155675 | N137: 20.756471 | O137: 20.751851 | P137: 20.792931 | Q137: 20.95097 | R137: 20.889855 | S137: 20.91075 | T137: 20.676077 | U137: 20.750295
A138: tr|A0A140N3N8|A0A140N3N8_ECOBD | B138: 21.753403 | C138: 21.869737 | D138: 22.396008 | E138: 21.801465 | F138: 21.003282 | G138: 21.791555 | H138: 22.062043 | I138: 21.52483 | J138: 21.635729 | K138: 21.057766 | L138: 21.025762 | M138: 21.773341 | N138: 22.719422 | O138: 22.265147 | P138: 22.136033 | Q138: 21.251064 | R138: 21.885927 | S138: 22.100898 | T138: 22.301198 | U138: 22.046567
A139: tr|A0A140N3P1|A0A140N3P1_ECOBD | B139: 20.607108 | C139: 20.505913 | D139: 20.480073 | E139: 20.709108 | F139: 20.660636 | G139: 20.634705 | H139: 20.581458 | I139: 20.626777 | J139: 20.750393 | K139: 20.671322 | L139: 21.026186 | M139: 21.252679 | N139: 20.879079 | O139: 20.800461 | P139: 20.969404 | Q139: 21.082498 | R139: 21.023297 | S139: 20.926498 | T139: 20.883162 | U139: 20.981847
A140: tr|A0A140N3P4|A0A140N3P4_ECOBD | B140: 16.503755 | C140: 17.163422 | D140: 16.679794 | E140: 16.608125 | F140: 16.510621 | G140: 16.454982 | H140: 16.979288 | I140: 16.241548 | J140: 16.191511 | K140: 16.57678 | L140: 17.323335 | M140: 17.925867 | N140: 16.782092 | O140: 17.548674 | P140: 16.874591 | Q140: 16.905904 | R140: 17.857599 | S140: 16.456037 | T140: 17.018778 | U140: 17.192792
A141: tr|A0A140N3P8|A0A140N3P8_ECOBD | B141: 21.258599 | C141: 21.377592 | D141: 21.370854 | E141: 21.313818 | F141: 21.167426 | G141: 21.27841 | H141: 21.453425 | I141: 21.346766 | J141: 21.274516 | K141: 21.315991 | L141: 20.87577 | M141: 20.780175 | N141: 21.191201 | O141: 21.25403 | P141: 21.089799 | Q141: 20.940248 | R141: 20.9508 | S141: 21.242358 | T141: 21.141029 | U141: 21.044899
A142: tr|A0A140N3Q3|A0A140N3Q3_ECOBD | B142: 22.74021 | C142: 22.212285 | D142: 22.394431 | E142: 23.063919 | F142: 23.045871 | G142: 22.83506 | H142: 22.213158 | I142: 22.995248 | J142: 23.127598 | K142: 23.162679 | L142: 24.018969 | M142: 24.065113 | N142: 23.376117 | O142: 23.307138 | P142: 23.706641 | Q142: 23.986142 | R142: 24.072752 | S142: 23.941856 | T142: 23.213503 | U142: 23.717191
A143: tr|A0A140N3Q6|A0A140N3Q6_ECOBD | B143: 19.819173 | C143: 19.782153 | D143: 19.757816 | E143: 19.833398 | F143: 19.845697 | G143: 19.730831 | H143: 19.771602 | I143: 19.686798 | J143: 19.679064 | K143: 19.655684 | L143: 20.042616 | M143: 19.947639 | N143: 19.917343 | O143: 19.983875 | P143: 19.995301 | Q143: 19.923126 | R143: 20.179675 | S143: 20.015052 | T143: 19.960561 | U143: 19.892641
A144: tr|A0A140N3R5|A0A140N3R5_ECOBD | B144: 20.764706 | C144: 20.619984 | D144: 20.708428 | E144: 20.826587 | F144: 20.93809 | G144: 20.791357 | H144: 20.647611 | I144: 20.697872 | J144: 20.820979 | K144: 20.78171 | L144: 21.654323 | M144: 21.744256 | N144: 21.540116 | O144: 21.494203 | P144: 21.46402 | Q144: 21.616893 | R144: 21.715298 | S144: 21.409726 | T144: 21.48715 | U144: 21.53975
A145: tr|A0A140N3S1|A0A140N3S1_ECOBD | B145: 21.413887 | C145: 21.109006 | D145: 21.44043 | E145: 21.571741 | F145: 21.596014 | G145: 21.37109 | H145: 21.231822 | I145: 21.365488 | J145: 21.581871 | K145: 21.353074 | L145: 21.352256 | M145: 20.984879 | N145: 21.165329 | O145: 20.839102 | P145: 21.02316 | Q145: 21.036527 | R145: 21.355515 | S145: 21.040881 | T145: 20.882863 | U145: 20.987799
... A152: tr|A0A140N3Z1|A0A140N3Z1_ECOBD | B152: 20.99332 | C152: 21.075217 | D152: 21.129456 | E152: 20.856034 | F152: 20.910509 | G152: 20.999322 | H152: 20.977892 | I152: 21.003947 | J152: 20.917303 | K152: 20.922082 | L152: 21.348692 | M152: 21.335647 | N152: 21.58484 | O152: 21.407168 | P152: 21.461828 | Q152: 21.387461 | R152: 21.277509 | S152: 21.495345 | T152: 21.337162 | U152: 21.411914
A153: tr|A0A140N403|A0A140N403_ECOBD | B153: 18.653847 | C153: 18.734217 | D153: 18.067987 | E153: 18.974076 | F153: 19.061157 | G153: 18.773983 | H153: 18.645104 | I153: 18.374249 | J153: 19.333762 | K153: 19.51895 | L153: =-Inf -> #NAME? | M153: =-Inf -> #NAME? | N153: =-Inf -> #NAME? | O153: =-Inf -> #NAME? | P153: =-Inf -> #NAME? | Q153: =-Inf -> #NAME? | R153: =-Inf -> #NAME? | S153: =-Inf -> #NAME? | ... U153: =-Inf -> #NAME?
A154: tr|A0A140N412|A0A140N412_ECOBD | B154: 18.46929 | C154: 18.489962 | D154: 18.557241 | E154: 18.510693 | F154: 18.542946 | G154: 18.580041 | H154: 18.535648 | I154: 18.497093 | J154: 18.433192 | K154: 18.517447 | L154: 19.481897 | M154: 19.432754 | N154: 19.201856 | O154: 19.292984 | P154: 19.305092 | Q154: 19.397687 | R154: 19.436293 | S154: 19.27995 | T154: 19.310667 | U154: 19.322318
...

Sheet Supplementary Fig. 8D-F
A1: Figure S8: TMM versus IRS normalization of TMT-mass spectrometry results. (TMM/IRS Normalized Data)
A3: Identification Code | B3: POOL1 | C3: CF11 | D3: BL22 | E3: S112 | F3: S721 | G3: POOL2 | H3: CF21 | I3: BL11 | J3: S122 | K3: S712 | L3: S722 | M3: S111 | N3: BL21 | O3: CF12 | P3: POOL3 | Q3: S711 | R3: S121 | S3: BL12 | T3: CF22 | U3: POOL4
A4: CONT_011|gi|136425|sp|P00760|TRYP_BOVIN (+1) | B4: 21.881107 | C4: 21.6731 | D4: 21.737746 | E4: 21.9631 | F4: 22.122072 | G4: 21.968591 | H4: 21.980103 | I4: 21.712842 | J4: 22.121887 | K4: 22.058903 | L4: 22.510343 | M4: 22.05541 | N4: 21.783273 | O4: 21.976355 | P4: 21.965521 | Q4: 22.057592 | R4: 22.301347 | S4: 21.775529 | T4: 21.894841 | U4: 21.886841
A5: CONT_068|gi|1082558|pir||S41161 (+1) | B5: 22.68771 | C5: 22.342888 | D5: 22.56684 | E5: 22.885842 | F5: 23.111733 | G5: 22.721795 | H5: 22.538005 | I5: 22.405776 | J5: 22.735821 | K5: 23.105502 | L5: 23.289642 | M5: 22.427037 | N5: 22.487726 | O5: 22.405976 | P5: 22.679961 | Q5: 22.105846 | R5: 22.832645 | S5: 22.628771 | T5: 23.418522 | U5: 22.730886
A6: CONT_072|gi|547754|sp|P35908|K22E_HUMAN (+1) | B6: 20.774483 | C6: 20.463448 | D6: 20.886799 | E6: 21.168434 | F6: 21.341925 | G6: 20.810015 | H6: 20.696929 | I6: 20.434211 | J6: 20.626537 | K6: 21.399499 | L6: 21.626971 | M6: 19.943071 | N6: 20.72526 | O6: 20.337783 | P6: 20.810683 | Q6: 20.564443 | R6: 20.935511 | S6: 20.47135 | T6: 20.59707 | U6: 20.775666
A7: CONT_079|gi|125105|sp|P13647|K2C5_HUMAN_family | B7: 17.877137 | C7: 17.576561 | D7: 17.76453 | E7: 17.861354 | F7: 18.458218 | G7: 17.953951 | H7: 17.765617 | I7: 17.462983 | J7: 17.827726 | K7: 18.453804 | L7: 18.355221 | M7: 17.798113 | N7: 17.745757 | O7: 17.672666 | P7: 17.954213 | Q7: 17.75399 | R7: 18.003431 | S7: 17.754611 | T7: 18.062754 | U7: 17.879232
A8: CONT_082|gi|125080|sp|P02533|K1CN_HUMAN_family | B8: 18.066187 | C8: 17.653927 | D8: 18.097657 | E8: 18.359043 | F8: 18.397012 | G8: 18.108884 | H8: 17.744357 | I8: 17.666991 | J8: 18.1555 | K8: 18.498101 | L8: 18.587098 | M8: 17.491545 | N8: 18.094027 | O8: 17.67027 | P8: 18.059165 | Q8: 17.580305 | R8: 17.979107 | S8: 18.426486 | T8: 18.429106 | U8: 18.117282
A9: CONT_088|gi|1346343|sp|P04264|K2C1_HUMAN_family | B9: 21.994576 | C9: 21.769738 | D9: 21.72889 | E9: 22.116216 | F9: 22.449627 | G9: 21.98564 | H9: 21.796549 | I9: 21.60734 | J9: 21.936594 | K9: 22.412885 | L9: 22.699056 | M9: 21.80938 | N9: 21.722305 | O9: 21.737166 | P9: 21.983325 | Q9: 21.589496 | R9: 22.129747 | S9: 21.896173 | T9: 22.680982 | U9: 21.998191
A10: CONT_089|gi|71536|pir||KRHU2 | B10: 21.187943 | C10: 20.976239 | D10: 20.994858 | E10: 21.308455 | F10: 21.752303 | G10: 21.161976 | H10: 21.05548 | I10: 20.714731 | J10: 21.148927 | K10: 21.493052 | L10: 21.939659 | M10: 20.807839 | N10: 20.936989 | O10: 20.925687 | P10: 21.185215 | Q10: 20.744395 | R10: 21.254017 | S10: 21.096735 | T10: 21.908863 | U10: 21.166032
A11: CONT_092|gi|71528|pir||KRHU0 (+2) | B11: 22.182547 | C11: 21.944611 | D11: 22.120615 | E11: 22.503976 | F11: 22.838329 | G11: 22.208923 | H11: 22.017944 | I11: 21.763237 | J11: 22.056139 | K11: 22.717647 | L11: 22.921788 | M11: 21.713255 | N11: 22.015625 | O11: 21.869715 | P11: 22.188424 | Q11: 22.148837 | R11: 22.42632 | S11: 21.848125 | T11: 22.219932 | U11: 22.204743
A12: CONT_129|gi|1346344|sp|P02538|K2CA_HUMAN_family | B12: 14.499247 | C12: 13.863842 | D12: 13.336451 | E12: 14.491173 | F12: 14.042382 | G12: 14.374594 | H12: 13.813544 | I12: 13.610416 | J12: 14.706322 | K12: 14.705573 | L12: 14.78663 | M12: 14.853148 | N12: 14.379229 | O12: 14.290629 | P12: 14.578205 | Q12: 14.739596 | R12: 14.698663 | S12: 14.418639 | T12: 14.36608 | U12: 14.284617
A13: CONT_156|gi|1363944|pir||JC4313_family | B13: 15.434162 | C13: 15.397435 | D13: 15.156013 | E13: 15.571628 | F13: 15.50815 | G13: 15.392259 | H13: 15.098583 | I13: 15.100887 | J13: 15.643412 | K13: 15.786806 | L13: 15.367161 | M13: 14.992242 | N13: 15.450568 | O13: 15.4433 | P13: 15.396842 | Q13: 15.03856 | R13: 15.439095 | S13: 15.673159 | T13: 15.534472 | U13: 15.430675
A14: EXTRA_0117 (+1) | B14: 25.117879 | C14: 23.181046 | D14: 23.499967 | E14: 23.600756 | F14: 26.697486 | G14: 25.0632 | H14: 23.780687 | I14: 23.621884 | J14: 23.689793 | K14: 27.019663 | L14: 26.951673 | M14: 23.804054 | N14: 23.981142 | O14: 23.65278 | P14: 25.076396 | Q14: 27.045585 | R14: 24.104798 | S14: 24.112883 | T14: 23.502044 | U14: 25.105943
A15: EXTRA_0118 | B15: 29.622996 | C15: 28.220183 | D15: 28.475815 | E15: 30.575185 | F15: 30.012401 | G15: 29.64314 | H15: 28.417278 | I15: 28.540089 | J15: 30.606786 | K15: 30.106103 | L15: 30.269182 | M15: 30.9035 | N15: 28.65872 | O15: 28.508404 | P15: 29.643883 | Q15: 30.203413 | R15: 30.666947 | S15: 28.645685 | T15: 28.34632 | U15: 29.623925
... A1854: tr|C6EGE8|C6EGE8_ECOBD | B1854: 24.99552 | C1854: 24.953958 | D1854: 24.501574 | E1854: 25.197461 | F1854: 25.258255 | G1854: 24.942394 | H1854: 24.808898 | I1854: 24.815165 | J1854: 25.175872 | K1854: 24.942619 | L1854: 25.381308 | M1854: 25.571924 | N1854: 24.656806 | O1854: 24.909473 | P1854: 24.975185 | Q1854: 25.287149 | R1854: 25.351903 | S1854: 24.693267 | T1854: 24.825191 | U1854: 24.964217

Sheet Supplementary Fig. 9
A1: Figure S9: PCA analysis of specific protein categories
A3: Amino Acid Metabolism
B4: Sample Name | C4: Dim.1 | D4: Dim.2 | E4: Dim.3 | F4: Dim.4 | G4: Dim.5 | H4: Dim.6 | I4: Dim.7 | J4: Dim.8 | K4: Dim.9 | L4: Dim.10 | M4: Dim.11 | N4: Dim.12 | O4: Dim.13 | P4: Dim.14 | Q4: Dim.15 | R4: Dim.16 | S4: Dim.17 | T4: Dim.18 | U4: Dim.19 | V4: Dim.20
B5: BL21-B1T1 | C5: -12.436123 | D5: -5.6258228 | E5: 3.2533126 | F5: 4.2857504 | G5: -4.0612737 | H5: 1.4379511 | I5: -0.4553602 | J5: 1.0608371 | K5: 0.29327073 | L5: -0.01329887 | M5: 0.54817453 | N5: -0.67900549 | O5: 1.2576612 | P5: -0.84767621 | Q5: 0.38782422 | R5: -0.20402378 | S5: 0.26869293 | T5: -0.2124711 | U5: -1.3183898e-15 | V5: 3.9170056e-15
B6: BL21-B1T2 | C6: -9.8814753 | D6: -6.572214 | E6: 0.30878599 | F6: -0.91200207 | G6: -2.8008091 | H6: -5.4631421 | I6: -0.3244893 | J6: -0.93937679 | K6: -0.03093513 | L6: 0.18096262 | M6: -0.2541567 | N6: 0.76819938 | O6: -1.4071916 | P6: 0.12339002 | Q6: -0.46440611 | R6: 0.36633119 | S6: 0.14170504 | T6: 0.084171081 | U6: -1.2490009e-15 | V6: 3.3167913e-15
B7: BL21-B2T1 | C7: -11.840831 | D7: -5.037934 | E7: -2.9066597 | F7: -1.3949731 | G7: 3.747398 | H7: -1.0096894 | I7: 3.2229145 | J7: -0.66814332 | K7: -0.97432077 | L7: -0.4123907 | M7: -0.81510159 | N7: -0.37582259 | O7: 0.92681162 | P7: -0.65714826 | Q7: 0.011760246 | R7: -0.67603895 | S7: 0.19886613 | T7: 0.14592114 | U7: 3.6776138e-16 | V7: 1.7850305e-15
B8: BL21-B2T2 | C8: -15.127454 | D8: -4.6577416 | E8: -1.3051683 | F8: -0.48162513 | G8: 3.1738367 | H8: 4.6652596 | I8: -2.0124598 | J8: 0.37168867 | K8: 0.5566148 | L8: 0.52493229 | M8: 0.035478855 | N8: 0.16653631 | O8: -1.3863727 | P8: 0.066965577 | Q8: -0.27408975 | R8: 0.47389689 | S8: 0.098186648 | T8: -0.075302979 | U8: -1.1379786e-15 | V8: 2.4286129e-15
B9: BL_CFP-B1T1 | C9: -4.6010852 | D9: 8.4970505 | E9: -0.24966567 | F9: 3.8133294 | G9: -0.94223409 | H9: 0.76235172 | I9: 2.8399288 | J9: 1.5511498 | K9: -0.58821656 | L9: -1.6186823 | M9: -0.13000296 | N9: 0.054591664 | O9: -1.203051 | P9: 0.10043094 | Q9: -0.072493024 | R9: 0.49665586 | S9: 0.24515116 | T9: 0.49259712 | U9: -8.3266727e-16 | V9: 3.01148e-15
B10: BL_CFP-B1T2 | C10: -3.9015121 | D10: 7.3772952 | E10: -0.74174907 | F10: 0.60904127 | G10: -0.00068417749 | H10: -1.109685 | I10: 0.90143123 | J10: -0.016582378 | K10: 1.8265763 | L10: 2.1077971 | M10: 0.73552026 | N10: -1.20299 | O10: -0.59005851 | P10: -0.039978258 | Q10: -0.86696668 | R10: -0.8375136 | S10: -0.15862757 | T10: -0.56889359 | U10: -6.6613381e-16 | V10: 2.3765712e-15
B11: BL_CFP-B2T1 | C11: -7.2434446 | D11: 8.1641189 | E11: -0.10289403 | F11: -1.373246 | G11: -0.56425097 | H11: -0.45373909 | I11: -3.0728325 | J11: -0.3768898 | K11: -1.1450692 | L11: -1.3864165 | M11: -2.1802532 | N11: 0.12330973 | O11: 0.086515836 | P11: -0.73132197 | Q11: 0.16524423 | R11: -0.53444379 | S11: -0.33186588 | T11: -0.34153391 | U11: 8.3266727e-16 | V11: 3.1710745e-15
B12: BL_CFP-B2T2 | C12: -6.411705 | D12: 7.9806883 | E12: 0.6102746 | F12: -1.1795094 | G12: 1.3811308 | H12: -1.1739501 | I12: -0.87478458 | J12: -1.1814435 | K12: 0.045341401 | L12: 1.3968628 | M12: 1.3527351 | N12: 0.81437249 | O12: 1.184917 | P12: -0.3299135 | Q12: 0.64568436 | R12: 0.83381044 | S12: 0.68829586 | T12: 0.33729385 | U12: 1.110223e-16 | V12: 3.1502578e-15
B13: BL_S1-B1T1 | C13: 11.981654 | D13: -1.2521201 | E13: 5.1768266 | F13: 4.1837727 | G13: 0.97992402 | H13: 1.2648798 | I13: 0.7688826 | J13: -2.515133 | K13: -0.65840065 | L13: 1.4854594 | M13: -1.5967639 | N13: -0.022311352 | O13: -0.64539931 | P13: -0.27536313 | Q13: 0.3973074 | R13: 0.0042743606 | S13: -0.10160177 | T13: 0.11686695 | U13: -5.4817262e-16 | V13: 4.0557835e-15
B14: BL_S1-B1T2 | C14: 7.9395372 | D14: -0.60751387 | E14: 3.6979611 | F14: -3.9445547 | G14: 0.19708087 | H14: 0.65865089 | I14: 1.0261169 | J14: 0.59224866 | K14: 3.324565 | L14: -1.2221008 | M14: -0.99749498 | N14: 1.1246202 | O14: 0.18386123 | P14: -0.38354567 | Q14: -0.033883584 | R14: -0.12492602 | S14: 0.371615 | T14: -0.081678386 | U14: -6.9388939e-16 | V14: 4.8294702e-15
B15: BL_S1-B2T1 | C15: 7.5190223 | D15: -1.2339908 | E15: 3.0901502 | F15: -1.5288263 | G15: 1.595297 | H15: -1.58341 | I15: -1.6491276 | J15: 1.9142511 | K15: -0.88946673 | L15: 0.1706031 | M15: -0.59524549 | N15: -1.7594782 | O15: 0.12232227 | P15: 1.2307779 | Q15: -0.2508183 | R15: -0.163136 | S15: 0.74956147 | T15: 0.38415782 | U15: 6.1062266e-16 | V15: 3.6498582e-15
B16: BL_S1-B2T2 | C16: 7.0497121 | D16: -0.66860338 | E16: 4.1899579 | F16: -4.1132158 | G16: 0.47633506 | H16: 0.35877885 | I16: 0.75640526 | J16: 0.98998446 | K16: -2.2176731 | L16: -0.096416516 | M16: 1.9788131 | N16: 0.19525636 | O16: -0.39420379 | P16: -1.1977299 | Q16: -0.451693 | R16: 0.17710767 | S16: -0.48730261 | T16: -0.38548941 | U16: -3.3306691e-16 | V16: 3.9551695e-15
... B24: POOLED-T4 | C24: -1.2662398 | D24: -0.11018737 | E24: 0.27451853 | F24: -0.76490241 | G24: -0.89634447 | H24: 1.1423108 | I24: 0.036280875 | J24: -0.57224944 | K24: -0.47411914 | L24: -0.3116552 | M24: 1.3072222 | N24: 0.995403 | O24: -0.25764178 | P24: 1.504666 | Q24: 0.83391119 | R24: -1.1269525 | S24: -0.083271984 | T24: 0.13484896 | U24: -4.118407e-14 | V24: 3.5405706e-15
A26: Cell Division
B27: Sample Name | C27: Dim.1 | D27: Dim.2 | E27: Dim.3 | F27: Dim.4 | G27: Dim.5 | H27: Dim.6 | I27: Dim.7 | J27: Dim.8 | K27: Dim.9 | L27: Dim.10 | M27: Dim.11 | N27: Dim.12 | O27: Dim.13 | P27: Dim.14 | Q27: Dim.15 | R27: Dim.16 | S27: Dim.17 | T27: Dim.18 | U27: Dim.19 | V27: Dim.20
B28: BL21-B1T1 | C28: -4.6783177 | D28: 6.1571586 | E28: 5.4126035 | F28: 0.39755172 | G28: -1.7050879 | H28: -0.45133252 | I28: -0.29651012 | J28: -0.25864891 | K28: 0.92071759 | L28: -1.4802975 | M28: 0.10302022 | N28: -1.0665027 | O28: 0.015395842 | P28: -0.32815456 | Q28: -0.023499364 | R28: -0.47501318 | S28: -0.3109372 | T28: 0.097496987 | U28: -1.4849233e-15 | V28: 3.6429193e-15
B29: BL21-B1T2 | C29: -2.8400341 | D29: 6.3909697 | E29: -2.7915248 | F29: 1.4259551 | G29: -0.72776839 | H29: -1.9600404 | I29: -0.61182596 | J29: -0.27805026 | K29: 0.41057299 | L29: -0.34214242 | M29: 0.94122618 | N29: 1.4286564 | O29: -0.44179936 | P29: 0.34921723 | Q29: 0.14301083 | R29: 0.35747383 | S29: 0.2800636 | T29: 0.26354429 | U29: -1.4571677e-15 | V29: 4.1147641e-15
B30: BL21-B2T1 | C30: -1.7585299 | D30: 5.5877571 | E30: -3.0399155 | F30: 0.26045289 | G30: 0.75030151 | H30: -0.8697938 | I30: -1.2474336 | J30: 1.3729445 | K30: -1.3111639 | L30: 1.8287556 | M30: -0.28559757 | N30: -0.63487277 | O30: 0.55954479 | P30: -0.22427619 | Q30: -0.61342381 | R30: -0.28437965 | S30: -0.10110674 | T30: 0.079596515 | U30: -1.0824674e-15 | V30: 4.1078252e-15
B31: BL21-B2T2 | C31: -2.7897038 | D31: 4.961656 | E31: -0.892523 | F31: -0.5321864 | G31: -0.22748396 | H31: 3.909287 | I31: 2.0218599 | J31: -1.2356639 | K31: -0.069225699 | L31: 0.75489665 | M31: -1.0729051 | N31: 0.22410862 | O31: -0.38280529 | P31: 0.28848048 | Q31: 0.25178718 | R31: -0.057933272 | S31: -0.017855454 | T31: 0.12212002 | U31: -1.1379786e-15 | V31: 4.1355808e-15
B32: BL_CFP-B1T1 | C32: -10.731236 | D32: -3.3830459 | E32: 4.863138 | F32: -2.1999438 | G32: 0.44416225 | H32: -1.7745985 | I32: 1.3618439 | J32: 1.5036695 | K32: 1.1958689 | L32: 1.1696855 | M32: -0.28348749 | N32: 0.36519575 | O32: 0.064621521 | P32: 0.28571264 | Q32: 0.13957812 | R32: 0.082453961 | S32: 0.074457255 | T32: 0.23846962 | U32: -2.0539126e-15 | V32: 4.2951753e-15
B33: BL_CFP-B1T2 | C33: -8.9325892 | D33: -4.6623023 | E33: -2.2260995 | F33: 1.3272945 | G33: 0.29456695 | H33: -1.535233 | I33: 0.56006372 | J33: -2.1791569 | K33: -0.7537671 | L33: -0.28938673 | M33: -0.58696544 | N33: -0.04954701 | O33: -0.62436265 | P33: -0.69657304 | Q33: -0.83186992 | R33: -0.098618391 | S33: 0.01354165 | T33: 0.046873888 | U33: -2.2828961e-15 | V33: 4.1737447e-15
B34: BL_CFP-B2T1 | C34: -8.2656928 | D34: -2.6833528 | E34: -0.46636796 | F34: -0.71967493 | G34: 1.3706238 | H34: 3.281671 | I34: -1.7273515 | J34: 1.9506545 | K34: -0.86793007 | L34: -0.99001635 | M34: 0.74705206 | N34: 0.23151734 | O34: -0.41450082 | P34: -0.32113438 | Q34: 0.0029252084 | R34: -0.0085353815 | S34: 0.048347424 | T34: 0.13306687 | U34: -1.3877788e-15 | V34: 3.2196468e-15
B35: BL_CFP-B2T2 | C35: -5.9045843 | D35: -3.4478731 | E35: -2.1079044 | F35: 2.1612435 | G35: 0.54717742 | H35: 0.4205739 | I35: -0.62654819 | J35: -1.7727658 | K35: 0.35398825 | L35: 0.46021663 | M35: 0.92410491 | N35: -0.63305578 | O35: 0.97126545 | P35: 0.46711262 | Q35: 0.91660313 | R35: -0.13164799 | S35: -0.11740375 | T35: 0.13614242 | U35: -1.2906343e-15 | V35: 3.7886361e-15
B36: BL_S1-B1T1 | C36: 7.3909919 | D36: -1.7101194 | E36: 6.6641932 | F36: 0.50958039 | G36: -0.86379239 | H36: 0.18545353 | I36: -1.9741066 | J36: -1.2190593 | K36: -1.4150789 | L36: 1.2623739 | M36: 0.1811097 | N36: 0.57917514 | O36: -0.52822559 | P36: -0.055061484 | Q36: 0.20749837 | R36: -0.1625058 | S36: -0.19549014 | T36: -0.0098592858 | U36: -2.0192181e-15 | V36: 3.0565828e-15
B37: BL_S1-B1T2 | C37: 4.4219324 | D37: -3.3609396 | E37: -2.1095407 | F37: 1.7568386 | G37: -2.069191 | H37: -0.42997146 | I37: 1.1381188 | J37: 1.4692751 | K37: -0.81148362 | L37: -0.47581661 | M37: 0.02946628 | N37: -0.19800301 | O37: -0.45264064 | P37: 1.1554525 | Q37: -0.25496651 | R37: -0.58410371 | S37: -0.51461356 | T37: 0.077123419 | U37: -9.5756736e-16 | V37: 3.594347e-15
B38: BL_S1-B2T1 | C38: 6.8312594 | D38: -1.7985355 | E38: -0.14971475 | F38: 2.474226 | G38: 1.2932529 | H38: 0.84968496 | I38: -1.7811278 | J38: 0.22896204 | K38: 2.8436488 | L38: -0.04126619 | M38: -1.1406567 | N38: 0.0062909952 | O38: -0.005035852 | P38: 0.19749224 | Q38: -0.51779184 | R38: 0.11913525 | S38: 0.16730089 | T38: 0.20520496 | U38: -5.9327543e-16 | V38: 3.5423053e-15
B39: BL_S1-B2T2 | C39: 6.0683028 | D39: -2.2752002 | E39: -0.92230639 | F39: 1.4496196 | G39: -3.583037 | H39: 0.69104772 | I39: 1.3774173 | J39: 0.96083059 | K39: 0.153817 | L39: 0.32253668 | M39: 0.34203113 | N39: 0.03808445 | O39: 0.4481667 | P39: -1.143057 | Q39: 0.18318834 | R39: 0.30511261 | S39: 0.34400014 | T39: 0.28606366 | U39: -7.2164497e-16 | V39: 3.6359804e-15
... B47: POOLED-T4 | C47: -0.58837295 | D47: -0.11121763 | E47: 0.3584352 | F47: 0.093100298 | G47: -0.3660037 | H47: 0.034502073 | I47: 0.086361198 | J47: 0.11899457 | K47: 0.025161451 | L47: -0.23576154 | M47: -0.11219269 | N47: 0.37443976 | O47: 0.34576472 | P47: 0.11807289 | Q47: -0.013444338 | R47: -0.71657394 | S47: 0.84046222 | T47: -0.70218711 | U47: 3.7591458e-14 | V47: 4.4825255e-15
A49: Central Metabolism
B50: Sample Name | C50: Dim.1 | D50: Dim.2 | E50: Dim.3 | F50: Dim.4 | G50: Dim.5 | H50: Dim.6 | I50: Dim.7 | J50: Dim.8 | K50: Dim.9 | L50: Dim.10 | M50: Dim.11 | N50: Dim.12 | O50: Dim.13 | P50: Dim.14 | Q50: Dim.15 | R50: Dim.16 | S50: Dim.17 | T50: Dim.18 | U50: Dim.19 | V50: Dim.20
B51: BL21-B1T1 | C51: -18.154662 | D51: 11.112485 | E51: 10.412983 | F51: 7.2698953 | G51: 7.6888867 | H51: -0.25110264 | I51: 1.5247374 | J51: -0.89527143 | K51: 1.2416347 | L51: -0.52887901 | M51: 0.37333024 | N51: -1.418466 | O51: 0.71106328 | P51: -1.6192229 | Q51: -0.94313727 | R51: 1.062827 | S51: 0.026912175 | T51: -0.78679929 | U51: 3.8562903e-15 | V51: 8.284172e-15
B52: BL21-B1T2 | C52: -14.65449 | D52: 13.285651 | E52: -5.8259374 | F52: -0.67844306 | G52: 5.5213226 | H52: -6.3550094 | I52: -2.0014727 | J52: -0.63030068 | K52: -2.4542715 | L52: 1.2168363 | M52: 0.16839312 | N52: 2.1907084 | O52: -1.8155467 | P52: 1.2755607 | Q52: 0.049143178 | R52: -1.1304844 | S52: 1.1710266 | T52: 0.35903373 | U52: 1.8448784e-15 | V52: 7.879114e-15
B53: BL21-B2T1 | C53: -14.936373 | D53: 11.733362 | E53: -1.488636 | F53: -5.9947292 | G53: -7.0786749 | H53: -0.34889796 | I53: -2.4037084 | J53: 2.1596298 | K53: -4.1741145 | L53: -0.74761497 | M53: -0.83868656 | N53: -2.5087874 | O53: 1.2154881 | P53: -1.3571981 | Q53: 0.11780818 | R53: 1.2239224 | S53: -0.020943528 | T53: -0.10982793 | U53: 1.9103642e-16 | V53: 8.3113854e-15
B54: BL21-B2T2 | C54: -19.763407 | D54: 11.763701 | E54: 0.62913486 | F54: -1.6856269 | G54: -6.9208922 | H54: 6.1087473 | I54: 2.8505997 | J54: 0.59644176 | K54: 4.231483 | L54: 1.2156516 | M54: 0.92234242 | N54: 1.3248662 | O54: -0.68612587 | P54: 1.1324106 | Q54: -0.028261331 | R54: -0.66002561 | S54: 0.97690706 | T54: 0.10653341 | U54: 1.6028845e-15 | V54: 1.1791783e-14
B55: BL_CFP-B1T1 | C55: -12.726776 | D55: -16.910683 | E55: 8.881251 | F55: -0.71684779 | G55: 2.2547028 | H55: 1.6338191 | I55: -4.402376 | J55: 4.8210311 | K55: -0.12295575 | L55: 0.89934373 | M55: 0.67162326 | N55: -0.81869877 | O55: -0.11983705 | P55: 1.9400426 | Q55: -0.49852646 | R55: -0.27387429 | S55: 0.72907212 | T55: 0.28362494 | U55: -2.6367797e-16 | V55: 1.0396198e-14
B56: BL_CFP-B1T2 | C56: -11.1624 | D56: -14.469465 | E56: -0.98335011 | F56: -2.4141603 | G56: 0.1441665 | H56: -2.1878121 | I56: 5.5081919 | J56: 0.95590728 | K56: -2.2179683 | L56: 4.0841712 | M56: 1.4654736 | N56: 1.0882109 | O56: 0.6975024 | P56: -1.9887574 | Q56: 0.96954067 | R56: -0.19181983 | S56: -0.072339102 | T56: -0.37903494 | U56: -1.2038981e-15 | V56: 9.3328123e-15
B57: BL_CFP-B2T1 | C57: -14.039301 | D57: -11.908509 | E57: -4.2794197 | F57: 0.44577422 | G57: -2.0244293 | H57: -0.051610748 | I57: -5.0515932 | J57: -4.2755345 | K57: 3.2456856 | L57: 0.052771135 | M57: -1.7230367 | N57: 0.49313567 | O57: -0.96103078 | P57: -2.5567423 | Q57: 0.22222245 | R57: -0.12601983 | S57: 0.42669893 | T57: -0.3873959 | U57: 1.3877788e-16 | V57: 9.8731787e-15
B58: BL_CFP-B2T2 | C58: -12.401358 | D58: -11.867732 | E58: -4.1348785 | F58: -0.90846571 | G58: -1.4435532 | H58: -2.7669032 | I58: 4.0840717 | J58: -3.0138934 | K58: -0.63818916 | L58: -4.4895912 | M58: 0.24755003 | N58: -1.8155077 | O58: -0.17124062 | P58: 1.9574542 | Q58: -1.466049 | R58: 0.39212185 | S58: 0.72880494 | T58: 0.075540736 | U58: -6.2450045e-16 | V58: 7.389922e-15
B59: BL_S1-B1T1 | C59: 19.593031 | D59: 0.34430785 | E59: 11.337472 | F59: 6.8096517 | G59: -7.5643319 | H59: -1.8883163 | I59: 0.40087053 | J59: -2.3104213 | K59: -2.7640535 | L59: 1.1592434 | M59: -0.79313186 | N59: -0.25994758 | O59: -2.2068129 | P59: -0.099425681 | Q59: -0.43209056 | R59: -1.0507407 | S59: 0.28706601 | T59: 0.38704295 | U59: -1.6202317e-15 | V59: 6.5069478e-15
B60: BL_S1-B1T2 | C60: 11.707418 | D60: -1.5779839 | E60: -7.7119412 | F60: 5.7225239 | G60: -1.1019518 | H60: 1.2046502 | I60: 0.023401847 | J60: 3.8132097 | K60: -0.27976999 | L60: -0.28430219 | M60: 0.18781889 | N60: 2.4022291 | O60: -1.8790316 | P60: -0.50601728 | Q60: -2.2855235 | R60: 2.465253 | S60: -0.46608021 | T60: -0.47332071 | U60: -1.8240617e-15 | V60: 6.6812875e-15
B61: BL_S1-B2T1 | C61: 13.84018 | D61: 1.903931 | E61: -3.8683585 | F61: 3.2900192 | G61: -1.9930779 | H61: -4.7554565 | I61: -0.90533081 | J61: -1.1348271 | K61: 2.7884036 | L61: 4.0438672 | M61: -0.63091875 | N61: -1.423445 | O61: 3.2275528 | P61: 1.96659 | Q61: -0.14841953 | R61: 1.1918066 | S61: 0.18336032 | T61: -0.14770873 | U61: -2.0435043e-15 | V61: 7.2632872e-15
B62: BL_S1-B2T2 | C62: 13.255383 | D62: 0.72308042 | E62: -6.4033152 | F62: 8.1164927 | G62: -0.3145034 | H62: 0.13221491 | I62: -0.30986468 | J62: 2.9908936 | K62: 0.52864091 | L62: -2.8090395 | M62: 2.3569325 | N62: -1.1791955 | O62: 1.0689975 | P62: -1.0958406 | Q62: 1.9889293 | R62: -1.7606434 | S62: 1.4757062 | T62: -0.090618822 | U62: -1.2490009e-15 | V62: 5.4678484e-15
... B70: POOLED-T4 | C70: -1.9113199 | D70: -0.28600396 | E70: -0.25654059 | F70: 1.3709919 | G70: 1.5171356 | H70: 0.84119378 | I70: 0.73913905 | J70: 0.018439995 | K70: 0.30057545 | L70: -0.41988722 | M70: -1.3236415 | N70: -0.76020746 | O70: -1.9860947 | P70: 1.2377197 | Q70: 3.3018727 | R70: 1.346875 | S70: -1.5575739 | T70: 0.10170646 | U70: 9.9229869e-14 | V70: 9.1764703e-15
A72: Chaperones
B73: Sample Name | C73: Dim.1 | D73: Dim.2 | E73: Dim.3 | F73: Dim.4 | G73: Dim.5 | H73: Dim.6 | I73: Dim.7 | J73: Dim.8 | K73: Dim.9 | L73: Dim.10 | M73: Dim.11 | N73: Dim.12 | O73: Dim.13 | P73: Dim.14 | Q73: Dim.15 | R73: Dim.16 | S73: Dim.17 | T73: Dim.18 | U73: Dim.19 | V73: Dim.20
B74: BL21-B1T1 | C74: 3.1052521 | D74: 2.2164793 | E74: -1.4084093 | F74: -1.8300095 | G74: -1.1900967 | H74: 0.56658331 | I74: 0.88713214 | J74: -0.69916096 | K74: 0.14730742 | L74: 0.43684916 | M74: -0.11727013 | N74: -0.022738248 | O74: 0.081409629 | P74: 0.011898812 | Q74: 0.16172667 | R74: 0.033109766 | S74: 0.02519681 | T74: 0.0072603242 | U74: -5.2215177e-16 | V74: 7.0603245e-16
B75: BL21-B1T2 | C75: 1.8677203 | D75: 2.5630646 | E75: -2.3586137 | F75: 0.93392399 | G75: -1.9399797 | H75: 0.63038631 | I75: -0.29707472 | J75: 0.46185995 | K75: -0.39428498 | L75: -0.24580701 | M75: 0.25371326 | N75: -0.14495614 | O75: -0.22276976 | P75: 0.028833442 | Q75: -0.13432962 | R75: -0.0056638679 | S75: -0.0061549626 | T75: -0.039663888 | U75: -6.4965394e-16 | V75: 1.2598429e-16
B76: BL21-B2T1 | C76: 0.68924594 | D76: 6.3721027 | E76: 0.003081603 | F76: -0.42156174 | G76: 0.70372283 | H76: -0.47237318 | I76: -0.4813004 | J76: 0.65671545 | K76: -0.53412798 | L76: -0.15747799 | M76: -0.048690063 | N76: 0.18470998 | O76: 0.29456376 | P76: 0.11518096 | Q76: 0.16682598 | R76: -0.048158182 | S76: 0.059473622 | T76: -0.0031576595 | U76: -1.6566609e-16 | V76: -4.4408921e-16
B77: BL21-B2T2 | C77: 1.5534848 | D77: 6.1993733 | E77: 1.0624052 | F77: -0.27955436 | G77: 0.64544284 | H77: -0.89279112 | I77: 0.2101483 | J77: -0.020428372 | K77: 1.0351905 | L77: -0.0035084185 | M77: 0.11583814 | N77: -0.26863815 | O77: -0.27045993 | P77: -0.090193216 | Q77: -0.086957376 | R77: 0.0041661312 | S77: -0.022157893 | T77: -0.022976074 | U77: -5.984796e-17 | V77: 8.6042284e-16
B78: BL_CFP-B1T1 | C78: 6.2353373 | D78: -2.8288912 | E78: 2.6721886 | F78: -1.1711866 | G78: 0.13761802 | H78: 0.90298367 | I78: 0.018945266 | J78: 0.92125641 | K78: -0.10798948 | L78: 0.30501829 | M78: -0.12736742 | N78: -0.10842909 | O78: -0.035555733 | P78: 0.035101127 | Q78: -0.013339005 | R78: -0.049709436 | S78: -0.040523835 | T78: -0.033509615 | U78: -5.2735594e-16 | V78: 1.2143064e-15
B79: BL_CFP-B1T2 | C79: 5.1337761 | D79: -3.5467924 | E79: 2.1328288 | F79: 0.5351675 | G79: -1.3607507 | H79: -1.0915604 | I79: -0.28515406 | J79: -0.45175422 | K79: 0.017295898 | L79: -0.43331622 | M79: 0.16409815 | N79: 0.011143756 | O79: -0.0051436532 | P79: 0.00012018157 | Q79: 0.09592229 | R79: 0.068530876 | S79: 0.058629579 | T79: -0.0044945185 | U79: -3.9204751e-16 | V79: 1.4033913e-15
B80: BL_CFP-B2T1 | C80: 4.0795269 | D80: -0.7400792 | E80: -1.1417223 | F80: 1.8283418 | G80: 1.3803703 | H80: 0.54856396 | I80: -0.46516304 | J80: -0.21248343 | K80: 0.13631969 | L80: 0.33013635 | M80: 0.31475641 | N80: 0.40972421 | O80: -0.2163321 | P80: -0.15059894 | Q80: 0.10131829 | R80: 0.079087357 | S80: -0.0074166798 | T80: -0.016032761 | U80: -4.4452289e-16 | V80: 1.1323407e-15
B81: BL_CFP-B2T2 | C81: 4.4731497 | D81: -0.7919329 | E81: -0.9808422 | F81: 1.1436834 | G81: 1.2321252 | H81: 0.22271326 | I81: -0.1347006 | J81: -0.8323303 | K81: -0.20305883 | L81: -0.17203513 | M81: -0.38552279 | N81: -0.3590551 | O81: 0.26058677 | P81: 0.073955565 | Q81: -0.10930235 | R81: -0.11802889 | S81: 0.011980483 | T81: -0.026251119 | U81: -7.3725748e-16 | V81: 1.0351962e-15
B82: BL_S1-B1T1 | C82: -1.6061674 | D82: -3.4835373 | E82: -1.8704869 | F82: -3.337058 | G82: 0.5857505 | H82: -0.093540621 | I82: -0.61193921 | J82: -0.055864765 | K82: 0.31931688 | L82: -0.38133841 | M82: 0.24661654 | N82: 0.068764741 | O82: 0.081338691 | P82: -0.086370594 | Q82: -0.020205518 | R82: -0.015240174 | S82: -0.020905264 | T82: -0.038736247 | U82: -6.7047062e-16 | V82: 3.014082e-16
B83: BL_S1-B1T2 | C83: -2.311176 | D83: -2.9050473 | E83: -0.86460398 | F83: 1.4052971 | G83: 0.11253218 | H83: 0.20618267 | I83: 0.80426525 | J83: 0.48424176 | K83: 0.76362989 | L83: -0.30458306 | M83: 0.18361369 | N83: -0.029617747 | O83: -0.0023089446 | P83: 0.20191485 | Q83: 0.15757248 | R83: -0.15126751 | S83: -0.0050197186 | T83: 0.025115267 | U83: -6.8283053e-16 | V83: 1.1681736e-15
B84: BL_S1-B2T1 | C84: -2.3994048 | D84: -2.9055693 | E84: -1.2439387 | F84: 0.057679732 | G84: -0.11243098 | H84: -1.2801827 | I84: -0.51004144 | J84: 0.21753676 | K84: -0.018871523 | L84: 0.77680017 | M84: -0.069697991 | N84: -0.16850446 | O84: -0.11539473 | P84: 0.26049657 | Q84: -0.041258087 | R84: 0.014636738 | S84: 0.031601482 | T84: 0.0050352095 | U84: -1.4398205e-16 | V84: 1.0447372e-15
B85: BL_S1-B2T2 | C85: -2.286414 | D85: -2.0570927 | E85: -0.79344478 | F85: 0.33535135 | G85: 0.66611064 | H85: -0.49512157 | I85: 0.99447254 | J85: 0.54017382 | K85: -0.55703816 | L85: -0.11081833 | M85: -0.22562678 | N85: -0.20597698 | O85: -0.056458914 | P85: -0.33229066 | Q85: 0.019025425 | R85: 0.11527034 | S85: 0.045689152 | T85: -0.036013191 | U85: -5.8893862e-16 | V85: 9.9486391e-16
... B93: POOLED-T4 | C93: -0.13309801 | D93: -0.096913917 | E93: 0.064368692 | F93: 0.05152458 | G93: -0.42264098 | H93: -0.30461342 | I93: 0.37272063 | J93: 0.021469018 | K93: 0.19046024 | L93: -0.049677951 | M93: -0.41844443 | N93: 0.63001521 | O93: 0.0027405188 | P93: 0.01252234 | Q93: -0.17589655 | R93: -0.039791534 | S93: 0.0044590948 | T93: -0.003960059 | U93: -8.7907112e-15 | V93: 5.2692226e-16
A95: Degradation
B96: Sample Name | C96: Dim.1 | D96: Dim.2 | E96: Dim.3 | F96: Dim.4 | G96: Dim.5 | H96: Dim.6 | I96: Dim.7 | J96: Dim.8 | K96: Dim.9 | L96: Dim.10 | M96: Dim.11 | N96: Dim.12 | O96: Dim.13 | P96: Dim.14 | Q96: Dim.15 | R96: Dim.16 | S96: Dim.17 | T96: Dim.18 | U96: Dim.19 | V96: Dim.20
B97: BL21-B1T1 | C97: -7.0719143 | D97: -5.217609 | E97: 4.3052538 | F97: 0.2690468 | G97: 3.7065037 | H97: 0.22840038 | I97: -0.17617434 | J97: 1.2337615 | K97: -0.49031977 | L97: 0.022391066 | M97: -0.14343177 | N97: 1.3957313 | O97: -0.47766674 | P97: -0.43550876 | Q97: -0.025822029 | R97: 0.27073607 | S97: -0.46601525 | T97: 0.031340415 | U97: -3.1225023e-16 | V97: -2.4771851e-15
B98: BL21-B1T2 | C98: -3.1204685 | D98: -6.1153679 | E98: 1.2747032 | F98: -2.5076326 | G98: 0.50110483 | H98: 3.7440942 | I98: 0.23054202 | J98: -0.58478582 | K98: 0.23129179 | L98: 0.29674714 | M98: 0.46324209 | N98: -1.1369432 | O98: -0.24693614 | P98: 0.28994924 | Q98: -0.61574619 | R98: -0.11582125 | S98: 0.52880309 | T98: 0.0032759169 | U98: -7.3205331e-16 | V98: -2.6714742e-15
B99: BL21-B2T1 | C99: -3.7191626 | D99: -7.9017976 | E99: -2.198054 | F99: 0.28078826 | G99: -2.1003554 | H99: -0.33344795 | I99: 2.4903423 | J99: -1.2104054 | K99: -0.74239774 | L99: 0.7077267 | M99: -1.4707468 | N99: -0.047148615 | O99: -0.080417779 | P99: -0.048052364 | Q99: 0.71227542 | R99: 0.23312536 | S99: -0.22365367 | T99: 0.098133662 | U99: -8.7777008e-16 | V99: -1.9706459e-15
B100: BL21-B2T2 | C100: -6.2951731 | D100: -7.5653714 | E100: 0.065263409 | F100: 1.2751291 | G100: -1.938603 | H100: -3.0565187 | I100: -2.5936638 | J100: -0.51171009 | K100: 0.95152926 | L100: 0.19356717 | M100: 0.39799702 | N100: -0.37380659 | O100: -0.22905899 | P100: 0.062442494 | Q100: -0.49943145 | R100: -0.036700928 | S100: 0.1898792 | T100: 0.0094134357 | U100: -5.1174343e-16 | V100: -2.9455605e-15
B101: BL_CFP-B1T1 | C101: -7.9393679 | D101: 7.0670615 | E101: -1.0152721 | F101: 2.224394 | G101: 2.6783676 | H101: 0.33410544 | I101: 0.2071007 | J101: -1.3714969 | K101: 2.0973664 | L101: 1.4293834 | M101: 0.0013682849 | N101: -0.11629909 | O101: 0.22105208 | P101: -0.14452624 | Q101: 0.34180291 | R101: 0.23607937 | S101: 0.19785943 | T101: 0.26703661 | U101: -8.8817842e-16 | V101: -2.3314684e-15
B102: BL_CFP-B1T2 | C102: -6.2367163 | D102: 6.1272652 | E102: -1.641556 | F102: 0.19822584 | G102: -0.90195866 | H102: 1.2707571 | I102: -2.4021141 | J102: 0.96577796 | K102: -1.743246 | L102: 0.63337225 | M102: -1.664738 | N102: -0.72718398 | O102: -0.18637363 | P102: 0.13287043 | Q102: -0.091910701 | R102: 0.08176249 | S102: -0.23793307 | T102: -0.1710476 | U102: -5.7592819e-16 | V102: -2.942091e-15
B103: BL_CFP-B2T1 | C103: -8.0579978 | D103: 4.4907296 | E103: -1.62306 | F103: -0.30523991 | G103: -0.49019054 | H103: -0.90572238 | I103: 2.0923533 | J103: 0.81117293 | K103: 0.5290536 | L103: -1.0343423 | M103: 0.96669017 | N103: -0.51564598 | O103: -1.2667527 | P103: 0.50434842 | Q103: -0.35381366 | R103: -0.11537325 | S103: -0.37335075 | T103: -0.43206824 | U103: -6.5919492e-16 | V103: -2.7200464e-15
B104: BL_CFP-B2T2 | C104: -6.3021839 | D104: 3.1401722 | E104: -1.6870623 | F104: 0.076644107 | G104: -2.5578118 | H104: 0.85692124 | I104: -0.070919397 | J104: -0.31658327 | K104: -1.3772832 | L104: -0.79521427 | M104: 1.314455 | N104: 1.6658921 | O104: 0.040462972 | P104: -0.61442093 | Q104: 0.037335186 | R104: -0.0027389639 | S104: 0.5311411 | T104: 0.40280956 | U104: -8.5348395e-16 | V104: -2.5014713e-15
B105: BL_S1-B1T1 | C105: 6.8638865 | D105: 3.3973653 | E105: 4.4853132 | F105: 3.790512 | G105: 0.22157074 | H105: -0.69009386 | I105: 0.89373626 | J105: -1.619769 | K105: -1.3724605 | L105: -0.27071816 | M105: -0.58697518 | N105: -0.3126475 | O105: -0.50304439 | P105: -0.10942376 | Q105: -0.51864148 | R105: -0.2913306 | S105: 0.36247389 | T105: -0.14529546 | U105: -9.0552565e-16 | V105: -2.167537e-15
B106: BL_S1-B1T2 | C106: 4.4110125 | D106: 3.3808461 | E106: 1.3644375 | F106: -2.2930087 | G106: -1.7725517 | H106: -0.62114841 | I106: 0.82568573 | J106: 0.14467439 | K106: 0.58790654 | L106: 0.76844003 | M106: -0.54012469 | N106: 0.76095061 | O106: 0.67086496 | P106: 0.60602563 | Q106: -1.2735224 | R106: 0.45057007 | S106: -0.33001373 | T106: 0.41737791 | U106: -6.5225603e-16 | V106: -2.3869795e-15
B107: BL_S1-B2T1 | C107: 6.1668349 | D107: 1.1596131 | E107: 2.5130384 | F107: 0.32030076 | G107: -2.6516953 | H107: 1.1509845 | I107: -0.47950831 | J107: 1.0203035 | K107: 1.9384541 | L107: -1.2960341 | M107: -0.70282484 | N107: -0.43003882 | O107: -0.73563977 | P107: -0.5920528 | Q107: 0.66816503 | R107: 0.052822081 | S107: -0.12121073 | T107: 0.43357505 | U107: -3.6776138e-16 | V107: -2.3800406e-15
B108: BL_S1-B2T2 | C108: 4.8642208 | D108: 2.8635876 | E108: 2.7529367 | F108: -3.7378266 | G108: -1.1296374 | H108: -0.76783465 | I108: -0.62508832 | J108: -0.73174957 | K108: -0.19913292 | L108: 1.759175 | M108: 0.93723563 | N108: 0.37236256 | O108: -0.44049167 | P108: 0.045570711 | Q108: 0.92591115 | R108: -0.021746559 | S108: -0.0019299046 | T108: -0.49680695 | U108: -5.2041704e-16 | V108: -2.5257574e-15
... B116: POOLED-T4 | C116: -0.9336208 | D116: 0.47451145 | E116: 0.92473669 | F116: -0.3707008 | G116: 0.28930412 | H116: -0.082883437 | I116: -0.14204298 | J116: -0.91386343 | K116: -0.57090821 | L116: -0.98792171 | M116: 0.9769656 | N116: -1.146957 | O116: 1.3010643 | P116: -0.54325624 | Q116: 0.12941855 | R116: 0.064221432 | S116: -0.64412098 | T116: 0.0065748006 | U116: -2.2854982e-14 | V116: -2.6593311e-15
A118: Homeostasis
