Workbook

Sheet Fig. 1B
A1: Figure 1B: BL-7SWCE exhibits a higher yield than conventional cell lysates in batch CFPS reactions.
C3: 50x dilution
B4: Replicate | C4: BL-7SWCE | D4: BL-PWCE | E4: BL-EWCE | F4: S30 | I4: Replicate | J4: BL-7SWCE | K4: BL-PWCE | L4: BL-EWCE | M4: S30
B5: 1 | C5: 18166 | D5: 7966 | E5: 7920 | F5: 8439 | G5: Fluorescence (a.u) | I5: 1 | J5: 1588.7254 | K5: 690.15198 | L5: 686.09959 | M5: 731.82112 | N5: deGFP(ug/mL)
C6: 17070 | D6: 7768 | E6: 7442 | F6: 8232 | G6: Fluorescence (a.u) | J6: 1492.1728 | K6: 672.70908 | L6: 643.98997 | M6: 713.58536 | N6: deGFP(ug/mL)
C7: 17477 | D7: 8196 | E7: 8203 | F7: 8350 | G7: Fluorescence (a.u) | J7: 1528.0277 | K7: 710.41393 | L7: 711.0306 | M7: 723.98062 | N7: deGFP(ug/mL)
C8: 16934 | D8: 7712 | E8: 8136 | F8: 8030 | G8: Fluorescence (a.u) | J8: 1480.1918 | K8: 667.77574 | L8: 705.1282 | M8: 695.79009 | N8: deGFP(ug/mL)
B9: 2 | C9: 17256 | D9: 4341 | E9: 8568 | F9: 7186 | G9: Fluorescence (a.u) | I9: 2 | J9: 1508.5586 | K9: 370.80602 | L9: 743.18543 | M9: 621.43754 | N9: deGFP(ug/mL)
C10: 17133 | D10: 4226 | E10: 8275 | F10: 6942 | G10: Fluorescence (a.u) | J10: 1497.7228 | K10: 360.67505 | L10: 717.37347 | M10: 599.94225 | N10: deGFP(ug/mL)
C11: 17419 | D11: 4310 | E11: 8775 | F11: 7327 | G11: Fluorescence (a.u) | J11: 1522.9181 | K11: 368.07506 | L11: 761.42118 | M11: 633.85899 | N11: deGFP(ug/mL)
C12: 17237 | D12: 4095 | E12: 8203 | F12: 7154 | G12: Fluorescence (a.u) | J12: 1506.8848 | K12: 349.13455 | L12: 711.0306 | M12: 618.61848 | N12: deGFP(ug/mL)
B13: 3 | C13: 17668 | D13: 4653 | E13: 8396 | F13: 7598 | G13: Fluorescence (a.u) | I13: 3 | J13: 1544.8539 | K13: 398.2918 | L13: 728.03301 | M13: 657.73286 | N13: deGFP(ug/mL)
C14: 16571 | D14: 4491 | E14: 8203 | F14: 7420 | G14: Fluorescence (a.u) | J14: 1448.2132 | K14: 384.02034 | L14: 711.0306 | M14: 642.05187 | N14: deGFP(ug/mL)
C15: 17609 | D15: 4622 | E15: 8321 | F15: 8047 | G15: Fluorescence (a.u) | J15: 1539.6563 | K15: 395.56084 | L15: 721.42586 | M15: 697.28771 | N15: deGFP(ug/mL)
C16: 16758 | D16: 4465 | E16: 7848 | F16: 7351 | G16: Fluorescence (a.u) | J16: 1464.687 | K16: 381.72986 | L16: 679.75672 | M16: 635.97328 | N16: deGFP(ug/mL)
B18: Rep 1 Avg | C18: =AVERAGE(C5:C8) -> 17411.75 | D18: =AVERAGE(D5:D8) -> 7910.5 | E18: =AVERAGE(E5:E8) -> 7925.25 | F18: =AVERAGE(F5:F8) -> 8262.75 | G18: Fluorescence (a.u) | I18: Rep 1 Avg | J18: =AVERAGE(J5:J8)/1000 -> 1.5222794 | K18: =AVERAGE(K5:K8)/1000 -> 0.68526268 | L18: =AVERAGE(L5:L8)/1000 -> 0.68656209 | M18: =AVERAGE(M5:M8)/1000 -> 0.7162943 | N18: deGFP(mg/mL)
B19: Rep 2 Avg | C19: =AVERAGE(C9:C12) -> 17261.25 | D19: =AVERAGE(D9:D12) -> 4243 | E19: =AVERAGE(E9:E12) -> 8455.25 | F19: =AVERAGE(F9:F12) -> 7152.25 | G19: Fluorescence (a.u) | I19: Rep 2 Avg | J19: =AVERAGE(J9:J12)/1000 -> 1.5090211 | K19: =AVERAGE(K9:K12)/1000 -> 0.36217267 | L19: =AVERAGE(L9:L12)/1000 -> 0.73325267 | M19: =AVERAGE(M9:M12)/1000 -> 0.61846432 | N19: deGFP(mg/mL)
B20: Rep 3 Avg | C20: =AVERAGE(C13:C16) -> 17151.5 | D20: =AVERAGE(D13:D16) -> 4557.75 | E20: =AVERAGE(E13:E16) -> 8192 | F20: =AVERAGE(F13:F16) -> 7604 | G20: Fluorescence (a.u) | I20: Rep 3 Avg | J20: =AVERAGE(J13:J16)/1000 -> 1.4993526 | K20: =AVERAGE(K13:K16)/1000 -> 0.38990071 | L20: =AVERAGE(L13:L16)/1000 -> 0.71006155 | M20: =AVERAGE(M13:M16)/1000 -> 0.65826143 | N20: deGFP(mg/mL)
B22: Overall Avg | C22: =AVERAGE(C5:C16) -> 17274.833 | D22: =AVERAGE(D5:D16) -> 5570.4167 | E22: =AVERAGE(E5:E16) -> 8190.8333 | F22: =AVERAGE(F5:F16) -> 7673 | G22: Fluorescence (a.u) | I22: Overall Avg | J22: =AVERAGE(J5:J16)/1000 -> 1.5102177 | K22: =AVERAGE(K5:K16)/1000 -> 0.47911202 | L22: =AVERAGE(L5:L16)/1000 -> 0.70995877 | M22: =AVERAGE(M5:M16)/1000 -> 0.66434001 | N22: deGFP(mg/mL)
B23: Overall STD | C23: =STDEV(C5:C16) -> 433.23368 | D23: =STDEV(D5:D16) -> 1738.8847 | E23: =STDEV(E5:E16) -> 344.39851 | F23: =STDEV(F5:F16) -> 518.63597 | G23: Fluorescence (a.u) | I23: Overall STD | J23: =STDEV(J5:J16)/1000 -> 0.03816591 | K23: =STDEV(K5:K16)/1000 -> 0.1531878 | L23: =STDEV(L5:L16)/1000 -> 0.030339937 | M23: =STDEV(M5:M16)/1000 -> 0.045689462 | N23: deGFP(mg/mL)

Sheet Fig. 1C
A1: Figure 1C: BL-7SWCE exhibit ~2-fold more deGFP expression than the controls in semi-continuous exchange reactions.
C3: 150x dilution
B4: Replicate | C4: BL-7SWCE | D4: BL-PWCE | E4: BL-EWCE | H4: Replicate | I4: BL-7SWCE | J4: BL-PWCE | K4: BL-EWCE
B5: 1 | C5: 19997 | D5: 10941 | E5: 11662 | F5: Fluorescence (a.u) | H5: 1 | I5: 5296.4102 | J5: 3074.1465 | K5: 2881.9147 | L5: deGFP(ug/mL)
C6: 18870 | D6: 10937 | E6: 11097 | F6: Fluorescence (a.u) | I6: 4995.9313 | J6: 2923.5072 | K6: 2880.8482 | L6: deGFP(ug/mL)
C7: 19867 | D7: 11008 | E7: 11641 | F7: Fluorescence (a.u) | I7: 5261.7498 | J7: 3068.5475 | K7: 2899.7781 | L7: deGFP(ug/mL)
C8: 18862 | D8: 10568 | E8: 11088 | F8: Fluorescence (a.u) | I8: 4993.7984 | J8: 2921.1076 | K8: 2782.4661 | L8: deGFP(ug/mL)
B9: 2 | C9: 16236 | D9: 6380 | E9: 8158 | F9: Fluorescence (a.u) | H9: 2 | I9: 4293.6587 | J9: 2139.9159 | K9: 1665.8686 | L9: deGFP(ug/mL)
C10: 15429 | D10: 6374 | E10: 7786 | F10: Fluorescence (a.u) | I10: 4078.4977 | J10: 2040.7339 | K10: 1664.2688 | L10: deGFP(ug/mL)
C11: 16184 | D11: 6361 | E11: 8145 | F11: Fluorescence (a.u) | I11: 4279.7945 | J11: 2136.4499 | K11: 1660.8028 | L11: deGFP(ug/mL)
C12: 15317 | D12: 6142 | E12: 7800 | F12: Fluorescence (a.u) | I12: 4048.6364 | J12: 2044.4666 | K12: 1602.4134 | L12: deGFP(ug/mL)
B13: 3 | C13: 19777 | D13: 10324 | E13: 10857 | F13: Fluorescence (a.u) | H13: 3 | I13: 5237.7541 | J13: 2859.5188 | K13: 2717.4112 | L13: deGFP(ug/mL)
C14: 18763 | D14: 10302 | E14: 10357 | F14: Fluorescence (a.u) | I14: 4967.4032 | J14: 2726.2096 | K14: 2711.5456 | L14: deGFP(ug/mL)
C15: 19874 | D15: 10274 | E15: 10826 | F15: Fluorescence (a.u) | I15: 5263.6161 | J15: 2851.2536 | K15: 2704.0803 | L15: deGFP(ug/mL)
C16: 18857 | D16: 9959 | E16: 10372 | F16: Fluorescence (a.u) | I16: 4992.4653 | J16: 2730.2089 | K16: 2620.0955 | L16: deGFP(ug/mL)
B18: Rep 1 Avg | C18: =AVERAGE(C5:C8) -> 19399 | D18: =AVERAGE(D5:D8) -> 10863.5 | E18: =AVERAGE(E5:E8) -> 11372 | F18: Fluorescence (a.u) | H18: Rep 1 Avg | I18: =AVERAGE(I5:I8)/1000 -> 5.1369724 | J18: =AVERAGE(J5:J8)/1000 -> 2.9968272 | K18: =AVERAGE(K5:K8)/1000 -> 2.8612518 | L18: deGFP(mg/mL)
B19: Rep 2 Avg | C19: =AVERAGE(C9:C12) -> 15791.5 | D19: =AVERAGE(D9:D12) -> 6314.25 | E19: =AVERAGE(E9:E12) -> 7972.25 | F19: Fluorescence (a.u) | H19: Rep 2 Avg | I19: =AVERAGE(I9:I12)/1000 -> 4.1751468 | J19: =AVERAGE(J9:J12)/1000 -> 2.0903916 | K19: =AVERAGE(K9:K12)/1000 -> 1.6483384 | L19: deGFP(mg/mL)
B20: Rep 3 Avg | C20: =AVERAGE(C13:C16) -> 19317.75 | D20: =AVERAGE(D13:D16) -> 10214.75 | E20: =AVERAGE(E13:E16) -> 10603 | F20: Fluorescence (a.u) | H20: Rep 3 Avg | I20: =AVERAGE(I13:I16)/1000 -> 5.1153097 | J20: =AVERAGE(J13:J16)/1000 -> 2.7917977 | K20: =AVERAGE(K13:K16)/1000 -> 2.6882831 | L20: deGFP(mg/mL)
B22: Overall Avg | C22: =AVERAGE(C5:C16) -> 18169.417 | D22: =AVERAGE(D5:D16) -> 9130.8333 | E22: =AVERAGE(E5:E16) -> 9982.4167 | F22: Fluorescence (a.u) | H22: Overall Avg | I22: =AVERAGE(I5:I16)/1000 -> 4.809143 | J22: =AVERAGE(J5:J16)/1000 -> 2.6263388 | K22: =AVERAGE(K5:K16)/1000 -> 2.3992911 | L22: deGFP(mg/mL)
B23: Overall STD | C23: =STDEV(C5:C16) -> 1829.8913 | D23: =STDEV(D5:D16) -> 2103.8585 | E23: =STDEV(E5:E16) -> 1540.2748 | F23: Fluorescence (a.u) | H23: Overall STD | I23: =STDEV(I5:I16)/1000 -> 0.48788253 | J23: =STDEV(J5:J16)/1000 -> 0.41066547 | K23: =STDEV(K5:K16)/1000 -> 0.56092722 | L23: deGFP(mg/mL)

Sheet Fig. 1D
A1: Figure 1D: Time series showing the expression dynamics of BL-7SWCE compared to controls under semi-continuous agitation.
B3: Time (s) | C3: 0 | D3: 618.6 | E3: 1237.1 | F3: 1855.7 | G3: 2474.3 | H3: 3092.8 | I3: 3711.4 | J3: 4330 | K3: 4948.6 | L3: 5567.2 | M3: 6185.7 | N3: 6804.3 | O3: 7422.9 | P3: 8041.4 | Q3: 8660 | R3: 9278.6 | S3: 9897.2 | T3: 10515.7 | U3: 11134.3 | V3: 11752.9 | W3: 12371.5 | X3: 12990 | Y3: 13608.6 | Z3: 14227.1 | AA3: 14845.7 | AB3: 15464.3 | AC3: 16082.8 | AD3: 16701.5 | AE3: 17320.1 | AF3: 17938.6 | AG3: 18557.2 | AH3: 19175.8 | AI3: 19794.4 | AJ3: 20412.9 | AK3: 21031.5 | AL3: 21650.1 | AM3: 22268.7
B5: Replicate
A6: BL-7SWCE | B6: 1 | C6: 9 | D6: 16 | E6: 155 | F6: 560 | G6: 1137 | H6: 1778 | I6: 2420 | J6: 3016 | K6: 3560 | L6: 4032 | M6: 4478 | N6: 4862 | O6: 5194 | P6: 5503 | Q6: 5790 | R6: 6051 | S6: 6282 | T6: 6485 | U6: 6665 | V6: 6828 | W6: 6966 | X6: 7080 | Y6: 7190 | Z6: 7299 | AA6: 7371 | AB6: 7451 | AC6: 7547 | AD6: 7603 | AE6: 7675 | AF6: 7726 | AG6: 7770 | AH6: 7812 | AI6: 7841 | AJ6: 7860 | AK6: 7897 | AL6: 7911 | AM6: 7923 | AN6: Fluorescence (a.u)
B7: 2 | C7: 9 | D7: 15 | E7: 131 | F7: 521 | G7: 1094 | H7: 1754 | I7: 2408 | J7: 3026 | K7: 3596 | L7: 4110 | M7: 4569 | N7: 4989 | O7: 5329 | P7: 5690 | Q7: 5994 | R7: 6281 | S7: 6515 | T7: 6750 | U7: 6963 | V7: 7155 | W7: 7297 | X7: 7434 | Y7: 7544 | Z7: 7644 | AA7: 7735 | AB7: 7834 | AC7: 7904 | AD7: 7994 | AE7: 8032 | AF7: 8091 | AG7: 8140 | AH7: 8203 | AI7: 8243 | AJ7: 8264 | AK7: 8295 | AL7: 8323 | AM7: 8353 | AN7: Fluorescence (a.u)
B8: 3 | C8: 9 | D8: 14 | E8: 129 | F8: 510 | G8: 1071 | H8: 1715 | I8: 2352 | J8: 2959 | K8: 3504 | L8: 3982 | M8: 4429 | N8: 4829 | O8: 5181 | P8: 5502 | Q8: 5805 | R8: 6061 | S8: 6302 | T8: 6513 | U8: 6713 | V8: 6874 | W8: 7023 | X8: 7142 | Y8: 7253 | Z8: 7355 | AA8: 7444 | AB8: 7518 | AC8: 7577 | AD8: 7648 | AE8: 7708 | AF8: 7750 | AG8: 7808 | AH8: 7839 | AI8: 7867 | AJ8: 7894 | AK8: 7922 | AL8: 7961 | AM8: 7987 | AN8: Fluorescence (a.u)
B9: 4 | C9: 9 | D9: 13 | E9: 114 | F9: 457 | G9: 983 | H9: 1593 | I9: 2199 | J9: 2782 | K9: 3313 | L9: 3794 | M9: 4242 | N9: 4629 | O9: 4975 | P9: 5290 | Q9: 5571 | R9: 5854 | S9: 6084 | T9: 6298 | U9: 6502 | V9: 6658 | W9: 6812 | X9: 6923 | Y9: 7028 | Z9: 7118 | AA9: 7197 | AB9: 7269 | AC9: 7336 | AD9: 7399 | AE9: 7439 | AF9: 7482 | AG9: 7528 | AH9: 7564 | AI9: 7594 | AJ9: 7621 | AK9: 7643 | AL9: 7660 | AM9: 7667 | AN9: Fluorescence (a.u)
B10: Replicate
A11: BL-PWCE | B11: 1 | C11: 10 | D11: 11 | E11: 36 | F11: 74 | G11: 116 | H11: 160 | I11: 202 | J11: 248 | K11: 296 | L11: 348 | M11: 405 | N11: 468 | O11: 535 | P11: 607 | Q11: 682 | R11: 761 | S11: 843 | T11: 928 | U11: 1017 | V11: 1103 | W11: 1195 | X11: 1283 | Y11: 1363 | Z11: 1443 | AA11: 1514 | AB11: 1580 | AC11: 1635 | AD11: 1684 | AE11: 1722 | AF11: 1754 | AG11: 1780 | AH11: 1805 | AI11: 1823 | AJ11: 1835 | AK11: 1845 | AL11: 1850 | AM11: 1862 | AN11: Fluorescence (a.u)
B12: 2 | C12: 9 | D12: 11 | E12: 33 | F12: 73 | G12: 119 | H12: 171 | I12: 228 | J12: 291 | K12: 361 | L12: 439 | M12: 528 | N12: 621 | O12: 722 | P12: 828 | Q12: 942 | R12: 1056 | S12: 1174 | T12: 1295 | U12: 1413 | V12: 1526 | W12: 1634 | X12: 1730 | Y12: 1823 | Z12: 1901 | AA12: 1978 | AB12: 2037 | AC12: 2085 | AD12: 2135 | AE12: 2168 | AF12: 2196 | AG12: 2217 | AH12: 2240 | AI12: 2257 | AJ12: 2263 | AK12: 2268 | AL12: 2271 | AM12: 2286 | AN12: Fluorescence (a.u)
B13: 3 | C13: 10 | D13: 11 | E13: 29 | F13: 63 | G13: 101 | H13: 142 | I13: 185 | J13: 232 | K13: 282 | L13: 335 | M13: 395 | N13: 463 | O13: 536 | P13: 613 | Q13: 695 | R13: 784 | S13: 880 | T13: 979 | U13: 1083 | V13: 1184 | W13: 1292 | X13: 1395 | Y13: 1494 | Z13: 1588 | AA13: 1676 | AB13: 1757 | AC13: 1829 | AD13: 1889 | AE13: 1945 | AF13: 1996 | AG13: 2033 | AH13: 2073 | AI13: 2099 | AJ13: 2128 | AK13: 2142 | AL13: 2167 | AM13: 2179 | AN13: Fluorescence (a.u)
B14: 4 | C14: 9 | D14: 11 | E14: 33 | F14: 70 | G14: 109 | H14: 149 | I14: 188 | J14: 229 | K14: 271 | L14: 316 | M14: 362 | N14: 411 | O14: 460 | P14: 514 | Q14: 565 | R14: 619 | S14: 672 | T14: 723 | U14: 781 | V14: 833 | W14: 889 | X14: 941 | Y14: 995 | Z14: 1043 | AA14: 1094 | AB14: 1141 | AC14: 1180 | AD14: 1211 | AE14: 1242 | AF14: 1265 | AG14: 1283 | AH14: 1300 | AI14: 1309 | AJ14: 1315 | AK14: 1327 | AL14: 1329 | AM14: 1333 | AN14: Fluorescence (a.u)
B15: Replicate
A16: BL-EWCE | B16: 1 | C16: 9 | D16: 11 | E16: 44 | F16: 118 | G16: 204 | H16: 290 | I16: 370 | J16: 448 | K16: 520 | L16: 591 | M16: 654 | N16: 718 | O16: 774 | P16: 831 | Q16: 879 | R16: 925 | S16: 965 | T16: 1007 | U16: 1039 | V16: 1063 | W16: 1092 | X16: 1109 | Y16: 1126 | Z16: 1143 | AA16: 1157 | AB16: 1166 | AC16: 1177 | AD16: 1183 | AE16: 1190 | AF16: 1194 | AG16: 1194 | AH16: 1202 | AI16: 1210 | AJ16: 1208 | AK16: 1207 | AL16: 1208 | AM16: 1215 | AN16: Fluorescence (a.u)
B17: 2 | C17: 9 | D17: 10 | E17: 45 | F17: 125 | G17: 222 | H17: 317 | I17: 409 | J17: 496 | K17: 578 | L17: 653 | M17: 727 | N17: 790 | O17: 857 | P17: 915 | Q17: 969 | R17: 1019 | S17: 1065 | T17: 1102 | U17: 1141 | V17: 1169 | W17: 1197 | X17: 1220 | Y17: 1238 | Z17: 1256 | AA17: 1271 | AB17: 1279 | AC17: 1290 | AD17: 1298 | AE17: 1310 | AF17: 1311 | AG17: 1315 | AH17: 1322 | AI17: 1323 | AJ17: 1324 | AK17: 1327 | AL17: 1330 | AM17: 1334 | AN17: Fluorescence (a.u)
B18: 3 | C18: 10 | D18: 11 | E18: 52 | F18: 147 | G18: 254 | H18: 358 | I18: 450 | J18: 534 | K18: 614 | L18: 685 | M18: 752 | N18: 819 | O18: 875 | P18: 928 | Q18: 976 | R18: 1025 | S18: 1061 | T18: 1100 | U18: 1136 | V18: 1160 | W18: 1183 | X18: 1203 | Y18: 1221 | Z18: 1235 | AA18: 1248 | AB18: 1253 | AC18: 1262 | AD18: 1272 | AE18: 1276 | AF18: 1283 | AG18: 1290 | AH18: 1283 | AI18: 1294 | AJ18: 1294 | AK18: 1294 | AL18: 1297 | AM18: 1296 | AN18: Fluorescence (a.u)
B19: 4 | C19: 8 | D19: 10 | E19: 43 | F19: 121 | G19: 216 | H19: 314 | I19: 411 | J19: 511 | K19: 608 | L19: 705 | M19: 802 | N19: 897 | O19: 982 | P19: 1065 | Q19: 1147 | R19: 1224 | S19: 1295 | T19: 1365 | U19: 1430 | V19: 1479 | W19: 1531 | X19: 1582 | Y19: 1627 | Z19: 1667 | AA19: 1701 | AB19: 1738 | AC19: 1767 | AD19: 1797 | AE19: 1823 | AF19: 1849 | AG19: 1875 | AH19: 1895 | AI19: 1913 | AJ19: 1936 | AK19: 1954 | AL19: 1976 | AM19: 1990 | AN19: Fluorescence (a.u)
C23: Time (h) | D23: 0 | E23: 0.17183333 | F23: 0.34363889 | G23: 0.51547222 | H23: 0.68730556 | I23: 0.85911111 | J23: 1.0309444 | K23: 1.2027778 | L23: 1.3746111 | M23: 1.5464444 | N23: 1.71825 | O23: 1.8900833 | P23: 2.0619167 | Q23: 2.2337222 | R23: 2.4055556 | S23: 2.5773889 | T23: 2.7492222 | U23: 2.9210278 | V23: 3.0928611 | W23: 3.2646944 | X23: 3.4365278 | Y23: 3.6083333 | Z23: 3.7801667 | AA23: 3.9519722 | AB23: 4.1238056 | AC23: 4.2956389 | AD23: 4.4674444 | AE23: 4.6393056 | AF23: 4.8111389 | AG23: 4.9829444 | AH23: 5.1547778 | AI23: 5.3266111 | AJ23: 5.4984444 | AK23: 5.67025 | AL23: 5.8420833 | AM23: 6.0139167
B25: Mean values | C25: BL-7SWCE | D25: 9 | E25: 14.5 | F25: 132.25 | G25: 512 | H25: 1071.25 | I25: 1710 | J25: 2344.75 | K25: 2945.75 | L25: 3493.25 | M25: 3979.5 | N25: 4429.5 | O25: 4827.25 | P25: 5169.75 | Q25: 5496.25 | R25: 5790 | S25: 6061.75 | T25: 6295.75 | U25: 6511.5 | V25: 6710.75 | W25: 6878.75 | X25: 7024.5 | Y25: 7144.75 | Z25: 7253.75 | AA25: 7354 | AB25: 7436.75 | AC25: 7518 | AD25: 7591 | AE25: 7661 | AF25: 7713.5 | AG25: 7762.25 | AH25: 7811.5 | AI25: 7854.5 | AJ25: 7886.25 | AK25: 7909.75 | AL25: 7939.25 | AM25: 7963.75 | AN25: Fluorescence (a.u)
C26: BL-PWCE | D26: 9.5 | E26: 11 | F26: 32.75 | G26: 70 | H26: 111.25 | I26: 155.5 | J26: 200.75 | K26: 250 | L26: 302.5 | M26: 359.5 | N26: 422.5 | O26: 490.75 | P26: 563.25 | Q26: 640.5 | R26: 721 | S26: 805 | T26: 892.25 | U26: 981.25 | V26: 1073.5 | W26: 1161.5 | X26: 1252.5 | Y26: 1337.25 | Z26: 1418.75 | AA26: 1493.75 | AB26: 1565.5 | AC26: 1628.75 | AD26: 1682.25 | AE26: 1729.75 | AF26: 1769.25 | AG26: 1802.75 | AH26: 1828.25 | AI26: 1854.5 | AJ26: 1872 | AK26: 1885.25 | AL26: 1895.5 | AM26: 1904.25 | AN26: Fluorescence (a.u)
C27: BL-EWCE | D27: 9 | E27: 10.5 | F27: 46 | G27: 127.75 | H27: 224 | I27: 319.75 | J27: 410 | K27: 497.25 | L27: 580 | M27: 658.5 | N27: 733.75 | O27: 806 | P27: 872 | Q27: 934.75 | R27: 992.75 | S27: 1048.25 | T27: 1096.5 | U27: 1143.5 | V27: 1186.5 | W27: 1217.75 | X27: 1250.75 | Y27: 1278.5 | Z27: 1303 | AA27: 1325.25 | AB27: 1344.25 | AC27: 1359 | AD27: 1374 | AE27: 1387.5 | AF27: 1399.75 | AG27: 1409.25 | AH27: 1418.5 | AI27: 1425.5 | AJ27: 1435 | AK27: 1440.5 | AL27: 1445.5 | AM27: 1452.75 | AN27: Fluorescence (a.u)
B30: Upper B | C30: BL-7SWCE | D30: 9 | E30: 16.569406 | F30: 159.43337 | G30: 580.09573 | H30: 1175.2518 | I30: 1841.7742 | J30: 2507.5868 | K30: 3127.0204 | L30: 3695.2028 | M30: 4194.9629 | N30: 4650.392 | O30: 5066.2225 | P30: 5403.8816 | Q30: 5758.2678 | R30: 6067.3344 | S30: 6341.4596 | T30: 6578.1868 | U30: 6808.7593 | V30: 7016.721 | W30: 7209.3926 | X30: 7348.8586 | Y30: 7487.3461 | Z30: 7599.1274 | AA30: 7703.7505 | AB30: 7796.1467 | AC30: 7895.4565 | AD30: 7967.0698 | AE30: 8056.9721 | AF30: 8104.2892 | AG30: 8163.609 | AH30: 8214.9217 | AI30: 8276.4651 | AJ30: 8315.4698 | AK30: 8335.4574 | AL30: 8369.7708 | AM30: 8401.8729
C31: BL-PWCE | D31: 10.425467 | E31: 11 | F31: 37.354139 | G31: 77.961165 | H31: 124.09866 | I31: 175.88129 | J31: 232.19885 | K31: 295.80826 | L31: 367.13045 | M31: 447.0288 | N31: 539.0243 | O31: 635.94139 | P31: 742.23332 | Q31: 853.63278 | R31: 975.08063 | S31: 1097.6202 | T31: 1226.5328 | U31: 1360.5477 | V31: 1491.601 | W31: 1619.303 | X31: 1744.428 | Y31: 1858.7607 | Z31: 1967.6327 | AA31: 2064.6112 | AB31: 2156.1559 | AC31: 2230.9385 | AD31: 2294.8997 | AE31: 2357.9658 | AF31: 2403.7954 | AG31: 2446.294 | AH31: 2477.8424 | AI31: 2512.996 | AJ31: 2538.8011 | AK31: 2558.5757 | AL31: 2566.231 | AM31: 2582.6863
C32: BL-EWCE | D32: 10.308808 | E32: 11.425467 | F32: 52.544038 | G32: 148.82851 | H32: 258.22976 | I32: 364.98204 | J32: 462.36866 | K32: 555.53787 | L32: 648.90844 | M32: 738.38552 | N32: 832.54871 | O32: 924.69809 | P32: 1009.0753 | Q32: 1090.0651 | R32: 1172.1492 | S32: 1249.8972 | T32: 1321.1941 | U32: 1390.6343 | V32: 1457.3773 | W32: 1507.3349 | X32: 1559.3911 | Y32: 1612.1368 | Z32: 1658.1357 | AA32: 1698.8323 | AB32: 1733.5655 | AC32: 1771.3533 | AD32: 1800.9783 | AE32: 1832.1682 | AF32: 1859.2372 | AG32: 1885.937 | AH32: 1913.4447 | AI32: 1933.5812 | AJ32: 1951.5514 | AK32: 1975.8415 | AL32: 1994.9256 | AM32: 2017.9812
B34: Lower B | C34: BL-7SWCE | D34: 9 | E34: 12.430594 | F34: 105.06663 | G34: 443.90427 | H34: 967.24817 | I34: 1578.2258 | J34: 2181.9132 | K34: 2764.4796 | L34: 3291.2972 | M34: 3764.0371 | N34: 4208.608 | O34: 4588.2775 | P34: 4935.6184 | Q34: 5234.2322 | R34: 5512.6656 | S34: 5782.0404 | T34: 6013.3132 | U34: 6214.2407 | V34: 6404.779 | W34: 6548.1074 | X34: 6700.1414 | Y34: 6802.1539 | Z34: 6908.3726 | AA34: 7004.2495 | AB34: 7077.3533 | AC34: 7140.5435 | AD34: 7214.9302 | AE34: 7265.0279 | AF34: 7322.7108 | AG34: 7360.891 | AH34: 7408.0783 | AI34: 7432.5349 | AJ34: 7457.0302 | AK34: 7484.0426 | AL34: 7508.7292 | AM34: 7525.6271
C35: BL-PWCE | D35: 8.5745333 | E35: 11 | F35: 28.145861 | G35: 62.038835 | H35: 98.401336 | I35: 135.11871 | J35: 169.30115 | K35: 204.19174 | L35: 237.86955 | M35: 271.9712 | N35: 305.9757 | O35: 345.55861 | P35: 384.26668 | Q35: 427.36722 | R35: 466.91937 | S35: 512.37979 | T35: 557.9672 | U35: 601.95231 | V35: 655.39899 | W35: 703.69698 | X35: 760.57203 | Y35: 815.73927 | Z35: 869.86731 | AA35: 922.88877 | AB35: 974.84415 | AC35: 1026.5615 | AD35: 1069.6003 | AE35: 1101.5342 | AF35: 1134.7046 | AG35: 1159.206 | AH35: 1178.6576 | AI35: 1196.004 | AJ35: 1205.1989 | AK35: 1211.9243 | AL35: 1224.769 | AM35: 1225.8137
C36: BL-EWCE | D36: 7.6911925 | E36: 9.5745333 | F36: 39.455962 | G36: 106.67149 | H36: 189.77024 | I36: 274.51796 | J36: 357.63134 | K36: 438.96213 | L36: 511.09156 | M36: 578.61448 | N36: 634.95129 | O36: 687.30191 | P36: 734.92467 | Q36: 779.43488 | R36: 813.35085 | S36: 846.60283 | T36: 871.80592 | U36: 896.36574 | V36: 915.62269 | W36: 928.16506 | X36: 942.10895 | Y36: 944.86317 | Z36: 947.8643 | AA36: 951.66769 | AB36: 954.93449 | AC36: 946.6467 | AD36: 947.02173 | AE36: 942.83181 | AF36: 940.26279 | AG36: 932.56302 | AH36: 923.55527 | AI36: 917.4188 | AJ36: 918.44864 | AK36: 905.15853 | AL36: 896.07436 | AM36: 887.51882
B38: CI | C38: BL-7SWCE | D38: 0 | E38: 2.0694064 | F38: 27.183368 | G38: 68.095734 | H38: 104.00183 | I38: 131.77423 | J38: 162.83677 | K38: 181.27043 | L38: 201.95275 | M38: 215.46287 | N38: 220.89205 | O38: 238.97254 | P38: 234.13164 | Q38: 262.01782 | R38: 277.33443 | S38: 279.70957 | T38: 282.43682 | U38: 297.25926 | V38: 305.97102 | W38: 330.64264 | X38: 324.35857 | Y38: 342.59615 | Z38: 345.37735 | AA38: 349.75049 | AB38: 359.39667 | AC38: 377.45655 | AD38: 376.06985 | AE38: 395.97214 | AF38: 390.78919 | AG38: 401.35895 | AH38: 403.42174 | AI38: 421.9651 | AJ38: 429.21978 | AK38: 425.70737 | AL38: 430.52084 | AM38: 438.12295
C39: BL-PWCE | D39: 0.92546667 | E39: 0 | F39: 4.6041385 | G39: 7.9611653 | H39: 12.848664 | I39: 20.381289 | J39: 31.44885 | K39: 45.808263 | L39: 64.630447 | M39: 87.528796 | N39: 116.5243 | O39: 145.19139 | P39: 178.98332 | Q39: 213.13278 | R39: 254.08063 | S39: 292.62021 | T39: 334.2828 | U39: 379.29769 | V39: 418.10101 | W39: 457.80302 | X39: 491.92797 | Y39: 521.51073 | Z39: 548.88269 | AA39: 570.86123 | AB39: 590.65585 | AC39: 602.18854 | AD39: 612.64967 | AE39: 628.21585 | AF39: 634.54543 | AG39: 643.54396 | AH39: 649.5924 | AI39: 658.49604 | AJ39: 666.80114 | AK39: 673.32566 | AL39: 670.73097 | AM39: 678.43635
C40: BL-EWCE | D40: 1.3088075 | E40: 0.92546667 | F40: 6.5440376 | G40: 21.078506 | H40: 34.229758 | I40: 45.232035 | J40: 52.368658 | K40: 58.287871 | L40: 68.908436 | M40: 79.885519 | N40: 98.798714 | O40: 118.69809 | P40: 137.07533 | Q40: 155.31512 | R40: 179.39915 | S40: 201.64717 | T40: 224.69408 | U40: 247.13426 | V40: 270.87731 | W40: 289.58494 | X40: 308.64105 | Y40: 333.63683 | Z40: 355.1357 | AA40: 373.58231 | AB40: 389.31551 | AC40: 412.3533 | AD40: 426.97827 | AE40: 444.66819 | AF40: 459.48721 | AG40: 476.68698 | AH40: 494.94473 | AI40: 508.0812 | AJ40: 516.55136 | AK40: 535.34147 | AL40: 549.42564 | AM40: 565.23118
B42: STDV | C42: BL-7SWCE | D42: 0 | E42: 1.2909944 | F42: 16.958282 | G42: 42.481368 | H42: 64.881302 | I42: 82.207056 | J42: 101.58535 | K42: 113.08514 | L42: 125.98776 | M42: 134.41602 | N42: 137.803 | O42: 149.08247 | P42: 146.06249 | Q42: 163.45922 | R42: 173.01445 | S42: 174.49618 | T42: 176.19757 | U42: 185.44451 | V42: 190.87932 | W42: 206.27066 | X42: 202.35036 | Y42: 213.72783 | Z42: 215.46287 | AA42: 218.19105 | AB42: 224.20879 | AC42: 235.47541 | AD42: 234.61032 | AE42: 247.02631 | AF42: 243.79294 | AG42: 250.38687 | AH42: 251.67373 | AI42: 263.24197 | AJ42: 267.76778 | AK42: 265.57657 | AL42: 268.57944 | AM42: 273.322
C43: BL-PWCE | D43: 0.57735027 | E43: 0 | F43: 2.8722813 | G43: 4.9665548 | H43: 8.0156098 | I43: 12.714821 | J43: 19.619293 | K43: 28.57738 | L43: 40.319557 | M43: 54.60464 | N43: 72.69342 | O43: 90.577315 | P43: 111.65833 | Q43: 132.9624 | R43: 158.50762 | S43: 182.55045 | T43: 208.54156 | U43: 236.624 | V43: 260.83136 | W43: 285.59937 | X43: 306.88814 | Y43: 325.34328 | Z43: 342.41921 | AA43: 356.13048 | AB43: 368.47931 | AC43: 375.67395 | AD43: 382.2001 | AE43: 391.91102 | AF43: 395.85972 | AG43: 401.47343 | AH43: 405.24674 | AI43: 410.80125 | AJ43: 415.98237 | AK43: 420.05268 | AL43: 418.43399 | AM43: 423.24097
C44: BL-EWCE | D44: 0.81649658 | E44: 0.57735027 | F44: 4.0824829 | G44: 13.149778 | H44: 21.354157 | I44: 28.217902 | J44: 32.670068 | K44: 36.362756 | L44: 42.988371 | M44: 49.836399 | N44: 61.635352 | O44: 74.049533 | P44: 85.514131 | Q44: 96.892982 | R44: 111.91775 | S44: 125.79713 | T44: 140.17489 | U44: 154.17414 | V44: 168.98619 | W44: 180.6569 | X44: 192.54502 | Y44: 208.13858 | Z44: 221.5506 | AA44: 233.05847 | AB44: 242.8736 | AC44: 257.24567 | AD44: 266.36942 | AE44: 277.40524 | AF44: 286.65005 | AG44: 297.38009 | AH44: 308.77014 | AI44: 316.9653 | AJ44: 322.24939 | AK44: 333.97156 | AL44: 342.75793 | AM44: 352.61818

Sheet Fig. 2B
A1: Figure 2B: Expression yield of BL-EWCE increases proportionally with the supplementation of purified translation machinery.
C3: 50x dilution
B4: Replicate | C4: 0 | D4: 2 | E4: 5 | F4: 10 | G4: 13 | H4: 18 | I4: ug of purified translation machinery added | K4: Replicate | L4: 0 | M4: 2 | N4: 5 | O4: 10 | P4: 13 | Q4: 18 | R4: ug of purified translation machinery added
B5: 1 | C5: 6401.5 | D5: 6291.5 | E5: 6390.5 | F5: 8472 | G5: 7679.5 | H5: 9474.5 | I5: Fluorescence (a.u) | K5: 1 | L5: 0.55241157 | M5: 0.54272088 | N5: 0.5514425 | O5: 0.73481681 | P5: 0.66499978 | Q5: 0.82313425 | R5: deGFP(mg/mL)
B6: 2 | C6: 6113 | D6: 6154 | E6: 6702 | F6: 9033 | G6: 10565.5 | H6: 11088 | I6: Fluorescence (a.u) | K6: 2 | L6: 0.52699553 | M6: 0.53060752 | N6: 0.57888478 | O6: 0.78423934 | P6: 0.91924828 | Q6: 0.96527907 | R6: deGFP(mg/mL)
B7: 3 | C7: 4447 | D7: 5865.5 | E7: 5534.5 | F7: 9015 | G7: 7505 | H7: 11008 | I7: Fluorescence (a.u) | K7: 3 | L7: 0.38022561 | M7: 0.50519148 | N7: 0.4760313 | O7: 0.78265359 | P7: 0.64962682 | Q7: 0.95823129 | R7: deGFP(mg/mL)
B8: 4 | C8: 5400.5 | D8: 6010.5 | E8: 6623.5 | F8: 5853 | G8: 8196.5 | H8: 9748.5 | I8: Fluorescence (a.u) | K8: 4 | L8: 0.46422628 | M8: 0.51796557 | N8: 0.57196915 | O8: 0.50409026 | P8: 0.71054603 | Q8: 0.84727288 | R8: deGFP(mg/mL)
B10: Average | C10: 5590.5 | D10: 6080.375 | E10: 6312.625 | F10: 8093.25 | G10: 8486.625 | H10: 10329.75 | I10: Fluorescence (a.u) | K10: Average | L10: 0.48096475 | M10: 0.52412136 | N10: 0.54458193 | O10: 0.70145 | P10: 0.73610523 | Q10: 0.89847937 | R10: deGFP(mg/mL)
B11: STD | C11: 870.71226 | D11: 183.52855 | E11: 535.3501 | F11: 1516.0172 | G11: 1416.6783 | H11: 837.51025 | I11: Fluorescence (a.u) | K11: STD | L11: 0.076707306 | M11: 0.01616835 | N11: 0.047162841 | O11: 0.13355686 | P11: 0.12480538 | Q11: 0.073782302 | R11: deGFP(mg/mL)

Sheet Fig. 2C
A1: Figure 2C: Expression yield of BL-CFPWCE increases proportionally with the supplementation of purified translation machinery.
C3: 30x dilution
B4: Replicate | C4: 0 | D4: 2 | E4: 4 | F4: 8 | G4: 12 | H4: 17 | I4: ug of purified translation machinery added | K4: Replicate | L4: 0 | M4: 2 | N4: 4 | O4: 8 | P4: 12 | Q4: 17 | R4: ug of purified translation machinery added
B5: 1 | C5: 8506 | D5: 10228.25 | E5: 15844.25 | F5: 19355.5 | G5: 20414 | H5: 21044 | I5: Fluorescence (a.u) | K5: 1 | L5: 0.44268727 | M5: 0.5337225 | N5: 0.83057481 | O5: 1.0161736 | P5: 1.0721241 | Q5: 1.1054248 | R5: deGFP(mg/mL)
B6: 2 | C6: 6824.5 | D6: 6297.25 | E6: 16949.25 | F6: 18009.25 | G6: 19229.75 | H6: 12113.75 | I6: Fluorescence (a.u) | K6: 2 | L6: 0.35380601 | M6: 0.32593646 | N6: 0.88898325 | O6: 0.94501306 | P6: 1.0095266 | Q6: 0.63338686 | R6: deGFP(mg/mL)
B7: 3 | C7: 11408.25 | D7: 14553.25 | E7: 11751.25 | F7: 18331.25 | G7: 17466.75 | H7: 8534.5 | I7: Fluorescence (a.u) | K7: 3 | L7: 0.59609532 | M7: 0.76233472 | N7: 0.61422572 | O7: 0.96203344 | P7: 0.91633742 | Q7: 0.44419373 | R7: deGFP(mg/mL)
B8: 4 | C8: 9474.25 | D8: 17817.75 | E8: 8925 | F8: 15095.5 | G8: 14514.75 | H8: 17655.25 | I8: Fluorescence (a.u) | K8: 4 | L8: 0.49386733 | M8: 0.93489069 | N8: 0.4648349 | O8: 0.79099714 | P8: 0.76029968 | Q8: 0.92630122 | R8: deGFP(mg/mL)
B10: Average | C10: 9053.25 | D10: 12224.125 | E10: 13367.438 | F10: 17697.875 | G10: 17906.312 | H10: 14836.875 | I10: Fluorescence (a.u) | K10: Average | L10: 0.47161398 | M10: 0.6392211 | N10: 0.69965467 | O10: 0.9285543 | P10: 0.93957196 | Q10: 0.77732666 | R10: deGFP(mg/mL)
B11: STD | C11: 1725.9753 | D11: 4507.0435 | E11: 3335.0133 | F11: 1688.3452 | G11: 2324.5163 | H11: 5021.5638 | I11: Fluorescence (a.u) | K11: STD | L11: 0.1011703 | M11: 0.26574091 | N11: 0.19614945 | O11: 0.096593394 | P11: 0.13557547 | Q11: 0.29526149 | R11: deGFP(mg/mL)

Sheet Fig. 3A
A1: Figure 3A: deGFP expression levels of all extracts used in mass spectrometry analysis
D3: Dilution Factor
B4: Replicates | D4: 30 | E4: 50 | F4: 30 | G4: 50 | J4: Replicates
B5: Experiments | C5: Independent dilutions | D5: BL-E | E5: BL-CFP | F5: BL-1S | G5: BL-7S | J5: Experiments | K5: Independent dilutions | L5: BL-E | M5: BL-CFP | N5: BL-1S | O5: BL-7S
B6: 1 | C6: 1 | D6: 11180 | E6: 4356 | F6: 9545 | G6: 18031 | H6: Fluorescence (a.u) | J6: 1 | K6: 1 | L6: =((D6-131.86)/492.56)*D$4*25389.6/29255.89/1000 -> 0.58397442 | M6: =((E6-131.86)/492.56)*E$4*25389.6/29255.89/1000 -> 0.37212745 | N6: =((F6-131.86)/492.56)*F$4*25389.6/29255.89/1000 -> 0.4975528 | O6: =((G6-131.86)/492.56)*G$4*25389.6/29255.89/1000 -> 1.5768325 | P6: deGFP(mg/mL)
D7: 10856 | E7: 4184 | F7: 9250 | G7: 17354 | H7: Fluorescence (a.u) | L7: =((D7-131.86)/492.56)*D$4*25389.6/29255.89/1000 -> 0.56684867 | M7: =((E7-131.86)/492.56)*E$4*25389.6/29255.89/1000 -> 0.35697504 | N7: =((F7-131.86)/492.56)*F$4*25389.6/29255.89/1000 -> 0.48195991 | O7: =((G7-131.86)/492.56)*G$4*25389.6/29255.89/1000 -> 1.5171919 | P7: deGFP(mg/mL)
D8: 11096 | E8: 4306 | F8: 9488 | G8: 17868 | H8: Fluorescence (a.u) | L8: =((D8-131.86)/492.56)*D$4*25389.6/29255.89/1000 -> 0.57953441 | M8: =((E8-131.86)/492.56)*E$4*25389.6/29255.89/1000 -> 0.36772268 | N8: =((F8-131.86)/492.56)*F$4*25389.6/29255.89/1000 -> 0.49453994 | O8: =((G8-131.86)/492.56)*G$4*25389.6/29255.89/1000 -> 1.562473 | P8: deGFP(mg/mL)
D9: 10596 | E9: 4100 | F9: 8963 | G9: 16964 | H9: Fluorescence (a.u) | L9: =((D9-131.86)/492.56)*D$4*25389.6/29255.89/1000 -> 0.55310578 | M9: =((E9-131.86)/492.56)*E$4*25389.6/29255.89/1000 -> 0.34957502 | N9: =((F9-131.86)/492.56)*F$4*25389.6/29255.89/1000 -> 0.46678988 | O9: =((G9-131.86)/492.56)*G$4*25389.6/29255.89/1000 -> 1.4828347 | P9: deGFP(mg/mL)
C10: 2 | D10: 9686 | E10: 6501 | F10: 9043 | G10: 13789 | H10: Fluorescence (a.u) | K10: 2 | L10: =((D10-131.86)/492.56)*D$4*25389.6/29255.89/1000 -> 0.50500568 | M10: =((E10-131.86)/492.56)*E$4*25389.6/29255.89/1000 -> 0.56109216 | N10: =((F10-131.86)/492.56)*F$4*25389.6/29255.89/1000 -> 0.47101846 | O10: =((G10-131.86)/492.56)*G$4*25389.6/29255.89/1000 -> 1.2031317 | P10: deGFP(mg/mL)
D11: 9450 | E11: 6393 | F11: 8803 | G11: 13543 | H11: Fluorescence (a.u) | L11: =((D11-131.86)/492.56)*D$4*25389.6/29255.89/1000 -> 0.49253136 | M11: =((E11-131.86)/492.56)*E$4*25389.6/29255.89/1000 -> 0.55157786 | N11: =((F11-131.86)/492.56)*F$4*25389.6/29255.89/1000 -> 0.45833271 | O11: =((G11-131.86)/492.56)*G$4*25389.6/29255.89/1000 -> 1.1814602 | P11: deGFP(mg/mL)
D12: 9437 | E12: 6453 | F12: 8850 | G12: 13639 | H12: Fluorescence (a.u) | L12: =((D12-131.86)/492.56)*D$4*25389.6/29255.89/1000 -> 0.49184422 | M12: =((E12-131.86)/492.56)*E$4*25389.6/29255.89/1000 -> 0.55686358 | N12: =((F12-131.86)/492.56)*F$4*25389.6/29255.89/1000 -> 0.46081701 | O12: =((G12-131.86)/492.56)*G$4*25389.6/29255.89/1000 -> 1.1899174 | P12: deGFP(mg/mL)
D13: 9133 | E13: 6215 | F13: 8483 | G13: 13159 | H13: Fluorescence (a.u) | L13: =((D13-131.86)/492.56)*D$4*25389.6/29255.89/1000 -> 0.47577561 | M13: =((E13-131.86)/492.56)*E$4*25389.6/29255.89/1000 -> 0.53589687 | N13: =((F13-131.86)/492.56)*F$4*25389.6/29255.89/1000 -> 0.44141839 | O13: =((G13-131.86)/492.56)*G$4*25389.6/29255.89/1000 -> 1.1476316 | P13: deGFP(mg/mL)
C14: 3 | D14: 9216 | E14: 8203 | F14: 9593 | G14: 14769 | H14: Fluorescence (a.u) | K14: 3 | L14: =((D14-131.86)/492.56)*D$4*25389.6/29255.89/1000 -> 0.48016276 | M14: =((E14-131.86)/492.56)*E$4*25389.6/29255.89/1000 -> 0.7110306 | N14: =((F14-131.86)/492.56)*F$4*25389.6/29255.89/1000 -> 0.50008995 | O14: =((G14-131.86)/492.56)*G$4*25389.6/29255.89/1000 -> 1.2894652 | P14: deGFP(mg/mL)
D15: 8766 | E15: 7771 | F15: 9582 | G15: 14115 | H15: Fluorescence (a.u) | L15: =((D15-131.86)/492.56)*D$4*25389.6/29255.89/1000 -> 0.456377 | M15: =((E15-131.86)/492.56)*E$4*25389.6/29255.89/1000 -> 0.67297337 | N15: =((F15-131.86)/492.56)*F$4*25389.6/29255.89/1000 -> 0.49950852 | O15: =((G15-131.86)/492.56)*G$4*25389.6/29255.89/1000 -> 1.2318508 | P15: deGFP(mg/mL)
D16: 9165 | E16: 8201 | F16: 9604 | G16: 14835 | H16: Fluorescence (a.u) | L16: =((D16-131.86)/492.56)*D$4*25389.6/29255.89/1000 -> 0.47746704 | M16: =((E16-131.86)/492.56)*E$4*25389.6/29255.89/1000 -> 0.7108544 | N16: =((F16-131.86)/492.56)*F$4*25389.6/29255.89/1000 -> 0.50067138 | O16: =((G16-131.86)/492.56)*G$4*25389.6/29255.89/1000 -> 1.2952795 | P16: deGFP(mg/mL)
D17: 8884 | E17: 7867 | F17: 9002 | G17: 14321 | H17: Fluorescence (a.u) | L17: =((D17-131.86)/492.56)*D$4*25389.6/29255.89/1000 -> 0.46261415 | M17: =((E17-131.86)/492.56)*E$4*25389.6/29255.89/1000 -> 0.68143053 | N17: =((F17-131.86)/492.56)*F$4*25389.6/29255.89/1000 -> 0.46885131 | O17: =((G17-131.86)/492.56)*G$4*25389.6/29255.89/1000 -> 1.2499985 | P17: deGFP(mg/mL)
B18: 2 | C18: 1 | D18: 6363 | E18: 6304 | F18: 6645 | G18: 15762 | H18: Fluorescence (a.u) | J18: 2 | K18: 1 | L18: =((D18-131.86)/492.56)*D$4*25389.6/29255.89/1000 -> 0.329361 | M18: =((E18-131.86)/492.56)*E$4*25389.6/29255.89/1000 -> 0.54373736 | N18: =((F18-131.86)/492.56)*F$4*25389.6/29255.89/1000 -> 0.34426674 | O18: =((G18-131.86)/492.56)*G$4*25389.6/29255.89/1000 -> 1.376944 | P18: deGFP(mg/mL)
D19: 6072 | E19: 6071 | F19: 6444 | G19: 15330 | H19: Fluorescence (a.u) | L19: =((D19-131.86)/492.56)*D$4*25389.6/29255.89/1000 -> 0.31397953 | M19: =((E19-131.86)/492.56)*E$4*25389.6/29255.89/1000 -> 0.52321113 | N19: =((F19-131.86)/492.56)*F$4*25389.6/29255.89/1000 -> 0.33364243 | O19: =((G19-131.86)/492.56)*G$4*25389.6/29255.89/1000 -> 1.3388868 | P19: deGFP(mg/mL)
D20: 6186 | E20: 6240 | F20: 6501 | G20: 15678 | H20: Fluorescence (a.u) | L20: =((D20-131.86)/492.56)*D$4*25389.6/29255.89/1000 -> 0.32000526 | M20: =((E20-131.86)/492.56)*E$4*25389.6/29255.89/1000 -> 0.53809926 | N20: =((F20-131.86)/492.56)*F$4*25389.6/29255.89/1000 -> 0.3366553 | O20: =((G20-131.86)/492.56)*G$4*25389.6/29255.89/1000 -> 1.369544 | P20: deGFP(mg/mL)
D21: 5890 | E21: 5897 | F21: 6216 | G21: 14890 | H21: Fluorescence (a.u) | L21: =((D21-131.86)/492.56)*D$4*25389.6/29255.89/1000 -> 0.30435951 | M21: =((E21-131.86)/492.56)*E$4*25389.6/29255.89/1000 -> 0.50788252 | N21: =((F21-131.86)/492.56)*F$4*25389.6/29255.89/1000 -> 0.32159098 | O21: =((G21-131.86)/492.56)*G$4*25389.6/29255.89/1000 -> 1.3001248 | P21: deGFP(mg/mL)
C22: 2 | D22: 6714 | E22: 6741 | F22: 6784 | G22: 15421 | H22: Fluorescence (a.u) | K22: 2 | L22: =((D22-131.86)/492.56)*D$4*25389.6/29255.89/1000 -> 0.34791389 | M22: =((E22-131.86)/492.56)*E$4*25389.6/29255.89/1000 -> 0.58223507 | N22: =((F22-131.86)/492.56)*F$4*25389.6/29255.89/1000 -> 0.3516139 | O22: =((G22-131.86)/492.56)*G$4*25389.6/29255.89/1000 -> 1.3469035 | P22: deGFP(mg/mL)
D23: 6566 | E23: 6651 | F23: 6627 | G23: 15076 | H23: Fluorescence (a.u) | L23: =((D23-131.86)/492.56)*D$4*25389.6/29255.89/1000 -> 0.34009102 | M23: =((E23-131.86)/492.56)*E$4*25389.6/29255.89/1000 -> 0.57430648 | N23: =((F23-131.86)/492.56)*F$4*25389.6/29255.89/1000 -> 0.34331531 | O23: =((G23-131.86)/492.56)*G$4*25389.6/29255.89/1000 -> 1.3165105 | P23: deGFP(mg/mL)
D24: 6669 | E24: 6676 | F24: 6684 | G24: 15209 | H24: Fluorescence (a.u) | L24: =((D24-131.86)/492.56)*D$4*25389.6/29255.89/1000 -> 0.34553532 | M24: =((E24-131.86)/492.56)*E$4*25389.6/29255.89/1000 -> 0.57650887 | N24: =((F24-131.86)/492.56)*F$4*25389.6/29255.89/1000 -> 0.34632818 | O24: =((G24-131.86)/492.56)*G$4*25389.6/29255.89/1000 -> 1.3282272 | P24: deGFP(mg/mL)
D25: 6331 | E25: 6408 | F25: 6391 | G25: 14714 | H25: Fluorescence (a.u) | L25: =((D25-131.86)/492.56)*D$4*25389.6/29255.89/1000 -> 0.32766956 | M25: =((E25-131.86)/492.56)*E$4*25389.6/29255.89/1000 -> 0.55289929 | N25: =((F25-131.86)/492.56)*F$4*25389.6/29255.89/1000 -> 0.330841 | O25: =((G25-131.86)/492.56)*G$4*25389.6/29255.89/1000 -> 1.28462 | P25: deGFP(mg/mL)
C26: 3 | D26: 5846 | E26: 6742 | F26: 6481 | G26: 14778 | H26: Fluorescence (a.u) | K26: 3 | L26: =((D26-131.86)/492.56)*D$4*25389.6/29255.89/1000 -> 0.30203379 | M26: =((E26-131.86)/492.56)*E$4*25389.6/29255.89/1000 -> 0.58232316 | N26: =((F26-131.86)/492.56)*F$4*25389.6/29255.89/1000 -> 0.33559815 | O26: =((G26-131.86)/492.56)*G$4*25389.6/29255.89/1000 -> 1.2902581 | P26: deGFP(mg/mL)
D27: 5495 | E27: 6106 | F27: 6204 | G27: 14050 | H27: Fluorescence (a.u) | L27: =((D27-131.86)/492.56)*D$4*25389.6/29255.89/1000 -> 0.28348089 | M27: =((E27-131.86)/492.56)*E$4*25389.6/29255.89/1000 -> 0.52629447 | N27: =((F27-131.86)/492.56)*F$4*25389.6/29255.89/1000 -> 0.32095669 | O27: =((G27-131.86)/492.56)*G$4*25389.6/29255.89/1000 -> 1.2261246 | P27: deGFP(mg/mL)
D28: 5825 | E28: 6626 | F28: 6615 | G28: 14480 | H28: Fluorescence (a.u) | L28: =((D28-131.86)/492.56)*D$4*25389.6/29255.89/1000 -> 0.30092379 | M28: =((E28-131.86)/492.56)*E$4*25389.6/29255.89/1000 -> 0.57210409 | N28: =((F28-131.86)/492.56)*F$4*25389.6/29255.89/1000 -> 0.34268103 | O28: =((G28-131.86)/492.56)*G$4*25389.6/29255.89/1000 -> 1.2640056 | P28: deGFP(mg/mL)
D29: 5569 | E29: 6385 | F29: 6315 | G29: 13933 | H29: Fluorescence (a.u) | L29: =((D29-131.86)/492.56)*D$4*25389.6/29255.89/1000 -> 0.28739233 | M29: =((E29-131.86)/492.56)*E$4*25389.6/29255.89/1000 -> 0.55087309 | N29: =((F29-131.86)/492.56)*F$4*25389.6/29255.89/1000 -> 0.32682385 | O29: =((G29-131.86)/492.56)*G$4*25389.6/29255.89/1000 -> 1.2158174 | P29: deGFP(mg/mL)
B31: Replicates | D31: Averages | J31: Replicates | L31: Averages
B32: Experiments | C32: Independent dilutions | D32: BL-E | E32: BL-CFP | F32: BL-1S | G32: BL-7S | J32: Experiments | K32: Independent dilutions | L32: BL-E | M32: BL-CFP | N32: BL-1S | O32: BL-7S
B33: 1 | C33: 1 | D33: =AVERAGE(D6:D9) -> 10932 | E33: =AVERAGE(E6:E9) -> 4236.5 | F33: =AVERAGE(F6:F9) -> 9311.5 | G33: =AVERAGE(G6:G9) -> 17554.25 | H33: Fluorescence (a.u) | J33: 1 | K33: 1 | L33: =AVERAGE(L6:L9) -> 0.57086582 | M33: =AVERAGE(M6:M9) -> 0.36160005 | N33: =AVERAGE(N6:N9) -> 0.48521063 | O33: =AVERAGE(O6:O9) -> 1.534833 | P33: deGFP(mg/mL)
C34: 2 | D34: =AVERAGE(D10:D13) -> 9426.5 | E34: =AVERAGE(E10:E13) -> 6390.5 | F34: =AVERAGE(F10:F13) -> 8794.75 | G34: =AVERAGE(G10:G13) -> 13532.5 | H34: Fluorescence (a.u) | K34: 2 | L34: =AVERAGE(L10:L13) -> 0.49128922 | M34: =AVERAGE(M10:M13) -> 0.55135762 | N34: =AVERAGE(N10:N13) -> 0.45789664 | O34: =AVERAGE(O10:O13) -> 1.1805352 | P34: deGFP(mg/mL)
C35: 3 | D35: =AVERAGE(D14:D17) -> 9007.75 | E35: =AVERAGE(E14:E17) -> 8010.5 | F35: =AVERAGE(F14:F17) -> 9445.25 | G35: =AVERAGE(G14:G17) -> 14510 | H35: Fluorescence (a.u) | K35: 3 | L35: =AVERAGE(L14:L17) -> 0.46915524 | M35: =AVERAGE(M14:M17) -> 0.69407222 | N35: =AVERAGE(N14:N17) -> 0.49228029 | O35: =AVERAGE(O14:O17) -> 1.2666485 | P35: deGFP(mg/mL)
B36: 2 | C36: 1 | D36: =AVERAGE(D18:D21) -> 6127.75 | E36: =AVERAGE(E18:E21) -> 6128 | F36: =AVERAGE(F18:F21) -> 6451.5 | G36: =AVERAGE(G18:G21) -> 15415 | H36: Fluorescence (a.u) | J36: 2 | K36: 1 | L36: =AVERAGE(L18:L21) -> 0.31692633 | M36: =AVERAGE(M18:M21) -> 0.52823257 | N36: =AVERAGE(N18:N21) -> 0.33403886 | O36: =AVERAGE(O18:O21) -> 1.3463749 | P36: deGFP(mg/mL)
C37: 2 | D37: =AVERAGE(D22:D25) -> 6570 | E37: =AVERAGE(E22:E25) -> 6619 | F37: =AVERAGE(F22:F25) -> 6621.5 | G37: =AVERAGE(G22:G25) -> 15105 | H37: Fluorescence (a.u) | K37: 2 | L37: =AVERAGE(L22:L25) -> 0.34030245 | M37: =AVERAGE(M22:M25) -> 0.57148743 | N37: =AVERAGE(N22:N25) -> 0.3430246 | O37: =AVERAGE(O22:O25) -> 1.3190653 | P37: deGFP(mg/mL)
C38: 3 | D38: =AVERAGE(D26:D29) -> 5683.75 | E38: =AVERAGE(E26:E29) -> 6464.75 | F38: =AVERAGE(F26:F29) -> 6403.75 | G38: =AVERAGE(G26:G29) -> 14310.25 | H38: Fluorescence (a.u) | K38: 3 | L38: =AVERAGE(L26:L29) -> 0.2934577 | M38: =AVERAGE(M26:M29) -> 0.5578987 | N38: =AVERAGE(N26:N29) -> 0.33151493 | O38: =AVERAGE(O26:O29) -> 1.2490514 | P38: deGFP(mg/mL)
C40: Overall Avg | D40: =AVERAGE(D6:D29) -> 7957.9583 | E40: =AVERAGE(E6:E29) -> 6308.2083 | F40: =AVERAGE(F6:F29) -> 7838.0417 | G40: =AVERAGE(G6:G29) -> 15071.167 | H40: Fluorescence (a.u) | K40: Overall Avg | L40: =AVERAGE(L6:L29) -> 0.41366613 | M40: =AVERAGE(M6:M29) -> 0.5441081 | N40: =AVERAGE(N6:N29) -> 0.40732766 | O40: =AVERAGE(O6:O29) -> 1.3160847 | P40: deGFP(mg/mL)
C41: Overall STD | D41: =STDEV(D6:D29) -> 1989.2214 | E41: =STDEV(E6:E29) -> 1142.8592 | F41: =STDEV(F6:F29) -> 1405.4075 | G41: =STDEV(G6:G29) -> 1329.8539 | H41: Fluorescence (a.u) | K41: Overall STD | L41: =STDEV(L6:L29) -> 0.1051448 | M41: =STDEV(M6:M29) -> 0.10068068 | N41: =STDEV(N6:N29) -> 0.07428599 | O41: =STDEV(O6:O29) -> 0.11715406 | P41: deGFP(mg/mL)

Sheet Fig. 3B
A1: Figure 3B: Principal component analysis showing the grouping of the various extracts based on their protein profile.
B3: Sample Name | C3: Dim.1 | D3: Dim.2 | E3: Dim.3 | F3: Dim.4 | G3: Dim.5 | H3: Dim.6 | I3: Dim.7 | J3: Dim.8 | K3: Dim.9 | L3: Dim.10 | M3: Dim.11 | N3: Dim.12 | O3: Dim.13 | P3: Dim.14 | Q3: Dim.15 | R3: Dim.16 | S3: Dim.17 | T3: Dim.18 | U3: Dim.19 | V3: Dim.20
B4: BL21-B1T1 | C4: -36.915162 | D4: 18.19303 | E4: 26.054238 | F4: 8.2777698 | G4: 18.009273 | H4: -0.33312173 | I4: -1.1007089 | J4: 7.4436283 | K4: -2.6937412 | L4: 1.818848 | M4: -2.0864121 | N4: 2.5682013 | O4: -3.6081394 | P4: 4.8821812 | Q4: -0.54679274 | R4: 0.98830455 | S4: 1.1716827 | T4: -0.41854416 | U4: -1.0320195e-14 | V4: 6.4392935e-14
B5: BL21-B1T2 | C5: -29.567494 | D5: 26.518184 | E5: -8.0521183 | F5: 6.0369227 | G5: 10.044091 | H5: 18.017412 | I5: 1.4400991 | J5: -2.6448448 | K5: 5.993328 | L5: -0.9772046 | M5: 3.8730474 | N5: -5.2747003 | O5: 4.9084436 | P5: -3.187677 | Q5: 0.48472971 | R5: -2.2509793 | S5: 1.7607678 | T5: 0.053945562 | U5: -9.6183912e-15 | V5: 1.6167623e-14
B6: BL21-B2T1 | C6: -31.613621 | D6: 30.554674 | E6: -4.4114356 | F6: -5.2398175 | G6: -12.291339 | H6: 0.43998488 | I6: -0.10092303 | J6: -14.055126 | K6: 5.834279 | L6: -0.28947794 | M6: -1.875546 | N6: 5.1296744 | O6: -4.5844946 | P6: 2.6646299 | Q6: -0.96895547 | R6: 2.1307362 | S6: 0.9899782 | T6: 0.99581283 | U6: -2.695435e-15 | V6: 7.4888012e-15
B7: BL21-B2T2 | C7: -41.803047 | D7: 27.917174 | E7: -0.83879536 | F7: -1.7348941 | G7: -13.738626 | H7: -16.923933 | I7: -2.5139847 | J7: 6.6775526 | K7: -7.8946776 | L7: -1.6582718 | M7: 2.1881717 | N7: -3.512034 | O7: 3.5939378 | P7: -1.9798282 | Q7: -0.016739506 | R7: -1.6233823 | S7: 1.7479353 | T7: -0.11465191 | U7: -2.7027805e-15 | V7: 3.8092793e-14
B8: BL_CFP-B1T1 | C8: -29.804202 | D8: -36.582357 | E8: 16.59571 | F8: -9.0964251 | G8: 6.6377498 | H8: -3.8222807 | I8: 1.8327935 | J8: -12.566162 | K8: -6.5826589 | L8: -1.5224929 | M8: 5.6383844 | N8: 2.3769918 | O8: 3.6530967 | P8: -0.6898084 | Q8: 1.8521713 | R8: -1.0722723 | S8: 1.2832961 | T8: 0.64004749 | U8: -6.0165089e-15 | V8: 3.0218883e-14
B9: BL_CFP-B1T2 | C9: -24.841291 | D9: -30.701869 | E9: -5.7722221 | F9: -3.9890699 | G9: -1.545441 | H9: 3.6680423 | I9: -12.946062 | J9: 3.0049439 | K9: 3.0537964 | L9: -7.1543585 | M9: 2.2446599 | N9: -4.9814071 | O9: -5.1820802 | P9: 0.31078181 | Q9: -5.1593024 | R9: 0.70500353 | S9: 0.68977076 | T9: -0.59655588 | U9: -4.4415155e-15 | V9: 1.1428358e-14
B10: BL_CFP-B2T1 | C10: -30.931077 | D10: -24.11649 | E10: -8.2943887 | F10: 0.46335352 | G10: -5.6350779 | H10: 2.5587593 | I10: 19.416591 | J10: 3.9399149 | K10: -0.54816779 | L10: 2.5573868 | M10: -4.4592279 | N10: -2.7484941 | O10: -0.74130151 | P10: 1.469487 | Q10: -3.7952364 | R10: 0.60302935 | S10: 1.0973876 | T10: -0.46851413 | U10: -5.3107475e-15 | V10: -5.6829541e-15
B11: BL_CFP-B2T2 | C11: -27.041308 | D11: -23.347629 | E11: -9.4658475 | F11: 0.042311755 | G11: -7.5121463 | H11: 4.9956936 | I11: -7.1967155 | J11: 8.1577125 | K11: 6.2378485 | L11: 6.8305763 | M11: -2.2990158 | N11: 6.6645241 | O11: 3.1600864 | P11: 1.4335697 | Q11: 5.5405995 | R11: -1.2943817 | S11: 1.2268702 | T11: 0.63311359 | U11: -1.5177204e-15 | V11: -1.8767106e-14
B12: BL_S1-B1T1 | C12: 41.61835 | D12: -5.2308066 | E12: 31.060211 | F12: 12.457447 | G12: -11.468236 | H12: -3.2719544 | I12: 1.2701037 | J12: 0.022084176 | K12: 12.02499 | L12: -2.6067095 | M12: 0.27029926 | N12: -1.9520662 | O12: 3.8495714 | P12: 1.1267897 | Q12: -1.5813556 | R12: -0.49070685 | S12: 0.038994731 | T12: 0.4224322 | U12: -3.9910566e-15 | V12: -3.4625081e-14
B13: BL_S1-B1T2 | C13: 26.494176 | D13: -6.1293078 | E13: -13.160508 | F13: 14.619243 | G13: 2.2723213 | H13: -5.8536037 | I13: -2.1371961 | J13: -6.3303494 | K13: -2.9553056 | L13: 2.230261 | M13: -1.7241033 | N13: -8.6762512 | O13: -1.4191325 | P13: 5.6070787 | Q13: 6.0482947 | R13: 1.555282 | S13: 1.3592605 | T13: -0.22039212 | U13: 3.5014309e-15 | V13: -3.4394362e-14
B14: BL_S1-B2T1 | C14: 32.438642 | D14: 0.59566921 | E14: -3.0442521 | F14: 15.119568 | G14: -6.6496609 | H14: 9.7404556 | I14: 3.7597897 | J14: 3.2517778 | K14: -8.7558177 | L14: -10.468704 | M14: 2.0868313 | N14: 6.1589183 | O14: -3.0692368 | P14: -1.8882654 | Q14: 2.8506927 | R14: -0.28040896 | S14: 1.8258043 | T14: -0.10668876 | U14: 3.5476586e-15 | V14: -1.3824879e-14
B15: BL_S1-B2T2 | C15: 30.190751 | D15: -2.562497 | E15: -11.223314 | F15: 18.082113 | G15: 3.7017171 | H15: -4.2994083 | I15: -4.5296367 | J15: -3.8783216 | K15: -3.9513905 | L15: 9.2714424 | M15: 1.4910129 | N15: 4.1069866 | O15: 0.85795418 | P15: -2.5968203 | Q15: -7.4018272 | R15: -1.3371119 | S15: 1.3366884 | T15: 0.16242249 | U15: 1.4863328e-15 | V15: -2.744506e-14
... B23: POOLED-T4 | C23: -3.8624882 | D23: -0.45718855 | E23: -0.57616856 | F23: 1.4908435 | G23: 2.5825777 | H23: -1.1203593 | I23: -0.63531563 | J23: 1.08975 | K23: 0.10552182 | L23: 0.10947957 | M23: -1.0070623 | N23: 0.34619628 | O23: 2.3345887 | P23: -4.6220304 | Q23: 0.84313316 | R23: 9.0719272 | S23: -2.9136459 | T23: -0.42755847 | U23: 2.3122791e-13 | V23: -2.5058081e-14
B25: B: Biological replicate number
B26: T: Technical replicate number

Sheet Fig. 3C
A1: Figure 3C: Volcano plots displaying the changes in protein intensity between each extract and the BL21(DE3) control.
A3: Protein name | B3: Gene name | C3: Accession number | D3: Extract name | E3: Label | F3: Log2(Extract / BL-E) | G3: Log10(p-value) | H3: BL-E mean | I3: BL-E std | J3: BL-CFP mean | K3: BL-CFP std | L3: BL-1S mean | M3: BL-1S std | N3: BL-7S mean | O3: BL-7S std | P3: Over expressed?
A4: Sulfite reductase [NADPH] hemoprotein beta-component (SiR-HP) (SiRHP) (EC 1.8.1.2) | B4: cysI ECBD_0966 ECD_02608 B21_02571 | C4: C5W865 | D4: BL-CFP | E4: Unchanged | F4: -0.12367231 | G4: 0.93971382 | H4: 30854989 | I4: 2302797.1 | J4: 28320200 | K4: 609628.11 | L4: 16832589 | M4: 343871.19 | N4: 15305043 | O4: 835547.53 | P4: not_exp
A5: Acetolactate synthase (EC 2.2.1.6) | B5: ECBD_0032 | C5: A0A140N2H0 | D5: BL-CFP | E5: Unchanged | F5: 0.30481519 | G5: 1.6741484 | H5: 409171.96 | I5: 46254.823 | J5: 505433.91 | K5: 27520.232 | L5: 393004.47 | M5: 38095.803 | N5: 431225.67 | O5: 44717.309 | P5: not_exp | Q5: BL-S7 mean | R5: BL-S7 std
A6: Acetyltransferase (EC 2.3.1.-) | B6: ECBD_0118 | C6: A0A140N494 | D6: BL-CFP | E6: Low | F6: -0.41043146 | G6: 2.2012021 | H6: 1949880.6 | I6: 108164.2 | J6: 1467086.9 | K6: 172375.2 | L6: 1030851.9 | M6: 139549.84 | N6: 1078556.2 | O6: 183945.64 | P6: not_exp | Q6: 1832074.1 | R6: 33776.61
A7: Aspartate-semialdehyde dehydrogenase (ASA dehydrogenase) (ASADH) (EC 1.2.1.11) (Aspartate-beta-semialdehyde dehydrogenase) | B7: asd ECBD_0309 | C7: A0A140N4Y5 | D7: BL-CFP | E7: Unchanged | F7: -0.12767746 | G7: 1.1026424 | H7: 19051844 | I7: 1128211.8 | J7: 17438225 | K7: 689394.34 | L7: 12236367 | M7: 667282.51 | N7: 10871271 | O7: 584589.06 | P7: not_exp | Q7: 2751587.6 | R7: 71592.317
A8: T-protein | B8: ECBD_1086 | C8: A0A140N544 | D8: BL-CFP | E8: Unchanged | F8: 0.0062973239 | G8: 0.056723646 | H8: 404783.02 | I8: 16876.987 | J8: 406553.75 | K8: 8896.2529 | L8: 430126.94 | M8: 23951.058 | N8: 392645.68 | O8: 27321.535 | P8: not_exp | Q8: 169990.1 | R8: 11994.396
A9: Cysteine synthase (EC 2.5.1.47) | B9: ECBD_1267 | C9: A0A140N5L9 | D9: BL-CFP | E9: Unchanged | F9: 0.07814109 | G9: 1.0267403 | H9: 92008123 | I9: 3594704.7 | J9: 97129015 | K9: 2644230.4 | L9: 59216068 | M9: 2793617.4 | N9: 52419890 | O9: 3044172.5 | P9: not_exp | Q9: 4255589.6 | R9: 162712.42
A10: Histidinol dehydrogenase (HDH) (EC 1.1.1.23) | B10: hisD ECBD_1639 | C10: A0A140N5W6 | D10: BL-CFP | E10: High | F10: 0.35675955 | G10: 4.7813696 | H10: 1383840.4 | I10: 47792.454 | J10: 1772071.9 | K10: 25328.845 | L10: 1393690.8 | M10: 21511.61 | N10: 1833972.6 | O10: 34355.004 | P10: not_exp | Q10: 53761477 | R10: 4969885.1
A11: Selenide, water dikinase (EC 2.7.9.3) (Selenium donor protein) (Selenophosphate synthase) | B11: selD ECBD_1880 | C11: A0A140N6I5 | D11: BL-CFP | E11: Unchanged | F11: 0.25519702 | G11: 3.5803965 | H11: 4066982.2 | I11: 103532.49 | J11: 4853938.1 | K11: 145345.83 | L11: 3399516.9 | M11: 143464.08 | N11: 3470659.4 | O11: 174253.52 | P11: not_exp | Q11: 1944770.6 | R11: 154767.67
A12: Amino-acid acetyltransferase (EC 2.3.1.1) (N-acetylglutamate synthase) (AGS) (NAGS) | B12: argA ECBD_0907 | C12: A0A140N6K1 | D12: BL-CFP | E12: Unchanged | F12: -0.028673771 | G12: 0.14189436 | H12: 1519470.5 | I12: 63899.879 | J12: 1489568.9 | K12: 122865.05 | L12: 717120.21 | M12: 36820.609 | N12: 856296.31 | O12: 38997.853 | P12: not_exp | Q12: 1654692 | R12: 44867.827
A13: Imidazole glycerol phosphate synthase subunit HisF (EC 4.3.2.10) (IGP synthase cyclase subunit) (IGP synthase subunit HisF) (ImGP synthase subunit HisF) (IGPS subunit HisF) | B13: hisF ECBD_1634 | C13: A0A140N6L4 | D13: BL-CFP | E13: Unchanged | F13: -0.01261348 | G13: 0.10353246 | H13: 1747869 | I13: 24765.233 | J13: 1732654 | K13: 90333.825 | L13: 1293417.7 | M13: 87826.602 | N13: 1291752.1 | O13: 110716.53 | P13: not_exp | Q13: 3337755.3 | R13: 548566.03
A14: Shikimate kinase 1 (SK 1) (EC 2.7.1.71) | B14: aroK ECBD_0357 | C14: A0A140N6R9 | D14: BL-CFP | E14: Unchanged | F14: -0.00030125746 | G14: 0.0014968052 | H14: 6083501.8 | I14: 372979.67 | J14: 6082231.6 | K14: 316960.62 | L14: 5871771.8 | M14: 51558.194 | N14: 6314849 | O14: 288328.36 | P14: not_exp | Q14: 352428.5 | R14: 16095.972
A15: Diaminopimelate decarboxylase (DAP decarboxylase) (DAPDC) (EC 4.1.1.20) | B15: lysA ECBD_0886 | C15: A0A140N6V2 | D15: BL-CFP | E15: Unchanged | F15: -0.37462393 | G15: 1.3759258 | H15: 125736.38 | I15: 16443.44 | J15: 96981.276 | K15: 10191.564 | L15: 71982.731 | M15: 12391.155 | N15: 68537.193 | O15: 8596.047 | P15: not_exp | Q15: 21276265 | R15: 1096670.1
A16: Shikimate dehydrogenase (NADP(+)) (SDH) (EC 1.1.1.25) | B16: aroE ECBD_0470 | C16: A0A140N735 | D16: BL-CFP | E16: Unchanged | F16: 0.074905697 | G16: 0.62539162 | H16: 1008734.2 | I16: 59434.671 | J16: 1062491.8 | K16: 38608.755 | L16: 1109971.4 | M16: 56742.287 | N16: 1040220.6 | O16: 47273.634 | P16: not_exp | Q16: 500066.55 | R16: 50016.467
A17: 4-hydroxy-tetrahydrodipicolinate synthase (HTPA synthase) (EC 4.3.3.7) | B17: dapA ECBD_1211 | C17: A0A140N770 | D17: BL-CFP | E17: Unchanged | F17: 0.013636297 | G17: 0.15829243 | H17: 10960065 | I17: 395689.5 | J17: 11064150 | K17: 186470.6 | L17: 8557534.6 | M17: 314003.05 | N17: 7766295.6 | O17: 227326.04 | P17: not_exp | Q17: 664914.91 | R17: 36643.195
... A889: Thioredoxin reductase (EC 1.8.1.9) | B889: ECBD_2707 | C889: A0A140NDA6 | D889: BL-CFP | E889: Unchanged | F889: 0.05645191 | G889: 0.43437372 | H889: 24585304 | I889: 1532314.8 | J889: 25566383 | K889: 835280.34 | L889: 22078002 | M889: 539858.94 | N889: 20696180 | O889: 246825.57 | P889: not_exp | Q889: 213709.08 | R889: 45853.976
A890: Cyan Fluorescent Protein | D890: BL-CFP | E890: High | F890: 6.052313 | G890: 6.9246184 | H890: 13890039 | I890: 9901946.9 | J890: 9.2178841e+08 | K890: 53925072 | L890: 49971963 | M890: 23945012 | N890: 23920108 | O890: 21659087 | P890: exp | Q890: 531078.86 | R890: 128624.69
A891: Periplasmic chaperone Spy (Spheroplast protein Y) | B891: spy ECBD_1902 | C891: C6ECL5 | D891: BL-CFP | E891: Unchanged | F891: 0.34744195 | G891: 1.8326624 | H891: 667973.25 | I891: 85505.819 | J891: 849864.17 | K891: 36502.449 | L891: 477718.54 | M891: 47328.094 | N891: 415858.19 | O891: 40069.202 | P891: not_exp | Q891: 4974991.1 | R891: 292615.12
A892: Rhodanese domain protein | B892: ECBD_0114 | C892: A0A140N2P2 | D892: BL-CFP | E892: Unchanged | F892: 0.072917161 | G892: 0.39309312 | H892: 11788656 | I892: 906250.6 | J892: 12399796 | K892: 756739.92 | L892: 12555288 | M892: 694710.87 | N892: 12736899 | O892: 851610.78 | P892: not_exp | Q892: 4434821.1 | R892: 272871.89
A893: IS600 orf | B893: ECBD_0527 | C893: A0A140N307 | D893: BL-CFP | E893: Unchanged | F893: -0.0063964198 | G893: 0.053153018 | H893: 328048.65 | I893: 15635.113 | J893: 326597.42 | K893: 5662.3546 | L893: 86893.718 | M893: 31811.088 | N893: 135036.37 | O893: 25271.051 | P893: not_exp | Q893: 3436636.5 | R893: 52049.589
A894: Universal stress protein | B894: ECBD_0246 | C894: A0A140N312 | D894: BL-CFP | E894: Unchanged | F894: 0.12993998 | G894: 0.36537372 | H894: 1642492.5 | I894: 182320.59 | J894: 1797294.5 | K894: 260264.72 | L894: 856652.62 | M894: 92800.848 | N894: 871948.31 | O894: 76093.564 | P894: not_exp | Q894: 1891146.2 | R894: 155307.55
A895: Hydrogenase assembly chaperone hypC/hupF | B895: ECBD_0748 | C895: A0A140N3K3 | D895: BL-CFP | E895: Unchanged | F895: 0.47448702 | G895: 1.2331531 | H895: 118806.56 | I895: 14323.873 | J895: 165072.7 | K895: 31231.174 | L895: 136389.81 | M895: 19256.09 | N895: 130146.59 | O895: 19392.344 | P895: not_exp | Q895: 1664930.3 | R895: 224430.51
A896: AsmA family protein | B896: ECBD_0069 | C896: A0A140N3K4 | D896: BL-CFP | E896: Unchanged | F896: -0.034635737 | G896: 0.18370723 | H896: 457383.76 | I896: 20602.945 | J896: 446533.8 | K896: 34286.197 | L896: 320307.53 | M896: 15334.898 | N896: 319290.25 | O896: 29346.078 | P896: not_exp | Q896: 353197.67 | R896: 37611.949
A897: BolA family protein | B897: ECBD_0552 | C897: A0A140N3R5 | D897: BL-CFP | E897: Unchanged | F897: -0.035144627 | G897: 0.36150204 | H897: 2464854.8 | I897: 64530.545 | J897: 2405535.4 | K897: 104539.36 | L897: 2308179.8 | M897: 109513.46 | N897: 2216004.1 | O897: 84049.538 | P897: not_exp | Q897: 90376.202 | R897: 9083.6277
A898: UPF0441 protein YgiB | B898: ygiB ECBD_0703 | C898: A0A140N443 | D898: BL-CFP | E898: Low | F898: -0.63544929 | G898: 3.3803951 | H898: 1661043.8 | I898: 142177.55 | J898: 1069280.9 | K898: 33078.552 | L898: 948523.97 | M898: 120939.79 | N898: 922241.16 | O898: 49634.101 | P898: not_exp | Q898: 9437470.5 | R898: 2343496.9
A899: Peptidase M28 | B899: ECBD_0971 | C899: A0A140N458 | D899: BL-CFP | E899: High | F899: 0.6353923 | G899: 3.2896892 | H899: 68005.209 | I899: 7560.8523 | J899: 105636.58 | K899: 5993.5977 | L899: 81181.435 | M899: 2074.5949 | N899: 77121.94 | O899: 5732.3916 | P899: not_exp | Q899: 586241.78 | R899: 42237.867
A900: Pirin domain protein | B900: ECBD_0303 | C900: A0A140N475 | D900: BL-CFP | E900: Unchanged | F900: 0.012660229 | G900: 0.018533553 | H900: 87946.582 | I900: 21146.615 | J900: 88721.745 | K900: 12541.506 | L900: 75349.736 | M900: 8995.7688 | N900: 71588.571 | O900: 3275.5522 | P900: not_exp | Q900: 131759.44 | R900: 55431.582
A901: Lipoprotein | B901: ECBD_0044 | C901: A0A140N495 | D901: BL-CFP | E901: Unchanged | F901: 0.14817381 | G901: 0.41955971 | H901: 1279901 | I901: 203167.66 | J901: 1418342.6 | K901: 151476.44 | L901: 895188.35 | M901: 144635.38 | N901: 852041.38 | O901: 149356.54 | P901: not_exp | Q901: 1601581.6 | R901: 104781.63
A902: Uncharacterized protein | B902: ECBD_0065 | C902: A0A140N4B1 | D902: BL-CFP | E902: Unchanged | F902: -0.12867146 | G902: 0.26280179 | H902: 597359.89 | I902: 117981.76 | J902: 546389.18 | K902: 71603.53 | L902: 382801.13 | M902: 66759.764 | N902: 425502.85 | O902: 97890.87 | P902: not_exp | Q902: 607067.79 | R902: 56739.153
... A2715: Thioredoxin reductase (EC 1.8.1.9) | B2715: ECBD_2707 | C2715: A0A140NDA6 | D2715: BL-1S | E2715: Unchanged | F2715: -0.15518658 | G2715: 1.4332696 | H2715: 24585304 | I2715: 1532314.8 | J2715: 25566383 | K2715: 835280.34 | L2715: 22078002 | M2715: 539858.94 | N2715: 20696180 | O2715: 246825.57 | P2715: not_exp | Q2715: 4311057 | R2715: 229504.29
A2716: Cyan Fluorescent Protein | D2716: BL-1S | E2716: Unchanged | F2716: 1.8470682 | G2716: 1.2803416 | H2716: 13890039 | I2716: 9901946.9 | J2716: 9.2178841e+08 | K2716: 53925072 | L2716: 49971963 | M2716: 23945012 | N2716: 23920108 | O2716: 21659087 | P2716: exp | Q2716: 1601581.6 | R2716: 104781.63
A2717: Periplasmic chaperone Spy (Spheroplast protein Y) | B2717: spy ECBD_1902 | C2717: C6ECL5 | D2717: BL-1S | E2717: Unchanged | F2717: -0.48362944 | G2717: 1.8236699 | H2717: 667973.25 | I2717: 85505.819 | J2717: 849864.17 | K2717: 36502.449 | L2717: 477718.54 | M2717: 47328.094 | N2717: 415858.19 | O2717: 40069.202 | P2717: not_exp | Q2717: 1585714.3 | R2717: 81282.564
A2718: Rhodanese domain protein | B2718: ECBD_0114 | C2718: A0A140N2P2 | D2718: BL-1S | E2718: Unchanged | F2718: 0.090895941 | G2718: 0.5390356 | H2718: 11788656 | I2718: 906250.6 | J2718: 12399796 | K2718: 756739.92 | L2718: 12555288 | M2718: 694710.87 | N2718: 12736899 | O2718: 851610.78 | P2718: not_exp | Q2718: 2753217.2 | R2718: 91101.918
A2719: IS600 orf | B2719: ECBD_0527 | C2719: A0A140N307 | D2719: BL-1S | E2719: Low | F2719: -1.916586 | G2719: 4.6467004 | H2719: 328048.65 | I2719: 15635.113 | J2719: 326597.42 | K2719: 5662.3546 | L2719: 86893.718 | M2719: 31811.088 | N2719: 135036.37 | O2719: 25271.051 | P2719: not_exp | Q2719: 866971.25 | R2719: 42249.949
A2720: Universal stress protein | B2720: ECBD_0246 | C2720: A0A140N312 | D2720: BL-1S | E2720: Low | F2720: -0.9391046 | G2720: 3.254036 | H2720: 1642492.5 | I2720: 182320.59 | J2720: 1797294.5 | K2720: 260264.72 | L2720: 856652.62 | M2720: 92800.848 | N2720: 871948.31 | O2720: 76093.564 | P2720: not_exp | Q2720: 4482841 | R2720: 184496.46
A2721: Hydrogenase assembly chaperone hypC/hupF | B2721: ECBD_0748 | C2721: A0A140N3K3 | D2721: BL-1S | E2721: Unchanged | F2721: 0.19912135 | G2721: 0.59955386 | H2721: 118806.56 | I2721: 14323.873 | J2721: 165072.7 | K2721: 31231.174 | L2721: 136389.81 | M2721: 19256.09 | N2721: 130146.59 | O2721: 19392.344 | P2721: not_exp | Q2721: 1066345.7 | R2721: 67676.121
A2722: AsmA family protein | B2722: ECBD_0069 | C2722: A0A140N3K4 | D2722: BL-1S | E2722: Low | F2722: -0.5139474 | G2722: 4.0433354 | H2722: 457383.76 | I2722: 20602.945 | J2722: 446533.8 | K2722: 34286.197 | L2722: 320307.53 | M2722: 15334.898 | N2722: 319290.25 | O2722: 29346.078 | P2722: not_exp | Q2722: 108015.97 | R2722: 11181.133
A2723: BolA family protein | B2723: ECBD_0552 | C2723: A0A140N3R5 | D2723: BL-1S | E2723: Unchanged | F2723: -0.094747015 | G2723: 1.1152605 | H2723: 2464854.8 | I2723: 64530.545 | J2723: 2405535.4 | K2723: 104539.36 | L2723: 2308179.8 | M2723: 109513.46 | N2723: 2216004.1 | O2723: 84049.538 | P2723: not_exp | Q2723: 6204764.9 | R2723: 437726.24
A2724: UPF0441 protein YgiB | B2724: ygiB ECBD_0703 | C2724: A0A140N443 | D2724: BL-1S | E2724: Low | F2724: -0.80833402 | G2724: 3.2394384 | H2724: 1661043.8 | I2724: 142177.55 | J2724: 1069280.9 | K2724: 33078.552 | L2724: 948523.97 | M2724: 120939.79 | N2724: 922241.16 | O2724: 49634.101 | P2724: not_exp | Q2724: 95408.271 | R2724: 32034.085
...

Sheet Fig. 3D
A1: Figure 3D: The sum of protein intensity in each category for each extract is presented as percentages of the total protein intensity in that extract.
B3: Extract Name | C3: General Protein Category | D3: Percent of total protein
B4: BL21 | C4: Gene Expression | D4: 39.161006
B5: BL-CFP | C5: Gene Expression | D5: 40.906432
B6: BL-1S | C6: Gene Expression | D6: 55.493334
B7: BL-7S | C7: Gene Expression | D7: 57.716563
B8: BL21 | C8: Homeostasis | D8: 13.930911
B9: BL-CFP | C9: Homeostasis | D9: 13.420432
B10: BL-1S | C10: Homeostasis | D10: 10.97702
B11: BL-7S | C11: Homeostasis | D11: 10.552019
B12: BL21 | C12: Metabolism | D12: 41.575901
B13: BL-CFP | C13: Metabolism | D13: 35.994078
B14: BL-1S | C14: Metabolism | D14: 28.757629
B15: BL-7S | C15: Metabolism | D15: 27.18607
... B23: BL-7S | C23: Regulation | D23: 2.0991019

Sheet Fig. 3E
A1: Figure 3E: The identified proteins were further subdivided into more specific functional groups.
B3: Category | C3: BL-CFP | D3: BL-1S | E3: BL-7S
B4: Amino Acid Metabolism | C4: -0.1228594 | D4: -0.26561471 | E4: -0.28557163
B5: Cell Division | C5: 0.017034788 | D5: -0.070909492 | E5: -0.072539384
