Workbook

Sheet SPLASH standards
A1: SPLASH from Xevo | F1: 0.5_ul | H1: 2.0_ul | J1: 10.0_ul
A2: Splash Lipidomix mass spec standard 330707 | B2: nmol in 0.5 ul | C2: nmol in 2 ul | D2: nmol in 10 ul | E2: Average per uL | F2: ave | G2: stdev | H2: ave | I2: stdev | J2: ave | K2: stdev | M2: Detected/Added | O2: Divide by these values:Detected/Added
A3: 18:1(d7) LPE | B3: 0.0051402676 | C3: 0.02056107 | D3: 0.10280535 | E3: 0.010280535 | F3: 0.00582 | G3: 0.00052153619 | H3: 0.02278 | I3: 0.002021633 | J3: 0.10966 | K3: 0.010587398 | L3: 0.011332 | M3: 1.1022772 | O3: 1.1022772 | P3: 18:1(d7) LPE
A4: 15:0-18:1(d7) PE | B4: 0.0035183022 | C4: 0.014073209 | D4: 0.070366044 | E4: 0.0070366044 | F4: 0.00256 | G4: 0.001121606 | H4: 0.01058 | I4: 0.0026499057 | J4: 0.06154 | K4: 0.0035168167 | L4: 0.0055213333 | M4: 0.78465877 | N4: PE low | O4: 0.78465877 | P4: 15:0-18:1(d7) PE
A5: 18:1(d7) LPC | B5: 0.023656191 | C5: 0.094624765 | D5: 0.47312382 | E5: 0.047312382 | F5: 0.02584 | G5: 0.0012798437 | H5: 0.09654 | I5: 0.0033797929 | J5: 0.45516 | K5: 0.018786511 | L5: 0.048488667 | M5: 1.0248621 | O5: 1.0248621 | P5: 18:1(d7) LPC
A6: 18:1(d9) SM | B6: 0.020334745 | C6: 0.081338981 | D6: 0.4066949 | E6: 0.04066949 | F6: 0.02002 | G6: 0.0016099689 | H6: 0.07354 | I6: 0.0021454603 | J6: 0.39852 | K6: 0.010549265 | L6: 0.038887333 | M6: 0.95617951 | O6: 0.95617951 | P6: 18:1(d9) SM
A7: 15:0-18:1(d7) PC | B7: 0.10629578 | C7: 0.42518312 | D7: 2.1259156 | E7: 0.21259156 | F7: 0.13078 | G7: 0.0089015167 | H7: 0.48938 | I7: 0.012257732 | J7: 2.43362 | K7: 0.019173993 | L7: 0.24987067 | M7: 1.1753555 | O7: 1.1753555 | P7: 15:0-18:1(d7) PC
A8: 15:0-18:1(d7) PI | B8: 0.0060271419 | C8: 0.024108568 | D8: 0.12054284 | E8: 0.012054284 | F8: 0.0088 | G8: 0.0076974022 | H8: 0.05718 | I8: 0.016787108 | J8: 0.18086 | K8: 0.052835055 | L8: 0.021425333 | M8: 1.7774041 | N8: PI high | O8: 1.7774041 | P8: 15:0-18:1(d7) PI
A9: 15:0-18:1(d7) PS | B9: 0.00331319 | C9: 0.01325276 | D9: 0.0662638 | E9: 0.00662638 | F9: 0.0016 | G9: 0.00088317609 | H9: 0.00884 | I9: 0.0014380542 | J9: 0.03462 | K9: 0.0028525427 | L9: 0.003694 | M9: 0.55746878 | N9: PS low | O9: 0.55746878 | P9: 15:0-18:1(d7) PS
A10: 15:0-18:1(d7) PA | B10: 0.0052432273 | C10: 0.020972909 | D10: 0.10486455 | E10: 0.010486455 | F10: 0.00446 | G10: 0.0018622567 | H10: 0.01482 | I10: 0.0028349603 | J10: 0.07178 | K10: 0.0045996739 | L10: 0.007836 | M10: 0.74724969 | N10: PA low | O10: 0.74724969 | P10: 15:0-18:1(d7) PA
A11: 18:1(d7) Chol Ester | B11: 0.26609697 | C11: 1.0643879 | D11: 5.3219393 | E11: 0.53219393 | F11: 0.49634 | G11: 0.038633832 | H11: 2.24304 | I11: 0.083743674 | J11: 12.53556 | K11: 0.57537052 | L11: 1.1225853 | M11: 2.1093539 | N11: CE high | O11: 2.1093539 | P11: 18:1(d7) Chol Ester

Sheet All lipids detected 
F2: Collected from mice at 6 Months after fed either RCD or HFD (nmols) | H2: Collected from mice at 12 Months after fed either RCD or HFD (nmols) | J2: Human (nmols)
C3: Mass | D3: Compound Formula | E3: Compou-nd Name | F3: L-Exo 6M (n=10) | G3: H-Exo 6M | H3: L-Exo | I3: H-Exo | J3: Healthy-Exo | K3: T2D-Exo
G4: (n=10) | H4: 12M | I4: 12M | J4: (n=5) | K4: (n=7)
H5: (n=10) | I5: (n=10)
C6: 494.3 | D6: C24H48O7PN | E6: LPC(16:1) | F6: 0.01 | G6: 0 | H6: 0.01 | I6: 0.62 | J6: 0.03 | K6: 0
C7: 496.3 | D7: C24H50O7PN | E7: LPC(16:0) | F7: 0.05 | G7: 0.56 | H7: 0.54 | I7: 56.02 | J7: 7.36 | K7: 0.08
C8: 518.3 | D8: C26H48O7PN | E8: LPC(18:3) | F8: 0.01 | G8: 0.13 | H8: 0 | I8: 10.66 | J8: 0.12 | K8: 0.03
C9: 520.3 | D9: C26H50O7PN | E9: LPC(18:2) | F9: 0.05 | G9: 0.47 | H9: 0 | I9: 106.07 | J9: 2.37 | K9: 0.1
C10: 522.3 | D10: C26H52O7PN | E10: LPC(18:1) | F10: 0.01 | G10: 0.27 | H10: 0.01 | I10: 26.23 | J10: 0.65 | K10: 0.05
C11: 524.4 | D11: C26H54O7PN | E11: LPC(18:0) | F11: 0.06 | G11: 1.6 | H11: 0.2 | I11: 13.68 | J11: 0.89 | K11: 0.06
C12: 542.3 | D12: C28H48O7PN | E12: LPC(20:5) | F12: 0.01 | G12: 0 | H12: 0.01 | I12: 0 | J12: 0.02 | K12: 0
C13: 544.3 | D13: C28H50O7PN | E13: LPC(20:4) | F13: 0 | G13: 0.03 | H13: 0.01 | I13: 0 | J13: 0 | K13: 0.02
C14: 546.3 | D14: C28H52O7PN | E14: LPC(20:3) | F14: 0 | G14: 0 | H14: 0 | I14: 0 | J14: 0 | K14: 0
C15: 548.4 | D15: C28H54O7PN | E15: LPC(20:2) | F15: 0 | G15: 0 | H15: 0 | I15: 0.33 | J15: 0 | K15: 0
C16: 550.4 | D16: C28H56O7PN | E16: LPC(20:1) | F16: 0 | G16: 0.08 | H16: 0 | I16: 2.3 | J16: 0.08 | K16: 0
C17: 552.4 | D17: C28H58O7PN | E17: LPC(20:0) | F17: 0.01 | G17: 0.08 | H17: 0.03 | I17: 3.21 | J17: 0.09 | K17: 0.03
... C19: 570.3 | D19: C30H52O7PN | E19: LPC(22:5) | F19: 0 | G19: 0 | H19: 0.01 | I19: 0.84 | J19: 0 | K19: 0.03
C20: Total LysoPC | E20: Total LysoPC | F20: 0.22 | G20: 3.2 | H20: 0.81 | I20: 221.82 | J20: 0.67 | K20: 0.65
C21: 676.5 | D21: C36H70O8PN | E21: PC(28:1) | F21: 0 | G21: 0 | H21: 0 | I21: 0.26 | J21: 0.09 | K21: 0
C22: 704.5 | D22: C38H74O8PN | E22: PC(30:1) | F22: 0 | G22: 0.02 | H22: 0.09 | I22: 0.32 | J22: 0.02 | K22: 0
C23: 706.5 | D23: C38H76O8PN | E23: PC(30:0) | F23: 0.04 | G23: 0.16 | H23: 0.15 | I23: 1.01 | J23: 0.34 | K23: 0.01
C24: 730.5 | D24: C40H76O8PN | E24: PC(32:2) | F24: 0.01 | G24: 0.08 | H24: 0 | I24: 0.22 | J24: 0 | K24: 0.9
C25: 732.5 | D25: C40H78O8PN | E25: PC(32:1) | F25: 0.03 | G25: 0.16 | H25: 0.1 | I25: 0.65 | J25: 0.1 | K25: 0.03
C26: 734.6 | D26: C40H80O8PN | E26: PC(32:0) | F26: 0.09 | G26: 1.34 | H26: 0.32 | I26: 1.72 | J26: 0.4 | K26: 0.42
C27: 754.5 | D27: C42H76O8PN | E27: PC(34:4) | F27: 0 | G27: 0 | H27: 0 | I27: 0.03 | J27: 0 | K27: 0.41
C28: 756.5 | D28: C42H78O8PN | E28: PC(34:3) | F28: 0 | G28: 0.14 | H28: 0 | I28: 1.14 | J28: 0.06 | K28: 0.5
C29: 758.6 | D29: C42H80O8PN | E29: PC(34:2) | F29: 0.11 | G29: 1.92 | H29: 0 | I29: 21.9 | J29: 0.73 | K29: 7.17
C30: 760.6 | D30: C42H82O8PN | E30: PC(34:1) | F30: 0.12 | G30: 2.26 | H30: 0.1 | I30: 6.39 | J30: 1.28 | K30: 2.17
C31: 762.6 | D31: C42H84O8PN | E31: PC(34:0) | F31: 0.04 | G31: 0.53 | H31: 0.1 | I31: 0.64 | J31: 0.15 | K31: 0.01
C32: 778.5 | D32: C44H76O8PN | E32: PC(36:6) | F32: 0.01 | G32: 0.12 | H32: 0 | I32: 0 | J32: 0 | K32: 0.01
... C73: 898.7 | D73: C52H100O8PN | E73: PC(44:2) | F73: 0 | G73: 0 | H73: 0 | I73: 0 | J73: 0 | K73: 0
C74: Total PC | E74: Total PC | F74: 0.83 | G74: 14.55 | H74: 0.97 | I74: 101.49 | J74: 0.3 | K74: 10.22
C75: 701.5 | D75: C39H77N2O6P | E75: SM(16:1) | F75: 0 | G75: 0 | H75: 0.04 | I75: 0.2 | J75: 0 | K75: 0
C76: 703.6 | D76: C39H79N2O6P | E76: SM(16:0) | F76: 1.17 | G76: 8.87 | H76: 4.14 | I76: 9.48 | J76: 8.38 | K76: 0.34
C77: 705.6 | D77: C39H81N2O6P | E77: DSM(16:0) | F77: 0.39 | G77: 3.08 | H77: 1.22 | I77: 1.55 | J77: 4.51 | K77: 0.25
C78: 729.6 | D78: C41H81N2O6P | E78: SM(18:1) | F78: 0 | G78: 0 | H78: 0 | I78: 0.13 | J78: 0 | K78: 0
C79: 731.6 | D79: C41H83N2O6P | E79: SM(18:0) | F79: 0.03 | G79: 0.44 | H79: 0.08 | I79: 0.55 | J79: 0.62 | K79: 0.06
C80: 733.6 | D80: C41H85N2O6P | E80: DSM(18:0) | F80: 0.02 | G80: 0.25 | H80: 0.07 | I80: 0.41 | J80: 0.39 | K80: 0
C81: 785.6 | D81: C45H89N2O6P | E81: SM(22:1) | F81: 0.05 | G81: 0.35 | H81: 0 | I81: 3.84 | J81: 0 | K81: 0
C82: 787.7 | D82: C45H91N2O6P | E82: SM(22:0) | F82: 0.09 | G82: 0.84 | H82: 0.15 | I82: 5.02 | J82: 1.45 | K82: 0.02
C83: 789.7 | D83: C45H93N2O6P | E83: DSM(22:0) | F83: 0.03 | G83: 0.2 | H83: 0.11 | I83: 1.02 | J83: 0.98 | K83: 0.02
C84: 813.7 | D84: C47H93N2O6P | E84: SM(24:1) | F84: 0.14 | G84: 0.28 | H84: 0.45 | I84: 2.42 | J84: 0.57 | K84: 0.04
C85: 815.7 | D85: C47H95N2O6P | E85: SM(24:0) | F85: 0.11 | G85: 0.42 | H85: 0.35 | I85: 2.74 | J85: 1.63 | K85: 0.09
C86: 817.7 | D86: C47H97N2O6P | E86: DSM(24:0) | F86: 0.04 | G86: 0.4 | H86: 0.18 | I86: 0 | J86: 1.22 | K86: 0.07
C87: Total SM and DSM | E87: Total SM and DSM | F87: 2.07 | G87: 15.14 | H87: 6.79 | I87: 27.34 | J87: 19.73 | K87: 0.9
C88: 714.5 | D88: C40H76O7PN | E88: ePC(32:3) | F88: 0 | G88: 0 | H88: 0 | I88: 0 | J88: 0 | K88: 0
C89: 716.6 | D89: C40H78O7PN | E89: ePC(32:2) | F89: 0.01 | G89: 0 | H89: 0.01 | I89: 0.04 | J89: 0 | K89: 0
C90: 718.6 | D90: C40H80O7PN | E90: ePC(32:1) | F90: 0.05 | G90: 0.27 | H90: 0.17 | I90: 0.27 | J90: 0.09 | K90: 0
C91: 720.6 | D91: C40H82O7PN | E91: ePC(32:0) | F91: 0.05 | G91: 0.32 | H91: 0.19 | I91: 0.5 | J91: 0.26 | K91: 0.01
C92: 740.6 | D92: C42H78O7PN | E92: ePC(34:4) | F92: 0 | G92: 0 | H92: 0 | I92: 0.06 | J92: 0 | K92: 0
C93: 742.6 | D93: C42H80O7PN | E93: ePC(34:3) | F93: 0.04 | G93: 0.05 | H93: 0.15 | I93: 0.17 | J93: 0 | K93: 0
C94: 744.6 | D94: C42H82O7PN | E94: ePC(34:2) | F94: 0.05 | G94: 0.72 | H94: 0.14 | I94: 0.38 | J94: 0.1 | K94: 0.02
C95: 746.6 | D95: C42H84O7PN | E95: ePC(34:1) | F95: 0.05 | G95: 0.6 | H95: 0.13 | I95: 0.56 | J95: 0.16 | K95: 0.02
C96: 748.6 | D96: C42H86O7PN | E96: ePC(34:0) | F96: 0.02 | G96: 0.2 | H96: 0.06 | I96: 0.27 | J96: 0.11 | K96: 0.01
C97: 766.6 | D97: C44H80O7PN | E97: ePC(36:5) | F97: 0.02 | G97: 0.63 | H97: 0.1 | I97: 0.28 | J97: 0 | K97: 0
C98: 768.6 | D98: C44H82O7PN | E98: ePC(36:4) | F98: 0.02 | G98: 0.51 | H98: 0.04 | I98: 0.16 | J98: 0.77 | K98: 0.03
C99: 770.6 | D99: C44H84O7PN | E99: ePC(36:3) | F99: 0.01 | G99: 0.25 | H99: 0 | I99: 0.22 | J99: 0.03 | K99: 0.01
... C114: 828.7 | D114: C48H94O7PN | E114: ePC(40:2) | F114: 0 | G114: 0 | H114: 0 | I114: 0.21 | J114: 0 | K114: 0
C115: Total ePC | E115: Total ePC | F115: 0.51 | G115: 9.98 | H115: 1.23 | I115: 8.26 | J115: 1.43 | K115: 1.32
C116: 452.3 | D116: C21H42O7PN | E116: LPE(16:1) | F116: 0 | G116: 0 | H116: 0.36 | I116: 0.17 | J116: 0.63 | K116: 0
C117: 454.3 | D117: C21H44O7PN | E117: LPE(16:0) | F117: 0.22 | G117: 0.92 | H117: 1.29 | I117: 0.1 | J117: 1.64 | K117: 0.22
C118: 476.3 | D118: C23H42O7PN | E118: LPE(18:3) | F118: 0.06 | G118: 0 | H118: 0.16 | I118: 0.08 | J118: 0.82 | K118: 0
C119: 478.3 | D119: C23H44O7PN | E119: LPE(18:2) | F119: 0 | G119: 0.17 | H119: 0.26 | I119: 0.04 | J119: 0.2 | K119: 0.85
C120: 480.3 | D120: C23H46O7PN | E120: LPE(18:1) | F120: 0.06 | G120: 0.08 | H120: 0.31 | I120: 0.09 | J120: 0.26 | K120: 0.18
C121: 500.3 | D121: C25H42O7PN | E121: LPE(20:5) | F121: 0.02 | G121: 0 | H121: 0 | I121: 0 | J121: 0 | K121: 0.24
C122: 502.3 | D122: C25H44O7PN | E122: LPE(20:4) | F122: 0 | G122: 0 | H122: 0.08 | I122: 0.58 | J122: 0 | K122: 0.05
C123: 504.3 | D123: C25H46O7PN | E123: LPE(20:3) | F123: 0.01 | G123: 0 | H123: 0.25 | I123: 0 | J123: 0 | K123: 0.06
C124: 506.3 | D124: C25H48O7PN | E124: LPE(20:2) | F124: 0 | G124: 0.01 | H124: 0.02 | I124: 0.14 | J124: 0.52 | K124: 0
C125: 508.3 | D125: C25H50O7PN | E125: LPE(20:1) | F125: 0 | G125: 0.15 | H125: 0.04 | I125: 0.02 | J125: 0 | K125: 0
C126: 510.3 | D126: C25H52O7PN | E126: LPE(20:0) | F126: 0.08 | G126: 0.51 | H126: 0.39 | I126: 0.15 | J126: 0 | K126: 0.98
C127: 526.3 | D127: C27H44O7PN | E127: LPE(22:6) | F127: 0.02 | G127: 0.15 | H127: 0.08 | I127: 0.03 | J127: 0.38 | K127: 0
C128: 528.3 | D128: C27H46O7PN | E128: LPE(22:5) | F128: 0.01 | G128: 0.34 | H128: 0.04 | I128: 0 | J128: 0 | K128: 0
C129: Total LysoPE | E129: Total LysoPE | F129: 0.48 | G129: 2.33 | H129: 3.25 | I129: 1.41 | J129: 4.44 | K129: 2.58
C130: 634.4 | D130: C33H64O8PN | E130: PE(28:1) | F130: 0 | G130: 0 | H130: 0 | I130: 0 | J130: 0.18 | K130: 0
C131: 636.5 | D131: C33H66O8PN | E131: PE(28:0) | F131: 2.58 | G131: 0.16 | H131: 7.21 | I131: 0.23 | J131: 0 | K131: 0.98
C132: 662.5 | D132: C35H68O8PN | E132: PE(30:1) | F132: 0.13 | G132: 0 | H132: 0.48 | I132: 0.01 | J132: 0 | K132: 0.26
C133: 664.5 | D133: C35H70O8PN | E133: PE(30:0) | F133: 33.8 | G133: 5.32 | H133: 106.39 | I133: 2.6 | J133: 4.66 | K133: 17.27
C134: 688.5 | D134: C37H70O8PN | E134: PE(32:2) | F134: 1.23 | G134: 0 | H134: 4.18 | I134: 0.11 | J134: 0 | K134: 1.66
C135: 690.5 | D135: C37H72O8PN | E135: PE(32:1) | F135: 0.85 | G135: 0.17 | H135: 2.73 | I135: 0.17 | J135: 0.41 | K135: 2.69
C136: 692.5 | D136: C37H74O8PN | E136: PE(32:0) | F136: 2.14 | G136: 0.51 | H136: 6.56 | I136: 0.32 | J136: 0.47 | K136: 1.1
C137: 712.5 | D137: C39H70O8PN | E137: PE(34:4) | F137: 0.16 | G137: 0.07 | H137: 0.34 | I137: 0 | J137: 0.09 | K137: 0.18
C138: 714.5 | D138: C39H72O8PN | E138: PE(34:3) | F138: 0.58 | G138: 0 | H138: 0.53 | I138: 0 | J138: 0.74 | K138: 0.84
C139: 716.5 | D139: C39H74O8PN | E139: PE(34:2) | F139: 5.78 | G139: 0.92 | H139: 18.44 | I139: 0 | J139: 1.93 | K139: 10.53
C140: 718.5 | D140: C39H76O8PN | E140: PE(34:1) | F140: 2.74 | G140: 0.84 | H140: 8.76 | I140: 0.55 | J140: 1.1 | K140: 7.09
C141: 720.5 | D141: C39H78O8PN | E141: PE(34:0) | F141: 0 | G141: 0.07 | H141: 0.4 | I141: 0.06 | J141: 0.07 | K141: 0
... C182: 856.7 | D182: C49H94O8PN | E182: PE(44:2) | F182: 0 | G182: 0 | H182: 0 | I182: 0 | J182: 0 | K182: 0
C183: Total PE | E183: Total PE | F183: 52.19 | G183: 9.1 | H183: 161.35 | I183: 5.17 | J183: 18.97 | K183: 45.08
C184: 659.5 | D184: C36H71O6PN2 | E184: PE-Cer(16:1) | F184: 0.02 | G184: 0 | H184: 0.05 | I184: 0.01 | J184: 0 | K184: 0.05
C185: 661.5 | D185: C36H73O6PN2 | E185: PE-Cer(16:0) | F185: 0.02 | G185: 0 | H185: 0 | I185: 0.06 | J185: 0.15 | K185: 0.03
C186: 687.5 | D186: C38H75O6PN2 | E186: PE-Cer(18:1) | F186: 0.53 | G186: 0.07 | H186: 1.35 | I186: 0.01 | J186: 0.05 | K186: 0.33
C187: 689.5 | D187: C38H77O6PN2 | E187: PE-Cer(18:0) | F187: 0 | G187: 0.26 | H187: 0.12 | I187: 0.02 | J187: 0.05 | K187: 0
C188: 773.6 | D188: C44H89O6PN2 | E188: PE-Cer(24:0) | F188: 0 | G188: 0 | H188: 0 | I188: 0 | J188: 0 | K188: 0
C189: Total PE-Cer | E189: Total PE-Cer | F189: 0.58 | G189: 0.33 | H189: 1.52 | I189: 0.11 | J189: 0.24 | K189: 0.41
C190: 672.5 | D190: C37H70O7PN | E190: ePE(32:3) | F190: 0.49 | G190: 0 | H190: 0.78 | I190: 0.06 | J190: 0 | K190: 0.2
C191: 674.5 | D191: C37H72O7PN | E191: ePE(32:2) | F191: 0.08 | G191: 0.02 | H191: 0.44 | I191: 0 | J191: 0.05 | K191: 0.16
C192: 676.5 | D192: C37H74O7PN | E192: ePE(32:1) | F192: 0.45 | G192: 0 | H192: 1.88 | I192: 0 | J192: 0 | K192: 0.97
C193: 678.5 | D193: C37H76O7PN | E193: ePE(32:0) | F193: 21.41 | G193: 3.96 | H193: 65.37 | I193: 1.79 | J193: 5.94 | K193: 14.88
C194: 698.5 | D194: C39H72O7PN | E194: ePE(34:4) | F194: 0.04 | G194: 0.2 | H194: 0.12 | I194: 0.02 | J194: 0 | K194: 0.04
C195: 700.5 | D195: C39H74O7PN | E195: ePE(34:3) | F195: 0.83 | G195: 0.01 | H195: 2.92 | I195: 0.01 | J195: 0.12 | K195: 0.85
C196: 702.5 | D196: C39H76O7PN | E196: ePE(34:2) | F196: 7.56 | G196: 1.04 | H196: 25.15 | I196: 0.56 | J196: 2.14 | K196: 9.04
...

Sheet summary
F1: samples left as individuals, no grouping or averaging
A2: Summary | E2: ='signals to nmols'!E2 -> signal per mg dry lipid weight
E3: L-Exo 6M | F3: H-Exo 6M | G3: L-Exo 12M | H3: H-Exo 12M | I3: Healthy-Exo | J3: T2D-Exo
A4: Mass | B4: Compound Formula | C4: Compound Name | D4: alternate I.D. | E4: ='signals to nmols'!E4 -> sample01 | F4: ='signals to nmols'!F4 -> sample02
A5: ='imported summary from web'!A4 -> 494.3 | B5: ='imported summary from web'!B4 -> C24H48O7PN | C5: ='imported summary from web'!C4 -> LPC(16:1) | E5: 0.01 | F5: 0 | G5: 0.01 | H5: 0.62 | I5: 0.03 | J5: 0
A6: ='imported summary from web'!A5 -> 496.3 | B6: ='imported summary from web'!B5 -> C24H50O7PN | C6: ='imported summary from web'!C5 -> LPC(16:0) | E6: 0.05 | F6: 0.56 | G6: 0.54 | H6: 56.02 | I6: 7.36 | J6: 0.08
A7: ='imported summary from web'!A6 -> 518.3 | B7: ='imported summary from web'!B6 -> C26H48O7PN | C7: ='imported summary from web'!C6 -> LPC(18:3) | E7: 0.01 | F7: 0.13 | G7: 0 | H7: 10.66 | I7: 0.12 | J7: 0.03
A8: ='imported summary from web'!A7 -> 520.3 | B8: ='imported summary from web'!B7 -> C26H50O7PN | C8: ='imported summary from web'!C7 -> LPC(18:2) | E8: 0.05 | F8: 0.47 | G8: 0 | H8: 106.07 | I8: 2.37 | J8: 0.1
A9: ='imported summary from web'!A8 -> 522.3 | B9: ='imported summary from web'!B8 -> C26H52O7PN | C9: ='imported summary from web'!C8 -> LPC(18:1) | E9: 0.01 | F9: 0.27 | G9: 0.01 | H9: 26.23 | I9: 0.65 | J9: 0.05
A10: ='imported summary from web'!A9 -> 524.4 | B10: ='imported summary from web'!B9 -> C26H54O7PN | C10: ='imported summary from web'!C9 -> LPC(18:0) | E10: 0.06 | F10: 1.6 | G10: 0.2 | H10: 13.68 | I10: 0.89 | J10: 0.06
A11: ='imported summary from web'!A10 -> 542.3 | B11: ='imported summary from web'!B10 -> C28H48O7PN | C11: ='imported summary from web'!C10 -> LPC(20:5) | E11: 0.01 | F11: 0 | G11: 0.01 | H11: 0 | I11: 0.02 | J11: 0
A12: ='imported summary from web'!A11 -> 544.3 | B12: ='imported summary from web'!B11 -> C28H50O7PN | C12: ='imported summary from web'!C11 -> LPC(20:4) | E12: 0 | F12: 0.03 | G12: 0.01 | H12: 0 | I12: 0 | J12: 0.02
A13: ='imported summary from web'!A12 -> 546.3 | B13: ='imported summary from web'!B12 -> C28H52O7PN | C13: ='imported summary from web'!C12 -> LPC(20:3) | E13: 0 | F13: 0 | G13: 0 | H13: 0 | I13: 0 | J13: 0
A14: ='imported summary from web'!A13 -> 548.4 | B14: ='imported summary from web'!B13 -> C28H54O7PN | C14: ='imported summary from web'!C13 -> LPC(20:2) | E14: 0 | F14: 0 | G14: 0 | H14: 0.33 | I14: 0 | J14: 0
A15: ='imported summary from web'!A14 -> 550.4 | B15: ='imported summary from web'!B14 -> C28H56O7PN | C15: ='imported summary from web'!C14 -> LPC(20:1) | E15: 0 | F15: 0.08 | G15: 0 | H15: 2.3 | I15: 0.08 | J15: 0
A16: ='imported summary from web'!A15 -> 552.4 | B16: ='imported summary from web'!B15 -> C28H58O7PN | C16: ='imported summary from web'!C15 -> LPC(20:0) | E16: 0.01 | F16: 0.08 | G16: 0.03 | H16: 3.21 | I16: 0.09 | J16: 0.03
... A18: ='imported summary from web'!A17 -> 570.3 | B18: ='imported summary from web'!B17 -> C30H52O7PN | C18: ='imported summary from web'!C17 -> LPC(22:5) | E18: 0 | F18: 0 | G18: 0.01 | H18: 0.84 | I18: 0 | J18: 0.03
A19: Total LysoPC | C19: Total LysoPC | E19: 0.22 | F19: 3.2 | G19: 0.81 | H19: 221.82 | I19: 0.67 | J19: 0.65
A20: ='imported summary from web'!A20 -> 676.5 | B20: ='imported summary from web'!B20 -> C36H70O8PN | C20: ='imported summary from web'!C20 -> PC(28:1) | E20: 0 | F20: 0 | G20: 0 | H20: 0.26 | I20: 0.09 | J20: 0
A21: ='imported summary from web'!A23 -> 704.5 | B21: ='imported summary from web'!B23 -> C38H74O8PN | C21: ='imported summary from web'!C23 -> PC(30:1) | E21: 0 | F21: 0.02 | G21: 0.09 | H21: 0.32 | I21: 0.02 | J21: 0
A22: ='imported summary from web'!A25 -> 706.5 | B22: ='imported summary from web'!B25 -> C38H76O8PN | C22: ='imported summary from web'!C25 -> PC(30:0) | E22: 0.04 | F22: 0.16 | G22: 0.15 | H22: 1.01 | I22: 0.34 | J22: 0.01
A23: ='imported summary from web'!A31 -> 730.5 | B23: ='imported summary from web'!B31 -> C40H76O8PN | C23: ='imported summary from web'!C31 -> PC(32:2) | E23: 0.01 | F23: 0.08 | G23: 0 | H23: 0.22 | I23: 0 | J23: 0.9
A24: ='imported summary from web'!A33 -> 732.5 | B24: ='imported summary from web'!B33 -> C40H78O8PN | C24: ='imported summary from web'!C33 -> PC(32:1) | E24: 0.03 | F24: 0.16 | G24: 0.1 | H24: 0.65 | I24: 0.1 | J24: 0.03
A25: ='imported summary from web'!A35 -> 734.6 | B25: ='imported summary from web'!B35 -> C40H80O8PN | C25: ='imported summary from web'!C35 -> PC(32:0) | E25: 0.09 | F25: 1.34 | G25: 0.32 | H25: 1.72 | I25: 0.4 | J25: 0.42
A26: ='imported summary from web'!A41 -> 754.5 | B26: ='imported summary from web'!B41 -> C42H76O8PN | C26: ='imported summary from web'!C41 -> PC(34:4) | E26: 0 | F26: 0 | G26: 0 | H26: 0.03 | I26: 0 | J26: 0.41
A27: ='imported summary from web'!A42 -> 756.5 | B27: ='imported summary from web'!B42 -> C42H78O8PN | C27: ='imported summary from web'!C42 -> PC(34:3) | E27: 0 | F27: 0.14 | G27: 0 | H27: 1.14 | I27: 0.06 | J27: 0.5
A28: ='imported summary from web'!A43 -> 758.6 | B28: ='imported summary from web'!B43 -> C42H80O8PN | C28: ='imported summary from web'!C43 -> PC(34:2) | E28: 0.11 | F28: 1.92 | G28: 0 | H28: 21.9 | I28: 0.73 | J28: 7.17
A29: ='imported summary from web'!A44 -> 760.6 | B29: ='imported summary from web'!B44 -> C42H82O8PN | C29: ='imported summary from web'!C44 -> PC(34:1) | E29: 0.12 | F29: 2.26 | G29: 0.1 | H29: 6.39 | I29: 1.28 | J29: 2.17
A30: ='imported summary from web'!A45 -> 762.6 | B30: ='imported summary from web'!B45 -> C42H84O8PN | C30: ='imported summary from web'!C45 -> PC(34:0) | E30: 0.04 | F30: 0.53 | G30: 0.1 | H30: 0.64 | I30: 0.15 | J30: 0.01
A31: ='imported summary from web'!A52 -> 778.5 | B31: ='imported summary from web'!B52 -> C44H76O8PN | C31: ='imported summary from web'!C52 -> PC(36:6) | E31: 0.01 | F31: 0.12 | G31: 0 | H31: 0 | I31: 0 | J31: 0.01
A32: ='imported summary from web'!A53 -> 780.5 | B32: ='imported summary from web'!B53 -> C44H78O8PN | C32: ='imported summary from web'!C53 -> PC(36:5) | E32: 0.02 | F32: 0.1 | G32: 0 | H32: 5.44 | I32: 0.13 | J32: 0.01
A33: ='imported summary from web'!A54 -> 782.6 | B33: ='imported summary from web'!B54 -> C44H80O8PN | C33: ='imported summary from web'!C54 -> PC(36:4) | E33: 0.06 | F33: 1.6 | G33: 0 | H33: 32.76 | I33: 0.15 | J33: 0.05
A34: ='imported summary from web'!A55 -> 784.6 | B34: ='imported summary from web'!B55 -> C44H82O8PN | C34: ='imported summary from web'!C55 -> PC(36:3) | E34: 0.04 | F34: 0.64 | G34: 0 | H34: 12.92 | I34: 0.41 | J34: 0.08
A35: ='imported summary from web'!A57 -> 786.6 | B35: ='imported summary from web'!B57 -> C44H84O8PN | C35: ='imported summary from web'!C57 -> PC(36:2) | E35: 0.04 | F35: 0.85 | G35: 0 | H35: 7.75 | I35: 0.35 | J35: 0.11
A36: ='imported summary from web'!A59 -> 788.6 | B36: ='imported summary from web'!B59 -> C44H86O8PN | C36: ='imported summary from web'!C59 -> PC(36:1) | E36: 0.04 | F36: 0.76 | G36: 0 | H36: 2.04 | I36: 0.26 | J36: 0.05
A37: ='imported summary from web'!A61 -> 790.6 | B37: ='imported summary from web'!B61 -> C44H88O8PN | C37: ='imported summary from web'!C61 -> PC(36:0) | D37: ePC(38:7) | E37: 0.03 | F37: 0.4 | G37: 0 | H37: 0.52 | I37: 0.15 | J37: 0.01
A38: ='imported summary from web'!A69 -> 806.6 | B38: ='imported summary from web'!B69 -> C46H80O8PN | C38: ='imported summary from web'!C69 -> PC(38:6) | E38: 0.02 | F38: 0.39 | G38: 0.02 | H38: 0.38 | I38: 0.07 | J38: 0.01
A39: ='imported summary from web'!A70 -> 808.6 | B39: ='imported summary from web'!B70 -> C46H82O8PN | C39: ='imported summary from web'!C70 -> PC(38:5) | E39: 0.01 | F39: 0.21 | G39: 0 | H39: 0.26 | I39: 0.05 | J39: 0.02
A40: ='imported summary from web'!A71 -> 810.6 | B40: ='imported summary from web'!B71 -> C46H84O8PN | C40: ='imported summary from web'!C71 -> PC(38:4) | E40: 0.02 | F40: 0.74 | G40: 0 | H40: 0.6 | I40: 0 | J40: 0.01
A41: ='imported summary from web'!A72 -> 812.6 | B41: ='imported summary from web'!B72 -> C46H86O8PN | C41: ='imported summary from web'!C72 -> PC(38:3) | E41: 0.02 | F41: 0.29 | G41: 0 | H41: 0.8 | I41: 0.07 | J41: 0.02
A42: ='imported summary from web'!A74 -> 814.6 | B42: ='imported summary from web'!B74 -> C46H88O8PN | C42: ='imported summary from web'!C74 -> PC(38:2) | E42: 0.01 | F42: 0.13 | G42: 0 | H42: 0.83 | I42: 0.07 | J42: 0
A43: ='imported summary from web'!A76 -> 816.6 | B43: ='imported summary from web'!B76 -> C46H90O8PN | C43: ='imported summary from web'!C76 -> PC(38:1) | E43: 0.01 | F43: 0.25 | G43: 0 | H43: 0.47 | I43: 0.03 | J43: 0
A44: ='imported summary from web'!A78 -> 818.7 | B44: ='imported summary from web'!B78 -> C46H92O8PN | C44: ='imported summary from web'!C78 -> PC(38:0) | D44: ePC(40:7) | E44: 0.01 | F44: 0.96 | G44: 0.01 | H44: 0.32 | I44: 0 | J44: 0
A45: ='imported summary from web'!A84 -> 830.6 | B45: ='imported summary from web'!B84 -> C48H80O8PN | C45: ='imported summary from web'!C84 -> PC(40:8) | E45: 0 | F45: 0 | G45: 0 | H45: 0.29 | I45: 0.05 | J45: 0
A46: ='imported summary from web'!A85 -> 832.6 | B46: ='imported summary from web'!B85 -> C48H82O8PN | C46: ='imported summary from web'!C85 -> PC(40:7) | E46: 0.03 | F46: 0.14 | G46: 0.06 | H46: 0.26 | I46: 0.15 | J46: 0
A47: ='imported summary from web'!A86 -> 834.6 | B47: ='imported summary from web'!B86 -> C48H84O8PN | C47: ='imported summary from web'!C86 -> PC(40:6) | E47: 0 | F47: 0.13 | G47: 0.01 | H47: 0.21 | I47: 0.11 | J47: 0
A48: ='imported summary from web'!A87 -> 836.6 | B48: ='imported summary from web'!B87 -> C48H86O8PN | C48: ='imported summary from web'!C87 -> PC(40:5) | E48: 0 | F48: 0.11 | G48: 0 | H48: 0.08 | I48: 0 | J48: 0
A49: ='imported summary from web'!A88 -> 838.6 | B49: ='imported summary from web'!B88 -> C48H88O8PN | C49: ='imported summary from web'!C88 -> PC(40:4) | E49: 0 | F49: 0 | G49: 0 | H49: 0.06 | I49: 0 | J49: 0
A50: ='imported summary from web'!A89 -> 840.6 | B50: ='imported summary from web'!B89 -> C48H90O8PN | C50: ='imported summary from web'!C89 -> PC(40:3) | E50: 0 | F50: 0 | G50: 0 | H50: 0.21 | I50: 0 | J50: 0
A51: ='imported summary from web'!A90 -> 842.7 | B51: ='imported summary from web'!B90 -> C48H92O8PN | C51: ='imported summary from web'!C90 -> PC(40:2) | E51: 0.01 | F51: 0 | G51: 0 | H51: 0.23 | I51: 0 | J51: 0
A52: ='imported summary from web'!A91 -> 852.5 | B52: ='imported summary from web'!B91 -> C50H78O8PN | C52: ='imported summary from web'!C91 -> PC(42:11) | E52: 0 | F52: 0 | G52: 0 | H52: 0.06 | I52: 0 | J52: 0
A53: ='imported summary from web'!A92 -> 854.6 | B53: ='imported summary from web'!B92 -> C50H80O8PN | C53: ='imported summary from web'!C92 -> PC(42:10) | E53: 0 | F53: 0 | G53: 0 | H53: 0.1 | I53: 0 | J53: 0
A54: ='imported summary from web'!A93 -> 856.6 | B54: ='imported summary from web'!B93 -> C50H82O8PN | C54: ='imported summary from web'!C93 -> PC(42:9) | E54: 0 | F54: 0 | G54: 0 | H54: 0.01 | I54: 0 | J54: 0
A55: ='imported summary from web'!A94 -> 858.6 | B55: ='imported summary from web'!B94 -> C50H84O8PN | C55: ='imported summary from web'!C94 -> PC(42:8) | E55: 0 | F55: 0 | G55: 0 | H55: 0 | I55: 0 | J55: 0
A56: ='imported summary from web'!A95 -> 860.6 | B56: ='imported summary from web'!B95 -> C50H86O8PN | C56: ='imported summary from web'!C95 -> PC(42:7) | E56: 0 | F56: 0 | G56: 0 | H56: 0.04 | I56: 0 | J56: 0
... A72: ='imported summary from web'!A111 -> 898.7 | B72: ='imported summary from web'!B111 -> C52H100O8PN | C72: ='imported summary from web'!C111 -> PC(44:2) | E72: 0 | F72: 0 | G72: 0 | H72: 0 | I72: 0 | J72: 0
A73: Total PC | C73: Total PC | E73: 0.83 | F73: 14.55 | G73: 0.97 | H73: 101.49 | I73: 0.3 | J73: 10.22
A74: ='imported summary from web'!A21 -> 701.5 | B74: ='imported summary from web'!B21 -> C39H77N2O6P | C74: ='imported summary from web'!C21 -> SM(16:1) | E74: 0 | F74: 0 | G74: 0.04 | H74: 0.2 | I74: 0 | J74: 0
A75: ='imported summary from web'!A22 -> 703.6 | B75: ='imported summary from web'!B22 -> C39H79N2O6P | C75: ='imported summary from web'!C22 -> SM(16:0) | E75: 1.17 | F75: 8.87 | G75: 4.14 | H75: 9.48 | I75: 8.38 | J75: 0.34
A76: ='imported summary from web'!A24 -> 705.6 | B76: ='imported summary from web'!B24 -> C39H81N2O6P | C76: ='imported summary from web'!C24 -> DSM(16:0) | E76: 0.39 | F76: 3.08 | G76: 1.22 | H76: 1.55 | I76: 4.51 | J76: 0.25
A77: ='imported summary from web'!A30 -> 729.6 | B77: ='imported summary from web'!B30 -> C41H81N2O6P | C77: ='imported summary from web'!C30 -> SM(18:1) | E77: 0 | F77: 0 | G77: 0 | H77: 0.13 | I77: 0 | J77: 0
A78: ='imported summary from web'!A32 -> 731.6 | B78: ='imported summary from web'!B32 -> C41H83N2O6P | C78: ='imported summary from web'!C32 -> SM(18:0) | E78: 0.03 | F78: 0.44 | G78: 0.08 | H78: 0.55 | I78: 0.62 | J78: 0.06
A79: ='imported summary from web'!A34 -> 733.6 | B79: ='imported summary from web'!B34 -> C41H85N2O6P | C79: ='imported summary from web'!C34 -> DSM(18:0) | E79: 0.02 | F79: 0.25 | G79: 0.07 | H79: 0.41 | I79: 0.39 | J79: 0
A80: ='imported summary from web'!A56 -> 785.6 | B80: ='imported summary from web'!B56 -> C45H89N2O6P | C80: ='imported summary from web'!C56 -> SM(22:1) | E80: 0.05 | F80: 0.35 | G80: 0 | H80: 3.84 | I80: 0 | J80: 0
A81: ='imported summary from web'!A58 -> 787.7 | B81: ='imported summary from web'!B58 -> C45H91N2O6P | C81: ='imported summary from web'!C58 -> SM(22:0) | E81: 0.09 | F81: 0.84 | G81: 0.15 | H81: 5.02 | I81: 1.45 | J81: 0.02
A82: ='imported summary from web'!A60 -> 789.7 | B82: ='imported summary from web'!B60 -> C45H93N2O6P | C82: ='imported summary from web'!C60 -> DSM(22:0) | E82: 0.03 | F82: 0.2 | G82: 0.11 | H82: 1.02 | I82: 0.98 | J82: 0.02
A83: ='imported summary from web'!A73 -> 813.7 | B83: ='imported summary from web'!B73 -> C47H93N2O6P | C83: ='imported summary from web'!C73 -> SM(24:1) | E83: 0.14 | F83: 0.28 | G83: 0.45 | H83: 2.42 | I83: 0.57 | J83: 0.04
A84: ='imported summary from web'!A75 -> 815.7 | B84: ='imported summary from web'!B75 -> C47H95N2O6P | C84: ='imported summary from web'!C75 -> SM(24:0) | E84: 0.11 | F84: 0.42 | G84: 0.35 | H84: 2.74 | I84: 1.63 | J84: 0.09
A85: ='imported summary from web'!A77 -> 817.7 | B85: ='imported summary from web'!B77 -> C47H97N2O6P | C85: ='imported summary from web'!C77 -> DSM(24:0) | E85: 0.04 | F85: 0.4 | G85: 0.18 | H85: 0 | I85: 1.22 | J85: 0.07
A86: Total SM and DSM | C86: Total SM and DSM | E86: 2.07 | F86: 15.14 | G86: 6.79 | H86: 27.34 | I86: 19.73 | J86: 0.9
A87: ='imported summary from web'!A26 -> 714.5 | B87: ='imported summary from web'!B26 -> C40H76O7PN | C87: ='imported summary from web'!C26 -> ePC(32:3) | E87: 0 | F87: 0 | G87: 0 | H87: 0 | I87: 0 | J87: 0
A88: ='imported summary from web'!A27 -> 716.6 | B88: ='imported summary from web'!B27 -> C40H78O7PN | C88: ='imported summary from web'!C27 -> ePC(32:2) | E88: 0.01 | F88: 0 | G88: 0.01 | H88: 0.04 | I88: 0 | J88: 0
A89: ='imported summary from web'!A28 -> 718.6 | B89: ='imported summary from web'!B28 -> C40H80O7PN | C89: ='imported summary from web'!C28 -> ePC(32:1) | E89: 0.05 | F89: 0.27 | G89: 0.17 | H89: 0.27 | I89: 0.09 | J89: 0
A90: ='imported summary from web'!A29 -> 720.6 | B90: ='imported summary from web'!B29 -> C40H82O7PN | C90: ='imported summary from web'!C29 -> ePC(32:0) | E90: 0.05 | F90: 0.32 | G90: 0.19 | H90: 0.5 | I90: 0.26 | J90: 0.01
A91: ='imported summary from web'!A36 -> 740.6 | B91: ='imported summary from web'!B36 -> C42H78O7PN | C91: ='imported summary from web'!C36 -> ePC(34:4) | E91: 0 | F91: 0 | G91: 0 | H91: 0.06 | I91: 0 | J91: 0
A92: ='imported summary from web'!A37 -> 742.6 | B92: ='imported summary from web'!B37 -> C42H80O7PN | C92: ='imported summary from web'!C37 -> ePC(34:3) | E92: 0.04 | F92: 0.05 | G92: 0.15 | H92: 0.17 | I92: 0 | J92: 0
A93: ='imported summary from web'!A38 -> 744.6 | B93: ='imported summary from web'!B38 -> C42H82O7PN | C93: ='imported summary from web'!C38 -> ePC(34:2) | E93: 0.05 | F93: 0.72 | G93: 0.14 | H93: 0.38 | I93: 0.1 | J93: 0.02
A94: ='imported summary from web'!A39 -> 746.6 | B94: ='imported summary from web'!B39 -> C42H84O7PN | C94: ='imported summary from web'!C39 -> ePC(34:1) | E94: 0.05 | F94: 0.6 | G94: 0.13 | H94: 0.56 | I94: 0.16 | J94: 0.02
A95: ='imported summary from web'!A40 -> 748.6 | B95: ='imported summary from web'!B40 -> C42H86O7PN | C95: ='imported summary from web'!C40 -> ePC(34:0) | E95: 0.02 | F95: 0.2 | G95: 0.06 | H95: 0.27 | I95: 0.11 | J95: 0.01
A96: ='imported summary from web'!A46 -> 766.6 | B96: ='imported summary from web'!B46 -> C44H80O7PN | C96: ='imported summary from web'!C46 -> ePC(36:5) | E96: 0.02 | F96: 0.63 | G96: 0.1 | H96: 0.28 | I96: 0 | J96: 0
A97: ='imported summary from web'!A47 -> 768.6 | B97: ='imported summary from web'!B47 -> C44H82O7PN | C97: ='imported summary from web'!C47 -> ePC(36:4) | E97: 0.02 | F97: 0.51 | G97: 0.04 | H97: 0.16 | I97: 0.77 | J97: 0.03
A98: ='imported summary from web'!A48 -> 770.6 | B98: ='imported summary from web'!B48 -> C44H84O7PN | C98: ='imported summary from web'!C48 -> ePC(36:3) | E98: 0.01 | F98: 0.25 | G98: 0 | H98: 0.22 | I98: 0.03 | J98: 0.01
A99: ='imported summary from web'!A49 -> 772.6 | B99: ='imported summary from web'!B49 -> C44H86O7PN | C99: ='imported summary from web'!C49 -> ePC(36:2) | E99: 0.01 | F99: 0.16 | G99: 0 | H99: 0.57 | I99: 0.05 | J99: 0.03
A100: ='imported summary from web'!A50 -> 774.6 | B100: ='imported summary from web'!B50 -> C44H88O7PN | C100: ='imported summary from web'!C50 -> ePC(36:1) | E100: 0.02 | F100: 0.15 | G100: 0 | H100: 1 | I100: 0.16 | J100: 0.03
A101: ='imported summary from web'!A51 -> 776.6 | B101: ='imported summary from web'!B51 -> C44H90O7PN | C101: ='imported summary from web'!C51 -> ePC(36:0) | E101: 0.01 | F101: 0.14 | G101: 0.02 | H101: 0.18 | I101: 0.09 | J101: 0.01
A102: ='imported summary from web'!A62 -> 792.6 | B102: ='imported summary from web'!B62 -> C46H82O7PN | C102: ='imported summary from web'!C62 -> ePC(38:6) | E102: 0.04 | F102: 4.51 | G102: 0.08 | H102: 0.33 | I102: 0 | J102: 0.01
A103: ='imported summary from web'!A63 -> 794.6 | B103: ='imported summary from web'!B63 -> C46H84O7PN | C103: ='imported summary from web'!C63 -> ePC(38:5) | E103: 0.02 | F103: 0.36 | G103: 0 | H103: 0.11 | I103: 0 | J103: 0.01
A104: ='imported summary from web'!A64 -> 796.6 | B104: ='imported summary from web'!B64 -> C46H86O7PN | C104: ='imported summary from web'!C64 -> ePC(38:4) | E104: 0 | F104: 0.25 | G104: 0 | H104: 0.47 | I104: 0.03 | J104: 0.01
A105: ='imported summary from web'!A65 -> 798.6 | B105: ='imported summary from web'!B65 -> C46H88O7PN | C105: ='imported summary from web'!C65 -> ePC(38:3) | E105: 0.01 | F105: 0 | G105: 0 | H105: 0.96 | I105: 0.06 | J105: 0
A106: ='imported summary from web'!A66 -> 800.6 | B106: ='imported summary from web'!B66 -> C46H90O7PN | C106: ='imported summary from web'!C66 -> ePC(38:2) | E106: 0 | F106: 0.07 | G106: 0 | H106: 0.54 | I106: 0.03 | J106: 0.01
A107: ='imported summary from web'!A67 -> 802.7 | B107: ='imported summary from web'!B67 -> C46H92O7PN | C107: ='imported summary from web'!C67 -> ePC(38:1) | E107: 0.01 | F107: 0.14 | G107: 0 | H107: 0.55 | I107: 0.23 | J107: 0
A108: ='imported summary from web'!A68 -> 804.7 | B108: ='imported summary from web'!B68 -> C46H94O7PN | C108: ='imported summary from web'!C68 -> ePC(38:0) | D108: PC(38:7) | E108: 0.02 | F108: 0.12 | G108: 0.02 | H108: 0.16 | I108: 0.1 | J108: 0
A109: ='imported summary from web'!A79 -> 820.6 | B109: ='imported summary from web'!B79 -> C48H86O7PN | C109: ='imported summary from web'!C79 -> ePC(40:6) | E109: 0.01 | F109: 0.49 | G109: 0 | H109: 0.03 | I109: 0.03 | J109: 0
A110: ='imported summary from web'!A80 -> 822.6 | B110: ='imported summary from web'!B80 -> C48H88O7PN | C110: ='imported summary from web'!C80 -> ePC(40:5) | E110: 0.01 | F110: 0.05 | G110: 0.01 | H110: 0.07 | I110: 0 | J110: 0
A111: ='imported summary from web'!A81 -> 824.6 | B111: ='imported summary from web'!B81 -> C48H90O7PN | C111: ='imported summary from web'!C81 -> ePC(40:4) | E111: 0.03 | F111: 0 | G111: 0.12 | H111: 0.03 | I111: 0 | J111: 0
A112: ='imported summary from web'!A82 -> 826.7 | B112: ='imported summary from web'!B82 -> C48H92O7PN | C112: ='imported summary from web'!C82 -> ePC(40:3) | E112: 0 | F112: 0 | G112: 0 | H112: 0.12 | I112: 0 | J112: 0
A113: ='imported summary from web'!A83 -> 828.7 | B113: ='imported summary from web'!B83 -> C48H94O7PN | C113: ='imported summary from web'!C83 -> ePC(40:2) | E113: 0 | F113: 0 | G113: 0 | H113: 0.21 | I113: 0 | J113: 0
A114: Total ePC | C114: Total ePC | E114: 0.51 | F114: 9.98 | G114: 1.23 | H114: 8.26 | I114: 1.43 | J114: 1.32
A115: ='imported summary from web'!A114 -> 452.3 | B115: ='imported summary from web'!B114 -> C21H42O7PN | C115: ='imported summary from web'!C114 -> LPE(16:1) | E115: 0 | F115: 0 | G115: 0.36 | H115: 0.17 | I115: 0.63 | J115: 0
A116: ='imported summary from web'!A115 -> 454.3 | B116: ='imported summary from web'!B115 -> C21H44O7PN | C116: ='imported summary from web'!C115 -> LPE(16:0) | E116: 0.22 | F116: 0.92 | G116: 1.29 | H116: 0.1 | I116: 1.64 | J116: 0.22
...

Sheet signals to nmols
E2: signal per mg dry lipid weight
A3: phospholipids are nmol, TAG are signal as compared to 1 nmol standard. | E3: L-Exo 6M | F3: H-Exo 6M | G3: L-Exo 12M | H3: H-Exo 12M | I3: Healthy-Exo | J3: T2D-Exo
A4: Mass | B4: Compound Formula | C4: Compound Name | D4: alternate I.D. | E4: sample01 | F4: sample02
A5: ='imported summary from web'!A4 -> 494.3 | B5: ='imported summary from web'!B4 -> C24H48O7PN | C5: ='imported summary from web'!C4 -> LPC(16:1) | E5: 0.01 | F5: 0 | G5: 0.01 | H5: 0.62 | I5: 0.03 | J5: 0
A6: ='imported summary from web'!A5 -> 496.3 | B6: ='imported summary from web'!B5 -> C24H50O7PN | C6: ='imported summary from web'!C5 -> LPC(16:0) | E6: 0.05 | F6: 0.56 | G6: 0.54 | H6: 56.02 | I6: 7.36 | J6: 0.08
A7: ='imported summary from web'!A6 -> 518.3 | B7: ='imported summary from web'!B6 -> C26H48O7PN | C7: ='imported summary from web'!C6 -> LPC(18:3) | E7: 0.01 | F7: 0.13 | G7: 0 | H7: 10.66 | I7: 0.12 | J7: 0.03
A8: ='imported summary from web'!A7 -> 520.3 | B8: ='imported summary from web'!B7 -> C26H50O7PN | C8: ='imported summary from web'!C7 -> LPC(18:2) | E8: 0.05 | F8: 0.47 | G8: 0 | H8: 106.07 | I8: 2.37 | J8: 0.1
A9: ='imported summary from web'!A8 -> 522.3 | B9: ='imported summary from web'!B8 -> C26H52O7PN | C9: ='imported summary from web'!C8 -> LPC(18:1) | E9: 0.01 | F9: 0.27 | G9: 0.01 | H9: 26.23 | I9: 0.65 | J9: 0.05
A10: ='imported summary from web'!A9 -> 524.4 | B10: ='imported summary from web'!B9 -> C26H54O7PN | C10: ='imported summary from web'!C9 -> LPC(18:0) | E10: 0.06 | F10: 1.6 | G10: 0.2 | H10: 13.68 | I10: 0.89 | J10: 0.06
A11: ='imported summary from web'!A10 -> 542.3 | B11: ='imported summary from web'!B10 -> C28H48O7PN | C11: ='imported summary from web'!C10 -> LPC(20:5) | E11: 0.01 | F11: 0 | G11: 0.01 | H11: 0 | I11: 0.02 | J11: 0
A12: ='imported summary from web'!A11 -> 544.3 | B12: ='imported summary from web'!B11 -> C28H50O7PN | C12: ='imported summary from web'!C11 -> LPC(20:4) | E12: 0 | F12: 0.03 | G12: 0.01 | H12: 0 | I12: 0 | J12: 0.02
A13: ='imported summary from web'!A12 -> 546.3 | B13: ='imported summary from web'!B12 -> C28H52O7PN | C13: ='imported summary from web'!C12 -> LPC(20:3) | E13: 0 | F13: 0 | G13: 0 | H13: 0 | I13: 0 | J13: 0
A14: ='imported summary from web'!A13 -> 548.4 | B14: ='imported summary from web'!B13 -> C28H54O7PN | C14: ='imported summary from web'!C13 -> LPC(20:2) | E14: 0 | F14: 0 | G14: 0 | H14: 0.33 | I14: 0 | J14: 0
A15: ='imported summary from web'!A14 -> 550.4 | B15: ='imported summary from web'!B14 -> C28H56O7PN | C15: ='imported summary from web'!C14 -> LPC(20:1) | E15: 0 | F15: 0.08 | G15: 0 | H15: 2.3 | I15: 0.08 | J15: 0
A16: ='imported summary from web'!A15 -> 552.4 | B16: ='imported summary from web'!B15 -> C28H58O7PN | C16: ='imported summary from web'!C15 -> LPC(20:0) | E16: 0.01 | F16: 0.08 | G16: 0.03 | H16: 3.21 | I16: 0.09 | J16: 0.03
... A18: ='imported summary from web'!A17 -> 570.3 | B18: ='imported summary from web'!B17 -> C30H52O7PN | C18: ='imported summary from web'!C17 -> LPC(22:5) | E18: 0 | F18: 0 | G18: 0.01 | H18: 0.84 | I18: 0 | J18: 0.03
A19: Total LysoPC | C19: Total LysoPC | E19: 0.22 | F19: 3.2 | G19: 0.81 | H19: 221.82 | I19: 0.67 | J19: 0.65
A20: ='imported summary from web'!A20 -> 676.5 | B20: ='imported summary from web'!B20 -> C36H70O8PN | C20: ='imported summary from web'!C20 -> PC(28:1) | E20: 0 | F20: 0 | G20: 0 | H20: 0.26 | I20: 0.09 | J20: 0
A21: ='imported summary from web'!A23 -> 704.5 | B21: ='imported summary from web'!B23 -> C38H74O8PN | C21: ='imported summary from web'!C23 -> PC(30:1) | E21: 0 | F21: 0.02 | G21: 0.09 | H21: 0.32 | I21: 0.02 | J21: 0
A22: ='imported summary from web'!A25 -> 706.5 | B22: ='imported summary from web'!B25 -> C38H76O8PN | C22: ='imported summary from web'!C25 -> PC(30:0) | E22: 0.04 | F22: 0.16 | G22: 0.15 | H22: 1.01 | I22: 0.34 | J22: 0.01
A23: ='imported summary from web'!A31 -> 730.5 | B23: ='imported summary from web'!B31 -> C40H76O8PN | C23: ='imported summary from web'!C31 -> PC(32:2) | E23: 0.01 | F23: 0.08 | G23: 0 | H23: 0.22 | I23: 0 | J23: 0.9
A24: ='imported summary from web'!A33 -> 732.5 | B24: ='imported summary from web'!B33 -> C40H78O8PN | C24: ='imported summary from web'!C33 -> PC(32:1) | E24: 0.03 | F24: 0.16 | G24: 0.1 | H24: 0.65 | I24: 0.1 | J24: 0.03
A25: ='imported summary from web'!A35 -> 734.6 | B25: ='imported summary from web'!B35 -> C40H80O8PN | C25: ='imported summary from web'!C35 -> PC(32:0) | E25: 0.09 | F25: 1.34 | G25: 0.32 | H25: 1.72 | I25: 0.4 | J25: 0.42
A26: ='imported summary from web'!A41 -> 754.5 | B26: ='imported summary from web'!B41 -> C42H76O8PN | C26: ='imported summary from web'!C41 -> PC(34:4) | E26: 0 | F26: 0 | G26: 0 | H26: 0.03 | I26: 0 | J26: 0.41
A27: ='imported summary from web'!A42 -> 756.5 | B27: ='imported summary from web'!B42 -> C42H78O8PN | C27: ='imported summary from web'!C42 -> PC(34:3) | E27: 0 | F27: 0.14 | G27: 0 | H27: 1.14 | I27: 0.06 | J27: 0.5
A28: ='imported summary from web'!A43 -> 758.6 | B28: ='imported summary from web'!B43 -> C42H80O8PN | C28: ='imported summary from web'!C43 -> PC(34:2) | E28: 0.11 | F28: 1.92 | G28: 0 | H28: 21.9 | I28: 0.73 | J28: 7.17
A29: ='imported summary from web'!A44 -> 760.6 | B29: ='imported summary from web'!B44 -> C42H82O8PN | C29: ='imported summary from web'!C44 -> PC(34:1) | E29: 0.12 | F29: 2.26 | G29: 0.1 | H29: 6.39 | I29: 1.28 | J29: 2.17
A30: ='imported summary from web'!A45 -> 762.6 | B30: ='imported summary from web'!B45 -> C42H84O8PN | C30: ='imported summary from web'!C45 -> PC(34:0) | E30: 0.04 | F30: 0.53 | G30: 0.1 | H30: 0.64 | I30: 0.15 | J30: 0.01
A31: ='imported summary from web'!A52 -> 778.5 | B31: ='imported summary from web'!B52 -> C44H76O8PN | C31: ='imported summary from web'!C52 -> PC(36:6) | E31: 0.01 | F31: 0.12 | G31: 0 | H31: 0 | I31: 0 | J31: 0.01
A32: ='imported summary from web'!A53 -> 780.5 | B32: ='imported summary from web'!B53 -> C44H78O8PN | C32: ='imported summary from web'!C53 -> PC(36:5) | E32: 0.02 | F32: 0.1 | G32: 0 | H32: 5.44 | I32: 0.13 | J32: 0.01
A33: ='imported summary from web'!A54 -> 782.6 | B33: ='imported summary from web'!B54 -> C44H80O8PN | C33: ='imported summary from web'!C54 -> PC(36:4) | E33: 0.06 | F33: 1.6 | G33: 0 | H33: 32.76 | I33: 0.15 | J33: 0.05
A34: ='imported summary from web'!A55 -> 784.6 | B34: ='imported summary from web'!B55 -> C44H82O8PN | C34: ='imported summary from web'!C55 -> PC(36:3) | E34: 0.04 | F34: 0.64 | G34: 0 | H34: 12.92 | I34: 0.41 | J34: 0.08
A35: ='imported summary from web'!A57 -> 786.6 | B35: ='imported summary from web'!B57 -> C44H84O8PN | C35: ='imported summary from web'!C57 -> PC(36:2) | E35: 0.04 | F35: 0.85 | G35: 0 | H35: 7.75 | I35: 0.35 | J35: 0.11
A36: ='imported summary from web'!A59 -> 788.6 | B36: ='imported summary from web'!B59 -> C44H86O8PN | C36: ='imported summary from web'!C59 -> PC(36:1) | E36: 0.04 | F36: 0.76 | G36: 0 | H36: 2.04 | I36: 0.26 | J36: 0.05
A37: ='imported summary from web'!A61 -> 790.6 | B37: ='imported summary from web'!B61 -> C44H88O8PN | C37: ='imported summary from web'!C61 -> PC(36:0) | D37: ePC(38:7) | E37: 0.03 | F37: 0.4 | G37: 0 | H37: 0.52 | I37: 0.15 | J37: 0.01
A38: ='imported summary from web'!A69 -> 806.6 | B38: ='imported summary from web'!B69 -> C46H80O8PN | C38: ='imported summary from web'!C69 -> PC(38:6) | E38: 0.02 | F38: 0.39 | G38: 0.02 | H38: 0.38 | I38: 0.07 | J38: 0.01
A39: ='imported summary from web'!A70 -> 808.6 | B39: ='imported summary from web'!B70 -> C46H82O8PN | C39: ='imported summary from web'!C70 -> PC(38:5) | E39: 0.01 | F39: 0.21 | G39: 0 | H39: 0.26 | I39: 0.05 | J39: 0.02
A40: ='imported summary from web'!A71 -> 810.6 | B40: ='imported summary from web'!B71 -> C46H84O8PN | C40: ='imported summary from web'!C71 -> PC(38:4) | E40: 0.02 | F40: 0.74 | G40: 0 | H40: 0.6 | I40: 0 | J40: 0.01
A41: ='imported summary from web'!A72 -> 812.6 | B41: ='imported summary from web'!B72 -> C46H86O8PN | C41: ='imported summary from web'!C72 -> PC(38:3) | E41: 0.02 | F41: 0.29 | G41: 0 | H41: 0.8 | I41: 0.07 | J41: 0.02
A42: ='imported summary from web'!A74 -> 814.6 | B42: ='imported summary from web'!B74 -> C46H88O8PN | C42: ='imported summary from web'!C74 -> PC(38:2) | E42: 0.01 | F42: 0.13 | G42: 0 | H42: 0.83 | I42: 0.07 | J42: 0
A43: ='imported summary from web'!A76 -> 816.6 | B43: ='imported summary from web'!B76 -> C46H90O8PN | C43: ='imported summary from web'!C76 -> PC(38:1) | E43: 0.01 | F43: 0.25 | G43: 0 | H43: 0.47 | I43: 0.03 | J43: 0
A44: ='imported summary from web'!A78 -> 818.7 | B44: ='imported summary from web'!B78 -> C46H92O8PN | C44: ='imported summary from web'!C78 -> PC(38:0) | D44: ePC(40:7) | E44: 0.01 | F44: 0.96 | G44: 0.01 | H44: 0.32 | I44: 0 | J44: 0
A45: ='imported summary from web'!A84 -> 830.6 | B45: ='imported summary from web'!B84 -> C48H80O8PN | C45: ='imported summary from web'!C84 -> PC(40:8) | E45: 0 | F45: 0 | G45: 0 | H45: 0.29 | I45: 0.05 | J45: 0
A46: ='imported summary from web'!A85 -> 832.6 | B46: ='imported summary from web'!B85 -> C48H82O8PN | C46: ='imported summary from web'!C85 -> PC(40:7) | E46: 0.03 | F46: 0.14 | G46: 0.06 | H46: 0.26 | I46: 0.15 | J46: 0
A47: ='imported summary from web'!A86 -> 834.6 | B47: ='imported summary from web'!B86 -> C48H84O8PN | C47: ='imported summary from web'!C86 -> PC(40:6) | E47: 0 | F47: 0.13 | G47: 0.01 | H47: 0.21 | I47: 0.11 | J47: 0
A48: ='imported summary from web'!A87 -> 836.6 | B48: ='imported summary from web'!B87 -> C48H86O8PN | C48: ='imported summary from web'!C87 -> PC(40:5) | E48: 0 | F48: 0.11 | G48: 0 | H48: 0.08 | I48: 0 | J48: 0
A49: ='imported summary from web'!A88 -> 838.6 | B49: ='imported summary from web'!B88 -> C48H88O8PN | C49: ='imported summary from web'!C88 -> PC(40:4) | E49: 0 | F49: 0 | G49: 0 | H49: 0.06 | I49: 0 | J49: 0
A50: ='imported summary from web'!A89 -> 840.6 | B50: ='imported summary from web'!B89 -> C48H90O8PN | C50: ='imported summary from web'!C89 -> PC(40:3) | E50: 0 | F50: 0 | G50: 0 | H50: 0.21 | I50: 0 | J50: 0
A51: ='imported summary from web'!A90 -> 842.7 | B51: ='imported summary from web'!B90 -> C48H92O8PN | C51: ='imported summary from web'!C90 -> PC(40:2) | E51: 0.01 | F51: 0 | G51: 0 | H51: 0.23 | I51: 0 | J51: 0
A52: ='imported summary from web'!A91 -> 852.5 | B52: ='imported summary from web'!B91 -> C50H78O8PN | C52: ='imported summary from web'!C91 -> PC(42:11) | E52: 0 | F52: 0 | G52: 0 | H52: 0.06 | I52: 0 | J52: 0
A53: ='imported summary from web'!A92 -> 854.6 | B53: ='imported summary from web'!B92 -> C50H80O8PN | C53: ='imported summary from web'!C92 -> PC(42:10) | E53: 0 | F53: 0 | G53: 0 | H53: 0.1 | I53: 0 | J53: 0
A54: ='imported summary from web'!A93 -> 856.6 | B54: ='imported summary from web'!B93 -> C50H82O8PN | C54: ='imported summary from web'!C93 -> PC(42:9) | E54: 0 | F54: 0 | G54: 0 | H54: 0.01 | I54: 0 | J54: 0
A55: ='imported summary from web'!A94 -> 858.6 | B55: ='imported summary from web'!B94 -> C50H84O8PN | C55: ='imported summary from web'!C94 -> PC(42:8) | E55: 0 | F55: 0 | G55: 0 | H55: 0 | I55: 0 | J55: 0
A56: ='imported summary from web'!A95 -> 860.6 | B56: ='imported summary from web'!B95 -> C50H86O8PN | C56: ='imported summary from web'!C95 -> PC(42:7) | E56: 0 | F56: 0 | G56: 0 | H56: 0.04 | I56: 0 | J56: 0
... A72: ='imported summary from web'!A111 -> 898.7 | B72: ='imported summary from web'!B111 -> C52H100O8PN | C72: ='imported summary from web'!C111 -> PC(44:2) | E72: 0 | F72: 0 | G72: 0 | H72: 0 | I72: 0 | J72: 0
A73: Total PC | C73: Total PC | E73: 0.83 | F73: 14.55 | G73: 0.97 | H73: 101.49 | I73: 0.3 | J73: 10.22
A74: ='imported summary from web'!A21 -> 701.5 | B74: ='imported summary from web'!B21 -> C39H77N2O6P | C74: ='imported summary from web'!C21 -> SM(16:1) | E74: 0 | F74: 0 | G74: 0.04 | H74: 0.2 | I74: 0 | J74: 0
A75: ='imported summary from web'!A22 -> 703.6 | B75: ='imported summary from web'!B22 -> C39H79N2O6P | C75: ='imported summary from web'!C22 -> SM(16:0) | E75: 1.17 | F75: 8.87 | G75: 4.14 | H75: 9.48 | I75: 8.38 | J75: 0.34
A76: ='imported summary from web'!A24 -> 705.6 | B76: ='imported summary from web'!B24 -> C39H81N2O6P | C76: ='imported summary from web'!C24 -> DSM(16:0) | E76: 0.39 | F76: 3.08 | G76: 1.22 | H76: 1.55 | I76: 4.51 | J76: 0.25
A77: ='imported summary from web'!A30 -> 729.6 | B77: ='imported summary from web'!B30 -> C41H81N2O6P | C77: ='imported summary from web'!C30 -> SM(18:1) | E77: 0 | F77: 0 | G77: 0 | H77: 0.13 | I77: 0 | J77: 0
A78: ='imported summary from web'!A32 -> 731.6 | B78: ='imported summary from web'!B32 -> C41H83N2O6P | C78: ='imported summary from web'!C32 -> SM(18:0) | E78: 0.03 | F78: 0.44 | G78: 0.08 | H78: 0.55 | I78: 0.62 | J78: 0.06
A79: ='imported summary from web'!A34 -> 733.6 | B79: ='imported summary from web'!B34 -> C41H85N2O6P | C79: ='imported summary from web'!C34 -> DSM(18:0) | E79: 0.02 | F79: 0.25 | G79: 0.07 | H79: 0.41 | I79: 0.39 | J79: 0
A80: ='imported summary from web'!A56 -> 785.6 | B80: ='imported summary from web'!B56 -> C45H89N2O6P | C80: ='imported summary from web'!C56 -> SM(22:1) | E80: 0.05 | F80: 0.35 | G80: 0 | H80: 3.84 | I80: 0 | J80: 0
A81: ='imported summary from web'!A58 -> 787.7 | B81: ='imported summary from web'!B58 -> C45H91N2O6P | C81: ='imported summary from web'!C58 -> SM(22:0) | E81: 0.09 | F81: 0.84 | G81: 0.15 | H81: 5.02 | I81: 1.45 | J81: 0.02
A82: ='imported summary from web'!A60 -> 789.7 | B82: ='imported summary from web'!B60 -> C45H93N2O6P | C82: ='imported summary from web'!C60 -> DSM(22:0) | E82: 0.03 | F82: 0.2 | G82: 0.11 | H82: 1.02 | I82: 0.98 | J82: 0.02
A83: ='imported summary from web'!A73 -> 813.7 | B83: ='imported summary from web'!B73 -> C47H93N2O6P | C83: ='imported summary from web'!C73 -> SM(24:1) | E83: 0.14 | F83: 0.28 | G83: 0.45 | H83: 2.42 | I83: 0.57 | J83: 0.04
A84: ='imported summary from web'!A75 -> 815.7 | B84: ='imported summary from web'!B75 -> C47H95N2O6P | C84: ='imported summary from web'!C75 -> SM(24:0) | E84: 0.11 | F84: 0.42 | G84: 0.35 | H84: 2.74 | I84: 1.63 | J84: 0.09
A85: ='imported summary from web'!A77 -> 817.7 | B85: ='imported summary from web'!B77 -> C47H97N2O6P | C85: ='imported summary from web'!C77 -> DSM(24:0) | E85: 0.04 | F85: 0.4 | G85: 0.18 | H85: 0 | I85: 1.22 | J85: 0.07
A86: Total SM and DSM | C86: Total SM and DSM | E86: 2.07 | F86: 15.14 | G86: 6.79 | H86: 27.34 | I86: 19.73 | J86: 0.9
A87: ='imported summary from web'!A26 -> 714.5 | B87: ='imported summary from web'!B26 -> C40H76O7PN | C87: ='imported summary from web'!C26 -> ePC(32:3) | E87: 0 | F87: 0 | G87: 0 | H87: 0 | I87: 0 | J87: 0
A88: ='imported summary from web'!A27 -> 716.6 | B88: ='imported summary from web'!B27 -> C40H78O7PN | C88: ='imported summary from web'!C27 -> ePC(32:2) | E88: 0.01 | F88: 0 | G88: 0.01 | H88: 0.04 | I88: 0 | J88: 0
A89: ='imported summary from web'!A28 -> 718.6 | B89: ='imported summary from web'!B28 -> C40H80O7PN | C89: ='imported summary from web'!C28 -> ePC(32:1) | E89: 0.05 | F89: 0.27 | G89: 0.17 | H89: 0.27 | I89: 0.09 | J89: 0
A90: ='imported summary from web'!A29 -> 720.6 | B90: ='imported summary from web'!B29 -> C40H82O7PN | C90: ='imported summary from web'!C29 -> ePC(32:0) | E90: 0.05 | F90: 0.32 | G90: 0.19 | H90: 0.5 | I90: 0.26 | J90: 0.01
A91: ='imported summary from web'!A36 -> 740.6 | B91: ='imported summary from web'!B36 -> C42H78O7PN | C91: ='imported summary from web'!C36 -> ePC(34:4) | E91: 0 | F91: 0 | G91: 0 | H91: 0.06 | I91: 0 | J91: 0
A92: ='imported summary from web'!A37 -> 742.6 | B92: ='imported summary from web'!B37 -> C42H80O7PN | C92: ='imported summary from web'!C37 -> ePC(34:3) | E92: 0.04 | F92: 0.05 | G92: 0.15 | H92: 0.17 | I92: 0 | J92: 0
A93: ='imported summary from web'!A38 -> 744.6 | B93: ='imported summary from web'!B38 -> C42H82O7PN | C93: ='imported summary from web'!C38 -> ePC(34:2) | E93: 0.05 | F93: 0.72 | G93: 0.14 | H93: 0.38 | I93: 0.1 | J93: 0.02
A94: ='imported summary from web'!A39 -> 746.6 | B94: ='imported summary from web'!B39 -> C42H84O7PN | C94: ='imported summary from web'!C39 -> ePC(34:1) | E94: 0.05 | F94: 0.6 | G94: 0.13 | H94: 0.56 | I94: 0.16 | J94: 0.02
A95: ='imported summary from web'!A40 -> 748.6 | B95: ='imported summary from web'!B40 -> C42H86O7PN | C95: ='imported summary from web'!C40 -> ePC(34:0) | E95: 0.02 | F95: 0.2 | G95: 0.06 | H95: 0.27 | I95: 0.11 | J95: 0.01
A96: ='imported summary from web'!A46 -> 766.6 | B96: ='imported summary from web'!B46 -> C44H80O7PN | C96: ='imported summary from web'!C46 -> ePC(36:5) | E96: 0.02 | F96: 0.63 | G96: 0.1 | H96: 0.28 | I96: 0 | J96: 0
A97: ='imported summary from web'!A47 -> 768.6 | B97: ='imported summary from web'!B47 -> C44H82O7PN | C97: ='imported summary from web'!C47 -> ePC(36:4) | E97: 0.02 | F97: 0.51 | G97: 0.04 | H97: 0.16 | I97: 0.77 | J97: 0.03
A98: ='imported summary from web'!A48 -> 770.6 | B98: ='imported summary from web'!B48 -> C44H84O7PN | C98: ='imported summary from web'!C48 -> ePC(36:3) | E98: 0.01 | F98: 0.25 | G98: 0 | H98: 0.22 | I98: 0.03 | J98: 0.01
A99: ='imported summary from web'!A49 -> 772.6 | B99: ='imported summary from web'!B49 -> C44H86O7PN | C99: ='imported summary from web'!C49 -> ePC(36:2) | E99: 0.01 | F99: 0.16 | G99: 0 | H99: 0.57 | I99: 0.05 | J99: 0.03
A100: ='imported summary from web'!A50 -> 774.6 | B100: ='imported summary from web'!B50 -> C44H88O7PN | C100: ='imported summary from web'!C50 -> ePC(36:1) | E100: 0.02 | F100: 0.15 | G100: 0 | H100: 1 | I100: 0.16 | J100: 0.03
A101: ='imported summary from web'!A51 -> 776.6 | B101: ='imported summary from web'!B51 -> C44H90O7PN | C101: ='imported summary from web'!C51 -> ePC(36:0) | E101: 0.01 | F101: 0.14 | G101: 0.02 | H101: 0.18 | I101: 0.09 | J101: 0.01
A102: ='imported summary from web'!A62 -> 792.6 | B102: ='imported summary from web'!B62 -> C46H82O7PN | C102: ='imported summary from web'!C62 -> ePC(38:6) | E102: 0.04 | F102: 4.51 | G102: 0.08 | H102: 0.33 | I102: 0 | J102: 0.01
A103: ='imported summary from web'!A63 -> 794.6 | B103: ='imported summary from web'!B63 -> C46H84O7PN | C103: ='imported summary from web'!C63 -> ePC(38:5) | E103: 0.02 | F103: 0.36 | G103: 0 | H103: 0.11 | I103: 0 | J103: 0.01
A104: ='imported summary from web'!A64 -> 796.6 | B104: ='imported summary from web'!B64 -> C46H86O7PN | C104: ='imported summary from web'!C64 -> ePC(38:4) | E104: 0 | F104: 0.25 | G104: 0 | H104: 0.47 | I104: 0.03 | J104: 0.01
A105: ='imported summary from web'!A65 -> 798.6 | B105: ='imported summary from web'!B65 -> C46H88O7PN | C105: ='imported summary from web'!C65 -> ePC(38:3) | E105: 0.01 | F105: 0 | G105: 0 | H105: 0.96 | I105: 0.06 | J105: 0
A106: ='imported summary from web'!A66 -> 800.6 | B106: ='imported summary from web'!B66 -> C46H90O7PN | C106: ='imported summary from web'!C66 -> ePC(38:2) | E106: 0 | F106: 0.07 | G106: 0 | H106: 0.54 | I106: 0.03 | J106: 0.01
A107: ='imported summary from web'!A67 -> 802.7 | B107: ='imported summary from web'!B67 -> C46H92O7PN | C107: ='imported summary from web'!C67 -> ePC(38:1) | E107: 0.01 | F107: 0.14 | G107: 0 | H107: 0.55 | I107: 0.23 | J107: 0
A108: ='imported summary from web'!A68 -> 804.7 | B108: ='imported summary from web'!B68 -> C46H94O7PN | C108: ='imported summary from web'!C68 -> ePC(38:0) | D108: PC(38:7) | E108: 0.02 | F108: 0.12 | G108: 0.02 | H108: 0.16 | I108: 0.1 | J108: 0
A109: ='imported summary from web'!A79 -> 820.6 | B109: ='imported summary from web'!B79 -> C48H86O7PN | C109: ='imported summary from web'!C79 -> ePC(40:6) | E109: 0.01 | F109: 0.49 | G109: 0 | H109: 0.03 | I109: 0.03 | J109: 0
A110: ='imported summary from web'!A80 -> 822.6 | B110: ='imported summary from web'!B80 -> C48H88O7PN | C110: ='imported summary from web'!C80 -> ePC(40:5) | E110: 0.01 | F110: 0.05 | G110: 0.01 | H110: 0.07 | I110: 0 | J110: 0
A111: ='imported summary from web'!A81 -> 824.6 | B111: ='imported summary from web'!B81 -> C48H90O7PN | C111: ='imported summary from web'!C81 -> ePC(40:4) | E111: 0.03 | F111: 0 | G111: 0.12 | H111: 0.03 | I111: 0 | J111: 0
A112: ='imported summary from web'!A82 -> 826.7 | B112: ='imported summary from web'!B82 -> C48H92O7PN | C112: ='imported summary from web'!C82 -> ePC(40:3) | E112: 0 | F112: 0 | G112: 0 | H112: 0.12 | I112: 0 | J112: 0
A113: ='imported summary from web'!A83 -> 828.7 | B113: ='imported summary from web'!B83 -> C48H94O7PN | C113: ='imported summary from web'!C83 -> ePC(40:2) | E113: 0 | F113: 0 | G113: 0 | H113: 0.21 | I113: 0 | J113: 0
A114: Total ePC | C114: Total ePC | E114: 0.51 | F114: 9.98 | G114: 1.23 | H114: 8.26 | I114: 1.43 | J114: 1.32
A115: ='imported summary from web'!A114 -> 452.3 | B115: ='imported summary from web'!B114 -> C21H42O7PN | C115: ='imported summary from web'!C114 -> LPE(16:1) | E115: 0 | F115: 0 | G115: 0.36 | H115: 0.17 | I115: 0.63 | J115: 0
A116: ='imported summary from web'!A115 -> 454.3 | B116: ='imported summary from web'!B115 -> C21H44O7PN | C116: ='imported summary from web'!C115 -> LPE(16:0) | E116: 0.22 | F116: 0.92 | G116: 1.29 | H116: 0.1 | I116: 1.64 | J116: 0.22
A117: ='imported summary from web'!A116 -> 476.3 | B117: ='imported summary from web'!B116 -> C23H42O7PN | C117: ='imported summary from web'!C116 -> LPE(18:3) | E117: 0.06 | F117: 0 | G117: 0.16 | H117: 0.08 | I117: 0.82 | J117: 0
...

Sheet formula table
E1: Formula
A2: 822.75247 | B2: C51H100O6N | C2: 48:1 | D2: 14:0/16:0/18:1 | E2: 3 x NL14:0(48:1)*
A3: 822.75247 | B3: C51H100O6N | C3: 48:1 | D3: 16:0/16:0/16:1 | E3: 3/2 x NL16:0(48:1)
A4: 824.76807 | B4: C51H102O6N | C4: 48:0 | D4: 16:0/16:0/16:0 | E4: NL16:0(48:0)
A5: 846.75247 | B5: C53H100O6N | C5: 50:3 | D5: 16:1/16:1/18:1 | E5: 3/2 x (NL 16:1(50:3) - NL 18:2(50:3))
A6: 846.75247 | B6: C53H100O6N | C6: 50:3 | D6: 18:2/16:0/16:1 | E6: 3 x NL18:2(50:3)
A7: 848.76807 | B7: C53H102O6N | C7: 50:2 | D7: 18:1/16:0/16:1 | E7: 3 x NL18:1(50:2)
A8: 848.76807 | B8: C53H102O6N | C8: 50:2 | D8: 18:2/16:0/16:0 | E8: 3 x NL18:2(50:2)
A9: 850.78367 | B9: C53H104O6N | C9: 50:1 | D9: 18:1/16:0/16:0 | E9: 3 x NL18:1(50:1)
A10: 852.79927 | B10: C53H106O6N | C10: 50:0 | D10: 18:0/16:0/16:0 | E10: 3 x NL18:0(50:0)
A11: 868.7 | B11: C55H98O6N | C11: 52:6 | D11: 20:5/16:0/16:1 | E11: 3 x NL 20:5(52:6)
A12: 870.8 | B12: C55H100O6N | C12: 52:5 | D12: 20:5/16:0/16:0 | E12: 3 x NL 20:5(52:5)
A13: 872.76807 | B13: C55H102O6N | C13: 52:4 | D13: 16:0/18:2/18:2 (or 16:0/18:1/18:3) | E13: 3 x (NL 16:0(52:4) - NL 20:4(52:4))
... A45: 930.84607 | B45: C59H112O6N | C45: 56:3 | D45: 18:1/18:0/20:2 or 18:1/16:0/22:2 or 18:1/18:1/20:1 | E45: 3 x NL18:1(56:3)
A47: *In formulas, NL AB:c(XY:z) refers to the signal (after isotopic deconvolution and normalization to internal standard) in the neutral loss scan for the fatty acid AB:c at the m/z for the TAG with total acyl carbons XY:z. No correction is made for response factor variation among TAG molecular species. TAG species whose quantities are based on measurement of one of the three fatty acids are multiplied times 3 and those based on 2 are multiplied times 3/2. Those that are based on measurement of all three fatty acids are not multiplied because they are similar to the internal standard which is also detected based on three fatty acids (i.e. all NL fragmentations of a fatty acid from Tri 17:1 produce 17:1).

Sheet background subtracted
F2: set up this formula for the subtraction of contaminants: | H2: =IF(H5-$F5>0,H5-$F5,0) -> 0 | K2: corrected for internal standard contaminants
F3: ='imported summary from web'!#REF! -> #REF! | H3: ='imported summary from web'!#REF! -> #REF!
A4: Mass | B4: Compound Formula | C4: Compound Name | D4: alternate I.D. | E4: ='imported summary from web'!J3 -> IS02 | F4: ='imported summary from web'!D3 -> IS01 | G4: ave stds | H4: L-Exo | I4: H-Exo | K4: L-Exo | L4: H-Exo
A5: ='imported summary from web'!A4 -> 494.3 | B5: ='imported summary from web'!B4 -> C24H48O7PN | C5: ='imported summary from web'!C4 -> LPC(16:1) | E5: ='imported summary from web'!J4 -> 0.00013660375 | F5: ='imported summary from web'!D4 -> 0.00023417785 | G5: =(F5+E5)/2 -> 0.0001853908 | H5: ='imported summary from web'!E4 -> 0.00023417785 | I5: ='imported summary from web'!F4 -> 0.005776387 | K5: =IF(H5-$G5>0,H5-$G5,0)*2.5 -> 0.00012196763 | L5: =IF(I5-$G5>0,I5-$G5,0)*2.5 -> 0.01397749
A6: ='imported summary from web'!A5 -> 496.3 | B6: ='imported summary from web'!B5 -> C24H50O7PN | C6: ='imported summary from web'!C5 -> LPC(16:0) | E6: ='imported summary from web'!J5 -> 0.0018148783 | F6: ='imported summary from web'!D5 -> 0.0065179502 | G6: =(F6+E6)/2 -> 0.0041664143 | H6: ='imported summary from web'!E5 -> 0.0090158473 | I6: ='imported summary from web'!F5 -> 0.5106248 | K6: =IF(H6-$G6>0,H6-$G6,0)*2.5 -> 0.012123582 | L6: =IF(I6-$G6>0,I6-$G6,0)*2.5 -> 1.266146
A7: ='imported summary from web'!A6 -> 518.3 | B7: ='imported summary from web'!B6 -> C26H48O7PN | C7: ='imported summary from web'!C6 -> LPC(18:3) | E7: ='imported summary from web'!J6 -> 0.00017563339 | F7: ='imported summary from web'!D6 -> 0.00042932606 | G7: =(F7+E7)/2 -> 0.00030247972 | H7: ='imported summary from web'!E6 -> 0.00013660375 | I7: ='imported summary from web'!F6 -> 0.096656908 | K7: =IF(H7-$G7>0,H7-$G7,0)*2.5 -> 0 | L7: =IF(I7-$G7>0,I7-$G7,0)*2.5 -> 0.24088607
A8: ='imported summary from web'!A7 -> 520.3 | B8: ='imported summary from web'!B7 -> C26H50O7PN | C8: ='imported summary from web'!C7 -> LPC(18:2) | E8: ='imported summary from web'!J7 -> 0.00031223713 | F8: ='imported summary from web'!D7 -> 0.00042932606 | G8: =(F8+E8)/2 -> 0.0003707816 | H8: ='imported summary from web'!E7 -> 0.00040981124 | I8: ='imported summary from web'!F7 -> 0.95921199 | K8: =IF(H8-$G8>0,H8-$G8,0)*2.5 -> 9.7574104e-05 | L8: =IF(I8-$G8>0,I8-$G8,0)*2.5 -> 2.397103
A9: ='imported summary from web'!A8 -> 522.3 | B9: ='imported summary from web'!B8 -> C26H52O7PN | C9: ='imported summary from web'!C8 -> LPC(18:1) | E9: ='imported summary from web'!J8 -> 3.9029642e-05 | F9: ='imported summary from web'!D8 -> 0.00013660375 | G9: =(F9+E9)/2 -> 8.7816694e-05 | H9: ='imported summary from web'!E8 -> 0.00021466303 | I9: ='imported summary from web'!F8 -> 0.23716362 | K9: =IF(H9-$G9>0,H9-$G9,0)*2.5 -> 0.00031711584 | L9: =IF(I9-$G9>0,I9-$G9,0)*2.5 -> 0.5926895
A10: ='imported summary from web'!A9 -> 524.4 | B10: ='imported summary from web'!B9 -> C26H54O7PN | C10: ='imported summary from web'!C9 -> LPC(18:0) | E10: ='imported summary from web'!J9 -> 0.00015611857 | F10: ='imported summary from web'!D9 -> 0.00027320749 | G10: =(F10+E10)/2 -> 0.00021466303 | H10: ='imported summary from web'!E9 -> 0.0019905117 | I10: ='imported summary from web'!F9 -> 0.1238996 | K10: =IF(H10-$G10>0,H10-$G10,0)*2.5 -> 0.0044396218 | L10: =IF(I10-$G10>0,I10-$G10,0)*2.5 -> 0.30921234
A11: ='imported summary from web'!A10 -> 542.3 | B11: ='imported summary from web'!B10 -> C28H48O7PN | C11: ='imported summary from web'!C10 -> LPC(20:5) | E11: ='imported summary from web'!J10 -> 9.7574104e-05 | F11: ='imported summary from web'!D10 -> 0 | G11: =(F11+E11)/2 -> 4.8787052e-05 | H11: ='imported summary from web'!E10 -> 0.00013660375 | I11: ='imported summary from web'!F10 -> 0 | K11: =IF(H11-$G11>0,H11-$G11,0)*2.5 -> 0.00021954174 | L11: =IF(I11-$G11>0,I11-$G11,0)*2.5 -> 0
A12: ='imported summary from web'!A11 -> 544.3 | B12: ='imported summary from web'!B11 -> C28H50O7PN | C12: ='imported summary from web'!C11 -> LPC(20:4) | E12: ='imported summary from web'!J11 -> 0 | F12: ='imported summary from web'!D11 -> 0 | G12: =(F12+E12)/2 -> 0 | H12: ='imported summary from web'!E11 -> 7.8059284e-05 | I12: ='imported summary from web'!F11 -> 0 | K12: =IF(H12-$G12>0,H12-$G12,0)*2.5 -> 0.00019514821 | L12: =IF(I12-$G12>0,I12-$G12,0)*2.5 -> 0
A13: ='imported summary from web'!A12 -> 546.3 | B13: ='imported summary from web'!B12 -> C28H52O7PN | C13: ='imported summary from web'!C12 -> LPC(20:3) | E13: ='imported summary from web'!J12 -> 3.9029642e-05 | F13: ='imported summary from web'!D12 -> 0 | G13: =(F13+E13)/2 -> 1.9514821e-05 | H13: ='imported summary from web'!E12 -> 0 | I13: ='imported summary from web'!F12 -> 0 | K13: =IF(H13-$G13>0,H13-$G13,0)*2.5 -> 0 | L13: =IF(I13-$G13>0,I13-$G13,0)*2.5 -> 0
A14: ='imported summary from web'!A13 -> 548.4 | B14: ='imported summary from web'!B13 -> C28H54O7PN | C14: ='imported summary from web'!C13 -> LPC(20:2) | E14: ='imported summary from web'!J13 -> 0 | F14: ='imported summary from web'!D13 -> 7.8059284e-05 | G14: =(F14+E14)/2 -> 3.9029642e-05 | H14: ='imported summary from web'!E13 -> 3.9029642e-05 | I14: ='imported summary from web'!F13 -> 0.0029857676 | K14: =IF(H14-$G14>0,H14-$G14,0)*2.5 -> 0 | L14: =IF(I14-$G14>0,I14-$G14,0)*2.5 -> 0.0073668449
A15: ='imported summary from web'!A14 -> 550.4 | B15: ='imported summary from web'!B14 -> C28H56O7PN | C15: ='imported summary from web'!C14 -> LPC(20:1) | E15: ='imported summary from web'!J14 -> 7.8059284e-05 | F15: ='imported summary from web'!D14 -> 0 | G15: =(F15+E15)/2 -> 3.9029642e-05 | H15: ='imported summary from web'!E14 -> 5.8544463e-05 | I15: ='imported summary from web'!F14 -> 0.020841829 | K15: =IF(H15-$G15>0,H15-$G15,0)*2.5 -> 4.8787052e-05 | L15: =IF(I15-$G15>0,I15-$G15,0)*2.5 -> 0.052006998
A16: ='imported summary from web'!A15 -> 552.4 | B16: ='imported summary from web'!B15 -> C28H58O7PN | C16: ='imported summary from web'!C15 -> LPC(20:0) | E16: ='imported summary from web'!J15 -> 0.00013660375 | F16: ='imported summary from web'!D15 -> 0.00025369267 | G16: =(F16+E16)/2 -> 0.00019514821 | H16: ='imported summary from web'!E15 -> 0.00042932606 | I16: ='imported summary from web'!F15 -> 0.029252717 | K16: =IF(H16-$G16>0,H16-$G16,0)*2.5 -> 0.00058544463 | L16: =IF(I16-$G16>0,I16-$G16,0)*2.5 -> 0.072643921
... A18: ='imported summary from web'!A17 -> 570.3 | B18: ='imported summary from web'!B17 -> C30H52O7PN | C18: ='imported summary from web'!C17 -> LPC(22:5) | E18: ='imported summary from web'!J17 -> 5.8544463e-05 | F18: ='imported summary from web'!D17 -> 0.00040981124 | G18: =(F18+E18)/2 -> 0.00023417785 | H18: ='imported summary from web'!E17 -> 0.00031223713 | I18: ='imported summary from web'!F17 -> 0.0078254432 | K18: =IF(H18-$G18>0,H18-$G18,0)*2.5 -> 0.00019514821 | L18: =IF(I18-$G18>0,I18-$G18,0)*2.5 -> 0.018978163
A19: Total LysoPC | C19: Total LysoPC | E19: =E5+E6+E7+E8+E9+E10+E11+E12+E13+E14+E15+E16+E17+E18 -> 0.0030833417 | F19: =F5+F6+F7+F8+F9+F10+F11+F12+F13+F14+F15+F16+F17+F18 -> 0.0092695399 | G19: =(F19+E19)/2 -> 0.0061764408 | H19: =H5+H6+H7+H8+H9+H10+H11+H12+H13+H14+H15+H16+H17+H18 -> 0.013270078 | I19: =I5+I6+I7+I8+I9+I10+I11+I12+I13+I14+I15+I16+I17+I18 -> 2.011334 | K19: =SUM(K5:K18) -> 0.018343932 | L19: =SUM(L5:L18) -> 5.0130648
A20: ='imported summary from web'!A20 -> 676.5 | B20: ='imported summary from web'!B20 -> C36H70O8PN | C20: ='imported summary from web'!C20 -> PC(28:1) | E20: ='imported summary from web'!J20 -> 6.8064511e-05 | F20: ='imported summary from web'!D20 -> 0.00051048383 | G20: =(F20+E20)/2 -> 0.00028927417 | H20: ='imported summary from web'!E20 -> 0.00010209677 | I20: ='imported summary from web'!F20 -> 0.0026545159 | K20: =IF(H20-$G20>0,H20-$G20,0)*2.5 -> 0 | L20: =IF(I20-$G20>0,I20-$G20,0)*2.5 -> 0.0059131044
A21: ='imported summary from web'!A23 -> 704.5 | B21: ='imported summary from web'!B23 -> C38H74O8PN | C21: ='imported summary from web'!C23 -> PC(30:1) | E21: ='imported summary from web'!J23 -> 0.00010209677 | F21: ='imported summary from web'!D23 -> 0.00028927417 | G21: =(F21+E21)/2 -> 0.00019568547 | H21: ='imported summary from web'!E23 -> 0.0010039515 | I21: ='imported summary from web'!F23 -> 0.0030799191 | K21: =IF(H21-$G21>0,H21-$G21,0)*2.5 -> 0.0020206652 | L21: =IF(I21-$G21>0,I21-$G21,0)*2.5 -> 0.0072105841
A22: ='imported summary from web'!A25 -> 706.5 | B22: ='imported summary from web'!B25 -> C38H76O8PN | C22: ='imported summary from web'!C25 -> PC(30:0) | E22: ='imported summary from web'!J25 -> 8.5080639e-05 | F22: ='imported summary from web'!D25 -> 0.00037435481 | G22: =(F22+E22)/2 -> 0.00022971772 | H22: ='imported summary from web'!E25 -> 0.001599516 | I22: ='imported summary from web'!F25 -> 0.0093929025 | K22: =IF(H22-$G22>0,H22-$G22,0)*2.5 -> 0.0034244957 | L22: =IF(I22-$G22>0,I22-$G22,0)*2.5 -> 0.022907962
A23: ='imported summary from web'!A31 -> 730.5 | B23: ='imported summary from web'!B31 -> C40H76O8PN | C23: ='imported summary from web'!C31 -> PC(32:2) | E23: ='imported summary from web'!J31 -> 0 | F23: ='imported summary from web'!D31 -> 0.00028927417 | G23: =(F23+E23)/2 -> 0.00014463709 | H23: ='imported summary from web'!E31 -> 0.00013612902 | I23: ='imported summary from web'!F31 -> 0.002127016 | K23: =IF(H23-$G23>0,H23-$G23,0)*2.5 -> 0 | L23: =IF(I23-$G23>0,I23-$G23,0)*2.5 -> 0.0049559472
A24: ='imported summary from web'!A33 -> 732.5 | B24: ='imported summary from web'!B33 -> C40H78O8PN | C24: ='imported summary from web'!C33 -> PC(32:1) | E24: ='imported summary from web'!J33 -> 0.00017016128 | F24: ='imported summary from web'!D33 -> 0.00039137094 | G24: =(F24+E24)/2 -> 0.00028076611 | H24: ='imported summary from web'!E33 -> 0.0011570967 | I24: ='imported summary from web'!F33 -> 0.0061938705 | K24: =IF(H24-$G24>0,H24-$G24,0)*2.5 -> 0.0021908264 | L24: =IF(I24-$G24>0,I24-$G24,0)*2.5 -> 0.014782761
A25: ='imported summary from web'!A35 -> 734.6 | B25: ='imported summary from web'!B35 -> C40H80O8PN | C25: ='imported summary from web'!C35 -> PC(32:0) | E25: ='imported summary from web'!J35 -> 0.00035733868 | F25: ='imported summary from web'!D35 -> 0.00040838707 | G25: =(F25+E25)/2 -> 0.00038286287 | H25: ='imported summary from web'!E35 -> 0.0033181449 | I25: ='imported summary from web'!F35 -> 0.015927096 | K25: =IF(H25-$G25>0,H25-$G25,0)*2.5 -> 0.0073382051 | L25: =IF(I25-$G25>0,I25-$G25,0)*2.5 -> 0.038860582
A26: ='imported summary from web'!A41 -> 754.5 | B26: ='imported summary from web'!B41 -> C42H76O8PN | C26: ='imported summary from web'!C41 -> PC(34:4) | E26: ='imported summary from web'!J41 -> 0.0001871774 | F26: ='imported summary from web'!D41 -> 0.0010549999 | G26: =(F26+E26)/2 -> 0.00062108866 | H26: ='imported summary from web'!E41 -> 0.00010209677 | I26: ='imported summary from web'!F41 -> 0.00093588702 | K26: =IF(H26-$G26>0,H26-$G26,0)*2.5 -> 0 | L26: =IF(I26-$G26>0,I26-$G26,0)*2.5 -> 0.00078699591
A27: ='imported summary from web'!A42 -> 756.5 | B27: ='imported summary from web'!B42 -> C42H78O8PN | C27: ='imported summary from web'!C42 -> PC(34:3) | E27: ='imported summary from web'!J42 -> 0.0052920157 | F27: ='imported summary from web'!D42 -> 0.026034675 | G27: =(F27+E27)/2 -> 0.015663346 | H27: ='imported summary from web'!E42 -> 0.0011060483 | I27: ='imported summary from web'!F42 -> 0.025932579 | K27: =IF(H27-$G27>0,H27-$G27,0)*2.5 -> 0 | L27: =IF(I27-$G27>0,I27-$G27,0)*2.5 -> 0.025673083
A28: ='imported summary from web'!A43 -> 758.6 | B28: ='imported summary from web'!B43 -> C42H80O8PN | C28: ='imported summary from web'!C43 -> PC(34:2) | E28: ='imported summary from web'!J43 -> 0.0052749996 | F28: ='imported summary from web'!D43 -> 0.024554272 | G28: =(F28+E28)/2 -> 0.014914636 | H28: ='imported summary from web'!E43 -> 0.0036584675 | I28: ='imported summary from web'!F43 -> 0.21292281 | K28: =IF(H28-$G28>0,H28-$G28,0)*2.5 -> 0 | L28: =IF(I28-$G28>0,I28-$G28,0)*2.5 -> 0.49502043
A29: ='imported summary from web'!A44 -> 760.6 | B29: ='imported summary from web'!B44 -> C42H82O8PN | C29: ='imported summary from web'!C44 -> PC(34:1) | E29: ='imported summary from web'!J44 -> 0.0011230644 | F29: ='imported summary from web'!D44 -> 0.0052069351 | G29: =(F29+E29)/2 -> 0.0031649998 | H29: ='imported summary from web'!E44 -> 0.0040838707 | I29: ='imported summary from web'!F44 -> 0.060934753 | K29: =IF(H29-$G29>0,H29-$G29,0)*2.5 -> 0.0022971772 | L29: =IF(I29-$G29>0,I29-$G29,0)*2.5 -> 0.14442438
A30: ='imported summary from web'!A45 -> 762.6 | B30: ='imported summary from web'!B45 -> C42H84O8PN | C30: ='imported summary from web'!C45 -> PC(34:0) | E30: ='imported summary from web'!J45 -> 6.8064511e-05 | F30: ='imported summary from web'!D45 -> 0 | G30: =(F30+E30)/2 -> 3.4032255e-05 | H30: ='imported summary from web'!E45 -> 0.00090185477 | I30: ='imported summary from web'!F45 -> 0.0058535479 | K30: =IF(H30-$G30>0,H30-$G30,0)*2.5 -> 0.0021695563 | L30: =IF(I30-$G30>0,I30-$G30,0)*2.5 -> 0.014548789
A31: ='imported summary from web'!A52 -> 778.5 | B31: ='imported summary from web'!B52 -> C44H76O8PN | C31: ='imported summary from web'!C52 -> PC(36:6) | E31: ='imported summary from web'!J52 -> 0.0024843546 | F31: ='imported summary from web'!D52 -> 0.011264677 | G31: =(F31+E31)/2 -> 0.0068745156 | H31: ='imported summary from web'!E52 -> 0.0006125806 | I31: ='imported summary from web'!F52 -> 0.0049687093 | K31: =IF(H31-$G31>0,H31-$G31,0)*2.5 -> 0 | L31: =IF(I31-$G31>0,I31-$G31,0)*2.5 -> 0
A32: ='imported summary from web'!A53 -> 780.5 | B32: ='imported summary from web'!B53 -> C44H78O8PN | C32: ='imported summary from web'!C53 -> PC(36:5) | E32: ='imported summary from web'!J53 -> 0.0051388706 | F32: ='imported summary from web'!D53 -> 0.023090885 | G32: =(F32+E32)/2 -> 0.014114878 | H32: ='imported summary from web'!E53 -> 0.0014463709 | I32: ='imported summary from web'!F53 -> 0.063299995 | K32: =IF(H32-$G32>0,H32-$G32,0)*2.5 -> 0 | L32: =IF(I32-$G32>0,I32-$G32,0)*2.5 -> 0.12296279
A33: ='imported summary from web'!A54 -> 782.6 | B33: ='imported summary from web'!B54 -> C44H80O8PN | C33: ='imported summary from web'!C54 -> PC(36:4) | E33: ='imported summary from web'!J54 -> 0.0042540319 | F33: ='imported summary from web'!D54 -> 0.018479515 | G33: =(F33+E33)/2 -> 0.011366773 | H33: ='imported summary from web'!E54 -> 0.0020929837 | I33: ='imported summary from web'!F54 -> 0.30753248 | K33: =IF(H33-$G33>0,H33-$G33,0)*2.5 -> 0 | L33: =IF(I33-$G33>0,I33-$G33,0)*2.5 -> 0.74041426
A34: ='imported summary from web'!A55 -> 784.6 | B34: ='imported summary from web'!B55 -> C44H82O8PN | C34: ='imported summary from web'!C55 -> PC(36:3) | E34: ='imported summary from web'!J55 -> 0.0019058063 | F34: ='imported summary from web'!D55 -> 0.0088994348 | G34: =(F34+E34)/2 -> 0.0054026206 | H34: ='imported summary from web'!E55 -> 0.0015314515 | I34: ='imported summary from web'!F55 -> 0.12220983 | K34: =IF(H34-$G34>0,H34-$G34,0)*2.5 -> 0 | L34: =IF(I34-$G34>0,I34-$G34,0)*2.5 -> 0.29201802
A35: ='imported summary from web'!A57 -> 786.6 | B35: ='imported summary from web'!B57 -> C44H84O8PN | C35: ='imported summary from web'!C57 -> PC(36:2) | E35: ='imported summary from web'!J57 -> 0.0009188709 | F35: ='imported summary from web'!D57 -> 0.0042540319 | G35: =(F35+E35)/2 -> 0.0025864514 | H35: ='imported summary from web'!E57 -> 0.0016165321 | I35: ='imported summary from web'!F57 -> 0.072624833 | K35: =IF(H35-$G35>0,H35-$G35,0)*2.5 -> 0 | L35: =IF(I35-$G35>0,I35-$G35,0)*2.5 -> 0.17509595
A36: ='imported summary from web'!A59 -> 788.6 | B36: ='imported summary from web'!B59 -> C44H86O8PN | C36: ='imported summary from web'!C59 -> PC(36:1) | E36: ='imported summary from web'!J59 -> 0.0004934677 | F36: ='imported summary from web'!D59 -> 0.0024333063 | G36: =(F36+E36)/2 -> 0.001463387 | H36: ='imported summary from web'!E59 -> 0.0013442741 | I36: ='imported summary from web'!F59 -> 0.019942902 | K36: =IF(H36-$G36>0,H36-$G36,0)*2.5 -> 0 | L36: =IF(I36-$G36>0,I36-$G36,0)*2.5 -> 0.046198787
A37: ='imported summary from web'!A61 -> 790.6 | B37: ='imported summary from web'!B61 -> C44H88O8PN | C37: ='imported summary from web'!C61 -> PC(36:0) | D37: ePC(38:7) | E37: ='imported summary from web'!J61 -> 0.00040838707 | F37: ='imported summary from web'!D61 -> 0.0021950805 | G37: =(F37+E37)/2 -> 0.0013017338 | H37: ='imported summary from web'!E61 -> 0.00093588702 | I37: ='imported summary from web'!F61 -> 0.005989677 | K37: =IF(H37-$G37>0,H37-$G37,0)*2.5 -> 0 | L37: =IF(I37-$G37>0,I37-$G37,0)*2.5 -> 0.011719858
A38: ='imported summary from web'!A69 -> 806.6 | B38: ='imported summary from web'!B69 -> C46H80O8PN | C38: ='imported summary from web'!C69 -> PC(38:6) | E38: ='imported summary from web'!J69 -> 3.4032255e-05 | F38: ='imported summary from web'!D69 -> 0.00083379026 | G38: =(F38+E38)/2 -> 0.00043391126 | H38: ='imported summary from web'!E69 -> 0.00062959673 | I38: ='imported summary from web'!F69 -> 0.0038286287 | K38: =IF(H38-$G38>0,H38-$G38,0)*2.5 -> 0.00048921367 | L38: =IF(I38-$G38>0,I38-$G38,0)*2.5 -> 0.0084867937
A39: ='imported summary from web'!A70 -> 808.6 | B39: ='imported summary from web'!B70 -> C46H82O8PN | C39: ='imported summary from web'!C70 -> PC(38:5) | E39: ='imported summary from web'!J70 -> 0.00013612902 | F39: ='imported summary from web'!D70 -> 0.00083379026 | G39: =(F39+E39)/2 -> 0.00048495964 | H39: ='imported summary from web'!E70 -> 0.00027225804 | I39: ='imported summary from web'!F70 -> 0.0027906449 | K39: =IF(H39-$G39>0,H39-$G39,0)*2.5 -> 0 | L39: =IF(I39-$G39>0,I39-$G39,0)*2.5 -> 0.0057642133
A40: ='imported summary from web'!A71 -> 810.6 | B40: ='imported summary from web'!B71 -> C46H84O8PN | C40: ='imported summary from web'!C71 -> PC(38:4) | E40: ='imported summary from web'!J71 -> 0.00034032255 | F40: ='imported summary from web'!D71 -> 0.0013612902 | G40: =(F40+E40)/2 -> 0.00085080639 | H40: ='imported summary from web'!E71 -> 0.00073169349 | I40: ='imported summary from web'!F71 -> 0.0062959673 | K40: =IF(H40-$G40>0,H40-$G40,0)*2.5 -> 0 | L40: =IF(I40-$G40>0,I40-$G40,0)*2.5 -> 0.013612902
A41: ='imported summary from web'!A72 -> 812.6 | B41: ='imported summary from web'!B72 -> C46H86O8PN | C41: ='imported summary from web'!C72 -> PC(38:3) | E41: ='imported summary from web'!J72 -> 0.00069766124 | F41: ='imported summary from web'!D72 -> 0.0024673385 | G41: =(F41+E41)/2 -> 0.0015824999 | H41: ='imported summary from web'!E72 -> 0.00059556447 | I41: ='imported summary from web'!F72 -> 0.0088313703 | K41: =IF(H41-$G41>0,H41-$G41,0)*2.5 -> 0 | L41: =IF(I41-$G41>0,I41-$G41,0)*2.5 -> 0.018122176
A42: ='imported summary from web'!A74 -> 814.6 | B42: ='imported summary from web'!B74 -> C46H88O8PN | C42: ='imported summary from web'!C74 -> PC(38:2) | E42: ='imported summary from web'!J74 -> 0.00056153221 | F42: ='imported summary from web'!D74 -> 0.0021610482 | G42: =(F42+E42)/2 -> 0.0013612902 | H42: ='imported summary from web'!E74 -> 0.00051048383 | I42: ='imported summary from web'!F74 -> 0.0088483864 | K42: =IF(H42-$G42>0,H42-$G42,0)*2.5 -> 0 | L42: =IF(I42-$G42>0,I42-$G42,0)*2.5 -> 0.01871774
A43: ='imported summary from web'!A76 -> 816.6 | B43: ='imported summary from web'!B76 -> C46H90O8PN | C43: ='imported summary from web'!C76 -> PC(38:1) | E43: ='imported summary from web'!J76 -> 0.00023822579 | F43: ='imported summary from web'!D76 -> 0.00095290315 | G43: =(F43+E43)/2 -> 0.00059556447 | H43: ='imported summary from web'!E76 -> 0.00044241932 | I43: ='imported summary from web'!F76 -> 0.0048836287 | K43: =IF(H43-$G43>0,H43-$G43,0)*2.5 -> 0 | L43: =IF(I43-$G43>0,I43-$G43,0)*2.5 -> 0.01072016
A44: ='imported summary from web'!A78 -> 818.7 | B44: ='imported summary from web'!B78 -> C46H92O8PN | C44: ='imported summary from web'!C78 -> PC(38:0) | D44: ePC(40:7) | E44: ='imported summary from web'!J78 -> 5.1048383e-05 | F44: ='imported summary from web'!D78 -> 0.00032330643 | G44: =(F44+E44)/2 -> 0.0001871774 | H44: ='imported summary from web'!E78 -> 0.00025524192 | I44: ='imported summary from web'!F78 -> 0.0030458869 | K44: =IF(H44-$G44>0,H44-$G44,0)*2.5 -> 0.00017016128 | L44: =IF(I44-$G44>0,I44-$G44,0)*2.5 -> 0.0071467736
A45: ='imported summary from web'!A84 -> 830.6 | B45: ='imported summary from web'!B84 -> C48H80O8PN | C45: ='imported summary from web'!C84 -> PC(40:8) | E45: ='imported summary from web'!J84 -> 0.00010209677 | F45: ='imported summary from web'!D84 -> 0.0004934677 | G45: =(F45+E45)/2 -> 0.00029778224 | H45: ='imported summary from web'!E84 -> 0.00022120966 | I45: ='imported summary from web'!F84 -> 0.0029437901 | K45: =IF(H45-$G45>0,H45-$G45,0)*2.5 -> 0 | L45: =IF(I45-$G45>0,I45-$G45,0)*2.5 -> 0.0066150197
A46: ='imported summary from web'!A85 -> 832.6 | B46: ='imported summary from web'!B85 -> C48H82O8PN | C46: ='imported summary from web'!C85 -> PC(40:7) | E46: ='imported summary from web'!J85 -> 3.4032255e-05 | F46: ='imported summary from web'!D85 -> 0.00028927417 | G46: =(F46+E46)/2 -> 0.00016165321 | H46: ='imported summary from web'!E85 -> 0.00069766124 | I46: ='imported summary from web'!F85 -> 0.0025183869 | K46: =IF(H46-$G46>0,H46-$G46,0)*2.5 -> 0.0013400201 | L46: =IF(I46-$G46>0,I46-$G46,0)*2.5 -> 0.0058918342
A47: ='imported summary from web'!A86 -> 834.6 | B47: ='imported summary from web'!B86 -> C48H84O8PN | C47: ='imported summary from web'!C86 -> PC(40:6) | E47: ='imported summary from web'!J86 -> 0 | F47: ='imported summary from web'!D86 -> 0.00027225804 | G47: =(F47+E47)/2 -> 0.00013612902 | H47: ='imported summary from web'!E86 -> 0.00023822579 | I47: ='imported summary from web'!F86 -> 0.0020249192 | K47: =IF(H47-$G47>0,H47-$G47,0)*2.5 -> 0.00025524192 | L47: =IF(I47-$G47>0,I47-$G47,0)*2.5 -> 0.0047219754
A48: ='imported summary from web'!A87 -> 836.6 | B48: ='imported summary from web'!B87 -> C48H86O8PN | C48: ='imported summary from web'!C87 -> PC(40:5) | E48: ='imported summary from web'!J87 -> 3.4032255e-05 | F48: ='imported summary from web'!D87 -> 0.0003062903 | G48: =(F48+E48)/2 -> 0.00017016128 | H48: ='imported summary from web'!E87 -> 8.5080639e-05 | I48: ='imported summary from web'!F87 -> 0.0009188709 | K48: =IF(H48-$G48>0,H48-$G48,0)*2.5 -> 0 | L48: =IF(I48-$G48>0,I48-$G48,0)*2.5 -> 0.001871774
A49: ='imported summary from web'!A88 -> 838.6 | B49: ='imported summary from web'!B88 -> C48H88O8PN | C49: ='imported summary from web'!C88 -> PC(40:4) | E49: ='imported summary from web'!J88 -> 0 | F49: ='imported summary from web'!D88 -> 8.5080639e-05 | G49: =(F49+E49)/2 -> 4.2540319e-05 | H49: ='imported summary from web'!E88 -> 0 | I49: ='imported summary from web'!F88 -> 0.00057854834 | K49: =IF(H49-$G49>0,H49-$G49,0)*2.5 -> 0 | L49: =IF(I49-$G49>0,I49-$G49,0)*2.5 -> 0.0013400201
A50: ='imported summary from web'!A89 -> 840.6 | B50: ='imported summary from web'!B89 -> C48H90O8PN | C50: ='imported summary from web'!C89 -> PC(40:3) | E50: ='imported summary from web'!J89 -> 0 | F50: ='imported summary from web'!D89 -> 0.00011911289 | G50: =(F50+E50)/2 -> 5.9556447e-05 | H50: ='imported summary from web'!E89 -> 8.5080639e-05 | I50: ='imported summary from web'!F89 -> 0.0019568547 | K50: =IF(H50-$G50>0,H50-$G50,0)*2.5 -> 6.3810479e-05 | L50: =IF(I50-$G50>0,I50-$G50,0)*2.5 -> 0.0047432456
A51: ='imported summary from web'!A90 -> 842.7 | B51: ='imported summary from web'!B90 -> C48H92O8PN | C51: ='imported summary from web'!C90 -> PC(40:2) | E51: ='imported summary from web'!J90 -> 0.00013612902 | F51: ='imported summary from web'!D90 -> 0.00054451609 | G51: =(F51+E51)/2 -> 0.00034032255 | H51: ='imported summary from web'!E90 -> 0 | I51: ='imported summary from web'!F90 -> 0.0024162901 | K51: =IF(H51-$G51>0,H51-$G51,0)*2.5 -> 0 | L51: =IF(I51-$G51>0,I51-$G51,0)*2.5 -> 0.005189919
A52: ='imported summary from web'!A91 -> 852.5 | B52: ='imported summary from web'!B91 -> C50H78O8PN | C52: ='imported summary from web'!C91 -> PC(42:11) | E52: ='imported summary from web'!J91 -> 0.00010209677 | F52: ='imported summary from web'!D91 -> 0.00023822579 | G52: =(F52+E52)/2 -> 0.00017016128 | H52: ='imported summary from web'!E91 -> 0 | I52: ='imported summary from web'!F91 -> 0.00069766124 | K52: =IF(H52-$G52>0,H52-$G52,0)*2.5 -> 0 | L52: =IF(I52-$G52>0,I52-$G52,0)*2.5 -> 0.0013187499
A53: ='imported summary from web'!A92 -> 854.6 | B53: ='imported summary from web'!B92 -> C50H80O8PN | C53: ='imported summary from web'!C92 -> PC(42:10) | E53: ='imported summary from web'!J92 -> 0 | F53: ='imported summary from web'!D92 -> 0.0006125806 | G53: =(F53+E53)/2 -> 0.0003062903 | H53: ='imported summary from web'!E92 -> 0 | I53: ='imported summary from web'!F92 -> 0.0011741128 | K53: =IF(H53-$G53>0,H53-$G53,0)*2.5 -> 0 | L53: =IF(I53-$G53>0,I53-$G53,0)*2.5 -> 0.0021695563
A54: ='imported summary from web'!A93 -> 856.6 | B54: ='imported summary from web'!B93 -> C50H82O8PN | C54: ='imported summary from web'!C93 -> PC(42:9) | E54: ='imported summary from web'!J93 -> 0 | F54: ='imported summary from web'!D93 -> 0 | G54: =(F54+E54)/2 -> 0 | H54: ='imported summary from web'!E93 -> 0 | I54: ='imported summary from web'!F93 -> 6.8064511e-05 | K54: =IF(H54-$G54>0,H54-$G54,0)*2.5 -> 0 | L54: =IF(I54-$G54>0,I54-$G54,0)*2.5 -> 0.00017016128
A55: ='imported summary from web'!A94 -> 858.6 | B55: ='imported summary from web'!B94 -> C50H84O8PN | C55: ='imported summary from web'!C94 -> PC(42:8) | E55: ='imported summary from web'!J94 -> 0 | F55: ='imported summary from web'!D94 -> 0.00023822579 | G55: =(F55+E55)/2 -> 0.00011911289 | H55: ='imported summary from web'!E94 -> 0 | I55: ='imported summary from web'!F94 -> 0 | K55: =IF(H55-$G55>0,H55-$G55,0)*2.5 -> 0 | L55: =IF(I55-$G55>0,I55-$G55,0)*2.5 -> 0
A56: ='imported summary from web'!A95 -> 860.6 | B56: ='imported summary from web'!B95 -> C50H86O8PN | C56: ='imported summary from web'!C95 -> PC(42:7) | E56: ='imported summary from web'!J95 -> 0 | F56: ='imported summary from web'!D95 -> 0.00025524192 | G56: =(F56+E56)/2 -> 0.00012762096 | H56: ='imported summary from web'!E95 -> 0 | I56: ='imported summary from web'!F95 -> 0.00051048383 | K56: =IF(H56-$G56>0,H56-$G56,0)*2.5 -> 0 | L56: =IF(I56-$G56>0,I56-$G56,0)*2.5 -> 0.00095715718
... A72: ='imported summary from web'!A111 -> 898.7 | B72: ='imported summary from web'!B111 -> C52H100O8PN | C72: ='imported summary from web'!C111 -> PC(44:2) | E72: ='imported summary from web'!J111 -> 0 | F72: ='imported summary from web'!D111 -> 0 | G72: =(F72+E72)/2 -> 0 | H72: ='imported summary from web'!E111 -> 0 | I72: ='imported summary from web'!F111 -> 0 | K72: =IF(H72-$G72>0,H72-$G72,0)*2.5 -> 0 | L72: =IF(I72-$G72>0,I72-$G72,0)*2.5 -> 0
A73: Total PC | C73: Total PC | E73: =E20+E21+E22+E23+E24+E25+E26+E27+E28+E29+E30+E31+E32+E33+E34+E35+E36+E37+E38+E39+E40+E41+E42+E43+E44+E45+E46+E47+E48+E49+E50+E51+E52+E53+E54+E55+E56+E57+E58+E59+E60+E61+E62+E63+E64+E65+E66+E67+E68+E69+E70+E71+E72 -> 0.030799191 | F73: =F20+F21+F22+F23+F24+F25+F26+F27+F28+F29+F30+F31+F32+F33+F34+F35+F36+F37+F38+F39+F40+F41+F42+F43+F44+F45+F46+F47+F48+F49+F50+F51+F52+F53+F54+F55+F56+F57+F58+F59+F60+F61+F62+F63+F64+F65+F66+F67+F68+F69+F70+F71+F72 -> 0.14239096 | G73: =(F73+E73)/2 -> 0.086595074 | H73: =H20+H21+H22+H23+H24+H25+H26+H27+H28+H29+H30+H31+H32+H33+H34+H35+H36+H37+H38+H39+H40+H41+H42+H43+H44+H45+H46+H47+H48+H49+H50+H51+H52+H53+H54+H55+H56+H57+H58+H59+H60+H61+H62+H63+H64+H65+H66+H67+H68+H69+H70+H71+H72 -> 0.031667014 | I73: =I20+I21+I22+I23+I24+I25+I26+I27+I28+I29+I30+I31+I32+I33+I34+I35+I36+I37+I38+I39+I40+I41+I42+I43+I44+I45+I46+I47+I48+I49+I50+I51+I52+I53+I54+I55+I56+I57+I58+I59+I60+I61+I62+I63+I64+I65+I66+I67+I68+I69+I70+I71+I72 -> 1.0019947 | K73: =SUM(K20:K72) -> 0.021929535 | L73: =SUM(L20:L72) -> 2.293774
A74: ='imported summary from web'!A21 -> 701.5 | B74: ='imported summary from web'!B21 -> C39H77N2O6P | C74: ='imported summary from web'!C21 -> SM(16:1) | E74: ='imported summary from web'!J21/0.387 -> 0 | F74: ='imported summary from web'!D21/0.387 -> 0 | G74: =(F74+E74)/2 -> 0 | H74: ='imported summary from web'!E21/0.387 -> 0.00032428798 | I74: ='imported summary from web'!F21/0.387 -> 0.0017835839 | K74: =IF(H74-$G74>0,H74-$G74,0)*2.5 -> 0.00081071994 | L74: =IF(I74-$G74>0,I74-$G74,0)*2.5 -> 0.0044589597
A75: ='imported summary from web'!A22 -> 703.6 | B75: ='imported summary from web'!B22 -> C39H79N2O6P | C75: ='imported summary from web'!C22 -> SM(16:0) | E75: ='imported summary from web'!J22/0.387 -> 0.00016214399 | F75: ='imported summary from web'!D22/0.387 -> 0.00037833597 | G75: =(F75+E75)/2 -> 0.00027023998 | H75: ='imported summary from web'!E22/0.387 -> 0.037725501 | I75: ='imported summary from web'!F22/0.387 -> 0.085936314 | K75: =IF(H75-$G75>0,H75-$G75,0)*2.5 -> 0.093638153 | L75: =IF(I75-$G75>0,I75-$G75,0)*2.5 -> 0.21416518
A76: ='imported summary from web'!A24 -> 705.6 | B76: ='imported summary from web'!B24 -> C39H81N2O6P | C76: ='imported summary from web'!C24 -> DSM(16:0) | E76: ='imported summary from web'!J24/0.387 -> 0 | F76: ='imported summary from web'!D24/0.387 -> 0 | G76: =(F76+E76)/2 -> 0 | H76: ='imported summary from web'!E24/0.387 -> 0.011025791 | I76: ='imported summary from web'!F24/0.387 -> 0.014052479 | K76: =IF(H76-$G76>0,H76-$G76,0)*2.5 -> 0.027564478 | L76: =IF(I76-$G76>0,I76-$G76,0)*2.5 -> 0.035131198
A77: ='imported summary from web'!A30 -> 729.6 | B77: ='imported summary from web'!B30 -> C41H81N2O6P | C77: ='imported summary from web'!C30 -> SM(18:1) | E77: ='imported summary from web'!J30/0.387 -> 0 | F77: ='imported summary from web'!D30/0.387 -> 0 | G77: =(F77+E77)/2 -> 0 | H77: ='imported summary from web'!E30/0.387 -> 0 | I77: ='imported summary from web'!F30/0.387 -> 0.0011350079 | K77: =IF(H77-$G77>0,H77-$G77,0)*2.5 -> 0 | L77: =IF(I77-$G77>0,I77-$G77,0)*2.5 -> 0.0028375198
A78: ='imported summary from web'!A32 -> 731.6 | B78: ='imported summary from web'!B32 -> C41H83N2O6P | C78: ='imported summary from web'!C32 -> SM(18:0) | E78: ='imported summary from web'!J32/0.387 -> 0.00021619198 | F78: ='imported summary from web'!D32/0.387 -> 0 | G78: =(F78+E78)/2 -> 0.00010809599 | H78: ='imported summary from web'!E32/0.387 -> 0.00086476794 | I78: ='imported summary from web'!F32/0.387 -> 0.0050805116 | K78: =IF(H78-$G78>0,H78-$G78,0)*2.5 -> 0.0018916799 | L78: =IF(I78-$G78>0,I78-$G78,0)*2.5 -> 0.012431039
A79: ='imported summary from web'!A34 -> 733.6 | B79: ='imported summary from web'!B34 -> C41H85N2O6P | C79: ='imported summary from web'!C34 -> DSM(18:0) | E79: ='imported summary from web'!J34/0.387 -> 0 | F79: ='imported summary from web'!D34/0.387 -> 0 | G79: =(F79+E79)/2 -> 0 | H79: ='imported summary from web'!E34/0.387 -> 0.00059452796 | I79: ='imported summary from web'!F34/0.387 -> 0.0036752637 | K79: =IF(H79-$G79>0,H79-$G79,0)*2.5 -> 0.0014863199 | L79: =IF(I79-$G79>0,I79-$G79,0)*2.5 -> 0.0091881594
A80: ='imported summary from web'!A56 -> 785.6 | B80: ='imported summary from web'!B56 -> C45H89N2O6P | C80: ='imported summary from web'!C56 -> SM(22:1) | E80: ='imported summary from web'!J56/0.387 -> 0.00032428798 | F80: ='imported summary from web'!D56/0.387 -> 0.0032428798 | G80: =(F80+E80)/2 -> 0.0017835839 | H80: ='imported summary from web'!E56/0.387 -> 0.00059452796 | I80: ='imported summary from web'!F56/0.387 -> 0.036482397 | K80: =IF(H80-$G80>0,H80-$G80,0)*2.5 -> 0 | L80: =IF(I80-$G80>0,I80-$G80,0)*2.5 -> 0.086747034
A81: ='imported summary from web'!A58 -> 787.7 | B81: ='imported summary from web'!B58 -> C45H91N2O6P | C81: ='imported summary from web'!C58 -> SM(22:0) | E81: ='imported summary from web'!J58/0.387 -> 0.00043238397 | F81: ='imported summary from web'!D58/0.387 -> 0.0016214399 | G81: =(F81+E81)/2 -> 0.0010269119 | H81: ='imported summary from web'!E58/0.387 -> 0.0023781118 | I81: ='imported summary from web'!F58/0.387 -> 0.046427229 | K81: =IF(H81-$G81>0,H81-$G81,0)*2.5 -> 0.0033779998 | L81: =IF(I81-$G81>0,I81-$G81,0)*2.5 -> 0.11350079
A82: ='imported summary from web'!A60 -> 789.7 | B82: ='imported summary from web'!B60 -> C45H93N2O6P | C82: ='imported summary from web'!C60 -> DSM(22:0) | E82: ='imported summary from web'!J60/0.387 -> 0.00010809599 | F82: ='imported summary from web'!D60/0.387 -> 0.00091881594 | G82: =(F82+E82)/2 -> 0.00051345596 | H82: ='imported summary from web'!E60/0.387 -> 0.0015133439 | I82: ='imported summary from web'!F60/0.387 -> 0.0097286393 | K82: =IF(H82-$G82>0,H82-$G82,0)*2.5 -> 0.0024997198 | L82: =IF(I82-$G82>0,I82-$G82,0)*2.5 -> 0.023037958
A83: ='imported summary from web'!A73 -> 813.7 | B83: ='imported summary from web'!B73 -> C47H93N2O6P | C83: ='imported summary from web'!C73 -> SM(24:1) | E83: ='imported summary from web'!J73/0.387 -> 0 | F83: ='imported summary from web'!D73/0.387 -> 0 | G83: =(F83+E83)/2 -> 0 | H83: ='imported summary from web'!E73/0.387 -> 0.0041076477 | I83: ='imported summary from web'!F73/0.387 -> 0.02183539 | K83: =IF(H83-$G83>0,H83-$G83,0)*2.5 -> 0.010269119 | L83: =IF(I83-$G83>0,I83-$G83,0)*2.5 -> 0.054588476
A84: ='imported summary from web'!A75 -> 815.7 | B84: ='imported summary from web'!B75 -> C47H95N2O6P | C84: ='imported summary from web'!C75 -> SM(24:0) | E84: ='imported summary from web'!J75/0.387 -> 0 | F84: ='imported summary from web'!D75/0.387 -> 0.00021619198 | G84: =(F84+E84)/2 -> 0.00010809599 | H84: ='imported summary from web'!E75/0.387 -> 0.0032428798 | I84: ='imported summary from web'!F75/0.387 -> 0.024862078 | K84: =IF(H84-$G84>0,H84-$G84,0)*2.5 -> 0.0078369595 | L84: =IF(I84-$G84>0,I84-$G84,0)*2.5 -> 0.061884956
A85: ='imported summary from web'!A77 -> 817.7 | B85: ='imported summary from web'!B77 -> C47H97N2O6P | C85: ='imported summary from web'!C77 -> DSM(24:0) | E85: ='imported summary from web'!J77/0.387 -> 0 | F85: ='imported summary from web'!D77/0.387 -> 0 | G85: =(F85+E85)/2 -> 0 | H85: ='imported summary from web'!E77/0.387 -> 0.0016214399 | I85: ='imported summary from web'!F77/0.387 -> 0 | K85: =IF(H85-$G85>0,H85-$G85,0)*2.5 -> 0.0040535997 | L85: =IF(I85-$G85>0,I85-$G85,0)*2.5 -> 0
A86: Total SM and DSM | C86: Total SM and DSM | E86: =E74+E75+E76+E77+E78+E79+E80+E81+E82+E83+E84+E85 -> 0.0012431039 | F86: =F74+F75+F76+F77+F78+F79+F80+F81+F82+F83+F84+F85 -> 0.0063776636 | G86: =(F86+E86)/2 -> 0.0038103837 | H86: =H74+H75+H76+H77+H78+H79+H80+H81+H82+H83+H84+H85 -> 0.063992828 | I86: =I74+I75+I76+I77+I78+I79+I80+I81+I82+I83+I84+I85 -> 0.25099889 | K86: =SUM(K74:K85) -> 0.15342875 | L86: =SUM(L74:L85) -> 0.61797128
A87: ='imported summary from web'!A26 -> 714.5 | B87: ='imported summary from web'!B26 -> C40H76O7PN | C87: ='imported summary from web'!C26 -> ePC(32:3) | E87: ='imported summary from web'!J26 -> 1.7016128e-05 | F87: ='imported summary from web'!D26 -> 8.5080639e-05 | G87: =(F87+E87)/2 -> 5.1048383e-05 | H87: ='imported summary from web'!E26 -> 0 | I87: ='imported summary from web'!F26 -> 0 | K87: =IF(H87-$G87>0,H87-$G87,0)*2.5 -> 0 | L87: =IF(I87-$G87>0,I87-$G87,0)*2.5 -> 0
A88: ='imported summary from web'!A27 -> 716.6 | B88: ='imported summary from web'!B27 -> C40H78O7PN | C88: ='imported summary from web'!C27 -> ePC(32:2) | E88: ='imported summary from web'!J27 -> 5.1048383e-05 | F88: ='imported summary from web'!D27 -> 0.00035733868 | G88: =(F88+E88)/2 -> 0.00020419353 | H88: ='imported summary from web'!E27 -> 0.00025524192 | I88: ='imported summary from web'!F27 -> 0.00059556447 | K88: =IF(H88-$G88>0,H88-$G88,0)*2.5 -> 0.00012762096 | L88: =IF(I88-$G88>0,I88-$G88,0)*2.5 -> 0.00097842734
A89: ='imported summary from web'!A28 -> 718.6 | B89: ='imported summary from web'!B28 -> C40H80O7PN | C89: ='imported summary from web'!C28 -> ePC(32:1) | E89: ='imported summary from web'!J28 -> 0 | F89: ='imported summary from web'!D28 -> 0.00025524192 | G89: =(F89+E89)/2 -> 0.00012762096 | H89: ='imported summary from web'!E28 -> 0.0016335483 | I89: ='imported summary from web'!F28 -> 0.0026034675 | K89: =IF(H89-$G89>0,H89-$G89,0)*2.5 -> 0.0037648183 | L89: =IF(I89-$G89>0,I89-$G89,0)*2.5 -> 0.0061896165
A90: ='imported summary from web'!A29 -> 720.6 | B90: ='imported summary from web'!B29 -> C40H82O7PN | C90: ='imported summary from web'!C29 -> ePC(32:0) | E90: ='imported summary from web'!J29 -> 5.1048383e-05 | F90: ='imported summary from web'!D29 -> 0.00023822579 | G90: =(F90+E90)/2 -> 0.00014463709 | H90: ='imported summary from web'!E29 -> 0.0018547579 | I90: ='imported summary from web'!F29 -> 0.0046964513 | K90: =IF(H90-$G90>0,H90-$G90,0)*2.5 -> 0.0042753021 | L90: =IF(I90-$G90>0,I90-$G90,0)*2.5 -> 0.011379535
A91: ='imported summary from web'!A36 -> 740.6 | B91: ='imported summary from web'!B36 -> C42H78O7PN | C91: ='imported summary from web'!C36 -> ePC(34:4) | E91: ='imported summary from web'!J36 -> 5.1048383e-05 | F91: ='imported summary from web'!D36 -> 0.00034032255 | G91: =(F91+E91)/2 -> 0.00019568547 | H91: ='imported summary from web'!E36 -> 5.1048383e-05 | I91: ='imported summary from web'!F36 -> 0.00074870962 | K91: =IF(H91-$G91>0,H91-$G91,0)*2.5 -> 0 | L91: =IF(I91-$G91>0,I91-$G91,0)*2.5 -> 0.0013825604
A92: ='imported summary from web'!A37 -> 742.6 | B92: ='imported summary from web'!B37 -> C42H80O7PN | C92: ='imported summary from web'!C37 -> ePC(34:3) | E92: ='imported summary from web'!J37 -> 6.8064511e-05 | F92: ='imported summary from web'!D37 -> 0.00034032255 | G92: =(F92+E92)/2 -> 0.00020419353 | H92: ='imported summary from web'!E37 -> 0.0015654838 | I92: ='imported summary from web'!F37 -> 0.0017186289 | K92: =IF(H92-$G92>0,H92-$G92,0)*2.5 -> 0.0034032255 | L92: =IF(I92-$G92>0,I92-$G92,0)*2.5 -> 0.0037860884
A93: ='imported summary from web'!A38 -> 744.6 | B93: ='imported summary from web'!B38 -> C42H82O7PN | C93: ='imported summary from web'!C38 -> ePC(34:2) | E93: ='imported summary from web'!J38 -> 6.8064511e-05 | F93: ='imported summary from web'!D38 -> 0.00023822579 | G93: =(F93+E93)/2 -> 0.00015314515 | H93: ='imported summary from web'!E38 -> 0.001463387 | I93: ='imported summary from web'!F38 -> 0.0035733868 | K93: =IF(H93-$G93>0,H93-$G93,0)*2.5 -> 0.0032756046 | L93: =IF(I93-$G93>0,I93-$G93,0)*2.5 -> 0.0085506042
A94: ='imported summary from web'!A39 -> 746.6 | B94: ='imported summary from web'!B39 -> C42H84O7PN | C94: ='imported summary from web'!C39 -> ePC(34:1) | E94: ='imported summary from web'!J39 -> 5.1048383e-05 | F94: ='imported summary from web'!D39 -> 0.00028927417 | G94: =(F94+E94)/2 -> 0.00017016128 | H94: ='imported summary from web'!E39 -> 0.0013102418 | I94: ='imported summary from web'!F39 -> 0.0052239512 | K94: =IF(H94-$G94>0,H94-$G94,0)*2.5 -> 0.0028502014 | L94: =IF(I94-$G94>0,I94-$G94,0)*2.5 -> 0.012634475
A95: ='imported summary from web'!A40 -> 748.6 | B95: ='imported summary from web'!B40 -> C42H86O7PN | C95: ='imported summary from web'!C40 -> ePC(34:0) | E95: ='imported summary from web'!J40 -> 0 | F95: ='imported summary from web'!D40 -> 0.00020419353 | G95: =(F95+E95)/2 -> 0.00010209677 | H95: ='imported summary from web'!E40 -> 0.00066362898 | I95: ='imported summary from web'!F40 -> 0.0025694353 | K95: =IF(H95-$G95>0,H95-$G95,0)*2.5 -> 0.0014038305 | L95: =IF(I95-$G95>0,I95-$G95,0)*2.5 -> 0.0061683463
A96: ='imported summary from web'!A46 -> 766.6 | B96: ='imported summary from web'!B46 -> C44H80O7PN | C96: ='imported summary from web'!C46 -> ePC(36:5) | E96: ='imported summary from web'!J46 -> 0 | F96: ='imported summary from web'!D46 -> 0.00020419353 | G96: =(F96+E96)/2 -> 0.00010209677 | H96: ='imported summary from web'!E46 -> 0.00096991928 | I96: ='imported summary from web'!F46 -> 0.0026715321 | K96: =IF(H96-$G96>0,H96-$G96,0)*2.5 -> 0.0021695563 | L96: =IF(I96-$G96>0,I96-$G96,0)*2.5 -> 0.0064235882
A97: ='imported summary from web'!A47 -> 768.6 | B97: ='imported summary from web'!B47 -> C44H82O7PN | C97: ='imported summary from web'!C47 -> ePC(36:4) | E97: ='imported summary from web'!J47 -> 5.1048383e-05 | F97: ='imported summary from web'!D47 -> 0.00042540319 | G97: =(F97+E97)/2 -> 0.00023822579 | H97: ='imported summary from web'!E47 -> 0.00059556447 | I97: ='imported summary from web'!F47 -> 0.0016845966 | K97: =IF(H97-$G97>0,H97-$G97,0)*2.5 -> 0.00089334671 | L97: =IF(I97-$G97>0,I97-$G97,0)*2.5 -> 0.0036159271
A98: ='imported summary from web'!A48 -> 770.6 | B98: ='imported summary from web'!B48 -> C44H84O7PN | C98: ='imported summary from web'!C48 -> ePC(36:3) | E98: ='imported summary from web'!J48 -> 0.00020419353 | F98: ='imported summary from web'!D48 -> 0.001072016 | G98: =(F98+E98)/2 -> 0.00063810479 | H98: ='imported summary from web'!E48 -> 0.00047645158 | I98: ='imported summary from web'!F48 -> 0.0026715321 | K98: =IF(H98-$G98>0,H98-$G98,0)*2.5 -> 0 | L98: =IF(I98-$G98>0,I98-$G98,0)*2.5 -> 0.0050835682
A99: ='imported summary from web'!A49 -> 772.6 | B99: ='imported summary from web'!B49 -> C44H86O7PN | C99: ='imported summary from web'!C49 -> ePC(36:2) | E99: ='imported summary from web'!J49 -> 0.00045943545 | F99: ='imported summary from web'!D49 -> 0.0027566127 | G99: =(F99+E99)/2 -> 0.0016080241 | H99: ='imported summary from web'!E49 -> 0.00044241932 | I99: ='imported summary from web'!F49 -> 0.0067724188 | K99: =IF(H99-$G99>0,H99-$G99,0)*2.5 -> 0 | L99: =IF(I99-$G99>0,I99-$G99,0)*2.5 -> 0.012910987
A100: ='imported summary from web'!A50 -> 774.6 | B100: ='imported summary from web'!B50 -> C44H88O7PN | C100: ='imported summary from web'!C50 -> ePC(36:1) | E100: ='imported summary from web'!J50 -> 0.00028927417 | F100: ='imported summary from web'!D50 -> 0.001871774 | G100: =(F100+E100)/2 -> 0.0010805241 | H100: ='imported summary from web'!E50 -> 0.00056153221 | I100: ='imported summary from web'!F50 -> 0.010090564 | K100: =IF(H100-$G100>0,H100-$G100,0)*2.5 -> 0 | L100: =IF(I100-$G100>0,I100-$G100,0)*2.5 -> 0.022525099
A101: ='imported summary from web'!A51 -> 776.6 | B101: ='imported summary from web'!B51 -> C44H90O7PN | C101: ='imported summary from web'!C51 -> ePC(36:0) | E101: ='imported summary from web'!J51 -> 0 | F101: ='imported summary from web'!D51 -> 0.00037435481 | G101: =(F101+E101)/2 -> 0.0001871774 | H101: ='imported summary from web'!E51 -> 0.00037435481 | I101: ='imported summary from web'!F51 -> 0.0017866934 | K101: =IF(H101-$G101>0,H101-$G101,0)*2.5 -> 0.00046794351 | L101: =IF(I101-$G101>0,I101-$G101,0)*2.5 -> 0.00399879
A102: ='imported summary from web'!A62 -> 792.6 | B102: ='imported summary from web'!B62 -> C46H82O7PN | C102: ='imported summary from web'!C62 -> ePC(38:6) | E102: ='imported summary from web'!J62 -> 0.00013612902 | F102: ='imported summary from web'!D62 -> 0.00059556447 | G102: =(F102+E102)/2 -> 0.00036584675 | H102: ='imported summary from web'!E62 -> 0.0010890322 | I102: ='imported summary from web'!F62 -> 0.0033181449 | K102: =IF(H102-$G102>0,H102-$G102,0)*2.5 -> 0.0018079636 | L102: =IF(I102-$G102>0,I102-$G102,0)*2.5 -> 0.0073807454
A103: ='imported summary from web'!A63 -> 794.6 | B103: ='imported summary from web'!B63 -> C46H84O7PN | C103: ='imported summary from web'!C63 -> ePC(38:5) | E103: ='imported summary from web'!J63 -> 0.00037435481 | F103: ='imported summary from web'!D63 -> 0.0015144354 | G103: =(F103+E103)/2 -> 0.00094439509 | H103: ='imported summary from web'!E63 -> 0.00040838707 | I103: ='imported summary from web'!F63 -> 0.0019738708 | K103: =IF(H103-$G103>0,H103-$G103,0)*2.5 -> 0 | L103: =IF(I103-$G103>0,I103-$G103,0)*2.5 -> 0.0025736893
A104: ='imported summary from web'!A64 -> 796.6 | B104: ='imported summary from web'!B64 -> C46H86O7PN | C104: ='imported summary from web'!C64 -> ePC(38:4) | E104: ='imported summary from web'!J64 -> 0.00042540319 | F104: ='imported summary from web'!D64 -> 0.0021610482 | G104: =(F104+E104)/2 -> 0.0012932257 | H104: ='imported summary from web'!E64 -> 0.00037435481 | I104: ='imported summary from web'!F64 -> 0.0055812899 | K104: =IF(H104-$G104>0,H104-$G104,0)*2.5 -> 0 | L104: =IF(I104-$G104>0,I104-$G104,0)*2.5 -> 0.01072016
A105: ='imported summary from web'!A65 -> 798.6 | B105: ='imported summary from web'!B65 -> C46H88O7PN | C105: ='imported summary from web'!C65 -> ePC(38:3) | E105: ='imported summary from web'!J65 -> 0.00039137094 | F105: ='imported summary from web'!D65 -> 0.0016845966 | G105: =(F105+E105)/2 -> 0.0010379838 | H105: ='imported summary from web'!E65 -> 0.00023822579 | I105: ='imported summary from web'!F65 -> 0.0097332251 | K105: =IF(H105-$G105>0,H105-$G105,0)*2.5 -> 0 | L105: =IF(I105-$G105>0,I105-$G105,0)*2.5 -> 0.021738103
A106: ='imported summary from web'!A66 -> 800.6 | B106: ='imported summary from web'!B66 -> C46H90O7PN | C106: ='imported summary from web'!C66 -> ePC(38:2) | E106: ='imported summary from web'!J66 -> 0.00011911289 | F106: ='imported summary from web'!D66 -> 0.00062959673 | G106: =(F106+E106)/2 -> 0.00037435481 | H106: ='imported summary from web'!E66 -> 0.00013612902 | I106: ='imported summary from web'!F66 -> 0.0052920157 | K106: =IF(H106-$G106>0,H106-$G106,0)*2.5 -> 0 | L106: =IF(I106-$G106>0,I106-$G106,0)*2.5 -> 0.012294152
A107: ='imported summary from web'!A67 -> 802.7 | B107: ='imported summary from web'!B67 -> C46H92O7PN | C107: ='imported summary from web'!C67 -> ePC(38:1) | E107: ='imported summary from web'!J67 -> 0.00011911289 | F107: ='imported summary from web'!D67 -> 0.00071467736 | G107: =(F107+E107)/2 -> 0.00041689513 | H107: ='imported summary from web'!E67 -> 0.00039137094 | I107: ='imported summary from web'!F67 -> 0.0053941125 | K107: =IF(H107-$G107>0,H107-$G107,0)*2.5 -> 0 | L107: =IF(I107-$G107>0,I107-$G107,0)*2.5 -> 0.012443043
A108: ='imported summary from web'!A68 -> 804.7 | B108: ='imported summary from web'!B68 -> C46H94O7PN | C108: ='imported summary from web'!C68 -> ePC(38:0) | D108: PC(38:7) | E108: ='imported summary from web'!J68 -> 0.00017016128 | F108: ='imported summary from web'!D68 -> 0.00078274188 | G108: =(F108+E108)/2 -> 0.00047645158 | H108: ='imported summary from web'!E68 -> 0.0006125806 | I108: ='imported summary from web'!F68 -> 0.0018887902 | K108: =IF(H108-$G108>0,H108-$G108,0)*2.5 -> 0.00034032255 | L108: =IF(I108-$G108>0,I108-$G108,0)*2.5 -> 0.0035308465
A109: ='imported summary from web'!A79 -> 820.6 | B109: ='imported summary from web'!B79 -> C48H86O7PN | C109: ='imported summary from web'!C79 -> ePC(40:6) | E109: ='imported summary from web'!J79 -> 0.00022120966 | F109: ='imported summary from web'!D79 -> 0.0010209677 | G109: =(F109+E109)/2 -> 0.00062108866 | H109: ='imported summary from web'!E79 -> 0.00034032255 | I109: ='imported summary from web'!F79 -> 0.00086782251 | K109: =IF(H109-$G109>0,H109-$G109,0)*2.5 -> 0 | L109: =IF(I109-$G109>0,I109-$G109,0)*2.5 -> 0.00061683463
A110: ='imported summary from web'!A80 -> 822.6 | B110: ='imported summary from web'!B80 -> C48H88O7PN | C110: ='imported summary from web'!C80 -> ePC(40:5) | E110: ='imported summary from web'!J80 -> 0 | F110: ='imported summary from web'!D80 -> 0.00047645158 | G110: =(F110+E110)/2 -> 0.00023822579 | H110: ='imported summary from web'!E80 -> 0.00034032255 | I110: ='imported summary from web'!F80 -> 0.00088483864 | K110: =IF(H110-$G110>0,H110-$G110,0)*2.5 -> 0.00025524192 | L110: =IF(I110-$G110>0,I110-$G110,0)*2.5 -> 0.0016165321
A111: ='imported summary from web'!A81 -> 824.6 | B111: ='imported summary from web'!B81 -> C48H90O7PN | C111: ='imported summary from web'!C81 -> ePC(40:4) | E111: ='imported summary from web'!J81 -> 0 | F111: ='imported summary from web'!D81 -> 0.00017016128 | G111: =(F111+E111)/2 -> 8.5080639e-05 | H111: ='imported summary from web'!E81 -> 0.0011741128 | I111: ='imported summary from web'!F81 -> 0.00035733868 | K111: =IF(H111-$G111>0,H111-$G111,0)*2.5 -> 0.0027225804 | L111: =IF(I111-$G111>0,I111-$G111,0)*2.5 -> 0.00068064511
A112: ='imported summary from web'!A82 -> 826.7 | B112: ='imported summary from web'!B82 -> C48H92O7PN | C112: ='imported summary from web'!C82 -> ePC(40:3) | E112: ='imported summary from web'!J82 -> 0.00013612902 | F112: ='imported summary from web'!D82 -> 0.00062959673 | G112: =(F112+E112)/2 -> 0.00038286287 | H112: ='imported summary from web'!E82 -> 5.1048383e-05 | I112: ='imported summary from web'!F82 -> 0.0014804031 | K112: =IF(H112-$G112>0,H112-$G112,0)*2.5 -> 0 | L112: =IF(I112-$G112>0,I112-$G112,0)*2.5 -> 0.0027438506
A113: ='imported summary from web'!A83 -> 828.7 | B113: ='imported summary from web'!B83 -> C48H94O7PN | C113: ='imported summary from web'!C83 -> ePC(40:2) | E113: ='imported summary from web'!J83 -> 0.00010209677 | F113: ='imported summary from web'!D83 -> 0.00093588702 | G113: =(F113+E113)/2 -> 0.0005189919 | H113: ='imported summary from web'!E83 -> 5.1048383e-05 | I113: ='imported summary from web'!F83 -> 0.0024333063 | K113: =IF(H113-$G113>0,H113-$G113,0)*2.5 -> 0 | L113: =IF(I113-$G113>0,I113-$G113,0)*2.5 -> 0.0047857859
A114: Total ePC | C114: Total ePC | E114: =E87+E88+E89+E90+E91+E92+E93+E94+E95+E96+E97+E98+E99+E100+E101+E102+E103+E104+E105+E106+E107+E108+E109+E110+E111+E112+E113 -> 0.0035563707 | F114: =F87+F88+F89+F90+F91+F92+F93+F94+F95+F96+F97+F98+F99+F100+F101+F102+F103+F104+F105+F106+F107+F108+F109+F110+F111+F112+F113 -> 0.020368305 | G114: =(F114+E114)/2 -> 0.011962338 | H114: =H87+H88+H89+H90+H91+H92+H93+H94+H95+H96+H97+H98+H99+H100+H101+H102+H103+H104+H105+H106+H107+H108+H109+H110+H111+H112+H113 -> 0.017424515 | I114: =I87+I88+I89+I90+I91+I92+I93+I94+I95+I96+I97+I98+I99+I100+I101+I102+I103+I104+I105+I106+I107+I108+I109+I110+I111+I112+I113 -> 0.08661209 | K114: =SUM(K87:K113) -> 0.027757558 | L114: =SUM(L87:L113) -> 0.186752
A115: ='imported summary from web'!A114 -> 452.3 | B115: ='imported summary from web'!B114 -> C21H42O7PN | C115: ='imported summary from web'!C114 -> LPE(16:1) | E115: ='imported summary from web'!J114 -> 0 | F115: ='imported summary from web'!D114 -> 7.2577023e-05 | G115: =(F115+E115)/2 -> 3.6288511e-05 | H115: ='imported summary from web'!E114 -> 0.0032478218 | I115: ='imported summary from web'!F114 -> 0.0015785502 | K115: =IF(H115-$G115>0,H115-$G115,0)*2.5 -> 0.0080288331 | L115: =IF(I115-$G115>0,I115-$G115,0)*2.5 -> 0.0038556543
A116: ='imported summary from web'!A115 -> 454.3 | B116: ='imported summary from web'!B115 -> C21H44O7PN | C116: ='imported summary from web'!C115 -> LPE(16:0) | E116: ='imported summary from web'!J115 -> 0.00058061618 | F116: ='imported summary from web'!D115 -> 0.00090721278 | G116: =(F116+E116)/2 -> 0.00074391448 | H116: ='imported summary from web'!E115 -> 0.012410671 | I116: ='imported summary from web'!F115 -> 0.0016511273 | K116: =IF(H116-$G116>0,H116-$G116,0)*2.5 -> 0.029166891 | L116: =IF(I116-$G116>0,I116-$G116,0)*2.5 -> 0.002268032
A117: ='imported summary from web'!A116 -> 476.3 | B117: ='imported summary from web'!B116 -> C23H42O7PN | C117: ='imported summary from web'!C116 -> LPE(18:3) | E117: ='imported summary from web'!J116 -> 0 | F117: ='imported summary from web'!D116 -> 0.00045360639 | G117: =(F117+E117)/2 -> 0.0002268032 | H117: ='imported summary from web'!E116 -> 0.001632983 | I117: ='imported summary from web'!F116 -> 0.0009797898 | K117: =IF(H117-$G117>0,H117-$G117,0)*2.5 -> 0.0035154495 | L117: =IF(I117-$G117>0,I117-$G117,0)*2.5 -> 0.0018824665
...

Sheet imported summary from web
A1: Original Data on row 371 | D1: Data divided by 5 here, used 1.0 ul PL standard mix | L1: http://129.237.137.125:8080/Lipidomics/file_summary.jsp?numberofperiods=8&experimentid=12447&masstolerance=0.4&massoption=1
D2: 1/29/19 Mary Roth, largest signal, quantified using values for 5 ul PL std mix. Actual used is 2.5 ul, multiply by 2.5 on background subtracted sheet
A3: Mass | B3: Compound Formula | C3: Compound Name | D3: IS01 | E3: sample01 | F3: sample02 | G3: sample03 | H3: sample09 | I3: sample10 | J3: IS02
A4: 494.3 | B4: C24H48O7PN | C4: LPC(16:1) | D4: =(D374/5)/1.024862083352 -> 0.00023417785 | E4: =(E374/5)/1.024862083352 -> 0.00023417785 | F4: =(F374/5)/1.024862083352 -> 0.005776387 | G4: =(G374/5)/1.024862083352 -> 0.00091719658 | H4: =(H374/5)/1.024862083352 -> 0.0011513744 | I4: =(I374/5)/1.024862083352 -> 0.00064398909 | J4: =(J374/5)/1.024862083352 -> 0.00013660375
A5: 496.3 | B5: C24H50O7PN | C5: LPC(16:0) | D5: =(D375/5)/1.024862083352 -> 0.0065179502 | E5: =(E375/5)/1.024862083352 -> 0.0090158473 | F5: =(F375/5)/1.024862083352 -> 0.5106248 | G5: =(G375/5)/1.024862083352 -> 0.052650987 | H5: =(H375/5)/1.024862083352 -> 0.063637831 | I5: =(I375/5)/1.024862083352 -> 0.020978432 | J5: =(J375/5)/1.024862083352 -> 0.0018148783
A6: 518.3 | B6: C26H48O7PN | C6: LPC(18:3) | D6: =(D376/5)/1.024862083352 -> 0.00042932606 | E6: =(E376/5)/1.024862083352 -> 0.00013660375 | F6: =(F376/5)/1.024862083352 -> 0.096656908 | G6: =(G376/5)/1.024862083352 -> 0.012469971 | H6: =(H376/5)/1.024862083352 -> 0.014870294 | I6: =(I376/5)/1.024862083352 -> 0.0045274384 | J6: =(J376/5)/1.024862083352 -> 0.00017563339
A7: 520.3 | B7: C26H50O7PN | C7: LPC(18:2) | D7: =(D377/5)/1.024862083352 -> 0.00042932606 | E7: =(E377/5)/1.024862083352 -> 0.00040981124 | F7: =(F377/5)/1.024862083352 -> 0.95921199 | G7: =(G377/5)/1.024862083352 -> 0.12421184 | H7: =(H377/5)/1.024862083352 -> 0.14526833 | I7: =(I377/5)/1.024862083352 -> 0.047421015 | J7: =(J377/5)/1.024862083352 -> 0.00031223713
A8: 522.3 | B8: C26H52O7PN | C8: LPC(18:1) | D8: =(D378/5)/1.024862083352 -> 0.00013660375 | E8: =(E378/5)/1.024862083352 -> 0.00021466303 | F8: =(F378/5)/1.024862083352 -> 0.23716362 | G8: =(G378/5)/1.024862083352 -> 0.035107163 | H8: =(H378/5)/1.024862083352 -> 0.03104808 | I8: =(I378/5)/1.024862083352 -> 0.011338111 | J8: =(J378/5)/1.024862083352 -> 3.9029642e-05
A9: 524.4 | B9: C26H54O7PN | C9: LPC(18:0) | D9: =(D379/5)/1.024862083352 -> 0.00027320749 | E9: =(E379/5)/1.024862083352 -> 0.0019905117 | F9: =(F379/5)/1.024862083352 -> 0.1238996 | G9: =(G379/5)/1.024862083352 -> 0.030326032 | H9: =(H379/5)/1.024862083352 -> 0.05934457 | I9: =(I379/5)/1.024862083352 -> 0.029799132 | J9: =(J379/5)/1.024862083352 -> 0.00015611857
A10: 542.3 | B10: C28H48O7PN | C10: LPC(20:5) | D10: =(D380/5)/1.024862083352 -> 0 | E10: =(E380/5)/1.024862083352 -> 0.00013660375 | F10: =(F380/5)/1.024862083352 -> 0 | G10: =(G380/5)/1.024862083352 -> 0 | H10: =(H380/5)/1.024862083352 -> 0 | I10: =(I380/5)/1.024862083352 -> 0.00025369267 | J10: =(J380/5)/1.024862083352 -> 9.7574104e-05
A11: 544.3 | B11: C28H50O7PN | C11: LPC(20:4) | D11: =(D381/5)/1.024862083352 -> 0 | E11: =(E381/5)/1.024862083352 -> 7.8059284e-05 | F11: =(F381/5)/1.024862083352 -> 0 | G11: =(G381/5)/1.024862083352 -> 0.0004683557 | H11: =(H381/5)/1.024862083352 -> 0.00044884088 | I11: =(I381/5)/1.024862083352 -> 0.00058544463 | J11: =(J381/5)/1.024862083352 -> 0
A12: 546.3 | B12: C28H52O7PN | C12: LPC(20:3) | D12: =(D382/5)/1.024862083352 -> 0 | E12: =(E382/5)/1.024862083352 -> 0 | F12: =(F382/5)/1.024862083352 -> 0 | G12: =(G382/5)/1.024862083352 -> 0.00019514821 | H12: =(H382/5)/1.024862083352 -> 0.00029272231 | I12: =(I382/5)/1.024862083352 -> 0.00031223713 | J12: =(J382/5)/1.024862083352 -> 3.9029642e-05
A13: 548.4 | B13: C28H54O7PN | C13: LPC(20:2) | D13: =(D383/5)/1.024862083352 -> 7.8059284e-05 | E13: =(E383/5)/1.024862083352 -> 3.9029642e-05 | F13: =(F383/5)/1.024862083352 -> 0.0029857676 | G13: =(G383/5)/1.024862083352 -> 0.00039029642 | H13: =(H383/5)/1.024862083352 -> 0.00021466303 | I13: =(I383/5)/1.024862083352 -> 0.00025369267 | J13: =(J383/5)/1.024862083352 -> 0
A14: 550.4 | B14: C28H56O7PN | C14: LPC(20:1) | D14: =(D384/5)/1.024862083352 -> 0 | E14: =(E384/5)/1.024862083352 -> 5.8544463e-05 | F14: =(F384/5)/1.024862083352 -> 0.020841829 | G14: =(G384/5)/1.024862083352 -> 0.0012099189 | H14: =(H384/5)/1.024862083352 -> 0.0016197301 | I14: =(I384/5)/1.024862083352 -> 0.00080010766 | J14: =(J384/5)/1.024862083352 -> 7.8059284e-05
A15: 552.4 | B15: C28H58O7PN | C15: LPC(20:0) | D15: =(D385/5)/1.024862083352 -> 0.00025369267 | E15: =(E385/5)/1.024862083352 -> 0.00042932606 | F15: =(F385/5)/1.024862083352 -> 0.029252717 | G15: =(G385/5)/1.024862083352 -> 0.0034736381 | H15: =(H385/5)/1.024862083352 -> 0.0048201608 | I15: =(I385/5)/1.024862083352 -> 0.0021076007 | J15: =(J385/5)/1.024862083352 -> 0.00013660375
... A17: 570.3 | B17: C30H52O7PN | C17: LPC(22:5) | D17: =(D387/5)/1.024862083352 -> 0.00040981124 | E17: =(E387/5)/1.024862083352 -> 0.00031223713 | F17: =(F387/5)/1.024862083352 -> 0.0078254432 | G17: =(G387/5)/1.024862083352 -> 0.00021466303 | H17: =(H387/5)/1.024862083352 -> 0.00029272231 | I17: =(I387/5)/1.024862083352 -> 0 | J17: =(J387/5)/1.024862083352 -> 5.8544463e-05
A19: Mass | B19: Compound Formula | C19: Compound Name | D19: 040618-ani-YuKuangPolar-01 | E19: 040618-ani-YuKuangPolar-02 | F19: 040618-ani-YuKuangPolar-03 | G19: 040618-ani-YuKuangPolar-04 | H19: 040618-ani-YuKuangPolar-05 | I19: 040618-ani-YuKuangPolar-06 | J19: 040618-ani-YuKuangPolar-07
A20: 676.5 | B20: C36H70O8PN | C20: PC(28:1) | D20: =(D390/5)/1.1753555409225 -> 0.00051048383 | E20: =(E390/5)/1.1753555409225 -> 0.00010209677 | F20: =(F390/5)/1.1753555409225 -> 0.0026545159 | G20: =(G390/5)/1.1753555409225 -> 0.00081677413 | H20: =(H390/5)/1.1753555409225 -> 0.00034032255 | I20: =(I390/5)/1.1753555409225 -> 0.00034032255 | J20: =(J390/5)/1.1753555409225 -> 6.8064511e-05
A21: 701.5 | B21: C39H77N2O6P | C21: SM(16:1) | D21: =(D391/5)/0.956179510548889 -> 0 | E21: =(E391/5)/0.956179510548889 -> 0.00012549945 | F21: =(F391/5)/0.956179510548889 -> 0.00069024696 | G21: =(G391/5)/0.956179510548889 -> 0.00064841381 | H21: =(H391/5)/0.956179510548889 -> 0.0019452414 | I21: =(I391/5)/0.956179510548889 -> 0.001819742 | J21: =(J391/5)/0.956179510548889 -> 0
A22: 703.6 | B22: C39H79N2O6P | C22: SM(16:0) | D22: =(D392/5)/0.956179510548889 -> 0.00014641602 | E22: =(E392/5)/0.956179510548889 -> 0.014599769 | F22: =(F392/5)/0.956179510548889 -> 0.033257354 | G22: =(G392/5)/0.956179510548889 -> 0.051371107 | H22: =(H392/5)/0.956179510548889 -> 0.058733741 | I22: =(I392/5)/0.956179510548889 -> 0.055659005 | J22: =(J392/5)/0.956179510548889 -> 6.2749724e-05
A23: 704.5 | B23: C38H74O8PN | C23: PC(30:1) | D23: =(D393/5)/1.1753555409225 -> 0.00028927417 | E23: =(E393/5)/1.1753555409225 -> 0.0010039515 | F23: =(F393/5)/1.1753555409225 -> 0.0030799191 | G23: =(G393/5)/1.1753555409225 -> 0.0024162901 | H23: =(H393/5)/1.1753555409225 -> 0.0022120966 | I23: =(I393/5)/1.1753555409225 -> 0.0029437901 | J23: =(J393/5)/1.1753555409225 -> 0.00010209677
A24: 705.6 | B24: C39H81N2O6P | C24: DSM(16:0) | D24: =(D394/5)/0.956179510548889 -> 0 | E24: =(E394/5)/0.956179510548889 -> 0.0042669812 | F24: =(F394/5)/0.956179510548889 -> 0.0054383094 | G24: =(G394/5)/0.956179510548889 -> 0.0085757956 | H24: =(H394/5)/0.956179510548889 -> 0.010249122 | I24: =(I394/5)/0.956179510548889 -> 0.0096007077 | J24: =(J394/5)/0.956179510548889 -> 0
A25: 706.5 | B25: C38H76O8PN | C25: PC(30:0) | D25: =(D395/5)/1.1753555409225 -> 0.00037435481 | E25: =(E395/5)/1.1753555409225 -> 0.001599516 | F25: =(F395/5)/1.1753555409225 -> 0.0093929025 | G25: =(G395/5)/1.1753555409225 -> 0.0095120154 | H25: =(H395/5)/1.1753555409225 -> 0.0050537899 | I25: =(I395/5)/1.1753555409225 -> 0.0049857254 | J25: =(J395/5)/1.1753555409225 -> 8.5080639e-05
A26: 714.5 | B26: C40H76O7PN | C26: ePC(32:3) | D26: =(D396/5)/1.1753555409225 -> 8.5080639e-05 | E26: =(E396/5)/1.1753555409225 -> 0 | F26: =(F396/5)/1.1753555409225 -> 0 | G26: =(G396/5)/1.1753555409225 -> 0 | H26: =(H396/5)/1.1753555409225 -> 0 | I26: =(I396/5)/1.1753555409225 -> 0 | J26: =(J396/5)/1.1753555409225 -> 1.7016128e-05
A27: 716.6 | B27: C40H78O7PN | C27: ePC(32:2) | D27: =(D397/5)/1.1753555409225 -> 0.00035733868 | E27: =(E397/5)/1.1753555409225 -> 0.00025524192 | F27: =(F397/5)/1.1753555409225 -> 0.00059556447 | G27: =(G397/5)/1.1753555409225 -> 0.00088483864 | H27: =(H397/5)/1.1753555409225 -> 0.0006125806 | I27: =(I397/5)/1.1753555409225 -> 0.00044241932 | J27: =(J397/5)/1.1753555409225 -> 5.1048383e-05
A28: 718.6 | B28: C40H80O7PN | C28: ePC(32:1) | D28: =(D398/5)/1.1753555409225 -> 0.00025524192 | E28: =(E398/5)/1.1753555409225 -> 0.0016335483 | F28: =(F398/5)/1.1753555409225 -> 0.0026034675 | G28: =(G398/5)/1.1753555409225 -> 0.0062959673 | H28: =(H398/5)/1.1753555409225 -> 0.0053090318 | I28: =(I398/5)/1.1753555409225 -> 0.0048666125 | J28: =(J398/5)/1.1753555409225 -> 0
A29: 720.6 | B29: C40H82O7PN | C29: ePC(32:0) | D29: =(D399/5)/1.1753555409225 -> 0.00023822579 | E29: =(E399/5)/1.1753555409225 -> 0.0018547579 | F29: =(F399/5)/1.1753555409225 -> 0.0046964513 | G29: =(G399/5)/1.1753555409225 -> 0.0069595962 | H29: =(H399/5)/1.1753555409225 -> 0.0090355638 | I29: =(I399/5)/1.1753555409225 -> 0.0074530639 | J29: =(J399/5)/1.1753555409225 -> 5.1048383e-05
A30: 729.6 | B30: C41H81N2O6P | C30: SM(18:1) | D30: =(D400/5)/0.956179510548889 -> 0 | E30: =(E400/5)/0.956179510548889 -> 0 | F30: =(F400/5)/0.956179510548889 -> 0.00043924807 | G30: =(G400/5)/0.956179510548889 -> 0.00029283204 | H30: =(H400/5)/0.956179510548889 -> 0.00027191547 | I30: =(I400/5)/0.956179510548889 -> 0.00023008232 | J30: =(J400/5)/0.956179510548889 -> 0
A31: 730.5 | B31: C40H76O8PN | C31: PC(32:2) | D31: =(D401/5)/1.1753555409225 -> 0.00028927417 | E31: =(E401/5)/1.1753555409225 -> 0.00013612902 | F31: =(F401/5)/1.1753555409225 -> 0.002127016 | G31: =(G401/5)/1.1753555409225 -> 0.0016845966 | H31: =(H401/5)/1.1753555409225 -> 0.0010209677 | I31: =(I401/5)/1.1753555409225 -> 0.0011741128 | J31: =(J401/5)/1.1753555409225 -> 0
A32: 731.6 | B32: C41H83N2O6P | C32: SM(18:0) | D32: =(D402/5)/0.956179510548889 -> 0 | E32: =(E402/5)/0.956179510548889 -> 0.00033466519 | F32: =(F402/5)/0.956179510548889 -> 0.001966158 | G32: =(G402/5)/0.956179510548889 -> 0.0015478265 | H32: =(H402/5)/0.956179510548889 -> 0.0026982381 | I32: =(I402/5)/0.956179510548889 -> 0.0024681558 | J32: =(J402/5)/0.956179510548889 -> 8.3666298e-05
A33: 732.5 | B33: C40H78O8PN | C33: PC(32:1) | D33: =(D403/5)/1.1753555409225 -> 0.00039137094 | E33: =(E403/5)/1.1753555409225 -> 0.0011570967 | F33: =(F403/5)/1.1753555409225 -> 0.0061938705 | G33: =(G403/5)/1.1753555409225 -> 0.0068745156 | H33: =(H403/5)/1.1753555409225 -> 0.0042370158 | I33: =(I403/5)/1.1753555409225 -> 0.0035733868 | J33: =(J403/5)/1.1753555409225 -> 0.00017016128
A34: 733.6 | B34: C41H85N2O6P | C34: DSM(18:0) | D34: =(D404/5)/0.956179510548889 -> 0 | E34: =(E404/5)/0.956179510548889 -> 0.00023008232 | F34: =(F404/5)/0.956179510548889 -> 0.0014223271 | G34: =(G404/5)/0.956179510548889 -> 0.00092032928 | H34: =(H404/5)/0.956179510548889 -> 0.00096216243 | I34: =(I404/5)/0.956179510548889 -> 0.00079482983 | J34: =(J404/5)/0.956179510548889 -> 0
A35: 734.6 | B35: C40H80O8PN | C35: PC(32:0) | D35: =(D405/5)/1.1753555409225 -> 0.00040838707 | E35: =(E405/5)/1.1753555409225 -> 0.0033181449 | F35: =(F405/5)/1.1753555409225 -> 0.015927096 | G35: =(G405/5)/1.1753555409225 -> 0.022954756 | H35: =(H405/5)/1.1753555409225 -> 0.031752094 | I35: =(I405/5)/1.1753555409225 -> 0.022120966 | J35: =(J405/5)/1.1753555409225 -> 0.00035733868
A36: 740.6 | B36: C42H78O7PN | C36: ePC(34:4) | D36: =(D406/5)/1.1753555409225 -> 0.00034032255 | E36: =(E406/5)/1.1753555409225 -> 5.1048383e-05 | F36: =(F406/5)/1.1753555409225 -> 0.00074870962 | G36: =(G406/5)/1.1753555409225 -> 0.00040838707 | H36: =(H406/5)/1.1753555409225 -> 0 | I36: =(I406/5)/1.1753555409225 -> 0.00020419353 | J36: =(J406/5)/1.1753555409225 -> 5.1048383e-05
A37: 742.6 | B37: C42H80O7PN | C37: ePC(34:3) | D37: =(D407/5)/1.1753555409225 -> 0.00034032255 | E37: =(E407/5)/1.1753555409225 -> 0.0015654838 | F37: =(F407/5)/1.1753555409225 -> 0.0017186289 | G37: =(G407/5)/1.1753555409225 -> 0.0027566127 | H37: =(H407/5)/1.1753555409225 -> 0.0015314515 | I37: =(I407/5)/1.1753555409225 -> 0.0015314515 | J37: =(J407/5)/1.1753555409225 -> 6.8064511e-05
A38: 744.6 | B38: C42H82O7PN | C38: ePC(34:2) | D38: =(D408/5)/1.1753555409225 -> 0.00023822579 | E38: =(E408/5)/1.1753555409225 -> 0.001463387 | F38: =(F408/5)/1.1753555409225 -> 0.0035733868 | G38: =(G408/5)/1.1753555409225 -> 0.015229434 | H38: =(H408/5)/1.1753555409225 -> 0.0089334671 | I38: =(I408/5)/1.1753555409225 -> 0.0081507252 | J38: =(J408/5)/1.1753555409225 -> 6.8064511e-05
A39: 746.6 | B39: C42H84O7PN | C39: ePC(34:1) | D39: =(D409/5)/1.1753555409225 -> 0.00028927417 | E39: =(E409/5)/1.1753555409225 -> 0.0013102418 | F39: =(F409/5)/1.1753555409225 -> 0.0052239512 | G39: =(G409/5)/1.1753555409225 -> 0.011366773 | H39: =(H409/5)/1.1753555409225 -> 0.010515967 | I39: =(I409/5)/1.1753555409225 -> 0.011673064 | J39: =(J409/5)/1.1753555409225 -> 5.1048383e-05
A40: 748.6 | B40: C42H86O7PN | C40: ePC(34:0) | D40: =(D410/5)/1.1753555409225 -> 0.00020419353 | E40: =(E410/5)/1.1753555409225 -> 0.00066362898 | F40: =(F410/5)/1.1753555409225 -> 0.0025694353 | G40: =(G410/5)/1.1753555409225 -> 0.0027395966 | H40: =(H410/5)/1.1753555409225 -> 0.0036584675 | I40: =(I410/5)/1.1753555409225 -> 0.0025864514 | J40: =(J410/5)/1.1753555409225 -> 0
A41: 754.5 | B41: C42H76O8PN | C41: PC(34:4) | D41: =(D411/5)/1.1753555409225 -> 0.0010549999 | E41: =(E411/5)/1.1753555409225 -> 0.00010209677 | F41: =(F411/5)/1.1753555409225 -> 0.00093588702 | G41: =(G411/5)/1.1753555409225 -> 0.00086782251 | H41: =(H411/5)/1.1753555409225 -> 0.00051048383 | I41: =(I411/5)/1.1753555409225 -> 0.00051048383 | J41: =(J411/5)/1.1753555409225 -> 0.0001871774
A42: 756.5 | B42: C42H78O8PN | C42: PC(34:3) | D42: =(D412/5)/1.1753555409225 -> 0.026034675 | E42: =(E412/5)/1.1753555409225 -> 0.0011060483 | F42: =(F412/5)/1.1753555409225 -> 0.025932579 | G42: =(G412/5)/1.1753555409225 -> 0.0074700801 | H42: =(H412/5)/1.1753555409225 -> 0.0081847574 | I42: =(I412/5)/1.1753555409225 -> 0.010618064 | J42: =(J412/5)/1.1753555409225 -> 0.0052920157
A43: 758.6 | B43: C42H80O8PN | C43: PC(34:2) | D43: =(D413/5)/1.1753555409225 -> 0.024554272 | E43: =(E413/5)/1.1753555409225 -> 0.0036584675 | F43: =(F413/5)/1.1753555409225 -> 0.21292281 | G43: =(G413/5)/1.1753555409225 -> 0.070293624 | H43: =(H413/5)/1.1753555409225 -> 0.075075155 | I43: =(I413/5)/1.1753555409225 -> 0.093044186 | J43: =(J413/5)/1.1753555409225 -> 0.0052749996
A44: 760.6 | B44: C42H82O8PN | C44: PC(34:1) | D44: =(D414/5)/1.1753555409225 -> 0.0052069351 | E44: =(E414/5)/1.1753555409225 -> 0.0040838707 | F44: =(F414/5)/1.1753555409225 -> 0.060934753 | G44: =(G414/5)/1.1753555409225 -> 0.052069351 | H44: =(H414/5)/1.1753555409225 -> 0.041978787 | I44: =(I414/5)/1.1753555409225 -> 0.034117336 | J44: =(J414/5)/1.1753555409225 -> 0.0011230644
A45: 762.6 | B45: C42H84O8PN | C45: PC(34:0) | D45: =(D415/5)/1.1753555409225 -> 0 | E45: =(E415/5)/1.1753555409225 -> 0.00090185477 | F45: =(F415/5)/1.1753555409225 -> 0.0058535479 | G45: =(G415/5)/1.1753555409225 -> 0.0076062091 | H45: =(H415/5)/1.1753555409225 -> 0.010890322 | I45: =(I415/5)/1.1753555409225 -> 0.0076742736 | J45: =(J415/5)/1.1753555409225 -> 6.8064511e-05
A46: 766.6 | B46: C44H80O7PN | C46: ePC(36:5) | D46: =(D416/5)/1.1753555409225 -> 0.00020419353 | E46: =(E416/5)/1.1753555409225 -> 0.00096991928 | F46: =(F416/5)/1.1753555409225 -> 0.0026715321 | G46: =(G416/5)/1.1753555409225 -> 0.016675805 | H46: =(H416/5)/1.1753555409225 -> 0.0088313703 | I46: =(I416/5)/1.1753555409225 -> 0.0079124994 | J46: =(J416/5)/1.1753555409225 -> 0
... A55: 784.6 | B55: C44H82O8PN | C55: PC(36:3) | D55: =(D425/5)/1.1753555409225 -> 0.0088994348 | E55: =(E425/5)/1.1753555409225 -> 0.0015314515 | F55: =(F425/5)/1.1753555409225 -> 0.12220983 | G55: =(G425/5)/1.1753555409225 -> 0.045654271 | H55: =(H425/5)/1.1753555409225 -> 0.046351932 | I55: =(I425/5)/1.1753555409225 -> 0.063912576 | J55: =(J425/5)/1.1753555409225 -> 0.0019058063
A56: 785.6 | B56: C45H89N2O6P | C56: SM(22:1) | D56: =(D426/5)/0.956179510548889 -> 0.0012549945 | E56: =(E426/5)/0.956179510548889 -> 0.00023008232 | F56: =(F426/5)/0.956179510548889 -> 0.014118688 | G56: =(G426/5)/0.956179510548889 -> 0.0056893083 | H56: =(H426/5)/0.956179510548889 -> 0.0056474751 | I56: =(I426/5)/0.956179510548889 -> 0.0072580514 | J56: =(J426/5)/0.956179510548889 -> 0.00012549945
A57: 786.6 | B57: C44H84O8PN | C57: PC(36:2) | D57: =(D427/5)/1.1753555409225 -> 0.0042540319 | E57: =(E427/5)/1.1753555409225 -> 0.0016165321 | F57: =(F427/5)/1.1753555409225 -> 0.072624833 | G57: =(G427/5)/1.1753555409225 -> 0.033759997 | H57: =(H427/5)/1.1753555409225 -> 0.031854191 | I57: =(I427/5)/1.1753555409225 -> 0.035291449 | J57: =(J427/5)/1.1753555409225 -> 0.0009188709
A58: 787.7 | B58: C45H91N2O6P | C58: SM(22:0) | D58: =(D428/5)/0.956179510548889 -> 0.00062749724 | E58: =(E428/5)/0.956179510548889 -> 0.00092032928 | F58: =(F428/5)/0.956179510548889 -> 0.017967338 | G58: =(G428/5)/0.956179510548889 -> 0.0086385453 | H58: =(H428/5)/0.956179510548889 -> 0.0075090503 | I58: =(I428/5)/0.956179510548889 -> 0.0092660425 | J58: =(J428/5)/0.956179510548889 -> 0.0001673326
A59: 788.6 | B59: C44H86O8PN | C59: PC(36:1) | D59: =(D429/5)/1.1753555409225 -> 0.0024333063 | E59: =(E429/5)/1.1753555409225 -> 0.0013442741 | F59: =(F429/5)/1.1753555409225 -> 0.019942902 | G59: =(G429/5)/1.1753555409225 -> 0.017237337 | H59: =(H429/5)/1.1753555409225 -> 0.013697983 | I59: =(I429/5)/1.1753555409225 -> 0.009988467 | J59: =(J429/5)/1.1753555409225 -> 0.0004934677
A60: 789.7 | B60: C45H93N2O6P | C60: DSM(22:0) | D60: =(D430/5)/0.956179510548889 -> 0.00035558177 | E60: =(E430/5)/0.956179510548889 -> 0.00058566409 | F60: =(F430/5)/0.956179510548889 -> 0.0037649834 | G60: =(G430/5)/0.956179510548889 -> 0.0035139845 | H60: =(H430/5)/0.956179510548889 -> 0.0021753238 | I60: =(I430/5)/0.956179510548889 -> 0.0023008232 | J60: =(J430/5)/0.956179510548889 -> 4.1833149e-05
A61: 790.6 | B61: C44H88O8PN | C61: PC(36:0) | D61: =(D431/5)/1.1753555409225 -> 0.0021950805 | E61: =(E431/5)/1.1753555409225 -> 0.00093588702 | F61: =(F431/5)/1.1753555409225 -> 0.005989677 | G61: =(G431/5)/1.1753555409225 -> 0.0045943545 | H61: =(H431/5)/1.1753555409225 -> 0.0066533059 | I61: =(I431/5)/1.1753555409225 -> 0.0063470156 | J61: =(J431/5)/1.1753555409225 -> 0.00040838707
A62: 792.6 | B62: C46H82O7PN | C62: ePC(38:6) | D62: =(D432/5)/1.1753555409225 -> 0.00059556447 | E62: =(E432/5)/1.1753555409225 -> 0.0010890322 | F62: =(F432/5)/1.1753555409225 -> 0.0033181449 | G62: =(G432/5)/1.1753555409225 -> 0.030884272 | H62: =(H432/5)/1.1753555409225 -> 0.044275964 | I62: =(I432/5)/1.1753555409225 -> 0.094813864 | J62: =(J432/5)/1.1753555409225 -> 0.00013612902
A63: 794.6 | B63: C46H84O7PN | C63: ePC(38:5) | D63: =(D433/5)/1.1753555409225 -> 0.0015144354 | E63: =(E433/5)/1.1753555409225 -> 0.00040838707 | F63: =(F433/5)/1.1753555409225 -> 0.0019738708 | G63: =(G433/5)/1.1753555409225 -> 0.0083379026 | H63: =(H433/5)/1.1753555409225 -> 0.0080486284 | I63: =(I433/5)/1.1753555409225 -> 0.01432758 | J63: =(J433/5)/1.1753555409225 -> 0.00037435481
A64: 796.6 | B64: C46H86O7PN | C64: ePC(38:4) | D64: =(D434/5)/1.1753555409225 -> 0.0021610482 | E64: =(E434/5)/1.1753555409225 -> 0.00037435481 | F64: =(F434/5)/1.1753555409225 -> 0.0055812899 | G64: =(G434/5)/1.1753555409225 -> 0.0033181449 | H64: =(H434/5)/1.1753555409225 -> 0.0034202417 | I64: =(I434/5)/1.1753555409225 -> 0.0043561287 | J64: =(J434/5)/1.1753555409225 -> 0.00042540319
A65: 798.6 | B65: C46H88O7PN | C65: ePC(38:3) | D65: =(D435/5)/1.1753555409225 -> 0.0016845966 | E65: =(E435/5)/1.1753555409225 -> 0.00023822579 | F65: =(F435/5)/1.1753555409225 -> 0.0097332251 | G65: =(G435/5)/1.1753555409225 -> 0.002127016 | H65: =(H435/5)/1.1753555409225 -> 0.0027055643 | I65: =(I435/5)/1.1753555409225 -> 0.0028757256 | J65: =(J435/5)/1.1753555409225 -> 0.00039137094
A66: 800.6 | B66: C46H90O7PN | C66: ePC(38:2) | D66: =(D436/5)/1.1753555409225 -> 0.00062959673 | E66: =(E436/5)/1.1753555409225 -> 0.00013612902 | F66: =(F436/5)/1.1753555409225 -> 0.0052920157 | G66: =(G436/5)/1.1753555409225 -> 0.0019058063 | H66: =(H436/5)/1.1753555409225 -> 0.0015144354 | I66: =(I436/5)/1.1753555409225 -> 0.0012762096 | J66: =(J436/5)/1.1753555409225 -> 0.00011911289
A67: 802.7 | B67: C46H92O7PN | C67: ePC(38:1) | D67: =(D437/5)/1.1753555409225 -> 0.00071467736 | E67: =(E437/5)/1.1753555409225 -> 0.00039137094 | F67: =(F437/5)/1.1753555409225 -> 0.0053941125 | G67: =(G437/5)/1.1753555409225 -> 0.0025183869 | H67: =(H437/5)/1.1753555409225 -> 0.0021610482 | I67: =(I437/5)/1.1753555409225 -> 0.0017696773 | J67: =(J437/5)/1.1753555409225 -> 0.00011911289
A68: 804.7 | B68: C46H94O7PN | C68: ePC(38:0) | D68: =(D438/5)/1.1753555409225 -> 0.00078274188 | E68: =(E438/5)/1.1753555409225 -> 0.0006125806 | F68: =(F438/5)/1.1753555409225 -> 0.0018887902 | G68: =(G438/5)/1.1753555409225 -> 0.00073169349 | H68: =(H438/5)/1.1753555409225 -> 0.0015484676 | I68: =(I438/5)/1.1753555409225 -> 0.0016675805 | J68: =(J438/5)/1.1753555409225 -> 0.00017016128
A69: 806.6 | B69: C46H80O8PN | C69: PC(38:6) | D69: =(D439/5)/1.1753555409225 -> 0.00083379026 | E69: =(E439/5)/1.1753555409225 -> 0.00062959673 | F69: =(F439/5)/1.1753555409225 -> 0.0038286287 | G69: =(G439/5)/1.1753555409225 -> 0.004662419 | H69: =(H439/5)/1.1753555409225 -> 0.016539676 | I69: =(I439/5)/1.1753555409225 -> 0.0070106446 | J69: =(J439/5)/1.1753555409225 -> 3.4032255e-05
A70: 808.6 | B70: C46H82O8PN | C70: PC(38:5) | D70: =(D440/5)/1.1753555409225 -> 0.00083379026 | E70: =(E440/5)/1.1753555409225 -> 0.00027225804 | F70: =(F440/5)/1.1753555409225 -> 0.0027906449 | G70: =(G440/5)/1.1753555409225 -> 0.0042029835 | H70: =(H440/5)/1.1753555409225 -> 0.0032330643 | I70: =(I440/5)/1.1753555409225 -> 0.0045773384 | J70: =(J440/5)/1.1753555409225 -> 0.00013612902
A71: 810.6 | B71: C46H84O8PN | C71: PC(38:4) | D71: =(D441/5)/1.1753555409225 -> 0.0013612902 | E71: =(E441/5)/1.1753555409225 -> 0.00073169349 | F71: =(F441/5)/1.1753555409225 -> 0.0062959673 | G71: =(G441/5)/1.1753555409225 -> 0.018037095 | H71: =(H441/5)/1.1753555409225 -> 0.014650886 | I71: =(I441/5)/1.1753555409225 -> 0.0090866122 | J71: =(J441/5)/1.1753555409225 -> 0.00034032255
A72: 812.6 | B72: C46H86O8PN | C72: PC(38:3) | D72: =(D442/5)/1.1753555409225 -> 0.0024673385 | E72: =(E442/5)/1.1753555409225 -> 0.00059556447 | F72: =(F442/5)/1.1753555409225 -> 0.0088313703 | G72: =(G442/5)/1.1753555409225 -> 0.0061768544 | H72: =(H442/5)/1.1753555409225 -> 0.0050878222 | I72: =(I442/5)/1.1753555409225 -> 0.004390161 | J72: =(J442/5)/1.1753555409225 -> 0.00069766124
A73: 813.7 | B73: C47H93N2O6P | C73: SM(24:1) | D73: =(D443/5)/0.956179510548889 -> 0 | E73: =(E443/5)/0.956179510548889 -> 0.0015896597 | F73: =(F443/5)/0.956179510548889 -> 0.0084502961 | G73: =(G443/5)/0.956179510548889 -> 0.0038277331 | H73: =(H443/5)/0.956179510548889 -> 0.007425384 | I73: =(I443/5)/0.956179510548889 -> 0.005752058 | J73: =(J443/5)/0.956179510548889 -> 0
A74: 814.6 | B74: C46H88O8PN | C74: PC(38:2) | D74: =(D444/5)/1.1753555409225 -> 0.0021610482 | E74: =(E444/5)/1.1753555409225 -> 0.00051048383 | F74: =(F444/5)/1.1753555409225 -> 0.0088483864 | G74: =(G444/5)/1.1753555409225 -> 0.0024503224 | H74: =(H444/5)/1.1753555409225 -> 0.0034883062 | I74: =(I444/5)/1.1753555409225 -> 0.0031820159 | J74: =(J444/5)/1.1753555409225 -> 0.00056153221
A75: 815.7 | B75: C47H95N2O6P | C75: SM(24:0) | D75: =(D445/5)/0.956179510548889 -> 8.3666298e-05 | E75: =(E445/5)/0.956179510548889 -> 0.0012549945 | F75: =(F445/5)/0.956179510548889 -> 0.0096216243 | G75: =(G445/5)/0.956179510548889 -> 0.0038695663 | H75: =(H445/5)/0.956179510548889 -> 0.0043506475 | I75: =(I445/5)/0.956179510548889 -> 0.0041205652 | J75: =(J445/5)/0.956179510548889 -> 0
A76: 816.6 | B76: C46H90O8PN | C76: PC(38:1) | D76: =(D446/5)/1.1753555409225 -> 0.00095290315 | E76: =(E446/5)/1.1753555409225 -> 0.00044241932 | F76: =(F446/5)/1.1753555409225 -> 0.0048836287 | G76: =(G446/5)/1.1753555409225 -> 0.0041519352 | H76: =(H446/5)/1.1753555409225 -> 0.0091716928 | I76: =(I446/5)/1.1753555409225 -> 0.017254354 | J76: =(J446/5)/1.1753555409225 -> 0.00023822579
A77: 817.7 | B77: C47H97N2O6P | C77: DSM(24:0) | D77: =(D447/5)/0.956179510548889 -> 0 | E77: =(E447/5)/0.956179510548889 -> 0.00062749724 | F77: =(F447/5)/0.956179510548889 -> 0 | G77: =(G447/5)/0.956179510548889 -> 0.00096216243 | H77: =(H447/5)/0.956179510548889 -> 0.0010876619 | I77: =(I447/5)/0.956179510548889 -> 0.0017360757 | J77: =(J447/5)/0.956179510548889 -> 0
A78: 818.7 | B78: C46H92O8PN | C78: PC(38:0) | D78: =(D448/5)/1.1753555409225 -> 0.00032330643 | E78: =(E448/5)/1.1753555409225 -> 0.00025524192 | F78: =(F448/5)/1.1753555409225 -> 0.0030458869 | G78: =(G448/5)/1.1753555409225 -> 0.0063299995 | H78: =(H448/5)/1.1753555409225 -> 0.022563385 | I78: =(I448/5)/1.1753555409225 -> 0.054434593 | J78: =(J448/5)/1.1753555409225 -> 5.1048383e-05
A79: 820.6 | B79: C48H86O7PN | C79: ePC(40:6) | D79: =(D449/5)/1.1753555409225 -> 0.0010209677 | E79: =(E449/5)/1.1753555409225 -> 0.00034032255 | F79: =(F449/5)/1.1753555409225 -> 0.00086782251 | G79: =(G449/5)/1.1753555409225 -> 0.0029097578 | H79: =(H449/5)/1.1753555409225 -> 0.0099544347 | I79: =(I449/5)/1.1753555409225 -> 0.018768789 | J79: =(J449/5)/1.1753555409225 -> 0.00022120966
A80: 822.6 | B80: C48H88O7PN | C80: ePC(40:5) | D80: =(D450/5)/1.1753555409225 -> 0.00047645158 | E80: =(E450/5)/1.1753555409225 -> 0.00034032255 | F80: =(F450/5)/1.1753555409225 -> 0.00088483864 | G80: =(G450/5)/1.1753555409225 -> 0.00086782251 | H80: =(H450/5)/1.1753555409225 -> 0.00098693541 | I80: =(I450/5)/1.1753555409225 -> 0.0022971772 | J80: =(J450/5)/1.1753555409225 -> 0
A81: 824.6 | B81: C48H90O7PN | C81: ePC(40:4) | D81: =(D451/5)/1.1753555409225 -> 0.00017016128 | E81: =(E451/5)/1.1753555409225 -> 0.0011741128 | F81: =(F451/5)/1.1753555409225 -> 0.00035733868 | G81: =(G451/5)/1.1753555409225 -> 0.00073169349 | H81: =(H451/5)/1.1753555409225 -> 0.00062959673 | I81: =(I451/5)/1.1753555409225 -> 0.0039137094 | J81: =(J451/5)/1.1753555409225 -> 0
A82: 826.7 | B82: C48H92O7PN | C82: ePC(40:3) | D82: =(D452/5)/1.1753555409225 -> 0.00062959673 | E82: =(E452/5)/1.1753555409225 -> 5.1048383e-05 | F82: =(F452/5)/1.1753555409225 -> 0.0014804031 | G82: =(G452/5)/1.1753555409225 -> 0.00040838707 | H82: =(H452/5)/1.1753555409225 -> 0.0003062903 | I82: =(I452/5)/1.1753555409225 -> 0.00051048383 | J82: =(J452/5)/1.1753555409225 -> 0.00013612902
A83: 828.7 | B83: C48H94O7PN | C83: ePC(40:2) | D83: =(D453/5)/1.1753555409225 -> 0.00093588702 | E83: =(E453/5)/1.1753555409225 -> 5.1048383e-05 | F83: =(F453/5)/1.1753555409225 -> 0.0024333063 | G83: =(G453/5)/1.1753555409225 -> 0.00052749996 | H83: =(H453/5)/1.1753555409225 -> 0.0003062903 | I83: =(I453/5)/1.1753555409225 -> 0.00052749996 | J83: =(J453/5)/1.1753555409225 -> 0.00010209677
A84: 830.6 | B84: C48H80O8PN | C84: PC(40:8) | D84: =(D454/5)/1.1753555409225 -> 0.0004934677 | E84: =(E454/5)/1.1753555409225 -> 0.00022120966 | F84: =(F454/5)/1.1753555409225 -> 0.0029437901 | G84: =(G454/5)/1.1753555409225 -> 0.00098693541 | H84: =(H454/5)/1.1753555409225 -> 0.0010379838 | I84: =(I454/5)/1.1753555409225 -> 0.0011060483 | J84: =(J454/5)/1.1753555409225 -> 0.00010209677
A85: 832.6 | B85: C48H82O8PN | C85: PC(40:7) | D85: =(D455/5)/1.1753555409225 -> 0.00028927417 | E85: =(E455/5)/1.1753555409225 -> 0.00069766124 | F85: =(F455/5)/1.1753555409225 -> 0.0025183869 | G85: =(G455/5)/1.1753555409225 -> 0.001735645 | H85: =(H455/5)/1.1753555409225 -> 0.0017866934 | I85: =(I455/5)/1.1753555409225 -> 0.0025524192 | J85: =(J455/5)/1.1753555409225 -> 3.4032255e-05
A86: 834.6 | B86: C48H84O8PN | C86: PC(40:6) | D86: =(D456/5)/1.1753555409225 -> 0.00027225804 | E86: =(E456/5)/1.1753555409225 -> 0.00023822579 | F86: =(F456/5)/1.1753555409225 -> 0.0020249192 | G86: =(G456/5)/1.1753555409225 -> 0.0019908869 | H86: =(H456/5)/1.1753555409225 -> 0.0082528219 | I86: =(I456/5)/1.1753555409225 -> 0.0039477416 | J86: =(J456/5)/1.1753555409225 -> 0
A87: 836.6 | B87: C48H86O8PN | C87: PC(40:5) | D87: =(D457/5)/1.1753555409225 -> 0.0003062903 | E87: =(E457/5)/1.1753555409225 -> 8.5080639e-05 | F87: =(F457/5)/1.1753555409225 -> 0.0009188709 | G87: =(G457/5)/1.1753555409225 -> 0.0012081451 | H87: =(H457/5)/1.1753555409225 -> 0.0011741128 | I87: =(I457/5)/1.1753555409225 -> 0.0014293547 | J87: =(J457/5)/1.1753555409225 -> 3.4032255e-05
A88: 838.6 | B88: C48H88O8PN | C88: PC(40:4) | D88: =(D458/5)/1.1753555409225 -> 8.5080639e-05 | E88: =(E458/5)/1.1753555409225 -> 0 | F88: =(F458/5)/1.1753555409225 -> 0.00057854834 | G88: =(G458/5)/1.1753555409225 -> 0.001072016 | H88: =(H458/5)/1.1753555409225 -> 0.00074870962 | I88: =(I458/5)/1.1753555409225 -> 0.00093588702 | J88: =(J458/5)/1.1753555409225 -> 0
A89: 840.6 | B89: C48H90O8PN | C89: PC(40:3) | D89: =(D459/5)/1.1753555409225 -> 0.00011911289 | E89: =(E459/5)/1.1753555409225 -> 8.5080639e-05 | F89: =(F459/5)/1.1753555409225 -> 0.0019568547 | G89: =(G459/5)/1.1753555409225 -> 0.0012251612 | H89: =(H459/5)/1.1753555409225 -> 0.0011230644 | I89: =(I459/5)/1.1753555409225 -> 0.0014463709 | J89: =(J459/5)/1.1753555409225 -> 0
... A111: 898.7 | B111: C52H100O8PN | C111: PC(44:2) | D111: =(D481/5)/1.1753555409225 -> 0 | E111: =(E481/5)/1.1753555409225 -> 0 | F111: =(F481/5)/1.1753555409225 -> 0 | G111: =(G481/5)/1.1753555409225 -> 0 | H111: =(H481/5)/1.1753555409225 -> 0 | I111: =(I481/5)/1.1753555409225 -> 0 | J111: =(J481/5)/1.1753555409225 -> 0
A113: Mass | B113: Compound Formula | C113: Compound Name | D113: 040618-ani-YuKuangPolar-01 | E113: 040618-ani-YuKuangPolar-02 | F113: 040618-ani-YuKuangPolar-03 | G113: 040618-ani-YuKuangPolar-04 | H113: 040618-ani-YuKuangPolar-05 | I113: 040618-ani-YuKuangPolar-06 | J113: 040618-ani-YuKuangPolar-07
A114: 452.3 | B114: C21H42O7PN | C114: LPE(16:1) | D114: =(D484/5)/1.1022772384 -> 7.2577023e-05 | E114: =(E484/5)/1.1022772384 -> 0.0032478218 | F114: =(F484/5)/1.1022772384 -> 0.0015785502 | G114: =(G484/5)/1.1022772384 -> 0.0019051468 | H114: =(H484/5)/1.1022772384 -> 0.0019958681 | I114: =(I484/5)/1.1022772384 -> 0.0019595796 | J114: =(J484/5)/1.1022772384 -> 0
A115: 454.3 | B115: C21H44O7PN | C115: LPE(16:0) | D115: =(D485/5)/1.1022772384 -> 0.00090721278 | E115: =(E485/5)/1.1022772384 -> 0.012410671 | F115: =(F485/5)/1.1022772384 -> 0.0016511273 | G115: =(G485/5)/1.1022772384 -> 0.0021228779 | H115: =(H485/5)/1.1022772384 -> 0.0034655528 | I115: =(I485/5)/1.1022772384 -> 0.0021047337 | J115: =(J485/5)/1.1022772384 -> 0.00058061618
A116: 476.3 | B116: C23H42O7PN | C116: LPE(18:3) | D116: =(D486/5)/1.1022772384 -> 0.00045360639 | E116: =(E486/5)/1.1022772384 -> 0.001632983 | F116: =(F486/5)/1.1022772384 -> 0.0009797898 | G116: =(G486/5)/1.1022772384 -> 0.00059876044 | H116: =(H486/5)/1.1022772384 -> 0.00038102937 | I116: =(I486/5)/1.1022772384 -> 0.00025401958 | J116: =(J486/5)/1.1022772384 -> 0
A117: 478.3 | B117: C23H44O7PN | C117: LPE(18:2) | D117: =(D487/5)/1.1022772384 -> 0.00050803916 | E117: =(E487/5)/1.1022772384 -> 0.0027216383 | F117: =(F487/5)/1.1022772384 -> 0.00072577023 | G117: =(G487/5)/1.1022772384 -> 0.00078020299 | H117: =(H487/5)/1.1022772384 -> 0.00079834725 | I117: =(I487/5)/1.1022772384 -> 0.00052618341 | J117: =(J487/5)/1.1022772384 -> 0.00027216383
A118: 480.3 | B118: C23H46O7PN | C118: LPE(18:1) | D118: =(D488/5)/1.1022772384 -> 0 | E118: =(E488/5)/1.1022772384 -> 0.0028667924 | F118: =(F488/5)/1.1022772384 -> 0.00094350129 | G118: =(G488/5)/1.1022772384 -> 0.0028486481 | H118: =(H488/5)/1.1022772384 -> 0.0029030809 | I118: =(I488/5)/1.1022772384 -> 0.0023224647 | J118: =(J488/5)/1.1022772384 -> 0.00018144256
A119: 500.3 | B119: C25H42O7PN | C119: LPE(20:5) | D119: =(D489/5)/1.1022772384 -> 0.0021954549 | E119: =(E489/5)/1.1022772384 -> 0 | F119: =(F489/5)/1.1022772384 -> 0 | G119: =(G489/5)/1.1022772384 -> 7.2577023e-05 | H119: =(H489/5)/1.1022772384 -> 0.00039917362 | I119: =(I489/5)/1.1022772384 -> 0.00038102937 | J119: =(J489/5)/1.1022772384 -> 0.00027216383
A120: 502.3 | B120: C25H44O7PN | C120: LPE(20:4) | D120: =(D490/5)/1.1022772384 -> 0.0001632983 | E120: =(E490/5)/1.1022772384 -> 0.00099793406 | F120: =(F490/5)/1.1022772384 -> 0.0054977095 | G120: =(G490/5)/1.1022772384 -> 0.00021773107 | H120: =(H490/5)/1.1022772384 -> 0.0011249438 | I120: =(I490/5)/1.1022772384 -> 0.00038102937 | J120: =(J490/5)/1.1022772384 -> 0.00038102937
A121: 504.3 | B121: C25H46O7PN | C121: LPE(20:3) | D121: =(D491/5)/1.1022772384 -> 0.00058061618 | E121: =(E491/5)/1.1022772384 -> 0.0026309171 | F121: =(F491/5)/1.1022772384 -> 0.00039917362 | G121: =(G491/5)/1.1022772384 -> 0.0027397826 | H121: =(H491/5)/1.1022772384 -> 0.00058061618 | I121: =(I491/5)/1.1022772384 -> 0.00079834725 | J121: =(J491/5)/1.1022772384 -> 0.00021773107
A122: 506.3 | B122: C25H48O7PN | C122: LPE(20:2) | D122: =(D492/5)/1.1022772384 -> 9.0721278e-05 | E122: =(E492/5)/1.1022772384 -> 0.00045360639 | F122: =(F492/5)/1.1022772384 -> 0.0015966945 | G122: =(G492/5)/1.1022772384 -> 0.00021773107 | H122: =(H492/5)/1.1022772384 -> 0.00021773107 | I122: =(I492/5)/1.1022772384 -> 0.00034474086 | J122: =(J492/5)/1.1022772384 -> 0.0004898949
A123: 508.3 | B123: C25H50O7PN | C123: LPE(20:1) | D123: =(D493/5)/1.1022772384 -> 0.00021773107 | E123: =(E493/5)/1.1022772384 -> 0.00063504895 | F123: =(F493/5)/1.1022772384 -> 0.0004898949 | G123: =(G493/5)/1.1022772384 -> 0.00068948171 | H123: =(H493/5)/1.1022772384 -> 0.0001632983 | I123: =(I493/5)/1.1022772384 -> 0.0015059732 | J123: =(J493/5)/1.1022772384 -> 0.00038102937
A124: 510.3 | B124: C25H52O7PN | C124: LPE(20:0) | D124: =(D494/5)/1.1022772384 -> 0.00027216383 | E124: =(E494/5)/1.1022772384 -> 0.0041731788 | F124: =(F494/5)/1.1022772384 -> 0.0020140124 | G124: =(G494/5)/1.1022772384 -> 0.0034655528 | H124: =(H494/5)/1.1022772384 -> 0.0026672056 | I124: =(I494/5)/1.1022772384 -> 0.001632983 | J124: =(J494/5)/1.1022772384 -> 0.0010886553
A125: 526.3 | B125: C27H44O7PN | C125: LPE(22:6) | D125: =(D495/5)/1.1022772384 -> 0.0001632983 | E125: =(E495/5)/1.1022772384 -> 0.00083463576 | F125: =(F495/5)/1.1022772384 -> 0.00041731788 | G125: =(G495/5)/1.1022772384 -> 0.00045360639 | H125: =(H495/5)/1.1022772384 -> 0.0011975209 | I125: =(I495/5)/1.1022772384 -> 0.0011067996 | J125: =(J495/5)/1.1022772384 -> 9.0721278e-05
A126: 528.3 | B126: C27H46O7PN | C126: LPE(22:5) | D126: =(D496/5)/1.1022772384 -> 0.00038102937 | E126: =(E496/5)/1.1022772384 -> 0.00052618341 | F126: =(F496/5)/1.1022772384 -> 0 | G126: =(G496/5)/1.1022772384 -> 0 | H126: =(H496/5)/1.1022772384 -> 5.4432767e-05 | I126: =(I496/5)/1.1022772384 -> 0.0001632983 | J126: =(J496/5)/1.1022772384 -> 0
A128: Mass | B128: Compound Formula | C128: Compound Name | D128: 040618-ani-YuKuangPolar-01 | E128: 040618-ani-YuKuangPolar-02 | F128: 040618-ani-YuKuangPolar-03 | G128: 040618-ani-YuKuangPolar-04 | H128: 040618-ani-YuKuangPolar-05 | I128: 040618-ani-YuKuangPolar-06 | J128: 040618-ani-YuKuangPolar-07
A129: 634.4 | B129: C33H64O8PN | C129: PE(28:1) | D129: =(D499/5)/0.784658765333333 -> 0.00068819724 | E129: =(E499/5)/0.784658765333333 -> 0 | F129: =(F499/5)/0.784658765333333 -> 0.0003823318 | G129: =(G499/5)/0.784658765333333 -> 0.00010195515 | H129: =(H499/5)/0.784658765333333 -> 0.00061173088 | I129: =(I499/5)/0.784658765333333 -> 7.646636e-05 | J129: =(J499/5)/0.784658765333333 -> 0
A130: 636.5 | B130: C33H66O8PN | C130: PE(28:0) | D130: =(D500/5)/0.784658765333333 -> 0.00035684302 | E130: =(E500/5)/0.784658765333333 -> 0.065353249 | F130: =(F500/5)/0.784658765333333 -> 0.002268502 | G130: =(G500/5)/0.784658765333333 -> 0.0040527171 | H130: =(H500/5)/0.784658765333333 -> 0.0042311386 | I130: =(I500/5)/0.784658765333333 -> 0.0017587263 | J130: =(J500/5)/0.784658765333333 -> 0
A131: 659.5 | B131: C36H71O6PN2 | C131: PE-Cer(16:1) | D131: =(D501/5)/0.784658765333333 -> 0 | E131: =(E501/5)/0.784658765333333 -> 0.00048428695 | F131: =(F501/5)/0.784658765333333 -> 0.00012744393 | G131: =(G501/5)/0.784658765333333 -> 0 | H131: =(H501/5)/0.784658765333333 -> 0 | I131: =(I501/5)/0.784658765333333 -> 0 | J131: =(J501/5)/0.784658765333333 -> 5.0977574e-05
A132: 661.5 | B132: C36H73O6PN2 | C132: PE-Cer(16:0) | D132: =(D502/5)/0.784658765333333 -> 0 | E132: =(E502/5)/0.784658765333333 -> 0 | F132: =(F502/5)/0.784658765333333 -> 0.00053526452 | G132: =(G502/5)/0.784658765333333 -> 0 | H132: =(H502/5)/0.784658765333333 -> 0 | I132: =(I502/5)/0.784658765333333 -> 7.646636e-05 | J132: =(J502/5)/0.784658765333333 -> 0
A133: 662.5 | B133: C35H68O8PN | C133: PE(30:1) | D133: =(D503/5)/0.784658765333333 -> 0.00030586544 | E133: =(E503/5)/0.784658765333333 -> 0.0045115153 | F133: =(F503/5)/0.784658765333333 -> 0.00022939908 | G133: =(G503/5)/0.784658765333333 -> 0.0012744393 | H133: =(H503/5)/0.784658765333333 -> 0.001197973 | I133: =(I503/5)/0.784658765333333 -> 0.00053526452 | J133: =(J503/5)/0.784658765333333 -> 0
...

Sheet DAG
D1: sample 1 | E1: sample 2 | F1: sample 3 | G1: sample 4 | H1: sample 5 | I1: sample 6 | J1: sample 7
D2: IS01 | E2: sample01 | F2: sample02 | G2: sample03 | H2: sample09 | I2: sample10 | J2: IS02
A3: 30:1 | B3: C33H66O5N | C3: 14:0/16:1 | D3: 0.48194745 | E3: 0.087360605 | F3: 0.24439748 | G3: 0.33923242 | H3: 0.3283715 | I3: 0.43481399 | J3: 0.054306948
C4: 16:0/14:1 | D4: 0.42621268 | E4: 0.36443527 | F4: 0.59443648 | G4: 0.89867824 | H4: 0.77877966 | I4: 1.1973826 | J4: 0.081932286
A5: 30:0 | B5: C33H68O5N | C5: 14:0/16:0 | D5: 0.4247802 | E5: 0.5669378 | F5: 2.0920671 | G5: 1.7009612 | H5: 0.55015603 | I5: 0.70134867 | J5: 0.038265482
A6: 32:1 | B6: C35H70O5N | C6: 16:0/16:1 | D6: 1.4183593 | E6: 0.2803245 | F6: 1.0069382 | G6: 1.5144888 | H6: 0.77665099 | I6: 0.98552064 | J6: 0.10251259
A7: 32:0 | B7: C35H72O5N | C7: 16:0/16:0 | D7: 1.0172084 | E7: 0.4976541 | F7: 7.4915281 | G7: 8.660959 | H7: 1.3432896 | I7: 2.5562384 | J7: 0.075578155
A8: 34:4 | B8: C37H68O5N | C8: 18:3/16:1 | D8: 0.048488604 | E8: 0.034674315 | F8: 0.38942902 | G8: 0.95852985 | H8: 0.67999413 | I8: 0.71365898 | J8: 0.012557559
C9: 14:0/20:4 | D9: 0.018260886 | E9: 0.055469786 | F9: 0.11758174 | G9: 0.16330007 | H9: 0.065378293 | I9: 0.21276208 | J9: 0.037444578
C10: 14:1/20:3 | D10: 0.046582481 | E10: 0.048265112 | F10: 0.1982306 | G10: 0.27461536 | H10: 0.30080699 | I10: 0.49793977 | J10: 0.014399457
A11: 34:3 | B11: C37H70O5N | C11: 18:3/16:0 | D11: 0.042808928 | E11: 0.18710782 | F11: 1.1513903 | G11: 1.8687727 | H11: 1.0026295 | I11: 1.5832685 | J11: 0.014887665
C12: 18:2/16:1 | D12: 0.18977522 | E12: 0.04913063 | F12: 0.47075832 | G12: 0.93728774 | H12: 0.11428295 | I12: 0.23888909 | J12: 0.039561174
C13: 14:0/20:3 | D13: 0.045219616 | E13: 0.037555975 | F13: 0.074396509 | G13: 0.24144337 | H13: 0.0843616 | I13: 0.15669288 | J13: 0.020041047
A14: 34:2 | B14: C37H72O5N | C14: 18:2/16:0 | D14: 0.35276501 | E14: 1.6899525 | F14: 8.2087034 | G14: 14.6157 | H14: 1.3135681 | I14: 2.0108825 | J14: 0.019937714
C15: 18:1/16:1 | D15: 0.89142739 | E15: 0.21865403 | F15: 1.4872871 | G15: 2.5637111 | H15: 0.83042729 | I15: 1.0703397 | J15: 0.16168209
A16: 34:1 | B16: C37H74O5N | C16: 18:1/16:0 | D16: 0.85442909 | E16: 1.1040545 | F16: 15.444684 | G16: 25.246506 | H16: 3.7539121 | I16: 5.5382876 | J16: 0.044998813
C17: 18:0/16:1 | D17: 0.43237769 | E17: 0.13010336 | F17: 0.80559156 | G17: 0.87106059 | H17: 1.2001507 | I17: 1.5307689 | J17: 0.067267866
A18: 36:6 | B18: C39H68O5N | C18: 18:3/18:3 | D18: 0.015819361 | E18: 0.0093341751 | F18: 0.0095257849 | G18: 0.10285042 | H18: 0 | I18: 0.095207784 | J18: 0.0052734883
C19: 16:1/20:5 | D19: 0.091194216 | E19: 0.071458292 | F19: 0.30656901 | G19: 0.31887218 | H19: 0.33491997 | I19: 0.33859707 | J19: 0.027473939
A20: 36:5 | B20: C39H70O5N | C20: 18:3/18:2 | D20: 0.014828635 | E20: 0.039198036 | F20: 0.743876 | G20: 1.2254163 | H20: 0.43803819 | I20: 0.91200519 | J20: 0.019429221
C21: 16:0/20:5 | D21: 0.14393497 | E21: 0.11444228 | F21: 0.071207897 | G21: 0.2295632 | H21: 0.11479406 | I21: 0.1584478 | J21: 0.037481335
C22: 16:1/20:4 | D22: 0.049385804 | E22: 0.025508253 | F22: 0.19477345 | G22: 0.20272914 | H22: 0.059770999 | I22: 0.047949885 | J22: 0.028465845
A23: 36:4 | B23: C39H72O5N | C23: 18:3/18:1 | D23: 0.1168112 | E23: 0.13181818 | F23: 1.9311991 | G23: 4.0440548 | H23: 1.6131918 | I23: 5.3015572 | J23: 0.075636309
C24: 18:2/18:2 | D24: 0.10521208 | E24: 0.082473696 | F24: 1.3836641 | G24: 8.8320181 | H24: 0.09945683 | I24: 0.34129074 | J24: 0.0066329928
C25: 16:0/20:4 | D25: 0.018462122 | E25: 0.46621797 | F25: 0.82162518 | G25: 2.1583361 | H25: 0.76944521 | I25: 0.88773458 | J25: 0.016820568
C26: 16:1/20:3 | D26: 0.073218848 | E26: 0.016135419 | F26: 0.19379758 | G26: 0.34334818 | H26: 0.030189952 | I26: 0.11351028 | J26: 0.014512339
A27: 36:3 | B27: C39H74O5N | C27: 18:3/18:0 | D27: 0.0074611904 | E27: 0.045434029 | F27: 1.0149571 | G27: 2.3809746 | H27: 1.9997304 | I27: 2.4993824 | J27: 0.0040611455
C28: 18:2/18:1 | D28: 0.25168116 | E28: 0.21055279 | F28: 4.5933772 | G28: 7.7910401 | H28: 0.52488028 | I28: 0.72511599 | J28: 0.037539481
C29: 16:0/20:3 | D29: 0.07582904 | E29: 0.10122665 | F29: 0.50862458 | G29: 1.188275 | H29: 0.39843018 | I29: 0.60016611 | J29: 0.016397124
C30: 16:1/20:2 | D30: 0.050960895 | E30: 0.038262737 | F30: 0.19815562 | G30: 0.40520868 | H30: 0.33561297 | I30: 0.63628143 | J30: 0.023965182
A31: 36:2 | B31: C39H76O5N | C31: 18:2/18:0 | D31: 0.037612278 | E31: 0.27732388 | F31: 2.1363723 | G31: 3.0231686 | H31: 1.5151261 | I31: 0.83013855 | J31: 0.055493299
C32: 18:1/18:1 | D32: 0.55812491 | E32: 0.32520406 | F32: 4.3745764 | G32: 63.373033 | H32: 0.90570138 | I32: 1.1909306 | J32: 0.041713096
C33: 16:0/20:2 | D33: 0.040284195 | E33: 0.06658626 | F33: 0.5468884 | G33: 0.91501757 | H33: 0.33074849 | I33: 0.42426486 | J33: 0.045903231
A34: 36:1 | B34: C39H78O5N | C34: 18:1/18:0 | D34: 0.50113642 | E34: 0.26578599 | F34: 3.3859667 | G34: 8.174476 | H34: 2.8647159 | I34: 3.0932507 | J34: 0.050429312
A35: 38:7 | B35: C41H70O5N | C35: 18:2/20:5 | D35: 0.0057002413 | E35: 0.027974113 | F35: 0.064923425 | G35: 0.2044661 | H35: 0.13519897 | I35: 0.1788455 | J35: 0.019910025
C36: 18:3/20:4 | D36: 0.024813534 | E36: 0.017815597 | F36: 0.10539557 | G36: 0.15954958 | H36: 0.1797558 | I36: 0.27720198 | J36: 0.051622201
A37: 38:6 | B37: C41H72O5N | C37: 18:1/20:5 | D37: 0.051089511 | E37: 0.038479607 | F37: 0.11526832 | G37: 0.17744033 | H37: 0.19417086 | I37: 0.1973763 | J37: 0.022879738
C38: 18:2/20:4 | D38: 0.017282213 | E38: 0.016214896 | F38: 0.15740036 | G38: 0.26680253 | H38: 0.083199337 | I38: 0.14823246 | J38: 0.017142287
C39: 16:0/22:6 | D39: 0.024895326 | E39: 0.11533775 | F39: 0.18757432 | G39: 0.33780422 | H39: 0.28410704 | I39: 0.23117525 | J39: 0.032862455
C40: 16:1/22:5 | D40: 0.059075908 | E40: 0.049517405 | F40: 0.14904266 | G40: 0.29764505 | H40: 0.17834198 | I40: 0.40819797 | J40: 0.050556465
A41: 38:5 | B41: C41H74O5N | C41: 18:0/20:5 | D41: 0.047395671 | E41: 0.046352109 | F41: 0.15297445 | G41: 0.17226846 | H41: 0.070604761 | I41: 0.21271171 | J41: 0.034907855
C42: 18:1/20:4 | D42: 0.036170342 | E42: 0.057075376 | F42: 0.33908441 | G42: 0.48855667 | H42: 0.21267548 | I42: 0.15543528 | J42: 0.016889081
C43: 18:2/20:3 | D43: 0.025925906 | E43: 0.023904844 | F43: 0.030008883 | G43: 0.14056578 | H43: 0.021506256 | I43: 0.10612153 | J43: 0.0040660105
C44: 18:3/20:2 | D44: 0.015235425 | E44: 0.013633913 | F44: 0 | G44: 0.058837563 | H44: 0.16860963 | I44: 0.22371753 | J44: 0.017893686
C45: 16:0/22:5 | D45: 0.071118408 | E45: 0.67112333 | F45: 0.16964815 | G45: 0.51027994 | H45: 0.13523937 | I45: 0.2505334 | J45: 0.046028975
C46: 16:1/22:4 | D46: 0.2191121 | E46: 0.039067106 | F46: 0.22892526 | G46: 0.20360556 | H46: 0.21911536 | I46: 0.22720557 | J46: 0.081309411
A47: 38:4 | B47: C41H76O5N | C47: 18:0/20:4 | D47: 0.0092119581 | E47: 0.1524169 | F47: 1.2205659 | G47: 3.0910469 | H47: 1.8906375 | I47: 2.6923063 | J47: 0.023391586
C48: 18:1/20:3 | D48: 0.013879095 | E48: 0.02941907 | F48: 0.16168764 | G48: 0.30097885 | H48: 0.077993766 | I48: 0.14418209 | J48: 0.02072657
C49: 16:0/22:4 | D49: 0 | E49: 0.51698722 | F49: 0.42200542 | G49: 0.94815165 | H49: 0.50154966 | I49: 0.39539747 | J49: 0.023851772
A50: 38:3 | B50: C41H78O5N | C50: 18:0/20:3 | D50: 0.026789559 | E50: 0.13282273 | F50: 0.63948704 | G50: 1.8315945 | H50: 0.98047957 | I50: 1.4632157 | J50: 0.0095848227
C51: 18:1/20:2 | D51: 0.023287827 | E51: 0.043884741 | F51: 0.36536619 | G51: 0.59302894 | H51: 0.66587399 | I51: 0.45951996 | J51: 0.062063709
A52: 40:7 | B52: C43H74O5N | C52: 18:1/22:6 | D52: 0 | E52: 0 | F52: 0 | G52: 0 | H52: 0 | I52: 0 | J52: 0
C53: 18:2/22:5 | D53: 0 | E53: 0 | F53: 0 | G53: 0 | H53: 0 | I53: 0 | J53: 0
C54: 18:3/22:4 | D54: 0 | E54: 0 | F54: 0 | G54: 0 | H54: 0 | I54: 0 | J54: 0
C55: 20:2/20:5 | D55: 0 | E55: 0 | F55: 0 | G55: 0 | H55: 0 | I55: 0 | J55: 0
C56: 20:3/20:4 | D56: 0 | E56: 0 | F56: 0 | G56: 0 | H56: 0 | I56: 0 | J56: 0
A57: 40:6 | B57: C43H76O5N | C57: 18:0/22:6 | D57: 0 | E57: 0 | F57: 0 | G57: 0 | H57: 0 | I57: 0 | J57: 0
C58: 18:1/22:5 | D58: 0 | E58: 0 | F58: 0 | G58: 0 | H58: 0 | I58: 0 | J58: 0
C59: 18:2/22:4 | D59: 0 | E59: 0 | F59: 0 | G59: 0 | H59: 0 | I59: 0 | J59: 0
C60: 20:2/20:4 | D60: 0 | E60: 0 | F60: 0 | G60: 0 | H60: 0 | I60: 0 | J60: 0
C61: 20:3/20:3 | D61: 0 | E61: 0 | F61: 0 | G61: 0 | H61: 0 | I61: 0 | J61: 0
A62: 40:5 | B62: C43H78O5N | C62: 18:0/22:5 | D62: 0 | E62: 0 | F62: 0 | G62: 0 | H62: 0 | I62: 0 | J62: 0
C63: 18:1/22:4 | D63: 0 | E63: 0 | F63: 0 | G63: 0 | H63: 0 | I63: 0 | J63: 0
C64: 20:2/20:3 | D64: 0 | E64: 0 | F64: 0 | G64: 0 | H64: 0 | I64: 0 | J64: 0
C65: Total | D65: 9.5135833 | E65: 9.6306697 | F65: 66.701934 | G65: 175.34625 | H65: 31.456571 | I65: 45.396001 | J65: 1.828288
A67: 03/04/08Template modification by Mary - increased sheets from 20 samples to 35 samples.
A68: 11/20/07Gail Ragan added code for taking data from I9-I27 in DAG templates and pasting to appropriate cells here.
A70: 3/16/09Ruth fixed the template again - or rather the directions to *use* the template!

Sheet TAG
C1: Summary | D1: Experiment: | AM1: Experiment:
D2: Name | AM2: Name
C3: Sample no. | D3: 1 | E3: 2 | F3: 3 | G3: 4 | H3: 5 | I3: 6 | J3: 7 | K3: 8 | L3: 9 | M3: 10 | N3: 11 | O3: 12 | P3: 13 | Q3: 14 | R3: 15 | S3: 16 | T3: 17 | U3: 18 | V3: 19 | W3: 20 | X3: 21 | Y3: 22 | Z3: 23 | AA3: 24 | AB3: 25 | AC3: 26 | AD3: 27 | AE3: 28 | AF3: 29 | AG3: 30 | AH3: 31 | AI3: 32 | AJ3: 33 | AK3: 34 | AL3: 35 | AM3: 1 | AN3: 2 | AO3: 3 | AP3: 4 | AQ3: 5 | AR3: 6 | AS3: 7 | AT3: 8 | AU3: 9 | AV3: 10 | AW3: 11 | AX3: 12
A4: Masses | B4: Formula | C4: Sample description | D4: IS01 | E4: sample01 | F4: sample02 | G4: sample03 | H4: sample09 | I4: sample10 | J4: IS02
A5: 764.67447 | B5: C47H90O6N | C5: 44:2 | D5: 3.3217474e-05 | E5: 0.0030592254 | F5: 0.00023102359 | G5: 0.00060619763 | H5: 0.00057779784 | I5: 0.00045192594 | J5: 1.132622e-05
A6: 766.69007 | B6: C47H92O6N | C6: 44:1 | D6: 3.6739254e-05 | E6: 0 | F6: 0.00031743796 | G6: 5.2534427e-05 | H6: 0 | I6: 0 | J6: 2.3504918e-05
A7: 768.70567 | B7: C47H94O6N | C7: 44:0 | D7: 5.5272665e-05 | E7: 0.0011158651 | F7: 3.7358134e-05 | G7: 5.5614214e-05 | H7: 0.00010878892 | I7: 0 | J7: 2.0507601e-05
A8: 776.71077 | B8: C49H94O5N | C8: e46:3 | D8: 8.5329503e-06 | E8: 0 | F8: 3.049304e-05 | G8: 6.3860213e-06 | H8: 0.00013045687 | I8: 8.1709898e-05 | J8: 0
A9: 778.72637 | B9: C49H96O5N | C9: e46:2 | D9: 1.35962e-05 | E9: 0.0015358475 | F9: 0.00017752931 | G9: 0.00021556942 | H9: 0.00038313129 | I9: 0.0004567587 | J9: 1.2969306e-05
A10: 780.74197 | B10: C49H98O5N | C10: e46:1 | D10: 8.1841843e-06 | E10: 0 | F10: 1.9971995e-05 | G10: 1.330223e-05 | H10: 2.9392515e-05 | I10: 0 | J10: 1.4112995e-05
A11: 782.75757 | B11: C49H100O5N | C11: e46:0 | D11: 3.8719949e-05 | E11: 0.0029407953 | F11: 0.00011495606 | G11: 0.00010260923 | H11: 0.00034170625 | I11: 0.00020663793 | J11: 1.6994191e-05
A12: 790.69007 | B12: C49H92O6N | C12: 46:3 | D12: 1.7440113e-05 | E12: 5.9046904e-05 | F12: 3.3487564e-05 | G12: 4.7492436e-05 | H12: 0.00014170092 | I12: 0 | J12: 0
A13: 792.70567 | B13: C49H94O6N | C13: 46:2 | D13: 4.9733284e-06 | E13: 0.00032305792 | F13: 0.00012969362 | G13: 0.00012131802 | H13: 6.0566577e-05 | I13: 3.8711233e-05 | J13: 0.00020287476
A14: 794.72127 | B14: C49H96O6N | C14: 46:1 | D14: 1.5177678e-05 | E14: 0 | F14: 0.00048827225 | G14: 0.00021691262 | H14: 0 | I14: 0.00025853435 | J14: 9.1358295e-06
A15: 796.73687 | B15: C49H98O6N | C15: 46:0 | D15: 0 | E15: 0.0014038555 | F15: 6.7276325e-05 | G15: 1.9696563e-05 | H15: 6.3680382e-05 | I15: 0.00019773786 | J15: 9.2823182e-05
A16: 802.72637 | B16: C51H96O5N | C16: e48:4 | D16: 6.4927059e-06 | E16: 5.3534992e-05 | F16: 2.8718162e-05 | G16: 0 | H16: 1.1886913e-05 | I16: 0 | J16: 8.7122376e-05
... A103: 990.93967 | B103: C63H124O6N | C103: 60:1 | D103: 4.2828956e-07 | E103: 7.7160196e-05 | F103: 8.524594e-06 | G103: 0 | H103: 0 | I103: 2.1057855e-05 | J103: 2.7097447e-05
C104: Total NL 243 14:1 acyl containing
C105: Summary
C107: Sample no.
A108: Masses | B108: Formula | C108: Sample description | D108: IS01 | E108: sample01 | F108: sample02 | G108: sample03 | H108: sample09 | I108: sample10 | J108: IS02
A109: 764.67447 | B109: C47H90O6N | C109: 44:2 | D109: 0 | E109: 0 | F109: 0 | G109: 0 | H109: 0 | I109: 0 | J109: 1.9531726e-06
A110: 766.69007 | B110: C47H92O6N | C110: 44:1 | D110: 1.5668546e-05 | E110: 0.00015469989 | F110: 0.00091942706 | G110: 0.00022808389 | H110: 3.7694851e-05 | I110: 0.0002277936 | J110: 3.5120191e-05
A111: 768.70567 | B111: C47H94O6N | C111: 44:0 | D111: 8.4133787e-05 | E111: 0.00029802927 | F111: 0.0062886555 | G111: 0.0023245056 | H111: 0.00046993717 | I111: 0.0010261361 | J111: 9.8036236e-05
A112: 776.71077 | B112: C49H94O5N | C112: e46:3 | D112: 0 | E112: 0 | F112: 0 | G112: 5.2168284e-05 | H112: 0 | I112: 0 | J112: 5.9403105e-05
A113: 778.72637 | B113: C49H96O5N | C113: e46:2 | D113: 2.1946808e-05 | E113: 0 | F113: 0 | G113: 2.2960504e-05 | H113: 0.00013894209 | I113: 0 | J113: 8.3255348e-06
A114: 780.74197 | B114: C49H98O5N | C114: e46:1 | D114: 6.1492143e-05 | E114: 0 | F114: 4.8533411e-05 | G114: 0.00013656178 | H114: 0 | I114: 0 | J114: 0.00015227829
A115: 782.75757 | B115: C49H100O5N | C115: e46:0 | D115: 0.00012248563 | E115: 0.00033090077 | F115: 0.0009251989 | G115: 0.00053446685 | H115: 0.0003007777 | I115: 0.00046656673 | J115: 0.0001295907
A116: 790.69007 | B116: C49H92O6N | C116: 46:3 | D116: 3.4455312e-06 | E116: 4.3865458e-05 | F116: 0 | G116: 0 | H116: 5.1195905e-05 | I116: 1.7137227e-05 | J116: 0
A117: 792.70567 | B117: C49H94O6N | C117: 46:2 | D117: 0 | E117: 6.1799413e-05 | F117: 0.00026640322 | G117: 0.00012034328 | H117: 0 | I117: 2.2310065e-05 | J117: 1.3618507e-05
A118: 794.72127 | B118: C49H96O6N | C118: 46:1 | D118: 7.552495e-05 | E118: 0.00015846096 | F118: 0.0015919105 | G118: 0.00093331692 | H118: 0.00022764796 | I118: 0.00048701817 | J118: 2.2429174e-05
A119: 796.73687 | B119: C49H98O6N | C119: 46:0 | D119: 0.0002276397 | E119: 0.00054629273 | F119: 0.0088675817 | G119: 0.0071928111 | H119: 0.0062299193 | I119: 0.010897426 | J119: 0.00013223269
A120: 802.72637 | B120: C51H96O5N | C120: e48:4 | D120: 0 | E120: 0 | F120: 0 | G120: 3.181942e-05 | H120: 7.6964401e-05 | I120: 0 | J120: 2.1137856e-06
... A207: 990.93967 | B207: C63H124O6N | C207: 60:1 | D207: 0 | E207: 4.6773043e-05 | F207: 4.0347542e-05 | G207: 2.0541925e-05 | H207: 0 | I207: 0.00014072594 | J207: 5.0419389e-06
C208: Total NL 245 14:0 acyl containing
C209: Summary
C211: Sample no.
A212: Masses | B212: Formula | C212: Sample description | D212: IS01 | E212: sample01 | F212: sample02 | G212: sample03 | H212: sample09 | I212: sample10 | J212: IS02
A213: 764.67447 | B213: C47H90O6N | C213: 44:2 | D213: 9.5925848e-06 | E213: 5.9068573e-05 | F213: 0.00022504721 | G213: 4.8417833e-05 | H213: 1.9226121e-05 | I213: 5.2435348e-05 | J213: 3.4590852e-05
A214: 766.69007 | B214: C47H92O6N | C214: 44:1 | D214: 1.4733948e-05 | E214: 0.00010097896 | F214: 0.00030644026 | G214: 0.00019948071 | H214: 1.9122555e-05 | I214: 0.00016702767 | J214: 1.952758e-05
A215: 768.70567 | B215: C47H94O6N | C215: 44:0 | D215: 4.6714793e-06 | E215: 2.4981372e-06 | F215: 8.036323e-05 | G215: 2.8944984e-06 | H215: 0 | I215: 7.5758324e-07 | J215: 1.1933483e-05
A216: 776.71077 | B216: C49H94O5N | C216: e46:3 | D216: 3.3169374e-05 | E216: 0 | F216: 0 | G216: 0 | H216: 2.7132687e-05 | I216: 0 | J216: 4.3376727e-05
A217: 778.72637 | B217: C49H96O5N | C217: e46:2 | D217: 0 | E217: 0.00010986696 | F217: 5.9423555e-05 | G217: 5.8099118e-05 | H217: 6.5303142e-05 | I217: 4.2376411e-05 | J217: 6.4442326e-05
A218: 780.74197 | B218: C49H98O5N | C218: e46:1 | D218: 0 | E218: 8.5462129e-05 | F218: 0.00022396619 | G218: 0.00015921269 | H218: 0.00012195555 | I218: 0.00015658625 | J218: 2.2629617e-05
A219: 782.75757 | B219: C49H100O5N | C219: e46:0 | D219: 6.0280639e-05 | E219: 0 | F219: 0 | G219: 0 | H219: 1.6405413e-05 | I219: 2.6809915e-06 | J219: 1.923236e-05
A220: 790.69007 | B220: C49H92O6N | C220: 46:3 | D220: 1.4025712e-05 | E220: 2.8293393e-05 | F220: 6.0521819e-05 | G220: 2.6402988e-05 | H220: 1.1178877e-05 | I220: 3.1792993e-05 | J220: 1.3633783e-05
A221: 792.70567 | B221: C49H94O6N | C221: 46:2 | D221: 5.6422879e-05 | E221: 0.00018599636 | F221: 0.00029768397 | G221: 0.00028710642 | H221: 0.00037810676 | I221: 0.00012897306 | J221: 3.0799785e-05
A222: 794.72127 | B222: C49H96O6N | C222: 46:1 | D222: 2.6200526e-05 | E222: 0.00025111567 | F222: 0.00054127068 | G222: 0.00049968228 | H222: 0.00034590519 | I222: 0.00059296929 | J222: 6.8633435e-05
A223: 796.73687 | B223: C49H98O6N | C223: 46:0 | D223: 0 | E223: 0 | F223: 4.5742193e-05 | G223: 6.1167139e-05 | H223: 0 | I223: 0 | J223: 1.8207941e-05
A224: 802.72637 | B224: C51H96O5N | C224: e48:4 | D224: 3.8270293e-06 | E224: 2.5697312e-05 | F224: 1.8807842e-05 | G224: 0 | H224: 0.0001299296 | I224: 2.4466064e-05 | J224: 0
... A311: 990.93967 | B311: C63H124O6N | C311: 60:1 | D311: 0 | E311: 1.0979289e-05 | F311: 0 | G311: 0 | H311: 4.7681188e-05 | I311: 0 | J311: 1.5919597e-05
C312: Total NL 271 16:1 acyl containing
C313: Summary
C315: Sample no.
A316: Masses | B316: Formula | C316: Sample description | D316: IS01 | E316: sample01 | F316: sample02 | G316: sample03 | H316: sample09 | I316: sample10 | J316: IS02
A317: 764.67447 | B317: C47H90O6N | C317: 44:2 | D317: 0 | E317: 0 | F317: 0.00027191464 | G317: 0.00019233135 | H317: 6.3059449e-05 | I317: 0.000154455 | J317: 0
A318: 766.69007 | B318: C47H92O6N | C318: 44:1 | D318: 2.6401588e-05 | E318: 1.1856883e-05 | F318: 0.0015698923 | G318: 0.00053059412 | H318: 0.00015478468 | I318: 0.0002356615 | J318: 1.9838783e-05
A319: 768.70567 | B319: C47H94O6N | C319: 44:0 | D319: 0.00011202516 | E319: 0.00053834577 | F319: 0.010770598 | G319: 0.0040041404 | H319: 0.0011855514 | I319: 0.0023086262 | J319: 0.00014059645
A320: 776.71077 | B320: C49H94O5N | C320: e46:3 | D320: 2.5874594e-05 | E320: 9.4548499e-05 | F320: 0 | G320: 0 | H320: 4.0996104e-05 | I320: 0 | J320: 0
A321: 778.72637 | B321: C49H96O5N | C321: e46:2 | D321: 0 | E321: 0 | F321: 0 | G321: 0 | H321: 3.4506668e-05 | I321: 8.0318338e-05 | J321: 2.5396596e-05
A322: 780.74197 | B322: C49H98O5N | C322: e46:1 | D322: 4.4201735e-05 | E322: 3.6876796e-05 | F322: 0.00020561932 | G322: 7.1193334e-05 | H322: 0 | I322: 6.9485626e-05 | J322: 2.8901605e-05
A323: 782.75757 | B323: C49H100O5N | C323: e46:0 | D323: 0.00029756559 | E323: 0 | F323: 0.0012545148 | G323: 0.00067824237 | H323: 0.00018968016 | I323: 0.00036174851 | J323: 0.00014026183
A324: 790.69007 | B324: C49H92O6N | C324: 46:3 | D324: 3.2636182e-05 | E324: 0 | F324: 3.9098448e-05 | G324: 0 | H324: 1.5517153e-05 | I324: 1.8485057e-05 | J324: 0
A325: 792.70567 | B325: C49H94O6N | C325: 46:2 | D325: 2.3860897e-05 | E325: 7.5119692e-06 | F325: 0.00021406065 | G325: 0 | H325: 0 | I325: 0.00035036774 | J325: 1.3448188e-05
A326: 794.72127 | B326: C49H96O6N | C326: 46:1 | D326: 3.9169739e-05 | E326: 0 | F326: 0.0023791554 | G326: 0.00079112185 | H326: 0.00040172915 | I326: 0.0005982943 | J326: 2.6405926e-05
A327: 796.73687 | B327: C49H98O6N | C327: 46:0 | D327: 0.00047546298 | E327: 0.0016799545 | F327: 0.015680266 | G327: 0.013406475 | H327: 0.010733161 | I327: 0.019590573 | J327: 0.00048805748
A328: 802.72637 | B328: C51H96O5N | C328: e48:4 | D328: 0 | E328: 0 | F328: 0 | G328: 4.2851084e-05 | H328: 0 | I328: 3.4051634e-06 | J328: 0
... A415: 990.93967 | B415: C63H124O6N | C415: 60:1 | D415: 0 | E415: 1.4570019e-05 | F415: 0 | G415: 0 | H415: 0 | I415: 0.00011035085 | J415: 0
C416: Total NL 273 16:0 acyl containing
C417: Summary
C419: Sample no.
A420: Masses | B420: Formula | C420: Sample description | D420: IS01 | E420: sample01 | F420: sample02 | G420: sample03 | H420: sample09 | I420: sample10 | J420: IS02
A421: 764.67447 | B421: C47H90O6N | C421: 44:2 | D421: 0 | E421: 1.7955348e-05 | F421: 7.3071297e-05 | G421: 5.563679e-05 | H421: 1.1844424e-05 | I421: 7.0190803e-05 | J421: 2.3851913e-05
A422: 766.69007 | B422: C47H92O6N | C422: 44:1 | D422: 2.999804e-05 | E422: 5.0037058e-05 | F422: 7.7396119e-06 | G422: 4.983289e-05 | H422: 0.00015445954 | I422: 0.00017081691 | J422: 1.108086e-05
A423: 768.70567 | B423: C47H94O6N | C423: 44:0 | D423: 0 | E423: 0 | F423: 2.2570537e-05 | G423: 2.3571672e-05 | H423: 0 | I423: 7.2745075e-05 | J423: 1.1506228e-05
A424: 776.71077 | B424: C49H94O5N | C424: e46:3 | D424: 4.3920142e-08 | E424: 0.00012747697 | F424: 4.8990507e-05 | G424: 6.3009975e-05 | H424: 2.9626578e-05 | I424: 0.00011742494 | J424: 0
A425: 778.72637 | B425: C49H96O5N | C425: e46:2 | D425: 0 | E425: 0 | F425: 7.5654867e-05 | G425: 0.00013807004 | H425: 3.0336025e-05 | I425: 7.8613534e-05 | J425: 3.1759197e-05
A426: 780.74197 | B426: C49H98O5N | C426: e46:1 | D426: 1.0629337e-05 | E426: 3.4528806e-05 | F426: 0 | G426: 4.4342825e-05 | H426: 0.000142421 | I426: 0.00017781217 | J426: 9.5655237e-05
A427: 782.75757 | B427: C49H100O5N | C427: e46:0 | D427: 0 | E427: 0 | F427: 9.0514525e-06 | G427: 1.9350225e-05 | H427: 0.00012195354 | I427: 7.4092991e-05 | J427: 2.6489347e-05
A428: 790.69007 | B428: C49H92O6N | C428: 46:3 | D428: 5.3115931e-06 | E428: 1.1827311e-05 | F428: 5.149449e-05 | G428: 5.7164622e-05 | H428: 0 | I428: 4.5554587e-05 | J428: 4.1494835e-05
A429: 792.70567 | B429: C49H94O6N | C429: 46:2 | D429: 0 | E429: 2.2481493e-05 | F429: 9.8564949e-05 | G429: 1.4187077e-06 | H429: 6.1006434e-05 | I429: 8.8654077e-05 | J429: 0
A430: 794.72127 | B430: C49H96O6N | C430: 46:1 | D430: 0 | E430: 0 | F430: 1.824573e-05 | G430: 2.4683924e-05 | H430: 1.4295452e-05 | I430: 0.0001830471 | J430: 1.120425e-05
A431: 796.73687 | B431: C49H98O6N | C431: 46:0 | D431: 1.2665386e-05 | E431: 1.4098905e-05 | F431: 4.2040138e-05 | G431: 0 | H431: 3.2312977e-05 | I431: 6.7842839e-06 | J431: 0.0001315409
A432: 802.72637 | B432: C51H96O5N | C432: e48:4 | D432: 0 | E432: 4.4847646e-05 | F432: 0 | G432: 0 | H432: 0 | I432: 0.00013036604 | J432: 9.9774194e-06
... A519: 990.93967 | B519: C63H124O6N | C519: 60:1 | D519: 6.2730011e-05 | E519: 0 | F519: 0 | G519: 1.9239551e-05 | H519: 2.6891205e-05 | I519: 5.3121428e-05 | J519: 1.5565611e-05
C520: Total NL 295 18:3 acyl containing
C521: Summary
C523: Sample no.
A524: Masses | B524: Formula | C524: Sample description | D524: IS01 | E524: sample01 | F524: sample02 | G524: sample03 | H524: sample09 | I524: sample10 | J524: IS02
A525: 764.67447 | B525: C47H90O6N | C525: 44:2 | D525: 2.0367812e-05 | E525: 7.2841215e-06 | F525: 0.00038749843 | G525: 0.00015209846 | H525: 0 | I525: 0.00011440356 | J525: 4.7901686e-05
A526: 766.69007 | B526: C47H92O6N | C526: 44:1 | D526: 0 | E526: 1.7323096e-05 | F526: 1.931312e-05 | G526: 1.0068371e-05 | H526: 0 | I526: 0.0001188814 | J526: 1.4465716e-05
A527: 768.70567 | B527: C47H94O6N | C527: 44:0 | D527: 0 | E527: 2.1894725e-05 | F527: 9.8569776e-06 | G527: 0 | H527: 1.7971355e-05 | I527: 1.5519002e-05 | J527: 7.2234008e-06
A528: 776.71077 | B528: C49H94O5N | C528: e46:3 | D528: 8.6881926e-06 | E528: 2.8425659e-05 | F528: 1.9313972e-05 | G528: 0 | H528: 0.0001180534 | I528: 0 | J528: 7.5293707e-05
A529: 778.72637 | B529: C49H96O5N | C529: e46:2 | D529: 0 | E529: 8.4478915e-05 | F529: 4.2753915e-05 | G529: 3.1439146e-05 | H529: 0 | I529: 2.0536314e-05 | J529: 2.4061662e-05
A530: 780.74197 | B530: C49H98O5N | C530: e46:1 | D530: 1.125212e-05 | E530: 2.5311955e-05 | F530: 0 | G530: 0 | H530: 8.0307897e-05 | I530: 0 | J530: 7.4593173e-06
A531: 782.75757 | B531: C49H100O5N | C531: e46:0 | D531: 1.1216932e-05 | E531: 2.113118e-05 | F531: 7.3522597e-05 | G531: 0 | H531: 0 | I531: 3.9293184e-05 | J531: 4.4713819e-05
A532: 790.69007 | B532: C49H92O6N | C532: 46:3 | D532: 0 | E532: 0 | F532: 0.00016927885 | G532: 0.00028644812 | H532: 3.7471411e-05 | I532: 7.0571976e-05 | J532: 7.815439e-05
A533: 792.70567 | B533: C49H94O6N | C533: 46:2 | D533: 6.8490189e-06 | E533: 1.0528822e-05 | F533: 0.00064780754 | G533: 0.00028607254 | H533: 5.0409469e-05 | I533: 0.00015751338 | J533: 8.2028627e-05
A534: 794.72127 | B534: C49H96O6N | C534: 46:1 | D534: 0 | E534: 6.6701892e-05 | F534: 1.0026076e-05 | G534: 5.1871731e-05 | H534: 0 | I534: 0.00012290905 | J534: 3.2187939e-05
A535: 796.73687 | B535: C49H98O6N | C535: 46:0 | D535: 0 | E535: 9.6275624e-06 | F535: 2.4646726e-05 | G535: 2.9793364e-05 | H535: 6.5188176e-05 | I535: 2.852509e-05 | J535: 4.7995108e-05
...

Sheet Xevo TQS Polar parameters
A1: Summarized Method Parameters | G1: plasma-123116-10min.EXP method: continuous infusion from loop (300ul).
A2: Instrument: XEVO-TQS#WAA627 | F2: acquisition parameter | N2: processing parameter for data export as mass and signal to excel files
D3: function | E3: compound | F3: function type | G3: mass range | H3: start/end time(min) | I3: scan duration(secs) | J3: ionization mode | K3: Cone voltage | L3: collision energy | M3: total scan time min. | N3: Subtract | O3: Smooth mean | P3: Centroid all top50%, mid peak width at half height:
A4: all functions: | F4: (scan mode) | I4: (MCA) | M4: 2
D5: 3 | E5: cholesterol ester | F5: Parents of 369.35 | G5: 598 to 750 | H5: 8.75 to 9.5 | I5: 0.76 | J5: ES+ | K5: 24 | L5: 5 | M5: 0.75 | N5: 1, 40, 0.01 | O5: 1x0.6 | P5: 2
A6: Cycle time (secs): Automatic | D6: 4 | E6: LysoPC,PC | F6: parent of 184.07 | G6: 450 to 960 | H6: 2.000 to 2.750 | I6: 2.55 | J6: ES+ | K6: 40 | L6: 28 | M6: 0.75 | N6: 1, 40, 0.01 | O6: 1x0.6 | P6: 2
A7: source temp | B7: 150C | D7: 5 | E7: LysoPG(not reported) | F7: Neutral Loss of 189.04 | G7: 450 to 550 | H7: 2.750 to 3.500 | I7: 0.5 | J7: ES+ | K7: 30 | L7: 10 | M7: 0.75
A8: Desolvation Temperature (°C) | B8: 250 | D8: 6 | E8: PA | F8: Neutral Loss of 115.00 | G8: 606 to 784 | H8: 3.500 to 4.250 | I8: 0.89 | J8: ES+ | K8: 40 | L8: 5 | M8: 0.75 | N8: 1, 40, 0.01 | O8: 2x0.4 | P8: 2
A9: Cone Gas Flow (L/Hr) | B9: 150 | D9: 7 | E9: PG(not reported) | F9: Neutral Loss of 189.04 | G9: 680 to 858 | H9: 4.250 to 5.000 | I9: 0.89 | J9: ES+ | K9: 40 | L9: 8 | M9: 0.75
A10: Desolvation Gas Flow (L/Hr) | B10: 650 | D10: 8 | E10: LysoPE, PE | F10: Neutral Loss of 141.02 | G10: 422 to 894 | H10: 5.000 to 5.750 | I10: 2.36 | J10: ES+ | K10: 40 | L10: 12 | M10: 0.75 | N10: 1, 40, 0.01 | O10: 2x0.4 | P10: 2
A11: Collision Gas Flow (mL/Min) | B11: 0.14 | D11: 9 | E11: PI | F11: Neutral Loss of 277.00 | G11: 840 to 1000 | H11: 5.750 to 6.500 | I11: 0.8 | J11: ES+ | K11: 40 | L11: 17 | M11: 0.75 | N11: 1, 40, 0.01 | O11: 2x0.4 | P11: 2
A12: Nebuliser Gas Flow (Bar) | B12: 7 | D12: 10 | E12: PS | F12: Neutral Loss of 185.00 | G12: 675 to 1000 | H12: 6.500 to 7.250 | I12: 1.62 | J12: ES+ | K12: 40 | L12: 13 | M12: 0.75 | N12: 1, 40, 0.01 | O12: 2x0.4 | P12: 2
A13: LM 1 Resolution | B13: 3.2
A14: HM 1 Resolution | B14: 15.5
A17: Acquisition Experiment Report
A20: Header
A28: Instrument: XEVO-TQS#WAA627
A29: Conditions:
A30: Submitter:
A31: SampleID:
A32: Bottle Number: 1:1
A33: Description: QC01
A35: Instrument Calibration:
A36: Calibration File: C:\MassLynx\Default.pro\Acqudb\Uncal.cal
A37: Parameters
A38: MS1 Static: None
... A63: Data Processing:
A64: SIR / MRM Chromatogram Spike Removal | B64: ON
A65: SIR / MRM Smoothing | C65: OFF
A66: Smoothing window size (scans) | B66: 3
A67: Number of smooths | C67: 2
A70: Prescan Statistics:
A71: Initial Average Intensity | B71: 77.4536
A72: Initial Average Std Dev | C72: 19.0592
A73: Bunch Zero Level | C73: 3.7002
A74: Bunch Std Dev | D74: 3.8033
A75: Bunch Threshold | D75: 30.4267
A76: Spike Removal Std Dev | C76: 18.9738
A79: Method Events:
A80: Initial Stop Flow: | B80: No Change
A81: Initial Switch 2: | B81: No Change
A82: Initial Switch 3: | B82: No Change
A83: Initial Switch 4: | B83: No Change
A84: Initial Infusion: | B84: Start
A85: Initial Flow State: | B85: Infusion
A86: Initial Flow Rate: | B86: 200
A87: Initial Reservoir: | B87: A
A88: API Probe Delay Temp: | B88: 20
A89: Initial Refill: | C89: No Action
A90: Timed Events Enabled
A91: Event | B91: Time(Sec) | C91: Name | E91: Action
A92: 1 | B92: 0 | D92: Stop flow | E92: On
A93: 2 | B93: 60 | D93: Refill | E93: Refill
A94: 3 | B94: 66 | D94: Flow State | E94: LC
A95: 4 | B95: 600 | D95: Flow State | E95: Waste
A96: 5 | B96: 900 | D96: Flow State | E96: LC
A99: Source Information:
A100: Type - ESI
A101: Status - Option Connector Disconnected
A103: Ion Count Threshold: | B103: 25
A104: Ion Count Threshold (adjusted for gain): | B104: 25
A106: Instrument Parameters - Function 1:
A107: Parameter File - C:\MassLynx\KLRC Samples.PRO\ACQUDB\123016-MRR-newRes-Uncal.IPR
A108: Polarity | B108: ES+
A109: Calibration | B109: Dynamic 2
A110: Capillary (kV) | B110: 2.8 | C110: 2.89
A111: Cone (V) | B111: 40 | C111: 82.23
A112: Source Offset (V) | B112: 30
A113: Source Temperature (°C) | B113: 150 | C113: 150
A114: Desolvation Temperature (°C) | B114: 250 | C114: 250
A115: Cone Gas Flow (L/Hr) | B115: 150 | C115: 152
A116: Desolvation Gas Flow (L/Hr) | B116: 650 | C116: 648
A117: Collision Gas Flow (mL/Min) | B117: 0.14 | C117: 0.13
A118: Nebuliser Gas Flow (Bar) | B118: 7 | C118: 6.96
A119: LM 1 Resolution | B119: 3.2
A120: HM 1 Resolution | B120: 15.5
A121: Ion Energy 1 | B121: 1
A122: MS Mode Collision Energy | B122: 5
A123: MSMS Mode Collision Energy | B123: 30
A124: MS Mode Entrance | B124: 1
A125: MS Mode Exit | B125: 1
A126: Gas On MS Mode Entrance | B126: 1
A127: Gas On MS Mode Exit | B127: 1
A128: Gas On MSMS Mode Entrance | B128: 1
A129: Gas On MSMS Mode Exit | B129: 1
A130: Gas Off MS Mode Entrance | B130: 30
... A142: Multiplier | B142: 498.9
A143: Active Reservoir | B143: A
A145: Instrument Parameters - Function 2:
A146: Parameter File - C:\MassLynx\KLRC Samples.PRO\ACQUDB\123016-MRR-newRes-Uncal.IPR
A147: Polarity | B147: ES+
A148: Calibration | B148: Dynamic 2
A149: Capillary (kV) | B149: 2.8 | C149: 2.89
A150: Cone (V) | B150: 30 | C150: 82.23
A151: Source Offset (V) | B151: 30
A152: Source Temperature (°C) | B152: 150 | C152: 150
A153: Desolvation Temperature (°C) | B153: 250 | C153: 250
A154: Cone Gas Flow (L/Hr) | B154: 150 | C154: 152
A155: Desolvation Gas Flow (L/Hr) | B155: 650 | C155: 648
A156: Collision Gas Flow (mL/Min) | B156: 0.14 | C156: 0.13
...

Sheet Xevo TQS DAG parameters
A1: Summarized Method Parameters | D1: Instrument: XEVO-TQS#WAA627 | G1: animalDAG-032317.EXP method: continuous infusion from loop
D2: function | E2: compound | F2: function type | G2: mass range | H2: start/end time(min) | I2: scan duration(secs) | J2: ionization mode | K2: Cone voltage | L2: collision energy
A3: all functions:
D4: 3 | E4: DAG(22:4) | F4: Neutral Loss 349.3 | G4: 500 to 700 | H4: 2 to 25 | I4: 8 | J4: ES+ | K4: 40 | L4: 6
A5: Cycle time (secs): Automatic | D5: 4 | E5: DAG(22:5) | F5: Neutral Loss 347.3 | G5: 500 to 700 | H5: 2 to 25 | I5: 8 | J5: ES+ | K5: 40 | L5: 6
A6: source temp | B6: 150C | D6: 5 | E6: DAG(22:6) | F6: Neutral Loss 345.3 | G6: 500 to 700 | H6: 2 to 25 | I6: 8 | J6: ES+ | K6: 40 | L6: 6
A7: Desolvation Temperature (°C) | B7: 250 | D7: 6 | E7: DAG(20:2) | F7: Neutral Loss 325.3 | G7: 500 to 700 | H7: 2 to 25 | I7: 8 | J7: ES+ | K7: 40 | L7: 6
A8: Cone Gas Flow (L/Hr) | B8: 150 | D8: 7 | E8: DAG(20:3) | F8: Neutral Loss 323.3 | G8: 500 to 700 | H8: 2 to 25 | I8: 8 | J8: ES+ | K8: 40 | L8: 6
A9: Desolvation Gas Flow (L/Hr) | B9: 650 | D9: 8 | E9: DAG(20:4) | F9: Neutral Loss 321.3 | G9: 500 to 700 | H9: 2 to 25 | I9: 8 | J9: ES+ | K9: 40 | L9: 6
A10: Collision Gas Flow (mL/Min) | B10: 0.14 | D10: 9 | E10: DAG(20:5) | F10: Neutral Loss 319.3 | G10: 500 to 700 | H10: 2 to 25 | I10: 8 | J10: ES+ | K10: 40 | L10: 6
A11: Nebuliser Gas Flow (Bar) | B11: 7 | D11: 10 | E11: DAG(18:0) | F11: Neutral Loss 301.2 | G11: 500 to 700 | H11: 2 to 25 | I11: 8 | J11: ES+ | K11: 40 | L11: 6
A12: LM 1 Resolution | B12: 3.2 | D12: 11 | E12: DAG(18:1) | F12: Neutral Loss 299.2 | G12: 500 to 700 | H12: 2 to 25 | I12: 8 | J12: ES+ | K12: 40 | L12: 6
A13: HM 1 Resolution | B13: 15.5 | D13: 12 | E13: DAG(18:2) | F13: Neutral Loss 297.2 | G13: 500 to 700 | H13: 2 to 25 | I13: 8 | J13: ES+ | K13: 40 | L13: 6
D14: 13 | E14: DAG(18:3) | F14: Neutral Loss 295.2 | G14: 500 to 700 | H14: 2 to 25 | I14: 8 | J14: ES+ | K14: 40 | L14: 6
D15: 14 | E15: DAG(16:0) | F15: Neutral Loss 273.2 | G15: 500 to 700 | H15: 2 to 25 | I15: 8 | J15: ES+ | K15: 40 | L15: 6
D16: 15 | E16: DAG(16:1) | F16: Neutral Loss 271.2 | G16: 500 to 700 | H16: 2 to 25 | I16: 8 | J16: ES+ | K16: 40 | L16: 6
D17: 16 | E17: DAG(15:0) | F17: Neutral Loss 259.2 | G17: 500 to 700 | H17: 2 to 25 | I17: 8 | J17: ES+ | K17: 40 | L17: 6
D18: 17 | E18: DAG(14:0) | F18: Neutral Loss 245.2 | G18: 500 to 700 | H18: 2 to 25 | I18: 8 | J18: ES+ | K18: 40 | L18: 6
D19: 18 | E19: DAG(14:1) | F19: Neutral Loss 243.2 | G19: 500 to 700 | H19: 2 to 25 | I19: 8 | J19: ES+ | K19: 40 | L19: 6
A22: Acquisition Experiment Report
A25: Instrument: XEVO-TQS#WAA627
A27: Instrument Calibration:
A28: Calibration File: C:\MassLynx\Default.pro\Acqudb\Uncal.cal
A29: Parameters
A30: MS1 Static: None
A31: MS1 Scanning: None
A32: MS1 Scan Speed Compensation: None
A33: MS2 Static: None
A34: MS2 Scanning: None
A35: MS2 Scan Speed Compensation: None
A36: Calibration Time: 09:25
... A63: Data Processing:
A64: SIR / MRM Chromatogram Spike Removal | B64: ON
A65: SIR / MRM Smoothing | C65: OFF
A66: Smoothing window size (scans) | B66: 3
A67: Number of smooths | C67: 2
A70: Prescan Statistics:
A71: Initial Average Intensity | B71: 32.0831
A72: Initial Average Std Dev | C72: 8.0047
A73: Bunch Zero Level | C73: 0.1668
A74: Bunch Std Dev | D74: 0.1571
A75: Bunch Threshold | D75: 1.2568
A76: Spike Removal Std Dev | C76: 7.8793
A79: Method Events:
A80: Initial Stop Flow: | B80: No Change
A81: Initial Switch 2: | B81: No Change
A82: Initial Switch 3: | B82: No Change
A83: Initial Switch 4: | B83: No Change
A84: Initial Infusion: | B84: Start
A85: Initial Flow State: | B85: Infusion
A86: Initial Flow Rate: | B86: 200
A87: Initial Reservoir: | B87: A
A88: API Probe Delay Temp: | B88: 20
A89: Initial Refill: | C89: No Action
A90: Timed Events Enabled
A91: Event | B91: Time(Sec) | C91: Name | E91: Action
A92: 1 | B92: 60 | D92: Refill | E92: Refill
A93: 2 | B93: 66 | D93: Flow State | E93: LC
A96: Source Information:
A97: Type - ESI
A98: Status - Option Connector Disconnected
A100: Ion Count Threshold: | B100: 25
A101: Ion Count Threshold (adjusted for gain): | B101: 25
A103: Instrument Parameters - Function 1:
A104: Parameter File - C:\MassLynx\KLRC Samples.PRO\ACQUDB\123016-MRR-newRes-Uncal.IPR
A105: Polarity | B105: ES+
A106: Calibration | B106: Dynamic 2
A107: Capillary (kV) | B107: 2.8 | C107: 2.9
A108: Cone (V) | B108: 40 | C108: 92.55
A109: Source Offset (V) | B109: 30
A110: Source Temperature (°C) | B110: 150 | C110: 150
A111: Desolvation Temperature (°C) | B111: 250 | C111: 250
A112: Cone Gas Flow (L/Hr) | B112: 150 | C112: 151
A113: Desolvation Gas Flow (L/Hr) | B113: 650 | C113: 646
A114: Collision Gas Flow (mL/Min) | B114: 0.14 | C114: 0.13
A115: Nebuliser Gas Flow (Bar) | B115: 7 | C115: 6.96
A116: LM 1 Resolution | B116: 3.2
A117: HM 1 Resolution | B117: 15.5
A118: Ion Energy 1 | B118: 1
A119: MS Mode Collision Energy | B119: 5
A120: MSMS Mode Collision Energy | B120: 5
A121: MS Mode Entrance | B121: 1
A122: MS Mode Exit | B122: 1
A123: Gas On MS Mode Entrance | B123: 1
A124: Gas On MS Mode Exit | B124: 1
A125: Gas On MSMS Mode Entrance | B125: 1
A126: Gas On MSMS Mode Exit | B126: 1
A127: Gas Off MS Mode Entrance | B127: 30
... A139: Multiplier | B139: 498.9
A140: Active Reservoir | B140: A
A142: Instrument Parameters - Function 2:
A143: Parameter File - C:\MassLynx\KLRC Samples.PRO\ACQUDB\123016-MRR-newRes-Uncal.IPR
A144: Polarity | B144: ES+
A145: Calibration | B145: Dynamic 2
A146: Capillary (kV) | B146: 2.8 | C146: 2.9
A147: Cone (V) | B147: 40 | C147: 92.55
A148: Source Offset (V) | B148: 30
A149: Source Temperature (°C) | B149: 150 | C149: 150
A150: Desolvation Temperature (°C) | B150: 250 | C150: 250
A151: Cone Gas Flow (L/Hr) | B151: 150 | C151: 151
...

Sheet Xevo TQS TAG parameters 
A1: Summarized Method Parameters | D1: Instrument: XEVO-TQS#WAA627 | G1: animalTAG-052417.EXP method: continuous infusion from loop (300ul).
D2: function | E2: compound | F2: function type | G2: mass range | H2: start/end time(min) | I2: scan duration(secs) | J2: ionization mode | K2: Cone voltage | L2: collision energy
A3: all functions:
D4: 3 | E4: TAG(22:4) | F4: Neutral Loss 349.3 | G4: 700 to 1000 | H4: 2 to 10 | I4: 2 | J4: ES+ | K4: 40 | L4: 6
A5: Cycle time (secs): Automatic | D5: 4 | E5: TAG(22:5) | F5: Neutral Loss 347.3 | G5: 700 to 1000 | H5: 2 to 10 | I5: 2 | J5: ES+ | K5: 40 | L5: 6
A6: source temp | B6: 150C | D6: 5 | E6: TAG(22:6) | F6: Neutral Loss 345.3 | G6: 700 to 1000 | H6: 2 to 10 | I6: 2 | J6: ES+ | K6: 40 | L6: 6
A7: Desolvation Temperature (°C) | B7: 250 | D7: 6 | E7: TAG(20:2) | F7: Neutral Loss 325.3 | G7: 700 to 1000 | H7: 2 to 10 | I7: 2 | J7: ES+ | K7: 40 | L7: 6
A8: Cone Gas Flow (L/Hr) | B8: 150 | D8: 7 | E8: TAG(20:3) | F8: Neutral Loss 323.3 | G8: 700 to 1000 | H8: 2 to 10 | I8: 2 | J8: ES+ | K8: 40 | L8: 6
A9: Desolvation Gas Flow (L/Hr) | B9: 650 | D9: 8 | E9: TAG(20:4) | F9: Neutral Loss 321.3 | G9: 700 to 1000 | H9: 2 to 10 | I9: 2 | J9: ES+ | K9: 40 | L9: 6
A10: Collision Gas Flow (mL/Min) | B10: 0.14 | D10: 9 | E10: TAG(20:5) | F10: Neutral Loss 319.3 | G10: 700 to 1000 | H10: 2 to 10 | I10: 2 | J10: ES+ | K10: 40 | L10: 6
A11: Nebuliser Gas Flow (Bar) | B11: 7 | D11: 10 | E11: TAG(18:0) | F11: Neutral Loss 301.2 | G11: 700 to 1000 | H11: 2 to 10 | I11: 2 | J11: ES+ | K11: 40 | L11: 6
A12: LM 1 Resolution | B12: 3.2 | D12: 11 | E12: TAG(18:1) | F12: Neutral Loss 299.2 | G12: 700 to 1000 | H12: 2 to 10 | I12: 2 | J12: ES+ | K12: 40 | L12: 6
A13: HM 1 Resolution | B13: 15.5 | D13: 12 | E13: TAG(18:2) | F13: Neutral Loss 297.2 | G13: 700 to 1000 | H13: 2 to 10 | I13: 2 | J13: ES+ | K13: 40 | L13: 6
D14: 13 | E14: TAG(18:3) | F14: Neutral Loss 295.2 | G14: 700 to 1000 | H14: 2 to 10 | I14: 2 | J14: ES+ | K14: 40 | L14: 6
D15: 14 | E15: TAG(17:1) | F15: Neutral Loss 285.2 | G15: 700 to 1000 | H15: 2 to 10 | I15: 2 | J15: ES+ | K15: 40 | L15: 6
D16: 15 | E16: TAG(16:0) | F16: Neutral Loss 273.2 | G16: 700 to 1000 | H16: 2 to 10 | I16: 2 | J16: ES+ | K16: 40 | L16: 6
D17: 16 | E17: TAG(16:1) | F17: Neutral Loss 271.2 | G17: 700 to 1000 | H17: 2 to 10 | I17: 2 | J17: ES+ | K17: 40 | L17: 6
D18: 17 | E18: TAG(14:0) | F18: Neutral Loss 245.2 | G18: 700 to 1000 | H18: 2 to 10 | I18: 2 | J18: ES+ | K18: 40 | L18: 6
D19: 18 | E19: TAG(14:1) | F19: Neutral Loss 243.2 | G19: 700 to 1000 | H19: 2 to 10 | I19: 2 | J19: ES+ | K19: 40 | L19: 6
A24: Acquisition Experiment Report
A27: Header
A32: Task Code:
A33: User Name:
A34: Laboratory Name:
A35: Instrument: XEVO-TQS#WAA627
A36: Conditions:
A37: Submitter:
A38: SampleID:
A39: Bottle Number: 1:1
A40: Description: QC01
A42: Instrument Calibration:
... A78: Data Processing:
A79: SIR / MRM Chromatogram Spike Removal | B79: ON
A80: SIR / MRM Smoothing | C80: OFF
A81: Smoothing window size (scans) | B81: 3
A82: Number of smooths | C82: 2
A85: Prescan Statistics:
A86: Initial Average Intensity | B86: 18.787
A87: Initial Average Std Dev | C87: 1.3228
A88: Bunch Zero Level | C88: 0
A89: Bunch Std Dev | D89: 0
A90: Bunch Threshold | D90: 0
A91: Spike Removal Std Dev | C91: 1.1907
A94: Method Events:
A95: Initial Stop Flow: | B95: No Change
A96: Initial Switch 2: | B96: No Change
A97: Initial Switch 3: | B97: No Change
A98: Initial Switch 4: | B98: No Change
A99: Initial Infusion: | B99: Start
A100: Initial Flow State: | B100: Infusion
A101: Initial Flow Rate: | B101: 200
A102: Initial Reservoir: | B102: A
A103: API Probe Delay Temp: | B103: 20
A104: Initial Refill: | C104: No Action
A105: Timed Events Enabled
A106: Event | B106: Time(Sec) | C106: Name | E106: Action
A107: 1 | B107: 60 | D107: Refill | E107: Refill
A108: 2 | B108: 66 | D108: Flow State | E108: LC
A109: 3 | B109: 615 | D109: Flow State | E109: Waste
A110: 4 | B110: 900 | D110: Flow State | E110: LC
A113: Source Information:
A114: Type - ESI
A115: Status - Option Connector Disconnected
A117: Ion Count Threshold: | B117: 25
A118: Ion Count Threshold (adjusted for gain): | B118: 25
A120: Instrument Parameters - Function 1:
A121: Parameter File - C:\MassLynx\KLRC Samples.PRO\ACQUDB\123016-MRR-newRes-Uncal.IPR
A122: Polarity | B122: ES+
A123: Calibration | B123: Dynamic 2
A124: Capillary (kV) | B124: 2.8 | C124: 2.89
A125: Cone (V) | B125: 40 | C125: 93.29
A126: Source Offset (V) | B126: 30
A127: Source Temperature (°C) | B127: 150 | C127: 150
A128: Desolvation Temperature (°C) | B128: 250 | C128: 250
A129: Cone Gas Flow (L/Hr) | B129: 150 | C129: 146
A130: Desolvation Gas Flow (L/Hr) | B130: 650 | C130: 646
A131: Collision Gas Flow (mL/Min) | B131: 0.14 | C131: 0.13
A132: Nebuliser Gas Flow (Bar) | B132: 7 | C132: 6.97
A133: LM 1 Resolution | B133: 3.2
A134: HM 1 Resolution | B134: 15.5
A135: Ion Energy 1 | B135: 1
A136: MS Mode Collision Energy | B136: 5
A137: MSMS Mode Collision Energy | B137: 30
A138: MS Mode Entrance | B138: 1
A139: MS Mode Exit | B139: 1
A140: Gas On MS Mode Entrance | B140: 1
A141: Gas On MS Mode Exit | B141: 1
A142: Gas On MSMS Mode Entrance | B142: 1
A143: Gas On MSMS Mode Exit | B143: 1
A144: Gas Off MS Mode Entrance | B144: 30
... A156: Multiplier | B156: 498.9
A157: Active Reservoir | B157: A
A159: Instrument Parameters - Function 2:
A160: Parameter File - C:\MassLynx\KLRC Samples.PRO\ACQUDB\123016-MRR-newRes-Uncal.IPR
A161: Polarity | B161: ES+
A162: Calibration | B162: Dynamic 2
A163: Capillary (kV) | B163: 2.8 | C163: 2.89
A164: Cone (V) | B164: 40 | C164: 93.29
A165: Source Offset (V) | B165: 30
A166: Source Temperature (°C) | B166: 150 | C166: 150
...
