Workbook

Sheet SPLASH standards
A1: SPLASH from Xevo | F1: 0.5_ul | H1: 2.0_ul | J1: 10.0_ul
A2: Splash Lipidomix mass spec standard 330707 | B2: nmol in 0.5 ul | C2: nmol in 2 ul | D2: nmol in 10 ul | E2: Average per uL | F2: ave | G2: stdev | H2: ave | I2: stdev | J2: ave | K2: stdev | M2: Detected/Added | O2: Divide by these values:Detected/Added
A3: 18:1(d7) LPE | B3: 0.0051402676 | C3: 0.02056107 | D3: 0.10280535 | E3: 0.010280535 | F3: 0.00582 | G3: 0.00052153619 | H3: 0.02278 | I3: 0.002021633 | J3: 0.10966 | K3: 0.010587398 | L3: 0.011332 | M3: 1.1022772 | O3: 1.1022772 | P3: 18:1(d7) LPE
A4: 15:0-18:1(d7) PE | B4: 0.0035183022 | C4: 0.014073209 | D4: 0.070366044 | E4: 0.0070366044 | F4: 0.00256 | G4: 0.001121606 | H4: 0.01058 | I4: 0.0026499057 | J4: 0.06154 | K4: 0.0035168167 | L4: 0.0055213333 | M4: 0.78465877 | N4: PE low | O4: 0.78465877 | P4: 15:0-18:1(d7) PE
A5: 18:1(d7) LPC | B5: 0.023656191 | C5: 0.094624765 | D5: 0.47312382 | E5: 0.047312382 | F5: 0.02584 | G5: 0.0012798437 | H5: 0.09654 | I5: 0.0033797929 | J5: 0.45516 | K5: 0.018786511 | L5: 0.048488667 | M5: 1.0248621 | O5: 1.0248621 | P5: 18:1(d7) LPC
A6: 18:1(d9) SM | B6: 0.020334745 | C6: 0.081338981 | D6: 0.4066949 | E6: 0.04066949 | F6: 0.02002 | G6: 0.0016099689 | H6: 0.07354 | I6: 0.0021454603 | J6: 0.39852 | K6: 0.010549265 | L6: 0.038887333 | M6: 0.95617951 | O6: 0.95617951 | P6: 18:1(d9) SM
A7: 15:0-18:1(d7) PC | B7: 0.10629578 | C7: 0.42518312 | D7: 2.1259156 | E7: 0.21259156 | F7: 0.13078 | G7: 0.0089015167 | H7: 0.48938 | I7: 0.012257732 | J7: 2.43362 | K7: 0.019173993 | L7: 0.24987067 | M7: 1.1753555 | O7: 1.1753555 | P7: 15:0-18:1(d7) PC
A8: 15:0-18:1(d7) PI | B8: 0.0060271419 | C8: 0.024108568 | D8: 0.12054284 | E8: 0.012054284 | F8: 0.0088 | G8: 0.0076974022 | H8: 0.05718 | I8: 0.016787108 | J8: 0.18086 | K8: 0.052835055 | L8: 0.021425333 | M8: 1.7774041 | N8: PI high | O8: 1.7774041 | P8: 15:0-18:1(d7) PI
A9: 15:0-18:1(d7) PS | B9: 0.00331319 | C9: 0.01325276 | D9: 0.0662638 | E9: 0.00662638 | F9: 0.0016 | G9: 0.00088317609 | H9: 0.00884 | I9: 0.0014380542 | J9: 0.03462 | K9: 0.0028525427 | L9: 0.003694 | M9: 0.55746878 | N9: PS low | O9: 0.55746878 | P9: 15:0-18:1(d7) PS
A10: 15:0-18:1(d7) PA | B10: 0.0052432273 | C10: 0.020972909 | D10: 0.10486455 | E10: 0.010486455 | F10: 0.00446 | G10: 0.0018622567 | H10: 0.01482 | I10: 0.0028349603 | J10: 0.07178 | K10: 0.0045996739 | L10: 0.007836 | M10: 0.74724969 | N10: PA low | O10: 0.74724969 | P10: 15:0-18:1(d7) PA
A11: 18:1(d7) Chol Ester | B11: 0.26609697 | C11: 1.0643879 | D11: 5.3219393 | E11: 0.53219393 | F11: 0.49634 | G11: 0.038633832 | H11: 2.24304 | I11: 0.083743674 | J11: 12.53556 | K11: 0.57537052 | L11: 1.1225853 | M11: 2.1093539 | N11: CE high | O11: 2.1093539 | P11: 18:1(d7) Chol Ester

Sheet All lipids detected 
F2: Collected from mice at 6 Months after fed either RCD or HFD (nmols) | H2: Collected from mice at 12 Months after fed either RCD or HFD (nmols) | J2: Human (nmols)
C3: Mass | D3: Compound Formula | E3: Compou-nd Name | F3: L-Exo 6M (n=10) | G3: H-Exo 6M | H3: L-Exo | I3: H-Exo | J3: Healthy-Exo | K3: T2D-Exo
G4: (n=10) | H4: 12M | I4: 12M | J4: (n=5) | K4: (n=7)
H5: (n=10) | I5: (n=10)
C6: 494.3 | D6: C24H48O7PN | E6: LPC(16:1) | F6: 0.01 | G6: 0 | H6: 0.01 | I6: 0.62 | J6: 0.03 | K6: 0
C7: 496.3 | D7: C24H50O7PN | E7: LPC(16:0) | F7: 0.05 | G7: 0.56 | H7: 0.54 | I7: 56.02 | J7: 7.36 | K7: 0.08
C8: 518.3 | D8: C26H48O7PN | E8: LPC(18:3) | F8: 0.01 | G8: 0.13 | H8: 0 | I8: 10.66 | J8: 0.12 | K8: 0.03
C9: 520.3 | D9: C26H50O7PN | E9: LPC(18:2) | F9: 0.05 | G9: 0.47 | H9: 0 | I9: 106.07 | J9: 2.37 | K9: 0.1
C10: 522.3 | D10: C26H52O7PN | E10: LPC(18:1) | F10: 0.01 | G10: 0.27 | H10: 0.01 | I10: 26.23 | J10: 0.65 | K10: 0.05
C11: 524.4 | D11: C26H54O7PN | E11: LPC(18:0) | F11: 0.06 | G11: 1.6 | H11: 0.2 | I11: 13.68 | J11: 0.89 | K11: 0.06
C12: 542.3 | D12: C28H48O7PN | E12: LPC(20:5) | F12: 0.01 | G12: 0 | H12: 0.01 | I12: 0 | J12: 0.02 | K12: 0
C13: 544.3 | D13: C28H50O7PN | E13: LPC(20:4) | F13: 0 | G13: 0.03 | H13: 0.01 | I13: 0 | J13: 0 | K13: 0.02
C14: 546.3 | D14: C28H52O7PN | E14: LPC(20:3) | F14: 0 | G14: 0 | H14: 0 | I14: 0 | J14: 0 | K14: 0
C15: 548.4 | D15: C28H54O7PN | E15: LPC(20:2) | F15: 0 | G15: 0 | H15: 0 | I15: 0.33 | J15: 0 | K15: 0
C16: 550.4 | D16: C28H56O7PN | E16: LPC(20:1) | F16: 0 | G16: 0.08 | H16: 0 | I16: 2.3 | J16: 0.08 | K16: 0
C17: 552.4 | D17: C28H58O7PN | E17: LPC(20:0) | F17: 0.01 | G17: 0.08 | H17: 0.03 | I17: 3.21 | J17: 0.09 | K17: 0.03
... C19: 570.3 | D19: C30H52O7PN | E19: LPC(22:5) | F19: 0 | G19: 0 | H19: 0.01 | I19: 0.84 | J19: 0 | K19: 0.03
C20: Total LysoPC | E20: Total LysoPC | F20: 0.22 | G20: 3.2 | H20: 0.81 | I20: 221.82 | J20: 0.67 | K20: 0.65
C21: 676.5 | D21: C36H70O8PN | E21: PC(28:1) | F21: 0 | G21: 0 | H21: 0 | I21: 0.26 | J21: 0.09 | K21: 0
C22: 704.5 | D22: C38H74O8PN | E22: PC(30:1) | F22: 0 | G22: 0.02 | H22: 0.09 | I22: 0.32 | J22: 0.02 | K22: 0
C23: 706.5 | D23: C38H76O8PN | E23: PC(30:0) | F23: 0.04 | G23: 0.16 | H23: 0.15 | I23: 1.01 | J23: 0.34 | K23: 0.01
C24: 730.5 | D24: C40H76O8PN | E24: PC(32:2) | F24: 0.01 | G24: 0.08 | H24: 0 | I24: 0.22 | J24: 0 | K24: 0.9
C25: 732.5 | D25: C40H78O8PN | E25: PC(32:1) | F25: 0.03 | G25: 0.16 | H25: 0.1 | I25: 0.65 | J25: 0.1 | K25: 0.03
C26: 734.6 | D26: C40H80O8PN | E26: PC(32:0) | F26: 0.09 | G26: 1.34 | H26: 0.32 | I26: 1.72 | J26: 0.4 | K26: 0.42
C27: 754.5 | D27: C42H76O8PN | E27: PC(34:4) | F27: 0 | G27: 0 | H27: 0 | I27: 0.03 | J27: 0 | K27: 0.41
C28: 756.5 | D28: C42H78O8PN | E28: PC(34:3) | F28: 0 | G28: 0.14 | H28: 0 | I28: 1.14 | J28: 0.06 | K28: 0.5
C29: 758.6 | D29: C42H80O8PN | E29: PC(34:2) | F29: 0.11 | G29: 1.92 | H29: 0 | I29: 21.9 | J29: 0.73 | K29: 7.17
C30: 760.6 | D30: C42H82O8PN | E30: PC(34:1) | F30: 0.12 | G30: 2.26 | H30: 0.1 | I30: 6.39 | J30: 1.28 | K30: 2.17
C31: 762.6 | D31: C42H84O8PN | E31: PC(34:0) | F31: 0.04 | G31: 0.53 | H31: 0.1 | I31: 0.64 | J31: 0.15 | K31: 0.01
C32: 778.5 | D32: C44H76O8PN | E32: PC(36:6) | F32: 0.01 | G32: 0.12 | H32: 0 | I32: 0 | J32: 0 | K32: 0.01
... C73: 898.7 | D73: C52H100O8PN | E73: PC(44:2) | F73: 0 | G73: 0 | H73: 0 | I73: 0 | J73: 0 | K73: 0
C74: Total PC | E74: Total PC | F74: 0.83 | G74: 14.55 | H74: 0.97 | I74: 101.49 | J74: 0.3 | K74: 10.22
C75: 701.5 | D75: C39H77N2O6P | E75: SM(16:1) | F75: 0 | G75: 0 | H75: 0.04 | I75: 0.2 | J75: 0 | K75: 0
C76: 703.6 | D76: C39H79N2O6P | E76: SM(16:0) | F76: 1.17 | G76: 8.87 | H76: 4.14 | I76: 9.48 | J76: 8.38 | K76: 0.34
C77: 705.6 | D77: C39H81N2O6P | E77: DSM(16:0) | F77: 0.39 | G77: 3.08 | H77: 1.22 | I77: 1.55 | J77: 4.51 | K77: 0.25
C78: 729.6 | D78: C41H81N2O6P | E78: SM(18:1) | F78: 0 | G78: 0 | H78: 0 | I78: 0.13 | J78: 0 | K78: 0
C79: 731.6 | D79: C41H83N2O6P | E79: SM(18:0) | F79: 0.03 | G79: 0.44 | H79: 0.08 | I79: 0.55 | J79: 0.62 | K79: 0.06
C80: 733.6 | D80: C41H85N2O6P | E80: DSM(18:0) | F80: 0.02 | G80: 0.25 | H80: 0.07 | I80: 0.41 | J80: 0.39 | K80: 0
C81: 785.6 | D81: C45H89N2O6P | E81: SM(22:1) | F81: 0.05 | G81: 0.35 | H81: 0 | I81: 3.84 | J81: 0 | K81: 0
C82: 787.7 | D82: C45H91N2O6P | E82: SM(22:0) | F82: 0.09 | G82: 0.84 | H82: 0.15 | I82: 5.02 | J82: 1.45 | K82: 0.02
...

Sheet summary
F1: samples left as individuals, no grouping or averaging
A2: Summary | E2: ='signals to nmols'!E2 -> signal per mg dry lipid weight
E3: L-Exo 6M | F3: H-Exo 6M | G3: L-Exo 12M | H3: H-Exo 12M | I3: Healthy-Exo | J3: T2D-Exo
A4: Mass | B4: Compound Formula | C4: Compound Name | D4: alternate I.D. | E4: ='signals to nmols'!E4 -> sample01 | F4: ='signals to nmols'!F4 -> sample02
A5: ='imported summary from web'!A4 -> 494.3 | B5: ='imported summary from web'!B4 -> C24H48O7PN | C5: ='imported summary from web'!C4 -> LPC(16:1) | E5: 0.01 | F5: 0 | G5: 0.01 | H5: 0.62 | I5: 0.03 | J5: 0
A6: ='imported summary from web'!A5 -> 496.3 | B6: ='imported summary from web'!B5 -> C24H50O7PN | C6: ='imported summary from web'!C5 -> LPC(16:0) | E6: 0.05 | F6: 0.56 | G6: 0.54 | H6: 56.02 | I6: 7.36 | J6: 0.08
A7: ='imported summary from web'!A6 -> 518.3 | B7: ='imported summary from web'!B6 -> C26H48O7PN | C7: ='imported summary from web'!C6 -> LPC(18:3) | E7: 0.01 | F7: 0.13 | G7: 0 | H7: 10.66 | I7: 0.12 | J7: 0.03
A8: ='imported summary from web'!A7 -> 520.3 | B8: ='imported summary from web'!B7 -> C26H50O7PN | C8: ='imported summary from web'!C7 -> LPC(18:2) | E8: 0.05 | F8: 0.47 | G8: 0 | H8: 106.07 | I8: 2.37 | J8: 0.1
A9: ='imported summary from web'!A8 -> 522.3 | B9: ='imported summary from web'!B8 -> C26H52O7PN | C9: ='imported summary from web'!C8 -> LPC(18:1) | E9: 0.01 | F9: 0.27 | G9: 0.01 | H9: 26.23 | I9: 0.65 | J9: 0.05
A10: ='imported summary from web'!A9 -> 524.4 | B10: ='imported summary from web'!B9 -> C26H54O7PN | C10: ='imported summary from web'!C9 -> LPC(18:0) | E10: 0.06 | F10: 1.6 | G10: 0.2 | H10: 13.68 | I10: 0.89 | J10: 0.06
A11: ='imported summary from web'!A10 -> 542.3 | B11: ='imported summary from web'!B10 -> C28H48O7PN | C11: ='imported summary from web'!C10 -> LPC(20:5) | E11: 0.01 | F11: 0 | G11: 0.01 | H11: 0 | I11: 0.02 | J11: 0
A12: ='imported summary from web'!A11 -> 544.3 | B12: ='imported summary from web'!B11 -> C28H50O7PN | C12: ='imported summary from web'!C11 -> LPC(20:4) | E12: 0 | F12: 0.03 | G12: 0.01 | H12: 0 | I12: 0 | J12: 0.02
A13: ='imported summary from web'!A12 -> 546.3 | B13: ='imported summary from web'!B12 -> C28H52O7PN | C13: ='imported summary from web'!C12 -> LPC(20:3) | E13: 0 | F13: 0 | G13: 0 | H13: 0 | I13: 0 | J13: 0
A14: ='imported summary from web'!A13 -> 548.4 | B14: ='imported summary from web'!B13 -> C28H54O7PN | C14: ='imported summary from web'!C13 -> LPC(20:2) | E14: 0 | F14: 0 | G14: 0 | H14: 0.33 | I14: 0 | J14: 0
A15: ='imported summary from web'!A14 -> 550.4 | B15: ='imported summary from web'!B14 -> C28H56O7PN | C15: ='imported summary from web'!C14 -> LPC(20:1) | E15: 0 | F15: 0.08 | G15: 0 | H15: 2.3 | I15: 0.08 | J15: 0
A16: ='imported summary from web'!A15 -> 552.4 | B16: ='imported summary from web'!B15 -> C28H58O7PN | C16: ='imported summary from web'!C15 -> LPC(20:0) | E16: 0.01 | F16: 0.08 | G16: 0.03 | H16: 3.21 | I16: 0.09 | J16: 0.03
... A18: ='imported summary from web'!A17 -> 570.3 | B18: ='imported summary from web'!B17 -> C30H52O7PN | C18: ='imported summary from web'!C17 -> LPC(22:5) | E18: 0 | F18: 0 | G18: 0.01 | H18: 0.84 | I18: 0 | J18: 0.03
A19: Total LysoPC | C19: Total LysoPC | E19: 0.22 | F19: 3.2 | G19: 0.81 | H19: 221.82 | I19: 0.67 | J19: 0.65
A20: ='imported summary from web'!A20 -> 676.5 | B20: ='imported summary from web'!B20 -> C36H70O8PN | C20: ='imported summary from web'!C20 -> PC(28:1) | E20: 0 | F20: 0 | G20: 0 | H20: 0.26 | I20: 0.09 | J20: 0
A21: ='imported summary from web'!A23 -> 704.5 | B21: ='imported summary from web'!B23 -> C38H74O8PN | C21: ='imported summary from web'!C23 -> PC(30:1) | E21: 0 | F21: 0.02 | G21: 0.09 | H21: 0.32 | I21: 0.02 | J21: 0
A22: ='imported summary from web'!A25 -> 706.5 | B22: ='imported summary from web'!B25 -> C38H76O8PN | C22: ='imported summary from web'!C25 -> PC(30:0) | E22: 0.04 | F22: 0.16 | G22: 0.15 | H22: 1.01 | I22: 0.34 | J22: 0.01
A23: ='imported summary from web'!A31 -> 730.5 | B23: ='imported summary from web'!B31 -> C40H76O8PN | C23: ='imported summary from web'!C31 -> PC(32:2) | E23: 0.01 | F23: 0.08 | G23: 0 | H23: 0.22 | I23: 0 | J23: 0.9
A24: ='imported summary from web'!A33 -> 732.5 | B24: ='imported summary from web'!B33 -> C40H78O8PN | C24: ='imported summary from web'!C33 -> PC(32:1) | E24: 0.03 | F24: 0.16 | G24: 0.1 | H24: 0.65 | I24: 0.1 | J24: 0.03
A25: ='imported summary from web'!A35 -> 734.6 | B25: ='imported summary from web'!B35 -> C40H80O8PN | C25: ='imported summary from web'!C35 -> PC(32:0) | E25: 0.09 | F25: 1.34 | G25: 0.32 | H25: 1.72 | I25: 0.4 | J25: 0.42
A26: ='imported summary from web'!A41 -> 754.5 | B26: ='imported summary from web'!B41 -> C42H76O8PN | C26: ='imported summary from web'!C41 -> PC(34:4) | E26: 0 | F26: 0 | G26: 0 | H26: 0.03 | I26: 0 | J26: 0.41
A27: ='imported summary from web'!A42 -> 756.5 | B27: ='imported summary from web'!B42 -> C42H78O8PN | C27: ='imported summary from web'!C42 -> PC(34:3) | E27: 0 | F27: 0.14 | G27: 0 | H27: 1.14 | I27: 0.06 | J27: 0.5
A28: ='imported summary from web'!A43 -> 758.6 | B28: ='imported summary from web'!B43 -> C42H80O8PN | C28: ='imported summary from web'!C43 -> PC(34:2) | E28: 0.11 | F28: 1.92 | G28: 0 | H28: 21.9 | I28: 0.73 | J28: 7.17
A29: ='imported summary from web'!A44 -> 760.6 | B29: ='imported summary from web'!B44 -> C42H82O8PN | C29: ='imported summary from web'!C44 -> PC(34:1) | E29: 0.12 | F29: 2.26 | G29: 0.1 | H29: 6.39 | I29: 1.28 | J29: 2.17
A30: ='imported summary from web'!A45 -> 762.6 | B30: ='imported summary from web'!B45 -> C42H84O8PN | C30: ='imported summary from web'!C45 -> PC(34:0) | E30: 0.04 | F30: 0.53 | G30: 0.1 | H30: 0.64 | I30: 0.15 | J30: 0.01
A31: ='imported summary from web'!A52 -> 778.5 | B31: ='imported summary from web'!B52 -> C44H76O8PN | C31: ='imported summary from web'!C52 -> PC(36:6) | E31: 0.01 | F31: 0.12 | G31: 0 | H31: 0 | I31: 0 | J31: 0.01
A32: ='imported summary from web'!A53 -> 780.5 | B32: ='imported summary from web'!B53 -> C44H78O8PN | C32: ='imported summary from web'!C53 -> PC(36:5) | E32: 0.02 | F32: 0.1 | G32: 0 | H32: 5.44 | I32: 0.13 | J32: 0.01
A33: ='imported summary from web'!A54 -> 782.6 | B33: ='imported summary from web'!B54 -> C44H80O8PN | C33: ='imported summary from web'!C54 -> PC(36:4) | E33: 0.06 | F33: 1.6 | G33: 0 | H33: 32.76 | I33: 0.15 | J33: 0.05
A34: ='imported summary from web'!A55 -> 784.6 | B34: ='imported summary from web'!B55 -> C44H82O8PN | C34: ='imported summary from web'!C55 -> PC(36:3) | E34: 0.04 | F34: 0.64 | G34: 0 | H34: 12.92 | I34: 0.41 | J34: 0.08
A35: ='imported summary from web'!A57 -> 786.6 | B35: ='imported summary from web'!B57 -> C44H84O8PN | C35: ='imported summary from web'!C57 -> PC(36:2) | E35: 0.04 | F35: 0.85 | G35: 0 | H35: 7.75 | I35: 0.35 | J35: 0.11
A36: ='imported summary from web'!A59 -> 788.6 | B36: ='imported summary from web'!B59 -> C44H86O8PN | C36: ='imported summary from web'!C59 -> PC(36:1) | E36: 0.04 | F36: 0.76 | G36: 0 | H36: 2.04 | I36: 0.26 | J36: 0.05
A37: ='imported summary from web'!A61 -> 790.6 | B37: ='imported summary from web'!B61 -> C44H88O8PN | C37: ='imported summary from web'!C61 -> PC(36:0) | D37: ePC(38:7) | E37: 0.03 | F37: 0.4 | G37: 0 | H37: 0.52 | I37: 0.15 | J37: 0.01
A38: ='imported summary from web'!A69 -> 806.6 | B38: ='imported summary from web'!B69 -> C46H80O8PN | C38: ='imported summary from web'!C69 -> PC(38:6) | E38: 0.02 | F38: 0.39 | G38: 0.02 | H38: 0.38 | I38: 0.07 | J38: 0.01
A39: ='imported summary from web'!A70 -> 808.6 | B39: ='imported summary from web'!B70 -> C46H82O8PN | C39: ='imported summary from web'!C70 -> PC(38:5) | E39: 0.01 | F39: 0.21 | G39: 0 | H39: 0.26 | I39: 0.05 | J39: 0.02
A40: ='imported summary from web'!A71 -> 810.6 | B40: ='imported summary from web'!B71 -> C46H84O8PN | C40: ='imported summary from web'!C71 -> PC(38:4) | E40: 0.02 | F40: 0.74 | G40: 0 | H40: 0.6 | I40: 0 | J40: 0.01
A41: ='imported summary from web'!A72 -> 812.6 | B41: ='imported summary from web'!B72 -> C46H86O8PN | C41: ='imported summary from web'!C72 -> PC(38:3) | E41: 0.02 | F41: 0.29 | G41: 0 | H41: 0.8 | I41: 0.07 | J41: 0.02
...

Sheet signals to nmols
E2: signal per mg dry lipid weight
A3: phospholipids are nmol, TAG are signal as compared to 1 nmol standard. | E3: L-Exo 6M | F3: H-Exo 6M | G3: L-Exo 12M | H3: H-Exo 12M | I3: Healthy-Exo | J3: T2D-Exo
A4: Mass | B4: Compound Formula | C4: Compound Name | D4: alternate I.D. | E4: sample01 | F4: sample02
A5: ='imported summary from web'!A4 -> 494.3 | B5: ='imported summary from web'!B4 -> C24H48O7PN | C5: ='imported summary from web'!C4 -> LPC(16:1) | E5: 0.01 | F5: 0 | G5: 0.01 | H5: 0.62 | I5: 0.03 | J5: 0
A6: ='imported summary from web'!A5 -> 496.3 | B6: ='imported summary from web'!B5 -> C24H50O7PN | C6: ='imported summary from web'!C5 -> LPC(16:0) | E6: 0.05 | F6: 0.56 | G6: 0.54 | H6: 56.02 | I6: 7.36 | J6: 0.08
A7: ='imported summary from web'!A6 -> 518.3 | B7: ='imported summary from web'!B6 -> C26H48O7PN | C7: ='imported summary from web'!C6 -> LPC(18:3) | E7: 0.01 | F7: 0.13 | G7: 0 | H7: 10.66 | I7: 0.12 | J7: 0.03
A8: ='imported summary from web'!A7 -> 520.3 | B8: ='imported summary from web'!B7 -> C26H50O7PN | C8: ='imported summary from web'!C7 -> LPC(18:2) | E8: 0.05 | F8: 0.47 | G8: 0 | H8: 106.07 | I8: 2.37 | J8: 0.1
A9: ='imported summary from web'!A8 -> 522.3 | B9: ='imported summary from web'!B8 -> C26H52O7PN | C9: ='imported summary from web'!C8 -> LPC(18:1) | E9: 0.01 | F9: 0.27 | G9: 0.01 | H9: 26.23 | I9: 0.65 | J9: 0.05
A10: ='imported summary from web'!A9 -> 524.4 | B10: ='imported summary from web'!B9 -> C26H54O7PN | C10: ='imported summary from web'!C9 -> LPC(18:0) | E10: 0.06 | F10: 1.6 | G10: 0.2 | H10: 13.68 | I10: 0.89 | J10: 0.06
A11: ='imported summary from web'!A10 -> 542.3 | B11: ='imported summary from web'!B10 -> C28H48O7PN | C11: ='imported summary from web'!C10 -> LPC(20:5) | E11: 0.01 | F11: 0 | G11: 0.01 | H11: 0 | I11: 0.02 | J11: 0
A12: ='imported summary from web'!A11 -> 544.3 | B12: ='imported summary from web'!B11 -> C28H50O7PN | C12: ='imported summary from web'!C11 -> LPC(20:4) | E12: 0 | F12: 0.03 | G12: 0.01 | H12: 0 | I12: 0 | J12: 0.02
A13: ='imported summary from web'!A12 -> 546.3 | B13: ='imported summary from web'!B12 -> C28H52O7PN | C13: ='imported summary from web'!C12 -> LPC(20:3) | E13: 0 | F13: 0 | G13: 0 | H13: 0 | I13: 0 | J13: 0
A14: ='imported summary from web'!A13 -> 548.4 | B14: ='imported summary from web'!B13 -> C28H54O7PN | C14: ='imported summary from web'!C13 -> LPC(20:2) | E14: 0 | F14: 0 | G14: 0 | H14: 0.33 | I14: 0 | J14: 0
A15: ='imported summary from web'!A14 -> 550.4 | B15: ='imported summary from web'!B14 -> C28H56O7PN | C15: ='imported summary from web'!C14 -> LPC(20:1) | E15: 0 | F15: 0.08 | G15: 0 | H15: 2.3 | I15: 0.08 | J15: 0
A16: ='imported summary from web'!A15 -> 552.4 | B16: ='imported summary from web'!B15 -> C28H58O7PN | C16: ='imported summary from web'!C15 -> LPC(20:0) | E16: 0.01 | F16: 0.08 | G16: 0.03 | H16: 3.21 | I16: 0.09 | J16: 0.03
... A18: ='imported summary from web'!A17 -> 570.3 | B18: ='imported summary from web'!B17 -> C30H52O7PN | C18: ='imported summary from web'!C17 -> LPC(22:5) | E18: 0 | F18: 0 | G18: 0.01 | H18: 0.84 | I18: 0 | J18: 0.03
A19: Total LysoPC | C19: Total LysoPC | E19: 0.22 | F19: 3.2 | G19: 0.81 | H19: 221.82 | I19: 0.67 | J19: 0.65
A20: ='imported summary from web'!A20 -> 676.5 | B20: ='imported summary from web'!B20 -> C36H70O8PN | C20: ='imported summary from web'!C20 -> PC(28:1) | E20: 0 | F20: 0 | G20: 0 | H20: 0.26 | I20: 0.09 | J20: 0
A21: ='imported summary from web'!A23 -> 704.5 | B21: ='imported summary from web'!B23 -> C38H74O8PN | C21: ='imported summary from web'!C23 -> PC(30:1) | E21: 0 | F21: 0.02 | G21: 0.09 | H21: 0.32 | I21: 0.02 | J21: 0
A22: ='imported summary from web'!A25 -> 706.5 | B22: ='imported summary from web'!B25 -> C38H76O8PN | C22: ='imported summary from web'!C25 -> PC(30:0) | E22: 0.04 | F22: 0.16 | G22: 0.15 | H22: 1.01 | I22: 0.34 | J22: 0.01
A23: ='imported summary from web'!A31 -> 730.5 | B23: ='imported summary from web'!B31 -> C40H76O8PN | C23: ='imported summary from web'!C31 -> PC(32:2) | E23: 0.01 | F23: 0.08 | G23: 0 | H23: 0.22 | I23: 0 | J23: 0.9
A24: ='imported summary from web'!A33 -> 732.5 | B24: ='imported summary from web'!B33 -> C40H78O8PN | C24: ='imported summary from web'!C33 -> PC(32:1) | E24: 0.03 | F24: 0.16 | G24: 0.1 | H24: 0.65 | I24: 0.1 | J24: 0.03
A25: ='imported summary from web'!A35 -> 734.6 | B25: ='imported summary from web'!B35 -> C40H80O8PN | C25: ='imported summary from web'!C35 -> PC(32:0) | E25: 0.09 | F25: 1.34 | G25: 0.32 | H25: 1.72 | I25: 0.4 | J25: 0.42
A26: ='imported summary from web'!A41 -> 754.5 | B26: ='imported summary from web'!B41 -> C42H76O8PN | C26: ='imported summary from web'!C41 -> PC(34:4) | E26: 0 | F26: 0 | G26: 0 | H26: 0.03 | I26: 0 | J26: 0.41
A27: ='imported summary from web'!A42 -> 756.5 | B27: ='imported summary from web'!B42 -> C42H78O8PN | C27: ='imported summary from web'!C42 -> PC(34:3) | E27: 0 | F27: 0.14 | G27: 0 | H27: 1.14 | I27: 0.06 | J27: 0.5
A28: ='imported summary from web'!A43 -> 758.6 | B28: ='imported summary from web'!B43 -> C42H80O8PN | C28: ='imported summary from web'!C43 -> PC(34:2) | E28: 0.11 | F28: 1.92 | G28: 0 | H28: 21.9 | I28: 0.73 | J28: 7.17
A29: ='imported summary from web'!A44 -> 760.6 | B29: ='imported summary from web'!B44 -> C42H82O8PN | C29: ='imported summary from web'!C44 -> PC(34:1) | E29: 0.12 | F29: 2.26 | G29: 0.1 | H29: 6.39 | I29: 1.28 | J29: 2.17
A30: ='imported summary from web'!A45 -> 762.6 | B30: ='imported summary from web'!B45 -> C42H84O8PN | C30: ='imported summary from web'!C45 -> PC(34:0) | E30: 0.04 | F30: 0.53 | G30: 0.1 | H30: 0.64 | I30: 0.15 | J30: 0.01
A31: ='imported summary from web'!A52 -> 778.5 | B31: ='imported summary from web'!B52 -> C44H76O8PN | C31: ='imported summary from web'!C52 -> PC(36:6) | E31: 0.01 | F31: 0.12 | G31: 0 | H31: 0 | I31: 0 | J31: 0.01
A32: ='imported summary from web'!A53 -> 780.5 | B32: ='imported summary from web'!B53 -> C44H78O8PN | C32: ='imported summary from web'!C53 -> PC(36:5) | E32: 0.02 | F32: 0.1 | G32: 0 | H32: 5.44 | I32: 0.13 | J32: 0.01
A33: ='imported summary from web'!A54 -> 782.6 | B33: ='imported summary from web'!B54 -> C44H80O8PN | C33: ='imported summary from web'!C54 -> PC(36:4) | E33: 0.06 | F33: 1.6 | G33: 0 | H33: 32.76 | I33: 0.15 | J33: 0.05
A34: ='imported summary from web'!A55 -> 784.6 | B34: ='imported summary from web'!B55 -> C44H82O8PN | C34: ='imported summary from web'!C55 -> PC(36:3) | E34: 0.04 | F34: 0.64 | G34: 0 | H34: 12.92 | I34: 0.41 | J34: 0.08
A35: ='imported summary from web'!A57 -> 786.6 | B35: ='imported summary from web'!B57 -> C44H84O8PN | C35: ='imported summary from web'!C57 -> PC(36:2) | E35: 0.04 | F35: 0.85 | G35: 0 | H35: 7.75 | I35: 0.35 | J35: 0.11
A36: ='imported summary from web'!A59 -> 788.6 | B36: ='imported summary from web'!B59 -> C44H86O8PN | C36: ='imported summary from web'!C59 -> PC(36:1) | E36: 0.04 | F36: 0.76 | G36: 0 | H36: 2.04 | I36: 0.26 | J36: 0.05
A37: ='imported summary from web'!A61 -> 790.6 | B37: ='imported summary from web'!B61 -> C44H88O8PN | C37: ='imported summary from web'!C61 -> PC(36:0) | D37: ePC(38:7) | E37: 0.03 | F37: 0.4 | G37: 0 | H37: 0.52 | I37: 0.15 | J37: 0.01
A38: ='imported summary from web'!A69 -> 806.6 | B38: ='imported summary from web'!B69 -> C46H80O8PN | C38: ='imported summary from web'!C69 -> PC(38:6) | E38: 0.02 | F38: 0.39 | G38: 0.02 | H38: 0.38 | I38: 0.07 | J38: 0.01
A39: ='imported summary from web'!A70 -> 808.6 | B39: ='imported summary from web'!B70 -> C46H82O8PN | C39: ='imported summary from web'!C70 -> PC(38:5) | E39: 0.01 | F39: 0.21 | G39: 0 | H39: 0.26 | I39: 0.05 | J39: 0.02
A40: ='imported summary from web'!A71 -> 810.6 | B40: ='imported summary from web'!B71 -> C46H84O8PN | C40: ='imported summary from web'!C71 -> PC(38:4) | E40: 0.02 | F40: 0.74 | G40: 0 | H40: 0.6 | I40: 0 | J40: 0.01
A41: ='imported summary from web'!A72 -> 812.6 | B41: ='imported summary from web'!B72 -> C46H86O8PN | C41: ='imported summary from web'!C72 -> PC(38:3) | E41: 0.02 | F41: 0.29 | G41: 0 | H41: 0.8 | I41: 0.07 | J41: 0.02
A42: ='imported summary from web'!A74 -> 814.6 | B42: ='imported summary from web'!B74 -> C46H88O8PN | C42: ='imported summary from web'!C74 -> PC(38:2) | E42: 0.01 | F42: 0.13 | G42: 0 | H42: 0.83 | I42: 0.07 | J42: 0
...

Sheet formula table
E1: Formula
A2: 822.75247 | B2: C51H100O6N | C2: 48:1 | D2: 14:0/16:0/18:1 | E2: 3 x NL14:0(48:1)*
A3: 822.75247 | B3: C51H100O6N | C3: 48:1 | D3: 16:0/16:0/16:1 | E3: 3/2 x NL16:0(48:1)
A4: 824.76807 | B4: C51H102O6N | C4: 48:0 | D4: 16:0/16:0/16:0 | E4: NL16:0(48:0)
A5: 846.75247 | B5: C53H100O6N | C5: 50:3 | D5: 16:1/16:1/18:1 | E5: 3/2 x (NL 16:1(50:3) - NL 18:2(50:3))
A6: 846.75247 | B6: C53H100O6N | C6: 50:3 | D6: 18:2/16:0/16:1 | E6: 3 x NL18:2(50:3)
A7: 848.76807 | B7: C53H102O6N | C7: 50:2 | D7: 18:1/16:0/16:1 | E7: 3 x NL18:1(50:2)
A8: 848.76807 | B8: C53H102O6N | C8: 50:2 | D8: 18:2/16:0/16:0 | E8: 3 x NL18:2(50:2)
A9: 850.78367 | B9: C53H104O6N | C9: 50:1 | D9: 18:1/16:0/16:0 | E9: 3 x NL18:1(50:1)
A10: 852.79927 | B10: C53H106O6N | C10: 50:0 | D10: 18:0/16:0/16:0 | E10: 3 x NL18:0(50:0)
A11: 868.7 | B11: C55H98O6N | C11: 52:6 | D11: 20:5/16:0/16:1 | E11: 3 x NL 20:5(52:6)
A12: 870.8 | B12: C55H100O6N | C12: 52:5 | D12: 20:5/16:0/16:0 | E12: 3 x NL 20:5(52:5)
A13: 872.76807 | B13: C55H102O6N | C13: 52:4 | D13: 16:0/18:2/18:2 (or 16:0/18:1/18:3) | E13: 3 x (NL 16:0(52:4) - NL 20:4(52:4))
... A45: 930.84607 | B45: C59H112O6N | C45: 56:3 | D45: 18:1/18:0/20:2 or 18:1/16:0/22:2 or 18:1/18:1/20:1 | E45: 3 x NL18:1(56:3)
A47: *In formulas, NL AB:c(XY:z) refers to the signal (after isotopic deconvolution and normalization to internal standard) in the neutral loss scan for the fatty acid AB:c at the m/z for the TAG with total acyl carbons XY:z. No correction is made for response factor variation among TAG molecular species. TAG species whose quantities are based on measurement of one of the three fatty acids are multiplied times 3 and those based on 2 are multiplied times 3/2. Those that are based on measurement of all three fatty acids are not multiplied because they are similar to the internal standard which is also detected based on three fatty acids (i.e. all NL fragmentations of a fatty acid from Tri 17:1 produce 17:1).

Sheet background subtracted
F2: set up this formula for the subtraction of contaminants: | H2: =IF(H5-$F5>0,H5-$F5,0) -> 0 | K2: corrected for internal standard contaminants
F3: ='imported summary from web'!#REF! -> #REF! | H3: ='imported summary from web'!#REF! -> #REF!
A4: Mass | B4: Compound Formula | C4: Compound Name | D4: alternate I.D. | E4: ='imported summary from web'!J3 -> IS02 | F4: ='imported summary from web'!D3 -> IS01 | G4: ave stds | H4: L-Exo | I4: H-Exo | K4: L-Exo | L4: H-Exo
A5: ='imported summary from web'!A4 -> 494.3 | B5: ='imported summary from web'!B4 -> C24H48O7PN | C5: ='imported summary from web'!C4 -> LPC(16:1) | E5: ='imported summary from web'!J4 -> 0.00013660375 | F5: ='imported summary from web'!D4 -> 0.00023417785 | G5: =(F5+E5)/2 -> 0.0001853908 | H5: ='imported summary from web'!E4 -> 0.00023417785 | I5: ='imported summary from web'!F4 -> 0.005776387 | K5: =IF(H5-$G5>0,H5-$G5,0)*2.5 -> 0.00012196763 | L5: =IF(I5-$G5>0,I5-$G5,0)*2.5 -> 0.01397749
A6: ='imported summary from web'!A5 -> 496.3 | B6: ='imported summary from web'!B5 -> C24H50O7PN | C6: ='imported summary from web'!C5 -> LPC(16:0) | E6: ='imported summary from web'!J5 -> 0.0018148783 | F6: ='imported summary from web'!D5 -> 0.0065179502 | G6: =(F6+E6)/2 -> 0.0041664143 | H6: ='imported summary from web'!E5 -> 0.0090158473 | I6: ='imported summary from web'!F5 -> 0.5106248 | K6: =IF(H6-$G6>0,H6-$G6,0)*2.5 -> 0.012123582 | L6: =IF(I6-$G6>0,I6-$G6,0)*2.5 -> 1.266146
A7: ='imported summary from web'!A6 -> 518.3 | B7: ='imported summary from web'!B6 -> C26H48O7PN | C7: ='imported summary from web'!C6 -> LPC(18:3) | E7: ='imported summary from web'!J6 -> 0.00017563339 | F7: ='imported summary from web'!D6 -> 0.00042932606 | G7: =(F7+E7)/2 -> 0.00030247972 | H7: ='imported summary from web'!E6 -> 0.00013660375 | I7: ='imported summary from web'!F6 -> 0.096656908 | K7: =IF(H7-$G7>0,H7-$G7,0)*2.5 -> 0 | L7: =IF(I7-$G7>0,I7-$G7,0)*2.5 -> 0.24088607
A8: ='imported summary from web'!A7 -> 520.3 | B8: ='imported summary from web'!B7 -> C26H50O7PN | C8: ='imported summary from web'!C7 -> LPC(18:2) | E8: ='imported summary from web'!J7 -> 0.00031223713 | F8: ='imported summary from web'!D7 -> 0.00042932606 | G8: =(F8+E8)/2 -> 0.0003707816 | H8: ='imported summary from web'!E7 -> 0.00040981124 | I8: ='imported summary from web'!F7 -> 0.95921199 | K8: =IF(H8-$G8>0,H8-$G8,0)*2.5 -> 9.7574104e-05 | L8: =IF(I8-$G8>0,I8-$G8,0)*2.5 -> 2.397103
A9: ='imported summary from web'!A8 -> 522.3 | B9: ='imported summary from web'!B8 -> C26H52O7PN | C9: ='imported summary from web'!C8 -> LPC(18:1) | E9: ='imported summary from web'!J8 -> 3.9029642e-05 | F9: ='imported summary from web'!D8 -> 0.00013660375 | G9: =(F9+E9)/2 -> 8.7816694e-05 | H9: ='imported summary from web'!E8 -> 0.00021466303 | I9: ='imported summary from web'!F8 -> 0.23716362 | K9: =IF(H9-$G9>0,H9-$G9,0)*2.5 -> 0.00031711584 | L9: =IF(I9-$G9>0,I9-$G9,0)*2.5 -> 0.5926895
A10: ='imported summary from web'!A9 -> 524.4 | B10: ='imported summary from web'!B9 -> C26H54O7PN | C10: ='imported summary from web'!C9 -> LPC(18:0) | E10: ='imported summary from web'!J9 -> 0.00015611857 | F10: ='imported summary from web'!D9 -> 0.00027320749 | G10: =(F10+E10)/2 -> 0.00021466303 | H10: ='imported summary from web'!E9 -> 0.0019905117 | I10: ='imported summary from web'!F9 -> 0.1238996 | K10: =IF(H10-$G10>0,H10-$G10,0)*2.5 -> 0.0044396218 | L10: =IF(I10-$G10>0,I10-$G10,0)*2.5 -> 0.30921234
A11: ='imported summary from web'!A10 -> 542.3 | B11: ='imported summary from web'!B10 -> C28H48O7PN | C11: ='imported summary from web'!C10 -> LPC(20:5) | E11: ='imported summary from web'!J10 -> 9.7574104e-05 | F11: ='imported summary from web'!D10 -> 0 | G11: =(F11+E11)/2 -> 4.8787052e-05 | H11: ='imported summary from web'!E10 -> 0.00013660375 | I11: ='imported summary from web'!F10 -> 0 | K11: =IF(H11-$G11>0,H11-$G11,0)*2.5 -> 0.00021954174 | L11: =IF(I11-$G11>0,I11-$G11,0)*2.5 -> 0
A12: ='imported summary from web'!A11 -> 544.3 | B12: ='imported summary from web'!B11 -> C28H50O7PN | C12: ='imported summary from web'!C11 -> LPC(20:4) | E12: ='imported summary from web'!J11 -> 0 | F12: ='imported summary from web'!D11 -> 0 | G12: =(F12+E12)/2 -> 0 | H12: ='imported summary from web'!E11 -> 7.8059284e-05 | I12: ='imported summary from web'!F11 -> 0 | K12: =IF(H12-$G12>0,H12-$G12,0)*2.5 -> 0.00019514821 | L12: =IF(I12-$G12>0,I12-$G12,0)*2.5 -> 0
A13: ='imported summary from web'!A12 -> 546.3 | B13: ='imported summary from web'!B12 -> C28H52O7PN | C13: ='imported summary from web'!C12 -> LPC(20:3) | E13: ='imported summary from web'!J12 -> 3.9029642e-05 | F13: ='imported summary from web'!D12 -> 0 | G13: =(F13+E13)/2 -> 1.9514821e-05 | H13: ='imported summary from web'!E12 -> 0 | I13: ='imported summary from web'!F12 -> 0 | K13: =IF(H13-$G13>0,H13-$G13,0)*2.5 -> 0 | L13: =IF(I13-$G13>0,I13-$G13,0)*2.5 -> 0
A14: ='imported summary from web'!A13 -> 548.4 | B14: ='imported summary from web'!B13 -> C28H54O7PN | C14: ='imported summary from web'!C13 -> LPC(20:2) | E14: ='imported summary from web'!J13 -> 0 | F14: ='imported summary from web'!D13 -> 7.8059284e-05 | G14: =(F14+E14)/2 -> 3.9029642e-05 | H14: ='imported summary from web'!E13 -> 3.9029642e-05 | I14: ='imported summary from web'!F13 -> 0.0029857676 | K14: =IF(H14-$G14>0,H14-$G14,0)*2.5 -> 0 | L14: =IF(I14-$G14>0,I14-$G14,0)*2.5 -> 0.0073668449
A15: ='imported summary from web'!A14 -> 550.4 | B15: ='imported summary from web'!B14 -> C28H56O7PN | C15: ='imported summary from web'!C14 -> LPC(20:1) | E15: ='imported summary from web'!J14 -> 7.8059284e-05 | F15: ='imported summary from web'!D14 -> 0 | G15: =(F15+E15)/2 -> 3.9029642e-05 | H15: ='imported summary from web'!E14 -> 5.8544463e-05 | I15: ='imported summary from web'!F14 -> 0.020841829 | K15: =IF(H15-$G15>0,H15-$G15,0)*2.5 -> 4.8787052e-05 | L15: =IF(I15-$G15>0,I15-$G15,0)*2.5 -> 0.052006998
A16: ='imported summary from web'!A15 -> 552.4 | B16: ='imported summary from web'!B15 -> C28H58O7PN | C16: ='imported summary from web'!C15 -> LPC(20:0) | E16: ='imported summary from web'!J15 -> 0.00013660375 | F16: ='imported summary from web'!D15 -> 0.00025369267 | G16: =(F16+E16)/2 -> 0.00019514821 | H16: ='imported summary from web'!E15 -> 0.00042932606 | I16: ='imported summary from web'!F15 -> 0.029252717 | K16: =IF(H16-$G16>0,H16-$G16,0)*2.5 -> 0.00058544463 | L16: =IF(I16-$G16>0,I16-$G16,0)*2.5 -> 0.072643921
... A18: ='imported summary from web'!A17 -> 570.3 | B18: ='imported summary from web'!B17 -> C30H52O7PN | C18: ='imported summary from web'!C17 -> LPC(22:5) | E18: ='imported summary from web'!J17 -> 5.8544463e-05 | F18: ='imported summary from web'!D17 -> 0.00040981124 | G18: =(F18+E18)/2 -> 0.00023417785 | H18: ='imported summary from web'!E17 -> 0.00031223713 | I18: ='imported summary from web'!F17 -> 0.0078254432 | K18: =IF(H18-$G18>0,H18-$G18,0)*2.5 -> 0.00019514821 | L18: =IF(I18-$G18>0,I18-$G18,0)*2.5 -> 0.018978163
A19: Total LysoPC | C19: Total LysoPC | E19: =E5+E6+E7+E8+E9+E10+E11+E12+E13+E14+E15+E16+E17+E18 -> 0.0030833417 | F19: =F5+F6+F7+F8+F9+F10+F11+F12+F13+F14+F15+F16+F17+F18 -> 0.0092695399 | G19: =(F19+E19)/2 -> 0.0061764408 | H19: =H5+H6+H7+H8+H9+H10+H11+H12+H13+H14+H15+H16+H17+H18 -> 0.013270078 | I19: =I5+I6+I7+I8+I9+I10+I11+I12+I13+I14+I15+I16+I17+I18 -> 2.011334 | K19: =SUM(K5:K18) -> 0.018343932 | L19: =SUM(L5:L18) -> 5.0130648
A20: ='imported summary from web'!A20 -> 676.5 | B20: ='imported summary from web'!B20 -> C36H70O8PN | C20: ='imported summary from web'!C20 -> PC(28:1) | E20: ='imported summary from web'!J20 -> 6.8064511e-05 | F20: ='imported summary from web'!D20 -> 0.00051048383 | G20: =(F20+E20)/2 -> 0.00028927417 | H20: ='imported summary from web'!E20 -> 0.00010209677 | I20: ='imported summary from web'!F20 -> 0.0026545159 | K20: =IF(H20-$G20>0,H20-$G20,0)*2.5 -> 0 | L20: =IF(I20-$G20>0,I20-$G20,0)*2.5 -> 0.0059131044
A21: ='imported summary from web'!A23 -> 704.5 | B21: ='imported summary from web'!B23 -> C38H74O8PN | C21: ='imported summary from web'!C23 -> PC(30:1) | E21: ='imported summary from web'!J23 -> 0.00010209677 | F21: ='imported summary from web'!D23 -> 0.00028927417 | G21: =(F21+E21)/2 -> 0.00019568547 | H21: ='imported summary from web'!E23 -> 0.0010039515 | I21: ='imported summary from web'!F23 -> 0.0030799191 | K21: =IF(H21-$G21>0,H21-$G21,0)*2.5 -> 0.0020206652 | L21: =IF(I21-$G21>0,I21-$G21,0)*2.5 -> 0.0072105841
A22: ='imported summary from web'!A25 -> 706.5 | B22: ='imported summary from web'!B25 -> C38H76O8PN | C22: ='imported summary from web'!C25 -> PC(30:0) | E22: ='imported summary from web'!J25 -> 8.5080639e-05 | F22: ='imported summary from web'!D25 -> 0.00037435481 | G22: =(F22+E22)/2 -> 0.00022971772 | H22: ='imported summary from web'!E25 -> 0.001599516 | I22: ='imported summary from web'!F25 -> 0.0093929025 | K22: =IF(H22-$G22>0,H22-$G22,0)*2.5 -> 0.0034244957 | L22: =IF(I22-$G22>0,I22-$G22,0)*2.5 -> 0.022907962
A23: ='imported summary from web'!A31 -> 730.5 | B23: ='imported summary from web'!B31 -> C40H76O8PN | C23: ='imported summary from web'!C31 -> PC(32:2) | E23: ='imported summary from web'!J31 -> 0 | F23: ='imported summary from web'!D31 -> 0.00028927417 | G23: =(F23+E23)/2 -> 0.00014463709 | H23: ='imported summary from web'!E31 -> 0.00013612902 | I23: ='imported summary from web'!F31 -> 0.002127016 | K23: =IF(H23-$G23>0,H23-$G23,0)*2.5 -> 0 | L23: =IF(I23-$G23>0,I23-$G23,0)*2.5 -> 0.0049559472
A24: ='imported summary from web'!A33 -> 732.5 | B24: ='imported summary from web'!B33 -> C40H78O8PN | C24: ='imported summary from web'!C33 -> PC(32:1) | E24: ='imported summary from web'!J33 -> 0.00017016128 | F24: ='imported summary from web'!D33 -> 0.00039137094 | G24: =(F24+E24)/2 -> 0.00028076611 | H24: ='imported summary from web'!E33 -> 0.0011570967 | I24: ='imported summary from web'!F33 -> 0.0061938705 | K24: =IF(H24-$G24>0,H24-$G24,0)*2.5 -> 0.0021908264 | L24: =IF(I24-$G24>0,I24-$G24,0)*2.5 -> 0.014782761
A25: ='imported summary from web'!A35 -> 734.6 | B25: ='imported summary from web'!B35 -> C40H80O8PN | C25: ='imported summary from web'!C35 -> PC(32:0) | E25: ='imported summary from web'!J35 -> 0.00035733868 | F25: ='imported summary from web'!D35 -> 0.00040838707 | G25: =(F25+E25)/2 -> 0.00038286287 | H25: ='imported summary from web'!E35 -> 0.0033181449 | I25: ='imported summary from web'!F35 -> 0.015927096 | K25: =IF(H25-$G25>0,H25-$G25,0)*2.5 -> 0.0073382051 | L25: =IF(I25-$G25>0,I25-$G25,0)*2.5 -> 0.038860582
A26: ='imported summary from web'!A41 -> 754.5 | B26: ='imported summary from web'!B41 -> C42H76O8PN | C26: ='imported summary from web'!C41 -> PC(34:4) | E26: ='imported summary from web'!J41 -> 0.0001871774 | F26: ='imported summary from web'!D41 -> 0.0010549999 | G26: =(F26+E26)/2 -> 0.00062108866 | H26: ='imported summary from web'!E41 -> 0.00010209677 | I26: ='imported summary from web'!F41 -> 0.00093588702 | K26: =IF(H26-$G26>0,H26-$G26,0)*2.5 -> 0 | L26: =IF(I26-$G26>0,I26-$G26,0)*2.5 -> 0.00078699591
A27: ='imported summary from web'!A42 -> 756.5 | B27: ='imported summary from web'!B42 -> C42H78O8PN | C27: ='imported summary from web'!C42 -> PC(34:3) | E27: ='imported summary from web'!J42 -> 0.0052920157 | F27: ='imported summary from web'!D42 -> 0.026034675 | G27: =(F27+E27)/2 -> 0.015663346 | H27: ='imported summary from web'!E42 -> 0.0011060483 | I27: ='imported summary from web'!F42 -> 0.025932579 | K27: =IF(H27-$G27>0,H27-$G27,0)*2.5 -> 0 | L27: =IF(I27-$G27>0,I27-$G27,0)*2.5 -> 0.025673083
A28: ='imported summary from web'!A43 -> 758.6 | B28: ='imported summary from web'!B43 -> C42H80O8PN | C28: ='imported summary from web'!C43 -> PC(34:2) | E28: ='imported summary from web'!J43 -> 0.0052749996 | F28: ='imported summary from web'!D43 -> 0.024554272 | G28: =(F28+E28)/2 -> 0.014914636 | H28: ='imported summary from web'!E43 -> 0.0036584675 | I28: ='imported summary from web'!F43 -> 0.21292281 | K28: =IF(H28-$G28>0,H28-$G28,0)*2.5 -> 0 | L28: =IF(I28-$G28>0,I28-$G28,0)*2.5 -> 0.49502043
A29: ='imported summary from web'!A44 -> 760.6 | B29: ='imported summary from web'!B44 -> C42H82O8PN | C29: ='imported summary from web'!C44 -> PC(34:1) | E29: ='imported summary from web'!J44 -> 0.0011230644 | F29: ='imported summary from web'!D44 -> 0.0052069351 | G29: =(F29+E29)/2 -> 0.0031649998 | H29: ='imported summary from web'!E44 -> 0.0040838707 | I29: ='imported summary from web'!F44 -> 0.060934753 | K29: =IF(H29-$G29>0,H29-$G29,0)*2.5 -> 0.0022971772 | L29: =IF(I29-$G29>0,I29-$G29,0)*2.5 -> 0.14442438
A30: ='imported summary from web'!A45 -> 762.6 | B30: ='imported summary from web'!B45 -> C42H84O8PN | C30: ='imported summary from web'!C45 -> PC(34:0) | E30: ='imported summary from web'!J45 -> 6.8064511e-05 | F30: ='imported summary from web'!D45 -> 0 | G30: =(F30+E30)/2 -> 3.4032255e-05 | H30: ='imported summary from web'!E45 -> 0.00090185477 | I30: ='imported summary from web'!F45 -> 0.0058535479 | K30: =IF(H30-$G30>0,H30-$G30,0)*2.5 -> 0.0021695563 | L30: =IF(I30-$G30>0,I30-$G30,0)*2.5 -> 0.014548789
A31: ='imported summary from web'!A52 -> 778.5 | B31: ='imported summary from web'!B52 -> C44H76O8PN | C31: ='imported summary from web'!C52 -> PC(36:6) | E31: ='imported summary from web'!J52 -> 0.0024843546 | F31: ='imported summary from web'!D52 -> 0.011264677 | G31: =(F31+E31)/2 -> 0.0068745156 | H31: ='imported summary from web'!E52 -> 0.0006125806 | I31: ='imported summary from web'!F52 -> 0.0049687093 | K31: =IF(H31-$G31>0,H31-$G31,0)*2.5 -> 0 | L31: =IF(I31-$G31>0,I31-$G31,0)*2.5 -> 0
A32: ='imported summary from web'!A53 -> 780.5 | B32: ='imported summary from web'!B53 -> C44H78O8PN | C32: ='imported summary from web'!C53 -> PC(36:5) | E32: ='imported summary from web'!J53 -> 0.0051388706 | F32: ='imported summary from web'!D53 -> 0.023090885 | G32: =(F32+E32)/2 -> 0.014114878 | H32: ='imported summary from web'!E53 -> 0.0014463709 | I32: ='imported summary from web'!F53 -> 0.063299995 | K32: =IF(H32-$G32>0,H32-$G32,0)*2.5 -> 0 | L32: =IF(I32-$G32>0,I32-$G32,0)*2.5 -> 0.12296279
A33: ='imported summary from web'!A54 -> 782.6 | B33: ='imported summary from web'!B54 -> C44H80O8PN | C33: ='imported summary from web'!C54 -> PC(36:4) | E33: ='imported summary from web'!J54 -> 0.0042540319 | F33: ='imported summary from web'!D54 -> 0.018479515 | G33: =(F33+E33)/2 -> 0.011366773 | H33: ='imported summary from web'!E54 -> 0.0020929837 | I33: ='imported summary from web'!F54 -> 0.30753248 | K33: =IF(H33-$G33>0,H33-$G33,0)*2.5 -> 0 | L33: =IF(I33-$G33>0,I33-$G33,0)*2.5 -> 0.74041426
A34: ='imported summary from web'!A55 -> 784.6 | B34: ='imported summary from web'!B55 -> C44H82O8PN | C34: ='imported summary from web'!C55 -> PC(36:3) | E34: ='imported summary from web'!J55 -> 0.0019058063 | F34: ='imported summary from web'!D55 -> 0.0088994348 | G34: =(F34+E34)/2 -> 0.0054026206 | H34: ='imported summary from web'!E55 -> 0.0015314515 | I34: ='imported summary from web'!F55 -> 0.12220983 | K34: =IF(H34-$G34>0,H34-$G34,0)*2.5 -> 0 | L34: =IF(I34-$G34>0,I34-$G34,0)*2.5 -> 0.29201802
A35: ='imported summary from web'!A57 -> 786.6 | B35: ='imported summary from web'!B57 -> C44H84O8PN | C35: ='imported summary from web'!C57 -> PC(36:2) | E35: ='imported summary from web'!J57 -> 0.0009188709 | F35: ='imported summary from web'!D57 -> 0.0042540319 | G35: =(F35+E35)/2 -> 0.0025864514 | H35: ='imported summary from web'!E57 -> 0.0016165321 | I35: ='imported summary from web'!F57 -> 0.072624833 | K35: =IF(H35-$G35>0,H35-$G35,0)*2.5 -> 0 | L35: =IF(I35-$G35>0,I35-$G35,0)*2.5 -> 0.17509595
A36: ='imported summary from web'!A59 -> 788.6 | B36: ='imported summary from web'!B59 -> C44H86O8PN | C36: ='imported summary from web'!C59 -> PC(36:1) | E36: ='imported summary from web'!J59 -> 0.0004934677 | F36: ='imported summary from web'!D59 -> 0.0024333063 | G36: =(F36+E36)/2 -> 0.001463387 | H36: ='imported summary from web'!E59 -> 0.0013442741 | I36: ='imported summary from web'!F59 -> 0.019942902 | K36: =IF(H36-$G36>0,H36-$G36,0)*2.5 -> 0 | L36: =IF(I36-$G36>0,I36-$G36,0)*2.5 -> 0.046198787
A37: ='imported summary from web'!A61 -> 790.6 | B37: ='imported summary from web'!B61 -> C44H88O8PN | C37: ='imported summary from web'!C61 -> PC(36:0) | D37: ePC(38:7) | E37: ='imported summary from web'!J61 -> 0.00040838707 | F37: ='imported summary from web'!D61 -> 0.0021950805 | G37: =(F37+E37)/2 -> 0.0013017338 | H37: ='imported summary from web'!E61 -> 0.00093588702 | I37: ='imported summary from web'!F61 -> 0.005989677 | K37: =IF(H37-$G37>0,H37-$G37,0)*2.5 -> 0 | L37: =IF(I37-$G37>0,I37-$G37,0)*2.5 -> 0.011719858
A38: ='imported summary from web'!A69 -> 806.6 | B38: ='imported summary from web'!B69 -> C46H80O8PN | C38: ='imported summary from web'!C69 -> PC(38:6) | E38: ='imported summary from web'!J69 -> 3.4032255e-05 | F38: ='imported summary from web'!D69 -> 0.00083379026 | G38: =(F38+E38)/2 -> 0.00043391126 | H38: ='imported summary from web'!E69 -> 0.00062959673 | I38: ='imported summary from web'!F69 -> 0.0038286287 | K38: =IF(H38-$G38>0,H38-$G38,0)*2.5 -> 0.00048921367 | L38: =IF(I38-$G38>0,I38-$G38,0)*2.5 -> 0.0084867937
A39: ='imported summary from web'!A70 -> 808.6 | B39: ='imported summary from web'!B70 -> C46H82O8PN | C39: ='imported summary from web'!C70 -> PC(38:5) | E39: ='imported summary from web'!J70 -> 0.00013612902 | F39: ='imported summary from web'!D70 -> 0.00083379026 | G39: =(F39+E39)/2 -> 0.00048495964 | H39: ='imported summary from web'!E70 -> 0.00027225804 | I39: ='imported summary from web'!F70 -> 0.0027906449 | K39: =IF(H39-$G39>0,H39-$G39,0)*2.5 -> 0 | L39: =IF(I39-$G39>0,I39-$G39,0)*2.5 -> 0.0057642133
A40: ='imported summary from web'!A71 -> 810.6 | B40: ='imported summary from web'!B71 -> C46H84O8PN | C40: ='imported summary from web'!C71 -> PC(38:4) | E40: ='imported summary from web'!J71 -> 0.00034032255 | F40: ='imported summary from web'!D71 -> 0.0013612902 | G40: =(F40+E40)/2 -> 0.00085080639 | H40: ='imported summary from web'!E71 -> 0.00073169349 | I40: ='imported summary from web'!F71 -> 0.0062959673 | K40: =IF(H40-$G40>0,H40-$G40,0)*2.5 -> 0 | L40: =IF(I40-$G40>0,I40-$G40,0)*2.5 -> 0.013612902
A41: ='imported summary from web'!A72 -> 812.6 | B41: ='imported summary from web'!B72 -> C46H86O8PN | C41: ='imported summary from web'!C72 -> PC(38:3) | E41: ='imported summary from web'!J72 -> 0.00069766124 | F41: ='imported summary from web'!D72 -> 0.0024673385 | G41: =(F41+E41)/2 -> 0.0015824999 | H41: ='imported summary from web'!E72 -> 0.00059556447 | I41: ='imported summary from web'!F72 -> 0.0088313703 | K41: =IF(H41-$G41>0,H41-$G41,0)*2.5 -> 0 | L41: =IF(I41-$G41>0,I41-$G41,0)*2.5 -> 0.018122176
A42: ='imported summary from web'!A74 -> 814.6 | B42: ='imported summary from web'!B74 -> C46H88O8PN | C42: ='imported summary from web'!C74 -> PC(38:2) | E42: ='imported summary from web'!J74 -> 0.00056153221 | F42: ='imported summary from web'!D74 -> 0.0021610482 | G42: =(F42+E42)/2 -> 0.0013612902 | H42: ='imported summary from web'!E74 -> 0.00051048383 | I42: ='imported summary from web'!F74 -> 0.0088483864 | K42: =IF(H42-$G42>0,H42-$G42,0)*2.5 -> 0 | L42: =IF(I42-$G42>0,I42-$G42,0)*2.5 -> 0.01871774
...

Sheet imported summary from web
A1: Original Data on row 371 | D1: Data divided by 5 here, used 1.0 ul PL standard mix | L1: http://129.237.137.125:8080/Lipidomics/file_summary.jsp?numberofperiods=8&experimentid=12447&masstolerance=0.4&massoption=1
D2: 1/29/19 Mary Roth, largest signal, quantified using values for 5 ul PL std mix. Actual used is 2.5 ul, multiply by 2.5 on background subtracted sheet
A3: Mass | B3: Compound Formula | C3: Compound Name | D3: IS01 | E3: sample01 | F3: sample02 | G3: sample03 | H3: sample09 | I3: sample10 | J3: IS02
A4: 494.3 | B4: C24H48O7PN | C4: LPC(16:1) | D4: =(D374/5)/1.024862083352 -> 0.00023417785 | E4: =(E374/5)/1.024862083352 -> 0.00023417785 | F4: =(F374/5)/1.024862083352 -> 0.005776387 | G4: =(G374/5)/1.024862083352 -> 0.00091719658 | H4: =(H374/5)/1.024862083352 -> 0.0011513744 | I4: =(I374/5)/1.024862083352 -> 0.00064398909 | J4: =(J374/5)/1.024862083352 -> 0.00013660375
A5: 496.3 | B5: C24H50O7PN | C5: LPC(16:0) | D5: =(D375/5)/1.024862083352 -> 0.0065179502 | E5: =(E375/5)/1.024862083352 -> 0.0090158473 | F5: =(F375/5)/1.024862083352 -> 0.5106248 | G5: =(G375/5)/1.024862083352 -> 0.052650987 | H5: =(H375/5)/1.024862083352 -> 0.063637831 | I5: =(I375/5)/1.024862083352 -> 0.020978432 | J5: =(J375/5)/1.024862083352 -> 0.0018148783
A6: 518.3 | B6: C26H48O7PN | C6: LPC(18:3) | D6: =(D376/5)/1.024862083352 -> 0.00042932606 | E6: =(E376/5)/1.024862083352 -> 0.00013660375 | F6: =(F376/5)/1.024862083352 -> 0.096656908 | G6: =(G376/5)/1.024862083352 -> 0.012469971 | H6: =(H376/5)/1.024862083352 -> 0.014870294 | I6: =(I376/5)/1.024862083352 -> 0.0045274384 | J6: =(J376/5)/1.024862083352 -> 0.00017563339
A7: 520.3 | B7: C26H50O7PN | C7: LPC(18:2) | D7: =(D377/5)/1.024862083352 -> 0.00042932606 | E7: =(E377/5)/1.024862083352 -> 0.00040981124 | F7: =(F377/5)/1.024862083352 -> 0.95921199 | G7: =(G377/5)/1.024862083352 -> 0.12421184 | H7: =(H377/5)/1.024862083352 -> 0.14526833 | I7: =(I377/5)/1.024862083352 -> 0.047421015 | J7: =(J377/5)/1.024862083352 -> 0.00031223713
A8: 522.3 | B8: C26H52O7PN | C8: LPC(18:1) | D8: =(D378/5)/1.024862083352 -> 0.00013660375 | E8: =(E378/5)/1.024862083352 -> 0.00021466303 | F8: =(F378/5)/1.024862083352 -> 0.23716362 | G8: =(G378/5)/1.024862083352 -> 0.035107163 | H8: =(H378/5)/1.024862083352 -> 0.03104808 | I8: =(I378/5)/1.024862083352 -> 0.011338111 | J8: =(J378/5)/1.024862083352 -> 3.9029642e-05
A9: 524.4 | B9: C26H54O7PN | C9: LPC(18:0) | D9: =(D379/5)/1.024862083352 -> 0.00027320749 | E9: =(E379/5)/1.024862083352 -> 0.0019905117 | F9: =(F379/5)/1.024862083352 -> 0.1238996 | G9: =(G379/5)/1.024862083352 -> 0.030326032 | H9: =(H379/5)/1.024862083352 -> 0.05934457 | I9: =(I379/5)/1.024862083352 -> 0.029799132 | J9: =(J379/5)/1.024862083352 -> 0.00015611857
A10: 542.3 | B10: C28H48O7PN | C10: LPC(20:5) | D10: =(D380/5)/1.024862083352 -> 0 | E10: =(E380/5)/1.024862083352 -> 0.00013660375 | F10: =(F380/5)/1.024862083352 -> 0 | G10: =(G380/5)/1.024862083352 -> 0 | H10: =(H380/5)/1.024862083352 -> 0 | I10: =(I380/5)/1.024862083352 -> 0.00025369267 | J10: =(J380/5)/1.024862083352 -> 9.7574104e-05
A11: 544.3 | B11: C28H50O7PN | C11: LPC(20:4) | D11: =(D381/5)/1.024862083352 -> 0 | E11: =(E381/5)/1.024862083352 -> 7.8059284e-05 | F11: =(F381/5)/1.024862083352 -> 0 | G11: =(G381/5)/1.024862083352 -> 0.0004683557 | H11: =(H381/5)/1.024862083352 -> 0.00044884088 | I11: =(I381/5)/1.024862083352 -> 0.00058544463 | J11: =(J381/5)/1.024862083352 -> 0
A12: 546.3 | B12: C28H52O7PN | C12: LPC(20:3) | D12: =(D382/5)/1.024862083352 -> 0 | E12: =(E382/5)/1.024862083352 -> 0 | F12: =(F382/5)/1.024862083352 -> 0 | G12: =(G382/5)/1.024862083352 -> 0.00019514821 | H12: =(H382/5)/1.024862083352 -> 0.00029272231 | I12: =(I382/5)/1.024862083352 -> 0.00031223713 | J12: =(J382/5)/1.024862083352 -> 3.9029642e-05
A13: 548.4 | B13: C28H54O7PN | C13: LPC(20:2) | D13: =(D383/5)/1.024862083352 -> 7.8059284e-05 | E13: =(E383/5)/1.024862083352 -> 3.9029642e-05 | F13: =(F383/5)/1.024862083352 -> 0.0029857676 | G13: =(G383/5)/1.024862083352 -> 0.00039029642 | H13: =(H383/5)/1.024862083352 -> 0.00021466303 | I13: =(I383/5)/1.024862083352 -> 0.00025369267 | J13: =(J383/5)/1.024862083352 -> 0
A14: 550.4 | B14: C28H56O7PN | C14: LPC(20:1) | D14: =(D384/5)/1.024862083352 -> 0 | E14: =(E384/5)/1.024862083352 -> 5.8544463e-05 | F14: =(F384/5)/1.024862083352 -> 0.020841829 | G14: =(G384/5)/1.024862083352 -> 0.0012099189 | H14: =(H384/5)/1.024862083352 -> 0.0016197301 | I14: =(I384/5)/1.024862083352 -> 0.00080010766 | J14: =(J384/5)/1.024862083352 -> 7.8059284e-05
A15: 552.4 | B15: C28H58O7PN | C15: LPC(20:0) | D15: =(D385/5)/1.024862083352 -> 0.00025369267 | E15: =(E385/5)/1.024862083352 -> 0.00042932606 | F15: =(F385/5)/1.024862083352 -> 0.029252717 | G15: =(G385/5)/1.024862083352 -> 0.0034736381 | H15: =(H385/5)/1.024862083352 -> 0.0048201608 | I15: =(I385/5)/1.024862083352 -> 0.0021076007 | J15: =(J385/5)/1.024862083352 -> 0.00013660375
... A17: 570.3 | B17: C30H52O7PN | C17: LPC(22:5) | D17: =(D387/5)/1.024862083352 -> 0.00040981124 | E17: =(E387/5)/1.024862083352 -> 0.00031223713 | F17: =(F387/5)/1.024862083352 -> 0.0078254432 | G17: =(G387/5)/1.024862083352 -> 0.00021466303 | H17: =(H387/5)/1.024862083352 -> 0.00029272231 | I17: =(I387/5)/1.024862083352 -> 0 | J17: =(J387/5)/1.024862083352 -> 5.8544463e-05
A19: Mass | B19: Compound Formula | C19: Compound Name | D19: 040618-ani-YuKuangPolar-01 | E19: 040618-ani-YuKuangPolar-02 | F19: 040618-ani-YuKuangPolar-03 | G19: 040618-ani-YuKuangPolar-04 | H19: 040618-ani-YuKuangPolar-05 | I19: 040618-ani-YuKuangPolar-06 | J19: 040618-ani-YuKuangPolar-07
A20: 676.5 | B20: C36H70O8PN | C20: PC(28:1) | D20: =(D390/5)/1.1753555409225 -> 0.00051048383 | E20: =(E390/5)/1.1753555409225 -> 0.00010209677 | F20: =(F390/5)/1.1753555409225 -> 0.0026545159 | G20: =(G390/5)/1.1753555409225 -> 0.00081677413 | H20: =(H390/5)/1.1753555409225 -> 0.00034032255 | I20: =(I390/5)/1.1753555409225 -> 0.00034032255 | J20: =(J390/5)/1.1753555409225 -> 6.8064511e-05
A21: 701.5 | B21: C39H77N2O6P | C21: SM(16:1) | D21: =(D391/5)/0.956179510548889 -> 0 | E21: =(E391/5)/0.956179510548889 -> 0.00012549945 | F21: =(F391/5)/0.956179510548889 -> 0.00069024696 | G21: =(G391/5)/0.956179510548889 -> 0.00064841381 | H21: =(H391/5)/0.956179510548889 -> 0.0019452414 | I21: =(I391/5)/0.956179510548889 -> 0.001819742 | J21: =(J391/5)/0.956179510548889 -> 0
A22: 703.6 | B22: C39H79N2O6P | C22: SM(16:0) | D22: =(D392/5)/0.956179510548889 -> 0.00014641602 | E22: =(E392/5)/0.956179510548889 -> 0.014599769 | F22: =(F392/5)/0.956179510548889 -> 0.033257354 | G22: =(G392/5)/0.956179510548889 -> 0.051371107 | H22: =(H392/5)/0.956179510548889 -> 0.058733741 | I22: =(I392/5)/0.956179510548889 -> 0.055659005 | J22: =(J392/5)/0.956179510548889 -> 6.2749724e-05
A23: 704.5 | B23: C38H74O8PN | C23: PC(30:1) | D23: =(D393/5)/1.1753555409225 -> 0.00028927417 | E23: =(E393/5)/1.1753555409225 -> 0.0010039515 | F23: =(F393/5)/1.1753555409225 -> 0.0030799191 | G23: =(G393/5)/1.1753555409225 -> 0.0024162901 | H23: =(H393/5)/1.1753555409225 -> 0.0022120966 | I23: =(I393/5)/1.1753555409225 -> 0.0029437901 | J23: =(J393/5)/1.1753555409225 -> 0.00010209677
A24: 705.6 | B24: C39H81N2O6P | C24: DSM(16:0) | D24: =(D394/5)/0.956179510548889 -> 0 | E24: =(E394/5)/0.956179510548889 -> 0.0042669812 | F24: =(F394/5)/0.956179510548889 -> 0.0054383094 | G24: =(G394/5)/0.956179510548889 -> 0.0085757956 | H24: =(H394/5)/0.956179510548889 -> 0.010249122 | I24: =(I394/5)/0.956179510548889 -> 0.0096007077 | J24: =(J394/5)/0.956179510548889 -> 0
A25: 706.5 | B25: C38H76O8PN | C25: PC(30:0) | D25: =(D395/5)/1.1753555409225 -> 0.00037435481 | E25: =(E395/5)/1.1753555409225 -> 0.001599516 | F25: =(F395/5)/1.1753555409225 -> 0.0093929025 | G25: =(G395/5)/1.1753555409225 -> 0.0095120154 | H25: =(H395/5)/1.1753555409225 -> 0.0050537899 | I25: =(I395/5)/1.1753555409225 -> 0.0049857254 | J25: =(J395/5)/1.1753555409225 -> 8.5080639e-05
A26: 714.5 | B26: C40H76O7PN | C26: ePC(32:3) | D26: =(D396/5)/1.1753555409225 -> 8.5080639e-05 | E26: =(E396/5)/1.1753555409225 -> 0 | F26: =(F396/5)/1.1753555409225 -> 0 | G26: =(G396/5)/1.1753555409225 -> 0 | H26: =(H396/5)/1.1753555409225 -> 0 | I26: =(I396/5)/1.1753555409225 -> 0 | J26: =(J396/5)/1.1753555409225 -> 1.7016128e-05
A27: 716.6 | B27: C40H78O7PN | C27: ePC(32:2) | D27: =(D397/5)/1.1753555409225 -> 0.00035733868 | E27: =(E397/5)/1.1753555409225 -> 0.00025524192 | F27: =(F397/5)/1.1753555409225 -> 0.00059556447 | G27: =(G397/5)/1.1753555409225 -> 0.00088483864 | H27: =(H397/5)/1.1753555409225 -> 0.0006125806 | I27: =(I397/5)/1.1753555409225 -> 0.00044241932 | J27: =(J397/5)/1.1753555409225 -> 5.1048383e-05
A28: 718.6 | B28: C40H80O7PN | C28: ePC(32:1) | D28: =(D398/5)/1.1753555409225 -> 0.00025524192 | E28: =(E398/5)/1.1753555409225 -> 0.0016335483 | F28: =(F398/5)/1.1753555409225 -> 0.0026034675 | G28: =(G398/5)/1.1753555409225 -> 0.0062959673 | H28: =(H398/5)/1.1753555409225 -> 0.0053090318 | I28: =(I398/5)/1.1753555409225 -> 0.0048666125 | J28: =(J398/5)/1.1753555409225 -> 0
A29: 720.6 | B29: C40H82O7PN | C29: ePC(32:0) | D29: =(D399/5)/1.1753555409225 -> 0.00023822579 | E29: =(E399/5)/1.1753555409225 -> 0.0018547579 | F29: =(F399/5)/1.1753555409225 -> 0.0046964513 | G29: =(G399/5)/1.1753555409225 -> 0.0069595962 | H29: =(H399/5)/1.1753555409225 -> 0.0090355638 | I29: =(I399/5)/1.1753555409225 -> 0.0074530639 | J29: =(J399/5)/1.1753555409225 -> 5.1048383e-05
A30: 729.6 | B30: C41H81N2O6P | C30: SM(18:1) | D30: =(D400/5)/0.956179510548889 -> 0 | E30: =(E400/5)/0.956179510548889 -> 0 | F30: =(F400/5)/0.956179510548889 -> 0.00043924807 | G30: =(G400/5)/0.956179510548889 -> 0.00029283204 | H30: =(H400/5)/0.956179510548889 -> 0.00027191547 | I30: =(I400/5)/0.956179510548889 -> 0.00023008232 | J30: =(J400/5)/0.956179510548889 -> 0
A31: 730.5 | B31: C40H76O8PN | C31: PC(32:2) | D31: =(D401/5)/1.1753555409225 -> 0.00028927417 | E31: =(E401/5)/1.1753555409225 -> 0.00013612902 | F31: =(F401/5)/1.1753555409225 -> 0.002127016 | G31: =(G401/5)/1.1753555409225 -> 0.0016845966 | H31: =(H401/5)/1.1753555409225 -> 0.0010209677 | I31: =(I401/5)/1.1753555409225 -> 0.0011741128 | J31: =(J401/5)/1.1753555409225 -> 0
A32: 731.6 | B32: C41H83N2O6P | C32: SM(18:0) | D32: =(D402/5)/0.956179510548889 -> 0 | E32: =(E402/5)/0.956179510548889 -> 0.00033466519 | F32: =(F402/5)/0.956179510548889 -> 0.001966158 | G32: =(G402/5)/0.956179510548889 -> 0.0015478265 | H32: =(H402/5)/0.956179510548889 -> 0.0026982381 | I32: =(I402/5)/0.956179510548889 -> 0.0024681558 | J32: =(J402/5)/0.956179510548889 -> 8.3666298e-05
A33: 732.5 | B33: C40H78O8PN | C33: PC(32:1) | D33: =(D403/5)/1.1753555409225 -> 0.00039137094 | E33: =(E403/5)/1.1753555409225 -> 0.0011570967 | F33: =(F403/5)/1.1753555409225 -> 0.0061938705 | G33: =(G403/5)/1.1753555409225 -> 0.0068745156 | H33: =(H403/5)/1.1753555409225 -> 0.0042370158 | I33: =(I403/5)/1.1753555409225 -> 0.0035733868 | J33: =(J403/5)/1.1753555409225 -> 0.00017016128
A34: 733.6 | B34: C41H85N2O6P | C34: DSM(18:0) | D34: =(D404/5)/0.956179510548889 -> 0 | E34: =(E404/5)/0.956179510548889 -> 0.00023008232 | F34: =(F404/5)/0.956179510548889 -> 0.0014223271 | G34: =(G404/5)/0.956179510548889 -> 0.00092032928 | H34: =(H404/5)/0.956179510548889 -> 0.00096216243 | I34: =(I404/5)/0.956179510548889 -> 0.00079482983 | J34: =(J404/5)/0.956179510548889 -> 0
A35: 734.6 | B35: C40H80O8PN | C35: PC(32:0) | D35: =(D405/5)/1.1753555409225 -> 0.00040838707 | E35: =(E405/5)/1.1753555409225 -> 0.0033181449 | F35: =(F405/5)/1.1753555409225 -> 0.015927096 | G35: =(G405/5)/1.1753555409225 -> 0.022954756 | H35: =(H405/5)/1.1753555409225 -> 0.031752094 | I35: =(I405/5)/1.1753555409225 -> 0.022120966 | J35: =(J405/5)/1.1753555409225 -> 0.00035733868
A36: 740.6 | B36: C42H78O7PN | C36: ePC(34:4) | D36: =(D406/5)/1.1753555409225 -> 0.00034032255 | E36: =(E406/5)/1.1753555409225 -> 5.1048383e-05 | F36: =(F406/5)/1.1753555409225 -> 0.00074870962 | G36: =(G406/5)/1.1753555409225 -> 0.00040838707 | H36: =(H406/5)/1.1753555409225 -> 0 | I36: =(I406/5)/1.1753555409225 -> 0.00020419353 | J36: =(J406/5)/1.1753555409225 -> 5.1048383e-05
A37: 742.6 | B37: C42H80O7PN | C37: ePC(34:3) | D37: =(D407/5)/1.1753555409225 -> 0.00034032255 | E37: =(E407/5)/1.1753555409225 -> 0.0015654838 | F37: =(F407/5)/1.1753555409225 -> 0.0017186289 | G37: =(G407/5)/1.1753555409225 -> 0.0027566127 | H37: =(H407/5)/1.1753555409225 -> 0.0015314515 | I37: =(I407/5)/1.1753555409225 -> 0.0015314515 | J37: =(J407/5)/1.1753555409225 -> 6.8064511e-05
A38: 744.6 | B38: C42H82O7PN | C38: ePC(34:2) | D38: =(D408/5)/1.1753555409225 -> 0.00023822579 | E38: =(E408/5)/1.1753555409225 -> 0.001463387 | F38: =(F408/5)/1.1753555409225 -> 0.0035733868 | G38: =(G408/5)/1.1753555409225 -> 0.015229434 | H38: =(H408/5)/1.1753555409225 -> 0.0089334671 | I38: =(I408/5)/1.1753555409225 -> 0.0081507252 | J38: =(J408/5)/1.1753555409225 -> 6.8064511e-05
A39: 746.6 | B39: C42H84O7PN | C39: ePC(34:1) | D39: =(D409/5)/1.1753555409225 -> 0.00028927417 | E39: =(E409/5)/1.1753555409225 -> 0.0013102418 | F39: =(F409/5)/1.1753555409225 -> 0.0052239512 | G39: =(G409/5)/1.1753555409225 -> 0.011366773 | H39: =(H409/5)/1.1753555409225 -> 0.010515967 | I39: =(I409/5)/1.1753555409225 -> 0.011673064 | J39: =(J409/5)/1.1753555409225 -> 5.1048383e-05
A40: 748.6 | B40: C42H86O7PN | C40: ePC(34:0) | D40: =(D410/5)/1.1753555409225 -> 0.00020419353 | E40: =(E410/5)/1.1753555409225 -> 0.00066362898 | F40: =(F410/5)/1.1753555409225 -> 0.0025694353 | G40: =(G410/5)/1.1753555409225 -> 0.0027395966 | H40: =(H410/5)/1.1753555409225 -> 0.0036584675 | I40: =(I410/5)/1.1753555409225 -> 0.0025864514 | J40: =(J410/5)/1.1753555409225 -> 0
A41: 754.5 | B41: C42H76O8PN | C41: PC(34:4) | D41: =(D411/5)/1.1753555409225 -> 0.0010549999 | E41: =(E411/5)/1.1753555409225 -> 0.00010209677 | F41: =(F411/5)/1.1753555409225 -> 0.00093588702 | G41: =(G411/5)/1.1753555409225 -> 0.00086782251 | H41: =(H411/5)/1.1753555409225 -> 0.00051048383 | I41: =(I411/5)/1.1753555409225 -> 0.00051048383 | J41: =(J411/5)/1.1753555409225 -> 0.0001871774
A42: 756.5 | B42: C42H78O8PN | C42: PC(34:3) | D42: =(D412/5)/1.1753555409225 -> 0.026034675 | E42: =(E412/5)/1.1753555409225 -> 0.0011060483 | F42: =(F412/5)/1.1753555409225 -> 0.025932579 | G42: =(G412/5)/1.1753555409225 -> 0.0074700801 | H42: =(H412/5)/1.1753555409225 -> 0.0081847574 | I42: =(I412/5)/1.1753555409225 -> 0.010618064 | J42: =(J412/5)/1.1753555409225 -> 0.0052920157
...

Sheet DAG
D1: sample 1 | E1: sample 2 | F1: sample 3 | G1: sample 4 | H1: sample 5 | I1: sample 6 | J1: sample 7
D2: IS01 | E2: sample01 | F2: sample02 | G2: sample03 | H2: sample09 | I2: sample10 | J2: IS02
A3: 30:1 | B3: C33H66O5N | C3: 14:0/16:1 | D3: 0.48194745 | E3: 0.087360605 | F3: 0.24439748 | G3: 0.33923242 | H3: 0.3283715 | I3: 0.43481399 | J3: 0.054306948
C4: 16:0/14:1 | D4: 0.42621268 | E4: 0.36443527 | F4: 0.59443648 | G4: 0.89867824 | H4: 0.77877966 | I4: 1.1973826 | J4: 0.081932286
