Workbook

Sheet Contents
A1: Contents
A2: ='Supplementary Data 1'!A1 -> Supplementary Data 1. The statistics of sequencing data mapping results.
A3: ='Supplementary Data 2'!A1 -> Supplementary Data 2. The number of SVs and CNVs of each individual.
A4: ='Supplementary Data 3'!A1 -> Supplementary Data 3. List of genes affected by SVs and CNVs.
A5: ='Supplementary Data 4'!A1 -> Supplementary Data 4. KEGG enrichment analysis for the affected genes by more than two different types of SVs.
A6: ='Supplementary Data 5'!A1 -> Supplementary Data 5. KEGG enrichment analysis for the affected genes overlapped with copy number variation.
A7: ='Supplementary Data 6'!A1 -> Supplementary Data 6. The summary of heterozygosity ratio of 427 samples.
A8: ='Supplementary Data 7'!A1 -> Supplementary Data 7. 38 long continuous heterozygous SNPs clustered regions of high frequency (high-LCHRs) detected in the moso bamboo population.
A9: ='Supplementary Data 8'!A1 -> Supplementary Data 8. GO enrichment analysis for the genes which overlap with long continuous heterozygous SNPs clustered regions of high frequency (high-LCHRs).
A10: ='Supplementary Data 9'!A1 -> Supplementary Data 9. 15 long continuous heterozygous SNPs clustered regions of low frequency (low-LCHRs) detected in the moso bamboo population.
A11: ='Supplementary Data 10'!A1 -> Supplementary Data 10. GO enrichment analysis for the genes which overlap with long continuous heterozygous SNPs clustered regions of low frequency (low-LCHRs).
A12: ='Supplementary Data 11'!A1 -> Supplementary Data 11. The potential regions and candidate genes under balancing selection for the moso bamboo population.
A13: ='Supplementary Data 12'!A1 -> Supplementary Data 12. GO enrichment analysis for the candidate genes under balancing selection.
A14: ='Supplementary Data 13'!A1 -> Supplementary Data 13. The candidate genes under balancing selection involved in disease resistance or environmental adaptation.
A15: ='Supplementary Data 14'!A1 -> Supplementary Data 14. The nine traits closely related to bamboo properties were measured.
A16: ='Supplementary Data 15'!A1 -> Supplementary Data 15. The twelve environmental factors collected on fifteen moso bamboo areas.
A17: ='Supplementary Data 16'!A1 -> Supplementary Data 16. The potentially associated regions and candidate genes for the trait of bending strength 12°.
A18: ='Supplementary Data 17'!A1 -> Supplementary Data 17. The potentially associated regions and candidate genes for the trait of compressive strength.
A19: ='Supplementary Data 18'!A1 -> Supplementary Data 18. The potentially associated regions and candidate genes for the trait of density.
A20: ='Supplementary Data 19'!A1 -> Supplementary Data 19. The potentially associated regions and candidate genes for the trait of elastic modulus.
A21: ='Supplementary Data 20'!A1 -> Supplementary Data 20. The potentially associated regions and candidate genes for the trait of ground diameter.
A22: ='Supplementary Data 21'!A1 -> Supplementary Data 21. The potentially associated regions and candidate genes for the trait of maximum load.
A23: ='Supplementary Data 22'!A1 -> Supplementary Data 22. The potentially associated regions and candidate genes for the trait of node number.
A24: ='Supplementary Data 23'!A1 -> Supplementary Data 23. The potentially associated regions and candidate genes for the trait of tensile modulus.
A25: ='Supplementary Data 24'!A1 -> Supplementary Data 24. The potentially associated regions and candidate genes for the trait of under crown height.
A26: ='Supplementary Data 25'!A1 -> Supplementary Data 25. Candidate associated genes related to the cell wall, carbohydrate metabolism and environmental adaptation.

Sheet Supplementary Data 1
A1: Supplementary Data 1. The statistics of sequencing data mapping results.
A2: No. | B2: Sample ID | C2: Sample ID in CNGB CNSA database | D2: Areas | E2: Abbreviation of areas | F2: Assigned phylogenetic groups | G2: #Raw reads pairs | H2: Raw bases (bp) | I2: #Clean read pairs | J2: Clean bases (bp) | K2: Mapping rate (%) | L2: Duplication rate (%) | M2: Mapping percent with proper insert sizes (%) | N2: Coverage (%) | O2: Insert size (SD, bp) | P2: Sequencing depth (×)
A3: 1 | B3: AJ-1 | C3: MS-11 | D3: Anji, Zhejiang | E3: AJ | F3: MS_EAST | G3: 138849909 | H3: 41654972700 | I3: 137466654 | J3: 41119986304 | K3: 97.3253 | L3: 16.3281 | M3: 93.7975 | N3: 93.19 | O3: 308.5(79.1) | P3: 22.42
A4: 2 | B4: AJ-2 | C4: MS-12 | D4: Anji, Zhejiang | E4: AJ | F4: MS_EAST | G4: 100483803 | H4: 30145140900 | I4: 100483448 | J4: 30128067125 | K4: 98.3934 | L4: 14.1216 | M4: 95.3166 | N4: 93.28 | O4: 317.1(84.5) | P4: 16.57
A5: 3 | B5: AJ-3 | C5: MS-23 | D5: Anji, Zhejiang | E5: AJ | F5: MS_EAST | G5: 98902367 | H5: 29670710100 | I5: 98902033 | J5: 29652699944 | K5: 98.7097 | L5: 12.193 | M5: 95.916 | N5: 93.28 | O5: 313.2(81.7) | P5: 16.36
A6: 4 | B6: AJ-4 | C6: MS-25 | D6: Anji, Zhejiang | E6: AJ | F6: MS_EAST | G6: 135838556 | H6: 40751566800 | I6: 134179293 | J6: 40133891191 | K6: 98.9314 | L6: 16.1252 | M6: 95.3742 | N6: 93.34 | O6: 291.4(72.3) | P6: 22.22
A7: 5 | B7: AJ-5 | C7: MS-26 | D7: Anji, Zhejiang | E7: AJ | F7: MS_EAST | G7: 100579836 | H7: 30173950800 | I7: 100579475 | J7: 30156208724 | K7: 97.7002 | L7: 13.1014 | M7: 94.6511 | N7: 93.3 | O7: 333.6(86.2) | P7: 16.47
A8: 6 | B8: AJ-6 | C8: MS-27 | D8: Anji, Zhejiang | E8: AJ | F8: MS_EAST | G8: 99219551 | H8: 29765865300 | I8: 99219224 | J8: 29748383742 | K8: 98.3414 | L8: 12.761 | M8: 95.5167 | N8: 93.28 | O8: 317.8(81.7) | P8: 16.36
A9: 7 | B9: AJ-7 | C9: MS-28 | D9: Anji, Zhejiang | E9: AJ | F9: MS_EAST | G9: 100556790 | H9: 30167037000 | I9: 100556418 | J9: 30148064683 | K9: 98.8765 | L9: 12.9326 | M9: 95.9482 | N9: 93.3 | O9: 323.1(84.0) | P9: 16.66
A10: 8 | B10: AJ-8 | C10: MS-29 | D10: Anji, Zhejiang | E10: AJ | F10: MS_EAST | G10: 93609899 | H10: 28082969700 | I10: 93609540 | J10: 28066910755 | K10: 98.9562 | L10: 12.0796 | M10: 96.3235 | N10: 93.23 | O10: 306.2(71.9) | P10: 15.54
A11: 9 | B11: AJ-9 | C11: MS-30 | D11: Anji, Zhejiang | E11: AJ | F11: MS_EAST | G11: 138946527 | H11: 41683958100 | I11: 137053803 | J11: 40920916159 | K11: 97.6012 | L11: 14.4509 | M11: 93.7055 | N11: 93.39 | O11: 275.5(70.2) | P11: 22.35
A12: 10 | B12: AJ-10 | C12: MS-1 | D12: Anji, Zhejiang | E12: AJ | F12: MS_EAST | G12: 100629917 | H12: 30188975100 | I12: 100629623 | J12: 30172023721 | K12: 99.576 | L12: 14.6457 | M12: 96.8691 | N12: 93.29 | O12: 297.2(70.8) | P12: 16.8
A13: 11 | B13: AJ-11 | C13: MS-2 | D13: Anji, Zhejiang | E13: AJ | F13: MS_EAST | G13: 171395450 | H13: 51418635000 | I13: 171395066 | J13: 51387009316 | K13: 98.3809 | L13: 16.7189 | M13: 94.9584 | N13: 93.51 | O13: 322.0(80.6) | P13: 28.2
A14: 12 | B14: AJ-12 | C14: MS-3 | D14: Anji, Zhejiang | E14: AJ | F14: MS_EAST | G14: 174856623 | H14: 52456986900 | I14: 174856175 | J14: 52427252146 | K14: 99.0904 | L14: 18.9847 | M14: 94.216 | N14: 93.47 | O14: 308.8(78.5) | P14: 28.99
... A429: 427 | B429: YX-30 | C429: MS-423 | D429: Yixing, Jiangsu | E429: YX | F429: MS_EAST | G429: 100681296 | H429: 30204388800 | I429: 100680875 | J429: 30192918099 | K429: 99.3725 | L429: 16.2488 | M429: 96.2507 | N429: 93.28 | O429: 319.6(80.7) | P429: 16.78
A430: outgroup | B430: Pkwan | C430: Pkwan | D430: Nanchang, Jiangxi | E430: Phyllostachys kwangsiensis | F430: outgroup | G430: 75204971 | H430: 22561491300 | I430: 75204943 | J430: 22550435658 | K430: 98.9192 | L430: 22.5497 | M430: 92.6613 | N430: 85.82 | O430: 312.6(73.9) | P430: 13.56

Sheet Supplementary Data 2
A1: Supplementary Data 2. The number of SVs and CNVs of each individual.
A2: Sample ID | B2: DEL | C2: INS | D2: INV | E2: ITX | F2: CNV (in 1kb bin)
A3: AJ-10 | B3: 2363 | C3: 369 | D3: 336 | E3: 49 | F3: 95340
A4: AJ-11 | B4: 4393 | C4: 932 | D4: 666 | E4: 108 | F4: 96012
A5: AJ-12 | B5: 4024 | C5: 832 | D5: 562 | E5: 104 | F5: 99974
A6: AJ-13 | B6: 2659 | C6: 374 | D6: 323 | E6: 69 | F6: 91876
A7: AJ-14 | B7: 2527 | C7: 399 | D7: 325 | E7: 57 | F7: 97582
A8: AJ-15 | B8: 3022 | C8: 520 | D8: 401 | E8: 87 | F8: 95086
A9: AJ-16 | B9: 2936 | C9: 446 | D9: 385 | E9: 75 | F9: 92447
A10: AJ-17 | B10: 2584 | C10: 384 | D10: 361 | E10: 62 | F10: 95772
A11: AJ-18 | B11: 4243 | C11: 900 | D11: 716 | E11: 114 | F11: 96834
A12: AJ-19 | B12: 2903 | C12: 483 | D12: 449 | E12: 63 | F12: 92723
A13: AJ-1 | B13: 3261 | C13: 557 | D13: 445 | E13: 76 | F13: 93873
A14: AJ-20 | B14: 3077 | C14: 505 | D14: 434 | E14: 65 | F14: 93626
... A429: YX-8 | B429: 2838 | C429: 407 | D429: 347 | E429: 56 | F429: 93321

Sheet Supplementary Data 3
A1: Supplementary Data 3. List of genes affected by SVs and CNVs.
A2: Gene ID | B2: affected genes type
B3: SV | C3: CNV
A4: PH02Gene00002.t1 | B4: one type | C4: None
A5: PH02Gene00013.t1 | B5: one type | C5: None
A6: PH02Gene00016.t1 | B6: one type | C6: None
A7: PH02Gene00023.t1 | B7: one type | C7: None
A8: PH02Gene00030.t1 | B8: one type | C8: None
A9: PH02Gene00032.t1 | B9: None | C9: gain
A10: PH02Gene00035.t1 | B10: multiple types | C10: None
A11: PH02Gene00049.t1 | B11: one type | C11: None
A12: PH02Gene00059.t1 | B12: None | C12: gain
A13: PH02Gene00084.t1 | B13: one type | C13: None
A14: PH02Gene00085.t1 | B14: one type | C14: None
A15: PH02Gene00086.t1 | B15: one type | C15: None
... A9377: PH02Gene50718.t1 | B9377: multiple types | C9377: None

Sheet Supplementary Data 4
A1: Supplementary Data 4. KEGG enrichment analysis for the affected genes by more than two different types of SVs.
A2: Pathway | B2: x1† | C2: x2† | D2: n† | E2: N† | F2: p-value†† | G2: Corrected p-value†† | H2: Pathway ID | I2: Genes
A3: Plant-pathogen interaction | B3: 101 | C3: 1567 | D3: 917 | E3: 39049 | F3: 5.476438e-20 | G3: 6.681254e-18 | H3: ko04626 | I3: PH02Gene06687.t1;PH02Gene08653.t1;PH02Gene08654.t1;PH02Gene08659.t1;PH02Gene12394.t1;PH02Gene13135.t1;PH02Gene16484.t1;PH02Gene16623.t2;PH02Gene16738.t1;PH02Gene16764.t1;PH02Gene16766.t1;PH02Gene18443.t3;PH02Gene18448.t1;PH02Gene19664.t1;PH02Gene21160.t1;PH02Gene24724.t1;PH02Gene28823.t1;PH02Gene29359.t1;PH02Gene29617.t1;PH02Gene29647.t1;PH02Gene29648.t1;PH02Gene31604.t1;PH02Gene31879.t1;PH02Gene34181.t1;PH02Gene35526.t1;PH02Gene37141.t1;PH02Gene38339.t1;PH02Gene38396.t1;PH02Gene38400.t1;PH02Gene39359.t1;PH02Gene39524.t3;PH02Gene39525.t1;PH02Gene39527.t1;PH02Gene40093.t1;PH02Gene40097.t1;PH02Gene40157.t1;PH02Gene40530.t1;PH02Gene40531.t1;PH02Gene40532.t1;PH02Gene40533.t1;PH02Gene40534.t1;PH02Gene40535.t1;PH02Gene40536.t1;PH02Gene40537.t1;PH02Gene40555.t1;PH02Gene40556.t1;PH02Gene40563.t2;PH02Gene41448.t1;PH02Gene41675.t2;PH02Gene41794.t1;PH02Gene42605.t1;PH02Gene42673.t1;PH02Gene43111.t1;PH02Gene43814.t1;PH02Gene43818.t1;PH02Gene43820.t1;PH02Gene44074.t1;PH02Gene44397.t1;PH02Gene44494.t1;PH02Gene44739.t1;PH02Gene44740.t1;PH02Gene44741.t1;PH02Gene44792.t1;PH02Gene45117.t1;PH02Gene45158.t1;PH02Gene45172.t1;PH02Gene45494.t1;PH02Gene45496.t1;PH02Gene45497.t1;PH02Gene45498.t1;PH02Gene45669.t1;PH02Gene45848.t1;PH02Gene45853.t1;PH02Gene46427.t1;PH02Gene46428.t1;PH02Gene46429.t1;PH02Gene46430.t1;PH02Gene46431.t1;PH02Gene46433.t1;PH02Gene46613.t1;PH02Gene46651.t1;PH02Gene46653.t1;PH02Gene46654.t1;PH02Gene46655.t2;PH02Gene46871.t1;PH02Gene46873.t1;PH02Gene47041.t1;PH02Gene47074.t1;PH02Gene47075.t1;PH02Gene47786.t1;PH02Gene48162.t1;PH02Gene48166.t1;PH02Gene48691.t1;PH02Gene49153.t1;PH02Gene49665.t1;PH02Gene49961.t1;PH02Gene50103.t1;PH02Gene50327.t1;PH02Gene50669.t1;PH02Gene50673.t1;PH02Gene50697.t1
A4: Sesquiterpenoid and triterpenoid biosynthesis | B4: 16 | C4: 117 | D4: 917 | E4: 39049 | F4: 1.658074e-08 | G4: 1.011425e-06 | H4: ko00909 | I4: PH02Gene09151.t1;PH02Gene15749.t1;PH02Gene26515.t1;PH02Gene37084.t1;PH02Gene38814.t1;PH02Gene39252.t1;PH02Gene40249.t1;PH02Gene40251.t1;PH02Gene40255.t1;PH02Gene40256.t1;PH02Gene44021.t1;PH02Gene44983.t1;PH02Gene44985.t1;PH02Gene48178.t1;PH02Gene48180.t1;PH02Gene48658.t1
A5: Ribosome biogenesis in eukaryotes | B5: 23 | C5: 455 | D5: 917 | E5: 39049 | F5: 0.000557286 | G5: 0.02266296 | H5: ko03008 | I5: PH02Gene20965.t1;PH02Gene22900.t1;PH02Gene23291.t1;PH02Gene23292.t1;PH02Gene25514.t1;PH02Gene26294.t1;PH02Gene28653.t1;PH02Gene28655.t1;PH02Gene29341.t1;PH02Gene29342.t1;PH02Gene37316.t1;PH02Gene39293.t1;PH02Gene39294.t1;PH02Gene40834.t1;PH02Gene45018.t1;PH02Gene45019.t1;PH02Gene45353.t1;PH02Gene45584.t1;PH02Gene46443.t1;PH02Gene46841.t1;PH02Gene46842.t1;PH02Gene49232.t1;PH02Gene50443.t1
A6: Vancomycin resistance | B6: 2 | C6: 3 | D6: 917 | E6: 39049 | F6: 0.001626819 | G6: 0.04961798 | H6: ko01502 | I6: PH02Gene06096.t1;PH02Gene33322.t1
A7: Glycerophospholipid metabolism | B7: 21 | C7: 451 | D7: 917 | E7: 39049 | F7: 0.002564908 | G7: 0.06258376 | H7: ko00564 | I7: PH02Gene18306.t1;PH02Gene33080.t1;PH02Gene35778.t1;PH02Gene35779.t1;PH02Gene38383.t1;PH02Gene38850.t1;PH02Gene39610.t1;PH02Gene40092.t1;PH02Gene40096.t1;PH02Gene45493.t1;PH02Gene48446.t1;PH02Gene48448.t1;PH02Gene48512.t1;PH02Gene48513.t1;PH02Gene48514.t1;PH02Gene48515.t1;PH02Gene48516.t1;PH02Gene48626.t1;PH02Gene48783.t1;PH02Gene49380.t1;PH02Gene49595.t1
A8: RNA transport | B8: 35 | C8: 969 | D8: 917 | E8: 39049 | F8: 0.008615663 | G8: 0.1648597 | H8: ko03013 | I8: PH02Gene00830.t2;PH02Gene02481.t1;PH02Gene08601.t2;PH02Gene12913.t1;PH02Gene17154.t1;PH02Gene18494.t1;PH02Gene22459.t1;PH02Gene25003.t1;PH02Gene28295.t1;PH02Gene32278.t2;PH02Gene32289.t1;PH02Gene33080.t1;PH02Gene33082.t1;PH02Gene34469.t1;PH02Gene34843.t1;PH02Gene36780.t1;PH02Gene38110.t1;PH02Gene39669.t1;PH02Gene41112.t1;PH02Gene41572.t2;PH02Gene41627.t1;PH02Gene41629.t1;PH02Gene41630.t1;PH02Gene43546.t1;PH02Gene43640.t1;PH02Gene44719.t3;PH02Gene44937.t1;PH02Gene44938.t1;PH02Gene47058.t1;PH02Gene47559.t1;PH02Gene48379.t1;PH02Gene48416.t1;PH02Gene49080.t1;PH02Gene49098.t1;PH02Gene49477.t1
A9: 2-Oxocarboxylic acid metabolism | B9: 12 | C9: 237 | D9: 917 | E9: 39049 | F9: 0.01075773 | G9: 0.1648597 | H9: ko01210 | I9: PH02Gene08341.t1;PH02Gene12064.t1;PH02Gene13081.t1;PH02Gene31582.t1;PH02Gene31583.t1;PH02Gene34179.t1;PH02Gene34344.t1;PH02Gene39120.t1;PH02Gene42654.t1;PH02Gene47787.t1;PH02Gene48657.t2;PH02Gene50072.t1
A10: Anthocyanin biosynthesis | B10: 5 | C10: 57 | D10: 917 | E10: 39049 | F10: 0.01081047 | G10: 0.1648597 | H10: ko00942 | I10: PH02Gene42606.t1;PH02Gene47932.t1;PH02Gene47933.t1;PH02Gene50133.t1;PH02Gene50711.t1
A11: C5-Branched dibasic acid metabolism | B11: 4 | C11: 42 | D11: 917 | E11: 39049 | F11: 0.01668388 | G11: 0.2203547 | H11: ko00660 | I11: PH02Gene13081.t1;PH02Gene34179.t1;PH02Gene34344.t1;PH02Gene39120.t1
A12: Mannose type O-glycan biosynthesis | B12: 4 | C12: 43 | D12: 917 | E12: 39049 | F12: 0.01806186 | G12: 0.2203547 | H12: ko00515 | I12: PH02Gene38572.t1;PH02Gene42254.t1;PH02Gene42255.t1;PH02Gene42256.t1
A13: Cyanoamino acid metabolism | B13: 12 | C13: 270 | D13: 917 | E13: 39049 | F13: 0.02683995 | G13: 0.2773865 | H13: ko00460 | I13: PH02Gene08660.t1;PH02Gene12525.t1;PH02Gene33459.t3;PH02Gene39101.t1;PH02Gene41306.t1;PH02Gene47242.t2;PH02Gene47320.t1;PH02Gene48150.t1;PH02Gene48657.t2;PH02Gene48783.t1;PH02Gene50268.t1;PH02Gene50364.t1
A14: Lysine biosynthesis | B14: 5 | C14: 73 | D14: 917 | E14: 39049 | F14: 0.02864733 | G14: 0.2773865 | H14: ko00300 | I14: PH02Gene08341.t1;PH02Gene12064.t1;PH02Gene28320.t1;PH02Gene40102.t1;PH02Gene47773.t1
... A17: Homologous recombination | B17: 11 | C17: 259 | D17: 917 | E17: 39049 | F17: 0.04353674 | G17: 0.3540988 | H17: ko03440 | I17: PH02Gene06240.t1;PH02Gene26542.t1;PH02Gene29085.t1;PH02Gene36397.t1;PH02Gene37168.t2;PH02Gene41305.t1;PH02Gene41307.t1;PH02Gene42989.t1;PH02Gene47198.t1;PH02Gene48095.t1;PH02Gene50385.t1
A18: †x1 and x2 are the observed number of genes-of-interest and reference genes in a given KEGG pathway, respectively. Whereas n is the total number of genes-of-interest, N is the total number of reference genes
A19: †† the p-value was calculated by one-sided Fisher's exact test, and the corrected p-value was adjusted by Benjamini-Hochberg method.

Sheet Supplementary Data 5
A1: Supplementary Data 5. KEGG enrichment analysis for the affected genes overlapped with copy number variation.
A2: Pathway | B2: x1† | C2: x2† | D2: n† | E2: N† | F2: p-value†† | G2: Corrected p-value†† | H2: Pathway ID | I2: Genes
A3: Plant-pathogen interaction | B3: 274 | C3: 1567 | D3: 3805 | E3: 39049 | F3: 3.371842e-22 | G3: 4.518268e-20 | H3: ko04626 | I3: PH02Gene05783.t1;PH02Gene08867.t2;PH02Gene09150.t1;PH02Gene09304.t1;PH02Gene11280.t1;PH02Gene11281.t1;PH02Gene12721.t1;PH02Gene13141.t1;PH02Gene13371.t1;PH02Gene16735.t1;PH02Gene16738.t1;PH02Gene16739.t1;PH02Gene16740.t1;PH02Gene16743.t1;PH02Gene16744.t1;PH02Gene18994.t1;PH02Gene21160.t1;PH02Gene23636.t1;PH02Gene23740.t1;PH02Gene23744.t1;PH02Gene24586.t1;PH02Gene24743.t1;PH02Gene24842.t1;PH02Gene25515.t1;PH02Gene25520.t1;PH02Gene26084.t1;PH02Gene26089.t1;PH02Gene26143.t1;PH02Gene26939.t1;PH02Gene26940.t1;PH02Gene27308.t1;PH02Gene28258.t1;PH02Gene28376.t1;PH02Gene28467.t1;PH02Gene28469.t1;PH02Gene28823.t1;PH02Gene28824.t1;PH02Gene28944.t1;PH02Gene29210.t1;PH02Gene29360.t1;PH02Gene29361.t1;PH02Gene29587.t1;PH02Gene30230.t1;PH02Gene31367.t1;PH02Gene31479.t1;PH02Gene31482.t2;PH02Gene31645.t1;PH02Gene31648.t1;PH02Gene31659.t1;PH02Gene31662.t1;PH02Gene31664.t1;PH02Gene31665.t1;PH02Gene31671.t1;PH02Gene31908.t1;PH02Gene32774.t1;PH02Gene32795.t1;PH02Gene32897.t1;PH02Gene32906.t1;PH02Gene32913.t1;PH02Gene33516.t1;PH02Gene33518.t1;PH02Gene33519.t1;PH02Gene33523.t1;PH02Gene33524.t1;PH02Gene33525.t1;PH02Gene33526.t1;PH02Gene34176.t1;PH02Gene34181.t1;PH02Gene34184.t1;PH02Gene34186.t3;PH02Gene34278.t1;PH02Gene34352.t1;PH02Gene34354.t1;PH02Gene35966.t1;PH02Gene36995.t1;PH02Gene37000.t1;PH02Gene37001.t1;PH02Gene37140.t1;PH02Gene37141.t1;PH02Gene37425.t1;PH02Gene37877.t1;PH02Gene37879.t1;PH02Gene37985.t1;PH02Gene38339.t1;PH02Gene38347.t1;PH02Gene38488.t1;PH02Gene38637.t1;PH02Gene39296.t1;PH02Gene39450.t1;PH02Gene39524.t3;PH02Gene39525.t1;PH02Gene40084.t1;PH02Gene40086.t1;PH02Gene40167.t1;PH02Gene41059.t1;PH02Gene41097.t1;PH02Gene41670.t1;PH02Gene41675.t2;PH02Gene41676.t1;PH02Gene41759.t1;PH02Gene41794.t1;PH02Gene41804.t1;PH02Gene41807.t1;PH02Gene41923.t1;PH02Gene42604.t1;PH02Gene43111.t1;PH02Gene43234.t1;PH02Gene43311.t1;PH02Gene43312.t1;PH02Gene43313.t1;PH02Gene43314.t1;PH02Gene43444.t1;PH02Gene43814.t1;PH02Gene43815.t1;PH02Gene43818.t1;PH02Gene43820.t1;PH02Gene43899.t1;PH02Gene43900.t1;PH02Gene44025.t1;PH02Gene44052.t1;PH02Gene44054.t1;PH02Gene44073.t1;PH02Gene44074.t1;PH02Gene44075.t1;PH02Gene44077.t1;PH02Gene44078.t1;PH02Gene44279.t1;PH02Gene44282.t1;PH02Gene44283.t1;PH02Gene44284.t1;PH02Gene44604.t1;PH02Gene44739.t1;PH02Gene44792.t1;PH02Gene44796.t1;PH02Gene45114.t1;PH02Gene45117.t1;PH02Gene45158.t1;PH02Gene45306.t1;PH02Gene45531.t1;PH02Gene45644.t1;PH02Gene45648.t1;PH02Gene45709.t1;PH02Gene45941.t1;PH02Gene46510.t1;PH02Gene46560.t1;PH02Gene46613.t1;PH02Gene46722.t1;PH02Gene46871.t1;PH02Gene47052.t1;PH02Gene47061.t1;PH02Gene47074.t1;PH02Gene47075.t1;PH02Gene47337.t1;PH02Gene47375.t1;PH02Gene47563.t1;PH02Gene47566.t1;PH02Gene47786.t1;PH02Gene48044.t1;PH02Gene48045.t1;PH02Gene48047.t1;PH02Gene48048.t1;PH02Gene48135.t1;PH02Gene48136.t1;PH02Gene48137.t1;PH02Gene48162.t1;PH02Gene48166.t1;PH02Gene48167.t1;PH02Gene48296.t1;PH02Gene48335.t1;PH02Gene48337.t1;PH02Gene48444.t1;PH02Gene48499.t1;PH02Gene48634.t1;PH02Gene48638.t1;PH02Gene48640.t1;PH02Gene48691.t1;PH02Gene48704.t1;PH02Gene48851.t1;PH02Gene48924.t1;PH02Gene48938.t1;PH02Gene48956.t1;PH02Gene48965.t1;PH02Gene48993.t1;PH02Gene49007.t1;PH02Gene49019.t1;PH02Gene49040.t1;PH02Gene49041.t1;PH02Gene49042.t1;PH02Gene49070.t1;PH02Gene49097.t1;PH02Gene49107.t1;PH02Gene49119.t1;PH02Gene49131.t1;PH02Gene49148.t1;PH02Gene49155.t1;PH02Gene49194.t1;PH02Gene49196.t1;PH02Gene49198.t1;PH02Gene49200.t1;PH02Gene49236.t1;PH02Gene49296.t1;PH02Gene49339.t1;PH02Gene49345.t1;PH02Gene49347.t1;PH02Gene49384.t1;PH02Gene49426.t1;PH02Gene49469.t1;PH02Gene49624.t1;PH02Gene49626.t1;PH02Gene49693.t1;PH02Gene49706.t1;PH02Gene49892.t1;PH02Gene49894.t1;PH02Gene49902.t1;PH02Gene49958.t1;PH02Gene49987.t3;PH02Gene49988.t1;PH02Gene50007.t1;PH02Gene50040.t1;PH02Gene50226.t1;PH02Gene50242.t1;PH02Gene50243.t1;PH02Gene50244.t1;PH02Gene50271.t1;PH02Gene50272.t1;PH02Gene50324.t1;PH02Gene50327.t1;PH02Gene50350.t1;PH02Gene50384.t1;PH02Gene50402.t1;PH02Gene50403.t1;PH02Gene50404.t1;PH02Gene50406.t1;PH02Gene50464.t1;PH02Gene50481.t1;PH02Gene50525.t1;PH02Gene50593.t1;PH02Gene50610.t1;PH02Gene50673.t1;PH02Gene50686.t1;PH02Gene50687.t1;PH02Gene50689.t2;PH02Gene50697.t1;PH02Gene50716.t1;PH02Gene50769.t1;PH02Gene50777.t1;PH02Gene50778.t1;PH02Gene50779.t1;PH02Gene50803.t1;PH02Gene50826.t1;PH02Gene50831.t1;PH02Gene50842.t1;PH02Gene50851.t1;PH02Gene50855.t1;PH02Gene50895.t1;PH02Gene50924.t1;PH02Gene50943.t1;PH02Gene50986.t1;PH02Gene51023.t1;PH02Gene51062.t1;PH02Gene51063.t1;PH02Gene51067.t1;PH02Gene51109.t1;PH02Gene51132.t1;PH02Gene51159.t1;PH02Gene51192.t1;PH02Gene51356.t1;PH02Gene51357.t1;PH02Gene51384.t1;PH02Gene51385.t1;PH02Gene51406.t1;PH02Gene51416.t1;PH02Gene51459.t1;PH02Gene51477.t1
A4: Pentose and glucuronate interconversions | B4: 96 | C4: 459 | D4: 3805 | E4: 39049 | F4: 5.006082e-13 | G4: 3.354075e-11 | H4: ko00040 | I4: PH02Gene02478.t1;PH02Gene02481.t1;PH02Gene02482.t1;PH02Gene02484.t1;PH02Gene08021.t1;PH02Gene08022.t1;PH02Gene09656.t1;PH02Gene09662.t1;PH02Gene10389.t1;PH02Gene18277.t1;PH02Gene23238.t1;PH02Gene30324.t1;PH02Gene31794.t1;PH02Gene32142.t1;PH02Gene32792.t1;PH02Gene33049.t1;PH02Gene33050.t1;PH02Gene33079.t1;PH02Gene33081.t1;PH02Gene33082.t1;PH02Gene34188.t1;PH02Gene34356.t1;PH02Gene34578.t1;PH02Gene34843.t1;PH02Gene34846.t1;PH02Gene35489.t1;PH02Gene35812.t1;PH02Gene35813.t1;PH02Gene36732.t1;PH02Gene38472.t1;PH02Gene39194.t1;PH02Gene39195.t1;PH02Gene39226.t1;PH02Gene39669.t1;PH02Gene39671.t1;PH02Gene39672.t1;PH02Gene40799.t1;PH02Gene41306.t1;PH02Gene41361.t1;PH02Gene41625.t1;PH02Gene41629.t1;PH02Gene41938.t1;PH02Gene42889.t1;PH02Gene43543.t1;PH02Gene43545.t1;PH02Gene43640.t1;PH02Gene43708.t1;PH02Gene44028.t1;PH02Gene44938.t1;PH02Gene45083.t1;PH02Gene45358.t1;PH02Gene45359.t1;PH02Gene45629.t1;PH02Gene45672.t1;PH02Gene46230.t1;PH02Gene46272.t1;PH02Gene46273.t1;PH02Gene46274.t1;PH02Gene46310.t1;PH02Gene47009.t1;PH02Gene47057.t1;PH02Gene47058.t1;PH02Gene47095.t1;PH02Gene47114.t1;PH02Gene47219.t1;PH02Gene47341.t1;PH02Gene47377.t1;PH02Gene47559.t1;PH02Gene47572.t2;PH02Gene47664.t1;PH02Gene47711.t1;PH02Gene47820.t1;PH02Gene48104.t1;PH02Gene48153.t1;PH02Gene48495.t1;PH02Gene48898.t1;PH02Gene49608.t1;PH02Gene49609.t1;PH02Gene49771.t1;PH02Gene49853.t1;PH02Gene50132.t1;PH02Gene50590.t1;PH02Gene50631.t1;PH02Gene50632.t1;PH02Gene50719.t1;PH02Gene50723.t1;PH02Gene50752.t1;PH02Gene50894.t1;PH02Gene51001.t1;PH02Gene51167.t1;PH02Gene51169.t1;PH02Gene51207.t1;PH02Gene51249.t1;PH02Gene51251.t1;PH02Gene51478.t1;PH02Gene51511.t1
A5: RNA transport | B5: 140 | C5: 969 | D5: 3805 | E5: 39049 | F5: 1.490486e-06 | G5: 6.657504e-05 | H5: ko03013 | I5: PH02Gene02478.t1;PH02Gene02480.t1;PH02Gene02481.t1;PH02Gene02482.t1;PH02Gene02484.t1;PH02Gene04288.t2;PH02Gene06416.t1;PH02Gene09662.t1;PH02Gene10519.t1;PH02Gene12123.t1;PH02Gene13617.t1;PH02Gene16944.t1;PH02Gene17154.t1;PH02Gene17549.t1;PH02Gene17550.t1;PH02Gene18668.t1;PH02Gene18949.t1;PH02Gene20529.t1;PH02Gene20720.t1;PH02Gene22867.t1;PH02Gene25626.t1;PH02Gene26077.t1;PH02Gene26932.t1;PH02Gene28295.t1;PH02Gene28819.t1;PH02Gene28942.t1;PH02Gene32142.t1;PH02Gene33079.t1;PH02Gene33080.t1;PH02Gene33081.t1;PH02Gene33082.t1;PH02Gene33084.t1;PH02Gene33208.t1;PH02Gene34171.t1;PH02Gene34842.t1;PH02Gene34843.t1;PH02Gene34846.t1;PH02Gene35490.t1;PH02Gene35812.t1;PH02Gene35813.t1;PH02Gene36258.t1;PH02Gene36260.t1;PH02Gene36261.t1;PH02Gene36436.t1;PH02Gene36732.t1;PH02Gene36873.t1;PH02Gene36917.t1;PH02Gene37092.t1;PH02Gene37157.t1;PH02Gene37598.t1;PH02Gene37854.t1;PH02Gene38472.t1;PH02Gene38822.t1;PH02Gene39453.t1;PH02Gene39669.t1;PH02Gene39671.t1;PH02Gene39672.t1;PH02Gene40703.t1;PH02Gene41112.t1;PH02Gene41155.t1;PH02Gene41303.t1;PH02Gene41304.t1;PH02Gene41402.t1;PH02Gene41625.t1;PH02Gene41627.t1;PH02Gene41629.t1;PH02Gene41630.t1;PH02Gene42007.t2;PH02Gene42009.t1;PH02Gene42174.t1;PH02Gene42331.t1;PH02Gene43543.t1;PH02Gene43545.t1;PH02Gene43546.t1;PH02Gene43640.t1;PH02Gene44015.t1;PH02Gene44280.t1;PH02Gene44598.t1;PH02Gene44599.t1;PH02Gene44608.t1;PH02Gene44737.t1;PH02Gene44875.t1;PH02Gene44938.t1;PH02Gene45012.t1;PH02Gene45083.t1;PH02Gene45836.t1;PH02Gene46000.t1;PH02Gene46230.t1;PH02Gene46273.t1;PH02Gene46686.t1;PH02Gene46687.t1;PH02Gene47057.t1;PH02Gene47058.t1;PH02Gene47095.t1;PH02Gene47107.t1;PH02Gene47127.t1;PH02Gene47559.t1;PH02Gene47711.t1;PH02Gene47820.t1;PH02Gene47972.t1;PH02Gene48093.t1;PH02Gene48153.t1;PH02Gene48414.t1;PH02Gene48481.t1;PH02Gene48577.t1;PH02Gene48791.t1;PH02Gene48898.t1;PH02Gene48899.t1;PH02Gene49240.t1;PH02Gene49368.t1;PH02Gene49477.t1;PH02Gene49608.t1;PH02Gene49609.t1;PH02Gene49630.t1;PH02Gene49771.t1;PH02Gene49823.t1;PH02Gene49834.t1;PH02Gene49846.t1;PH02Gene49847.t1;PH02Gene49881.t1;PH02Gene50132.t1;PH02Gene50422.t1;PH02Gene50534.t1;PH02Gene50550.t1;PH02Gene50590.t1;PH02Gene50631.t1;PH02Gene50632.t1;PH02Gene50723.t1;PH02Gene50786.t1;PH02Gene50894.t1;PH02Gene50901.t1;PH02Gene50987.t1;PH02Gene51128.t1;PH02Gene51169.t1;PH02Gene51224.t1;PH02Gene51238.t1;PH02Gene51252.t1;PH02Gene51324.t1;PH02Gene51427.t1;PH02Gene51474.t1
A6: Tryptophan metabolism | B6: 47 | C6: 294 | D6: 3805 | E6: 39049 | F6: 0.0005025241 | G6: 0.01683456 | H6: ko00380 | I6: PH02Gene08885.t1;PH02Gene09411.t1;PH02Gene15183.t1;PH02Gene15184.t2;PH02Gene16174.t1;PH02Gene17737.t1;PH02Gene24836.t1;PH02Gene29733.t1;PH02Gene31517.t1;PH02Gene33087.t1;PH02Gene33088.t1;PH02Gene33089.t1;PH02Gene33090.t1;PH02Gene33091.t1;PH02Gene33092.t1;PH02Gene33094.t1;PH02Gene35612.t1;PH02Gene37459.t1;PH02Gene41244.t1;PH02Gene41635.t1;PH02Gene41898.t1;PH02Gene42282.t1;PH02Gene42283.t1;PH02Gene42946.t1;PH02Gene42947.t1;PH02Gene43526.t1;PH02Gene43991.t1;PH02Gene43993.t1;PH02Gene46923.t1;PH02Gene47114.t1;PH02Gene47326.t1;PH02Gene47327.t1;PH02Gene47328.t1;PH02Gene47692.t1;PH02Gene47693.t1;PH02Gene47695.t2;PH02Gene47696.t1;PH02Gene48104.t1;PH02Gene49495.t1;PH02Gene50027.t1;PH02Gene50051.t1;PH02Gene50052.t1;PH02Gene50053.t1;PH02Gene50458.t1;PH02Gene50812.t1;PH02Gene51037.t1;PH02Gene51318.t1
A7: Ribosome biogenesis in eukaryotes | B7: 66 | C7: 455 | D7: 3805 | E7: 39049 | F7: 0.0007181234 | G7: 0.01924571 | H7: ko03008 | I7: PH02Gene13336.t1;PH02Gene13475.t1;PH02Gene14780.t1;PH02Gene15852.t1;PH02Gene20965.t1;PH02Gene21012.t1;PH02Gene23291.t1;PH02Gene23292.t1;PH02Gene24240.t1;PH02Gene25514.t1;PH02Gene27356.t1;PH02Gene29735.t1;PH02Gene30846.t1;PH02Gene30847.t1;PH02Gene31562.t1;PH02Gene32793.t1;PH02Gene34351.t1;PH02Gene35972.t1;PH02Gene36257.t1;PH02Gene37893.t1;PH02Gene37895.t1;PH02Gene37897.t1;PH02Gene37898.t1;PH02Gene37899.t1;PH02Gene37901.t1;PH02Gene39293.t1;PH02Gene39294.t1;PH02Gene39300.t1;PH02Gene39301.t1;PH02Gene40898.t2;PH02Gene41990.t1;PH02Gene42174.t1;PH02Gene42635.t1;PH02Gene42638.t1;PH02Gene42639.t1;PH02Gene44280.t1;PH02Gene44459.t1;PH02Gene44460.t1;PH02Gene44461.t1;PH02Gene44689.t1;PH02Gene45015.t1;PH02Gene45018.t1;PH02Gene45019.t1;PH02Gene45126.t1;PH02Gene46000.t1;PH02Gene46443.t1;PH02Gene46444.t1;PH02Gene48486.t1;PH02Gene49238.t1;PH02Gene49320.t1;PH02Gene49321.t1;PH02Gene49432.t1;PH02Gene49433.t1;PH02Gene49822.t1;PH02Gene50443.t1;PH02Gene50560.t1;PH02Gene50663.t1;PH02Gene50780.t1;PH02Gene50786.t1;PH02Gene50849.t1;PH02Gene50913.t1;PH02Gene51014.t1;PH02Gene51018.t1;PH02Gene51180.t1;PH02Gene51398.t1;PH02Gene51430.t1
A8: Sulfur metabolism | B8: 21 | C8: 117 | D8: 3805 | E8: 39049 | F8: 0.004358205 | G8: 0.0834285 | H8: ko00920 | I8: PH02Gene13524.t1;PH02Gene13525.t1;PH02Gene13526.t1;PH02Gene28863.t1;PH02Gene28865.t1;PH02Gene40233.t1;PH02Gene40847.t1;PH02Gene41457.t1;PH02Gene42599.t1;PH02Gene45975.t1;PH02Gene47127.t1;PH02Gene47513.t1;PH02Gene47565.t1;PH02Gene48355.t1;PH02Gene48357.t1;PH02Gene48948.t1;PH02Gene51048.t1;PH02Gene51274.t1;PH02Gene51301.t1;PH02Gene51355.t1;PH02Gene51447.t1
A9: Sesquiterpenoid and triterpenoid biosynthesis | B9: 21 | C9: 117 | D9: 3805 | E9: 39049 | F9: 0.004358205 | G9: 0.0834285 | H9: ko00909 | I9: PH02Gene08873.t1;PH02Gene09151.t1;PH02Gene09152.t1;PH02Gene09153.t1;PH02Gene15780.t1;PH02Gene31673.t2;PH02Gene38813.t1;PH02Gene39252.t1;PH02Gene43442.t1;PH02Gene43850.t1;PH02Gene44021.t1;PH02Gene44983.t1;PH02Gene44985.t1;PH02Gene46919.t1;PH02Gene48178.t1;PH02Gene48180.t1;PH02Gene48749.t1;PH02Gene49191.t1;PH02Gene49852.t1;PH02Gene50914.t1;PH02Gene50979.t1
A10: Vitamin B6 metabolism | B10: 13 | C10: 68 | D10: 3805 | E10: 39049 | F10: 0.01327613 | G10: 0.2098173 | H10: ko00750 | I10: PH02Gene02776.t1;PH02Gene18706.t1;PH02Gene40775.t1;PH02Gene41458.t1;PH02Gene46762.t1;PH02Gene46895.t1;PH02Gene49077.t1;PH02Gene49462.t1;PH02Gene49628.t1;PH02Gene50065.t1;PH02Gene50358.t1;PH02Gene50730.t1;PH02Gene51364.t1
A11: RNA degradation | B11: 91 | C11: 745 | D11: 3805 | E11: 39049 | F11: 0.01477242 | G11: 0.2098173 | H11: ko03018 | I11: PH02Gene07743.t1;PH02Gene08036.t1;PH02Gene13336.t1;PH02Gene14780.t1;PH02Gene17549.t1;PH02Gene18650.t1;PH02Gene18668.t1;PH02Gene18994.t1;PH02Gene20720.t1;PH02Gene22867.t1;PH02Gene23291.t1;PH02Gene23292.t1;PH02Gene24240.t1;PH02Gene24487.t1;PH02Gene24841.t1;PH02Gene25514.t1;PH02Gene25626.t1;PH02Gene26652.t1;PH02Gene26705.t1;PH02Gene29735.t1;PH02Gene29736.t1;PH02Gene31562.t1;PH02Gene32793.t1;PH02Gene35487.t1;PH02Gene36257.t1;PH02Gene36917.t1;PH02Gene37092.t1;PH02Gene37455.t1;PH02Gene37598.t1;PH02Gene37897.t1;PH02Gene37898.t1;PH02Gene37899.t1;PH02Gene37901.t1;PH02Gene39293.t1;PH02Gene39294.t1;PH02Gene39300.t1;PH02Gene39301.t1;PH02Gene39338.t1;PH02Gene40354.t1;PH02Gene40703.t1;PH02Gene40970.t1;PH02Gene41402.t1;PH02Gene42635.t1;PH02Gene42638.t1;PH02Gene43264.t1;PH02Gene43722.t1;PH02Gene44110.t1;PH02Gene44459.t1;PH02Gene44460.t1;PH02Gene44461.t1;PH02Gene44608.t1;PH02Gene44689.t1;PH02Gene44875.t1;PH02Gene45015.t1;PH02Gene45018.t1;PH02Gene45019.t1;PH02Gene45126.t1;PH02Gene45612.t1;PH02Gene46072.t1;PH02Gene46443.t1;PH02Gene46444.t1;PH02Gene47803.t1;PH02Gene48155.t1;PH02Gene48373.t2;PH02Gene48463.t1;PH02Gene48791.t1;PH02Gene49186.t1;PH02Gene49320.t1;PH02Gene49321.t1;PH02Gene49432.t1;PH02Gene49433.t1;PH02Gene49822.t1;PH02Gene50017.t1;PH02Gene50155.t1;PH02Gene50394.t1;PH02Gene50509.t1;PH02Gene50550.t1;PH02Gene50560.t1;PH02Gene50594.t1;PH02Gene50693.t1;PH02Gene50816.t4;PH02Gene50829.t1;PH02Gene50849.t1;PH02Gene50906.t1;PH02Gene51018.t1;PH02Gene51147.t1;PH02Gene51225.t1;PH02Gene51265.t1;PH02Gene51324.t1;PH02Gene51474.t1;PH02Gene51492.t1
A12: Monoterpenoid biosynthesis | B12: 7 | C12: 28 | D12: 3805 | E12: 39049 | F12: 0.01565801 | G12: 0.2098173 | H12: ko00902 | I12: PH02Gene38961.t1;PH02Gene38965.t1;PH02Gene38966.t1;PH02Gene43517.t1;PH02Gene45068.t1;PH02Gene50114.t1;PH02Gene50652.t1
A13: Tyrosine metabolism | B13: 21 | C13: 135 | D13: 3805 | E13: 39049 | F13: 0.02133808 | G13: 0.2478663 | H13: ko00350 | I13: PH02Gene16174.t1;PH02Gene17737.t1;PH02Gene25199.t1;PH02Gene31171.t1;PH02Gene31517.t1;PH02Gene32343.t1;PH02Gene33378.t1;PH02Gene33379.t1;PH02Gene33381.t1;PH02Gene37459.t1;PH02Gene43993.t1;PH02Gene48500.t1;PH02Gene48718.t1;PH02Gene49416.t1;PH02Gene49495.t1;PH02Gene50093.t1;PH02Gene50387.t1;PH02Gene50925.t1;PH02Gene51145.t1;PH02Gene51347.t1;PH02Gene51369.t1
A14: RNA polymerase | B14: 44 | C14: 333 | D14: 3805 | E14: 39049 | F14: 0.02363672 | G14: 0.2478663 | H14: ko03020 | I14: PH02Gene08709.t1;PH02Gene08885.t1;PH02Gene16730.t1;PH02Gene16731.t1;PH02Gene20736.t1;PH02Gene24235.t1;PH02Gene25256.t1;PH02Gene25825.t1;PH02Gene26189.t1;PH02Gene26769.t1;PH02Gene36095.t1;PH02Gene36534.t1;PH02Gene37089.t1;PH02Gene37425.t1;PH02Gene38339.t1;PH02Gene38347.t1;PH02Gene38994.t1;PH02Gene41306.t1;PH02Gene41408.t1;PH02Gene44019.t1;PH02Gene46024.t1;PH02Gene46025.t1;PH02Gene46026.t1;PH02Gene46870.t1;PH02Gene47114.t1;PH02Gene47664.t1;PH02Gene48104.t1;PH02Gene48444.t1;PH02Gene48493.t1;PH02Gene48634.t1;PH02Gene49107.t1;PH02Gene49422.t1;PH02Gene49428.t1;PH02Gene49694.t1;PH02Gene49722.t1;PH02Gene49840.t1;PH02Gene49897.t1;PH02Gene50406.t1;PH02Gene50575.t2;PH02Gene50576.t1;PH02Gene50793.t1;PH02Gene50974.t1;PH02Gene51443.t1;PH02Gene51513.t1
... A21: Phenylalanine metabolism | B21: 33 | C21: 249 | D21: 3805 | E21: 39049 | F21: 0.04317462 | G21: 0.3044947 | H21: ko00360 | I21: PH02Gene08885.t1;PH02Gene16174.t1;PH02Gene17737.t1;PH02Gene27012.t1;PH02Gene27013.t1;PH02Gene27014.t1;PH02Gene31171.t1;PH02Gene31517.t1;PH02Gene32343.t1;PH02Gene33087.t1;PH02Gene33088.t1;PH02Gene33089.t1;PH02Gene33090.t1;PH02Gene33091.t1;PH02Gene33092.t1;PH02Gene33094.t1;PH02Gene37459.t1;PH02Gene41635.t1;PH02Gene42282.t1;PH02Gene42283.t1;PH02Gene43526.t1;PH02Gene43993.t1;PH02Gene47114.t1;PH02Gene47692.t1;PH02Gene47693.t1;PH02Gene47695.t2;PH02Gene47696.t1;PH02Gene48104.t1;PH02Gene48500.t1;PH02Gene49495.t1;PH02Gene50027.t1;PH02Gene50882.t1;PH02Gene50925.t1
A22: †x1 and x2 are the observed number of genes-of-interest and reference genes in a given KEGG pathway, respectively. Whereas n is the total number of genes-of-interest, N is the total number of reference genes
A23: †† the p-value was calculated by one-sided Fisher's exact test, and the corrected p-value was adjusted by Benjamini-Hochberg method.

Sheet Supplementary Data 6
A1: Supplementary Data 6. The summary of heterozygosity ratio of 427 samples.
A2: No. | B2: Sample ID | C2: Number of reference homozygous SNPs | D2: Number of nonreference homozygous SNPs | E2: Number of genotyped heterozygous SNPs | F2: Heterozygosity ratio | G2: Percent of heterozygous variation
A3: 1 | B3: AJ-1 | C3: 2916802 | D3: 130304 | E3: 2398905 | F3: =E3/D3 -> 18.410064 | G3: =E3/(E3+D3)*100 -> 94.848034
A4: 2 | B4: AJ-2 | C4: 2933057 | D4: 137106 | E4: 2375848 | F4: =E4/D4 -> 17.328549 | G4: =E4/(E4+D4)*100 -> 94.544031
A5: 3 | B5: AJ-3 | C5: 2932215 | D5: 136167 | E5: 2377629 | F5: =E5/D5 -> 17.461125 | G5: =E5/(E5+D5)*100 -> 94.583212
A6: 4 | B6: AJ-4 | C6: 2895626 | D6: 129494 | E6: 2420891 | F6: =E6/D6 -> 18.695005 | G6: =E6/(E6+D6)*100 -> 94.922571
A7: 5 | B7: AJ-5 | C7: 2950831 | D7: 136651 | E7: 2358529 | F7: =E7/D7 -> 17.259508 | G7: =E7/(E7+D7)*100 -> 94.523401
A8: 6 | B8: AJ-6 | C8: 2936519 | D8: 136480 | E8: 2373012 | F8: =E8/D8 -> 17.387251 | G8: =E8/(E8+D8)*100 -> 94.561449
A9: 7 | B9: AJ-7 | C9: 2942001 | D9: 136123 | E9: 2367887 | F9: =E9/D9 -> 17.395201 | G9: =E9/(E9+D9)*100 -> 94.5638
A10: 8 | B10: AJ-8 | C10: 2934165 | D10: 138979 | E10: 2372867 | F10: =E10/D10 -> 17.073565 | G10: =E10/(E10+D10)*100 -> 94.467057
A11: 9 | B11: AJ-9 | C11: 2888718 | D11: 129782 | E11: 2427511 | F11: =E11/D11 -> 18.704528 | G11: =E11/(E11+D11)*100 -> 94.925024
A12: 10 | B12: AJ-10 | C12: 2920751 | D12: 137394 | E12: 2387866 | F12: =E12/D12 -> 17.379696 | G12: =E12/(E12+D12)*100 -> 94.559214
A13: 11 | B13: AJ-11 | C13: 2916970 | D13: 122635 | E13: 2406406 | F13: =E13/D13 -> 19.622506 | G13: =E13/(E13+D13)*100 -> 95.150929
A14: 12 | B14: AJ-12 | C14: 2908206 | D14: 125138 | E14: 2412667 | F14: =E14/D14 -> 19.280051 | G14: =E14/(E14+D14)*100 -> 95.069046
... A429: 427 | B429: YX-30 | C429: 2885659 | D429: 137369 | E429: 2422983 | F429: =E429/D429 -> 17.638499 | G429: =E429/(E429+D429)*100 -> 94.634761

Sheet Supplementary Data 7
A1: Supplementary Data 7. 38 long continuous heterozygous SNPs clustered regions of high frequency (high-LCHRs) detected in the moso bamboo population.
A2: Chr. | B2: Start | C2: End | D2: Gene number | E2: Genes
A3: 1 | B3: 5400001 | C3: 10600000 | D3: =LEN(E3)-LEN(SUBSTITUTE(E3,";","")) -> 151 | E3: PH02Gene46651.t1;PH02Gene46650.t1;PH02Gene46433.t1;PH02Gene46432.t1;PH02Gene46431.t1;PH02Gene46430.t1;PH02Gene46429.t1;PH02Gene46428.t1;PH02Gene46427.t1;PH02Gene29647.t1;PH02Gene29648.t1;PH02Gene45848.t1;PH02Gene16764.t1;PH02Gene16765.t1;PH02Gene16766.t1;PH02Gene16483.t1;PH02Gene16484.t1;PH02Gene45851.t1;PH02Gene45852.t1;PH02Gene45853.t1;PH02Gene49154.t1;PH02Gene49153.t1;PH02Gene49152.t1;PH02Gene49151.t1;PH02Gene40530.t1;PH02Gene40531.t1;PH02Gene40532.t1;PH02Gene40533.t1;PH02Gene40534.t1;PH02Gene40535.t1;PH02Gene40536.t1;PH02Gene40537.t1;PH02Gene46985.t1;PH02Gene46986.t1;PH02Gene47077.t1;PH02Gene47076.t1;PH02Gene47075.t1;PH02Gene47074.t1;PH02Gene47073.t1;PH02Gene47072.t1;PH02Gene16763.t1;PH02Gene16762.t1;PH02Gene16760.t1;PH02Gene16761.t1;PH02Gene16759.t1;PH02Gene16758.t1;PH02Gene16757.t1;PH02Gene16756.t1;PH02Gene48482.t1;PH02Gene48481.t1;PH02Gene21151.t1;PH02Gene21152.t1;PH02Gene21153.t1;PH02Gene21154.t1;PH02Gene21155.t2;PH02Gene21156.t1;PH02Gene21157.t1;PH02Gene21158.t1;PH02Gene21159.t1;PH02Gene21160.t1;PH02Gene21161.t1;PH02Gene21162.t1;PH02Gene21163.t1;PH02Gene21164.t1;PH02Gene21165.t1;PH02Gene21166.t1;PH02Gene21167.t1;PH02Gene21168.t1;PH02Gene21169.t1;PH02Gene21170.t1;PH02Gene21171.t1;PH02Gene21172.t1;PH02Gene21176.t1;PH02Gene21175.t1;PH02Gene21174.t1;PH02Gene21173.t1;PH02Gene46942.t1;PH02Gene46943.t1;PH02Gene46944.t1;PH02Gene46945.t1;PH02Gene50246.t1;PH02Gene50245.t1;PH02Gene48852.t1;PH02Gene48853.t1;PH02Gene48854.t1;PH02Gene48855.t1;PH02Gene48856.t1;PH02Gene38573.t1;PH02Gene44477.t1;PH02Gene29584.t1;PH02Gene29585.t1;PH02Gene29586.t1;PH02Gene29587.t1;PH02Gene29588.t1;PH02Gene29589.t1;PH02Gene29590.t1;PH02Gene49985.t1;PH02Gene29596.t1;PH02Gene29595.t1;PH02Gene29594.t1;PH02Gene29593.t1;PH02Gene29592.t1;PH02Gene46666.t1;PH02Gene46665.t1;PH02Gene46664.t1;PH02Gene46663.t1;PH02Gene46662.t1;PH02Gene48697.t3;PH02Gene48698.t1;PH02Gene48699.t2;PH02Gene48700.t1;PH02Gene48701.t1;PH02Gene48702.t1;PH02Gene40086.t1;PH02Gene40087.t1;PH02Gene40088.t1;PH02Gene40089.t1;PH02Gene40090.t1;PH02Gene40091.t1;PH02Gene40092.t1;PH02Gene40093.t1;PH02Gene40094.t1;PH02Gene40095.t1;PH02Gene40096.t1;PH02Gene40097.t1;PH02Gene45491.t1;PH02Gene45492.t1;PH02Gene45493.t1;PH02Gene45494.t1;PH02Gene45495.t1;PH02Gene45496.t1;PH02Gene45497.t1;PH02Gene45498.t1;PH02Gene45499.t1;PH02Gene45500.t1;PH02Gene47200.t1;PH02Gene47199.t1;PH02Gene46480.t1;PH02Gene46479.t1;PH02Gene46478.t1;PH02Gene46477.t1;PH02Gene46476.t1;PH02Gene47257.t1;PH02Gene47256.t1;PH02Gene47255.t1;PH02Gene47254.t1;PH02Gene47253.t1;PH02Gene31165.t1;PH02Gene31166.t1;PH02Gene31167.t1;PH02Gene31168.t1;
A4: 1 | B4: 16000001 | C4: 23000000 | D4: =LEN(E4)-LEN(SUBSTITUTE(E4,";","")) -> 175 | E4: PH02Gene41675.t2;PH02Gene41674.t1;PH02Gene41673.t2;PH02Gene41672.t2;PH02Gene41671.t1;PH02Gene41670.t1;PH02Gene43357.t1;PH02Gene45160.t1;PH02Gene45159.t1;PH02Gene45158.t1;PH02Gene45157.t1;PH02Gene44054.t1;PH02Gene44053.t1;PH02Gene44052.t1;PH02Gene44051.t1;PH02Gene31784.t1;PH02Gene31785.t1;PH02Gene31786.t1;PH02Gene31787.t1;PH02Gene47779.t1;PH02Gene46562.t1;PH02Gene29213.t1;PH02Gene29212.t1;PH02Gene27278.t1;PH02Gene27279.t1;PH02Gene27280.t1;PH02Gene27281.t1;PH02Gene27282.t1;PH02Gene27283.t1;PH02Gene27284.t1;PH02Gene27285.t1;PH02Gene27286.t1;PH02Gene27287.t1;PH02Gene27288.t1;PH02Gene27289.t1;PH02Gene27290.t1;PH02Gene27291.t1;PH02Gene27292.t1;PH02Gene27293.t1;PH02Gene27294.t1;PH02Gene27295.t1;PH02Gene27296.t1;PH02Gene27297.t1;PH02Gene27298.t1;PH02Gene27299.t1;PH02Gene27300.t1;PH02Gene27301.t1;PH02Gene27302.t1;PH02Gene27303.t1;PH02Gene27304.t1;PH02Gene27305.t1;PH02Gene27306.t1;PH02Gene27307.t1;PH02Gene27308.t1;PH02Gene42232.t1;PH02Gene42233.t1;PH02Gene27310.t1;PH02Gene27309.t1;PH02Gene42236.t1;PH02Gene42235.t1;PH02Gene42234.t1;PH02Gene49034.t1;PH02Gene41871.t1;PH02Gene26659.t1;PH02Gene26658.t1;PH02Gene26661.t1;PH02Gene47017.t1;PH02Gene47016.t1;PH02Gene47015.t1;PH02Gene26657.t1;PH02Gene26656.t3;PH02Gene26655.t1;PH02Gene26654.t1;PH02Gene26653.t1;PH02Gene26652.t1;PH02Gene26651.t1;PH02Gene26650.t1;PH02Gene26649.t1;PH02Gene26648.t1;PH02Gene26647.t1;PH02Gene26646.t1;PH02Gene26645.t1;PH02Gene26644.t1;PH02Gene31798.t1;PH02Gene31797.t1;PH02Gene31796.t2;PH02Gene31795.t1;PH02Gene31794.t1;PH02Gene31793.t1;PH02Gene31792.t1;PH02Gene31791.t1;PH02Gene31790.t1;PH02Gene31789.t1;PH02Gene31788.t1;PH02Gene36840.t1;PH02Gene36839.t1;PH02Gene50533.t1;PH02Gene36842.t1;PH02Gene36843.t1;PH02Gene36844.t1;PH02Gene36845.t1;PH02Gene36846.t2;PH02Gene36847.t1;PH02Gene36848.t1;PH02Gene36849.t1;PH02Gene36850.t1;PH02Gene36851.t1;PH02Gene36852.t1;PH02Gene36853.t1;PH02Gene36854.t2;PH02Gene36855.t1;PH02Gene36856.t1;PH02Gene36857.t1;PH02Gene20245.t1;PH02Gene46171.t1;PH02Gene46170.t1;PH02Gene42740.t1;PH02Gene42741.t1;PH02Gene49565.t1;PH02Gene42742.t1;PH02Gene42743.t1;PH02Gene42744.t1;PH02Gene11307.t1;PH02Gene11306.t1;PH02Gene11305.t1;PH02Gene11304.t1;PH02Gene11303.t1;PH02Gene11302.t1;PH02Gene11301.t1;PH02Gene11300.t1;PH02Gene11299.t1;PH02Gene11298.t1;PH02Gene11297.t1;PH02Gene11296.t1;PH02Gene11295.t1;PH02Gene11294.t1;PH02Gene11293.t1;PH02Gene11290.t1;PH02Gene11289.t1;PH02Gene11288.t1;PH02Gene11287.t1;PH02Gene11286.t2;PH02Gene11285.t3;PH02Gene11284.t1;PH02Gene11283.t1;PH02Gene11282.t1;PH02Gene11281.t1;PH02Gene11280.t1;PH02Gene48047.t1;PH02Gene49988.t1;PH02Gene49987.t3;PH02Gene49070.t1;PH02Gene49071.t1;PH02Gene49744.t1;PH02Gene49743.t1;PH02Gene50084.t1;PH02Gene49806.t1;PH02Gene48329.t1;PH02Gene49958.t1;PH02Gene48923.t1;PH02Gene48924.t1;PH02Gene49826.t1;PH02Gene49825.t1;PH02Gene49824.t1;PH02Gene49902.t1;PH02Gene44079.t1;PH02Gene44078.t1;PH02Gene44077.t1;PH02Gene44076.t1;PH02Gene44075.t1;PH02Gene44074.t1;PH02Gene44073.t1;PH02Gene33519.t1;PH02Gene33518.t1;PH02Gene29360.t1;
A5: 2 | B5: 400001 | C5: 5400000 | D5: =LEN(E5)-LEN(SUBSTITUTE(E5,";","")) -> 105 | E5: PH02Gene24728.t1;PH02Gene24729.t1;PH02Gene24730.t1;PH02Gene24731.t1;PH02Gene24732.t1;PH02Gene24733.t1;PH02Gene24734.t1;PH02Gene24735.t1;PH02Gene50065.t1;PH02Gene50064.t1;PH02Gene50454.t1;PH02Gene47292.t1;PH02Gene47293.t1;PH02Gene47294.t1;PH02Gene48905.t1;PH02Gene48904.t1;PH02Gene48903.t1;PH02Gene48501.t1;PH02Gene48502.t1;PH02Gene47550.t1;PH02Gene43872.t1;PH02Gene50608.t1;PH02Gene50572.t1;PH02Gene32923.t1;PH02Gene32924.t1;PH02Gene43874.t1;PH02Gene43875.t1;PH02Gene43876.t1;PH02Gene43877.t1;PH02Gene48991.t1;PH02Gene48992.t1;PH02Gene48993.t1;PH02Gene43532.t1;PH02Gene43531.t1;PH02Gene43530.t1;PH02Gene43529.t1;PH02Gene43528.t1;PH02Gene43527.t1;PH02Gene43526.t1;PH02Gene43525.t1;PH02Gene43524.t1;PH02Gene43523.t1;PH02Gene43522.t1;PH02Gene43521.t2;PH02Gene43520.t1;PH02Gene27770.t2;PH02Gene38475.t1;PH02Gene38476.t1;PH02Gene38477.t1;PH02Gene38478.t1;PH02Gene38479.t1;PH02Gene38480.t1;PH02Gene38481.t1;PH02Gene38482.t1;PH02Gene38483.t1;PH02Gene38484.t1;PH02Gene38485.t1;PH02Gene38486.t1;PH02Gene38487.t1;PH02Gene38488.t1;PH02Gene38489.t1;PH02Gene46466.t1;PH02Gene46465.t2;PH02Gene26157.t1;PH02Gene26156.t1;PH02Gene26155.t1;PH02Gene26154.t1;PH02Gene26153.t2;PH02Gene26152.t1;PH02Gene26151.t1;PH02Gene26150.t1;PH02Gene26149.t1;PH02Gene26148.t1;PH02Gene32927.t3;PH02Gene32928.t1;PH02Gene32929.t1;PH02Gene50664.t1;PH02Gene43538.t1;PH02Gene43539.t1;PH02Gene26142.t1;PH02Gene26143.t1;PH02Gene26144.t1;PH02Gene46722.t1;PH02Gene46723.t1;PH02Gene26145.t1;PH02Gene26146.t1;PH02Gene46932.t1;PH02Gene48718.t1;PH02Gene32932.t1;PH02Gene32933.t1;PH02Gene32934.t1;PH02Gene32935.t1;PH02Gene32936.t1;PH02Gene32937.t1;PH02Gene32938.t1;PH02Gene32939.t1;PH02Gene32940.t1;PH02Gene47308.t1;PH02Gene49008.t1;PH02Gene49009.t1;PH02Gene49010.t1;PH02Gene49011.t2;PH02Gene25445.t1;PH02Gene38163.t1;PH02Gene38162.t1;
A6: 2 | B6: 29800001 | C6: 35600000 | D6: =LEN(E6)-LEN(SUBSTITUTE(E6,";","")) -> 205 | E6: PH02Gene17547.t1;PH02Gene17548.t1;PH02Gene17549.t1;PH02Gene17550.t1;PH02Gene17551.t1;PH02Gene47125.t2;PH02Gene47126.t1;PH02Gene47127.t1;PH02Gene47128.t1;PH02Gene47129.t1;PH02Gene47130.t1;PH02Gene18228.t1;PH02Gene18227.t1;PH02Gene18226.t1;PH02Gene39403.t1;PH02Gene39404.t1;PH02Gene39405.t1;PH02Gene39406.t1;PH02Gene39407.t1;PH02Gene39408.t2;PH02Gene39409.t1;PH02Gene39410.t1;PH02Gene39411.t1;PH02Gene39412.t1;PH02Gene39413.t1;PH02Gene39414.t1;PH02Gene39415.t1;PH02Gene39416.t1;PH02Gene39417.t1;PH02Gene39418.t1;PH02Gene40916.t1;PH02Gene40915.t1;PH02Gene40914.t1;PH02Gene40913.t1;PH02Gene40912.t1;PH02Gene40911.t1;PH02Gene40910.t1;PH02Gene40909.t1;PH02Gene40908.t1;PH02Gene40907.t1;PH02Gene40906.t1;PH02Gene40905.t3;PH02Gene40904.t1;PH02Gene40903.t1;PH02Gene40902.t1;PH02Gene40901.t1;PH02Gene40900.t1;PH02Gene40899.t1;PH02Gene40898.t2;PH02Gene41557.t1;PH02Gene48450.t1;PH02Gene48449.t1;PH02Gene48448.t1;PH02Gene48447.t1;PH02Gene48446.t1;PH02Gene32055.t1;PH02Gene32054.t1;PH02Gene32053.t1;PH02Gene32052.t1;PH02Gene32051.t1;PH02Gene32050.t1;PH02Gene32049.t1;PH02Gene32048.t1;PH02Gene32047.t1;PH02Gene32046.t1;PH02Gene32045.t1;PH02Gene32044.t1;PH02Gene32043.t1;PH02Gene32042.t1;PH02Gene32041.t1;PH02Gene32040.t1;PH02Gene32039.t1;PH02Gene32038.t1;PH02Gene32037.t1;PH02Gene32036.t1;PH02Gene32035.t1;PH02Gene32034.t1;PH02Gene32033.t1;PH02Gene32032.t1;PH02Gene48987.t1;PH02Gene48986.t1;PH02Gene44898.t1;PH02Gene44897.t1;PH02Gene44896.t1;PH02Gene44895.t1;PH02Gene44894.t1;PH02Gene44893.t2;PH02Gene44892.t1;PH02Gene44891.t3;PH02Gene44890.t1;PH02Gene44889.t1;PH02Gene20886.t1;PH02Gene20887.t1;PH02Gene20888.t1;PH02Gene20889.t2;PH02Gene20890.t1;PH02Gene20891.t1;PH02Gene20892.t1;PH02Gene20893.t1;PH02Gene20894.t1;PH02Gene20895.t1;PH02Gene20896.t1;PH02Gene20897.t2;PH02Gene20898.t1;PH02Gene20899.t1;PH02Gene20900.t1;PH02Gene20901.t1;PH02Gene20902.t1;PH02Gene20903.t2;PH02Gene20904.t1;PH02Gene20905.t1;PH02Gene20906.t1;PH02Gene20907.t1;PH02Gene20908.t1;PH02Gene20909.t1;PH02Gene20910.t1;PH02Gene20911.t1;PH02Gene20912.t1;PH02Gene20913.t1;PH02Gene20914.t1;PH02Gene20915.t1;PH02Gene20916.t1;PH02Gene20917.t1;PH02Gene20918.t1;PH02Gene20919.t1;PH02Gene20920.t2;PH02Gene20921.t1;PH02Gene33880.t1;PH02Gene33881.t1;PH02Gene33882.t1;PH02Gene33883.t3;PH02Gene33884.t1;PH02Gene33885.t1;PH02Gene33886.t1;PH02Gene33887.t1;PH02Gene33888.t1;PH02Gene33889.t2;PH02Gene33890.t1;PH02Gene33891.t1;PH02Gene33892.t1;PH02Gene33893.t1;PH02Gene33894.t1;PH02Gene33895.t1;PH02Gene33896.t1;PH02Gene33897.t2;PH02Gene33898.t3;PH02Gene11440.t1;PH02Gene11441.t1;PH02Gene11442.t1;PH02Gene11443.t1;PH02Gene11444.t1;PH02Gene11445.t1;PH02Gene11446.t1;PH02Gene11447.t1;PH02Gene11448.t2;PH02Gene11449.t1;PH02Gene11450.t1;PH02Gene11451.t1;PH02Gene11452.t1;PH02Gene11453.t1;PH02Gene11454.t1;PH02Gene11455.t1;PH02Gene11456.t1;PH02Gene11457.t1;PH02Gene11458.t1;PH02Gene11459.t1;PH02Gene11460.t1;PH02Gene11461.t1;PH02Gene11462.t1;PH02Gene11463.t1;PH02Gene11464.t1;PH02Gene11465.t5;PH02Gene11466.t1;PH02Gene11467.t1;PH02Gene11468.t1;PH02Gene11469.t1;PH02Gene11470.t1;PH02Gene11471.t1;PH02Gene11472.t1;PH02Gene11473.t1;PH02Gene11474.t1;PH02Gene11475.t1;PH02Gene11476.t1;PH02Gene11477.t1;PH02Gene11478.t1;PH02Gene11479.t1;PH02Gene11480.t1;PH02Gene11481.t1;PH02Gene11482.t1;PH02Gene17707.t1;PH02Gene17706.t1;PH02Gene17709.t1;PH02Gene17710.t1;PH02Gene17711.t1;PH02Gene17712.t1;PH02Gene17713.t1;PH02Gene17714.t1;PH02Gene17715.t1;PH02Gene17716.t1;PH02Gene17717.t1;PH02Gene17718.t1;PH02Gene17719.t1;PH02Gene17720.t1;PH02Gene17721.t1;PH02Gene17722.t1;
A7: 3 | B7: 4400001 | C7: 10800000 | D7: =LEN(E7)-LEN(SUBSTITUTE(E7,";","")) -> 248 | E7: PH02Gene35549.t1;PH02Gene35550.t1;PH02Gene35551.t1;PH02Gene45909.t1;PH02Gene45910.t1;PH02Gene45911.t1;PH02Gene45912.t1;PH02Gene45913.t1;PH02Gene45914.t1;PH02Gene45915.t1;PH02Gene45916.t1;PH02Gene43649.t1;PH02Gene43650.t1;PH02Gene43651.t1;PH02Gene43652.t1;PH02Gene43653.t1;PH02Gene43654.t1;PH02Gene43655.t1;PH02Gene43656.t1;PH02Gene43042.t1;PH02Gene43041.t1;PH02Gene43040.t1;PH02Gene43039.t1;PH02Gene43038.t1;PH02Gene43037.t1;PH02Gene40957.t1;PH02Gene40956.t1;PH02Gene40955.t1;PH02Gene40954.t1;PH02Gene40953.t1;PH02Gene40952.t1;PH02Gene40951.t1;PH02Gene14673.t1;PH02Gene14672.t1;PH02Gene14671.t1;PH02Gene14670.t2;PH02Gene14669.t1;PH02Gene14668.t1;PH02Gene14667.t1;PH02Gene14666.t1;PH02Gene14665.t2;PH02Gene14664.t1;PH02Gene14663.t1;PH02Gene14662.t1;PH02Gene14661.t1;PH02Gene14660.t1;PH02Gene14659.t1;PH02Gene14658.t1;PH02Gene14657.t1;PH02Gene14656.t1;PH02Gene14655.t1;PH02Gene14654.t1;PH02Gene14653.t1;PH02Gene14652.t1;PH02Gene14651.t1;PH02Gene14650.t1;PH02Gene14649.t1;PH02Gene14648.t1;PH02Gene31538.t1;PH02Gene31537.t1;PH02Gene31536.t1;PH02Gene31535.t1;PH02Gene31534.t1;PH02Gene31533.t1;PH02Gene31532.t1;PH02Gene31531.t1;PH02Gene31530.t1;PH02Gene31529.t1;PH02Gene31528.t1;PH02Gene31527.t1;PH02Gene31526.t1;PH02Gene31525.t1;PH02Gene31524.t1;PH02Gene31523.t1;PH02Gene31522.t1;PH02Gene31521.t2;PH02Gene31520.t1;PH02Gene31519.t1;PH02Gene46350.t1;PH02Gene46351.t1;PH02Gene46352.t1;PH02Gene46353.t1;PH02Gene46354.t1;PH02Gene46355.t3;PH02Gene46356.t1;PH02Gene46357.t1;PH02Gene46358.t1;PH02Gene50335.t1;PH02Gene42760.t1;PH02Gene42759.t1;PH02Gene42758.t1;PH02Gene47634.t2;PH02Gene47633.t1;PH02Gene47632.t1;PH02Gene47631.t1;PH02Gene47630.t1;PH02Gene35354.t1;PH02Gene35355.t1;PH02Gene35356.t1;PH02Gene35357.t1;PH02Gene35358.t1;PH02Gene35359.t1;PH02Gene35360.t1;PH02Gene35361.t1;PH02Gene35362.t1;PH02Gene35363.t1;PH02Gene35364.t1;PH02Gene35365.t1;PH02Gene49849.t1;PH02Gene07231.t1;PH02Gene07230.t1;PH02Gene07229.t1;PH02Gene07228.t1;PH02Gene07227.t1;PH02Gene07226.t1;PH02Gene07225.t1;PH02Gene07224.t1;PH02Gene07223.t1;PH02Gene07222.t1;PH02Gene07221.t1;PH02Gene07220.t1;PH02Gene07219.t1;PH02Gene07218.t1;PH02Gene07217.t1;PH02Gene07216.t1;PH02Gene07215.t1;PH02Gene07214.t1;PH02Gene07213.t1;PH02Gene07212.t1;PH02Gene07211.t1;PH02Gene07210.t1;PH02Gene07209.t1;PH02Gene07208.t1;PH02Gene07207.t1;PH02Gene07206.t1;PH02Gene07205.t1;PH02Gene07204.t1;PH02Gene07203.t1;PH02Gene07202.t1;PH02Gene07201.t2;PH02Gene07200.t3;PH02Gene07199.t3;PH02Gene07198.t1;PH02Gene07197.t1;PH02Gene07196.t1;PH02Gene07195.t1;PH02Gene07194.t1;PH02Gene07193.t1;PH02Gene07192.t1;PH02Gene07191.t1;PH02Gene07190.t1;PH02Gene07189.t1;PH02Gene07188.t1;PH02Gene07187.t1;PH02Gene07186.t1;PH02Gene07185.t1;PH02Gene07184.t1;PH02Gene07183.t1;PH02Gene07182.t1;PH02Gene07181.t1;PH02Gene07180.t1;PH02Gene07179.t1;PH02Gene07178.t1;PH02Gene07177.t1;PH02Gene07176.t1;PH02Gene07175.t1;PH02Gene07174.t1;PH02Gene07173.t1;PH02Gene07172.t1;PH02Gene07171.t1;PH02Gene07170.t1;PH02Gene07169.t1;PH02Gene07168.t1;PH02Gene07167.t1;PH02Gene07166.t1;PH02Gene07165.t1;PH02Gene07164.t1;PH02Gene07163.t3;PH02Gene07162.t1;PH02Gene07161.t1;PH02Gene07160.t1;PH02Gene07159.t1;PH02Gene07158.t1;PH02Gene07157.t1;PH02Gene07156.t1;PH02Gene07155.t3;PH02Gene07154.t1;PH02Gene07153.t1;PH02Gene07152.t1;PH02Gene07151.t1;PH02Gene07150.t1;PH02Gene07149.t1;PH02Gene07148.t1;PH02Gene07147.t1;PH02Gene07146.t1;PH02Gene07145.t1;PH02Gene07144.t1;PH02Gene07143.t1;PH02Gene07142.t1;PH02Gene07141.t1;PH02Gene07140.t1;PH02Gene07139.t1;PH02Gene07138.t1;PH02Gene07137.t1;PH02Gene07136.t1;PH02Gene07135.t1;PH02Gene07134.t1;PH02Gene07133.t1;PH02Gene19622.t1;PH02Gene19621.t1;PH02Gene19620.t2;PH02Gene19619.t1;PH02Gene19618.t1;PH02Gene19617.t1;PH02Gene19616.t1;PH02Gene19615.t1;PH02Gene19614.t1;PH02Gene19613.t1;PH02Gene19612.t1;PH02Gene19611.t1;PH02Gene19610.t1;PH02Gene19609.t1;PH02Gene19608.t1;PH02Gene19607.t1;PH02Gene19606.t1;PH02Gene19605.t1;PH02Gene19604.t1;PH02Gene19603.t1;PH02Gene19602.t1;PH02Gene19601.t1;PH02Gene19600.t1;PH02Gene19599.t1;PH02Gene19598.t1;PH02Gene12669.t1;PH02Gene12668.t1;PH02Gene12667.t1;PH02Gene12666.t1;PH02Gene12665.t1;PH02Gene12664.t1;PH02Gene12663.t1;PH02Gene12662.t1;PH02Gene12661.t1;PH02Gene12660.t1;PH02Gene12659.t2;PH02Gene12658.t1;PH02Gene12657.t1;PH02Gene12656.t2;PH02Gene12655.t1;
A8: 3 | B8: 73400001 | C8: 80000000 | D8: =LEN(E8)-LEN(SUBSTITUTE(E8,";","")) -> 181 | E8: PH02Gene28824.t1;PH02Gene28823.t1;PH02Gene28822.t1;PH02Gene28821.t1;PH02Gene28820.t1;PH02Gene28819.t1;PH02Gene28818.t1;PH02Gene40760.t1;PH02Gene40759.t1;PH02Gene40758.t1;PH02Gene40757.t1;PH02Gene40756.t1;PH02Gene40755.t1;PH02Gene40754.t1;PH02Gene40753.t1;PH02Gene40752.t1;PH02Gene40751.t1;PH02Gene40750.t1;PH02Gene40749.t1;PH02Gene40564.t1;PH02Gene40565.t1;PH02Gene40566.t1;PH02Gene40567.t2;PH02Gene40568.t1;PH02Gene40569.t1;PH02Gene40570.t1;PH02Gene40571.t1;PH02Gene23749.t1;PH02Gene23750.t1;PH02Gene23751.t1;PH02Gene23752.t1;PH02Gene23753.t1;PH02Gene23754.t1;PH02Gene23755.t1;PH02Gene23756.t1;PH02Gene23757.t1;PH02Gene23758.t1;PH02Gene23759.t1;PH02Gene23760.t1;PH02Gene46772.t1;PH02Gene46773.t1;PH02Gene46774.t1;PH02Gene46775.t1;PH02Gene46776.t1;PH02Gene48387.t1;PH02Gene42620.t1;PH02Gene42619.t1;PH02Gene42618.t1;PH02Gene42617.t1;PH02Gene42616.t1;PH02Gene42615.t2;PH02Gene42614.t1;PH02Gene42613.t1;PH02Gene39689.t1;PH02Gene39688.t1;PH02Gene39687.t1;PH02Gene39686.t1;PH02Gene39685.t1;PH02Gene39684.t1;PH02Gene39683.t1;PH02Gene39682.t1;PH02Gene39681.t1;PH02Gene39680.t1;PH02Gene30836.t1;PH02Gene30834.t1;PH02Gene30833.t1;PH02Gene30832.t1;PH02Gene30831.t1;PH02Gene44954.t1;PH02Gene44953.t1;PH02Gene44952.t1;PH02Gene44951.t1;PH02Gene44950.t1;PH02Gene44949.t1;PH02Gene44948.t1;PH02Gene44947.t1;PH02Gene44946.t1;PH02Gene28912.t2;PH02Gene28913.t1;PH02Gene28914.t1;PH02Gene28915.t1;PH02Gene28916.t1;PH02Gene28917.t1;PH02Gene28918.t1;PH02Gene28919.t1;PH02Gene28920.t1;PH02Gene28921.t1;PH02Gene28922.t1;PH02Gene28923.t1;PH02Gene28924.t1;PH02Gene28925.t1;PH02Gene28926.t1;PH02Gene28927.t1;PH02Gene28928.t1;PH02Gene28929.t1;PH02Gene28930.t1;PH02Gene28931.t1;PH02Gene28932.t1;PH02Gene28933.t1;PH02Gene28934.t1;PH02Gene28935.t1;PH02Gene49435.t1;PH02Gene48277.t1;PH02Gene47765.t1;PH02Gene38803.t1;PH02Gene38802.t1;PH02Gene38801.t1;PH02Gene38800.t1;PH02Gene38799.t1;PH02Gene38798.t1;PH02Gene38797.t1;PH02Gene38796.t1;PH02Gene38795.t1;PH02Gene38794.t1;PH02Gene38793.t1;PH02Gene38792.t1;PH02Gene38791.t1;PH02Gene38790.t1;PH02Gene38789.t1;PH02Gene38788.t1;PH02Gene38787.t1;PH02Gene38786.t2;PH02Gene38785.t1;PH02Gene42680.t1;PH02Gene42681.t1;PH02Gene42682.t1;PH02Gene42683.t2;PH02Gene42684.t1;PH02Gene42685.t1;PH02Gene42686.t1;PH02Gene42687.t1;PH02Gene42688.t3;PH02Gene42689.t1;PH02Gene42690.t3;PH02Gene42691.t1;PH02Gene45247.t1;PH02Gene45246.t1;PH02Gene45245.t1;PH02Gene45244.t1;PH02Gene45243.t1;PH02Gene20323.t1;PH02Gene20324.t1;PH02Gene20325.t1;PH02Gene20326.t1;PH02Gene20327.t1;PH02Gene20328.t1;PH02Gene20329.t1;PH02Gene20330.t1;PH02Gene20331.t1;PH02Gene20332.t1;PH02Gene20333.t1;PH02Gene20334.t1;PH02Gene20335.t1;PH02Gene20336.t1;PH02Gene20337.t1;PH02Gene20338.t1;PH02Gene20339.t1;PH02Gene20340.t1;PH02Gene20341.t1;PH02Gene20342.t1;PH02Gene20343.t1;PH02Gene20344.t1;PH02Gene20345.t1;PH02Gene20346.t1;PH02Gene20347.t1;PH02Gene20348.t1;PH02Gene20349.t1;PH02Gene20350.t1;PH02Gene20351.t1;PH02Gene20352.t1;PH02Gene20353.t1;PH02Gene44109.t1;PH02Gene44110.t1;PH02Gene44111.t1;PH02Gene44112.t1;PH02Gene44113.t1;PH02Gene44114.t1;PH02Gene44115.t1;PH02Gene44116.t1;PH02Gene44117.t1;PH02Gene44118.t1;
A9: 3 | B9: 83400001 | C9: 91400000 | D9: =LEN(E9)-LEN(SUBSTITUTE(E9,";","")) -> 300 | E9: PH02Gene01462.t1;PH02Gene01461.t1;PH02Gene01460.t1;PH02Gene01459.t1;PH02Gene01458.t1;PH02Gene01457.t1;PH02Gene01456.t1;PH02Gene01455.t1;PH02Gene31251.t1;PH02Gene31250.t1;PH02Gene45964.t1;PH02Gene45965.t1;PH02Gene45966.t1;PH02Gene45967.t1;PH02Gene45968.t1;PH02Gene03848.t1;PH02Gene03847.t1;PH02Gene03846.t1;PH02Gene03845.t1;PH02Gene03844.t1;PH02Gene03843.t1;PH02Gene03842.t1;PH02Gene03841.t1;PH02Gene03840.t1;PH02Gene03839.t6;PH02Gene03838.t1;PH02Gene03837.t1;PH02Gene03836.t1;PH02Gene03835.t1;PH02Gene03834.t1;PH02Gene03833.t1;PH02Gene03832.t1;PH02Gene03831.t2;PH02Gene03830.t1;PH02Gene03829.t1;PH02Gene03828.t1;PH02Gene03827.t1;PH02Gene03826.t1;PH02Gene03825.t1;PH02Gene03824.t1;PH02Gene03823.t1;PH02Gene03822.t1;PH02Gene03821.t1;PH02Gene03820.t1;PH02Gene03819.t1;PH02Gene03818.t1;PH02Gene03817.t1;PH02Gene03816.t1;PH02Gene03815.t1;PH02Gene03814.t1;PH02Gene03813.t1;PH02Gene03812.t1;PH02Gene03811.t1;PH02Gene03810.t1;PH02Gene03809.t1;PH02Gene03808.t2;PH02Gene03807.t1;PH02Gene03806.t1;PH02Gene03805.t1;PH02Gene03804.t1;PH02Gene03803.t1;PH02Gene03802.t1;PH02Gene03801.t1;PH02Gene03800.t2;PH02Gene03799.t1;PH02Gene03798.t1;PH02Gene03797.t1;PH02Gene03796.t1;PH02Gene03795.t1;PH02Gene03794.t1;PH02Gene03793.t1;PH02Gene03792.t1;PH02Gene03791.t1;PH02Gene03790.t1;PH02Gene03789.t1;PH02Gene03788.t1;PH02Gene03787.t1;PH02Gene03786.t1;PH02Gene03785.t1;PH02Gene03784.t2;PH02Gene03783.t1;PH02Gene03782.t1;PH02Gene03781.t1;PH02Gene03780.t1;PH02Gene03779.t1;PH02Gene03778.t1;PH02Gene03777.t1;PH02Gene03776.t1;PH02Gene03775.t1;PH02Gene03774.t1;PH02Gene03773.t2;PH02Gene03772.t1;PH02Gene03771.t1;PH02Gene03770.t1;PH02Gene03769.t1;PH02Gene03768.t1;PH02Gene03767.t1;PH02Gene03766.t1;PH02Gene03765.t1;PH02Gene03764.t1;PH02Gene03763.t1;PH02Gene03762.t1;PH02Gene03761.t1;PH02Gene03760.t1;PH02Gene03759.t1;PH02Gene03758.t1;PH02Gene03757.t1;PH02Gene37228.t1;PH02Gene37229.t1;PH02Gene37230.t1;PH02Gene37231.t1;PH02Gene37232.t1;PH02Gene37233.t1;PH02Gene37234.t1;PH02Gene37235.t1;PH02Gene37236.t1;PH02Gene37237.t1;PH02Gene37238.t1;PH02Gene37239.t1;PH02Gene37240.t1;PH02Gene37241.t1;PH02Gene37242.t1;PH02Gene37243.t1;PH02Gene16236.t1;PH02Gene16235.t1;PH02Gene16234.t1;PH02Gene16233.t1;PH02Gene16232.t1;PH02Gene16231.t1;PH02Gene16230.t1;PH02Gene16229.t1;PH02Gene16228.t1;PH02Gene16227.t1;PH02Gene16226.t1;PH02Gene16225.t1;PH02Gene16224.t1;PH02Gene16223.t1;PH02Gene16222.t1;PH02Gene16221.t1;PH02Gene16220.t1;PH02Gene16219.t1;PH02Gene16218.t1;PH02Gene16217.t2;PH02Gene16216.t2;PH02Gene16215.t1;PH02Gene16214.t1;PH02Gene16213.t1;PH02Gene16212.t1;PH02Gene16211.t3;PH02Gene16210.t1;PH02Gene16209.t1;PH02Gene16208.t1;PH02Gene16207.t1;PH02Gene48721.t1;PH02Gene48722.t1;PH02Gene48723.t1;PH02Gene22819.t1;PH02Gene22820.t1;PH02Gene22821.t1;PH02Gene22822.t1;PH02Gene22823.t1;PH02Gene22824.t1;PH02Gene22825.t1;PH02Gene22826.t1;PH02Gene22827.t1;PH02Gene22828.t1;PH02Gene22829.t1;PH02Gene22830.t1;PH02Gene22831.t1;PH02Gene22832.t1;PH02Gene22833.t1;PH02Gene22834.t1;PH02Gene22835.t1;PH02Gene22836.t1;PH02Gene22837.t1;PH02Gene22838.t1;PH02Gene22839.t2;PH02Gene22840.t1;PH02Gene22841.t1;PH02Gene22842.t1;PH02Gene22843.t1;PH02Gene22844.t1;PH02Gene22845.t1;PH02Gene22846.t1;PH02Gene22847.t1;PH02Gene22848.t1;PH02Gene22849.t1;PH02Gene22850.t1;PH02Gene22851.t1;PH02Gene22852.t2;PH02Gene22853.t1;PH02Gene39223.t1;PH02Gene39222.t1;PH02Gene39221.t1;PH02Gene39220.t1;PH02Gene39219.t1;PH02Gene39218.t1;PH02Gene39217.t1;PH02Gene39216.t1;PH02Gene39215.t1;PH02Gene39214.t1;PH02Gene48300.t1;PH02Gene48299.t1;PH02Gene48298.t1;PH02Gene48297.t1;PH02Gene47710.t1;PH02Gene47709.t1;PH02Gene47708.t1;PH02Gene16415.t1;PH02Gene16416.t1;PH02Gene16417.t1;PH02Gene16418.t1;PH02Gene16419.t1;PH02Gene16420.t1;PH02Gene16421.t1;PH02Gene16422.t1;PH02Gene16423.t1;PH02Gene16424.t1;PH02Gene16425.t1;PH02Gene16426.t1;PH02Gene16427.t2;PH02Gene16428.t1;PH02Gene16429.t1;PH02Gene16430.t2;PH02Gene16431.t1;PH02Gene16432.t1;PH02Gene16433.t1;PH02Gene16434.t1;PH02Gene16435.t1;PH02Gene16436.t1;PH02Gene16437.t1;PH02Gene16438.t1;PH02Gene16439.t1;PH02Gene16440.t1;PH02Gene16441.t1;PH02Gene16442.t1;PH02Gene16443.t1;PH02Gene16444.t1;PH02Gene16445.t1;PH02Gene16446.t1;PH02Gene16447.t1;PH02Gene16448.t1;PH02Gene16449.t1;PH02Gene16450.t1;PH02Gene16451.t1;PH02Gene16452.t1;PH02Gene16453.t1;PH02Gene16454.t1;PH02Gene16455.t1;PH02Gene16456.t1;PH02Gene16457.t1;PH02Gene16458.t1;PH02Gene16459.t1;PH02Gene16460.t1;PH02Gene16461.t1;PH02Gene16462.t1;PH02Gene16463.t2;PH02Gene16464.t2;PH02Gene16465.t1;PH02Gene16466.t1;PH02Gene16467.t1;PH02Gene16468.t1;PH02Gene16469.t1;PH02Gene16470.t1;PH02Gene16471.t1;PH02Gene16472.t2;PH02Gene16473.t1;PH02Gene45956.t2;PH02Gene45955.t1;PH02Gene45954.t1;PH02Gene45953.t1;PH02Gene45952.t1;PH02Gene45951.t2;PH02Gene45950.t1;PH02Gene45949.t1;PH02Gene04838.t1;PH02Gene04839.t1;PH02Gene04840.t1;PH02Gene04841.t1;PH02Gene04842.t1;PH02Gene04843.t1;PH02Gene04844.t1;PH02Gene04845.t1;PH02Gene04846.t1;PH02Gene04847.t1;PH02Gene04848.t1;PH02Gene04849.t1;PH02Gene04850.t1;PH02Gene04851.t1;PH02Gene04852.t1;PH02Gene04853.t1;PH02Gene04854.t1;PH02Gene04855.t1;PH02Gene04856.t1;PH02Gene04857.t1;PH02Gene04858.t1;PH02Gene04859.t1;PH02Gene04860.t1;PH02Gene04861.t1;PH02Gene04862.t1;
