Workbook

Sheet Contents
A1: Contents
A2: ='Supplementary Data 1'!A1 -> Supplementary Data 1. The statistics of sequencing data mapping results.
A3: ='Supplementary Data 2'!A1 -> Supplementary Data 2. The number of SVs and CNVs of each individual.
A4: ='Supplementary Data 3'!A1 -> Supplementary Data 3. List of genes affected by SVs and CNVs.
A5: ='Supplementary Data 4'!A1 -> Supplementary Data 4. KEGG enrichment analysis for the affected genes by more than two different types of SVs.
A6: ='Supplementary Data 5'!A1 -> Supplementary Data 5. KEGG enrichment analysis for the affected genes overlapped with copy number variation.
A7: ='Supplementary Data 6'!A1 -> Supplementary Data 6. The summary of heterozygosity ratio of 427 samples.
A8: ='Supplementary Data 7'!A1 -> Supplementary Data 7. 38 long continuous heterozygous SNPs clustered regions of high frequency (high-LCHRs) detected in the moso bamboo population.
A9: ='Supplementary Data 8'!A1 -> Supplementary Data 8. GO enrichment analysis for the genes which overlap with long continuous heterozygous SNPs clustered regions of high frequency (high-LCHRs).
A10: ='Supplementary Data 9'!A1 -> Supplementary Data 9. 15 long continuous heterozygous SNPs clustered regions of low frequency (low-LCHRs) detected in the moso bamboo population.
A11: ='Supplementary Data 10'!A1 -> Supplementary Data 10. GO enrichment analysis for the genes which overlap with long continuous heterozygous SNPs clustered regions of low frequency (low-LCHRs).
A12: ='Supplementary Data 11'!A1 -> Supplementary Data 11. The potential regions and candidate genes under balancing selection for the moso bamboo population.
A13: ='Supplementary Data 12'!A1 -> Supplementary Data 12. GO enrichment analysis for the candidate genes under balancing selection.
A14: ='Supplementary Data 13'!A1 -> Supplementary Data 13. The candidate genes under balancing selection involved in disease resistance or environmental adaptation.
A15: ='Supplementary Data 14'!A1 -> Supplementary Data 14. The nine traits closely related to bamboo properties were measured.
A16: ='Supplementary Data 15'!A1 -> Supplementary Data 15. The twelve environmental factors collected on fifteen moso bamboo areas.
A17: ='Supplementary Data 16'!A1 -> Supplementary Data 16. The potentially associated regions and candidate genes for the trait of bending strength 12°.
A18: ='Supplementary Data 17'!A1 -> Supplementary Data 17. The potentially associated regions and candidate genes for the trait of compressive strength.
A19: ='Supplementary Data 18'!A1 -> Supplementary Data 18. The potentially associated regions and candidate genes for the trait of density.
A20: ='Supplementary Data 19'!A1 -> Supplementary Data 19. The potentially associated regions and candidate genes for the trait of elastic modulus.
A21: ='Supplementary Data 20'!A1 -> Supplementary Data 20. The potentially associated regions and candidate genes for the trait of ground diameter.
A22: ='Supplementary Data 21'!A1 -> Supplementary Data 21. The potentially associated regions and candidate genes for the trait of maximum load.
A23: ='Supplementary Data 22'!A1 -> Supplementary Data 22. The potentially associated regions and candidate genes for the trait of node number.
A24: ='Supplementary Data 23'!A1 -> Supplementary Data 23. The potentially associated regions and candidate genes for the trait of tensile modulus.
A25: ='Supplementary Data 24'!A1 -> Supplementary Data 24. The potentially associated regions and candidate genes for the trait of under crown height.
A26: ='Supplementary Data 25'!A1 -> Supplementary Data 25. Candidate associated genes related to the cell wall, carbohydrate metabolism and environmental adaptation.

Sheet Supplementary Data 1
A1: Supplementary Data 1. The statistics of sequencing data mapping results.
A2: No. | B2: Sample ID | C2: Sample ID in CNGB CNSA database | D2: Areas | E2: Abbreviation of areas | F2: Assigned phylogenetic groups | G2: #Raw reads pairs | H2: Raw bases (bp) | I2: #Clean read pairs | J2: Clean bases (bp) | K2: Mapping rate (%) | L2: Duplication rate (%) | M2: Mapping percent with proper insert sizes (%) | N2: Coverage (%) | O2: Insert size (SD, bp) | P2: Sequencing depth (×)
A3: 1 | B3: AJ-1 | C3: MS-11 | D3: Anji, Zhejiang | E3: AJ | F3: MS_EAST | G3: 138849909 | H3: 41654972700 | I3: 137466654 | J3: 41119986304 | K3: 97.3253 | L3: 16.3281 | M3: 93.7975 | N3: 93.19 | O3: 308.5(79.1) | P3: 22.42
A4: 2 | B4: AJ-2 | C4: MS-12 | D4: Anji, Zhejiang | E4: AJ | F4: MS_EAST | G4: 100483803 | H4: 30145140900 | I4: 100483448 | J4: 30128067125 | K4: 98.3934 | L4: 14.1216 | M4: 95.3166 | N4: 93.28 | O4: 317.1(84.5) | P4: 16.57
A5: 3 | B5: AJ-3 | C5: MS-23 | D5: Anji, Zhejiang | E5: AJ | F5: MS_EAST | G5: 98902367 | H5: 29670710100 | I5: 98902033 | J5: 29652699944 | K5: 98.7097 | L5: 12.193 | M5: 95.916 | N5: 93.28 | O5: 313.2(81.7) | P5: 16.36
A6: 4 | B6: AJ-4 | C6: MS-25 | D6: Anji, Zhejiang | E6: AJ | F6: MS_EAST | G6: 135838556 | H6: 40751566800 | I6: 134179293 | J6: 40133891191 | K6: 98.9314 | L6: 16.1252 | M6: 95.3742 | N6: 93.34 | O6: 291.4(72.3) | P6: 22.22
A7: 5 | B7: AJ-5 | C7: MS-26 | D7: Anji, Zhejiang | E7: AJ | F7: MS_EAST | G7: 100579836 | H7: 30173950800 | I7: 100579475 | J7: 30156208724 | K7: 97.7002 | L7: 13.1014 | M7: 94.6511 | N7: 93.3 | O7: 333.6(86.2) | P7: 16.47
A8: 6 | B8: AJ-6 | C8: MS-27 | D8: Anji, Zhejiang | E8: AJ | F8: MS_EAST | G8: 99219551 | H8: 29765865300 | I8: 99219224 | J8: 29748383742 | K8: 98.3414 | L8: 12.761 | M8: 95.5167 | N8: 93.28 | O8: 317.8(81.7) | P8: 16.36
A9: 7 | B9: AJ-7 | C9: MS-28 | D9: Anji, Zhejiang | E9: AJ | F9: MS_EAST | G9: 100556790 | H9: 30167037000 | I9: 100556418 | J9: 30148064683 | K9: 98.8765 | L9: 12.9326 | M9: 95.9482 | N9: 93.3 | O9: 323.1(84.0) | P9: 16.66
A10: 8 | B10: AJ-8 | C10: MS-29 | D10: Anji, Zhejiang | E10: AJ | F10: MS_EAST | G10: 93609899 | H10: 28082969700 | I10: 93609540 | J10: 28066910755 | K10: 98.9562 | L10: 12.0796 | M10: 96.3235 | N10: 93.23 | O10: 306.2(71.9) | P10: 15.54
A11: 9 | B11: AJ-9 | C11: MS-30 | D11: Anji, Zhejiang | E11: AJ | F11: MS_EAST | G11: 138946527 | H11: 41683958100 | I11: 137053803 | J11: 40920916159 | K11: 97.6012 | L11: 14.4509 | M11: 93.7055 | N11: 93.39 | O11: 275.5(70.2) | P11: 22.35
A12: 10 | B12: AJ-10 | C12: MS-1 | D12: Anji, Zhejiang | E12: AJ | F12: MS_EAST | G12: 100629917 | H12: 30188975100 | I12: 100629623 | J12: 30172023721 | K12: 99.576 | L12: 14.6457 | M12: 96.8691 | N12: 93.29 | O12: 297.2(70.8) | P12: 16.8
A13: 11 | B13: AJ-11 | C13: MS-2 | D13: Anji, Zhejiang | E13: AJ | F13: MS_EAST | G13: 171395450 | H13: 51418635000 | I13: 171395066 | J13: 51387009316 | K13: 98.3809 | L13: 16.7189 | M13: 94.9584 | N13: 93.51 | O13: 322.0(80.6) | P13: 28.2
A14: 12 | B14: AJ-12 | C14: MS-3 | D14: Anji, Zhejiang | E14: AJ | F14: MS_EAST | G14: 174856623 | H14: 52456986900 | I14: 174856175 | J14: 52427252146 | K14: 99.0904 | L14: 18.9847 | M14: 94.216 | N14: 93.47 | O14: 308.8(78.5) | P14: 28.99
... A429: 427 | B429: YX-30 | C429: MS-423 | D429: Yixing, Jiangsu | E429: YX | F429: MS_EAST | G429: 100681296 | H429: 30204388800 | I429: 100680875 | J429: 30192918099 | K429: 99.3725 | L429: 16.2488 | M429: 96.2507 | N429: 93.28 | O429: 319.6(80.7) | P429: 16.78
A430: outgroup | B430: Pkwan | C430: Pkwan | D430: Nanchang, Jiangxi | E430: Phyllostachys kwangsiensis | F430: outgroup | G430: 75204971 | H430: 22561491300 | I430: 75204943 | J430: 22550435658 | K430: 98.9192 | L430: 22.5497 | M430: 92.6613 | N430: 85.82 | O430: 312.6(73.9) | P430: 13.56

Sheet Supplementary Data 2
A1: Supplementary Data 2. The number of SVs and CNVs of each individual.
A2: Sample ID | B2: DEL | C2: INS | D2: INV | E2: ITX | F2: CNV (in 1kb bin)
A3: AJ-10 | B3: 2363 | C3: 369 | D3: 336 | E3: 49 | F3: 95340
A4: AJ-11 | B4: 4393 | C4: 932 | D4: 666 | E4: 108 | F4: 96012
A5: AJ-12 | B5: 4024 | C5: 832 | D5: 562 | E5: 104 | F5: 99974
A6: AJ-13 | B6: 2659 | C6: 374 | D6: 323 | E6: 69 | F6: 91876
A7: AJ-14 | B7: 2527 | C7: 399 | D7: 325 | E7: 57 | F7: 97582
A8: AJ-15 | B8: 3022 | C8: 520 | D8: 401 | E8: 87 | F8: 95086
A9: AJ-16 | B9: 2936 | C9: 446 | D9: 385 | E9: 75 | F9: 92447
A10: AJ-17 | B10: 2584 | C10: 384 | D10: 361 | E10: 62 | F10: 95772
A11: AJ-18 | B11: 4243 | C11: 900 | D11: 716 | E11: 114 | F11: 96834
A12: AJ-19 | B12: 2903 | C12: 483 | D12: 449 | E12: 63 | F12: 92723
A13: AJ-1 | B13: 3261 | C13: 557 | D13: 445 | E13: 76 | F13: 93873
A14: AJ-20 | B14: 3077 | C14: 505 | D14: 434 | E14: 65 | F14: 93626
... A429: YX-8 | B429: 2838 | C429: 407 | D429: 347 | E429: 56 | F429: 93321

Sheet Supplementary Data 3
A1: Supplementary Data 3. List of genes affected by SVs and CNVs.
A2: Gene ID | B2: affected genes type
B3: SV | C3: CNV
A4: PH02Gene00002.t1 | B4: one type | C4: None
A5: PH02Gene00013.t1 | B5: one type | C5: None
A6: PH02Gene00016.t1 | B6: one type | C6: None
A7: PH02Gene00023.t1 | B7: one type | C7: None
A8: PH02Gene00030.t1 | B8: one type | C8: None
A9: PH02Gene00032.t1 | B9: None | C9: gain
A10: PH02Gene00035.t1 | B10: multiple types | C10: None
A11: PH02Gene00049.t1 | B11: one type | C11: None
A12: PH02Gene00059.t1 | B12: None | C12: gain
A13: PH02Gene00084.t1 | B13: one type | C13: None
A14: PH02Gene00085.t1 | B14: one type | C14: None
A15: PH02Gene00086.t1 | B15: one type | C15: None
... A9377: PH02Gene50718.t1 | B9377: multiple types | C9377: None

Sheet Supplementary Data 4
A1: Supplementary Data 4. KEGG enrichment analysis for the affected genes by more than two different types of SVs.
A2: Pathway | B2: x1† | C2: x2† | D2: n† | E2: N† | F2: p-value†† | G2: Corrected p-value†† | H2: Pathway ID | I2: Genes
A3: Plant-pathogen interaction | B3: 101 | C3: 1567 | D3: 917 | E3: 39049 | F3: 5.476438e-20 | G3: 6.681254e-18 | H3: ko04626 | I3: PH02Gene06687.t1;PH02Gene08653.t1;PH02Gene08654.t1;PH02Gene08659.t1;PH02Gene12394.t1;PH02Gene13135.t1;PH02Gene16484.t1;PH02Gene16623.t2;PH02Gene16738.t1;PH02Gene16764.t1;PH02Gene16766.t1;PH02Gene18443.t3;PH02Gene18448.t1;PH02Gene19664.t1;PH02Gene21160.t1;PH02Gene24724.t1;PH02Gene28823.t1;PH02Gene29359.t1;PH02Gene29617.t1;PH02Gene29647.t1;PH02Gene29648.t1;PH02Gene31604.t1;PH02Gene31879.t1;PH02Gene34181.t1;PH02Gene35526.t1;PH02Gene37141.t1;PH02Gene38339.t1;PH02Gene38396.t1;PH02Gene38400.t1;PH02Gene39359.t1;PH02Gene39524.t3;PH02Gene39525.t1;PH02Gene39527.t1;PH02Gene40093.t1;PH02Gene40097.t1;PH02Gene40157.t1;PH02Gene40530.t1;PH02Gene40531.t1;PH02Gene40532.t1;PH02Gene40533.t1;PH02Gene40534.t1;PH02Gene40535.t1;PH02Gene40536.t1;PH02Gene40537.t1;PH02Gene40555.t1;PH02Gene40556.t1;PH02Gene40563.t2;PH02Gene41448.t1;PH02Gene41675.t2;PH02Gene41794.t1;PH02Gene42605.t1;PH02Gene42673.t1;PH02Gene43111.t1;PH02Gene43814.t1;PH02Gene43818.t1;PH02Gene43820.t1;PH02Gene44074.t1;PH02Gene44397.t1;PH02Gene44494.t1;PH02Gene44739.t1;PH02Gene44740.t1;PH02Gene44741.t1;PH02Gene44792.t1;PH02Gene45117.t1;PH02Gene45158.t1;PH02Gene45172.t1;PH02Gene45494.t1;PH02Gene45496.t1;PH02Gene45497.t1;PH02Gene45498.t1;PH02Gene45669.t1;PH02Gene45848.t1;PH02Gene45853.t1;PH02Gene46427.t1;PH02Gene46428.t1;PH02Gene46429.t1;PH02Gene46430.t1;PH02Gene46431.t1;PH02Gene46433.t1;PH02Gene46613.t1;PH02Gene46651.t1;PH02Gene46653.t1;PH02Gene46654.t1;PH02Gene46655.t2;PH02Gene46871.t1;PH02Gene46873.t1;PH02Gene47041.t1;PH02Gene47074.t1;PH02Gene47075.t1;PH02Gene47786.t1;PH02Gene48162.t1;PH02Gene48166.t1;PH02Gene48691.t1;PH02Gene49153.t1;PH02Gene49665.t1;PH02Gene49961.t1;PH02Gene50103.t1;PH02Gene50327.t1;PH02Gene50669.t1;PH02Gene50673.t1;PH02Gene50697.t1
A4: Sesquiterpenoid and triterpenoid biosynthesis | B4: 16 | C4: 117 | D4: 917 | E4: 39049 | F4: 1.658074e-08 | G4: 1.011425e-06 | H4: ko00909 | I4: PH02Gene09151.t1;PH02Gene15749.t1;PH02Gene26515.t1;PH02Gene37084.t1;PH02Gene38814.t1;PH02Gene39252.t1;PH02Gene40249.t1;PH02Gene40251.t1;PH02Gene40255.t1;PH02Gene40256.t1;PH02Gene44021.t1;PH02Gene44983.t1;PH02Gene44985.t1;PH02Gene48178.t1;PH02Gene48180.t1;PH02Gene48658.t1
A5: Ribosome biogenesis in eukaryotes | B5: 23 | C5: 455 | D5: 917 | E5: 39049 | F5: 0.000557286 | G5: 0.02266296 | H5: ko03008 | I5: PH02Gene20965.t1;PH02Gene22900.t1;PH02Gene23291.t1;PH02Gene23292.t1;PH02Gene25514.t1;PH02Gene26294.t1;PH02Gene28653.t1;PH02Gene28655.t1;PH02Gene29341.t1;PH02Gene29342.t1;PH02Gene37316.t1;PH02Gene39293.t1;PH02Gene39294.t1;PH02Gene40834.t1;PH02Gene45018.t1;PH02Gene45019.t1;PH02Gene45353.t1;PH02Gene45584.t1;PH02Gene46443.t1;PH02Gene46841.t1;PH02Gene46842.t1;PH02Gene49232.t1;PH02Gene50443.t1
A6: Vancomycin resistance | B6: 2 | C6: 3 | D6: 917 | E6: 39049 | F6: 0.001626819 | G6: 0.04961798 | H6: ko01502 | I6: PH02Gene06096.t1;PH02Gene33322.t1
A7: Glycerophospholipid metabolism | B7: 21 | C7: 451 | D7: 917 | E7: 39049 | F7: 0.002564908 | G7: 0.06258376 | H7: ko00564 | I7: PH02Gene18306.t1;PH02Gene33080.t1;PH02Gene35778.t1;PH02Gene35779.t1;PH02Gene38383.t1;PH02Gene38850.t1;PH02Gene39610.t1;PH02Gene40092.t1;PH02Gene40096.t1;PH02Gene45493.t1;PH02Gene48446.t1;PH02Gene48448.t1;PH02Gene48512.t1;PH02Gene48513.t1;PH02Gene48514.t1;PH02Gene48515.t1;PH02Gene48516.t1;PH02Gene48626.t1;PH02Gene48783.t1;PH02Gene49380.t1;PH02Gene49595.t1
A8: RNA transport | B8: 35 | C8: 969 | D8: 917 | E8: 39049 | F8: 0.008615663 | G8: 0.1648597 | H8: ko03013 | I8: PH02Gene00830.t2;PH02Gene02481.t1;PH02Gene08601.t2;PH02Gene12913.t1;PH02Gene17154.t1;PH02Gene18494.t1;PH02Gene22459.t1;PH02Gene25003.t1;PH02Gene28295.t1;PH02Gene32278.t2;PH02Gene32289.t1;PH02Gene33080.t1;PH02Gene33082.t1;PH02Gene34469.t1;PH02Gene34843.t1;PH02Gene36780.t1;PH02Gene38110.t1;PH02Gene39669.t1;PH02Gene41112.t1;PH02Gene41572.t2;PH02Gene41627.t1;PH02Gene41629.t1;PH02Gene41630.t1;PH02Gene43546.t1;PH02Gene43640.t1;PH02Gene44719.t3;PH02Gene44937.t1;PH02Gene44938.t1;PH02Gene47058.t1;PH02Gene47559.t1;PH02Gene48379.t1;PH02Gene48416.t1;PH02Gene49080.t1;PH02Gene49098.t1;PH02Gene49477.t1
A9: 2-Oxocarboxylic acid metabolism | B9: 12 | C9: 237 | D9: 917 | E9: 39049 | F9: 0.01075773 | G9: 0.1648597 | H9: ko01210 | I9: PH02Gene08341.t1;PH02Gene12064.t1;PH02Gene13081.t1;PH02Gene31582.t1;PH02Gene31583.t1;PH02Gene34179.t1;PH02Gene34344.t1;PH02Gene39120.t1;PH02Gene42654.t1;PH02Gene47787.t1;PH02Gene48657.t2;PH02Gene50072.t1
A10: Anthocyanin biosynthesis | B10: 5 | C10: 57 | D10: 917 | E10: 39049 | F10: 0.01081047 | G10: 0.1648597 | H10: ko00942 | I10: PH02Gene42606.t1;PH02Gene47932.t1;PH02Gene47933.t1;PH02Gene50133.t1;PH02Gene50711.t1
A11: C5-Branched dibasic acid metabolism | B11: 4 | C11: 42 | D11: 917 | E11: 39049 | F11: 0.01668388 | G11: 0.2203547 | H11: ko00660 | I11: PH02Gene13081.t1;PH02Gene34179.t1;PH02Gene34344.t1;PH02Gene39120.t1
A12: Mannose type O-glycan biosynthesis | B12: 4 | C12: 43 | D12: 917 | E12: 39049 | F12: 0.01806186 | G12: 0.2203547 | H12: ko00515 | I12: PH02Gene38572.t1;PH02Gene42254.t1;PH02Gene42255.t1;PH02Gene42256.t1
A13: Cyanoamino acid metabolism | B13: 12 | C13: 270 | D13: 917 | E13: 39049 | F13: 0.02683995 | G13: 0.2773865 | H13: ko00460 | I13: PH02Gene08660.t1;PH02Gene12525.t1;PH02Gene33459.t3;PH02Gene39101.t1;PH02Gene41306.t1;PH02Gene47242.t2;PH02Gene47320.t1;PH02Gene48150.t1;PH02Gene48657.t2;PH02Gene48783.t1;PH02Gene50268.t1;PH02Gene50364.t1
A14: Lysine biosynthesis | B14: 5 | C14: 73 | D14: 917 | E14: 39049 | F14: 0.02864733 | G14: 0.2773865 | H14: ko00300 | I14: PH02Gene08341.t1;PH02Gene12064.t1;PH02Gene28320.t1;PH02Gene40102.t1;PH02Gene47773.t1
... A17: Homologous recombination | B17: 11 | C17: 259 | D17: 917 | E17: 39049 | F17: 0.04353674 | G17: 0.3540988 | H17: ko03440 | I17: PH02Gene06240.t1;PH02Gene26542.t1;PH02Gene29085.t1;PH02Gene36397.t1;PH02Gene37168.t2;PH02Gene41305.t1;PH02Gene41307.t1;PH02Gene42989.t1;PH02Gene47198.t1;PH02Gene48095.t1;PH02Gene50385.t1
A18: †x1 and x2 are the observed number of genes-of-interest and reference genes in a given KEGG pathway, respectively. Whereas n is the total number of genes-of-interest, N is the total number of reference genes
A19: †† the p-value was calculated by one-sided Fisher's exact test, and the corrected p-value was adjusted by Benjamini-Hochberg method.

Sheet Supplementary Data 5
A1: Supplementary Data 5. KEGG enrichment analysis for the affected genes overlapped with copy number variation.
A2: Pathway | B2: x1† | C2: x2† | D2: n† | E2: N† | F2: p-value†† | G2: Corrected p-value†† | H2: Pathway ID | I2: Genes
A3: Plant-pathogen interaction | B3: 274 | C3: 1567 | D3: 3805 | E3: 39049 | F3: 3.371842e-22 | G3: 4.518268e-20 | H3: ko04626 | I3: PH02Gene05783.t1;PH02Gene08867.t2;PH02Gene09150.t1;PH02Gene09304.t1;PH02Gene11280.t1;PH02Gene11281.t1;PH02Gene12721.t1;PH02Gene13141.t1;PH02Gene13371.t1;PH02Gene16735.t1;PH02Gene16738.t1;PH02Gene16739.t1;PH02Gene16740.t1;PH02Gene16743.t1;PH02Gene16744.t1;PH02Gene18994.t1;PH02Gene21160.t1;PH02Gene23636.t1;PH02Gene23740.t1;PH02Gene23744.t1;PH02Gene24586.t1;PH02Gene24743.t1;PH02Gene24842.t1;PH02Gene25515.t1;PH02Gene25520.t1;PH02Gene26084.t1;PH02Gene26089.t1;PH02Gene26143.t1;PH02Gene26939.t1;PH02Gene26940.t1;PH02Gene27308.t1;PH02Gene28258.t1;PH02Gene28376.t1;PH02Gene28467.t1;PH02Gene28469.t1;PH02Gene28823.t1;PH02Gene28824.t1;PH02Gene28944.t1;PH02Gene29210.t1;PH02Gene29360.t1;PH02Gene29361.t1;PH02Gene29587.t1;PH02Gene30230.t1;PH02Gene31367.t1;PH02Gene31479.t1;PH02Gene31482.t2;PH02Gene31645.t1;PH02Gene31648.t1;PH02Gene31659.t1;PH02Gene31662.t1;PH02Gene31664.t1;PH02Gene31665.t1;PH02Gene31671.t1;PH02Gene31908.t1;PH02Gene32774.t1;PH02Gene32795.t1;PH02Gene32897.t1;PH02Gene32906.t1;PH02Gene32913.t1;PH02Gene33516.t1;PH02Gene33518.t1;PH02Gene33519.t1;PH02Gene33523.t1;PH02Gene33524.t1;PH02Gene33525.t1;PH02Gene33526.t1;PH02Gene34176.t1;PH02Gene34181.t1;PH02Gene34184.t1;PH02Gene34186.t3;PH02Gene34278.t1;PH02Gene34352.t1;PH02Gene34354.t1;PH02Gene35966.t1;PH02Gene36995.t1;PH02Gene37000.t1;PH02Gene37001.t1;PH02Gene37140.t1;PH02Gene37141.t1;PH02Gene37425.t1;PH02Gene37877.t1;PH02Gene37879.t1;PH02Gene37985.t1;PH02Gene38339.t1;PH02Gene38347.t1;PH02Gene38488.t1;PH02Gene38637.t1;PH02Gene39296.t1;PH02Gene39450.t1;PH02Gene39524.t3;PH02Gene39525.t1;PH02Gene40084.t1;PH02Gene40086.t1;PH02Gene40167.t1;PH02Gene41059.t1;PH02Gene41097.t1;PH02Gene41670.t1;PH02Gene41675.t2;PH02Gene41676.t1;PH02Gene41759.t1;PH02Gene41794.t1;PH02Gene41804.t1;PH02Gene41807.t1;PH02Gene41923.t1;PH02Gene42604.t1;PH02Gene43111.t1;PH02Gene43234.t1;PH02Gene43311.t1;PH02Gene43312.t1;PH02Gene43313.t1;PH02Gene43314.t1;PH02Gene43444.t1;PH02Gene43814.t1;PH02Gene43815.t1;PH02Gene43818.t1;PH02Gene43820.t1;PH02Gene43899.t1;PH02Gene43900.t1;PH02Gene44025.t1;PH02Gene44052.t1;PH02Gene44054.t1;PH02Gene44073.t1;PH02Gene44074.t1;PH02Gene44075.t1;PH02Gene44077.t1;PH02Gene44078.t1;PH02Gene44279.t1;PH02Gene44282.t1;PH02Gene44283.t1;PH02Gene44284.t1;PH02Gene44604.t1;PH02Gene44739.t1;PH02Gene44792.t1;PH02Gene44796.t1;PH02Gene45114.t1;PH02Gene45117.t1;PH02Gene45158.t1;PH02Gene45306.t1;PH02Gene45531.t1;PH02Gene45644.t1;PH02Gene45648.t1;PH02Gene45709.t1;PH02Gene45941.t1;PH02Gene46510.t1;PH02Gene46560.t1;PH02Gene46613.t1;PH02Gene46722.t1;PH02Gene46871.t1;PH02Gene47052.t1;PH02Gene47061.t1;PH02Gene47074.t1;PH02Gene47075.t1;PH02Gene47337.t1;PH02Gene47375.t1;PH02Gene47563.t1;PH02Gene47566.t1;PH02Gene47786.t1;PH02Gene48044.t1;PH02Gene48045.t1;PH02Gene48047.t1;PH02Gene48048.t1;PH02Gene48135.t1;PH02Gene48136.t1;PH02Gene48137.t1;PH02Gene48162.t1;PH02Gene48166.t1;PH02Gene48167.t1;PH02Gene48296.t1;PH02Gene48335.t1;PH02Gene48337.t1;PH02Gene48444.t1;PH02Gene48499.t1;PH02Gene48634.t1;PH02Gene48638.t1;PH02Gene48640.t1;PH02Gene48691.t1;PH02Gene48704.t1;PH02Gene48851.t1;PH02Gene48924.t1;PH02Gene48938.t1;PH02Gene48956.t1;PH02Gene48965.t1;PH02Gene48993.t1;PH02Gene49007.t1;PH02Gene49019.t1;PH02Gene49040.t1;PH02Gene49041.t1;PH02Gene49042.t1;PH02Gene49070.t1;PH02Gene49097.t1;PH02Gene49107.t1;PH02Gene49119.t1;PH02Gene49131.t1;PH02Gene49148.t1;PH02Gene49155.t1;PH02Gene49194.t1;PH02Gene49196.t1;PH02Gene49198.t1;PH02Gene49200.t1;PH02Gene49236.t1;PH02Gene49296.t1;PH02Gene49339.t1;PH02Gene49345.t1;PH02Gene49347.t1;PH02Gene49384.t1;PH02Gene49426.t1;PH02Gene49469.t1;PH02Gene49624.t1;PH02Gene49626.t1;PH02Gene49693.t1;PH02Gene49706.t1;PH02Gene49892.t1;PH02Gene49894.t1;PH02Gene49902.t1;PH02Gene49958.t1;PH02Gene49987.t3;PH02Gene49988.t1;PH02Gene50007.t1;PH02Gene50040.t1;PH02Gene50226.t1;PH02Gene50242.t1;PH02Gene50243.t1;PH02Gene50244.t1;PH02Gene50271.t1;PH02Gene50272.t1;PH02Gene50324.t1;PH02Gene50327.t1;PH02Gene50350.t1;PH02Gene50384.t1;PH02Gene50402.t1;PH02Gene50403.t1;PH02Gene50404.t1;PH02Gene50406.t1;PH02Gene50464.t1;PH02Gene50481.t1;PH02Gene50525.t1;PH02Gene50593.t1;PH02Gene50610.t1;PH02Gene50673.t1;PH02Gene50686.t1;PH02Gene50687.t1;PH02Gene50689.t2;PH02Gene50697.t1;PH02Gene50716.t1;PH02Gene50769.t1;PH02Gene50777.t1;PH02Gene50778.t1;PH02Gene50779.t1;PH02Gene50803.t1;PH02Gene50826.t1;PH02Gene50831.t1;PH02Gene50842.t1;PH02Gene50851.t1;PH02Gene50855.t1;PH02Gene50895.t1;PH02Gene50924.t1;PH02Gene50943.t1;PH02Gene50986.t1;PH02Gene51023.t1;PH02Gene51062.t1;PH02Gene51063.t1;PH02Gene51067.t1;PH02Gene51109.t1;PH02Gene51132.t1;PH02Gene51159.t1;PH02Gene51192.t1;PH02Gene51356.t1;PH02Gene51357.t1;PH02Gene51384.t1;PH02Gene51385.t1;PH02Gene51406.t1;PH02Gene51416.t1;PH02Gene51459.t1;PH02Gene51477.t1
A4: Pentose and glucuronate interconversions | B4: 96 | C4: 459 | D4: 3805 | E4: 39049 | F4: 5.006082e-13 | G4: 3.354075e-11 | H4: ko00040 | I4: PH02Gene02478.t1;PH02Gene02481.t1;PH02Gene02482.t1;PH02Gene02484.t1;PH02Gene08021.t1;PH02Gene08022.t1;PH02Gene09656.t1;PH02Gene09662.t1;PH02Gene10389.t1;PH02Gene18277.t1;PH02Gene23238.t1;PH02Gene30324.t1;PH02Gene31794.t1;PH02Gene32142.t1;PH02Gene32792.t1;PH02Gene33049.t1;PH02Gene33050.t1;PH02Gene33079.t1;PH02Gene33081.t1;PH02Gene33082.t1;PH02Gene34188.t1;PH02Gene34356.t1;PH02Gene34578.t1;PH02Gene34843.t1;PH02Gene34846.t1;PH02Gene35489.t1;PH02Gene35812.t1;PH02Gene35813.t1;PH02Gene36732.t1;PH02Gene38472.t1;PH02Gene39194.t1;PH02Gene39195.t1;PH02Gene39226.t1;PH02Gene39669.t1;PH02Gene39671.t1;PH02Gene39672.t1;PH02Gene40799.t1;PH02Gene41306.t1;PH02Gene41361.t1;PH02Gene41625.t1;PH02Gene41629.t1;PH02Gene41938.t1;PH02Gene42889.t1;PH02Gene43543.t1;PH02Gene43545.t1;PH02Gene43640.t1;PH02Gene43708.t1;PH02Gene44028.t1;PH02Gene44938.t1;PH02Gene45083.t1;PH02Gene45358.t1;PH02Gene45359.t1;PH02Gene45629.t1;PH02Gene45672.t1;PH02Gene46230.t1;PH02Gene46272.t1;PH02Gene46273.t1;PH02Gene46274.t1;PH02Gene46310.t1;PH02Gene47009.t1;PH02Gene47057.t1;PH02Gene47058.t1;PH02Gene47095.t1;PH02Gene47114.t1;PH02Gene47219.t1;PH02Gene47341.t1;PH02Gene47377.t1;PH02Gene47559.t1;PH02Gene47572.t2;PH02Gene47664.t1;PH02Gene47711.t1;PH02Gene47820.t1;PH02Gene48104.t1;PH02Gene48153.t1;PH02Gene48495.t1;PH02Gene48898.t1;PH02Gene49608.t1;PH02Gene49609.t1;PH02Gene49771.t1;PH02Gene49853.t1;PH02Gene50132.t1;PH02Gene50590.t1;PH02Gene50631.t1;PH02Gene50632.t1;PH02Gene50719.t1;PH02Gene50723.t1;PH02Gene50752.t1;PH02Gene50894.t1;PH02Gene51001.t1;PH02Gene51167.t1;PH02Gene51169.t1;PH02Gene51207.t1;PH02Gene51249.t1;PH02Gene51251.t1;PH02Gene51478.t1;PH02Gene51511.t1
A5: RNA transport | B5: 140 | C5: 969 | D5: 3805 | E5: 39049 | F5: 1.490486e-06 | G5: 6.657504e-05 | H5: ko03013 | I5: PH02Gene02478.t1;PH02Gene02480.t1;PH02Gene02481.t1;PH02Gene02482.t1;PH02Gene02484.t1;PH02Gene04288.t2;PH02Gene06416.t1;PH02Gene09662.t1;PH02Gene10519.t1;PH02Gene12123.t1;PH02Gene13617.t1;PH02Gene16944.t1;PH02Gene17154.t1;PH02Gene17549.t1;PH02Gene17550.t1;PH02Gene18668.t1;PH02Gene18949.t1;PH02Gene20529.t1;PH02Gene20720.t1;PH02Gene22867.t1;PH02Gene25626.t1;PH02Gene26077.t1;PH02Gene26932.t1;PH02Gene28295.t1;PH02Gene28819.t1;PH02Gene28942.t1;PH02Gene32142.t1;PH02Gene33079.t1;PH02Gene33080.t1;PH02Gene33081.t1;PH02Gene33082.t1;PH02Gene33084.t1;PH02Gene33208.t1;PH02Gene34171.t1;PH02Gene34842.t1;PH02Gene34843.t1;PH02Gene34846.t1;PH02Gene35490.t1;PH02Gene35812.t1;PH02Gene35813.t1;PH02Gene36258.t1;PH02Gene36260.t1;PH02Gene36261.t1;PH02Gene36436.t1;PH02Gene36732.t1;PH02Gene36873.t1;PH02Gene36917.t1;PH02Gene37092.t1;PH02Gene37157.t1;PH02Gene37598.t1;PH02Gene37854.t1;PH02Gene38472.t1;PH02Gene38822.t1;PH02Gene39453.t1;PH02Gene39669.t1;PH02Gene39671.t1;PH02Gene39672.t1;PH02Gene40703.t1;PH02Gene41112.t1;PH02Gene41155.t1;PH02Gene41303.t1;PH02Gene41304.t1;PH02Gene41402.t1;PH02Gene41625.t1;PH02Gene41627.t1;PH02Gene41629.t1;PH02Gene41630.t1;PH02Gene42007.t2;PH02Gene42009.t1;PH02Gene42174.t1;PH02Gene42331.t1;PH02Gene43543.t1;PH02Gene43545.t1;PH02Gene43546.t1;PH02Gene43640.t1;PH02Gene44015.t1;PH02Gene44280.t1;PH02Gene44598.t1;PH02Gene44599.t1;PH02Gene44608.t1;PH02Gene44737.t1;PH02Gene44875.t1;PH02Gene44938.t1;PH02Gene45012.t1;PH02Gene45083.t1;PH02Gene45836.t1;PH02Gene46000.t1;PH02Gene46230.t1;PH02Gene46273.t1;PH02Gene46686.t1;PH02Gene46687.t1;PH02Gene47057.t1;PH02Gene47058.t1;PH02Gene47095.t1;PH02Gene47107.t1;PH02Gene47127.t1;PH02Gene47559.t1;PH02Gene47711.t1;PH02Gene47820.t1;PH02Gene47972.t1;PH02Gene48093.t1;PH02Gene48153.t1;PH02Gene48414.t1;PH02Gene48481.t1;PH02Gene48577.t1;PH02Gene48791.t1;PH02Gene48898.t1;PH02Gene48899.t1;PH02Gene49240.t1;PH02Gene49368.t1;PH02Gene49477.t1;PH02Gene49608.t1;PH02Gene49609.t1;PH02Gene49630.t1;PH02Gene49771.t1;PH02Gene49823.t1;PH02Gene49834.t1;PH02Gene49846.t1;PH02Gene49847.t1;PH02Gene49881.t1;PH02Gene50132.t1;PH02Gene50422.t1;PH02Gene50534.t1;PH02Gene50550.t1;PH02Gene50590.t1;PH02Gene50631.t1;PH02Gene50632.t1;PH02Gene50723.t1;PH02Gene50786.t1;PH02Gene50894.t1;PH02Gene50901.t1;PH02Gene50987.t1;PH02Gene51128.t1;PH02Gene51169.t1;PH02Gene51224.t1;PH02Gene51238.t1;PH02Gene51252.t1;PH02Gene51324.t1;PH02Gene51427.t1;PH02Gene51474.t1
A6: Tryptophan metabolism | B6: 47 | C6: 294 | D6: 3805 | E6: 39049 | F6: 0.0005025241 | G6: 0.01683456 | H6: ko00380 | I6: PH02Gene08885.t1;PH02Gene09411.t1;PH02Gene15183.t1;PH02Gene15184.t2;PH02Gene16174.t1;PH02Gene17737.t1;PH02Gene24836.t1;PH02Gene29733.t1;PH02Gene31517.t1;PH02Gene33087.t1;PH02Gene33088.t1;PH02Gene33089.t1;PH02Gene33090.t1;PH02Gene33091.t1;PH02Gene33092.t1;PH02Gene33094.t1;PH02Gene35612.t1;PH02Gene37459.t1;PH02Gene41244.t1;PH02Gene41635.t1;PH02Gene41898.t1;PH02Gene42282.t1;PH02Gene42283.t1;PH02Gene42946.t1;PH02Gene42947.t1;PH02Gene43526.t1;PH02Gene43991.t1;PH02Gene43993.t1;PH02Gene46923.t1;PH02Gene47114.t1;PH02Gene47326.t1;PH02Gene47327.t1;PH02Gene47328.t1;PH02Gene47692.t1;PH02Gene47693.t1;PH02Gene47695.t2;PH02Gene47696.t1;PH02Gene48104.t1;PH02Gene49495.t1;PH02Gene50027.t1;PH02Gene50051.t1;PH02Gene50052.t1;PH02Gene50053.t1;PH02Gene50458.t1;PH02Gene50812.t1;PH02Gene51037.t1;PH02Gene51318.t1
A7: Ribosome biogenesis in eukaryotes | B7: 66 | C7: 455 | D7: 3805 | E7: 39049 | F7: 0.0007181234 | G7: 0.01924571 | H7: ko03008 | I7: PH02Gene13336.t1;PH02Gene13475.t1;PH02Gene14780.t1;PH02Gene15852.t1;PH02Gene20965.t1;PH02Gene21012.t1;PH02Gene23291.t1;PH02Gene23292.t1;PH02Gene24240.t1;PH02Gene25514.t1;PH02Gene27356.t1;PH02Gene29735.t1;PH02Gene30846.t1;PH02Gene30847.t1;PH02Gene31562.t1;PH02Gene32793.t1;PH02Gene34351.t1;PH02Gene35972.t1;PH02Gene36257.t1;PH02Gene37893.t1;PH02Gene37895.t1;PH02Gene37897.t1;PH02Gene37898.t1;PH02Gene37899.t1;PH02Gene37901.t1;PH02Gene39293.t1;PH02Gene39294.t1;PH02Gene39300.t1;PH02Gene39301.t1;PH02Gene40898.t2;PH02Gene41990.t1;PH02Gene42174.t1;PH02Gene42635.t1;PH02Gene42638.t1;PH02Gene42639.t1;PH02Gene44280.t1;PH02Gene44459.t1;PH02Gene44460.t1;PH02Gene44461.t1;PH02Gene44689.t1;PH02Gene45015.t1;PH02Gene45018.t1;PH02Gene45019.t1;PH02Gene45126.t1;PH02Gene46000.t1;PH02Gene46443.t1;PH02Gene46444.t1;PH02Gene48486.t1;PH02Gene49238.t1;PH02Gene49320.t1;PH02Gene49321.t1;PH02Gene49432.t1;PH02Gene49433.t1;PH02Gene49822.t1;PH02Gene50443.t1;PH02Gene50560.t1;PH02Gene50663.t1;PH02Gene50780.t1;PH02Gene50786.t1;PH02Gene50849.t1;PH02Gene50913.t1;PH02Gene51014.t1;PH02Gene51018.t1;PH02Gene51180.t1;PH02Gene51398.t1;PH02Gene51430.t1
A8: Sulfur metabolism | B8: 21 | C8: 117 | D8: 3805 | E8: 39049 | F8: 0.004358205 | G8: 0.0834285 | H8: ko00920 | I8: PH02Gene13524.t1;PH02Gene13525.t1;PH02Gene13526.t1;PH02Gene28863.t1;PH02Gene28865.t1;PH02Gene40233.t1;PH02Gene40847.t1;PH02Gene41457.t1;PH02Gene42599.t1;PH02Gene45975.t1;PH02Gene47127.t1;PH02Gene47513.t1;PH02Gene47565.t1;PH02Gene48355.t1;PH02Gene48357.t1;PH02Gene48948.t1;PH02Gene51048.t1;PH02Gene51274.t1;PH02Gene51301.t1;PH02Gene51355.t1;PH02Gene51447.t1
A9: Sesquiterpenoid and triterpenoid biosynthesis | B9: 21 | C9: 117 | D9: 3805 | E9: 39049 | F9: 0.004358205 | G9: 0.0834285 | H9: ko00909 | I9: PH02Gene08873.t1;PH02Gene09151.t1;PH02Gene09152.t1;PH02Gene09153.t1;PH02Gene15780.t1;PH02Gene31673.t2;PH02Gene38813.t1;PH02Gene39252.t1;PH02Gene43442.t1;PH02Gene43850.t1;PH02Gene44021.t1;PH02Gene44983.t1;PH02Gene44985.t1;PH02Gene46919.t1;PH02Gene48178.t1;PH02Gene48180.t1;PH02Gene48749.t1;PH02Gene49191.t1;PH02Gene49852.t1;PH02Gene50914.t1;PH02Gene50979.t1
A10: Vitamin B6 metabolism | B10: 13 | C10: 68 | D10: 3805 | E10: 39049 | F10: 0.01327613 | G10: 0.2098173 | H10: ko00750 | I10: PH02Gene02776.t1;PH02Gene18706.t1;PH02Gene40775.t1;PH02Gene41458.t1;PH02Gene46762.t1;PH02Gene46895.t1;PH02Gene49077.t1;PH02Gene49462.t1;PH02Gene49628.t1;PH02Gene50065.t1;PH02Gene50358.t1;PH02Gene50730.t1;PH02Gene51364.t1
A11: RNA degradation | B11: 91 | C11: 745 | D11: 3805 | E11: 39049 | F11: 0.01477242 | G11: 0.2098173 | H11: ko03018 | I11: PH02Gene07743.t1;PH02Gene08036.t1;PH02Gene13336.t1;PH02Gene14780.t1;PH02Gene17549.t1;PH02Gene18650.t1;PH02Gene18668.t1;PH02Gene18994.t1;PH02Gene20720.t1;PH02Gene22867.t1;PH02Gene23291.t1;PH02Gene23292.t1;PH02Gene24240.t1;PH02Gene24487.t1;PH02Gene24841.t1;PH02Gene25514.t1;PH02Gene25626.t1;PH02Gene26652.t1;PH02Gene26705.t1;PH02Gene29735.t1;PH02Gene29736.t1;PH02Gene31562.t1;PH02Gene32793.t1;PH02Gene35487.t1;PH02Gene36257.t1;PH02Gene36917.t1;PH02Gene37092.t1;PH02Gene37455.t1;PH02Gene37598.t1;PH02Gene37897.t1;PH02Gene37898.t1;PH02Gene37899.t1;PH02Gene37901.t1;PH02Gene39293.t1;PH02Gene39294.t1;PH02Gene39300.t1;PH02Gene39301.t1;PH02Gene39338.t1;PH02Gene40354.t1;PH02Gene40703.t1;PH02Gene40970.t1;PH02Gene41402.t1;PH02Gene42635.t1;PH02Gene42638.t1;PH02Gene43264.t1;PH02Gene43722.t1;PH02Gene44110.t1;PH02Gene44459.t1;PH02Gene44460.t1;PH02Gene44461.t1;PH02Gene44608.t1;PH02Gene44689.t1;PH02Gene44875.t1;PH02Gene45015.t1;PH02Gene45018.t1;PH02Gene45019.t1;PH02Gene45126.t1;PH02Gene45612.t1;PH02Gene46072.t1;PH02Gene46443.t1;PH02Gene46444.t1;PH02Gene47803.t1;PH02Gene48155.t1;PH02Gene48373.t2;PH02Gene48463.t1;PH02Gene48791.t1;PH02Gene49186.t1;PH02Gene49320.t1;PH02Gene49321.t1;PH02Gene49432.t1;PH02Gene49433.t1;PH02Gene49822.t1;PH02Gene50017.t1;PH02Gene50155.t1;PH02Gene50394.t1;PH02Gene50509.t1;PH02Gene50550.t1;PH02Gene50560.t1;PH02Gene50594.t1;PH02Gene50693.t1;PH02Gene50816.t4;PH02Gene50829.t1;PH02Gene50849.t1;PH02Gene50906.t1;PH02Gene51018.t1;PH02Gene51147.t1;PH02Gene51225.t1;PH02Gene51265.t1;PH02Gene51324.t1;PH02Gene51474.t1;PH02Gene51492.t1
A12: Monoterpenoid biosynthesis | B12: 7 | C12: 28 | D12: 3805 | E12: 39049 | F12: 0.01565801 | G12: 0.2098173 | H12: ko00902 | I12: PH02Gene38961.t1;PH02Gene38965.t1;PH02Gene38966.t1;PH02Gene43517.t1;PH02Gene45068.t1;PH02Gene50114.t1;PH02Gene50652.t1
A13: Tyrosine metabolism | B13: 21 | C13: 135 | D13: 3805 | E13: 39049 | F13: 0.02133808 | G13: 0.2478663 | H13: ko00350 | I13: PH02Gene16174.t1;PH02Gene17737.t1;PH02Gene25199.t1;PH02Gene31171.t1;PH02Gene31517.t1;PH02Gene32343.t1;PH02Gene33378.t1;PH02Gene33379.t1;PH02Gene33381.t1;PH02Gene37459.t1;PH02Gene43993.t1;PH02Gene48500.t1;PH02Gene48718.t1;PH02Gene49416.t1;PH02Gene49495.t1;PH02Gene50093.t1;PH02Gene50387.t1;PH02Gene50925.t1;PH02Gene51145.t1;PH02Gene51347.t1;PH02Gene51369.t1
A14: RNA polymerase | B14: 44 | C14: 333 | D14: 3805 | E14: 39049 | F14: 0.02363672 | G14: 0.2478663 | H14: ko03020 | I14: PH02Gene08709.t1;PH02Gene08885.t1;PH02Gene16730.t1;PH02Gene16731.t1;PH02Gene20736.t1;PH02Gene24235.t1;PH02Gene25256.t1;PH02Gene25825.t1;PH02Gene26189.t1;PH02Gene26769.t1;PH02Gene36095.t1;PH02Gene36534.t1;PH02Gene37089.t1;PH02Gene37425.t1;PH02Gene38339.t1;PH02Gene38347.t1;PH02Gene38994.t1;PH02Gene41306.t1;PH02Gene41408.t1;PH02Gene44019.t1;PH02Gene46024.t1;PH02Gene46025.t1;PH02Gene46026.t1;PH02Gene46870.t1;PH02Gene47114.t1;PH02Gene47664.t1;PH02Gene48104.t1;PH02Gene48444.t1;PH02Gene48493.t1;PH02Gene48634.t1;PH02Gene49107.t1;PH02Gene49422.t1;PH02Gene49428.t1;PH02Gene49694.t1;PH02Gene49722.t1;PH02Gene49840.t1;PH02Gene49897.t1;PH02Gene50406.t1;PH02Gene50575.t2;PH02Gene50576.t1;PH02Gene50793.t1;PH02Gene50974.t1;PH02Gene51443.t1;PH02Gene51513.t1
... A21: Phenylalanine metabolism | B21: 33 | C21: 249 | D21: 3805 | E21: 39049 | F21: 0.04317462 | G21: 0.3044947 | H21: ko00360 | I21: PH02Gene08885.t1;PH02Gene16174.t1;PH02Gene17737.t1;PH02Gene27012.t1;PH02Gene27013.t1;PH02Gene27014.t1;PH02Gene31171.t1;PH02Gene31517.t1;PH02Gene32343.t1;PH02Gene33087.t1;PH02Gene33088.t1;PH02Gene33089.t1;PH02Gene33090.t1;PH02Gene33091.t1;PH02Gene33092.t1;PH02Gene33094.t1;PH02Gene37459.t1;PH02Gene41635.t1;PH02Gene42282.t1;PH02Gene42283.t1;PH02Gene43526.t1;PH02Gene43993.t1;PH02Gene47114.t1;PH02Gene47692.t1;PH02Gene47693.t1;PH02Gene47695.t2;PH02Gene47696.t1;PH02Gene48104.t1;PH02Gene48500.t1;PH02Gene49495.t1;PH02Gene50027.t1;PH02Gene50882.t1;PH02Gene50925.t1
A22: †x1 and x2 are the observed number of genes-of-interest and reference genes in a given KEGG pathway, respectively. Whereas n is the total number of genes-of-interest, N is the total number of reference genes
A23: †† the p-value was calculated by one-sided Fisher's exact test, and the corrected p-value was adjusted by Benjamini-Hochberg method.

Sheet Supplementary Data 6
A1: Supplementary Data 6. The summary of heterozygosity ratio of 427 samples.
A2: No. | B2: Sample ID | C2: Number of reference homozygous SNPs | D2: Number of nonreference homozygous SNPs | E2: Number of genotyped heterozygous SNPs | F2: Heterozygosity ratio | G2: Percent of heterozygous variation
A3: 1 | B3: AJ-1 | C3: 2916802 | D3: 130304 | E3: 2398905 | F3: =E3/D3 -> 18.410064 | G3: =E3/(E3+D3)*100 -> 94.848034
A4: 2 | B4: AJ-2 | C4: 2933057 | D4: 137106 | E4: 2375848 | F4: =E4/D4 -> 17.328549 | G4: =E4/(E4+D4)*100 -> 94.544031
A5: 3 | B5: AJ-3 | C5: 2932215 | D5: 136167 | E5: 2377629 | F5: =E5/D5 -> 17.461125 | G5: =E5/(E5+D5)*100 -> 94.583212
A6: 4 | B6: AJ-4 | C6: 2895626 | D6: 129494 | E6: 2420891 | F6: =E6/D6 -> 18.695005 | G6: =E6/(E6+D6)*100 -> 94.922571
A7: 5 | B7: AJ-5 | C7: 2950831 | D7: 136651 | E7: 2358529 | F7: =E7/D7 -> 17.259508 | G7: =E7/(E7+D7)*100 -> 94.523401
A8: 6 | B8: AJ-6 | C8: 2936519 | D8: 136480 | E8: 2373012 | F8: =E8/D8 -> 17.387251 | G8: =E8/(E8+D8)*100 -> 94.561449
A9: 7 | B9: AJ-7 | C9: 2942001 | D9: 136123 | E9: 2367887 | F9: =E9/D9 -> 17.395201 | G9: =E9/(E9+D9)*100 -> 94.5638
A10: 8 | B10: AJ-8 | C10: 2934165 | D10: 138979 | E10: 2372867 | F10: =E10/D10 -> 17.073565 | G10: =E10/(E10+D10)*100 -> 94.467057
A11: 9 | B11: AJ-9 | C11: 2888718 | D11: 129782 | E11: 2427511 | F11: =E11/D11 -> 18.704528 | G11: =E11/(E11+D11)*100 -> 94.925024
A12: 10 | B12: AJ-10 | C12: 2920751 | D12: 137394 | E12: 2387866 | F12: =E12/D12 -> 17.379696 | G12: =E12/(E12+D12)*100 -> 94.559214
A13: 11 | B13: AJ-11 | C13: 2916970 | D13: 122635 | E13: 2406406 | F13: =E13/D13 -> 19.622506 | G13: =E13/(E13+D13)*100 -> 95.150929
A14: 12 | B14: AJ-12 | C14: 2908206 | D14: 125138 | E14: 2412667 | F14: =E14/D14 -> 19.280051 | G14: =E14/(E14+D14)*100 -> 95.069046
... A429: 427 | B429: YX-30 | C429: 2885659 | D429: 137369 | E429: 2422983 | F429: =E429/D429 -> 17.638499 | G429: =E429/(E429+D429)*100 -> 94.634761

Sheet Supplementary Data 7
A1: Supplementary Data 7. 38 long continuous heterozygous SNPs clustered regions of high frequency (high-LCHRs) detected in the moso bamboo population.
A2: Chr. | B2: Start | C2: End | D2: Gene number | E2: Genes
A3: 1 | B3: 5400001 | C3: 10600000 | D3: =LEN(E3)-LEN(SUBSTITUTE(E3,";","")) -> 151 | E3: PH02Gene46651.t1;PH02Gene46650.t1;PH02Gene46433.t1;PH02Gene46432.t1;PH02Gene46431.t1;PH02Gene46430.t1;PH02Gene46429.t1;PH02Gene46428.t1;PH02Gene46427.t1;PH02Gene29647.t1;PH02Gene29648.t1;PH02Gene45848.t1;PH02Gene16764.t1;PH02Gene16765.t1;PH02Gene16766.t1;PH02Gene16483.t1;PH02Gene16484.t1;PH02Gene45851.t1;PH02Gene45852.t1;PH02Gene45853.t1;PH02Gene49154.t1;PH02Gene49153.t1;PH02Gene49152.t1;PH02Gene49151.t1;PH02Gene40530.t1;PH02Gene40531.t1;PH02Gene40532.t1;PH02Gene40533.t1;PH02Gene40534.t1;PH02Gene40535.t1;PH02Gene40536.t1;PH02Gene40537.t1;PH02Gene46985.t1;PH02Gene46986.t1;PH02Gene47077.t1;PH02Gene47076.t1;PH02Gene47075.t1;PH02Gene47074.t1;PH02Gene47073.t1;PH02Gene47072.t1;PH02Gene16763.t1;PH02Gene16762.t1;PH02Gene16760.t1;PH02Gene16761.t1;PH02Gene16759.t1;PH02Gene16758.t1;PH02Gene16757.t1;PH02Gene16756.t1;PH02Gene48482.t1;PH02Gene48481.t1;PH02Gene21151.t1;PH02Gene21152.t1;PH02Gene21153.t1;PH02Gene21154.t1;PH02Gene21155.t2;PH02Gene21156.t1;PH02Gene21157.t1;PH02Gene21158.t1;PH02Gene21159.t1;PH02Gene21160.t1;PH02Gene21161.t1;PH02Gene21162.t1;PH02Gene21163.t1;PH02Gene21164.t1;PH02Gene21165.t1;PH02Gene21166.t1;PH02Gene21167.t1;PH02Gene21168.t1;PH02Gene21169.t1;PH02Gene21170.t1;PH02Gene21171.t1;PH02Gene21172.t1;PH02Gene21176.t1;PH02Gene21175.t1;PH02Gene21174.t1;PH02Gene21173.t1;PH02Gene46942.t1;PH02Gene46943.t1;PH02Gene46944.t1;PH02Gene46945.t1;PH02Gene50246.t1;PH02Gene50245.t1;PH02Gene48852.t1;PH02Gene48853.t1;PH02Gene48854.t1;PH02Gene48855.t1;PH02Gene48856.t1;PH02Gene38573.t1;PH02Gene44477.t1;PH02Gene29584.t1;PH02Gene29585.t1;PH02Gene29586.t1;PH02Gene29587.t1;PH02Gene29588.t1;PH02Gene29589.t1;PH02Gene29590.t1;PH02Gene49985.t1;PH02Gene29596.t1;PH02Gene29595.t1;PH02Gene29594.t1;PH02Gene29593.t1;PH02Gene29592.t1;PH02Gene46666.t1;PH02Gene46665.t1;PH02Gene46664.t1;PH02Gene46663.t1;PH02Gene46662.t1;PH02Gene48697.t3;PH02Gene48698.t1;PH02Gene48699.t2;PH02Gene48700.t1;PH02Gene48701.t1;PH02Gene48702.t1;PH02Gene40086.t1;PH02Gene40087.t1;PH02Gene40088.t1;PH02Gene40089.t1;PH02Gene40090.t1;PH02Gene40091.t1;PH02Gene40092.t1;PH02Gene40093.t1;PH02Gene40094.t1;PH02Gene40095.t1;PH02Gene40096.t1;PH02Gene40097.t1;PH02Gene45491.t1;PH02Gene45492.t1;PH02Gene45493.t1;PH02Gene45494.t1;PH02Gene45495.t1;PH02Gene45496.t1;PH02Gene45497.t1;PH02Gene45498.t1;PH02Gene45499.t1;PH02Gene45500.t1;PH02Gene47200.t1;PH02Gene47199.t1;PH02Gene46480.t1;PH02Gene46479.t1;PH02Gene46478.t1;PH02Gene46477.t1;PH02Gene46476.t1;PH02Gene47257.t1;PH02Gene47256.t1;PH02Gene47255.t1;PH02Gene47254.t1;PH02Gene47253.t1;PH02Gene31165.t1;PH02Gene31166.t1;PH02Gene31167.t1;PH02Gene31168.t1;
A4: 1 | B4: 16000001 | C4: 23000000 | D4: =LEN(E4)-LEN(SUBSTITUTE(E4,";","")) -> 175 | E4: PH02Gene41675.t2;PH02Gene41674.t1;PH02Gene41673.t2;PH02Gene41672.t2;PH02Gene41671.t1;PH02Gene41670.t1;PH02Gene43357.t1;PH02Gene45160.t1;PH02Gene45159.t1;PH02Gene45158.t1;PH02Gene45157.t1;PH02Gene44054.t1;PH02Gene44053.t1;PH02Gene44052.t1;PH02Gene44051.t1;PH02Gene31784.t1;PH02Gene31785.t1;PH02Gene31786.t1;PH02Gene31787.t1;PH02Gene47779.t1;PH02Gene46562.t1;PH02Gene29213.t1;PH02Gene29212.t1;PH02Gene27278.t1;PH02Gene27279.t1;PH02Gene27280.t1;PH02Gene27281.t1;PH02Gene27282.t1;PH02Gene27283.t1;PH02Gene27284.t1;PH02Gene27285.t1;PH02Gene27286.t1;PH02Gene27287.t1;PH02Gene27288.t1;PH02Gene27289.t1;PH02Gene27290.t1;PH02Gene27291.t1;PH02Gene27292.t1;PH02Gene27293.t1;PH02Gene27294.t1;PH02Gene27295.t1;PH02Gene27296.t1;PH02Gene27297.t1;PH02Gene27298.t1;PH02Gene27299.t1;PH02Gene27300.t1;PH02Gene27301.t1;PH02Gene27302.t1;PH02Gene27303.t1;PH02Gene27304.t1;PH02Gene27305.t1;PH02Gene27306.t1;PH02Gene27307.t1;PH02Gene27308.t1;PH02Gene42232.t1;PH02Gene42233.t1;PH02Gene27310.t1;PH02Gene27309.t1;PH02Gene42236.t1;PH02Gene42235.t1;PH02Gene42234.t1;PH02Gene49034.t1;PH02Gene41871.t1;PH02Gene26659.t1;PH02Gene26658.t1;PH02Gene26661.t1;PH02Gene47017.t1;PH02Gene47016.t1;PH02Gene47015.t1;PH02Gene26657.t1;PH02Gene26656.t3;PH02Gene26655.t1;PH02Gene26654.t1;PH02Gene26653.t1;PH02Gene26652.t1;PH02Gene26651.t1;PH02Gene26650.t1;PH02Gene26649.t1;PH02Gene26648.t1;PH02Gene26647.t1;PH02Gene26646.t1;PH02Gene26645.t1;PH02Gene26644.t1;PH02Gene31798.t1;PH02Gene31797.t1;PH02Gene31796.t2;PH02Gene31795.t1;PH02Gene31794.t1;PH02Gene31793.t1;PH02Gene31792.t1;PH02Gene31791.t1;PH02Gene31790.t1;PH02Gene31789.t1;PH02Gene31788.t1;PH02Gene36840.t1;PH02Gene36839.t1;PH02Gene50533.t1;PH02Gene36842.t1;PH02Gene36843.t1;PH02Gene36844.t1;PH02Gene36845.t1;PH02Gene36846.t2;PH02Gene36847.t1;PH02Gene36848.t1;PH02Gene36849.t1;PH02Gene36850.t1;PH02Gene36851.t1;PH02Gene36852.t1;PH02Gene36853.t1;PH02Gene36854.t2;PH02Gene36855.t1;PH02Gene36856.t1;PH02Gene36857.t1;PH02Gene20245.t1;PH02Gene46171.t1;PH02Gene46170.t1;PH02Gene42740.t1;PH02Gene42741.t1;PH02Gene49565.t1;PH02Gene42742.t1;PH02Gene42743.t1;PH02Gene42744.t1;PH02Gene11307.t1;PH02Gene11306.t1;PH02Gene11305.t1;PH02Gene11304.t1;PH02Gene11303.t1;PH02Gene11302.t1;PH02Gene11301.t1;PH02Gene11300.t1;PH02Gene11299.t1;PH02Gene11298.t1;PH02Gene11297.t1;PH02Gene11296.t1;PH02Gene11295.t1;PH02Gene11294.t1;PH02Gene11293.t1;PH02Gene11290.t1;PH02Gene11289.t1;PH02Gene11288.t1;PH02Gene11287.t1;PH02Gene11286.t2;PH02Gene11285.t3;PH02Gene11284.t1;PH02Gene11283.t1;PH02Gene11282.t1;PH02Gene11281.t1;PH02Gene11280.t1;PH02Gene48047.t1;PH02Gene49988.t1;PH02Gene49987.t3;PH02Gene49070.t1;PH02Gene49071.t1;PH02Gene49744.t1;PH02Gene49743.t1;PH02Gene50084.t1;PH02Gene49806.t1;PH02Gene48329.t1;PH02Gene49958.t1;PH02Gene48923.t1;PH02Gene48924.t1;PH02Gene49826.t1;PH02Gene49825.t1;PH02Gene49824.t1;PH02Gene49902.t1;PH02Gene44079.t1;PH02Gene44078.t1;PH02Gene44077.t1;PH02Gene44076.t1;PH02Gene44075.t1;PH02Gene44074.t1;PH02Gene44073.t1;PH02Gene33519.t1;PH02Gene33518.t1;PH02Gene29360.t1;
A5: 2 | B5: 400001 | C5: 5400000 | D5: =LEN(E5)-LEN(SUBSTITUTE(E5,";","")) -> 105 | E5: PH02Gene24728.t1;PH02Gene24729.t1;PH02Gene24730.t1;PH02Gene24731.t1;PH02Gene24732.t1;PH02Gene24733.t1;PH02Gene24734.t1;PH02Gene24735.t1;PH02Gene50065.t1;PH02Gene50064.t1;PH02Gene50454.t1;PH02Gene47292.t1;PH02Gene47293.t1;PH02Gene47294.t1;PH02Gene48905.t1;PH02Gene48904.t1;PH02Gene48903.t1;PH02Gene48501.t1;PH02Gene48502.t1;PH02Gene47550.t1;PH02Gene43872.t1;PH02Gene50608.t1;PH02Gene50572.t1;PH02Gene32923.t1;PH02Gene32924.t1;PH02Gene43874.t1;PH02Gene43875.t1;PH02Gene43876.t1;PH02Gene43877.t1;PH02Gene48991.t1;PH02Gene48992.t1;PH02Gene48993.t1;PH02Gene43532.t1;PH02Gene43531.t1;PH02Gene43530.t1;PH02Gene43529.t1;PH02Gene43528.t1;PH02Gene43527.t1;PH02Gene43526.t1;PH02Gene43525.t1;PH02Gene43524.t1;PH02Gene43523.t1;PH02Gene43522.t1;PH02Gene43521.t2;PH02Gene43520.t1;PH02Gene27770.t2;PH02Gene38475.t1;PH02Gene38476.t1;PH02Gene38477.t1;PH02Gene38478.t1;PH02Gene38479.t1;PH02Gene38480.t1;PH02Gene38481.t1;PH02Gene38482.t1;PH02Gene38483.t1;PH02Gene38484.t1;PH02Gene38485.t1;PH02Gene38486.t1;PH02Gene38487.t1;PH02Gene38488.t1;PH02Gene38489.t1;PH02Gene46466.t1;PH02Gene46465.t2;PH02Gene26157.t1;PH02Gene26156.t1;PH02Gene26155.t1;PH02Gene26154.t1;PH02Gene26153.t2;PH02Gene26152.t1;PH02Gene26151.t1;PH02Gene26150.t1;PH02Gene26149.t1;PH02Gene26148.t1;PH02Gene32927.t3;PH02Gene32928.t1;PH02Gene32929.t1;PH02Gene50664.t1;PH02Gene43538.t1;PH02Gene43539.t1;PH02Gene26142.t1;PH02Gene26143.t1;PH02Gene26144.t1;PH02Gene46722.t1;PH02Gene46723.t1;PH02Gene26145.t1;PH02Gene26146.t1;PH02Gene46932.t1;PH02Gene48718.t1;PH02Gene32932.t1;PH02Gene32933.t1;PH02Gene32934.t1;PH02Gene32935.t1;PH02Gene32936.t1;PH02Gene32937.t1;PH02Gene32938.t1;PH02Gene32939.t1;PH02Gene32940.t1;PH02Gene47308.t1;PH02Gene49008.t1;PH02Gene49009.t1;PH02Gene49010.t1;PH02Gene49011.t2;PH02Gene25445.t1;PH02Gene38163.t1;PH02Gene38162.t1;
A6: 2 | B6: 29800001 | C6: 35600000 | D6: =LEN(E6)-LEN(SUBSTITUTE(E6,";","")) -> 205 | E6: PH02Gene17547.t1;PH02Gene17548.t1;PH02Gene17549.t1;PH02Gene17550.t1;PH02Gene17551.t1;PH02Gene47125.t2;PH02Gene47126.t1;PH02Gene47127.t1;PH02Gene47128.t1;PH02Gene47129.t1;PH02Gene47130.t1;PH02Gene18228.t1;PH02Gene18227.t1;PH02Gene18226.t1;PH02Gene39403.t1;PH02Gene39404.t1;PH02Gene39405.t1;PH02Gene39406.t1;PH02Gene39407.t1;PH02Gene39408.t2;PH02Gene39409.t1;PH02Gene39410.t1;PH02Gene39411.t1;PH02Gene39412.t1;PH02Gene39413.t1;PH02Gene39414.t1;PH02Gene39415.t1;PH02Gene39416.t1;PH02Gene39417.t1;PH02Gene39418.t1;PH02Gene40916.t1;PH02Gene40915.t1;PH02Gene40914.t1;PH02Gene40913.t1;PH02Gene40912.t1;PH02Gene40911.t1;PH02Gene40910.t1;PH02Gene40909.t1;PH02Gene40908.t1;PH02Gene40907.t1;PH02Gene40906.t1;PH02Gene40905.t3;PH02Gene40904.t1;PH02Gene40903.t1;PH02Gene40902.t1;PH02Gene40901.t1;PH02Gene40900.t1;PH02Gene40899.t1;PH02Gene40898.t2;PH02Gene41557.t1;PH02Gene48450.t1;PH02Gene48449.t1;PH02Gene48448.t1;PH02Gene48447.t1;PH02Gene48446.t1;PH02Gene32055.t1;PH02Gene32054.t1;PH02Gene32053.t1;PH02Gene32052.t1;PH02Gene32051.t1;PH02Gene32050.t1;PH02Gene32049.t1;PH02Gene32048.t1;PH02Gene32047.t1;PH02Gene32046.t1;PH02Gene32045.t1;PH02Gene32044.t1;PH02Gene32043.t1;PH02Gene32042.t1;PH02Gene32041.t1;PH02Gene32040.t1;PH02Gene32039.t1;PH02Gene32038.t1;PH02Gene32037.t1;PH02Gene32036.t1;PH02Gene32035.t1;PH02Gene32034.t1;PH02Gene32033.t1;PH02Gene32032.t1;PH02Gene48987.t1;PH02Gene48986.t1;PH02Gene44898.t1;PH02Gene44897.t1;PH02Gene44896.t1;PH02Gene44895.t1;PH02Gene44894.t1;PH02Gene44893.t2;PH02Gene44892.t1;PH02Gene44891.t3;PH02Gene44890.t1;PH02Gene44889.t1;PH02Gene20886.t1;PH02Gene20887.t1;PH02Gene20888.t1;PH02Gene20889.t2;PH02Gene20890.t1;PH02Gene20891.t1;PH02Gene20892.t1;PH02Gene20893.t1;PH02Gene20894.t1;PH02Gene20895.t1;PH02Gene20896.t1;PH02Gene20897.t2;PH02Gene20898.t1;PH02Gene20899.t1;PH02Gene20900.t1;PH02Gene20901.t1;PH02Gene20902.t1;PH02Gene20903.t2;PH02Gene20904.t1;PH02Gene20905.t1;PH02Gene20906.t1;PH02Gene20907.t1;PH02Gene20908.t1;PH02Gene20909.t1;PH02Gene20910.t1;PH02Gene20911.t1;PH02Gene20912.t1;PH02Gene20913.t1;PH02Gene20914.t1;PH02Gene20915.t1;PH02Gene20916.t1;PH02Gene20917.t1;PH02Gene20918.t1;PH02Gene20919.t1;PH02Gene20920.t2;PH02Gene20921.t1;PH02Gene33880.t1;PH02Gene33881.t1;PH02Gene33882.t1;PH02Gene33883.t3;PH02Gene33884.t1;PH02Gene33885.t1;PH02Gene33886.t1;PH02Gene33887.t1;PH02Gene33888.t1;PH02Gene33889.t2;PH02Gene33890.t1;PH02Gene33891.t1;PH02Gene33892.t1;PH02Gene33893.t1;PH02Gene33894.t1;PH02Gene33895.t1;PH02Gene33896.t1;PH02Gene33897.t2;PH02Gene33898.t3;PH02Gene11440.t1;PH02Gene11441.t1;PH02Gene11442.t1;PH02Gene11443.t1;PH02Gene11444.t1;PH02Gene11445.t1;PH02Gene11446.t1;PH02Gene11447.t1;PH02Gene11448.t2;PH02Gene11449.t1;PH02Gene11450.t1;PH02Gene11451.t1;PH02Gene11452.t1;PH02Gene11453.t1;PH02Gene11454.t1;PH02Gene11455.t1;PH02Gene11456.t1;PH02Gene11457.t1;PH02Gene11458.t1;PH02Gene11459.t1;PH02Gene11460.t1;PH02Gene11461.t1;PH02Gene11462.t1;PH02Gene11463.t1;PH02Gene11464.t1;PH02Gene11465.t5;PH02Gene11466.t1;PH02Gene11467.t1;PH02Gene11468.t1;PH02Gene11469.t1;PH02Gene11470.t1;PH02Gene11471.t1;PH02Gene11472.t1;PH02Gene11473.t1;PH02Gene11474.t1;PH02Gene11475.t1;PH02Gene11476.t1;PH02Gene11477.t1;PH02Gene11478.t1;PH02Gene11479.t1;PH02Gene11480.t1;PH02Gene11481.t1;PH02Gene11482.t1;PH02Gene17707.t1;PH02Gene17706.t1;PH02Gene17709.t1;PH02Gene17710.t1;PH02Gene17711.t1;PH02Gene17712.t1;PH02Gene17713.t1;PH02Gene17714.t1;PH02Gene17715.t1;PH02Gene17716.t1;PH02Gene17717.t1;PH02Gene17718.t1;PH02Gene17719.t1;PH02Gene17720.t1;PH02Gene17721.t1;PH02Gene17722.t1;
A7: 3 | B7: 4400001 | C7: 10800000 | D7: =LEN(E7)-LEN(SUBSTITUTE(E7,";","")) -> 248 | E7: PH02Gene35549.t1;PH02Gene35550.t1;PH02Gene35551.t1;PH02Gene45909.t1;PH02Gene45910.t1;PH02Gene45911.t1;PH02Gene45912.t1;PH02Gene45913.t1;PH02Gene45914.t1;PH02Gene45915.t1;PH02Gene45916.t1;PH02Gene43649.t1;PH02Gene43650.t1;PH02Gene43651.t1;PH02Gene43652.t1;PH02Gene43653.t1;PH02Gene43654.t1;PH02Gene43655.t1;PH02Gene43656.t1;PH02Gene43042.t1;PH02Gene43041.t1;PH02Gene43040.t1;PH02Gene43039.t1;PH02Gene43038.t1;PH02Gene43037.t1;PH02Gene40957.t1;PH02Gene40956.t1;PH02Gene40955.t1;PH02Gene40954.t1;PH02Gene40953.t1;PH02Gene40952.t1;PH02Gene40951.t1;PH02Gene14673.t1;PH02Gene14672.t1;PH02Gene14671.t1;PH02Gene14670.t2;PH02Gene14669.t1;PH02Gene14668.t1;PH02Gene14667.t1;PH02Gene14666.t1;PH02Gene14665.t2;PH02Gene14664.t1;PH02Gene14663.t1;PH02Gene14662.t1;PH02Gene14661.t1;PH02Gene14660.t1;PH02Gene14659.t1;PH02Gene14658.t1;PH02Gene14657.t1;PH02Gene14656.t1;PH02Gene14655.t1;PH02Gene14654.t1;PH02Gene14653.t1;PH02Gene14652.t1;PH02Gene14651.t1;PH02Gene14650.t1;PH02Gene14649.t1;PH02Gene14648.t1;PH02Gene31538.t1;PH02Gene31537.t1;PH02Gene31536.t1;PH02Gene31535.t1;PH02Gene31534.t1;PH02Gene31533.t1;PH02Gene31532.t1;PH02Gene31531.t1;PH02Gene31530.t1;PH02Gene31529.t1;PH02Gene31528.t1;PH02Gene31527.t1;PH02Gene31526.t1;PH02Gene31525.t1;PH02Gene31524.t1;PH02Gene31523.t1;PH02Gene31522.t1;PH02Gene31521.t2;PH02Gene31520.t1;PH02Gene31519.t1;PH02Gene46350.t1;PH02Gene46351.t1;PH02Gene46352.t1;PH02Gene46353.t1;PH02Gene46354.t1;PH02Gene46355.t3;PH02Gene46356.t1;PH02Gene46357.t1;PH02Gene46358.t1;PH02Gene50335.t1;PH02Gene42760.t1;PH02Gene42759.t1;PH02Gene42758.t1;PH02Gene47634.t2;PH02Gene47633.t1;PH02Gene47632.t1;PH02Gene47631.t1;PH02Gene47630.t1;PH02Gene35354.t1;PH02Gene35355.t1;PH02Gene35356.t1;PH02Gene35357.t1;PH02Gene35358.t1;PH02Gene35359.t1;PH02Gene35360.t1;PH02Gene35361.t1;PH02Gene35362.t1;PH02Gene35363.t1;PH02Gene35364.t1;PH02Gene35365.t1;PH02Gene49849.t1;PH02Gene07231.t1;PH02Gene07230.t1;PH02Gene07229.t1;PH02Gene07228.t1;PH02Gene07227.t1;PH02Gene07226.t1;PH02Gene07225.t1;PH02Gene07224.t1;PH02Gene07223.t1;PH02Gene07222.t1;PH02Gene07221.t1;PH02Gene07220.t1;PH02Gene07219.t1;PH02Gene07218.t1;PH02Gene07217.t1;PH02Gene07216.t1;PH02Gene07215.t1;PH02Gene07214.t1;PH02Gene07213.t1;PH02Gene07212.t1;PH02Gene07211.t1;PH02Gene07210.t1;PH02Gene07209.t1;PH02Gene07208.t1;PH02Gene07207.t1;PH02Gene07206.t1;PH02Gene07205.t1;PH02Gene07204.t1;PH02Gene07203.t1;PH02Gene07202.t1;PH02Gene07201.t2;PH02Gene07200.t3;PH02Gene07199.t3;PH02Gene07198.t1;PH02Gene07197.t1;PH02Gene07196.t1;PH02Gene07195.t1;PH02Gene07194.t1;PH02Gene07193.t1;PH02Gene07192.t1;PH02Gene07191.t1;PH02Gene07190.t1;PH02Gene07189.t1;PH02Gene07188.t1;PH02Gene07187.t1;PH02Gene07186.t1;PH02Gene07185.t1;PH02Gene07184.t1;PH02Gene07183.t1;PH02Gene07182.t1;PH02Gene07181.t1;PH02Gene07180.t1;PH02Gene07179.t1;PH02Gene07178.t1;PH02Gene07177.t1;PH02Gene07176.t1;PH02Gene07175.t1;PH02Gene07174.t1;PH02Gene07173.t1;PH02Gene07172.t1;PH02Gene07171.t1;PH02Gene07170.t1;PH02Gene07169.t1;PH02Gene07168.t1;PH02Gene07167.t1;PH02Gene07166.t1;PH02Gene07165.t1;PH02Gene07164.t1;PH02Gene07163.t3;PH02Gene07162.t1;PH02Gene07161.t1;PH02Gene07160.t1;PH02Gene07159.t1;PH02Gene07158.t1;PH02Gene07157.t1;PH02Gene07156.t1;PH02Gene07155.t3;PH02Gene07154.t1;PH02Gene07153.t1;PH02Gene07152.t1;PH02Gene07151.t1;PH02Gene07150.t1;PH02Gene07149.t1;PH02Gene07148.t1;PH02Gene07147.t1;PH02Gene07146.t1;PH02Gene07145.t1;PH02Gene07144.t1;PH02Gene07143.t1;PH02Gene07142.t1;PH02Gene07141.t1;PH02Gene07140.t1;PH02Gene07139.t1;PH02Gene07138.t1;PH02Gene07137.t1;PH02Gene07136.t1;PH02Gene07135.t1;PH02Gene07134.t1;PH02Gene07133.t1;PH02Gene19622.t1;PH02Gene19621.t1;PH02Gene19620.t2;PH02Gene19619.t1;PH02Gene19618.t1;PH02Gene19617.t1;PH02Gene19616.t1;PH02Gene19615.t1;PH02Gene19614.t1;PH02Gene19613.t1;PH02Gene19612.t1;PH02Gene19611.t1;PH02Gene19610.t1;PH02Gene19609.t1;PH02Gene19608.t1;PH02Gene19607.t1;PH02Gene19606.t1;PH02Gene19605.t1;PH02Gene19604.t1;PH02Gene19603.t1;PH02Gene19602.t1;PH02Gene19601.t1;PH02Gene19600.t1;PH02Gene19599.t1;PH02Gene19598.t1;PH02Gene12669.t1;PH02Gene12668.t1;PH02Gene12667.t1;PH02Gene12666.t1;PH02Gene12665.t1;PH02Gene12664.t1;PH02Gene12663.t1;PH02Gene12662.t1;PH02Gene12661.t1;PH02Gene12660.t1;PH02Gene12659.t2;PH02Gene12658.t1;PH02Gene12657.t1;PH02Gene12656.t2;PH02Gene12655.t1;
A8: 3 | B8: 73400001 | C8: 80000000 | D8: =LEN(E8)-LEN(SUBSTITUTE(E8,";","")) -> 181 | E8: PH02Gene28824.t1;PH02Gene28823.t1;PH02Gene28822.t1;PH02Gene28821.t1;PH02Gene28820.t1;PH02Gene28819.t1;PH02Gene28818.t1;PH02Gene40760.t1;PH02Gene40759.t1;PH02Gene40758.t1;PH02Gene40757.t1;PH02Gene40756.t1;PH02Gene40755.t1;PH02Gene40754.t1;PH02Gene40753.t1;PH02Gene40752.t1;PH02Gene40751.t1;PH02Gene40750.t1;PH02Gene40749.t1;PH02Gene40564.t1;PH02Gene40565.t1;PH02Gene40566.t1;PH02Gene40567.t2;PH02Gene40568.t1;PH02Gene40569.t1;PH02Gene40570.t1;PH02Gene40571.t1;PH02Gene23749.t1;PH02Gene23750.t1;PH02Gene23751.t1;PH02Gene23752.t1;PH02Gene23753.t1;PH02Gene23754.t1;PH02Gene23755.t1;PH02Gene23756.t1;PH02Gene23757.t1;PH02Gene23758.t1;PH02Gene23759.t1;PH02Gene23760.t1;PH02Gene46772.t1;PH02Gene46773.t1;PH02Gene46774.t1;PH02Gene46775.t1;PH02Gene46776.t1;PH02Gene48387.t1;PH02Gene42620.t1;PH02Gene42619.t1;PH02Gene42618.t1;PH02Gene42617.t1;PH02Gene42616.t1;PH02Gene42615.t2;PH02Gene42614.t1;PH02Gene42613.t1;PH02Gene39689.t1;PH02Gene39688.t1;PH02Gene39687.t1;PH02Gene39686.t1;PH02Gene39685.t1;PH02Gene39684.t1;PH02Gene39683.t1;PH02Gene39682.t1;PH02Gene39681.t1;PH02Gene39680.t1;PH02Gene30836.t1;PH02Gene30834.t1;PH02Gene30833.t1;PH02Gene30832.t1;PH02Gene30831.t1;PH02Gene44954.t1;PH02Gene44953.t1;PH02Gene44952.t1;PH02Gene44951.t1;PH02Gene44950.t1;PH02Gene44949.t1;PH02Gene44948.t1;PH02Gene44947.t1;PH02Gene44946.t1;PH02Gene28912.t2;PH02Gene28913.t1;PH02Gene28914.t1;PH02Gene28915.t1;PH02Gene28916.t1;PH02Gene28917.t1;PH02Gene28918.t1;PH02Gene28919.t1;PH02Gene28920.t1;PH02Gene28921.t1;PH02Gene28922.t1;PH02Gene28923.t1;PH02Gene28924.t1;PH02Gene28925.t1;PH02Gene28926.t1;PH02Gene28927.t1;PH02Gene28928.t1;PH02Gene28929.t1;PH02Gene28930.t1;PH02Gene28931.t1;PH02Gene28932.t1;PH02Gene28933.t1;PH02Gene28934.t1;PH02Gene28935.t1;PH02Gene49435.t1;PH02Gene48277.t1;PH02Gene47765.t1;PH02Gene38803.t1;PH02Gene38802.t1;PH02Gene38801.t1;PH02Gene38800.t1;PH02Gene38799.t1;PH02Gene38798.t1;PH02Gene38797.t1;PH02Gene38796.t1;PH02Gene38795.t1;PH02Gene38794.t1;PH02Gene38793.t1;PH02Gene38792.t1;PH02Gene38791.t1;PH02Gene38790.t1;PH02Gene38789.t1;PH02Gene38788.t1;PH02Gene38787.t1;PH02Gene38786.t2;PH02Gene38785.t1;PH02Gene42680.t1;PH02Gene42681.t1;PH02Gene42682.t1;PH02Gene42683.t2;PH02Gene42684.t1;PH02Gene42685.t1;PH02Gene42686.t1;PH02Gene42687.t1;PH02Gene42688.t3;PH02Gene42689.t1;PH02Gene42690.t3;PH02Gene42691.t1;PH02Gene45247.t1;PH02Gene45246.t1;PH02Gene45245.t1;PH02Gene45244.t1;PH02Gene45243.t1;PH02Gene20323.t1;PH02Gene20324.t1;PH02Gene20325.t1;PH02Gene20326.t1;PH02Gene20327.t1;PH02Gene20328.t1;PH02Gene20329.t1;PH02Gene20330.t1;PH02Gene20331.t1;PH02Gene20332.t1;PH02Gene20333.t1;PH02Gene20334.t1;PH02Gene20335.t1;PH02Gene20336.t1;PH02Gene20337.t1;PH02Gene20338.t1;PH02Gene20339.t1;PH02Gene20340.t1;PH02Gene20341.t1;PH02Gene20342.t1;PH02Gene20343.t1;PH02Gene20344.t1;PH02Gene20345.t1;PH02Gene20346.t1;PH02Gene20347.t1;PH02Gene20348.t1;PH02Gene20349.t1;PH02Gene20350.t1;PH02Gene20351.t1;PH02Gene20352.t1;PH02Gene20353.t1;PH02Gene44109.t1;PH02Gene44110.t1;PH02Gene44111.t1;PH02Gene44112.t1;PH02Gene44113.t1;PH02Gene44114.t1;PH02Gene44115.t1;PH02Gene44116.t1;PH02Gene44117.t1;PH02Gene44118.t1;
A9: 3 | B9: 83400001 | C9: 91400000 | D9: =LEN(E9)-LEN(SUBSTITUTE(E9,";","")) -> 300 | E9: PH02Gene01462.t1;PH02Gene01461.t1;PH02Gene01460.t1;PH02Gene01459.t1;PH02Gene01458.t1;PH02Gene01457.t1;PH02Gene01456.t1;PH02Gene01455.t1;PH02Gene31251.t1;PH02Gene31250.t1;PH02Gene45964.t1;PH02Gene45965.t1;PH02Gene45966.t1;PH02Gene45967.t1;PH02Gene45968.t1;PH02Gene03848.t1;PH02Gene03847.t1;PH02Gene03846.t1;PH02Gene03845.t1;PH02Gene03844.t1;PH02Gene03843.t1;PH02Gene03842.t1;PH02Gene03841.t1;PH02Gene03840.t1;PH02Gene03839.t6;PH02Gene03838.t1;PH02Gene03837.t1;PH02Gene03836.t1;PH02Gene03835.t1;PH02Gene03834.t1;PH02Gene03833.t1;PH02Gene03832.t1;PH02Gene03831.t2;PH02Gene03830.t1;PH02Gene03829.t1;PH02Gene03828.t1;PH02Gene03827.t1;PH02Gene03826.t1;PH02Gene03825.t1;PH02Gene03824.t1;PH02Gene03823.t1;PH02Gene03822.t1;PH02Gene03821.t1;PH02Gene03820.t1;PH02Gene03819.t1;PH02Gene03818.t1;PH02Gene03817.t1;PH02Gene03816.t1;PH02Gene03815.t1;PH02Gene03814.t1;PH02Gene03813.t1;PH02Gene03812.t1;PH02Gene03811.t1;PH02Gene03810.t1;PH02Gene03809.t1;PH02Gene03808.t2;PH02Gene03807.t1;PH02Gene03806.t1;PH02Gene03805.t1;PH02Gene03804.t1;PH02Gene03803.t1;PH02Gene03802.t1;PH02Gene03801.t1;PH02Gene03800.t2;PH02Gene03799.t1;PH02Gene03798.t1;PH02Gene03797.t1;PH02Gene03796.t1;PH02Gene03795.t1;PH02Gene03794.t1;PH02Gene03793.t1;PH02Gene03792.t1;PH02Gene03791.t1;PH02Gene03790.t1;PH02Gene03789.t1;PH02Gene03788.t1;PH02Gene03787.t1;PH02Gene03786.t1;PH02Gene03785.t1;PH02Gene03784.t2;PH02Gene03783.t1;PH02Gene03782.t1;PH02Gene03781.t1;PH02Gene03780.t1;PH02Gene03779.t1;PH02Gene03778.t1;PH02Gene03777.t1;PH02Gene03776.t1;PH02Gene03775.t1;PH02Gene03774.t1;PH02Gene03773.t2;PH02Gene03772.t1;PH02Gene03771.t1;PH02Gene03770.t1;PH02Gene03769.t1;PH02Gene03768.t1;PH02Gene03767.t1;PH02Gene03766.t1;PH02Gene03765.t1;PH02Gene03764.t1;PH02Gene03763.t1;PH02Gene03762.t1;PH02Gene03761.t1;PH02Gene03760.t1;PH02Gene03759.t1;PH02Gene03758.t1;PH02Gene03757.t1;PH02Gene37228.t1;PH02Gene37229.t1;PH02Gene37230.t1;PH02Gene37231.t1;PH02Gene37232.t1;PH02Gene37233.t1;PH02Gene37234.t1;PH02Gene37235.t1;PH02Gene37236.t1;PH02Gene37237.t1;PH02Gene37238.t1;PH02Gene37239.t1;PH02Gene37240.t1;PH02Gene37241.t1;PH02Gene37242.t1;PH02Gene37243.t1;PH02Gene16236.t1;PH02Gene16235.t1;PH02Gene16234.t1;PH02Gene16233.t1;PH02Gene16232.t1;PH02Gene16231.t1;PH02Gene16230.t1;PH02Gene16229.t1;PH02Gene16228.t1;PH02Gene16227.t1;PH02Gene16226.t1;PH02Gene16225.t1;PH02Gene16224.t1;PH02Gene16223.t1;PH02Gene16222.t1;PH02Gene16221.t1;PH02Gene16220.t1;PH02Gene16219.t1;PH02Gene16218.t1;PH02Gene16217.t2;PH02Gene16216.t2;PH02Gene16215.t1;PH02Gene16214.t1;PH02Gene16213.t1;PH02Gene16212.t1;PH02Gene16211.t3;PH02Gene16210.t1;PH02Gene16209.t1;PH02Gene16208.t1;PH02Gene16207.t1;PH02Gene48721.t1;PH02Gene48722.t1;PH02Gene48723.t1;PH02Gene22819.t1;PH02Gene22820.t1;PH02Gene22821.t1;PH02Gene22822.t1;PH02Gene22823.t1;PH02Gene22824.t1;PH02Gene22825.t1;PH02Gene22826.t1;PH02Gene22827.t1;PH02Gene22828.t1;PH02Gene22829.t1;PH02Gene22830.t1;PH02Gene22831.t1;PH02Gene22832.t1;PH02Gene22833.t1;PH02Gene22834.t1;PH02Gene22835.t1;PH02Gene22836.t1;PH02Gene22837.t1;PH02Gene22838.t1;PH02Gene22839.t2;PH02Gene22840.t1;PH02Gene22841.t1;PH02Gene22842.t1;PH02Gene22843.t1;PH02Gene22844.t1;PH02Gene22845.t1;PH02Gene22846.t1;PH02Gene22847.t1;PH02Gene22848.t1;PH02Gene22849.t1;PH02Gene22850.t1;PH02Gene22851.t1;PH02Gene22852.t2;PH02Gene22853.t1;PH02Gene39223.t1;PH02Gene39222.t1;PH02Gene39221.t1;PH02Gene39220.t1;PH02Gene39219.t1;PH02Gene39218.t1;PH02Gene39217.t1;PH02Gene39216.t1;PH02Gene39215.t1;PH02Gene39214.t1;PH02Gene48300.t1;PH02Gene48299.t1;PH02Gene48298.t1;PH02Gene48297.t1;PH02Gene47710.t1;PH02Gene47709.t1;PH02Gene47708.t1;PH02Gene16415.t1;PH02Gene16416.t1;PH02Gene16417.t1;PH02Gene16418.t1;PH02Gene16419.t1;PH02Gene16420.t1;PH02Gene16421.t1;PH02Gene16422.t1;PH02Gene16423.t1;PH02Gene16424.t1;PH02Gene16425.t1;PH02Gene16426.t1;PH02Gene16427.t2;PH02Gene16428.t1;PH02Gene16429.t1;PH02Gene16430.t2;PH02Gene16431.t1;PH02Gene16432.t1;PH02Gene16433.t1;PH02Gene16434.t1;PH02Gene16435.t1;PH02Gene16436.t1;PH02Gene16437.t1;PH02Gene16438.t1;PH02Gene16439.t1;PH02Gene16440.t1;PH02Gene16441.t1;PH02Gene16442.t1;PH02Gene16443.t1;PH02Gene16444.t1;PH02Gene16445.t1;PH02Gene16446.t1;PH02Gene16447.t1;PH02Gene16448.t1;PH02Gene16449.t1;PH02Gene16450.t1;PH02Gene16451.t1;PH02Gene16452.t1;PH02Gene16453.t1;PH02Gene16454.t1;PH02Gene16455.t1;PH02Gene16456.t1;PH02Gene16457.t1;PH02Gene16458.t1;PH02Gene16459.t1;PH02Gene16460.t1;PH02Gene16461.t1;PH02Gene16462.t1;PH02Gene16463.t2;PH02Gene16464.t2;PH02Gene16465.t1;PH02Gene16466.t1;PH02Gene16467.t1;PH02Gene16468.t1;PH02Gene16469.t1;PH02Gene16470.t1;PH02Gene16471.t1;PH02Gene16472.t2;PH02Gene16473.t1;PH02Gene45956.t2;PH02Gene45955.t1;PH02Gene45954.t1;PH02Gene45953.t1;PH02Gene45952.t1;PH02Gene45951.t2;PH02Gene45950.t1;PH02Gene45949.t1;PH02Gene04838.t1;PH02Gene04839.t1;PH02Gene04840.t1;PH02Gene04841.t1;PH02Gene04842.t1;PH02Gene04843.t1;PH02Gene04844.t1;PH02Gene04845.t1;PH02Gene04846.t1;PH02Gene04847.t1;PH02Gene04848.t1;PH02Gene04849.t1;PH02Gene04850.t1;PH02Gene04851.t1;PH02Gene04852.t1;PH02Gene04853.t1;PH02Gene04854.t1;PH02Gene04855.t1;PH02Gene04856.t1;PH02Gene04857.t1;PH02Gene04858.t1;PH02Gene04859.t1;PH02Gene04860.t1;PH02Gene04861.t1;PH02Gene04862.t1;
A10: 3 | B10: 93800001 | C10: 99200000 | D10: =LEN(E10)-LEN(SUBSTITUTE(E10,";","")) -> 217 | E10: PH02Gene06465.t1;PH02Gene06466.t1;PH02Gene06467.t1;PH02Gene06468.t2;PH02Gene06469.t1;PH02Gene06470.t1;PH02Gene06471.t1;PH02Gene06472.t1;PH02Gene06473.t1;PH02Gene06474.t1;PH02Gene06475.t1;PH02Gene06476.t1;PH02Gene06477.t1;PH02Gene06478.t2;PH02Gene06479.t1;PH02Gene06480.t1;PH02Gene06481.t1;PH02Gene06482.t1;PH02Gene06483.t1;PH02Gene06484.t1;PH02Gene06485.t1;PH02Gene06486.t2;PH02Gene06487.t1;PH02Gene06488.t1;PH02Gene06489.t1;PH02Gene06490.t1;PH02Gene06491.t1;PH02Gene06492.t1;PH02Gene06493.t1;PH02Gene06494.t1;PH02Gene06495.t2;PH02Gene06496.t1;PH02Gene06497.t1;PH02Gene06498.t1;PH02Gene06499.t1;PH02Gene06500.t1;PH02Gene06501.t1;PH02Gene06502.t1;PH02Gene06503.t1;PH02Gene06504.t1;PH02Gene06505.t1;PH02Gene41776.t1;PH02Gene41777.t1;PH02Gene41778.t1;PH02Gene41779.t1;PH02Gene41780.t1;PH02Gene41781.t1;PH02Gene41782.t1;PH02Gene41783.t1;PH02Gene41784.t1;PH02Gene41785.t1;PH02Gene41786.t1;PH02Gene41787.t1;PH02Gene41788.t1;PH02Gene41789.t1;PH02Gene41790.t1;PH02Gene02550.t1;PH02Gene02549.t2;PH02Gene02548.t1;PH02Gene02547.t1;PH02Gene02546.t1;PH02Gene02545.t1;PH02Gene02544.t1;PH02Gene02543.t1;PH02Gene02542.t1;PH02Gene02541.t2;PH02Gene02540.t1;PH02Gene02539.t1;PH02Gene02538.t1;PH02Gene02537.t1;PH02Gene02536.t1;PH02Gene02535.t1;PH02Gene02534.t1;PH02Gene02533.t1;PH02Gene02532.t1;PH02Gene02531.t3;PH02Gene02530.t1;PH02Gene02529.t1;PH02Gene02528.t1;PH02Gene02527.t1;PH02Gene02526.t1;PH02Gene02525.t1;PH02Gene02524.t1;PH02Gene02523.t1;PH02Gene02522.t2;PH02Gene02521.t1;PH02Gene02520.t1;PH02Gene02519.t1;PH02Gene02518.t1;PH02Gene02517.t1;PH02Gene02516.t1;PH02Gene02515.t1;PH02Gene02514.t1;PH02Gene02513.t1;PH02Gene02512.t1;PH02Gene02511.t1;PH02Gene02510.t1;PH02Gene02509.t1;PH02Gene02508.t1;PH02Gene02507.t1;PH02Gene02506.t1;PH02Gene02505.t1;PH02Gene02504.t1;PH02Gene02503.t1;PH02Gene02502.t1;PH02Gene02501.t1;PH02Gene02500.t1;PH02Gene02499.t1;PH02Gene02498.t1;PH02Gene02497.t1;PH02Gene02496.t1;PH02Gene02495.t1;PH02Gene02494.t1;PH02Gene02493.t3;PH02Gene02492.t1;PH02Gene02491.t1;PH02Gene02490.t1;PH02Gene02489.t1;PH02Gene36656.t1;PH02Gene36655.t1;PH02Gene36654.t1;PH02Gene36653.t1;PH02Gene36650.t1;PH02Gene36649.t1;PH02Gene36648.t1;PH02Gene36647.t1;PH02Gene36646.t1;PH02Gene36645.t1;PH02Gene36644.t1;PH02Gene36643.t1;PH02Gene36642.t1;PH02Gene36641.t1;PH02Gene33585.t2;PH02Gene33584.t1;PH02Gene33583.t1;PH02Gene33582.t2;PH02Gene33581.t1;PH02Gene33580.t1;PH02Gene33579.t1;PH02Gene33578.t1;PH02Gene33577.t1;PH02Gene33576.t1;PH02Gene33575.t1;PH02Gene33574.t1;PH02Gene33573.t1;PH02Gene33572.t1;PH02Gene33571.t3;PH02Gene49971.t1;PH02Gene49970.t2;PH02Gene49969.t2;PH02Gene35395.t1;PH02Gene35396.t1;PH02Gene35397.t1;PH02Gene35398.t1;PH02Gene35399.t1;PH02Gene35400.t1;PH02Gene35401.t1;PH02Gene35402.t1;PH02Gene35403.t1;PH02Gene35404.t1;PH02Gene35405.t3;PH02Gene35406.t1;PH02Gene35407.t1;PH02Gene35408.t3;PH02Gene35409.t1;PH02Gene35410.t1;PH02Gene35411.t1;PH02Gene35412.t1;PH02Gene35413.t2;PH02Gene35414.t1;PH02Gene35415.t1;PH02Gene35416.t1;PH02Gene35417.t1;PH02Gene48117.t1;PH02Gene48116.t1;PH02Gene28993.t1;PH02Gene28994.t2;PH02Gene28995.t1;PH02Gene28996.t1;PH02Gene28998.t1;PH02Gene28999.t1;PH02Gene29000.t1;PH02Gene29001.t1;PH02Gene29002.t1;PH02Gene29003.t1;PH02Gene29004.t3;PH02Gene29005.t1;PH02Gene29006.t1;PH02Gene29007.t1;PH02Gene29008.t1;PH02Gene29009.t1;PH02Gene29010.t2;PH02Gene29011.t1;PH02Gene29012.t1;PH02Gene29013.t1;PH02Gene29014.t1;PH02Gene29015.t1;PH02Gene21247.t1;PH02Gene21246.t1;PH02Gene21245.t1;PH02Gene21244.t1;PH02Gene21243.t1;PH02Gene21242.t1;PH02Gene21241.t1;PH02Gene21240.t1;PH02Gene21239.t1;PH02Gene21238.t1;PH02Gene21237.t1;PH02Gene21236.t1;PH02Gene21235.t1;PH02Gene21234.t1;PH02Gene21233.t1;PH02Gene21232.t1;PH02Gene21231.t1;PH02Gene21230.t2;PH02Gene21229.t1;PH02Gene21228.t1;
A11: 4 | B11: 18200001 | C11: 26800000 | D11: =LEN(E11)-LEN(SUBSTITUTE(E11,";","")) -> 207 | E11: PH02Gene40989.t1;PH02Gene40987.t1;PH02Gene08669.t1;PH02Gene08670.t1;PH02Gene08671.t1;PH02Gene08672.t1;PH02Gene08673.t1;PH02Gene08674.t1;PH02Gene08675.t1;PH02Gene08676.t1;PH02Gene08677.t1;PH02Gene08678.t1;PH02Gene08679.t1;PH02Gene08680.t3;PH02Gene08681.t2;PH02Gene08682.t1;PH02Gene08683.t1;PH02Gene08684.t1;PH02Gene08685.t1;PH02Gene08686.t1;PH02Gene08687.t1;PH02Gene08688.t1;PH02Gene08689.t1;PH02Gene08690.t1;PH02Gene08691.t1;PH02Gene08692.t1;PH02Gene08693.t1;PH02Gene08694.t1;PH02Gene08695.t1;PH02Gene08696.t1;PH02Gene08697.t1;PH02Gene08698.t1;PH02Gene08699.t1;PH02Gene08700.t1;PH02Gene08701.t2;PH02Gene08702.t1;PH02Gene08703.t1;PH02Gene08704.t1;PH02Gene08705.t1;PH02Gene08706.t1;PH02Gene08707.t1;PH02Gene08708.t1;PH02Gene50265.t1;PH02Gene50266.t1;PH02Gene49946.t1;PH02Gene49945.t1;PH02Gene11527.t1;PH02Gene11528.t1;PH02Gene11529.t1;PH02Gene11530.t1;PH02Gene11531.t1;PH02Gene11532.t1;PH02Gene11533.t1;PH02Gene11534.t1;PH02Gene49511.t2;PH02Gene49523.t1;PH02Gene50585.t1;PH02Gene47034.t1;PH02Gene47033.t1;PH02Gene38849.t1;PH02Gene38850.t1;PH02Gene38851.t1;PH02Gene38852.t1;PH02Gene38853.t1;PH02Gene38854.t1;PH02Gene38855.t1;PH02Gene38856.t3;PH02Gene38857.t1;PH02Gene38858.t1;PH02Gene38859.t1;PH02Gene38860.t1;PH02Gene38861.t1;PH02Gene49032.t2;PH02Gene49031.t1;PH02Gene49030.t1;PH02Gene49029.t1;PH02Gene49028.t1;PH02Gene38616.t1;PH02Gene38615.t1;PH02Gene38614.t1;PH02Gene38613.t1;PH02Gene38612.t1;PH02Gene38611.t1;PH02Gene38610.t1;PH02Gene38609.t1;PH02Gene38608.t1;PH02Gene38607.t1;PH02Gene38606.t1;PH02Gene33448.t1;PH02Gene33449.t1;PH02Gene33450.t1;PH02Gene33451.t1;PH02Gene33452.t1;PH02Gene33453.t1;PH02Gene33454.t2;PH02Gene33455.t1;PH02Gene33456.t1;PH02Gene33457.t1;PH02Gene33458.t1;PH02Gene33459.t3;PH02Gene33460.t1;PH02Gene47664.t1;PH02Gene47665.t1;PH02Gene47666.t1;PH02Gene47667.t1;PH02Gene22961.t1;PH02Gene22960.t3;PH02Gene22958.t1;PH02Gene22959.t1;PH02Gene22957.t1;PH02Gene22956.t2;PH02Gene22955.t1;PH02Gene33116.t1;PH02Gene33117.t1;PH02Gene33118.t1;PH02Gene33119.t1;PH02Gene33120.t1;PH02Gene33121.t1;PH02Gene33122.t4;PH02Gene33123.t1;PH02Gene33124.t1;PH02Gene33125.t1;PH02Gene33126.t1;PH02Gene33127.t1;PH02Gene33128.t1;PH02Gene33129.t1;PH02Gene33130.t1;PH02Gene33131.t1;PH02Gene33132.t1;PH02Gene33133.t1;PH02Gene33134.t1;PH02Gene47716.t1;PH02Gene47715.t1;PH02Gene40230.t1;PH02Gene40231.t1;PH02Gene40232.t1;PH02Gene40233.t1;PH02Gene40234.t1;PH02Gene40235.t1;PH02Gene50277.t1;PH02Gene32401.t1;PH02Gene32400.t1;PH02Gene32399.t1;PH02Gene32398.t1;PH02Gene32397.t1;PH02Gene32396.t3;PH02Gene32395.t2;PH02Gene32394.t1;PH02Gene32393.t2;PH02Gene32392.t1;PH02Gene32391.t1;PH02Gene34891.t1;PH02Gene34890.t1;PH02Gene34889.t1;PH02Gene34888.t1;PH02Gene34887.t1;PH02Gene34886.t1;PH02Gene34885.t1;PH02Gene34884.t1;PH02Gene34883.t1;PH02Gene43029.t1;PH02Gene43028.t2;PH02Gene43027.t1;PH02Gene43026.t1;PH02Gene43025.t1;PH02Gene43024.t1;PH02Gene43023.t1;PH02Gene43235.t1;PH02Gene43234.t1;PH02Gene43233.t1;PH02Gene43232.t1;PH02Gene50391.t1;PH02Gene43231.t1;PH02Gene46661.t1;PH02Gene46660.t1;PH02Gene37578.t1;PH02Gene37577.t1;PH02Gene37576.t1;PH02Gene37575.t1;PH02Gene37574.t2;PH02Gene37573.t1;PH02Gene37572.t1;PH02Gene37571.t1;PH02Gene37570.t1;PH02Gene47310.t1;PH02Gene47309.t1;PH02Gene48589.t1;PH02Gene44273.t1;PH02Gene44274.t2;PH02Gene44275.t1;PH02Gene43464.t1;PH02Gene43465.t2;PH02Gene43466.t3;PH02Gene43467.t1;PH02Gene43468.t1;PH02Gene43469.t2;PH02Gene43470.t1;PH02Gene43471.t1;PH02Gene43472.t1;PH02Gene42692.t1;PH02Gene42693.t1;PH02Gene42694.t1;PH02Gene42695.t1;PH02Gene42696.t1;PH02Gene42697.t1;PH02Gene42698.t1;PH02Gene42699.t1;
A12: 4 | B12: 34400001 | C12: 54600000 | D12: =LEN(E12)-LEN(SUBSTITUTE(E12,";","")) -> 426 | E12: PH02Gene36111.t1;PH02Gene45623.t1;PH02Gene48749.t1;PH02Gene36110.t1;PH02Gene36109.t1;PH02Gene36108.t1;PH02Gene36022.t1;PH02Gene36021.t1;PH02Gene50042.t1;PH02Gene36020.t1;PH02Gene36019.t1;PH02Gene36018.t1;PH02Gene36017.t1;PH02Gene36016.t1;PH02Gene44565.t1;PH02Gene48539.t1;PH02Gene46333.t1;PH02Gene46332.t1;PH02Gene46331.t1;PH02Gene24827.t1;PH02Gene24826.t2;PH02Gene24825.t1;PH02Gene24824.t1;PH02Gene24823.t1;PH02Gene24822.t1;PH02Gene24821.t1;PH02Gene24820.t1;PH02Gene24819.t1;PH02Gene24818.t1;PH02Gene24817.t1;PH02Gene45414.t1;PH02Gene45415.t1;PH02Gene32588.t1;PH02Gene32587.t1;PH02Gene32586.t1;PH02Gene32585.t1;PH02Gene32584.t1;PH02Gene32583.t1;PH02Gene32582.t1;PH02Gene37354.t1;PH02Gene37355.t1;PH02Gene37356.t1;PH02Gene37357.t1;PH02Gene37358.t1;PH02Gene37359.t3;PH02Gene37360.t1;PH02Gene37361.t1;PH02Gene49875.t1;PH02Gene41834.t1;PH02Gene41833.t1;PH02Gene41832.t1;PH02Gene41831.t1;PH02Gene41830.t1;PH02Gene30640.t1;PH02Gene30641.t1;PH02Gene30642.t1;PH02Gene30643.t1;PH02Gene30644.t1;PH02Gene30645.t1;PH02Gene30646.t1;PH02Gene30647.t1;PH02Gene30648.t1;PH02Gene30649.t1;PH02Gene30650.t1;PH02Gene30651.t1;PH02Gene41274.t1;PH02Gene41275.t1;PH02Gene41276.t1;PH02Gene41277.t1;PH02Gene41278.t1;PH02Gene41279.t1;PH02Gene41280.t2;PH02Gene41281.t1;PH02Gene39456.t2;PH02Gene39457.t1;PH02Gene48484.t1;PH02Gene48483.t1;PH02Gene39455.t2;PH02Gene45908.t1;PH02Gene45907.t1;PH02Gene45906.t1;PH02Gene35059.t1;PH02Gene35058.t1;PH02Gene35057.t1;PH02Gene35056.t1;PH02Gene49283.t1;PH02Gene36034.t1;PH02Gene36033.t1;PH02Gene36032.t1;PH02Gene36031.t1;PH02Gene36030.t1;PH02Gene36029.t1;PH02Gene36028.t1;PH02Gene36027.t1;PH02Gene36026.t1;PH02Gene36025.t1;PH02Gene44693.t4;PH02Gene44694.t1;PH02Gene44695.t1;PH02Gene36966.t2;PH02Gene36965.t1;PH02Gene36964.t2;PH02Gene36963.t1;PH02Gene36962.t1;PH02Gene36961.t1;PH02Gene46123.t1;PH02Gene46124.t1;PH02Gene36957.t1;PH02Gene36956.t1;PH02Gene36955.t1;PH02Gene36954.t1;PH02Gene33056.t1;PH02Gene33055.t1;PH02Gene33054.t1;PH02Gene33053.t1;PH02Gene33052.t1;PH02Gene33051.t1;PH02Gene33050.t1;PH02Gene33049.t1;PH02Gene33048.t1;PH02Gene33047.t1;PH02Gene33046.t1;PH02Gene33045.t1;PH02Gene33044.t1;PH02Gene33043.t1;PH02Gene33042.t1;PH02Gene49192.t1;PH02Gene38007.t2;PH02Gene38006.t1;PH02Gene38005.t1;PH02Gene38004.t1;PH02Gene38003.t1;PH02Gene38002.t1;PH02Gene38001.t1;PH02Gene49943.t1;PH02Gene49944.t1;PH02Gene37997.t1;PH02Gene37998.t1;PH02Gene37999.t2;PH02Gene37996.t1;PH02Gene37995.t1;PH02Gene25051.t1;PH02Gene25052.t1;PH02Gene25053.t1;PH02Gene25054.t1;PH02Gene25055.t1;PH02Gene25056.t1;PH02Gene25057.t1;PH02Gene25058.t1;PH02Gene25059.t1;PH02Gene25060.t1;PH02Gene25061.t1;PH02Gene25062.t2;PH02Gene25063.t2;PH02Gene25064.t1;PH02Gene25065.t1;PH02Gene25066.t1;PH02Gene25067.t1;PH02Gene25068.t1;PH02Gene25069.t1;PH02Gene25070.t1;PH02Gene25071.t1;PH02Gene25072.t1;PH02Gene25073.t1;PH02Gene25074.t1;PH02Gene25075.t1;PH02Gene25076.t1;PH02Gene25077.t1;PH02Gene25078.t1;PH02Gene25079.t1;PH02Gene28417.t2;PH02Gene41751.t1;PH02Gene41752.t1;PH02Gene41753.t1;PH02Gene41754.t1;PH02Gene41755.t1;PH02Gene41756.t1;PH02Gene41757.t1;PH02Gene41758.t1;PH02Gene41759.t1;PH02Gene41760.t1;PH02Gene48715.t1;PH02Gene48716.t1;PH02Gene44733.t1;PH02Gene44734.t1;PH02Gene44735.t1;PH02Gene44736.t1;PH02Gene44737.t1;PH02Gene44738.t1;PH02Gene49235.t1;PH02Gene49234.t1;PH02Gene45748.t1;PH02Gene45747.t1;PH02Gene45746.t1;PH02Gene45745.t1;PH02Gene45744.t1;PH02Gene45743.t1;PH02Gene45742.t1;PH02Gene46987.t1;PH02Gene46988.t1;PH02Gene46989.t1;PH02Gene46990.t1;PH02Gene46991.t1;PH02Gene46992.t1;PH02Gene43215.t1;PH02Gene43214.t1;PH02Gene43213.t1;PH02Gene45187.t1;PH02Gene45186.t1;PH02Gene45185.t1;PH02Gene45184.t1;PH02Gene45183.t1;PH02Gene34569.t1;PH02Gene34570.t1;PH02Gene34571.t1;PH02Gene34572.t1;PH02Gene34573.t1;PH02Gene34574.t1;PH02Gene34575.t1;PH02Gene34576.t1;PH02Gene45362.t1;PH02Gene45361.t1;PH02Gene45360.t1;PH02Gene45359.t1;PH02Gene45358.t1;PH02Gene45357.t1;PH02Gene31051.t1;PH02Gene31050.t1;PH02Gene31049.t1;PH02Gene31048.t1;PH02Gene31047.t1;PH02Gene31046.t5;PH02Gene31045.t4;PH02Gene31044.t1;PH02Gene31043.t1;PH02Gene31042.t1;PH02Gene31041.t1;PH02Gene31040.t1;PH02Gene31039.t1;PH02Gene31038.t1;PH02Gene31037.t1;PH02Gene31036.t1;PH02Gene44850.t1;PH02Gene44851.t1;PH02Gene44852.t1;PH02Gene44853.t1;PH02Gene45933.t1;PH02Gene45934.t1;PH02Gene27870.t1;PH02Gene27869.t1;PH02Gene27868.t1;PH02Gene27867.t1;PH02Gene27866.t1;PH02Gene27865.t1;PH02Gene27864.t1;PH02Gene27863.t1;PH02Gene27862.t1;PH02Gene27861.t2;PH02Gene27860.t1;PH02Gene27859.t1;PH02Gene27858.t1;PH02Gene27857.t1;PH02Gene27856.t1;PH02Gene27855.t1;PH02Gene27854.t4;PH02Gene27853.t1;PH02Gene27852.t1;PH02Gene27851.t1;PH02Gene50334.t1;PH02Gene50468.t1;PH02Gene36188.t1;PH02Gene36189.t2;PH02Gene36190.t1;PH02Gene36191.t1;PH02Gene36192.t1;PH02Gene36193.t1;PH02Gene36194.t1;PH02Gene36195.t1;PH02Gene36196.t1;PH02Gene36197.t1;PH02Gene36198.t2;PH02Gene45356.t1;PH02Gene45355.t1;PH02Gene45354.t1;PH02Gene45353.t1;PH02Gene44731.t1;PH02Gene44730.t1;PH02Gene44729.t1;PH02Gene45153.t1;PH02Gene45152.t1;PH02Gene45151.t1;PH02Gene45150.t1;PH02Gene33207.t1;PH02Gene33206.t1;PH02Gene50520.t1;PH02Gene50288.t1;PH02Gene49628.t1;PH02Gene43683.t1;PH02Gene43684.t1;PH02Gene43685.t1;PH02Gene50340.t1;PH02Gene32995.t1;PH02Gene32994.t1;PH02Gene32993.t1;PH02Gene32992.t1;PH02Gene32990.t1;PH02Gene32989.t1;PH02Gene32988.t1;PH02Gene23694.t1;PH02Gene23695.t2;PH02Gene23696.t1;PH02Gene23697.t1;PH02Gene23698.t1;PH02Gene23699.t1;PH02Gene23700.t1;PH02Gene23701.t1;PH02Gene23702.t1;PH02Gene23703.t1;PH02Gene23704.t1;PH02Gene23705.t1;PH02Gene23706.t1;PH02Gene23707.t1;PH02Gene23708.t1;PH02Gene23709.t1;PH02Gene23710.t1;PH02Gene23711.t1;PH02Gene23712.t1;PH02Gene23713.t1;PH02Gene23714.t1;PH02Gene23715.t1;PH02Gene23716.t1;PH02Gene23717.t1;PH02Gene23718.t1;PH02Gene23719.t2;PH02Gene23720.t1;PH02Gene23721.t1;PH02Gene12509.t1;PH02Gene12188.t1;PH02Gene12187.t1;PH02Gene12186.t1;PH02Gene12185.t1;PH02Gene12184.t1;PH02Gene12183.t1;PH02Gene12182.t1;PH02Gene12181.t1;PH02Gene12180.t2;PH02Gene12179.t1;PH02Gene12178.t1;PH02Gene12177.t1;PH02Gene12176.t1;PH02Gene12175.t1;PH02Gene12174.t1;PH02Gene12173.t1;PH02Gene12172.t1;PH02Gene12171.t1;PH02Gene12170.t1;PH02Gene12169.t1;PH02Gene12168.t1;PH02Gene12167.t1;PH02Gene12166.t1;PH02Gene12165.t1;PH02Gene12164.t1;PH02Gene12163.t1;PH02Gene12162.t1;PH02Gene12161.t1;PH02Gene12160.t1;PH02Gene12159.t1;PH02Gene25943.t1;PH02Gene25942.t1;PH02Gene25941.t2;PH02Gene25940.t1;PH02Gene25939.t1;PH02Gene26105.t1;PH02Gene26106.t1;PH02Gene26107.t1;PH02Gene26108.t1;PH02Gene26109.t1;PH02Gene26110.t1;PH02Gene26111.t1;PH02Gene26112.t1;PH02Gene26113.t1;PH02Gene26114.t1;PH02Gene26115.t1;PH02Gene26116.t1;PH02Gene26117.t1;PH02Gene26118.t1;PH02Gene26119.t1;PH02Gene26120.t3;PH02Gene26121.t1;PH02Gene26122.t1;PH02Gene26123.t1;PH02Gene26124.t1;PH02Gene26125.t1;PH02Gene26126.t1;PH02Gene26127.t1;PH02Gene33350.t1;PH02Gene33349.t1;PH02Gene33348.t1;PH02Gene33347.t1;PH02Gene33346.t1;PH02Gene33345.t1;PH02Gene33344.t1;PH02Gene33343.t1;PH02Gene33342.t1;PH02Gene33341.t1;PH02Gene33340.t1;PH02Gene33339.t1;PH02Gene33338.t1;PH02Gene33337.t3;PH02Gene33336.t1;PH02Gene33335.t1;PH02Gene33334.t1;PH02Gene33333.t1;PH02Gene50043.t1;PH02Gene50044.t1;PH02Gene50045.t1;PH02Gene50046.t1;PH02Gene08311.t1;PH02Gene08310.t1;PH02Gene08309.t1;PH02Gene08308.t1;PH02Gene08307.t2;PH02Gene08306.t1;PH02Gene08305.t1;PH02Gene08304.t1;PH02Gene08303.t1;
A13: 5 | B13: 34000001 | C13: 42600000 | D13: =LEN(E13)-LEN(SUBSTITUTE(E13,";","")) -> 221 | E13: PH02Gene49379.t1;PH02Gene23033.t1;PH02Gene23032.t1;PH02Gene23031.t2;PH02Gene23030.t1;PH02Gene23029.t2;PH02Gene23028.t1;PH02Gene23027.t1;PH02Gene23026.t1;PH02Gene23025.t1;PH02Gene23024.t1;PH02Gene23023.t1;PH02Gene23022.t1;PH02Gene23021.t1;PH02Gene23020.t1;PH02Gene23019.t1;PH02Gene23018.t1;PH02Gene23017.t1;PH02Gene23016.t1;PH02Gene23015.t1;PH02Gene23014.t1;PH02Gene23013.t1;PH02Gene23012.t1;PH02Gene23011.t1;PH02Gene50147.t1;PH02Gene50094.t1;PH02Gene50095.t1;PH02Gene50436.t4;PH02Gene07749.t5;PH02Gene07748.t1;PH02Gene07747.t1;PH02Gene07746.t1;PH02Gene07745.t1;PH02Gene47804.t1;PH02Gene47805.t1;PH02Gene48681.t1;PH02Gene48682.t1;PH02Gene48241.t1;PH02Gene48240.t1;PH02Gene34010.t1;PH02Gene34009.t1;PH02Gene34008.t1;PH02Gene34007.t1;PH02Gene34006.t1;PH02Gene34005.t1;PH02Gene34004.t1;PH02Gene34003.t1;PH02Gene34002.t1;PH02Gene34001.t1;PH02Gene34000.t2;PH02Gene33999.t1;PH02Gene33998.t1;PH02Gene44011.t1;PH02Gene44010.t1;PH02Gene44009.t1;PH02Gene44008.t1;PH02Gene44007.t1;PH02Gene38947.t1;PH02Gene38948.t1;PH02Gene38949.t1;PH02Gene38950.t1;PH02Gene38951.t1;PH02Gene38952.t1;PH02Gene38953.t1;PH02Gene38954.t1;PH02Gene38955.t1;PH02Gene38956.t1;PH02Gene34381.t1;PH02Gene34382.t1;PH02Gene34383.t1;PH02Gene34384.t1;PH02Gene34385.t1;PH02Gene34386.t1;PH02Gene34387.t1;PH02Gene34388.t1;PH02Gene46563.t1;PH02Gene38828.t1;PH02Gene38827.t1;PH02Gene38826.t1;PH02Gene28295.t1;PH02Gene28294.t1;PH02Gene38824.t1;PH02Gene38823.t2;PH02Gene28293.t1;PH02Gene46972.t1;PH02Gene46971.t1;PH02Gene39819.t1;PH02Gene39820.t1;PH02Gene48731.t1;PH02Gene36674.t1;PH02Gene36673.t1;PH02Gene36672.t1;PH02Gene36671.t1;PH02Gene36670.t1;PH02Gene36669.t1;PH02Gene48831.t2;PH02Gene48832.t1;PH02Gene48833.t1;PH02Gene48834.t1;PH02Gene44301.t1;PH02Gene44302.t1;PH02Gene44303.t2;PH02Gene44304.t1;PH02Gene44305.t1;PH02Gene44306.t1;PH02Gene44307.t1;PH02Gene30421.t1;PH02Gene30422.t1;PH02Gene30423.t1;PH02Gene47311.t1;PH02Gene47312.t1;PH02Gene47313.t2;PH02Gene49395.t1;PH02Gene49396.t1;PH02Gene49397.t2;PH02Gene49398.t1;PH02Gene49399.t1;PH02Gene41184.t1;PH02Gene41183.t1;PH02Gene41182.t2;PH02Gene41181.t1;PH02Gene41180.t1;PH02Gene41179.t1;PH02Gene41178.t1;PH02Gene41177.t1;PH02Gene41176.t1;PH02Gene41175.t1;PH02Gene41174.t1;PH02Gene41173.t1;PH02Gene41172.t1;PH02Gene41171.t1;PH02Gene41170.t1;PH02Gene01538.t1;PH02Gene01539.t1;PH02Gene01540.t1;PH02Gene01541.t1;PH02Gene01542.t1;PH02Gene01543.t1;PH02Gene01544.t1;PH02Gene01545.t1;PH02Gene01546.t1;PH02Gene01547.t1;PH02Gene01548.t1;PH02Gene01549.t1;PH02Gene01550.t1;PH02Gene01551.t1;PH02Gene01552.t1;PH02Gene01553.t1;PH02Gene01554.t1;PH02Gene01555.t1;PH02Gene01556.t1;PH02Gene01557.t1;PH02Gene01558.t1;PH02Gene01559.t1;PH02Gene01560.t1;PH02Gene01561.t1;PH02Gene01562.t1;PH02Gene01563.t1;PH02Gene01564.t1;PH02Gene01565.t1;PH02Gene01566.t1;PH02Gene01567.t1;PH02Gene01568.t1;PH02Gene01569.t1;PH02Gene01570.t1;PH02Gene01571.t1;PH02Gene01572.t1;PH02Gene01573.t1;PH02Gene01574.t1;PH02Gene01575.t1;PH02Gene01576.t1;PH02Gene01577.t1;PH02Gene01578.t1;PH02Gene01579.t1;PH02Gene01580.t1;PH02Gene01581.t1;PH02Gene35974.t1;PH02Gene35975.t1;PH02Gene35976.t1;PH02Gene35977.t1;PH02Gene35978.t1;PH02Gene35979.t1;PH02Gene35980.t1;PH02Gene35981.t1;PH02Gene35982.t2;PH02Gene35983.t1;PH02Gene35984.t1;PH02Gene35985.t1;PH02Gene35986.t1;PH02Gene35987.t1;PH02Gene35988.t1;PH02Gene35989.t1;PH02Gene50297.t1;PH02Gene50298.t1;PH02Gene48849.t1;PH02Gene48850.t1;PH02Gene48848.t1;PH02Gene48847.t1;PH02Gene48846.t1;PH02Gene48845.t1;PH02Gene36389.t1;PH02Gene36388.t1;PH02Gene36387.t1;PH02Gene36386.t2;PH02Gene36385.t1;PH02Gene36384.t1;PH02Gene36383.t1;PH02Gene36382.t1;PH02Gene36381.t1;PH02Gene36380.t1;PH02Gene36379.t1;PH02Gene36378.t1;PH02Gene36377.t1;PH02Gene36376.t1;PH02Gene36375.t1;PH02Gene36374.t1;PH02Gene36373.t1;PH02Gene36372.t1;PH02Gene36371.t1;PH02Gene44767.t1;PH02Gene44766.t1;
A14: 5 | B14: 44000001 | C14: 52200000 | D14: =LEN(E14)-LEN(SUBSTITUTE(E14,";","")) -> 287 | E14: PH02Gene30440.t1;PH02Gene30441.t2;PH02Gene30442.t1;PH02Gene30445.t2;PH02Gene30446.t1;PH02Gene30447.t1;PH02Gene30448.t1;PH02Gene30449.t1;PH02Gene30450.t1;PH02Gene30451.t1;PH02Gene30452.t1;PH02Gene30453.t1;PH02Gene30454.t1;PH02Gene30455.t1;PH02Gene22419.t1;PH02Gene22418.t1;PH02Gene22417.t1;PH02Gene22416.t1;PH02Gene22415.t1;PH02Gene22414.t1;PH02Gene22413.t1;PH02Gene22412.t1;PH02Gene22411.t1;PH02Gene22410.t1;PH02Gene22409.t1;PH02Gene22408.t1;PH02Gene22407.t1;PH02Gene22406.t1;PH02Gene22405.t1;PH02Gene22404.t1;PH02Gene22403.t1;PH02Gene22402.t1;PH02Gene22401.t1;PH02Gene22400.t1;PH02Gene22399.t1;PH02Gene22398.t1;PH02Gene22397.t1;PH02Gene22396.t1;PH02Gene22395.t1;PH02Gene19089.t1;PH02Gene19088.t1;PH02Gene19087.t1;PH02Gene19086.t1;PH02Gene19085.t1;PH02Gene19084.t1;PH02Gene19083.t2;PH02Gene19082.t1;PH02Gene47230.t2;PH02Gene47231.t1;PH02Gene47492.t1;PH02Gene19176.t1;PH02Gene19177.t1;PH02Gene19178.t1;PH02Gene19179.t1;PH02Gene19180.t1;PH02Gene19181.t1;PH02Gene19182.t1;PH02Gene19183.t1;PH02Gene19184.t1;PH02Gene19185.t1;PH02Gene19186.t1;PH02Gene19187.t1;PH02Gene19188.t1;PH02Gene19189.t1;PH02Gene19190.t1;PH02Gene19191.t2;PH02Gene19192.t1;PH02Gene19193.t1;PH02Gene19194.t1;PH02Gene19195.t1;PH02Gene19196.t1;PH02Gene19197.t1;PH02Gene19198.t1;PH02Gene19199.t1;PH02Gene19200.t7;PH02Gene19201.t1;PH02Gene19202.t1;PH02Gene19203.t1;PH02Gene19204.t1;PH02Gene19205.t1;PH02Gene19206.t1;PH02Gene19207.t1;PH02Gene19208.t1;PH02Gene19209.t1;PH02Gene19210.t1;PH02Gene19211.t1;PH02Gene33831.t1;PH02Gene33830.t1;PH02Gene33829.t2;PH02Gene33828.t1;PH02Gene33827.t1;PH02Gene33826.t1;PH02Gene33825.t1;PH02Gene33824.t1;PH02Gene33822.t1;PH02Gene33823.t1;PH02Gene33821.t1;PH02Gene33820.t1;PH02Gene33819.t1;PH02Gene33818.t1;PH02Gene33817.t1;PH02Gene33816.t1;PH02Gene33815.t1;PH02Gene33814.t1;PH02Gene33813.t1;PH02Gene33812.t1;PH02Gene33811.t1;PH02Gene33810.t1;PH02Gene33809.t1;PH02Gene33808.t1;PH02Gene33807.t1;PH02Gene33806.t2;PH02Gene44803.t1;PH02Gene44804.t1;PH02Gene44805.t1;PH02Gene44806.t1;PH02Gene44807.t1;PH02Gene44808.t1;PH02Gene44809.t3;PH02Gene44810.t1;PH02Gene36515.t1;PH02Gene36514.t1;PH02Gene36513.t2;PH02Gene36512.t1;PH02Gene36511.t1;PH02Gene36510.t1;PH02Gene36509.t1;PH02Gene36508.t1;PH02Gene36507.t1;PH02Gene36506.t1;PH02Gene36505.t1;PH02Gene36504.t1;PH02Gene10399.t1;PH02Gene10398.t1;PH02Gene10397.t1;PH02Gene10396.t1;PH02Gene10395.t1;PH02Gene10394.t1;PH02Gene10393.t1;PH02Gene10392.t1;PH02Gene10391.t1;PH02Gene10390.t1;PH02Gene10389.t1;PH02Gene10388.t1;PH02Gene10387.t1;PH02Gene10386.t1;PH02Gene10385.t1;PH02Gene10384.t1;PH02Gene10383.t1;PH02Gene10382.t1;PH02Gene10381.t1;PH02Gene10380.t1;PH02Gene10379.t2;PH02Gene10378.t2;PH02Gene10377.t1;PH02Gene10376.t1;PH02Gene10375.t1;PH02Gene10374.t1;PH02Gene10373.t1;PH02Gene10372.t1;PH02Gene10371.t1;PH02Gene10370.t1;PH02Gene10369.t1;PH02Gene10368.t2;PH02Gene10367.t1;PH02Gene10366.t3;PH02Gene10365.t1;PH02Gene10364.t1;PH02Gene10363.t1;PH02Gene10362.t1;PH02Gene10361.t1;PH02Gene10360.t1;PH02Gene10359.t1;PH02Gene10358.t1;PH02Gene10357.t1;PH02Gene10356.t1;PH02Gene10355.t1;PH02Gene10354.t2;PH02Gene10353.t1;PH02Gene10352.t1;PH02Gene10351.t1;PH02Gene10350.t1;PH02Gene10349.t1;PH02Gene10348.t1;PH02Gene10347.t1;PH02Gene10346.t1;PH02Gene10345.t2;PH02Gene10344.t1;PH02Gene10343.t1;PH02Gene10342.t1;PH02Gene10341.t1;PH02Gene10340.t3;PH02Gene10339.t1;PH02Gene10338.t1;PH02Gene10337.t1;PH02Gene46297.t1;PH02Gene46296.t1;PH02Gene46295.t1;PH02Gene46294.t1;PH02Gene46293.t1;PH02Gene46292.t1;PH02Gene46291.t1;PH02Gene46290.t1;PH02Gene46289.t1;PH02Gene46288.t1;PH02Gene35098.t1;PH02Gene35099.t1;PH02Gene35100.t1;PH02Gene35101.t1;PH02Gene35102.t1;PH02Gene35103.t1;PH02Gene35104.t1;PH02Gene35105.t1;PH02Gene35106.t1;PH02Gene35107.t1;PH02Gene35108.t2;PH02Gene35109.t1;PH02Gene35110.t1;PH02Gene35111.t1;PH02Gene46925.t1;PH02Gene46926.t1;PH02Gene46927.t1;PH02Gene46928.t1;PH02Gene46929.t1;PH02Gene46930.t1;PH02Gene46931.t1;PH02Gene29539.t1;PH02Gene29538.t1;PH02Gene29537.t2;PH02Gene29536.t1;PH02Gene29535.t1;PH02Gene29534.t1;PH02Gene29533.t1;PH02Gene29532.t1;PH02Gene29531.t1;PH02Gene29530.t1;PH02Gene29529.t1;PH02Gene29528.t1;PH02Gene29527.t2;PH02Gene29526.t1;PH02Gene29525.t1;PH02Gene29524.t1;PH02Gene29523.t1;PH02Gene29522.t1;PH02Gene29521.t1;PH02Gene29520.t1;PH02Gene29519.t1;PH02Gene29518.t1;PH02Gene29517.t1;PH02Gene29516.t1;PH02Gene29515.t1;PH02Gene29514.t1;PH02Gene29513.t1;PH02Gene29512.t1;PH02Gene29511.t1;PH02Gene29510.t1;PH02Gene03007.t1;PH02Gene03006.t2;PH02Gene03005.t1;PH02Gene03004.t1;PH02Gene03003.t1;PH02Gene03002.t1;PH02Gene03001.t1;PH02Gene03000.t1;PH02Gene02999.t1;PH02Gene02998.t1;PH02Gene02997.t1;PH02Gene02996.t1;PH02Gene02995.t1;PH02Gene02994.t1;PH02Gene02993.t1;PH02Gene02992.t1;PH02Gene02991.t1;PH02Gene02990.t1;PH02Gene02989.t1;PH02Gene02988.t1;PH02Gene02987.t1;PH02Gene02986.t3;PH02Gene02985.t1;PH02Gene02984.t1;PH02Gene02983.t1;PH02Gene02982.t1;PH02Gene02981.t1;PH02Gene02980.t1;PH02Gene02979.t1;PH02Gene02978.t1;PH02Gene02977.t1;
... A40: 24 | B40: 1400001 | C40: 6400000 | D40: =LEN(E40)-LEN(SUBSTITUTE(E40,";","")) -> 91 | E40: PH02Gene36255.t1;PH02Gene36256.t1;PH02Gene36257.t1;PH02Gene36258.t1;PH02Gene36260.t1;PH02Gene36261.t1;PH02Gene36262.t1;PH02Gene50385.t1;PH02Gene49478.t1;PH02Gene49477.t1;PH02Gene41307.t1;PH02Gene41306.t1;PH02Gene41305.t1;PH02Gene48095.t1;PH02Gene48094.t1;PH02Gene48093.t1;PH02Gene43541.t1;PH02Gene43542.t1;PH02Gene41303.t1;PH02Gene41304.t1;PH02Gene43540.t1;PH02Gene26932.t1;PH02Gene26933.t1;PH02Gene26934.t1;PH02Gene26936.t1;PH02Gene26937.t1;PH02Gene26938.t1;PH02Gene26939.t1;PH02Gene26940.t1;PH02Gene49469.t1;PH02Gene49470.t1;PH02Gene49852.t1;PH02Gene49851.t1;PH02Gene49446.t1;PH02Gene49445.t1;PH02Gene47844.t1;PH02Gene49236.t1;PH02Gene47845.t1;PH02Gene43441.t1;PH02Gene50467.t1;PH02Gene43442.t1;PH02Gene43443.t1;PH02Gene43444.t1;PH02Gene43445.t1;PH02Gene43446.t1;PH02Gene43447.t1;PH02Gene43448.t1;PH02Gene43449.t1;PH02Gene43450.t1;PH02Gene43451.t1;PH02Gene46588.t1;PH02Gene46589.t1;PH02Gene46590.t1;PH02Gene49972.t1;PH02Gene49496.t1;PH02Gene38959.t1;PH02Gene38958.t1;PH02Gene38957.t1;PH02Gene50493.t1;PH02Gene48189.t1;PH02Gene48188.t1;PH02Gene49608.t1;PH02Gene46687.t1;PH02Gene49609.t1;PH02Gene46893.t1;PH02Gene46895.t1;PH02Gene46686.t1;PH02Gene46684.t1;PH02Gene46685.t1;PH02Gene28880.t1;PH02Gene28879.t2;PH02Gene28878.t3;PH02Gene28877.t1;PH02Gene28876.t1;PH02Gene28875.t1;PH02Gene28874.t1;PH02Gene28873.t1;PH02Gene28872.t1;PH02Gene28871.t1;PH02Gene28864.t1;PH02Gene28865.t1;PH02Gene28866.t1;PH02Gene28867.t1;PH02Gene28868.t1;PH02Gene28869.t1;PH02Gene28870.t1;PH02Gene48947.t2;PH02Gene48948.t1;PH02Gene32142.t1;PH02Gene43547.t1;PH02Gene43546.t1;

Sheet Supplementary Data 8
A1: Supplementary Data 8. GO enrichment analysis for the genes which overlap with long continuous heterozygous SNPs clustered regions of high frequency (high-LCHRs).
A2: GO ID | B2: GO Term | C2: GO Class | D2: x1† | E2: x2† | F2: n† | G2: N† | H2: p-value†† | I2: Corrected p-value†† | J2: Enrich direct | K2: GO level | L2: Gene ID
A3: GO:0048544 | B3: recognition of pollen | C3: BP | D3: 47 | E3: 123 | F3: 5342 | G3: 30511 | H3: 2.9383692e-09 | I3: 1.4086542e-06 | J3: Over | K3: 3 | L3: PH02Gene06861.t1,PH02Gene08329.t1,PH02Gene20905.t1,PH02Gene22928.t3,PH02Gene24040.t1,PH02Gene24042.t1,PH02Gene24043.t1,PH02Gene24044.t1,PH02Gene24045.t1,PH02Gene24121.t1,PH02Gene24123.t1,PH02Gene25232.t1,PH02Gene31051.t1,PH02Gene31642.t1,PH02Gene33661.t1,PH02Gene36914.t1,PH02Gene37012.t1,PH02Gene37014.t1,PH02Gene37015.t1,PH02Gene37017.t1,PH02Gene38977.t1,PH02Gene39412.t1,PH02Gene39414.t1,PH02Gene39426.t1,PH02Gene39439.t1,PH02Gene39531.t1,PH02Gene39598.t2,PH02Gene40088.t1,PH02Gene40089.t1,PH02Gene40090.t1,PH02Gene40094.t1,PH02Gene40095.t1,PH02Gene40987.t1,PH02Gene42233.t1,PH02Gene44330.t1,PH02Gene44468.t2,PH02Gene44469.t1,PH02Gene44470.t1,PH02Gene45491.t1,PH02Gene46137.t1,PH02Gene47776.t1,PH02Gene47777.t1,PH02Gene47875.t1,PH02Gene47876.t5,PH02Gene48532.t1,PH02Gene48580.t1,PH02Gene49711.t1
A4: GO:0008037 | B4: cell recognition | C4: BP | D4: 47 | E4: 123 | F4: 5342 | G4: 30511 | H4: 2.9383692e-09 | I4: 1.4086542e-06 | J4: Over | K4: 3 | L4: PH02Gene06861.t1,PH02Gene08329.t1,PH02Gene20905.t1,PH02Gene22928.t3,PH02Gene24040.t1,PH02Gene24042.t1,PH02Gene24043.t1,PH02Gene24044.t1,PH02Gene24045.t1,PH02Gene24121.t1,PH02Gene24123.t1,PH02Gene25232.t1,PH02Gene31051.t1,PH02Gene31642.t1,PH02Gene33661.t1,PH02Gene36914.t1,PH02Gene37012.t1,PH02Gene37014.t1,PH02Gene37015.t1,PH02Gene37017.t1,PH02Gene38977.t1,PH02Gene39412.t1,PH02Gene39414.t1,PH02Gene39426.t1,PH02Gene39439.t1,PH02Gene39531.t1,PH02Gene39598.t2,PH02Gene40088.t1,PH02Gene40089.t1,PH02Gene40090.t1,PH02Gene40094.t1,PH02Gene40095.t1,PH02Gene40987.t1,PH02Gene42233.t1,PH02Gene44330.t1,PH02Gene44468.t2,PH02Gene44469.t1,PH02Gene44470.t1,PH02Gene45491.t1,PH02Gene46137.t1,PH02Gene47776.t1,PH02Gene47777.t1,PH02Gene47875.t1,PH02Gene47876.t5,PH02Gene48532.t1,PH02Gene48580.t1,PH02Gene49711.t1
A5: GO:0009856 | B5: pollination | C5: BP | D5: 47 | E5: 123 | F5: 5342 | G5: 30511 | H5: 2.9383692e-09 | I5: 1.4086542e-06 | J5: Over | K5: 3 | L5: PH02Gene06861.t1,PH02Gene08329.t1,PH02Gene20905.t1,PH02Gene22928.t3,PH02Gene24040.t1,PH02Gene24042.t1,PH02Gene24043.t1,PH02Gene24044.t1,PH02Gene24045.t1,PH02Gene24121.t1,PH02Gene24123.t1,PH02Gene25232.t1,PH02Gene31051.t1,PH02Gene31642.t1,PH02Gene33661.t1,PH02Gene36914.t1,PH02Gene37012.t1,PH02Gene37014.t1,PH02Gene37015.t1,PH02Gene37017.t1,PH02Gene38977.t1,PH02Gene39412.t1,PH02Gene39414.t1,PH02Gene39426.t1,PH02Gene39439.t1,PH02Gene39531.t1,PH02Gene39598.t2,PH02Gene40088.t1,PH02Gene40089.t1,PH02Gene40090.t1,PH02Gene40094.t1,PH02Gene40095.t1,PH02Gene40987.t1,PH02Gene42233.t1,PH02Gene44330.t1,PH02Gene44468.t2,PH02Gene44469.t1,PH02Gene44470.t1,PH02Gene45491.t1,PH02Gene46137.t1,PH02Gene47776.t1,PH02Gene47777.t1,PH02Gene47875.t1,PH02Gene47876.t5,PH02Gene48532.t1,PH02Gene48580.t1,PH02Gene49711.t1
A6: GO:0009875 | B6: pollen-pistil interaction | C6: BP | D6: 47 | E6: 123 | F6: 5342 | G6: 30511 | H6: 2.9383692e-09 | I6: 1.4086542e-06 | J6: Over | K6: 3 | L6: PH02Gene06861.t1,PH02Gene08329.t1,PH02Gene20905.t1,PH02Gene22928.t3,PH02Gene24040.t1,PH02Gene24042.t1,PH02Gene24043.t1,PH02Gene24044.t1,PH02Gene24045.t1,PH02Gene24121.t1,PH02Gene24123.t1,PH02Gene25232.t1,PH02Gene31051.t1,PH02Gene31642.t1,PH02Gene33661.t1,PH02Gene36914.t1,PH02Gene37012.t1,PH02Gene37014.t1,PH02Gene37015.t1,PH02Gene37017.t1,PH02Gene38977.t1,PH02Gene39412.t1,PH02Gene39414.t1,PH02Gene39426.t1,PH02Gene39439.t1,PH02Gene39531.t1,PH02Gene39598.t2,PH02Gene40088.t1,PH02Gene40089.t1,PH02Gene40090.t1,PH02Gene40094.t1,PH02Gene40095.t1,PH02Gene40987.t1,PH02Gene42233.t1,PH02Gene44330.t1,PH02Gene44468.t2,PH02Gene44469.t1,PH02Gene44470.t1,PH02Gene45491.t1,PH02Gene46137.t1,PH02Gene47776.t1,PH02Gene47777.t1,PH02Gene47875.t1,PH02Gene47876.t5,PH02Gene48532.t1,PH02Gene48580.t1,PH02Gene49711.t1
A7: GO:0044706 | B7: multi-multicellular organism process | C7: BP | D7: 47 | E7: 123 | F7: 5342 | G7: 30511 | H7: 2.9383692e-09 | I7: 1.4086542e-06 | J7: Over | K7: 3 | L7: PH02Gene06861.t1,PH02Gene08329.t1,PH02Gene20905.t1,PH02Gene22928.t3,PH02Gene24040.t1,PH02Gene24042.t1,PH02Gene24043.t1,PH02Gene24044.t1,PH02Gene24045.t1,PH02Gene24121.t1,PH02Gene24123.t1,PH02Gene25232.t1,PH02Gene31051.t1,PH02Gene31642.t1,PH02Gene33661.t1,PH02Gene36914.t1,PH02Gene37012.t1,PH02Gene37014.t1,PH02Gene37015.t1,PH02Gene37017.t1,PH02Gene38977.t1,PH02Gene39412.t1,PH02Gene39414.t1,PH02Gene39426.t1,PH02Gene39439.t1,PH02Gene39531.t1,PH02Gene39598.t2,PH02Gene40088.t1,PH02Gene40089.t1,PH02Gene40090.t1,PH02Gene40094.t1,PH02Gene40095.t1,PH02Gene40987.t1,PH02Gene42233.t1,PH02Gene44330.t1,PH02Gene44468.t2,PH02Gene44469.t1,PH02Gene44470.t1,PH02Gene45491.t1,PH02Gene46137.t1,PH02Gene47776.t1,PH02Gene47777.t1,PH02Gene47875.t1,PH02Gene47876.t5,PH02Gene48532.t1,PH02Gene48580.t1,PH02Gene49711.t1
A8: GO:0051704 | B8: multi-organism process | C8: BP | D8: 54 | E8: 155 | F8: 5342 | G8: 30511 | H8: 2.3257082e-08 | I8: 9.2912043e-06 | J8: Over | K8: 2 | L8: PH02Gene06861.t1,PH02Gene08329.t1,PH02Gene16914.t1,PH02Gene20905.t1,PH02Gene22928.t3,PH02Gene24040.t1,PH02Gene24042.t1,PH02Gene24043.t1,PH02Gene24044.t1,PH02Gene24045.t1,PH02Gene24121.t1,PH02Gene24123.t1,PH02Gene25232.t1,PH02Gene28532.t1,PH02Gene28533.t1,PH02Gene31051.t1,PH02Gene31642.t1,PH02Gene32845.t3,PH02Gene33661.t1,PH02Gene36914.t1,PH02Gene37012.t1,PH02Gene37014.t1,PH02Gene37015.t1,PH02Gene37017.t1,PH02Gene38977.t1,PH02Gene39412.t1,PH02Gene39414.t1,PH02Gene39426.t1,PH02Gene39439.t1,PH02Gene39531.t1,PH02Gene39598.t2,PH02Gene40088.t1,PH02Gene40089.t1,PH02Gene40090.t1,PH02Gene40094.t1,PH02Gene40095.t1,PH02Gene40569.t1,PH02Gene40987.t1,PH02Gene42233.t1,PH02Gene42691.t1,PH02Gene44330.t1,PH02Gene44468.t2,PH02Gene44469.t1,PH02Gene44470.t1,PH02Gene45247.t1,PH02Gene45491.t1,PH02Gene46137.t1,PH02Gene47776.t1,PH02Gene47777.t1,PH02Gene47875.t1,PH02Gene47876.t5,PH02Gene48532.t1,PH02Gene48580.t1,PH02Gene49711.t1
A9: GO:0000003 | B9: reproduction | C9: BP | D9: 56 | E9: 167 | F9: 5342 | G9: 30511 | H9: 8.2373179e-08 | I9: 2.4681064e-05 | J9: Over | K9: 2 | L9: PH02Gene06861.t1,PH02Gene08329.t1,PH02Gene16914.t1,PH02Gene20905.t1,PH02Gene22928.t3,PH02Gene24040.t1,PH02Gene24042.t1,PH02Gene24043.t1,PH02Gene24044.t1,PH02Gene24045.t1,PH02Gene24121.t1,PH02Gene24123.t1,PH02Gene25232.t1,PH02Gene28532.t1,PH02Gene28533.t1,PH02Gene31051.t1,PH02Gene31642.t1,PH02Gene32845.t3,PH02Gene33661.t1,PH02Gene36914.t1,PH02Gene37012.t1,PH02Gene37014.t1,PH02Gene37015.t1,PH02Gene37017.t1,PH02Gene37020.t1,PH02Gene38977.t1,PH02Gene39412.t1,PH02Gene39414.t1,PH02Gene39426.t1,PH02Gene39439.t1,PH02Gene39531.t1,PH02Gene39598.t2,PH02Gene40088.t1,PH02Gene40089.t1,PH02Gene40090.t1,PH02Gene40094.t1,PH02Gene40095.t1,PH02Gene40569.t1,PH02Gene40987.t1,PH02Gene42233.t1,PH02Gene42691.t1,PH02Gene44330.t1,PH02Gene44468.t2,PH02Gene44469.t1,PH02Gene44470.t1,PH02Gene44808.t1,PH02Gene45247.t1,PH02Gene45491.t1,PH02Gene46137.t1,PH02Gene47776.t1,PH02Gene47777.t1,PH02Gene47875.t1,PH02Gene47876.t5,PH02Gene48532.t1,PH02Gene48580.t1,PH02Gene49711.t1
A10: GO:0022414 | B10: reproductive process | C10: BP | D10: 56 | E10: 167 | F10: 5342 | G10: 30511 | H10: 8.2373179e-08 | I10: 2.4681064e-05 | J10: Over | K10: 2 | L10: PH02Gene06861.t1,PH02Gene08329.t1,PH02Gene16914.t1,PH02Gene20905.t1,PH02Gene22928.t3,PH02Gene24040.t1,PH02Gene24042.t1,PH02Gene24043.t1,PH02Gene24044.t1,PH02Gene24045.t1,PH02Gene24121.t1,PH02Gene24123.t1,PH02Gene25232.t1,PH02Gene28532.t1,PH02Gene28533.t1,PH02Gene31051.t1,PH02Gene31642.t1,PH02Gene32845.t3,PH02Gene33661.t1,PH02Gene36914.t1,PH02Gene37012.t1,PH02Gene37014.t1,PH02Gene37015.t1,PH02Gene37017.t1,PH02Gene37020.t1,PH02Gene38977.t1,PH02Gene39412.t1,PH02Gene39414.t1,PH02Gene39426.t1,PH02Gene39439.t1,PH02Gene39531.t1,PH02Gene39598.t2,PH02Gene40088.t1,PH02Gene40089.t1,PH02Gene40090.t1,PH02Gene40094.t1,PH02Gene40095.t1,PH02Gene40569.t1,PH02Gene40987.t1,PH02Gene42233.t1,PH02Gene42691.t1,PH02Gene44330.t1,PH02Gene44468.t2,PH02Gene44469.t1,PH02Gene44470.t1,PH02Gene44808.t1,PH02Gene45247.t1,PH02Gene45491.t1,PH02Gene46137.t1,PH02Gene47776.t1,PH02Gene47777.t1,PH02Gene47875.t1,PH02Gene47876.t5,PH02Gene48532.t1,PH02Gene48580.t1,PH02Gene49711.t1
A11: GO:0032501 | B11: multicellular organismal process | C11: BP | D11: 69 | E11: 248 | F11: 5342 | G11: 30511 | H11: 2.5815374e-05 | I11: 0.0068754945 | J11: Over | K11: 2 | L11: PH02Gene06861.t1,PH02Gene07682.t1,PH02Gene08310.t1,PH02Gene08329.t1,PH02Gene10813.t1,PH02Gene11210.t1,PH02Gene12897.t1,PH02Gene13961.t1,PH02Gene20905.t1,PH02Gene22504.t1,PH02Gene22928.t3,PH02Gene24040.t1,PH02Gene24042.t1,PH02Gene24043.t1,PH02Gene24044.t1,PH02Gene24045.t1,PH02Gene24121.t1,PH02Gene24123.t1,PH02Gene25232.t1,PH02Gene28256.t1,PH02Gene28897.t1,PH02Gene28898.t1,PH02Gene30097.t1,PH02Gene30423.t1,PH02Gene30849.t1,PH02Gene31051.t1,PH02Gene31642.t1,PH02Gene33657.t2,PH02Gene33661.t1,PH02Gene36292.t1,PH02Gene36914.t1,PH02Gene37012.t1,PH02Gene37014.t1,PH02Gene37015.t1,PH02Gene37017.t1,PH02Gene38003.t1,PH02Gene38977.t1,PH02Gene39412.t1,PH02Gene39414.t1,PH02Gene39426.t1,PH02Gene39439.t1,PH02Gene39531.t1,PH02Gene39598.t2,PH02Gene40088.t1,PH02Gene40089.t1,PH02Gene40090.t1,PH02Gene40094.t1,PH02Gene40095.t1,PH02Gene40987.t1,PH02Gene42233.t1,PH02Gene42615.t2,PH02Gene42801.t1,PH02Gene43865.t1,PH02Gene44330.t1,PH02Gene44468.t2,PH02Gene44469.t1,PH02Gene44470.t1,PH02Gene45491.t1,PH02Gene46137.t1,PH02Gene47086.t1,PH02Gene47776.t1,PH02Gene47777.t1,PH02Gene47875.t1,PH02Gene47876.t5,PH02Gene48310.t1,PH02Gene48532.t1,PH02Gene48580.t1,PH02Gene49711.t1,PH02Gene50675.t1
A12: GO:0016701 | B12: oxidoreductase activity, acting on single donors with incorporation of molecular oxygen | C12: MF | D12: 25 | E12: 70 | F12: 5342 | G12: 30511 | H12: 0.00011563109 | I12: 0.027716773 | J12: Over | K12: 4 | L12: PH02Gene06841.t2,PH02Gene08509.t1,PH02Gene12522.t1,PH02Gene12524.t1,PH02Gene18247.t1,PH02Gene18248.t1,PH02Gene18249.t1,PH02Gene19860.t1,PH02Gene19867.t1,PH02Gene20583.t1,PH02Gene21229.t1,PH02Gene22419.t1,PH02Gene23027.t1,PH02Gene23028.t1,PH02Gene28925.t1,PH02Gene30206.t1,PH02Gene37242.t1,PH02Gene37941.t1,PH02Gene38837.t1,PH02Gene44919.t4,PH02Gene44920.t1,PH02Gene47072.t1,PH02Gene47077.t1,PH02Gene47635.t1,PH02Gene47636.t2
A13: GO:0007154 | B13: cell communication | C13: BP | D13: 153 | E13: 668 | F13: 5342 | G13: 30511 | H13: 0.00025328823 | I13: 0.055193809 | J13: Over | K13: 3 | L13: PH02Gene03784.t2,PH02Gene04190.t1,PH02Gene04252.t1,PH02Gene04842.t1,PH02Gene05080.t1,PH02Gene05517.t1,PH02Gene05588.t1,PH02Gene06861.t1,PH02Gene06877.t1,PH02Gene06979.t1,PH02Gene06990.t1,PH02Gene07972.t1,PH02Gene07974.t1,PH02Gene07991.t1,PH02Gene07992.t1,PH02Gene08019.t1,PH02Gene08183.t1,PH02Gene08190.t1,PH02Gene08243.t1,PH02Gene08329.t1,PH02Gene08346.t1,PH02Gene08357.t1,PH02Gene08505.t1,PH02Gene08507.t1,PH02Gene08997.t1,PH02Gene09300.t1,PH02Gene09308.t1,PH02Gene10048.t1,PH02Gene10843.t1,PH02Gene10865.t1,PH02Gene11293.t1,PH02Gene11458.t1,PH02Gene12895.t2,PH02Gene13093.t2,PH02Gene13119.t1,PH02Gene13753.t1,PH02Gene13755.t1,PH02Gene13780.t1,PH02Gene13904.t1,PH02Gene13927.t1,PH02Gene13937.t1,PH02Gene15312.t1,PH02Gene15973.t1,PH02Gene15978.t1,PH02Gene16154.t1,PH02Gene18240.t1,PH02Gene18409.t1,PH02Gene20170.t1,PH02Gene20905.t1,PH02Gene21053.t1,PH02Gene21246.t1,PH02Gene22416.t1,PH02Gene22493.t1,PH02Gene22928.t3,PH02Gene23235.t1,PH02Gene23237.t1,PH02Gene24037.t1,PH02Gene24040.t1,PH02Gene24042.t1,PH02Gene24043.t1,PH02Gene24044.t1,PH02Gene24045.t1,PH02Gene24121.t1,PH02Gene24123.t1,PH02Gene24380.t1,PH02Gene24504.t1,PH02Gene25232.t1,PH02Gene26933.t1,PH02Gene27997.t1,PH02Gene27998.t1,PH02Gene28137.t1,PH02Gene28392.t1,PH02Gene28927.t1,PH02Gene30081.t1,PH02Gene30497.t1,PH02Gene30646.t1,PH02Gene30878.t1,PH02Gene30984.t1,PH02Gene31051.t1,PH02Gene31443.t1,PH02Gene31641.t1,PH02Gene31642.t1,PH02Gene31843.t1,PH02Gene32035.t1,PH02Gene32048.t1,PH02Gene32582.t1,PH02Gene33039.t1,PH02Gene33042.t1,PH02Gene33414.t1,PH02Gene33452.t1,PH02Gene33661.t1,PH02Gene33894.t1,PH02Gene34002.t1,PH02Gene36189.t2,PH02Gene36284.t1,PH02Gene36513.t2,PH02Gene36843.t1,PH02Gene36914.t1,PH02Gene37012.t1,PH02Gene37014.t1,PH02Gene37015.t1,PH02Gene37017.t1,PH02Gene38758.t1,PH02Gene38977.t1,PH02Gene39412.t1,PH02Gene39414.t1,PH02Gene39426.t1,PH02Gene39430.t1,PH02Gene39439.t1,PH02Gene39531.t1,PH02Gene39598.t2,PH02Gene39700.t1,PH02Gene39951.t1,PH02Gene40088.t1,PH02Gene40089.t1,PH02Gene40090.t1,PH02Gene40094.t1,PH02Gene40095.t1,PH02Gene40910.t1,PH02Gene40987.t1,PH02Gene41131.t1,PH02Gene41485.t1,PH02Gene41760.t1,PH02Gene42233.t1,PH02Gene42693.t1,PH02Gene43038.t1,PH02Gene43445.t1,PH02Gene44273.t1,PH02Gene44330.t1,PH02Gene44468.t2,PH02Gene44469.t1,PH02Gene44470.t1,PH02Gene44892.t1,PH02Gene45099.t1,PH02Gene45228.t1,PH02Gene45313.t1,PH02Gene45491.t1,PH02Gene46123.t1,PH02Gene46137.t1,PH02Gene46447.t1,PH02Gene46452.t1,PH02Gene47056.t1,PH02Gene47776.t1,PH02Gene47777.t1,PH02Gene47875.t1,PH02Gene47876.t5,PH02Gene48532.t1,PH02Gene48580.t1,PH02Gene48602.t1,PH02Gene48666.t1,PH02Gene48850.t1,PH02Gene49711.t1,PH02Gene49849.t1
A14: GO:0051213 | B14: dioxygenase activity | C14: MF | D14: 22 | E14: 62 | F14: 5342 | G14: 30511 | H14: 0.00036965763 | I14: 0.073839112 | J14: Over | K14: 4 | L14: PH02Gene05400.t4,PH02Gene08509.t1,PH02Gene12522.t1,PH02Gene12524.t1,PH02Gene18247.t1,PH02Gene18248.t1,PH02Gene18249.t1,PH02Gene19867.t1,PH02Gene20583.t1,PH02Gene22419.t1,PH02Gene23027.t1,PH02Gene23028.t1,PH02Gene28925.t1,PH02Gene30206.t1,PH02Gene37242.t1,PH02Gene37941.t1,PH02Gene44919.t4,PH02Gene44920.t1,PH02Gene47072.t1,PH02Gene47077.t1,PH02Gene47635.t1,PH02Gene47636.t2
... A117: GO:0015298 | B117: solute:cation antiporter activity | C117: MF | D117: 17 | E117: 61 | F117: 5342 | G117: 30511 | H117: 0.049681473 | I117: 0.86924446 | J117: Over | K117: 6 | L117: PH02Gene01560.t1,PH02Gene05555.t1,PH02Gene07541.t1,PH02Gene08672.t1,PH02Gene12529.t1,PH02Gene16132.t1,PH02Gene19866.t1,PH02Gene23681.t1,PH02Gene24508.t1,PH02Gene30966.t1,PH02Gene33022.t1,PH02Gene33181.t1,PH02Gene38838.t1,PH02Gene40814.t1,PH02Gene43998.t1,PH02Gene47256.t1,PH02Gene50370.t1
A118: †x1 and x2 are the observed number of genes-of-interest and reference genes in a given GO category, respectively. Whereas n is the total number of genes-of-interest, N is the total number of reference genes.
A119: †† the p-value was calculated by one-sided Fisher's exact test, and the corrected p-value was adjusted by Benjamini-Hochberg method.

Sheet Supplementary Data 9
A1: Supplementary Data 9. 15 long continuous heterozygous SNPs clustered regions of low frequency (low-LCHRs) detected in the moso bamboo population.
A2: Chr. | B2: Start | C2: End | D2: Gene number | E2: Genes
A3: 7 | B3: 45800001 | C3: 51400000 | D3: =LEN(E3)-LEN(SUBSTITUTE(E3,";","")) -> 236 | E3: PH02Gene01427.t1;PH02Gene01426.t1;PH02Gene01425.t1;PH02Gene01424.t1;PH02Gene01423.t1;PH02Gene01422.t1;PH02Gene01421.t1;PH02Gene01420.t1;PH02Gene01419.t1;PH02Gene01418.t1;PH02Gene01417.t1;PH02Gene01416.t1;PH02Gene01415.t2;PH02Gene01414.t1;PH02Gene01413.t1;PH02Gene01412.t1;PH02Gene01411.t1;PH02Gene01410.t1;PH02Gene01409.t1;PH02Gene01408.t1;PH02Gene01407.t1;PH02Gene01406.t1;PH02Gene01405.t1;PH02Gene01404.t1;PH02Gene01403.t1;PH02Gene01402.t1;PH02Gene01401.t1;PH02Gene01400.t1;PH02Gene01399.t1;PH02Gene01398.t2;PH02Gene01397.t1;PH02Gene01396.t1;PH02Gene01395.t1;PH02Gene01394.t1;PH02Gene01393.t1;PH02Gene01392.t1;PH02Gene01391.t1;PH02Gene01390.t1;PH02Gene01389.t1;PH02Gene01388.t1;PH02Gene01387.t1;PH02Gene01386.t1;PH02Gene01385.t1;PH02Gene01384.t1;PH02Gene01383.t1;PH02Gene01382.t1;PH02Gene01381.t1;PH02Gene01380.t1;PH02Gene01379.t1;PH02Gene01378.t1;PH02Gene01377.t1;PH02Gene01376.t1;PH02Gene01375.t1;PH02Gene01374.t1;PH02Gene01373.t1;PH02Gene01372.t1;PH02Gene01371.t1;PH02Gene01370.t1;PH02Gene01369.t1;PH02Gene01368.t1;PH02Gene01367.t1;PH02Gene01366.t1;PH02Gene01365.t1;PH02Gene01364.t1;PH02Gene01363.t1;PH02Gene01362.t1;PH02Gene01361.t1;PH02Gene01360.t1;PH02Gene01359.t1;PH02Gene01358.t1;PH02Gene01357.t1;PH02Gene01356.t1;PH02Gene01355.t1;PH02Gene01354.t1;PH02Gene01353.t1;PH02Gene01352.t1;PH02Gene01351.t1;PH02Gene01350.t1;PH02Gene01349.t1;PH02Gene01348.t1;PH02Gene01347.t1;PH02Gene01346.t1;PH02Gene01345.t1;PH02Gene01344.t1;PH02Gene01343.t1;PH02Gene01342.t1;PH02Gene01341.t1;PH02Gene01340.t1;PH02Gene01339.t1;PH02Gene01338.t1;PH02Gene01337.t1;PH02Gene01336.t1;PH02Gene01335.t1;PH02Gene01334.t1;PH02Gene01333.t1;PH02Gene01332.t1;PH02Gene01331.t1;PH02Gene01330.t1;PH02Gene01329.t1;PH02Gene01328.t1;PH02Gene01327.t1;PH02Gene01326.t1;PH02Gene01325.t1;PH02Gene01324.t1;PH02Gene01323.t1;PH02Gene01322.t1;PH02Gene01321.t1;PH02Gene22231.t1;PH02Gene22230.t1;PH02Gene22229.t1;PH02Gene22228.t3;PH02Gene22234.t1;PH02Gene22235.t1;PH02Gene22236.t1;PH02Gene22237.t1;PH02Gene22238.t1;PH02Gene22239.t1;PH02Gene22240.t1;PH02Gene22241.t1;PH02Gene22242.t1;PH02Gene22243.t1;PH02Gene22244.t1;PH02Gene22245.t1;PH02Gene22246.t1;PH02Gene22247.t2;PH02Gene22248.t1;PH02Gene22249.t1;PH02Gene22250.t1;PH02Gene22251.t1;PH02Gene22252.t1;PH02Gene22253.t1;PH02Gene22254.t1;PH02Gene22255.t1;PH02Gene22256.t1;PH02Gene22257.t1;PH02Gene22258.t1;PH02Gene22259.t1;PH02Gene22260.t1;PH02Gene22261.t1;PH02Gene22262.t1;PH02Gene22263.t1;PH02Gene22264.t1;PH02Gene22265.t1;PH02Gene22266.t1;PH02Gene22267.t1;PH02Gene22268.t1;PH02Gene22269.t1;PH02Gene22270.t1;PH02Gene22271.t1;PH02Gene22272.t1;PH02Gene22273.t2;PH02Gene22274.t1;PH02Gene48085.t1;PH02Gene48086.t1;PH02Gene27037.t1;PH02Gene27038.t1;PH02Gene27039.t1;PH02Gene27040.t1;PH02Gene27041.t1;PH02Gene27042.t1;PH02Gene27043.t1;PH02Gene27044.t1;PH02Gene27045.t1;PH02Gene27046.t2;PH02Gene27047.t1;PH02Gene27048.t1;PH02Gene27049.t1;PH02Gene27050.t1;PH02Gene27051.t1;PH02Gene27052.t1;PH02Gene27053.t1;PH02Gene27054.t2;PH02Gene27055.t1;PH02Gene27056.t1;PH02Gene27057.t1;PH02Gene27058.t1;PH02Gene27059.t1;PH02Gene27060.t1;PH02Gene27061.t1;PH02Gene27062.t1;PH02Gene27063.t2;PH02Gene27064.t1;PH02Gene27065.t1;PH02Gene27066.t1;PH02Gene27067.t1;PH02Gene27068.t1;PH02Gene27069.t1;PH02Gene27070.t1;PH02Gene06334.t1;PH02Gene06335.t1;PH02Gene06336.t1;PH02Gene06337.t1;PH02Gene06338.t1;PH02Gene06339.t1;PH02Gene06340.t1;PH02Gene06341.t1;PH02Gene06342.t1;PH02Gene06343.t1;PH02Gene06344.t1;PH02Gene06345.t1;PH02Gene06346.t1;PH02Gene06347.t2;PH02Gene06348.t1;PH02Gene06349.t1;PH02Gene06350.t2;PH02Gene06351.t1;PH02Gene06352.t1;PH02Gene06353.t1;PH02Gene06354.t1;PH02Gene06355.t1;PH02Gene06356.t1;PH02Gene06357.t1;PH02Gene06358.t1;PH02Gene06359.t1;PH02Gene06360.t1;PH02Gene06361.t1;PH02Gene06362.t1;PH02Gene06363.t1;PH02Gene06364.t1;PH02Gene06365.t2;PH02Gene06366.t2;PH02Gene06367.t1;PH02Gene06368.t1;PH02Gene06369.t1;PH02Gene06370.t1;PH02Gene06371.t1;PH02Gene06372.t1;PH02Gene06373.t1;PH02Gene06374.t1;PH02Gene06375.t1;PH02Gene06376.t2;PH02Gene06377.t1;PH02Gene06378.t1;PH02Gene06379.t1;PH02Gene06380.t2;PH02Gene06381.t1;
A4: 13 | B4: 65400001 | C4: 71000000 | D4: =LEN(E4)-LEN(SUBSTITUTE(E4,";","")) -> 154 | E4: PH02Gene27507.t1;PH02Gene27508.t1;PH02Gene27509.t1;PH02Gene27510.t1;PH02Gene27511.t1;PH02Gene27512.t1;PH02Gene27513.t1;PH02Gene27514.t1;PH02Gene27515.t1;PH02Gene45944.t4;PH02Gene45945.t1;PH02Gene45946.t1;PH02Gene45947.t2;PH02Gene45948.t1;PH02Gene15417.t1;PH02Gene15416.t1;PH02Gene15415.t1;PH02Gene15414.t1;PH02Gene15413.t1;PH02Gene15412.t1;PH02Gene15411.t1;PH02Gene15410.t1;PH02Gene15409.t1;PH02Gene15408.t1;PH02Gene15407.t1;PH02Gene15406.t1;PH02Gene15405.t1;PH02Gene15404.t1;PH02Gene15403.t1;PH02Gene15402.t1;PH02Gene15401.t1;PH02Gene15400.t1;PH02Gene15399.t1;PH02Gene15398.t1;PH02Gene15397.t1;PH02Gene15396.t1;PH02Gene15395.t1;PH02Gene15394.t1;PH02Gene15393.t1;PH02Gene15392.t1;PH02Gene15391.t1;PH02Gene15390.t1;PH02Gene15389.t1;PH02Gene15388.t1;PH02Gene15387.t1;PH02Gene15385.t1;PH02Gene15386.t1;PH02Gene15384.t1;PH02Gene15383.t1;PH02Gene15382.t1;PH02Gene15381.t1;PH02Gene15380.t1;PH02Gene15379.t1;PH02Gene15378.t1;PH02Gene15377.t1;PH02Gene15376.t1;PH02Gene42517.t1;PH02Gene42516.t1;PH02Gene42515.t1;PH02Gene40480.t1;PH02Gene40481.t1;PH02Gene40482.t1;PH02Gene40207.t1;PH02Gene40208.t1;PH02Gene40209.t1;PH02Gene40210.t1;PH02Gene40211.t1;PH02Gene40212.t1;PH02Gene40213.t1;PH02Gene40214.t1;PH02Gene40215.t1;PH02Gene40216.t1;PH02Gene40217.t2;PH02Gene40218.t1;PH02Gene40219.t1;PH02Gene40220.t1;PH02Gene40221.t1;PH02Gene30475.t1;PH02Gene30474.t1;PH02Gene30473.t1;PH02Gene30472.t2;PH02Gene30471.t1;PH02Gene30470.t1;PH02Gene30469.t1;PH02Gene30468.t1;PH02Gene22470.t1;PH02Gene22469.t1;PH02Gene22468.t1;PH02Gene22467.t2;PH02Gene22466.t1;PH02Gene22465.t1;PH02Gene22464.t1;PH02Gene22463.t1;PH02Gene22462.t1;PH02Gene22461.t1;PH02Gene22460.t1;PH02Gene45784.t1;PH02Gene45783.t1;PH02Gene24418.t1;PH02Gene24419.t1;PH02Gene24420.t1;PH02Gene24421.t1;PH02Gene24422.t1;PH02Gene24423.t1;PH02Gene24424.t1;PH02Gene24425.t1;PH02Gene24426.t1;PH02Gene24427.t1;PH02Gene24428.t2;PH02Gene24429.t1;PH02Gene24430.t1;PH02Gene31459.t3;PH02Gene31460.t1;PH02Gene31461.t1;PH02Gene31462.t1;PH02Gene31463.t1;PH02Gene31464.t1;PH02Gene31465.t1;PH02Gene31466.t1;PH02Gene31467.t1;PH02Gene31468.t1;PH02Gene31469.t1;PH02Gene39893.t1;PH02Gene39894.t1;PH02Gene39895.t1;PH02Gene39896.t1;PH02Gene39897.t1;PH02Gene47235.t1;PH02Gene47236.t1;PH02Gene47237.t1;PH02Gene47238.t1;PH02Gene38821.t1;PH02Gene38820.t1;PH02Gene38819.t1;PH02Gene38818.t1;PH02Gene38817.t1;PH02Gene38816.t1;PH02Gene49221.t1;PH02Gene48015.t1;PH02Gene48016.t1;PH02Gene48017.t1;PH02Gene48018.t1;PH02Gene49588.t1;PH02Gene49589.t1;PH02Gene49590.t1;PH02Gene49591.t1;PH02Gene49592.t1;PH02Gene18436.t1;PH02Gene18437.t1;PH02Gene18438.t1;PH02Gene18439.t1;PH02Gene18440.t1;PH02Gene18441.t1;PH02Gene18442.t1;
A5: 13 | B5: 128200001 | C5: 134000000 | D5: =LEN(E5)-LEN(SUBSTITUTE(E5,";","")) -> 237 | E5: PH02Gene14875.t1;PH02Gene14876.t1;PH02Gene14877.t1;PH02Gene14878.t1;PH02Gene14879.t2;PH02Gene14880.t1;PH02Gene14881.t1;PH02Gene14882.t1;PH02Gene14883.t1;PH02Gene14884.t1;PH02Gene14885.t1;PH02Gene14886.t1;PH02Gene14887.t1;PH02Gene14888.t1;PH02Gene14889.t1;PH02Gene35733.t1;PH02Gene35732.t1;PH02Gene35731.t1;PH02Gene35730.t1;PH02Gene35729.t1;PH02Gene35728.t1;PH02Gene35727.t1;PH02Gene35726.t2;PH02Gene35725.t1;PH02Gene35724.t1;PH02Gene35723.t1;PH02Gene35722.t1;PH02Gene35721.t1;PH02Gene35720.t1;PH02Gene35719.t1;PH02Gene35718.t1;PH02Gene35717.t1;PH02Gene35716.t2;PH02Gene35715.t1;PH02Gene35714.t1;PH02Gene35713.t1;PH02Gene35712.t1;PH02Gene35711.t1;PH02Gene35710.t1;PH02Gene35709.t1;PH02Gene21413.t1;PH02Gene21412.t1;PH02Gene21411.t1;PH02Gene21410.t1;PH02Gene21409.t1;PH02Gene21408.t1;PH02Gene21407.t1;PH02Gene21406.t1;PH02Gene21405.t3;PH02Gene21404.t1;PH02Gene21403.t1;PH02Gene21402.t1;PH02Gene21401.t1;PH02Gene21400.t1;PH02Gene21399.t1;PH02Gene21398.t1;PH02Gene21397.t1;PH02Gene21396.t1;PH02Gene21395.t2;PH02Gene21394.t1;PH02Gene21393.t1;PH02Gene21392.t1;PH02Gene21391.t1;PH02Gene21390.t1;PH02Gene21389.t1;PH02Gene21388.t1;PH02Gene21387.t1;PH02Gene21386.t1;PH02Gene21385.t1;PH02Gene21384.t1;PH02Gene21383.t1;PH02Gene21382.t1;PH02Gene21381.t1;PH02Gene21380.t1;PH02Gene42968.t1;PH02Gene42967.t1;PH02Gene42966.t2;PH02Gene42965.t1;PH02Gene42964.t1;PH02Gene42043.t1;PH02Gene42044.t1;PH02Gene42963.t1;PH02Gene42962.t1;PH02Gene42961.t1;PH02Gene26244.t1;PH02Gene26245.t1;PH02Gene26246.t1;PH02Gene26247.t1;PH02Gene26248.t1;PH02Gene26249.t1;PH02Gene26250.t1;PH02Gene26251.t1;PH02Gene26252.t1;PH02Gene26253.t1;PH02Gene26254.t1;PH02Gene26255.t1;PH02Gene26256.t1;PH02Gene26257.t1;PH02Gene26258.t1;PH02Gene26259.t1;PH02Gene26260.t2;PH02Gene26261.t1;PH02Gene26262.t1;PH02Gene26263.t1;PH02Gene26264.t1;PH02Gene26265.t1;PH02Gene26266.t1;PH02Gene26267.t1;PH02Gene26268.t1;PH02Gene26269.t1;PH02Gene26270.t1;PH02Gene26271.t1;PH02Gene26272.t1;PH02Gene26273.t1;PH02Gene26274.t1;PH02Gene26275.t1;PH02Gene42824.t1;PH02Gene34975.t1;PH02Gene34961.t1;PH02Gene34962.t1;PH02Gene34963.t1;PH02Gene34964.t1;PH02Gene34965.t1;PH02Gene34966.t1;PH02Gene34967.t1;PH02Gene34968.t1;PH02Gene34969.t1;PH02Gene34970.t1;PH02Gene34971.t1;PH02Gene34972.t1;PH02Gene34973.t1;PH02Gene34974.t1;PH02Gene22551.t1;PH02Gene22552.t1;PH02Gene22553.t1;PH02Gene22554.t1;PH02Gene22555.t1;PH02Gene22556.t1;PH02Gene22557.t1;PH02Gene22558.t1;PH02Gene22559.t1;PH02Gene22560.t1;PH02Gene22561.t1;PH02Gene22562.t1;PH02Gene22563.t1;PH02Gene22564.t1;PH02Gene22565.t1;PH02Gene22566.t1;PH02Gene22567.t1;PH02Gene22568.t1;PH02Gene22569.t1;PH02Gene22570.t2;PH02Gene22571.t1;PH02Gene22572.t1;PH02Gene22573.t1;PH02Gene22574.t1;PH02Gene22575.t1;PH02Gene22576.t1;PH02Gene22577.t1;PH02Gene22578.t1;PH02Gene22579.t2;PH02Gene22580.t1;PH02Gene22581.t1;PH02Gene22582.t1;PH02Gene22583.t1;PH02Gene22584.t1;PH02Gene22585.t1;PH02Gene22586.t1;PH02Gene22587.t1;PH02Gene22588.t1;PH02Gene22589.t1;PH02Gene38015.t1;PH02Gene38016.t1;PH02Gene38017.t1;PH02Gene38018.t1;PH02Gene38019.t1;PH02Gene38020.t1;PH02Gene38021.t1;PH02Gene38022.t1;PH02Gene38023.t1;PH02Gene38024.t1;PH02Gene38025.t1;PH02Gene38026.t1;PH02Gene38027.t1;PH02Gene38028.t2;PH02Gene38029.t1;PH02Gene38030.t1;PH02Gene38031.t1;PH02Gene38032.t1;PH02Gene38033.t4;PH02Gene38034.t1;PH02Gene38035.t1;PH02Gene38036.t3;PH02Gene38037.t1;PH02Gene38038.t1;PH02Gene38039.t1;PH02Gene40222.t1;PH02Gene40223.t1;PH02Gene40224.t1;PH02Gene40225.t1;PH02Gene40226.t1;PH02Gene40227.t1;PH02Gene40228.t1;PH02Gene40229.t1;PH02Gene01599.t1;PH02Gene01600.t1;PH02Gene01601.t1;PH02Gene01602.t1;PH02Gene01603.t1;PH02Gene01604.t1;PH02Gene01605.t1;PH02Gene01606.t1;PH02Gene01607.t1;PH02Gene01608.t1;PH02Gene01609.t1;PH02Gene01610.t1;PH02Gene01611.t1;PH02Gene01612.t1;PH02Gene01613.t1;PH02Gene01614.t1;PH02Gene01615.t1;PH02Gene01616.t2;PH02Gene01617.t1;PH02Gene01618.t1;PH02Gene01619.t1;PH02Gene01620.t1;PH02Gene01621.t1;PH02Gene01622.t1;PH02Gene01623.t1;PH02Gene01624.t1;PH02Gene01625.t1;PH02Gene01626.t1;PH02Gene01627.t1;PH02Gene01628.t1;PH02Gene01629.t1;PH02Gene01630.t1;PH02Gene01631.t1;
A6: 14 | B6: 32400001 | C6: 38000000 | D6: =LEN(E6)-LEN(SUBSTITUTE(E6,";","")) -> 189 | E6: PH02Gene23157.t1;PH02Gene23158.t1;PH02Gene23159.t1;PH02Gene33199.t1;PH02Gene33200.t1;PH02Gene33201.t1;PH02Gene33202.t1;PH02Gene33203.t1;PH02Gene33204.t1;PH02Gene33205.t1;PH02Gene48025.t1;PH02Gene48024.t1;PH02Gene22153.t1;PH02Gene22154.t1;PH02Gene22155.t1;PH02Gene22156.t1;PH02Gene22157.t1;PH02Gene22158.t1;PH02Gene22159.t2;PH02Gene22160.t1;PH02Gene22161.t1;PH02Gene22162.t1;PH02Gene22163.t1;PH02Gene22164.t1;PH02Gene22165.t1;PH02Gene22166.t1;PH02Gene22167.t1;PH02Gene22168.t1;PH02Gene22169.t1;PH02Gene22170.t1;PH02Gene22171.t1;PH02Gene22172.t1;PH02Gene22173.t1;PH02Gene22174.t1;PH02Gene22175.t1;PH02Gene22176.t1;PH02Gene22177.t3;PH02Gene22178.t1;PH02Gene22179.t1;PH02Gene22180.t1;PH02Gene22181.t1;PH02Gene22182.t1;PH02Gene22183.t1;PH02Gene22184.t1;PH02Gene22185.t2;PH02Gene22186.t1;PH02Gene28273.t1;PH02Gene28274.t1;PH02Gene28275.t1;PH02Gene28276.t1;PH02Gene28277.t1;PH02Gene28278.t1;PH02Gene28279.t1;PH02Gene28280.t1;PH02Gene28281.t1;PH02Gene28282.t1;PH02Gene28283.t2;PH02Gene28284.t1;PH02Gene28285.t1;PH02Gene28286.t1;PH02Gene28287.t1;PH02Gene28288.t1;PH02Gene28289.t1;PH02Gene28290.t1;PH02Gene28291.t2;PH02Gene28292.t1;PH02Gene11962.t4;PH02Gene11963.t1;PH02Gene11964.t1;PH02Gene11965.t1;PH02Gene11966.t1;PH02Gene11967.t1;PH02Gene11968.t1;PH02Gene11969.t1;PH02Gene11970.t1;PH02Gene11971.t1;PH02Gene11972.t1;PH02Gene11973.t2;PH02Gene11974.t1;PH02Gene11975.t1;PH02Gene11976.t1;PH02Gene11977.t1;PH02Gene11978.t1;PH02Gene11979.t1;PH02Gene11980.t1;PH02Gene11981.t1;PH02Gene11982.t1;PH02Gene11983.t1;PH02Gene11984.t1;PH02Gene11985.t1;PH02Gene11986.t1;PH02Gene11987.t1;PH02Gene11988.t1;PH02Gene11989.t1;PH02Gene11990.t1;PH02Gene11991.t3;PH02Gene11992.t1;PH02Gene11993.t1;PH02Gene11994.t1;PH02Gene11995.t1;PH02Gene11996.t2;PH02Gene11997.t1;PH02Gene11998.t1;PH02Gene11999.t1;PH02Gene12000.t1;PH02Gene12001.t1;PH02Gene12002.t1;PH02Gene12003.t1;PH02Gene12004.t1;PH02Gene12005.t1;PH02Gene12006.t3;PH02Gene12007.t1;PH02Gene12008.t1;PH02Gene12009.t1;PH02Gene12010.t1;PH02Gene12011.t1;PH02Gene12012.t1;PH02Gene12013.t1;PH02Gene49669.t1;PH02Gene49668.t1;PH02Gene30592.t1;PH02Gene30591.t1;PH02Gene30590.t1;PH02Gene30589.t1;PH02Gene30588.t1;PH02Gene30587.t1;PH02Gene34870.t1;PH02Gene34869.t1;PH02Gene34868.t1;PH02Gene34867.t1;PH02Gene34866.t1;PH02Gene34865.t1;PH02Gene34864.t1;PH02Gene34863.t1;PH02Gene34862.t1;PH02Gene34861.t1;PH02Gene34860.t1;PH02Gene34859.t1;PH02Gene34858.t1;PH02Gene34857.t1;PH02Gene34856.t1;PH02Gene34855.t1;PH02Gene34854.t2;PH02Gene34853.t2;PH02Gene45536.t1;PH02Gene45537.t2;PH02Gene45538.t1;PH02Gene45539.t1;PH02Gene45540.t1;PH02Gene45541.t1;PH02Gene45542.t1;PH02Gene45543.t1;PH02Gene45544.t1;PH02Gene45545.t1;PH02Gene45546.t1;PH02Gene45547.t1;PH02Gene45548.t1;PH02Gene36757.t1;PH02Gene36756.t1;PH02Gene36755.t1;PH02Gene36752.t1;PH02Gene36751.t1;PH02Gene36750.t1;PH02Gene36749.t1;PH02Gene36748.t1;PH02Gene36747.t1;PH02Gene36746.t1;PH02Gene36745.t1;PH02Gene36744.t1;PH02Gene36743.t1;PH02Gene36742.t1;PH02Gene36741.t1;PH02Gene36740.t1;PH02Gene36739.t3;PH02Gene36738.t1;PH02Gene13535.t1;PH02Gene13534.t1;PH02Gene13533.t1;PH02Gene13532.t1;PH02Gene13531.t1;PH02Gene13530.t1;PH02Gene13529.t1;PH02Gene13528.t1;PH02Gene13527.t1;PH02Gene21483.t1;PH02Gene21484.t1;PH02Gene21485.t1;PH02Gene21486.t1;PH02Gene21487.t1;
A7: 14 | B7: 66000001 | C7: 83200000 | D7: =LEN(E7)-LEN(SUBSTITUTE(E7,";","")) -> 679 | E7: PH02Gene03724.t1;PH02Gene03723.t1;PH02Gene03722.t1;PH02Gene03721.t1;PH02Gene03720.t1;PH02Gene03719.t1;PH02Gene03718.t1;PH02Gene03717.t1;PH02Gene03716.t1;PH02Gene03715.t1;PH02Gene03714.t1;PH02Gene03713.t1;PH02Gene03712.t1;PH02Gene03711.t1;PH02Gene03710.t1;PH02Gene03709.t1;PH02Gene03708.t1;PH02Gene03707.t1;PH02Gene03706.t1;PH02Gene03705.t1;PH02Gene03704.t1;PH02Gene03703.t1;PH02Gene03702.t1;PH02Gene03701.t1;PH02Gene03700.t1;PH02Gene03699.t1;PH02Gene03698.t1;PH02Gene03697.t1;PH02Gene03696.t1;PH02Gene03695.t1;PH02Gene03694.t1;PH02Gene03693.t1;PH02Gene03692.t1;PH02Gene03691.t1;PH02Gene03690.t1;PH02Gene03689.t1;PH02Gene03688.t1;PH02Gene03687.t3;PH02Gene03686.t1;PH02Gene03685.t1;PH02Gene03684.t1;PH02Gene03683.t1;PH02Gene03682.t1;PH02Gene03681.t1;PH02Gene03680.t1;PH02Gene03679.t1;PH02Gene03678.t1;PH02Gene03677.t1;PH02Gene03676.t1;PH02Gene03675.t1;PH02Gene03674.t1;PH02Gene03673.t2;PH02Gene03672.t1;PH02Gene03671.t1;PH02Gene03670.t1;PH02Gene03669.t1;PH02Gene03668.t1;PH02Gene03667.t1;PH02Gene03666.t1;PH02Gene03665.t1;PH02Gene48737.t1;PH02Gene48736.t1;PH02Gene48735.t1;PH02Gene48734.t1;PH02Gene03663.t1;PH02Gene03662.t1;PH02Gene03661.t1;PH02Gene03660.t1;PH02Gene03659.t1;PH02Gene03658.t1;PH02Gene03657.t1;PH02Gene03656.t1;PH02Gene03655.t1;PH02Gene03654.t1;PH02Gene03653.t1;PH02Gene03652.t1;PH02Gene03651.t1;PH02Gene03650.t1;PH02Gene03649.t1;PH02Gene03648.t1;PH02Gene03647.t1;PH02Gene03646.t1;PH02Gene03645.t1;PH02Gene03644.t1;PH02Gene03643.t1;PH02Gene03642.t1;PH02Gene03641.t1;PH02Gene03640.t1;PH02Gene42566.t1;PH02Gene42567.t1;PH02Gene42568.t1;PH02Gene23845.t1;PH02Gene23844.t1;PH02Gene23843.t1;PH02Gene23842.t1;PH02Gene23841.t1;PH02Gene23840.t1;PH02Gene23839.t1;PH02Gene23838.t1;PH02Gene23837.t1;PH02Gene23836.t1;PH02Gene23835.t1;PH02Gene23834.t1;PH02Gene23833.t1;PH02Gene23832.t1;PH02Gene23831.t1;PH02Gene23830.t1;PH02Gene23829.t1;PH02Gene23828.t2;PH02Gene23827.t1;PH02Gene23826.t2;PH02Gene23825.t1;PH02Gene23824.t1;PH02Gene23823.t1;PH02Gene23822.t1;PH02Gene23821.t1;PH02Gene23820.t1;PH02Gene23819.t1;PH02Gene23818.t1;PH02Gene23817.t3;PH02Gene23816.t1;PH02Gene23815.t1;PH02Gene23814.t1;PH02Gene23813.t1;PH02Gene23812.t1;PH02Gene23811.t1;PH02Gene23810.t1;PH02Gene23809.t1;PH02Gene23808.t1;PH02Gene23807.t1;PH02Gene23806.t1;PH02Gene23805.t1;PH02Gene23804.t1;PH02Gene49267.t1;PH02Gene49266.t1;PH02Gene49265.t1;PH02Gene49264.t1;PH02Gene49263.t1;PH02Gene32589.t1;PH02Gene32590.t1;PH02Gene32591.t1;PH02Gene32592.t1;PH02Gene32593.t1;PH02Gene32594.t1;PH02Gene32595.t1;PH02Gene32596.t1;PH02Gene32597.t2;PH02Gene32598.t1;PH02Gene32599.t1;PH02Gene32600.t1;PH02Gene32601.t1;PH02Gene32602.t1;PH02Gene32603.t1;PH02Gene32604.t1;PH02Gene32605.t1;PH02Gene32606.t1;PH02Gene32607.t1;PH02Gene32608.t1;PH02Gene32609.t1;PH02Gene32610.t1;PH02Gene32611.t1;PH02Gene32612.t1;PH02Gene32613.t1;PH02Gene32614.t1;PH02Gene32615.t1;PH02Gene32616.t1;PH02Gene32617.t1;PH02Gene32618.t1;PH02Gene32619.t1;PH02Gene32620.t1;PH02Gene32621.t1;PH02Gene45333.t1;PH02Gene45332.t1;PH02Gene45331.t1;PH02Gene11439.t1;PH02Gene11438.t1;PH02Gene11437.t1;PH02Gene11436.t1;PH02Gene11435.t1;PH02Gene11434.t1;PH02Gene11433.t1;PH02Gene11432.t1;PH02Gene11431.t1;PH02Gene11430.t1;PH02Gene11429.t1;PH02Gene11428.t1;PH02Gene11427.t1;PH02Gene11426.t1;PH02Gene11425.t2;PH02Gene11424.t2;PH02Gene11423.t2;PH02Gene11422.t1;PH02Gene11421.t1;PH02Gene11420.t1;PH02Gene11419.t1;PH02Gene11418.t1;PH02Gene11417.t1;PH02Gene11416.t1;PH02Gene11415.t1;PH02Gene11414.t1;PH02Gene11413.t1;PH02Gene11412.t1;PH02Gene11411.t1;PH02Gene11410.t1;PH02Gene11409.t1;PH02Gene11408.t1;PH02Gene11407.t1;PH02Gene11406.t2;PH02Gene11405.t1;PH02Gene11404.t1;PH02Gene11403.t1;PH02Gene11402.t1;PH02Gene11401.t1;PH02Gene11400.t1;PH02Gene11399.t1;PH02Gene11398.t1;PH02Gene11397.t1;PH02Gene11396.t1;PH02Gene11395.t1;PH02Gene11394.t1;PH02Gene11393.t1;PH02Gene11392.t2;PH02Gene11391.t1;PH02Gene11390.t3;PH02Gene11389.t1;PH02Gene11388.t1;PH02Gene11387.t1;PH02Gene11386.t1;PH02Gene11385.t1;PH02Gene11384.t1;PH02Gene11383.t1;PH02Gene11382.t1;PH02Gene11381.t2;PH02Gene37519.t1;PH02Gene37520.t1;PH02Gene37521.t1;PH02Gene37522.t1;PH02Gene37523.t1;PH02Gene37524.t1;PH02Gene37525.t1;PH02Gene37526.t1;PH02Gene37527.t1;PH02Gene37528.t1;PH02Gene37529.t1;PH02Gene37530.t1;PH02Gene37531.t1;PH02Gene37532.t1;PH02Gene37533.t1;PH02Gene37534.t1;PH02Gene37535.t1;PH02Gene37536.t1;PH02Gene37537.t1;PH02Gene37538.t1;PH02Gene37539.t1;PH02Gene42493.t1;PH02Gene33155.t1;PH02Gene33154.t1;PH02Gene33153.t1;PH02Gene33152.t2;PH02Gene33151.t1;PH02Gene33150.t1;PH02Gene33149.t1;PH02Gene33148.t1;PH02Gene33147.t1;PH02Gene33146.t1;PH02Gene33145.t1;PH02Gene33144.t1;PH02Gene33143.t1;PH02Gene33142.t1;PH02Gene33141.t1;PH02Gene33140.t1;PH02Gene33139.t1;PH02Gene33138.t1;PH02Gene33137.t1;PH02Gene33136.t1;PH02Gene33135.t1;PH02Gene38179.t1;PH02Gene38180.t1;PH02Gene38181.t1;PH02Gene38182.t1;PH02Gene38183.t1;PH02Gene38184.t1;PH02Gene38185.t1;PH02Gene38186.t1;PH02Gene38187.t1;PH02Gene38188.t1;PH02Gene38189.t1;PH02Gene38190.t1;PH02Gene38191.t1;PH02Gene38192.t1;PH02Gene38193.t1;PH02Gene38194.t1;PH02Gene38195.t1;PH02Gene38196.t1;PH02Gene38197.t1;PH02Gene38198.t1;PH02Gene38199.t2;PH02Gene38200.t1;PH02Gene22329.t1;PH02Gene22328.t1;PH02Gene22327.t1;PH02Gene22326.t1;PH02Gene22325.t1;PH02Gene22324.t1;PH02Gene22323.t1;PH02Gene22322.t3;PH02Gene22321.t1;PH02Gene22320.t1;PH02Gene22319.t1;PH02Gene22318.t1;PH02Gene22317.t1;PH02Gene22316.t1;PH02Gene22315.t1;PH02Gene22314.t1;PH02Gene22313.t1;PH02Gene22312.t1;PH02Gene22311.t8;PH02Gene22310.t1;PH02Gene22309.t1;PH02Gene22308.t1;PH02Gene22307.t1;PH02Gene22306.t1;PH02Gene22305.t1;PH02Gene22304.t1;PH02Gene22303.t1;PH02Gene22302.t1;PH02Gene22301.t1;PH02Gene22300.t1;PH02Gene22299.t1;PH02Gene22298.t1;PH02Gene22297.t1;PH02Gene27850.t5;PH02Gene27849.t1;PH02Gene27848.t1;PH02Gene27847.t1;PH02Gene27846.t1;PH02Gene27845.t1;PH02Gene27844.t1;PH02Gene27843.t1;PH02Gene27842.t1;PH02Gene27841.t1;PH02Gene27840.t1;PH02Gene27839.t6;PH02Gene27838.t1;PH02Gene27837.t1;PH02Gene27836.t1;PH02Gene27835.t1;PH02Gene27834.t1;PH02Gene27833.t1;PH02Gene07840.t1;PH02Gene07841.t1;PH02Gene07842.t1;PH02Gene07843.t1;PH02Gene07844.t1;PH02Gene07845.t1;PH02Gene07846.t1;PH02Gene07847.t1;PH02Gene07848.t1;PH02Gene07849.t1;PH02Gene07850.t1;PH02Gene07851.t1;PH02Gene07852.t1;PH02Gene07853.t1;PH02Gene07854.t1;PH02Gene07855.t1;PH02Gene07856.t1;PH02Gene07857.t1;PH02Gene07858.t1;PH02Gene07859.t3;PH02Gene07860.t1;PH02Gene07861.t1;PH02Gene07862.t1;PH02Gene07863.t1;PH02Gene07864.t1;PH02Gene07865.t1;PH02Gene07866.t2;PH02Gene07867.t1;PH02Gene07868.t2;PH02Gene07869.t1;PH02Gene07870.t1;PH02Gene07871.t1;PH02Gene07872.t3;PH02Gene07873.t1;PH02Gene07874.t1;PH02Gene07875.t1;PH02Gene07876.t2;PH02Gene07877.t1;PH02Gene07878.t1;PH02Gene07879.t1;PH02Gene07880.t1;PH02Gene07881.t1;PH02Gene07882.t1;PH02Gene07883.t1;PH02Gene07884.t2;PH02Gene07885.t3;PH02Gene07886.t1;PH02Gene07887.t1;PH02Gene07888.t1;PH02Gene07889.t1;PH02Gene07890.t1;PH02Gene07891.t1;PH02Gene07892.t1;PH02Gene07893.t1;PH02Gene07894.t1;PH02Gene07895.t1;PH02Gene07896.t1;PH02Gene07897.t1;PH02Gene07898.t1;PH02Gene07899.t1;PH02Gene07900.t1;PH02Gene07901.t1;PH02Gene07903.t1;PH02Gene07902.t1;PH02Gene07904.t1;PH02Gene07905.t2;PH02Gene07906.t2;PH02Gene07907.t2;PH02Gene07908.t1;PH02Gene07909.t1;PH02Gene07910.t1;PH02Gene07911.t1;PH02Gene07912.t1;PH02Gene07913.t1;PH02Gene07914.t1;PH02Gene07915.t1;PH02Gene07916.t1;PH02Gene07917.t1;PH02Gene07918.t1;PH02Gene07919.t1;PH02Gene07920.t1;PH02Gene07921.t1;PH02Gene07922.t1;PH02Gene07923.t1;PH02Gene07924.t1;PH02Gene07925.t1;PH02Gene48601.t1;PH02Gene48600.t1;PH02Gene27103.t1;PH02Gene27104.t1;PH02Gene27105.t1;PH02Gene27106.t1;PH02Gene27107.t1;PH02Gene27108.t1;PH02Gene27109.t1;PH02Gene27110.t1;PH02Gene27111.t1;PH02Gene27112.t1;PH02Gene27113.t1;PH02Gene27114.t1;PH02Gene27115.t2;PH02Gene27116.t1;PH02Gene27117.t1;PH02Gene27118.t1;PH02Gene27119.t1;PH02Gene27120.t1;PH02Gene27121.t1;PH02Gene27122.t1;PH02Gene27123.t2;PH02Gene27124.t1;PH02Gene27125.t1;PH02Gene27126.t1;PH02Gene27127.t1;PH02Gene27128.t1;PH02Gene27129.t1;PH02Gene27130.t1;PH02Gene29815.t1;PH02Gene29816.t1;PH02Gene29817.t1;PH02Gene29818.t1;PH02Gene29819.t1;PH02Gene29820.t1;PH02Gene29821.t1;PH02Gene29822.t1;PH02Gene29823.t1;PH02Gene29824.t2;PH02Gene29825.t1;PH02Gene29826.t1;PH02Gene29827.t2;PH02Gene29828.t2;PH02Gene29829.t2;PH02Gene29830.t1;PH02Gene29831.t1;PH02Gene29832.t1;PH02Gene29833.t1;PH02Gene29834.t1;PH02Gene29835.t1;PH02Gene29836.t1;PH02Gene29837.t1;PH02Gene29838.t1;PH02Gene45698.t1;PH02Gene45699.t1;PH02Gene45700.t2;PH02Gene45701.t1;PH02Gene45702.t1;PH02Gene45703.t1;PH02Gene45704.t1;PH02Gene45705.t1;PH02Gene45706.t1;PH02Gene45707.t1;PH02Gene13614.t1;PH02Gene13613.t1;PH02Gene13612.t1;PH02Gene13611.t1;PH02Gene13610.t1;PH02Gene13609.t1;PH02Gene13608.t1;PH02Gene13607.t1;PH02Gene13606.t1;PH02Gene13605.t1;PH02Gene13604.t1;PH02Gene13603.t1;PH02Gene13602.t1;PH02Gene13601.t1;PH02Gene13600.t1;PH02Gene13599.t1;PH02Gene13598.t1;PH02Gene13597.t1;PH02Gene13596.t1;PH02Gene13595.t1;PH02Gene13594.t1;PH02Gene13593.t1;PH02Gene13592.t1;PH02Gene13591.t1;PH02Gene13590.t1;PH02Gene13589.t1;PH02Gene13588.t2;PH02Gene13587.t1;PH02Gene13586.t1;PH02Gene13585.t1;PH02Gene13584.t1;PH02Gene13583.t1;PH02Gene13582.t1;PH02Gene13581.t1;PH02Gene13580.t1;PH02Gene13579.t1;PH02Gene13578.t1;PH02Gene13577.t1;PH02Gene13576.t1;PH02Gene13575.t1;PH02Gene13574.t1;PH02Gene13573.t2;PH02Gene13572.t1;PH02Gene13571.t1;PH02Gene13570.t1;PH02Gene13569.t1;PH02Gene04919.t1;PH02Gene04918.t3;PH02Gene04917.t1;PH02Gene04916.t1;PH02Gene04915.t1;PH02Gene04914.t1;PH02Gene04913.t1;PH02Gene04912.t1;PH02Gene04911.t1;PH02Gene04910.t1;PH02Gene04909.t1;PH02Gene04908.t1;PH02Gene04907.t1;PH02Gene04906.t1;PH02Gene04905.t1;PH02Gene48265.t1;PH02Gene48264.t1;PH02Gene48263.t1;PH02Gene48262.t1;PH02Gene48261.t1;PH02Gene48260.t1;PH02Gene42366.t1;PH02Gene42367.t1;PH02Gene42368.t1;PH02Gene42369.t1;PH02Gene42370.t1;PH02Gene42371.t1;PH02Gene42372.t1;PH02Gene42373.t1;PH02Gene42374.t1;PH02Gene42375.t1;PH02Gene42376.t1;PH02Gene42377.t1;PH02Gene42378.t1;PH02Gene42379.t1;PH02Gene07232.t1;PH02Gene07233.t1;PH02Gene07234.t1;PH02Gene07235.t1;PH02Gene07236.t1;PH02Gene07237.t1;PH02Gene07238.t1;PH02Gene07239.t1;PH02Gene07240.t3;PH02Gene07241.t1;PH02Gene07242.t1;PH02Gene07243.t1;PH02Gene07244.t1;PH02Gene07245.t1;PH02Gene07246.t1;PH02Gene07247.t1;PH02Gene07248.t1;PH02Gene07249.t1;PH02Gene07250.t1;PH02Gene07251.t1;PH02Gene07252.t1;PH02Gene07253.t1;PH02Gene07254.t1;PH02Gene07255.t1;PH02Gene07256.t1;PH02Gene07257.t1;PH02Gene07258.t1;PH02Gene07259.t1;PH02Gene07260.t1;PH02Gene07261.t1;PH02Gene07262.t1;PH02Gene07263.t1;PH02Gene07264.t1;PH02Gene07265.t1;PH02Gene07266.t1;PH02Gene07267.t1;PH02Gene07268.t2;PH02Gene07269.t1;PH02Gene07270.t1;PH02Gene07271.t1;PH02Gene07272.t1;PH02Gene07273.t1;PH02Gene07274.t1;PH02Gene07275.t1;PH02Gene07276.t1;PH02Gene07277.t1;PH02Gene07278.t1;PH02Gene07279.t1;PH02Gene07280.t1;PH02Gene07281.t1;PH02Gene07282.t1;PH02Gene07283.t1;PH02Gene07284.t3;PH02Gene07285.t1;PH02Gene07286.t1;PH02Gene07287.t1;PH02Gene07288.t1;PH02Gene07289.t1;PH02Gene07290.t1;PH02Gene07291.t1;PH02Gene07292.t1;PH02Gene07293.t1;PH02Gene07294.t1;PH02Gene07295.t1;PH02Gene07296.t1;PH02Gene07297.t1;PH02Gene07298.t1;PH02Gene14221.t1;PH02Gene14222.t1;PH02Gene14223.t2;PH02Gene14224.t1;PH02Gene14225.t1;PH02Gene14226.t1;PH02Gene14227.t1;PH02Gene14228.t1;PH02Gene14229.t1;PH02Gene14230.t1;PH02Gene14231.t1;PH02Gene14232.t1;PH02Gene14233.t1;PH02Gene14234.t1;PH02Gene14235.t1;PH02Gene14236.t1;PH02Gene14237.t1;PH02Gene14238.t1;PH02Gene14239.t1;PH02Gene14240.t1;PH02Gene14241.t1;PH02Gene14242.t1;PH02Gene14243.t1;PH02Gene14244.t1;PH02Gene14245.t1;PH02Gene14246.t1;PH02Gene14247.t1;PH02Gene14248.t1;PH02Gene14249.t1;PH02Gene14250.t1;PH02Gene09198.t1;PH02Gene09197.t1;
A8: 15 | B8: 47000001 | C8: 57800000 | D8: =LEN(E8)-LEN(SUBSTITUTE(E8,";","")) -> 438 | E8: PH02Gene18120.t1;PH02Gene18119.t1;PH02Gene18118.t1;PH02Gene18117.t1;PH02Gene18116.t2;PH02Gene18115.t1;PH02Gene18114.t1;PH02Gene18113.t1;PH02Gene18112.t1;PH02Gene18111.t1;PH02Gene18110.t1;PH02Gene18109.t1;PH02Gene18108.t2;PH02Gene18107.t1;PH02Gene18106.t1;PH02Gene18105.t1;PH02Gene18104.t1;PH02Gene18103.t1;PH02Gene18102.t1;PH02Gene07813.t1;PH02Gene07814.t1;PH02Gene07815.t1;PH02Gene07816.t1;PH02Gene07817.t1;PH02Gene07818.t1;PH02Gene07819.t1;PH02Gene07820.t1;PH02Gene07821.t1;PH02Gene36617.t1;PH02Gene36618.t1;PH02Gene36619.t1;PH02Gene36620.t3;PH02Gene36621.t1;PH02Gene36622.t1;PH02Gene07750.t1;PH02Gene07751.t1;PH02Gene07752.t1;PH02Gene07753.t1;PH02Gene07754.t1;PH02Gene07755.t1;PH02Gene07756.t1;PH02Gene07757.t1;PH02Gene07758.t1;PH02Gene07759.t1;PH02Gene07760.t2;PH02Gene07761.t1;PH02Gene07762.t1;PH02Gene07763.t1;PH02Gene07764.t1;PH02Gene07765.t1;PH02Gene07766.t1;PH02Gene07767.t1;PH02Gene07768.t1;PH02Gene07769.t1;PH02Gene07770.t1;PH02Gene07771.t1;PH02Gene07772.t1;PH02Gene07773.t1;PH02Gene07774.t1;PH02Gene07775.t1;PH02Gene07776.t1;PH02Gene07777.t1;PH02Gene07778.t1;PH02Gene07779.t1;PH02Gene07780.t1;PH02Gene07781.t1;PH02Gene07782.t1;PH02Gene07783.t1;PH02Gene07784.t1;PH02Gene07785.t1;PH02Gene07786.t1;PH02Gene07787.t1;PH02Gene07788.t1;PH02Gene07789.t1;PH02Gene07790.t1;PH02Gene07791.t1;PH02Gene07792.t1;PH02Gene07793.t1;PH02Gene07794.t1;PH02Gene07795.t1;PH02Gene07796.t1;PH02Gene07797.t1;PH02Gene07798.t1;PH02Gene07799.t2;PH02Gene07800.t1;PH02Gene07801.t1;PH02Gene07802.t1;PH02Gene07803.t1;PH02Gene07804.t1;PH02Gene07805.t1;PH02Gene07806.t1;PH02Gene07807.t1;PH02Gene07808.t1;PH02Gene07809.t2;PH02Gene07810.t1;PH02Gene07811.t1;PH02Gene07812.t2;PH02Gene40631.t1;PH02Gene40632.t1;PH02Gene40633.t1;PH02Gene40634.t1;PH02Gene40635.t1;PH02Gene40636.t1;PH02Gene40637.t1;PH02Gene40638.t1;PH02Gene40639.t1;PH02Gene40640.t1;PH02Gene40641.t1;PH02Gene40642.t1;PH02Gene40643.t1;PH02Gene40644.t1;PH02Gene00010.t1;PH02Gene00011.t1;PH02Gene00012.t1;PH02Gene00013.t1;PH02Gene00014.t1;PH02Gene00015.t1;PH02Gene00016.t1;PH02Gene00017.t1;PH02Gene00018.t1;PH02Gene00019.t1;PH02Gene00020.t1;PH02Gene00021.t1;PH02Gene00022.t1;PH02Gene00023.t1;PH02Gene00024.t1;PH02Gene00025.t1;PH02Gene00026.t1;PH02Gene00027.t1;PH02Gene00028.t1;PH02Gene00029.t1;PH02Gene00030.t1;PH02Gene00031.t1;PH02Gene00032.t1;PH02Gene00033.t1;PH02Gene00034.t1;PH02Gene00035.t1;PH02Gene00036.t1;PH02Gene00037.t1;PH02Gene00038.t1;PH02Gene00039.t1;PH02Gene00040.t1;PH02Gene00041.t1;PH02Gene00042.t1;PH02Gene00043.t1;PH02Gene00044.t1;PH02Gene00045.t1;PH02Gene00046.t2;PH02Gene00047.t1;PH02Gene00048.t1;PH02Gene00049.t1;PH02Gene00050.t1;PH02Gene00051.t1;PH02Gene00052.t1;PH02Gene00053.t1;PH02Gene00054.t1;PH02Gene00055.t1;PH02Gene00056.t1;PH02Gene00057.t1;PH02Gene00058.t1;PH02Gene00059.t1;PH02Gene00060.t1;PH02Gene00061.t1;PH02Gene00062.t1;PH02Gene00063.t1;PH02Gene00064.t1;PH02Gene00065.t1;PH02Gene00066.t1;PH02Gene00067.t1;PH02Gene00068.t1;PH02Gene00069.t1;PH02Gene00070.t1;PH02Gene00071.t1;PH02Gene00072.t1;PH02Gene00073.t4;PH02Gene00074.t1;PH02Gene00075.t1;PH02Gene00076.t1;PH02Gene00077.t1;PH02Gene00078.t1;PH02Gene00079.t1;PH02Gene00080.t1;PH02Gene00081.t1;PH02Gene00082.t1;PH02Gene00083.t1;PH02Gene00084.t1;PH02Gene00085.t1;PH02Gene00086.t1;PH02Gene00087.t1;PH02Gene00088.t1;PH02Gene00089.t1;PH02Gene00090.t1;PH02Gene00091.t1;PH02Gene00092.t1;PH02Gene00093.t1;PH02Gene00094.t1;PH02Gene00095.t1;PH02Gene00096.t2;PH02Gene00097.t1;PH02Gene00098.t1;PH02Gene00099.t1;PH02Gene00100.t2;PH02Gene00101.t1;PH02Gene00102.t1;PH02Gene00103.t1;PH02Gene00104.t1;PH02Gene00105.t1;PH02Gene00106.t1;PH02Gene00107.t1;PH02Gene00108.t1;PH02Gene00109.t1;PH02Gene00110.t1;PH02Gene00112.t1;PH02Gene00113.t1;PH02Gene00114.t1;PH02Gene00115.t1;PH02Gene00116.t3;PH02Gene00117.t1;PH02Gene00118.t1;PH02Gene00119.t1;PH02Gene00120.t1;PH02Gene00121.t4;PH02Gene00122.t1;PH02Gene00123.t1;PH02Gene00124.t1;PH02Gene00125.t1;PH02Gene00126.t1;PH02Gene00127.t1;PH02Gene00128.t1;PH02Gene00129.t1;PH02Gene00130.t1;PH02Gene00131.t1;PH02Gene00132.t2;PH02Gene00133.t1;PH02Gene00134.t1;PH02Gene00135.t1;PH02Gene00136.t1;PH02Gene00137.t2;PH02Gene00138.t1;PH02Gene00139.t1;PH02Gene00140.t1;PH02Gene00141.t1;PH02Gene00142.t1;PH02Gene00143.t1;PH02Gene00144.t1;PH02Gene00145.t1;PH02Gene00146.t1;PH02Gene00147.t1;PH02Gene00148.t1;PH02Gene00149.t1;PH02Gene00150.t1;PH02Gene00151.t1;PH02Gene00152.t1;PH02Gene00153.t1;PH02Gene00154.t2;PH02Gene00155.t1;PH02Gene00156.t1;PH02Gene00157.t1;PH02Gene00158.t1;PH02Gene00159.t1;PH02Gene00160.t1;PH02Gene00161.t1;PH02Gene00162.t1;PH02Gene00163.t1;PH02Gene00164.t2;PH02Gene00165.t1;PH02Gene00166.t1;PH02Gene00167.t1;PH02Gene00168.t1;PH02Gene00169.t1;PH02Gene00170.t1;PH02Gene00171.t1;PH02Gene00172.t1;PH02Gene00173.t1;PH02Gene00174.t1;PH02Gene00175.t1;PH02Gene00176.t1;PH02Gene00177.t1;PH02Gene00178.t1;PH02Gene00179.t1;PH02Gene00180.t1;PH02Gene00181.t1;PH02Gene00182.t1;PH02Gene00183.t1;PH02Gene00184.t1;PH02Gene00185.t1;PH02Gene00186.t1;PH02Gene00187.t1;PH02Gene00188.t1;PH02Gene00189.t1;PH02Gene00190.t1;PH02Gene00191.t1;PH02Gene00192.t1;PH02Gene00193.t1;PH02Gene00194.t1;PH02Gene00195.t2;PH02Gene00196.t1;PH02Gene00197.t1;PH02Gene00198.t1;PH02Gene00199.t1;PH02Gene00200.t1;PH02Gene00201.t1;PH02Gene00202.t1;PH02Gene00203.t1;PH02Gene00204.t1;PH02Gene00205.t1;PH02Gene00206.t1;PH02Gene00207.t1;PH02Gene00208.t1;PH02Gene00209.t2;PH02Gene00210.t1;PH02Gene00211.t1;PH02Gene00212.t1;PH02Gene00213.t1;PH02Gene00214.t3;PH02Gene00215.t1;PH02Gene00216.t1;PH02Gene00217.t1;PH02Gene00218.t1;PH02Gene00219.t1;PH02Gene00220.t1;PH02Gene00221.t1;PH02Gene00222.t1;PH02Gene00223.t1;PH02Gene00224.t2;PH02Gene00225.t1;PH02Gene00226.t1;PH02Gene00227.t1;PH02Gene00228.t1;PH02Gene00229.t1;PH02Gene00230.t1;PH02Gene00231.t2;PH02Gene00232.t1;PH02Gene39784.t2;PH02Gene39785.t1;PH02Gene39786.t1;PH02Gene39787.t1;PH02Gene39788.t1;PH02Gene39789.t3;PH02Gene39790.t1;PH02Gene39791.t1;PH02Gene39792.t1;PH02Gene39793.t1;PH02Gene39794.t1;PH02Gene39795.t2;PH02Gene39796.t1;PH02Gene39797.t1;PH02Gene39798.t1;PH02Gene39799.t1;PH02Gene39800.t1;PH02Gene39801.t1;PH02Gene27020.t1;PH02Gene27021.t1;PH02Gene27022.t1;PH02Gene27023.t1;PH02Gene27024.t1;PH02Gene27025.t1;PH02Gene27026.t1;PH02Gene27027.t1;PH02Gene27028.t1;PH02Gene27029.t1;PH02Gene27030.t1;PH02Gene27031.t1;PH02Gene27032.t1;PH02Gene27033.t1;PH02Gene27034.t1;PH02Gene27035.t2;PH02Gene27036.t1;PH02Gene44081.t1;PH02Gene44082.t1;PH02Gene44083.t1;PH02Gene44084.t2;PH02Gene44085.t1;PH02Gene44086.t1;PH02Gene44087.t1;PH02Gene44088.t1;PH02Gene44089.t1;PH02Gene44090.t1;PH02Gene35881.t2;PH02Gene35882.t1;PH02Gene35883.t1;PH02Gene35884.t1;PH02Gene35885.t1;PH02Gene35886.t1;PH02Gene35887.t1;PH02Gene35888.t1;PH02Gene35889.t1;PH02Gene35890.t1;PH02Gene35891.t1;PH02Gene35892.t1;PH02Gene35893.t1;PH02Gene35894.t1;PH02Gene35895.t1;PH02Gene35896.t1;PH02Gene35897.t1;PH02Gene35898.t1;PH02Gene35899.t1;PH02Gene35900.t1;PH02Gene35901.t1;PH02Gene35902.t1;PH02Gene35903.t1;PH02Gene23076.t1;PH02Gene23077.t1;PH02Gene23078.t1;PH02Gene23079.t1;PH02Gene14103.t1;PH02Gene14104.t1;PH02Gene14105.t1;PH02Gene14106.t1;PH02Gene14107.t1;PH02Gene14108.t1;PH02Gene14109.t1;PH02Gene14110.t1;PH02Gene14111.t1;PH02Gene14112.t1;PH02Gene14113.t1;PH02Gene14114.t1;PH02Gene14115.t1;PH02Gene14116.t1;PH02Gene14117.t1;PH02Gene14118.t1;PH02Gene14119.t2;PH02Gene14120.t1;PH02Gene14121.t1;PH02Gene14122.t1;PH02Gene14123.t1;PH02Gene14124.t1;PH02Gene14125.t1;PH02Gene14126.t1;PH02Gene14127.t1;PH02Gene14128.t1;PH02Gene14129.t1;PH02Gene14130.t1;PH02Gene14131.t1;PH02Gene14132.t1;PH02Gene14133.t1;PH02Gene14134.t1;PH02Gene14135.t1;
A9: 15 | B9: 66000001 | C9: 72400000 | D9: =LEN(E9)-LEN(SUBSTITUTE(E9,";","")) -> 201 | E9: PH02Gene39080.t1;PH02Gene39079.t1;PH02Gene39078.t2;PH02Gene39077.t1;PH02Gene39076.t1;PH02Gene39075.t1;PH02Gene39074.t1;PH02Gene39073.t1;PH02Gene39072.t1;PH02Gene39071.t1;PH02Gene39070.t1;PH02Gene39069.t1;PH02Gene39068.t1;PH02Gene39067.t3;PH02Gene39066.t1;PH02Gene39065.t1;PH02Gene46716.t1;PH02Gene46717.t1;PH02Gene46718.t1;PH02Gene46719.t1;PH02Gene46720.t1;PH02Gene37353.t1;PH02Gene37352.t1;PH02Gene37351.t1;PH02Gene37350.t1;PH02Gene37349.t1;PH02Gene37348.t1;PH02Gene37347.t1;PH02Gene37346.t2;PH02Gene37345.t1;PH02Gene43932.t1;PH02Gene43933.t1;PH02Gene43934.t1;PH02Gene43935.t1;PH02Gene43936.t1;PH02Gene43937.t1;PH02Gene43938.t1;PH02Gene05430.t1;PH02Gene05431.t1;PH02Gene05432.t1;PH02Gene05433.t1;PH02Gene05434.t1;PH02Gene05435.t1;PH02Gene05436.t1;PH02Gene05437.t1;PH02Gene05438.t1;PH02Gene05439.t1;PH02Gene05440.t1;PH02Gene05441.t1;PH02Gene05442.t1;PH02Gene05443.t1;PH02Gene05444.t1;PH02Gene05445.t1;PH02Gene05446.t1;PH02Gene05447.t1;PH02Gene05448.t1;PH02Gene05449.t1;PH02Gene05450.t1;PH02Gene05451.t3;PH02Gene05452.t1;PH02Gene05453.t1;PH02Gene05454.t1;PH02Gene05455.t1;PH02Gene05456.t2;PH02Gene05457.t2;PH02Gene05458.t1;PH02Gene05459.t1;PH02Gene05460.t1;PH02Gene05461.t1;PH02Gene05462.t1;PH02Gene05463.t1;PH02Gene05464.t1;PH02Gene05465.t1;PH02Gene05466.t1;PH02Gene05467.t1;PH02Gene05468.t1;PH02Gene05469.t1;PH02Gene05470.t1;PH02Gene05471.t1;PH02Gene05472.t1;PH02Gene05473.t1;PH02Gene05474.t1;PH02Gene05475.t1;PH02Gene05476.t2;PH02Gene05477.t1;PH02Gene05478.t1;PH02Gene05479.t1;PH02Gene05480.t1;PH02Gene05481.t1;PH02Gene05482.t1;PH02Gene05483.t1;PH02Gene05484.t1;PH02Gene05485.t1;PH02Gene05486.t1;PH02Gene05487.t1;PH02Gene05488.t1;PH02Gene05489.t1;PH02Gene05490.t1;PH02Gene05491.t1;PH02Gene05492.t1;PH02Gene05493.t1;PH02Gene05494.t1;PH02Gene05495.t1;PH02Gene05496.t1;PH02Gene05497.t1;PH02Gene05498.t1;PH02Gene05499.t1;PH02Gene05500.t1;PH02Gene05501.t1;PH02Gene05502.t1;PH02Gene05503.t1;PH02Gene05504.t2;PH02Gene05505.t1;PH02Gene05506.t1;PH02Gene05507.t1;PH02Gene05508.t1;PH02Gene05509.t1;PH02Gene48880.t1;PH02Gene48879.t1;PH02Gene48878.t1;PH02Gene48877.t1;PH02Gene48876.t1;PH02Gene48875.t1;PH02Gene27895.t1;PH02Gene27894.t1;PH02Gene27893.t1;PH02Gene27892.t3;PH02Gene27891.t1;PH02Gene27886.t1;PH02Gene27885.t1;PH02Gene27884.t1;PH02Gene27883.t1;PH02Gene27882.t1;PH02Gene27881.t1;PH02Gene27880.t1;PH02Gene27879.t1;PH02Gene27878.t1;PH02Gene27877.t1;PH02Gene27876.t1;PH02Gene27875.t1;PH02Gene27874.t1;PH02Gene27873.t1;PH02Gene37780.t1;PH02Gene37779.t1;PH02Gene37778.t3;PH02Gene37777.t1;PH02Gene37776.t1;PH02Gene37775.t1;PH02Gene37774.t1;PH02Gene37773.t1;PH02Gene37772.t1;PH02Gene37771.t1;PH02Gene37770.t1;PH02Gene37769.t1;PH02Gene37768.t1;PH02Gene37767.t1;PH02Gene37766.t1;PH02Gene37765.t1;PH02Gene37764.t1;PH02Gene37763.t1;PH02Gene37762.t1;PH02Gene37761.t1;PH02Gene37760.t1;PH02Gene40657.t1;PH02Gene40658.t1;PH02Gene40659.t1;PH02Gene40660.t1;PH02Gene40661.t1;PH02Gene40662.t1;PH02Gene40663.t1;PH02Gene40664.t1;PH02Gene40665.t1;PH02Gene40666.t1;PH02Gene40667.t1;PH02Gene40668.t1;PH02Gene40669.t1;PH02Gene40670.t1;PH02Gene40671.t1;PH02Gene40672.t1;PH02Gene40673.t1;PH02Gene40674.t1;PH02Gene40675.t1;PH02Gene40055.t1;PH02Gene40056.t3;PH02Gene40057.t1;PH02Gene40058.t1;PH02Gene40059.t1;PH02Gene40060.t1;PH02Gene40061.t2;PH02Gene25379.t1;PH02Gene25380.t1;PH02Gene25381.t1;PH02Gene25382.t1;PH02Gene25383.t1;PH02Gene25384.t1;PH02Gene25385.t1;PH02Gene25386.t1;PH02Gene03548.t1;PH02Gene03549.t1;PH02Gene03550.t1;PH02Gene03551.t1;
A10: 16 | B10: 13200001 | C10: 20200000 | D10: =LEN(E10)-LEN(SUBSTITUTE(E10,";","")) -> 248 | E10: PH02Gene10706.t1;PH02Gene10705.t1;PH02Gene10704.t1;PH02Gene10703.t1;PH02Gene10702.t1;PH02Gene10701.t1;PH02Gene10700.t2;PH02Gene10699.t1;PH02Gene10698.t1;PH02Gene10697.t1;PH02Gene10696.t1;PH02Gene10695.t1;PH02Gene10694.t1;PH02Gene10693.t1;PH02Gene10692.t1;PH02Gene10691.t1;PH02Gene10690.t1;PH02Gene10689.t2;PH02Gene15064.t1;PH02Gene15063.t1;PH02Gene15062.t1;PH02Gene15061.t1;PH02Gene15060.t1;PH02Gene15059.t1;PH02Gene15058.t1;PH02Gene15057.t1;PH02Gene15056.t2;PH02Gene15055.t1;PH02Gene15054.t1;PH02Gene15053.t1;PH02Gene15052.t1;PH02Gene15051.t3;PH02Gene15050.t1;PH02Gene15049.t1;PH02Gene15048.t1;PH02Gene15047.t1;PH02Gene15046.t1;PH02Gene15045.t1;PH02Gene15044.t3;PH02Gene15043.t1;PH02Gene15042.t1;PH02Gene15041.t1;PH02Gene15040.t3;PH02Gene15039.t1;PH02Gene15038.t1;PH02Gene15037.t1;PH02Gene15036.t1;PH02Gene15035.t1;PH02Gene15034.t1;PH02Gene15033.t1;PH02Gene15032.t1;PH02Gene15031.t1;PH02Gene15030.t1;PH02Gene15029.t5;PH02Gene15028.t1;PH02Gene15027.t1;PH02Gene15026.t1;PH02Gene15025.t1;PH02Gene15024.t1;PH02Gene15023.t1;PH02Gene15022.t1;PH02Gene15021.t1;PH02Gene15020.t1;PH02Gene15019.t1;PH02Gene15018.t1;PH02Gene15017.t1;PH02Gene15016.t1;PH02Gene15015.t1;PH02Gene15014.t1;PH02Gene15013.t2;PH02Gene15012.t1;PH02Gene20165.t1;PH02Gene20164.t1;PH02Gene20163.t1;PH02Gene20162.t1;PH02Gene20161.t1;PH02Gene20160.t1;PH02Gene20159.t1;PH02Gene20158.t1;PH02Gene20157.t1;PH02Gene20156.t1;PH02Gene20155.t1;PH02Gene20154.t1;PH02Gene20153.t1;PH02Gene20152.t1;PH02Gene20151.t1;PH02Gene20150.t1;PH02Gene20149.t1;PH02Gene20148.t1;PH02Gene20147.t1;PH02Gene20146.t1;PH02Gene20145.t1;PH02Gene20144.t1;PH02Gene20143.t1;PH02Gene20142.t1;PH02Gene20141.t1;PH02Gene20140.t1;PH02Gene20139.t1;PH02Gene20138.t1;PH02Gene20137.t1;PH02Gene20136.t2;PH02Gene20135.t1;PH02Gene15459.t1;PH02Gene15460.t1;PH02Gene15461.t1;PH02Gene15462.t1;PH02Gene15463.t3;PH02Gene15464.t1;PH02Gene15465.t1;PH02Gene15466.t1;PH02Gene15467.t1;PH02Gene15468.t1;PH02Gene15469.t1;PH02Gene15470.t1;PH02Gene15471.t1;PH02Gene15472.t1;PH02Gene15473.t1;PH02Gene15474.t1;PH02Gene15475.t1;PH02Gene15476.t1;PH02Gene15477.t2;PH02Gene15478.t1;PH02Gene15479.t1;PH02Gene15480.t1;PH02Gene15481.t1;PH02Gene15482.t1;PH02Gene15483.t1;PH02Gene15484.t1;PH02Gene15485.t1;PH02Gene15486.t1;PH02Gene15487.t1;PH02Gene15488.t1;PH02Gene15489.t2;PH02Gene15490.t1;PH02Gene15491.t1;PH02Gene15492.t1;PH02Gene15493.t1;PH02Gene15494.t1;PH02Gene15495.t1;PH02Gene15497.t1;PH02Gene15498.t1;PH02Gene15499.t1;PH02Gene15500.t1;PH02Gene15501.t2;PH02Gene15502.t1;PH02Gene15503.t1;PH02Gene15504.t1;PH02Gene15505.t1;PH02Gene15506.t1;PH02Gene07717.t1;PH02Gene07716.t1;PH02Gene07715.t1;PH02Gene07714.t1;PH02Gene07713.t1;PH02Gene07712.t1;PH02Gene07711.t1;PH02Gene07710.t1;PH02Gene07709.t1;PH02Gene07708.t1;PH02Gene07707.t1;PH02Gene07706.t1;PH02Gene07705.t1;PH02Gene07704.t1;PH02Gene07703.t1;PH02Gene07702.t1;PH02Gene07701.t2;PH02Gene07699.t1;PH02Gene07700.t1;PH02Gene07698.t1;PH02Gene07697.t1;PH02Gene07696.t1;PH02Gene07695.t1;PH02Gene07694.t2;PH02Gene07693.t1;PH02Gene07692.t1;PH02Gene20641.t1;PH02Gene20642.t1;PH02Gene20643.t1;PH02Gene20644.t1;PH02Gene20645.t1;PH02Gene20646.t2;PH02Gene20647.t1;PH02Gene20648.t1;PH02Gene20649.t1;PH02Gene20650.t2;PH02Gene20651.t1;PH02Gene20652.t4;PH02Gene20653.t1;PH02Gene20654.t1;PH02Gene20655.t1;PH02Gene20656.t1;PH02Gene20657.t1;PH02Gene20658.t1;PH02Gene20659.t1;PH02Gene20660.t1;PH02Gene20661.t1;PH02Gene20662.t1;PH02Gene20663.t1;PH02Gene20664.t1;PH02Gene20665.t1;PH02Gene20666.t1;PH02Gene20667.t1;PH02Gene20668.t1;PH02Gene20669.t3;PH02Gene20670.t1;PH02Gene20671.t1;PH02Gene20672.t1;PH02Gene20673.t1;PH02Gene20674.t1;PH02Gene20675.t1;PH02Gene05004.t1;PH02Gene05003.t1;PH02Gene05002.t1;PH02Gene05001.t1;PH02Gene05000.t1;PH02Gene04999.t1;PH02Gene04998.t1;PH02Gene04997.t1;PH02Gene04996.t1;PH02Gene04995.t1;PH02Gene04994.t1;PH02Gene04993.t1;PH02Gene04992.t1;PH02Gene04991.t1;PH02Gene04990.t1;PH02Gene04989.t2;PH02Gene04988.t1;PH02Gene04987.t1;PH02Gene04986.t1;PH02Gene04985.t1;PH02Gene04984.t1;PH02Gene04983.t1;PH02Gene04980.t1;PH02Gene04982.t1;PH02Gene04981.t1;PH02Gene04979.t1;PH02Gene04978.t1;PH02Gene04977.t1;PH02Gene04976.t1;PH02Gene04975.t1;PH02Gene04974.t1;PH02Gene04973.t1;PH02Gene04972.t1;PH02Gene04971.t1;PH02Gene04970.t1;PH02Gene04969.t1;PH02Gene04968.t1;PH02Gene04967.t1;
A11: 16 | B11: 112800001 | C11: 118800000 | D11: =LEN(E11)-LEN(SUBSTITUTE(E11,";","")) -> 255 | E11: PH02Gene09056.t1;PH02Gene09055.t1;PH02Gene09054.t1;PH02Gene09053.t1;PH02Gene09052.t1;PH02Gene09051.t1;PH02Gene09050.t1;PH02Gene09049.t1;PH02Gene09048.t1;PH02Gene09047.t1;PH02Gene09046.t1;PH02Gene09045.t1;PH02Gene09044.t1;PH02Gene09043.t1;PH02Gene09042.t1;PH02Gene09041.t2;PH02Gene09040.t1;PH02Gene09039.t1;PH02Gene09038.t1;PH02Gene09037.t1;PH02Gene09036.t1;PH02Gene09035.t1;PH02Gene09034.t1;PH02Gene09033.t1;PH02Gene09032.t1;PH02Gene09031.t1;PH02Gene09030.t2;PH02Gene09029.t1;PH02Gene29095.t1;PH02Gene29096.t1;PH02Gene29097.t1;PH02Gene29098.t1;PH02Gene29099.t1;PH02Gene29100.t1;PH02Gene29101.t3;PH02Gene29102.t1;PH02Gene29103.t1;PH02Gene29104.t1;PH02Gene29105.t1;PH02Gene29106.t1;PH02Gene27376.t1;PH02Gene27377.t1;PH02Gene27378.t2;PH02Gene27379.t1;PH02Gene27380.t1;PH02Gene27381.t1;PH02Gene27382.t1;PH02Gene27383.t1;PH02Gene27384.t2;PH02Gene27385.t1;PH02Gene27386.t1;PH02Gene27387.t1;PH02Gene27388.t1;PH02Gene27389.t1;PH02Gene27390.t1;PH02Gene27391.t5;PH02Gene27392.t1;PH02Gene27393.t1;PH02Gene27394.t1;PH02Gene27395.t1;PH02Gene27396.t1;PH02Gene27397.t1;PH02Gene27398.t2;PH02Gene15545.t1;PH02Gene15546.t1;PH02Gene15547.t1;PH02Gene15548.t1;PH02Gene15549.t1;PH02Gene15550.t1;PH02Gene15551.t1;PH02Gene15552.t1;PH02Gene15553.t1;PH02Gene15554.t2;PH02Gene15555.t1;PH02Gene15556.t2;PH02Gene15557.t1;PH02Gene15558.t1;PH02Gene15559.t2;PH02Gene15560.t1;PH02Gene15561.t1;PH02Gene15562.t1;PH02Gene15563.t1;PH02Gene15564.t1;PH02Gene15565.t1;PH02Gene15566.t1;PH02Gene15567.t1;PH02Gene15568.t1;PH02Gene15569.t1;PH02Gene15570.t1;PH02Gene15571.t1;PH02Gene15572.t1;PH02Gene15573.t1;PH02Gene15574.t1;PH02Gene15575.t1;PH02Gene15576.t1;PH02Gene15577.t1;PH02Gene15578.t1;PH02Gene15579.t1;PH02Gene15580.t1;PH02Gene15581.t1;PH02Gene15582.t1;PH02Gene15583.t1;PH02Gene15584.t1;PH02Gene15585.t1;PH02Gene15586.t1;PH02Gene15587.t1;PH02Gene15588.t1;PH02Gene15589.t1;PH02Gene15590.t1;PH02Gene15591.t1;PH02Gene15592.t1;PH02Gene15593.t1;PH02Gene15594.t1;PH02Gene15595.t1;PH02Gene15596.t1;PH02Gene15597.t1;PH02Gene15598.t1;PH02Gene15599.t1;PH02Gene15600.t1;PH02Gene15601.t1;PH02Gene15602.t1;PH02Gene15603.t1;PH02Gene15604.t1;PH02Gene15605.t1;PH02Gene15606.t1;PH02Gene15607.t1;PH02Gene15608.t1;PH02Gene15609.t1;PH02Gene33639.t1;PH02Gene33640.t1;PH02Gene48931.t1;PH02Gene48932.t1;PH02Gene48933.t1;PH02Gene48934.t1;PH02Gene48935.t1;PH02Gene47035.t1;PH02Gene47036.t1;PH02Gene47037.t1;PH02Gene47038.t1;PH02Gene47039.t1;PH02Gene47040.t1;PH02Gene47041.t1;PH02Gene50357.t1;PH02Gene50356.t1;PH02Gene50355.t1;PH02Gene50354.t1;PH02Gene50353.t1;PH02Gene46564.t1;PH02Gene46565.t1;PH02Gene46566.t1;PH02Gene46567.t1;PH02Gene46568.t1;PH02Gene46569.t1;PH02Gene46570.t1;PH02Gene46571.t1;PH02Gene46572.t1;PH02Gene47321.t1;PH02Gene47320.t1;PH02Gene47319.t1;PH02Gene47318.t1;PH02Gene47317.t1;PH02Gene47316.t1;PH02Gene47315.t1;PH02Gene47314.t1;PH02Gene04067.t1;PH02Gene04068.t1;PH02Gene04069.t1;PH02Gene04070.t1;PH02Gene04071.t1;PH02Gene04072.t1;PH02Gene04073.t1;PH02Gene04074.t1;PH02Gene04075.t1;PH02Gene04076.t1;PH02Gene04077.t1;PH02Gene04078.t3;PH02Gene04079.t1;PH02Gene04080.t1;PH02Gene04081.t1;PH02Gene04082.t1;PH02Gene04083.t1;PH02Gene04084.t1;PH02Gene04085.t1;PH02Gene04086.t1;PH02Gene04087.t1;PH02Gene04088.t1;PH02Gene04089.t1;PH02Gene04090.t1;PH02Gene04091.t1;PH02Gene04092.t2;PH02Gene04093.t1;PH02Gene04094.t1;PH02Gene04095.t1;PH02Gene04096.t1;PH02Gene04097.t1;PH02Gene04098.t1;PH02Gene04099.t1;PH02Gene04100.t1;PH02Gene04101.t1;PH02Gene04102.t1;PH02Gene04103.t1;PH02Gene04104.t1;PH02Gene04105.t1;PH02Gene04106.t1;PH02Gene04107.t1;PH02Gene04108.t1;PH02Gene04109.t1;PH02Gene04110.t1;PH02Gene04111.t1;PH02Gene04112.t1;PH02Gene04113.t1;PH02Gene04114.t1;PH02Gene04115.t1;PH02Gene04116.t1;PH02Gene04117.t1;PH02Gene04118.t1;PH02Gene04119.t1;PH02Gene04120.t1;PH02Gene04121.t1;PH02Gene04122.t1;PH02Gene04123.t1;PH02Gene04124.t1;PH02Gene04125.t1;PH02Gene04126.t1;PH02Gene04127.t1;PH02Gene04128.t1;PH02Gene04129.t1;PH02Gene04130.t1;PH02Gene04131.t1;PH02Gene04132.t1;PH02Gene04133.t1;PH02Gene04134.t1;PH02Gene04135.t1;PH02Gene04136.t1;PH02Gene04137.t1;PH02Gene04138.t6;PH02Gene04139.t1;PH02Gene04140.t1;PH02Gene04141.t2;PH02Gene04142.t1;PH02Gene04143.t1;PH02Gene04144.t1;PH02Gene04145.t1;PH02Gene04146.t1;PH02Gene04147.t1;PH02Gene04148.t1;PH02Gene04149.t1;PH02Gene04150.t1;PH02Gene04151.t1;PH02Gene04152.t1;PH02Gene04153.t1;PH02Gene04154.t1;PH02Gene04155.t1;PH02Gene04156.t1;PH02Gene04157.t1;
A12: 18 | B12: 28400001 | C12: 39200000 | D12: =LEN(E12)-LEN(SUBSTITUTE(E12,";","")) -> 334 | E12: PH02Gene04712.t2;PH02Gene04711.t1;PH02Gene04710.t1;PH02Gene04709.t1;PH02Gene04708.t1;PH02Gene04707.t1;PH02Gene04706.t2;PH02Gene04705.t1;PH02Gene04704.t1;PH02Gene04703.t1;PH02Gene04702.t1;PH02Gene04701.t1;PH02Gene04700.t1;PH02Gene04699.t1;PH02Gene04698.t1;PH02Gene04697.t1;PH02Gene04696.t1;PH02Gene04695.t1;PH02Gene04694.t1;PH02Gene04693.t1;PH02Gene04692.t1;PH02Gene04691.t1;PH02Gene04690.t1;PH02Gene04689.t1;PH02Gene04688.t1;PH02Gene04687.t1;PH02Gene04686.t2;PH02Gene04685.t1;PH02Gene04684.t1;PH02Gene04683.t1;PH02Gene04682.t1;PH02Gene04681.t1;PH02Gene04680.t1;PH02Gene04679.t2;PH02Gene04678.t2;PH02Gene04677.t1;PH02Gene04676.t3;PH02Gene36254.t1;PH02Gene36253.t1;PH02Gene36252.t1;PH02Gene36251.t1;PH02Gene36250.t1;PH02Gene36249.t1;PH02Gene36248.t1;PH02Gene36247.t1;PH02Gene36246.t1;PH02Gene36245.t2;PH02Gene36244.t1;PH02Gene36243.t1;PH02Gene36242.t1;PH02Gene36241.t1;PH02Gene36240.t1;PH02Gene36239.t1;PH02Gene36238.t1;PH02Gene36237.t1;PH02Gene30756.t2;PH02Gene30757.t1;PH02Gene30758.t1;PH02Gene30759.t1;PH02Gene30760.t1;PH02Gene30761.t1;PH02Gene30762.t1;PH02Gene30763.t1;PH02Gene30764.t1;PH02Gene30765.t1;PH02Gene30766.t1;PH02Gene30767.t1;PH02Gene30768.t1;PH02Gene30769.t1;PH02Gene30770.t1;PH02Gene30771.t1;PH02Gene30772.t1;PH02Gene30773.t1;PH02Gene30774.t1;PH02Gene30775.t1;PH02Gene30776.t1;PH02Gene30777.t1;PH02Gene30778.t1;PH02Gene30779.t1;PH02Gene49713.t1;PH02Gene04675.t1;PH02Gene04674.t1;PH02Gene04673.t1;PH02Gene04672.t1;PH02Gene04671.t1;PH02Gene04670.t1;PH02Gene04669.t1;PH02Gene04668.t1;PH02Gene04667.t1;PH02Gene04666.t1;PH02Gene04665.t1;PH02Gene04664.t1;PH02Gene04663.t1;PH02Gene04662.t1;PH02Gene04661.t1;PH02Gene04660.t1;PH02Gene04659.t1;PH02Gene04658.t1;PH02Gene04657.t1;PH02Gene04656.t1;PH02Gene04655.t1;PH02Gene04654.t1;PH02Gene04653.t1;PH02Gene04652.t7;PH02Gene04651.t1;PH02Gene04650.t1;PH02Gene04649.t1;PH02Gene04648.t1;PH02Gene04647.t1;PH02Gene04646.t1;PH02Gene04645.t1;PH02Gene04644.t1;PH02Gene04643.t1;PH02Gene04642.t1;PH02Gene04641.t1;PH02Gene04640.t1;PH02Gene04639.t1;PH02Gene04638.t1;PH02Gene04637.t1;PH02Gene04636.t1;PH02Gene04635.t1;PH02Gene04634.t1;PH02Gene04633.t1;PH02Gene04632.t1;PH02Gene04631.t1;PH02Gene04630.t1;PH02Gene04629.t1;PH02Gene04628.t5;PH02Gene04627.t2;PH02Gene04626.t1;PH02Gene04625.t1;PH02Gene04624.t1;PH02Gene04623.t1;PH02Gene04622.t1;PH02Gene04621.t1;PH02Gene04620.t2;PH02Gene04619.t1;PH02Gene04618.t1;PH02Gene04617.t1;PH02Gene04616.t1;PH02Gene04615.t1;PH02Gene04614.t2;PH02Gene04613.t1;PH02Gene04612.t1;PH02Gene04611.t1;PH02Gene04610.t1;PH02Gene04609.t1;PH02Gene04608.t1;PH02Gene04607.t1;PH02Gene04606.t1;PH02Gene04605.t1;PH02Gene04604.t1;PH02Gene04603.t1;PH02Gene04602.t1;PH02Gene04601.t1;PH02Gene04600.t1;PH02Gene04599.t1;PH02Gene04598.t1;PH02Gene04597.t1;PH02Gene04596.t1;PH02Gene04595.t2;PH02Gene04594.t1;PH02Gene04592.t1;PH02Gene04593.t1;PH02Gene04591.t1;PH02Gene04590.t1;PH02Gene04589.t1;PH02Gene04588.t1;PH02Gene37550.t1;PH02Gene37551.t1;PH02Gene37552.t1;PH02Gene37553.t1;PH02Gene37554.t1;PH02Gene37555.t1;PH02Gene37556.t1;PH02Gene37557.t1;PH02Gene37558.t1;PH02Gene37559.t1;PH02Gene37560.t1;PH02Gene37561.t1;PH02Gene37562.t1;PH02Gene37563.t1;PH02Gene37564.t1;PH02Gene37565.t1;PH02Gene44506.t1;PH02Gene44505.t1;PH02Gene44504.t1;PH02Gene44503.t1;PH02Gene44502.t1;PH02Gene01236.t1;PH02Gene01237.t1;PH02Gene01238.t1;PH02Gene01239.t2;PH02Gene01240.t1;PH02Gene01241.t1;PH02Gene01242.t1;PH02Gene01243.t2;PH02Gene01244.t1;PH02Gene01245.t1;PH02Gene01246.t1;PH02Gene01247.t1;PH02Gene01248.t1;PH02Gene01249.t1;PH02Gene01250.t1;PH02Gene01251.t1;PH02Gene01252.t1;PH02Gene01253.t1;PH02Gene01254.t1;PH02Gene01255.t2;PH02Gene01256.t1;PH02Gene01257.t1;PH02Gene01258.t1;PH02Gene01259.t1;PH02Gene01260.t1;PH02Gene01261.t1;PH02Gene01262.t1;PH02Gene01263.t2;PH02Gene50054.t1;PH02Gene50055.t1;PH02Gene50056.t1;PH02Gene01264.t1;PH02Gene01265.t1;PH02Gene01266.t2;PH02Gene01267.t1;PH02Gene01268.t1;PH02Gene01269.t1;PH02Gene01270.t1;PH02Gene01271.t1;PH02Gene01272.t1;PH02Gene01273.t1;PH02Gene01274.t1;PH02Gene01275.t1;PH02Gene01276.t1;PH02Gene01277.t1;PH02Gene01278.t1;PH02Gene01279.t1;PH02Gene01280.t1;PH02Gene01281.t2;PH02Gene01282.t1;PH02Gene01283.t1;PH02Gene01284.t1;PH02Gene01285.t1;PH02Gene01286.t1;PH02Gene01287.t1;PH02Gene01288.t1;PH02Gene01289.t1;PH02Gene01290.t1;PH02Gene01291.t1;PH02Gene01292.t1;PH02Gene01293.t1;PH02Gene01294.t1;PH02Gene01295.t1;PH02Gene01296.t1;PH02Gene01297.t2;PH02Gene01298.t1;PH02Gene01299.t1;PH02Gene01300.t1;PH02Gene01301.t1;PH02Gene01302.t1;PH02Gene01303.t1;PH02Gene01304.t1;PH02Gene01305.t1;PH02Gene01306.t1;PH02Gene01307.t1;PH02Gene01308.t1;PH02Gene01309.t1;PH02Gene01310.t1;PH02Gene01311.t1;PH02Gene01312.t1;PH02Gene01313.t1;PH02Gene01314.t1;PH02Gene01315.t1;PH02Gene01316.t1;PH02Gene01317.t1;PH02Gene01318.t1;PH02Gene01319.t1;PH02Gene01320.t1;PH02Gene01217.t1;PH02Gene01218.t1;PH02Gene01219.t1;PH02Gene01220.t1;PH02Gene01221.t1;PH02Gene01222.t1;PH02Gene01223.t1;PH02Gene01224.t1;PH02Gene01225.t1;PH02Gene01226.t1;PH02Gene01227.t1;PH02Gene01228.t1;PH02Gene01229.t1;PH02Gene01230.t1;PH02Gene01231.t1;PH02Gene01232.t1;PH02Gene01233.t1;PH02Gene01234.t1;PH02Gene01235.t1;PH02Gene21644.t1;PH02Gene21645.t1;PH02Gene21646.t1;PH02Gene21647.t1;PH02Gene21648.t1;PH02Gene21649.t1;PH02Gene21650.t1;PH02Gene21651.t2;PH02Gene21652.t1;PH02Gene21653.t1;PH02Gene21654.t1;PH02Gene21655.t1;PH02Gene21656.t1;PH02Gene21657.t1;PH02Gene21658.t1;PH02Gene21659.t1;PH02Gene21660.t1;PH02Gene21661.t1;PH02Gene21662.t2;PH02Gene21663.t1;PH02Gene21664.t1;PH02Gene21665.t1;PH02Gene21666.t1;PH02Gene21667.t1;PH02Gene21668.t1;PH02Gene21669.t1;PH02Gene21670.t1;PH02Gene21671.t1;PH02Gene39807.t1;PH02Gene39808.t1;PH02Gene39809.t5;PH02Gene39810.t1;PH02Gene39811.t1;PH02Gene39812.t1;PH02Gene39813.t1;PH02Gene39814.t1;PH02Gene39815.t1;PH02Gene16414.t1;
A13: 21 | B13: 77200001 | C13: 83000000 | D13: =LEN(E13)-LEN(SUBSTITUTE(E13,";","")) -> 151 | E13: PH02Gene25923.t1;PH02Gene25922.t1;PH02Gene25921.t1;PH02Gene25920.t1;PH02Gene25919.t1;PH02Gene47866.t1;PH02Gene47865.t1;PH02Gene46225.t1;PH02Gene46224.t1;PH02Gene46223.t1;PH02Gene46222.t1;PH02Gene46221.t1;PH02Gene46220.t1;PH02Gene19684.t1;PH02Gene19685.t1;PH02Gene19686.t1;PH02Gene19687.t1;PH02Gene19688.t1;PH02Gene19689.t1;PH02Gene19690.t1;PH02Gene19691.t1;PH02Gene19692.t1;PH02Gene19693.t1;PH02Gene19694.t2;PH02Gene19695.t1;PH02Gene19696.t1;PH02Gene19697.t1;PH02Gene19698.t1;PH02Gene19699.t1;PH02Gene25693.t1;PH02Gene25694.t2;PH02Gene25695.t2;PH02Gene25696.t1;PH02Gene25697.t1;PH02Gene25698.t1;PH02Gene25699.t1;PH02Gene25700.t1;PH02Gene25701.t1;PH02Gene25702.t1;PH02Gene25703.t1;PH02Gene25704.t1;PH02Gene25705.t1;PH02Gene25706.t1;PH02Gene25707.t1;PH02Gene25708.t1;PH02Gene25709.t1;PH02Gene15952.t1;PH02Gene15951.t1;PH02Gene15950.t1;PH02Gene15949.t1;PH02Gene15948.t1;PH02Gene15947.t1;PH02Gene15946.t1;PH02Gene15945.t1;PH02Gene15944.t1;PH02Gene15943.t1;PH02Gene15942.t2;PH02Gene15941.t1;PH02Gene15940.t1;PH02Gene15939.t1;PH02Gene15938.t1;PH02Gene15937.t1;PH02Gene15936.t1;PH02Gene15935.t1;PH02Gene15934.t1;PH02Gene15933.t2;PH02Gene15932.t1;PH02Gene15931.t1;PH02Gene15930.t1;PH02Gene15929.t1;PH02Gene15928.t1;PH02Gene15927.t1;PH02Gene15926.t2;PH02Gene15925.t1;PH02Gene15924.t1;PH02Gene15923.t1;PH02Gene15922.t1;PH02Gene15921.t1;PH02Gene15920.t1;PH02Gene15919.t1;PH02Gene15918.t1;PH02Gene15917.t2;PH02Gene15916.t1;PH02Gene15915.t1;PH02Gene14752.t1;PH02Gene14753.t1;PH02Gene14754.t1;PH02Gene14755.t1;PH02Gene14756.t1;PH02Gene14757.t1;PH02Gene14758.t2;PH02Gene14759.t1;PH02Gene14760.t1;PH02Gene14761.t1;PH02Gene14762.t1;PH02Gene14763.t1;PH02Gene44177.t1;PH02Gene44178.t1;PH02Gene44179.t1;PH02Gene44180.t1;PH02Gene44181.t1;PH02Gene47413.t1;PH02Gene47412.t1;PH02Gene47411.t1;PH02Gene12936.t1;PH02Gene12937.t1;PH02Gene12938.t1;PH02Gene12939.t1;PH02Gene12940.t1;PH02Gene12941.t1;PH02Gene12942.t1;PH02Gene12943.t1;PH02Gene12944.t1;PH02Gene12945.t1;PH02Gene12946.t1;PH02Gene12947.t1;PH02Gene12948.t2;PH02Gene12949.t1;PH02Gene12950.t1;PH02Gene12951.t1;PH02Gene12952.t2;PH02Gene12953.t1;PH02Gene12954.t1;PH02Gene12955.t1;PH02Gene12956.t1;PH02Gene12957.t1;PH02Gene12958.t1;PH02Gene12959.t1;PH02Gene12960.t1;PH02Gene12961.t1;PH02Gene12962.t1;PH02Gene12963.t2;PH02Gene12964.t1;PH02Gene12965.t1;PH02Gene12966.t1;PH02Gene12967.t2;PH02Gene12968.t1;PH02Gene12969.t1;PH02Gene12970.t2;PH02Gene12971.t1;PH02Gene48273.t1;PH02Gene48272.t1;PH02Gene23543.t1;PH02Gene23544.t1;PH02Gene23545.t1;PH02Gene23546.t1;PH02Gene23547.t1;PH02Gene23548.t1;PH02Gene23549.t1;PH02Gene23550.t1;PH02Gene23551.t1;
A14: 21 | B14: 94800001 | C14: 104600000 | D14: =LEN(E14)-LEN(SUBSTITUTE(E14,";","")) -> 324 | E14: PH02Gene18870.t1;PH02Gene18869.t1;PH02Gene18868.t1;PH02Gene18867.t1;PH02Gene18866.t1;PH02Gene18865.t1;PH02Gene18864.t1;PH02Gene18863.t1;PH02Gene18862.t1;PH02Gene18861.t1;PH02Gene18860.t1;PH02Gene18859.t1;PH02Gene18858.t1;PH02Gene18857.t1;PH02Gene18856.t1;PH02Gene18855.t1;PH02Gene08779.t1;PH02Gene08780.t1;PH02Gene08781.t1;PH02Gene08782.t1;PH02Gene08783.t1;PH02Gene08784.t2;PH02Gene08785.t1;PH02Gene08786.t1;PH02Gene08787.t1;PH02Gene08788.t1;PH02Gene08789.t1;PH02Gene08790.t4;PH02Gene08791.t1;PH02Gene08792.t1;PH02Gene08793.t1;PH02Gene26614.t1;PH02Gene26613.t1;PH02Gene26612.t1;PH02Gene26611.t1;PH02Gene26610.t1;PH02Gene26609.t1;PH02Gene26608.t1;PH02Gene26607.t1;PH02Gene26606.t1;PH02Gene26605.t1;PH02Gene26604.t1;PH02Gene26603.t1;PH02Gene26602.t1;PH02Gene26601.t1;PH02Gene26600.t1;PH02Gene26599.t1;PH02Gene26598.t1;PH02Gene26597.t1;PH02Gene26596.t1;PH02Gene26595.t1;PH02Gene26594.t1;PH02Gene26593.t1;PH02Gene26592.t1;PH02Gene26591.t1;PH02Gene26590.t1;PH02Gene26589.t1;PH02Gene26588.t2;PH02Gene26587.t1;PH02Gene36503.t1;PH02Gene36502.t1;PH02Gene36501.t1;PH02Gene36500.t1;PH02Gene36499.t1;PH02Gene36498.t1;PH02Gene36497.t1;PH02Gene36496.t1;PH02Gene36495.t1;PH02Gene36494.t2;PH02Gene36493.t1;PH02Gene36492.t1;PH02Gene36491.t1;PH02Gene36490.t1;PH02Gene36489.t1;PH02Gene36488.t1;PH02Gene49680.t1;PH02Gene49679.t1;PH02Gene47323.t1;PH02Gene47322.t1;PH02Gene29860.t1;PH02Gene29861.t1;PH02Gene29862.t1;PH02Gene29863.t1;PH02Gene29864.t1;PH02Gene29865.t1;PH02Gene29866.t1;PH02Gene29867.t1;PH02Gene29868.t1;PH02Gene29869.t1;PH02Gene29870.t1;PH02Gene29871.t1;PH02Gene29872.t1;PH02Gene29873.t1;PH02Gene29874.t1;PH02Gene29875.t1;PH02Gene29876.t2;PH02Gene29877.t1;PH02Gene29878.t1;PH02Gene29879.t1;PH02Gene29089.t1;PH02Gene29088.t1;PH02Gene29087.t1;PH02Gene29086.t1;PH02Gene29084.t1;PH02Gene29085.t1;PH02Gene29083.t1;PH02Gene29082.t1;PH02Gene29081.t1;PH02Gene29080.t1;PH02Gene29079.t1;PH02Gene29078.t1;PH02Gene29077.t1;PH02Gene29076.t1;PH02Gene29075.t1;PH02Gene29074.t1;PH02Gene29073.t1;PH02Gene29072.t1;PH02Gene29071.t1;PH02Gene29070.t1;PH02Gene29069.t1;PH02Gene29068.t1;PH02Gene29067.t1;PH02Gene29066.t1;PH02Gene29065.t1;PH02Gene29064.t1;PH02Gene29063.t1;PH02Gene29062.t1;PH02Gene29061.t1;PH02Gene29060.t1;PH02Gene24323.t1;PH02Gene24322.t1;PH02Gene24321.t1;PH02Gene24320.t1;PH02Gene24319.t1;PH02Gene24318.t1;PH02Gene24317.t1;PH02Gene24316.t1;PH02Gene24315.t2;PH02Gene24314.t1;PH02Gene24313.t1;PH02Gene24312.t1;PH02Gene24311.t1;PH02Gene24310.t1;PH02Gene24309.t1;PH02Gene24308.t1;PH02Gene24307.t1;PH02Gene24306.t1;PH02Gene24305.t1;PH02Gene24304.t1;PH02Gene24303.t1;PH02Gene24302.t1;PH02Gene24301.t1;PH02Gene24300.t1;PH02Gene24299.t1;PH02Gene24298.t1;PH02Gene24297.t1;PH02Gene24296.t1;PH02Gene24295.t1;PH02Gene24294.t1;PH02Gene24293.t1;PH02Gene24292.t1;PH02Gene24291.t1;PH02Gene24290.t1;PH02Gene27228.t1;PH02Gene27229.t1;PH02Gene27230.t2;PH02Gene27231.t1;PH02Gene27232.t1;PH02Gene27233.t1;PH02Gene27234.t1;PH02Gene21930.t1;PH02Gene21929.t1;PH02Gene21928.t1;PH02Gene21927.t1;PH02Gene21926.t1;PH02Gene21925.t1;PH02Gene01585.t1;PH02Gene01586.t1;PH02Gene01587.t1;PH02Gene01588.t1;PH02Gene01589.t1;PH02Gene01590.t1;PH02Gene01591.t1;PH02Gene01592.t1;PH02Gene01593.t1;PH02Gene01594.t1;PH02Gene01595.t1;PH02Gene01596.t1;PH02Gene01597.t1;PH02Gene01598.t1;PH02Gene39976.t1;PH02Gene39975.t1;PH02Gene39974.t1;PH02Gene39973.t1;PH02Gene39972.t1;PH02Gene39971.t1;PH02Gene39970.t1;PH02Gene39969.t1;PH02Gene39968.t1;PH02Gene39967.t1;PH02Gene39966.t1;PH02Gene39965.t1;PH02Gene39964.t2;PH02Gene39963.t1;PH02Gene39962.t1;PH02Gene39961.t1;PH02Gene39960.t1;PH02Gene39959.t1;PH02Gene39958.t1;PH02Gene39957.t1;PH02Gene39956.t1;PH02Gene39955.t1;PH02Gene15253.t1;PH02Gene15254.t1;PH02Gene15255.t1;PH02Gene15256.t1;PH02Gene15257.t1;PH02Gene15258.t1;PH02Gene15259.t1;PH02Gene15260.t1;PH02Gene15261.t1;PH02Gene15262.t1;PH02Gene15263.t1;PH02Gene15264.t1;PH02Gene15265.t1;PH02Gene15266.t1;PH02Gene15267.t1;PH02Gene15268.t1;PH02Gene15269.t1;PH02Gene15270.t1;PH02Gene15271.t1;PH02Gene15272.t1;PH02Gene15273.t1;PH02Gene15274.t1;PH02Gene15275.t1;PH02Gene15276.t1;PH02Gene15277.t1;PH02Gene15278.t1;PH02Gene15279.t1;PH02Gene15280.t1;PH02Gene15281.t1;PH02Gene15282.t1;PH02Gene15283.t1;PH02Gene15284.t1;PH02Gene15285.t1;PH02Gene15286.t1;PH02Gene15287.t1;PH02Gene15288.t1;PH02Gene15289.t1;PH02Gene15290.t1;PH02Gene15291.t1;PH02Gene15292.t1;PH02Gene10416.t1;PH02Gene10415.t1;PH02Gene10414.t2;PH02Gene10413.t1;PH02Gene10412.t1;PH02Gene10411.t1;PH02Gene10410.t1;PH02Gene10409.t1;PH02Gene10408.t1;PH02Gene10407.t1;PH02Gene10406.t2;PH02Gene10405.t1;PH02Gene10404.t3;PH02Gene10403.t1;PH02Gene10402.t1;PH02Gene10401.t1;PH02Gene10400.t1;PH02Gene40880.t1;PH02Gene40881.t1;PH02Gene40882.t1;PH02Gene40883.t1;PH02Gene40884.t1;PH02Gene40885.t2;PH02Gene40886.t1;PH02Gene40887.t1;PH02Gene40888.t1;PH02Gene40889.t1;PH02Gene40890.t1;PH02Gene40891.t1;PH02Gene40892.t1;PH02Gene40893.t1;PH02Gene40894.t1;PH02Gene40895.t1;PH02Gene40896.t1;PH02Gene40897.t1;PH02Gene42410.t1;PH02Gene42409.t1;PH02Gene42408.t1;PH02Gene42407.t1;PH02Gene42406.t1;PH02Gene42405.t1;PH02Gene42404.t2;PH02Gene42403.t1;PH02Gene42402.t1;PH02Gene42401.t1;PH02Gene42400.t1;PH02Gene42399.t1;PH02Gene42398.t1;PH02Gene42397.t1;PH02Gene42396.t1;PH02Gene23052.t2;PH02Gene23051.t1;PH02Gene23050.t1;PH02Gene23049.t1;PH02Gene23048.t1;PH02Gene23047.t1;PH02Gene23046.t1;PH02Gene23045.t1;PH02Gene23044.t1;PH02Gene23043.t1;PH02Gene23042.t5;PH02Gene23041.t2;PH02Gene23040.t1;PH02Gene23039.t1;PH02Gene23038.t1;PH02Gene23037.t1;PH02Gene23036.t1;PH02Gene23035.t1;PH02Gene23034.t1;PH02Gene35044.t1;PH02Gene35043.t1;PH02Gene35042.t1;
... A17: 24 | B17: 49400001 | C17: 55200000 | D17: =LEN(E17)-LEN(SUBSTITUTE(E17,";","")) -> 228 | E17: PH02Gene41659.t1;PH02Gene41658.t1;PH02Gene41657.t2;PH02Gene08457.t1;PH02Gene08456.t1;PH02Gene08455.t1;PH02Gene08454.t1;PH02Gene08453.t1;PH02Gene08452.t1;PH02Gene08451.t1;PH02Gene08450.t1;PH02Gene08449.t1;PH02Gene08448.t1;PH02Gene08447.t1;PH02Gene08446.t1;PH02Gene08445.t1;PH02Gene08444.t1;PH02Gene08443.t1;PH02Gene08442.t1;PH02Gene08441.t1;PH02Gene08440.t1;PH02Gene08439.t1;PH02Gene08438.t1;PH02Gene08437.t1;PH02Gene08436.t1;PH02Gene22623.t2;PH02Gene22622.t1;PH02Gene22621.t2;PH02Gene22620.t1;PH02Gene22619.t1;PH02Gene22618.t1;PH02Gene22617.t2;PH02Gene22616.t1;PH02Gene22615.t1;PH02Gene22614.t1;PH02Gene22613.t1;PH02Gene22612.t1;PH02Gene22611.t1;PH02Gene22610.t1;PH02Gene22609.t1;PH02Gene22608.t1;PH02Gene22607.t1;PH02Gene22606.t1;PH02Gene22605.t1;PH02Gene22604.t1;PH02Gene22603.t1;PH02Gene22602.t1;PH02Gene22601.t1;PH02Gene22600.t1;PH02Gene22599.t1;PH02Gene22598.t1;PH02Gene22597.t1;PH02Gene22596.t1;PH02Gene22595.t1;PH02Gene22594.t1;PH02Gene22593.t1;PH02Gene22592.t1;PH02Gene22591.t1;PH02Gene22590.t1;PH02Gene02102.t1;PH02Gene02101.t1;PH02Gene02100.t1;PH02Gene02099.t1;PH02Gene02098.t1;PH02Gene02097.t1;PH02Gene02096.t1;PH02Gene02095.t1;PH02Gene02094.t1;PH02Gene02093.t1;PH02Gene02092.t1;PH02Gene02091.t1;PH02Gene02090.t1;PH02Gene02089.t2;PH02Gene02088.t1;PH02Gene02087.t1;PH02Gene02086.t1;PH02Gene02085.t1;PH02Gene02084.t1;PH02Gene02083.t1;PH02Gene02082.t1;PH02Gene02081.t1;PH02Gene02080.t1;PH02Gene02079.t1;PH02Gene02078.t1;PH02Gene02077.t1;PH02Gene02076.t1;PH02Gene02075.t1;PH02Gene02074.t1;PH02Gene02073.t1;PH02Gene02072.t1;PH02Gene02071.t1;PH02Gene02070.t1;PH02Gene02069.t1;PH02Gene02068.t1;PH02Gene02067.t1;PH02Gene02066.t1;PH02Gene02065.t1;PH02Gene02064.t1;PH02Gene02063.t1;PH02Gene02062.t1;PH02Gene02061.t1;PH02Gene02060.t1;PH02Gene02059.t1;PH02Gene02058.t1;PH02Gene02057.t1;PH02Gene02056.t1;PH02Gene02055.t1;PH02Gene02054.t1;PH02Gene02053.t1;PH02Gene02052.t1;PH02Gene02051.t1;PH02Gene02050.t1;PH02Gene02049.t1;PH02Gene02048.t1;PH02Gene02047.t1;PH02Gene02046.t1;PH02Gene02045.t1;PH02Gene02044.t1;PH02Gene02043.t1;PH02Gene02042.t1;PH02Gene02041.t1;PH02Gene02040.t1;PH02Gene02039.t1;PH02Gene02038.t1;PH02Gene02037.t1;PH02Gene02036.t1;PH02Gene02035.t1;PH02Gene02034.t1;PH02Gene02033.t1;PH02Gene02032.t1;PH02Gene02031.t1;PH02Gene02030.t1;PH02Gene02029.t1;PH02Gene02028.t1;PH02Gene02027.t1;PH02Gene02026.t2;PH02Gene02025.t1;PH02Gene02024.t1;PH02Gene02023.t1;PH02Gene02022.t1;PH02Gene02021.t1;PH02Gene02020.t1;PH02Gene02019.t1;PH02Gene02018.t1;PH02Gene02017.t1;PH02Gene02016.t1;PH02Gene02015.t1;PH02Gene02014.t1;PH02Gene02013.t1;PH02Gene02012.t2;PH02Gene02011.t1;PH02Gene02010.t1;PH02Gene02009.t1;PH02Gene02008.t1;PH02Gene02007.t1;PH02Gene02006.t1;PH02Gene02005.t1;PH02Gene02004.t1;PH02Gene02003.t1;PH02Gene02002.t1;PH02Gene02001.t1;PH02Gene02000.t1;PH02Gene01999.t1;PH02Gene01998.t1;PH02Gene01997.t1;PH02Gene01996.t1;PH02Gene01995.t1;PH02Gene01994.t1;PH02Gene01993.t1;PH02Gene01992.t1;PH02Gene01991.t1;PH02Gene01990.t1;PH02Gene01989.t1;PH02Gene01988.t1;PH02Gene01987.t1;PH02Gene01986.t1;PH02Gene01985.t1;PH02Gene01984.t1;PH02Gene01983.t1;PH02Gene01982.t1;PH02Gene01981.t1;PH02Gene01980.t1;PH02Gene01979.t1;PH02Gene01978.t1;PH02Gene01977.t1;PH02Gene01976.t1;PH02Gene01975.t1;PH02Gene01974.t1;PH02Gene01973.t1;PH02Gene01972.t1;PH02Gene01971.t1;PH02Gene01970.t1;PH02Gene01969.t1;PH02Gene01968.t2;PH02Gene01967.t1;PH02Gene01966.t1;PH02Gene49763.t1;PH02Gene49762.t1;PH02Gene20831.t1;PH02Gene20830.t1;PH02Gene20829.t1;PH02Gene20828.t1;PH02Gene20827.t1;PH02Gene20826.t1;PH02Gene20825.t1;PH02Gene20824.t1;PH02Gene20823.t1;PH02Gene20822.t1;PH02Gene20821.t1;PH02Gene20820.t1;PH02Gene20819.t1;PH02Gene20818.t1;PH02Gene20817.t1;PH02Gene20816.t1;PH02Gene20815.t1;PH02Gene20814.t1;PH02Gene20813.t1;PH02Gene20812.t1;PH02Gene20811.t1;PH02Gene20810.t1;PH02Gene20809.t1;PH02Gene20808.t1;PH02Gene20807.t1;PH02Gene20806.t1;PH02Gene20805.t1;PH02Gene20804.t1;PH02Gene20803.t1;PH02Gene20802.t1;

Sheet Supplementary Data 10
A1: Supplementary Data 10. GO enrichment analysis for the genes which overlap with long continuous heterozygous SNPs clustered regions of low frequency (low-LCHRs).
A2: GO ID | B2: GO Term | C2: GO Class | D2: x1† | E2: x2† | F2: n† | G2: N† | H2: p-value†† | I2: Corrected p-value†† | J2: Enrich direct | K2: GO level | L2: Gene ID
A3: GO:0010285 | B3: L,L-diaminopimelate aminotransferase activity | C3: MF | D3: 4 | E3: 5 | F3: 2454 | G3: 30511 | H3: 0.00019535589 | I3: 0.030808147 | J3: Over | K3: 6 | L3: PH02Gene00019.t1,PH02Gene37345.t1,PH02Gene39970.t1,PH02Gene44178.t1
A4: GO:0005996 | B4: monosaccharide metabolic process | C4: BP | D4: 14 | E4: 66 | F4: 2454 | G4: 30511 | H4: 0.00020591564 | I4: 0.030808147 | J4: Over | K4: 4 | L4: PH02Gene00053.t1,PH02Gene01289.t1,PH02Gene02286.t1,PH02Gene03713.t1,PH02Gene04971.t1,PH02Gene11326.t1,PH02Gene12960.t1,PH02Gene18103.t1,PH02Gene25695.t2,PH02Gene25702.t1,PH02Gene27125.t1,PH02Gene35891.t1,PH02Gene36618.t1,PH02Gene36619.t1
A5: GO:0140110 | B5: transcription regulator activity | C5: MF | D5: 112 | E5: 1002 | F5: 2454 | G5: 30511 | H5: 0.00026130142 | I5: 0.036103822 | J5: Over | K5: 2 | L5: PH02Gene00195.t2,PH02Gene01221.t1,PH02Gene01222.t1,PH02Gene01223.t1,PH02Gene01234.t1,PH02Gene01263.t2,PH02Gene01332.t1,PH02Gene01337.t1,PH02Gene01351.t1,PH02Gene01358.t1,PH02Gene01744.t1,PH02Gene01898.t1,PH02Gene01916.t1,PH02Gene01976.t1,PH02Gene01977.t1,PH02Gene01982.t1,PH02Gene01988.t1,PH02Gene01989.t1,PH02Gene02002.t1,PH02Gene02004.t1,PH02Gene02022.t1,PH02Gene02034.t1,PH02Gene02231.t1,PH02Gene02275.t1,PH02Gene03550.t1,PH02Gene03660.t1,PH02Gene03691.t1,PH02Gene03692.t1,PH02Gene03693.t1,PH02Gene03694.t1,PH02Gene03960.t1,PH02Gene04016.t1,PH02Gene04104.t1,PH02Gene04106.t1,PH02Gene04153.t1,PH02Gene04609.t1,PH02Gene04998.t1,PH02Gene05443.t1,PH02Gene05456.t2,PH02Gene05469.t1,PH02Gene05485.t1,PH02Gene05486.t1,PH02Gene05487.t1,PH02Gene05488.t1,PH02Gene06347.t2,PH02Gene06366.t2,PH02Gene07751.t1,PH02Gene07765.t1,PH02Gene07798.t1,PH02Gene07819.t1,PH02Gene07879.t1,PH02Gene07900.t1,PH02Gene09036.t1,PH02Gene10416.t1,PH02Gene11309.t1,PH02Gene11330.t1,PH02Gene11970.t1,PH02Gene11976.t1,PH02Gene11977.t1,PH02Gene13595.t1,PH02Gene15030.t1,PH02Gene15279.t1,PH02Gene15406.t1,PH02Gene15488.t1,PH02Gene15491.t1,PH02Gene15563.t1,PH02Gene15581.t1,PH02Gene15945.t1,PH02Gene18114.t1,PH02Gene18120.t1,PH02Gene18857.t1,PH02Gene18864.t1,PH02Gene19689.t1,PH02Gene20141.t1,PH02Gene20147.t1,PH02Gene21644.t1,PH02Gene21649.t1,PH02Gene22176.t1,PH02Gene22228.t3,PH02Gene22236.t1,PH02Gene22238.t1,PH02Gene22266.t1,PH02Gene22321.t1,PH02Gene22464.t1,PH02Gene22559.t1,PH02Gene22584.t1,PH02Gene23040.t1,PH02Gene23043.t1,PH02Gene23049.t1,PH02Gene23158.t1,PH02Gene25703.t1,PH02Gene26269.t1,PH02Gene26611.t1,PH02Gene27064.t1,PH02Gene27067.t1,PH02Gene27893.t1,PH02Gene29106.t1,PH02Gene29833.t1,PH02Gene29866.t1,PH02Gene31461.t1,PH02Gene33148.t1,PH02Gene33151.t1,PH02Gene36237.t1,PH02Gene37557.t1,PH02Gene37778.t3,PH02Gene38200.t1,PH02Gene40881.t1,PH02Gene40882.t1,PH02Gene40883.t1,PH02Gene40884.t1,PH02Gene45331.t1,PH02Gene50054.t1
A6: GO:0003700 | B6: DNA-binding transcription factor activity | C6: MF | D6: 109 | E6: 972 | F6: 2454 | G6: 30511 | H6: 0.00027843565 | I6: 0.036103822 | J6: Over | K6: 3 | L6: PH02Gene00195.t2,PH02Gene01221.t1,PH02Gene01222.t1,PH02Gene01223.t1,PH02Gene01234.t1,PH02Gene01332.t1,PH02Gene01337.t1,PH02Gene01351.t1,PH02Gene01358.t1,PH02Gene01744.t1,PH02Gene01898.t1,PH02Gene01916.t1,PH02Gene01976.t1,PH02Gene01977.t1,PH02Gene01982.t1,PH02Gene01988.t1,PH02Gene01989.t1,PH02Gene02002.t1,PH02Gene02004.t1,PH02Gene02022.t1,PH02Gene02034.t1,PH02Gene02231.t1,PH02Gene02275.t1,PH02Gene03550.t1,PH02Gene03660.t1,PH02Gene03691.t1,PH02Gene03692.t1,PH02Gene03693.t1,PH02Gene03694.t1,PH02Gene03960.t1,PH02Gene04016.t1,PH02Gene04104.t1,PH02Gene04106.t1,PH02Gene04153.t1,PH02Gene04609.t1,PH02Gene04998.t1,PH02Gene05443.t1,PH02Gene05456.t2,PH02Gene05469.t1,PH02Gene05485.t1,PH02Gene05486.t1,PH02Gene05487.t1,PH02Gene05488.t1,PH02Gene06347.t2,PH02Gene06366.t2,PH02Gene07751.t1,PH02Gene07765.t1,PH02Gene07798.t1,PH02Gene07819.t1,PH02Gene07879.t1,PH02Gene07900.t1,PH02Gene09036.t1,PH02Gene10416.t1,PH02Gene11330.t1,PH02Gene11970.t1,PH02Gene11976.t1,PH02Gene11977.t1,PH02Gene15030.t1,PH02Gene15279.t1,PH02Gene15406.t1,PH02Gene15488.t1,PH02Gene15491.t1,PH02Gene15563.t1,PH02Gene15581.t1,PH02Gene15945.t1,PH02Gene18114.t1,PH02Gene18120.t1,PH02Gene18857.t1,PH02Gene18864.t1,PH02Gene19689.t1,PH02Gene20141.t1,PH02Gene20147.t1,PH02Gene21644.t1,PH02Gene21649.t1,PH02Gene22176.t1,PH02Gene22228.t3,PH02Gene22236.t1,PH02Gene22238.t1,PH02Gene22266.t1,PH02Gene22321.t1,PH02Gene22464.t1,PH02Gene22559.t1,PH02Gene22584.t1,PH02Gene23040.t1,PH02Gene23043.t1,PH02Gene23049.t1,PH02Gene23158.t1,PH02Gene25703.t1,PH02Gene26269.t1,PH02Gene26611.t1,PH02Gene27064.t1,PH02Gene27067.t1,PH02Gene27893.t1,PH02Gene29106.t1,PH02Gene29833.t1,PH02Gene29866.t1,PH02Gene31461.t1,PH02Gene33148.t1,PH02Gene33151.t1,PH02Gene36237.t1,PH02Gene37557.t1,PH02Gene37778.t3,PH02Gene38200.t1,PH02Gene40881.t1,PH02Gene40882.t1,PH02Gene40883.t1,PH02Gene40884.t1,PH02Gene45331.t1,PH02Gene50054.t1
A7: GO:0042132 | B7: fructose 1,6-bisphosphate 1-phosphatase activity | C7: MF | D7: 5 | E7: 9 | F7: 2454 | G7: 30511 | H7: 0.00032057349 | I7: 0.038969714 | J7: Over | K7: 9 | L7: PH02Gene00223.t1,PH02Gene07696.t1,PH02Gene11392.t2,PH02Gene20137.t1,PH02Gene38194.t1
A8: GO:0019318 | B8: hexose metabolic process | C8: BP | D8: 12 | E8: 50 | F8: 2454 | G8: 30511 | H8: 0.0004826933 | I8: 0.052263511 | J8: Over | K8: 5 | L8: PH02Gene00053.t1,PH02Gene01289.t1,PH02Gene02286.t1,PH02Gene03713.t1,PH02Gene04971.t1,PH02Gene11326.t1,PH02Gene12960.t1,PH02Gene25695.t2,PH02Gene25702.t1,PH02Gene35891.t1,PH02Gene36618.t1,PH02Gene36619.t1
A9: GO:0008198 | B9: ferrous iron binding | C9: MF | D9: 3 | E9: 3 | F9: 2454 | G9: 30511 | H9: 0.00051971584 | I9: 0.052263511 | J9: Over | K9: 8 | L9: PH02Gene07855.t1,PH02Gene15062.t1,PH02Gene15064.t1
A10: GO:0044815 | B10: DNA packaging complex | C10: CC | D10: 21 | E10: 132 | F10: 2454 | G10: 30511 | H10: 0.0015246539 | I10: 0.14121199 | J10: Over | K10: 3 | L10: PH02Gene00150.t1,PH02Gene00151.t1,PH02Gene00152.t1,PH02Gene01936.t1,PH02Gene01949.t1,PH02Gene02009.t1,PH02Gene02331.t1,PH02Gene04976.t1,PH02Gene05000.t1,PH02Gene11994.t1,PH02Gene13613.t1,PH02Gene15385.t1,PH02Gene15459.t1,PH02Gene20135.t1,PH02Gene23815.t1,PH02Gene25386.t1,PH02Gene38016.t1,PH02Gene47035.t1,PH02Gene47037.t1,PH02Gene47040.t1,PH02Gene50356.t1
A11: GO:0050308 | B11: sugar-phosphatase activity | C11: MF | D11: 5 | E11: 12 | F11: 2454 | G11: 30511 | H11: 0.0016407389 | I11: 0.14505624 | J11: Over | K11: 8 | L11: PH02Gene00223.t1,PH02Gene07696.t1,PH02Gene11392.t2,PH02Gene20137.t1,PH02Gene38194.t1
A12: GO:0005507 | B12: copper ion binding | C12: MF | D12: 20 | E12: 125 | F12: 2454 | G12: 30511 | H12: 0.001851274 | I12: 0.15655339 | J12: Over | K12: 7 | L12: PH02Gene00031.t1,PH02Gene00184.t1,PH02Gene01925.t1,PH02Gene03656.t1,PH02Gene03721.t1,PH02Gene04032.t1,PH02Gene04995.t1,PH02Gene04996.t1,PH02Gene11402.t1,PH02Gene11439.t1,PH02Gene12938.t1,PH02Gene20641.t1,PH02Gene20642.t1,PH02Gene26247.t1,PH02Gene26249.t1,PH02Gene32621.t1,PH02Gene35719.t1,PH02Gene35720.t1,PH02Gene36238.t1,PH02Gene45333.t1
A13: GO:0000786 | B13: nucleosome | C13: CC | D13: 20 | E13: 127 | F13: 2454 | G13: 30511 | H13: 0.0023973512 | I13: 0.19428534 | J13: Over | K13: 4 | L13: PH02Gene00150.t1,PH02Gene00151.t1,PH02Gene00152.t1,PH02Gene01936.t1,PH02Gene01949.t1,PH02Gene02009.t1,PH02Gene02331.t1,PH02Gene04976.t1,PH02Gene05000.t1,PH02Gene11994.t1,PH02Gene15385.t1,PH02Gene15459.t1,PH02Gene20135.t1,PH02Gene23815.t1,PH02Gene25386.t1,PH02Gene38016.t1,PH02Gene47035.t1,PH02Gene47037.t1,PH02Gene47040.t1,PH02Gene50356.t1
A14: GO:0032993 | B14: protein-DNA complex | C14: CC | D14: 20 | E14: 129 | F14: 2454 | G14: 30511 | H14: 0.003073501 | I14: 0.22992152 | J14: Over | K14: 3 | L14: PH02Gene00150.t1,PH02Gene00151.t1,PH02Gene00152.t1,PH02Gene01936.t1,PH02Gene01949.t1,PH02Gene02009.t1,PH02Gene02331.t1,PH02Gene04976.t1,PH02Gene05000.t1,PH02Gene11994.t1,PH02Gene15385.t1,PH02Gene15459.t1,PH02Gene20135.t1,PH02Gene23815.t1,PH02Gene25386.t1,PH02Gene38016.t1,PH02Gene47035.t1,PH02Gene47037.t1,PH02Gene47040.t1,PH02Gene50356.t1
... A133: GO:0015020 | B133: glucuronosyltransferase activity | C133: MF | D133: 5 | E133: 25 | F133: 2454 | G133: 30511 | H133: 0.045961284 | I133: 0.55524657 | J133: Over | K133: 6 | L133: PH02Gene00093.t1,PH02Gene01387.t1,PH02Gene05479.t1,PH02Gene10406.t2,PH02Gene15591.t1
A134: †x1 and x2 are the observed number of genes-of-interest and reference genes in a given GO category, respectively. Whereas n is the total number of genes-of-interest, N is the total number of reference genes.
A135: †† the p-value was calculated by one-sided Fisher's exact test, and the corrected p-value was adjusted by Benjamini-Hochberg method.

Sheet Supplementary Data 11
A1: Supplementary Data 11. The potential regions and candidate genes under balancing selection for the moso bamboo population.
A2: Chr. | B2: Start | C2: End | D2: Number of SNPs above the significance of top 0.5% | E2: Genes
A3: 1 | B3: 16424736 | C3: 16469253 | D3: 735 | E3: PH02Gene45159.t1;PH02Gene45158.t1;
A4: 2 | B4: 3411538 | C4: 3429548 | D4: 284 | E4: --
A5: 2 | B5: 37957568 | C5: 37964004 | D5: 153 | E5: PH02Gene48242.t1;
A6: 2 | B6: 38315625 | C6: 38327084 | D6: 256 | E6: PH02Gene20737.t1;PH02Gene20736.t1;PH02Gene20735.t1;
A7: 2 | B7: 38677555 | C7: 38699182 | D7: 295 | E7: PH02Gene20726.t1;PH02Gene20725.t1;
A8: 2 | B8: 38874088 | C8: 38875015 | D8: 45 | E8: PH02Gene20722.t1;PH02Gene20721.t1;
A9: 2 | B9: 42926105 | C9: 42935931 | D9: 197 | E9: --
A10: 2 | B10: 43388957 | C10: 43403369 | D10: 279 | E10: --
A11: 3 | B11: 75564557 | C11: 75598768 | D11: 513 | E11: PH02Gene39686.t1;PH02Gene39685.t1;
A12: 3 | B12: 79848120 | C12: 79857433 | D12: 74 | E12: PH02Gene44111.t1;PH02Gene44112.t1;PH02Gene44113.t1;
A13: 5 | B13: 48611068 | C13: 48632959 | D13: 293 | E13: PH02Gene10392.t1;
A14: 5 | B14: 54800943 | C14: 54813171 | D14: 220 | E14: PH02Gene33959.t1;
... A85: 24 | B85: 17472789 | C85: 17488230 | D85: 306 | E85: PH02Gene12148.t2;

Sheet Supplementary Data 12
A1: Supplementary Data 12. GO enrichment analysis for the candidate genes under balancing selection.
A2: GO ID | B2: GO Term | C2: GO Class | D2: x1† | E2: x2† | F2: n† | G2: N† | H2: p-value†† | I2: Corrected p-value†† | J2: Enrich direct | K2: GO level | L2: Gene ID
A3: GO:0009228 | B3: thiamine biosynthetic process | C3: BP | D3: 2 | E3: 6 | F3: 75 | G3: 30511 | H3: 8.8861377e-05 | I3: 0.0081530313 | J3: Over | K3: 7 | L3: PH02Gene15696.t1,PH02Gene20109.t1
A4: GO:0006772 | B4: thiamine metabolic process | C4: BP | D4: 2 | E4: 6 | F4: 75 | G4: 30511 | H4: 8.8861377e-05 | I4: 0.0081530313 | J4: Over | K4: 6 | L4: PH02Gene15696.t1,PH02Gene20109.t1
A5: GO:0042723 | B5: thiamine-containing compound metabolic process | C5: BP | D5: 2 | E5: 6 | F5: 75 | G5: 30511 | H5: 8.8861377e-05 | I5: 0.0081530313 | J5: Over | K5: 5 | L5: PH02Gene15696.t1,PH02Gene20109.t1
A6: GO:0042724 | B6: thiamine-containing compound biosynthetic process | C6: BP | D6: 2 | E6: 6 | F6: 75 | G6: 30511 | H6: 8.8861377e-05 | I6: 0.0081530313 | J6: Over | K6: 6 | L6: PH02Gene15696.t1,PH02Gene20109.t1
A7: GO:0006767 | B7: water-soluble vitamin metabolic process | C7: BP | D7: 3 | E7: 49 | F7: 75 | G7: 30511 | H7: 0.00024230091 | I7: 0.011804217 | J7: Over | K7: 5 | L7: PH02Gene12877.t1,PH02Gene15696.t1,PH02Gene20109.t1
A8: GO:0042364 | B8: water-soluble vitamin biosynthetic process | C8: BP | D8: 3 | E8: 49 | F8: 75 | G8: 30511 | H8: 0.00024230091 | I8: 0.011804217 | J8: Over | K8: 6 | L8: PH02Gene12877.t1,PH02Gene15696.t1,PH02Gene20109.t1
A9: GO:0006766 | B9: vitamin metabolic process | C9: BP | D9: 3 | E9: 50 | F9: 75 | G9: 30511 | H9: 0.00025731263 | I9: 0.011804217 | J9: Over | K9: 4 | L9: PH02Gene12877.t1,PH02Gene15696.t1,PH02Gene20109.t1
A10: GO:0009110 | B10: vitamin biosynthetic process | C10: BP | D10: 3 | E10: 50 | F10: 75 | G10: 30511 | H10: 0.00025731263 | I10: 0.011804217 | J10: Over | K10: 5 | L10: PH02Gene12877.t1,PH02Gene15696.t1,PH02Gene20109.t1
A11: GO:0030247 | B11: polysaccharide binding | C11: MF | D11: 4 | E11: 223 | F11: 75 | G11: 30511 | H11: 0.0022503709 | I11: 0.090213366 | J11: Over | K11: 4 | L11: PH02Gene42881.t1,PH02Gene42882.t1,PH02Gene42883.t1,PH02Gene42884.t1
A12: GO:0004789 | B12: thiamine-phosphate diphosphorylase activity | C12: MF | D12: 1 | E12: 1 | F12: 75 | G12: 30511 | H12: 0.0024581299 | I12: 0.090213366 | J12: Over | K12: 5 | L12: PH02Gene20109.t1
A13: GO:0033218 | B13: amide binding | C13: MF | D13: 2 | E13: 36 | F13: 75 | G13: 30511 | H13: 0.0035582011 | I13: 0.11871453 | J13: Over | K13: 3 | L13: PH02Gene08313.t1,PH02Gene20735.t1
A14: GO:0072528 | B14: pyrimidine-containing compound biosynthetic process | C14: BP | D14: 2 | E14: 59 | F14: 75 | G14: 30511 | H14: 0.0093179576 | I14: 0.18744009 | J14: Over | K14: 6 | L14: PH02Gene15696.t1,PH02Gene20109.t1
... A46: GO:0016857 | B46: racemase and epimerase activity, acting on carbohydrates and derivatives | C46: MF | D46: 1 | E46: 20 | F46: 75 | G46: 30511 | H46: 0.048045912 | I46: 0.40074658 | J46: Over | K46: 5 | L46: PH02Gene15966.t1
A47: †x1 and x2 are the observed number of genes-of-interest and reference genes in a given GO category, respectively. Whereas n is the total number of genes-of-interest, N is the total number of reference genes.
A48: †† the p-value was calculated by one-sided Fisher's exact test, and the corrected p-value was adjusted by Benjamini-Hochberg method.

Sheet Supplementary Data 13
A1: Supplementary Data 13. The candidate genes under balancing selection involved in disease resistance or environmental adaptation.
A2: Gene ID | B2: Gene name | C2: Chr. | D2: Start | E2: End | F2: Reference
A3: PH02Gene45158.t1 | B3: Disease resistance protein RPM1 | C3: 1 | D3: 16460398 | E3: 16464851 | F3: Grant, M., Brown, I., Adams, S., Knight, M., Ainslie, A., & Mansfield, J. (2000). The RPM1 plant disease resistance gene facilitates a rapid and sustained increase in cytosolic calcium that is necessary for the oxidative burst and hypersensitive cell death. The Plant Journal, 23(4), 441-450.
A4: PH02Gene45159.t1 | B4: Ferulate 5-hydroxylase,F5H | C4: 1 | D4: 16424395 | E4: 16427086 | F4: Maruta, T., Noshi, M., Nakamura, M., Matsuda, S., Tamoi, M., Ishikawa, T., & Shigeoka, S. (2014). Ferulic acid 5-hydroxylase 1 is essential for expression of anthocyanin biosynthesis-associated genes and anthocyanin accumulation under photooxidative stress in Arabidopsis. Plant Science, 219, 61-68.
A5: PH02Gene20721.t1 | B5: Protein disulfide isomerase, PDI | C5: 2 | D5: 38876029 | E5: 38880385 | F5: Wang X, Chen J, Liu C, et al. (2019) Over-expression of a protein disulfide isomerase gene from Methanothermobacter thermautotrophicus, enhances heat stress tolerance in rice. Gene, 684: 124-130.
A6: PH02Gene39686.t1 | B6: Hsp70/Hsp90 organising protein,hop | C6: 3 | D6: 75554772 | E6: 75559759 | F6: Baindur-Hudson, S., Edkins, A. L., & Blatch, G. L. (2015). Hsp70/Hsp90 organising protein (hop): beyond interactions with chaperones and prion proteins. The Networking of Chaperones by Co-chaperones, 69-90.
A7: PH02Gene12976.t1 | B7: Early nodulin 93 ENOD93 protein | C7: 6 | D7: 8933038 | E7: 8934061 | F7: Kant, S., Bi, Y. M., & Rothstein, S. J. (2011). Understanding plant response to nitrogen limitation for the improvement of crop nitrogen use efficiency. Journal of experimental Botany, 62(4), 1499-1509.
A8: PH02Gene12975.t1 | B8: Early nodulin 93 ENOD93 protein | C8: 6 | D8: 8940418 | E8: 8943587 | F8: Kant, S., Bi, Y. M., & Rothstein, S. J. (2011). Understanding plant response to nitrogen limitation for the improvement of crop nitrogen use efficiency. Journal of experimental Botany, 62(4), 1499-1509.
A9: PH02Gene24181.t1 | B9: replication factor C, RFC1 | C9: 7 | D9: 42795251 | E9: 42806501 | F9: Takashi, Y., Kobayashi, Y., Tanaka, K., & Tamura, K. (2009). Arabidopsis replication protein A 70a is required for DNA damage response and telomere length homeostasis. Plant and cell physiology, 50(11), 1965-1976.
A10: PH02Gene09849.t1 | B10: UDP-glycosyltransferase, UGT | C10: 12 | D10: 4610557 | E10: 4612335 | F10: Dong, NQ., Sun, Y., Guo, T. et al. (2020) UDP-glucosyltransferase regulates grain size and abiotic stress tolerance associated with metabolic flux redirection in rice. Nat Commun 11, 2629.
A11: PH02Gene30327.t1 | B11: pentatricopeptide repeat-containing protein, PPR | C11: 13 | D11: 42215253 | E11: 42219612 | F11: Barkan, A., & Small, I. (2014). Pentatricopeptide repeat proteins in plants. Annual review of plant biology, 65, 415-442.
A12: PH02Gene33381.t1 | B12: alcohol dehydrogenase, ADH | C12: 13 | D12: 42690273 | E12: 42693256 | F12: Su, W., Ren, Y., Wang, D., Su, Y., Feng, J., Zhang, C., ... & Que, Y. (2020). The alcohol dehydrogenase gene family in sugarcane and its involvement in cold stress regulation. BMC genomics, 21(1), 1-17.
A13: PH02Gene41053.t1 | B13: calcium-dependent protein kinase, CDPK | C13: 13 | D13: 49217895 | E13: 49221550 | F13: Schulz, P., Herde, M., & Romeis, T. (2013). Calcium-dependent protein kinases: hubs in plant stress signaling and development. Plant physiology, 163(2), 523-530.
A14: PH02Gene25166.t1 | B14: dihydroflavonol-4-reductase, DFR | C14: 13 | D14: 52615624 | E14: 52616573 | F14: Wang, H., Fan, W., Li, H., Yang, J., Huang, J., & Zhang, P. (2013). Functional characterization of dihydroflavonol-4-reductase in anthocyanin biosynthesis of purple sweet potato underlies the direct evidence of anthocyanins function against abiotic stresses. PloS one, 8(11), e78484.
... A32: PH02Gene49477.t1 | B32: translation initiation factor 4G, eIF4G | C32: 24 | D32: 2064661 | E32: 2073723 | F32: Munoz, A., & Castellano, M. (2012). Regulation of translation initiation under abiotic stress conditions in plants: is it a conserved or not so conserved process among eukaryotes?. Comparative and functional genomics, 2012.

Sheet Supplementary Data 14
A1: Supplementary Data 14. The nine traits closely related to bamboo properties were measured.
A2: Sample ID | B2: Clear culm height (m) | C2: Nodes number | D2: Ground diameter (cm) | E2: Density | F2: Compressive strength | G2: Bending strength 12° | H2: Elastic modulus | I2: Maximum load | J2: Tensile modulus
A3: AJ-1 | B3: 4.95 | C3: 20 | D3: 11.6 | E3: 0.8259 | F3: 147.62 | G3: 121.35 | H3: 6995.67 | I3: 17813.67 | J3: 17753.58
A4: AJ-13 | B4: 5.59 | C4: 22 | D4: 12.5 | E4: 0.7475 | F4: 92.2 | G4: 116.73 | H4: 3757.47 | I4: 15115.12 | J4: 20795.71
A5: AJ-14 | B5: 5.11 | C5: 19 | D5: 11.1 | E5: 0.8141 | F5: 111.92 | G5: 138.39 | H5: 4916.1 | I5: 17566.15 | J5: 21058.71
A6: AJ-15 | B6: 3.67 | C6: 17 | D6: 9.2 | E6: 0.803 | F6: NA | G6: 139.12 | H6: NA | I6: NA | J6: 18571.41
A7: AJ-16 | B7: 5.56 | C7: 25 | D7: 10.66 | E7: 0.7095 | F7: 84.7 | G7: 86.2 | H7: 4013.82 | I7: 13344.08 | J7: 18791
A8: AJ-17 | B8: 4.87 | C8: 17 | D8: 10.5 | E8: 0.7631 | F8: 106.14 | G8: 121.44 | H8: 4121.87 | I8: 16919.37 | J8: 19459.17
A9: AJ-20 | B9: 4.3 | C9: 22 | D9: 9.9 | E9: NA | F9: NA | G9: NA | H9: NA | I9: NA | J9: NA
A10: AJ-22 | B10: 4.18 | C10: 18 | D10: 9.7 | E10: 0.7178 | F10: 96.13 | G10: 115.99 | H10: 4693.03 | I10: 15600.77 | J10: 19209.65
A11: AJ-23 | B11: 4.98 | C11: 22 | D11: 10.3 | E11: 0.7524 | F11: 98.38 | G11: 110.62 | H11: 4473.18 | I11: 16168.83 | J11: 17869.77
A12: AJ-25 | B12: 5.31 | C12: 22 | D12: 10.5 | E12: 0.6143 | F12: 76.13 | G12: 91.81 | H12: 4598.05 | I12: 10416.4 | J12: 12522.99
A13: AJ-28 | B13: 4.42 | C13: 22 | D13: 10.8 | E13: 0.6174 | F13: 86.52 | G13: 87.31 | H13: 4649.46 | I13: 12149.74 | J13: 17177.71
A14: AJ-29 | B14: NA | C14: NA | D14: NA | E14: NA | F14: NA | G14: NA | H14: NA | I14: NA | J14: 16703.085
A15: AJ-4 | B15: 5.82 | C15: 22 | D15: 11.12 | E15: 0.8155 | F15: 99.67 | G15: 115.98 | H15: 5016.79 | I15: 14108.11 | J15: 21015.44
A16: AJ-9 | B16: 6.16 | C16: 20 | D16: 11.9 | E16: 0.7105 | F16: 114.45 | G16: 114.22 | H16: 4462.25 | I16: 18784.17 | J16: 19792.21
A17: CS-26 | B17: NA | C17: NA | D17: NA | E17: 0.7120621 | F17: 96.644 | G17: 140.47143 | H17: 3442.485 | I17: 18844.741 | J17: 17657.72
A18: CY-10 | B18: 4.48 | C18: 23 | D18: 9.8 | E18: 0.6827 | F18: 88.67 | G18: 115.03 | H18: 4570.97 | I18: 16075.96 | J18: 17749.58
A19: CY-12 | B19: 4.46 | C19: 23 | D19: 10.4 | E19: 0.81895831 | F19: 114.13767 | G19: 133.484 | H19: 2254.975 | I19: 21851.802 | J19: 18653.809
A20: CY-14 | B20: 4.48 | C20: 23 | D20: 12.2 | E20: NA | F20: NA | G20: NA | H20: NA | I20: NA | J20: NA
A21: CY-16 | B21: 4.22 | C21: 22 | D21: 11.1 | E21: 0.8073 | F21: 107.97 | G21: 123.28 | H21: 4806.17 | I21: 20467.3 | J21: 20876.06
A22: CY-18 | B22: 4.95 | C22: 21 | D22: 10.35 | E22: 0.7643 | F22: 96.15 | G22: 128.84 | H22: 4313.46 | I22: 16865.41 | J22: 20872.95
A23: CY-20 | B23: 7.74 | C23: 28 | D23: 11 | E23: 0.7822 | F23: 104.02 | G23: 124.62 | H23: 3921.91 | I23: 18964 | J23: 19390.87
A24: CY-21 | B24: 7.6 | C24: 26 | D24: 11.8 | E24: NA | F24: NA | G24: NA | H24: NA | I24: NA | J24: NA
A25: CY-24 | B25: 6.1 | C25: 25 | D25: 10.6 | E25: 0.8232 | F25: 110.61 | G25: 134.4 | H25: 2583.32 | I25: 24024.87 | J25: 19943.88
A26: CY-26 | B26: 5.72 | C26: 25 | D26: 11.5 | E26: 0.6881 | F26: 90.98 | G26: 107.61 | H26: 4681.54 | I26: 15370.17 | J26: 18484.3
A27: CY-27 | B27: 4.4 | C27: 19 | D27: 11 | E27: NA | F27: NA | G27: NA | H27: NA | I27: NA | J27: NA
A28: CY-28 | B28: 4.65 | C28: 26 | D28: 10.8 | E28: 0.82101763 | F28: 111.6945 | G28: 130.81 | H28: 2174.0575 | I28: 22501.712 | J28: 19173.088
A29: CY-3 | B29: 5.9 | C29: 26 | D29: 12.9 | E29: 0.7877 | F29: 108.04 | G29: 132.86 | H29: 2764.18 | I29: 24498.86 | J29: 21159.44
A30: CY-30 | B30: 4.1 | C30: 21 | D30: 10.7 | E30: 0.679 | F30: 91.23 | G30: 109.9 | H30: 3359.65 | I30: 17777.27 | J30: 16623
A31: CY-5 | B31: 5.3 | C31: 24 | D31: 12.7 | E31: 0.7604 | F31: 109.1 | G31: 121.7 | H31: 2977.5 | I31: 18846.2 | J31: 19115.06
A32: DA-1 | B32: 5.1 | C32: 21 | D32: NA | E32: 0.6515 | F32: 83.48 | G32: 105.45 | H32: 4023.04 | I32: 12337.76 | J32: 19764.02
A33: DA-13 | B33: 6.3 | C33: 27 | D33: 12.2 | E33: 0.7722 | F33: 113.59 | G33: 135.31 | H33: 3785.48 | I33: 25970.13 | J33: 20954.58
A34: DA-14 | B34: 5.12 | C34: 22 | D34: 10.9 | E34: 0.6355 | F34: 75.79 | G34: 91.81 | H34: 2729.8 | I34: 14084.02 | J34: 20801.58
A35: DA-15 | B35: 7.9 | C35: 29 | D35: 12 | E35: 0.8135 | F35: 117 | G35: 144.29 | H35: 4393.76 | I35: 20591.85 | J35: 15067.28
A36: DA-16 | B36: 6.51 | C36: 25 | D36: 11.4 | E36: 0.5767 | F36: 78 | G36: 78.09 | H36: 3118.85 | I36: 13244.09 | J36: 14468.05
A37: DA-2 | B37: 5.81 | C37: 24 | D37: 11.95 | E37: 0.724 | F37: 95.9 | G37: 124.53 | H37: 4039.02 | I37: 14969.79 | J37: 19941.84
A38: DA-20 | B38: 6.56 | C38: 25 | D38: 11.3 | E38: 0.7947 | F38: 113.83 | G38: 102.42 | H38: 2124.2 | I38: 25495.71 | J38: 24345.64
A39: DA-21 | B39: 5.2 | C39: 24 | D39: 11.8 | E39: 0.7898 | F39: 115.2 | G39: 124.51 | H39: 3928.07 | I39: 22983.24 | J39: 19905.62
A40: DA-25 | B40: 6.1 | C40: 23 | D40: 12.5 | E40: 0.8089 | F40: 115.6 | G40: 132.49 | H40: 4749.01 | I40: 21690.11 | J40: 21058.4
A41: DA-26 | B41: 6.92 | C41: 26 | D41: 11.25 | E41: 0.7896 | F41: 109.47 | G41: 125.87 | H41: 4542.69 | I41: 21681.47 | J41: 19847.46
A42: DA-27 | B42: 6.4 | C42: 22 | D42: 12 | E42: 0.7837 | F42: 107.95 | G42: 127.26 | H42: 4755.76 | I42: 22368.43 | J42: 23205.8
A43: DA-28 | B43: 6.7 | C43: 29 | D43: 12.5 | E43: 0.7734 | F43: 105.99 | G43: 129.18 | H43: 2981.27 | I43: 19792.72 | J43: 22309.83
A44: DA-29 | B44: 7.08 | C44: 22 | D44: 10.8 | E44: 0.7717 | F44: 113.03 | G44: 125.47 | H44: 3449.22 | I44: 20087.14 | J44: 20368.14
... A65: HZP-1 | B65: 5.9 | C65: 22 | D65: 10.1 | E65: 0.66375843 | F65: 97.758333 | G65: 121.118 | H65: 4548.452 | I65: 18389.104 | J65: 19677.368
A66: HZP-17 | B66: 5.71 | C66: 19 | D66: NA | E66: 0.6226 | F66: 78.46 | G66: 117.98 | H66: 4243.82 | I66: 12593.68 | J66: NA
A67: HZP-19 | B67: 4.9 | C67: 19 | D67: NA | E67: 0.6596 | F67: 94.92 | G67: 124.3 | H67: 5001.58 | I67: 16631.85 | J67: 21186.63
A68: HZP-25 | B68: 3.55 | C68: 17 | D68: NA | E68: 0.6555 | F68: 90.39 | G68: 121.4 | H68: 3931.71 | I68: 18258.99 | J68: 19035.82
A69: JZ-12 | B69: 4.1 | C69: 18 | D69: 12.6 | E69: 0.8088 | F69: 108.07 | G69: 118.89 | H69: 3799.64 | I69: 18563.56 | J69: 19334.12
A70: JZ-14 | B70: 6.26 | C70: 22 | D70: 12.6 | E70: 0.7733 | F70: 110.5 | G70: 123.06 | H70: 2433.6 | I70: 21147.93 | J70: 20323.77
A71: JZ-16 | B71: 5 | C71: 22 | D71: 12.9 | E71: 0.6754 | F71: 83.64 | G71: 88.93 | H71: 3261.54 | I71: 14627.21 | J71: 19738.46
A72: JZ-2 | B72: 6.12 | C72: 21 | D72: 13.8 | E72: 0.8046 | F72: 113.62 | G72: 133.56 | H72: 3360.98 | I72: 20379.09 | J72: 27918.68
A73: JZ-22 | B73: 7.35 | C73: 25 | D73: 12.7 | E73: 0.7999 | F73: 117.46 | G73: 122.96 | H73: 2860.53 | I73: 19882.48 | J73: 23836.96
A74: JZ-23 | B74: 7.7 | C74: 26 | D74: 14.2 | E74: 0.7541 | F74: 112.2 | G74: 113.85 | H74: 4831.57 | I74: 19055.96 | J74: 25667.38
A75: JZ-24 | B75: 8.7 | C75: 28 | D75: 15.25 | E75: 0.7679 | F75: 106.19 | G75: 107.81 | H75: 2402.63 | I75: 23110.89 | J75: 21308.31
A76: JZ-25 | B76: 4.83 | C76: 19 | D76: 14.02 | E76: 0.7519 | F76: 104.34 | G76: 100.74 | H76: 3555.11 | I76: 19782.84 | J76: 22240.87
A77: JZ-28 | B77: 5.2 | C77: 23 | D77: 13.9 | E77: 0.7465 | F77: 103.39 | G77: 116.85 | H77: 4807.33 | I77: 17455.46 | J77: 24579.09
A78: JZ-29 | B78: 5.92 | C78: 23 | D78: 14.8 | E78: NA | F78: NA | G78: NA | H78: NA | I78: NA | J78: NA
A79: JZ-30 | B79: 7.49 | C79: 26 | D79: 12.1 | E79: 0.7961 | F79: 107.86 | G79: 133.87 | H79: 4748.8 | I79: 16259.31 | J79: 21969.1
A80: JZ-4 | B80: 4.77 | C80: 19 | D80: 11.8 | E80: 0.8035 | F80: 106.48 | G80: 133.66 | H80: 4622.96 | I80: 18598.4 | J80: 22428.65
A81: JZ-5 | B81: 4.42 | C81: 20 | D81: 14.2 | E81: 0.8018 | F81: 113.71 | G81: 115.36 | H81: 2328.7 | I81: 25863.84 | J81: 21868.89
A82: JZ-8 | B82: 6.84 | C82: 25 | D82: 13.25 | E82: NA | F82: NA | G82: NA | H82: NA | I82: NA | J82: NA
A83: LY-10 | B83: 5.94 | C83: 23 | D83: 12.35 | E83: 0.8421 | F83: 120.54 | G83: 129.48 | H83: 2631.68 | I83: 24691.92 | J83: 21408.33
A84: LY-14 | B84: 3.11 | C84: 19 | D84: 10.7 | E84: 0.7926 | F84: 118.54 | G84: 122.41 | H84: 2720.89 | I84: 24683.71 | J84: 20783.72
A85: LY-15 | B85: 3.25 | C85: 20 | D85: 11.4 | E85: 0.8055 | F85: 116.25 | G85: 119.62 | H85: 2213.96 | I85: 23517.48 | J85: 19799.96
A86: LY-16 | B86: 3.66 | C86: 23 | D86: 13.1 | E86: 0.7813 | F86: 114.34 | G86: 126.99 | H86: 2485.13 | I86: 22235.23 | J86: 20489.61
A87: LY-18 | B87: 5.85 | C87: 26 | D87: 12.8 | E87: 0.7526 | F87: 99.75 | G87: 133.96 | H87: 4029.4 | I87: 19804.1 | J87: 20377.05
A88: LY-20 | B88: 6.03 | C88: 22 | D88: 10.6 | E88: NA | F88: NA | G88: NA | H88: NA | I88: NA | J88: NA
A89: LY-21 | B89: 5.8 | C89: 26 | D89: 13.2 | E89: 0.7531 | F89: 99.62 | G89: 115.09 | H89: 3224.1 | I89: 19536.89 | J89: 19469.89
A90: LY-23 | B90: 4.68 | C90: 20 | D90: 10.8 | E90: 0.7693 | F90: 102.95 | G90: 120.16 | H90: 4460.15 | I90: 16602.29 | J90: 20135.62
A91: LY-25 | B91: 5.5 | C91: 24 | D91: 13.6 | E91: 0.68503758 | F91: 98.007 | G91: 108.424 | H91: 2074.414 | I91: 19670.811 | J91: 17483.264
A92: LY-29 | B92: 5.46 | C92: 28 | D92: 12.7 | E92: 0.8016 | F92: 102.05 | G92: 122.82 | H92: 3943.77 | I92: 18680.53 | J92: 20205.89
A93: LY-4 | B93: 5.35 | C93: 24 | D93: 13.35 | E93: 0.7787 | F93: 110.91 | G93: 117.69 | H93: 2739.84 | I93: 22754.06 | J93: 18684.41
A94: LY-6 | B94: 4.96 | C94: 25 | D94: 13.05 | E94: NA | F94: NA | G94: NA | H94: NA | I94: NA | J94: 19944.95
A95: LY-7 | B95: 4.45 | C95: 23 | D95: 12.7 | E95: 0.7175 | F95: 92.37 | G95: 115.95 | H95: 2981.14 | I95: 15779.28 | J95: 16949.21
A96: LY-8 | B96: 6.16 | C96: 26 | D96: 11.3 | E96: 0.7661 | F96: 115.09 | G96: 123.81 | H96: 3522.73 | I96: 24167.9 | J96: 21179.15
A97: LY-9 | B97: 6.34 | C97: 25 | D97: 13.3 | E97: 0.7972 | F97: NA | G97: 134.94 | H97: NA | I97: NA | J97: 23119.14
A98: RH-1 | B98: 8 | C98: 27 | D98: NA | E98: 0.7595 | F98: 93.85 | G98: 112.97 | H98: 3096.34 | I98: 17757.64 | J98: 15850.76
A99: RH-11 | B99: 7.13 | C99: 26 | D99: NA | E99: 0.6915 | F99: 91.55 | G99: 91.91 | H99: 3635.57 | I99: 15328.12 | J99: 26739.05
A100: RH-12 | B100: 38 | C100: 20 | D100: 10.55 | E100: 0.7725 | F100: 104.75 | G100: 120.86 | H100: 2441.74 | I100: 18054.41 | J100: NA
A101: RH-13 | B101: 4.9 | C101: 22 | D101: NA | E101: 0.7157 | F101: 91.46 | G101: 107.08 | H101: 2397.3 | I101: 17577.17 | J101: 25378.57
A102: RH-16 | B102: 5.12 | C102: 24 | D102: 11.3 | E102: 0.8059 | F102: 102.25 | G102: 132.92 | H102: 4266.53 | I102: 16519.08 | J102: NA
A103: RH-19 | B103: 6.5 | C103: 24 | D103: NA | E103: 0.7842 | F103: 108.02 | G103: 111.97 | H103: 4795.83 | I103: 18939.25 | J103: 23015.62
A104: RH-2 | B104: 5.3 | C104: 24 | D104: 10.55 | E104: 0.7901 | F104: 108.38 | G104: 131.12 | H104: 4006.47 | I104: 18738.72 | J104: 22605.18
A105: RH-21 | B105: 6.4 | C105: 28 | D105: NA | E105: 0.7137 | F105: 97.31 | G105: 109.3 | H105: 4352.2 | I105: 14124.48 | J105: 26332.26
A106: RH-27 | B106: 6.1 | C106: 24 | D106: NA | E106: 0.7377 | F106: 96.78 | G106: 118.77 | H106: 4587.91 | I106: 15225.97 | J106: 21243.44
A107: RH-29 | B107: 8 | C107: 31 | D107: NA | E107: NA | F107: NA | G107: NA | H107: NA | I107: NA | J107: NA
A108: RH-30 | B108: 5.7 | C108: 26 | D108: 11.85 | E108: 0.7242 | F108: 106.1 | G108: 117.09 | H108: 4794.55 | I108: 16601.6 | J108: 23954.55
A109: RH-4 | B109: 6 | C109: 24 | D109: 11.25 | E109: NA | F109: NA | G109: NA | H109: NA | I109: NA | J109: NA
A110: RH-5 | B110: 8 | C110: 29 | D110: NA | E110: 0.7824 | F110: 109.22 | G110: 122.85 | H110: 2530.29 | I110: 21288.24 | J110: 20240.29
A111: RH-6 | B111: 8.2 | C111: 28 | D111: 11.2 | E111: 0.7663 | F111: 100.92 | G111: 131.89 | H111: 4617.76 | I111: 18187.98 | J111: 19632.64
A112: RH-7 | B112: 8.7 | C112: 28 | D112: NA | E112: 0.781 | F112: 101.61 | G112: 123.92 | H112: 4102.86 | I112: 18044.68 | J112: 19699.44
A113: RH-8 | B113: 7.63 | C113: 24 | D113: 10.4 | E113: NA | F113: NA | G113: NA | H113: NA | I113: NA | J113: NA
A114: RH-9 | B114: 5 | C114: 29 | D114: NA | E114: 0.8052 | F114: 106.28 | G114: 118.75 | H114: 5214.9 | I114: 15789.58 | J114: 22720.2
A115: WYS-10 | B115: 5.22 | C115: 23 | D115: 12.8 | E115: 0.7837 | F115: 109.27 | G115: 128.4 | H115: 2741.93 | I115: 23961.36 | J115: 18566.56
A116: WYS-12 | B116: 6.96 | C116: 24 | D116: 14.2 | E116: 0.7892 | F116: 105.81 | G116: 137.5 | H116: 3722.67 | I116: 23863.63 | J116: 17266.27
A117: WYS-14 | B117: 7.3 | C117: 28 | D117: 12.1 | E117: 0.6792 | F117: 93.07 | G117: 109.12 | H117: 3909.19 | I117: 17286.7 | J117: 19727.38
A118: WYS-17 | B118: 5.24 | C118: 25 | D118: 11.8 | E118: 0.7561 | F118: 99.79 | G118: 118.48 | H118: 3758.63 | I118: 19187.7 | J118: 22935.94
A119: WYS-18 | B119: 5.55 | C119: 23 | D119: 13.7 | E119: 0.7523 | F119: 107.27 | G119: 134.88 | H119: 4620.01 | I119: 24550.04 | J119: 21253.79
A120: WYS-20 | B120: 6.7 | C120: 25 | D120: 13.1 | E120: 0.6921 | F120: 79.86 | G120: 105.98 | H120: 3112.74 | I120: 20263.92 | J120: 26088.38
...

Sheet Supplementary Data 15
A1: Supplementary Data 15. The twelve environmental factors collected on fifteen moso bamboo areas.
A2: Production areas | B2: Abbreviation of production areas | C2: Latitude | D2: Longitude | E2: Altitude (m) | F2: Soil type | G2: Annual mean precipitation (mm) | H2: Annual mean temperature (°C) | I2: N (g·kg-1) | J2: P (g·kg-1) | K2: K (g·kg-1) | L2: Mg (g·kg-1) | M2: B (mg·kg-1) | N2: Zn (mg·kg-1)
A3: Anji, Zhejiang | B3: AJ | C3: 30.511111 | D3: 119.6325 | E3: 161 | F3: Red earths | G3: 1423 | H3: 17 | I3: 1.08 | J3: 0.37 | K3: 14.24 | L3: 6.12 | M3: 134 | N3: 65.01
A4: Chishui, Guizhou | B4: CS | C4: 28.470833 | D4: 105.99472 | E4: 567 | F4: Yellow earths | G4: 1196 | H4: 15.6 | I4: 0.91 | J4: 0.52 | K4: 15.22 | L4: 13.6 | M4: 52.8 | N4: 46.03
A5: Chongyi, Jiangxi | B5: CY | C5: 25.643889 | D5: 114.31083 | E5: 752 | F5: Red earths | G5: 1615 | H5: 17.8 | I5: 0.61 | J5: 0.5 | K5: 24.54 | L5: 8.88 | M5: 128.67 | N5: 60.17
A6: Dong'an, Hunan | B6: DA | C6: 26.403333 | D6: 111.03972 | E6: 452 | F6: Red earths | G6: 1600 | H6: 16.8 | I6: 1.17 | J6: 0.67 | K6: 39.13 | L6: 4.46 | M6: 124.3 | N6: 73.39
A7: Huangshan, Anhui | B7: HS | C7: 30.355278 | D7: 118.03694 | E7: 491 | F7: Yellow earths | G7: 1569 | H7: 15.3 | I7: 1.83 | J7: 0.48 | K7: 17.66 | L7: 8.06 | M7: 19.5 | N7: 93.61
A8: Haiziping, Yunnan | B8: HZP | C8: 27.888056 | D8: 104.71444 | E8: 1100 | F8: Purplish soils | G8: 1250 | H8: 19 | I8: 0.91 | J8: 0.52 | K8: 15.22 | L8: 13.6 | M8: 52.8 | N8: 46.03
A9: Jinzhai, Anhui | B9: JZ | C9: 31.435278 | D9: 115.97056 | E9: 216 | F9: Yellow-brown earths | G9: 1420 | H9: 15.9 | I9: 1.53 | J9: 1.06 | K9: 21.47 | L9: 16.52 | M9: 9.58 | N9: 113.69
A10: Longyou, Zhejiang | B10: LY | C10: 28.889722 | D10: 119.20639 | E10: 249 | F10: Red earths | G10: 1603 | H10: 17.1 | I10: 1.35 | J10: 0.66 | K10: 18.07 | L10: 5.91 | M10: 15.59 | N10: 255.47
A11: Renhua, Guangdong | B11: RH | C11: 25.314722 | D11: 113.99917 | E11: 664 | F11: Red earths | G11: 1640 | H11: 19.6 | I11: 1.08 | J11: 0.5 | K11: 43.52 | L11: 4.48 | M11: 58.4 | N11: 136.79
A12: Wuyishan, Fujian | B12: WYS | C12: 27.707222 | D12: 117.84639 | E12: 754 | F12: Red earths | G12: 1927 | H12: 18.3 | I12: 2.38 | J12: 0.86 | K12: 23.2 | L12: 8.16 | M12: 16.7 | N12: 102.84
A13: Xing'an, Guangxi | B13: XA | C13: 25.618889 | D13: 110.675 | E13: 460 | F13: Red earths | G13: 1893 | H13: 18 | I13: 1.44 | J13: 1.09 | K13: 29.49 | L13: 11.35 | M13: 48.57 | N13: 59.7
A14: Xianning, Hubei | B14: XN | C14: 29.815556 | D14: 114.31583 | E14: 250 | F14: Yellow-brown earths | G14: 1588 | H14: 17.2 | I14: 1.56 | J14: 0.71 | K14: 14.77 | L14: 5.9 | M14: 103.33 | N14: 82.4
... A17: Yixing, Jiangsu | B17: YX | C17: 31.252222 | D17: 119.72833 | E17: 34 | F17: Yellow-brown earths | G17: 1294 | H17: 15.7 | I17: 1.08 | J17: 0.35 | K17: 14.27 | L17: 6.45 | M17: 84.33 | N17: 63.3

Sheet Supplementary Data 16
A1: Supplementary Data 16. The potentially associated regions and candidate genes for the trait of bending strength 12°.
A2: Chr. | B2: Start | C2: End | D2: Number of evidences† | E2: Overlapped gene ID | F2: Nr annotation | G2: KEGG ortholog annotation | H2: Interpro annotation | I2: GO annotation
A3: 1 | B3: 14312175 | C3: 14312176 | D3: Intersection_of_top_500_SNPs | E3: NA | F3: NA | G3: NA | H3: NA | I3: NA
A4: 1 | B4: 21932123 | C4: 21932124 | D4: Intersection_of_top_500_SNPs | E4: NA | F4: NA | G4: NA | H4: NA | I4: NA
A5: 1 | B5: 24848902 | C5: 24848903 | D5: Intersection_of_top_500_SNPs | E5: NA | F5: NA | G5: NA | H5: NA | I5: NA
A6: 10 | B6: 2639852 | C6: 2639934 | D6: Intersection_of_top_500_SNPs | E6: NA | F6: NA | G6: NA | H6: NA | I6: NA
A7: 10 | B7: 6561458 | C7: 6561459 | D7: Intersection_of_top_500_SNPs | E7: NA | F7: NA | G7: NA | H7: NA | I7: NA
A8: 10 | B8: 6799132 | C8: 6799133 | D8: Intersection_of_top_500_SNPs | E8: PH02Gene20386.t1 | F8: gi|222637420|gb|EEE67552.1|/2.04081e-19/hypothetical protein OsJ_25048 [Oryza sativa Japonica Group] | G8: NA | H8: PTHR33333/3.0E-29/-- | I8: NA
A9: 10 | B9: 15735542 | C9: 15735564 | D9: Intersection_of_top_500_SNPs | E9: PH02Gene39695.t1 | F9: gi|218199735|gb|EEC82162.1|/2.48526e-67/hypothetical protein OsI_26233 [Oryza sativa Indica Group] | G9: mtr:MTR_0002s0120/5e-17/LRR and NB-ARC domain disease resistance protein; K19613 leucine-rich repeat protein SHOC2 | H9: PTHR23155:SF572/1.9E-78/-- | I9: NA
A10: 10 | B10: 16257478 | C10: 16257479 | D10: Intersection_of_top_500_SNPs | E10: PH02Gene12748.t1 | F10: gi|514734116|ref|XP_004957842.1|/1.45896e-134/PREDICTED: uncharacterized protein LOC101784384 [Setaria italica] &gt;gi|944261728|gb|KQL25985.1| hypothetical protein SETIT_029792mg [Setaria italica] | G10: NA | H10: PF02213/1.1E-9/GYF domain | I10: NA
A11: 10 | B11: 21305053 | C11: 21305054 | D11: Intersection_of_top_500_SNPs | E11: PH02Gene49861.t1 | F11: gi|125559884|gb|EAZ05332.1|/2.16391e-35/hypothetical protein OsI_27537 [Oryza sativa Indica Group] | G11: NA | H11: NA | I11: molecular_function:GO:0004857//enzyme inhibitor activity;
A12: 10 | B12: 25443841 | C12: 25443863 | D12: Intersection_of_top_500_SNPs | E12: NA | F12: NA | G12: NA | H12: NA | I12: NA
A13: 10 | B13: 51340152 | C13: 51340153 | D13: Intersection_of_top_500_SNPs | E13: NA | F13: NA | G13: NA | H13: NA | I13: NA
