Workbook

Sheet Contents
A1: Supplementary Data (12 tables in total)
A3: 1 Results
A4: 1.1 Harmonized corporate carbon footprints
A5: 2 Calculations
A6: 2.1 Activity exclusion
A7: 2.2 Boundary incompleteness
A8: 2.3 Reporting inconsistency
A9: 2.4 Carbon intensities
A10: 3 Input data
A11: 3.1 Emissions data
A12: 3.2 Emissions predictors
A13: 3.3 Minimum boundaries (scope 3 categories)
... A18: 4.3 CDP data_scope 3_2019

Sheet Remarks
A1: General Remarks
A3: Abbreviations
A4: CR | B4: Corporate report
A5: CDP | B5: Carbon Disclosure Project
A6: ITSS | B6: IT Software & Services
A7: THE | B7: Technology Hardware & Technology
A8: MWh | B8: Megawatt hour
A9: USD | B9: US dollars
A10: g CO2e | B10: gram CO2 equivalent
A11: t CO2e | B11: tons CO2 equivalent
A12: Mt CO2e | B12: megatons CO2 equivalent
A15: Definitions
A16: Scope 1 emissions | B16: Direct emissions from a company’s own activities
A17: Scope 2 emissions | B17: Emissions from the production of purchased energy
A18: Scope 3 emissions | B18: Emissions from up- and downstream activities along the value chain
A19: Reporting inconsistency | B19: Lower level of emission reported in CR than in the CDP response
A20: Boundary incompleteness | B20: Minimum boundaries set by the GHG Protocol are not met
A21: Activity exclusion | B21: Relevant scope 3 categories are entirely excluded
A24: General color code
B25: authors' calculation
B26: raw data
B27: values that appear in the main text
A28: light grey text | B28: only relevant to build diagrams and graphs

Sheet 1.1 Harmomized CCF
C3: Harmonized corporate carbon footprints | H3: GRI | I3: =IF('4.1 Corporate reports '!C69="In Accordance - Comprehensive",3,IF('4.1 Corporate reports '!C69="In Accordance - Core",2,IF('4.1 Corporate reports '!C69="Referenced",1,0))) -> 0 | J3: =IF('4.1 Corporate reports '!D69="In Accordance - Comprehensive",3,IF('4.1 Corporate reports '!D69="In Accordance - Core",2,IF('4.1 Corporate reports '!D69="Referenced",1,0))) -> 0 | K3: =IF('4.1 Corporate reports '!E69="In Accordance - Comprehensive",3,IF('4.1 Corporate reports '!E69="In Accordance - Core",2,IF('4.1 Corporate reports '!E69="Referenced",1,0))) -> 0 | L3: =IF('4.1 Corporate reports '!F69="In Accordance - Comprehensive",3,IF('4.1 Corporate reports '!F69="In Accordance - Core",2,IF('4.1 Corporate reports '!F69="Referenced",1,0))) -> 2 | M3: =IF('4.1 Corporate reports '!G69="In Accordance - Comprehensive",3,IF('4.1 Corporate reports '!G69="In Accordance - Core",2,IF('4.1 Corporate reports '!G69="Referenced",1,0))) -> 2 | N3: =IF('4.1 Corporate reports '!H69="In Accordance - Comprehensive",3,IF('4.1 Corporate reports '!H69="In Accordance - Core",2,IF('4.1 Corporate reports '!H69="Referenced",1,0))) -> 1 | O3: =IF('4.1 Corporate reports '!I69="In Accordance - Comprehensive",3,IF('4.1 Corporate reports '!I69="In Accordance - Core",2,IF('4.1 Corporate reports '!I69="Referenced",1,0))) -> 2 | P3: =IF('4.1 Corporate reports '!J69="In Accordance - Comprehensive",3,IF('4.1 Corporate reports '!J69="In Accordance - Core",2,IF('4.1 Corporate reports '!J69="Referenced",1,0))) -> 1 | ... BL3: =IF('4.1 Corporate reports '!BF69="In Accordance - Comprehensive",3,IF('4.1 Corporate reports '!BF69="In Accordance - Core",2,IF('4.1 Corporate reports '!BF69="Referenced",1,0))) -> 2
H4: SASB | I4: =IF('4.1 Corporate reports '!C70="x",1,0) -> 0 | J4: =IF('4.1 Corporate reports '!D70="x",1,0) -> 0 | K4: =IF('4.1 Corporate reports '!E70="x",1,0) -> 0 | L4: =IF('4.1 Corporate reports '!F70="x",1,0) -> 0 | M4: =IF('4.1 Corporate reports '!G70="x",1,0) -> 0 | N4: =IF('4.1 Corporate reports '!H70="x",1,0) -> 0 | O4: =IF('4.1 Corporate reports '!I70="x",1,0) -> 0 | P4: =IF('4.1 Corporate reports '!J70="x",1,0) -> 1 | ... BL4: =IF('4.1 Corporate reports '!BF70="x",1,0) -> 0
H5: IR | I5: =IF('4.1 Corporate reports '!C71="x",1,0) -> 0 | J5: =IF('4.1 Corporate reports '!D71="x",1,0) -> 0 | K5: =IF('4.1 Corporate reports '!E71="x",1,0) -> 0 | L5: =IF('4.1 Corporate reports '!F71="x",1,0) -> 0 | M5: =IF('4.1 Corporate reports '!G71="x",1,0) -> 1 | N5: =IF('4.1 Corporate reports '!H71="x",1,0) -> 0 | O5: =IF('4.1 Corporate reports '!I71="x",1,0) -> 0 | P5: =IF('4.1 Corporate reports '!J71="x",1,0) -> 0 | ... BL5: =IF('4.1 Corporate reports '!BF71="x",1,0) -> 0
I6: IT software & services (ITSS) companies | AE6: Technology Hardware & Equipment (THE) companies
F7: IT software & services (ITSS) | G7: Technology Hardware & Equipment (THE) | H7: All | I7: Microsoft | J7: Alphabet | K7: IBM | L7: Oracle | M7: SAP | N7: Accenture | O7: Tata Consultancy Services | P7: Salesforce.com | Q7: Adobe | R7: VMware | S7: Infosys | T7: Capgemini | U7: ATOS | V7: Intuit | W7: Wipro | X7: HCL Technologies | Y7: Synopsys | Z7: Tech Mahindra | AA7: ServiceNow | AB7: Autodesk | AC7: Shopify | AD7: Nomura Research Institute | AE7: Apple | AF7: Samsung Electronics | AG7: Cisco Systems | AH7: Hon Hai Precision | AI7: HP | AJ7: Dell Technologies | AK7: Hewlett Packard Enterprise | AL7: TE Connectivity | AM7: Fujitsu | AN7: Murata Manufacturing | AO7: Corning | AP7: Western Digital | AQ7: BOE Technology Group | AR7: Nokia | AS7: Kyocera | AT7: Lenovo Group | AU7: Ericsson | AV7: Amphenol | AW7: Seagate Technology | AX7: TDK | AY7: Samsung SDI | AZ7: NEC | BA7: NetApp | BB7: Hoya | BC7: Pegatron | BD7: Delta Electronics | BE7: OMRON | BF7: Flex | BG7: Compal Electronics | BH7: Jabil Circuit | BI7: Wistron | BJ7: Olympus | BK7: Arista Networks | BL7: Keysight Technologies
B9: Industry level | C9: Scope 1 emissions | E9: t CO2e | F9: =SUM(I9:AD9) -> 599571.82 | G9: =SUM(AE9:BL9) -> 14121269 | H9: =G9+F9 -> 14720841 | I9: ='3.1 Emission data'!E11 -> 90723 | J9: ='3.1 Emission data'!F11 -> 63521 | K9: ='3.1 Emission data'!G11 -> 124633 | L9: ='3.1 Emission data'!H11 -> 17084 | M9: ='3.1 Emission data'!I11 -> 144163 | N9: ='3.1 Emission data'!J11 -> 22183 | O9: ='3.1 Emission data'!K11 -> 27375 | P9: ='3.1 Emission data'!L11 -> 4701 | ... BL9: ='3.1 Emission data'!BH11 -> 7446.3
C10: Scope 2 emissions | E10: t CO2e | F10: =SUM(I10:AD10) -> 3966221.8 | G10: =SUM(AE10:BL10) -> 38885964 | H10: =G10+F10 -> 42852186 | I10: ='3.1 Emission data'!E12 -> 183329 | J10: ='3.1 Emission data'!F12 -> 684236 | K10: ='3.1 Emission data'!G12 -> 963304 | L10: ='3.1 Emission data'!H12 -> 362448 | M10: ='3.1 Emission data'!I12 -> 82538 | N10: ='3.1 Emission data'!J12 -> 218855 | O10: ='3.1 Emission data'!K12 -> 409991 | P10: ='3.1 Emission data'!L12 -> 157967 | ... BL10: ='3.1 Emission data'!BH12 -> 67089.3
C11: Scope 3 emissions from CR | E11: t CO2e | F11: =SUM(I11:AD11) -> 35442241 | G11: =SUM(AE11:BL11) -> 2.6742598e+08 | H11: =G11+F11 -> 3.0286822e+08 | I11: ='3.1 Emission data'!E17 -> 17334520 | J11: ='3.1 Emission data'!F17 -> 14279467 | K11: ='3.1 Emission data'!G17 -> 329409 | L11: ='3.1 Emission data'!H17 -> 0 | M11: ='3.1 Emission data'!I17 -> 507299 | N11: ='3.1 Emission data'!J17 -> 948756 | O11: ='3.1 Emission data'!K17 -> 0 | P11: ='3.1 Emission data'!L17 -> 155000 | ... BL11: ='3.1 Emission data'!BH17 -> 0
C12: Initial carbon footprint | E12: t CO2e | F12: =SUM(F9:F11) -> 40008035 | G12: =SUM(G9:G11) -> 3.2043321e+08 | H12: =G12+F12 -> 3.6044124e+08 | I12: =SUM(I9:I11) -> 17608572 | J12: =SUM(J9:J11) -> 15027224 | K12: =SUM(K9:K11) -> 1417346 | L12: =SUM(L9:L11) -> 379532 | M12: =SUM(M9:M11) -> 734000 | N12: =SUM(N9:N11) -> 1189794 | O12: =SUM(O9:O11) -> 437366 | P12: =SUM(P9:P11) -> 317668 | ... BL12: =SUM(BL9:BL11) -> 74535.6
C13: Omitted scope 3 emissions | E13: t CO2e | F13: =SUM(F14:F16) -> 39543593 | G13: =SUM(G14:G16) -> 3.5166781e+08 | H13: =G13+F13 -> 3.912114e+08 | I13: =I14+I15+I16 -> 760557.64 | J13: =J14+J15+J16 -> 292458.19 | K13: =K14+K15+K16 -> 7209306 | L13: =L14+L15+L16 -> 3480992.3 | M13: =M14+M15+M16 -> 12844959 | N13: =N14+N15+N16 -> 2036637.6 | O13: =O14+O15+O16 -> 2060444.2 | P13: =P14+P15+P16 -> 771306 | ... BL13: =BL14+BL15+BL16 -> 1669444.8
C14: Reporting inconsistency | E14: t CO2e | F14: =SUM(I14:AD14) -> 23897828 | G14: =SUM(AE14:BL14) -> 99821443 | H14: =G14+F14 -> 1.2371927e+08 | I14: ='2.3 Reporting inconsistency'!E10 -> 500000 | J14: ='2.3 Reporting inconsistency'!F10 -> 0 | K14: ='2.3 Reporting inconsistency'!G10 -> 1017293 | L14: ='2.3 Reporting inconsistency'!H10 -> 1766048 | M14: ='2.3 Reporting inconsistency'!I10 -> 12844959 | N14: ='2.3 Reporting inconsistency'!J10 -> 0 | O14: ='2.3 Reporting inconsistency'!K10 -> 708758 | P14: ='2.3 Reporting inconsistency'!L10 -> 771306 | ... BL14: ='2.3 Reporting inconsistency'!BH10 -> 56519.4
C15: Boundary incompleteness | E15: t CO2e | F15: =SUM(I15:AD15) -> 7792772 | G15: =SUM(AE15:BL15) -> 75305865 | H15: =G15+F15 -> 83098637 | I15: ='2.2 Boundary incompleteness'!E36 -> 240712.49 | J15: ='2.2 Boundary incompleteness'!F36 -> 0 | K15: ='2.2 Boundary incompleteness'!G36 -> 5415684.4 | L15: ='2.2 Boundary incompleteness'!H36 -> 96517.075 | M15: ='2.2 Boundary incompleteness'!I36 -> 0 | N15: ='2.2 Boundary incompleteness'!J36 -> 854621.28 | O15: ='2.2 Boundary incompleteness'!K36 -> 505784.33 | P15: ='2.2 Boundary incompleteness'!L36 -> 0 | ... BL15: ='2.2 Boundary incompleteness'!BH36 -> 0
C16: Activity exclusion | E16: t CO2e | F16: =SUM(I16:AD16) -> 7852993.7 | G16: =SUM(AE16:BL16) -> 1.765405e+08 | H16: =G16+F16 -> 1.843935e+08 | I16: ='2.1 Activity exclusion'!E36 -> 19845.158 | J16: ='2.1 Activity exclusion'!F36 -> 292458.19 | K16: ='2.1 Activity exclusion'!G36 -> 776328.62 | L16: ='2.1 Activity exclusion'!H36 -> 1618427.3 | M16: ='2.1 Activity exclusion'!I36 -> 0 | N16: ='2.1 Activity exclusion'!J36 -> 1182016.3 | O16: ='2.1 Activity exclusion'!K36 -> 845901.86 | P16: ='2.1 Activity exclusion'!L36 -> 0 | ... BL16: ='2.1 Activity exclusion'!BH36 -> 1612925.4
C17: Total scope 3 emissions | E17: t CO2e | F17: =F13+F11 -> 74985835 | G17: =G13+G11 -> 6.1909379e+08 | H17: =G17+F17 -> 6.9407962e+08 | I17: =SUM(I13+I11) -> 18095078 | J17: =SUM(J13+J11) -> 14571925 | K17: =SUM(K13+K11) -> 7538715 | L17: =SUM(L13+L11) -> 3480992.3 | M17: =SUM(M13+M11) -> 13352258 | N17: =SUM(N13+N11) -> 2985393.6 | O17: =SUM(O13+O11) -> 2060444.2 | P17: =SUM(P13+P11) -> 926306 | ... BL17: =SUM(BL13+BL11) -> 1669444.8
C18: Harmonized carbon footprint | E18: t CO2e | F18: =F17+F9+F10 -> 79551628 | G18: =G17+G9+G10 -> 6.7210102e+08 | H18: =G18+F18 -> 7.5165265e+08 | I18: =I17+I9+I10 -> 18369130 | J18: =J17+J9+J10 -> 15319682 | K18: =K17+K9+K10 -> 8626652 | L18: =L17+L9+L10 -> 3860524.3 | M18: =M17+M9+M10 -> 13578959 | N18: =N17+N9+N10 -> 3226431.6 | O18: =O17+O9+O10 -> 2497810.2 | P18: =P17+P9+P10 -> 1088974 | ... BL18: =BL17+BL9+BL10 -> 1743980.4
C20: Total increase from combined effect | F20: =(F18/SUM(F9:F11))-1 -> 0.98839129 | G20: =(G18/SUM(G9:G11))-1 -> 1.0974762 | H20: =(H18/SUM(H9:H11))-1 -> 1.085368
C21: Total increase due to reporting inconsistency | F21: =((F12+F14)/SUM(F9:F11))-1 -> 0.59732571 | G21: =G14/G12 -> 0.31152028 | H21: =H14/H12 -> 0.34324393
C22: Total increase due to boundary incompleteness | F22: =((F12+F15)/SUM(F9:F11))-1 -> 0.19478017 | G22: =G15/G12 -> 0.23501267 | H22: =H15/H12 -> 0.23054697
C23: Total increase due to acitivity exclusion | F23: =((F12+F16)/SUM(F9:F11))-1 -> 0.19628541 | G23: =G16/G$12 -> 0.55094321 | H23: =H16/H$12 -> 0.51157713
C25: Harmonized carbon footprint / Revenues | E25: g CO2e / USD | F25: =F18/SUM('3.2 Emission predictors'!E12:Z12)*POWER(10,6) -> 136.98691 | G25: =G18/SUM('3.2 Emission predictors'!AA12:BH12)*POWER(10,6) -> 488.5707 | H25: -
C26: Initial carbon footprint / Revenues | E26: g CO2e / USD | F26: =F12/SUM('3.2 Emission predictors'!E12:Z12)*POWER(10,6) -> 68.893338 | G26: =G12/SUM('3.2 Emission predictors'!AA12:BH12)*POWER(10,6) -> 232.93266 | H26: -
B28: Company level
C29: Median increase from combined effect | F29: =MEDIAN(I29:AD29) -> 2.5438951 | G29: =MEDIAN(AE29:BL29) -> 3.3335944 | H29: =MEDIAN(I29:BL29) -> 2.8829014 | I29: =(I18/SUM(I9:I11))-1 -> 0.043192466 | J29: =(J18/SUM(J9:J11))-1 -> 0.01946189 | K29: =(K18/SUM(K9:K11))-1 -> 5.0864828 | L29: =(L18/SUM(L9:L11))-1 -> 9.171802 | M29: =(M18/SUM(M9:M11))-1 -> 17.499944 | N29: =(N18/SUM(N9:N11))-1 -> 1.7117565 | O29: =(O18/SUM(O9:O11))-1 -> 4.7110296 | P29: =(P18/SUM(P9:P11))-1 -> 2.4280255 | ... BL29: =(BL18/SUM(BL9:BL11))-1 -> 22.397953
C30: Median increase due to reporting inconsistency among affected companies | F30: {=MEDIAN(IF(I30:AD30>0,I30:AD30))} -> 1.935203 | G30: {=MEDIAN(IF(AE30:BL30>0,AE30:BL30))} -> 0.75828732 | H30: {=MEDIAN(IF(I30:BL30>0,I30:BL30))} -> 1.7778588 | I30: =I14/I12 -> 0.028395261 | J30: =J14/J12 -> 0 | K30: =K14/K12 -> 0.717745 | L30: =L14/L12 -> 4.6532256 | M30: =M14/M12 -> 17.499944 | N30: =N14/N12 -> 0 | O30: =O14/O12 -> 1.6205146 | P30: =P14/P12 -> 2.4280255 | ... BL30: =BL14/BL12 -> 0.75828732
C31: Median increase due to boundary incompleteness among affected companies | F31: {=MEDIAN(IF(I31:AD31>0,I31:AD31))} -> 0.82864735 | G31: {=MEDIAN(IF(AE31:BL31>0,AE31:BL31))} -> 0.21178121 | H31: {=MEDIAN(IF(I31:BL31>0,I31:BL31))} -> 0.51942146 | I31: =I15/I12 -> 0.013670188 | J31: =J15/J12 -> 0 | K31: =K15/K12 -> 3.8210037 | L31: =L15/L12 -> 0.2543055 | M31: =M15/M12 -> 0 | N31: =N15/N12 -> 0.71829348 | O31: =O15/O12 -> 1.1564327 | P31: =P15/P12 -> 0 | ... AD31: =AD15/AD12 -> 0.93900122 | AE31: =AE15/AE$12 -> 0 | AF31: =AF15/AF12 -> 1.0469052 | AG31: =AG15/AG12 -> 25.048598 | AH31: =AH15/AH12 -> 0 | AI31: =AI15/AI12 -> 0.00045600841 | AJ31: =AJ15/AJ12 -> 0.80938174 | AK31: =AK15/AK12 -> 0 | AL31: =AL15/AL12 -> 0 | AM31: =AM15/AM12 -> 0.029793649 | ... BL31: =BL15/BL12 -> 0
C32: Median increase due to acitivity exclusion among affected comapnies | F32: {=MEDIAN(IF(I32:AD32>0,I32:AD32))} -> 1.1705417 | G32: {=MEDIAN(IF(AE32:BL32>0,AE32:BL32))} -> 0.31682922 | H32: {=MEDIAN(IF(I32:BL32>0,I32:BL32))} -> 0.91566465 | I32: =I16/I$12 -> 0.0011270169 | J32: =J16/J$12 -> 0.01946189 | K32: =K16/K$12 -> 0.54773402 | L32: =L16/L$12 -> 4.2642709 | M32: =M16/M$12 -> 0 | N32: =N16/N$12 -> 0.99346299 | O32: =O16/O$12 -> 1.9340824 | P32: =P16/P$12 -> 0 | ... BL32: =BL16/BL$12 -> 21.639665
C34: Median increase from combined effect (GRI - accordance) | F34: {=MEDIAN(IF($I$3:$AD$3>1,I29:AD29))} -> 6.9414158 | G34: {=MEDIAN(IF($AE$3:$BL$3>1,AE29:BL29))} -> 2.6631863 | H34: {=MEDIAN(IF($I$3:$BL$3>1,I29:BL29))} -> 4.1360902
C35: Median increase from combined effect (Non-GRI or GRI referenced) | F35: {=MEDIAN(IF($I$3:$AD$3<2,I29:AD29))} -> 2.069891 | G35: {=MEDIAN(IF($AE$3:$BL$3<2,AE29:BL29))} -> 3.9050736 | H35: {=MEDIAN(IF($I$3:$BL$3<2,I29:BL29))} -> 2.5438951
C36: Median increase from combined effect (SASB) | F36: {=MEDIAN(IF($I$4:$AD$4=1,I29:AD29))} -> 3.2976323 | G36: {=MEDIAN(IF($AE$4:$BL$4=1,AE29:BL29))} -> 4.8012891 | H36: {=MEDIAN(IF($I$4:$BL$4=1,I29:BL29))} -> 3.2976323
C37: Median increase from combined effect (Non-SASB) | F37: {=MEDIAN(IF($I$4:$AD$4=0,I29:AD29))} -> 2.5398839 | G37: {=MEDIAN(IF($AE$4:$BL$4=0,AE29:BL29))} -> 3.3335944 | H37: {=MEDIAN(IF($I$4:$BL$4=1,I29:BL29))} -> 3.2976323
C38: Median increase from combined effect (IR) | F38: {=MEDIAN(IF($I$5:$AD$5=1,I29:AD29))} -> 2.0543582 | G38: {=MEDIAN(IF($AE$5:$BL$5=1,AE29:BL29))} -> 3.9050736 | H38: {=MEDIAN(IF($I$5:$BL$5=1,I29:BL29))} -> 2.7630206
C39: Median increase from combined effect (Non-IR) | F39: {=MEDIAN(IF($I$5:$AD$5=0,I29:AD29))} -> 3.3658524 | G39: {=MEDIAN(IF($AE$5:$BL$5=0,AE29:BL29))} -> 2.8441233 | H39: {=MEDIAN(IF($I$5:$BL$5=0,I29:BL29))} -> 3.1104577
C41: Share of companies affected by all three error types | F41: =COUNTIFS(I30:AD30,">0",I31:AD31,">0",I32:AD32,">0")/COUNT(I29:AD29) -> 0.31818182 | G41: =COUNTIFS(AE30:BL30,">0",AE31:BL31,">0",AE32:BL32,">0")/COUNT(AE29:BL29) -> 0.20588235 | H41: =COUNTIFS(I30:BL30,">0",I31:BL31,">0",I32:BL32,">0")/COUNT(I29:BL29) -> 0.25
C42: Share of companies affected by two error types | F42: =(COUNTIFS(I30:AD30,">0",I31:AD31,">0",I32:AD32,"=0")+COUNTIFS(I30:AD30,"=0",I31:AD31,">0",I32:AD32,">0")+COUNTIFS(I30:AD30,">0",I31:AD31,"=0",I32:AD32,">0"))/COUNT(I29:AD29) -> 0.31818182 | G42: =(COUNTIFS(AE30:BL30,">0",AE31:BL31,">0",AE32:BL32,"=0")+COUNTIFS(AE30:BL30,"=0",AE31:BL31,">0",AE32:BL32,">0")+COUNTIFS(AE30:BL30,">0",AE31:BL31,"=0",AE32:BL32,">0"))/COUNT(AE29:BL29) -> 0.41176471 | H42: =(COUNTIFS(I30:BL30,">0",I31:BL31,">0",I32:BL32,"=0")+COUNTIFS(I30:BL30,"=0",I31:BL31,">0",I32:BL32,">0")+COUNTIFS(I30:BL30,">0",I31:BL31,"=0",I32:BL32,">0"))/COUNT(I29:BL29) -> 0.375
C43: Share of companies affected by one error type | F43: =(COUNTIFS(I30:AD30,">0",I31:AD31,"=0",I32:AD32,"=0")+COUNTIFS(I30:AD30,"=0",I31:AD31,">0",I32:AD32,"=0")+COUNTIFS(I30:AD30,"=0",I31:AD31,"=0",I32:AD32,">0"))/COUNT(I29:AD29) -> 0.36363636 | G43: =(COUNTIFS(AE30:BL30,">0",AE31:BL31,"=0",AE32:BL32,"=0")+COUNTIFS(AE30:BL30,"=0",AE31:BL31,">0",AE32:BL32,"=0")+COUNTIFS(AE30:BL30,"=0",AE31:BL31,"=0",AE32:BL32,">0"))/COUNT(AE29:BL29) -> 0.35294118 | H43: =(COUNTIFS(I30:BL30,">0",I31:BL31,"=0",I32:BL32,"=0")+COUNTIFS(I30:BL30,"=0",I31:BL31,">0",I32:BL32,"=0")+COUNTIFS(I30:BL30,"=0",I31:BL31,"=0",I32:BL32,">0"))/COUNT(I29:BL29) -> 0.35714286
C45: Harmonized carbon intensity | E45: g CO2e / USD | F45: =AVERAGE(I45:AD45) -> 125.78375 | G45: =AVERAGE(AE45:BK45) -> 704.976 | I45: ='2.1 Activity exclusion'!E33/'3.2 Emission predictors'!E12*POWER(10,6) -> 155.40719 | J45: ='2.1 Activity exclusion'!F33/'3.2 Emission predictors'!F12*POWER(10,6) -> 111.8225 | K45: ='2.1 Activity exclusion'!G33/'3.2 Emission predictors'!G12*POWER(10,6) -> 109.61438 | L45: ='2.1 Activity exclusion'!H33/'3.2 Emission predictors'!H12*POWER(10,6) -> 97.487989 | M45: ='2.1 Activity exclusion'!I33/'3.2 Emission predictors'!I12*POWER(10,6) -> 466.63089 | N45: ='2.1 Activity exclusion'!J33/'3.2 Emission predictors'!J12*POWER(10,6) -> 75.916037 | O45: ='2.1 Activity exclusion'!K33/'3.2 Emission predictors'!K12*POWER(10,6) -> 119.51245 | P45: ='2.1 Activity exclusion'!L33/'3.2 Emission predictors'!L12*POWER(10,6) -> 81.877744 | ... BL45: ='2.1 Activity exclusion'!BH33/'3.2 Emission predictors'!BH12*POWER(10,6) -> 449.71131
C46: Carbon intensity (scope 3 from CDP - after correctin RI) | E46: g CO2e / USD | F46: =AVERAGE(I46:AD46) -> 85.053595 | G46: =AVERAGE(AE46:BK46) -> 491.66794 | I46: ='2.4 Carbon intensities'!E76 -> 153.20281 | J46: ='2.4 Carbon intensities'!F76 -> 109.68777 | K46: ='2.4 Carbon intensities'!G76 -> 30.935693 | L46: ='2.4 Carbon intensities'!H76 -> 54.181313 | M46: ='2.4 Carbon intensities'!I76 -> 466.63089 | N46: ='2.4 Carbon intensities'!J76 -> 27.995153 | O46: ='2.4 Carbon intensities'!K76 -> 54.838469 | P46: ='2.4 Carbon intensities'!L76 -> 81.877744 | ... BL46: ='2.4 Carbon intensities'!BH76 -> 33.794482
C47: Initial carbon intensity | E47: g CO2e / USD | F47: =AVERAGE(I47:AD47) -> 35.607256 | G47: =AVERAGE(AE47:BK47) -> 356.04586 | I47: ='2.4 Carbon intensities'!E77 -> 148.97269 | J47: ='2.4 Carbon intensities'!F77 -> 109.68777 | K47: ='2.4 Carbon intensities'!G77 -> 18.009479 | L47: ='2.4 Carbon intensities'!H77 -> 9.5841414 | M47: ='2.4 Carbon intensities'!I77 -> 25.223368 | N47: ='2.4 Carbon intensities'!J77 -> 27.995153 | O47: ='2.4 Carbon intensities'!K77 -> 20.926603 | P47: ='2.4 Carbon intensities'!L77 -> 23.884812 | ... BL47: ='2.4 Carbon intensities'!BH77 -> 19.220113
I52: =INDEX($I$7:$AD$7,MATCH(LARGE($I$18:$AE$18,COLUMN(B18)),$I$18:$AE$18,0)) -> Microsoft | J52: =INDEX($I$7:$AD$7,MATCH(LARGE($I$18:$AE$18,COLUMN(C18)),$I$18:$AE$18,0)) -> Alphabet | K52: =INDEX($I$7:$AD$7,MATCH(LARGE($I$18:$AE$18,COLUMN(D18)),$I$18:$AE$18,0)) -> SAP | L52: =INDEX($I$7:$AD$7,MATCH(LARGE($I$18:$AE$18,COLUMN(E18)),$I$18:$AE$18,0)) -> IBM | M52: =INDEX($I$7:$AD$7,MATCH(LARGE($I$18:$AE$18,COLUMN(F18)),$I$18:$AE$18,0)) -> ATOS | N52: =INDEX($I$7:$AD$7,MATCH(LARGE($I$18:$AE$18,COLUMN(G18)),$I$18:$AE$18,0)) -> Oracle | O52: =INDEX($I$7:$AD$7,MATCH(LARGE($I$18:$AE$18,COLUMN(H18)),$I$18:$AE$18,0)) -> Accenture | P52: =INDEX($I$7:$AD$7,MATCH(LARGE($I$18:$AE$18,COLUMN(I18)),$I$18:$AE$18,0)) -> Tata Consultancy Services | ... AD52: =INDEX($I$7:$AD$7,MATCH(LARGE($I$18:$AE$18,COLUMN(W18)),$I$18:$AE$18,0)) -> Intuit | AE52: =INDEX($AE$7:$BL$7,MATCH(LARGE($AE$18:$BL$18,COLUMN(A18)),$AE$18:$BL$18,0)) -> Samsung Electronics | AF52: =INDEX($AE$7:$BL$7,MATCH(LARGE($AE$18:$BL$18,COLUMN(B18)),$AE$18:$BL$18,0)) -> Hon Hai Precision | AG52: =INDEX($AE$7:$BL$7,MATCH(LARGE($AE$18:$BL$18,COLUMN(C18)),$AE$18:$BL$18,0)) -> HP | AH52: =INDEX($AE$7:$BL$7,MATCH(LARGE($AE$18:$BL$18,COLUMN(D18)),$AE$18:$BL$18,0)) -> Cisco Systems | AI52: =INDEX($AE$7:$BL$7,MATCH(LARGE($AE$18:$BL$18,COLUMN(E18)),$AE$18:$BL$18,0)) -> Nokia | AJ52: =INDEX($AE$7:$BL$7,MATCH(LARGE($AE$18:$BL$18,COLUMN(F18)),$AE$18:$BL$18,0)) -> Ericsson | AK52: =INDEX($AE$7:$BL$7,MATCH(LARGE($AE$18:$BL$18,COLUMN(G18)),$AE$18:$BL$18,0)) -> Dell Technologies | AL52: =INDEX($AE$7:$BL$7,MATCH(LARGE($AE$18:$BL$18,COLUMN(H18)),$AE$18:$BL$18,0)) -> Apple | ... BL52: =INDEX($AE$7:$BL$7,MATCH(LARGE($AE$18:$BL$18,COLUMN(AH18)),$AE$18:$BL$18,0)) -> Olympus
G53: Initial carbon footprint | I53: =HLOOKUP(I$52,$I$7:$AD$47,6,FALSE) -> 17608572 | J53: =HLOOKUP(J$52,$I$7:$AD$47,6,FALSE) -> 15027224 | K53: =HLOOKUP(K$52,$I$7:$AD$47,6,FALSE) -> 734000 | L53: =HLOOKUP(L$52,$I$7:$AD$47,6,FALSE) -> 1417346 | M53: =HLOOKUP(M$52,$I$7:$AD$47,6,FALSE) -> 94058 | N53: =HLOOKUP(N$52,$I$7:$AD$47,6,FALSE) -> 379532 | O53: =HLOOKUP(O$52,$I$7:$AD$47,6,FALSE) -> 1189794 | P53: =HLOOKUP(P$52,$I$7:$AD$47,6,FALSE) -> 437366 | ... AD53: =HLOOKUP(AD$52,$I$7:$AD$47,6,FALSE) -> 9667 | AE53: =HLOOKUP(AE$52,$AE$7:$BL$46,6,FALSE) -> 31081000 | AF53: =HLOOKUP(AF$52,$AE$7:$BL$46,6,FALSE) -> 8400975.8 | AG53: =HLOOKUP(AG$52,$AE$7:$BL$46,6,FALSE) -> 48679600 | AH53: =HLOOKUP(AH$52,$AE$7:$BL$46,6,FALSE) -> 246312 | AI53: =HLOOKUP(AI$52,$AE$7:$BL$46,6,FALSE) -> 45176327 | AJ53: =HLOOKUP(AJ$52,$AE$7:$BL$46,6,FALSE) -> 32225090 | AK53: =HLOOKUP(AK$52,$AE$7:$BL$46,6,FALSE) -> 18015427 | AL53: =HLOOKUP(AL$52,$AE$7:$BL$46,6,FALSE) -> 25133820 | ... BL53: =HLOOKUP(BL$52,$AE$7:$BL$46,6,FALSE) -> 146238
...

Sheet 2.1 Activity exclusion
C3: Activity exclusion
D5: Excluded and newly calculated categories | E5: IT software & services (ITSS) companies | AA5: Technology Hardware & Equipment (THE) companies
C7: Company | E7: ='3.1 Emission data'!E7 -> Microsoft Corporation | F7: ='3.1 Emission data'!F7 -> Alphabet, Inc. | G7: ='3.1 Emission data'!G7 -> International Business Machines (IBM) | H7: ='3.1 Emission data'!H7 -> Oracle Corporation | I7: ='3.1 Emission data'!I7 -> SAP SE | J7: ='3.1 Emission data'!J7 -> Accenture | K7: ='3.1 Emission data'!K7 -> Tata Consultancy Services | L7: ='3.1 Emission data'!L7 -> Salesforce.com, Inc. | ... BH7: ='3.1 Emission data'!BH7 -> Keysight Technologies Inc
C8: Reporting period | E8: ='3.1 Emission data'!E8 -> 2017-07-01 | F8: ='3.1 Emission data'!F8 -> 2018-01-01 | G8: ='3.1 Emission data'!G8 -> 2018-01-01 | H8: ='3.1 Emission data'!H8 -> 2018-01-01 | I8: ='3.1 Emission data'!I8 -> 2018-01-01 | J8: ='3.1 Emission data'!J8 -> 2017-09-01 | K8: ='3.1 Emission data'!K8 -> 2018-04-01 | L8: ='3.1 Emission data'!L8 -> 2018-02-01 | ... BH8: ='3.1 Emission data'!BH8 -> 2017-11-01
E9: ='3.1 Emission data'!E9 -> 2018-06-30 | F9: ='3.1 Emission data'!F9 -> 2018-12-31 | G9: ='3.1 Emission data'!G9 -> 2018-12-31 | H9: ='3.1 Emission data'!H9 -> 2018-12-31 | I9: ='3.1 Emission data'!I9 -> 2018-12-31 | J9: ='3.1 Emission data'!J9 -> 2018-08-31 | K9: ='3.1 Emission data'!K9 -> 2019-03-31 | L9: ='3.1 Emission data'!L9 -> 2019-01-31 | ... BH9: ='3.1 Emission data'!BH9 -> 2018-10-31
E10: t CO2e | F10: t CO2e | G10: t CO2e | H10: t CO2e | I10: t CO2e | J10: t CO2e | K10: t CO2e | L10: t CO2e | M10: t CO2e | N10: t CO2e | O10: t CO2e | P10: t CO2e | Q10: t CO2e | R10: t CO2e | S10: t CO2e | T10: t CO2e | U10: t CO2e | V10: t CO2e | W10: t CO2e | X10: t CO2e | Y10: t CO2e | Z10: t CO2e | AA10: t CO2e | AB10: t CO2e | AC10: t CO2e | AD10: t CO2e | AE10: t CO2e | AF10: t CO2e | AG10: t CO2e | AH10: t CO2e | AI10: t CO2e | AJ10: t CO2e | AK10: t CO2e | AL10: t CO2e | AM10: t CO2e | AN10: t CO2e | AO10: t CO2e | AP10: t CO2e | AQ10: t CO2e | AR10: t CO2e | AS10: t CO2e | AT10: t CO2e | AU10: t CO2e | AV10: t CO2e | AW10: t CO2e | AX10: t CO2e | AY10: t CO2e | AZ10: t CO2e | BA10: t CO2e | BB10: t CO2e | BC10: t CO2e | BD10: t CO2e | BE10: t CO2e | BF10: t CO2e | BG10: t CO2e | BH10: t CO2e
C11: Scope 1 emissions | E11: ='3.1 Emission data'!E11 -> 90723 | F11: ='3.1 Emission data'!F11 -> 63521 | G11: ='3.1 Emission data'!G11 -> 124633 | H11: ='3.1 Emission data'!H11 -> 17084 | I11: ='3.1 Emission data'!I11 -> 144163 | J11: ='3.1 Emission data'!J11 -> 22183 | K11: ='3.1 Emission data'!K11 -> 27375 | L11: ='3.1 Emission data'!L11 -> 4701 | ... BH11: ='3.1 Emission data'!BH11 -> 7446.3
C12: Scope 2 emissions | E12: ='3.1 Emission data'!E12 -> 183329 | F12: ='3.1 Emission data'!F12 -> 684236 | G12: ='3.1 Emission data'!G12 -> 963304 | H12: ='3.1 Emission data'!H12 -> 362448 | I12: ='3.1 Emission data'!I12 -> 82538 | J12: ='3.1 Emission data'!J12 -> 218855 | K12: ='3.1 Emission data'!K12 -> 409991 | L12: ='3.1 Emission data'!L12 -> 157967 | ... BH12: ='3.1 Emission data'!BH12 -> 67089.3
D13: market-based | E13: ='3.1 Emission data'!E13 -> 183329 | F13: ='3.1 Emission data'!F13 -> 684236 | G13: ='3.1 Emission data'!G13 -> 963304 | H13: ='3.1 Emission data'!H13 -> 362448 | I13: ='3.1 Emission data'!I13 -> 82538 | J13: ='3.1 Emission data'!J13 -> 218855 | K13: ='3.1 Emission data'!K13 -> 409991 | L13: ='3.1 Emission data'!L13 -> 157967 | ... BH13: ='3.1 Emission data'!BH13 -> 0
D14: location-based | E14: ='3.1 Emission data'!E14 -> 3000523 | F14: ='3.1 Emission data'!F14 -> 4344686 | G14: ='3.1 Emission data'!G14 -> 1133030 | H14: ='3.1 Emission data'!H14 -> 489917 | I14: ='3.1 Emission data'!I14 -> 157086 | J14: ='3.1 Emission data'!J14 -> 282026 | K14: ='3.1 Emission data'!K14 -> 453391 | L14: ='3.1 Emission data'!L14 -> 280961 | ... BH14: ='3.1 Emission data'!BH14 -> 67089.3
C15: Total Scope 1+2 emissions | E15: ='3.1 Emission data'!E15 -> 274052 | F15: ='3.1 Emission data'!F15 -> 747757 | G15: ='3.1 Emission data'!G15 -> 1087937 | H15: ='3.1 Emission data'!H15 -> 379532 | I15: ='3.1 Emission data'!I15 -> 226701 | J15: ='3.1 Emission data'!J15 -> 241038 | K15: ='3.1 Emission data'!K15 -> 437366 | L15: ='3.1 Emission data'!L15 -> 162668 | ... BH15: ='3.1 Emission data'!BH15 -> 74535.6
C16: Scope 3 emissions | E16: =SUM(E17:E32) -> 18095078 | F16: =SUM(F17:F32) -> 14571925 | G16: =SUM(G17:G32) -> 7538715 | H16: =SUM(H17:H32) -> 3480992.3 | I16: =SUM(I17:I32) -> 13352258 | J16: =SUM(J17:J32) -> 2985393.6 | K16: =SUM(K17:K32) -> 2060444.2 | L16: =SUM(L17:L32) -> 926306 | ... BH16: =SUM(BH17:BH32) -> 1669444.8 | BJ16: Breakdown of harmonized emissions | BL16: Absolute harmonized emissions by category | BN16: Absolute total increase by category | BU16: ITSS | BV16: THE
C17: Upstream | D17: Purchased goods and services | E17: ='2.2 Boundary incompleteness'!E17 -> 11000000 | F17: ='2.2 Boundary incompleteness'!F17 -> 7566397.9 | G17: ='2.2 Boundary incompleteness'!G17 -> 2465947.6 | H17: ='2.2 Boundary incompleteness'!H17 -> 1355224 | I17: ='2.2 Boundary incompleteness'!I17 -> 713864 | J17: ='2.2 Boundary incompleteness'!J17 -> 1308449.3 | K17: ='2.2 Boundary incompleteness'!K17 -> 559449.89 | L17: ='2.2 Boundary incompleteness'!L17 -> 406579 | ... N17: ='2.2 Boundary incompleteness'!N17 -> 204427 | O17: ='2.4 Carbon intensities'!$J8*'3.2 Emission predictors'!O$31/POWER(10,6) -> 333054.22 | P17: ='2.2 Boundary incompleteness'!P17 -> 501692.68 | Q17: ='2.2 Boundary incompleteness'!Q17 -> 3282922.9 | R17: ='2.2 Boundary incompleteness'!R17 -> 3480 | S17: ='2.2 Boundary incompleteness'!S17 -> 82246 | T17: ='2.4 Carbon intensities'!$J8*'3.2 Emission predictors'!T$31/POWER(10,6) -> 233778.92 | U17: ='2.4 Carbon intensities'!$J8*'3.2 Emission predictors'!U$31/POWER(10,6) -> 95940.103 | V17: ='2.2 Boundary incompleteness'!V17 -> 147994.98 | W17: ='2.4 Carbon intensities'!$J8*'3.2 Emission predictors'!W$31/POWER(10,6) -> 97001.794 | X17: ='2.2 Boundary incompleteness'!X17 -> 104637 | Y17: ='2.4 Carbon intensities'!$J8*'3.2 Emission predictors'!Y$31/POWER(10,6) -> 42629.659 | Z17: ='2.2 Boundary incompleteness'!Z17 -> 84470.44 | AA17: ='2.2 Boundary incompleteness'!AA17 -> 18500000 | AB17: ='2.2 Boundary incompleteness'!AB17 -> 33775286 | AC17: ='2.2 Boundary incompleteness'!AC17 -> 7324452.3 | AD17: ='2.4 Carbon intensities'!$J$29*'3.2 Emission predictors'!AD31/POWER(10,6) -> 34389362 | AE17: ='2.2 Boundary incompleteness'!AE17 -> 18600000 | AF17: ='2.2 Boundary incompleteness'!AF17 -> 18252241 | AG17: ='2.2 Boundary incompleteness'!AG17 -> 2272300 | AH17: ='2.4 Carbon intensities'!$J$29*'3.2 Emission predictors'!AH31/POWER(10,6) -> 2312984.9 | AI17: ='2.2 Boundary incompleteness'!AI17 -> 1840000 | AJ17: ='2.2 Boundary incompleteness'!AJ17 -> 3379889 | AK17: ='2.4 Carbon intensities'!$J$29*'3.2 Emission predictors'!AK31/POWER(10,6) -> 1648572.6 | AL17: ='2.4 Carbon intensities'!$J$29*'3.2 Emission predictors'!AL31/POWER(10,6) -> 3295773.3 | AM17: ='2.2 Boundary incompleteness'!AM17 -> 2706894 | AN17: ='2.2 Boundary incompleteness'!AN17 -> 5365938 | AO17: ='2.2 Boundary incompleteness'!AO17 -> 3645685 | AP17: ='2.2 Boundary incompleteness'!AP17 -> 10021171 | AQ17: ='2.4 Carbon intensities'!$J$29*'3.2 Emission predictors'!AQ31/POWER(10,6) -> 4803131.9 | AR17: ='2.4 Carbon intensities'!$J$29*'3.2 Emission predictors'!AR31/POWER(10,6) -> 1240692.6 | AS17: ='2.2 Boundary incompleteness'!AS17 -> 1200000 | AT17: ='2.2 Boundary incompleteness'!AT17 -> 7964779 | AU17: ='2.2 Boundary incompleteness'!AU17 -> 1380235.6 | AV17: ='2.2 Boundary incompleteness'!AV17 -> 5122610.4 | AW17: ='2.2 Boundary incompleteness'!AW17 -> 997509.92 | AX17: ='2.4 Carbon intensities'!$J$29*'3.2 Emission predictors'!AX31/POWER(10,6) -> 644724.4 | AY17: ='2.4 Carbon intensities'!$J$29*'3.2 Emission predictors'!AY31/POWER(10,6) -> 8844471.6 | AZ17: ='2.2 Boundary incompleteness'!AZ17 -> 1432998.9 | BA17: ='2.2 Boundary incompleteness'!BA17 -> 2275908 | BB17: ='2.4 Carbon intensities'!$J$29*'3.2 Emission predictors'!BB31/POWER(10,6) -> 5134673.8 | BC17: ='2.2 Boundary incompleteness'!BC17 -> 8351229 | BD17: ='2.4 Carbon intensities'!$J$29*'3.2 Emission predictors'!BD31/POWER(10,6) -> 3652695.9 | BE17: ='2.4 Carbon intensities'!$J$29*'3.2 Emission predictors'!BE31/POWER(10,6) -> 5859409.5 | BF17: ='2.2 Boundary incompleteness'!BF17 -> 83100 | BG17: ='2.2 Boundary incompleteness'!BG17 -> 106760 | BH17: ='2.4 Carbon intensities'!$J$29*'3.2 Emission predictors'!BH31/POWER(10,6) -> 706477.41 | BJ17: =SUM(E17:Z17)/SUM($E$16:$Z$16) -> 0.41273947 | BK17: =SUM(AA17:BH17)/SUM($AA$16:$BH$16) -> 0.36687811 | BL17: =SUM(E17:Z17) -> 30949614 | BM17: =SUM(AA17:BH17) -> 2.2713196e+08 | BN17: =BL17-'3.1 Emission data'!BN18 -> 10616401 | BO17: =BM17-'3.1 Emission data'!BO18 -> 1.5379126e+08 | BR17: =INDEX($D$17:$D$25,MATCH(LARGE($BN$17:$BN$25,ROW(BN1)),$BN$17:$BN$25,0)) -> Purchased goods and services | BS17: =VLOOKUP(BR17,$D$17:$BN$32,63,FALSE) -> 10616401 | BT17: =VLOOKUP(BR17,$D$17:$BO$32,64,FALSE) -> 1.5379126e+08 | BU17: =BS17/$BS$33 -> 0.26847336 | BV17: =BT17/$BT$33 -> 0.43731971 | BY17: Purchased goods and services (upstream) | BZ17: =BS17 -> 10616401 | CA17: =BT17 -> 1.5379126e+08
D18: Capital goods | E18: ='2.2 Boundary incompleteness'!E18 -> 500000 | F18: ='2.2 Boundary incompleteness'!F18 -> 2422000 | G18: ='2.4 Carbon intensities'!$J$9*'3.2 Emission predictors'!G14/POWER(10,6) -> 661323.33 | H18: ='2.2 Boundary incompleteness'!H18 -> 136405 | I18: ='2.2 Boundary incompleteness'!I18 -> 403231 | J18: ='2.4 Carbon intensities'!$J$9*'3.2 Emission predictors'!J14/POWER(10,6) -> 862959.32 | K18: ='2.2 Boundary incompleteness'!K18 -> 71691 | L18: ='2.2 Boundary incompleteness'!L18 -> 145178 | M18: ='2.2 Boundary incompleteness'!M18 -> 86240.407 | N18: ='2.2 Boundary incompleteness'!N18 -> 49050 | O18: ='2.2 Boundary incompleteness'!O18 -> 187469 | P18: ='2.4 Carbon intensities'!$J$9*'3.2 Emission predictors'!P14/POWER(10,6) -> 66898.232 | Q18: ='2.2 Boundary incompleteness'!Q18 -> 787701.08 | R18: ='2.4 Carbon intensities'!$J$9*'3.2 Emission predictors'!R14/POWER(10,6) -> 22067.84 | S18: ='2.2 Boundary incompleteness'!S18 -> 15915.315 | T18: ='2.4 Carbon intensities'!$J$9*'3.2 Emission predictors'!T14/POWER(10,6) -> 56146.755 | U18: ='2.4 Carbon intensities'!$J$9*'3.2 Emission predictors'!U14/POWER(10,6) -> 44937.063 | V18: ='2.2 Boundary incompleteness'!V18 -> 0 | W18: ='2.4 Carbon intensities'!$J$9*'3.2 Emission predictors'!W14/POWER(10,6) -> 44793.444 | X18: ='2.2 Boundary incompleteness'!X18 -> 23213 | Y18: ='2.4 Carbon intensities'!$J$9*'3.2 Emission predictors'!Y14/POWER(10,6) -> 6816.8269 | Z18: ='2.2 Boundary incompleteness'!Z18 -> 12802.77 | AA18: ='2.4 Carbon intensities'!$J$30*'3.2 Emission predictors'!AA14/POWER(10,6) -> 3938679.2 | AB18: ='2.2 Boundary incompleteness'!AB18 -> 6297169.8 | AC18: ='2.2 Boundary incompleteness'!AC18 -> 40020 | AD18: ='2.4 Carbon intensities'!$J$30*'3.2 Emission predictors'!AD14/POWER(10,6) -> 452709.59 | AE18: ='2.2 Boundary incompleteness'!AE18 -> 200000 | AF18: ='2.4 Carbon intensities'!$J$30*'3.2 Emission predictors'!AF14/POWER(10,6) -> 283018.87 | AG18: ='2.2 Boundary incompleteness'!AG18 -> 90083 | AH18: ='2.4 Carbon intensities'!$J$30*'3.2 Emission predictors'!AH14/POWER(10,6) -> 220518.87 | AI18: ='2.2 Boundary incompleteness'!AI18 -> 6200 | AJ18: ='2.2 Boundary incompleteness'!AJ18 -> 712289 | AK18: ='2.4 Carbon intensities'!$J$30*'3.2 Emission predictors'!AK14/POWER(10,6) -> 425471.7 | AL18: ='2.4 Carbon intensities'!$J$30*'3.2 Emission predictors'!AL14/POWER(10,6) -> 196933.96 | AM18: =AVERAGE(AA38:BH38)*SUM(AM19:AM32,AM17) -> 257953.03 | AN18: ='2.2 Boundary incompleteness'!AN18 -> 398200 | AO18: ='2.2 Boundary incompleteness'!AO18 -> 211678 | AP18: ='2.2 Boundary incompleteness'!AP18 -> 127500 | AQ18: ='2.4 Carbon intensities'!$J$30*'3.2 Emission predictors'!AQ14/POWER(10,6) -> 107835.63 | AR18: ='2.4 Carbon intensities'!$J$30*'3.2 Emission predictors'!AR14/POWER(10,6) -> 73254.717 | AS18: ='2.2 Boundary incompleteness'!AS18 -> 200000 | AT18: ='2.2 Boundary incompleteness'!AT18 -> 626937 | AU18: ='2.4 Carbon intensities'!$J$30*'3.2 Emission predictors'!AU14/POWER(10,6) -> 487473.44 | AV18: ='2.2 Boundary incompleteness'!AV18 -> 335000 | AW18: ='2.4 Carbon intensities'!$J$30*'3.2 Emission predictors'!AW14/POWER(10,6) -> 40801.887 | AX18: ='2.4 Carbon intensities'!$J$30*'3.2 Emission predictors'!AX14/POWER(10,6) -> 62057.075 | AY18: ='2.4 Carbon intensities'!$J$30*'3.2 Emission predictors'!AY14/POWER(10,6) -> 201148.89 | AZ18: ='2.4 Carbon intensities'!$J$30*'3.2 Emission predictors'!AZ14/POWER(10,6) -> 86703.556 | BA18: ='2.2 Boundary incompleteness'!BA18 -> 129349 | BB18: ='2.4 Carbon intensities'!$J$30*'3.2 Emission predictors'!BB14/POWER(10,6) -> 148820.75 | BC18: ='2.2 Boundary incompleteness'!BC18 -> 6.8 | BD18: ='2.4 Carbon intensities'!$J$30*'3.2 Emission predictors'!BD14/POWER(10,6) -> 165094.34 | BE18: ='2.4 Carbon intensities'!$J$30*'3.2 Emission predictors'!BE14/POWER(10,6) -> 110701.29 | BF18: ='2.2 Boundary incompleteness'!BF18 -> 199918 | BG18: ='2.2 Boundary incompleteness'!BG18 -> 3038 | BH18: ='2.4 Carbon intensities'!$J$30*'3.2 Emission predictors'!BH14/POWER(10,6) -> 31132.075 | BJ18: =SUM(E18:Z18)/SUM($E$16:$Z$16) -> 0.088107833 | BK18: =SUM(AA18:BH18)/SUM($AA$16:$BH$16) -> 0.027245787 | BL18: =SUM(E18:Z18) -> 6606839.4 | BM18: =SUM(AA18:BH18) -> 16867698 | BN18: =BL18-'3.1 Emission data'!BN19 -> 3896389.3 | BO18: =BM18-'3.1 Emission data'!BO19 -> 14669062 | BR18: =INDEX($D$17:$D$25,MATCH(LARGE($BN$17:$BN$25,ROW(BN2)),$BN$17:$BN$25,0)) -> Capital goods | BS18: =VLOOKUP(BR18,$D$17:$BN$32,63,FALSE) -> 3896389.3 | BT18: =VLOOKUP(BR18,$D$17:$BO$32,64,FALSE) -> 14669062 | BU18: =BS18/$BS$33 -> 0.098534022 | BV18: =BT18/$BT$33 -> 0.041712836 | BY18: Capital goods (upstream) | BZ18: =BS18 -> 3896389.3 | CA18: =BT18 -> 14669062
D19: Fuel- and energy-related activities | E19: ='2.2 Boundary incompleteness'!E19 -> 550000 | F19: ='2.4 Carbon intensities'!$J$10*'3.2 Emission predictors'!F34 -> 288431.97 | G19: ='2.2 Boundary incompleteness'!G19 -> 530262.79 | H19: ='2.2 Boundary incompleteness'!H19 -> 21747 | I19: ='2.2 Boundary incompleteness'!I19 -> 79712 | J19: ='2.2 Boundary incompleteness'!J19 -> 0 | K19: ='2.2 Boundary incompleteness'!K19 -> 171198 | L19: ='2.2 Boundary incompleteness'!L19 -> 67890 | M19: ='2.2 Boundary incompleteness'!M19 -> 14804.55 | N19: ='2.2 Boundary incompleteness'!N19 -> 18841 | ... S19: ='2.2 Boundary incompleteness'!S19 -> 76659 | T19: ='2.4 Carbon intensities'!$J$10*'3.2 Emission predictors'!T34 -> 44065.64 | U19: ='2.2 Boundary incompleteness'!U19 -> 6017.06 | V19: ='2.2 Boundary incompleteness'!V19 -> 0 | W19: ='2.4 Carbon intensities'!$J$10*'3.2 Emission predictors'!W34 -> 0 | X19: ='2.2 Boundary incompleteness'!X19 -> 3849 | Y19: =AVERAGE(E39:Z39)*SUM(Y17:Y18,Y20:Y32) -> 3157.3974 | Z19: ='2.2 Boundary incompleteness'!Z19 -> 5716.32 | AA19: ='2.4 Carbon intensities'!$J$31*'3.2 Emission predictors'!AA34 -> 30685.611 | AB19: ='2.2 Boundary incompleteness'!AB19 -> 670000 | AC19: ='2.2 Boundary incompleteness'!AC19 -> 40002 | AD19: =AVERAGE(AA39:BH39)*SUM(AD17:AD18,AD20:AD32) -> 1416797.2 | AE19: ='2.2 Boundary incompleteness'!AE19 -> 100000 | AF19: ='2.2 Boundary incompleteness'!AF19 -> 140026 | AG19: ='2.2 Boundary incompleteness'!AG19 -> 93746 | AH19: ='2.4 Carbon intensities'!$J$31*'3.2 Emission predictors'!AH34 -> 182878.6 | AI19: ='2.2 Boundary incompleteness'!AI19 -> 71100 | AJ19: ='2.2 Boundary incompleteness'!AJ19 -> 95300 | AK19: ='2.4 Carbon intensities'!$J$31*'3.2 Emission predictors'!AK34 -> 704861.8 | AL19: ='2.4 Carbon intensities'!$J$31*'3.2 Emission predictors'!AL34 -> 245340.14 | AM19: ='2.2 Boundary incompleteness'!AM19 -> 640824.65 | AN19: ='2.4 Carbon intensities'!$J$31*'3.2 Emission predictors'!AN34 -> 141013.58 | AO19: ='2.2 Boundary incompleteness'!AO19 -> 161453 | AP19: ='2.2 Boundary incompleteness'!AP19 -> 12100 | AQ19: ='2.4 Carbon intensities'!$J$31*'3.2 Emission predictors'!AQ34 -> 39386.467 | AR19: ='2.4 Carbon intensities'!$J$31*'3.2 Emission predictors'!AR34 -> 93350.12 | AS19: ='2.2 Boundary incompleteness'!AS19 -> 190000 | AT19: ='2.2 Boundary incompleteness'!AT19 -> 701930 | AU19: ='2.2 Boundary incompleteness'!AU19 -> 788494 | AV19: ='2.2 Boundary incompleteness'!AV19 -> 159000 | AW19: ='2.4 Carbon intensities'!$J$31*'3.2 Emission predictors'!AW34 -> 23496.849 | AX19: =AVERAGE(AA39:BH39)*SUM(AX17:AX18,AX20:AX32) -> 35190.753 | AY19: ='2.4 Carbon intensities'!$J$31*'3.2 Emission predictors'!AY34 -> 102180.46 | AZ19: ='2.2 Boundary incompleteness'!AZ19 -> 93527.35 | BA19: ='2.2 Boundary incompleteness'!BA19 -> 210409 | BB19: ='2.2 Boundary incompleteness'!BB19 -> 221825 | BC19: ='2.4 Carbon intensities'!$J$31*'3.2 Emission predictors'!BC34 -> 36236.119 | BD19: ='2.4 Carbon intensities'!$J$31*'3.2 Emission predictors'!BD34 -> 161370.33 | BE19: ='2.2 Boundary incompleteness'!BE19 -> 0 | BF19: ='2.2 Boundary incompleteness'!BF19 -> 5029 | BG19: ='2.4 Carbon intensities'!$J$31*'3.2 Emission predictors'!BG34 -> 1982.5691 | BH19: ='2.4 Carbon intensities'!$J$31*'3.2 Emission predictors'!BH34 -> 19053.395 | BJ19: =SUM(E19:Z19)/SUM($E$16:$Z$16) -> 0.026908099 | BK19: =SUM(AA19:BH19)/SUM($AA$16:$BH$16) -> 0.012322188 | BL19: =SUM(E19:Z19) -> 2017726.3 | BM19: =SUM(AA19:BH19) -> 7628590 | BN19: =BL19-'3.1 Emission data'!BN20 -> 1312342.3 | BO19: =BM19-'3.1 Emission data'!BO20 -> 5777410 | BR19: =INDEX($D$17:$D$25,MATCH(LARGE($BN$17:$BN$25,ROW(BN3)),$BN$17:$BN$25,0)) -> Business travel | BS19: =VLOOKUP(BR19,$D$17:$BN$32,63,FALSE) -> 1552813.4 | BT19: =VLOOKUP(BR19,$D$17:$BO$32,64,FALSE) -> 988620.19 | BU19: =BS19/$BS$33 -> 0.039268394 | BV19: =BT19/$BT$33 -> 0.0028112331 | BY19: Use of sold products (downstream) | BZ19: =BS26 -> 20440638 | CA19: =BT26 -> 1.5329878e+08
D20: Upstream transportation and distribution | E20: ='2.2 Boundary incompleteness'!E20 -> 100000 | F20: ='2.2 Boundary incompleteness'!F20 -> 237500 | G20: ='2.4 Carbon intensities'!$J11*'3.2 Emission predictors'!G$31/POWER(10,6) -> 33217.034 | H20: ='2.2 Boundary incompleteness'!H20 -> 9468 | I20: ='2.2 Boundary incompleteness'!I20 -> 0 | J20: ='2.2 Boundary incompleteness'!J20 -> 0 | K20: ='2.2 Boundary incompleteness'!K20 -> 3350 | L20: ='2.2 Boundary incompleteness'!L20 -> 4032 | M20: ='2.2 Boundary incompleteness'!M20 -> 0 | N20: ='2.2 Boundary incompleteness'!N20 -> 3408 | O20: ='2.2 Boundary incompleteness'!O20 -> 0 | P20: ='2.4 Carbon intensities'!$J11*'3.2 Emission predictors'!P$31/POWER(10,6) -> 6757.9469 | Q20: ='2.2 Boundary incompleteness'!Q20 -> 18356 | R20: ='2.2 Boundary incompleteness'!R20 -> 0 | S20: ='2.2 Boundary incompleteness'!S20 -> 0 | T20: ='2.2 Boundary incompleteness'!T20 -> 0 | U20: ='2.2 Boundary incompleteness'!U20 -> 523.77 | V20: ='2.2 Boundary incompleteness'!V20 -> 0 | W20: ='2.4 Carbon intensities'!$J11*'3.2 Emission predictors'!W$31/POWER(10,6) -> 1306.6425 | X20: ='2.2 Boundary incompleteness'!X20 -> 7942 | Y20: ='2.4 Carbon intensities'!$J11*'3.2 Emission predictors'!Y$31/POWER(10,6) -> 574.23395 | Z20: ='2.4 Carbon intensities'!$J11*'3.2 Emission predictors'!Z$31/POWER(10,6) -> 1901.6869 | AA20: ='2.2 Boundary incompleteness'!AA20 -> 400000 | AB20: ='2.2 Boundary incompleteness'!AB20 -> 11000 | AC20: ='2.2 Boundary incompleteness'!AC20 -> 36598 | AD20: ='2.4 Carbon intensities'!$J$32*'3.2 Emission predictors'!AD31/POWER(10,6) -> 1381009 | AE20: ='2.2 Boundary incompleteness'!AE20 -> 1800000 | AF20: ='2.4 Carbon intensities'!$J$32*'3.2 Emission predictors'!AF31/POWER(10,6) -> 732974.03 | AG20: ='2.2 Boundary incompleteness'!AG20 -> 318186 | AH20: ='2.4 Carbon intensities'!$J$32*'3.2 Emission predictors'!AH31/POWER(10,6) -> 92884.918 | AI20: ='2.2 Boundary incompleteness'!AI20 -> 278246.75 | AJ20: ='2.2 Boundary incompleteness'!AJ20 -> 162682 | AK20: ='2.4 Carbon intensities'!$J$32*'3.2 Emission predictors'!AK31/POWER(10,6) -> 66203.429 | AL20: ='2.4 Carbon intensities'!$J$32*'3.2 Emission predictors'!AL31/POWER(10,6) -> 132351.76 | AM20: ='2.4 Carbon intensities'!$J$32*'3.2 Emission predictors'!AM31/POWER(10,6) -> 108703.53 | AN20: ='2.2 Boundary incompleteness'!AN20 -> 384300 | AO20: ='2.2 Boundary incompleteness'!AO20 -> 45927 | AP20: ='2.2 Boundary incompleteness'!AP20 -> 633000 | AQ20: ='2.4 Carbon intensities'!$J$32*'3.2 Emission predictors'!AQ31/POWER(10,6) -> 192884.32 | AR20: ='2.4 Carbon intensities'!$J$32*'3.2 Emission predictors'!AR31/POWER(10,6) -> 49823.769 | AS20: ='2.2 Boundary incompleteness'!AS20 -> 90000 | AT20: ='2.2 Boundary incompleteness'!AT20 -> 277621 | AU20: ='2.2 Boundary incompleteness'!AU20 -> 55427.544 | AV20: ='2.2 Boundary incompleteness'!AV20 -> 80000 | AW20: ='2.4 Carbon intensities'!$J$32*'3.2 Emission predictors'!AW31/POWER(10,6) -> 40058.033 | AX20: ='2.4 Carbon intensities'!$J$32*'3.2 Emission predictors'!AX31/POWER(10,6) -> 25890.862 | AY20: ='2.4 Carbon intensities'!$J$32*'3.2 Emission predictors'!AY31/POWER(10,6) -> 355176.55 | AZ20: ='2.2 Boundary incompleteness'!AZ20 -> 57546.412 | BA20: ='2.2 Boundary incompleteness'!BA20 -> 58167.368 | BB20: ='2.4 Carbon intensities'!$J$32*'3.2 Emission predictors'!BB31/POWER(10,6) -> 206198.38 | BC20: ='2.2 Boundary incompleteness'!BC20 -> 96.7 | BD20: ='2.4 Carbon intensities'!$J$32*'3.2 Emission predictors'!BD31/POWER(10,6) -> 146685.07 | BE20: ='2.2 Boundary incompleteness'!BE20 -> 2877.56 | BF20: ='2.2 Boundary incompleteness'!BF20 -> 52486 | BG20: ='2.2 Boundary incompleteness'!BG20 -> 38784 | BH20: ='2.2 Boundary incompleteness'!BH20 -> 20665 | BJ20: =SUM(E20:Z20)/SUM($E$16:$Z$16) -> 0.0057122431 | BK20: =SUM(AA20:BH20)/SUM($AA$16:$BH$16) -> 0.013462346 | BL20: =SUM(E20:Z20) -> 428337.31 | BM20: =SUM(AA20:BH20) -> 8334455 | BN20: =BL20-'3.1 Emission data'!BN21 -> 78963.544 | BO20: =BM20-'3.1 Emission data'!BO21 -> 4134565.5 | BR20: =INDEX($D$17:$D$25,MATCH(LARGE($BN$17:$BN$25,ROW(BN4)),$BN$17:$BN$25,0)) -> Fuel- and energy-related activities | BS20: =VLOOKUP(BR20,$D$17:$BN$32,63,FALSE) -> 1312342.3 | BT20: =VLOOKUP(BR20,$D$17:$BO$32,64,FALSE) -> 5777410 | BU20: =BS20/$BS$33 -> 0.03318723 | BV20: =BT20/$BT$33 -> 0.016428601 | BY20: Other (upstream) | BZ20: =SUM(BS19:BS24) -> 4377431.5 | CA20: =SUM(BT19:BT24) -> 13325744
D21: Waste generated in operations | E21: ='2.2 Boundary incompleteness'!E21 -> 600 | F21: ='2.4 Carbon intensities'!$J12*'3.2 Emission predictors'!F$31/POWER(10,6) -> 4026.2193 | G21: ='2.4 Carbon intensities'!$J12*'3.2 Emission predictors'!G$31/POWER(10,6) -> 2573.9436 | H21: ='2.2 Boundary incompleteness'!H21 -> 762 | I21: ='2.2 Boundary incompleteness'!I21 -> 1909 | J21: ='2.4 Carbon intensities'!$J12*'3.2 Emission predictors'!J$31/POWER(10,6) -> 1365.7527 | K21: ='2.2 Boundary incompleteness'!K21 -> 3145 | L21: ='2.2 Boundary incompleteness'!L21 -> 304 | M21: ='2.2 Boundary incompleteness'!M21 -> 87.21 | N21: ='2.2 Boundary incompleteness'!N21 -> 306.72 | O21: ='2.2 Boundary incompleteness'!O21 -> 173.18 | P21: ='2.2 Boundary incompleteness'!P21 -> 399.53 | Q21: ='2.2 Boundary incompleteness'!Q21 -> 3475 | R21: ='2.4 Carbon intensities'!$J12*'3.2 Emission predictors'!R$31/POWER(10,6) -> 170.36399 | S21: ='2.2 Boundary incompleteness'!S21 -> 760 | T21: ='2.4 Carbon intensities'!$J12*'3.2 Emission predictors'!T$31/POWER(10,6) -> 244.01725 | U21: ='2.2 Boundary incompleteness'!U21 -> 484.25 | V21: ='2.2 Boundary incompleteness'!V21 -> 17.6 | W21: ='2.4 Carbon intensities'!$J12*'3.2 Emission predictors'!W$31/POWER(10,6) -> 101.24998 | X21: ='2.2 Boundary incompleteness'!X21 -> 684 | Y21: ='2.4 Carbon intensities'!$J12*'3.2 Emission predictors'!Y$31/POWER(10,6) -> 44.496622 | Z21: ='2.4 Carbon intensities'!$J12*'3.2 Emission predictors'!Z$31/POWER(10,6) -> 147.35918 | AA21: ='2.4 Carbon intensities'!$J$33*'3.2 Emission predictors'!AA31/POWER(10,6) -> 151619.84 | AB21: ='2.2 Boundary incompleteness'!AB21 -> 370000 | AC21: ='2.2 Boundary incompleteness'!AC21 -> 1096 | AD21: ='2.4 Carbon intensities'!$J$33*'3.2 Emission predictors'!AD31/POWER(10,6) -> 133217.4 | AE21: ='2.4 Carbon intensities'!$J$33*'3.2 Emission predictors'!AE31/POWER(10,6) -> 35874.094 | AF21: ='2.4 Carbon intensities'!$J$33*'3.2 Emission predictors'!AF31/POWER(10,6) -> 70705.475 | AG21: ='2.2 Boundary incompleteness'!AG21 -> 1290 | AH21: ='2.4 Carbon intensities'!$J$33*'3.2 Emission predictors'!AH31/POWER(10,6) -> 8960.0339 | AI21: ='2.2 Boundary incompleteness'!AI21 -> 4900 | AJ21: ='2.2 Boundary incompleteness'!AJ21 -> 41897 | AK21: ='2.4 Carbon intensities'!$J$33*'3.2 Emission predictors'!AK31/POWER(10,6) -> 6386.2356 | AL21: ='2.4 Carbon intensities'!$J$33*'3.2 Emission predictors'!AL31/POWER(10,6) -> 12767.156 | AM21: ='2.4 Carbon intensities'!$J$33*'3.2 Emission predictors'!AM31/POWER(10,6) -> 10485.958 | AN21: ='2.4 Carbon intensities'!$J$33*'3.2 Emission predictors'!AN31/POWER(10,6) -> 20786.554 | AO21: ='2.2 Boundary incompleteness'!AO21 -> 17423 | AP21: ='2.2 Boundary incompleteness'!AP21 -> 1920 | AQ21: ='2.4 Carbon intensities'!$J$33*'3.2 Emission predictors'!AQ31/POWER(10,6) -> 18606.358 | AR21: ='2.4 Carbon intensities'!$J$33*'3.2 Emission predictors'!AR31/POWER(10,6) -> 4806.191 | AS21: ='2.2 Boundary incompleteness'!AS21 -> 5700 | AT21: ='2.2 Boundary incompleteness'!AT21 -> 8971 | AU21: ='2.2 Boundary incompleteness'!AU21 -> 12651 | AV21: ='2.2 Boundary incompleteness'!AV21 -> 8000 | AW21: ='2.4 Carbon intensities'!$J$33*'3.2 Emission predictors'!AW31/POWER(10,6) -> 3864.1509 | AX21: ='2.4 Carbon intensities'!$J$33*'3.2 Emission predictors'!AX31/POWER(10,6) -> 2497.5314 | AY21: ='2.4 Carbon intensities'!$J$33*'3.2 Emission predictors'!AY31/POWER(10,6) -> 34261.687 | AZ21: ='2.2 Boundary incompleteness'!AZ21 -> 5551.1467 | BA21: ='2.2 Boundary incompleteness'!BA21 -> 6717 | BB21: ='2.2 Boundary incompleteness'!BB21 -> 30419 | BC21: ='2.2 Boundary incompleteness'!BC21 -> 586 | BD21: ='2.4 Carbon intensities'!$J$33*'3.2 Emission predictors'!BD31/POWER(10,6) -> 14149.802 | BE21: ='2.4 Carbon intensities'!$J$33*'3.2 Emission predictors'!BE31/POWER(10,6) -> 22698.162 | BF21: ='2.2 Boundary incompleteness'!BF21 -> 5063 | BG21: ='2.2 Boundary incompleteness'!BG21 -> 34 | BH21: ='2.2 Boundary incompleteness'!BH21 -> 6562.4 | BJ21: =SUM(E21:Z21)/SUM($E$16:$Z$16) -> 0.00029046676 | BK21: =SUM(AA21:BH21)/SUM($AA$16:$BH$16) -> 0.0017452399 | BL21: =SUM(E21:Z21) -> 21780.893 | BM21: =SUM(AA21:BH21) -> 1080467.2 | BN21: =BL21-'3.1 Emission data'!BN22 -> 18528.793 | BO21: =BM21-'3.1 Emission data'!BO22 -> 1001527.2 | BR21: =INDEX($D$17:$D$25,MATCH(LARGE($BN$17:$BN$25,ROW(BN5)),$BN$17:$BN$25,0)) -> Employee commuting | BS21: =VLOOKUP(BR21,$D$17:$BN$32,63,FALSE) -> 1236351.1 | BT21: =VLOOKUP(BR21,$D$17:$BO$32,64,FALSE) -> 1628525 | BU21: =BS21/$BS$33 -> 0.031265521 | BV21: =BT21/$BT$33 -> 0.0046308619 | BY21: Other (downstream) | BZ21: =BS25+SUM(BS27:BS32) -> 212733.45 | CA21: =BT25+SUM(BT27:BT32) -> 16582957
D22: Business travel | E22: ='2.2 Boundary incompleteness'!E22 -> 618942.49 | F22: ='2.2 Boundary incompleteness'!F22 -> 313000 | G22: ='2.2 Boundary incompleteness'!G22 -> 458090 | H22: ='2.2 Boundary incompleteness'!H22 -> 192845 | I22: ='2.2 Boundary incompleteness'!I22 -> 317166 | J22: ='2.2 Boundary incompleteness'!J22 -> 494928 | K22: ='2.2 Boundary incompleteness'!K22 -> 125682.43 | L22: ='2.2 Boundary incompleteness'!L22 -> 129000 | ... AC22: ='2.2 Boundary incompleteness'!AC22 -> 217500 | AD22: ='2.4 Carbon intensities'!$J$34*'3.2 Emission predictors'!AD31/POWER(10,6) -> 342375.73 | AE22: ='2.2 Boundary incompleteness'!AE22 -> 92198.307 | AF22: ='2.2 Boundary incompleteness'!AF22 -> 181716.78 | AG22: ='2.2 Boundary incompleteness'!AG22 -> 68553 | AH22: ='2.2 Boundary incompleteness'!AH22 -> 23520 | AI22: ='2.2 Boundary incompleteness'!AI22 -> 93000 | AJ22: ='2.2 Boundary incompleteness'!AJ22 -> 23434.929 | AK22: ='2.4 Carbon intensities'!$J$34*'3.2 Emission predictors'!AK31/POWER(10,6) -> 16412.961 | AL22: ='2.2 Boundary incompleteness'!AL22 -> 32812.263 | AM22: ='2.2 Boundary incompleteness'!AM22 -> 26949.462 | AN22: ='2.2 Boundary incompleteness'!AN22 -> 81500 | AO22: ='2.2 Boundary incompleteness'!AO22 -> 28074.218 | AP22: ='2.2 Boundary incompleteness'!AP22 -> 53500 | AQ22: ='2.2 Boundary incompleteness'!AQ22 -> 110000 | AR22: ='2.4 Carbon intensities'!$J$34*'3.2 Emission predictors'!AR31/POWER(10,6) -> 12352.163 | AS22: ='2.2 Boundary incompleteness'!AS22 -> 17000 | AT22: ='2.2 Boundary incompleteness'!AT22 -> 52248 | AU22: ='2.2 Boundary incompleteness'!AU22 -> 4385 | AV22: ='2.2 Boundary incompleteness'!AV22 -> 51000 | AW22: ='2.2 Boundary incompleteness'!AW22 -> 47759 | AX22: ='2.4 Carbon intensities'!$J$34*'3.2 Emission predictors'!AX31/POWER(10,6) -> 6418.7869 | AY22: ='2.4 Carbon intensities'!$J$34*'3.2 Emission predictors'!AY31/POWER(10,6) -> 88054.335 | AZ22: ='2.2 Boundary incompleteness'!AZ22 -> 14266.739 | BA22: ='2.2 Boundary incompleteness'!BA22 -> 14420.684 | BB22: ='2.2 Boundary incompleteness'!BB22 -> 32119 | BC22: ='2.2 Boundary incompleteness'!BC22 -> 1498.2 | BD22: ='2.2 Boundary incompleteness'!BD22 -> 60968 | BE22: ='2.2 Boundary incompleteness'!BE22 -> 58335.47 | BF22: ='2.2 Boundary incompleteness'!BF22 -> 19588 | BG22: ='2.2 Boundary incompleteness'!BG22 -> 2947.549 | BH22: ='2.2 Boundary incompleteness'!BH22 -> 17835 | BJ22: =SUM(E22:Z22)/SUM($E$16:$Z$16) -> 0.047261621 | BK22: =SUM(AA22:BH22)/SUM($AA$16:$BH$16) -> 0.0037797885 | BL22: =SUM(E22:Z22) -> 3543952.1 | BM22: =SUM(AA22:BH22) -> 2340043.6 | BN22: =BL22-'3.1 Emission data'!BN23 -> 1552813.4 | BO22: =BM22-'3.1 Emission data'!BO23 -> 988620.19 | BR22: =INDEX($D$17:$D$25,MATCH(LARGE($BN$17:$BN$25,ROW(BN6)),$BN$17:$BN$25,0)) -> Upstream leased assets | BS22: =VLOOKUP(BR22,$D$17:$BN$32,63,FALSE) -> 140593.14 | BT22: =VLOOKUP(BR22,$D$17:$BO$32,64,FALSE) -> 796623.56 | BU22: =BS22/$BS$33 -> 0.0035553963 | BV22: =BT22/$BT$33 -> 0.0022652729
D23: Employee commuting | E23: ='2.2 Boundary incompleteness'!E23 -> 330000 | F23: ='2.2 Boundary incompleteness'!F23 -> 150467 | G23: ='2.2 Boundary incompleteness'!G23 -> 122800 | H23: ='2.2 Boundary incompleteness'!H23 -> 96587.075 | I23: ='2.2 Boundary incompleteness'!I23 -> 47620 | J23: ='2.4 Carbon intensities'!$J$14*'3.2 Emission predictors'!J10 -> 310555.7 | K23: ='2.2 Boundary incompleteness'!K23 -> 280026 | L23: ='2.2 Boundary incompleteness'!L23 -> 26000 | M23: ='2.2 Boundary incompleteness'!M23 -> 10603 | N23: ='2.2 Boundary incompleteness'!N23 -> 42653 | O23: ='2.2 Boundary incompleteness'!O23 -> 57762 | P23: ='2.2 Boundary incompleteness'!P23 -> 225687 | Q23: ='2.2 Boundary incompleteness'!Q23 -> 107383 | R23: ='2.2 Boundary incompleteness'!R23 -> 15932 | ... V23: ='2.2 Boundary incompleteness'!V23 -> 18965.15 | W23: ='2.4 Carbon intensities'!$J$14*'3.2 Emission predictors'!W10 -> 5719.4284 | X23: ='2.2 Boundary incompleteness'!X23 -> 13090 | Y23: ='2.4 Carbon intensities'!$J$14*'3.2 Emission predictors'!Y10 -> 2805.7044 | Z23: ='2.2 Boundary incompleteness'!Z23 -> 2827.34 | AA23: ='2.2 Boundary incompleteness'!AA23 -> 183200 | AB23: ='2.2 Boundary incompleteness'!AB23 -> 180017.44 | AC23: ='2.2 Boundary incompleteness'!AC23 -> 81394 | AD23: ='2.4 Carbon intensities'!$J$35*'3.2 Emission predictors'!AD10 -> 501744.19 | AE23: ='2.2 Boundary incompleteness'!AE23 -> 200000 | AF23: ='2.4 Carbon intensities'!$J$35*'3.2 Emission predictors'!AF10 -> 74418.605 | AG23: ='2.2 Boundary incompleteness'!AG23 -> 247936 | AH23: ='2.4 Carbon intensities'!$J$35*'3.2 Emission predictors'!AH10 -> 46511.628 | AI23: ='2.2 Boundary incompleteness'!AI23 -> 68000 | AJ23: ='2.2 Boundary incompleteness'!AJ23 -> 34730 | AK23: ='2.4 Carbon intensities'!$J$35*'3.2 Emission predictors'!AK10 -> 26860.465 | AL23: ='2.4 Carbon intensities'!$J$35*'3.2 Emission predictors'!AL10 -> 35930.233 | AM23: ='2.2 Boundary incompleteness'!AM23 -> 39636.628 | AN23: ='2.2 Boundary incompleteness'!AN23 -> 118400 | AO23: ='2.2 Boundary incompleteness'!AO23 -> 27668 | AP23: ='2.2 Boundary incompleteness'!AP23 -> 23600 | AQ23: ='2.2 Boundary incompleteness'!AQ23 -> 61000 | AR23: ='2.4 Carbon intensities'!$J$35*'3.2 Emission predictors'!AR10 -> 42790.698 | AS23: ='2.2 Boundary incompleteness'!AS23 -> 25000 | AT23: ='2.2 Boundary incompleteness'!AT23 -> 60919.186 | AU23: ='2.4 Carbon intensities'!$J$35*'3.2 Emission predictors'!AU10 -> 14370.93 | AV23: ='2.2 Boundary incompleteness'!AV23 -> 16000 | AW23: ='2.4 Carbon intensities'!$J$35*'3.2 Emission predictors'!AW10 -> 6104.6512 | AX23: ='2.4 Carbon intensities'!$J$35*'3.2 Emission predictors'!AX10 -> 21751.163 | AY23: ='2.4 Carbon intensities'!$J$35*'3.2 Emission predictors'!AY10 -> 100578.49 | AZ23: ='2.2 Boundary incompleteness'!AZ23 -> 48255.814 | BA23: ='2.4 Carbon intensities'!$J$35*'3.2 Emission predictors'!BA10 -> 20401.163 | BB23: ='2.4 Carbon intensities'!$J$35*'3.2 Emission predictors'!BB10 -> 116279.07 | BC23: ='2.2 Boundary incompleteness'!BC23 -> 173 | BD23: ='2.4 Carbon intensities'!$J$35*'3.2 Emission predictors'!BD10 -> 116279.07 | BE23: ='2.4 Carbon intensities'!$J$35*'3.2 Emission predictors'!BE10 -> 46511.628 | BF23: ='2.2 Boundary incompleteness'!BF23 -> 13811 | BG23: ='2.2 Boundary incompleteness'!BG23 -> 2243 | BH23: ='2.4 Carbon intensities'!$J$35*'3.2 Emission predictors'!BH10 -> 7500 | BJ23: =SUM(E23:Z23)/SUM($E$16:$Z$16) -> 0.026509667 | BK23: =SUM(AA23:BH23)/SUM($AA$16:$BH$16) -> 0.0042158654 | BL23: =SUM(E23:Z23) -> 1987849.5 | BM23: =SUM(AA23:BH23) -> 2610016 | BN23: =BL23-'3.1 Emission data'!BN24 -> 1236351.1 | BO23: =BM23-'3.1 Emission data'!BO24 -> 1628525 | BR23: =INDEX($D$17:$D$25,MATCH(LARGE($BN$17:$BN$25,ROW(BN7)),$BN$17:$BN$25,0)) -> Upstream transportation and distribution | BS23: =VLOOKUP(BR23,$D$17:$BN$32,63,FALSE) -> 78963.544 | BT23: =VLOOKUP(BR23,$D$17:$BO$32,64,FALSE) -> 4134565.5 | BU23: =BS23/$BS$33 -> 0.0019968733 | BV23: =BT23/$BT$33 -> 0.01175702
D24: Upstream leased assets | E24: ='2.2 Boundary incompleteness'!E24 -> 0 | F24: ='2.2 Boundary incompleteness'!F24 -> 0 | G24: ='2.2 Boundary incompleteness'!G24 -> 0 | H24: ='2.2 Boundary incompleteness'!H24 -> 0 | I24: ='2.2 Boundary incompleteness'!I24 -> 0 | J24: ='2.2 Boundary incompleteness'!J24 -> 0 | K24: ='2.2 Boundary incompleteness'!K24 -> 0 | L24: ='2.2 Boundary incompleteness'!L24 -> 127090 | ... P24: ='2.2 Boundary incompleteness'!P24 -> 0 | Q24: ='2.4 Carbon intensities'!$J15*'3.2 Emission predictors'!Q$31/POWER(10,6) -> 5582.9016 | R24: ='2.2 Boundary incompleteness'!R24 -> 0 | S24: ='2.2 Boundary incompleteness'!S24 -> 24302 | T24: ='2.2 Boundary incompleteness'!T24 -> 0 | U24: ='2.2 Boundary incompleteness'!U24 -> 0 | V24: ='2.2 Boundary incompleteness'!V24 -> 0 | W24: ='2.4 Carbon intensities'!$J15*'3.2 Emission predictors'!W$31/POWER(10,6) -> 1095.6121 | X24: ='2.2 Boundary incompleteness'!X24 -> 21 | Y24: ='2.4 Carbon intensities'!$J15*'3.2 Emission predictors'!Y$31/POWER(10,6) -> 481.49184 | Z24: ='2.2 Boundary incompleteness'!Z24 -> 0 | AA24: ='2.2 Boundary incompleteness'!AA24 -> 0 | AB24: ='2.2 Boundary incompleteness'!AB24 -> 211086.46 | AC24: ='2.2 Boundary incompleteness'!AC24 -> 0 | AD24: ='2.4 Carbon intensities'!$J$36*'3.2 Emission predictors'!AD31/POWER(10,6) -> 214924.26 | AE24: ='2.2 Boundary incompleteness'!AE24 -> 0 | AF24: ='2.4 Carbon intensities'!$J$36*'3.2 Emission predictors'!AF31/POWER(10,6) -> 114071.6 | AG24: ='2.2 Boundary incompleteness'!AG24 -> 0 | AH24: ='2.4 Carbon intensities'!$J$36*'3.2 Emission predictors'!AH31/POWER(10,6) -> 14455.534 | AI24: ='2.2 Boundary incompleteness'!AI24 -> 281000 | AJ24: ='2.4 Carbon intensities'!$J$36*'3.2 Emission predictors'!AJ31/POWER(10,6) -> 14711.133 | AK24: ='2.4 Carbon intensities'!$J$36*'3.2 Emission predictors'!AK31/POWER(10,6) -> 10303.136 | AL24: ='2.4 Carbon intensities'!$J$36*'3.2 Emission predictors'!AL31/POWER(10,6) -> 20597.697 | AM24: ='2.2 Boundary incompleteness'!AM24 -> 0 | AN24: ='2.2 Boundary incompleteness'!AN24 -> 0 | AO24: ='2.2 Boundary incompleteness'!AO24 -> 110 | AP24: ='2.2 Boundary incompleteness'!AP24 -> 0 | AQ24: ='2.2 Boundary incompleteness'!AQ24 -> 0 | AR24: ='2.4 Carbon intensities'!$J$36*'3.2 Emission predictors'!AR31/POWER(10,6) -> 7753.9948 | AS24: ='2.2 Boundary incompleteness'!AS24 -> 2500 | AT24: ='2.2 Boundary incompleteness'!AT24 -> 0 | AU24: ='2.2 Boundary incompleteness'!AU24 -> 0 | AV24: ='2.2 Boundary incompleteness'!AV24 -> 0 | AW24: ='2.2 Boundary incompleteness'!AW24 -> 0 | AX24: ='2.4 Carbon intensities'!$J$36*'3.2 Emission predictors'!AX31/POWER(10,6) -> 4029.3541 | AY24: ='2.4 Carbon intensities'!$J$36*'3.2 Emission predictors'!AY31/POWER(10,6) -> 55275.569 | AZ24: ='2.4 Carbon intensities'!$J$36*'3.2 Emission predictors'!AZ31/POWER(10,6) -> 8955.8576 | BA24: ='2.2 Boundary incompleteness'!BA24 -> 2461 | BB24: ='2.2 Boundary incompleteness'!BB24 -> 0 | BC24: ='2.4 Carbon intensities'!$J$36*'3.2 Emission predictors'!BC31/POWER(10,6) -> 40018.579 | BD24: ='2.4 Carbon intensities'!$J$36*'3.2 Emission predictors'!BD31/POWER(10,6) -> 22828.367 | BE24: ='2.4 Carbon intensities'!$J$36*'3.2 Emission predictors'!BE31/POWER(10,6) -> 36619.733 | BF24: ='2.2 Boundary incompleteness'!BF24 -> 14116 | BG24: ='2.2 Boundary incompleteness'!BG24 -> 4175 | BH24: ='2.4 Carbon intensities'!$J$36*'3.2 Emission predictors'!BH31/POWER(10,6) -> 4415.2938 | BJ24: =SUM(E24:Z24)/SUM($E$16:$Z$16) -> 0.0022173807 | BK24: =SUM(AA24:BH24)/SUM($AA$16:$BH$16) -> 0.0017516063 | BL24: =SUM(E24:Z24) -> 166272.14 | BM24: =SUM(AA24:BH24) -> 1084408.6 | BN24: =BL24-'3.1 Emission data'!BN25 -> 140593.14 | BO24: =BM24-'3.1 Emission data'!BO25 -> 796623.56 | BR24: =INDEX($D$17:$D$25,MATCH(LARGE($BN$17:$BN$25,ROW(BN8)),$BN$17:$BN$25,0)) -> Other (upstream) | BS24: =VLOOKUP(BR24,$D$17:$BN$32,63,FALSE) -> 56368 | BT24: =VLOOKUP(BR24,$D$17:$BO$32,64,FALSE) -> 0 | BU24: =BS24/$BS$33 -> 0.0014254648 | BV24: =BT24/$BT$33 -> 0
