Workbook

Sheet Figure S5A
A1: Raisch et al.; Source Data Fig. S5A
A3: Raw data | C3: Individual measurements
A4: Concentration of verruculogen [M] | B4: n | C4: 1 | D4: 2 | E4: 3 | F4: 4 | G4: 5 | H4: 6 | I4: 7 | J4: 8 | K4: 9 | L4: 10 | M4: 11 | N4: 12 | O4: 13 | P4: Mean | Q4: Standard error of mean
A5: 1e-14 | B5: 11 | C5: 93.12 | D5: 90.73 | E5: 99.59 | F5: 113.4 | G5: 95.69 | H5: 138.18 | I5: 114.62 | J5: 126.29 | K5: 95.38 | L5: 74.01 | M5: 77.38 | P5: =AVERAGE(C5:O5) -> 101.67182 | Q5: =STDEV(C5:O5)/SQRT(B5) -> 5.9329102
A6: 1e-11 | B6: 8 | C6: 98.2 | D6: 96.56 | E6: 82.05 | F6: 111 | G6: 96.99 | H6: 115.19 | I6: 104.43 | J6: 89.74 | P6: =AVERAGE(C6:O6) -> 99.27 | Q6: =STDEV(C6:O6)/SQRT(B6) -> 3.8235679
A7: 1e-10 | B7: 10 | C7: 125.62 | D7: 102.42 | E7: 77.68 | F7: 73.18 | G7: 97.28 | H7: 98.58 | I7: 96.74 | J7: 95.77 | K7: 122.08 | L7: 102.46 | P7: =AVERAGE(C7:O7) -> 99.181 | Q7: =STDEV(C7:O7)/SQRT(B7) -> 5.1688611
A8: 1e-09 | B8: 10 | C8: 95.35 | D8: 104.67 | E8: 74.63 | F8: 100.52 | G8: 94.44 | H8: 97.48 | I8: 96.22 | J8: 119.74 | K8: 91.43 | L8: 104.39 | P8: =AVERAGE(C8:O8) -> 97.887 | Q8: =STDEV(C8:O8)/SQRT(B8) -> 3.6157495
A9: 3e-09 | B9: 8 | C9: 101.4 | D9: 76.68 | E9: 43.25 | F9: 110.28 | G9: 81.67 | H9: 110 | I9: 87.67 | J9: 108.03 | P9: =AVERAGE(C9:O9) -> 89.8725 | Q9: =STDEV(C9:O9)/SQRT(B9) -> 8.1328171
A10: 1e-08 | B10: 13 | C10: 53.22 | D10: 76.87 | E10: 39 | F10: 55.17 | G10: 42.31 | H10: 73.39 | I10: 72.74 | J10: 30.56 | K10: 116.95 | L10: 41.24 | M10: 6.47 | N10: 55.15 | O10: 37.4 | P10: =AVERAGE(C10:O10) -> 53.882308 | Q10: =STDEV(C10:O10)/SQRT(B10) -> 7.5211612
A11: 1e-07 | B11: 11 | C11: 27.83 | D11: 12.54 | E11: 11.81 | F11: 22.28 | G11: 21.94 | H11: 11.24 | I11: 18.12 | J11: 29.45 | K11: 10.78 | L11: 28.94 | M11: 21.72 | P11: =AVERAGE(C11:O11) -> 19.695455 | Q11: =STDEV(C11:O11)/SQRT(B11) -> 2.1938826
A12: 1e-06 | B12: 11 | C12: 15.25 | D12: 30.95 | E12: 50.52 | F12: 38.2 | G12: 34.29 | H12: 44.84 | I12: 61.95 | J12: 52.15 | K12: 12.22 | L12: 30.47 | M12: 45.99 | P12: =AVERAGE(C12:O12) -> 37.893636 | Q12: =STDEV(C12:O12)/SQRT(B12) -> 4.6156405
A16: Normalized* | C16: Individual measurements
A17: Concentration of verruculogen [M] | B17: n | C17: 1 | D17: 2 | E17: 3 | F17: 4 | G17: 5 | H17: 6 | I17: 7 | J17: 8 | K17: 9 | L17: 10 | M17: 11 | N17: 12 | O17: 13 | P17: Mean | Q17: Standard error of mean
A18: 1e-14 | B18: 11 | C18: =C5/VALUE(P5)*100 -> 91.588802 | D18: =D5/VALUE(P5)*100 -> 89.238101 | E18: =E5/VALUE(P5)*100 -> 97.952414 | F18: =F5/VALUE(P5)*100 -> 111.53533 | G18: =G5/VALUE(P5)*100 -> 94.116543 | H18: =H5/VALUE(P5)*100 -> 135.90787 | I18: =I5/VALUE(P5)*100 -> 112.73527 | J18: =J5/VALUE(P5)*100 -> 124.21338 | K18: =K5/VALUE(P5)*100 -> 93.81164 | L18: =L5/VALUE(P5)*100 -> 72.793033 | M18: =M5/VALUE(P5)*100 -> 76.107619 | P18: =AVERAGE(C18:O18) -> 100 | Q18: =STDEV(C18:O18)/SQRT(B18) -> 5.8353537
A19: 1e-11 | B19: 8 | C19: =C6/VALUE(P5)*100 -> 96.58527 | D19: =D6/VALUE(P5)*100 -> 94.972237 | E19: =E6/VALUE(P5)*100 -> 80.700829 | F19: =F6/VALUE(P5)*100 -> 109.1748 | G19: =G6/VALUE(P5)*100 -> 95.395166 | H19: =H6/VALUE(P5)*100 -> 113.2959 | I19: =I6/VALUE(P5)*100 -> 102.71283 | J19: =J6/VALUE(P5)*100 -> 88.26438 | P19: =AVERAGE(C19:O19) -> 97.637676 | Q19: =STDEV(C19:O19)/SQRT(B19) -> 3.7606959
A20: 1e-10 | B20: 10 | C20: =C7/VALUE(P5)*100 -> 123.5544 | D20: =D7/VALUE(P5)*100 -> 100.73588 | E20: =E7/VALUE(P5)*100 -> 76.402686 | F20: =F7/VALUE(P5)*100 -> 71.976681 | G20: =G7/VALUE(P5)*100 -> 95.680398 | H20: =H7/VALUE(P5)*100 -> 96.959021 | I20: =I7/VALUE(P5)*100 -> 95.149277 | J20: =J7/VALUE(P5)*100 -> 94.195227 | K20: =K7/VALUE(P5)*100 -> 120.0726 | L20: =L7/VALUE(P5)*100 -> 100.77522 | P20: =AVERAGE(C20:O20) -> 97.550139 | Q20: =STDEV(C20:O20)/SQRT(B20) -> 5.0838681
A21: 1e-09 | B21: 10 | C21: =C8/VALUE(P5)*100 -> 93.782133 | D21: =D8/VALUE(P5)*100 -> 102.94888 | E21: =E8/VALUE(P5)*100 -> 73.402838 | F21: =F8/VALUE(P5)*100 -> 98.867121 | G21: =G8/VALUE(P5)*100 -> 92.887097 | H21: =H8/VALUE(P5)*100 -> 95.877109 | I21: =I8/VALUE(P5)*100 -> 94.637828 | J21: =J8/VALUE(P5)*100 -> 117.77108 | K21: =K8/VALUE(P5)*100 -> 89.926591 | L21: =L8/VALUE(P5)*100 -> 102.67349 | P21: =AVERAGE(C21:O21) -> 96.277417 | Q21: =STDEV(C21:O21)/SQRT(B21) -> 3.5562947
A22: 3e-09 | B22: 8 | C22: =C9/VALUE(P5)*100 -> 99.732651 | D22: =D9/VALUE(P5)*100 -> 75.419129 | E22: =E9/VALUE(P5)*100 -> 42.538828 | F22: =F9/VALUE(P5)*100 -> 108.46664 | G22: =G9/VALUE(P5)*100 -> 80.327077 | H22: =H9/VALUE(P5)*100 -> 108.19124 | I22: =I9/VALUE(P5)*100 -> 86.228418 | J22: =J9/VALUE(P5)*100 -> 106.25363 | P22: =AVERAGE(C22:O22) -> 88.394701 | Q22: =STDEV(C22:O22)/SQRT(B22) -> 7.9990869
A23: 1e-08 | B23: 13 | C23: =C10/VALUE(P5)*100 -> 52.344889 | D23: =D10/VALUE(P5)*100 -> 75.606005 | E23: =E10/VALUE(P5)*100 -> 38.358712 | F23: =F10/VALUE(P5)*100 -> 54.262824 | G23: =G10/VALUE(P5)*100 -> 41.614285 | H23: =H10/VALUE(P5)*100 -> 72.183228 | I23: =I10/VALUE(P5)*100 -> 71.543916 | J23: =J10/VALUE(P5)*100 -> 30.057493 | K23: =K10/VALUE(P5)*100 -> 115.02696 | L23: =L10/VALUE(P5)*100 -> 40.561879 | M23: =M10/VALUE(P5)*100 -> 6.363612 | N23: =N10/VALUE(P5)*100 -> 54.243153 | O23: =O10/VALUE(P5)*100 -> 36.785021 | P23: =AVERAGE(C23:O23) -> 52.996306 | Q23: =STDEV(C23:O23)/SQRT(B23) -> 7.3974886
A24: 1e-07 | B24: 11 | C24: =C11/VALUE(P5)*100 -> 27.372384 | D24: =D11/VALUE(P5)*100 -> 12.333801 | E24: =E11/VALUE(P5)*100 -> 11.615805 | F24: =F11/VALUE(P5)*100 -> 21.913644 | G24: =G11/VALUE(P5)*100 -> 21.579234 | H24: =H11/VALUE(P5)*100 -> 11.055178 | I24: =I11/VALUE(P5)*100 -> 17.822048 | J24: =J11/VALUE(P5)*100 -> 28.965745 | K24: =K11/VALUE(P5)*100 -> 10.602741 | L24: =L11/VALUE(P5)*100 -> 28.464131 | M24: =M11/VALUE(P5)*100 -> 21.362852 | P24: =AVERAGE(C24:O24) -> 19.371597 | Q24: =STDEV(C24:O24)/SQRT(B24) -> 2.1578079
A25: 1e-06 | B25: 11 | C25: =C12/VALUE(P5)*100 -> 14.99924 | D25: =D12/VALUE(P5)*100 -> 30.44108 | E25: =E12/VALUE(P5)*100 -> 49.689285 | F25: =F12/VALUE(P5)*100 -> 37.571867 | G25: =G12/VALUE(P5)*100 -> 33.72616 | H25: =H12/VALUE(P5)*100 -> 44.102683 | I25: =I12/VALUE(P5)*100 -> 60.931339 | J25: =J12/VALUE(P5)*100 -> 51.292483 | K25: =K12/VALUE(P5)*100 -> 12.019063 | L25: =L12/VALUE(P5)*100 -> 29.968973 | M25: =M12/VALUE(P5)*100 -> 45.233774 | P25: =AVERAGE(C25:O25) -> 37.270541 | Q25: =STDEV(C25:O25)/SQRT(B25) -> 4.5397442
A27: *Normalized to mean value of 10^-14 M verruculogen set to 100

Sheet Figure S6A
A1: Raisch et al.; Source Data Fig. S6A
A3: Raw data | C3: Individual measurements
A4: Concentration of emodepside [M] | B4: n | C4: 1 | D4: 2 | E4: 3 | F4: 4 | G4: 5 | H4: 6 | I4: 7 | J4: 8 | K4: 9 | L4: 10 | M4: 11 | N4: 12 | O4: 13 | P4: 14 | Q4: 15 | R4: 16 | S4: Mean | T4: Standard error of mean
A5: 1e-08 | B5: 13 | C5: 1 | D5: 1.1 | E5: 1.3 | F5: 0.9 | G5: 0.9 | H5: 1.2 | I5: 1 | J5: 1.1 | K5: 1.2 | L5: 1.1 | M5: 1.1 | N5: 0.7 | O5: 0.8 | S5: =AVERAGE(C5:R5) -> 1.0307692 | T5: =STDEV(C5:R5)/SQRT(B5) -> 0.047210135
A6: 3e-08 | B6: 15 | C6: 0.8 | D6: 0.9 | E6: 1.3 | F6: 0.7 | G6: 1.1 | H6: 1.2 | I6: 1 | J6: 1.2 | K6: 1.1 | L6: 0.7 | M6: 0.9 | N6: 1 | O6: 1 | P6: 1.6666667 | Q6: 1 | S6: =AVERAGE(C6:R6) -> 1.0377778 | T6: =STDEV(C6:R6)/SQRT(B6) -> 0.063734458
A7: 1e-07 | B7: 12 | C7: 1 | D7: 1 | E7: 1.1111111 | F7: 1.2 | G7: 1.125 | H7: 1 | I7: 1 | J7: 1 | K7: 0.9 | L7: 1.2 | M7: 0.7 | N7: 1.3 | S7: =AVERAGE(C7:R7) -> 1.0446759 | T7: =STDEV(C7:R7)/SQRT(B7) -> 0.045562097
A8: 3e-07 | B8: 12 | C8: 1.4 | D8: 1 | E8: 2.5 | F8: 1.6666667 | G8: 1.2857143 | H8: 2 | I8: 1.5 | J8: 1.6666667 | K8: 2.3 | L8: 1.9 | M8: 2 | N8: 1.8 | S8: =AVERAGE(C8:R8) -> 1.7515873 | T8: =STDEV(C8:R8)/SQRT(B8) -> 0.12284259
A9: 1e-06 | B9: 16 | C9: 3 | D9: 1.5 | E9: 2 | F9: 2.5 | G9: 3 | H9: 3.5 | I9: 7 | J9: 3 | K9: 2.25 | L9: 2 | M9: 1.6666667 | N9: 1.6666667 | O9: 2.5 | P9: 2 | Q9: 2.6666667 | R9: 2.4 | S9: =AVERAGE(C9:R9) -> 2.665625 | T9: =STDEV(C9:R9)/SQRT(B9) -> 0.32145671
A10: 3e-06 | B10: 16 | C10: 2 | D10: 5.8333333 | E10: 3.6 | F10: 3 | G10: 2.4 | H10: 3.3333333 | I10: 8.5 | J10: 4 | K10: 5 | L10: 4 | M10: 3 | N10: 1.75 | O10: 7 | P10: 2.1428571 | Q10: 4 | R10: 3 | S10: =AVERAGE(C10:R10) -> 3.9099702 | T10: =STDEV(C10:R10)/SQRT(B10) -> 0.46617839
A11: 1e-05 | B11: 16 | C11: 10 | D11: 3 | E11: 2.5 | F11: 14 | G11: 4.5 | H11: 8 | I11: 3.5 | J11: 5 | K11: 12 | L11: 5 | M11: 5.625 | N11: 4 | O11: 5 | P11: 4.3333333 | Q11: 4 | R11: 3.4 | S11: =AVERAGE(C11:R11) -> 5.8661458 | T11: =STDEV(C11:R11)/SQRT(B11) -> 0.84197618
A16: Normalized* | C16: Individual measurements
A17: Concentration of emodepside [M] | B17: n | C17: 1 | D17: 2 | E17: 3 | F17: 4 | G17: 5 | H17: 6 | I17: 7 | J17: 8 | K17: 9 | L17: 10 | M17: 11 | N17: 12 | O17: 13 | S17: Mean | T17: Standard error of mean
A18: 1e-08 | B18: 13 | C18: =C5/VALUE(S11)*100 -> 17.046968 | D18: =D5/VALUE(S11)*100 -> 18.751665 | E18: =E5/VALUE(S11)*100 -> 22.161058 | F18: =F5/VALUE(S11)*100 -> 15.342271 | G18: =G5/VALUE(S11)*100 -> 15.342271 | H18: =H5/VALUE(S11)*100 -> 20.456362 | I18: =I5/VALUE(S11)*100 -> 17.046968 | J18: =J5/VALUE(S11)*100 -> 18.751665 | K18: =K5/VALUE(S11)*100 -> 20.456362 | L18: =L5/VALUE(S11)*100 -> 18.751665 | M18: =M5/VALUE(S11)*100 -> 18.751665 | N18: =N5/VALUE(S11)*100 -> 11.932878 | O18: =O5/VALUE(S11)*100 -> 13.637574 | S18: =AVERAGE(C18:R18) -> 17.57149 | T18: =STDEV(C18:R18)/SQRT(B18) -> 0.80478966
A19: 3e-08 | B19: 15 | C19: =C6/VALUE(S11)*100 -> 13.637574 | D19: =D6/VALUE(S11)*100 -> 15.342271 | E19: =E6/VALUE(S11)*100 -> 22.161058 | F19: =F6/VALUE(S11)*100 -> 11.932878 | G19: =G6/VALUE(S11)*100 -> 18.751665 | H19: =H6/VALUE(S11)*100 -> 20.456362 | I19: =I6/VALUE(S11)*100 -> 17.046968 | J19: =J6/VALUE(S11)*100 -> 20.456362 | K19: =K6/VALUE(S11)*100 -> 18.751665 | L19: =L6/VALUE(S11)*100 -> 11.932878 | M19: =M6/VALUE(S11)*100 -> 15.342271 | N19: =N6/VALUE(S11)*100 -> 17.046968 | O19: =O6/VALUE(S11)*100 -> 17.046968 | P19: =P6/VALUE(S11)*100 -> 28.411613 | Q19: =Q6/VALUE(S11)*100 -> 17.046968 | S19: =AVERAGE(C19:R19) -> 17.690965 | T19: =STDEV(C19:R19)/SQRT(B19) -> 1.0864793
A20: 1e-07 | B20: 12 | C20: =C7/VALUE(S11)*100 -> 17.046968 | D20: =D7/VALUE(S11)*100 -> 17.046968 | E20: =E7/VALUE(S11)*100 -> 18.941075 | F20: =F7/VALUE(S11)*100 -> 20.456362 | G20: =G7/VALUE(S11)*100 -> 19.177839 | H20: =H7/VALUE(S11)*100 -> 17.046968 | I20: =I7/VALUE(S11)*100 -> 17.046968 | J20: =J7/VALUE(S11)*100 -> 17.046968 | K20: =K7/VALUE(S11)*100 -> 15.342271 | L20: =L7/VALUE(S11)*100 -> 20.456362 | M20: =M7/VALUE(S11)*100 -> 11.932878 | N20: =N7/VALUE(S11)*100 -> 22.161058 | S20: =AVERAGE(C20:R20) -> 17.808557 | T20: =STDEV(C20:R20)/SQRT(B20) -> 0.77669561
A21: 3e-07 | B21: 12 | C21: =C8/VALUE(S11)*100 -> 23.865755 | D21: =D8/VALUE(S11)*100 -> 17.046968 | E21: =E8/VALUE(S11)*100 -> 42.61742 | F21: =F8/VALUE(S11)*100 -> 28.411613 | G21: =G8/VALUE(S11)*100 -> 21.91753 | H21: =H8/VALUE(S11)*100 -> 34.093936 | I21: =I8/VALUE(S11)*100 -> 25.570452 | J21: =J8/VALUE(S11)*100 -> 28.411613 | K21: =K8/VALUE(S11)*100 -> 39.208026 | L21: =L8/VALUE(S11)*100 -> 32.389239 | M21: =M8/VALUE(S11)*100 -> 34.093936 | N21: =N8/VALUE(S11)*100 -> 30.684542 | S21: =AVERAGE(C21:R21) -> 29.859253 | T21: =STDEV(C21:R21)/SQRT(B21) -> 2.0940937
A22: 1e-06 | B22: 16 | C22: =C9/VALUE(S11)*100 -> 51.140904 | D22: =D9/VALUE(S11)*100 -> 25.570452 | E22: =E9/VALUE(S11)*100 -> 34.093936 | F22: =F9/VALUE(S11)*100 -> 42.61742 | G22: =G9/VALUE(S11)*100 -> 51.140904 | H22: =H9/VALUE(S11)*100 -> 59.664388 | I22: =I9/VALUE(S11)*100 -> 119.32878 | J22: =J9/VALUE(S11)*100 -> 51.140904 | K22: =K9/VALUE(S11)*100 -> 38.355678 | L22: =L9/VALUE(S11)*100 -> 34.093936 | M22: =M9/VALUE(S11)*100 -> 28.411613 | N22: =N9/VALUE(S11)*100 -> 28.411613 | O22: =O9/VALUE(S11)*100 -> 42.61742 | P22: =P9/VALUE(S11)*100 -> 34.093936 | Q22: =Q9/VALUE(S11)*100 -> 45.458581 | R22: =R9/VALUE(S11)*100 -> 40.912723 | S22: =AVERAGE(C22:R22) -> 45.440824 | T22: =STDEV(C22:R22)/SQRT(B22) -> 5.4798623
A23: 3e-06 | B23: 16 | C23: =C10/VALUE(S11)*100 -> 34.093936 | D23: =D10/VALUE(S11)*100 -> 99.440646 | E23: =E10/VALUE(S11)*100 -> 61.369085 | F23: =F10/VALUE(S11)*100 -> 51.140904 | G23: =G10/VALUE(S11)*100 -> 40.912723 | H23: =H10/VALUE(S11)*100 -> 56.823226 | I23: =I10/VALUE(S11)*100 -> 144.89923 | J23: =J10/VALUE(S11)*100 -> 68.187872 | K23: =K10/VALUE(S11)*100 -> 85.23484 | L23: =L10/VALUE(S11)*100 -> 68.187872 | M23: =M10/VALUE(S11)*100 -> 51.140904 | N23: =N10/VALUE(S11)*100 -> 29.832194 | O23: =O10/VALUE(S11)*100 -> 119.32878 | P23: =P10/VALUE(S11)*100 -> 36.529217 | Q23: =Q10/VALUE(S11)*100 -> 68.187872 | R23: =R10/VALUE(S11)*100 -> 51.140904 | S23: =AVERAGE(C23:R23) -> 66.653137 | T23: =STDEV(C23:R23)/SQRT(B23) -> 7.946928
A24: 1e-05 | B24: 16 | C24: =C11/VALUE(S11)*100 -> 170.46968 | D24: =D11/VALUE(S11)*100 -> 51.140904 | E24: =E11/VALUE(S11)*100 -> 42.61742 | F24: =F11/VALUE(S11)*100 -> 238.65755 | G24: =G11/VALUE(S11)*100 -> 76.711356 | H24: =H11/VALUE(S11)*100 -> 136.37574 | I24: =I11/VALUE(S11)*100 -> 59.664388 | J24: =J11/VALUE(S11)*100 -> 85.23484 | K24: =K11/VALUE(S11)*100 -> 204.56362 | L24: =L11/VALUE(S11)*100 -> 85.23484 | M24: =M11/VALUE(S11)*100 -> 95.889195 | N24: =N11/VALUE(S11)*100 -> 68.187872 | O24: =O11/VALUE(S11)*100 -> 85.23484 | P24: =P11/VALUE(S11)*100 -> 73.870194 | Q24: =Q11/VALUE(S11)*100 -> 68.187872 | R24: =R11/VALUE(S11)*100 -> 57.959691 | S24: =AVERAGE(C24:R24) -> 100 | T24: =STDEV(C24:R24)/SQRT(B24) -> 14.353141
A27: *Normalized to mean value of 10^-5 M emodepside set to 100

Sheet Figure S8A
A1: Raisch et al.; Source Data Fig. S8A
A3: Raw data | C3: Individual measurements
A4: Concentration of verruculogen [M] | B4: n | C4: 1 | D4: 2 | E4: 3 | F4: 4 | G4: 5 | H4: 6 | I4: 7 | J4: 8 | K4: 9 | L4: 10 | M4: 11 | P4: Mean | Q4: Standard error of mean
A5: 1e-14 | B5: 7 | C5: 96.95 | D5: 87.38 | E5: 136.16 | F5: 100.31 | G5: 110.54 | H5: 101.91 | I5: 98.63 | P5: =AVERAGE(C5:O5) -> 104.55429 | Q5: =STDEV(C5:O5)/SQRT(B5) -> 5.870902
A6: 3e-08 | B6: 9 | C6: 101.56 | D6: 107.93 | E6: 75.19 | F6: 105.15 | G6: 82.75 | H6: 99.33 | I6: 99.68 | J6: 104.12 | K6: 89.97 | P6: =AVERAGE(C6:O6) -> 96.186667 | Q6: =STDEV(C6:O6)/SQRT(B6) -> 3.7122032
A7: 1e-07 | B7: 7 | C7: 81.9 | D7: 93.77 | E7: 99.97 | F7: 101.62 | G7: 94.09 | H7: 91.05 | I7: 110.83 | P7: =AVERAGE(C7:O7) -> 96.175714 | Q7: =STDEV(C7:O7)/SQRT(B7) -> 3.4468466
A8: 3e-07 | B8: 6 | C8: 112.26 | D8: 121.11 | E8: 86.17 | F8: 82.88 | G8: 101.26 | H8: 125.13 | P8: =AVERAGE(C8:O8) -> 104.80167 | Q8: =STDEV(C8:O8)/SQRT(B8) -> 7.2458528
A9: 1e-06 | B9: 7 | C9: 106.21 | D9: 106.45 | E9: 105.12 | F9: 78.44 | G9: 94.53 | H9: 111.73 | I9: 88.27 | P9: =AVERAGE(C9:O9) -> 98.678571 | Q9: =STDEV(C9:O9)/SQRT(B9) -> 4.5358311
A10: 3e-06 | B10: 9 | C10: 87.74 | D10: 125.31 | E10: 89.51 | F10: 96.59 | G10: 101.05 | H10: 96.64 | I10: 95.7 | J10: 87.4 | K10: 91.6 | P10: =AVERAGE(C10:O10) -> 96.837778 | Q10: =STDEV(C10:O10)/SQRT(B10) -> 3.8779597
A11: 1e-05 | B11: 7 | C11: 124.49 | D11: 99.44 | E11: 95.58 | F11: 76.08 | G11: 127.94 | H11: 84.42 | I11: 91.46 | P11: =AVERAGE(C11:O11) -> 99.915714 | Q11: =STDEV(C11:O11)/SQRT(B11) -> 7.3808607
A12: 3e-05 | B12: 11 | C12: 83.6 | D12: 90.44 | E12: 87.08 | F12: 96.25 | G12: 87.82 | H12: 81.53 | I12: 85.54 | J12: 85.37 | K12: 80.51 | L12: 83.29 | M12: 90.46 | P12: =AVERAGE(C12:O12) -> 86.535455 | Q12: =STDEV(C12:O12)/SQRT(B12) -> 1.3811269
A16: Normalized* | C16: Individual measurements
A17: Concentration of verruculogen [M] | B17: n | C17: 1 | D17: 2 | E17: 3 | F17: 4 | G17: 5 | H17: 6 | I17: 7 | J17: 8 | K17: 9 | L17: 10 | M17: 11 | P17: Mean | Q17: Standard error of mean
A18: 1e-14 | B18: 11 | C18: =C5/VALUE(P5)*100 -> 92.72695 | D18: =D5/VALUE(P5)*100 -> 83.57381 | E18: =E5/VALUE(P5)*100 -> 130.229 | F18: =F5/VALUE(P5)*100 -> 95.940591 | G18: =G5/VALUE(P5)*100 -> 105.72498 | H18: =H5/VALUE(P5)*100 -> 97.470897 | I18: =I5/VALUE(P5)*100 -> 94.333771 | P18: =AVERAGE(C18:O18) -> 100 | Q18: =STDEV(C18:O18)/SQRT(B18) -> 4.4793569
A19: 1e-11 | B19: 8 | C19: =C6/VALUE(P5)*100 -> 97.136143 | D19: =D6/VALUE(P5)*100 -> 103.22867 | E19: =E6/VALUE(P5)*100 -> 71.914795 | F19: =F6/VALUE(P5)*100 -> 100.56977 | G19: =G6/VALUE(P5)*100 -> 79.145488 | H19: =H6/VALUE(P5)*100 -> 95.003279 | I19: =I6/VALUE(P5)*100 -> 95.338034 | J19: =J6/VALUE(P5)*100 -> 99.584631 | K19: =K6/VALUE(P5)*100 -> 86.050992 | P19: =AVERAGE(C19:O19) -> 91.996867 | Q19: =STDEV(C19:O19)/SQRT(B19) -> 3.7658773
A20: 1e-10 | B20: 10 | C20: =C7/VALUE(P5)*100 -> 78.332514 | D20: =D7/VALUE(P5)*100 -> 89.685468 | E20: =E7/VALUE(P5)*100 -> 95.615401 | F20: =F7/VALUE(P5)*100 -> 97.193529 | G20: =G7/VALUE(P5)*100 -> 89.991529 | H20: =H7/VALUE(P5)*100 -> 87.083948 | I20: =I7/VALUE(P5)*100 -> 106.00235 | P20: =AVERAGE(C20:O20) -> 91.986391 | Q20: =STDEV(C20:O20)/SQRT(B20) -> 2.7582215
A21: 1e-09 | B21: 10 | C21: =C8/VALUE(P5)*100 -> 107.37006 | D21: =D8/VALUE(P5)*100 -> 115.83456 | E21: =E8/VALUE(P5)*100 -> 82.416516 | F21: =F8/VALUE(P5)*100 -> 79.269826 | G21: =G8/VALUE(P5)*100 -> 96.84921 | H21: =H8/VALUE(P5)*100 -> 119.67946 | P21: =AVERAGE(C21:O21) -> 100.23661 | Q21: =STDEV(C21:O21)/SQRT(B21) -> 5.3681333
A22: 3e-09 | B22: 8 | C22: =C9/VALUE(P5)*100 -> 101.58359 | D22: =D9/VALUE(P5)*100 -> 101.81314 | E22: =E9/VALUE(P5)*100 -> 100.54107 | F22: =F9/VALUE(P5)*100 -> 75.023228 | G22: =G9/VALUE(P5)*100 -> 90.412363 | H22: =H9/VALUE(P5)*100 -> 106.86315 | I22: =I9/VALUE(P5)*100 -> 84.425042 | P22: =AVERAGE(C22:O22) -> 94.380226 | Q22: =STDEV(C22:O22)/SQRT(B22) -> 4.0580656
A23: 1e-08 | B23: 13 | C23: =C10/VALUE(P5)*100 -> 83.918129 | D23: =D10/VALUE(P5)*100 -> 119.85162 | E23: =E10/VALUE(P5)*100 -> 85.611029 | F23: =F10/VALUE(P5)*100 -> 92.382631 | G23: =G10/VALUE(P5)*100 -> 96.648358 | H23: =H10/VALUE(P5)*100 -> 92.430453 | I23: =I10/VALUE(P5)*100 -> 91.531399 | J23: =J10/VALUE(P5)*100 -> 83.592939 | K23: =K10/VALUE(P5)*100 -> 87.609991 | P23: =AVERAGE(C23:O23) -> 92.619616 | Q23: =STDEV(C23:O23)/SQRT(B23) -> 3.0861074
A24: 1e-07 | B24: 11 | C24: =C11/VALUE(P5)*100 -> 119.06733 | D24: =D11/VALUE(P5)*100 -> 95.108488 | E24: =E11/VALUE(P5)*100 -> 91.416626 | F24: =F11/VALUE(P5)*100 -> 72.766027 | G24: =G11/VALUE(P5)*100 -> 122.36705 | H24: =H11/VALUE(P5)*100 -> 80.742745 | I24: =I11/VALUE(P5)*100 -> 87.476089 | P24: =AVERAGE(C24:O24) -> 95.56348 | Q24: =STDEV(C24:O24)/SQRT(B24) -> 5.631419
A25: 1e-06 | B25: 11 | C25: =C12/VALUE(P5)*100 -> 79.958463 | D25: =D12/VALUE(P5)*100 -> 86.500519 | E25: =E12/VALUE(P5)*100 -> 83.286878 | F25: =F12/VALUE(P5)*100 -> 92.057441 | G25: =G12/VALUE(P5)*100 -> 83.994644 | H25: =H12/VALUE(P5)*100 -> 77.97863 | I25: =I12/VALUE(P5)*100 -> 81.813959 | J25: =J12/VALUE(P5)*100 -> 81.651364 | K25: =K12/VALUE(P5)*100 -> 77.003061 | L25: =L12/VALUE(P5)*100 -> 79.661966 | M25: =M12/VALUE(P5)*100 -> 86.519648 | P25: =AVERAGE(C25:O25) -> 82.766052 | Q25: =STDEV(C25:O25)/SQRT(B25) -> 1.3209663
A27: *Normalized to mean value of 10^-14 M verruculogen set to 100

Sheet Figure S8B
A1: Raisch et al.; Source Data Fig. S8B
A3: Raw data | C3: Individual measurements
A4: Concentration of emodepside [M] | B4: n | C4: 1 | D4: 2 | E4: 3 | F4: 4 | G4: 5 | H4: 6 | I4: 7 | J4: 8 | K4: 9 | L4: 10 | M4: 11 | N4: 12 | O4: 13 | P4: Mean | Q4: Standard error of mean
A5: 3e-08 | B5: 10 | C5: 5.05e-11 | D5: 4.78e-11 | E5: 4.61e-11 | F5: 3.24e-11 | G5: 2.04e-10 | H5: 6.6e-11 | I5: 3.08e-11 | J5: 4.44e-11 | K5: 5.34e-11 | L5: 1.04e-10 | P5: =AVERAGE(C5:O5) -> 6.794e-11 | Q5: =STDEV(C5:O5)/SQRT(B5) -> 1.6469225e-11 | U5: =STDEV(C5:O5) -> 5.2080263e-11 | V5: =VALUE(R5)/VALUE(P5)*U5 -> 0
A6: 1e-07 | B6: 10 | C6: 5.74e-11 | D6: 2.29e-11 | E6: 1.61e-11 | F6: 8.17e-11 | G6: 3.77e-11 | H6: 1.89e-11 | I6: -4.25e-11 | J6: 1.45e-11 | K6: 8.9e-11 | L6: 7.33e-11 | P6: =AVERAGE(C6:O6) -> 3.69e-11 | Q6: =STDEV(C6:O6)/SQRT(B6) -> 1.2572483e-11 | U6: =STDEV(C6:O6) -> 3.9757683e-11 | V6: =VALUE(R5)/VALUE(P5)*U6 -> 0
A7: 3e-07 | B7: 12 | C7: 4.62e-11 | D7: 3.9e-11 | E7: 3.09e-11 | F7: 3.8e-11 | G7: 4.63e-11 | H7: 4.15e-11 | I7: 6.01e-11 | J7: 1.75e-11 | K7: 2.88e-11 | L7: 1.17e-10 | M7: 1.29e-10 | N7: 4.02e-11 | P7: =AVERAGE(C7:O7) -> 5.2875e-11 | Q7: =STDEV(C7:O7)/SQRT(B7) -> 9.9486342e-12 | U7: =STDEV(C7:O7) -> 3.446308e-11 | V7: =VALUE(R5)/VALUE(P5)*U7 -> 0
A8: 1e-06 | B8: 10 | C8: 3.26e-11 | D8: 4.6e-11 | E8: 5.57e-11 | F8: 4.42e-11 | G8: 7.47e-11 | H8: 5.63e-11 | I8: 4.8e-11 | J8: 5.93e-11 | K8: 4.02e-11 | L8: 6.78e-11 | P8: =AVERAGE(C8:O8) -> 5.248e-11 | Q8: =STDEV(C8:O8)/SQRT(B8) -> 4.0504266e-12 | U8: =STDEV(C8:O8) -> 1.2808574e-11 | V8: =VALUE(R5)/VALUE(P5)*U8 -> 0
A9: 3e-06 | B9: 13 | C9: 2.94e-11 | D9: 3.83e-11 | E9: 5.39e-11 | F9: 5.86e-11 | G9: 5.64e-11 | H9: 4.7e-11 | I9: 6.07e-11 | J9: 7.17e-11 | K9: 5.53e-11 | L9: 4.56e-11 | M9: 4.21e-11 | N9: 5.24e-11 | O9: 6.72e-11 | P9: =AVERAGE(C9:O9) -> 5.22e-11 | Q9: =STDEV(C9:O9)/SQRT(B9) -> 3.2367085e-12 | U9: =STDEV(C9:O9) -> 1.1670119e-11 | V9: =VALUE(R5)/VALUE(P5)*U9 -> 0
A10: 1e-05 | B10: 10 | C10: 7.64e-11 | D10: 8.35e-11 | E10: 3.16e-11 | F10: 3.25e-11 | G10: 4.58e-11 | H10: 6.1e-11 | I10: 4.07e-11 | J10: 2.79e-11 | K10: 6.65e-11 | L10: 5.76e-11 | P10: =AVERAGE(C10:O10) -> 5.235e-11 | Q10: =STDEV(C10:O10)/SQRT(B10) -> 6.1934957e-12 | U10: =STDEV(C10:O10) -> 1.9585553e-11 | V10: =VALUE(R5)/VALUE(P5)*U10 -> 0
A11: 3e-05 | B11: 9 | C11: 6.5e-11 | D11: 7.03e-11 | E11: 2e-11 | F11: 5.89e-11 | G11: 3.33e-11 | H11: 8.31e-11 | I11: 6.39e-11 | J11: 5.12e-11 | K11: 5.43e-11 | P11: =AVERAGE(C11:O11) -> 5.5555556e-11 | Q11: =STDEV(C11:O11)/SQRT(B11) -> 6.3750405e-12 | U11: =STDEV(C11:O11) -> 1.9125122e-11 | V11: =VALUE(R5)/VALUE(P5)*U11 -> 0
A16: Normalized* | C16: Individual measurements
A17: Concentration of emodepside [M] | B17: n | C17: 1 | D17: 2 | E17: 3 | F17: 4 | G17: 5 | H17: 6 | I17: 7 | J17: 8 | K17: 9 | L17: 10 | M17: 11 | N17: 12 | O17: 13 | P17: Mean | Q17: Standard error of mean
A18: 3e-08 | B18: 10 | C18: =C5/VALUE('Figure S6A'!S11)*100 -> 8.6087188e-10 | D18: =D5/VALUE('Figure S6A'!S11)*100 -> 8.1484507e-10 | E18: =E5/VALUE('Figure S6A'!S11)*100 -> 7.8586522e-10 | F18: =F5/VALUE('Figure S6A'!S11)*100 -> 5.5232176e-10 | G18: =G5/VALUE('Figure S6A'!S11)*100 -> 3.4775815e-09 | H18: =H5/VALUE('Figure S6A'!S11)*100 -> 1.1250999e-09 | I18: =I5/VALUE('Figure S6A'!S11)*100 -> 5.2504661e-10 | J18: =J5/VALUE('Figure S6A'!S11)*100 -> 7.5688538e-10 | K18: =K5/VALUE('Figure S6A'!S11)*100 -> 9.1030809e-10 | L18: =L5/VALUE('Figure S6A'!S11)*100 -> 1.7728847e-09 | P18: =AVERAGE(C18:O18) -> 1.158171e-09 | Q18: =STDEV(C18:O18)/SQRT(B18) -> 2.8075035e-10
A19: 1e-07 | B19: 10 | C19: =C6/VALUE('Figure S6A'!S11)*100 -> 9.7849596e-10 | D19: =D6/VALUE('Figure S6A'!S11)*100 -> 3.9037557e-10 | E19: =E6/VALUE('Figure S6A'!S11)*100 -> 2.7445618e-10 | F19: =F6/VALUE('Figure S6A'!S11)*100 -> 1.3927373e-09 | G19: =G6/VALUE('Figure S6A'!S11)*100 -> 6.4267069e-10 | H19: =H6/VALUE('Figure S6A'!S11)*100 -> 3.2218769e-10 | I19: =I6/VALUE('Figure S6A'!S11)*100 -> -7.2449614e-10 | J19: =J6/VALUE('Figure S6A'!S11)*100 -> 2.4718104e-10 | K19: =K6/VALUE('Figure S6A'!S11)*100 -> 1.5171801e-09 | L19: =L6/VALUE('Figure S6A'!S11)*100 -> 1.2495428e-09 | P19: =AVERAGE(C19:O19) -> 6.2903312e-10 | Q19: =STDEV(C19:O19)/SQRT(B19) -> 2.1432272e-10
A20: 3e-07 | B20: 12 | C20: =C7/VALUE('Figure S6A'!S11)*100 -> 7.8756992e-10 | D20: =D7/VALUE('Figure S6A'!S11)*100 -> 6.6483175e-10 | E20: =E7/VALUE('Figure S6A'!S11)*100 -> 5.2675131e-10 | F20: =F7/VALUE('Figure S6A'!S11)*100 -> 6.4778478e-10 | G20: =G7/VALUE('Figure S6A'!S11)*100 -> 7.8927462e-10 | H20: =H7/VALUE('Figure S6A'!S11)*100 -> 7.0744917e-10 | I20: =I7/VALUE('Figure S6A'!S11)*100 -> 1.0245228e-09 | J20: =J7/VALUE('Figure S6A'!S11)*100 -> 2.9832194e-10 | K20: =K7/VALUE('Figure S6A'!S11)*100 -> 4.9095268e-10 | L20: =L7/VALUE('Figure S6A'!S11)*100 -> 1.9944953e-09 | M20: =M7/VALUE('Figure S6A'!S11)*100 -> 2.1990589e-09 | N20: =N7/VALUE('Figure S6A'!S11)*100 -> 6.8528811e-10 | P20: =AVERAGE(C20:O20) -> 9.0135843e-10 | Q20: =STDEV(C20:O20)/SQRT(B20) -> 1.6959405e-10
A21: 1e-06 | B21: 10 | C21: =C8/VALUE('Figure S6A'!S11)*100 -> 5.5573116e-10 | D21: =D8/VALUE('Figure S6A'!S11)*100 -> 7.8416053e-10 | E21: =E8/VALUE('Figure S6A'!S11)*100 -> 9.4951611e-10 | F21: =F8/VALUE('Figure S6A'!S11)*100 -> 7.5347598e-10 | G21: =G8/VALUE('Figure S6A'!S11)*100 -> 1.2734085e-09 | H21: =H8/VALUE('Figure S6A'!S11)*100 -> 9.597443e-10 | I21: =I8/VALUE('Figure S6A'!S11)*100 -> 8.1825446e-10 | J21: =J8/VALUE('Figure S6A'!S11)*100 -> 1.0108852e-09 | K21: =K8/VALUE('Figure S6A'!S11)*100 -> 6.8528811e-10 | L21: =L8/VALUE('Figure S6A'!S11)*100 -> 1.1557844e-09 | P21: =AVERAGE(C21:O21) -> 8.9462488e-10 | Q21: =STDEV(C21:O21)/SQRT(B21) -> 6.9047492e-11
A22: 3e-06 | B22: 13 | C22: =C9/VALUE('Figure S6A'!S11)*100 -> 5.0118086e-10 | D22: =D9/VALUE('Figure S6A'!S11)*100 -> 6.5289887e-10 | E22: =E9/VALUE('Figure S6A'!S11)*100 -> 9.1883157e-10 | F22: =F9/VALUE('Figure S6A'!S11)*100 -> 9.9895232e-10 | G22: =G9/VALUE('Figure S6A'!S11)*100 -> 9.6144899e-10 | H22: =H9/VALUE('Figure S6A'!S11)*100 -> 8.0120749e-10 | I22: =I9/VALUE('Figure S6A'!S11)*100 -> 1.034751e-09 | J22: =J9/VALUE('Figure S6A'!S11)*100 -> 1.2222676e-09 | K22: =K9/VALUE('Figure S6A'!S11)*100 -> 9.4269733e-10 | L22: =L9/VALUE('Figure S6A'!S11)*100 -> 7.7734174e-10 | M22: =M9/VALUE('Figure S6A'!S11)*100 -> 7.1767735e-10 | N22: =N9/VALUE('Figure S6A'!S11)*100 -> 8.9326112e-10 | O22: =O9/VALUE('Figure S6A'!S11)*100 -> 1.1455562e-09 | P22: =AVERAGE(C22:O22) -> 8.8985173e-10 | Q22: =STDEV(C22:O22)/SQRT(B22) -> 5.5176066e-11
A23: 1e-05 | B23: 10 | C23: =C10/VALUE('Figure S6A'!S11)*100 -> 1.3023884e-09 | D23: =D10/VALUE('Figure S6A'!S11)*100 -> 1.4234218e-09 | E23: =E10/VALUE('Figure S6A'!S11)*100 -> 5.3868419e-10 | F23: =F10/VALUE('Figure S6A'!S11)*100 -> 5.5402646e-10 | G23: =G10/VALUE('Figure S6A'!S11)*100 -> 7.8075113e-10 | H23: =H10/VALUE('Figure S6A'!S11)*100 -> 1.039865e-09 | I23: =I10/VALUE('Figure S6A'!S11)*100 -> 6.938116e-10 | J23: =J10/VALUE('Figure S6A'!S11)*100 -> 4.7561041e-10 | K23: =K10/VALUE('Figure S6A'!S11)*100 -> 1.1336234e-09 | L23: =L10/VALUE('Figure S6A'!S11)*100 -> 9.8190535e-10 | P23: =AVERAGE(C23:O23) -> 8.9240877e-10 | Q23: =STDEV(C23:O23)/SQRT(B23) -> 1.0558032e-10
A24: 3e-05 | B24: 9 | C24: =C11/VALUE('Figure S6A'!S11)*100 -> 1.1080529e-09 | D24: =D11/VALUE('Figure S6A'!S11)*100 -> 1.1984018e-09 | E24: =E11/VALUE('Figure S6A'!S11)*100 -> 3.4093936e-10 | F24: =F11/VALUE('Figure S6A'!S11)*100 -> 1.0040664e-09 | G24: =G11/VALUE('Figure S6A'!S11)*100 -> 5.6766403e-10 | H24: =H11/VALUE('Figure S6A'!S11)*100 -> 1.416603e-09 | I24: =I11/VALUE('Figure S6A'!S11)*100 -> 1.0893013e-09 | J24: =J11/VALUE('Figure S6A'!S11)*100 -> 8.7280476e-10 | K24: =K11/VALUE('Figure S6A'!S11)*100 -> 9.2565036e-10 | P24: =AVERAGE(C24:O24) -> 9.4705377e-10 | Q24: =STDEV(C24:O24)/SQRT(B24) -> 1.0867511e-10
A27: *Values were normalized to Slo with 3*10^-5 M emodepside in the absence of Verruculogen
