Workbook

Sheet Figure 2a
A1: Treatment group | B1: KANA - CO | T1: Treatment group | U1: KANA - TRP | AM1: Treatment group | AN1: KANA - TYR
A4: Average | B4: =AVERAGE(B10:B25) -> 0.004 | C4: =AVERAGE(C10:C25) -> 0.09091875 | D4: =AVERAGE(D10:D25) -> 0.04944125 | E4: =AVERAGE(E10:E89) -> 0.058274 | F4: =AVERAGE(F10:F89) -> 0.08454275 | G4: =AVERAGE(G10:G89) -> 0.0834355 | H4: =AVERAGE(H10:H89) -> 0.014902 | I4: =AVERAGE(I10:I89) -> 0.0007899375 | J4: =AVERAGE(J10:J89) -> 0.0003473125 | K4: =AVERAGE(K10:K89) -> -0.000105 | L4: =AVERAGE(L10:L89) -> -0.00016121875 | ... Q4: =AVERAGE(Q10:Q89) -> 4.625e-05 | T4: Average | U4: =AVERAGE(U10:U25) -> 0.004 | V4: =AVERAGE(V10:V25) -> 0.1155875 | W4: =AVERAGE(W10:W25) -> 0.13310375 | X4: =AVERAGE(X10:X89) -> 0.12671775 | Y4: =AVERAGE(Y10:Y89) -> 0.088500375 | Z4: =AVERAGE(Z10:Z89) -> 0.10392063 | AA4: =AVERAGE(AA10:AA89) -> 0.102487 | AB4: =AVERAGE(AB10:AB89) -> 0.10343188 | AC4: =AVERAGE(AC10:AC89) -> 0.091704188 | AD4: =AVERAGE(AD10:AD89) -> 0.072456625 | AE4: =AVERAGE(AE10:AE89) -> 0.058787781 | ... AJ4: =AVERAGE(AJ10:AJ89) -> 0.059100188 | AM4: Average | AN4: =AVERAGE(AN10:AN25) -> 0.004 | AO4: =AVERAGE(AO10:AO25) -> 0.1175875 | AP4: =AVERAGE(AP10:AP25) -> 0.14910375 | AQ4: =AVERAGE(AQ10:AQ89) -> 0.13808775 | AR4: =AVERAGE(AR10:AR89) -> 0.098643375 | AS4: =AVERAGE(AS10:AS89) -> 0.10420175 | AT4: =AVERAGE(AT10:AT89) -> 0.08846075 | AU4: =AVERAGE(AU10:AU89) -> 0.0910855 | AV4: =AVERAGE(AV10:AV89) -> 0.078309094 | AW4: =AVERAGE(AW10:AW89) -> 0.06057075 | AX4: =AVERAGE(AX10:AX89) -> 0.052274656 | ... BC4: =AVERAGE(BC10:BC89) -> 0.047005344
A5: Standard deviation | B5: =_xlfn.STDEV.P(B10:B25) -> 1.7347235e-18 | C5: =_xlfn.STDEV.P(C10:C25) -> 0.006470338 | D5: =_xlfn.STDEV.P(D10:D25) -> 0.0015407866 | E5: =_xlfn.STDEV.P(E10:E89) -> 0.0041889031 | F5: =_xlfn.STDEV.P(F10:F89) -> 0.0076005511 | G5: =_xlfn.STDEV.P(G10:G89) -> 0.0071481994 | H5: =_xlfn.STDEV.P(H10:H89) -> 0.013676002 | I5: =_xlfn.STDEV.P(I10:I89) -> 0.0011540275 | J5: =_xlfn.STDEV.P(J10:J89) -> 0.00084706827 | K5: =_xlfn.STDEV.P(K10:K89) -> 0.00031300958 | L5: =_xlfn.STDEV.P(L10:L89) -> 0.00057483435 | ... Q5: =_xlfn.STDEV.P(Q10:Q89) -> 0.00045337829 | T5: Standard deviation | U5: =_xlfn.STDEV.P(U10:U25) -> 1.7347235e-18 | V5: =_xlfn.STDEV.P(V10:V25) -> 0.0033372659 | W5: =_xlfn.STDEV.P(W10:W25) -> 0.011669671 | X5: =_xlfn.STDEV.P(X10:X89) -> 0.025652488 | Y5: =_xlfn.STDEV.P(Y10:Y89) -> 0.007061071 | Z5: =_xlfn.STDEV.P(Z10:Z89) -> 0.0064761531 | AA5: =_xlfn.STDEV.P(AA10:AA89) -> 0.0085095656 | AB5: =_xlfn.STDEV.P(AB10:AB89) -> 0.054649905 | AC5: =_xlfn.STDEV.P(AC10:AC89) -> 0.066062981 | AD5: =_xlfn.STDEV.P(AD10:AD89) -> 0.053427451 | AE5: =_xlfn.STDEV.P(AE10:AE89) -> 0.047193107 | ... AJ5: =_xlfn.STDEV.P(AJ10:AJ89) -> 0.052851065 | AM5: Standard deviation | AN5: =_xlfn.STDEV.P(AN10:AN25) -> 1.7347235e-18 | AO5: =_xlfn.STDEV.P(AO10:AO25) -> 0.0067422988 | AP5: =_xlfn.STDEV.P(AP10:AP25) -> 0.0068164295 | AQ5: =_xlfn.STDEV.P(AQ10:AQ89) -> 0.014739987 | AR5: =_xlfn.STDEV.P(AR10:AR89) -> 0.0044601267 | AS5: =_xlfn.STDEV.P(AS10:AS89) -> 0.0091221358 | AT5: =_xlfn.STDEV.P(AT10:AT89) -> 0.0050098288 | AU5: =_xlfn.STDEV.P(AU10:AU89) -> 0.060952229 | AV5: =_xlfn.STDEV.P(AV10:AV89) -> 0.069505409 | AW5: =_xlfn.STDEV.P(AW10:AW89) -> 0.05204407 | AX5: =_xlfn.STDEV.P(AX10:AX89) -> 0.046271567 | ... BC5: =_xlfn.STDEV.P(BC10:BC89) -> 0.047195583
A6: n | B6: 16 | C6: 16 | D6: 16 | E6: 80 | F6: 80 | G6: 80 | H6: 80 | I6: 80 | J6: 80 | K6: 80 | L6: 80 | M6: 80 | N6: 80 | O6: 80 | P6: 80 | Q6: 80 | T6: n | U6: 16 | V6: 16 | W6: 16 | X6: 80 | Y6: 80 | Z6: 80 | AA6: 80 | AB6: 80 | AC6: 80 | AD6: 80 | AE6: 80 | AF6: 80 | AG6: 80 | AH6: 80 | AI6: 80 | AJ6: 80 | AM6: n | AN6: 16 | AO6: 16 | AP6: 16 | AQ6: 80 | AR6: 80 | AS6: 80 | AT6: 80 | AU6: 80 | AV6: 80 | AW6: 80 | AX6: 80 | AY6: 80 | AZ6: 80 | BA6: 80 | BB6: 80 | BC6: 80
A7: Confidence interval | B7: =_xlfn.CONFIDENCE.NORM(0.05,B5,B6) -> 8.4999888e-19 | C7: =_xlfn.CONFIDENCE.NORM(0.05,C5,C6) -> 0.0031704073 | D7: =_xlfn.CONFIDENCE.NORM(0.05,D5,D6) -> 0.00075497158 | E7: =_xlfn.CONFIDENCE.NORM(0.05,E5,E6) -> 0.00091791699 | F7: =_xlfn.CONFIDENCE.NORM(0.05,F5,F6) -> 0.0016655136 | G7: =_xlfn.CONFIDENCE.NORM(0.05,G5,G6) -> 0.0015663895 | H7: =_xlfn.CONFIDENCE.NORM(0.05,H5,H6) -> 0.0029968309 | I7: =_xlfn.CONFIDENCE.NORM(0.05,I5,I6) -> 0.00025288277 | ... Q7: =_xlfn.CONFIDENCE.NORM(0.05,Q5,Q6) -> 9.9349073e-05 | T7: Confidence interval | U7: =_xlfn.CONFIDENCE.NORM(0.05,U5,U6) -> 8.4999888e-19 | V7: =_xlfn.CONFIDENCE.NORM(0.05,V5,V6) -> 0.0016352302 | W7: =_xlfn.CONFIDENCE.NORM(0.05,W5,W6) -> 0.0057180335 | X7: =_xlfn.CONFIDENCE.NORM(0.05,X5,X6) -> 0.005621246 | Y7: =_xlfn.CONFIDENCE.NORM(0.05,Y5,Y6) -> 0.001547297 | Z7: =_xlfn.CONFIDENCE.NORM(0.05,Z5,Z6) -> 0.0014191235 | AA7: =_xlfn.CONFIDENCE.NORM(0.05,AA5,AA6) -> 0.0018647065 | AB7: =_xlfn.CONFIDENCE.NORM(0.05,AB5,AB6) -> 0.011975468 | ... AJ7: =_xlfn.CONFIDENCE.NORM(0.05,AJ5,AJ6) -> 0.011581287 | AM7: Confidence interval | AN7: =_xlfn.CONFIDENCE.NORM(0.05,AN5,AN6) -> 8.4999888e-19 | AO7: =_xlfn.CONFIDENCE.NORM(0.05,AO5,AO6) -> 0.0033036657 | AP7: =_xlfn.CONFIDENCE.NORM(0.05,AP5,AP6) -> 0.0033399891 | AQ7: =_xlfn.CONFIDENCE.NORM(0.05,AQ5,AQ6) -> 0.0032299827 | AR7: =_xlfn.CONFIDENCE.NORM(0.05,AR5,AR6) -> 0.00097735039 | AS7: =_xlfn.CONFIDENCE.NORM(0.05,AS5,AS6) -> 0.0019989394 | AT7: =_xlfn.CONFIDENCE.NORM(0.05,AT5,AT6) -> 0.001097807 | AU7: =_xlfn.CONFIDENCE.NORM(0.05,AU5,AU6) -> 0.013356501 | ... BC7: =_xlfn.CONFIDENCE.NORM(0.05,BC5,BC6) -> 0.010341998
A9: Time point | B9: 0 | C9: 1 | D9: 2 | E9: 3 | F9: 4 | G9: 5 | H9: 6 | I9: 7 | J9: 8 | K9: 9 | L9: 10 | M9: 11 | N9: 12 | O9: 13 | P9: 14 | Q9: 15 | T9: Time point | U9: 0 | V9: 1 | W9: 2 | X9: 3 | Y9: 4 | Z9: 5 | AA9: 6 | AB9: 7 | AC9: 8 | AD9: 9 | AE9: 10 | AF9: 11 | AG9: 12 | AH9: 13 | AI9: 14 | AJ9: 15 | AM9: Time point | AN9: 0 | AO9: 1 | AP9: 2 | AQ9: 3 | AR9: 4 | AS9: 5 | AT9: 6 | AU9: 7 | AV9: 8 | AW9: 9 | AX9: 10 | AY9: 11 | AZ9: 12 | BA9: 13 | BB9: 14 | BC9: 15
B10: 0.004 | C10: 0.0993 | D10: 0.04736 | E10: 0.0579 | F10: 0.08418 | G10: 0.08297 | H10: 0.01206 | I10: 0.00221 | J10: 0.00376 | K10: -0.0002 | L10: -0.0006375 | M10: -0.00139 | N10: -0.0002375 | O10: -0.0006125 | P10: -0.00115 | Q10: 0.0003875 | U10: 0.004 | V10: 0.1138 | W10: 0.17466 | X10: 0.1045 | Y10: 0.08067 | Z10: 0.09917 | AA10: 0.09496 | AB10: 0.01841 | AC10: 0.00146 | AD10: 0.0002 | AE10: 0.0001625 | AF10: 0.0006125 | AG10: 0.0001625 | AH10: 0.00229 | AI10: -0.00025 | AJ10: 0.00109 | AN10: 0.004 | AO10: 0.1199 | AP10: 0.14306 | AQ10: 0.1149 | AR10: 0.08997 | AS10: 0.09018 | AT10: 0.08286 | AU10: 0.07751 | AV10: 0.00846 | AW10: -0.0004 | AX10: 0.0008625 | AY10: -0.0001875 | AZ10: 0.0001625 | BA10: -0.0008125 | BB10: 5e-05 | BC10: 0.00149
B11: 0.004 | C11: 0.0948 | D11: 0.04866 | E11: 0.0562 | F11: 0.08678 | G11: 0.08188 | H11: 0.00796 | I11: 0.0008125 | J11: 0.0002625 | K11: 3.46945e-18 | L11: -0.0002375 | M11: -0.00209 | N11: -0.0008375 | O11: -0.00151 | P11: -0.00125 | Q11: -0.0003125 | U11: 0.004 | V11: 0.1124 | W11: 0.13856 | X11: 0.0942 | Y11: 0.08388 | Z11: 0.09748 | AA11: 0.10266 | AB11: 0.03191 | AC11: 0.00266 | AD11: -0.0017 | AE11: -0.0007375 | AF11: -0.00179 | AG11: -0.0008375 | AH11: -0.0009125 | AI11: -0.00215 | AJ11: -0.0007125 | AN11: 0.004 | AO11: 0.127 | AP11: 0.13336 | AQ11: 0.1081 | AR11: 0.09237 | AS11: 0.09598 | AT11: 0.08126 | AU11: 0.05781 | AV11: 0.20506 | AW11: 0.079 | AX11: 0.11576 | AY11: 0.06851 | AZ11: 0.10106 | BA11: 0.07709 | BB11: 0.09625 | BC11: 0.08379
B12: 0.004 | C12: 0.0874 | D12: 0.04936 | E12: 0.0524 | F12: 0.08407 | G12: 0.07908 | H12: 0.01086 | I12: 0.0006125 | J12: 0.0003625 | K12: 0.0006 | L12: 0.0002625 | M12: -0.00109 | N12: -0.0002375 | O12: -0.0008125 | P12: -0.00125 | Q12: -0.0001125 | U12: 0.004 | V12: 0.1117 | W12: 0.13026 | X12: 0.0999 | Y12: 0.08107 | Z12: 0.09828 | AA12: 0.08806 | AB12: 0.01391 | AC12: -3.75e-05 | AD12: -0.0003 | AE12: 0.00136 | AF12: 0.0009125 | AG12: 0.0003625 | AH12: 0.0002875 | AI12: -0.00105 | AJ12: 0.0005875 | AN12: 0.004 | AO12: 0.1268 | AP12: 0.14646 | AQ12: 0.1081 | AR12: 0.09048 | AS12: 0.09557 | AT12: 0.07946 | AU12: 0.00691 | AV12: 0.00106 | AW12: -0.0011 | AX12: -0.0004375 | AY12: -0.0009875 | AZ12: -0.0004375 | BA12: -0.0009125 | BB12: -0.00145 | BC12: 0.0003875
B13: 0.004 | C13: 0.0853 | D13: 0.05026 | E13: 0.0534 | F13: 0.08478 | G13: 0.07347 | H13: 0.00656 | I13: 0.0001125 | J13: -0.0001375 | K13: -0.0004 | L13: -0.0002375 | M13: -0.00159 | N13: -0.00104 | O13: -0.0004125 | P13: -0.00205 | Q13: -0.0005125 | U13: 0.004 | V13: 0.1106 | W13: 0.13756 | X13: 0.1082 | Y13: 0.08007 | Z13: 0.09577 | AA13: 0.08896 | AB13: 0.04351 | AC13: 0.00536 | AD13: -0.0011 | AE13: -0.0002375 | AF13: -0.00119 | AG13: -0.0009375 | AH13: -0.0009125 | AI13: -0.00165 | AJ13: -0.0002125 | AN13: 0.004 | AO13: 0.1252 | AP13: 0.15366 | AQ13: 0.1072 | AR13: 0.09477 | AS13: 0.09748 | AT13: 0.08146 | AU13: 0.09741 | AV13: 0.15476 | AW13: 0.0755 | AX13: 0.08336 | AY13: 0.07011 | AZ13: 0.05776 | BA13: 0.07909 | BB13: 0.09915 | BC13: 0.08459
B14: 0.004 | C14: 0.087 | D14: 0.04836 | E14: 0.0559 | F14: 0.07958 | G14: 0.07717 | H14: 0.00896 | I14: 0.0003125 | J14: 0.0008625 | K14: 3.46945e-18 | L14: 0.0001625 | M14: -0.0005875 | N14: -0.0004375 | O14: -0.0008125 | P14: -0.00135 | Q14: 0.0004875 | U14: 0.004 | V14: 0.1114 | W14: 0.12426 | X14: 0.1019 | Y14: 0.08078 | Z14: 0.09458 | AA14: 0.08076 | AB14: 0.01351 | AC14: 0.00116 | AD14: -0.0002 | AE14: 0.00116 | AF14: -0.0008875 | AG14: 0.0006625 | AH14: 0.0001875 | AI14: -0.00015 | AJ14: 0.0008875 | AN14: 0.004 | AO14: 0.1278 | AP14: 0.14796 | AQ14: 0.1081 | AR14: 0.09077 | AS14: 0.09817 | AT14: 0.08276 | AU14: 0.01101 | AV14: 0.01776 | AW14: 0.0811 | AX14: 0.06966 | AY14: 0.00771 | AZ14: 0.02636 | BA14: 0.05189 | BB14: 0.04475 | BC14: 0.07009
B15: 0.004 | C15: 0.0852 | D15: 0.05016 | E15: 0.0559 | F15: 0.07618 | G15: 0.07408 | H15: 0.00836 | I15: 1.25e-05 | J15: -0.0002375 | K15: -0.0005 | L15: -0.0004375 | M15: -0.00169 | N15: -0.00104 | O15: -0.00131 | P15: -0.00155 | Q15: -0.0005125 | U15: 0.004 | V15: 0.1137 | W15: 0.13566 | X15: 0.1057 | Y15: 0.08217 | Z15: 0.09878 | AA15: 0.08296 | AB15: 0.01281 | AC15: 0.0003625 | AD15: -0.0009 | AE15: -0.0002375 | AF15: -0.00129 | AG15: -0.0004375 | AH15: -0.0007125 | AI15: -0.00065 | AJ15: 8.75e-05 | AN15: 0.004 | AO15: 0.1218 | AP15: 0.15046 | AQ15: 0.1118 | AR15: 0.09327 | AS15: 0.09648 | AT15: 0.08526 | AU15: 0.10361 | AV15: 0.00456 | AW15: -0.0008 | AX15: 6.25e-05 | AY15: -0.0009875 | AZ15: -0.0006375 | BA15: -0.0002125 | BB15: -0.00105 | BC15: 0.0005875
B16: 0.004 | C16: 0.0913 | D16: 0.04786 | E16: 0.0527 | F16: 0.07537 | G16: 0.07687 | H16: 0.01566 | I16: 0.0005125 | J16: -0.0004375 | K16: 0.0006 | L16: -0.0005375 | M16: -0.00169 | N16: -0.0004375 | O16: -0.0006125 | P16: -0.00155 | Q16: -0.0001125 | U16: 0.004 | V16: 0.1128 | W16: 0.12986 | X16: 0.0988 | Y16: 0.08167 | Z16: 0.09548 | AA16: 0.08686 | AB16: 0.01091 | AC16: 0.0006625 | AD16: -0.0005 | AE16: 0.0004625 | AF16: 0.0005125 | AG16: 0.0003625 | AH16: -1.25e-05 | AI16: -0.00045 | AJ16: 0.0007875 | AN16: 0.004 | AO16: 0.1199 | AP16: 0.14736 | AQ16: 0.1226 | AR16: 0.09517 | AS16: 0.09098 | AT16: 0.08196 | AU16: 0.02201 | AV16: 0.0009625 | AW16: -0.0004 | AX16: -3.75e-05 | AY16: -0.0003875 | AZ16: 6.25e-05 | BA16: -0.0007125 | BB16: -0.00075 | BC16: -0.0002125
B17: 0.004 | C17: 0.0945 | D17: 0.04876 | E17: 0.0572 | F17: 0.07618 | G17: 0.07967 | H17: 0.01726 | I17: 0.00121 | J17: -0.0003375 | K17: 3.46945e-18 | L17: 0.0001625 | M17: -0.00209 | N17: -0.0008375 | O17: -0.0009125 | P17: -0.00185 | Q17: -0.0005125 | U17: 0.004 | V17: 0.117 | W17: 0.13276 | X17: 0.1053 | Y17: 0.07988 | Z17: 0.09477 | AA17: 0.09066 | AB17: 0.11181 | AC17: 0.18536 | AD17: 0.0701 | AE17: 0.00676 | AF17: -0.0006875 | AG17: -0.0004375 | AH17: -0.0006125 | AI17: -0.00115 | AJ17: -1.25e-05 | AN17: 0.004 | AO17: 0.1152 | AP17: 0.14546 | AQ17: 0.1116 | AR17: 0.09008 | AS17: 0.09267 | AT17: 0.08196 | AU17: 0.04141 | AV17: 0.00746 | AW17: -0.0009 | AX17: 0.00126 | AY17: -0.0005875 | AZ17: -0.0003375 | BA17: -0.0003125 | BB17: -0.00155 | BC17: -0.0001125
B18: 0.004 | C18: 0.1028 | D18: 0.05116 | E18: 0.05664 | F18: 0.08972 | G18: 0.09414 | H18: 0.01461 | I18: 0.0029 | J18: 0.0003125 | K18: -0.0002 | L18: -0.000225 | M18: -0.0002375 | N18: -7.5e-05 | O18: -0.00103 | P18: 0.0001875 | Q18: 0.0002625 | U18: 0.004 | V18: 0.1199 | W18: 0.13386 | X18: 0.15874 | Y18: 0.08643 | Z18: 0.10924 | AA18: 0.11591 | AB18: 0.1598 | AC18: 0.11911 | AD18: 0.0345 | AE18: 0.12987 | AF18: 0.05596 | AG18: 0.13592 | AH18: 0.15718 | AI18: 0.21039 | AJ18: 0.16616 | AN18: 0.004 | AO18: 0.1176 | AP18: 0.15856 | AQ18: 0.15604 | AR18: 0.09613 | AS18: 0.11524 | AT18: 0.08991 | AU18: 0.0062 | AV18: 0.00131 | AW18: -0.0011 | AX18: 0.000975 | AY18: 0.0004625 | AZ18: 0.000825 | BA18: -0.000625 | BB18: 0.00159 | BC18: 0.00146
B19: 0.004 | C19: 0.099 | D19: 0.05226 | E19: 0.05414 | F19: 0.08803 | G19: 0.08594 | H19: 0.00991 | I19: 0.0006 | J19: 1.25e-05 | K19: -0.0008 | L19: -0.000325 | M19: -0.00134 | N19: -0.000775 | O19: -0.000925 | P19: 8.75e-05 | Q19: 0.0004625 | U19: 0.004 | V19: 0.1153 | W19: 0.12686 | X19: 0.12574 | Y19: 0.08532 | Z19: 0.10624 | AA19: 0.11461 | AB19: 0.1446 | AC19: 0.09891 | AD19: 0.0259 | AE19: 0.08098 | AF19: 0.00246 | AG19: -0.000575 | AH19: -0.000825 | AI19: -0.0004125 | AJ19: -0.0006375 | AN19: 0.004 | AO19: 0.1042 | AP19: 0.15316 | AQ19: 0.13274 | AR19: 0.09242 | AS19: 0.10974 | AT19: 0.08761 | AU19: 0.1648 | AV19: 0.12881 | AW19: 0.0935 | AX19: 0.10928 | AY19: 0.08266 | AZ19: 0.09402 | BA19: 0.09728 | BB19: 0.11139 | BC19: 0.09336
B20: 0.004 | C20: 0.0864 | D20: 0.05246 | E20: 0.05544 | F20: 0.08432 | G20: 0.08214 | H20: 0.00811 | I20: -0.0001 | J20: 0.0004125 | K20: 0.0001 | L20: -2.5e-05 | M20: -0.0006375 | N20: -7.5e-05 | O20: -0.000425 | P20: -0.0003125 | Q20: 0.0001625 | U20: 0.004 | V20: 0.1163 | W20: 0.13316 | X20: 0.13924 | Y20: 0.08543 | Z20: 0.10594 | AA20: 0.10781 | AB20: 0.0964 | AC20: 0.04841 | AD20: 0.0355 | AE20: 0.04288 | AF20: 0.03286 | AG20: 0.03743 | AH20: 0.03848 | AI20: 0.05689 | AJ20: 0.03456 | AN20: 0.004 | AO20: 0.1126 | AP20: 0.16156 | AQ20: 0.12454 | AR20: 0.09413 | AS20: 0.10134 | AT20: 0.08531 | AU20: 0.1596 | AV20: 0.11211 | AW20: 0.1037 | AX20: 0.10237 | AY20: 0.09726 | AZ20: 0.10443 | BA20: 0.11918 | BB20: 0.12339 | BC20: 0.11306
B21: 0.004 | C21: 0.0847 | D21: 0.04996 | E21: 0.05044 | F21: 0.08192 | G21: 0.08454 | H21: 0.01151 | I21: 0.0001 | J21: -0.0001875 | K21: -0.0002 | L21: -0.000825 | M21: -0.0009375 | N21: -0.000575 | O21: -0.000725 | P21: -0.0005125 | Q21: -0.0005375 | U21: 0.004 | V21: 0.1198 | W21: 0.12886 | X21: 0.16164 | Y21: 0.08503 | Z21: 0.10254 | AA21: 0.10291 | AB21: 0.0108 | AC21: -0.0008875 | AD21: -0.0012 | AE21: 0.00198 | AF21: -0.0004375 | AG21: -0.000575 | AH21: -0.000925 | AI21: 0.0002875 | AJ21: -3.75e-05 | AN21: 0.004 | AO21: 0.1162 | AP21: 0.14646 | AQ21: 0.12954 | AR21: 0.09632 | AS21: 0.10934 | AT21: 0.08461 | AU21: 0.1503 | AV21: 0.12681 | AW21: 0.0953 | AX21: 0.10068 | AY21: 0.11076 | AZ21: 0.10183 | BA21: 0.09488 | BB21: 0.10729 | BC21: 0.07456
... B25: 0.004 | C25: 0.0984 | D25: 0.04786 | E25: 0.05634 | F25: 0.08163 | G25: 0.08424 | H25: 0.01291 | I25: 0.0001 | J25: -0.0004875 | K25: -0.0006 | L25: -0.000725 | M25: -0.0009375 | N25: -0.000975 | O25: -0.000625 | P25: -0.0002125 | Q25: -0.0002375 | U25: 0.004 | V25: 0.1176 | W25: 0.12396 | X25: 0.16524 | Y25: 0.08513 | Z25: 0.10714 | AA25: 0.10271 | AB25: 0.038 | AC25: 0.00561 | AD25: 0.0875 | AE25: 0.06828 | AF25: 0.07606 | AG25: 0.08722 | AH25: 0.12258 | AI25: 0.13359 | AJ25: 0.12756 | AN25: 0.004 | AO25: 0.1115 | AP25: 0.14436 | AQ25: 0.13574 | AR25: 0.09392 | AS25: 0.10614 | AT25: 0.08811 | AU25: 0.1073 | AV25: 0.01931 | AW25: 0 | AX25: -0.000125 | AY25: -0.0005375 | AZ25: 0.000125 | BA25: 7.5e-05 | BB25: 8.75e-05 | BC25: 0.0002625
E26: 0.06109 | F26: 0.10474 | G26: 0.09886 | H26: 0.01499 | I26: 0.00148 | J26: 0.0008625 | K26: 3.46945e-18 | L26: -0.0006125 | M26: -0.000675 | N26: -0.00015 | O26: -0.000675 | P26: 0.0002375 | Q26: 0.0003625 | X26: 0.12859 | Y26: 0.10534 | Z26: 0.11456 | AA26: 0.11529 | AB26: 0.14447 | AC26: 0.17616 | AD26: 0.1239 | AE26: 0.01149 | AF26: 0.00503 | AG26: 0.00965 | AH26: 0.04093 | AI26: 0.01354 | AJ26: 0.10786 | AQ26: 0.14649 | AR26: 0.10784 | AS26: 0.12206 | AT26: 0.10759 | AU26: 0.01478 | AV26: 0.01246 | AW26: 0.0218 | AX26: 0.00449 | AY26: 2.5e-05 | AZ26: 0.00055 | BA26: -0.000475 | BB26: 0.00204 | BC26: 0.00176
E27: 0.05789 | F27: 0.10924 | G27: 0.09426 | H27: 0.00999 | I27: 0.000475 | J27: 0.0003625 | K27: -0.0007 | L27: -0.0006125 | M27: -0.00137 | N27: -0.00095 | O27: -0.00108 | P27: -0.0001625 | Q27: 6.25e-05 | X27: 0.12549 | Y27: 0.10634 | Z27: 0.11386 | AA27: 0.11069 | AB27: 0.14697 | AC27: 0.16816 | AD27: 0.1283 | AE27: 0.10629 | AF27: 0.09373 | AG27: 0.05115 | AH27: 0.09012 | AI27: 0.10834 | AJ27: 0.09266 | AQ27: 0.15649 | AR27: 0.10234 | AS27: 0.11986 | AT27: 0.09939 | AU27: 0.07817 | AV27: 0.04966 | AW27: 0.0718 | AX27: 0.04589 | AY27: 0.13453 | AZ27: 0.12385 | BA27: 0.12273 | BB27: 0.14224 | BC27: 0.12896
E28: 0.05899 | F28: 0.09164 | G28: 0.08766 | H28: 0.00979 | I28: 0.000175 | J28: 0.0001625 | K28: 3.46945e-18 | L28: -0.0005125 | M28: -0.000675 | N28: -0.00065 | O28: -0.000375 | P28: -0.0003625 | Q28: -0.0002375 | X28: 0.12129 | Y28: 0.09784 | Z28: 0.10666 | AA28: 0.11569 | AB28: 0.11278 | AC28: 0.06876 | AD28: 0.008 | AE28: 0.00109 | AF28: 0.000925 | AG28: -0.00025 | AH28: 0.000525 | AI28: 0.0005375 | AJ28: -0.0002375 | AQ28: 0.12939 | AR28: 0.09974 | AS28: 0.11666 | AT28: 0.09369 | AU28: 0.08328 | AV28: 0.14116 | AW28: 0.1355 | AX28: 0.09449 | AY28: 0.12812 | AZ28: 0.12475 | BA28: 0.13192 | BB28: 0.12444 | BC28: 0.12326
E29: 0.05269 | F29: 0.08884 | G29: 0.08546 | H29: 0.00909 | I29: -0.000125 | J29: -0.0004375 | K29: -0.0005 | L29: -0.00101 | M29: -0.00128 | N29: -0.00095 | O29: -0.000775 | P29: -0.0004625 | Q29: -0.0001375 | X29: 0.11509 | Y29: 0.09524 | Z29: 0.10436 | AA29: 0.10759 | AB29: 0.14258 | AC29: 0.08996 | AD29: 0.1083 | AE29: 0.03409 | AF29: 0.06202 | AG29: 0.07585 | AH29: 0.12433 | AI29: 0.13634 | AJ29: 0.13446 | AQ29: 0.16109 | AR29: 0.10714 | AS29: 0.11906 | AT29: 0.09219 | AU29: 0.08317 | AV29: 0.01756 | AW29: 0.0059 | AX29: 0.00779 | AY29: -0.000675 | AZ29: 0.00015 | BA29: -0.000675 | BB29: -6.25e-05 | BC29: 6.25e-05
E30: 0.05549 | F30: 0.09064 | G30: 0.08476 | H30: 0.00999 | I30: 0.000475 | J30: 6.25e-05 | K30: 3.46945e-18 | L30: -0.0004125 | M30: -7.5e-05 | N30: -0.00045 | O30: -0.000475 | P30: -0.0002625 | Q30: 0.0004625 | X30: 0.12329 | Y30: 0.09544 | Z30: 0.09976 | AA30: 0.11879 | AB30: 0.10318 | AC30: 0.12076 | AD30: 0.1281 | AE30: 0.07559 | AF30: 0.11793 | AG30: 0.09865 | AH30: 0.11013 | AI30: 0.08814 | AJ30: 0.08506 | AQ30: 0.12829 | AR30: 0.10574 | AS30: 0.12076 | AT30: 0.09369 | AU30: 0.06308 | AV30: 0.01966 | AW30: 0.0497 | AX30: 0.06289 | AY30: 0.05022 | AZ30: 0.00465 | BA30: 0.00103 | BB30: 0.00144 | BC30: 0.0003625
E31: 0.05639 | F31: 0.08974 | G31: 0.08316 | H31: 0.01479 | I31: 0.000475 | J31: -0.0001375 | K31: -0.0002 | L31: -0.00111 | M31: -0.00108 | N31: -0.00115 | O31: -0.000775 | P31: -0.0003625 | Q31: -0.0006375 | X31: 0.12959 | Y31: 0.10044 | Z31: 0.10546 | AA31: 0.11619 | AB31: 0.11887 | AC31: 0.09256 | AD31: 0.0751 | AE31: 0.00469 | AF31: 0.000125 | AG31: -0.00065 | AH31: -0.000475 | AI31: 3.75e-05 | AJ31: 0.0002625 | AQ31: 0.16119 | AR31: 0.10684 | AS31: 0.12176 | AT31: 0.09599 | AU31: 0.13528 | AV31: 0.15266 | AW31: 0.0966 | AX31: 0.08659 | AY31: 0.04423 | AZ31: 0.07575 | BA31: 0.05693 | BB31: 0.05084 | BC31: 0.07206
E32: 0.05889 | F32: 0.09824 | G32: 0.08746 | H32: 0.01259 | I32: 0.000875 | J32: 6.25e-05 | K32: -0.0003 | L32: -0.0008125 | M32: -0.000975 | N32: -0.00045 | O32: -7.5e-05 | P32: -0.0003625 | Q32: -0.0003375 | X32: 0.14049 | Y32: 0.09944 | Z32: 0.10846 | AA32: 0.10289 | AB32: 0.12557 | AC32: 0.16096 | AD32: 0.1515 | AE32: 0.12269 | AF32: 0.13033 | AG32: 0.12855 | AH32: 0.14213 | AI32: 0.13784 | AJ32: 0.13236 | AQ32: 0.15529 | AR32: 0.10114 | AS32: 0.11656 | AT32: 0.09839 | AU32: 0.01918 | AV32: 0.04486 | AW32: 0.0377 | AX32: 0.06029 | AY32: 0.05583 | AZ32: 0.05185 | BA32: 0.08403 | BB32: 0.06954 | BC32: 0.08986
E33: 0.05869 | F33: 0.10374 | G33: 0.10026 | H33: 0.01319 | I33: 0.000575 | J33: -0.0001375 | K33: -0.0005 | L33: -0.0005125 | M33: -0.000975 | N33: -0.00115 | O33: -0.000775 | P33: -0.0005625 | Q33: -0.0003375 | X33: 0.14729 | Y33: 0.09894 | Z33: 0.11416 | AA33: 0.10909 | AB33: 0.00937 | AC33: 0.0004625 | AD33: -0.0011 | AE33: -0.0007125 | AF33: -0.000475 | AG33: -0.00045 | AH33: -0.000675 | AI33: 0.0007375 | AJ33: 0.0004625 | AQ33: 0.17149 | AR33: 0.10064 | AS33: 0.11956 | AT33: 0.09979 | AU33: 0.13158 | AV33: 0.08436 | AW33: 0.0719 | AX33: 0.03589 | AY33: 0.04562 | AZ33: 0.09035 | BA33: 0.10443 | BB33: 0.08864 | BC33: 0.12966
E34: 0.05909 | F34: 0.08543 | G34: 0.07879 | H34: 0.00969 | I34: 0.00136 | J34: 0.00045 | K34: -2.5e-05 | L34: 0.00145 | M34: -0.000275 | N34: -0.0002125 | O34: -0.0004 | P34: 0.000275 | Q34: 0.0007375 | X34: 0.11959 | Y34: 0.08603 | Z34: 0.10749 | AA34: 0.10439 | AB34: 0.08256 | AC34: 0.07015 | AD34: 0.10448 | AE34: 0.07055 | AF34: 0.09212 | AG34: 0.07339 | AH34: 0.085 | AI34: 0.07587 | AJ34: 0.06794 | AQ34: 0.13749 | AR34: 0.09323 | AS34: 0.09489 | AT34: 0.08649 | AU34: 0.03226 | AV34: 0.00255 | AW34: -0.000325 | AX34: 0.00215 | AY34: 0.000725 | AZ34: 0.0002875 | BA34: -0.0003 | BB34: 0.00148 | BC34: 0.00154
E35: 0.05469 | F35: 0.09093 | G35: 0.08039 | H35: 0.01029 | I35: 0.0006625 | J35: 0.00155 | K35: -0.000525 | L35: 0.00045 | M35: -0.00158 | N35: -0.0009125 | O35: -0.0012 | P35: 7.5e-05 | Q35: 0.0002375 | X35: 0.11639 | Y35: 0.08972 | Z35: 0.10479 | AA35: 0.09619 | AB35: 0.06936 | AC35: 0.07675 | AD35: 0.10098 | AE35: 0.07155 | AF35: 0.04373 | AG35: 0.06969 | AH35: 0.0594 | AI35: 0.07287 | AJ35: 0.05644 | AQ35: 0.12449 | AR35: 0.09302 | AS35: 0.09599 | AT35: 0.08409 | AU35: 0.00946 | AV35: 0.00025 | AW35: -0.000825 | AX35: 0.00025 | AY35: -0.000575 | AZ35: -0.0002125 | BA35: -0.0002 | BB35: 0.000275 | BC35: -6.25e-05
E36: 0.05549 | F36: 0.08833 | G36: 0.07719 | H36: 0.00719 | I36: 6.25e-05 | J36: 5e-05 | K36: -0.000225 | L36: -0.00025 | M36: -7.5e-05 | N36: -0.0003125 | O36: -0.0005 | P36: -0.000125 | Q36: 3.75e-05 | X36: 0.11419 | Y36: 0.09173 | Z36: 0.10489 | AA36: 0.10029 | AB36: 0.12236 | AC36: 0.05845 | AD36: 0.04648 | AE36: 0.06855 | AF36: 0.06972 | AG36: 0.07109 | AH36: 0.0669 | AI36: 0.04668 | AJ36: 0.06554 | AQ36: 0.12549 | AR36: 0.09392 | AS36: 0.09609 | AT36: 0.08479 | AU36: 0.00736 | AV36: -0.00035 | AW36: -0.00112 | AX36: -5e-05 | AY36: -0.000575 | AZ36: -0.0004125 | BA36: -0.0006 | BB36: 7.5e-05 | BC36: -0.0002625
E37: 0.05369 | F37: 0.08472 | G37: 0.07259 | H37: 0.00619 | I37: 0.0006625 | J37: 5e-05 | K37: -2.5e-05 | L37: -0.00045 | M37: -0.00108 | N37: -0.00101 | O37: -0.0008 | P37: -0.000625 | Q37: -0.0003625 | X37: 0.11659 | Y37: 0.08822 | Z37: 0.10339 | AA37: 0.10219 | AB37: 0.10756 | AC37: 0.12505 | AD37: 0.10228 | AE37: 0.08205 | AF37: 0.06292 | AG37: 0.00199 | AH37: -0.0008 | AI37: -2.5e-05 | AJ37: -0.0001625 | AQ37: 0.13069 | AR37: 0.09642 | AS37: 0.09899 | AT37: 0.08829 | AU37: 0.13526 | AV37: 0.10775 | AW37: 0.06978 | AX37: 0.09255 | AY37: 0.03923 | AZ37: 0.00209 | BA37: -0.0001 | BB37: 0.00908 | BC37: 0.08244
... E89: 0.0604 | F89: 0.08994 | G89: 0.08835 | H89: 0.01361 | I89: 0.00025 | J89: 0.0001375 | K89: 7.5e-05 | L89: 0.0002625 | M89: -0.0004875 | N89: 0.0004625 | O89: -0.0001 | P89: 0.00254 | Q89: 0.0001375 | X89: 0.1639 | Y89: 0.08924 | Z89: 0.10685 | AA89: 0.09991 | AB89: 0.14485 | AC89: 0.16844 | AD89: 0.10967 | AE89: 0.08226 | AF89: 0.08041 | AG89: 0.12706 | AH89: 0.0696 | AI89: 0.10374 | AJ89: 0.08934 | AQ89: 0.1373 | AR89: 0.09844 | AS89: 0.09715 | AT89: 0.09311 | AU89: 0.01585 | AV89: 0.01144 | AW89: 0.09657 | AX89: 0.05836 | AY89: 0.03321 | AZ89: 0.09546 | BA89: 0.0849 | BB89: 0.09934 | BC89: 0.11874

Sheet Figure 2b
A1: Treatment group | B1: TETRA - CO | T1: Treatment group | U1: TETRA - TRP | AM1: Treatment group | AN1: TETRA - TYR
A4: Average | B4: =AVERAGE(B10:B25) -> 0.004 | C4: =AVERAGE(C10:C25) -> 0.09091875 | D4: =AVERAGE(D10:D25) -> 0.04944125 | E4: =AVERAGE(E10:E89) -> 0.049336875 | F4: =AVERAGE(F10:F89) -> 0.076891 | G4: =AVERAGE(G10:G89) -> 0.07322525 | H4: =AVERAGE(H10:H89) -> 0.06646925 | I4: =AVERAGE(I10:I89) -> 0.034821875 | J4: =AVERAGE(J10:J89) -> 0.042633875 | K4: =AVERAGE(K10:K89) -> 0.04428775 | L4: =AVERAGE(L10:L89) -> 0.030055156 | ... Q4: =AVERAGE(Q10:Q89) -> 0.027598562 | T4: Average | U4: =AVERAGE(U10:U25) -> 0.004 | V4: =AVERAGE(V10:V25) -> 0.1155875 | W4: =AVERAGE(W10:W25) -> 0.13310375 | X4: =AVERAGE(X10:X89) -> 0.14899425 | Y4: =AVERAGE(Y10:Y89) -> 0.12084725 | Z4: =AVERAGE(Z10:Z89) -> 0.12832987 | AA4: =AVERAGE(AA10:AA89) -> 0.11284675 | AB4: =AVERAGE(AB10:AB89) -> 0.14631087 | AC4: =AVERAGE(AC10:AC89) -> 0.1637645 | AD4: =AVERAGE(AD10:AD89) -> 0.13753737 | AE4: =AVERAGE(AE10:AE89) -> 0.11583437 | ... AJ4: =AVERAGE(AJ10:AJ89) -> 0.1107985 | AM4: Average | AN4: =AVERAGE(AN10:AN25) -> 0.004 | AO4: =AVERAGE(AO10:AO25) -> 0.1175875 | AP4: =AVERAGE(AP10:AP25) -> 0.14910375 | AQ4: =AVERAGE(AQ10:AQ89) -> 0.14518225 | AR4: =AVERAGE(AR10:AR89) -> 0.12234225 | AS4: =AVERAGE(AS10:AS89) -> 0.142269 | AT4: =AVERAGE(AT10:AT89) -> 0.1390955 | AU4: =AVERAGE(AU10:AU89) -> 0.13789975 | AV4: =AVERAGE(AV10:AV89) -> 0.14724687 | AW4: =AVERAGE(AW10:AW89) -> 0.121043 | AX4: =AVERAGE(AX10:AX89) -> 0.10863412 | ... BC4: =AVERAGE(BC10:BC89) -> 0.11846887
A5: Standard deviation | B5: =_xlfn.STDEV.P(B10:B25) -> 1.7347235e-18 | C5: =_xlfn.STDEV.P(C10:C25) -> 0.006470338 | D5: =_xlfn.STDEV.P(D10:D25) -> 0.0015407866 | E5: =_xlfn.STDEV.P(E10:E89) -> 0.0035051657 | F5: =_xlfn.STDEV.P(F10:F89) -> 0.010533019 | G5: =_xlfn.STDEV.P(G10:G89) -> 0.023123201 | H5: =_xlfn.STDEV.P(H10:H89) -> 0.031363509 | I5: =_xlfn.STDEV.P(I10:I89) -> 0.035417964 | J5: =_xlfn.STDEV.P(J10:J89) -> 0.026174162 | K5: =_xlfn.STDEV.P(K10:K89) -> 0.028826303 | L5: =_xlfn.STDEV.P(L10:L89) -> 0.032948714 | ... Q5: =_xlfn.STDEV.P(Q10:Q89) -> 0.041096759 | T5: Standard deviation | U5: =_xlfn.STDEV.P(U10:U25) -> 1.7347235e-18 | V5: =_xlfn.STDEV.P(V10:V25) -> 0.0033372659 | W5: =_xlfn.STDEV.P(W10:W25) -> 0.011669671 | X5: =_xlfn.STDEV.P(X10:X89) -> 0.025041423 | Y5: =_xlfn.STDEV.P(Y10:Y89) -> 0.0085505115 | Z5: =_xlfn.STDEV.P(Z10:Z89) -> 0.0062240894 | AA5: =_xlfn.STDEV.P(AA10:AA89) -> 0.011699036 | AB5: =_xlfn.STDEV.P(AB10:AB89) -> 0.017588206 | AC5: =_xlfn.STDEV.P(AC10:AC89) -> 0.026201699 | AD5: =_xlfn.STDEV.P(AD10:AD89) -> 0.028080622 | AE5: =_xlfn.STDEV.P(AE10:AE89) -> 0.014010201 | ... AJ5: =_xlfn.STDEV.P(AJ10:AJ89) -> 0.010870785 | AM5: Standard deviation | AN5: =_xlfn.STDEV.P(AN10:AN25) -> 1.7347235e-18 | AO5: =_xlfn.STDEV.P(AO10:AO25) -> 0.0067422988 | AP5: =_xlfn.STDEV.P(AP10:AP25) -> 0.0068164295 | AQ5: =_xlfn.STDEV.P(AQ10:AQ89) -> 0.021588625 | AR5: =_xlfn.STDEV.P(AR10:AR89) -> 0.0088208784 | AS5: =_xlfn.STDEV.P(AS10:AS89) -> 0.010772667 | AT5: =_xlfn.STDEV.P(AT10:AT89) -> 0.010704993 | AU5: =_xlfn.STDEV.P(AU10:AU89) -> 0.013786453 | AV5: =_xlfn.STDEV.P(AV10:AV89) -> 0.03941817 | AW5: =_xlfn.STDEV.P(AW10:AW89) -> 0.020042416 | AX5: =_xlfn.STDEV.P(AX10:AX89) -> 0.014786332 | ... BC5: =_xlfn.STDEV.P(BC10:BC89) -> 0.017253656
A6: n | B6: 16 | C6: 16 | D6: 16 | E6: 80 | F6: 80 | G6: 80 | H6: 80 | I6: 80 | J6: 80 | K6: 80 | L6: 80 | M6: 80 | N6: 80 | O6: 80 | P6: 80 | Q6: 80 | T6: n | U6: 16 | V6: 16 | W6: 16 | X6: 80 | Y6: 80 | Z6: 80 | AA6: 80 | AB6: 80 | AC6: 80 | AD6: 80 | AE6: 80 | AF6: 80 | AG6: 80 | AH6: 80 | AI6: 80 | AJ6: 80 | AM6: n | AN6: 16 | AO6: 16 | AP6: 16 | AQ6: 80 | AR6: 80 | AS6: 80 | AT6: 80 | AU6: 80 | AV6: 80 | AW6: 80 | AX6: 80 | AY6: 80 | AZ6: 80 | BA6: 80 | BB6: 80 | BC6: 80
A7: Confidence interval | B7: =_xlfn.CONFIDENCE.NORM(0.05,B5,B6) -> 8.4999888e-19 | C7: =_xlfn.CONFIDENCE.NORM(0.05,C5,C6) -> 0.0031704073 | D7: =_xlfn.CONFIDENCE.NORM(0.05,D5,D6) -> 0.00075497158 | E7: =_xlfn.CONFIDENCE.NORM(0.05,E5,E6) -> 0.00076808918 | F7: =_xlfn.CONFIDENCE.NORM(0.05,F5,F6) -> 0.0023081072 | G7: =_xlfn.CONFIDENCE.NORM(0.05,G5,G6) -> 0.0050670017 | H7: =_xlfn.CONFIDENCE.NORM(0.05,H5,H6) -> 0.0068727056 | I7: =_xlfn.CONFIDENCE.NORM(0.05,I5,I6) -> 0.007761161 | ... Q7: =_xlfn.CONFIDENCE.NORM(0.05,Q5,Q6) -> 0.0090055588 | T7: Confidence interval | U7: =_xlfn.CONFIDENCE.NORM(0.05,U5,U6) -> 8.4999888e-19 | V7: =_xlfn.CONFIDENCE.NORM(0.05,V5,V6) -> 0.0016352302 | W7: =_xlfn.CONFIDENCE.NORM(0.05,W5,W6) -> 0.0057180335 | X7: =_xlfn.CONFIDENCE.NORM(0.05,X5,X6) -> 0.0054873429 | Y7: =_xlfn.CONFIDENCE.NORM(0.05,Y5,Y6) -> 0.001873679 | Z7: =_xlfn.CONFIDENCE.NORM(0.05,Z5,Z6) -> 0.0013638887 | AA7: =_xlfn.CONFIDENCE.NORM(0.05,AA5,AA6) -> 0.0025636172 | AB7: =_xlfn.CONFIDENCE.NORM(0.05,AB5,AB6) -> 0.0038541148 | ... AJ7: =_xlfn.CONFIDENCE.NORM(0.05,AJ5,AJ6) -> 0.002382122 | AM7: Confidence interval | AN7: =_xlfn.CONFIDENCE.NORM(0.05,AN5,AN6) -> 8.4999888e-19 | AO7: =_xlfn.CONFIDENCE.NORM(0.05,AO5,AO6) -> 0.0033036657 | AP7: =_xlfn.CONFIDENCE.NORM(0.05,AP5,AP6) -> 0.0033399891 | AQ7: =_xlfn.CONFIDENCE.NORM(0.05,AQ5,AQ6) -> 0.0047307292 | AR7: =_xlfn.CONFIDENCE.NORM(0.05,AR5,AR6) -> 0.0019329247 | AS7: =_xlfn.CONFIDENCE.NORM(0.05,AS5,AS6) -> 0.0023606215 | AT7: =_xlfn.CONFIDENCE.NORM(0.05,AT5,AT6) -> 0.002345792 | AU7: =_xlfn.CONFIDENCE.NORM(0.05,AU5,AU6) -> 0.0030210342 | ... BC7: =_xlfn.CONFIDENCE.NORM(0.05,BC5,BC6) -> 0.0037808047
A9: Time point | B9: 0 | C9: 1 | D9: 2 | E9: 3 | F9: 4 | G9: 5 | H9: 6 | I9: 7 | J9: 8 | K9: 9 | L9: 10 | M9: 11 | N9: 12 | O9: 13 | P9: 14 | Q9: 15 | T9: Time point | U9: 0 | V9: 1 | W9: 2 | X9: 3 | Y9: 4 | Z9: 5 | AA9: 6 | AB9: 7 | AC9: 8 | AD9: 9 | AE9: 10 | AF9: 11 | AG9: 12 | AH9: 13 | AI9: 14 | AJ9: 15 | AM9: Time point | AN9: 0 | AO9: 1 | AP9: 2 | AQ9: 3 | AR9: 4 | AS9: 5 | AT9: 6 | AU9: 7 | AV9: 8 | AW9: 9 | AX9: 10 | AY9: 11 | AZ9: 12 | BA9: 13 | BB9: 14 | BC9: 15
B10: 0.004 | C10: 0.0993 | D10: 0.04736 | E10: 0.04634 | F10: 0.07781 | G10: 0.06294 | H10: 0.04906 | I10: 0.01831 | J10: 0.04258 | K10: 0.03182 | L10: 0.01529 | M10: 0.01039 | N10: 0.00422 | O10: 0.000625 | P10: 0.00223 | Q10: 0.00307 | U10: 0.004 | V10: 0.1138 | W10: 0.17466 | X10: 0.20284 | Y10: 0.11261 | Z10: 0.12264 | AA10: 0.10756 | AB10: 0.19251 | AC10: 0.15088 | AD10: 0.10863 | AE10: 0.10399 | AF10: 0.10529 | AG10: 0.10873 | AH10: 0.10613 | AI10: 0.09963 | AJ10: 0.10788 | AN10: 0.004 | AO10: 0.1199 | AP10: 0.14306 | AQ10: 0.17214 | AR10: 0.11031 | AS10: 0.13144 | AT10: 0.13276 | AU10: 0.15761 | AV10: 0.11298 | AW10: 0.10273 | AX10: 0.09799 | AY10: 0.09819 | AZ10: 0.11443 | BA10: 0.11993 | BB10: 0.09842 | BC10: 0.12318
B11: 0.004 | C11: 0.0948 | D11: 0.04866 | E11: 0.04344 | F11: 0.06831 | G11: 0.06164 | H11: 0.05196 | I11: 0.00951 | J11: 0.02117 | K11: 0.02092 | L11: 0.01009 | M11: 0.00509 | N11: 0.000625 | O11: 0.000325 | P11: 0.000225 | Q11: 0.000275 | U11: 0.004 | V11: 0.1124 | W11: 0.13856 | X11: 0.19474 | Y11: 0.11181 | Z11: 0.12284 | AA11: 0.09976 | AB11: 0.14341 | AC11: 0.16278 | AD11: 0.12492 | AE11: 0.12739 | AF11: 0.12119 | AG11: 0.10443 | AH11: 0.10763 | AI11: 0.10113 | AJ11: 0.10527 | AN11: 0.004 | AO11: 0.127 | AP11: 0.13336 | AQ11: 0.18134 | AR11: 0.11241 | AS11: 0.12544 | AT11: 0.12616 | AU11: 0.14641 | AV11: 0.13767 | AW11: 0.09782 | AX11: 0.09109 | AY11: 0.09019 | AZ11: 0.10513 | BA11: 0.12143 | BB11: 0.11213 | BC11: 0.12928
B12: 0.004 | C12: 0.0874 | D12: 0.04936 | E12: 0.04204 | F12: 0.06681 | G12: 0.05454 | H12: 0.04116 | I12: 0.03281 | J12: 0.07218 | K12: 0.03492 | L12: 0.01419 | M12: 0.02599 | N12: 0.01303 | O12: 0.01432 | P12: 0.01213 | Q12: 0.01238 | U12: 0.004 | V12: 0.1117 | W12: 0.13026 | X12: 0.17614 | Y12: 0.10791 | Z12: 0.12244 | AA12: 0.09326 | AB12: 0.15161 | AC12: 0.16508 | AD12: 0.12492 | AE12: 0.12369 | AF12: 0.11089 | AG12: 0.10433 | AH12: 0.10723 | AI12: 0.09842 | AJ12: 0.10337 | AN12: 0.004 | AO12: 0.1268 | AP12: 0.14646 | AQ12: 0.17174 | AR12: 0.11451 | AS12: 0.12794 | AT12: 0.12526 | AU12: 0.12061 | AV12: 0.10878 | AW12: 0.08983 | AX12: 0.09809 | AY12: 0.10679 | AZ12: 0.10143 | BA12: 0.12313 | BB12: 0.09252 | BC12: 0.10627
B13: 0.004 | C13: 0.0853 | D13: 0.05026 | E13: 0.04234 | F13: 0.06251 | G13: 0.05624 | H13: 0.04996 | I13: 0.01541 | J13: 0.02608 | K13: 0.01673 | L13: 0.00349 | M13: 0.00319 | N13: 0.00213 | O13: 0.00252 | P13: 0.00153 | Q13: 0.00128 | U13: 0.004 | V13: 0.1106 | W13: 0.13756 | X13: 0.16524 | Y13: 0.10741 | Z13: 0.12224 | AA13: 0.10256 | AB13: 0.16491 | AC13: 0.15637 | AD13: 0.11912 | AE13: 0.10119 | AF13: 0.09259 | AG13: 0.08563 | AH13: 0.09532 | AI13: 0.09183 | AJ13: 0.09907 | AN13: 0.004 | AO13: 0.1252 | AP13: 0.15366 | AQ13: 0.17164 | AR13: 0.11401 | AS13: 0.12434 | AT13: 0.12496 | AU13: 0.13281 | AV13: 0.12718 | AW13: 0.10233 | AX13: 0.08479 | AY13: 0.08319 | AZ13: 0.09502 | BA13: 0.11613 | BB13: 0.09953 | BC13: 0.10788
B14: 0.004 | C14: 0.087 | D14: 0.04836 | E14: 0.04524 | F14: 0.06321 | G14: 0.05234 | H14: 0.09766 | I14: 0.01441 | J14: 0.03428 | K14: 0.02913 | L14: 0.01479 | M14: 0.00769 | N14: 0.000125 | O14: 2.5e-05 | P14: -7.5e-05 | Q14: -0.000325 | U14: 0.004 | V14: 0.1114 | W14: 0.12426 | X14: 0.18924 | Y14: 0.11101 | Z14: 0.12144 | AA14: 0.09166 | AB14: 0.11701 | AC14: 0.14948 | AD14: 0.12202 | AE14: 0.11059 | AF14: 0.10729 | AG14: 0.09982 | AH14: 0.09423 | AI14: 0.08382 | AJ14: 0.08647 | AN14: 0.004 | AO14: 0.1278 | AP14: 0.14796 | AQ14: 0.17014 | AR14: 0.10721 | AS14: 0.12514 | AT14: 0.12186 | AU14: 0.11031 | AV14: 0.13068 | AW14: 0.10013 | AX14: 0.08669 | AY14: 0.08859 | AZ14: 0.09143 | BA14: 0.10273 | BB14: 0.08952 | BC14: 0.10148
B15: 0.004 | C15: 0.0852 | D15: 0.05016 | E15: 0.04274 | F15: 0.06961 | G15: 0.05454 | H15: 0.03876 | I15: 0.00761 | J15: 0.02208 | K15: 0.02373 | L15: 0.00979 | M15: 0.00579 | N15: 0.00133 | O15: 0.000325 | P15: -0.000975 | Q15: -0.000725 | U15: 0.004 | V15: 0.1137 | W15: 0.13566 | X15: 0.17144 | Y15: 0.11301 | Z15: 0.12144 | AA15: 0.09636 | AB15: 0.13561 | AC15: 0.13917 | AD15: 0.10783 | AE15: 0.10849 | AF15: 0.11649 | AG15: 0.10873 | AH15: 0.11173 | AI15: 0.10183 | AJ15: 0.10488 | AN15: 0.004 | AO15: 0.1218 | AP15: 0.15046 | AQ15: 0.16444 | AR15: 0.11091 | AS15: 0.11954 | AT15: 0.12226 | AU15: 0.13221 | AV15: 0.13748 | AW15: 0.10523 | AX15: 0.08339 | AY15: 0.07509 | AZ15: 0.08772 | BA15: 0.09613 | BB15: 0.09202 | BC15: 0.10698
B16: 0.004 | C16: 0.0913 | D16: 0.04786 | E16: 0.04264 | F16: 0.06311 | G16: 0.05714 | H16: 0.04656 | I16: 0.01901 | J16: 0.04297 | K16: 0.02813 | L16: 0.01199 | M16: 0.00789 | N16: 0.00162 | O16: 0.00153 | P16: 0.00112 | Q16: 0.00257 | U16: 0.004 | V16: 0.1128 | W16: 0.12986 | X16: 0.17784 | Y16: 0.11001 | Z16: 0.11974 | AA16: 0.09456 | AB16: 0.14401 | AC16: 0.15707 | AD16: 0.12023 | AE16: 0.10819 | AF16: 0.09149 | AG16: 0.08912 | AH16: 0.09582 | AI16: 0.09112 | AJ16: 0.09928 | AN16: 0.004 | AO16: 0.1199 | AP16: 0.14736 | AQ16: 0.15934 | AR16: 0.10871 | AS16: 0.12304 | AT16: 0.12006 | AU16: 0.15231 | AV16: 0.10627 | AW16: 0.09423 | AX16: 0.08979 | AY16: 0.08809 | AZ16: 0.08803 | BA16: 0.10243 | BB16: 0.09002 | BC16: 0.10028
B17: 0.004 | C17: 0.0945 | D17: 0.04876 | E17: 0.04244 | F17: 0.08261 | G17: 0.11094 | H17: 0.12096 | I17: 0.11071 | J17: 0.07028 | K17: 0.07702 | L17: 0.10659 | M17: 0.10379 | N17: 0.11383 | O17: 0.10863 | P17: 0.11633 | Q17: 0.10018 | U17: 0.004 | V17: 0.117 | W17: 0.13276 | X17: 0.20554 | Y17: 0.11191 | Z17: 0.11534 | AA17: 0.10816 | AB17: 0.16401 | AC17: 0.11958 | AD17: 0.07293 | AE17: 0.08319 | AF17: 0.10229 | AG17: 0.10353 | AH17: 0.09323 | AI17: 0.08682 | AJ17: 0.09657 | AN17: 0.004 | AO17: 0.1152 | AP17: 0.14546 | AQ17: 0.18784 | AR17: 0.10691 | AS17: 0.12034 | AT17: 0.12546 | AU17: 0.13491 | AV17: 0.11628 | AW17: 0.09763 | AX17: 0.08699 | AY17: 0.09299 | AZ17: 0.09143 | BA17: 0.10183 | BB17: 0.09342 | BC17: 0.09538
B18: 0.004 | C18: 0.1028 | D18: 0.05116 | E18: 0.05005 | F18: 0.09389 | G18: 0.08088 | H18: 0.05483 | I18: 0.02179 | J18: 0.07186 | K18: 0.06415 | L18: 0.01606 | M18: 0.01096 | N18: 0.00515 | O18: 0.0007875 | P18: 0.00235 | Q18: 0.00485 | U18: 0.004 | V18: 0.1199 | W18: 0.13386 | X18: 0.12825 | Y18: 0.12729 | Z18: 0.12908 | AA18: 0.13993 | AB18: 0.13949 | AC18: 0.21026 | AD18: 0.20425 | AE18: 0.12566 | AF18: 0.11226 | AG18: 0.11915 | AH18: 0.12439 | AI18: 0.12435 | AJ18: 0.12655 | AN18: 0.004 | AO18: 0.1176 | AP18: 0.15856 | AQ18: 0.12945 | AR18: 0.11969 | AS18: 0.15038 | AT18: 0.14823 | AU18: 0.15459 | AV18: 0.20346 | AW18: 0.12915 | AX18: 0.12206 | AY18: 0.10556 | AZ18: 0.10265 | BA18: 0.10729 | BB18: 0.13085 | BC18: 0.13155
B19: 0.004 | C19: 0.099 | D19: 0.05226 | E19: 0.05065 | F19: 0.07369 | G19: 0.06358 | H19: 0.06063 | I19: 0.01949 | J19: 0.02456 | K19: 0.02115 | L19: 0.00716 | M19: 0.00586 | N19: 0.00155 | O19: 0.0009875 | P19: 0.00085 | Q19: 0.00015 | U19: 0.004 | V19: 0.1153 | W19: 0.12686 | X19: 0.12125 | Y19: 0.11869 | Z19: 0.12607 | AA19: 0.11633 | AB19: 0.14469 | AC19: 0.16216 | AD19: 0.13115 | AE19: 0.11546 | AF19: 0.11216 | AG19: 0.12545 | AH19: 0.11489 | AI19: 0.11235 | AJ19: 0.10565 | AN19: 0.004 | AO19: 0.1042 | AP19: 0.15316 | AQ19: 0.13285 | AR19: 0.11969 | AS19: 0.14088 | AT19: 0.13793 | AU19: 0.13049 | AV19: 0.13306 | AW19: 0.12835 | AX19: 0.09416 | AY19: 0.10396 | AZ19: 0.11605 | BA19: 0.10809 | BB19: 0.10935 | BC19: 0.09815
B20: 0.004 | C20: 0.0864 | D20: 0.05246 | E20: 0.04955 | F20: 0.06199 | G20: 0.05448 | H20: 0.05793 | I20: 0.01259 | J20: 0.02026 | K20: 0.01985 | L20: 0.00516 | M20: 0.00136 | N20: -0.00025 | O20: -0.0004125 | P20: -0.00035 | Q20: 5e-05 | U20: 0.004 | V20: 0.1163 | W20: 0.13316 | X20: 0.12655 | Y20: 0.11669 | Z20: 0.12068 | AA20: 0.09903 | AB20: 0.14139 | AC20: 0.17426 | AD20: 0.14405 | AE20: 0.12506 | AF20: 0.11406 | AG20: 0.10895 | AH20: 0.10829 | AI20: 0.10965 | AJ20: 0.10555 | AN20: 0.004 | AO20: 0.1126 | AP20: 0.16156 | AQ20: 0.12975 | AR20: 0.12149 | AS20: 0.13287 | AT20: 0.12953 | AU20: 0.11459 | AV20: 0.12646 | AW20: 0.09595 | AX20: 0.09426 | AY20: 0.10656 | AZ20: 0.11285 | BA20: 0.09709 | BB20: 0.10145 | BC20: 0.10545
B21: 0.004 | C21: 0.0847 | D21: 0.04996 | E21: 0.04815 | F21: 0.06689 | G21: 0.05008 | H21: 0.04703 | I21: 0.02509 | J21: 0.03296 | K21: 0.01955 | L21: 0.00536 | M21: 0.01056 | N21: 0.01045 | O21: 0.00989 | P21: 0.01605 | Q21: 0.01955 | U21: 0.004 | V21: 0.1198 | W21: 0.12886 | X21: 0.12175 | Y21: 0.11409 | Z21: 0.12478 | AA21: 0.11063 | AB21: 0.13489 | AC21: 0.17526 | AD21: 0.15055 | AE21: 0.12736 | AF21: 0.11166 | AG21: 0.11275 | AH21: 0.11229 | AI21: 0.11495 | AJ21: 0.11265 | AN21: 0.004 | AO21: 0.1162 | AP21: 0.14646 | AQ21: 0.13285 | AR21: 0.12229 | AS21: 0.13248 | AT21: 0.12953 | AU21: 0.11629 | AV21: 0.16496 | AW21: 0.12355 | AX21: 0.11206 | AY21: 0.08766 | AZ21: 0.10105 | BA21: 0.10029 | BB21: 0.11455 | BC21: 0.11835
... B25: 0.004 | C25: 0.0984 | D25: 0.04786 | E25: 0.05255 | F25: 0.09169 | G25: 0.12467 | H25: 0.13963 | I25: 0.11239 | J25: 0.11336 | K25: 0.09685 | L25: 0.06916 | M25: 0.08776 | N25: 0.11075 | O25: 0.08049 | P25: 0.09815 | Q25: 0.08015 | U25: 0.004 | V25: 0.1176 | W25: 0.12396 | X25: 0.11815 | Y25: 0.12009 | Z25: 0.12388 | AA25: 0.13533 | AB25: 0.13529 | AC25: 0.16586 | AD25: 0.11055 | AE25: 0.09056 | AF25: 0.09696 | AG25: 0.10845 | AH25: 0.11579 | AI25: 0.10395 | AJ25: 0.11045 | AN25: 0.004 | AO25: 0.1115 | AP25: 0.14436 | AQ25: 0.11525 | AR25: 0.11549 | AS25: 0.14318 | AT25: 0.14173 | AU25: 0.13509 | AV25: 0.18096 | AW25: 0.13855 | AX25: 0.10706 | AY25: 0.09656 | AZ25: 0.11175 | BA25: 0.11109 | BB25: 0.10485 | BC25: 0.11185
E26: 0.05089 | F26: 0.10415 | G26: 0.0787 | H26: 0.0569 | I26: 0.01624 | J26: 0.05444 | K26: 0.05387 | L26: 0.02509 | M26: 0.02792 | N26: 0.01642 | O26: 0.00394 | P26: 0.00144 | Q26: 0.00445 | X26: 0.18789 | Y26: 0.14365 | Z26: 0.1452 | AA26: 0.139 | AB26: 0.13864 | AC26: 0.25114 | AD26: 0.22787 | AE26: 0.15029 | AF26: 0.14243 | AG26: 0.11943 | AH26: 0.14594 | AI26: 0.13004 | AJ26: 0.12495 | AQ26: 0.15999 | AR26: 0.13815 | AS26: 0.1644 | AT26: 0.1589 | AU26: 0.14774 | AV26: 0.12704 | AW26: 0.12587 | AX26: 0.11409 | AY26: 0.12173 | AZ26: 0.12843 | BA26: 0.15554 | BB26: 0.13454 | BC26: 0.12175
E27: 0.05069 | F27: 0.08645 | G27: 0.074 | H27: 0.0622 | I27: 0.02214 | J27: 0.03764 | K27: 0.04297 | L27: 0.01689 | M27: 0.01323 | N27: 0.00522 | O27: 0.0002375 | P27: -0.0003625 | Q27: -0.00095 | X27: 0.17179 | Y27: 0.13465 | Z27: 0.1351 | AA27: 0.1165 | AB27: 0.13324 | AC27: 0.19334 | AD27: 0.17808 | AE27: 0.14459 | AF27: 0.13942 | AG27: 0.11853 | AH27: 0.13844 | AI27: 0.12584 | AJ27: 0.12095 | AQ27: 0.15359 | AR27: 0.13635 | AS27: 0.1568 | AT27: 0.153 | AU27: 0.14664 | AV27: 0.12544 | AW27: 0.14518 | AX27: 0.12459 | AY27: 0.10923 | AZ27: 0.10613 | BA27: 0.16294 | BB27: 0.14794 | BC27: 0.15125
E28: 0.05089 | F28: 0.07025 | G28: 0.054 | H28: 0.0364 | I28: 0.00664 | J28: 0.01374 | K28: 0.01087 | L28: 0.00749 | M28: 0.00573 | N28: 0.00103 | O28: 0.0003375 | P28: -0.0009625 | Q28: -0.00115 | X28: 0.17349 | Y28: 0.12915 | Z28: 0.1352 | AA28: 0.1096 | AB28: 0.16104 | AC28: 0.17644 | AD28: 0.17408 | AE28: 0.13719 | AF28: 0.13192 | AG28: 0.11023 | AH28: 0.12554 | AI28: 0.11914 | AJ28: 0.11345 | AQ28: 0.15039 | AR28: 0.13435 | AS28: 0.149 | AT28: 0.1434 | AU28: 0.12934 | AV28: 0.10184 | AW28: 0.11787 | AX28: 0.10459 | AY28: 0.09972 | AZ28: 0.09803 | BA28: 0.12274 | BB28: 0.12344 | BC28: 0.12915
E29: 0.05109 | F29: 0.07185 | G29: 0.055 | H29: 0.0509 | I29: 0.04234 | J29: 0.03984 | K29: 0.03127 | L29: 0.03219 | M29: 0.05022 | N29: 0.01043 | O29: 0.00774 | P29: 0.00774 | Q29: 0.00835 | X29: 0.16009 | Y29: 0.12665 | Z29: 0.1405 | AA29: 0.1131 | AB29: 0.14024 | AC29: 0.17454 | AD29: 0.15618 | AE29: 0.13349 | AF29: 0.12612 | AG29: 0.11422 | AH29: 0.13474 | AI29: 0.12444 | AJ29: 0.12125 | AQ29: 0.15209 | AR29: 0.13555 | AS29: 0.1503 | AT29: 0.1424 | AU29: 0.13314 | AV29: 0.13294 | AW29: 0.10598 | AX29: 0.12589 | AY29: 0.09473 | AZ29: 0.09742 | BA29: 0.10854 | BB29: 0.10354 | BC29: 0.11735
E30: 0.05039 | F30: 0.07115 | G30: 0.054 | H30: 0.0368 | I30: 0.01064 | J30: 0.02444 | K30: 0.02237 | L30: 0.00889 | M30: 0.00293 | N30: -0.000575 | O30: 3.75e-05 | P30: -0.0003625 | Q30: -0.00185 | X30: 0.17009 | Y30: 0.13195 | Z30: 0.1363 | AA30: 0.1094 | AB30: 0.13564 | AC30: 0.17694 | AD30: 0.13828 | AE30: 0.10459 | AF30: 0.09993 | AG30: 0.10842 | AH30: 0.12294 | AI30: 0.11714 | AJ30: 0.11525 | AQ30: 0.15769 | AR30: 0.13795 | AS30: 0.1474 | AT30: 0.1379 | AU30: 0.12584 | AV30: 0.10104 | AW30: 0.10208 | AX30: 0.10609 | AY30: 0.11533 | AZ30: 0.12033 | BA30: 0.14804 | BB30: 0.10114 | BC30: 0.09885
E31: 0.05119 | F31: 0.08095 | G31: 0.0658 | H31: 0.0459 | I31: 0.01064 | J31: 0.02734 | K31: 0.03798 | L31: 0.02249 | M31: 0.02303 | N31: 0.00962 | O31: 0.05374 | P31: 0.04734 | Q31: 0.03205 | X31: 0.16839 | Y31: 0.14555 | Z31: 0.1342 | AA31: 0.1137 | AB31: 0.14404 | AC31: 0.16064 | AD31: 0.15277 | AE31: 0.13039 | AF31: 0.12643 | AG31: 0.11653 | AH31: 0.14014 | AI31: 0.12224 | AJ31: 0.11525 | AQ31: 0.15949 | AR31: 0.13625 | AS31: 0.1458 | AT31: 0.1429 | AU31: 0.12514 | AV31: 0.10834 | AW31: 0.11768 | AX31: 0.10339 | AY31: 0.09892 | AZ31: 0.10763 | BA31: 0.12864 | BB31: 0.09664 | BC31: 0.11305
E32: 0.05059 | F32: 0.08185 | G32: 0.078 | H32: 0.0653 | I32: 0.02874 | J32: 0.05364 | K32: 0.04598 | L32: 0.01449 | M32: 0.00923 | N32: 0.00462 | O32: 0.01224 | P32: 0.01384 | Q32: 0.01985 | X32: 0.18709 | Y32: 0.13175 | Z32: 0.1377 | AA32: 0.1255 | AB32: 0.14954 | AC32: 0.18804 | AD32: 0.17627 | AE32: 0.11529 | AF32: 0.12043 | AG32: 0.11313 | AH32: 0.14424 | AI32: 0.12714 | AJ32: 0.11435 | AQ32: 0.15569 | AR32: 0.12835 | AS32: 0.1517 | AT32: 0.1481 | AU32: 0.15264 | AV32: 0.13284 | AW32: 0.14877 | AX32: 0.11819 | AY32: 0.10323 | AZ32: 0.10583 | BA32: 0.11964 | BB32: 0.11624 | BC32: 0.13015
E33: 0.05219 | F33: 0.10905 | G33: 0.148 | H33: 0.1442 | I33: 0.12814 | J33: 0.07844 | K33: 0.07128 | L33: 0.09509 | M33: 0.09842 | N33: 0.06352 | O33: 0.09804 | P33: 0.09444 | Q33: 0.09205 | X33: 0.17459 | Y33: 0.13505 | Z33: 0.1413 | AA33: 0.1423 | AB33: 0.19814 | AC33: 0.21004 | AD33: 0.17418 | AE33: 0.10469 | AF33: 0.11073 | AG33: 0.11483 | AH33: 0.15514 | AI33: 0.12974 | AJ33: 0.12005 | AQ33: 0.18099 | AR33: 0.13925 | AS33: 0.1564 | AT33: 0.156 | AU33: 0.14384 | AV33: 0.17624 | AW33: 0.14178 | AX33: 0.10499 | AY33: 0.11223 | AZ33: 0.11923 | BA33: 0.10714 | BB33: 0.10504 | BC33: 0.11635
E34: 0.05022 | F34: 0.08659 | G34: 0.07579 | H34: 0.06235 | I34: 0.01812 | J34: 0.04389 | K34: 0.04702 | L34: 0.01783 | M34: 0.00811 | N34: 0.00178 | O34: 0.0006375 | P34: 0.00285 | Q34: -1.25e-05 | X34: 0.14852 | Y34: 0.11859 | Z34: 0.12579 | AA34: 0.11385 | AB34: 0.18873 | AC34: 0.20599 | AD34: 0.19073 | AE34: 0.12043 | AF34: 0.10731 | AG34: 0.10368 | AH34: 0.12424 | AI34: 0.09095 | AJ34: 0.09209 | AQ34: 0.13483 | AR34: 0.11199 | AS34: 0.13999 | AT34: 0.14465 | AU34: 0.15463 | AV34: 0.18249 | AW34: 0.18603 | AX34: 0.09292 | AY34: 0.09111 | AZ34: 0.11008 | BA34: 0.14934 | BB34: 0.14355 | BC34: 0.14129
E35: 0.04883 | F35: 0.07759 | G35: 0.06629 | H35: 0.05175 | I35: 0.01333 | J35: 0.02099 | K35: 0.03143 | L35: 0.01503 | M35: 0.00711 | N35: 0.000775 | O35: -0.0007625 | P35: 0.00025 | Q35: 0.0001875 | X35: 0.13062 | Y35: 0.11699 | Z35: 0.12179 | AA35: 0.10645 | AB35: 0.16992 | AC35: 0.17689 | AD35: 0.17222 | AE35: 0.12373 | AF35: 0.11961 | AG35: 0.12787 | AH35: 0.13214 | AI35: 0.11125 | AJ35: 0.11369 | AQ35: 0.13492 | AR35: 0.11529 | AS35: 0.13719 | AT35: 0.13705 | AU35: 0.13223 | AV35: 0.27819 | AW35: 0.14522 | AX35: 0.12682 | AY35: 0.13131 | AZ35: 0.10228 | BA35: 0.12614 | BB35: 0.14375 | BC35: 0.12849
E36: 0.04942 | F36: 0.06719 | G36: 0.05629 | H36: 0.05595 | I36: 0.00942 | J36: 0.03249 | K36: 0.04052 | L36: 0.01513 | M36: 0.00711 | N36: 0.00128 | O36: 0.0004375 | P36: 0.00075 | Q36: 0.00299 | X36: 0.13273 | Y36: 0.11879 | Z36: 0.12029 | AA36: 0.09605 | AB36: 0.15923 | AC36: 0.15969 | AD36: 0.15912 | AE36: 0.12123 | AF36: 0.11531 | AG36: 0.11668 | AH36: 0.14584 | AI36: 0.10565 | AJ36: 0.10009 | AQ36: 0.12923 | AR36: 0.11569 | AS36: 0.13519 | AT36: 0.13495 | AU36: 0.12762 | AV36: 0.19129 | AW36: 0.11393 | AX36: 0.11793 | AY36: 0.11891 | AZ36: 0.09258 | BA36: 0.12334 | BB36: 0.10755 | BC36: 0.12179
E37: 0.04713 | F37: 0.07229 | G37: 0.05839 | H37: 0.05665 | I37: 0.04002 | J37: 0.03229 | K37: 0.01702 | L37: 0.00352 | M37: 0.00181 | N37: 0.00157 | O37: 0.0004375 | P37: 0.00295 | Q37: 0.00169 | X37: 0.13012 | Y37: 0.11769 | Z37: 0.12949 | AA37: 0.11065 | AB37: 0.16112 | AC37: 0.14769 | AD37: 0.14743 | AE37: 0.12483 | AF37: 0.13111 | AG37: 0.11608 | AH37: 0.13174 | AI37: 0.10725 | AJ37: 0.11179 | AQ37: 0.13742 | AR37: 0.12429 | AS37: 0.13559 | AT37: 0.14025 | AU37: 0.12843 | AV37: 0.12579 | AW37: 0.12442 | AX37: 0.12373 | AY37: 0.09661 | AZ37: 0.09108 | BA37: 0.13204 | BB37: 0.12585 | BC37: 0.13029
... E89: 0.05116 | F89: 0.07879 | G89: 0.06857 | H89: 0.0908 | I89: 0.018 | J89: 0.03213 | K89: 0.06313 | L89: 0.06243 | M89: 0.0389 | N89: 0.00776 | O89: 0.01529 | P89: 0.02363 | Q89: 0.01534 | X89: 0.13126 | Y89: 0.12709 | Z89: 0.12737 | AA89: 0.1084 | AB89: 0.1551 | AC89: 0.19162 | AD89: 0.13733 | AE89: 0.13553 | AF89: 0.128 | AG89: 0.12246 | AH89: 0.12879 | AI89: 0.16383 | AJ89: 0.13074 | AQ89: 0.12196 | AR89: 0.12719 | AS89: 0.15418 | AT89: 0.1578 | AU89: 0.1774 | AV89: 0.16842 | AW89: 0.12723 | AX89: 0.12853 | AY89: 0.1209 | AZ89: 0.12416 | BA89: 0.14709 | BB89: 0.13533 | BC89: 0.13194

Sheet Figure 2c,d & Sup. Figure 4c,d 
A1: Treatment group | C1: CO (AMP)
A2: Transfer | C2: t1 | D2: t2 | E2: t3 | F2: t4 | G2: t5 | H2: t6 | I2: t7 | J2: t8 | K2: t9 | L2: t10 | M2: t11 | N2: t12 | O2: t13 | P2: t14 | Q2: t15 | T2: Number of living replicates
A3: Dead replicates | C3: 0 | D3: 0 | E3: 0 | F3: 0 | G3: 0 | H3: 0 | I3: 3 | J3: 79 | K3: 79 | L3: 80 | M3: 80 | N3: 80 | O3: 80 | P3: 80 | Q3: 80 | T3: Time point | U3: t1 | V3: t2 | W3: t3 | X3: t4 | Y3: t5 | Z3: t6 | AA3: t7 | AB3: t8 | AC3: t9 | AD3: t10 | AE3: t11 | AF3: t12 | AG3: t13 | AH3: t14 | AI3: t15
A4: Living replicates | C4: =80-C3 -> 80 | D4: =80-D3 -> 80 | E4: =80-E3 -> 80 | F4: =80-F3 -> 80 | G4: =80-G3 -> 80 | H4: =80-H3 -> 80 | I4: =80-I3 -> 77 | J4: =80-J3 -> 1 | ... Q4: =80-Q3 -> 0 | T4: CO (AMP) | U4: 80 | V4: 80 | W4: 80 | X4: 80 | Y4: 80 | Z4: 80 | AA4: 77 | AB4: 1 | AC4: 1 | AD4: 0 | AE4: 0 | AF4: 0 | AG4: 0 | AH4: 0 | AI4: 0
T5: CO (CHLOR) | U5: 80 | V5: 80 | W5: 80 | X5: 80 | Y5: 80 | Z5: 80 | AA5: 80 | AB5: 51 | AC5: 50 | AD5: 50 | AE5: 50 | AF5: 50 | AG5: 50 | AH5: 50 | AI5: 50
A6: Treatment group | C6: CO (CHLOR) | T6: CO (KANA) | U6: 80 | V6: 80 | W6: 80 | X6: 80 | Y6: 80 | Z6: 60 | AA6: 0 | AB6: 0 | AC6: 0 | AD6: 0 | AE6: 0 | AF6: 0 | AG6: 0 | AH6: 0 | AI6: 0
A7: Transfer | C7: t1 | D7: t2 | E7: t3 | F7: t4 | G7: t5 | H7: t6 | I7: t7 | J7: t8 | K7: t9 | L7: t10 | M7: t11 | N7: t12 | O7: t13 | P7: t14 | Q7: t15 | T7: CO (TETRA) | U7: 80 | V7: 80 | W7: 80 | X7: 80 | Y7: 80 | Z7: 80 | AA7: 80 | AB7: 80 | AC7: 79 | AD7: 67 | AE7: 48 | AF7: 39 | AG7: 34 | AH7: 33 | AI7: 33
A8: Dead replicates | C8: 0 | D8: 0 | E8: 0 | F8: 0 | G8: 0 | H8: 0 | I8: 0 | J8: 29 | K8: 30 | L8: 30 | M8: 30 | N8: 30 | O8: 30 | P8: 30 | Q8: 30 | T8: TRP (AMP) | U8: 80 | V8: 80 | W8: 80 | X8: 80 | Y8: 80 | Z8: 80 | AA8: 80 | AB8: 80 | AC8: 80 | AD8: 80 | AE8: 80 | AF8: 80 | AG8: 80 | AH8: 80 | AI8: 78
A9: Living replicates | C9: =80-C8 -> 80 | D9: =80-D8 -> 80 | E9: =80-E8 -> 80 | F9: =80-F8 -> 80 | G9: =80-G8 -> 80 | H9: =80-H8 -> 80 | I9: =80-I8 -> 80 | J9: =80-J8 -> 51 | ... Q9: =80-Q8 -> 50 | T9: TRP (CHLOR) | U9: 80 | V9: 80 | W9: 80 | X9: 80 | Y9: 80 | Z9: 80 | AA9: 80 | AB9: 80 | AC9: 80 | AD9: 80 | AE9: 80 | AF9: 80 | AG9: 80 | AH9: 80 | AI9: 80
T10: TRP (KANA) | U10: 80 | V10: 80 | W10: 80 | X10: 80 | Y10: 80 | Z10: 80 | AA10: 78 | AB10: 62 | AC10: 59 | AD10: 57 | AE10: 54 | AF10: 52 | AG10: 49 | AH10: 49 | AI10: 49
A11: Treatment group | C11: CO (KANA) | T11: TRP (TETRA) | U11: 80 | V11: 80 | W11: 80 | X11: 80 | Y11: 80 | Z11: 80 | AA11: 80 | AB11: 80 | AC11: 80 | AD11: 80 | AE11: 80 | AF11: 80 | AG11: 80 | AH11: 80 | AI11: 80
A12: Transfer | C12: t1 | D12: t2 | E12: t3 | F12: t4 | G12: t5 | H12: t6 | I12: t7 | J12: t8 | K12: t9 | L12: t10 | M12: t11 | N12: t12 | O12: t13 | P12: t14 | Q12: t15 | T12: TYR (AMP) | U12: 80 | V12: 80 | W12: 80 | X12: 80 | Y12: 80 | Z12: 80 | AA12: 3 | AB12: 3 | AC12: 3 | AD12: 2 | AE12: 2 | AF12: 2 | AG12: 2 | AH12: 2 | AI12: 2
A13: Dead replicates | C13: 0 | D13: 0 | E13: 0 | F13: 0 | G13: 0 | H13: 20 | I13: 80 | J13: 80 | K13: 80 | L13: 80 | M13: 80 | N13: 80 | O13: 80 | P13: 80 | Q13: 80 | T13: TYR (CHLOR) | U13: 80 | V13: 80 | W13: 80 | X13: 80 | Y13: 80 | Z13: 80 | AA13: 80 | AB13: 80 | AC13: 80 | AD13: 80 | AE13: 80 | AF13: 80 | AG13: 80 | AH13: 80 | AI13: 80
A14: Living replicates | C14: =80-C13 -> 80 | D14: =80-D13 -> 80 | E14: =80-E13 -> 80 | F14: =80-F13 -> 80 | G14: =80-G13 -> 80 | H14: =80-H13 -> 60 | I14: =80-I13 -> 0 | J14: =80-J13 -> 0 | ... Q14: =80-Q13 -> 0 | T14: TYR (KANA) | U14: 80 | V14: 80 | W14: 80 | X14: 80 | Y14: 80 | Z14: 80 | AA14: 68 | AB14: 54 | AC14: 51 | AD14: 49 | AE14: 47 | AF14: 43 | AG14: 42 | AH14: 42 | AI14: 42
T15: TYR (TETRA) | U15: 80 | V15: 80 | W15: 80 | X15: 80 | Y15: 80 | Z15: 80 | AA15: 80 | AB15: 80 | AC15: 80 | AD15: 80 | AE15: 80 | AF15: 80 | AG15: 80 | AH15: 80 | AI15: 80
A16: Treatment group | C16: CO (TETRA)
A17: Transfer | C17: t1 | D17: t2 | E17: t3 | F17: t4 | G17: t5 | H17: t6 | I17: t7 | J17: t8 | K17: t9 | L17: t10 | M17: t11 | N17: t12 | O17: t13 | P17: t14 | Q17: t15
A18: Dead replicates | C18: 0 | D18: 0 | E18: 0 | F18: 0 | G18: 0 | H18: 0 | I18: 0 | J18: 0 | K18: 1 | L18: 13 | M18: 32 | N18: 41 | O18: 46 | P18: 47 | Q18: 47
A19: Living replicates | C19: =80-C18 -> 80 | D19: =80-D18 -> 80 | E19: =80-E18 -> 80 | F19: =80-F18 -> 80 | G19: =80-G18 -> 80 | H19: =80-H18 -> 80 | I19: =80-I18 -> 80 | J19: =80-J18 -> 80 | ... Q19: =80-Q18 -> 33 | T19: Percentage of living replicates
T20: Time point | U20: t1 | V20: t2 | W20: t3 | X20: t4 | Y20: t5 | Z20: t6 | AA20: t7 | AB20: t8 | AC20: t9 | AD20: t10 | AE20: t11 | AF20: t12 | AG20: t13 | AH20: t14 | AI20: t15
T21: CO (AMP) | U21: =(U4/80)*100 -> 100 | V21: =(V4/80)*100 -> 100 | W21: =(W4/80)*100 -> 100 | X21: =(X4/80)*100 -> 100 | Y21: =(Y4/80)*100 -> 100 | Z21: =(Z4/80)*100 -> 100 | AA21: =(AA4/80)*100 -> 96.25 | AB21: =(AB4/80)*100 -> 1.25 | ... AI21: =(AI4/80)*100 -> 0
T22: CO (CHLOR) | U22: =(U5/80)*100 -> 100 | V22: =(V5/80)*100 -> 100 | W22: =(W5/80)*100 -> 100 | X22: =(X5/80)*100 -> 100 | Y22: =(Y5/80)*100 -> 100 | Z22: =(Z5/80)*100 -> 100 | AA22: =(AA5/80)*100 -> 100 | AB22: =(AB5/80)*100 -> 63.75 | ... AI22: =(AI5/80)*100 -> 62.5
A23: Treatment group | C23: TRP (AMP) | T23: CO (KANA) | U23: =(U6/80)*100 -> 100 | V23: =(V6/80)*100 -> 100 | W23: =(W6/80)*100 -> 100 | X23: =(X6/80)*100 -> 100 | Y23: =(Y6/80)*100 -> 100 | Z23: =(Z6/80)*100 -> 75 | AA23: =(AA6/80)*100 -> 0 | AB23: =(AB6/80)*100 -> 0 | ... AI23: =(AI6/80)*100 -> 0
A24: Transfer | C24: t1 | D24: t2 | E24: t3 | F24: t4 | G24: t5 | H24: t6 | I24: t7 | J24: t8 | K24: t9 | L24: t10 | M24: t11 | N24: t12 | O24: t13 | P24: t14 | Q24: t15 | T24: CO (TETRA) | U24: =(U7/80)*100 -> 100 | V24: =(V7/80)*100 -> 100 | W24: =(W7/80)*100 -> 100 | X24: =(X7/80)*100 -> 100 | Y24: =(Y7/80)*100 -> 100 | Z24: =(Z7/80)*100 -> 100 | AA24: =(AA7/80)*100 -> 100 | AB24: =(AB7/80)*100 -> 100 | ... AI24: =(AI7/80)*100 -> 41.25
A25: Dead replicates | C25: 0 | D25: 0 | E25: 0 | F25: 0 | G25: 0 | H25: 0 | I25: 0 | J25: 0 | K25: 0 | L25: 0 | M25: 0 | N25: 0 | O25: 0 | P25: 0 | Q25: 2 | T25: TRP (AMP) | U25: =(U8/80)*100 -> 100 | V25: =(V8/80)*100 -> 100 | W25: =(W8/80)*100 -> 100 | X25: =(X8/80)*100 -> 100 | Y25: =(Y8/80)*100 -> 100 | Z25: =(Z8/80)*100 -> 100 | AA25: =(AA8/80)*100 -> 100 | AB25: =(AB8/80)*100 -> 100 | ... AI25: =(AI8/80)*100 -> 97.5
A26: Living replicates | C26: =80-C25 -> 80 | D26: =80-D25 -> 80 | E26: =80-E25 -> 80 | F26: =80-F25 -> 80 | G26: =80-G25 -> 80 | H26: =80-H25 -> 80 | I26: =80-I25 -> 80 | J26: =80-J25 -> 80 | ... Q26: =80-Q25 -> 78 | T26: TRP (CHLOR) | U26: =(U9/80)*100 -> 100 | V26: =(V9/80)*100 -> 100 | W26: =(W9/80)*100 -> 100 | X26: =(X9/80)*100 -> 100 | Y26: =(Y9/80)*100 -> 100 | Z26: =(Z9/80)*100 -> 100 | AA26: =(AA9/80)*100 -> 100 | AB26: =(AB9/80)*100 -> 100 | ... AI26: =(AI9/80)*100 -> 100
T27: TRP (KANA) | U27: =(U10/80)*100 -> 100 | V27: =(V10/80)*100 -> 100 | W27: =(W10/80)*100 -> 100 | X27: =(X10/80)*100 -> 100 | Y27: =(Y10/80)*100 -> 100 | Z27: =(Z10/80)*100 -> 100 | AA27: =(AA10/80)*100 -> 97.5 | AB27: =(AB10/80)*100 -> 77.5 | ... AI27: =(AI10/80)*100 -> 61.25
A28: Treatment group | C28: TRP (CHLOR) | T28: TRP (TETRA) | U28: =(U11/80)*100 -> 100 | V28: =(V11/80)*100 -> 100 | W28: =(W11/80)*100 -> 100 | X28: =(X11/80)*100 -> 100 | Y28: =(Y11/80)*100 -> 100 | Z28: =(Z11/80)*100 -> 100 | AA28: =(AA11/80)*100 -> 100 | AB28: =(AB11/80)*100 -> 100 | ... AI28: =(AI11/80)*100 -> 100
A29: Transfer | C29: t1 | D29: t2 | E29: t3 | F29: t4 | G29: t5 | H29: t6 | I29: t7 | J29: t8 | K29: t9 | L29: t10 | M29: t11 | N29: t12 | O29: t13 | P29: t14 | Q29: t15 | T29: TYR (AMP) | U29: =(U12/80)*100 -> 100 | V29: =(V12/80)*100 -> 100 | W29: =(W12/80)*100 -> 100 | X29: =(X12/80)*100 -> 100 | Y29: =(Y12/80)*100 -> 100 | Z29: =(Z12/80)*100 -> 100 | AA29: =(AA12/80)*100 -> 3.75 | AB29: =(AB12/80)*100 -> 3.75 | ... AI29: =(AI12/80)*100 -> 2.5
A30: Dead replicates | C30: 0 | D30: 0 | E30: 0 | F30: 0 | G30: 0 | H30: 0 | I30: 0 | J30: 0 | K30: 0 | L30: 0 | M30: 0 | N30: 0 | O30: 0 | P30: 0 | Q30: 0 | T30: TYR (CHLOR) | U30: =(U13/80)*100 -> 100 | V30: =(V13/80)*100 -> 100 | W30: =(W13/80)*100 -> 100 | X30: =(X13/80)*100 -> 100 | Y30: =(Y13/80)*100 -> 100 | Z30: =(Z13/80)*100 -> 100 | AA30: =(AA13/80)*100 -> 100 | AB30: =(AB13/80)*100 -> 100 | ... AI30: =(AI13/80)*100 -> 100
A31: Living replicates | C31: =80-C30 -> 80 | D31: =80-D30 -> 80 | E31: =80-E30 -> 80 | F31: =80-F30 -> 80 | G31: =80-G30 -> 80 | H31: =80-H30 -> 80 | I31: =80-I30 -> 80 | J31: =80-J30 -> 80 | ... Q31: =80-Q30 -> 80 | T31: TYR (KANA) | U31: =(U14/80)*100 -> 100 | V31: =(V14/80)*100 -> 100 | W31: =(W14/80)*100 -> 100 | X31: =(X14/80)*100 -> 100 | Y31: =(Y14/80)*100 -> 100 | Z31: =(Z14/80)*100 -> 100 | AA31: =(AA14/80)*100 -> 85 | AB31: =(AB14/80)*100 -> 67.5 | ... AI31: =(AI14/80)*100 -> 52.5
T32: TYR (TETRA) | U32: =(U15/80)*100 -> 100 | V32: =(V15/80)*100 -> 100 | W32: =(W15/80)*100 -> 100 | X32: =(X15/80)*100 -> 100 | Y32: =(Y15/80)*100 -> 100 | Z32: =(Z15/80)*100 -> 100 | AA32: =(AA15/80)*100 -> 100 | AB32: =(AB15/80)*100 -> 100 | ... AI32: =(AI15/80)*100 -> 100
A33: Treatment group | C33: TRP (KANA)
A34: Transfer | C34: t1 | D34: t2 | E34: t3 | F34: t4 | G34: t5 | H34: t6 | I34: t7 | J34: t8 | K34: t9 | L34: t10 | M34: t11 | N34: t12 | O34: t13 | P34: t14 | Q34: t15
A35: Dead replicates | C35: 0 | D35: 0 | E35: 0 | F35: 0 | G35: 0 | H35: 0 | I35: 2 | J35: 18 | K35: 21 | L35: 23 | M35: 26 | N35: 28 | O35: 31 | P35: 31 | Q35: 31
A36: Living replicates | C36: =80-C35 -> 80 | D36: =80-D35 -> 80 | E36: =80-E35 -> 80 | F36: =80-F35 -> 80 | G36: =80-G35 -> 80 | H36: =80-H35 -> 80 | I36: =80-I35 -> 78 | J36: =80-J35 -> 62 | ... Q36: =80-Q35 -> 49
A38: Treatment group | C38: TRP (TETRA)
A39: Transfer | C39: t1 | D39: t2 | E39: t3 | F39: t4 | G39: t5 | H39: t6 | I39: t7 | J39: t8 | K39: t9 | L39: t10 | M39: t11 | N39: t12 | O39: t13 | P39: t14 | Q39: t15
A40: Dead replicates | C40: 0 | D40: 0 | E40: 0 | F40: 0 | G40: 0 | H40: 0 | I40: 0 | J40: 0 | K40: 0 | L40: 0 | M40: 0 | N40: 0 | O40: 0 | P40: 0 | Q40: 0
A41: Living replicates | C41: =80-C40 -> 80 | D41: =80-D40 -> 80 | E41: =80-E40 -> 80 | F41: =80-F40 -> 80 | G41: =80-G40 -> 80 | H41: =80-H40 -> 80 | I41: =80-I40 -> 80 | J41: =80-J40 -> 80 | ... Q41: =80-Q40 -> 80
A45: Treatment group | C45: TYR (AMP)
A46: Transfer | C46: t1 | D46: t2 | E46: t3 | F46: t4 | G46: t5 | H46: t6 | I46: t7 | J46: t8 | K46: t9 | L46: t10 | M46: t11 | N46: t12 | O46: t13 | P46: t14 | Q46: t15
A47: Dead replicates | C47: 0 | D47: 0 | E47: 0 | F47: 0 | G47: 0 | H47: 0 | I47: 77 | J47: 77 | K47: 77 | L47: 78 | M47: 78 | N47: 78 | O47: 78 | P47: 78 | Q47: 78
A48: Living replicates | C48: =80-C47 -> 80 | D48: =80-D47 -> 80 | E48: =80-E47 -> 80 | F48: =80-F47 -> 80 | G48: =80-G47 -> 80 | H48: =80-H47 -> 80 | I48: =80-I47 -> 3 | J48: =80-J47 -> 3 | ... Q48: =80-Q47 -> 2
A50: Treatment group | C50: TYR (CHLOR)
A51: Transfer | C51: t1 | D51: t2 | E51: t3 | F51: t4 | G51: t5 | H51: t6 | I51: t7 | J51: t8 | K51: t9 | L51: t10 | M51: t11 | N51: t12 | O51: t13 | P51: t14 | Q51: t15
A52: Dead replicates | C52: 0 | D52: 0 | E52: 0 | F52: 0 | G52: 0 | H52: 0 | I52: 0 | J52: 0 | K52: 0 | L52: 0 | M52: 0 | N52: 0 | O52: 0 | P52: 0 | Q52: 0
A53: Living replicates | C53: =80-C52 -> 80 | D53: =80-D52 -> 80 | E53: =80-E52 -> 80 | F53: =80-F52 -> 80 | G53: =80-G52 -> 80 | H53: =80-H52 -> 80 | I53: =80-I52 -> 80 | J53: =80-J52 -> 80 | ... Q53: =80-Q52 -> 80
A55: Treatment group | C55: TYR (KANA)
A56: Transfer | C56: t1 | D56: t2 | E56: t3 | F56: t4 | G56: t5 | H56: t6 | I56: t7 | J56: t8 | K56: t9 | L56: t10 | M56: t11 | N56: t12 | O56: t13 | P56: t14 | Q56: t15
A57: Dead replicates | C57: 0 | D57: 0 | E57: 0 | F57: 0 | G57: 0 | H57: 0 | I57: 12 | J57: 26 | K57: 29 | L57: 31 | M57: 33 | N57: 37 | O57: 38 | P57: 38 | Q57: 38
A58: Living replicates | C58: =80-C57 -> 80 | D58: =80-D57 -> 80 | E58: =80-E57 -> 80 | F58: =80-F57 -> 80 | G58: =80-G57 -> 80 | H58: =80-H57 -> 80 | I58: =80-I57 -> 68 | J58: =80-J57 -> 54 | ... Q58: =80-Q57 -> 42
A60: Treatment group | C60: TYR (TETRA)
A61: Transfer | C61: t1 | D61: t2 | E61: t3 | F61: t4 | G61: t5 | H61: t6 | I61: t7 | J61: t8 | K61: t9 | L61: t10 | M61: t11 | N61: t12 | O61: t13 | P61: t14 | Q61: t15
A62: Dead replicates | C62: 0 | D62: 0 | E62: 0 | F62: 0 | G62: 0 | H62: 0 | I62: 0 | J62: 0 | K62: 0 | L62: 0 | M62: 0 | N62: 0 | O62: 0 | P62: 0 | Q62: 0
A63: Living replicates | C63: =80-C62 -> 80 | D63: =80-D62 -> 80 | E63: =80-E62 -> 80 | F63: =80-F62 -> 80 | G63: =80-G62 -> 80 | H63: =80-H62 -> 80 | I63: =80-I62 -> 80 | J63: =80-J62 -> 80 | ... Q63: =80-Q62 -> 80

Sheet Figure 3a
A1: Chlorapmhenicol treatment - OD600nm values | G1: Chlorapmhenicol concentration 100% = 25µg/ml | AI1: Ancestral level of chloramphenicol tolerance | AN1: Normalized resistance level of chloramphenicol treated evolved cultures
AI2: (all raw data in Supplementary Fig. 3) | AN2: (Normalization by subtraction)
B3: coeolved CO (-AA)
B4: 1 | C4: 2 | D4: 3 | E4: 4 | F4: 5 | G4: 6 | H4: 7 | I4: 8 | J4: 9 | K4: 10 | L4: 11 | M4: 12 | N4: 13 | O4: 14 | P4: 15 | Q4: 16 | R4: 17 | S4: 18 | T4: 19 | U4: 20 | V4: 21 | W4: 22 | X4: 23 | Y4: 24 | Z4: 25 | AA4: 26 | AB4: 27 | AC4: 28 | AE4: coeolved CO (-AA) | AK4: CO (-AA) | AP4: coeolved CO (-AA)
B5: 0 | C5: 0.75 | D5: 1.5 | E5: 2.25 | F5: 3 | G5: 3.75 | H5: 4.5 | I5: 5.25 | J5: 6 | K5: 6.75 | L5: 7.5 | M5: 8.25 | N5: 9 | O5: 9.75 | P5: 10.5 | Q5: 11.25 | R5: 12 | S5: 12.75 | T5: 13.5 | U5: 14.25 | V5: 15 | W5: 15.75 | X5: 16.5 | Y5: 17.25 | Z5: 18 | AA5: 18.75 | AB5: 19.5 | AC5: 20.25 | AE5: MIC [%] | AF5: MIC [µg/ml] | AK5: MIC [µg/ml] | AP5: Normalized MIC [µg/ml]
A6: 1 | B6: 0.067175 | C6: 0.06934375 | D6: 0.0522625 | E6: 0.018475 | F6: 0.01798125 | G6: 0.0135875 | H6: 0.01108125 | I6: 0.0059625 | J6: 0.00840625 | K6: 0.00724375 | L6: 0.00858125 | M6: 0.006175 | N6: 0.00539375 | O6: 0.00446875 | P6: 0.00523125 | Q6: 0.00655 | R6: 0 | S6: 0 | T6: 0 | U6: 0 | V6: 0 | W6: 0 | X6: 0 | Y6: 0 | Z6: 0 | AA6: 0 | AB6: 0 | AC6: 0 | AD6: 1 | AE6: 525 | AF6: 131.25 | AK6: 11.5 | AP6: =AF6-$AK$14 -> 120.125
A7: 2 | B7: 0.038175 | C7: 0.08374375 | D7: 0.0555625 | E7: 0.015375 | F7: 0.01318125 | G7: 0.0088875 | H7: 0.00768125 | I7: 0.0046625 | J7: 0.00670625 | K7: 0.00474375 | L7: 0.00598125 | M7: 0.004875 | N7: 0.00339375 | O7: 0.00506875 | P7: 0.00303125 | Q7: 0.00385 | R7: 0 | S7: 0 | T7: 0 | U7: 0 | V7: 0 | W7: 0 | X7: 0 | Y7: 0 | Z7: 0 | AA7: 0 | AB7: 0 | AC7: 0 | AD7: 2 | AE7: 375 | AF7: 93.75 | AK7: 10.5 | AP7: =AF7-$AK$14 -> 82.625
A8: 3 | B8: 0.046575 | C8: 0.06964375 | D8: 0.0823625 | E8: 0.023575 | F8: 0.01708125 | G8: 0.0126875 | H8: 0.01228125 | I8: 0.0073625 | J8: 0.00840625 | K8: 0.00684375 | L8: 0.00748125 | M8: 0.007575 | N8: 0.00579375 | O8: 0.00576875 | P8: 0.00633125 | Q8: 0.00455 | R8: 0 | S8: 0 | T8: 0 | U8: 0 | V8: 0 | W8: 0 | X8: 0 | Y8: 0 | Z8: 0 | AA8: 0 | AB8: 0 | AC8: 0 | AD8: 3 | AE8: 525 | AF8: 131.25 | AK8: 11.5 | AP8: =AF8-$AK$14 -> 120.125
A9: 4 | B9: 0.077175 | C9: 0.06574375 | D9: 0.0661625 | E9: 0.057575 | F9: 0.03588125 | G9: 0.0251875 | H9: 0.02378125 | I9: 0.0128625 | J9: 0.01510625 | K9: 0.01184375 | L9: 0.01148125 | M9: 0.009175 | N9: 0.00959375 | O9: 0.00866875 | P9: 0.00883125 | Q9: 0.00785 | R9: 0 | S9: 0 | T9: 0 | U9: 0 | V9: 0 | W9: 0 | X9: 0 | Y9: 0 | Z9: 0 | AA9: 0 | AB9: 0 | AC9: 0 | AD9: 4 | AE9: 825 | AF9: 206.25 | AK9: 10.5 | AP9: =AF9-$AK$14 -> 195.125
A10: 5 | B10: 0.046875 | C10: 0.08164375 | D10: 0.0904625 | E10: 0.041275 | F10: 0.01948125 | G10: 0.0122875 | H10: 0.01128125 | I10: 0.0087625 | J10: 0.00740625 | K10: 0.00754375 | L10: 0.00598125 | M10: 0.005275 | N10: 0.00599375 | O10: 0.00666875 | P10: 0.00523125 | Q10: 0.00505 | R10: 0 | S10: 0 | T10: 0 | U10: 0 | V10: 0 | W10: 0 | X10: 0 | Y10: 0 | Z10: 0 | AA10: 0 | AB10: 0 | AC10: 0 | AD10: 5 | AE10: 525 | AF10: 131.25 | AK10: 10.5 | AP10: =AF10-$AK$14 -> 120.125
A11: 6 | B11: 0.076675 | C11: 0.07724375 | D11: 0.0897625 | E11: 0.065075 | F11: 0.04868125 | G11: 0.0270875 | H11: 0.02378125 | I11: 0.0151625 | J11: 0.01220625 | K11: 0.01114375 | L11: 0.00858125 | M11: 0.007675 | N11: 0.00759375 | O11: 0.00816875 | P11: 0.00673125 | Q11: 0.00625 | R11: 0 | S11: 0 | T11: 0 | U11: 0 | V11: 0 | W11: 0 | X11: 0 | Y11: 0 | Z11: 0 | AA11: 0 | AB11: 0 | AC11: 0 | AD11: 6 | AE11: 750 | AF11: 187.5 | AK11: 10.5 | AP11: =AF11-$AK$14 -> 176.375
A12: 7 | B12: 0.063575 | C12: 0.07604375 | D12: 0.0595625 | E12: 0.025075 | F12: 0.01708125 | G12: 0.0116875 | H12: 0.01138125 | I12: 0.0082625 | J12: 0.00720625 | K12: 0.00694375 | L12: 0.00638125 | M12: 0.005175 | N12: 0.00619375 | O12: 0.00586875 | P12: 0.00513125 | Q12: 0.00465 | R12: 0 | S12: 0 | T12: 0 | U12: 0 | V12: 0 | W12: 0 | X12: 0 | Y12: 0 | Z12: 0 | AA12: 0 | AB12: 0 | AC12: 0 | AD12: 7 | AE12: 525 | AF12: 131.25 | AK12: 12.5 | AP12: =AF12-$AK$14 -> 120.125
A13: 8 | B13: 0.046875 | C13: 0.06434375 | D13: 0.0762625 | E13: 0.021975 | F13: 0.01518125 | G13: 0.0122875 | H13: 0.01118125 | I13: 0.0088625 | J13: 0.00780625 | K13: 0.00684375 | L13: 0.00578125 | M13: 0.007275 | N13: 0.00499375 | O13: 0.00616875 | P13: 0.00483125 | Q13: 0.00405 | R13: 0 | S13: 0 | T13: 0 | U13: 0 | V13: 0 | W13: 0 | X13: 0 | Y13: 0 | Z13: 0 | AA13: 0 | AB13: 0 | AC13: 0 | AD13: 8 | AE13: 525 | AF13: 131.25 | AK13: 11.5 | AP13: =AF13-$AK$14 -> 120.125
AJ14: Mean | AK14: =AVERAGE(AK6:AK13) -> 11.125
B15: coeolved CO (+AA)
B16: 1 | C16: 2 | D16: 3 | E16: 4 | F16: 5 | G16: 6 | H16: 7 | I16: 8 | J16: 9 | K16: 10 | L16: 11 | M16: 12 | N16: 13 | O16: 14 | P16: 15 | Q16: 16 | R16: 17 | S16: 18 | T16: 19 | U16: 20 | V16: 21 | W16: 22 | X16: 23 | Y16: 24 | Z16: 25 | AA16: 26 | AB16: 27 | AC16: 28 | AE16: coeolved CO (+AA) | AK16: CO (+AA) | AP16: coeolved CO (+AA)
B17: 0 | C17: 0.75 | D17: 1.5 | E17: 2.25 | F17: 3 | G17: 3.75 | H17: 4.5 | I17: 5.25 | J17: 6 | K17: 6.75 | L17: 7.5 | M17: 8.25 | N17: 9 | O17: 9.75 | P17: 10.5 | Q17: 11.25 | R17: 12 | S17: 12.75 | T17: 13.5 | U17: 14.25 | V17: 15 | W17: 15.75 | X17: 16.5 | Y17: 17.25 | Z17: 18 | AA17: 18.75 | AB17: 19.5 | AC17: 20.25 | AE17: MIC [%] | AF17: MIC [µg/ml] | AK17: MIC [µg/ml] | AP17: Normalized MIC [µg/ml]
A18: 1 | B18: 0.095075 | C18: 0.05604375 | D18: 0.0579625 | E18: 0.025975 | F18: 0.00938125 | G18: 0.0049875 | H18: 0.00558125 | I18: 0.0023625 | J18: 0.00330625 | K18: 0.00384375 | L18: 0.00378125 | M18: 0.003775 | N18: 0.00539375 | O18: 0.00276875 | P18: 0.00483125 | Q18: 0.00325 | R18: 0 | S18: 0 | T18: 0 | U18: 0 | V18: 0 | W18: 0 | X18: 0 | Y18: 0 | Z18: 0 | AA18: 0 | AB18: 0 | AC18: 0 | AD18: 1 | AE18: 300 | AF18: 75 | AK18: 16.5 | AP18: =AF18-$AK$26 -> 61.375
A19: 2 | B19: 0.100175 | C19: 0.08514375 | D19: 0.0287625 | E19: 0.019075 | F19: 0.01148125 | G19: 0.0095875 | H19: 0.00928125 | I19: 0.0066625 | J19: 0.00880625 | K19: 0.00684375 | L19: 0.00658125 | M19: 0.006175 | N19: 0.00429375 | O19: 0.00686875 | P19: 0.01403125 | Q19: 0.00645 | R19: 0 | S19: 0 | T19: 0 | U19: 0 | V19: 0 | W19: 0 | X19: 0 | Y19: 0 | Z19: 0 | AA19: 0 | AB19: 0 | AC19: 0 | AD19: 2 | AE19: 375 | AF19: 93.75 | AK19: 13.5 | AP19: =AF19-$AK$26 -> 80.125
A20: 3 | B20: 0.098075 | C20: 0.08764375 | D20: 0.0276625 | E20: 0.017375 | F20: 0.01018125 | G20: 0.0090875 | H20: 0.00808125 | I20: 0.0072625 | J20: 0.00980625 | K20: 0.00754375 | L20: 0.00668125 | M20: 0.008075 | N20: 0.00449375 | O20: 0.00796875 | P20: 0.00513125 | Q20: 0.00455 | R20: 0 | S20: 0 | T20: 0 | U20: 0 | V20: 0 | W20: 0 | X20: 0 | Y20: 0 | Z20: 0 | AA20: 0 | AB20: 0 | AC20: 0 | AD20: 3 | AE20: 375 | AF20: 93.75 | AK20: 13.5 | AP20: =AF20-$AK$26 -> 80.125
A21: 4 | B21: 0.109175 | C21: 0.12674375 | D21: 0.0250625 | E21: 0.021875 | F21: 0.01208125 | G21: 0.0072875 | H21: 0.00748125 | I21: 0.0063625 | J21: 0.00670625 | K21: 0.00594375 | L21: 0.00528125 | M21: 0.005575 | N21: 0.00599375 | O21: 0.00556875 | P21: 0.00623125 | Q21: 0.00445 | R21: 0 | S21: 0 | T21: 0 | U21: 0 | V21: 0 | W21: 0 | X21: 0 | Y21: 0 | Z21: 0 | AA21: 0 | AB21: 0 | AC21: 0 | AD21: 4 | AE21: 375 | AF21: 93.75 | AK21: 12.5 | AP21: =AF21-$AK$26 -> 80.125
A22: 5 | B22: 0.101175 | C22: 0.05664375 | D22: 0.0115625 | E22: 0.010675 | F22: 0.01068125 | G22: 0.0124875 | H22: 0.00498125 | I22: 0.0054625 | J22: 0.00590625 | K22: 0.00604375 | L22: 0.00558125 | M22: 0.007375 | N22: 0.00659375 | O22: 0.00446875 | P22: 0.00903125 | Q22: 0.00485 | R22: 0 | S22: 0 | T22: 0 | U22: 0 | V22: 0 | W22: 0 | X22: 0 | Y22: 0 | Z22: 0 | AA22: 0 | AB22: 0 | AC22: 0 | AD22: 5 | AE22: 450 | AF22: 112.5 | AK22: 13.5 | AP22: =AF22-$AK$26 -> 98.875
A23: 6 | B23: 0.153275 | C23: 0.12334375 | D23: 0.0428625 | E23: 0.025275 | F23: 0.01218125 | G23: 0.0072875 | H23: 0.00668125 | I23: 0.0070625 | J23: 0.00740625 | K23: 0.00694375 | L23: 0.00468125 | M23: 0.006075 | N23: 0.00489375 | O23: 0.00716875 | P23: 0.00583125 | Q23: 0.00595 | R23: 0 | S23: 0 | T23: 0 | U23: 0 | V23: 0 | W23: 0 | X23: 0 | Y23: 0 | Z23: 0 | AA23: 0 | AB23: 0 | AC23: 0 | AD23: 6 | AE23: 375 | AF23: 93.75 | AK23: 11.5 | AP23: =AF23-$AK$26 -> 80.125
A24: 7 | B24: 0.093675 | C24: 0.08914375 | D24: 0.0961625 | E24: 0.087275 | F24: 0.07178125 | G24: 0.0407875 | H24: 0.02498125 | I24: 0.0185625 | J24: 0.01340625 | K24: 0.01024375 | L24: 0.00588125 | M24: 0.008375 | N24: 0.00559375 | O24: 0.00886875 | P24: 0.00573125 | Q24: 0.00645 | R24: 0 | S24: 0 | T24: 0 | U24: 0 | V24: 0 | W24: 0 | X24: 0 | Y24: 0 | Z24: 0 | AA24: 0 | AB24: 0 | AC24: 0 | AD24: 7 | AE24: 750 | AF24: 187.5 | AK24: 16.5 | AP24: =AF24-$AK$26 -> 173.875
A25: 8 | B25: 0.091775 | C25: 0.10134375 | D25: 0.1288625 | E25: 0.091675 | F25: 0.07888125 | G25: 0.0811875 | H25: 0.05568125 | I25: 0.0401625 | J25: 0.03670625 | K25: 0.03064375 | L25: 0.01788125 | M25: 0.022275 | N25: 0.01309375 | O25: 0.02076875 | P25: 0.01183125 | Q25: 0.00875 | R25: 0 | S25: 0 | T25: 0 | U25: 0 | V25: 0 | W25: 0 | X25: 0 | Y25: 0 | Z25: 0 | AA25: 0 | AB25: 0 | AC25: 0 | AD25: 8 | AE25: 1125 | AF25: 281.25 | AK25: 11.5 | AP25: =AF25-$AK$26 -> 267.625
AJ26: Mean | AK26: =AVERAGE(AK18:AK25) -> 13.625
B27: coeolved TRP (+AA)
B28: 1 | C28: 2 | D28: 3 | E28: 4 | F28: 5 | G28: 6 | H28: 7 | I28: 8 | J28: 9 | K28: 10 | L28: 11 | M28: 12 | N28: 13 | O28: 14 | P28: 15 | Q28: 16 | R28: 17 | S28: 18 | T28: 19 | U28: 20 | V28: 21 | W28: 22 | X28: 23 | Y28: 24 | Z28: 25 | AA28: 26 | AB28: 27 | AC28: 28 | AE28: coeolved TRP (+AA) | AK28: TRP (+AA) | AP28: coeolved TRP (+AA)
B29: 0 | C29: 0.75 | D29: 1.5 | E29: 2.25 | F29: 3 | G29: 3.75 | H29: 4.5 | I29: 5.25 | J29: 6 | K29: 6.75 | L29: 7.5 | M29: 8.25 | N29: 9 | O29: 9.75 | P29: 10.5 | Q29: 11.25 | R29: 12 | S29: 12.75 | T29: 13.5 | U29: 14.25 | V29: 15 | W29: 15.75 | X29: 16.5 | Y29: 17.25 | Z29: 18 | AA29: 18.75 | AB29: 19.5 | AC29: 20.25 | AE29: MIC [%] | AF29: MIC [µg/ml] | AK29: MIC [µg/ml] | AP29: Normalized MIC [µg/ml]
A30: 1 | B30: 0.093375 | C30: 0.05974375 | D30: 0.0166625 | E30: 0.012775 | F30: 0.00728125 | G30: 0.0073875 | H30: 0.00858125 | I30: 0.0076625 | J30: 0.00760625 | K30: 0.00614375 | L30: 0.00598125 | M30: 0.006675 | N30: 0.00549375 | O30: 0.00646875 | P30: 0.00513125 | Q30: 0.00385 | R30: 0 | S30: 0 | T30: 0 | U30: 0 | V30: 0 | W30: 0 | X30: 0 | Y30: 0 | Z30: 0 | AA30: 0 | AB30: 0 | AC30: 0 | AD30: 1 | AE30: 300 | AF30: 75 | AK30: 5.5 | AP30: =AF30-$AK$38 -> 70
A31: 2 | B31: 0.092675 | C31: 0.04084375 | D31: 0.0165625 | E31: 0.010075 | F31: 0.00588125 | G31: 0.0068875 | H31: 0.00648125 | I31: 0.0067625 | J31: 0.00630625 | K31: 0.00514375 | L31: 0.00548125 | M31: 0.006175 | N31: 0.00449375 | O31: 0.00546875 | P31: 0.00503125 | Q31: 0.00495 | R31: 0 | S31: 0 | T31: 0 | U31: 0 | V31: 0 | W31: 0 | X31: 0 | Y31: 0 | Z31: 0 | AA31: 0 | AB31: 0 | AC31: 0 | AD31: 2 | AE31: 300 | AF31: 75 | AK31: 4.5 | AP31: =AF31-$AK$38 -> 70
A32: 3 | B32: 0.096575 | C32: 0.03734375 | D32: 0.0140625 | E32: 0.007575 | F32: 0.00578125 | G32: 0.0081875 | H32: 0.01798125 | I32: 0.0053625 | J32: 0.00580625 | K32: 0.00424375 | L32: 0.00498125 | M32: 0.004375 | N32: 0.00559375 | O32: 0.00546875 | P32: 0.00603125 | Q32: 0.00265 | R32: 0 | S32: 0 | T32: 0 | U32: 0 | V32: 0 | W32: 0 | X32: 0 | Y32: 0 | Z32: 0 | AA32: 0 | AB32: 0 | AC32: 0 | AD32: 3 | AE32: 225 | AF32: 56.25 | AK32: 5.5 | AP32: =AF32-$AK$38 -> 51.25
A33: 4 | B33: 0.095075 | C33: 0.07424375 | D33: 0.0264625 | E33: 0.013475 | F33: 0.00808125 | G33: 0.0071875 | H33: 0.00818125 | I33: 0.0072625 | J33: 0.00710625 | K33: 0.00584375 | L33: 0.00678125 | M33: 0.006075 | N33: 0.00449375 | O33: 0.00756875 | P33: 0.00563125 | Q33: 0.00355 | R33: 0 | S33: 0 | T33: 0 | U33: 0 | V33: 0 | W33: 0 | X33: 0 | Y33: 0 | Z33: 0 | AA33: 0 | AB33: 0 | AC33: 0 | AD33: 4 | AE33: 300 | AF33: 75 | AK33: 5.5 | AP33: =AF33-$AK$38 -> 70
A34: 5 | B34: 0.097075 | C34: 0.02874375 | D34: 0.0084625 | E34: 0.006375 | F34: 0.00488125 | G34: 0.0049875 | H34: 0.00548125 | I34: 0.0054625 | J34: 0.00440625 | K34: 0.00564375 | L34: 0.00608125 | M34: 0.005075 | N34: 0.00369375 | O34: 0.00386875 | P34: 0.00373125 | Q34: 0.00155 | R34: 0 | S34: 0 | T34: 0 | U34: 0 | V34: 0 | W34: 0 | X34: 0 | Y34: 0 | Z34: 0 | AA34: 0 | AB34: 0 | AC34: 0 | AD34: 5 | AE34: 150 | AF34: 37.5 | AK34: 4.5 | AP34: =AF34-$AK$38 -> 32.5
A35: 6 | B35: 0.097375 | C35: 0.04174375 | D35: 0.0136625 | E35: 0.007175 | F35: 0.00648125 | G35: 0.0058875 | H35: 0.00628125 | I35: 0.0061625 | J35: 0.00550625 | K35: 0.00544375 | L35: 0.00688125 | M35: 0.007675 | N35: 0.00509375 | O35: 0.00576875 | P35: 0.00383125 | Q35: 0.00265 | R35: 0 | S35: 0 | T35: 0 | U35: 0 | V35: 0 | W35: 0 | X35: 0 | Y35: 0 | Z35: 0 | AA35: 0 | AB35: 0 | AC35: 0 | AD35: 6 | AE35: 225 | AF35: 56.25 | AK35: 4.5 | AP35: =AF35-$AK$38 -> 51.25
A36: 7 | B36: 0.087375 | C36: 0.08134375 | D36: 0.0824625 | E36: 0.035875 | F36: 0.01858125 | G36: 0.0059875 | H36: 0.00408125 | I36: 0.0038625 | J36: 0.00380625 | K36: 0.00264375 | L36: 0.00468125 | M36: 0.004075 | N36: 0.00409375 | O36: 0.00386875 | P36: 0.00293125 | Q36: 0.00135 | R36: 0 | S36: 0 | T36: 0 | U36: 0 | V36: 0 | W36: 0 | X36: 0 | Y36: 0 | Z36: 0 | AA36: 0 | AB36: 0 | AC36: 0 | AD36: 7 | AE36: 375 | AF36: 93.75 | AK36: 5.5 | AP36: =AF36-$AK$38 -> 88.75
A37: 8 | B37: 0.094575 | C37: 0.09354375 | D37: 0.0840625 | E37: 0.032775 | F37: 0.01538125 | G37: 0.0052875 | H37: 0.00388125 | I37: 0.0037625 | J37: 0.00380625 | K37: 0.00304375 | L37: 0.00468125 | M37: 0.004875 | N37: 0.00419375 | O37: 0.00416875 | P37: 0.00313125 | Q37: 0.00075 | R37: 0 | S37: 0 | T37: 0 | U37: 0 | V37: 0 | W37: 0 | X37: 0 | Y37: 0 | Z37: 0 | AA37: 0 | AB37: 0 | AC37: 0 | AD37: 8 | AE37: 375 | AF37: 93.75 | AK37: 4.5 | AP37: =AF37-$AK$38 -> 88.75
AJ38: Mean | AK38: =AVERAGE(AK30:AK37) -> 5
B39: coeolved TYR (+AA)
B40: 1 | C40: 2 | D40: 3 | E40: 4 | F40: 5 | G40: 6 | H40: 7 | I40: 8 | J40: 9 | K40: 10 | L40: 11 | M40: 12 | N40: 13 | O40: 14 | P40: 15 | Q40: 16 | R40: 17 | S40: 18 | T40: 19 | U40: 20 | V40: 21 | W40: 22 | X40: 23 | Y40: 24 | Z40: 25 | AA40: 26 | AB40: 27 | AC40: 28 | AE40: coeolved TYR (+AA) | AK40: TYR (+AA) | AP40: coeolved TYR (+AA)
B41: 0 | C41: 0.75 | D41: 1.5 | E41: 2.25 | F41: 3 | G41: 3.75 | H41: 4.5 | I41: 5.25 | J41: 6 | K41: 6.75 | L41: 7.5 | M41: 8.25 | N41: 9 | O41: 9.75 | P41: 10.5 | Q41: 11.25 | R41: 12 | S41: 12.75 | T41: 13.5 | U41: 14.25 | V41: 15 | W41: 15.75 | X41: 16.5 | Y41: 17.25 | Z41: 18 | AA41: 18.75 | AB41: 19.5 | AC41: 20.25 | AE41: MIC [%] | AF41: MIC [µg/ml] | AK41: MIC [µg/ml] | AP41: Normalized MIC [µg/ml]
A42: 1 | B42: 0.083975 | C42: 0.08954375 | D42: 0.0227625 | E42: 0.009375 | F42: 0.00998125 | G42: 0.0087875 | H42: 0.00698125 | I42: 0.0053625 | J42: 0.00660625 | K42: 0.00554375 | L42: 0.00848125 | M42: 0.008475 | N42: 0.00639375 | O42: 0.00716875 | P42: 0.00463125 | Q42: 0.00365 | R42: 0 | S42: 0 | T42: 0 | U42: 0 | V42: 0 | W42: 0 | X42: 0 | Y42: 0 | Z42: 0 | AA42: 0 | AB42: 0 | AC42: 0 | AD42: 1 | AE42: 225 | AF42: 56.25 | AK42: 18.5 | AP42: =AF42-$AK$50 -> 38.25
A43: 2 | B43: 0.076875 | C43: 0.08354375 | D43: 0.0167625 | E43: 0.009175 | F43: 0.00788125 | G43: 0.0062875 | H43: 0.00588125 | I43: 0.0040625 | J43: 0.00670625 | K43: 0.00504375 | L43: 0.00538125 | M43: 0.007475 | N43: 0.00499375 | O43: 0.00356875 | P43: 0.00833125 | Q43: 0.00315 | R43: 0 | S43: 0 | T43: 0 | U43: 0 | V43: 0 | W43: 0 | X43: 0 | Y43: 0 | Z43: 0 | AA43: 0 | AB43: 0 | AC43: 0 | AD43: 2 | AE43: 225 | AF43: 56.25 | AK43: 17.5 | AP43: =AF43-$AK$50 -> 38.25
A44: 3 | B44: 0.081575 | C44: 0.10604375 | D44: 0.0178625 | E44: 0.008375 | F44: 0.00788125 | G44: 0.0074875 | H44: 0.00578125 | I44: 0.0076625 | J44: 0.00590625 | K44: 0.00474375 | L44: 0.00538125 | M44: 0.006775 | N44: 0.00279375 | O44: 0.00486875 | P44: 0.00573125 | Q44: 0.00335 | R44: 0 | S44: 0 | T44: 0 | U44: 0 | V44: 0 | W44: 0 | X44: 0 | Y44: 0 | Z44: 0 | AA44: 0 | AB44: 0 | AC44: 0 | AD44: 3 | AE44: 225 | AF44: 56.25 | AK44: 17.5 | AP44: =AF44-$AK$50 -> 38.25
A45: 4 | B45: 0.079875 | C45: 0.06244375 | D45: 0.0122625 | E45: 0.006575 | F45: 0.00588125 | G45: 0.0056875 | H45: 0.00398125 | I45: 0.0029625 | J45: 0.00560625 | K45: 0.00464375 | L45: 0.00538125 | M45: 0.006975 | N45: 0.00489375 | O45: 0.00346875 | P45: 0.00413125 | Q45: 0.00345 | R45: 0 | S45: 0 | T45: 0 | U45: 0 | V45: 0 | W45: 0 | X45: 0 | Y45: 0 | Z45: 0 | AA45: 0 | AB45: 0 | AC45: 0 | AD45: 4 | AE45: 225 | AF45: 56.25 | AK45: 17.5 | AP45: =AF45-$AK$50 -> 38.25
A46: 5 | B46: 0.090075 | C46: 0.08424375 | D46: 0.0185625 | E46: 0.008675 | F46: 0.00768125 | G46: 0.0062875 | H46: 0.00668125 | I46: 0.0043625 | J46: 0.00640625 | K46: 0.00654375 | L46: 0.00578125 | M46: 0.007775 | N46: 0.00529375 | O46: 0.00576875 | P46: 0.00503125 | Q46: 0.00355 | R46: 0 | S46: 0 | T46: 0 | U46: 0 | V46: 0 | W46: 0 | X46: 0 | Y46: 0 | Z46: 0 | AA46: 0 | AB46: 0 | AC46: 0 | AD46: 5 | AE46: 225 | AF46: 56.25 | AK46: 19.5 | AP46: =AF46-$AK$50 -> 38.25
A47: 6 | B47: 0.086475 | C47: 0.08574375 | D47: 0.0207625 | E47: 0.011275 | F47: 0.00958125 | G47: 0.0075875 | H47: 0.00698125 | I47: 0.0054625 | J47: 0.00770625 | K47: 0.00674375 | L47: 0.00618125 | M47: 0.007075 | N47: 0.00539375 | O47: 0.00776875 | P47: 0.00763125 | Q47: 0.00395 | R47: 0 | S47: 0 | T47: 0 | U47: 0 | V47: 0 | W47: 0 | X47: 0 | Y47: 0 | Z47: 0 | AA47: 0 | AB47: 0 | AC47: 0 | AD47: 6 | AE47: 300 | AF47: 75 | AK47: 17.5 | AP47: =AF47-$AK$50 -> 57
A48: 7 | B48: 0.104075 | C48: 0.07804375 | D48: 0.0403625 | E48: 0.026275 | F48: 0.01188125 | G48: 0.0087875 | H48: 0.00728125 | I48: 0.0075625 | J48: 0.00700625 | K48: 0.00614375 | L48: 0.00598125 | M48: 0.006375 | N48: 0.00649375 | O48: 0.00716875 | P48: 0.00503125 | Q48: 0.00345 | R48: 0 | S48: 0 | T48: 0 | U48: 0 | V48: 0 | W48: 0 | X48: 0 | Y48: 0 | Z48: 0 | AA48: 0 | AB48: 0 | AC48: 0 | AD48: 7 | AE48: 375 | AF48: 93.75 | AK48: 18.5 | AP48: =AF48-$AK$50 -> 75.75
A49: 8 | B49: 0.098375 | C49: 0.07514375 | D49: 0.0365625 | E49: 0.018475 | F49: 0.01018125 | G49: 0.0075875 | H49: 0.00688125 | I49: 0.0067625 | J49: 0.00650625 | K49: 0.01054375 | L49: 0.00648125 | M49: 0.006975 | N49: 0.00589375 | O49: 0.00506875 | P49: 0.00393125 | Q49: 0.00345 | R49: 0 | S49: 0 | T49: 0 | U49: 0 | V49: 0 | W49: 0 | X49: 0 | Y49: 0 | Z49: 0 | AA49: 0 | AB49: 0 | AC49: 0 | AD49: 8 | AE49: 375 | AF49: 93.75 | AK49: 17.5 | AP49: =AF49-$AK$50 -> 75.75
AJ50: Mean | AK50: =AVERAGE(AK42:AK49) -> 18
B51: monoeolved TRP (+AA)
B52: 1 | C52: 2 | D52: 3 | E52: 4 | F52: 5 | G52: 6 | H52: 7 | I52: 8 | J52: 9 | K52: 10 | L52: 11 | M52: 12 | N52: 13 | O52: 14 | P52: 15 | Q52: 16 | R52: 17 | S52: 18 | T52: 19 | U52: 20 | V52: 21 | W52: 22 | X52: 23 | Y52: 24 | Z52: 25 | AA52: 26 | AB52: 27 | AC52: 28 | AE52: monoeolved TRP (+AA) | AK52: TRP (+AA) | AP52: monoeolved TRP (+AA)
B53: 0 | C53: 0.75 | D53: 1.5 | E53: 2.25 | F53: 3 | G53: 3.75 | H53: 4.5 | I53: 5.25 | J53: 6 | K53: 6.75 | L53: 7.5 | M53: 8.25 | N53: 9 | O53: 9.75 | P53: 10.5 | Q53: 11.25 | R53: 12 | S53: 12.75 | T53: 13.5 | U53: 14.25 | V53: 15 | W53: 15.75 | X53: 16.5 | Y53: 17.25 | Z53: 18 | AA53: 18.75 | AB53: 19.5 | AC53: 20.25 | AE53: MIC [%] | AF53: MIC [µg/ml] | AK53: MIC [µg/ml] | AP53: Normalized MIC [µg/ml]
A54: 1 | B54: 0.097875 | C54: 0.12314375 | D54: 0.1898625 | E54: 0.090775 | F54: 0.08698125 | G54: 0.1406875 | H54: 0.10178125 | I54: 0.0563625 | J54: 0.04140625 | K54: 0.01424375 | L54: 0.00808125 | M54: 0.006575 | N54: 0.00579375 | O54: 0.00596875 | P54: 0.00673125 | Q54: 0.00445 | R54: 0.0084916667 | S54: 0.0034916667 | T54: 0.0048916667 | U54: 0.0059583333 | V54: 0.0033583333 | W54: 0.0050583333 | X54: 0.004625 | Y54: 0.003125 | Z54: 0.006525 | AA54: 0.0046166667 | AB54: 0.0035166667 | AC54: 0.0041166667 | AD54: 1 | AE54: 750 | AF54: 187.5 | AK54: 5.5 | AP54: =AF54-$AK$62 -> 182.5
A55: 2 | B55: 0.104075 | C55: 0.10124375 | D55: 0.1715625 | E55: 0.095775 | F55: 0.10088125 | G55: 0.1225875 | H55: 0.11528125 | I55: 0.0664625 | J55: 0.06350625 | K55: 0.04504375 | L55: 0.03848125 | M55: 0.034775 | N55: 0.01859375 | O55: 0.03026875 | P55: 0.01473125 | Q55: 0.00705 | R55: 0.0071916667 | S55: 0.0046916667 | T55: 0.0060916667 | U55: 0.0048583333 | V55: 0.0035583333 | W55: 0.0030583333 | X55: 0.004025 | Y55: 0.002825 | Z55: 0.003625 | AA55: 0.0042166667 | AB55: 0.0035166667 | AC55: 0.0031166667 | AD55: 2 | AE55: 1125 | AF55: 281.25 | AK55: 4.5 | AP55: =AF55-$AK$62 -> 276.25
A56: 3 | B56: 0.100075 | C56: 0.09334375 | D56: 0.1390625 | E56: 0.082575 | F56: 0.08148125 | G56: 0.0785875 | H56: 0.02248125 | I56: 0.0086625 | J56: 0.00650625 | K56: 0.00474375 | L56: 0.00458125 | M56: 0.004475 | N56: 0.00179375 | O56: 0.00376875 | P56: 0.00383125 | Q56: 0.00185 | R56: 0.0033916667 | S56: 0.0024916667 | T56: 0.0050916667 | U56: 0.0052583333 | V56: 0.0022583333 | W56: 0.0023583333 | X56: 0.004725 | Y56: 0.001925 | Z56: 0.004125 | AA56: 0.0037166667 | AB56: 0.0030166667 | AC56: 0.0025166667 | AD56: 3 | AE56: 525 | AF56: 131.25 | AK56: 5.5 | AP56: =AF56-$AK$62 -> 126.25
A57: 4 | B57: 0.106575 | C57: 0.12424375 | D57: 0.1812625 | E57: 0.092575 | F57: 0.08258125 | G57: 0.1047875 | H57: 0.10978125 | I57: 0.0566625 | J57: 0.05280625 | K57: 0.03834375 | L57: 0.02598125 | M57: 0.025075 | N57: 0.01119375 | O57: 0.02196875 | P57: 0.01203125 | Q57: 0.00695 | R57: 0.0071916667 | S57: 0.0049916667 | T57: 0.0059916667 | U57: 0.0070583333 | V57: 0.0034583333 | W57: 0.0031583333 | X57: 0.004225 | Y57: 0.002525 | Z57: 0.005125 | AA57: 0.0045166667 | AB57: 0.0037166667 | AC57: 0.0029166667 | AD57: 4 | AE57: 1125 | AF57: 281.25 | AK57: 5.5 | AP57: =AF57-$AK$62 -> 276.25
A58: 5 | B58: 0.096475 | C58: 0.10884375 | D58: 0.1758625 | E58: 0.079475 | F58: 0.09378125 | G58: 0.1451875 | H58: 0.13078125 | I58: 0.0920625 | J58: 0.10230625 | K58: 0.06374375 | L58: 0.07118125 | M58: 0.050575 | N58: 0.04339375 | O58: 0.04376875 | P58: 0.03343125 | Q58: 0.01495 | R58: 0.0085916667 | S58: 0.0068916667 | T58: 0.0071916667 | U58: 0.0081583333 | V58: 0.0041583333 | W58: 0.0048583333 | X58: 0.004525 | Y58: 0.004125 | Z58: 0.003325 | AA58: 0.0053166667 | AB58: 0.0034166667 | AC58: 0.0039166667 | AD58: 5 | AE58: 1200 | AF58: 300 | AK58: 4.5 | AP58: =AF58-$AK$62 -> 295
A59: 6 | B59: 0.097275 | C59: 0.11064375 | D59: 0.1788625 | E59: 0.088075 | F59: 0.08868125 | G59: 0.1341875 | H59: 0.12668125 | I59: 0.0921625 | J59: 0.09490625 | K59: 0.05744375 | L59: 0.05978125 | M59: 0.050275 | N59: 0.03939375 | O59: 0.04316875 | P59: 0.03073125 | Q59: 0.01715 | R59: 0.0094916667 | S59: 0.0070916667 | T59: 0.0069916667 | U59: 0.0064583333 | V59: 0.0049583333 | W59: 0.0050583333 | X59: 0.005925 | Y59: 0.003525 | Z59: 0.003425 | AA59: 0.0055166667 | AB59: 0.0031166667 | AC59: 0.0046166667 | AD59: 6 | AE59: 1200 | AF59: 300 | AK59: 4.5 | AP59: =AF59-$AK$62 -> 295
A60: 7 | B60: 0.090675 | C60: 0.09464375 | D60: 0.1666625 | E60: 0.085175 | F60: 0.11068125 | G60: 0.1360875 | H60: 0.12848125 | I60: 0.0646625 | J60: 0.06420625 | K60: 0.04334375 | L60: 0.01988125 | M60: 0.021075 | N60: 0.010879375 | O60: 0.02016875 | P60: 0.00843125 | Q60: 0.00345 | R60: 0.0042916667 | S60: 0.0037916667 | T60: 0.0038916667 | U60: 0.0059583333 | V60: 0.0030583333 | W60: 0.0027583333 | X60: 0.003625 | Y60: 0.002825 | Z60: 0.002625 | AA60: 0.0044166667 | AB60: 0.0032166667 | AC60: 0.0030166667 | AD60: 7 | AE60: 1050 | AF60: 262.5 | AK60: 5.5 | AP60: =AF60-$AK$62 -> 257.5
A61: 8 | B61: 0.098075 | C61: 0.17024375 | D61: 0.2404625 | E61: 0.120275 | F61: 0.12058125 | G61: 0.1735875 | H61: 0.16408125 | I61: 0.0877625 | J61: 0.07410625 | K61: 0.04224375 | L61: 0.01928125 | M61: 0.018875 | N61: 0.010899375 | O61: 0.01676875 | P61: 0.00833125 | Q61: 0.00415 | R61: 0.0044916667 | S61: 0.0034916667 | T61: 0.0042916667 | U61: 0.0056583333 | V61: 0.0021583333 | W61: 0.0023583333 | X61: 0.004225 | Y61: 0.002725 | Z61: 0.002225 | AA61: 0.0030166667 | AB61: 0.0026166667 | AC61: 0.0019166667 | AD61: 8 | AE61: 1050 | AF61: 262.5 | AK61: 4.5 | AP61: =AF61-$AK$62 -> 257.5
AJ62: Mean | AK62: =AVERAGE(AK54:AK61) -> 5
B63: monoeolved TYR (+AA)
B64: 1 | C64: 2 | D64: 3 | E64: 4 | F64: 5 | G64: 6 | H64: 7 | I64: 8 | J64: 9 | K64: 10 | L64: 11 | M64: 12 | N64: 13 | O64: 14 | P64: 15 | Q64: 16 | R64: 17 | S64: 18 | T64: 19 | U64: 20 | V64: 21 | W64: 22 | X64: 23 | Y64: 24 | Z64: 25 | AA64: 26 | AB64: 27 | AC64: 28 | AE64: monoeolved TYR (+AA) | AK64: TYR (+AA) | AP64: monoeolved TYR (+AA)
B65: 0 | C65: 0.75 | D65: 1.5 | E65: 2.25 | F65: 3 | G65: 3.75 | H65: 4.5 | I65: 5.25 | J65: 6 | K65: 6.75 | L65: 7.5 | M65: 8.25 | N65: 9 | O65: 9.75 | P65: 10.5 | Q65: 11.25 | R65: 12 | S65: 12.75 | T65: 13.5 | U65: 14.25 | V65: 15 | W65: 15.75 | X65: 16.5 | Y65: 17.25 | Z65: 18 | AA65: 18.75 | AB65: 19.5 | AC65: 20.25 | AE65: MIC [%] | AF65: MIC [µg/ml] | AK65: MIC [µg/ml] | AP65: Normalized MIC [µg/ml]
A66: 1 | B66: 0.125475 | C66: 0.14124375 | D66: 0.1692625 | E66: 0.113575 | F66: 0.10878125 | G66: 0.1884875 | H66: 0.16058125 | I66: 0.1233625 | J66: 0.12240625 | K66: 0.09644375 | L66: 0.10928125 | M66: 0.083775 | N66: 0.05139375 | O66: 0.06966875 | P66: 0.03403125 | Q66: 0.01765 | R66: 0.014191667 | S66: 0.0094916667 | T66: 0.0087916667 | U66: 0.0064583333 | V66: 0.0069583333 | W66: 0.0077583333 | X66: 0.008925 | Y66: 0.008725 | Z66: 0.007125 | AA66: 0.0070166667 | AB66: 0.0065166667 | AC66: 0.0062166667 | AD66: 1 | AE66: 1275 | AF66: 318.75 | AK66: 18.5 | AP66: =AF66-$AK$74 -> 300.75
A67: 2 | B67: 0.125875 | C67: 0.12924375 | D67: 0.1350625 | E67: 0.099375 | F67: 0.09858125 | G67: 0.1527875 | H67: 0.16028125 | I67: 0.1026625 | J67: 0.10950625 | K67: 0.08854375 | L67: 0.12848125 | M67: 0.091975 | N67: 0.05219375 | O67: 0.08236875 | P67: 0.02393125 | Q67: 0.00965 | R67: 0.0071916667 | S67: 0.0054916667 | T67: 0.0062916667 | U67: 0.0053583333 | V67: 0.0050583333 | W67: 0.0055583333 | X67: 0.005125 | Y67: 0.005225 | Z67: 0.005125 | AA67: 0.0053166667 | AB67: 0.0047166667 | AC67: 0.0059166667 | AD67: 2 | AE67: 1125 | AF67: 281.25 | AK67: 17.5 | AP67: =AF67-$AK$74 -> 263.25
A68: 3 | B68: 0.131075 | C68: 0.11864375 | D68: 0.1588625 | E68: 0.100575 | F68: 0.09688125 | G68: 0.1277875 | H68: 0.16258125 | I68: 0.0879625 | J68: 0.05180625 | K68: 0.04134375 | L68: 0.01378125 | M68: 0.012575 | N68: 0.00579375 | O68: 0.00866875 | P68: 0.00553125 | Q68: 0.00375 | R68: 0.0052916667 | S68: 0.0051916667 | T68: 0.0057916667 | U68: 0.0048583333 | V68: 0.0038583333 | W68: 0.0044583333 | X68: 0.004725 | Y68: 0.004325 | Z68: 0.005225 | AA68: 0.0043166667 | AB68: 0.0042166667 | AC68: 0.0041166667 | AD68: 3 | AE68: 900 | AF68: 225 | AK68: 17.5 | AP68: =AF68-$AK$74 -> 207
A69: 4 | B69: 0.115875 | C69: 0.12044375 | D69: 0.1230625 | E69: 0.088475 | F69: 0.08248125 | G69: 0.1295875 | H69: 0.13178125 | I69: 0.0897625 | J69: 0.10720625 | K69: 0.08144375 | L69: 0.12058125 | M69: 0.079875 | N69: 0.11239375 | O69: 0.08556875 | P69: 0.10473125 | Q69: 0.09775 | R69: 0.095391667 | S69: 0.091191667 | T69: 0.084491667 | U69: 0.072658333 | V69: 0.060658333 | W69: 0.068658333 | X69: 0.055825 | Y69: 0.042025 | Z69: 0.054425 | AA69: 0.046516667 | AB69: 0.035516667 | AC69: 0.042116667 | AD69: 4 | AE69: x | AF69: x | AK69: 17.5 | AP69: x
A70: 5 | B70: 0.127975 | C70: 0.13664375 | D70: 0.1707625 | E70: 0.104575 | F70: 0.11658125 | G70: 0.1684875 | H70: 0.17298125 | I70: 0.1020625 | J70: 0.11910625 | K70: 0.09504375 | L70: 0.10838125 | M70: 0.087775 | N70: 0.05739375 | O70: 0.08306875 | P70: 0.03133125 | Q70: 0.01605 | R70: 0.0091916667 | S70: 0.0081916667 | T70: 0.0088916667 | U70: 0.0066583333 | V70: 0.0056583333 | W70: 0.0068583333 | X70: 0.006625 | Y70: 0.006125 | Z70: 0.005825 | AA70: 0.0056166667 | AB70: 0.0057166667 | AC70: 0.0086166667 | AD70: 5 | AE70: 1200 | AF70: 300 | AK70: 19.5 | AP70: =AF70-$AK$74 -> 282
A71: 6 | B71: 0.115075 | C71: 0.11354375 | D71: 0.1218625 | E71: 0.097175 | F71: 0.10228125 | G71: 0.1385875 | H71: 0.14158125 | I71: 0.0803625 | J71: 0.10500625 | K71: 0.07404375 | L71: 0.04118125 | M71: 0.041875 | N71: 0.01399375 | O71: 0.03576875 | P71: 0.00913125 | Q71: 0.00685 | R71: 0.0065916667 | S71: 0.0065916667 | T71: 0.0072916667 | U71: 0.0056583333 | V71: 0.0056583333 | W71: 0.0064583333 | X71: 0.005925 | Y71: 0.006725 | Z71: 0.005125 | AA71: 0.0060166667 | AB71: 0.0054166667 | AC71: 0.0066166667 | AD71: 6 | AE71: 1050 | AF71: 262.5 | AK71: 17.5 | AP71: =AF71-$AK$74 -> 244.5
A72: 7 | B72: 0.085675 | C72: 0.14294375 | D72: 0.1504625 | E72: 0.105375 | F72: 0.11518125 | G72: 0.1602875 | H72: 0.13678125 | I72: 0.0904625 | J72: 0.11460625 | K72: 0.08204375 | L72: 0.11188125 | M72: 0.089275 | N72: 0.10559375 | O72: 0.09626875 | P72: 0.09273125 | Q72: 0.07165 | R72: 0.032291667 | S72: 0.018891667 | T72: 0.015691667 | U72: 0.010458333 | V72: 0.0094583333 | W72: 0.0097583333 | X72: 0.011125 | Y72: 0.006825 | Z72: 0.007425 | AA72: 0.0080166667 | AB72: 0.0074166667 | AC72: 0.0077166667 | AD72: 7 | AE72: 1500 | AF72: 262.5 | AK72: 18.5 | AP72: =AF72-$AK$74 -> 244.5
A73: 8 | B73: 0.080775 | C73: 0.15004375 | D73: 0.1451625 | E73: 0.109675 | F73: 0.07838125 | G73: 0.1641875 | H73: 0.11798125 | I73: 0.0920625 | J73: 0.12650625 | K73: 0.06784375 | L73: 0.12348125 | M73: 0.100275 | N73: 0.05309375 | O73: 0.08676875 | P73: 0.03863125 | Q73: 0.01795 | R73: 0.012991667 | S73: 0.011291667 | T73: 0.011091667 | U73: 0.0097583333 | V73: 0.0090583333 | W73: 0.0086583333 | X73: 0.008725 | Y73: 0.008825 | Z73: 0.008825 | AA73: 0.0057166667 | AB73: 0.0064166667 | AC73: 0.0074166667 | AD73: 8 | AE73: 1425 | AF73: 356.25 | AK73: 17.5 | AP73: =AF73-$AK$74 -> 338.25
AJ74: Mean | AK74: =AVERAGE(AK66:AK73) -> 18

Sheet Figure 3b
A1: Tetracycline treatment - OD600nm values | G1: Tetracycline concentration 100% = 15µg/ml | S1: Ancestral level of tetracycline tolerance | X1: Normalized resistance level of tetracycline treated evolved cultures
S2: (all raw data in Supplementary Fig. 3) | X2: (Normalization by subtraction)
B3: coeolved CO (-AA)
B4: 1 | C4: 2 | D4: 3 | E4: 4 | F4: 5 | G4: 6 | H4: 7 | I4: 8 | J4: 9 | K4: 10 | L4: 11 | M4: 12 | O4: coeolved CO (-AA) | U4: CO (-AA) | Z4: coeolved CO (-AA)
B5: 0 | C5: 0.75 | D5: 1.5 | E5: 2.25 | F5: 3 | G5: 3.75 | H5: 4.5 | I5: 5.25 | J5: 6 | K5: 6.75 | L5: 7.5 | M5: 10 | O5: MIC [%] | P5: MIC [µg/ml] | U5: MIC [µg/ml] | Z5: Normalized MIC [µg/ml]
A6: 1 | B6: 0.111575 | C6: 0.1056 | D6: 0.057175 | E6: -0.0017375 | F6: -0.007225 | G6: -0.01045 | H6: -0.0136 | I6: -0.01955 | J6: -0.021925 | K6: -0.02415 | L6: -0.0275625 | M6: -0.0396 | N6: 1 | O6: 2.25 | P6: 33.75 | U6: 3.75 | Z6: =P6-$U$14 -> 30.09375
A7: 2 | B7: 0.134075 | C7: 0.1536 | D7: 0.077075 | E7: 0.0352625 | F7: -0.005125 | G7: -0.00775 | H7: -0.0129 | I7: -0.01775 | J7: -0.021425 | K7: -0.02695 | L7: -0.0305625 | M7: -0.0453 | N7: 2 | O7: 3 | P7: 45 | U7: 3.75 | Z7: =P7-$U$14 -> 41.34375
A8: 3 | B8: 0.111075 | C8: 0.0912 | D8: 0.073175 | E8: 0.0221625 | F8: -0.004525 | G8: -0.00915 | H8: -0.012 | I8: -0.01705 | J8: -0.022125 | K8: -0.02555 | L8: -0.0314625 | M8: -0.0429 | N8: 3 | O8: 3 | P8: 45 | U8: 3.75 | Z8: =P8-$U$14 -> 41.34375
A9: 4 | B9: 0.081375 | C9: 0.0781 | D9: 0.065375 | E9: 0.0237625 | F9: -0.005525 | G9: -0.00995 | H9: -0.0141 | I9: -0.01745 | J9: -0.020925 | K9: -0.02355 | L9: -0.0299625 | M9: -0.0359 | N9: 4 | O9: 3 | P9: 45 | U9: 3.75 | Z9: =P9-$U$14 -> 41.34375
A10: 5 | B10: 0.105375 | C10: 0.0985 | D10: 0.082975 | E10: 0.0053625 | F10: -0.002725 | G10: -0.00675 | H10: -0.009 | I10: -0.01525 | J10: -0.018725 | K10: -0.02295 | L10: -0.0281625 | M10: -0.0428 | N10: 5 | O10: 2.25 | P10: 33.75 | U10: 3 | Z10: =P10-$U$14 -> 30.09375
A11: 6 | B11: 0.131275 | C11: 0.1318 | D11: 0.083375 | E11: 0.0048625 | F11: -0.003425 | G11: -0.00685 | H11: -0.0113 | I11: -0.01655 | J11: -0.020325 | K11: -0.02395 | L11: -0.0321625 | M11: -0.0426 | N11: 6 | O11: 2.25 | P11: 33.75 | U11: 3.75 | Z11: =P11-$U$14 -> 30.09375
A12: 7 | B12: 0.130275 | C12: 0.1237 | D12: 0.076975 | E12: 0.0079625 | F12: -0.003525 | G12: -0.00675 | H12: -0.0106 | I12: -0.01565 | J12: -0.019925 | K12: -0.02425 | L12: -0.0273625 | M12: -0.0438 | N12: 7 | O12: 2.25 | P12: 33.75 | U12: 3.75 | Z12: =P12-$U$14 -> 30.09375
A13: 8 | B13: 0.092075 | C13: 0.1025 | D13: 0.019475 | E13: -0.0014375 | F13: -0.006725 | G13: -0.01075 | H13: -0.0148 | I13: -0.01805 | J13: -0.022225 | K13: -0.02265 | L13: -0.0302625 | M13: -0.0382 | N13: 8 | O13: 2.25 | P13: 33.75 | U13: 3.75 | Z13: =P13-$U$14 -> 30.09375
T14: Mean | U14: =AVERAGE(U6:U13) -> 3.65625
B15: coeolved CO (+AA)
B16: 1 | C16: 2 | D16: 3 | E16: 4 | F16: 5 | G16: 6 | H16: 7 | I16: 8 | J16: 9 | K16: 10 | L16: 11 | M16: 12 | O16: coeolved CO (+AA) | U16: CO (+AA) | Z16: coeolved CO (+AA)
B17: 0 | C17: 0.75 | D17: 1.5 | E17: 2.25 | F17: 3 | G17: 3.75 | H17: 4.5 | I17: 5.25 | J17: 6 | K17: 6.75 | L17: 7.5 | M17: 10 | O17: MIC [%] | P17: MIC [µg/ml] | U17: MIC [µg/ml] | Z17: Normalized MIC [µg/ml]
A18: 1 | B18: 0.104875 | C18: 0.1279 | D18: 0.141175 | E18: 0.0018625 | F18: -0.001325 | G18: -0.00765 | H18: -0.0115 | I18: -0.01685 | J18: -0.020925 | K18: -0.02705 | L18: -0.0258625 | M18: -0.0361 | N18: 1 | O18: 2.25 | P18: 33.75 | U18: 3.75 | Z18: =P18-$U$26 -> 29.53125
A19: 2 | B19: 0.124775 | C19: 0.1019 | D19: 0.091275 | E19: 0.0070625 | F19: 0.000675 | G19: -0.00485 | H19: -0.0092 | I19: -0.01265 | J19: -0.018525 | K19: -0.02745 | L19: -0.0287625 | M19: -0.0429 | N19: 2 | O19: 2.25 | P19: 33.75 | U19: 3.75 | Z19: =P19-$U$26 -> 29.53125
A20: 3 | B20: 0.121475 | C20: 0.0898 | D20: 0.082375 | E20: 0.0087625 | F20: -0.000325 | G20: -0.00525 | H20: -0.0104 | I20: -0.01405 | J20: -0.019525 | K20: -0.02815 | L20: -0.0285625 | M20: -0.0441 | N20: 3 | O20: 2.25 | P20: 33.75 | U20: 4.5 | Z20: =P20-$U$26 -> 29.53125
A21: 4 | B21: 0.149175 | C21: 0.1245 | D21: 0.063175 | E21: 0.0052625 | F21: -0.004625 | G21: -0.00965 | H21: -0.0128 | I21: -0.01775 | J21: -0.022225 | K21: -0.02445 | L21: -0.0297625 | M21: -0.045 | N21: 4 | O21: 2.25 | P21: 33.75 | U21: 4.5 | Z21: =P21-$U$26 -> 29.53125
A22: 5 | B22: 0.130475 | C22: 0.0917 | D22: 0.079475 | E22: 0.0076625 | F22: 0.001775 | G22: -0.00545 | H22: -0.0095 | I22: -0.01355 | J22: -0.018725 | K22: -0.02495 | L22: -0.0260625 | M22: -0.0385 | N22: 5 | O22: 2.25 | P22: 33.75 | U22: 4.5 | Z22: =P22-$U$26 -> 29.53125
A23: 6 | B23: 0.136875 | C23: 0.1335 | D23: 0.113575 | E23: 0.0681625 | F23: 0.002275 | G23: -0.00485 | H23: -0.0096 | I23: -0.01455 | J23: -0.019625 | K23: -0.02315 | L23: -0.0282625 | M23: -0.0364 | N23: 6 | O23: 3 | P23: 45 | U23: 4.5 | Z23: =P23-$U$26 -> 40.78125
A24: 7 | B24: 0.144775 | C24: 0.0975 | D24: 0.073875 | E24: 0.0089625 | F24: 0.000875 | G24: -0.00385 | H24: -0.0081 | I24: -0.01325 | J24: -0.018125 | K24: -0.02345 | L24: -0.0277625 | M24: -0.0337 | N24: 7 | O24: 2.25 | P24: 33.75 | U24: 3.75 | Z24: =P24-$U$26 -> 29.53125
A25: 8 | B25: 0.104775 | C25: 0.1246 | D25: 0.033175 | E25: 0.0005625 | F25: 0.000975 | G25: -0.00455 | H25: -0.0093 | I25: -0.01395 | J25: -0.017625 | K25: -0.02005 | L25: -0.0285625 | M25: -0.0368 | N25: 8 | O25: 2.25 | P25: 33.75 | U25: 4.5 | Z25: =P25-$U$26 -> 29.53125
T26: Mean | U26: =AVERAGE(U18:U25) -> 4.21875
B27: coeolved TRP (+AA)
B28: 1 | C28: 2 | D28: 3 | E28: 4 | F28: 5 | G28: 6 | H28: 7 | I28: 8 | J28: 9 | K28: 10 | L28: 11 | M28: 12 | O28: coeolved TRP (+AA) | U28: TRP (+AA) | Z28: coeolved TRP (+AA)
B29: 0 | C29: 0.75 | D29: 1.5 | E29: 2.25 | F29: 3 | G29: 3.75 | H29: 4.5 | I29: 5.25 | J29: 6 | K29: 6.75 | L29: 7.5 | M29: 10 | O29: MIC [%] | P29: MIC [µg/ml] | U29: MIC [µg/ml] | Z29: Normalized MIC [µg/ml]
A30: 1 | B30: 0.124175 | C30: 0.1165 | D30: 0.103075 | E30: 0.0879625 | F30: 0.091975 | G30: 0.05615 | H30: 0.023 | I30: 0.00455 | J30: -0.002425 | K30: -0.01135 | L30: -0.0191625 | M30: -0.0266 | N30: 1 | O30: 5.25 | P30: 78.75 | U30: 1.5 | Z30: =P30-$U$38 -> 76.78125
A31: 2 | B31: 0.131375 | C31: 0.1322 | D31: 0.102275 | E31: 0.0939625 | F31: 0.105575 | G31: 0.05485 | H31: 0.0251 | I31: 0.00805 | J31: 0.000275 | K31: -0.01375 | L31: -0.0182625 | M31: -0.0352 | N31: 2 | O31: 5.25 | P31: 78.75 | U31: 2.25 | Z31: =P31-$U$38 -> 76.78125
A32: 3 | B32: 0.110475 | C32: 0.1309 | D32: 0.100075 | E32: 0.0976625 | F32: 0.077175 | G32: 0.05495 | H32: 0.0266 | I32: 0.00955 | J32: 0.001375 | K32: -0.01315 | L32: -0.0169625 | M32: -0.0306 | N32: 3 | O32: 5.25 | P32: 78.75 | U32: 1.5 | Z32: =P32-$U$38 -> 76.78125
A33: 4 | B33: 0.123575 | C33: 0.1261 | D33: 0.100475 | E33: 0.0979625 | F33: 0.101275 | G33: 0.06925 | H33: 0.0247 | I33: 0.00705 | J33: -0.000825 | K33: -0.01295 | L33: -0.0173625 | M33: -0.0344 | N33: 4 | O33: 5.25 | P33: 78.75 | U33: 2.25 | Z33: =P33-$U$38 -> 76.78125
A34: 5 | B34: 0.128675 | C34: 0.1439 | D34: 0.101875 | E34: 0.1193625 | F34: 0.109775 | G34: 0.06115 | H34: 0.0306 | I34: 0.01315 | J34: 0.003275 | K34: -0.01015 | L34: -0.0169625 | M34: -0.0301 | N34: 5 | O34: 6 | P34: 90 | U34: 1.5 | Z34: =P34-$U$38 -> 88.03125
A35: 6 | B35: 0.107375 | C35: 0.1215 | D35: 0.096275 | E35: 0.1117625 | F35: 0.093175 | G35: 0.06455 | H35: 0.0354 | I35: 0.01535 | J35: 0.004275 | K35: -0.00795 | L35: -0.0160625 | M35: -0.0271 | N35: 6 | O35: 6 | P35: 90 | U35: 2.25 | Z35: =P35-$U$38 -> 88.03125
A36: 7 | B36: 0.142575 | C36: 0.1271 | D36: 0.092275 | E36: 0.0995625 | F36: 0.095475 | G36: 0.05555 | H36: 0.0203 | I36: 0.00795 | J36: -0.000325 | K36: -0.01165 | L36: -0.0174625 | M36: -0.028 | N36: 7 | O36: 5.25 | P36: 78.75 | U36: 2.25 | Z36: =P36-$U$38 -> 76.78125
A37: 8 | B37: 0.109175 | C37: 0.1277 | D37: 0.087175 | E37: 0.0928625 | F37: 0.095775 | G37: 0.04695 | H37: 0.0197 | I37: 0.00635 | J37: -0.003525 | K37: -0.01105 | L37: -0.0160625 | M37: -0.0317 | N37: 8 | O37: 5.25 | P37: 78.75 | U37: 2.25 | Z37: =P37-$U$38 -> 76.78125
T38: Mean | U38: =AVERAGE(U30:U37) -> 1.96875
B39: coeolved TYR (+AA)
B40: 1 | C40: 2 | D40: 3 | E40: 4 | F40: 5 | G40: 6 | H40: 7 | I40: 8 | J40: 9 | K40: 10 | L40: 11 | M40: 12 | O40: coeolved TYR (+AA) | U40: TYR (+AA) | Z40: coeolved TYR (+AA)
B41: 0 | C41: 0.75 | D41: 1.5 | E41: 2.25 | F41: 3 | G41: 3.75 | H41: 4.5 | I41: 5.25 | J41: 6 | K41: 6.75 | L41: 7.5 | M41: 10 | O41: MIC [%] | P41: MIC [µg/ml] | U41: MIC [µg/ml] | Z41: Normalized MIC [µg/ml]
A42: 1 | B42: 0.089375 | C42: 0.0182 | D42: 0.003475 | E42: -0.0028375 | F42: -0.003825 | G42: -0.00845 | H42: -0.0119 | I42: -0.01755 | J42: -0.020725 | K42: -0.02885 | L42: -0.0301625 | M42: -0.0437 | N42: 1 | O42: 1.5 | P42: 22.5 | U42: x | Z42: =P42-$U$50 -> 17.142857
A43: 2 | B43: 0.128175 | C43: 0.0332 | D43: 0.014475 | E43: 0.0034625 | F43: -0.002225 | G43: -0.00685 | H43: -0.011 | I43: -0.01695 | J43: -0.022225 | K43: -0.02775 | L43: -0.0346625 | M43: -0.0367 | N43: 2 | O43: 2.25 | P43: 33.75 | U43: 5.25 | Z43: =P43-$U$50 -> 28.392857
A44: 3 | B44: 0.138175 | C44: 0.0219 | D44: 0.005975 | E44: -0.0019375 | F44: -0.003225 | G44: -0.00735 | H44: -0.0115 | I44: -0.01595 | J44: -0.020125 | K44: -0.02375 | L44: -0.0299625 | M44: -0.0409 | N44: 3 | O44: 1.5 | P44: 22.5 | U44: 5.25 | Z44: =P44-$U$50 -> 17.142857
A45: 4 | B45: 0.148875 | C45: 0.124 | D45: 0.037375 | E45: -0.0026375 | F45: -0.003725 | G45: -0.00925 | H45: -0.0114 | I45: -0.01715 | J45: -0.021625 | K45: -0.02965 | L45: -0.0312625 | M45: -0.0396 | N45: 4 | O45: 2.25 | P45: 33.75 | U45: 5.25 | Z45: =P45-$U$50 -> 28.392857
A46: 5 | B46: 0.152175 | C46: 0.1419 | D46: 0.039575 | E46: -0.0001375 | F46: -0.002725 | G46: -0.00785 | H46: -0.0109 | I46: -0.01565 | J46: -0.020125 | K46: -0.02425 | L46: -0.0308625 | M46: -0.0432 | N46: 5 | O46: 2.25 | P46: 33.75 | U46: 6 | Z46: =P46-$U$50 -> 28.392857
A47: 6 | B47: 0.139875 | C47: 0.0225 | D47: 0.024175 | E47: 0.0015625 | F47: -0.000225 | G47: -0.00805 | H47: -0.01 | I47: -0.01645 | J47: -0.020825 | K47: -0.02785 | L47: -0.0336625 | M47: -0.0392 | N47: 6 | O47: 2.25 | P47: 33.75 | U47: 6 | Z47: =P47-$U$50 -> 28.392857
A48: 7 | B48: 0.145175 | C48: 0.0231 | D48: 0.008775 | E48: 0.0021625 | F48: -0.000125 | G48: -0.00615 | H48: -0.011 | I48: -0.01595 | J48: -0.019525 | K48: -0.02715 | L48: -0.0335625 | M48: -0.0413 | N48: 7 | O48: 1.5 | P48: 22.5 | U48: 4.5 | Z48: =P48-$U$50 -> 17.142857
A49: 8 | B49: 0.118775 | C49: 0.1296 | D49: 0.068575 | E49: 0.0012625 | F49: -0.004625 | G49: -0.00795 | H49: -0.0114 | I49: -0.01615 | J49: -0.021825 | K49: -0.02465 | L49: -0.0284625 | M49: -0.0439 | N49: 8 | O49: 2.25 | P49: 33.75 | U49: 5.25 | Z49: =P49-$U$50 -> 28.392857
A50: 9 | B50: 0.132375 | C50: 0.1223 | D50: 0.010275 | E50: -0.0004375 | F50: -0.004425 | G50: -0.00595 | H50: -0.0103 | I50: -0.01605 | J50: -0.019525 | K50: -0.02375 | L50: -0.0277625 | M50: -0.0431 | N50: 1 | O50: 2.25 | P50: 33.75 | T50: Mean | U50: =AVERAGE(U43:U49) -> 5.3571429 | Z50: =P50-$U$50 -> 28.392857
A51: 10 | B51: 0.143175 | C51: 0.0271 | D51: 0.005675 | E51: -0.0025375 | F51: -0.005525 | G51: -0.00715 | H51: -0.0115 | I51: -0.01655 | J51: -0.020225 | K51: -0.02255 | L51: -0.0291625 | M51: -0.0436 | N51: 2 | O51: 1.5 | P51: 22.5 | Z51: =P51-$U$50 -> 17.142857
A52: 11 | B52: 0.143575 | C52: 0.0253 | D52: 0.005175 | E52: -0.0025375 | F52: -0.004825 | G52: -0.00745 | H52: -0.0106 | I52: -0.01525 | J52: -0.019525 | K52: -0.02095 | L52: -0.0293625 | M52: -0.0401 | N52: 3 | O52: 1.5 | P52: 22.5 | Z52: =P52-$U$50 -> 17.142857
A53: 12 | B53: 0.122275 | C53: 0.0558 | D53: 0.016475 | E53: 0.0033625 | F53: -0.004325 | G53: -0.00645 | H53: -0.0115 | I53: -0.01525 | J53: -0.019325 | K53: -0.02385 | L53: -0.0273625 | M53: -0.0379 | N53: 4 | O53: 2.25 | P53: 33.75 | Z53: =P53-$U$50 -> 28.392857
A54: 13 | B54: 0.133175 | C54: 0.1234 | D54: 0.013675 | E54: 6.25e-05 | F54: -0.003825 | G54: -0.00625 | H54: -0.0113 | I54: -0.01595 | J54: -0.019025 | K54: -0.02195 | L54: -0.0281625 | M54: -0.0388 | N54: 5 | O54: 2.25 | P54: 33.75 | Z54: =P54-$U$50 -> 28.392857
A55: 14 | B55: 0.139275 | C55: 0.0791 | D55: 0.007175 | E55: -0.0020375 | F55: -0.005125 | G55: -0.00695 | H55: -0.0121 | I55: -0.01655 | J55: -0.020525 | K55: -0.02335 | L55: -0.0278625 | M55: -0.0316 | N55: 6 | O55: 1.5 | P55: 22.5 | Z55: =P55-$U$50 -> 17.142857
A56: 15 | B56: 0.133375 | C56: 0.0157 | D56: 0.004575 | E56: -0.0024375 | F56: -0.004925 | G56: -0.00705 | H56: -0.0114 | I56: -0.01575 | J56: -0.019225 | K56: -0.02255 | L56: -0.0276625 | M56: -0.0408 | N56: 7 | O56: 1.5 | P56: 22.5 | Z56: =P56-$U$50 -> 17.142857
A57: 16 | B57: 0.125475 | C57: 0.1127 | D57: 0.014475 | E57: 0.0035625 | F57: -0.002925 | G57: -0.00455 | H57: -0.0097 | I57: -0.01605 | J57: -0.020325 | K57: -0.02635 | L57: -0.0288625 | M57: -0.0451 | N57: 8 | O57: 2.25 | P57: 33.75 | Z57: =P57-$U$50 -> 28.392857
A58: 17 | B58: 0.186375 | C58: 0.0189 | D58: 0.003875 | E58: -0.0017375 | F58: -0.003425 | G58: -0.00635 | H58: -0.0088 | I58: -0.01325 | J58: -0.018825 | K58: -0.02215 | L58: -0.0280625 | M58: -0.0378 | N58: 1 | O58: 1.5 | P58: 22.5 | Z58: =P58-$U$50 -> 17.142857
A59: 18 | B59: 0.131875 | C59: 0.0382 | D59: 0.011675 | E59: 0.0016625 | F59: -0.004725 | G59: -0.00985 | H59: -0.0135 | I59: -0.00025 | J59: -0.021325 | K59: -0.02925 | L59: -0.0302625 | M59: -0.0401 | N59: 2 | O59: 2.25 | P59: 33.75 | Z59: =P59-$U$50 -> 28.392857
A60: 19 | B60: 0.131075 | C60: 0.1194 | D60: 0.017875 | E60: 0.0031625 | F60: -0.000925 | G60: -0.00595 | H60: -0.0086 | I60: -0.01365 | J60: -0.019925 | K60: -0.02565 | L60: -0.0314625 | M60: -0.04 | N60: 3 | O60: 2.25 | P60: 33.75 | Z60: =P60-$U$50 -> 28.392857
A61: 20 | B61: 0.179475 | C61: 0.0242 | D61: 0.003775 | E61: -0.0023375 | F61: -0.004125 | G61: -0.00795 | H61: -0.0103 | I61: -0.01355 | J61: -0.018525 | K61: -0.02175 | L61: -0.0253625 | M61: -0.0356 | N61: 4 | O61: 1.5 | P61: 22.5 | Z61: =P61-$U$50 -> 17.142857
A62: 21 | B62: 0.128775 | C62: 0.0403 | D62: 0.010075 | E62: -0.0001375 | F62: -0.004725 | G62: -0.00995 | H62: -0.013 | I62: -0.01535 | J62: -0.020525 | K62: -0.02055 | L62: -0.0268625 | M62: -0.0389 | N62: 5 | O62: 2.25 | P62: 33.75 | Z62: =P62-$U$50 -> 28.392857
... A73: 32 | B73: 0.128175 | C73: 0.0835 | D73: 0.012875 | E73: 0.0043625 | F73: -0.001925 | G73: -0.00675 | H73: -0.0119 | I73: -0.01375 | J73: -0.019625 | K73: -0.02755 | L73: -0.0263625 | M73: -0.0358 | N73: 8 | O73: 2.25 | P73: 33.75 | Z73: =P73-$U$50 -> 28.392857
B75: monoeolved TRP (+AA)
B76: 1 | C76: 2 | D76: 3 | E76: 4 | F76: 5 | G76: 6 | H76: 7 | I76: 8 | J76: 9 | K76: 10 | L76: 11 | M76: 12 | O76: monoeolved TRP (+AA) | U76: TRP (+AA) | Z76: monoeolved TRP (+AA)
B77: 0 | C77: 0.75 | D77: 1.5 | E77: 2.25 | F77: 3 | G77: 3.75 | H77: 4.5 | I77: 5.25 | J77: 6 | K77: 6.75 | L77: 7.5 | M77: 10 | O77: MIC [%] | P77: MIC [µg/ml] | U77: MIC [µg/ml] | Z77: Normalized MIC [µg/ml]
A78: 1 | B78: 0.130575 | C78: 0.1375 | D78: 0.102675 | E78: 0.0810625 | F78: 0.096775 | G78: 0.08815 | H78: 0.0467 | I78: 0.01115 | J78: 0.005675 | K78: -0.00575 | L78: -0.0134625 | M78: -0.0284 | N78: 1 | O78: 6 | P78: 90 | U78: 1.5 | Z78: =P78-$U$86 -> 88.03125
A79: 2 | B79: 0.119275 | C79: 0.144 | D79: 0.102175 | E79: 0.0980625 | F79: 0.093975 | G79: 0.05655 | H79: 0.0371 | I79: 0.01675 | J79: 0.004275 | K79: -0.00825 | L79: -0.0162625 | M79: -0.0308 | N79: 2 | O79: 6 | P79: 90 | U79: 2.25 | Z79: =P79-$U$86 -> 88.03125
A80: 3 | B80: 0.120775 | C80: 0.1634 | D80: 0.101675 | E80: 0.1026625 | F80: 0.079275 | G80: 0.03445 | H80: 0.0157 | I80: 0.00015 | J80: -0.007525 | K80: -0.01435 | L80: -0.0217625 | M80: -0.0357 | N80: 3 | O80: 5.25 | P80: 78.75 | U80: 1.5 | Z80: =P80-$U$86 -> 76.78125
A81: 4 | B81: 0.121375 | C81: 0.148 | D81: 0.102775 | E81: 0.0800625 | F81: 0.085575 | G81: 0.07865 | H81: 0.0856 | I81: 0.04575 | J81: 0.011675 | K81: -0.00565 | L81: -0.0148625 | M81: -0.0343 | N81: 4 | O81: 6.75 | P81: 101.25 | U81: 2.25 | Z81: =P81-$U$86 -> 99.28125
A82: 5 | B82: 0.115075 | C82: 0.1291 | D82: 0.092475 | E82: 0.0730625 | F82: 0.078275 | G82: 0.07855 | H82: 0.083 | I82: 0.06055 | J82: 0.032175 | K82: 0.01015 | L82: -0.0020625 | M82: -0.026 | N82: 5 | O82: 7.5 | P82: 112.5 | U82: 1.5 | Z82: =P82-$U$86 -> 110.53125
A83: 6 | B83: 0.118275 | C83: 0.116 | D83: 0.091375 | E83: 0.0730625 | F83: 0.097075 | G83: 0.09635 | H83: 0.0606 | I83: 0.02505 | J83: 0.010575 | K83: -0.00305 | L83: -0.0102625 | M83: -0.0324 | N83: 6 | O83: 6.75 | P83: 101.25 | U83: 2.25 | Z83: =P83-$U$86 -> 99.28125
A84: 7 | B84: 0.113475 | C84: 0.1173 | D84: 0.090475 | E84: 0.0762625 | F84: 0.092275 | G84: 0.07985 | H84: 0.0433 | I84: 0.01965 | J84: 0.011375 | K84: -0.00235 | L84: -0.0075625 | M84: -0.0296 | N84: 7 | O84: 6.75 | P84: 101.25 | U84: 2.25 | Z84: =P84-$U$86 -> 99.28125
A85: 8 | B85: 0.109975 | C85: 0.1294 | D85: 0.085075 | E85: 0.0801625 | F85: 0.081875 | G85: 0.08375 | H85: 0.0668 | I85: 0.06245 | J85: 0.028775 | K85: 0.00485 | L85: -0.0049625 | M85: -0.0276 | N85: 8 | O85: 6.75 | P85: 101.25 | U85: 2.25 | Z85: =P85-$U$86 -> 99.28125
T86: Mean | U86: =AVERAGE(U78:U85) -> 1.96875
B87: monoeolved TYR (+AA)
B88: 1 | C88: 2 | D88: 3 | E88: 4 | F88: 5 | G88: 6 | H88: 7 | I88: 8 | J88: 9 | K88: 10 | L88: 11 | M88: 12 | O88: monoeolved TYR (+AA) | U88: TYR (+AA) | Z88: monoeolved TYR (+AA)
B89: 0 | C89: 0.75 | D89: 1.5 | E89: 2.25 | F89: 3 | G89: 3.75 | H89: 4.5 | I89: 5.25 | J89: 6 | K89: 6.75 | L89: 7.5 | M89: 10 | O89: MIC [%] | P89: MIC [µg/ml] | U89: MIC [µg/ml] | Z89: Normalized MIC [µg/ml]
A90: 1 | B90: 0.125175 | C90: 0.1217 | D90: 0.095975 | E90: 0.0046625 | F90: 0.001075 | G90: -0.00385 | H90: -0.0082 | I90: -0.01485 | J90: -0.020525 | K90: -0.02385 | L90: -0.0271625 | M90: -0.0396 | N90: 1 | O90: 2.25 | P90: 33.75 | U90: x | Z90: =P90-$U$98 -> 28.392857
A91: 2 | B91: 0.140675 | C91: 0.0886 | D91: 0.080175 | E91: 0.0057625 | F91: -0.000325 | G91: -0.00525 | H91: -0.0095 | I91: -0.01705 | J91: -0.020525 | K91: -0.02855 | L91: -0.0290625 | M91: -0.0426 | N91: 2 | O91: 2.25 | P91: 33.75 | U91: 5.25 | Z91: =P91-$U$98 -> 28.392857
A92: 3 | B92: 0.124075 | C92: 0.1277 | D92: 0.077475 | E92: 0.0058625 | F92: 0.000375 | G92: -0.00405 | H92: -0.0088 | I92: -0.01575 | J92: -0.020125 | K92: -0.02715 | L92: -0.0282625 | M92: -0.0433 | N92: 3 | O92: 2.25 | P92: 33.75 | U92: 5.25 | Z92: =P92-$U$98 -> 28.392857
A93: 4 | B93: 0.133775 | C93: 0.1425 | D93: 0.079675 | E93: 0.0076625 | F93: -0.000825 | G93: -0.00505 | H93: -0.0082 | I93: -0.01435 | J93: -0.019425 | K93: -0.02595 | L93: -0.0287625 | M93: -0.0414 | N93: 4 | O93: 2.25 | P93: 33.75 | U93: 5.25 | Z93: =P93-$U$98 -> 28.392857
A94: 5 | B94: 0.133875 | C94: 0.1107 | D94: 0.078275 | E94: 0.0796625 | F94: 0.001075 | G94: -0.00465 | H94: -0.0091 | I94: -0.01335 | J94: -0.018025 | K94: -0.02205 | L94: -0.0290625 | M94: -0.0414 | N94: 5 | O94: 3 | P94: 45 | U94: 6 | Z94: =P94-$U$98 -> 39.642857
A95: 6 | B95: 0.131675 | C95: 0.1332 | D95: 0.077275 | E95: 0.0060625 | F95: 0.001075 | G95: -0.00385 | H95: -0.0081 | I95: -0.01505 | J95: -0.020025 | K95: -0.02185 | L95: -0.0269625 | M95: -0.0412 | N95: 6 | O95: 2.25 | P95: 33.75 | U95: 6 | Z95: =P95-$U$98 -> 28.392857
A96: 7 | B96: 0.128475 | C96: 0.1442 | D96: 0.078375 | E96: 0.0075625 | F96: 0.002075 | G96: -0.00245 | H96: -0.0071 | I96: -0.01305 | J96: -0.019625 | K96: -0.01935 | L96: -0.0279625 | M96: -0.0343 | N96: 7 | O96: 2.25 | P96: 33.75 | U96: 4.5 | Z96: =P96-$U$98 -> 28.392857
A97: 8 | B97: 0.116975 | C97: 0.0964 | D97: 0.074675 | E97: 0.0051625 | F97: -0.001925 | G97: -0.00625 | H97: -0.0101 | I97: -0.01605 | J97: -0.021325 | K97: -0.02645 | L97: -0.0277625 | M97: -0.0392 | N97: 8 | O97: 2.25 | P97: 33.75 | U97: 5.25 | Z97: =P97-$U$98 -> 28.392857
T98: Mean | U98: =AVERAGE(U90:U97) -> 5.3571429

Sheet Figure 4a,b,d,e
A1: Chloramphenicol treatment | M1: Tetracycline treatment
A3: Concentrations [µg/ml] | B3: 13.75 | C3: 17.5 | D3: 21.25 | E3: 25 | F3: 28.75 | G3: 32.5 | H3: 36.25 | I3: 40 | J3: 43.75 | K3: 47.5 | M3: Concentrations [µg/ml] | N3: 8.25 | O3: 10.5 | P3: 12.75 | Q3: 15 | R3: 17.25 | S3: 19.5 | T3: 21.75 | U3: 24 | V3: 26.25 | W3: 28.5
A5: Treatment group | B5: CO-EVO (-AA) | M5: Treatment group | N5: CO-EVO (-AA)
B6: 0.0598 | C6: 0.078 | D6: 0.0809875 | E6: 0.0834625 | F6: 0.0584625 | G6: 0.0529375 | H6: 0.0552 | I6: 0.0608875 | J6: 0.049375 | K6: 0.0510875 | N6: 0.1969375 | O6: 0.1464 | P6: 0.15285 | Q6: 0.269575 | R6: 0.0407 | S6: 0.041525 | T6: 0.0475 | U6: 0.02085 | V6: 0.0183875 | W6: 0.021
B7: 0.0553 | C7: 0.0727 | D7: 0.0777875 | E7: 0.0754625 | F7: 0.0734625 | G7: 0.0596375 | H7: 0.0528 | I7: 0.0711875 | J7: 0.046975 | K7: 0.0443875 | N7: 0.1736375 | O7: 0.1413 | P7: 0.15405 | Q7: 0.269775 | R7: 0.105 | S7: 0.038825 | T7: 0.0469 | U7: 0.01635 | V7: 0.0167875 | W7: 0.0189
B8: 0.0493 | C8: 0.0443 | D8: 0.0535875 | E8: 0.0547625 | F8: 0.0557625 | G8: 0.0611375 | H8: 0.0438 | I8: 0.0487875 | J8: 0.038775 | K8: 0.0338875 | N8: 0.1398375 | O8: 0.0962 | P8: 0.09385 | Q8: 0.114675 | R8: 0.1222 | S8: 0.082125 | T8: 0.1368 | U8: 0.06875 | V8: 0.1232875 | W8: 0.0622
B9: 0.0945 | C9: 0.1244 | D9: 0.1079875 | E9: 0.1092625 | F9: 0.0995625 | G9: 0.0802375 | H9: 0.0659 | I9: 0.1001875 | J9: 0.064975 | K9: 0.0664875 | N9: 0.1228375 | O9: 0.1014 | P9: 0.11105 | Q9: 0.131375 | R9: 0.1718 | S9: 0.037425 | T9: 0.0433 | U9: 0.01575 | V9: 0.0167875 | W9: 0.017
B10: 0.0848 | C10: 0.0948 | D10: 0.0892875 | E10: 0.0930625 | F10: 0.0789625 | G10: 0.0641375 | H10: 0.054 | I10: 0.0803875 | J10: 0.050775 | K10: 0.0476875 | N10: 0.1506375 | O10: 0.1089 | P10: 0.10155 | Q10: 0.120375 | R10: 0.1414 | S10: 0.108225 | T10: 0.0743 | U10: 0.04385 | V10: 0.0210875 | W10: 0.0209
B11: 0.0999 | C11: 0.1319 | D11: 0.1215875 | E11: 0.1158625 | F11: 0.1067625 | G11: 0.0891375 | H11: 0.0702 | I11: 0.1046875 | J11: 0.066375 | K11: 0.0660875 | N11: 0.0861375 | O11: 0.1049 | P11: 0.09475 | Q11: 0.132275 | R11: 0.0759 | S11: 0.040725 | T11: 0.0414 | U11: 0.01195 | V11: 0.0109875 | W11: 0.0118
B12: 0.064 | C12: 0.0788 | D12: 0.0870875 | E12: 0.0845625 | F12: 0.0774625 | G12: 0.0654375 | H12: 0.0671 | I12: 0.0791875 | J12: 0.059575 | K12: 0.0596875 | N12: 0.1268375 | O12: 0.0975 | P12: 0.08315 | Q12: 0.140875 | R12: 0.1093 | S12: 0.143225 | T12: 0.1201 | U12: 0.03005 | V12: 0.0229875 | W12: 0.019
B13: 0.0581 | C13: 0.0496 | D13: 0.0751875 | E13: 0.0488625 | F13: 0.0863625 | G13: 0.0492375 | H13: 0.0478 | I13: 0.0461875 | J13: 0.045075 | K13: 0.0456875 | N13: 0.1064375 | O13: 0.0892 | P13: 0.07115 | Q13: 0.108575 | R13: 0.1034 | S13: 0.117725 | T13: 0.1243 | U13: 0.05605 | V13: 0.0260875 | W13: 0.0254
A14: Average | B14: =AVERAGE(B6:B13) -> 0.0707125 | C14: =AVERAGE(C6:C13) -> 0.0843125 | D14: =AVERAGE(D6:D13) -> 0.0866875 | E14: =AVERAGE(E6:E13) -> 0.0831625 | F14: =AVERAGE(F6:F13) -> 0.0796 | G14: =AVERAGE(G6:G13) -> 0.0652375 | H14: =AVERAGE(H6:H13) -> 0.0571 | I14: =AVERAGE(I6:I13) -> 0.0739375 | ... K14: =AVERAGE(K6:K13) -> 0.051875 | M14: Average | N14: =AVERAGE(N6:N13) -> 0.1379125 | O14: =AVERAGE(O6:O13) -> 0.110725 | P14: =AVERAGE(P6:P13) -> 0.1078 | Q14: =AVERAGE(Q6:Q13) -> 0.1609375 | R14: =AVERAGE(R6:R13) -> 0.1087125 | S14: =AVERAGE(S6:S13) -> 0.076225 | T14: =AVERAGE(T6:T13) -> 0.079325 | U14: =AVERAGE(U6:U13) -> 0.03295 | ... W14: =AVERAGE(W6:W13) -> 0.024525
A15: Standard deviation | B15: =_xlfn.STDEV.P(B6:B13) -> 0.018150306 | C15: =_xlfn.STDEV.P(C6:C13) -> 0.029564778 | D15: =_xlfn.STDEV.P(D6:D13) -> 0.019423504 | E15: =_xlfn.STDEV.P(E6:E13) -> 0.022059295 | F15: =_xlfn.STDEV.P(F6:F13) -> 0.016732075 | G15: =_xlfn.STDEV.P(G6:G13) -> 0.012514591 | H15: =_xlfn.STDEV.P(H6:H13) -> 0.0089731544 | I15: =_xlfn.STDEV.P(I6:I13) -> 0.02026154 | ... K15: =_xlfn.STDEV.P(K6:K13) -> 0.010680641 | M15: Standard deviation | N15: =_xlfn.STDEV.P(N6:N13) -> 0.033442292 | O15: =_xlfn.STDEV.P(O6:O13) -> 0.019940396 | P15: =_xlfn.STDEV.P(P6:P13) -> 0.028578707 | Q15: =_xlfn.STDEV.P(Q6:Q13) -> 0.06351482 | R15: =_xlfn.STDEV.P(R6:R13) -> 0.037039048 | S15: =_xlfn.STDEV.P(S6:S13) -> 0.039747012 | T15: =_xlfn.STDEV.P(T6:T13) -> 0.038428985 | U15: =_xlfn.STDEV.P(U6:U13) -> 0.019689083 | ... W15: =_xlfn.STDEV.P(W6:W13) -> 0.014690367
A16: n | B16: 8 | C16: 8 | D16: 8 | E16: 8 | F16: 8 | G16: 8 | H16: 8 | I16: 8 | J16: 8 | K16: 8 | M16: n | N16: 8 | O16: 8 | P16: 8 | Q16: 8 | R16: 8 | S16: 8 | T16: 8 | U16: 8 | V16: 8 | W16: 8
A17: Confidence interval | B17: =_xlfn.CONFIDENCE.NORM(0.05,B15,B16) -> 0.012577289 | C17: =_xlfn.CONFIDENCE.NORM(0.05,C15,C16) -> 0.020486969 | D17: =_xlfn.CONFIDENCE.NORM(0.05,D15,D16) -> 0.013459554 | E17: =_xlfn.CONFIDENCE.NORM(0.05,E15,E16) -> 0.015286031 | F17: =_xlfn.CONFIDENCE.NORM(0.05,F15,F16) -> 0.011594524 | G17: =_xlfn.CONFIDENCE.NORM(0.05,G15,G16) -> 0.0086720101 | H17: =_xlfn.CONFIDENCE.NORM(0.05,H15,H16) -> 0.0062179645 | I17: =_xlfn.CONFIDENCE.NORM(0.05,I15,I16) -> 0.014040273 | ... K17: =_xlfn.CONFIDENCE.NORM(0.05,K15,K16) -> 0.0074011707 | M17: Confidence interval | N17: =_xlfn.CONFIDENCE.NORM(0.05,N15,N16) -> 0.0231739 | O17: =_xlfn.CONFIDENCE.NORM(0.05,O15,O16) -> 0.013817735 | P17: =_xlfn.CONFIDENCE.NORM(0.05,P15,P16) -> 0.01980367 | Q17: =_xlfn.CONFIDENCE.NORM(0.05,Q15,Q16) -> 0.044012716 | R17: =_xlfn.CONFIDENCE.NORM(0.05,R15,R16) -> 0.025666279 | S17: =_xlfn.CONFIDENCE.NORM(0.05,S15,S16) -> 0.027542768 | T17: =_xlfn.CONFIDENCE.NORM(0.05,T15,T16) -> 0.026629439 | U17: =_xlfn.CONFIDENCE.NORM(0.05,U15,U16) -> 0.013643588 | ... W17: =_xlfn.CONFIDENCE.NORM(0.05,W15,W16) -> 0.010179718
A20: Treatment group | B20: CO-AUX (-AA) | M20: Treatment group | N20: CO-AUX (-AA)
B21: 0.0782 | C21: 0.0779 | D21: 0.0891875 | E21: 0.1079625 | F21: 0.0879625 | G21: 0.0771375 | H21: 0.0716 | I21: 0.0920875 | J21: 0.070975 | K21: 0.0685875 | N21: 0.0958375 | O21: 0.0969 | P21: 0.08245 | Q21: 0.070075 | R21: 0.0979 | S21: 0.054225 | T21: 0.0656 | U21: 0.03135 | V21: 0.0306875 | W21: 0.0199
B22: 0.0395 | C22: 0.0332 | D22: 0.0378875 | E22: 0.0413625 | F22: 0.0364625 | G22: 0.0526375 | H22: 0.038 | I22: 0.0377875 | J22: 0.039275 | K22: 0.0346875 | N22: 0.0707375 | O22: 0.0835 | P22: 0.07875 | Q22: 0.054175 | R22: 0.0555 | S22: 0.042925 | T22: 0.058 | U22: 0.02995 | V22: 0.0247875 | W22: 0.0224
B23: 0.0733 | C23: 0.0726 | D23: 0.0791875 | E23: 0.0733625 | F23: 0.0726625 | G23: 0.0733375 | H23: 0.0653 | I23: 0.0728875 | J23: 0.067175 | K23: 0.0631875 | N23: 0.0690375 | O23: 0.0834 | P23: 0.06175 | Q23: 0.053375 | R23: 0.0576 | S23: 0.036325 | T23: 0.0553 | U23: 0.02885 | V23: 0.0241875 | W23: 0.0223
B24: 0.0252 | C24: 0.0213 | D24: 0.0269875 | E24: 0.0247625 | F24: 0.0239625 | G24: 0.0349375 | H24: 0.026 | I24: 0.0253875 | J24: 0.027275 | K24: 0.0236875 | N24: 0.0619375 | O24: 0.0809 | P24: 0.07105 | Q24: 0.053675 | R24: 0.0551 | S24: 0.036925 | T24: 0.0532 | U24: 0.02595 | V24: 0.0274875 | W24: 0.019
B25: 0.0609 | C25: 0.0691 | D25: 0.0587875 | E25: 0.0675625 | F25: 0.0651625 | G25: 0.0507375 | H25: 0.0553 | I25: 0.0657875 | J25: 0.052875 | K25: 0.0478875 | N25: 0.0491375 | O25: 0.0603 | P25: 0.03735 | Q25: 0.026375 | R25: 0.0179 | S25: 0.013525 | T25: 0.0388 | U25: 0.01205 | V25: 0.0104875 | W25: 0.0102
B26: 0.0135 | C26: 0.0117 | D26: 0.0124875 | E26: 0.0161625 | F26: 0.0169625 | G26: 0.0216375 | H26: 0.0182 | I26: 0.0187875 | J26: 0.017375 | K26: 0.0147875 | N26: 0.0490375 | O26: 0.0694 | P26: 0.04625 | Q26: 0.037075 | R26: 0.0267 | S26: 0.018325 | T26: 0.0412 | U26: 0.01545 | V26: 0.0167875 | W26: 0.0103
B27: 0.0184 | C27: 0.0176 | D27: 0.0346875 | E27: 0.0355625 | F27: 0.0186625 | G27: 0.0328375 | H27: 0.0204 | I27: 0.0197875 | J27: 0.023675 | K27: 0.0228875 | N27: 0.0682375 | O27: 0.078 | P27: 0.05785 | Q27: 0.075675 | R27: 0.0519 | S27: 0.031325 | T27: 0.052 | U27: 0.02405 | V27: 0.0195875 | W27: 0.019
B28: 0.0562 | C28: 0.0529 | D28: 0.0603875 | E28: 0.0618625 | F28: 0.0627625 | G28: 0.0550375 | H28: 0.0556 | I28: 0.0649875 | J28: 0.053875 | K28: 0.0533875 | N28: 0.0734375 | O28: 0.0768 | P28: 0.04155 | Q28: 0.071275 | R28: 0.019 | S28: 0.015425 | T28: 0.0385 | U28: 0.01045 | V28: 0.0126875 | W28: 0.0088
A29: Average | B29: =AVERAGE(B21:B28) -> 0.04565 | C29: =AVERAGE(C21:C28) -> 0.0445375 | D29: =AVERAGE(D21:D28) -> 0.04995 | E29: =AVERAGE(E21:E28) -> 0.053575 | F29: =AVERAGE(F21:F28) -> 0.048075 | G29: =AVERAGE(G21:G28) -> 0.0497875 | H29: =AVERAGE(H21:H28) -> 0.0438 | I29: =AVERAGE(I21:I28) -> 0.0496875 | ... K29: =AVERAGE(K21:K28) -> 0.0411375 | M29: Average | N29: =AVERAGE(N21:N28) -> 0.067175 | O29: =AVERAGE(O21:O28) -> 0.07865 | P29: =AVERAGE(P21:P28) -> 0.059625 | Q29: =AVERAGE(Q21:Q28) -> 0.0552125 | R29: =AVERAGE(R21:R28) -> 0.0477 | S29: =AVERAGE(S21:S28) -> 0.031125 | T29: =AVERAGE(T21:T28) -> 0.050325 | U29: =AVERAGE(U21:U28) -> 0.0222625 | ... W29: =AVERAGE(W21:W28) -> 0.0164875
A30: Standard deviation | B30: =_xlfn.STDEV.P(B21:B28) -> 0.023452345 | C30: =_xlfn.STDEV.P(C21:C28) -> 0.025115381 | D30: =_xlfn.STDEV.P(D21:D28) -> 0.024725035 | E30: =_xlfn.STDEV.P(E21:E28) -> 0.028100998 | F30: =_xlfn.STDEV.P(F21:F28) -> 0.025623741 | G30: =_xlfn.STDEV.P(G21:G28) -> 0.018164044 | H30: =_xlfn.STDEV.P(H21:H28) -> 0.019557543 | I30: =_xlfn.STDEV.P(I21:I28) -> 0.026005336 | ... K30: =_xlfn.STDEV.P(K21:K28) -> 0.018737729 | M30: Standard deviation | N30: =_xlfn.STDEV.P(N21:N28) -> 0.013963339 | O30: =_xlfn.STDEV.P(O21:O28) -> 0.010064418 | P30: =_xlfn.STDEV.P(P21:P28) -> 0.015916638 | Q30: =_xlfn.STDEV.P(Q21:Q28) -> 0.016066264 | R30: =_xlfn.STDEV.P(R21:R28) -> 0.024758887 | S30: =_xlfn.STDEV.P(S21:S28) -> 0.013479892 | T30: =_xlfn.STDEV.P(T21:T28) -> 0.009246452 | U30: =_xlfn.STDEV.P(U21:U28) -> 0.0078430602 | ... W30: =_xlfn.STDEV.P(W21:W28) -> 0.0053610721
A31: n | B31: 8 | C31: 8 | D31: 8 | E31: 8 | F31: 8 | G31: 8 | H31: 8 | I31: 8 | J31: 8 | K31: 8 | M31: n | N31: 8 | O31: 8 | P31: 8 | Q31: 8 | R31: 8 | S31: 8 | T31: 8 | U31: 8 | V31: 8 | W31: 8
A32: Confidence interval | B32: =_xlfn.CONFIDENCE.NORM(0.05,B30,B31) -> 0.016251348 | C32: =_xlfn.CONFIDENCE.NORM(0.05,C30,C31) -> 0.017403751 | D32: =_xlfn.CONFIDENCE.NORM(0.05,D30,D31) -> 0.01713326 | E32: =_xlfn.CONFIDENCE.NORM(0.05,E30,E31) -> 0.01947264 | F32: =_xlfn.CONFIDENCE.NORM(0.05,F30,F31) -> 0.01775602 | G32: =_xlfn.CONFIDENCE.NORM(0.05,G30,G31) -> 0.012586809 | H32: =_xlfn.CONFIDENCE.NORM(0.05,H30,H31) -> 0.013552437 | I32: =_xlfn.CONFIDENCE.NORM(0.05,I30,I31) -> 0.018020447 | ... K32: =_xlfn.CONFIDENCE.NORM(0.05,K30,K31) -> 0.012984345 | M32: Confidence interval | N32: =_xlfn.CONFIDENCE.NORM(0.05,N30,N31) -> 0.0096759227 | O32: =_xlfn.CONFIDENCE.NORM(0.05,O30,O31) -> 0.0069741574 | P32: =_xlfn.CONFIDENCE.NORM(0.05,P30,P31) -> 0.011029465 | Q32: =_xlfn.CONFIDENCE.NORM(0.05,Q30,Q31) -> 0.011133148 | R32: =_xlfn.CONFIDENCE.NORM(0.05,R30,R31) -> 0.017156718 | S32: =_xlfn.CONFIDENCE.NORM(0.05,S30,S31) -> 0.0093409172 | T32: =_xlfn.CONFIDENCE.NORM(0.05,T30,T31) -> 0.0064073466 | U32: =_xlfn.CONFIDENCE.NORM(0.05,U30,U31) -> 0.0054348636 | ... W32: =_xlfn.CONFIDENCE.NORM(0.05,W30,W31) -> 0.0037149651
A36: Chloramphenicol treatment | M36: Tetracycline treatment
A38: Treatment group | B38: CO-EVO (+AA) | M38: Treatment group | N38: CO-EVO (+AA)
B39: 0.0729 | C39: 0.1021 | D39: 0.1097875 | E39: 0.1007625 | F39: 0.0819625 | G39: 0.0713375 | H39: 0.0551 | I39: 0.0721875 | J39: 0.054375 | K39: 0.0544875 | N39: 0.1946375 | O39: 0.1382 | P39: 0.09975 | Q39: 0.248175 | R39: 0.0395 | S39: 0.030525 | T39: 0.0488 | U39: 0.02015 | V39: 0.0180875 | W39: 0.0127
B40: 0.066 | C40: 0.0995 | D40: 0.0980875 | E40: 0.0915625 | F40: 0.0692625 | G40: 0.0646375 | H40: 0.0604 | I40: 0.0727875 | J40: 0.051775 | K40: 0.0504875 | N40: 0.1508375 | O40: 0.1073 | P40: 0.05525 | Q40: 0.159575 | R40: 0.1754 | S40: 0.135725 | T40: 0.1092 | U40: 0.02555 | V40: 0.0230875 | W40: 0.018
B41: 0.0982 | C41: 0.1212 | D41: 0.1186875 | E41: 0.1185625 | F41: 0.1076625 | G41: 0.0854375 | H41: 0.0716 | I41: 0.1012875 | J41: 0.067075 | K41: 0.0684875 | N41: 0.1097375 | O41: 0.0759 | P41: 0.07315 | Q41: 0.086975 | R41: 0.1059 | S41: 0.111425 | T41: 0.1566 | U41: 0.05365 | V41: 0.0439875 | W41: 0.0192
B42: 0.0816 | C42: 0.1088 | D42: 0.0940875 | E42: 0.0924625 | F42: 0.0917625 | G42: 0.0668375 | H42: 0.0631 | I42: 0.0824875 | J42: 0.057775 | K42: 0.0457875 | N42: 0.1232375 | O42: 0.0745 | P42: 0.08275 | Q42: 0.120775 | R42: 0.0352 | S42: 0.038125 | T42: 0.0469 | U42: 0.01475 | V42: 0.0150875 | W42: 0.0113
B43: 0.0783 | C43: 0.1167 | D43: 0.0932875 | E43: 0.0987625 | F43: 0.0884625 | G43: 0.0692375 | H43: 0.0556 | I43: 0.0720875 | J43: 0.047775 | K43: 0.0404875 | N43: 0.1346375 | O43: 0.1057 | P43: 0.07555 | Q43: 0.144675 | R43: 0.0908 | S43: 0.087725 | T43: 0.0717 | U43: 0.02955 | V43: 0.0267875 | W43: 0.0218
B44: 0.1092 | C44: 0.1469 | D44: 0.1284875 | E44: 0.1398625 | F44: 0.1235625 | G44: 0.1035375 | H44: 0.0817 | I44: 0.1083875 | J44: 0.071875 | K44: 0.0706875 | N44: 0.1332375 | O44: 0.1088 | P44: 0.08695 | Q44: 0.140875 | R44: 0.0405 | S44: 0.034325 | T44: 0.0412 | U44: 0.01375 | V44: 0.0134875 | W44: 0.0103
B45: 0.0719 | C45: 0.1052 | D45: 0.0932875 | E45: 0.0920625 | F45: 0.0784625 | G45: 0.0711375 | H45: 0.0549 | I45: 0.0701875 | J45: 0.048575 | K45: 0.0455875 | N45: 0.1422375 | O45: 0.0913 | P45: 0.05745 | Q45: 0.112875 | R45: 0.1266 | S45: 0.102625 | T45: 0.0604 | U45: 0.02495 | V45: 0.0198875 | W45: 0.0163
B46: 0.077 | C46: 0.1251 | D46: 0.1110875 | E46: 0.1211625 | F46: 0.0991625 | G46: 0.0879375 | H46: 0.0618 | I46: 0.0905875 | J46: 0.061875 | K46: 0.0593875 | N46: 0.1214375 | O46: 0.0882 | P46: 0.17825 | Q46: 0.131875 | R46: 0.1137 | S46: 0.071925 | T46: 0.0704 | U46: 0.01765 | V46: 0.0177875 | W46: 0.0104
A47: Average | B47: =AVERAGE(B39:B46) -> 0.0818875 | C47: =AVERAGE(C39:C46) -> 0.1156875 | D47: =AVERAGE(D39:D46) -> 0.10585 | E47: =AVERAGE(E39:E46) -> 0.1069 | F47: =AVERAGE(F39:F46) -> 0.0925375 | G47: =AVERAGE(G39:G46) -> 0.0775125 | H47: =AVERAGE(H39:H46) -> 0.063025 | I47: =AVERAGE(I39:I46) -> 0.08375 | ... K47: =AVERAGE(K39:K46) -> 0.054425 | M47: Average | N47: =AVERAGE(N39:N46) -> 0.13875 | O47: =AVERAGE(O39:O46) -> 0.0987375 | P47: =AVERAGE(P39:P46) -> 0.0886375 | Q47: =AVERAGE(Q39:Q46) -> 0.143225 | R47: =AVERAGE(R39:R46) -> 0.09095 | S47: =AVERAGE(S39:S46) -> 0.07655 | T47: =AVERAGE(T39:T46) -> 0.07565 | U47: =AVERAGE(U39:U46) -> 0.025 | ... W47: =AVERAGE(W39:W46) -> 0.015
A48: Standard deviation | B48: =_xlfn.STDEV.P(B39:B46) -> 0.013609963 | C48: =_xlfn.STDEV.P(C39:C46) -> 0.014570127 | D48: =_xlfn.STDEV.P(D39:D46) -> 0.01242195 | E48: =_xlfn.STDEV.P(E39:E46) -> 0.016559283 | F48: =_xlfn.STDEV.P(F39:F46) -> 0.016217564 | G48: =_xlfn.STDEV.P(G39:G46) -> 0.012628118 | H48: =_xlfn.STDEV.P(H39:H46) -> 0.0087652367 | I48: =_xlfn.STDEV.P(I39:I46) -> 0.013859738 | ... K48: =_xlfn.STDEV.P(K39:K46) -> 0.010303633 | M48: Standard deviation | N48: =_xlfn.STDEV.P(N39:N46) -> 0.024266924 | O48: =_xlfn.STDEV.P(O39:O46) -> 0.019543857 | P48: =_xlfn.STDEV.P(P39:P46) -> 0.036554632 | Q48: =_xlfn.STDEV.P(Q39:Q46) -> 0.044731784 | R48: =_xlfn.STDEV.P(R39:R46) -> 0.046696065 | S48: =_xlfn.STDEV.P(S39:S46) -> 0.036949044 | T48: =_xlfn.STDEV.P(T39:T46) -> 0.036552223 | U48: =_xlfn.STDEV.P(U39:U46) -> 0.011994791 | ... W48: =_xlfn.STDEV.P(W39:W46) -> 0.0041352146
A49: n | B49: 8 | C49: 8 | D49: 8 | E49: 8 | F49: 8 | G49: 8 | H49: 8 | I49: 8 | J49: 8 | K49: 8 | M49: n | N49: 8 | O49: 8 | P49: 8 | Q49: 8 | R49: 8 | S49: 8 | T49: 8 | U49: 8 | V49: 8 | W49: 8
A50: Confidence interval | B50: =_xlfn.CONFIDENCE.NORM(0.05,B48,B49) -> 0.0094310499 | C50: =_xlfn.CONFIDENCE.NORM(0.05,C48,C49) -> 0.010096397 | D50: =_xlfn.CONFIDENCE.NORM(0.05,D48,D49) -> 0.0086078141 | E50: =_xlfn.CONFIDENCE.NORM(0.05,E48,E49) -> 0.011474787 | F50: =_xlfn.CONFIDENCE.NORM(0.05,F48,F49) -> 0.011237992 | G50: =_xlfn.CONFIDENCE.NORM(0.05,G48,G49) -> 0.0087506788 | H50: =_xlfn.CONFIDENCE.NORM(0.05,H48,H49) -> 0.0060738876 | I50: =_xlfn.CONFIDENCE.NORM(0.05,I48,I49) -> 0.0096041321 | ... K50: =_xlfn.CONFIDENCE.NORM(0.05,K48,K49) -> 0.0071399219 | M50: Confidence interval | N50: =_xlfn.CONFIDENCE.NORM(0.05,N48,N49) -> 0.016815811 | O50: =_xlfn.CONFIDENCE.NORM(0.05,O48,O49) -> 0.013542953 | P50: =_xlfn.CONFIDENCE.NORM(0.05,P48,P49) -> 0.025330602 | Q50: =_xlfn.CONFIDENCE.NORM(0.05,Q48,Q49) -> 0.030996975 | R50: =_xlfn.CONFIDENCE.NORM(0.05,R48,R49) -> 0.032358128 | S50: =_xlfn.CONFIDENCE.NORM(0.05,S48,S49) -> 0.025603911 | T50: =_xlfn.CONFIDENCE.NORM(0.05,T48,T49) -> 0.025328933 | U50: =_xlfn.CONFIDENCE.NORM(0.05,U48,U49) -> 0.008311813 | ... W50: =_xlfn.CONFIDENCE.NORM(0.05,W48,W49) -> 0.0028655049
A53: Treatment group | B53: CO-AUX (+AA) | M53: Treatment group | N53: CO-AUX (+AA)
B54: 0.1202 | C54: 0.1868 | D54: 0.1706875 | E54: 0.1772625 | F54: 0.1556625 | G54: 0.1323375 | H54: 0.1015 | I54: 0.1190875 | J54: 0.087275 | K54: 0.0896875 | N54: 0.1961375 | O54: 0.1266 | P54: 0.17155 | Q54: 0.234375 | R54: 0.1796 | S54: 0.151125 | T54: 0.1954 | U54: 0.13935 | V54: 0.1443875 | W54: 0.0986
B55: 0.1209 | C55: 0.2033 | D55: 0.1816875 | E55: 0.1719625 | F55: 0.1605625 | G55: 0.1200375 | H55: 0.0943 | I55: 0.1192875 | J55: 0.084775 | K55: 0.0803875 | N55: 0.1639375 | O55: 0.1191 | P55: 0.12635 | Q55: 0.172175 | R55: 0.1475 | S55: 0.160225 | T55: 0.1901 | U55: 0.15595 | V55: 0.1538875 | W55: 0.1266
B56: 0.1224 | C56: 0.1769 | D56: 0.1694875 | E56: 0.1577625 | F56: 0.1664625 | G56: 0.1428375 | H56: 0.1108 | I56: 0.1356875 | J56: 0.089975 | K56: 0.0879875 | N56: 0.1604375 | O56: 0.1367 | P56: 0.10325 | Q56: 0.152375 | R56: 0.1393 | S56: 0.142225 | T56: 0.1198 | U56: 0.06485 | V56: 0.0526875 | W56: 0.0367
B57: 0.0926 | C57: 0.142 | D57: 0.1319875 | E57: 0.1285625 | F57: 0.1220625 | G57: 0.1011375 | H57: 0.0834 | I57: 0.1135875 | J57: 0.073275 | K57: 0.0830875 | N57: 0.1685375 | O57: 0.1202 | P57: 0.11705 | Q57: 0.145875 | R57: 0.1458 | S57: 0.163325 | T57: 0.1763 | U57: 0.15665 | V57: 0.1489875 | W57: 0.1429
B58: 0.1059 | C58: 0.1485 | D58: 0.1385875 | E58: 0.1436625 | F58: 0.1361625 | G58: 0.1168375 | H58: 0.0902 | I58: 0.1089875 | J58: 0.074475 | K58: 0.0795875 | N58: 0.1489375 | O58: 0.1249 | P58: 0.11835 | Q58: 0.166875 | R58: 0.1196 | S58: 0.150925 | T58: 0.1752 | U58: 0.15195 | V58: 0.1513875 | W58: 0.1384
B59: 0.1165 | C59: 0.1704 | D59: 0.1607875 | E59: 0.1732625 | F59: 0.1522625 | G59: 0.1259375 | H59: 0.0988 | I59: 0.1305875 | J59: 0.084975 | K59: 0.0855875 | N59: 0.1628375 | O59: 0.1266 | P59: 0.14215 | Q59: 0.170475 | R59: 0.1327 | S59: 0.140025 | T59: 0.1858 | U59: 0.15835 | V59: 0.1345875 | W59: 0.1418
B60: 0.1175 | C60: 0.154 | D60: 0.1466875 | E60: 0.1570625 | F60: 0.1426625 | G60: 0.1239375 | H60: 0.096 | I60: 0.1188875 | J60: 0.083675 | K60: 0.0850875 | N60: 0.1557375 | O60: 0.1192 | P60: 0.13735 | Q60: 0.190775 | R60: 0.1595 | S60: 0.147925 | T60: 0.1663 | U60: 0.15495 | V60: 0.1246875 | W60: 0.1326
B61: 0.106 | C61: 0.1625 | D61: 0.1494875 | E61: 0.1678625 | F61: 0.1355625 | G61: 0.1193375 | H61: 0.0988 | I61: 0.1296875 | J61: 0.092075 | K61: 0.0990875 | N61: 0.1659375 | O61: 0.1198 | P61: 0.13635 | Q61: 0.209275 | R61: 0.1727 | S61: 0.126125 | T61: 0.1871 | U61: 0.13255 | V61: 0.1181875 | W61: 0.1073
A62: Average | B62: =AVERAGE(B54:B61) -> 0.11275 | C62: =AVERAGE(C54:C61) -> 0.16805 | D62: =AVERAGE(D54:D61) -> 0.156175 | E62: =AVERAGE(E54:E61) -> 0.159675 | F62: =AVERAGE(F54:F61) -> 0.146425 | G62: =AVERAGE(G54:G61) -> 0.1228 | H62: =AVERAGE(H54:H61) -> 0.096725 | I62: =AVERAGE(I54:I61) -> 0.121975 | ... K62: =AVERAGE(K54:K61) -> 0.0863125 | M62: Average | N62: =AVERAGE(N54:N61) -> 0.1653125 | O62: =AVERAGE(O54:O61) -> 0.1241375 | P62: =AVERAGE(P54:P61) -> 0.13155 | Q62: =AVERAGE(Q54:Q61) -> 0.180275 | R62: =AVERAGE(R54:R61) -> 0.1495875 | S62: =AVERAGE(S54:S61) -> 0.1477375 | T62: =AVERAGE(T54:T61) -> 0.1745 | U62: =AVERAGE(U54:U61) -> 0.139325 | ... W62: =AVERAGE(W54:W61) -> 0.1156125
A63: Standard deviation | B63: =_xlfn.STDEV.P(B54:B61) -> 0.0096836202 | C63: =_xlfn.STDEV.P(C54:C61) -> 0.01925805 | D63: =_xlfn.STDEV.P(D54:D61) -> 0.016159706 | E63: =_xlfn.STDEV.P(E54:E61) -> 0.015599795 | F63: =_xlfn.STDEV.P(F54:F61) -> 0.013927395 | G63: =_xlfn.STDEV.P(G54:G61) -> 0.011335998 | H63: =_xlfn.STDEV.P(H54:H61) -> 0.0075502897 | I63: =_xlfn.STDEV.P(I54:I61) -> 0.0085572247 | ... K63: =_xlfn.STDEV.P(K54:K61) -> 0.0058111423 | M63: Standard deviation | N63: =_xlfn.STDEV.P(N54:N61) -> 0.013002764 | O63: =_xlfn.STDEV.P(O54:O61) -> 0.0056413512 | P63: =_xlfn.STDEV.P(P54:P61) -> 0.019304986 | Q63: =_xlfn.STDEV.P(Q54:Q61) -> 0.027796223 | R63: =_xlfn.STDEV.P(R54:R61) -> 0.018848636 | S63: =_xlfn.STDEV.P(S54:S61) -> 0.011054121 | T63: =_xlfn.STDEV.P(T54:T61) -> 0.022443485 | U63: =_xlfn.STDEV.P(U54:U61) -> 0.029441584 | ... W63: =_xlfn.STDEV.P(W54:W61) -> 0.033437757
A64: n | B64: 8 | C64: 8 | D64: 8 | E64: 8 | F64: 8 | G64: 8 | H64: 8 | I64: 8 | J64: 8 | K64: 8 | M64: n | N64: 8 | O64: 8 | P64: 8 | Q64: 8 | R64: 8 | S64: 8 | T64: 8 | U64: 8 | V64: 8 | W64: 8
A65: Confidence interval | B65: =_xlfn.CONFIDENCE.NORM(0.05,B63,B64) -> 0.0067102831 | C65: =_xlfn.CONFIDENCE.NORM(0.05,C63,C64) -> 0.013344903 | D65: =_xlfn.CONFIDENCE.NORM(0.05,D63,D64) -> 0.011197899 | E65: =_xlfn.CONFIDENCE.NORM(0.05,E63,E64) -> 0.010809908 | F65: =_xlfn.CONFIDENCE.NORM(0.05,F63,F64) -> 0.0096510153 | G65: =_xlfn.CONFIDENCE.NORM(0.05,G63,G64) -> 0.0078553013 | H65: =_xlfn.CONFIDENCE.NORM(0.05,H63,H64) -> 0.0052319877 | I65: =_xlfn.CONFIDENCE.NORM(0.05,I63,I64) -> 0.0059297452 | ... K65: =_xlfn.CONFIDENCE.NORM(0.05,K63,K64) -> 0.0040268422 | M65: Confidence interval | N65: =_xlfn.CONFIDENCE.NORM(0.05,N63,N64) -> 0.0090102903 | O65: =_xlfn.CONFIDENCE.NORM(0.05,O63,O64) -> 0.0039091851 | P65: =_xlfn.CONFIDENCE.NORM(0.05,P63,P64) -> 0.013377427 | Q65: =_xlfn.CONFIDENCE.NORM(0.05,Q63,Q64) -> 0.019261446 | R65: =_xlfn.CONFIDENCE.NORM(0.05,R63,R64) -> 0.013061199 | S65: =_xlfn.CONFIDENCE.NORM(0.05,S63,S64) -> 0.0076599744 | T65: =_xlfn.CONFIDENCE.NORM(0.05,T63,T64) -> 0.015552256 | U65: =_xlfn.CONFIDENCE.NORM(0.05,U63,U64) -> 0.020401602 | ... W65: =_xlfn.CONFIDENCE.NORM(0.05,W63,W64) -> 0.023170758

Sheet Figure 4c,f
A1: Chloramphenicol treatment | G1: Tetracycline treatment
A3: Treatment group | B3: CO-EVO (-AA) | C3: CO-AUX (-AA) | D3: CO-EVO (+AA) | E3: CO-AUX (+AA) | G3: Treatment group | H3: CO-EVO (-AA) | I3: CO-AUX (-AA) | J3: CO-EVO (+AA) | K3: CO-AUX (+AA)
A4: 1 | B4: 0.11732143 | C4: 0.11079375 | D4: 0.14518571 | E4: 0.16086875 | G4: 1 | H4: 0.12207656 | I4: 0.08840625 | J4: 0.15717031 | K4: 0.16968281
A5: 2 | B5: 0.0933 | C5: 0.087559375 | D5: 0.12988571 | E5: 0.14175469 | G5: 2 | H5: 0.09714375 | I5: 0.070051562 | J5: 0.13355625 | K5: 0.15188281
A6: 3 | B6: 0.095471429 | C6: 0.12601719 | D6: 0.12862857 | E6: 0.17070156 | G6: 3 | H6: 0.056389062 | I6: 0.088970312 | J6: 0.144375 | K6: 0.17250313
A7: 4 | B7: 0.093964286 | C7: 0.088759375 | D7: 0.12352857 | E7: 0.15389375 | G7: 4 | H7: 0.037857812 | I7: 0.075678125 | J7: 0.13128906 | K7: 0.15450312
A8: 5 | B8: 0.11331429 | C8: 0.12247031 | D8: 0.17265 | E8: 0.199175 | G8: 5 | H8: 0.0950625 | I8: 0.090992187 | J8: 0.1732875 | K8: 0.17060312
A9: 6 | B9: 0.09695 | C9: 0.085801562 | D9: 0.15375 | E9: 0.17475781 | G9: 6 | H9: 0.07220625 | I9: 0.077601562 | J9: 0.1439875 | K9: 0.16388906
A10: 7 | B10: 0.10725714 | C10: 0.11987969 | D10: 0.18835 | E10: 0.17838906 | G10: 7 | H10: 0.11299531 | I10: 0.090876562 | J10: 0.1531875 | K10: 0.16938906
A11: 8 | B11: 0.090157143 | C11: 0.072395313 | D11: 0.16549286 | E11: 0.15968281 | G11: 8 | H11: 0.088459375 | I11: 0.074654687 | J11: 0.1410875 | K11: 0.17120313
A12: 9 | B12: 0.16430714 | C12: 0.13173437 | D12: 0.19055 | E12: 0.19752344 | G12: 9 | H12: 0.099879687 | I12: 0.092854688 | J12: 0.15278906 | K12: 0.17798281
A13: 10 | B13: 0.13894286 | C13: 0.09348125 | D13: 0.16912857 | E13: 0.15126719 | G13: 10 | H13: 0.074067188 | I13: 0.077817187 | J13: 0.13748281 | K13: 0.16678281
A14: 11 | B14: 0.10562143 | C14: 0.15609062 | D14: 0.13995 | E14: 0.20408906 | G14: 11 | H14: 0.11278594 | I14: 0.097239062 | J14: 0.15068281 | K14: 0.17508281
A15: 12 | B15: 0.095092857 | C15: 0.12475938 | D15: 0.12639286 | E15: 0.16520313 | G15: 12 | H15: 0.084873437 | I15: 0.0784875 | J15: 0.13938281 | K15: 0.15666562
... A19: 16 | B19: 0.077135714 | C19: 0.094676562 | D19: 0.14336429 | E19: 0.1581875 | G19: 16 | H19: 0.094757812 | I19: 0.085901563 | J19: 0.1642875 | K19: 0.16070313

Sheet Figure 5
A1: Chloramphenicol treatment | U1: Tetracycline treatment
A3: Coculture plates | U3: Coculture plates
A4: Time point | B4: 1 | C4: 2 | D4: 3 | E4: 4 | F4: 5 | G4: 6 | H4: 7 | I4: 8 | J4: 9 | K4: 10 | L4: 11 | M4: 12 | N4: 13 | O4: 14 | P4: 15 | Q4: Number of tested colonies | R4: per strain | S4: [%] | U4: Time point | V4: 1 | W4: 2 | X4: 3 | Y4: 4 | Z4: 5 | AA4: 6 | AB4: 7 | AC4: 8 | AD4: 9 | AE4: 10 | AF4: 11 | AG4: 12 | AH4: 13 | AI4: 14 | AJ4: 15 | AK4: Number of tested colonies | AL4: per strain | AM4: [%]
A5: TRP-CO (non-revertants) | B5: 0 | C5: 0 | D5: 12 | E5: 0 | F5: 0 | G5: 12 | H5: 0 | I5: 0 | J5: 0 | K5: 11 | L5: 12 | M5: 2 | N5: 0 | O5: 12 | P5: 12 | Q5: =SUM(B5:P5) -> 73 | R5: =Q5+Q6 -> 73 | S5: =Q5/$R$5*100 -> 100 | U5: TRP-CO (non-revertants) | V5: 0 | W5: 0 | X5: 0 | Y5: 0 | Z5: 0 | AA5: 0 | AB5: 0 | AC5: 0 | AD5: 0 | AE5: 0 | AF5: 0 | AG5: 0 | AH5: 0 | AI5: 0 | AJ5: 0 | AK5: =SUM(V5:AJ5) -> 0 | AL5: =AK5+AK6 -> 0 | AM5: 0
A6: TRP-CO (revertants) | B6: 0 | C6: 0 | D6: 0 | E6: 0 | F6: 0 | G6: 0 | H6: 0 | I6: 0 | J6: 0 | K6: 0 | L6: 0 | M6: 0 | N6: 0 | O6: 0 | P6: 0 | Q6: =SUM(B6:P6) -> 0 | S6: =Q6/$R$5*100 -> 0 | U6: TRP-CO (revertants) | V6: 0 | W6: 0 | X6: 0 | Y6: 0 | Z6: 0 | AA6: 0 | AB6: 0 | AC6: 0 | AD6: 0 | AE6: 0 | AF6: 0 | AG6: 0 | AH6: 0 | AI6: 0 | AJ6: 0 | AK6: =SUM(V6:AJ6) -> 0 | AM6: 0
A7: TYR-CO (non-revertants) | B7: 5 | C7: 7 | D7: 0 | E7: 16 | F7: 0 | G7: 4 | H7: 2 | I7: 0 | J7: 5 | K7: 1 | L7: 0 | M7: 0 | N7: 3 | O7: 4 | P7: 6 | Q7: =SUM(B7:P7) -> 53 | R7: =Q7+Q8 -> 285 | S7: =Q7/$R$7*100 -> 18.596491 | U7: TYR-CO (non-revertants) | V7: 0 | W7: 0 | X7: 3 | Y7: 0 | Z7: 0 | AA7: 4 | AB7: 0 | AC7: 0 | AD7: 0 | AE7: 24 | AF7: 0 | AG7: 6 | AH7: 6 | AI7: 3 | AJ7: 3 | AK7: =SUM(V7:AJ7) -> 49 | AL7: =AK7+AK8 -> 342 | AM7: =AK7/$AL$7*100 -> 14.327485
A8: TYR-CO (revertants) | B8: 19 | C8: 17 | D8: 12 | E8: 8 | F8: 24 | G8: 8 | H8: 22 | I8: 22 | J8: 19 | K8: 12 | L8: 12 | M8: 22 | N8: 21 | O8: 8 | P8: 6 | Q8: =SUM(B8:P8) -> 232 | S8: =Q8/$R$7*100 -> 81.403509 | U8: TYR-CO (revertants) | V8: 24 | W8: 24 | X8: 21 | Y8: 24 | Z8: 24 | AA8: 2 | AB8: 24 | AC8: 24 | AD8: 24 | AE8: 0 | AF8: 24 | AG8: 18 | AH8: 18 | AI8: 21 | AJ8: 21 | AK8: =SUM(V8:AJ8) -> 293 | AM8: =AK8/$AL$7*100 -> 85.672515
A11: Monoculture plates | U11: Monoculture plates
A12: Time point | B12: 1 | C12: 2 | D12: 3 | E12: 4 | F12: 5 | G12: 6 | H12: 7 | I12: 8 | J12: 9 | K12: 10 | L12: 11 | M12: 12 | N12: 13 | O12: 14 | P12: 15 | Q12: Number of tested colonies | R12: per strain | S12: [%] | U12: Time point | V12: 1 | W12: 2 | X12: 3 | Y12: 4 | Z12: 5 | AA12: 6 | AB12: 7 | AC12: 8 | AD12: 9 | AE12: 10 | AF12: 11 | AG12: 12 | AH12: 13 | AI12: 14 | AJ12: 15 | AK12: Number of tested colonies | AL12: per strain | AM12: [%]
A13: TRP (non-revertants) | B13: 16 | C13: 16 | D13: 16 | E13: 16 | F13: 16 | G13: 16 | H13: 16 | I13: 16 | J13: 16 | K13: 16 | L13: 8 | M13: 16 | N13: 16 | O13: 16 | P13: 11 | Q13: =SUM(B13:P13) -> 227 | R13: =Q13+Q14 -> 227 | S13: =Q13/$R$13*100 -> 100 | U13: TRP (non-revertants) | V13: 16 | W13: 16 | X13: 16 | Y13: 16 | Z13: 16 | AA13: 16 | AB13: 16 | AC13: 16 | AD13: 16 | AE13: 16 | AF13: 16 | AG13: 16 | AH13: 16 | AI13: 16 | AJ13: 16 | AK13: =SUM(V13:AJ13) -> 240 | AL13: =AK13+AK14 -> 240 | AM13: =AK13/$AL$13*100 -> 100
A14: TRP (revertants) | B14: 0 | C14: 0 | D14: 0 | E14: 0 | F14: 0 | G14: 0 | H14: 0 | I14: 0 | J14: 0 | K14: 0 | L14: 0 | M14: 0 | N14: 0 | O14: 0 | P14: 0 | Q14: =SUM(B14:P14) -> 0 | S14: =Q14/$R$13*100 -> 0 | U14: TRP (revertants) | V14: 0 | W14: 0 | X14: 0 | Y14: 0 | Z14: 0 | AA14: 0 | AB14: 0 | AC14: 0 | AD14: 0 | AE14: 0 | AF14: 0 | AG14: 0 | AH14: 0 | AI14: 0 | AJ14: 0 | AK14: =SUM(V14:AJ14) -> 0 | AM14: =AK14/$AL$13*100 -> 0
A17: Monoculture plates | U17: Monoculture plates
A18: Time point | B18: 1 | C18: 2 | D18: 3 | E18: 4 | F18: 5 | G18: 6 | H18: 7 | I18: 8 | J18: 9 | K18: 10 | L18: 11 | M18: 12 | N18: 13 | O18: 14 | P18: 15 | Q18: Number of tested colonies | R18: per strain | S18: [%] | U18: Time point | V18: 1 | W18: 2 | X18: 3 | Y18: 4 | Z18: 5 | AA18: 6 | AB18: 7 | AC18: 8 | AD18: 9 | AE18: 10 | AF18: 11 | AG18: 12 | AH18: 13 | AI18: 14 | AJ18: 15 | AK18: Number of tested colonies | AL18: per strain | AM18: [%]
A19: TYR (non-revertants) | B19: 16 | C19: 16 | D19: 16 | E19: 16 | F19: 16 | G19: 6 | H19: 16 | I19: 16 | J19: 16 | K19: 16 | L19: 16 | M19: 16 | N19: 16 | O19: 16 | P19: 16 | Q19: =SUM(B19:P19) -> 230 | R19: =Q19+Q20 -> 240 | S19: =Q19/$R$19*100 -> 95.833333 | U19: TYR (non-revertants) | V19: 16 | W19: 16 | X19: 16 | Y19: 16 | Z19: 16 | AA19: 16 | AB19: 16 | AC19: 16 | AD19: 16 | AE19: 16 | AF19: 16 | AG19: 16 | AH19: 16 | AI19: 16 | AJ19: 16 | AK19: =SUM(V19:AJ19) -> 240 | AL19: =AK19+AK20 -> 240 | AM19: =AK19/$AL$19*100 -> 100
A20: TYR (revertants) | B20: 0 | C20: 0 | D20: 0 | E20: 0 | F20: 0 | G20: 10 | H20: 0 | I20: 0 | J20: 0 | K20: 0 | L20: 0 | M20: 0 | N20: 0 | O20: 0 | P20: 0 | Q20: =SUM(B20:P20) -> 10 | S20: =Q20/$R$19*100 -> 4.1666667 | U20: TYR (revertants) | V20: 0 | W20: 0 | X20: 0 | Y20: 0 | Z20: 0 | AA20: 0 | AB20: 0 | AC20: 0 | AD20: 0 | AE20: 0 | AF20: 0 | AG20: 0 | AH20: 0 | AI20: 0 | AJ20: 0 | AK20: =SUM(V20:AJ20) -> 0 | AM20: =AK20/$AL$19*100 -> 0

Sheet Supplementary Figure 1
A1: Test group - CO (-AA) | P1: Test group - CO (+AA)
A4: Time point | C4: 0 | D4: 1 | E4: 2 | F4: 3 | G4: 4 | H4: 5 | I4: 6 | J4: 7 | K4: 8 | L4: 9 | M4: 10 | N4: 11 | P4: Time point | R4: 0 | S4: 1 | T4: 2 | U4: 3 | V4: 4 | W4: 5 | X4: 6 | Y4: 7 | Z4: 8 | AA4: 9 | AB4: 10 | AC4: 11
A5: Time in hours | C5: 0h | D5: 72h | E5: 144h | F5: 216h | G5: 288h | H5: 360h | I5: 432h | J5: 504h | K5: 576h | L5: 648h | M5: 720h | N5: 792h | P5: Time in hours | R5: 0h | S5: 72h | T5: 144h | U5: 216h | V5: 288h | W5: 360h | X5: 432h | Y5: 504h | Z5: 576h | AA5: 648h | AB5: 720h | AC5: 792h
A6: Strain within coculture | C6: TRP | D6: TRP | E6: TRP | F6: TRP | G6: TRP | H6: TRP | I6: TRP | J6: TRP | K6: TRP | L6: TRP | M6: TRP | N6: TRP | P6: Strain within coculture | R6: TRP | S6: TRP | T6: TRP | U6: TRP | V6: TRP | W6: TRP | X6: TRP | Y6: TRP | Z6: TRP | AA6: TRP | AB6: TRP | AC6: TRP
A7: CFU/ml | B7: 1 | C7: 27000000 | D7: 300000000 | E7: 20000000 | F7: 160000000 | G7: 280000000 | H7: 260000000 | I7: 230000000 | J7: 190000000 | K7: 420000000 | L7: 350000000 | M7: 620000000 | N7: 330000000 | P7: CFU/ml | Q7: 1 | R7: 30000000 | S7: 220000000 | T7: 370000000 | U7: 50000000 | V7: 36000000 | W7: 17000000 | X7: 10000000 | Y7: 3100000 | Z7: 2000000 | AA7: 740000 | AB7: 690000 | AC7: 400000
B8: 2 | C8: 21000000 | D8: 270000000 | E8: 10000000 | F8: 140000000 | G8: 280000000 | H8: 190000000 | I8: 230000000 | J8: 310000000 | K8: 390000000 | L8: 260000000 | M8: 390000000 | N8: 340000000 | Q8: 2 | R8: 27000000 | S8: 150000000 | T8: 430000000 | U8: 50000000 | V8: 28000000 | W8: 16000000 | X8: 5000000 | Y8: 3800000 | Z8: 1900000 | AA8: 910000 | AB8: 750000 | AC8: 400000
B9: 3 | C9: 26000000 | D9: 390000000 | E9: 280000000 | F9: 420000000 | G9: 370000000 | H9: 380000000 | I9: 430000000 | J9: 430000000 | K9: 570000000 | L9: 560000000 | M9: 650000000 | N9: 640000000 | Q9: 3 | R9: 30000000 | S9: 420000000 | T9: 350000000 | U9: 60000000 | V9: 51000000 | W9: 21000000 | X9: 9000000 | Y9: 4500000 | Z9: 2700000 | AA9: 930000 | AB9: 820000 | AC9: 680000
B10: 4 | C10: 28000000 | D10: 260000000 | E10: 10000000 | F10: 190000000 | G10: 240000000 | H10: 590000000 | I10: 270000000 | J10: 200000000 | K10: 320000000 | L10: 260000000 | M10: 440000000 | N10: 250000000 | Q10: 4 | R10: 28000000 | S10: 150000000 | T10: 420000000 | U10: 80000000 | V10: 26000000 | W10: 24000000 | X10: 14000000 | Y10: 3600000 | Z10: 2200000 | AA10: 990000 | AB10: 630000 | AC10: 440000
A12: Time point | C12: 0 | D12: 1 | E12: 2 | F12: 3 | G12: 4 | H12: 5 | I12: 6 | J12: 7 | K12: 8 | L12: 9 | M12: 10 | N12: 11 | P12: Time point | R12: 0 | S12: 1 | T12: 2 | U12: 3 | V12: 4 | W12: 5 | X12: 6 | Y12: 7 | Z12: 8 | AA12: 9 | AB12: 10 | AC12: 11
A13: Time in hours | C13: 0h | D13: 72h | E13: 144h | F13: 216h | G13: 288h | H13: 360h | I13: 432h | J13: 504h | K13: 576h | L13: 648h | M13: 720h | N13: 792h | P13: Time in hours | R13: 0h | S13: 72h | T13: 144h | U13: 216h | V13: 288h | W13: 360h | X13: 432h | Y13: 504h | Z13: 576h | AA13: 648h | AB13: 720h | AC13: 792h
A14: Strain within coculture | C14: TYR | D14: TYR | E14: TYR | F14: TYR | G14: TYR | H14: TYR | I14: TYR | J14: TYR | K14: TYR | L14: TYR | M14: TYR | N14: TYR | P14: Strain within coculture | R14: TYR | S14: TYR | T14: TYR | U14: TYR | V14: TYR | W14: TYR | X14: TYR | Y14: TYR | Z14: TYR | AA14: TYR | AB14: TYR | AC14: TYR
A15: CFU/ml | B15: 1 | C15: 25000000 | D15: 31000000 | E15: 150000000 | F15: 50000000 | G15: 54000000 | H15: 50000000 | I15: 44000000 | J15: 42000000 | K15: 78000000 | L15: 105000000 | M15: 310000000 | N15: 101000000 | P15: CFU/ml | Q15: 1 | R15: 24000000 | S15: 380000000 | T15: 90000000 | U15: 420000000 | V15: 760000000 | W15: 400000000 | X15: 600000000 | Y15: 470000000 | Z15: 650000000 | AA15: 510000000 | AB15: 790000000 | AC15: 600000000
B16: 2 | C16: 18000000 | D16: 37000000 | E16: 170000000 | F16: 30000000 | G16: 46000000 | H16: 44000000 | I16: 45000000 | J16: 47000000 | K16: 71000000 | L16: 89000000 | M16: 200000000 | N16: 110000000 | Q16: 2 | R16: 21000000 | S16: 380000000 | T16: 90000000 | U16: 390000000 | V16: 640000000 | W16: 490000000 | X16: 510000000 | Y16: 460000000 | Z16: 610000000 | AA16: 550000000 | AB16: 840000000 | AC16: 740000000
B17: 3 | C17: 24000000 | D17: 37000000 | E17: 390000000 | F17: 470000000 | G17: x | H17: x | I17: x | J17: x | K17: x | L17: x | M17: 520000000 | N17: x | Q17: 3 | R17: 21000000 | S17: 320000000 | T17: 150000000 | U17: 320000000 | V17: 680000000 | W17: 470000000 | X17: 660000000 | Y17: 550000000 | Z17: 480000000 | AA17: 560000000 | AB17: 840000000 | AC17: 670000000
B18: 4 | C18: 25000000 | D18: 34000000 | E18: 100000000 | F18: 20000000 | G18: 46000000 | H18: 43000000 | I18: 37000000 | J18: 31000000 | K18: 53000000 | L18: 69000000 | M18: 420000000 | N18: 61000000 | Q18: 4 | R18: 21000000 | S18: 430000000 | T18: 80000000 | U18: 450000000 | V18: 690000000 | W18: 430000000 | X18: 670000000 | Y18: 490000000 | Z18: 720000000 | AA18: 590000000 | AB18: 800000000 | AC18: 620000000
A22: Time point | C22: 0 | D22: 1 | E22: 2 | F22: 3 | G22: 4 | H22: 5 | I22: 6 | J22: 7 | K22: 8 | L22: 9 | M22: 10 | N22: 11 | P22: Time point | R22: 0 | S22: 1 | T22: 2 | U22: 3 | V22: 4 | W22: 5 | X22: 6 | Y22: 7 | Z22: 8 | AA22: 9 | AB22: 10 | AC22: 11
A23: Time in hours | C23: 0h | D23: 144h | E23: 288h | F23: 432h | G23: 576h | H23: 720h | P23: Time in hours | R23: 0h | S23: 72h | T23: 144h | U23: 216h | V23: 288h | W23: 360h | X23: 432h | Y23: 504h | Z23: 576h | AA23: 648h | AB23: 720h | AC23: 792h
A24: Strain within coculture | C24: TRP | D24: TRP | E24: TRP | F24: TRP | G24: TRP | H24: TRP | I24: TRP | J24: TRP | K24: TRP | L24: TRP | M24: TRP | N24: TRP | P24: Strain within coculture | R24: TRP | S24: TRP | T24: TRP | U24: TRP | V24: TRP | W24: TRP | X24: TRP | Y24: TRP | Z24: TRP | AA24: TRP | AB24: TRP | AC24: TRP
A25: log (CFU/ml) | B25: 1 | C25: =LOG(C7,10) -> 7.4313638 | D25: =LOG(D7,10) -> 8.4771213 | E25: =LOG(E7,10) -> 7.30103 | F25: =LOG(F7,10) -> 8.20412 | G25: =LOG(G7,10) -> 8.447158 | H25: =LOG(H7,10) -> 8.4149733 | I25: =LOG(I7,10) -> 8.3617278 | J25: =LOG(J7,10) -> 8.2787536 | ... N25: =LOG(N7,10) -> 8.5185139 | P25: log (CFU/ml) | Q25: 1 | R25: =LOG(R7,10) -> 7.4771213 | S25: =LOG(S7,10) -> 8.3424227 | T25: =LOG(T7,10) -> 8.5682017 | U25: =LOG(U7,10) -> 7.69897 | V25: =LOG(V7,10) -> 7.5563025 | W25: =LOG(W7,10) -> 7.2304489 | X25: =LOG(X7,10) -> 7 | Y25: =LOG(Y7,10) -> 6.4913617 | ... AC25: =LOG(AC7,10) -> 5.60206
B26: 2 | C26: =LOG(C8,10) -> 7.3222193 | D26: =LOG(D8,10) -> 8.4313638 | E26: =LOG(E8,10) -> 7 | F26: =LOG(F8,10) -> 8.146128 | G26: =LOG(G8,10) -> 8.447158 | H26: =LOG(H8,10) -> 8.2787536 | I26: =LOG(I8,10) -> 8.3617278 | J26: =LOG(J8,10) -> 8.4913617 | ... N26: =LOG(N8,10) -> 8.5314789 | Q26: 2 | R26: =LOG(R8,10) -> 7.4313638 | S26: =LOG(S8,10) -> 8.1760913 | T26: =LOG(T8,10) -> 8.6334685 | U26: =LOG(U8,10) -> 7.69897 | V26: =LOG(V8,10) -> 7.447158 | W26: =LOG(W8,10) -> 7.20412 | X26: =LOG(X8,10) -> 6.69897 | Y26: =LOG(Y8,10) -> 6.5797836 | ... AC26: =LOG(AC8,10) -> 5.60206
B27: 3 | C27: =LOG(C9,10) -> 7.4149733 | D27: =LOG(D9,10) -> 8.5910646 | E27: =LOG(E9,10) -> 8.447158 | F27: =LOG(F9,10) -> 8.6232493 | G27: =LOG(G9,10) -> 8.5682017 | H27: =LOG(H9,10) -> 8.5797836 | I27: =LOG(I9,10) -> 8.6334685 | J27: =LOG(J9,10) -> 8.6334685 | ... N27: =LOG(N9,10) -> 8.80618 | Q27: 3 | R27: =LOG(R9,10) -> 7.4771213 | S27: =LOG(S9,10) -> 8.6232493 | T27: =LOG(T9,10) -> 8.544068 | U27: =LOG(U9,10) -> 7.7781513 | V27: =LOG(V9,10) -> 7.7075702 | W27: =LOG(W9,10) -> 7.3222193 | X27: =LOG(X9,10) -> 6.9542425 | Y27: =LOG(Y9,10) -> 6.6532125 | ... AC27: =LOG(AC9,10) -> 5.8325089
B28: 4 | C28: =LOG(C10,10) -> 7.447158 | D28: =LOG(D10,10) -> 8.4149733 | E28: =LOG(E10,10) -> 7 | F28: =LOG(F10,10) -> 8.2787536 | G28: =LOG(G10,10) -> 8.3802112 | H28: =LOG(H10,10) -> 8.770852 | I28: =LOG(I10,10) -> 8.4313638 | J28: =LOG(J10,10) -> 8.30103 | ... N28: =LOG(N10,10) -> 8.39794 | Q28: 4 | R28: =LOG(R10,10) -> 7.447158 | S28: =LOG(S10,10) -> 8.1760913 | T28: =LOG(T10,10) -> 8.6232493 | U28: =LOG(U10,10) -> 7.90309 | V28: =LOG(V10,10) -> 7.4149733 | W28: =LOG(W10,10) -> 7.3802112 | X28: =LOG(X10,10) -> 7.146128 | Y28: =LOG(Y10,10) -> 6.5563025 | ... AC28: =LOG(AC10,10) -> 5.6434527
A30: Time point | C30: 0 | D30: 1 | E30: 2 | F30: 3 | G30: 4 | H30: 5 | I30: 6 | J30: 7 | K30: 8 | L30: 9 | M30: 10 | N30: 11 | P30: Time point | R30: 0 | S30: 1 | T30: 2 | U30: 3 | V30: 4 | W30: 5 | X30: 6 | Y30: 7 | Z30: 8 | AA30: 9 | AB30: 10 | AC30: 11
A31: Time in hours | C31: 72h | D31: 216h | E31: 360h | F31: 504h | G31: 648h | H31: 792h | P31: Time in hours | R31: 0h | S31: 72h | T31: 144h | U31: 216h | V31: 288h | W31: 360h | X31: 432h | Y31: 504h | Z31: 576h | AA31: 648h | AB31: 720h | AC31: 792h
A32: Strain within coculture | C32: TYR | D32: TYR | E32: TYR | F32: TYR | G32: TYR | H32: TYR | I32: TYR | J32: TYR | K32: TYR | L32: TYR | M32: TYR | N32: TYR | P32: Strain within coculture | R32: TYR | S32: TYR | T32: TYR | U32: TYR | V32: TYR | W32: TYR | X32: TYR | Y32: TYR | Z32: TYR | AA32: TYR | AB32: TYR | AC32: TYR
A33: log (CFU/ml) | B33: 1 | C33: =LOG(C15,10) -> 7.39794 | D33: =LOG(D15,10) -> 7.4913617 | E33: =LOG(E15,10) -> 8.1760913 | F33: =LOG(F15,10) -> 7.69897 | G33: =LOG(G15,10) -> 7.7323938 | H33: =LOG(H15,10) -> 7.69897 | I33: =LOG(I15,10) -> 7.6434527 | J33: =LOG(J15,10) -> 7.6232493 | ... N33: =LOG(N15,10) -> 8.0043214 | P33: log (CFU/ml) | Q33: 1 | R33: =LOG(R15,10) -> 7.3802112 | S33: =LOG(S15,10) -> 8.5797836 | T33: =LOG(T15,10) -> 7.9542425 | U33: =LOG(U15,10) -> 8.6232493 | V33: =LOG(V15,10) -> 8.8808136 | W33: =LOG(W15,10) -> 8.60206 | X33: =LOG(X15,10) -> 8.7781513 | Y33: =LOG(Y15,10) -> 8.6720979 | ... AC33: =LOG(AC15,10) -> 8.7781513
B34: 2 | C34: =LOG(C16,10) -> 7.2552725 | D34: =LOG(D16,10) -> 7.5682017 | E34: =LOG(E16,10) -> 8.2304489 | F34: =LOG(F16,10) -> 7.4771213 | G34: =LOG(G16,10) -> 7.6627578 | H34: =LOG(H16,10) -> 7.6434527 | I34: =LOG(I16,10) -> 7.6532125 | J34: =LOG(J16,10) -> 7.6720979 | ... N34: =LOG(N16,10) -> 8.0413927 | Q34: 2 | R34: =LOG(R16,10) -> 7.3222193 | S34: =LOG(S16,10) -> 8.5797836 | T34: =LOG(T16,10) -> 7.9542425 | U34: =LOG(U16,10) -> 8.5910646 | V34: =LOG(V16,10) -> 8.80618 | W34: =LOG(W16,10) -> 8.6901961 | X34: =LOG(X16,10) -> 8.7075702 | Y34: =LOG(Y16,10) -> 8.6627578 | ... AC34: =LOG(AC16,10) -> 8.8692317
B35: 3 | C35: =LOG(C17,10) -> 7.3802112 | D35: =LOG(D17,10) -> 7.5682017 | E35: =LOG(E17,10) -> 8.5910646 | F35: =LOG(F17,10) -> 8.6720979 | G35: x | H35: x | I35: x | J35: x | K35: x | L35: x | M35: =LOG(M17,10) -> 8.7160033 | N35: x | Q35: 3 | R35: =LOG(R17,10) -> 7.3222193 | S35: =LOG(S17,10) -> 8.50515 | T35: =LOG(T17,10) -> 8.1760913 | U35: =LOG(U17,10) -> 8.50515 | V35: =LOG(V17,10) -> 8.8325089 | W35: =LOG(W17,10) -> 8.6720979 | X35: =LOG(X17,10) -> 8.8195439 | Y35: =LOG(Y17,10) -> 8.7403627 | ... AC35: =LOG(AC17,10) -> 8.8260748
B36: 4 | C36: =LOG(C18,10) -> 7.39794 | D36: =LOG(D18,10) -> 7.5314789 | E36: =LOG(E18,10) -> 8 | F36: =LOG(F18,10) -> 7.30103 | G36: =LOG(G18,10) -> 7.6627578 | H36: =LOG(H18,10) -> 7.6334685 | I36: =LOG(I18,10) -> 7.5682017 | J36: =LOG(J18,10) -> 7.4913617 | ... N36: =LOG(N18,10) -> 7.7853298 | Q36: 4 | R36: =LOG(R18,10) -> 7.3222193 | S36: =LOG(S18,10) -> 8.6334685 | T36: =LOG(T18,10) -> 7.90309 | U36: =LOG(U18,10) -> 8.6532125 | V36: =LOG(V18,10) -> 8.8388491 | W36: =LOG(W18,10) -> 8.6334685 | X36: =LOG(X18,10) -> 8.8260748 | Y36: =LOG(Y18,10) -> 8.6901961 | ... AC36: =LOG(AC18,10) -> 8.7923917
A39: Due to technical issues data from replicate 3 of the strain CO-TYR (-AA) could not be used in Supplemental Fig. 1 (marked red).

Sheet Supplementary Figure 2
A1: CFU / ml | R1: log (CFU / ml) | AI1: Growth rate
AI3: CO (-AA)
A4: Test group | B4: CO (-AA) | R4: Test group | S4: CO (-AA) | AI4: Interval | AJ4: 3 | AK4: 3 | AL4: 3 | AM4: 3 | AN4: 3 | AO4: 3 | AP4: 3 | AQ4: 3 | AR4: 6 | AS4: 12 | AT4: 6 | AU4: 6 | AV4: 12 | AW4: 6
A5: Hours | B5: 0 | C5: 3 | D5: 6 | E5: 9 | F5: 12 | G5: 15 | H5: 18 | I5: 21 | J5: 24 | K5: 30 | L5: 42 | M5: 48 | N5: 54 | O5: 66 | P5: 72 | R5: Hours | S5: 0 | T5: 3 | U5: 6 | V5: 9 | W5: 12 | X5: 15 | Y5: 18 | Z5: 21 | AA5: 24 | AB5: 30 | AC5: 42 | AD5: 48 | AE5: 54 | AF5: 66 | AG5: 72 | AI5: Hours | AJ5: 0 to 3 | AK5: 3 to 6 | AL5: 6 to 9 | AM5: 9 to 12 | AN5: 12 to 15 | AO5: 15 to 18 | AP5: 18 to 21 | AQ5: 21 to 24 | AR5: 24 to 30 | AS5: 30 to 42 | AT5: 42 to 48 | AU5: 48 to 54 | AV5: 54 to 66 | AW5: 66 to 72
A6: Time point | B6: t0 | C6: t1 | D6: t2 | E6: t3 | F6: t4 | G6: t5 | H6: t6 | I6: t7 | J6: t8 | K6: t9 | L6: t10 | M6: t11 | N6: t12 | O6: t13 | P6: t14 | R6: Time point | S6: t0 | T6: t1 | U6: t2 | V6: t3 | W6: t4 | X6: t5 | Y6: t6 | Z6: t7 | AA6: t8 | AB6: t9 | AC6: t10 | AD6: t11 | AE6: t12 | AF6: t13 | AG6: t14 | AI6: Time point | AJ6: t0 to t1 | AK6: t1 to t2 | AL6: t2 to t3 | AM6: t3 to t4 | AN6: t4 to t5 | AO6: t5 to t6 | AP6: t6 to t7 | AQ6: t7 to t8 | AR6: t8 to t9 | AS6: t9 to t10 | AT6: t10 to t11 | AU6: t11 to t12 | AV6: t12 to t13 | AW6: t13 to t14 | AY6: CO (-AA) | AZ6: MAX - Growth rate
A7: 1 | B7: 2933333.3 | C7: 3600000 | D7: 3000000 | E7: 3533333.3 | F7: 4466666.7 | G7: 4066666.7 | H7: 5666666.7 | I7: 6866666.7 | J7: 6733333.3 | K7: 11933333 | L7: 42666667 | M7: 48666667 | N7: 36666667 | O7: 36000000 | P7: 36666667 | R7: 1 | S7: =LOG('Supplementary Figure 2'!B7,10) -> 6.4673614 | T7: =LOG('Supplementary Figure 2'!C7,10) -> 6.5563025 | U7: =LOG('Supplementary Figure 2'!D7,10) -> 6.4771213 | V7: =LOG('Supplementary Figure 2'!E7,10) -> 6.5481846 | W7: =LOG('Supplementary Figure 2'!F7,10) -> 6.6499835 | X7: =LOG('Supplementary Figure 2'!G7,10) -> 6.6092386 | Y7: =LOG('Supplementary Figure 2'!H7,10) -> 6.7533277 | Z7: =LOG('Supplementary Figure 2'!I7,10) -> 6.836746 | ... AG7: =LOG('Supplementary Figure 2'!P7,10) -> 7.5642714 | AI7: 1 | AJ7: =(LN(T7/S7)/AJ$4) -> 0.0045528645 | AK7: =(LN(U7/T7)/AK$4) -> -0.0040502133 | AL7: =(LN(V7/U7)/AL$4) -> 0.0036372306 | AM7: =(LN(W7/V7)/AM$4) -> 0.0051421758 | AN7: =(LN(X7/W7)/AN$4) -> -0.0020486418 | AO7: =(LN(Y7/X7)/AO$4) -> 0.0071889722 | AP7: =(LN(Z7/Y7)/AP$4) -> 0.0040921705 | AQ7: =(LN(AA7/Z7)/AQ$4) -> -0.00041545881 | ... AW7: =(LN(AG7/AF7)/AW$4) -> 0.00017567522 | AY7: 1 | AZ7: 0.0071889722
A8: 2 | B8: 3266666.7 | C8: 2666666.7 | D8: 4133333.3 | E8: 4533333.3 | F8: 4200000 | G8: 4133333.3 | H8: 6066666.7 | I8: 5866666.7 | J8: 6800000 | K8: 12266667 | L8: 36666667 | M8: 38000000 | N8: 41333333 | O8: 44000000 | P8: 35333333 | R8: 2 | S8: =LOG('Supplementary Figure 2'!B8,10) -> 6.5141048 | T8: =LOG('Supplementary Figure 2'!C8,10) -> 6.4259687 | U8: =LOG('Supplementary Figure 2'!D8,10) -> 6.6163004 | V8: =LOG('Supplementary Figure 2'!E8,10) -> 6.6564177 | W8: =LOG('Supplementary Figure 2'!F8,10) -> 6.6232493 | X8: =LOG('Supplementary Figure 2'!G8,10) -> 6.6163004 | Y8: =LOG('Supplementary Figure 2'!H8,10) -> 6.7829501 | Z8: =LOG('Supplementary Figure 2'!I8,10) -> 6.7683914 | ... AG8: =LOG('Supplementary Figure 2'!P8,10) -> 7.5481846 | AI8: 2 | AJ8: =(LN(T8/S8)/AJ$4) -> -0.0045408012 | AK8: =(LN(U8/T8)/AK$4) -> 0.0097296572 | AL8: =(LN(V8/U8)/AL$4) -> 0.0020150279 | AM8: =(LN(W8/V8)/AM$4) -> -0.0016651237 | AN8: =(LN(X8/W8)/AN$4) -> -0.00034990418 | AO8: =(LN(Y8/X8)/AO$4) -> 0.0082919213 | AP8: =(LN(Z8/Y8)/AP$4) -> -0.00071622556 | AQ8: =(LN(AA8/Z8)/AQ$4) -> 0.0031428299 | ... AW8: =(LN(AG8/AF8)/AW$4) -> -0.0020903894 | AY8: 2 | AZ8: 0.0082919213
A9: 3 | B9: 3066666.7 | C9: 4133333.3 | D9: 3800000 | E9: 4866666.7 | F9: 5000000 | G9: 4400000 | H9: 6266666.7 | I9: 7333333.3 | J9: 5800000 | K9: 12600000 | L9: 40666667 | M9: 38000000 | N9: 34666667 | O9: 42000000 | P9: 34666667 | R9: 3 | S9: =LOG('Supplementary Figure 2'!B9,10) -> 6.4866666 | T9: =LOG('Supplementary Figure 2'!C9,10) -> 6.6163004 | U9: =LOG('Supplementary Figure 2'!D9,10) -> 6.5797836 | V9: =LOG('Supplementary Figure 2'!E9,10) -> 6.6872316 | W9: =LOG('Supplementary Figure 2'!F9,10) -> 6.69897 | X9: =LOG('Supplementary Figure 2'!G9,10) -> 6.6434527 | Y9: =LOG('Supplementary Figure 2'!H9,10) -> 6.7970366 | Z9: =LOG('Supplementary Figure 2'!I9,10) -> 6.8653014 | ... AG9: =LOG('Supplementary Figure 2'!P9,10) -> 7.5399121 | AI9: 3 | AJ9: =(LN(T9/S9)/AJ$4) -> 0.0065958643 | AK9: =(LN(U9/T9)/AK$4) -> -0.0018448365 | AL9: =(LN(V9/U9)/AL$4) -> 0.0053993734 | AM9: =(LN(W9/V9)/AM$4) -> 0.0005846023 | AN9: =(LN(X9/W9)/AN$4) -> -0.0027739914 | AO9: =(LN(Y9/X9)/AO$4) -> 0.0076183042 | AP9: =(LN(Z9/Y9)/AP$4) -> 0.0033310745 | AQ9: =(LN(AA9/Z9)/AQ$4) -> -0.0049833616 | ... AW9: =(LN(AG9/AF9)/AW$4) -> -0.0018320288 | AY9: 3 | AZ9: 0.0076183042
A10: 4 | B10: 3133333.3 | C10: 4000000 | D10: 4000000 | E10: 4200000 | F10: 4266666.7 | G10: 4733333.3 | H10: 6000000 | I10: 6666666.7 | J10: 6000000 | K10: 11333333 | L10: 41333333 | M10: 40000000 | N10: 42666667 | O10: 34000000 | P10: 41333333 | R10: 4 | S10: =LOG('Supplementary Figure 2'!B10,10) -> 6.4960066 | T10: =LOG('Supplementary Figure 2'!C10,10) -> 6.60206 | U10: =LOG('Supplementary Figure 2'!D10,10) -> 6.60206 | V10: =LOG('Supplementary Figure 2'!E10,10) -> 6.6232493 | W10: =LOG('Supplementary Figure 2'!F10,10) -> 6.6300887 | X10: =LOG('Supplementary Figure 2'!G10,10) -> 6.6751671 | Y10: =LOG('Supplementary Figure 2'!H10,10) -> 6.7781513 | Z10: =LOG('Supplementary Figure 2'!I10,10) -> 6.8239087 | ... AG10: =LOG('Supplementary Figure 2'!P10,10) -> 7.6163004 | AI10: 4 | AJ10: =(LN(T10/S10)/AJ$4) -> 0.0053980338 | AK10: =(LN(U10/T10)/AK$4) -> 0 | AL10: =(LN(V10/U10)/AL$4) -> 0.0010681196 | AM10: =(LN(W10/V10)/AM$4) -> 0.00034403535 | AN10: =(LN(X10/W10)/AN$4) -> 0.0022586837 | AO10: =(LN(Y10/X10)/AO$4) -> 0.0051033839 | AP10: =(LN(Z10/Y10)/AP$4) -> 0.002242683 | AQ10: =(LN(AA10/Z10)/AQ$4) -> -0.002242683 | ... AW10: =(LN(AG10/AF10)/AW$4) -> 0.001866553 | AY10: 4 | AZ10: 0.0051033839
A11: 5 | B11: 3533333.3 | C11: 4333333.3 | D11: 4266666.7 | E11: 4066666.7 | F11: 3733333.3 | G11: 4266666.7 | H11: 6000000 | I11: 6800000 | J11: 6800000 | K11: 11400000 | L11: 40666667 | M11: 28000000 | N11: 34666667 | O11: 34000000 | P11: 47333333 | R11: 5 | S11: =LOG('Supplementary Figure 2'!B11,10) -> 6.5481846 | T11: =LOG('Supplementary Figure 2'!C11,10) -> 6.6368221 | U11: =LOG('Supplementary Figure 2'!D11,10) -> 6.6300887 | V11: =LOG('Supplementary Figure 2'!E11,10) -> 6.6092386 | W11: =LOG('Supplementary Figure 2'!F11,10) -> 6.5720968 | X11: =LOG('Supplementary Figure 2'!G11,10) -> 6.6300887 | Y11: =LOG('Supplementary Figure 2'!H11,10) -> 6.7781513 | Z11: =LOG('Supplementary Figure 2'!I11,10) -> 6.8325089 | ... AG11: =LOG('Supplementary Figure 2'!P11,10) -> 7.6751671 | AI11: 5 | AJ11: =(LN(T11/S11)/AJ$4) -> 0.0044817989 | AK11: =(LN(U11/T11)/AK$4) -> -0.00033835474 | AL11: =(LN(V11/U11)/AL$4) -> -0.0010499102 | AM11: =(LN(W11/V11)/AM$4) -> -0.00187851 | AN11: =(LN(X11/W11)/AN$4) -> 0.0029284202 | AO11: =(LN(Y11/X11)/AO$4) -> 0.0073620676 | AP11: =(LN(Z11/Y11)/AP$4) -> 0.0026625185 | AQ11: =(LN(AA11/Z11)/AQ$4) -> 0 | ... AW11: =(LN(AG11/AF11)/AW$4) -> 0.003149773 | AY11: 5 | AZ11: 0.0073620676
A12: 6 | B12: 2933333.3 | C12: 3600000 | D12: 4000000 | E12: 3933333.3 | F12: 4000000 | G12: 4200000 | H12: 5800000 | I12: 6800000 | J12: 6466666.7 | K12: 11133333 | L12: 37333333 | M12: 33333333 | N12: 44000000 | O12: 42666667 | P12: 40666667 | R12: 6 | S12: =LOG('Supplementary Figure 2'!B12,10) -> 6.4673614 | T12: =LOG('Supplementary Figure 2'!C12,10) -> 6.5563025 | U12: =LOG('Supplementary Figure 2'!D12,10) -> 6.60206 | V12: =LOG('Supplementary Figure 2'!E12,10) -> 6.5947608 | W12: =LOG('Supplementary Figure 2'!F12,10) -> 6.60206 | X12: =LOG('Supplementary Figure 2'!G12,10) -> 6.6232493 | Y12: =LOG('Supplementary Figure 2'!H12,10) -> 6.763428 | Z12: =LOG('Supplementary Figure 2'!I12,10) -> 6.8325089 | ... AG12: =LOG('Supplementary Figure 2'!P12,10) -> 7.6092386 | AI12: 6 | AJ12: =(LN(T12/S12)/AJ$4) -> 0.0045528645 | AK12: =(LN(U12/T12)/AK$4) -> 0.0023183065 | AL12: =(LN(V12/U12)/AL$4) -> -0.00036873727 | AM12: =(LN(W12/V12)/AM$4) -> 0.00036873727 | AN12: =(LN(X12/W12)/AN$4) -> 0.0010681196 | AO12: =(LN(Y12/X12)/AO$4) -> 0.0069812608 | AP12: =(LN(Z12/Y12)/AP$4) -> 0.0033873607 | AQ12: =(LN(AA12/Z12)/AQ$4) -> -0.0010666351 | ... AW12: =(LN(AG12/AF12)/AW$4) -> -0.0004560602 | AY12: 6 | AZ12: 0.0069812608
A13: 7 | B13: 2733333.3 | C13: 3600000 | D13: 3800000 | E13: 4000000 | F13: 3933333.3 | G13: 4066666.7 | H13: 5733333.3 | I13: 6600000 | J13: 7266666.7 | K13: 12066667 | L13: 32666667 | M13: 36666667 | N13: 36000000 | O13: 33333333 | P13: 40666667 | R13: 7 | S13: =LOG('Supplementary Figure 2'!B13,10) -> 6.4366926 | T13: =LOG('Supplementary Figure 2'!C13,10) -> 6.5563025 | U13: =LOG('Supplementary Figure 2'!D13,10) -> 6.5797836 | V13: =LOG('Supplementary Figure 2'!E13,10) -> 6.60206 | W13: =LOG('Supplementary Figure 2'!F13,10) -> 6.5947608 | X13: =LOG('Supplementary Figure 2'!G13,10) -> 6.6092386 | Y13: =LOG('Supplementary Figure 2'!H13,10) -> 6.7584072 | Z13: =LOG('Supplementary Figure 2'!I13,10) -> 6.8195439 | ... AG13: =LOG('Supplementary Figure 2'!P13,10) -> 7.6092386 | AI13: 7 | AJ13: =(LN(T13/S13)/AJ$4) -> 0.0061373215 | AK13: =(LN(U13/T13)/AK$4) -> 0.0011916853 | AL13: =(LN(V13/U13)/AL$4) -> 0.0011266212 | AM13: =(LN(W13/V13)/AM$4) -> -0.00036873727 | AN13: =(LN(X13/W13)/AN$4) -> 0.00073098202 | AO13: =(LN(Y13/X13)/AO$4) -> 0.0074395951 | AP13: =(LN(Z13/Y13)/AP$4) -> 0.0030017861 | AQ13: =(LN(AA13/Z13)/AQ$4) -> 0.0020364887 | ... AW13: =(LN(AG13/AF13)/AW$4) -> 0.0019023724 | AY13: 7 | AZ13: 0.0074395951
A14: 8 | B14: 3066666.7 | C14: 3933333.3 | D14: 4266666.7 | E14: 4466666.7 | F14: 3933333.3 | G14: 3733333.3 | H14: 5266666.7 | I14: 5800000 | J14: 6933333.3 | K14: 11933333 | L14: 38666667 | M14: 38000000 | N14: 42000000 | O14: 30000000 | P14: 39333333 | R14: 8 | S14: =LOG('Supplementary Figure 2'!B14,10) -> 6.4866666 | T14: =LOG('Supplementary Figure 2'!C14,10) -> 6.5947608 | U14: =LOG('Supplementary Figure 2'!D14,10) -> 6.6300887 | V14: =LOG('Supplementary Figure 2'!E14,10) -> 6.6499835 | W14: =LOG('Supplementary Figure 2'!F14,10) -> 6.5947608 | X14: =LOG('Supplementary Figure 2'!G14,10) -> 6.5720968 | Y14: =LOG('Supplementary Figure 2'!H14,10) -> 6.7215358 | Z14: =LOG('Supplementary Figure 2'!I14,10) -> 6.763428 | ... AG14: =LOG('Supplementary Figure 2'!P14,10) -> 7.5947608 | AI14: 8 | AJ14: =(LN(T14/S14)/AJ$4) -> 0.0055089116 | AK14: =(LN(U14/T14)/AK$4) -> 0.0017808922 | AL14: =(LN(V14/U14)/AL$4) -> 0.00099873169 | AM14: =(LN(W14/V14)/AM$4) -> -0.0027796239 | AN14: =(LN(X14/W14)/AN$4) -> -0.001147528 | AO14: =(LN(Y14/X14)/AO$4) -> 0.0074945835 | AP14: =(LN(Z14/Y14)/AP$4) -> 0.0020710621 | AQ14: =(LN(AA14/Z14)/AQ$4) -> 0.0037985307 | ... AW14: =(LN(AG14/AF14)/AW$4) -> 0.002601796 | AY14: 8 | AZ14: 0.0074945835
AI15: Average | AJ15: =AVERAGE(AJ7:AJ14) -> 0.0040858572 | AK15: =AVERAGE(AK7:AK14) -> 0.0010983921 | AL15: =AVERAGE(AL7:AL14) -> 0.0016033071 | AM15: =AVERAGE(AM7:AM14) -> -3.1555518e-05 | AN15: =AVERAGE(AN7:AN14) -> 8.326751e-05 | AO15: =AVERAGE(AO7:AO14) -> 0.0071850111 | AP15: =AVERAGE(AP7:AP14) -> 0.0025090537 | AQ15: =AVERAGE(AQ7:AQ14) -> 3.3713851e-05 | ... AW15: =AVERAGE(AW7:AW14) -> 0.0006647114 | AY15: MAX - Average | AZ15: 0.0071850111
AI19: CO-TRP (-AA)
A20: Test group | B20: CO-TRP (-AA) | R20: Test group | S20: CO-TRP (-AA) | AI20: Interval | AJ20: 3 | AK20: 3 | AL20: 3 | AM20: 3 | AN20: 3 | AO20: 3 | AP20: 3 | AQ20: 3 | AR20: 6 | AS20: 12 | AT20: 6 | AU20: 6 | AV20: 12 | AW20: 6
A21: Hours | B21: 0 | C21: 3 | D21: 6 | E21: 9 | F21: 12 | G21: 15 | H21: 18 | I21: 21 | J21: 24 | K21: 30 | L21: 42 | M21: 48 | N21: 54 | O21: 66 | P21: 72 | R21: Hours | S21: 0 | T21: 3 | U21: 6 | V21: 9 | W21: 12 | X21: 15 | Y21: 18 | Z21: 21 | AA21: 24 | AB21: 30 | AC21: 42 | AD21: 48 | AE21: 54 | AF21: 66 | AG21: 72 | AI21: Hours | AJ21: 0 to 3 | AK21: 3 to 6 | AL21: 6 to 9 | AM21: 9 to 12 | AN21: 12 to 15 | AO21: 15 to 18 | AP21: 18 to 21 | AQ21: 21 to 24 | AR21: 24 to 30 | AS21: 30 to 42 | AT21: 42 to 48 | AU21: 48 to 54 | AV21: 54 to 66 | AW21: 66 to 72
A22: Time point | B22: t0 | C22: t1 | D22: t2 | E22: t3 | F22: t4 | G22: t5 | H22: t6 | I22: t7 | J22: t8 | K22: t9 | L22: t10 | M22: t11 | N22: t12 | O22: t13 | P22: t14 | R22: Time point | S22: t0 | T22: t1 | U22: t2 | V22: t3 | W22: t4 | X22: t5 | Y22: t6 | Z22: t7 | AA22: t8 | AB22: t9 | AC22: t10 | AD22: t11 | AE22: t12 | AF22: t13 | AG22: t14 | AI22: Time point | AJ22: t0 to t1 | AK22: t1 to t2 | AL22: t2 to t3 | AM22: t3 to t4 | AN22: t4 to t5 | AO22: t5 to t6 | AP22: t6 to t7 | AQ22: t7 to t8 | AR22: t8 to t9 | AS22: t9 to t10 | AT22: t10 to t11 | AU22: t11 to t12 | AV22: t12 to t13 | AW22: t13 to t14 | AY22: CO-TRP (-AA) | AZ22: MAX - Growth rate
A23: 1 | B23: 1533333.3 | C23: 1733333.3 | D23: 1733333.3 | E23: 1800000 | F23: 2866666.7 | G23: 1733333.3 | H23: 2466666.7 | I23: 2933333.3 | J23: 3400000 | K23: 6266666.7 | L23: 24666667 | M23: 26000000 | N23: 16666667 | O23: 17333333 | P23: 18000000 | R23: 1 | S23: =LOG('Supplementary Figure 2'!B23,10) -> 6.1856366 | T23: =LOG('Supplementary Figure 2'!C23,10) -> 6.2388821 | U23: =LOG('Supplementary Figure 2'!D23,10) -> 6.2388821 | V23: =LOG('Supplementary Figure 2'!E23,10) -> 6.2552725 | W23: =LOG('Supplementary Figure 2'!F23,10) -> 6.4573772 | X23: =LOG('Supplementary Figure 2'!G23,10) -> 6.2388821 | Y23: =LOG('Supplementary Figure 2'!H23,10) -> 6.3921105 | Z23: =LOG('Supplementary Figure 2'!I23,10) -> 6.4673614 | ... AG23: =LOG('Supplementary Figure 2'!P23,10) -> 7.2552725 | AI23: 1 | AJ23: =(LN(T23/S23)/AJ$4) -> 0.0028570302 | AK23: =(LN(U23/T23)/AK$4) -> 0 | AL23: =(LN(V23/U23)/AL$4) -> 0.00087456501 | AM23: =(LN(W23/V23)/AM$4) -> 0.010599507 | AN23: =(LN(X23/W23)/AN$4) -> -0.011474072 | AO23: =(LN(Y23/X23)/AO$4) -> 0.0080878254 | AP23: =(LN(Z23/Y23)/AP$4) -> 0.0039012391 | AQ23: =(LN(AA23/Z23)/AQ$4) -> 0.0032883969 | ... AW23: =(LN(AG23/AF23)/AW$4) -> 0.0003769433 | AY23: 1 | AZ23: 0.0066422207
A24: 2 | B24: 1800000 | C24: 1400000 | D24: 2266666.7 | E24: 2400000 | F24: 2066666.7 | G24: 2200000 | H24: 2933333.3 | I24: 2466666.7 | J24: 3266666.7 | K24: 7000000 | L24: 25333333 | M24: 21333333 | N24: 22666667 | O24: 23333333 | P24: 18666667 | R24: 2 | S24: =LOG('Supplementary Figure 2'!B24,10) -> 6.2552725 | T24: =LOG('Supplementary Figure 2'!C24,10) -> 6.146128 | U24: =LOG('Supplementary Figure 2'!D24,10) -> 6.3553877 | V24: =LOG('Supplementary Figure 2'!E24,10) -> 6.3802112 | W24: =LOG('Supplementary Figure 2'!F24,10) -> 6.3152704 | X24: =LOG('Supplementary Figure 2'!G24,10) -> 6.3424227 | Y24: =LOG('Supplementary Figure 2'!H24,10) -> 6.4673614 | Z24: =LOG('Supplementary Figure 2'!I24,10) -> 6.3921105 | ... AG24: =LOG('Supplementary Figure 2'!P24,10) -> 7.2710668 | AI24: 2 | AJ24: =(LN(T24/S24)/AJ$4) -> -0.005867471 | AK24: =(LN(U24/T24)/AK$4) -> 0.011160202 | AL24: =(LN(V24/U24)/AL$4) -> 0.0012994345 | AM24: =(LN(W24/V24)/AM$4) -> -0.0034102092 | AN24: =(LN(X24/W24)/AN$4) -> 0.0014300809 | AO24: =(LN(Y24/X24)/AO$4) -> 0.0065024618 | AP24: =(LN(Z24/Y24)/AP$4) -> -0.0039012391 | AQ24: =(LN(AA24/Z24)/AQ$4) -> 0.0063017694 | ... AW24: =(LN(AG24/AF24)/AW$4) -> -0.0022066885 | AY24: 2 | AZ24: 0.0082604972
A25: 3 | B25: 1600000 | C25: 2533333.3 | D25: 2200000 | E25: 2866666.7 | F25: 2800000 | G25: 2266666.7 | H25: 3266666.7 | I25: 3200000 | J25: 3000000 | K25: 7266666.7 | L25: 23333333 | M25: 20000000 | N25: 18000000 | O25: 20000000 | P25: 18000000 | R25: 3 | S25: =LOG('Supplementary Figure 2'!B25,10) -> 6.20412 | T25: =LOG('Supplementary Figure 2'!C25,10) -> 6.4036923 | U25: =LOG('Supplementary Figure 2'!D25,10) -> 6.3424227 | V25: =LOG('Supplementary Figure 2'!E25,10) -> 6.4573772 | W25: =LOG('Supplementary Figure 2'!F25,10) -> 6.447158 | X25: =LOG('Supplementary Figure 2'!G25,10) -> 6.3553877 | Y25: =LOG('Supplementary Figure 2'!H25,10) -> 6.5141048 | Z25: =LOG('Supplementary Figure 2'!I25,10) -> 6.50515 | ... AG25: =LOG('Supplementary Figure 2'!P25,10) -> 7.2552725 | AI25: 3 | AJ25: =(LN(T25/S25)/AJ$4) -> 0.010553722 | AK25: =(LN(U25/T25)/AK$4) -> -0.0032046433 | AL25: =(LN(V25/U25)/AL$4) -> 0.005987469 | AM25: =(LN(W25/V25)/AM$4) -> -0.00052793674 | AN25: =(LN(X25/W25)/AN$4) -> -0.0047788384 | AO25: =(LN(Y25/X25)/AO$4) -> 0.0082222984 | AP25: =(LN(Z25/Y25)/AP$4) -> -0.00045854361 | AQ25: =(LN(AA25/Z25)/AQ$4) -> -0.0014393356 | ... AW25: =(LN(AG25/AF25)/AW$4) -> -0.0010478311 | AY25: 3 | AZ25: 0.0096043172
A26: 4 | B26: 1666666.7 | C26: 2200000 | D26: 2733333.3 | E26: 2733333.3 | F26: 2866666.7 | G26: 2533333.3 | H26: 3000000 | I26: 3066666.7 | J26: 3066666.7 | K26: 6600000 | L26: 24666667 | M26: 24000000 | N26: 24666667 | O26: 15333333 | P26: 17333333 | R26: 4 | S26: =LOG('Supplementary Figure 2'!B26,10) -> 6.2218487 | T26: =LOG('Supplementary Figure 2'!C26,10) -> 6.3424227 | U26: =LOG('Supplementary Figure 2'!D26,10) -> 6.4366926 | V26: =LOG('Supplementary Figure 2'!E26,10) -> 6.4366926 | W26: =LOG('Supplementary Figure 2'!F26,10) -> 6.4573772 | X26: =LOG('Supplementary Figure 2'!G26,10) -> 6.4036923 | Y26: =LOG('Supplementary Figure 2'!H26,10) -> 6.4771213 | Z26: =LOG('Supplementary Figure 2'!I26,10) -> 6.4866666 | ... AG26: =LOG('Supplementary Figure 2'!P26,10) -> 7.2388821 | AI26: 4 | AJ26: =(LN(T26/S26)/AJ$4) -> 0.0063979109 | AK26: =(LN(U26/T26)/AK$4) -> 0.0049180049 | AL26: =(LN(V26/U26)/AL$4) -> 0 | AM26: =(LN(W26/V26)/AM$4) -> 0.0010694641 | AN26: =(LN(X26/W26)/AN$4) -> -0.0027828256 | AO26: =(LN(Y26/X26)/AO$4) -> 0.0038004697 | AP26: =(LN(Z26/Y26)/AP$4) -> 0.00049087092 | AQ26: =(LN(AA26/Z26)/AQ$4) -> 0 | ... AW26: =(LN(AG26/AF26)/AW$4) -> 0.0012304455 | AY26: 4 | AZ26: 0.0083406374
A27: 5 | B27: 1733333.3 | C27: 2533333.3 | D27: 2533333.3 | E27: 2133333.3 | F27: 2400000 | G27: 2600000 | H27: 2266666.7 | I27: 3333333.3 | J27: 3533333.3 | K27: 6533333.3 | L27: 25333333 | M27: 13333333 | N27: 20666667 | O27: 17333333 | P27: 12666667 | R27: 5 | S27: =LOG('Supplementary Figure 2'!B27,10) -> 6.2388821 | T27: =LOG('Supplementary Figure 2'!C27,10) -> 6.4036923 | U27: =LOG('Supplementary Figure 2'!D27,10) -> 6.4036923 | V27: =LOG('Supplementary Figure 2'!E27,10) -> 6.3290587 | W27: =LOG('Supplementary Figure 2'!F27,10) -> 6.3802112 | X27: =LOG('Supplementary Figure 2'!G27,10) -> 6.4149733 | Y27: =LOG('Supplementary Figure 2'!H27,10) -> 6.3553877 | Z27: =LOG('Supplementary Figure 2'!I27,10) -> 6.5228787 | ... AG27: =LOG('Supplementary Figure 2'!P27,10) -> 7.1026623 | AI27: 5 | AJ27: =(LN(T27/S27)/AJ$4) -> 0.0086912459 | AK27: =(LN(U27/T27)/AK$4) -> 0 | AL27: =(LN(V27/U27)/AL$4) -> -0.0039077427 | AM27: =(LN(W27/V27)/AM$4) -> 0.0026832277 | AN27: =(LN(X27/W27)/AN$4) -> 0.0018112122 | AO27: =(LN(Y27/X27)/AO$4) -> -0.0031106467 | AP27: =(LN(Z27/Y27)/AP$4) -> 0.0086709669 | AQ27: =(LN(AA27/Z27)/AQ$4) -> 0.0012906829 | ... AW27: =(LN(AG27/AF27)/AW$4) -> -0.0031661826 | AY27: 5 | AZ27: 0.0066596658
A28: 6 | B28: 1600000 | C28: 2466666.7 | D28: 2333333.3 | E28: 2266666.7 | F28: 2333333.3 | G28: 2400000 | H28: 2600000 | I28: 3200000 | J28: 3133333.3 | K28: 6200000 | L28: 27333333 | M28: 18000000 | N28: 23333333 | O28: 24666667 | P28: 15333333 | R28: 6 | S28: =LOG('Supplementary Figure 2'!B28,10) -> 6.20412 | T28: =LOG('Supplementary Figure 2'!C28,10) -> 6.3921105 | U28: =LOG('Supplementary Figure 2'!D28,10) -> 6.3679768 | V28: =LOG('Supplementary Figure 2'!E28,10) -> 6.3553877 | W28: =LOG('Supplementary Figure 2'!F28,10) -> 6.3679768 | X28: =LOG('Supplementary Figure 2'!G28,10) -> 6.3802112 | Y28: =LOG('Supplementary Figure 2'!H28,10) -> 6.4149733 | Z28: =LOG('Supplementary Figure 2'!I28,10) -> 6.50515 | ... AG28: =LOG('Supplementary Figure 2'!P28,10) -> 7.1856366 | AI28: 6 | AJ28: =(LN(T28/S28)/AJ$4) -> 0.0099503018 | AK28: =(LN(U28/T28)/AK$4) -> -0.0012608957 | AL28: =(LN(V28/U28)/AL$4) -> -0.00065963325 | AM28: =(LN(W28/V28)/AM$4) -> 0.00065963325 | AN28: =(LN(X28/W28)/AN$4) -> 0.00063980126 | AO28: =(LN(Y28/X28)/AO$4) -> 0.0018112122 | AP28: =(LN(Z28/Y28)/AP$4) -> 0.004653108 | AQ28: =(LN(AA28/Z28)/AQ$4) -> -0.00046884962 | ... AW28: =(LN(AG28/AF28)/AW$4) -> -0.0047215274 | AY28: 6 | AZ28: 0.0074359163
A29: 7 | B29: 1133333.3 | C29: 1866666.7 | D29: 2333333.3 | E29: 2333333.3 | F29: 2266666.7 | G29: 2200000 | H29: 2066666.7 | I29: 2933333.3 | J29: 3666666.7 | K29: 6666666.7 | L29: 20666667 | M29: 16666667 | N29: 20000000 | O29: 14000000 | P29: 16666667 | R29: 7 | S29: =LOG('Supplementary Figure 2'!B29,10) -> 6.0543577 | T29: =LOG('Supplementary Figure 2'!C29,10) -> 6.2710668 | U29: =LOG('Supplementary Figure 2'!D29,10) -> 6.3679768 | V29: =LOG('Supplementary Figure 2'!E29,10) -> 6.3679768 | W29: =LOG('Supplementary Figure 2'!F29,10) -> 6.3553877 | X29: =LOG('Supplementary Figure 2'!G29,10) -> 6.3424227 | Y29: =LOG('Supplementary Figure 2'!H29,10) -> 6.3152704 | Z29: =LOG('Supplementary Figure 2'!I29,10) -> 6.4673614 | ... AG29: =LOG('Supplementary Figure 2'!P29,10) -> 7.2218487 | AI29: 7 | AJ29: =(LN(T29/S29)/AJ$4) -> 0.011722731 | AK29: =(LN(U29/T29)/AK$4) -> 0.0051117746 | AL29: =(LN(V29/U29)/AL$4) -> 0 | AM29: =(LN(W29/V29)/AM$4) -> -0.00065963325 | AN29: =(LN(X29/W29)/AN$4) -> -0.00068069383 | AO29: =(LN(Y29/X29)/AO$4) -> -0.0014300809 | AP29: =(LN(Z29/Y29)/AP$4) -> 0.0079325427 | AQ29: =(LN(AA29/Z29)/AQ$4) -> 0.0049577721 | ... AW29: =(LN(AG29/AF29)/AW$4) -> 0.0017567172 | AY29: 7 | AZ29: 0.0064651522
A30: 8 | B30: 1333333.3 | C30: 2000000 | D30: 2733333.3 | E30: 2666666.7 | F30: 2000000 | G30: 1600000 | H30: 2400000 | I30: 2400000 | J30: 3400000 | K30: 6733333.3 | L30: 26000000 | M30: 18666667 | N30: 18666667 | O30: 14000000 | P30: 17333333 | R30: 8 | S30: =LOG('Supplementary Figure 2'!B30,10) -> 6.1249387 | T30: =LOG('Supplementary Figure 2'!C30,10) -> 6.30103 | U30: =LOG('Supplementary Figure 2'!D30,10) -> 6.4366926 | V30: =LOG('Supplementary Figure 2'!E30,10) -> 6.4259687 | W30: =LOG('Supplementary Figure 2'!F30,10) -> 6.30103 | X30: =LOG('Supplementary Figure 2'!G30,10) -> 6.20412 | Y30: =LOG('Supplementary Figure 2'!H30,10) -> 6.3802112 | Z30: =LOG('Supplementary Figure 2'!I30,10) -> 6.3802112 | ... AG30: =LOG('Supplementary Figure 2'!P30,10) -> 7.2388821 | AI30: 8 | AJ30: =(LN(T30/S30)/AJ$4) -> 0.0094481191 | AK30: =(LN(U30/T30)/AK$4) -> 0.007100575 | AL30: =(LN(V30/U30)/AL$4) -> -0.00055581385 | AM30: =(LN(W30/V30)/AM$4) -> -0.0065447612 | AN30: =(LN(X30/W30)/AN$4) -> -0.0051665089 | AO30: =(LN(Y30/X30)/AO$4) -> 0.0093292074 | AP30: =(LN(Z30/Y30)/AP$4) -> 0 | AQ30: =(LN(AA30/Z30)/AQ$4) -> 0.0078107304 | ... AW30: =(LN(AG30/AF30)/AW$4) -> 0.0021493517 | AY30: 8 | AZ30: 0.0074053513
AI31: Average | AJ31: =AVERAGE(AJ23:AJ30) -> 0.0067191987 | AK31: =AVERAGE(AK23:AK30) -> 0.0029781272 | AL31: =AVERAGE(AL23:AL30) -> 0.00037978483 | AM31: =AVERAGE(AM23:AM30) -> 0.00048366141 | AN31: =AVERAGE(AN23:AN30) -> -0.0026252305 | AO31: =AVERAGE(AO23:AO30) -> 0.0041515934 | AP31: =AVERAGE(AP23:AP30) -> 0.0026611181 | AQ31: =AVERAGE(AQ23:AQ30) -> 0.0027176458 | ... AW31: =AVERAGE(AW23:AW30) -> -0.00070359649 | AY31: MAX - Average | AZ31: 0.0076017198
AI35: CO-TYR (-AA)
A36: Test group | B36: CO-TYR (-AA) | R36: Test group | S36: CO-TYR (-AA) | AI36: Interval | AJ36: 3 | AK36: 3 | AL36: 3 | AM36: 3 | AN36: 3 | AO36: 3 | AP36: 3 | AQ36: 3 | AR36: 6 | AS36: 12 | AT36: 6 | AU36: 6 | AV36: 12 | AW36: 6
A37: Hours | B37: 0 | C37: 3 | D37: 6 | E37: 9 | F37: 12 | G37: 15 | H37: 18 | I37: 21 | J37: 24 | K37: 30 | L37: 42 | M37: 48 | N37: 54 | O37: 66 | P37: 72 | R37: Hours | S37: 0 | T37: 3 | U37: 6 | V37: 9 | W37: 12 | X37: 15 | Y37: 18 | Z37: 21 | AA37: 24 | AB37: 30 | AC37: 42 | AD37: 48 | AE37: 54 | AF37: 66 | AG37: 72 | AI37: Hours | AJ37: 0 to 3 | AK37: 3 to 6 | AL37: 6 to 9 | AM37: 9 to 12 | AN37: 12 to 15 | AO37: 15 to 18 | AP37: 18 to 21 | AQ37: 21 to 24 | AR37: 24 to 30 | AS37: 30 to 42 | AT37: 42 to 48 | AU37: 48 to 54 | AV37: 54 to 66 | AW37: 66 to 72
A38: Time point | B38: t0 | C38: t1 | D38: t2 | E38: t3 | F38: t4 | G38: t5 | H38: t6 | I38: t7 | J38: t8 | K38: t9 | L38: t10 | M38: t11 | N38: t12 | O38: t13 | P38: t14 | R38: Time point | S38: t0 | T38: t1 | U38: t2 | V38: t3 | W38: t4 | X38: t5 | Y38: t6 | Z38: t7 | AA38: t8 | AB38: t9 | AC38: t10 | AD38: t11 | AE38: t12 | AF38: t13 | AG38: t14 | AI38: Time point | AJ38: t0 to t1 | AK38: t1 to t2 | AL38: t2 to t3 | AM38: t3 to t4 | AN38: t4 to t5 | AO38: t5 to t6 | AP38: t6 to t7 | AQ38: t7 to t8 | AR38: t8 to t9 | AS38: t9 to t10 | AT38: t10 to t11 | AU38: t11 to t12 | AV38: t12 to t13 | AW38: t13 to t14 | AY38: CO-TYR (-AA) | AZ38: MAX - Growth rate
A39: 1 | B39: 1400000 | C39: 1866666.7 | D39: 1266666.7 | E39: 1733333.3 | F39: 1600000 | G39: 2333333.3 | H39: 3200000 | I39: 3933333.3 | J39: 3333333.3 | K39: 5666666.7 | L39: 18000000 | M39: 22666667 | N39: 20000000 | O39: 18666667 | P39: 18666667 | R39: 1 | S39: =LOG('Supplementary Figure 2'!B39,10) -> 6.146128 | T39: =LOG('Supplementary Figure 2'!C39,10) -> 6.2710668 | U39: =LOG('Supplementary Figure 2'!D39,10) -> 6.1026623 | V39: =LOG('Supplementary Figure 2'!E39,10) -> 6.2388821 | W39: =LOG('Supplementary Figure 2'!F39,10) -> 6.20412 | X39: =LOG('Supplementary Figure 2'!G39,10) -> 6.3679768 | Y39: =LOG('Supplementary Figure 2'!H39,10) -> 6.50515 | Z39: =LOG('Supplementary Figure 2'!I39,10) -> 6.5947608 | ... AG39: =LOG('Supplementary Figure 2'!P39,10) -> 7.2710668 | AI39: 1 | AJ39: =(LN(T39/S39)/AJ$4) -> 0.0067080611 | AK39: =(LN(U39/T39)/AK$4) -> -0.0090737846 | AL39: =(LN(V39/U39)/AL$4) -> 0.0073586295 | AM39: =(LN(W39/V39)/AM$4) -> -0.0018624764 | AN39: =(LN(X39/W39)/AN$4) -> 0.0086894061 | AO39: =(LN(Y39/X39)/AO$4) -> 0.0071041215 | AP39: =(LN(Z39/Y39)/AP$4) -> 0.004560447 | AQ39: =(LN(AA39/Z39)/AQ$4) -> -0.0036532349 | ... AW39: =(LN(AG39/AF39)/AW$4) -> 0 | AY39: 1 | AZ39: 0.0071041215
A40: 2 | B40: 1466666.7 | C40: 1266666.7 | D40: 1866666.7 | E40: 2133333.3 | F40: 2133333.3 | G40: 1933333.3 | H40: 3133333.3 | I40: 3400000 | J40: 3533333.3 | K40: 5266666.7 | L40: 11333333 | M40: 16666667 | N40: 18666667 | O40: 20666667 | P40: 16666667 | R40: 2 | S40: =LOG('Supplementary Figure 2'!B40,10) -> 6.1663314 | T40: =LOG('Supplementary Figure 2'!C40,10) -> 6.1026623 | U40: =LOG('Supplementary Figure 2'!D40,10) -> 6.2710668 | V40: =LOG('Supplementary Figure 2'!E40,10) -> 6.3290587 | W40: =LOG('Supplementary Figure 2'!F40,10) -> 6.3290587 | X40: =LOG('Supplementary Figure 2'!G40,10) -> 6.2863067 | Y40: =LOG('Supplementary Figure 2'!H40,10) -> 6.4960066 | Z40: =LOG('Supplementary Figure 2'!I40,10) -> 6.5314789 | ... AG40: =LOG('Supplementary Figure 2'!P40,10) -> 7.2218487 | AI40: 2 | AJ40: =(LN(T40/S40)/AJ$4) -> -0.0034596508 | AK40: =(LN(U40/T40)/AK$4) -> 0.0090737846 | AL40: =(LN(V40/U40)/AL$4) -> 0.0030683481 | AM40: =(LN(W40/V40)/AM$4) -> 0 | AN40: =(LN(X40/W40)/AN$4) -> -0.0022592631 | AO40: =(LN(Y40/X40)/AO$4) -> 0.010937961 | AP40: =(LN(Z40/Y40)/AP$4) -> 0.0018152598 | AQ40: =(LN(AA40/Z40)/AQ$4) -> 0.00085148483 | ... AW40: =(LN(AG40/AF40)/AW$4) -> -0.0021421707 | AY40: 2 | AZ40: 0.010937961
A41: 3 | B41: 1466666.7 | C41: 1600000 | D41: 1600000 | E41: 2000000 | F41: 2200000 | G41: 2133333.3 | H41: 3000000 | I41: 4133333.3 | J41: 2800000 | K41: 5333333.3 | L41: 17333333 | M41: 18000000 | N41: 16666667 | O41: 22000000 | P41: 16666667 | R41: 3 | S41: =LOG('Supplementary Figure 2'!B41,10) -> 6.1663314 | T41: =LOG('Supplementary Figure 2'!C41,10) -> 6.20412 | U41: =LOG('Supplementary Figure 2'!D41,10) -> 6.20412 | V41: =LOG('Supplementary Figure 2'!E41,10) -> 6.30103 | W41: =LOG('Supplementary Figure 2'!F41,10) -> 6.3424227 | X41: =LOG('Supplementary Figure 2'!G41,10) -> 6.3290587 | Y41: =LOG('Supplementary Figure 2'!H41,10) -> 6.4771213 | Z41: =LOG('Supplementary Figure 2'!I41,10) -> 6.6163004 | ... AG41: =LOG('Supplementary Figure 2'!P41,10) -> 7.2218487 | AI41: 3 | AJ41: =(LN(T41/S41)/AJ$4) -> 0.0020365023 | AK41: =(LN(U41/T41)/AK$4) -> 0 | AL41: =(LN(V41/U41)/AL$4) -> 0.0051665089 | AM41: =(LN(W41/V41)/AM$4) -> 0.0021825701 | AN41: =(LN(X41/W41)/AN$4) -> -0.0007030994 | AO41: =(LN(Y41/X41)/AO$4) -> 0.0077082124 | AP41: =(LN(Z41/Y41)/AP$4) -> 0.0070867352 | AQ41: =(LN(AA41/Z41)/AQ$4) -> -0.008632316 | ... AW41: =(LN(AG41/AF41)/AW$4) -> -0.0027596457 | AY41: 3 | AZ41: 0.0077082124
A42: 4 | B42: 1466666.7 | C42: 1800000 | D42: 1266666.7 | E42: 1466666.7 | F42: 1400000 | G42: 2200000 | H42: 3000000 | I42: 3600000 | J42: 2933333.3 | K42: 4733333.3 | L42: 16666667 | M42: 16000000 | N42: 18000000 | O42: 18666667 | P42: 24000000 | R42: 4 | S42: =LOG('Supplementary Figure 2'!B42,10) -> 6.1663314 | T42: =LOG('Supplementary Figure 2'!C42,10) -> 6.2552725 | U42: =LOG('Supplementary Figure 2'!D42,10) -> 6.1026623 | V42: =LOG('Supplementary Figure 2'!E42,10) -> 6.1663314 | W42: =LOG('Supplementary Figure 2'!F42,10) -> 6.146128 | X42: =LOG('Supplementary Figure 2'!G42,10) -> 6.3424227 | Y42: =LOG('Supplementary Figure 2'!H42,10) -> 6.4771213 | Z42: =LOG('Supplementary Figure 2'!I42,10) -> 6.5563025 | ... AG42: =LOG('Supplementary Figure 2'!P42,10) -> 7.3802112 | AI42: 4 | AJ42: =(LN(T42/S42)/AJ$4) -> 0.0047735437 | AK42: =(LN(U42/T42)/AK$4) -> -0.0082331945 | AL42: =(LN(V42/U42)/AL$4) -> 0.0034596508 | AM42: =(LN(W42/V42)/AM$4) -> -0.0010939274 | AN42: =(LN(X42/W42)/AN$4) -> 0.010479509 | AO42: =(LN(Y42/X42)/AO$4) -> 0.007005113 | AP42: =(LN(Z42/Y42)/AP$4) -> 0.0040502133 | AQ42: =(LN(AA42/Z42)/AQ$4) -> -0.0045528645 | ... AW42: =(LN(AG42/AF42)/AW$4) -> 0.0024832075 | AY42: 4 | AZ42: 0.007005113
A43: 5 | B43: 1800000 | C43: 1800000 | D43: 1733333.3 | E43: 1933333.3 | F43: 1333333.3 | G43: 1666666.7 | H43: 3733333.3 | I43: 3466666.7 | J43: 3266666.7 | K43: 4866666.7 | L43: 15333333 | M43: 14666667 | N43: 14000000 | O43: 16666667 | P43: 34666667 | R43: 5 | S43: =LOG('Supplementary Figure 2'!B43,10) -> 6.2552725 | T43: =LOG('Supplementary Figure 2'!C43,10) -> 6.2552725 | U43: =LOG('Supplementary Figure 2'!D43,10) -> 6.2388821 | V43: =LOG('Supplementary Figure 2'!E43,10) -> 6.2863067 | W43: =LOG('Supplementary Figure 2'!F43,10) -> 6.1249387 | X43: =LOG('Supplementary Figure 2'!G43,10) -> 6.2218487 | Y43: =LOG('Supplementary Figure 2'!H43,10) -> 6.5720968 | Z43: =LOG('Supplementary Figure 2'!I43,10) -> 6.5399121 | ... AG43: =LOG('Supplementary Figure 2'!P43,10) -> 7.5399121 | AI43: 5 | AJ43: =(LN(T43/S43)/AJ$4) -> 0 | AK43: =(LN(U43/T43)/AK$4) -> -0.00087456501 | AL43: =(LN(V43/U43)/AL$4) -> 0.0025242401 | AM43: =(LN(W43/V43)/AM$4) -> -0.0086683267 | AN43: =(LN(X43/W43)/AN$4) -> 0.0052327783 | AO43: =(LN(Y43/X43)/AO$4) -> 0.018255278 | AP43: =(LN(Z43/Y43)/AP$4) -> -0.0016364006 | AQ43: =(LN(AA43/Z43)/AQ$4) -> -0.0013179748 | ... AW43: =(LN(AG43/AF43)/AW$4) -> 0.0071832571 | AY43: 5 | AZ43: 0.018255278
A44: 6 | B44: 1333333.3 | C44: 1133333.3 | D44: 1666666.7 | E44: 1666666.7 | F44: 1666666.7 | G44: 1800000 | H44: 3200000 | I44: 3600000 | J44: 3333333.3 | K44: 4933333.3 | L44: 10000000 | M44: 15333333 | N44: 20666667 | O44: 18000000 | P44: 25333333 | R44: 6 | S44: =LOG('Supplementary Figure 2'!B44,10) -> 6.1249387 | T44: =LOG('Supplementary Figure 2'!C44,10) -> 6.0543577 | U44: =LOG('Supplementary Figure 2'!D44,10) -> 6.2218487 | V44: =LOG('Supplementary Figure 2'!E44,10) -> 6.2218487 | W44: =LOG('Supplementary Figure 2'!F44,10) -> 6.2218487 | X44: =LOG('Supplementary Figure 2'!G44,10) -> 6.2552725 | Y44: =LOG('Supplementary Figure 2'!H44,10) -> 6.50515 | Z44: =LOG('Supplementary Figure 2'!I44,10) -> 6.5563025 | ... AG44: =LOG('Supplementary Figure 2'!P44,10) -> 7.4036923 | AI44: 6 | AJ44: =(LN(T44/S44)/AJ$4) -> -0.0038634889 | AK44: =(LN(U44/T44)/AK$4) -> 0.0090962672 | AL44: =(LN(V44/U44)/AL$4) -> 0 | AM44: =(LN(W44/V44)/AM$4) -> 0 | AN44: =(LN(X44/W44)/AN$4) -> 0.0017858732 | AO44: =(LN(Y44/X44)/AO$4) -> 0.013056486 | AP44: =(LN(Z44/Y44)/AP$4) -> 0.0026108778 | AQ44: =(LN(AA44/Z44)/AQ$4) -> -0.0017036657 | ... AW44: =(LN(AG44/AF44)/AW$4) -> 0.0033750656 | AY44: 6 | AZ44: 0.013056486
A45: 7 | B45: 1600000 | C45: 1733333.3 | D45: 1466666.7 | E45: 1666666.7 | F45: 1666666.7 | G45: 1866666.7 | H45: 3666666.7 | I45: 3666666.7 | J45: 3600000 | K45: 5400000 | L45: 12000000 | M45: 20000000 | N45: 16000000 | O45: 19333333 | P45: 24000000 | R45: 7 | S45: =LOG('Supplementary Figure 2'!B45,10) -> 6.20412 | T45: =LOG('Supplementary Figure 2'!C45,10) -> 6.2388821 | U45: =LOG('Supplementary Figure 2'!D45,10) -> 6.1663314 | V45: =LOG('Supplementary Figure 2'!E45,10) -> 6.2218487 | W45: =LOG('Supplementary Figure 2'!F45,10) -> 6.2218487 | X45: =LOG('Supplementary Figure 2'!G45,10) -> 6.2710668 | Y45: =LOG('Supplementary Figure 2'!H45,10) -> 6.5642714 | Z45: =LOG('Supplementary Figure 2'!I45,10) -> 6.5642714 | ... AG45: =LOG('Supplementary Figure 2'!P45,10) -> 7.3802112 | AI45: 7 | AJ45: =(LN(T45/S45)/AJ$4) -> 0.0018624764 | AK45: =(LN(U45/T45)/AK$4) -> -0.0038989787 | AL45: =(LN(V45/U45)/AL$4) -> 0.0029876704 | AM45: =(LN(W45/V45)/AM$4) -> 0 | AN45: =(LN(X45/W45)/AN$4) -> 0.0026264634 | AO45: =(LN(Y45/X45)/AO$4) -> 0.015231681 | AP45: =(LN(Z45/Y45)/AP$4) -> 0 | AQ45: =(LN(AA45/Z45)/AQ$4) -> -0.00040490763 | ... AW45: =(LN(AG45/AF45)/AW$4) -> 0.002134244 | AY45: 7 | AZ45: 0.015231681
A46: 8 | B46: 1733333.3 | C46: 1933333.3 | D46: 1533333.3 | E46: 1800000 | F46: 1933333.3 | G46: 2133333.3 | H46: 2866666.7 | I46: 3400000 | J46: 3533333.3 | K46: 5200000 | L46: 12666667 | M46: 19333333 | N46: 23333333 | O46: 16000000 | P46: 22000000 | R46: 8 | S46: =LOG('Supplementary Figure 2'!B46,10) -> 6.2388821 | T46: =LOG('Supplementary Figure 2'!C46,10) -> 6.2863067 | U46: =LOG('Supplementary Figure 2'!D46,10) -> 6.1856366 | V46: =LOG('Supplementary Figure 2'!E46,10) -> 6.2552725 | W46: =LOG('Supplementary Figure 2'!F46,10) -> 6.2863067 | X46: =LOG('Supplementary Figure 2'!G46,10) -> 6.3290587 | Y46: =LOG('Supplementary Figure 2'!H46,10) -> 6.4573772 | Z46: =LOG('Supplementary Figure 2'!I46,10) -> 6.5314789 | ... AG46: =LOG('Supplementary Figure 2'!P46,10) -> 7.3424227 | AI46: 8 | AJ46: =(LN(T46/S46)/AJ$4) -> 0.0025242401 | AK46: =(LN(U46/T46)/AK$4) -> -0.0053812704 | AL46: =(LN(V46/U46)/AL$4) -> 0.0037315952 | AM46: =(LN(W46/V46)/AM$4) -> 0.0016496751 | AN46: =(LN(X46/W46)/AN$4) -> 0.0022592631 | AO46: =(LN(Y46/X46)/AO$4) -> 0.0066905684 | AP46: =(LN(Z46/Y46)/AP$4) -> 0.0038033898 | AQ46: =(LN(AA46/Z46)/AQ$4) -> 0.00085148483 | ... AW46: =(LN(AG46/AF46)/AW$4) -> 0.0031692952 | AY46: 8 | AZ46: 0.0066905684
AI47: Average | AJ47: =AVERAGE(AJ39:AJ46) -> 0.0013227105 | AK47: =AVERAGE(AK39:AK46) -> -0.0011614677 | AL47: =AVERAGE(AL39:AL46) -> 0.0035370804 | AM47: =AVERAGE(AM39:AM46) -> -0.00097406065 | AN47: =AVERAGE(AN39:AN46) -> 0.0035138663 | AO47: =AVERAGE(AO39:AO46) -> 0.010748678 | AP47: =AVERAGE(AP39:AP46) -> 0.0027863153 | AQ47: =AVERAGE(AQ39:AQ46) -> -0.0023202492 | ... AW47: =AVERAGE(AW39:AW46) -> 0.0016804066 | AY47: MAX - Average | AZ47: 0.010748678
AI51: CO (+AA)
A52: Test group | B52: CO (+AA) | R52: Test group | S52: CO (+AA) | AI52: Interval | AJ52: 3 | AK52: 3 | AL52: 3 | AM52: 3 | AN52: 3 | AO52: 3 | AP52: 3 | AQ52: 3 | AR52: 6 | AS52: 12 | AT52: 6 | AU52: 6 | AV52: 12 | AW52: 6
A53: Hours | B53: 0 | C53: 3 | D53: 6 | E53: 9 | F53: 12 | G53: 15 | H53: 18 | I53: 21 | J53: 24 | K53: 30 | L53: 42 | M53: 48 | N53: 54 | O53: 66 | P53: 72 | R53: Hours | S53: 0 | T53: 3 | U53: 6 | V53: 9 | W53: 12 | X53: 15 | Y53: 18 | Z53: 21 | AA53: 24 | AB53: 30 | AC53: 42 | AD53: 48 | AE53: 54 | AF53: 66 | AG53: 72 | AI53: Hours | AJ53: 0 to 3 | AK53: 3 to 6 | AL53: 6 to 9 | AM53: 9 to 12 | AN53: 12 to 15 | AO53: 15 to 18 | AP53: 18 to 21 | AQ53: 21 to 24 | AR53: 24 to 30 | AS53: 30 to 42 | AT53: 42 to 48 | AU53: 48 to 54 | AV53: 54 to 66 | AW53: 66 to 72
A54: Time point | B54: t0 | C54: t1 | D54: t2 | E54: t3 | F54: t4 | G54: t5 | H54: t6 | I54: t7 | J54: t8 | K54: t9 | L54: t10 | M54: t11 | N54: t12 | O54: t13 | P54: t14 | R54: Time point | S54: t0 | T54: t1 | U54: t2 | V54: t3 | W54: t4 | X54: t5 | Y54: t6 | Z54: t7 | AA54: t8 | AB54: t9 | AC54: t10 | AD54: t11 | AE54: t12 | AF54: t13 | AG54: t14 | AI54: Time point | AJ54: t0 to t1 | AK54: t1 to t2 | AL54: t2 to t3 | AM54: t3 to t4 | AN54: t4 to t5 | AO54: t5 to t6 | AP54: t6 to t7 | AQ54: t7 to t8 | AR54: t8 to t9 | AS54: t9 to t10 | AT54: t10 to t11 | AU54: t11 to t12 | AV54: t12 to t13 | AW54: t13 to t14 | AY54: CO (+AA) | AZ54: MAX - Growth rate
A55: 1 | B55: 8600000 | C55: 4333333.3 | D55: 17533333 | E55: 3.6e+08 | F55: 480000000 | G55: 5.0666667e+08 | H55: 4.6e+08 | I55: 600000000 | J55: 4.0666667e+08 | K55: 4.1333333e+08 | L55: 5.2e+08 | M55: 480000000 | N55: 4.9333333e+08 | O55: 620000000 | P55: 5.3333333e+08 | R55: 1 | S55: =LOG('Supplementary Figure 2'!B55,10) -> 6.9344985 | T55: =LOG('Supplementary Figure 2'!C55,10) -> 6.6368221 | U55: =LOG('Supplementary Figure 2'!D55,10) -> 7.2438645 | V55: =LOG('Supplementary Figure 2'!E55,10) -> 8.5563025 | W55: =LOG('Supplementary Figure 2'!F55,10) -> 8.6812412 | X55: =LOG('Supplementary Figure 2'!G55,10) -> 8.7047223 | Y55: =LOG('Supplementary Figure 2'!H55,10) -> 8.6627578 | Z55: =LOG('Supplementary Figure 2'!I55,10) -> 8.7781513 | ... AG55: =LOG('Supplementary Figure 2'!P55,10) -> 8.7269987 | AI55: 1 | AJ55: =(LN(T55/S55)/AJ$4) -> -0.01462516 | AK55: =(LN(U55/T55)/AK$4) -> 0.029173861 | AL55: =(LN(V55/U55)/AL$4) -> 0.055504438 | AM55: =(LN(W55/V55)/AM$4) -> 0.0048321241 | AN55: =(LN(X55/W55)/AN$4) -> 0.00090038573 | AO55: =(LN(Y55/X55)/AO$4) -> -0.001610849 | AP55: =(LN(Z55/Y55)/AP$4) -> 0.0044108978 | AQ55: =(LN(AA55/Z55)/AQ$4) -> -0.0064766474 | ... AW55: =(LN(AG55/AF55)/AW$4) -> -0.0012442074 | AY55: 1 | AZ55: 0.055504438
A56: 2 | B56: 8066666.7 | C56: 4200000 | D56: 16600000 | E56: 3.2666667e+08 | F56: 4.9333333e+08 | G56: 5e+08 | H56: 5.1333333e+08 | I56: 5.2666667e+08 | J56: 4.4666667e+08 | K56: 5.4666667e+08 | L56: 520000000 | M56: 4.9333333e+08 | N56: 440000000 | O56: 5.4666667e+08 | P56: 4.7333333e+08 | R56: 2 | S56: =LOG('Supplementary Figure 2'!B56,10) -> 6.9066941 | T56: =LOG('Supplementary Figure 2'!C56,10) -> 6.6232493 | U56: =LOG('Supplementary Figure 2'!D56,10) -> 7.2201081 | V56: =LOG('Supplementary Figure 2'!E56,10) -> 8.5141048 | W56: =LOG('Supplementary Figure 2'!F56,10) -> 8.6931405 | X56: =LOG('Supplementary Figure 2'!G56,10) -> 8.69897 | Y56: =LOG('Supplementary Figure 2'!H56,10) -> 8.7103995 | Z56: =LOG('Supplementary Figure 2'!I56,10) -> 8.7215358 | ... AG56: =LOG('Supplementary Figure 2'!P56,10) -> 8.6751671 | AI56: 2 | AJ56: =(LN(T56/S56)/AJ$4) -> -0.013968341 | AK56: =(LN(U56/T56)/AK$4) -> 0.028761282 | AL56: =(LN(V56/U56)/AL$4) -> 0.054951418 | AM56: =(LN(W56/V56)/AM$4) -> 0.0069366943 | AN56: =(LN(X56/W56)/AN$4) -> 0.00022345549 | AO56: =(LN(Y56/X56)/AO$4) -> 0.0004376748 | AP56: =(LN(Z56/Y56)/AP$4) -> 0.00042589907 | AQ56: =(LN(AA56/Z56)/AQ$4) -> -0.0027459772 | ... AW56: =(LN(AG56/AF56)/AW$4) -> -0.0011974994 | AY56: 2 | AZ56: 0.054951418
A57: 3 | B57: 8133333.3 | C57: 4266666.7 | D57: 18133333 | E57: 2.6666667e+08 | F57: 5.1333333e+08 | G57: 5.2666667e+08 | H57: 3.6666667e+08 | I57: 5.1333333e+08 | J57: 4e+08 | K57: 4e+08 | L57: 620000000 | M57: 4.3333333e+08 | N57: 5.2666667e+08 | O57: 4.6666667e+08 | P57: 3.8666667e+08 | R57: 3 | S57: =LOG('Supplementary Figure 2'!B57,10) -> 6.9102686 | T57: =LOG('Supplementary Figure 2'!C57,10) -> 6.6300887 | U57: =LOG('Supplementary Figure 2'!D57,10) -> 7.2584776 | V57: =LOG('Supplementary Figure 2'!E57,10) -> 8.4259687 | W57: =LOG('Supplementary Figure 2'!F57,10) -> 8.7103995 | X57: =LOG('Supplementary Figure 2'!G57,10) -> 8.7215358 | Y57: =LOG('Supplementary Figure 2'!H57,10) -> 8.5642714 | Z57: =LOG('Supplementary Figure 2'!I57,10) -> 8.7103995 | ... AG57: =LOG('Supplementary Figure 2'!P57,10) -> 8.5873367 | AI57: 3 | AJ57: =(LN(T57/S57)/AJ$4) -> -0.013796773 | AK57: =(LN(U57/T57)/AK$4) -> 0.030183977 | AL57: =(LN(V57/U57)/AL$4) -> 0.049716112 | AM57: =(LN(W57/V57)/AM$4) -> 0.0110664 | AN57: =(LN(X57/W57)/AN$4) -> 0.00042589907 | AO57: =(LN(Y57/X57)/AO$4) -> -0.0060654285 | AP57: =(LN(Z57/Y57)/AP$4) -> 0.0056395294 | AQ57: =(LN(AA57/Z57)/AQ$4) -> -0.0041719814 | ... AW57: =(LN(AG57/AF57)/AW$4) -> -0.0015775968 | AY57: 3 | AZ57: 0.049716112
A58: 4 | B58: 7133333.3 | C58: 4600000 | D58: 17600000 | E58: 2.2666667e+08 | F58: 500000000 | G58: 5.2e+08 | H58: 4.8e+08 | I58: 640000000 | J58: 440000000 | K58: 4.3333333e+08 | L58: 5.8666667e+08 | M58: 4.5333333e+08 | N58: 520000000 | O58: 5.1333333e+08 | P58: 4.7333333e+08 | R58: 4 | S58: =LOG('Supplementary Figure 2'!B58,10) -> 6.8532925 | T58: =LOG('Supplementary Figure 2'!C58,10) -> 6.6627578 | U58: =LOG('Supplementary Figure 2'!D58,10) -> 7.2455127 | V58: =LOG('Supplementary Figure 2'!E58,10) -> 8.3553877 | W58: =LOG('Supplementary Figure 2'!F58,10) -> 8.69897 | X58: =LOG('Supplementary Figure 2'!G58,10) -> 8.7160033 | Y58: =LOG('Supplementary Figure 2'!H58,10) -> 8.6812412 | Z58: =LOG('Supplementary Figure 2'!I58,10) -> 8.80618 | ... AG58: =LOG('Supplementary Figure 2'!P58,10) -> 8.6751671 | AI58: 4 | AJ58: =(LN(T58/S58)/AJ$4) -> -0.0093985696 | AK58: =(LN(U58/T58)/AK$4) -> 0.027949616 | AL58: =(LN(V58/U58)/AL$4) -> 0.047508075 | AM58: =(LN(W58/V58)/AM$4) -> 0.01343269 | AN58: =(LN(X58/W58)/AN$4) -> 0.00065205745 | AO58: =(LN(Y58/X58)/AO$4) -> -0.0013320942 | AP58: =(LN(Z58/Y58)/AP$4) -> 0.0047630755 | AQ58: =(LN(AA58/Z58)/AQ$4) -> -0.0062172088 | ... AW58: =(LN(AG58/AF58)/AW$4) -> -0.00067551101 | AY58: 4 | AZ58: 0.047508075
A59: 5 | B59: 8666666.7 | C59: 4666666.7 | D59: 18000000 | E59: 2.0666667e+08 | F59: 420000000 | G59: 480000000 | H59: 4.5333333e+08 | I59: 6.0666667e+08 | J59: 4.2666667e+08 | K59: 440000000 | L59: 4.8666667e+08 | M59: 440000000 | N59: 4.9333333e+08 | O59: 4.4666667e+08 | P59: 4.4666667e+08 | R59: 5 | S59: =LOG('Supplementary Figure 2'!B59,10) -> 6.9378521 | T59: =LOG('Supplementary Figure 2'!C59,10) -> 6.6690068 | U59: =LOG('Supplementary Figure 2'!D59,10) -> 7.2552725 | V59: =LOG('Supplementary Figure 2'!E59,10) -> 8.3152704 | W59: =LOG('Supplementary Figure 2'!F59,10) -> 8.6232493 | X59: =LOG('Supplementary Figure 2'!G59,10) -> 8.6812412 | Y59: =LOG('Supplementary Figure 2'!H59,10) -> 8.6564177 | Z59: =LOG('Supplementary Figure 2'!I59,10) -> 8.7829501 | ... AG59: =LOG('Supplementary Figure 2'!P59,10) -> 8.6499835 | AI59: 5 | AJ59: =(LN(T59/S59)/AJ$4) -> -0.013173763 | AK59: =(LN(U59/T59)/AK$4) -> 0.028085835 | AL59: =(LN(V59/U59)/AL$4) -> 0.045455063 | AM59: =(LN(W59/V59)/AM$4) -> 0.012122775 | AN59: =(LN(X59/W59)/AN$4) -> 0.0022341856 | AO59: =(LN(Y59/X59)/AO$4) -> -0.00095451567 | AP59: =(LN(Z59/Y59)/AP$4) -> 0.0048371287 | AQ59: =(LN(AA59/Z59)/AQ$4) -> -0.0058525241 | ... AW59: =(LN(AG59/AF59)/AW$4) -> 0 | AY59: 5 | AZ59: 0.045455063
A60: 6 | B60: 8466666.7 | C60: 4666666.7 | D60: 16266667 | E60: 280000000 | F60: 5.2666667e+08 | G60: 5.4666667e+08 | H60: 4.2666667e+08 | I60: 580000000 | J60: 3.8666667e+08 | K60: 4.2e+08 | L60: 500000000 | M60: 4.7333333e+08 | N60: 5.2e+08 | O60: 460000000 | P60: 4.1333333e+08 | R60: 6 | S60: =LOG('Supplementary Figure 2'!B60,10) -> 6.9277125 | T60: =LOG('Supplementary Figure 2'!C60,10) -> 6.6690068 | U60: =LOG('Supplementary Figure 2'!D60,10) -> 7.2112986 | V60: =LOG('Supplementary Figure 2'!E60,10) -> 8.447158 | W60: =LOG('Supplementary Figure 2'!F60,10) -> 8.7215358 | X60: =LOG('Supplementary Figure 2'!G60,10) -> 8.7377226 | Y60: =LOG('Supplementary Figure 2'!H60,10) -> 8.6300887 | Z60: =LOG('Supplementary Figure 2'!I60,10) -> 8.763428 | ... AG60: =LOG('Supplementary Figure 2'!P60,10) -> 8.6163004 | AI60: 6 | AJ60: =(LN(T60/S60)/AJ$4) -> -0.012686242 | AK60: =(LN(U60/T60)/AK$4) -> 0.026059367 | AL60: =(LN(V60/U60)/AL$4) -> 0.052727005 | AM60: =(LN(W60/V60)/AM$4) -> 0.010655098 | AN60: =(LN(X60/W60)/AN$4) -> 0.00061807763 | AO60: =(LN(Y60/X60)/AO$4) -> -0.0041315993 | AP60: =(LN(Z60/Y60)/AP$4) -> 0.005110789 | AQ60: =(LN(AA60/Z60)/AQ$4) -> -0.0067661688 | ... AW60: =(LN(AG60/AF60)/AW$4) -> -0.00089622001 | AY60: 6 | AZ60: 0.052727005
A61: 7 | B61: 8600000 | C61: 3933333.3 | D61: 17533333 | E61: 3.1333333e+08 | F61: 540000000 | G61: 4.8666667e+08 | H61: 500000000 | I61: 5.4666667e+08 | J61: 4.5333333e+08 | K61: 4.2666667e+08 | L61: 5.4666667e+08 | M61: 5.2e+08 | N61: 5.3333333e+08 | O61: 5.5333333e+08 | P61: 420000000 | R61: 7 | S61: =LOG('Supplementary Figure 2'!B61,10) -> 6.9344985 | T61: =LOG('Supplementary Figure 2'!C61,10) -> 6.5947608 | U61: =LOG('Supplementary Figure 2'!D61,10) -> 7.2438645 | V61: =LOG('Supplementary Figure 2'!E61,10) -> 8.4960066 | W61: =LOG('Supplementary Figure 2'!F61,10) -> 8.7323938 | X61: =LOG('Supplementary Figure 2'!G61,10) -> 8.6872316 | Y61: =LOG('Supplementary Figure 2'!H61,10) -> 8.69897 | Z61: =LOG('Supplementary Figure 2'!I61,10) -> 8.7377226 | ... AG61: =LOG('Supplementary Figure 2'!P61,10) -> 8.6232493 | AI61: 7 | AJ61: =(LN(T61/S61)/AJ$4) -> -0.016744407 | AK61: =(LN(U61/T61)/AK$4) -> 0.031293108 | AL61: =(LN(V61/U61)/AL$4) -> 0.053147136 | AM61: =(LN(W61/V61)/AM$4) -> 0.0091477635 | AN61: =(LN(X61/W61)/AN$4) -> -0.0017284053 | AO61: =(LN(Y61/X61)/AO$4) -> 0.00045010426 | AP61: =(LN(Z61/Y61)/AP$4) -> 0.0014816515 | AQ61: =(LN(AA61/Z61)/AQ$4) -> -0.0031162039 | ... AW61: =(LN(AG61/AF61)/AW$4) -> -0.0022983188 | AY61: 7 | AZ61: 0.053147136
A62: 8 | B62: 7800000 | C62: 4933333.3 | D62: 17533333 | E62: 3.2666667e+08 | F62: 4.3333333e+08 | G62: 4.2666667e+08 | H62: 5.1333333e+08 | I62: 5.9333333e+08 | J62: 4.4666667e+08 | K62: 4.2666667e+08 | L62: 5.1333333e+08 | M62: 5.2e+08 | N62: 4.9333333e+08 | O62: 460000000 | P62: 4.6666667e+08 | R62: 8 | S62: =LOG('Supplementary Figure 2'!B62,10) -> 6.8920946 | T62: =LOG('Supplementary Figure 2'!C62,10) -> 6.6931405 | U62: =LOG('Supplementary Figure 2'!D62,10) -> 7.2438645 | V62: =LOG('Supplementary Figure 2'!E62,10) -> 8.5141048 | W62: =LOG('Supplementary Figure 2'!F62,10) -> 8.6368221 | X62: =LOG('Supplementary Figure 2'!G62,10) -> 8.6300887 | Y62: =LOG('Supplementary Figure 2'!H62,10) -> 8.7103995 | Z62: =LOG('Supplementary Figure 2'!I62,10) -> 8.7732987 | ... AG62: =LOG('Supplementary Figure 2'!P62,10) -> 8.6690068 | AI62: 8 | AJ62: =(LN(T62/S62)/AJ$4) -> -0.0097639516 | AK62: =(LN(U62/T62)/AK$4) -> 0.026357214 | AL62: =(LN(V62/U62)/AL$4) -> 0.053856449 | AM62: =(LN(W62/V62)/AM$4) -> 0.0047701745 | AN62: =(LN(X62/W62)/AN$4) -> -0.0002599725 | AO62: =(LN(Y62/X62)/AO$4) -> 0.0030876226 | AP62: =(LN(Z62/Y62)/AP$4) -> 0.0023984076 | AQ62: =(LN(AA62/Z62)/AQ$4) -> -0.0047184857 | ... AW62: =(LN(AG62/AF62)/AW$4) -> 0.00012018298 | AY62: 8 | AZ62: 0.053856449
AI63: Average | AJ63: =AVERAGE(AJ55:AJ62) -> -0.013019651 | AK63: =AVERAGE(AK55:AK62) -> 0.028483033 | AL63: =AVERAGE(AL55:AL62) -> 0.051608212 | AM63: =AVERAGE(AM55:AM62) -> 0.0091204649 | AN63: =AVERAGE(AN55:AN62) -> 0.00038321039 | AO63: =AVERAGE(AO55:AO62) -> -0.0012648856 | AP63: =AVERAGE(AP55:AP62) -> 0.0036334223 | AQ63: =AVERAGE(AQ55:AQ62) -> -0.0050081497 | ... AW63: =AVERAGE(AW55:AW62) -> -0.0009711463 | AY63: MAX - Average | AZ63: 0.051608212
AI67: CO-TRP (+AA)
A68: Test group | B68: CO-TRP (+AA) | R68: Test group | S68: CO-TRP (+AA) | AI68: Interval | AJ68: 3 | AK68: 3 | AL68: 3 | AM68: 3 | AN68: 3 | AO68: 3 | AP68: 3 | AQ68: 3 | AR68: 6 | AS68: 12 | AT68: 6 | AU68: 6 | AV68: 12 | AW68: 6
A69: Hours | B69: 0 | C69: 3 | D69: 6 | E69: 9 | F69: 12 | G69: 15 | H69: 18 | I69: 21 | J69: 24 | K69: 30 | L69: 42 | M69: 48 | N69: 54 | O69: 66 | P69: 72 | R69: Hours | S69: 0 | T69: 3 | U69: 6 | V69: 9 | W69: 12 | X69: 15 | Y69: 18 | Z69: 21 | AA69: 24 | AB69: 30 | AC69: 42 | AD69: 48 | AE69: 54 | AF69: 66 | AG69: 72 | AI69: Hours | AJ69: 0 to 3 | AK69: 3 to 6 | AL69: 6 to 9 | AM69: 9 to 12 | AN69: 12 to 15 | AO69: 15 to 18 | AP69: 18 to 21 | AQ69: 21 to 24 | AR69: 24 to 30 | AS69: 30 to 42 | AT69: 42 to 48 | AU69: 48 to 54 | AV69: 54 to 66 | AW69: 66 to 72
A70: Time point | B70: t0 | C70: t1 | D70: t2 | E70: t3 | F70: t4 | G70: t5 | H70: t6 | I70: t7 | J70: t8 | K70: t9 | L70: t10 | M70: t11 | N70: t12 | O70: t13 | P70: t14 | R70: Time point | S70: t0 | T70: t1 | U70: t2 | V70: t3 | W70: t4 | X70: t5 | Y70: t6 | Z70: t7 | AA70: t8 | AB70: t9 | AC70: t10 | AD70: t11 | AE70: t12 | AF70: t13 | AG70: t14 | AI70: Time point | AJ70: t0 to t1 | AK70: t1 to t2 | AL70: t2 to t3 | AM70: t3 to t4 | AN70: t4 to t5 | AO70: t5 to t6 | AP70: t6 to t7 | AQ70: t7 to t8 | AR70: t8 to t9 | AS70: t9 to t10 | AT70: t10 to t11 | AU70: t11 to t12 | AV70: t12 to t13 | AW70: t13 to t14 | AY70: CO-TRP (+AA) | AZ70: MAX - Growth rate
