Workbook

Sheet Figure 2a
A1: Treatment group | B1: KANA - CO | T1: Treatment group | U1: KANA - TRP | AM1: Treatment group | AN1: KANA - TYR
A4: Average | B4: =AVERAGE(B10:B25) -> 0.004 | C4: =AVERAGE(C10:C25) -> 0.09091875 | D4: =AVERAGE(D10:D25) -> 0.04944125 | E4: =AVERAGE(E10:E89) -> 0.058274 | F4: =AVERAGE(F10:F89) -> 0.08454275 | G4: =AVERAGE(G10:G89) -> 0.0834355 | H4: =AVERAGE(H10:H89) -> 0.014902 | I4: =AVERAGE(I10:I89) -> 0.0007899375 | J4: =AVERAGE(J10:J89) -> 0.0003473125 | K4: =AVERAGE(K10:K89) -> -0.000105 | L4: =AVERAGE(L10:L89) -> -0.00016121875 | ... Q4: =AVERAGE(Q10:Q89) -> 4.625e-05 | T4: Average | U4: =AVERAGE(U10:U25) -> 0.004 | V4: =AVERAGE(V10:V25) -> 0.1155875 | W4: =AVERAGE(W10:W25) -> 0.13310375 | X4: =AVERAGE(X10:X89) -> 0.12671775 | Y4: =AVERAGE(Y10:Y89) -> 0.088500375 | Z4: =AVERAGE(Z10:Z89) -> 0.10392063 | AA4: =AVERAGE(AA10:AA89) -> 0.102487 | AB4: =AVERAGE(AB10:AB89) -> 0.10343188 | AC4: =AVERAGE(AC10:AC89) -> 0.091704188 | AD4: =AVERAGE(AD10:AD89) -> 0.072456625 | AE4: =AVERAGE(AE10:AE89) -> 0.058787781 | ... AJ4: =AVERAGE(AJ10:AJ89) -> 0.059100188 | AM4: Average | AN4: =AVERAGE(AN10:AN25) -> 0.004 | AO4: =AVERAGE(AO10:AO25) -> 0.1175875 | AP4: =AVERAGE(AP10:AP25) -> 0.14910375 | AQ4: =AVERAGE(AQ10:AQ89) -> 0.13808775 | AR4: =AVERAGE(AR10:AR89) -> 0.098643375 | AS4: =AVERAGE(AS10:AS89) -> 0.10420175 | AT4: =AVERAGE(AT10:AT89) -> 0.08846075 | AU4: =AVERAGE(AU10:AU89) -> 0.0910855 | AV4: =AVERAGE(AV10:AV89) -> 0.078309094 | AW4: =AVERAGE(AW10:AW89) -> 0.06057075 | AX4: =AVERAGE(AX10:AX89) -> 0.052274656 | ... BC4: =AVERAGE(BC10:BC89) -> 0.047005344
A5: Standard deviation | B5: =_xlfn.STDEV.P(B10:B25) -> 1.7347235e-18 | C5: =_xlfn.STDEV.P(C10:C25) -> 0.006470338 | D5: =_xlfn.STDEV.P(D10:D25) -> 0.0015407866 | E5: =_xlfn.STDEV.P(E10:E89) -> 0.0041889031 | F5: =_xlfn.STDEV.P(F10:F89) -> 0.0076005511 | G5: =_xlfn.STDEV.P(G10:G89) -> 0.0071481994 | H5: =_xlfn.STDEV.P(H10:H89) -> 0.013676002 | I5: =_xlfn.STDEV.P(I10:I89) -> 0.0011540275 | J5: =_xlfn.STDEV.P(J10:J89) -> 0.00084706827 | K5: =_xlfn.STDEV.P(K10:K89) -> 0.00031300958 | L5: =_xlfn.STDEV.P(L10:L89) -> 0.00057483435 | ... Q5: =_xlfn.STDEV.P(Q10:Q89) -> 0.00045337829 | T5: Standard deviation | U5: =_xlfn.STDEV.P(U10:U25) -> 1.7347235e-18 | V5: =_xlfn.STDEV.P(V10:V25) -> 0.0033372659 | W5: =_xlfn.STDEV.P(W10:W25) -> 0.011669671 | X5: =_xlfn.STDEV.P(X10:X89) -> 0.025652488 | Y5: =_xlfn.STDEV.P(Y10:Y89) -> 0.007061071 | Z5: =_xlfn.STDEV.P(Z10:Z89) -> 0.0064761531 | AA5: =_xlfn.STDEV.P(AA10:AA89) -> 0.0085095656 | AB5: =_xlfn.STDEV.P(AB10:AB89) -> 0.054649905 | AC5: =_xlfn.STDEV.P(AC10:AC89) -> 0.066062981 | AD5: =_xlfn.STDEV.P(AD10:AD89) -> 0.053427451 | AE5: =_xlfn.STDEV.P(AE10:AE89) -> 0.047193107 | ... AJ5: =_xlfn.STDEV.P(AJ10:AJ89) -> 0.052851065 | AM5: Standard deviation | AN5: =_xlfn.STDEV.P(AN10:AN25) -> 1.7347235e-18 | AO5: =_xlfn.STDEV.P(AO10:AO25) -> 0.0067422988 | AP5: =_xlfn.STDEV.P(AP10:AP25) -> 0.0068164295 | AQ5: =_xlfn.STDEV.P(AQ10:AQ89) -> 0.014739987 | AR5: =_xlfn.STDEV.P(AR10:AR89) -> 0.0044601267 | AS5: =_xlfn.STDEV.P(AS10:AS89) -> 0.0091221358 | AT5: =_xlfn.STDEV.P(AT10:AT89) -> 0.0050098288 | AU5: =_xlfn.STDEV.P(AU10:AU89) -> 0.060952229 | AV5: =_xlfn.STDEV.P(AV10:AV89) -> 0.069505409 | AW5: =_xlfn.STDEV.P(AW10:AW89) -> 0.05204407 | AX5: =_xlfn.STDEV.P(AX10:AX89) -> 0.046271567 | ... BC5: =_xlfn.STDEV.P(BC10:BC89) -> 0.047195583
A6: n | B6: 16 | C6: 16 | D6: 16 | E6: 80 | F6: 80 | G6: 80 | H6: 80 | I6: 80 | J6: 80 | K6: 80 | L6: 80 | M6: 80 | N6: 80 | O6: 80 | P6: 80 | Q6: 80 | T6: n | U6: 16 | V6: 16 | W6: 16 | X6: 80 | Y6: 80 | Z6: 80 | AA6: 80 | AB6: 80 | AC6: 80 | AD6: 80 | AE6: 80 | AF6: 80 | AG6: 80 | AH6: 80 | AI6: 80 | AJ6: 80 | AM6: n | AN6: 16 | AO6: 16 | AP6: 16 | AQ6: 80 | AR6: 80 | AS6: 80 | AT6: 80 | AU6: 80 | AV6: 80 | AW6: 80 | AX6: 80 | AY6: 80 | AZ6: 80 | BA6: 80 | BB6: 80 | BC6: 80
A7: Confidence interval | B7: =_xlfn.CONFIDENCE.NORM(0.05,B5,B6) -> 8.4999888e-19 | C7: =_xlfn.CONFIDENCE.NORM(0.05,C5,C6) -> 0.0031704073 | D7: =_xlfn.CONFIDENCE.NORM(0.05,D5,D6) -> 0.00075497158 | E7: =_xlfn.CONFIDENCE.NORM(0.05,E5,E6) -> 0.00091791699 | F7: =_xlfn.CONFIDENCE.NORM(0.05,F5,F6) -> 0.0016655136 | G7: =_xlfn.CONFIDENCE.NORM(0.05,G5,G6) -> 0.0015663895 | H7: =_xlfn.CONFIDENCE.NORM(0.05,H5,H6) -> 0.0029968309 | I7: =_xlfn.CONFIDENCE.NORM(0.05,I5,I6) -> 0.00025288277 | ... Q7: =_xlfn.CONFIDENCE.NORM(0.05,Q5,Q6) -> 9.9349073e-05 | T7: Confidence interval | U7: =_xlfn.CONFIDENCE.NORM(0.05,U5,U6) -> 8.4999888e-19 | V7: =_xlfn.CONFIDENCE.NORM(0.05,V5,V6) -> 0.0016352302 | W7: =_xlfn.CONFIDENCE.NORM(0.05,W5,W6) -> 0.0057180335 | X7: =_xlfn.CONFIDENCE.NORM(0.05,X5,X6) -> 0.005621246 | Y7: =_xlfn.CONFIDENCE.NORM(0.05,Y5,Y6) -> 0.001547297 | Z7: =_xlfn.CONFIDENCE.NORM(0.05,Z5,Z6) -> 0.0014191235 | AA7: =_xlfn.CONFIDENCE.NORM(0.05,AA5,AA6) -> 0.0018647065 | AB7: =_xlfn.CONFIDENCE.NORM(0.05,AB5,AB6) -> 0.011975468 | ... AJ7: =_xlfn.CONFIDENCE.NORM(0.05,AJ5,AJ6) -> 0.011581287 | AM7: Confidence interval | AN7: =_xlfn.CONFIDENCE.NORM(0.05,AN5,AN6) -> 8.4999888e-19 | AO7: =_xlfn.CONFIDENCE.NORM(0.05,AO5,AO6) -> 0.0033036657 | AP7: =_xlfn.CONFIDENCE.NORM(0.05,AP5,AP6) -> 0.0033399891 | AQ7: =_xlfn.CONFIDENCE.NORM(0.05,AQ5,AQ6) -> 0.0032299827 | AR7: =_xlfn.CONFIDENCE.NORM(0.05,AR5,AR6) -> 0.00097735039 | AS7: =_xlfn.CONFIDENCE.NORM(0.05,AS5,AS6) -> 0.0019989394 | AT7: =_xlfn.CONFIDENCE.NORM(0.05,AT5,AT6) -> 0.001097807 | AU7: =_xlfn.CONFIDENCE.NORM(0.05,AU5,AU6) -> 0.013356501 | ... BC7: =_xlfn.CONFIDENCE.NORM(0.05,BC5,BC6) -> 0.010341998
A9: Time point | B9: 0 | C9: 1 | D9: 2 | E9: 3 | F9: 4 | G9: 5 | H9: 6 | I9: 7 | J9: 8 | K9: 9 | L9: 10 | M9: 11 | N9: 12 | O9: 13 | P9: 14 | Q9: 15 | T9: Time point | U9: 0 | V9: 1 | W9: 2 | X9: 3 | Y9: 4 | Z9: 5 | AA9: 6 | AB9: 7 | AC9: 8 | AD9: 9 | AE9: 10 | AF9: 11 | AG9: 12 | AH9: 13 | AI9: 14 | AJ9: 15 | AM9: Time point | AN9: 0 | AO9: 1 | AP9: 2 | AQ9: 3 | AR9: 4 | AS9: 5 | AT9: 6 | AU9: 7 | AV9: 8 | AW9: 9 | AX9: 10 | AY9: 11 | AZ9: 12 | BA9: 13 | BB9: 14 | BC9: 15
B10: 0.004 | C10: 0.0993 | D10: 0.04736 | E10: 0.0579 | F10: 0.08418 | G10: 0.08297 | H10: 0.01206 | I10: 0.00221 | J10: 0.00376 | K10: -0.0002 | L10: -0.0006375 | M10: -0.00139 | N10: -0.0002375 | O10: -0.0006125 | P10: -0.00115 | Q10: 0.0003875 | U10: 0.004 | V10: 0.1138 | W10: 0.17466 | X10: 0.1045 | Y10: 0.08067 | Z10: 0.09917 | AA10: 0.09496 | AB10: 0.01841 | AC10: 0.00146 | AD10: 0.0002 | AE10: 0.0001625 | AF10: 0.0006125 | AG10: 0.0001625 | AH10: 0.00229 | AI10: -0.00025 | AJ10: 0.00109 | AN10: 0.004 | AO10: 0.1199 | AP10: 0.14306 | AQ10: 0.1149 | AR10: 0.08997 | AS10: 0.09018 | AT10: 0.08286 | AU10: 0.07751 | AV10: 0.00846 | AW10: -0.0004 | AX10: 0.0008625 | AY10: -0.0001875 | AZ10: 0.0001625 | BA10: -0.0008125 | BB10: 5e-05 | BC10: 0.00149
B11: 0.004 | C11: 0.0948 | D11: 0.04866 | E11: 0.0562 | F11: 0.08678 | G11: 0.08188 | H11: 0.00796 | I11: 0.0008125 | J11: 0.0002625 | K11: 3.46945e-18 | L11: -0.0002375 | M11: -0.00209 | N11: -0.0008375 | O11: -0.00151 | P11: -0.00125 | Q11: -0.0003125 | U11: 0.004 | V11: 0.1124 | W11: 0.13856 | X11: 0.0942 | Y11: 0.08388 | Z11: 0.09748 | AA11: 0.10266 | AB11: 0.03191 | AC11: 0.00266 | AD11: -0.0017 | AE11: -0.0007375 | AF11: -0.00179 | AG11: -0.0008375 | AH11: -0.0009125 | AI11: -0.00215 | AJ11: -0.0007125 | AN11: 0.004 | AO11: 0.127 | AP11: 0.13336 | AQ11: 0.1081 | AR11: 0.09237 | AS11: 0.09598 | AT11: 0.08126 | AU11: 0.05781 | AV11: 0.20506 | AW11: 0.079 | AX11: 0.11576 | AY11: 0.06851 | AZ11: 0.10106 | BA11: 0.07709 | BB11: 0.09625 | BC11: 0.08379
B12: 0.004 | C12: 0.0874 | D12: 0.04936 | E12: 0.0524 | F12: 0.08407 | G12: 0.07908 | H12: 0.01086 | I12: 0.0006125 | J12: 0.0003625 | K12: 0.0006 | L12: 0.0002625 | M12: -0.00109 | N12: -0.0002375 | O12: -0.0008125 | P12: -0.00125 | Q12: -0.0001125 | U12: 0.004 | V12: 0.1117 | W12: 0.13026 | X12: 0.0999 | Y12: 0.08107 | Z12: 0.09828 | AA12: 0.08806 | AB12: 0.01391 | AC12: -3.75e-05 | AD12: -0.0003 | AE12: 0.00136 | AF12: 0.0009125 | AG12: 0.0003625 | AH12: 0.0002875 | AI12: -0.00105 | AJ12: 0.0005875 | AN12: 0.004 | AO12: 0.1268 | AP12: 0.14646 | AQ12: 0.1081 | AR12: 0.09048 | AS12: 0.09557 | AT12: 0.07946 | AU12: 0.00691 | AV12: 0.00106 | AW12: -0.0011 | AX12: -0.0004375 | AY12: -0.0009875 | AZ12: -0.0004375 | BA12: -0.0009125 | BB12: -0.00145 | BC12: 0.0003875
B13: 0.004 | C13: 0.0853 | D13: 0.05026 | E13: 0.0534 | F13: 0.08478 | G13: 0.07347 | H13: 0.00656 | I13: 0.0001125 | J13: -0.0001375 | K13: -0.0004 | L13: -0.0002375 | M13: -0.00159 | N13: -0.00104 | O13: -0.0004125 | P13: -0.00205 | Q13: -0.0005125 | U13: 0.004 | V13: 0.1106 | W13: 0.13756 | X13: 0.1082 | Y13: 0.08007 | Z13: 0.09577 | AA13: 0.08896 | AB13: 0.04351 | AC13: 0.00536 | AD13: -0.0011 | AE13: -0.0002375 | AF13: -0.00119 | AG13: -0.0009375 | AH13: -0.0009125 | AI13: -0.00165 | AJ13: -0.0002125 | AN13: 0.004 | AO13: 0.1252 | AP13: 0.15366 | AQ13: 0.1072 | AR13: 0.09477 | AS13: 0.09748 | AT13: 0.08146 | AU13: 0.09741 | AV13: 0.15476 | AW13: 0.0755 | AX13: 0.08336 | AY13: 0.07011 | AZ13: 0.05776 | BA13: 0.07909 | BB13: 0.09915 | BC13: 0.08459
B14: 0.004 | C14: 0.087 | D14: 0.04836 | E14: 0.0559 | F14: 0.07958 | G14: 0.07717 | H14: 0.00896 | I14: 0.0003125 | J14: 0.0008625 | K14: 3.46945e-18 | L14: 0.0001625 | M14: -0.0005875 | N14: -0.0004375 | O14: -0.0008125 | P14: -0.00135 | Q14: 0.0004875 | U14: 0.004 | V14: 0.1114 | W14: 0.12426 | X14: 0.1019 | Y14: 0.08078 | Z14: 0.09458 | AA14: 0.08076 | AB14: 0.01351 | AC14: 0.00116 | AD14: -0.0002 | AE14: 0.00116 | AF14: -0.0008875 | AG14: 0.0006625 | AH14: 0.0001875 | AI14: -0.00015 | AJ14: 0.0008875 | AN14: 0.004 | AO14: 0.1278 | AP14: 0.14796 | AQ14: 0.1081 | AR14: 0.09077 | AS14: 0.09817 | AT14: 0.08276 | AU14: 0.01101 | AV14: 0.01776 | AW14: 0.0811 | AX14: 0.06966 | AY14: 0.00771 | AZ14: 0.02636 | BA14: 0.05189 | BB14: 0.04475 | BC14: 0.07009
B15: 0.004 | C15: 0.0852 | D15: 0.05016 | E15: 0.0559 | F15: 0.07618 | G15: 0.07408 | H15: 0.00836 | I15: 1.25e-05 | J15: -0.0002375 | K15: -0.0005 | L15: -0.0004375 | M15: -0.00169 | N15: -0.00104 | O15: -0.00131 | P15: -0.00155 | Q15: -0.0005125 | U15: 0.004 | V15: 0.1137 | W15: 0.13566 | X15: 0.1057 | Y15: 0.08217 | Z15: 0.09878 | AA15: 0.08296 | AB15: 0.01281 | AC15: 0.0003625 | AD15: -0.0009 | AE15: -0.0002375 | AF15: -0.00129 | AG15: -0.0004375 | AH15: -0.0007125 | AI15: -0.00065 | AJ15: 8.75e-05 | AN15: 0.004 | AO15: 0.1218 | AP15: 0.15046 | AQ15: 0.1118 | AR15: 0.09327 | AS15: 0.09648 | AT15: 0.08526 | AU15: 0.10361 | AV15: 0.00456 | AW15: -0.0008 | AX15: 6.25e-05 | AY15: -0.0009875 | AZ15: -0.0006375 | BA15: -0.0002125 | BB15: -0.00105 | BC15: 0.0005875
B16: 0.004 | C16: 0.0913 | D16: 0.04786 | E16: 0.0527 | F16: 0.07537 | G16: 0.07687 | H16: 0.01566 | I16: 0.0005125 | J16: -0.0004375 | K16: 0.0006 | L16: -0.0005375 | M16: -0.00169 | N16: -0.0004375 | O16: -0.0006125 | P16: -0.00155 | Q16: -0.0001125 | U16: 0.004 | V16: 0.1128 | W16: 0.12986 | X16: 0.0988 | Y16: 0.08167 | Z16: 0.09548 | AA16: 0.08686 | AB16: 0.01091 | AC16: 0.0006625 | AD16: -0.0005 | AE16: 0.0004625 | AF16: 0.0005125 | AG16: 0.0003625 | AH16: -1.25e-05 | AI16: -0.00045 | AJ16: 0.0007875 | AN16: 0.004 | AO16: 0.1199 | AP16: 0.14736 | AQ16: 0.1226 | AR16: 0.09517 | AS16: 0.09098 | AT16: 0.08196 | AU16: 0.02201 | AV16: 0.0009625 | AW16: -0.0004 | AX16: -3.75e-05 | AY16: -0.0003875 | AZ16: 6.25e-05 | BA16: -0.0007125 | BB16: -0.00075 | BC16: -0.0002125
B17: 0.004 | C17: 0.0945 | D17: 0.04876 | E17: 0.0572 | F17: 0.07618 | G17: 0.07967 | H17: 0.01726 | I17: 0.00121 | J17: -0.0003375 | K17: 3.46945e-18 | L17: 0.0001625 | M17: -0.00209 | N17: -0.0008375 | O17: -0.0009125 | P17: -0.00185 | Q17: -0.0005125 | U17: 0.004 | V17: 0.117 | W17: 0.13276 | X17: 0.1053 | Y17: 0.07988 | Z17: 0.09477 | AA17: 0.09066 | AB17: 0.11181 | AC17: 0.18536 | AD17: 0.0701 | AE17: 0.00676 | AF17: -0.0006875 | AG17: -0.0004375 | AH17: -0.0006125 | AI17: -0.00115 | AJ17: -1.25e-05 | AN17: 0.004 | AO17: 0.1152 | AP17: 0.14546 | AQ17: 0.1116 | AR17: 0.09008 | AS17: 0.09267 | AT17: 0.08196 | AU17: 0.04141 | AV17: 0.00746 | AW17: -0.0009 | AX17: 0.00126 | AY17: -0.0005875 | AZ17: -0.0003375 | BA17: -0.0003125 | BB17: -0.00155 | BC17: -0.0001125
B18: 0.004 | C18: 0.1028 | D18: 0.05116 | E18: 0.05664 | F18: 0.08972 | G18: 0.09414 | H18: 0.01461 | I18: 0.0029 | J18: 0.0003125 | K18: -0.0002 | L18: -0.000225 | M18: -0.0002375 | N18: -7.5e-05 | O18: -0.00103 | P18: 0.0001875 | Q18: 0.0002625 | U18: 0.004 | V18: 0.1199 | W18: 0.13386 | X18: 0.15874 | Y18: 0.08643 | Z18: 0.10924 | AA18: 0.11591 | AB18: 0.1598 | AC18: 0.11911 | AD18: 0.0345 | AE18: 0.12987 | AF18: 0.05596 | AG18: 0.13592 | AH18: 0.15718 | AI18: 0.21039 | AJ18: 0.16616 | AN18: 0.004 | AO18: 0.1176 | AP18: 0.15856 | AQ18: 0.15604 | AR18: 0.09613 | AS18: 0.11524 | AT18: 0.08991 | AU18: 0.0062 | AV18: 0.00131 | AW18: -0.0011 | AX18: 0.000975 | AY18: 0.0004625 | AZ18: 0.000825 | BA18: -0.000625 | BB18: 0.00159 | BC18: 0.00146
B19: 0.004 | C19: 0.099 | D19: 0.05226 | E19: 0.05414 | F19: 0.08803 | G19: 0.08594 | H19: 0.00991 | I19: 0.0006 | J19: 1.25e-05 | K19: -0.0008 | L19: -0.000325 | M19: -0.00134 | N19: -0.000775 | O19: -0.000925 | P19: 8.75e-05 | Q19: 0.0004625 | U19: 0.004 | V19: 0.1153 | W19: 0.12686 | X19: 0.12574 | Y19: 0.08532 | Z19: 0.10624 | AA19: 0.11461 | AB19: 0.1446 | AC19: 0.09891 | AD19: 0.0259 | AE19: 0.08098 | AF19: 0.00246 | AG19: -0.000575 | AH19: -0.000825 | AI19: -0.0004125 | AJ19: -0.0006375 | AN19: 0.004 | AO19: 0.1042 | AP19: 0.15316 | AQ19: 0.13274 | AR19: 0.09242 | AS19: 0.10974 | AT19: 0.08761 | AU19: 0.1648 | AV19: 0.12881 | AW19: 0.0935 | AX19: 0.10928 | AY19: 0.08266 | AZ19: 0.09402 | BA19: 0.09728 | BB19: 0.11139 | BC19: 0.09336
B20: 0.004 | C20: 0.0864 | D20: 0.05246 | E20: 0.05544 | F20: 0.08432 | G20: 0.08214 | H20: 0.00811 | I20: -0.0001 | J20: 0.0004125 | K20: 0.0001 | L20: -2.5e-05 | M20: -0.0006375 | N20: -7.5e-05 | O20: -0.000425 | P20: -0.0003125 | Q20: 0.0001625 | U20: 0.004 | V20: 0.1163 | W20: 0.13316 | X20: 0.13924 | Y20: 0.08543 | Z20: 0.10594 | AA20: 0.10781 | AB20: 0.0964 | AC20: 0.04841 | AD20: 0.0355 | AE20: 0.04288 | AF20: 0.03286 | AG20: 0.03743 | AH20: 0.03848 | AI20: 0.05689 | AJ20: 0.03456 | AN20: 0.004 | AO20: 0.1126 | AP20: 0.16156 | AQ20: 0.12454 | AR20: 0.09413 | AS20: 0.10134 | AT20: 0.08531 | AU20: 0.1596 | AV20: 0.11211 | AW20: 0.1037 | AX20: 0.10237 | AY20: 0.09726 | AZ20: 0.10443 | BA20: 0.11918 | BB20: 0.12339 | BC20: 0.11306
B21: 0.004 | C21: 0.0847 | D21: 0.04996 | E21: 0.05044 | F21: 0.08192 | G21: 0.08454 | H21: 0.01151 | I21: 0.0001 | J21: -0.0001875 | K21: -0.0002 | L21: -0.000825 | M21: -0.0009375 | N21: -0.000575 | O21: -0.000725 | P21: -0.0005125 | Q21: -0.0005375 | U21: 0.004 | V21: 0.1198 | W21: 0.12886 | X21: 0.16164 | Y21: 0.08503 | Z21: 0.10254 | AA21: 0.10291 | AB21: 0.0108 | AC21: -0.0008875 | AD21: -0.0012 | AE21: 0.00198 | AF21: -0.0004375 | AG21: -0.000575 | AH21: -0.000925 | AI21: 0.0002875 | AJ21: -3.75e-05 | AN21: 0.004 | AO21: 0.1162 | AP21: 0.14646 | AQ21: 0.12954 | AR21: 0.09632 | AS21: 0.10934 | AT21: 0.08461 | AU21: 0.1503 | AV21: 0.12681 | AW21: 0.0953 | AX21: 0.10068 | AY21: 0.11076 | AZ21: 0.10183 | BA21: 0.09488 | BB21: 0.10729 | BC21: 0.07456
... B25: 0.004 | C25: 0.0984 | D25: 0.04786 | E25: 0.05634 | F25: 0.08163 | G25: 0.08424 | H25: 0.01291 | I25: 0.0001 | J25: -0.0004875 | K25: -0.0006 | L25: -0.000725 | M25: -0.0009375 | N25: -0.000975 | O25: -0.000625 | P25: -0.0002125 | Q25: -0.0002375 | U25: 0.004 | V25: 0.1176 | W25: 0.12396 | X25: 0.16524 | Y25: 0.08513 | Z25: 0.10714 | AA25: 0.10271 | AB25: 0.038 | AC25: 0.00561 | AD25: 0.0875 | AE25: 0.06828 | AF25: 0.07606 | AG25: 0.08722 | AH25: 0.12258 | AI25: 0.13359 | AJ25: 0.12756 | AN25: 0.004 | AO25: 0.1115 | AP25: 0.14436 | AQ25: 0.13574 | AR25: 0.09392 | AS25: 0.10614 | AT25: 0.08811 | AU25: 0.1073 | AV25: 0.01931 | AW25: 0 | AX25: -0.000125 | AY25: -0.0005375 | AZ25: 0.000125 | BA25: 7.5e-05 | BB25: 8.75e-05 | BC25: 0.0002625
E26: 0.06109 | F26: 0.10474 | G26: 0.09886 | H26: 0.01499 | I26: 0.00148 | J26: 0.0008625 | K26: 3.46945e-18 | L26: -0.0006125 | M26: -0.000675 | N26: -0.00015 | O26: -0.000675 | P26: 0.0002375 | Q26: 0.0003625 | X26: 0.12859 | Y26: 0.10534 | Z26: 0.11456 | AA26: 0.11529 | AB26: 0.14447 | AC26: 0.17616 | AD26: 0.1239 | AE26: 0.01149 | AF26: 0.00503 | AG26: 0.00965 | AH26: 0.04093 | AI26: 0.01354 | AJ26: 0.10786 | AQ26: 0.14649 | AR26: 0.10784 | AS26: 0.12206 | AT26: 0.10759 | AU26: 0.01478 | AV26: 0.01246 | AW26: 0.0218 | AX26: 0.00449 | AY26: 2.5e-05 | AZ26: 0.00055 | BA26: -0.000475 | BB26: 0.00204 | BC26: 0.00176
E27: 0.05789 | F27: 0.10924 | G27: 0.09426 | H27: 0.00999 | I27: 0.000475 | J27: 0.0003625 | K27: -0.0007 | L27: -0.0006125 | M27: -0.00137 | N27: -0.00095 | O27: -0.00108 | P27: -0.0001625 | Q27: 6.25e-05 | X27: 0.12549 | Y27: 0.10634 | Z27: 0.11386 | AA27: 0.11069 | AB27: 0.14697 | AC27: 0.16816 | AD27: 0.1283 | AE27: 0.10629 | AF27: 0.09373 | AG27: 0.05115 | AH27: 0.09012 | AI27: 0.10834 | AJ27: 0.09266 | AQ27: 0.15649 | AR27: 0.10234 | AS27: 0.11986 | AT27: 0.09939 | AU27: 0.07817 | AV27: 0.04966 | AW27: 0.0718 | AX27: 0.04589 | AY27: 0.13453 | AZ27: 0.12385 | BA27: 0.12273 | BB27: 0.14224 | BC27: 0.12896
E28: 0.05899 | F28: 0.09164 | G28: 0.08766 | H28: 0.00979 | I28: 0.000175 | J28: 0.0001625 | K28: 3.46945e-18 | L28: -0.0005125 | M28: -0.000675 | N28: -0.00065 | O28: -0.000375 | P28: -0.0003625 | Q28: -0.0002375 | X28: 0.12129 | Y28: 0.09784 | Z28: 0.10666 | AA28: 0.11569 | AB28: 0.11278 | AC28: 0.06876 | AD28: 0.008 | AE28: 0.00109 | AF28: 0.000925 | AG28: -0.00025 | AH28: 0.000525 | AI28: 0.0005375 | AJ28: -0.0002375 | AQ28: 0.12939 | AR28: 0.09974 | AS28: 0.11666 | AT28: 0.09369 | AU28: 0.08328 | AV28: 0.14116 | AW28: 0.1355 | AX28: 0.09449 | AY28: 0.12812 | AZ28: 0.12475 | BA28: 0.13192 | BB28: 0.12444 | BC28: 0.12326
E29: 0.05269 | F29: 0.08884 | G29: 0.08546 | H29: 0.00909 | I29: -0.000125 | J29: -0.0004375 | K29: -0.0005 | L29: -0.00101 | M29: -0.00128 | N29: -0.00095 | O29: -0.000775 | P29: -0.0004625 | Q29: -0.0001375 | X29: 0.11509 | Y29: 0.09524 | Z29: 0.10436 | AA29: 0.10759 | AB29: 0.14258 | AC29: 0.08996 | AD29: 0.1083 | AE29: 0.03409 | AF29: 0.06202 | AG29: 0.07585 | AH29: 0.12433 | AI29: 0.13634 | AJ29: 0.13446 | AQ29: 0.16109 | AR29: 0.10714 | AS29: 0.11906 | AT29: 0.09219 | AU29: 0.08317 | AV29: 0.01756 | AW29: 0.0059 | AX29: 0.00779 | AY29: -0.000675 | AZ29: 0.00015 | BA29: -0.000675 | BB29: -6.25e-05 | BC29: 6.25e-05
E30: 0.05549 | F30: 0.09064 | G30: 0.08476 | H30: 0.00999 | I30: 0.000475 | J30: 6.25e-05 | K30: 3.46945e-18 | L30: -0.0004125 | M30: -7.5e-05 | N30: -0.00045 | O30: -0.000475 | P30: -0.0002625 | Q30: 0.0004625 | X30: 0.12329 | Y30: 0.09544 | Z30: 0.09976 | AA30: 0.11879 | AB30: 0.10318 | AC30: 0.12076 | AD30: 0.1281 | AE30: 0.07559 | AF30: 0.11793 | AG30: 0.09865 | AH30: 0.11013 | AI30: 0.08814 | AJ30: 0.08506 | AQ30: 0.12829 | AR30: 0.10574 | AS30: 0.12076 | AT30: 0.09369 | AU30: 0.06308 | AV30: 0.01966 | AW30: 0.0497 | AX30: 0.06289 | AY30: 0.05022 | AZ30: 0.00465 | BA30: 0.00103 | BB30: 0.00144 | BC30: 0.0003625
E31: 0.05639 | F31: 0.08974 | G31: 0.08316 | H31: 0.01479 | I31: 0.000475 | J31: -0.0001375 | K31: -0.0002 | L31: -0.00111 | M31: -0.00108 | N31: -0.00115 | O31: -0.000775 | P31: -0.0003625 | Q31: -0.0006375 | X31: 0.12959 | Y31: 0.10044 | Z31: 0.10546 | AA31: 0.11619 | AB31: 0.11887 | AC31: 0.09256 | AD31: 0.0751 | AE31: 0.00469 | AF31: 0.000125 | AG31: -0.00065 | AH31: -0.000475 | AI31: 3.75e-05 | AJ31: 0.0002625 | AQ31: 0.16119 | AR31: 0.10684 | AS31: 0.12176 | AT31: 0.09599 | AU31: 0.13528 | AV31: 0.15266 | AW31: 0.0966 | AX31: 0.08659 | AY31: 0.04423 | AZ31: 0.07575 | BA31: 0.05693 | BB31: 0.05084 | BC31: 0.07206
E32: 0.05889 | F32: 0.09824 | G32: 0.08746 | H32: 0.01259 | I32: 0.000875 | J32: 6.25e-05 | K32: -0.0003 | L32: -0.0008125 | M32: -0.000975 | N32: -0.00045 | O32: -7.5e-05 | P32: -0.0003625 | Q32: -0.0003375 | X32: 0.14049 | Y32: 0.09944 | Z32: 0.10846 | AA32: 0.10289 | AB32: 0.12557 | AC32: 0.16096 | AD32: 0.1515 | AE32: 0.12269 | AF32: 0.13033 | AG32: 0.12855 | AH32: 0.14213 | AI32: 0.13784 | AJ32: 0.13236 | AQ32: 0.15529 | AR32: 0.10114 | AS32: 0.11656 | AT32: 0.09839 | AU32: 0.01918 | AV32: 0.04486 | AW32: 0.0377 | AX32: 0.06029 | AY32: 0.05583 | AZ32: 0.05185 | BA32: 0.08403 | BB32: 0.06954 | BC32: 0.08986
E33: 0.05869 | F33: 0.10374 | G33: 0.10026 | H33: 0.01319 | I33: 0.000575 | J33: -0.0001375 | K33: -0.0005 | L33: -0.0005125 | M33: -0.000975 | N33: -0.00115 | O33: -0.000775 | P33: -0.0005625 | Q33: -0.0003375 | X33: 0.14729 | Y33: 0.09894 | Z33: 0.11416 | AA33: 0.10909 | AB33: 0.00937 | AC33: 0.0004625 | AD33: -0.0011 | AE33: -0.0007125 | AF33: -0.000475 | AG33: -0.00045 | AH33: -0.000675 | AI33: 0.0007375 | AJ33: 0.0004625 | AQ33: 0.17149 | AR33: 0.10064 | AS33: 0.11956 | AT33: 0.09979 | AU33: 0.13158 | AV33: 0.08436 | AW33: 0.0719 | AX33: 0.03589 | AY33: 0.04562 | AZ33: 0.09035 | BA33: 0.10443 | BB33: 0.08864 | BC33: 0.12966
E34: 0.05909 | F34: 0.08543 | G34: 0.07879 | H34: 0.00969 | I34: 0.00136 | J34: 0.00045 | K34: -2.5e-05 | L34: 0.00145 | M34: -0.000275 | N34: -0.0002125 | O34: -0.0004 | P34: 0.000275 | Q34: 0.0007375 | X34: 0.11959 | Y34: 0.08603 | Z34: 0.10749 | AA34: 0.10439 | AB34: 0.08256 | AC34: 0.07015 | AD34: 0.10448 | AE34: 0.07055 | AF34: 0.09212 | AG34: 0.07339 | AH34: 0.085 | AI34: 0.07587 | AJ34: 0.06794 | AQ34: 0.13749 | AR34: 0.09323 | AS34: 0.09489 | AT34: 0.08649 | AU34: 0.03226 | AV34: 0.00255 | AW34: -0.000325 | AX34: 0.00215 | AY34: 0.000725 | AZ34: 0.0002875 | BA34: -0.0003 | BB34: 0.00148 | BC34: 0.00154
E35: 0.05469 | F35: 0.09093 | G35: 0.08039 | H35: 0.01029 | I35: 0.0006625 | J35: 0.00155 | K35: -0.000525 | L35: 0.00045 | M35: -0.00158 | N35: -0.0009125 | O35: -0.0012 | P35: 7.5e-05 | Q35: 0.0002375 | X35: 0.11639 | Y35: 0.08972 | Z35: 0.10479 | AA35: 0.09619 | AB35: 0.06936 | AC35: 0.07675 | AD35: 0.10098 | AE35: 0.07155 | AF35: 0.04373 | AG35: 0.06969 | AH35: 0.0594 | AI35: 0.07287 | AJ35: 0.05644 | AQ35: 0.12449 | AR35: 0.09302 | AS35: 0.09599 | AT35: 0.08409 | AU35: 0.00946 | AV35: 0.00025 | AW35: -0.000825 | AX35: 0.00025 | AY35: -0.000575 | AZ35: -0.0002125 | BA35: -0.0002 | BB35: 0.000275 | BC35: -6.25e-05
E36: 0.05549 | F36: 0.08833 | G36: 0.07719 | H36: 0.00719 | I36: 6.25e-05 | J36: 5e-05 | K36: -0.000225 | L36: -0.00025 | M36: -7.5e-05 | N36: -0.0003125 | O36: -0.0005 | P36: -0.000125 | Q36: 3.75e-05 | X36: 0.11419 | Y36: 0.09173 | Z36: 0.10489 | AA36: 0.10029 | AB36: 0.12236 | AC36: 0.05845 | AD36: 0.04648 | AE36: 0.06855 | AF36: 0.06972 | AG36: 0.07109 | AH36: 0.0669 | AI36: 0.04668 | AJ36: 0.06554 | AQ36: 0.12549 | AR36: 0.09392 | AS36: 0.09609 | AT36: 0.08479 | AU36: 0.00736 | AV36: -0.00035 | AW36: -0.00112 | AX36: -5e-05 | AY36: -0.000575 | AZ36: -0.0004125 | BA36: -0.0006 | BB36: 7.5e-05 | BC36: -0.0002625
E37: 0.05369 | F37: 0.08472 | G37: 0.07259 | H37: 0.00619 | I37: 0.0006625 | J37: 5e-05 | K37: -2.5e-05 | L37: -0.00045 | M37: -0.00108 | N37: -0.00101 | O37: -0.0008 | P37: -0.000625 | Q37: -0.0003625 | X37: 0.11659 | Y37: 0.08822 | Z37: 0.10339 | AA37: 0.10219 | AB37: 0.10756 | AC37: 0.12505 | AD37: 0.10228 | AE37: 0.08205 | AF37: 0.06292 | AG37: 0.00199 | AH37: -0.0008 | AI37: -2.5e-05 | AJ37: -0.0001625 | AQ37: 0.13069 | AR37: 0.09642 | AS37: 0.09899 | AT37: 0.08829 | AU37: 0.13526 | AV37: 0.10775 | AW37: 0.06978 | AX37: 0.09255 | AY37: 0.03923 | AZ37: 0.00209 | BA37: -0.0001 | BB37: 0.00908 | BC37: 0.08244
... E89: 0.0604 | F89: 0.08994 | G89: 0.08835 | H89: 0.01361 | I89: 0.00025 | J89: 0.0001375 | K89: 7.5e-05 | L89: 0.0002625 | M89: -0.0004875 | N89: 0.0004625 | O89: -0.0001 | P89: 0.00254 | Q89: 0.0001375 | X89: 0.1639 | Y89: 0.08924 | Z89: 0.10685 | AA89: 0.09991 | AB89: 0.14485 | AC89: 0.16844 | AD89: 0.10967 | AE89: 0.08226 | AF89: 0.08041 | AG89: 0.12706 | AH89: 0.0696 | AI89: 0.10374 | AJ89: 0.08934 | AQ89: 0.1373 | AR89: 0.09844 | AS89: 0.09715 | AT89: 0.09311 | AU89: 0.01585 | AV89: 0.01144 | AW89: 0.09657 | AX89: 0.05836 | AY89: 0.03321 | AZ89: 0.09546 | BA89: 0.0849 | BB89: 0.09934 | BC89: 0.11874

Sheet Figure 2b
A1: Treatment group | B1: TETRA - CO | T1: Treatment group | U1: TETRA - TRP | AM1: Treatment group | AN1: TETRA - TYR
A4: Average | B4: =AVERAGE(B10:B25) -> 0.004 | C4: =AVERAGE(C10:C25) -> 0.09091875 | D4: =AVERAGE(D10:D25) -> 0.04944125 | E4: =AVERAGE(E10:E89) -> 0.049336875 | F4: =AVERAGE(F10:F89) -> 0.076891 | G4: =AVERAGE(G10:G89) -> 0.07322525 | H4: =AVERAGE(H10:H89) -> 0.06646925 | I4: =AVERAGE(I10:I89) -> 0.034821875 | J4: =AVERAGE(J10:J89) -> 0.042633875 | K4: =AVERAGE(K10:K89) -> 0.04428775 | L4: =AVERAGE(L10:L89) -> 0.030055156 | ... Q4: =AVERAGE(Q10:Q89) -> 0.027598562 | T4: Average | U4: =AVERAGE(U10:U25) -> 0.004 | V4: =AVERAGE(V10:V25) -> 0.1155875 | W4: =AVERAGE(W10:W25) -> 0.13310375 | X4: =AVERAGE(X10:X89) -> 0.14899425 | Y4: =AVERAGE(Y10:Y89) -> 0.12084725 | Z4: =AVERAGE(Z10:Z89) -> 0.12832987 | AA4: =AVERAGE(AA10:AA89) -> 0.11284675 | AB4: =AVERAGE(AB10:AB89) -> 0.14631087 | AC4: =AVERAGE(AC10:AC89) -> 0.1637645 | AD4: =AVERAGE(AD10:AD89) -> 0.13753737 | AE4: =AVERAGE(AE10:AE89) -> 0.11583437 | ... AJ4: =AVERAGE(AJ10:AJ89) -> 0.1107985 | AM4: Average | AN4: =AVERAGE(AN10:AN25) -> 0.004 | AO4: =AVERAGE(AO10:AO25) -> 0.1175875 | AP4: =AVERAGE(AP10:AP25) -> 0.14910375 | AQ4: =AVERAGE(AQ10:AQ89) -> 0.14518225 | AR4: =AVERAGE(AR10:AR89) -> 0.12234225 | AS4: =AVERAGE(AS10:AS89) -> 0.142269 | AT4: =AVERAGE(AT10:AT89) -> 0.1390955 | AU4: =AVERAGE(AU10:AU89) -> 0.13789975 | AV4: =AVERAGE(AV10:AV89) -> 0.14724687 | AW4: =AVERAGE(AW10:AW89) -> 0.121043 | AX4: =AVERAGE(AX10:AX89) -> 0.10863412 | ... BC4: =AVERAGE(BC10:BC89) -> 0.11846887
A5: Standard deviation | B5: =_xlfn.STDEV.P(B10:B25) -> 1.7347235e-18 | C5: =_xlfn.STDEV.P(C10:C25) -> 0.006470338 | D5: =_xlfn.STDEV.P(D10:D25) -> 0.0015407866 | E5: =_xlfn.STDEV.P(E10:E89) -> 0.0035051657 | F5: =_xlfn.STDEV.P(F10:F89) -> 0.010533019 | G5: =_xlfn.STDEV.P(G10:G89) -> 0.023123201 | H5: =_xlfn.STDEV.P(H10:H89) -> 0.031363509 | I5: =_xlfn.STDEV.P(I10:I89) -> 0.035417964 | J5: =_xlfn.STDEV.P(J10:J89) -> 0.026174162 | K5: =_xlfn.STDEV.P(K10:K89) -> 0.028826303 | L5: =_xlfn.STDEV.P(L10:L89) -> 0.032948714 | ... Q5: =_xlfn.STDEV.P(Q10:Q89) -> 0.041096759 | T5: Standard deviation | U5: =_xlfn.STDEV.P(U10:U25) -> 1.7347235e-18 | V5: =_xlfn.STDEV.P(V10:V25) -> 0.0033372659 | W5: =_xlfn.STDEV.P(W10:W25) -> 0.011669671 | X5: =_xlfn.STDEV.P(X10:X89) -> 0.025041423 | Y5: =_xlfn.STDEV.P(Y10:Y89) -> 0.0085505115 | Z5: =_xlfn.STDEV.P(Z10:Z89) -> 0.0062240894 | AA5: =_xlfn.STDEV.P(AA10:AA89) -> 0.011699036 | AB5: =_xlfn.STDEV.P(AB10:AB89) -> 0.017588206 | AC5: =_xlfn.STDEV.P(AC10:AC89) -> 0.026201699 | AD5: =_xlfn.STDEV.P(AD10:AD89) -> 0.028080622 | AE5: =_xlfn.STDEV.P(AE10:AE89) -> 0.014010201 | ... AJ5: =_xlfn.STDEV.P(AJ10:AJ89) -> 0.010870785 | AM5: Standard deviation | AN5: =_xlfn.STDEV.P(AN10:AN25) -> 1.7347235e-18 | AO5: =_xlfn.STDEV.P(AO10:AO25) -> 0.0067422988 | AP5: =_xlfn.STDEV.P(AP10:AP25) -> 0.0068164295 | AQ5: =_xlfn.STDEV.P(AQ10:AQ89) -> 0.021588625 | AR5: =_xlfn.STDEV.P(AR10:AR89) -> 0.0088208784 | AS5: =_xlfn.STDEV.P(AS10:AS89) -> 0.010772667 | AT5: =_xlfn.STDEV.P(AT10:AT89) -> 0.010704993 | AU5: =_xlfn.STDEV.P(AU10:AU89) -> 0.013786453 | AV5: =_xlfn.STDEV.P(AV10:AV89) -> 0.03941817 | AW5: =_xlfn.STDEV.P(AW10:AW89) -> 0.020042416 | AX5: =_xlfn.STDEV.P(AX10:AX89) -> 0.014786332 | ... BC5: =_xlfn.STDEV.P(BC10:BC89) -> 0.017253656
A6: n | B6: 16 | C6: 16 | D6: 16 | E6: 80 | F6: 80 | G6: 80 | H6: 80 | I6: 80 | J6: 80 | K6: 80 | L6: 80 | M6: 80 | N6: 80 | O6: 80 | P6: 80 | Q6: 80 | T6: n | U6: 16 | V6: 16 | W6: 16 | X6: 80 | Y6: 80 | Z6: 80 | AA6: 80 | AB6: 80 | AC6: 80 | AD6: 80 | AE6: 80 | AF6: 80 | AG6: 80 | AH6: 80 | AI6: 80 | AJ6: 80 | AM6: n | AN6: 16 | AO6: 16 | AP6: 16 | AQ6: 80 | AR6: 80 | AS6: 80 | AT6: 80 | AU6: 80 | AV6: 80 | AW6: 80 | AX6: 80 | AY6: 80 | AZ6: 80 | BA6: 80 | BB6: 80 | BC6: 80
A7: Confidence interval | B7: =_xlfn.CONFIDENCE.NORM(0.05,B5,B6) -> 8.4999888e-19 | C7: =_xlfn.CONFIDENCE.NORM(0.05,C5,C6) -> 0.0031704073 | D7: =_xlfn.CONFIDENCE.NORM(0.05,D5,D6) -> 0.00075497158 | E7: =_xlfn.CONFIDENCE.NORM(0.05,E5,E6) -> 0.00076808918 | F7: =_xlfn.CONFIDENCE.NORM(0.05,F5,F6) -> 0.0023081072 | G7: =_xlfn.CONFIDENCE.NORM(0.05,G5,G6) -> 0.0050670017 | H7: =_xlfn.CONFIDENCE.NORM(0.05,H5,H6) -> 0.0068727056 | I7: =_xlfn.CONFIDENCE.NORM(0.05,I5,I6) -> 0.007761161 | ... Q7: =_xlfn.CONFIDENCE.NORM(0.05,Q5,Q6) -> 0.0090055588 | T7: Confidence interval | U7: =_xlfn.CONFIDENCE.NORM(0.05,U5,U6) -> 8.4999888e-19 | V7: =_xlfn.CONFIDENCE.NORM(0.05,V5,V6) -> 0.0016352302 | W7: =_xlfn.CONFIDENCE.NORM(0.05,W5,W6) -> 0.0057180335 | X7: =_xlfn.CONFIDENCE.NORM(0.05,X5,X6) -> 0.0054873429 | Y7: =_xlfn.CONFIDENCE.NORM(0.05,Y5,Y6) -> 0.001873679 | Z7: =_xlfn.CONFIDENCE.NORM(0.05,Z5,Z6) -> 0.0013638887 | AA7: =_xlfn.CONFIDENCE.NORM(0.05,AA5,AA6) -> 0.0025636172 | AB7: =_xlfn.CONFIDENCE.NORM(0.05,AB5,AB6) -> 0.0038541148 | ... AJ7: =_xlfn.CONFIDENCE.NORM(0.05,AJ5,AJ6) -> 0.002382122 | AM7: Confidence interval | AN7: =_xlfn.CONFIDENCE.NORM(0.05,AN5,AN6) -> 8.4999888e-19 | AO7: =_xlfn.CONFIDENCE.NORM(0.05,AO5,AO6) -> 0.0033036657 | AP7: =_xlfn.CONFIDENCE.NORM(0.05,AP5,AP6) -> 0.0033399891 | AQ7: =_xlfn.CONFIDENCE.NORM(0.05,AQ5,AQ6) -> 0.0047307292 | AR7: =_xlfn.CONFIDENCE.NORM(0.05,AR5,AR6) -> 0.0019329247 | AS7: =_xlfn.CONFIDENCE.NORM(0.05,AS5,AS6) -> 0.0023606215 | AT7: =_xlfn.CONFIDENCE.NORM(0.05,AT5,AT6) -> 0.002345792 | AU7: =_xlfn.CONFIDENCE.NORM(0.05,AU5,AU6) -> 0.0030210342 | ... BC7: =_xlfn.CONFIDENCE.NORM(0.05,BC5,BC6) -> 0.0037808047
A9: Time point | B9: 0 | C9: 1 | D9: 2 | E9: 3 | F9: 4 | G9: 5 | H9: 6 | I9: 7 | J9: 8 | K9: 9 | L9: 10 | M9: 11 | N9: 12 | O9: 13 | P9: 14 | Q9: 15 | T9: Time point | U9: 0 | V9: 1 | W9: 2 | X9: 3 | Y9: 4 | Z9: 5 | AA9: 6 | AB9: 7 | AC9: 8 | AD9: 9 | AE9: 10 | AF9: 11 | AG9: 12 | AH9: 13 | AI9: 14 | AJ9: 15 | AM9: Time point | AN9: 0 | AO9: 1 | AP9: 2 | AQ9: 3 | AR9: 4 | AS9: 5 | AT9: 6 | AU9: 7 | AV9: 8 | AW9: 9 | AX9: 10 | AY9: 11 | AZ9: 12 | BA9: 13 | BB9: 14 | BC9: 15
B10: 0.004 | C10: 0.0993 | D10: 0.04736 | E10: 0.04634 | F10: 0.07781 | G10: 0.06294 | H10: 0.04906 | I10: 0.01831 | J10: 0.04258 | K10: 0.03182 | L10: 0.01529 | M10: 0.01039 | N10: 0.00422 | O10: 0.000625 | P10: 0.00223 | Q10: 0.00307 | U10: 0.004 | V10: 0.1138 | W10: 0.17466 | X10: 0.20284 | Y10: 0.11261 | Z10: 0.12264 | AA10: 0.10756 | AB10: 0.19251 | AC10: 0.15088 | AD10: 0.10863 | AE10: 0.10399 | AF10: 0.10529 | AG10: 0.10873 | AH10: 0.10613 | AI10: 0.09963 | AJ10: 0.10788 | AN10: 0.004 | AO10: 0.1199 | AP10: 0.14306 | AQ10: 0.17214 | AR10: 0.11031 | AS10: 0.13144 | AT10: 0.13276 | AU10: 0.15761 | AV10: 0.11298 | AW10: 0.10273 | AX10: 0.09799 | AY10: 0.09819 | AZ10: 0.11443 | BA10: 0.11993 | BB10: 0.09842 | BC10: 0.12318
B11: 0.004 | C11: 0.0948 | D11: 0.04866 | E11: 0.04344 | F11: 0.06831 | G11: 0.06164 | H11: 0.05196 | I11: 0.00951 | J11: 0.02117 | K11: 0.02092 | L11: 0.01009 | M11: 0.00509 | N11: 0.000625 | O11: 0.000325 | P11: 0.000225 | Q11: 0.000275 | U11: 0.004 | V11: 0.1124 | W11: 0.13856 | X11: 0.19474 | Y11: 0.11181 | Z11: 0.12284 | AA11: 0.09976 | AB11: 0.14341 | AC11: 0.16278 | AD11: 0.12492 | AE11: 0.12739 | AF11: 0.12119 | AG11: 0.10443 | AH11: 0.10763 | AI11: 0.10113 | AJ11: 0.10527 | AN11: 0.004 | AO11: 0.127 | AP11: 0.13336 | AQ11: 0.18134 | AR11: 0.11241 | AS11: 0.12544 | AT11: 0.12616 | AU11: 0.14641 | AV11: 0.13767 | AW11: 0.09782 | AX11: 0.09109 | AY11: 0.09019 | AZ11: 0.10513 | BA11: 0.12143 | BB11: 0.11213 | BC11: 0.12928
B12: 0.004 | C12: 0.0874 | D12: 0.04936 | E12: 0.04204 | F12: 0.06681 | G12: 0.05454 | H12: 0.04116 | I12: 0.03281 | J12: 0.07218 | K12: 0.03492 | L12: 0.01419 | M12: 0.02599 | N12: 0.01303 | O12: 0.01432 | P12: 0.01213 | Q12: 0.01238 | U12: 0.004 | V12: 0.1117 | W12: 0.13026 | X12: 0.17614 | Y12: 0.10791 | Z12: 0.12244 | AA12: 0.09326 | AB12: 0.15161 | AC12: 0.16508 | AD12: 0.12492 | AE12: 0.12369 | AF12: 0.11089 | AG12: 0.10433 | AH12: 0.10723 | AI12: 0.09842 | AJ12: 0.10337 | AN12: 0.004 | AO12: 0.1268 | AP12: 0.14646 | AQ12: 0.17174 | AR12: 0.11451 | AS12: 0.12794 | AT12: 0.12526 | AU12: 0.12061 | AV12: 0.10878 | AW12: 0.08983 | AX12: 0.09809 | AY12: 0.10679 | AZ12: 0.10143 | BA12: 0.12313 | BB12: 0.09252 | BC12: 0.10627
B13: 0.004 | C13: 0.0853 | D13: 0.05026 | E13: 0.04234 | F13: 0.06251 | G13: 0.05624 | H13: 0.04996 | I13: 0.01541 | J13: 0.02608 | K13: 0.01673 | L13: 0.00349 | M13: 0.00319 | N13: 0.00213 | O13: 0.00252 | P13: 0.00153 | Q13: 0.00128 | U13: 0.004 | V13: 0.1106 | W13: 0.13756 | X13: 0.16524 | Y13: 0.10741 | Z13: 0.12224 | AA13: 0.10256 | AB13: 0.16491 | AC13: 0.15637 | AD13: 0.11912 | AE13: 0.10119 | AF13: 0.09259 | AG13: 0.08563 | AH13: 0.09532 | AI13: 0.09183 | AJ13: 0.09907 | AN13: 0.004 | AO13: 0.1252 | AP13: 0.15366 | AQ13: 0.17164 | AR13: 0.11401 | AS13: 0.12434 | AT13: 0.12496 | AU13: 0.13281 | AV13: 0.12718 | AW13: 0.10233 | AX13: 0.08479 | AY13: 0.08319 | AZ13: 0.09502 | BA13: 0.11613 | BB13: 0.09953 | BC13: 0.10788
B14: 0.004 | C14: 0.087 | D14: 0.04836 | E14: 0.04524 | F14: 0.06321 | G14: 0.05234 | H14: 0.09766 | I14: 0.01441 | J14: 0.03428 | K14: 0.02913 | L14: 0.01479 | M14: 0.00769 | N14: 0.000125 | O14: 2.5e-05 | P14: -7.5e-05 | Q14: -0.000325 | U14: 0.004 | V14: 0.1114 | W14: 0.12426 | X14: 0.18924 | Y14: 0.11101 | Z14: 0.12144 | AA14: 0.09166 | AB14: 0.11701 | AC14: 0.14948 | AD14: 0.12202 | AE14: 0.11059 | AF14: 0.10729 | AG14: 0.09982 | AH14: 0.09423 | AI14: 0.08382 | AJ14: 0.08647 | AN14: 0.004 | AO14: 0.1278 | AP14: 0.14796 | AQ14: 0.17014 | AR14: 0.10721 | AS14: 0.12514 | AT14: 0.12186 | AU14: 0.11031 | AV14: 0.13068 | AW14: 0.10013 | AX14: 0.08669 | AY14: 0.08859 | AZ14: 0.09143 | BA14: 0.10273 | BB14: 0.08952 | BC14: 0.10148
B15: 0.004 | C15: 0.0852 | D15: 0.05016 | E15: 0.04274 | F15: 0.06961 | G15: 0.05454 | H15: 0.03876 | I15: 0.00761 | J15: 0.02208 | K15: 0.02373 | L15: 0.00979 | M15: 0.00579 | N15: 0.00133 | O15: 0.000325 | P15: -0.000975 | Q15: -0.000725 | U15: 0.004 | V15: 0.1137 | W15: 0.13566 | X15: 0.17144 | Y15: 0.11301 | Z15: 0.12144 | AA15: 0.09636 | AB15: 0.13561 | AC15: 0.13917 | AD15: 0.10783 | AE15: 0.10849 | AF15: 0.11649 | AG15: 0.10873 | AH15: 0.11173 | AI15: 0.10183 | AJ15: 0.10488 | AN15: 0.004 | AO15: 0.1218 | AP15: 0.15046 | AQ15: 0.16444 | AR15: 0.11091 | AS15: 0.11954 | AT15: 0.12226 | AU15: 0.13221 | AV15: 0.13748 | AW15: 0.10523 | AX15: 0.08339 | AY15: 0.07509 | AZ15: 0.08772 | BA15: 0.09613 | BB15: 0.09202 | BC15: 0.10698
B16: 0.004 | C16: 0.0913 | D16: 0.04786 | E16: 0.04264 | F16: 0.06311 | G16: 0.05714 | H16: 0.04656 | I16: 0.01901 | J16: 0.04297 | K16: 0.02813 | L16: 0.01199 | M16: 0.00789 | N16: 0.00162 | O16: 0.00153 | P16: 0.00112 | Q16: 0.00257 | U16: 0.004 | V16: 0.1128 | W16: 0.12986 | X16: 0.17784 | Y16: 0.11001 | Z16: 0.11974 | AA16: 0.09456 | AB16: 0.14401 | AC16: 0.15707 | AD16: 0.12023 | AE16: 0.10819 | AF16: 0.09149 | AG16: 0.08912 | AH16: 0.09582 | AI16: 0.09112 | AJ16: 0.09928 | AN16: 0.004 | AO16: 0.1199 | AP16: 0.14736 | AQ16: 0.15934 | AR16: 0.10871 | AS16: 0.12304 | AT16: 0.12006 | AU16: 0.15231 | AV16: 0.10627 | AW16: 0.09423 | AX16: 0.08979 | AY16: 0.08809 | AZ16: 0.08803 | BA16: 0.10243 | BB16: 0.09002 | BC16: 0.10028
B17: 0.004 | C17: 0.0945 | D17: 0.04876 | E17: 0.04244 | F17: 0.08261 | G17: 0.11094 | H17: 0.12096 | I17: 0.11071 | J17: 0.07028 | K17: 0.07702 | L17: 0.10659 | M17: 0.10379 | N17: 0.11383 | O17: 0.10863 | P17: 0.11633 | Q17: 0.10018 | U17: 0.004 | V17: 0.117 | W17: 0.13276 | X17: 0.20554 | Y17: 0.11191 | Z17: 0.11534 | AA17: 0.10816 | AB17: 0.16401 | AC17: 0.11958 | AD17: 0.07293 | AE17: 0.08319 | AF17: 0.10229 | AG17: 0.10353 | AH17: 0.09323 | AI17: 0.08682 | AJ17: 0.09657 | AN17: 0.004 | AO17: 0.1152 | AP17: 0.14546 | AQ17: 0.18784 | AR17: 0.10691 | AS17: 0.12034 | AT17: 0.12546 | AU17: 0.13491 | AV17: 0.11628 | AW17: 0.09763 | AX17: 0.08699 | AY17: 0.09299 | AZ17: 0.09143 | BA17: 0.10183 | BB17: 0.09342 | BC17: 0.09538
B18: 0.004 | C18: 0.1028 | D18: 0.05116 | E18: 0.05005 | F18: 0.09389 | G18: 0.08088 | H18: 0.05483 | I18: 0.02179 | J18: 0.07186 | K18: 0.06415 | L18: 0.01606 | M18: 0.01096 | N18: 0.00515 | O18: 0.0007875 | P18: 0.00235 | Q18: 0.00485 | U18: 0.004 | V18: 0.1199 | W18: 0.13386 | X18: 0.12825 | Y18: 0.12729 | Z18: 0.12908 | AA18: 0.13993 | AB18: 0.13949 | AC18: 0.21026 | AD18: 0.20425 | AE18: 0.12566 | AF18: 0.11226 | AG18: 0.11915 | AH18: 0.12439 | AI18: 0.12435 | AJ18: 0.12655 | AN18: 0.004 | AO18: 0.1176 | AP18: 0.15856 | AQ18: 0.12945 | AR18: 0.11969 | AS18: 0.15038 | AT18: 0.14823 | AU18: 0.15459 | AV18: 0.20346 | AW18: 0.12915 | AX18: 0.12206 | AY18: 0.10556 | AZ18: 0.10265 | BA18: 0.10729 | BB18: 0.13085 | BC18: 0.13155
B19: 0.004 | C19: 0.099 | D19: 0.05226 | E19: 0.05065 | F19: 0.07369 | G19: 0.06358 | H19: 0.06063 | I19: 0.01949 | J19: 0.02456 | K19: 0.02115 | L19: 0.00716 | M19: 0.00586 | N19: 0.00155 | O19: 0.0009875 | P19: 0.00085 | Q19: 0.00015 | U19: 0.004 | V19: 0.1153 | W19: 0.12686 | X19: 0.12125 | Y19: 0.11869 | Z19: 0.12607 | AA19: 0.11633 | AB19: 0.14469 | AC19: 0.16216 | AD19: 0.13115 | AE19: 0.11546 | AF19: 0.11216 | AG19: 0.12545 | AH19: 0.11489 | AI19: 0.11235 | AJ19: 0.10565 | AN19: 0.004 | AO19: 0.1042 | AP19: 0.15316 | AQ19: 0.13285 | AR19: 0.11969 | AS19: 0.14088 | AT19: 0.13793 | AU19: 0.13049 | AV19: 0.13306 | AW19: 0.12835 | AX19: 0.09416 | AY19: 0.10396 | AZ19: 0.11605 | BA19: 0.10809 | BB19: 0.10935 | BC19: 0.09815
B20: 0.004 | C20: 0.0864 | D20: 0.05246 | E20: 0.04955 | F20: 0.06199 | G20: 0.05448 | H20: 0.05793 | I20: 0.01259 | J20: 0.02026 | K20: 0.01985 | L20: 0.00516 | M20: 0.00136 | N20: -0.00025 | O20: -0.0004125 | P20: -0.00035 | Q20: 5e-05 | U20: 0.004 | V20: 0.1163 | W20: 0.13316 | X20: 0.12655 | Y20: 0.11669 | Z20: 0.12068 | AA20: 0.09903 | AB20: 0.14139 | AC20: 0.17426 | AD20: 0.14405 | AE20: 0.12506 | AF20: 0.11406 | AG20: 0.10895 | AH20: 0.10829 | AI20: 0.10965 | AJ20: 0.10555 | AN20: 0.004 | AO20: 0.1126 | AP20: 0.16156 | AQ20: 0.12975 | AR20: 0.12149 | AS20: 0.13287 | AT20: 0.12953 | AU20: 0.11459 | AV20: 0.12646 | AW20: 0.09595 | AX20: 0.09426 | AY20: 0.10656 | AZ20: 0.11285 | BA20: 0.09709 | BB20: 0.10145 | BC20: 0.10545
B21: 0.004 | C21: 0.0847 | D21: 0.04996 | E21: 0.04815 | F21: 0.06689 | G21: 0.05008 | H21: 0.04703 | I21: 0.02509 | J21: 0.03296 | K21: 0.01955 | L21: 0.00536 | M21: 0.01056 | N21: 0.01045 | O21: 0.00989 | P21: 0.01605 | Q21: 0.01955 | U21: 0.004 | V21: 0.1198 | W21: 0.12886 | X21: 0.12175 | Y21: 0.11409 | Z21: 0.12478 | AA21: 0.11063 | AB21: 0.13489 | AC21: 0.17526 | AD21: 0.15055 | AE21: 0.12736 | AF21: 0.11166 | AG21: 0.11275 | AH21: 0.11229 | AI21: 0.11495 | AJ21: 0.11265 | AN21: 0.004 | AO21: 0.1162 | AP21: 0.14646 | AQ21: 0.13285 | AR21: 0.12229 | AS21: 0.13248 | AT21: 0.12953 | AU21: 0.11629 | AV21: 0.16496 | AW21: 0.12355 | AX21: 0.11206 | AY21: 0.08766 | AZ21: 0.10105 | BA21: 0.10029 | BB21: 0.11455 | BC21: 0.11835
... B25: 0.004 | C25: 0.0984 | D25: 0.04786 | E25: 0.05255 | F25: 0.09169 | G25: 0.12467 | H25: 0.13963 | I25: 0.11239 | J25: 0.11336 | K25: 0.09685 | L25: 0.06916 | M25: 0.08776 | N25: 0.11075 | O25: 0.08049 | P25: 0.09815 | Q25: 0.08015 | U25: 0.004 | V25: 0.1176 | W25: 0.12396 | X25: 0.11815 | Y25: 0.12009 | Z25: 0.12388 | AA25: 0.13533 | AB25: 0.13529 | AC25: 0.16586 | AD25: 0.11055 | AE25: 0.09056 | AF25: 0.09696 | AG25: 0.10845 | AH25: 0.11579 | AI25: 0.10395 | AJ25: 0.11045 | AN25: 0.004 | AO25: 0.1115 | AP25: 0.14436 | AQ25: 0.11525 | AR25: 0.11549 | AS25: 0.14318 | AT25: 0.14173 | AU25: 0.13509 | AV25: 0.18096 | AW25: 0.13855 | AX25: 0.10706 | AY25: 0.09656 | AZ25: 0.11175 | BA25: 0.11109 | BB25: 0.10485 | BC25: 0.11185
E26: 0.05089 | F26: 0.10415 | G26: 0.0787 | H26: 0.0569 | I26: 0.01624 | J26: 0.05444 | K26: 0.05387 | L26: 0.02509 | M26: 0.02792 | N26: 0.01642 | O26: 0.00394 | P26: 0.00144 | Q26: 0.00445 | X26: 0.18789 | Y26: 0.14365 | Z26: 0.1452 | AA26: 0.139 | AB26: 0.13864 | AC26: 0.25114 | AD26: 0.22787 | AE26: 0.15029 | AF26: 0.14243 | AG26: 0.11943 | AH26: 0.14594 | AI26: 0.13004 | AJ26: 0.12495 | AQ26: 0.15999 | AR26: 0.13815 | AS26: 0.1644 | AT26: 0.1589 | AU26: 0.14774 | AV26: 0.12704 | AW26: 0.12587 | AX26: 0.11409 | AY26: 0.12173 | AZ26: 0.12843 | BA26: 0.15554 | BB26: 0.13454 | BC26: 0.12175
E27: 0.05069 | F27: 0.08645 | G27: 0.074 | H27: 0.0622 | I27: 0.02214 | J27: 0.03764 | K27: 0.04297 | L27: 0.01689 | M27: 0.01323 | N27: 0.00522 | O27: 0.0002375 | P27: -0.0003625 | Q27: -0.00095 | X27: 0.17179 | Y27: 0.13465 | Z27: 0.1351 | AA27: 0.1165 | AB27: 0.13324 | AC27: 0.19334 | AD27: 0.17808 | AE27: 0.14459 | AF27: 0.13942 | AG27: 0.11853 | AH27: 0.13844 | AI27: 0.12584 | AJ27: 0.12095 | AQ27: 0.15359 | AR27: 0.13635 | AS27: 0.1568 | AT27: 0.153 | AU27: 0.14664 | AV27: 0.12544 | AW27: 0.14518 | AX27: 0.12459 | AY27: 0.10923 | AZ27: 0.10613 | BA27: 0.16294 | BB27: 0.14794 | BC27: 0.15125
E28: 0.05089 | F28: 0.07025 | G28: 0.054 | H28: 0.0364 | I28: 0.00664 | J28: 0.01374 | K28: 0.01087 | L28: 0.00749 | M28: 0.00573 | N28: 0.00103 | O28: 0.0003375 | P28: -0.0009625 | Q28: -0.00115 | X28: 0.17349 | Y28: 0.12915 | Z28: 0.1352 | AA28: 0.1096 | AB28: 0.16104 | AC28: 0.17644 | AD28: 0.17408 | AE28: 0.13719 | AF28: 0.13192 | AG28: 0.11023 | AH28: 0.12554 | AI28: 0.11914 | AJ28: 0.11345 | AQ28: 0.15039 | AR28: 0.13435 | AS28: 0.149 | AT28: 0.1434 | AU28: 0.12934 | AV28: 0.10184 | AW28: 0.11787 | AX28: 0.10459 | AY28: 0.09972 | AZ28: 0.09803 | BA28: 0.12274 | BB28: 0.12344 | BC28: 0.12915
E29: 0.05109 | F29: 0.07185 | G29: 0.055 | H29: 0.0509 | I29: 0.04234 | J29: 0.03984 | K29: 0.03127 | L29: 0.03219 | M29: 0.05022 | N29: 0.01043 | O29: 0.00774 | P29: 0.00774 | Q29: 0.00835 | X29: 0.16009 | Y29: 0.12665 | Z29: 0.1405 | AA29: 0.1131 | AB29: 0.14024 | AC29: 0.17454 | AD29: 0.15618 | AE29: 0.13349 | AF29: 0.12612 | AG29: 0.11422 | AH29: 0.13474 | AI29: 0.12444 | AJ29: 0.12125 | AQ29: 0.15209 | AR29: 0.13555 | AS29: 0.1503 | AT29: 0.1424 | AU29: 0.13314 | AV29: 0.13294 | AW29: 0.10598 | AX29: 0.12589 | AY29: 0.09473 | AZ29: 0.09742 | BA29: 0.10854 | BB29: 0.10354 | BC29: 0.11735
E30: 0.05039 | F30: 0.07115 | G30: 0.054 | H30: 0.0368 | I30: 0.01064 | J30: 0.02444 | K30: 0.02237 | L30: 0.00889 | M30: 0.00293 | N30: -0.000575 | O30: 3.75e-05 | P30: -0.0003625 | Q30: -0.00185 | X30: 0.17009 | Y30: 0.13195 | Z30: 0.1363 | AA30: 0.1094 | AB30: 0.13564 | AC30: 0.17694 | AD30: 0.13828 | AE30: 0.10459 | AF30: 0.09993 | AG30: 0.10842 | AH30: 0.12294 | AI30: 0.11714 | AJ30: 0.11525 | AQ30: 0.15769 | AR30: 0.13795 | AS30: 0.1474 | AT30: 0.1379 | AU30: 0.12584 | AV30: 0.10104 | AW30: 0.10208 | AX30: 0.10609 | AY30: 0.11533 | AZ30: 0.12033 | BA30: 0.14804 | BB30: 0.10114 | BC30: 0.09885
E31: 0.05119 | F31: 0.08095 | G31: 0.0658 | H31: 0.0459 | I31: 0.01064 | J31: 0.02734 | K31: 0.03798 | L31: 0.02249 | M31: 0.02303 | N31: 0.00962 | O31: 0.05374 | P31: 0.04734 | Q31: 0.03205 | X31: 0.16839 | Y31: 0.14555 | Z31: 0.1342 | AA31: 0.1137 | AB31: 0.14404 | AC31: 0.16064 | AD31: 0.15277 | AE31: 0.13039 | AF31: 0.12643 | AG31: 0.11653 | AH31: 0.14014 | AI31: 0.12224 | AJ31: 0.11525 | AQ31: 0.15949 | AR31: 0.13625 | AS31: 0.1458 | AT31: 0.1429 | AU31: 0.12514 | AV31: 0.10834 | AW31: 0.11768 | AX31: 0.10339 | AY31: 0.09892 | AZ31: 0.10763 | BA31: 0.12864 | BB31: 0.09664 | BC31: 0.11305
E32: 0.05059 | F32: 0.08185 | G32: 0.078 | H32: 0.0653 | I32: 0.02874 | J32: 0.05364 | K32: 0.04598 | L32: 0.01449 | M32: 0.00923 | N32: 0.00462 | O32: 0.01224 | P32: 0.01384 | Q32: 0.01985 | X32: 0.18709 | Y32: 0.13175 | Z32: 0.1377 | AA32: 0.1255 | AB32: 0.14954 | AC32: 0.18804 | AD32: 0.17627 | AE32: 0.11529 | AF32: 0.12043 | AG32: 0.11313 | AH32: 0.14424 | AI32: 0.12714 | AJ32: 0.11435 | AQ32: 0.15569 | AR32: 0.12835 | AS32: 0.1517 | AT32: 0.1481 | AU32: 0.15264 | AV32: 0.13284 | AW32: 0.14877 | AX32: 0.11819 | AY32: 0.10323 | AZ32: 0.10583 | BA32: 0.11964 | BB32: 0.11624 | BC32: 0.13015
E33: 0.05219 | F33: 0.10905 | G33: 0.148 | H33: 0.1442 | I33: 0.12814 | J33: 0.07844 | K33: 0.07128 | L33: 0.09509 | M33: 0.09842 | N33: 0.06352 | O33: 0.09804 | P33: 0.09444 | Q33: 0.09205 | X33: 0.17459 | Y33: 0.13505 | Z33: 0.1413 | AA33: 0.1423 | AB33: 0.19814 | AC33: 0.21004 | AD33: 0.17418 | AE33: 0.10469 | AF33: 0.11073 | AG33: 0.11483 | AH33: 0.15514 | AI33: 0.12974 | AJ33: 0.12005 | AQ33: 0.18099 | AR33: 0.13925 | AS33: 0.1564 | AT33: 0.156 | AU33: 0.14384 | AV33: 0.17624 | AW33: 0.14178 | AX33: 0.10499 | AY33: 0.11223 | AZ33: 0.11923 | BA33: 0.10714 | BB33: 0.10504 | BC33: 0.11635
E34: 0.05022 | F34: 0.08659 | G34: 0.07579 | H34: 0.06235 | I34: 0.01812 | J34: 0.04389 | K34: 0.04702 | L34: 0.01783 | M34: 0.00811 | N34: 0.00178 | O34: 0.0006375 | P34: 0.00285 | Q34: -1.25e-05 | X34: 0.14852 | Y34: 0.11859 | Z34: 0.12579 | AA34: 0.11385 | AB34: 0.18873 | AC34: 0.20599 | AD34: 0.19073 | AE34: 0.12043 | AF34: 0.10731 | AG34: 0.10368 | AH34: 0.12424 | AI34: 0.09095 | AJ34: 0.09209 | AQ34: 0.13483 | AR34: 0.11199 | AS34: 0.13999 | AT34: 0.14465 | AU34: 0.15463 | AV34: 0.18249 | AW34: 0.18603 | AX34: 0.09292 | AY34: 0.09111 | AZ34: 0.11008 | BA34: 0.14934 | BB34: 0.14355 | BC34: 0.14129
E35: 0.04883 | F35: 0.07759 | G35: 0.06629 | H35: 0.05175 | I35: 0.01333 | J35: 0.02099 | K35: 0.03143 | L35: 0.01503 | M35: 0.00711 | N35: 0.000775 | O35: -0.0007625 | P35: 0.00025 | Q35: 0.0001875 | X35: 0.13062 | Y35: 0.11699 | Z35: 0.12179 | AA35: 0.10645 | AB35: 0.16992 | AC35: 0.17689 | AD35: 0.17222 | AE35: 0.12373 | AF35: 0.11961 | AG35: 0.12787 | AH35: 0.13214 | AI35: 0.11125 | AJ35: 0.11369 | AQ35: 0.13492 | AR35: 0.11529 | AS35: 0.13719 | AT35: 0.13705 | AU35: 0.13223 | AV35: 0.27819 | AW35: 0.14522 | AX35: 0.12682 | AY35: 0.13131 | AZ35: 0.10228 | BA35: 0.12614 | BB35: 0.14375 | BC35: 0.12849
E36: 0.04942 | F36: 0.06719 | G36: 0.05629 | H36: 0.05595 | I36: 0.00942 | J36: 0.03249 | K36: 0.04052 | L36: 0.01513 | M36: 0.00711 | N36: 0.00128 | O36: 0.0004375 | P36: 0.00075 | Q36: 0.00299 | X36: 0.13273 | Y36: 0.11879 | Z36: 0.12029 | AA36: 0.09605 | AB36: 0.15923 | AC36: 0.15969 | AD36: 0.15912 | AE36: 0.12123 | AF36: 0.11531 | AG36: 0.11668 | AH36: 0.14584 | AI36: 0.10565 | AJ36: 0.10009 | AQ36: 0.12923 | AR36: 0.11569 | AS36: 0.13519 | AT36: 0.13495 | AU36: 0.12762 | AV36: 0.19129 | AW36: 0.11393 | AX36: 0.11793 | AY36: 0.11891 | AZ36: 0.09258 | BA36: 0.12334 | BB36: 0.10755 | BC36: 0.12179
E37: 0.04713 | F37: 0.07229 | G37: 0.05839 | H37: 0.05665 | I37: 0.04002 | J37: 0.03229 | K37: 0.01702 | L37: 0.00352 | M37: 0.00181 | N37: 0.00157 | O37: 0.0004375 | P37: 0.00295 | Q37: 0.00169 | X37: 0.13012 | Y37: 0.11769 | Z37: 0.12949 | AA37: 0.11065 | AB37: 0.16112 | AC37: 0.14769 | AD37: 0.14743 | AE37: 0.12483 | AF37: 0.13111 | AG37: 0.11608 | AH37: 0.13174 | AI37: 0.10725 | AJ37: 0.11179 | AQ37: 0.13742 | AR37: 0.12429 | AS37: 0.13559 | AT37: 0.14025 | AU37: 0.12843 | AV37: 0.12579 | AW37: 0.12442 | AX37: 0.12373 | AY37: 0.09661 | AZ37: 0.09108 | BA37: 0.13204 | BB37: 0.12585 | BC37: 0.13029
... E89: 0.05116 | F89: 0.07879 | G89: 0.06857 | H89: 0.0908 | I89: 0.018 | J89: 0.03213 | K89: 0.06313 | L89: 0.06243 | M89: 0.0389 | N89: 0.00776 | O89: 0.01529 | P89: 0.02363 | Q89: 0.01534 | X89: 0.13126 | Y89: 0.12709 | Z89: 0.12737 | AA89: 0.1084 | AB89: 0.1551 | AC89: 0.19162 | AD89: 0.13733 | AE89: 0.13553 | AF89: 0.128 | AG89: 0.12246 | AH89: 0.12879 | AI89: 0.16383 | AJ89: 0.13074 | AQ89: 0.12196 | AR89: 0.12719 | AS89: 0.15418 | AT89: 0.1578 | AU89: 0.1774 | AV89: 0.16842 | AW89: 0.12723 | AX89: 0.12853 | AY89: 0.1209 | AZ89: 0.12416 | BA89: 0.14709 | BB89: 0.13533 | BC89: 0.13194

Sheet Figure 2c,d & Sup. Figure 4c,d 
A1: Treatment group | C1: CO (AMP)
A2: Transfer | C2: t1 | D2: t2 | E2: t3 | F2: t4 | G2: t5 | H2: t6 | I2: t7 | J2: t8 | K2: t9 | L2: t10 | M2: t11 | N2: t12 | O2: t13 | P2: t14 | Q2: t15 | T2: Number of living replicates
A3: Dead replicates | C3: 0 | D3: 0 | E3: 0 | F3: 0 | G3: 0 | H3: 0 | I3: 3 | J3: 79 | K3: 79 | L3: 80 | M3: 80 | N3: 80 | O3: 80 | P3: 80 | Q3: 80 | T3: Time point | U3: t1 | V3: t2 | W3: t3 | X3: t4 | Y3: t5 | Z3: t6 | AA3: t7 | AB3: t8 | AC3: t9 | AD3: t10 | AE3: t11 | AF3: t12 | AG3: t13 | AH3: t14 | AI3: t15
A4: Living replicates | C4: =80-C3 -> 80 | D4: =80-D3 -> 80 | E4: =80-E3 -> 80 | F4: =80-F3 -> 80 | G4: =80-G3 -> 80 | H4: =80-H3 -> 80 | I4: =80-I3 -> 77 | J4: =80-J3 -> 1 | ... Q4: =80-Q3 -> 0 | T4: CO (AMP) | U4: 80 | V4: 80 | W4: 80 | X4: 80 | Y4: 80 | Z4: 80 | AA4: 77 | AB4: 1 | AC4: 1 | AD4: 0 | AE4: 0 | AF4: 0 | AG4: 0 | AH4: 0 | AI4: 0
T5: CO (CHLOR) | U5: 80 | V5: 80 | W5: 80 | X5: 80 | Y5: 80 | Z5: 80 | AA5: 80 | AB5: 51 | AC5: 50 | AD5: 50 | AE5: 50 | AF5: 50 | AG5: 50 | AH5: 50 | AI5: 50
A6: Treatment group | C6: CO (CHLOR) | T6: CO (KANA) | U6: 80 | V6: 80 | W6: 80 | X6: 80 | Y6: 80 | Z6: 60 | AA6: 0 | AB6: 0 | AC6: 0 | AD6: 0 | AE6: 0 | AF6: 0 | AG6: 0 | AH6: 0 | AI6: 0
A7: Transfer | C7: t1 | D7: t2 | E7: t3 | F7: t4 | G7: t5 | H7: t6 | I7: t7 | J7: t8 | K7: t9 | L7: t10 | M7: t11 | N7: t12 | O7: t13 | P7: t14 | Q7: t15 | T7: CO (TETRA) | U7: 80 | V7: 80 | W7: 80 | X7: 80 | Y7: 80 | Z7: 80 | AA7: 80 | AB7: 80 | AC7: 79 | AD7: 67 | AE7: 48 | AF7: 39 | AG7: 34 | AH7: 33 | AI7: 33
A8: Dead replicates | C8: 0 | D8: 0 | E8: 0 | F8: 0 | G8: 0 | H8: 0 | I8: 0 | J8: 29 | K8: 30 | L8: 30 | M8: 30 | N8: 30 | O8: 30 | P8: 30 | Q8: 30 | T8: TRP (AMP) | U8: 80 | V8: 80 | W8: 80 | X8: 80 | Y8: 80 | Z8: 80 | AA8: 80 | AB8: 80 | AC8: 80 | AD8: 80 | AE8: 80 | AF8: 80 | AG8: 80 | AH8: 80 | AI8: 78
A9: Living replicates | C9: =80-C8 -> 80 | D9: =80-D8 -> 80 | E9: =80-E8 -> 80 | F9: =80-F8 -> 80 | G9: =80-G8 -> 80 | H9: =80-H8 -> 80 | I9: =80-I8 -> 80 | J9: =80-J8 -> 51 | ... Q9: =80-Q8 -> 50 | T9: TRP (CHLOR) | U9: 80 | V9: 80 | W9: 80 | X9: 80 | Y9: 80 | Z9: 80 | AA9: 80 | AB9: 80 | AC9: 80 | AD9: 80 | AE9: 80 | AF9: 80 | AG9: 80 | AH9: 80 | AI9: 80
T10: TRP (KANA) | U10: 80 | V10: 80 | W10: 80 | X10: 80 | Y10: 80 | Z10: 80 | AA10: 78 | AB10: 62 | AC10: 59 | AD10: 57 | AE10: 54 | AF10: 52 | AG10: 49 | AH10: 49 | AI10: 49
A11: Treatment group | C11: CO (KANA) | T11: TRP (TETRA) | U11: 80 | V11: 80 | W11: 80 | X11: 80 | Y11: 80 | Z11: 80 | AA11: 80 | AB11: 80 | AC11: 80 | AD11: 80 | AE11: 80 | AF11: 80 | AG11: 80 | AH11: 80 | AI11: 80
A12: Transfer | C12: t1 | D12: t2 | E12: t3 | F12: t4 | G12: t5 | H12: t6 | I12: t7 | J12: t8 | K12: t9 | L12: t10 | M12: t11 | N12: t12 | O12: t13 | P12: t14 | Q12: t15 | T12: TYR (AMP) | U12: 80 | V12: 80 | W12: 80 | X12: 80 | Y12: 80 | Z12: 80 | AA12: 3 | AB12: 3 | AC12: 3 | AD12: 2 | AE12: 2 | AF12: 2 | AG12: 2 | AH12: 2 | AI12: 2
A13: Dead replicates | C13: 0 | D13: 0 | E13: 0 | F13: 0 | G13: 0 | H13: 20 | I13: 80 | J13: 80 | K13: 80 | L13: 80 | M13: 80 | N13: 80 | O13: 80 | P13: 80 | Q13: 80 | T13: TYR (CHLOR) | U13: 80 | V13: 80 | W13: 80 | X13: 80 | Y13: 80 | Z13: 80 | AA13: 80 | AB13: 80 | AC13: 80 | AD13: 80 | AE13: 80 | AF13: 80 | AG13: 80 | AH13: 80 | AI13: 80
A14: Living replicates | C14: =80-C13 -> 80 | D14: =80-D13 -> 80 | E14: =80-E13 -> 80 | F14: =80-F13 -> 80 | G14: =80-G13 -> 80 | H14: =80-H13 -> 60 | I14: =80-I13 -> 0 | J14: =80-J13 -> 0 | ... Q14: =80-Q13 -> 0 | T14: TYR (KANA) | U14: 80 | V14: 80 | W14: 80 | X14: 80 | Y14: 80 | Z14: 80 | AA14: 68 | AB14: 54 | AC14: 51 | AD14: 49 | AE14: 47 | AF14: 43 | AG14: 42 | AH14: 42 | AI14: 42
T15: TYR (TETRA) | U15: 80 | V15: 80 | W15: 80 | X15: 80 | Y15: 80 | Z15: 80 | AA15: 80 | AB15: 80 | AC15: 80 | AD15: 80 | AE15: 80 | AF15: 80 | AG15: 80 | AH15: 80 | AI15: 80
A16: Treatment group | C16: CO (TETRA)
A17: Transfer | C17: t1 | D17: t2 | E17: t3 | F17: t4 | G17: t5 | H17: t6 | I17: t7 | J17: t8 | K17: t9 | L17: t10 | M17: t11 | N17: t12 | O17: t13 | P17: t14 | Q17: t15
A18: Dead replicates | C18: 0 | D18: 0 | E18: 0 | F18: 0 | G18: 0 | H18: 0 | I18: 0 | J18: 0 | K18: 1 | L18: 13 | M18: 32 | N18: 41 | O18: 46 | P18: 47 | Q18: 47
A19: Living replicates | C19: =80-C18 -> 80 | D19: =80-D18 -> 80 | E19: =80-E18 -> 80 | F19: =80-F18 -> 80 | G19: =80-G18 -> 80 | H19: =80-H18 -> 80 | I19: =80-I18 -> 80 | J19: =80-J18 -> 80 | ... Q19: =80-Q18 -> 33 | T19: Percentage of living replicates
T20: Time point | U20: t1 | V20: t2 | W20: t3 | X20: t4 | Y20: t5 | Z20: t6 | AA20: t7 | AB20: t8 | AC20: t9 | AD20: t10 | AE20: t11 | AF20: t12 | AG20: t13 | AH20: t14 | AI20: t15
T21: CO (AMP) | U21: =(U4/80)*100 -> 100 | V21: =(V4/80)*100 -> 100 | W21: =(W4/80)*100 -> 100 | X21: =(X4/80)*100 -> 100 | Y21: =(Y4/80)*100 -> 100 | Z21: =(Z4/80)*100 -> 100 | AA21: =(AA4/80)*100 -> 96.25 | AB21: =(AB4/80)*100 -> 1.25 | ... AI21: =(AI4/80)*100 -> 0
T22: CO (CHLOR) | U22: =(U5/80)*100 -> 100 | V22: =(V5/80)*100 -> 100 | W22: =(W5/80)*100 -> 100 | X22: =(X5/80)*100 -> 100 | Y22: =(Y5/80)*100 -> 100 | Z22: =(Z5/80)*100 -> 100 | AA22: =(AA5/80)*100 -> 100 | AB22: =(AB5/80)*100 -> 63.75 | ... AI22: =(AI5/80)*100 -> 62.5
A23: Treatment group | C23: TRP (AMP) | T23: CO (KANA) | U23: =(U6/80)*100 -> 100 | V23: =(V6/80)*100 -> 100 | W23: =(W6/80)*100 -> 100 | X23: =(X6/80)*100 -> 100 | Y23: =(Y6/80)*100 -> 100 | Z23: =(Z6/80)*100 -> 75 | AA23: =(AA6/80)*100 -> 0 | AB23: =(AB6/80)*100 -> 0 | ... AI23: =(AI6/80)*100 -> 0
A24: Transfer | C24: t1 | D24: t2 | E24: t3 | F24: t4 | G24: t5 | H24: t6 | I24: t7 | J24: t8 | K24: t9 | L24: t10 | M24: t11 | N24: t12 | O24: t13 | P24: t14 | Q24: t15 | T24: CO (TETRA) | U24: =(U7/80)*100 -> 100 | V24: =(V7/80)*100 -> 100 | W24: =(W7/80)*100 -> 100 | X24: =(X7/80)*100 -> 100 | Y24: =(Y7/80)*100 -> 100 | Z24: =(Z7/80)*100 -> 100 | AA24: =(AA7/80)*100 -> 100 | AB24: =(AB7/80)*100 -> 100 | ... AI24: =(AI7/80)*100 -> 41.25
A25: Dead replicates | C25: 0 | D25: 0 | E25: 0 | F25: 0 | G25: 0 | H25: 0 | I25: 0 | J25: 0 | K25: 0 | L25: 0 | M25: 0 | N25: 0 | O25: 0 | P25: 0 | Q25: 2 | T25: TRP (AMP) | U25: =(U8/80)*100 -> 100 | V25: =(V8/80)*100 -> 100 | W25: =(W8/80)*100 -> 100 | X25: =(X8/80)*100 -> 100 | Y25: =(Y8/80)*100 -> 100 | Z25: =(Z8/80)*100 -> 100 | AA25: =(AA8/80)*100 -> 100 | AB25: =(AB8/80)*100 -> 100 | ... AI25: =(AI8/80)*100 -> 97.5
A26: Living replicates | C26: =80-C25 -> 80 | D26: =80-D25 -> 80 | E26: =80-E25 -> 80 | F26: =80-F25 -> 80 | G26: =80-G25 -> 80 | H26: =80-H25 -> 80 | I26: =80-I25 -> 80 | J26: =80-J25 -> 80 | ... Q26: =80-Q25 -> 78 | T26: TRP (CHLOR) | U26: =(U9/80)*100 -> 100 | V26: =(V9/80)*100 -> 100 | W26: =(W9/80)*100 -> 100 | X26: =(X9/80)*100 -> 100 | Y26: =(Y9/80)*100 -> 100 | Z26: =(Z9/80)*100 -> 100 | AA26: =(AA9/80)*100 -> 100 | AB26: =(AB9/80)*100 -> 100 | ... AI26: =(AI9/80)*100 -> 100
T27: TRP (KANA) | U27: =(U10/80)*100 -> 100 | V27: =(V10/80)*100 -> 100 | W27: =(W10/80)*100 -> 100 | X27: =(X10/80)*100 -> 100 | Y27: =(Y10/80)*100 -> 100 | Z27: =(Z10/80)*100 -> 100 | AA27: =(AA10/80)*100 -> 97.5 | AB27: =(AB10/80)*100 -> 77.5 | ... AI27: =(AI10/80)*100 -> 61.25
A28: Treatment group | C28: TRP (CHLOR) | T28: TRP (TETRA) | U28: =(U11/80)*100 -> 100 | V28: =(V11/80)*100 -> 100 | W28: =(W11/80)*100 -> 100 | X28: =(X11/80)*100 -> 100 | Y28: =(Y11/80)*100 -> 100 | Z28: =(Z11/80)*100 -> 100 | AA28: =(AA11/80)*100 -> 100 | AB28: =(AB11/80)*100 -> 100 | ... AI28: =(AI11/80)*100 -> 100
A29: Transfer | C29: t1 | D29: t2 | E29: t3 | F29: t4 | G29: t5 | H29: t6 | I29: t7 | J29: t8 | K29: t9 | L29: t10 | M29: t11 | N29: t12 | O29: t13 | P29: t14 | Q29: t15 | T29: TYR (AMP) | U29: =(U12/80)*100 -> 100 | V29: =(V12/80)*100 -> 100 | W29: =(W12/80)*100 -> 100 | X29: =(X12/80)*100 -> 100 | Y29: =(Y12/80)*100 -> 100 | Z29: =(Z12/80)*100 -> 100 | AA29: =(AA12/80)*100 -> 3.75 | AB29: =(AB12/80)*100 -> 3.75 | ... AI29: =(AI12/80)*100 -> 2.5
A30: Dead replicates | C30: 0 | D30: 0 | E30: 0 | F30: 0 | G30: 0 | H30: 0 | I30: 0 | J30: 0 | K30: 0 | L30: 0 | M30: 0 | N30: 0 | O30: 0 | P30: 0 | Q30: 0 | T30: TYR (CHLOR) | U30: =(U13/80)*100 -> 100 | V30: =(V13/80)*100 -> 100 | W30: =(W13/80)*100 -> 100 | X30: =(X13/80)*100 -> 100 | Y30: =(Y13/80)*100 -> 100 | Z30: =(Z13/80)*100 -> 100 | AA30: =(AA13/80)*100 -> 100 | AB30: =(AB13/80)*100 -> 100 | ... AI30: =(AI13/80)*100 -> 100
A31: Living replicates | C31: =80-C30 -> 80 | D31: =80-D30 -> 80 | E31: =80-E30 -> 80 | F31: =80-F30 -> 80 | G31: =80-G30 -> 80 | H31: =80-H30 -> 80 | I31: =80-I30 -> 80 | J31: =80-J30 -> 80 | ... Q31: =80-Q30 -> 80 | T31: TYR (KANA) | U31: =(U14/80)*100 -> 100 | V31: =(V14/80)*100 -> 100 | W31: =(W14/80)*100 -> 100 | X31: =(X14/80)*100 -> 100 | Y31: =(Y14/80)*100 -> 100 | Z31: =(Z14/80)*100 -> 100 | AA31: =(AA14/80)*100 -> 85 | AB31: =(AB14/80)*100 -> 67.5 | ... AI31: =(AI14/80)*100 -> 52.5
T32: TYR (TETRA) | U32: =(U15/80)*100 -> 100 | V32: =(V15/80)*100 -> 100 | W32: =(W15/80)*100 -> 100 | X32: =(X15/80)*100 -> 100 | Y32: =(Y15/80)*100 -> 100 | Z32: =(Z15/80)*100 -> 100 | AA32: =(AA15/80)*100 -> 100 | AB32: =(AB15/80)*100 -> 100 | ... AI32: =(AI15/80)*100 -> 100
A33: Treatment group | C33: TRP (KANA)
A34: Transfer | C34: t1 | D34: t2 | E34: t3 | F34: t4 | G34: t5 | H34: t6 | I34: t7 | J34: t8 | K34: t9 | L34: t10 | M34: t11 | N34: t12 | O34: t13 | P34: t14 | Q34: t15
A35: Dead replicates | C35: 0 | D35: 0 | E35: 0 | F35: 0 | G35: 0 | H35: 0 | I35: 2 | J35: 18 | K35: 21 | L35: 23 | M35: 26 | N35: 28 | O35: 31 | P35: 31 | Q35: 31
A36: Living replicates | C36: =80-C35 -> 80 | D36: =80-D35 -> 80 | E36: =80-E35 -> 80 | F36: =80-F35 -> 80 | G36: =80-G35 -> 80 | H36: =80-H35 -> 80 | I36: =80-I35 -> 78 | J36: =80-J35 -> 62 | ... Q36: =80-Q35 -> 49
A38: Treatment group | C38: TRP (TETRA)
A39: Transfer | C39: t1 | D39: t2 | E39: t3 | F39: t4 | G39: t5 | H39: t6 | I39: t7 | J39: t8 | K39: t9 | L39: t10 | M39: t11 | N39: t12 | O39: t13 | P39: t14 | Q39: t15
A40: Dead replicates | C40: 0 | D40: 0 | E40: 0 | F40: 0 | G40: 0 | H40: 0 | I40: 0 | J40: 0 | K40: 0 | L40: 0 | M40: 0 | N40: 0 | O40: 0 | P40: 0 | Q40: 0
A41: Living replicates | C41: =80-C40 -> 80 | D41: =80-D40 -> 80 | E41: =80-E40 -> 80 | F41: =80-F40 -> 80 | G41: =80-G40 -> 80 | H41: =80-H40 -> 80 | I41: =80-I40 -> 80 | J41: =80-J40 -> 80 | ... Q41: =80-Q40 -> 80
...

Sheet Figure 3a
A1: Chlorapmhenicol treatment - OD600nm values | G1: Chlorapmhenicol concentration 100% = 25µg/ml | AI1: Ancestral level of chloramphenicol tolerance | AN1: Normalized resistance level of chloramphenicol treated evolved cultures
AI2: (all raw data in Supplementary Fig. 3) | AN2: (Normalization by subtraction)
B3: coeolved CO (-AA)
B4: 1 | C4: 2 | D4: 3 | E4: 4 | F4: 5 | G4: 6 | H4: 7 | I4: 8 | J4: 9 | K4: 10 | L4: 11 | M4: 12 | N4: 13 | O4: 14 | P4: 15 | Q4: 16 | R4: 17 | S4: 18 | T4: 19 | U4: 20 | V4: 21 | W4: 22 | X4: 23 | Y4: 24 | Z4: 25 | AA4: 26 | AB4: 27 | AC4: 28 | AE4: coeolved CO (-AA) | AK4: CO (-AA) | AP4: coeolved CO (-AA)
B5: 0 | C5: 0.75 | D5: 1.5 | E5: 2.25 | F5: 3 | G5: 3.75 | H5: 4.5 | I5: 5.25 | J5: 6 | K5: 6.75 | L5: 7.5 | M5: 8.25 | N5: 9 | O5: 9.75 | P5: 10.5 | Q5: 11.25 | R5: 12 | S5: 12.75 | T5: 13.5 | U5: 14.25 | V5: 15 | W5: 15.75 | X5: 16.5 | Y5: 17.25 | Z5: 18 | AA5: 18.75 | AB5: 19.5 | AC5: 20.25 | AE5: MIC [%] | AF5: MIC [µg/ml] | AK5: MIC [µg/ml] | AP5: Normalized MIC [µg/ml]
A6: 1 | B6: 0.067175 | C6: 0.06934375 | D6: 0.0522625 | E6: 0.018475 | F6: 0.01798125 | G6: 0.0135875 | H6: 0.01108125 | I6: 0.0059625 | J6: 0.00840625 | K6: 0.00724375 | L6: 0.00858125 | M6: 0.006175 | N6: 0.00539375 | O6: 0.00446875 | P6: 0.00523125 | Q6: 0.00655 | R6: 0 | S6: 0 | T6: 0 | U6: 0 | V6: 0 | W6: 0 | X6: 0 | Y6: 0 | Z6: 0 | AA6: 0 | AB6: 0 | AC6: 0 | AD6: 1 | AE6: 525 | AF6: 131.25 | AK6: 11.5 | AP6: =AF6-$AK$14 -> 120.125
A7: 2 | B7: 0.038175 | C7: 0.08374375 | D7: 0.0555625 | E7: 0.015375 | F7: 0.01318125 | G7: 0.0088875 | H7: 0.00768125 | I7: 0.0046625 | J7: 0.00670625 | K7: 0.00474375 | L7: 0.00598125 | M7: 0.004875 | N7: 0.00339375 | O7: 0.00506875 | P7: 0.00303125 | Q7: 0.00385 | R7: 0 | S7: 0 | T7: 0 | U7: 0 | V7: 0 | W7: 0 | X7: 0 | Y7: 0 | Z7: 0 | AA7: 0 | AB7: 0 | AC7: 0 | AD7: 2 | AE7: 375 | AF7: 93.75 | AK7: 10.5 | AP7: =AF7-$AK$14 -> 82.625
