Workbook

Sheet Fig1B
A1: target | B1: exp1 | C1: mean CT | D1: SD | F1: mean CT | G1: SD | H1: deltaCt | J1: exp2 | K1: mean CT | L1: SD | N1: mean CT | O1: SD | P1: deltaCt | R1: exp3 | S1: mean CT | T1: SD | V1: mean CT | W1: SD | X1: deltaCt | Z1: exp4 | AA1: mean CT | AB1: SD | AD1: mean CT | AE1: SD | AF1: deltaCt | AH1: exp5 | AI1: mean CT | AJ1: SD | AL1: mean CT | AM1: SD | AN1: deltaCt | AP1: POWER (2,-deltaCt exp1) | AQ1: POWER (2,-deltaCt exp2) | AR1: POWER (2,-deltaCt exp3) | AS1: POWER (2,-deltaCt exp4) | AT1: POWER (2,-deltaCt exp5) | AV1: exp1 norm | AW1: exp2 norm | AX1: exp3 norm | AY1: exp4 norm | AZ1: exp5 norm
A2: SMN1 | B2: Dnd1-WT ^INPUT^ | C2: 24.316667 | D2: 0.032998316 | E2: Dnd1-WT *RIP* | F2: 27.73 | G2: 0.090921211 | H2: =F2-C2 -> 3.4133333 | J2: Dnd1-WT ^INPUT^ | K2: 24.643333 | L2: 0.020548047 | M2: Dnd1-WT *RIP* | N2: 28.8 | O2: 0.032659863 | P2: =N2-K2 -> 4.1566667 | R2: WT - INPUT - | S2: 22.49 | T2: 0.016329932 | U2: WT - *RIP* - | V2: 27.91 | W2: 0.15937377 | X2: =Fig1B!V2-Fig1B!S2 -> 5.42 | Z2: WT - INPUT - | AA2: 22.47 | AB2: 0.0081649658 | AC2: WT - *RIP* - | AD2: 27.766667 | AE2: 0.097410928 | AF2: =Fig1B!AD2-Fig1B!AA2 -> 5.2966667 | AH2: WT - INPUT - | AI2: 22.296667 | AJ2: 0.018856181 | AK2: WT - *RIP* - | AL2: 27.48 | AM2: 0.024494897 | AN2: =AL2-AI2 -> 5.1833333 | AP2: =POWER(2,-Fig1B!H2) -> 0.093860806 | AQ2: =POWER(2,-Fig1B!P2) -> 0.056068463 | AR2: =POWER(2,-Fig1B!X2) -> 0.02335702 | AS2: =POWER(2,-Fig1B!AF2) -> 0.025441602 | AT2: =POWER(2,-Fig1B!AN2) -> 0.027520809 | AV2: 1 | AW2: 1 | AX2: =1 -> 1 | AY2: 1 | AZ2: 1
B3: Dnd1-m1-235 ^INPUT^ | C3: 24.35 | D3: 0.063770422 | E3: Dnd1-m1-235 *RIP* | F3: 28.183333 | G3: 0.20548047 | H3: =F3-C3 -> 3.8333333 | J3: Dnd1-m1-235 ^INPUT^ | K3: 25 | L3: 0.021602469 | M3: Dnd1-m1-235 *RIP* | N3: 28.64 | O3: 0.066833126 | P3: =N3-K3 -> 3.64 | R3: m1-235 - INPUT - | S3: 23.046667 | T3: 0.028674418 | U3: m1-235 - *RIP* - | V3: 28.52 | W3: 0.15895492 | X3: =Fig1B!V3-Fig1B!S3 -> 5.4733333 | Z3: m1-235 - INPUT - | AA3: 23.026667 | AB3: 0.026246693 | AC3: m1-235 - *RIP* - | AD3: 28.593333 | AE3: 0.054365021 | AF3: =Fig1B!AD3-Fig1B!AA3 -> 5.5666667 | AH3: m1-235 - INPUT - | AI3: 21.596667 | AJ3: 0.0047140452 | AK3: m1-235 - *RIP* - | AL3: 28.316667 | AM3: 0.083798701 | AN3: =AL3-AI3 -> 6.72 | AP3: =POWER(2,-Fig1B!H3) -> 0.070153878 | AQ3: =POWER(2,-Fig1B!P3) -> 0.080214119 | AR3: =POWER(2,-Fig1B!X3) -> 0.022509326 | AS3: =POWER(2,-Fig1B!AF3) -> 0.021099218 | AT3: =POWER(2,-Fig1B!AN3) -> 0.0094858975 | AV3: =AP3/0.093861 -> 0.74742308 | AW3: =AQ3/0.056068 -> 1.4306577 | AX3: =AR3/0.023357 -> 0.96370792 | AY3: =AS3/0.025442 -> 0.82930658 | AZ3: =AT3/0.027521 -> 0.34467852
B4: Dnd1-mR98A ^INPUT^ | C4: 23.62 | D4: 0.064807407 | E4: Dnd1-mR98A *RIP* | F4: 29.903333 | G4: 0.2085399 | H4: =F4-C4 -> 6.2833333 | J4: Dnd1-mR98A ^INPUT^ | K4: 24.79 | L4: 0.042426407 | M4: Dnd1-mR98A *RIP* | N4: 31.103333 | O4: 0.20997354 | P4: =N4-K4 -> 6.3133333 | R4: mR98A - INPUT - | S4: 22.673333 | T4: 0.018856181 | U4: mR98A - *RIP* - | V4: 31.416667 | W4: 0.27353651 | X4: =Fig1B!V4-Fig1B!S4 -> 8.7433333 | Z4: mR98A - INPUT - | AA4: 22.61 | AB4: 0.042426407 | AC4: mR98A - *RIP* - | AD4: 31.296667 | AE4: 0.21638443 | AF4: =Fig1B!AD4-Fig1B!AA4 -> 8.6866667 | AH4: mR98A - INPUT - | AI4: 21.373333 | AJ4: 0.049888765 | AK4: mR98A - *RIP* - | AL4: 29.896667 | AM4: 0.049888765 | AN4: =AL4-AI4 -> 8.5233333 | AP4: =POWER(2,-Fig1B!H4) -> 0.012838911 | AQ4: =POWER(2,-Fig1B!P4) -> 0.01257469 | AR4: =POWER(2,-Fig1B!X4) -> 0.002333428 | AS4: =POWER(2,-Fig1B!AF4) -> 0.002426905 | AT4: =POWER(2,-Fig1B!AN4) -> 0.002717822 | AV4: =AP4/0.093861 -> 0.13678643 | AW4: =AQ4/0.056068 -> 0.2242757 | AX4: =AR4/0.023357 -> 0.099902727 | AY4: =AS4/0.025442 -> 0.095389709 | AZ4: =AT4/0.027521 -> 0.098754477
A5: PMAIP | B5: Dnd1-WT ^INPUT^ | C5: 25.98 | D5: 0.078740079 | E5: Dnd1-WT *RIP* | F5: 29.93 | G5: 0.045460606 | H5: =F5-C5 -> 3.95 | J5: Dnd1-WT ^INPUT^ | K5: 26.143333 | L5: 0.0601849 | M5: Dnd1-WT *RIP* | N5: 30.983333 | O5: 0.068475462 | P5: =N5-K5 -> 4.84 | R5: WT - INPUT - | S5: 24.316667 | T5: 0.047140452 | U5: WT - *RIP* - | V5: 30.083333 | W5: 0.36935379 | X5: =Fig1B!V5-Fig1B!S5 -> 5.7666667 | Z5: WT - INPUT - | AA5: 24.233333 | AB5: 0.093926685 | AC5: WT - *RIP* - | AD5: 29.963333 | AE5: 0.16027754 | AF5: =Fig1B!AD5-Fig1B!AA5 -> 5.73 | AH5: WT - INPUT - | AI5: 23.746667 | AJ5: 0.0094280904 | AK5: WT - *RIP* - | AL5: 29.426667 | AM5: 0.065996633 | AN5: =AL5-AI5 -> 5.68 | AP5: =POWER(2,-Fig1B!H5) -> 0.064704058 | AQ5: =POWER(2,-Fig1B!P5) -> 0.034915223 | AS5: =POWER(2,-Fig1B!AF5) -> 0.018840747 | AT5: =POWER(2,-Fig1B!AN5) -> 0.019505165 | AV5: =AP5/0.093861 -> 0.68936041 | AW5: =AQ5/0.056068 -> 0.62272995 | AY5: =AS5/0.025442 -> 0.74053719 | AZ5: =AT5/0.027521 -> 0.7087375
B6: Dnd1-m1-235 ^INPUT^ | C6: 25.92 | D6: 0.0081649658 | E6: Dnd1-m1-235 *RIP* | F6: 30.053333 | G6: 0.10274023 | H6: =F6-C6 -> 4.1333333 | J6: Dnd1-m1-235 ^INPUT^ | K6: 26.566667 | L6: 0.0047140452 | M6: Dnd1-m1-235 *RIP* | N6: 31.193333 | O6: 0.15797327 | P6: =N6-K6 -> 4.6266667 | R6: m1-235 - INPUT - | S6: 24.91 | T6: 0 | U6: m1-235 - *RIP* - | V6: 30.38 | W6: 0.080415587 | X6: =Fig1B!V6-Fig1B!S6 -> 5.47 | Z6: m1-235 - INPUT - | AA6: 24.763333 | AB6: 0.032998316 | AC6: m1-235 - *RIP* - | AD6: 30.146667 | AE6: 0.13474255 | AF6: =Fig1B!AD6-Fig1B!AA6 -> 5.3833333 | AH6: m1-235 - INPUT - | AI6: 22.993333 | AJ6: 0.0047140452 | AK6: m1-235 - *RIP* - | AL6: 30.206667 | AM6: 0.083798701 | AN6: =AL6-AI6 -> 7.2133333 | AP6: =POWER(2,-Fig1B!H6) -> 0.056982656 | AQ6: =POWER(2,-Fig1B!P6) -> 0.040479445 | AR6: =POWER(2,-Fig1B!X6) -> 0.022561394 | AS6: =POWER(2,-Fig1B!AF6) -> 0.023958255 | AT6: =POWER(2,-Fig1B!AN6) -> 0.0067386096 | AV6: =AP6/0.093861 -> 0.60709619 | AW6: =AQ6/0.056068 -> 0.72197056 | AX6: =AR6/0.023357 -> 0.96593714 | AY6: =AS6/0.025442 -> 0.94168129 | AZ6: =AT6/0.027521 -> 0.24485337
B7: Dnd1-mR98A ^INPUT^ | C7: 25.416667 | D7: 0.061824123 | E7: Dnd1-mR98A *RIP* | F7: 31.01 | G7: 0.21275965 | H7: =F7-C7 -> 5.5933333 | J7: Dnd1-mR98A ^INPUT^ | K7: 26.416667 | L7: 0.047140452 | M7: Dnd1-mR98A *RIP* | N7: 32.46 | O7: 0.82344804 | P7: =N7-K7 -> 6.0433333 | R7: mR98A - INPUT - | S7: 24.75 | T7: 0.016329932 | U7: mR98A - *RIP* - | V7: 32.803333 | W7: 0.31899147 | X7: =Fig1B!V7-Fig1B!S7 -> 8.0533333 | Z7: mR98A - INPUT - | AA7: 24.72 | AB7: 0.0081649658 | AC7: mR98A - *RIP* - | AD7: 32.67 | AE7: 0.22 | AF7: =Fig1B!AD7-Fig1B!AA7 -> 7.95 | AH7: mR98A - INPUT - | AI7: 23.023333 | AJ7: 0.012472191 | AK7: mR98A - *RIP* - | AL7: 31.32 | AM7: 0.14306176 | AN7: =AL7-AI7 -> 8.2966667 | AP7: =POWER(2,-Fig1B!H7) -> 0.020712804 | AS7: =POWER(2,-Fig1B!AF7) -> 0.0040440036 | AT7: =POWER(2,-Fig1B!AN7) -> 0.0031802003 | AV7: =AP7/0.093861 -> 0.22067529 | AY7: =AS7/0.025442 -> 0.15894991 | AZ7: =AT7/0.027521 -> 0.1155554
A8: SRSF2 | B8: Dnd1-WT ^INPUT^ | C8: 25.213333 | D8: 0.037712362 | E8: Dnd1-WT *RIP* | F8: 29.893333 | G8: 0.16739839 | H8: =F8-C8 -> 4.68 | J8: Dnd1-WT ^INPUT^ | K8: 26.836667 | L8: 0.074087036 | M8: Dnd1-WT *RIP* | N8: 31.746667 | O8: 0.10077478 | P8: =N8-K8 -> 4.91 | R8: WT - INPUT - | S8: 24.793333 | T8: 0.016996732 | U8: WT - *RIP* - | V8: 30.72 | W8: 0.058878406 | X8: =Fig1B!V8-Fig1B!S8 -> 5.9266667 | Z8: WT - INPUT - | AA8: 24.736667 | AB8: 0.028674418 | AC8: WT - *RIP* - | AD8: 30.873333 | AE8: 0.089566859 | AF8: =Fig1B!AD8-Fig1B!AA8 -> 6.1366667 | AH8: WT - INPUT - | AI8: 23.426667 | AJ8: 0.04027682 | AK8: WT - *RIP* - | AL8: 29.813333 | AM8: 0.18517259 | AN8: =AL8-AI8 -> 6.3866667 | AP8: =POWER(2,-Fig1B!H8) -> 0.03901033 | AQ8: =POWER(2,-Fig1B!P8) -> 0.033261568 | AR8: =POWER(2,-Fig1B!X8) -> 0.016439763 | AS8: =POWER(2,-Fig1B!AF8) -> 0.014212787 | AT8: =POWER(2,-Fig1B!AN8) -> 0.011951482 | AV8: =AP8/0.093861 -> 0.41561809 | AW8: =AQ8/0.056068 -> 0.59323622 | AX8: =AR8/0.023357 -> 0.70384738 | AY8: =AS8/0.025442 -> 0.55863483 | AZ8: =AT8/0.027521 -> 0.43426772
B9: Dnd1-m1-235 ^INPUT^ | C9: 25.273333 | D9: 0.020548047 | E9: Dnd1-m1-235 *RIP* | F9: 31.216667 | G9: 0.18208667 | H9: =F9-C9 -> 5.9433333 | J9: Dnd1-m1-235 ^INPUT^ | K9: 27.916667 | L9: 0.077602978 | M9: Dnd1-m1-235 *RIP* | N9: 35.04 | O9: 0.5169784 | P9: =N9-K9 -> 7.1233333 | R9: m1-235 - INPUT - | S9: 24.756667 | T9: 0.04027682 | U9: m1-235 - *RIP* - | V9: 31.583333 | W9: 0.11813363 | X9: =Fig1B!V9-Fig1B!S9 -> 6.8266667 | Z9: m1-235 - INPUT - | AA9: 24.726667 | AB9: 0.012472191 | AC9: m1-235 - *RIP* - | AD9: 32.015 | AE9: 0.005 | AF9: =Fig1B!AD9-Fig1B!AA9 -> 7.2883333 | AH9: m1-235 - INPUT - | AI9: 22.766667 | AJ9: 0.012472191 | AK9: m1-235 - *RIP* - | AL9: 31.653333 | AM9: 0.33717783 | AN9: =AL9-AI9 -> 8.8866667 | AP9: =POWER(2,-Fig1B!H9) -> 0.016250936 | AR9: =POWER(2,-Fig1B!X9) -> 0.008809851 | AS9: =POWER(2,-Fig1B!AF9) -> 0.006397246 | AV9: =AP9/0.093861 -> 0.17313833 | AX9: =AR9/0.023357 -> 0.37718247 | AY9: =AS9/0.025442 -> 0.2514443
B10: Dnd1-mR98A ^INPUT^ | C10: 24.48 | D10: 0.016329932 | E10: Dnd1-mR98A *RIP* | F10: 31.39 | G10: 0.36995495 | H10: =F10-C10 -> 6.91 | J10: Dnd1-mR98A ^INPUT^ | K10: 26.993333 | L10: 0.020548047 | M10: Dnd1-mR98A *RIP* | N10: 32.72 | O10: 0.080415587 | P10: =N10-K10 -> 5.7266667 | R10: mR98A - INPUT - | S10: 24.716667 | T10: 0.037712362 | U10: mR98A - *RIP* - | V10: 34.826667 | W10: 0.24513035 | X10: =Fig1B!V10-Fig1B!S10 -> 10.11 | Z10: mR98A - INPUT - | AA10: 24.61 | AB10: 0.0081649658 | AC10: mR98A - *RIP* - | AD10: 35 | AE10: 0 | AF10: =Fig1B!AD10-Fig1B!AA10 -> 10.39 | AH10: mR98A - INPUT - | AI10: 22.5 | AJ10: 0.0081649658 | AK10: mR98A - *RIP* - | AL10: 31.766667 | AM10: 0.2922708 | AN10: =AL10-AI10 -> 9.2666667 | AQ10: =POWER(2,-Fig1B!P10) -> 0.018884329 | AR10: =POWER(2,-Fig1B!X10) -> 0.00090487115 | AS10: =POWER(2,-Fig1B!AF10) -> 0.00074524375 | AT10: =POWER(2,-Fig1B!AN10) -> 0.0016235115 | AW10: =AQ10/0.056068 -> 0.33681118 | AX10: =AR10/0.023357 -> 0.038740898 | AY10: =AS10/0.025442 -> 0.02929187 | AZ10: =AT10/0.027521 -> 0.058991734
A11: SLC25A6 | B11: Dnd1-WT ^INPUT^ | C11: 24.783333 | D11: 0.0094280904 | E11: Dnd1-WT *RIP* | F11: 31.37 | G11: 0.10801234 | H11: =F11-C11 -> 6.5866667 | J11: Dnd1-WT ^INPUT^ | K11: 24.823333 | L11: 0.057348835 | M11: Dnd1-WT *RIP* | N11: 32.076667 | O11: 0.40672131 | P11: =N11-K11 -> 7.2533333 | R11: WT - INPUT - | S11: 24.82 | T11: 0.05 | U11: WT - *RIP* - | V11: 31.37 | W11: 0.23 | X11: =Fig1B!V11-Fig1B!S11 -> 6.55 | Z11: WT - INPUT - | AA11: 24.76 | AB11: 0.037416574 | AC11: WT - *RIP* - | AD11: 31.44 | AE11: 0.19595918 | AF11: =Fig1B!AD11-Fig1B!AA11 -> 6.68 | AH11: WT - INPUT - | AI11: 22.843333 | AJ11: 0.026246693 | AK11: WT - *RIP* - | AL11: 31.053333 | AM11: 0.08993825 | AN11: =AL11-AI11 -> 8.21 | AP11: =POWER(2,-Fig1B!H11) -> 0.010404369 | AR11: =POWER(2,-Fig1B!X11) -> 0.01067219 | AS11: =POWER(2,-Fig1B!AF11) -> 0.0097525824 | AT11: =POWER(2,-Fig1B!AN11) -> 0.0033770986 | AV11: =AP11/0.093861 -> 0.1108487 | AX11: =AR11/0.023357 -> 0.45691611 | AY11: =AS11/0.025442 -> 0.38332609 | AZ11: =AT11/0.027521 -> 0.12270988
B12: Dnd1-m1-235 ^INPUT^ | C12: 24.92 | D12: 0.063770422 | E12: Dnd1-m1-235 *RIP* | F12: 31.11 | G12: 0.24993332 | H12: =F12-C12 -> 6.19 | J12: Dnd1-m1-235 ^INPUT^ | K12: 25.663333 | L12: 0.024944383 | M12: Dnd1-m1-235 *RIP* | N12: 32.59 | O12: 0.089814624 | P12: =N12-K12 -> 6.9266667 | R12: m1-235 - INPUT - | S12: 23.66 | T12: 0.01 | U12: m1-235 - *RIP* - | V12: 31.1 | W12: 0.32 | X12: =Fig1B!V12-Fig1B!S12 -> 7.44 | Z12: m1-235 - INPUT - | AA12: 23.616667 | AB12: 0.016996732 | AC12: m1-235 - *RIP* - | AD12: 31.22 | AE12: 0.17146428 | AF12: =Fig1B!AD12-Fig1B!AA12 -> 7.6033333 | AH12: m1-235 - INPUT - | AI12: 22.08 | AJ12: 0.016329932 | AK12: m1-235 - *RIP* - | AL12: 31.346667 | AM12: 0.18080069 | AN12: =AL12-AI12 -> 9.2666667 | AP12: =POWER(2,-Fig1B!H12) -> 0.013696964 | AQ12: =POWER(2,-Fig1B!P12) -> 0.0082198816 | AS12: =POWER(2,-Fig1B!AF12) -> 0.0051424325 | AT12: =POWER(2,-Fig1B!AN12) -> 0.0016235115 | AV12: =AP12/0.093861 -> 0.14592817 | AW12: =AQ12/0.056068 -> 0.14660558 | AY12: =AS12/0.025442 -> 0.20212375 | AZ12: =AT12/0.027521 -> 0.058991734
B13: Dnd1-mR98A ^INPUT^ | C13: 24.346667 | D13: 0.083798701 | E13: Dnd1-mR98A *RIP* | F13: 31.503333 | G13: 0.033993463 | H13: =F13-C13 -> 7.1566667 | J13: Dnd1-mR98A ^INPUT^ | K13: 25.253333 | L13: 0.041096093 | M13: Dnd1-mR98A *RIP* | N13: 32.943333 | O13: 0.35367908 | P13: =N13-K13 -> 7.69 | R13: mR98A - INPUT - | S13: 23.08 | T13: 0.02 | U13: mR98A - *RIP* - | V13: 32.51 | W13: 0.18 | X13: =Fig1B!V13-Fig1B!S13 -> 9.43 | Z13: mR98A - INPUT - | AA13: 23.023333 | AB13: 0.018856181 | AC13: mR98A - *RIP* - | AD13: 32.91 | AE13: 0.18184242 | AF13: =Fig1B!AD13-Fig1B!AA13 -> 9.8866667 | AH13: mR98A - INPUT - | AI13: 21.933333 | AJ13: 0.033993463 | AK13: mR98A - *RIP* - | AL13: 31.293333 | AM13: 0.20417857 | AN13: =AL13-AI13 -> 9.36 | AP13: =POWER(2,-Fig1B!H13) -> 0.0070085579 | AR13: =POWER(2,-Fig1B!X13) -> 0.00144973 | AS13: =POWER(2,-Fig1B!AF13) -> 0.0010563717 | AT13: =POWER(2,-Fig1B!AN13) -> 0.0015218058 | AV13: =AP13/0.093861 -> 0.074669542 | AX13: =AR13/0.023357 -> 0.062068333 | AY13: =AS13/0.025442 -> 0.041520782 | AZ13: =AT13/0.027521 -> 0.055296167
B15: SD >0.3 omitted | AV15: Normalization to SMN1 Dnd1WT RIP
B16: SD >0.4 omitted

Sheet Fig5
A1: Rluc/Fluc ratio
A2: normalized to transfection without DND1
B4: TERTWT | C4: TERTWT+Dnd1WT | D4: TERTWT + DND1 m1-235 | E4: TERTWT + DND1 mR98A
A5: expt1 | B5: 1 | C5: 1.005 | D5: 0.997 | E5: 1.059
A6: expt2 | B6: 1 | C6: 0.928 | D6: 0.87 | E6: 0.891
A7: expt3 | B7: 1 | C7: 1.091 | D7: 1.003 | E7: 0.954
B8: TERTmut1 | C8: TERTmut1+Dnd1WT | D8: TERTmut1 + DND1 m1-235 | E8: TERTmut1 + DND1 mR98A
A9: expt1 | B9: 1 | C9: 1.393 | D9: 1.052 | E9: 1.368
A10: expt2 | B10: 1 | C10: 1.104 | D10: 0.79 | E10: 1.032
A11: expt3 | B11: 1 | C11: 1.669 | D11: 0.995 | E11: 1.128
B12: TERTmut2 | C12: TERTmut2+Dnd1WT | D12: TERTmut2 + DND1 m1-235 | E12: TERTmut2 + DND1 mR98A
A13: expt1 | B13: 1 | C13: 1.386 | D13: 0.667 | E13: 1.011
A14: expt2 | B14: 1 | C14: 1.532 | D14: 0.751 | E14: 1.062
A15: expt3 | B15: 1 | C15: 1.831 | D15: 0.749 | E15: 0.958
A17: TERT | B17: Firefly luminescence | C17: Renilla luminescence | D17: R/F ratio | E17: AVG internal | F17: STDev
A18: Tech. triplicate expt 1
A19: TERT | B19: 1096000000 | C19: 150700000 | D19: =C19/B19 -> 0.1375
A20: TERT | B20: 1096000000 | C20: 153000000 | D20: =C20/B20 -> 0.13959854
A21: TERT | B21: 1063000000 | C21: 156400000 | D21: =C21/B21 -> 0.14713076 | E21: =AVERAGE(D19:D21) -> 0.14140977 | F21: =STDEV(D19:D21) -> 0.0050644153
A22: TERT +Dnd1 WT | B22: 210200000 | C22: 28830000 | D22: =C22/B22 -> 0.13715509
A23: TERT +Dnd1 WT | B23: 171000000 | C23: 24530000 | D23: =C23/B23 -> 0.14345029
A24: TERT +Dnd1 WT | B24: 167500000 | C24: 24380000 | D24: =C24/B24 -> 0.14555224 | E24: =AVERAGE(D22:D24) -> 0.14205254 | F24: =STDEV(D22:D24) -> 0.004369589
A26: TERT + Dnd1 1-235 | B26: 232900000 | C26: 32240000 | D26: =C26/B26 -> 0.13842851
A27: TERT + Dnd1 1-235 | B27: 261100000 | C27: 36510000 | D27: =C27/B27 -> 0.13983148
A28: TERT + Dnd1 1-235 | B28: 249800000 | C28: 36110000 | D28: =C28/B28 -> 0.14455564 | E28: =AVERAGE(D26:D28) -> 0.14093855 | F28: =STDEV(D26:D28) -> 0.0032100835
A29: TERT+ Dnd1 R98A | B29: 413100000 | C29: 59610000 | D29: =C29/B29 -> 0.1442992
A30: TERT+ Dnd1 R98A | B30: 392100000 | C30: 60570000 | D30: =C30/B30 -> 0.1544759
A31: TERT+ Dnd1 R98A | B31: 381300000 | C31: 57360000 | D31: =C31/B31 -> 0.15043273 | E31: =AVERAGE(D29:D31) -> 0.14973594 | F31: =STDEV(D29:D31) -> 0.0051240051
A33: Avg. expt. 1
A34: TERT | E34: 0.14140977 | F34: 0.0050644153
A35: TERT +Dnd1 WT | E35: 0.14205254 | F35: 0.004369589
A36: TERT + Dnd1 1-235 | E36: 0.14093855 | F36: 0.0032100835
A37: TERT+ Dnd1 R98A | E37: 0.14973594 | F37: 0.0051240051
A39: Tech. triplicate expt. 2
A40: TERT | B40: 985600000 | C40: 162400000 | D40: =C40/B40 -> 0.16477273
A41: TERT | B41: 958400000 | C41: 158700000 | D41: =C41/B41 -> 0.16558848
A42: TERT | B42: 966099968 | C42: 166200000 | D42: =C42/B42 -> 0.17203189 | E42: =AVERAGE(D40:D42) -> 0.16746436 | F42: =STDEV(D40:D42) -> 0.0039765631
A43: TERT +Dnd1 WT | B43: 185600000 | C43: 27530000 | D43: =C43/B43 -> 0.14832974
A44: TERT +Dnd1 WT | B44: 159300000 | C44: 24930000 | D44: =C44/B44 -> 0.15649718
A45: TERT +Dnd1 WT | B45: 154900000 | C45: 25030000 | D45: =C45/B45 -> 0.16158812 | E45: =AVERAGE(D43:D45) -> 0.15547168 | F45: =STDEV(D43:D45) -> 0.0066884147
A47: TERT + Dnd1 1-235 | B47: 185300000 | C47: 27080000 | D47: =C47/B47 -> 0.14614139
A48: TERT + Dnd1 1-235 | B48: 214100000 | C48: 30940000 | D48: =C48/B48 -> 0.14451191
A49: TERT + Dnd1 1-235 | B49: 213400000 | C49: 31280000 | D49: =C49/B49 -> 0.14657919 | E49: =AVERAGE(D47:D49) -> 0.14574417 | F49: =STDEV(D47:D49) -> 0.0010893839
A50: TERT+ Dnd1 R98A | B50: 366100000 | C50: 53230000 | D50: =C50/B50 -> 0.14539743
A51: TERT+ Dnd1 R98A | B51: 329000000 | C51: 49520000 | D51: =C51/B51 -> 0.15051672
A52: TERT+ Dnd1 R98A | B52: 312900000 | C52: 47500000 | D52: =C52/B52 -> 0.15180569 | E52: =AVERAGE(D50:D52) -> 0.14923995 | F52: =STDEV(D50:D52) -> 0.0033895495
A54: Avg. expt. 2
A55: TERT | E55: 0.16746436 | F55: 0.0039765631
A56: TERT +Dnd1 WT | E56: 0.15547168 | F56: 0.0066884147
A57: TERT + Dnd1 1-235 | E57: 0.14574417 | F57: 0.0010893839
A58: TERT+ Dnd1 R98A | E58: 0.14923995 | F58: 0.0033895495
A60: Tech. triplicate expt. 3
A61: TERT | B61: 1867000064 | C61: 198000000 | D61: =C61/B61 -> 0.10605249
A62: TERT | B62: 2050000000 | C62: 209400000 | D62: =C62/B62 -> 0.10214634
A63: TERT | B63: 1888999936 | C63: 195900000 | D63: =C63/B63 -> 0.10370567 | E63: =AVERAGE(D61:D63) -> 0.10396817 | F63: =STDEV(D61:D63) -> 0.0019662584
A64: TERT +Dnd1 WT | B64: 281500000 | C64: 30240000 | D64: =C64/B64 -> 0.10742451
A65: TERT +Dnd1 WT | B65: 244400000 | C65: 28550000 | D65: =C65/B65 -> 0.11681669
A66: TERT +Dnd1 WT | B66: 232900000 | C66: 27040000 | D66: =C66/B66 -> 0.11610133 | E66: =AVERAGE(D64:D66) -> 0.11344751 | F66: =STDEV(D64:D66) -> 0.0052283208
A68: TERT + Dnd1 1-235 | B68: 351700000 | C68: 38710000 | D68: =C68/B68 -> 0.1100654
A69: TERT + Dnd1 1-235 | B69: 407200000 | C69: 40350000 | D69: =C69/B69 -> 0.099091356
A70: TERT + Dnd1 1-235 | B70: 365400000 | C70: 37940000 | D70: =C70/B70 -> 0.10383142 | E70: =AVERAGE(D68:D70) -> 0.10432939 | F70: =STDEV(D68:D70) -> 0.0055039419
A71: TERT+ Dnd1 R98A | B71: 554000000 | C71: 53900000 | D71: =C71/B71 -> 0.097292419
A72: TERT+ Dnd1 R98A | B72: 541400000 | C72: 53630000 | D72: =C72/B72 -> 0.099057998
A73: TERT+ Dnd1 R98A | B73: 508900000 | C73: 51450000 | D73: =C73/B73 -> 0.10110041 | E73: =AVERAGE(D71:D73) -> 0.099150276 | F73: =STDEV(D71:D73) -> 0.0019056733
A75: Avg. expt. 3
A76: TERT | E76: 0.10396817 | F76: 0.0019662584
A77: TERT +Dnd1 WT | E77: 0.11344751 | F77: 0.0052283208
A78: TERT + Dnd1 1-235 | E78: 0.10432939 | F78: 0.0055039419
A79: TERT+ Dnd1 R98A | E79: 0.099150276 | F79: 0.0019056733
A82: TERT mut1 | B82: Firefly luminescence | C82: Renilla luminescence | D82: R/F ratio | E82: AVG internal | F82: STDev
A83: Tech. triplicate expt 1
A84: TERT mut1 | B84: 1056000000 | C84: 42770000 | D84: =C84/B84 -> 0.040501894
A85: TERT mut1 | B85: 1053000000 | C85: 50620000 | D85: =C85/B85 -> 0.048072175
A86: TERT mut1 | B86: 1019000000 | C86: 52650000 | D86: =C86/B86 -> 0.051668302 | E86: =AVERAGE(D84:D86) -> 0.046747457 | F86: =STDEV(D84:D86) -> 0.0056998532
A87: TERT mut1 +Dnd1 WT | B87: 190800000 | C87: 11120000 | D87: =C87/B87 -> 0.058280922
A88: TERT mut1 +Dnd1 WT | B88: 167600000 | C88: 11400000 | D88: =C88/B88 -> 0.068019093
A89: TERT mut1 +Dnd1 WT | B89: 148400000 | C89: 10300000 | D89: =C89/B89 -> 0.069407008 | E89: =AVERAGE(D87:D89) -> 0.065235675 | F89: =STDEV(D87:D89) -> 0.0060628384
A91: TERT mut1 + Dnd1 1-235 | B91: 228000000 | C91: 11650000 | D91: =C91/B91 -> 0.051096491
A92: TERT mut1 + Dnd1 1-235 | B92: 258900000 | C92: 11310000 | D92: =C92/B92 -> 0.04368482
A93: TERT mut1 + Dnd1 1-235 | B93: 242300000 | C93: 12840000 | D93: =C93/B93 -> 0.052992158 | E93: =AVERAGE(D91:D93) -> 0.049257823 | F93: =STDEV(D91:D93) -> 0.0049185527
A94: TERT mut1+ Dnd1 R98A | B94: 348300000 | C94: 20890000 | D94: =C94/B94 -> 0.059977031
A95: TERT mut1+ Dnd1 R98A | B95: 341600000 | C95: 22430000 | D95: =C95/B95 -> 0.065661593
A96: TERT mut1+ Dnd1 R98A | B96: 337300000 | C96: 22480000 | D96: =C96/B96 -> 0.066646902 | E96: =AVERAGE(D94:D96) -> 0.064095175 | F96: =STDEV(D94:D96) -> 0.0036002834
A98: Avg. expt. 1
A99: TERT mut1 | E99: 0.046747457 | F99: 0.0056998532
A100: TERT mut1 +Dnd1 WT | E100: 0.065235675 | F100: 0.0060628384
A101: TERT mut1 + Dnd1 1-235 | E101: 0.049257823 | F101: 0.0049185527
A102: TERT mut1 + Dnd1 R98A | E102: 0.064095175 | F102: 0.0036002834
A104: Tech. triplicate expt. 2
A105: TERT mut1 | B105: 777900032 | C105: 54280000 | D105: =C105/B105 -> 0.069777604
A106: TERT mut1 | B106: 851400000 | C106: 68000000 | D106: =C106/B106 -> 0.079868452
A107: TERT mut1 | B107: 926800000 | C107: 68490000 | D107: =C107/B107 -> 0.073899439 | E107: =AVERAGE(D105:D107) -> 0.074515165 | F107: =STDEV(D105:D107) -> 0.0050735239
A108: TERT mut1 +Dnd1 WT | B108: 176600000 | C108: 12850000 | D108: =C108/B108 -> 0.072763307
A109: TERT mut1 +Dnd1 WT | B109: 156700000 | C109: 13380000 | D109: =C109/B109 -> 0.085386088
A110: TERT mut1 +Dnd1 WT | B110: 141400000 | C110: 12600000 | D110: =C110/B110 -> 0.089108911 | E110: =AVERAGE(D108:D110) -> 0.082419435 | F110: =STDEV(D108:D110) -> 0.0085671153
A112: TERT mut1 + Dnd1 1-235 | B112: 212400000 | C112: 11920000 | D112: =C112/B112 -> 0.056120527
A113: TERT mut1 + Dnd1 1-235 | B113: 260200000 | C113: 15500000 | D113: =C113/B113 -> 0.059569562
A114: TERT mut1 + Dnd1 1-235 | B114: 247500000 | C114: 15180000 | D114: =C114/B114 -> 0.061333333 | E114: =AVERAGE(D112:D114) -> 0.059007808 | F114: =STDEV(D112:D114) -> 0.0026514171
A115: TERT mut1+ Dnd1 R98A | B115: 359200000 | C115: 26670000 | D115: =C115/B115 -> 0.07424833
A116: TERT mut1+ Dnd1 R98A | B116: 325700000 | C116: 24740000 | D116: =C116/B116 -> 0.075959472
...

Sheet FigS2
A1: Complete blot and coomassie-stained gel

Sheet FigS4B
A1: T1/T2 relaxation rates
A2: residues in red omitted from averaging if hetNOE < 0.8 or > 1.2 | Q2: AVERAGE | R2: =AVERAGE(R7:R216) -> 1857.4233 | S2: =AVERAGE(S7:S216) -> 36.090753
A3: residue | B3: 15N (ppm) | C3: 1H (ppm) | D3: Intensity (sat) | F3: Intensity (ref) | H3: hetNOE | J3: residue | K3: T1 (ms) | L3: T1 SD | M3: T2 (ms) | N3: T2 SD | O3: fit reference | R3: T1 (ms) | S3: T2 (ms)
A4: 3MN-HN | B4: 119.079 | C4: 8.447 | D4: 4020129 | F4: -3649180 | H4: =F4/D4 -> -0.90772709
A5: 4EN-HN | B5: 121.772 | C5: 8.299 | D5: 10370847 | F5: 1272078 | H5: =F5/D5 -> 0.12265903
A6: 5RN-HN | B6: 120.87 | C6: 8.175 | D6: 10851352 | F6: 4944716 | H6: =F6/D6 -> 0.45567741
A7: 6VN-HN | B7: 121.411 | C7: 8.092 | D7: 7061989 | F7: 6044124 | H7: =F7/D7 -> 0.85586709 | J7: 6 | K7: 766.715 | L7: 9.215 | M7: 85.652 | N7: 0.854 | O7: fit86.gnu | R7: 766.715 | S7: 85.652
A8: 7NN-HN | B8: 125.115 | C8: 8.968 | D8: 6771884 | F8: 4853016 | H8: =F8/D8 -> 0.71664193 | J8: 7 | K8: 1216.407 | L8: 45.541 | M8: 49.442 | N8: 1.291 | O8: fit35.gnu
A10: 9EN-HN | B10: 119.486 | C10: 8.477 | D10: 7302534 | F10: 6041900 | H10: =F10/D10 -> 0.82737033 | J10: 9 | K10: 1413.514 | L10: 43.729 | M10: 37.32 | N10: 1.015 | O10: fit117.gnu | R10: 1413.514 | S10: 37.32
A11: 10NN-HN | B11: 119.308 | C11: 8.075 | D11: 6961659 | F11: 5506312 | H11: =F11/D11 -> 0.79094825 | J11: 10 | K11: 719.032 | L11: 5.517 | M11: 114.71 | N11: 0.249 | O11: fit120.gnu | R11: 719.032 | S11: 114.71
A12: 11KN-HN | B12: 120.004 | C12: 7.851 | D12: 5638252 | F12: 5591696 | H12: =F12/D12 -> 0.99174283 | J12: 11 | K12: 1619.398 | L12: 57.708 | M12: 31.581 | N12: 1.179 | O12: fit108.gnu | R12: 1619.398 | S12: 31.581
A13: 12AN-HN | B13: 121.003 | C13: 7.76 | D13: 6249495 | F13: 6062876 | H13: =F13/D13 -> 0.97013855 | J13: 12 | K13: 1717.856 | L13: 60.385 | M13: 33.452 | N13: 1.449 | O13: fit93.gnu | R13: 1717.856 | S13: 33.452
A14: 13AN-HN | B14: 122.402 | C14: 7.735 | D14: 6603864 | F14: 6233838 | H14: =F14/D14 -> 0.94396826 | J14: 13 | K14: 1729.55 | L14: 55.795 | M14: 34.418 | N14: 1.547 | O14: fit63.gnu | R14: 1729.55 | S14: 34.418
A15: 14LN-HN | B15: 121.699 | C15: 7.429 | D15: 6071796 | F15: 5856676 | H15: =F15/D15 -> 0.96457061 | J15: 14 | K15: 1838.301 | L15: 58.975 | M15: 36.037 | N15: 1.804 | O15: fit78.gnu | R15: 1838.301 | S15: 36.037
A16: 15EN-HN | B16: 117.534 | C16: 7.777 | D16: 6523171 | F16: 6066440 | H16: =F16/D16 -> 0.92998329 | J16: 15 | K16: 1735.419 | L16: 57.219 | M16: 32.492 | N16: 1.357 | O16: fit146.gnu | R16: 1735.419 | S16: 32.492
A17: 16AN-HN | B17: 121.411 | C17: 8.092 | D17: 7061989 | F17: 6044124 | H17: =F17/D17 -> 0.85586709 | J17: 16 | K17: 1799.849 | L17: 54.795 | M17: 36.824 | N17: 1.997 | O17: fit82.gnu | R17: 1799.849 | S17: 36.824
A18: 17WN-HN | B18: 121.627 | C18: 7.933 | D18: 4650210 | F18: 5056422 | H18: =F18/D18 -> 1.0873535 | J18: 17 | K18: 1714.616 | L18: 68.298 | M18: 51.713 | N18: 3.497 | O18: fit77.gnu | R18: 1714.616 | S18: 51.713
A19: 18VN-HN | B19: 122.133 | C19: 8.851 | D19: 5014844 | F19: 5043252 | H19: =F19/D19 -> 1.0056648 | J19: 18 | K19: 1807.88 | L19: 75.56 | M19: 34.171 | N19: 2.414 | O19: fit70.gnu | R19: 1807.88 | S19: 34.171
A20: 19RN-HN | B20: 119.149 | C20: 7.739 | D20: 6280677 | F20: 5836366 | H20: =F20/D20 -> 0.92925747 | J20: 19 | K20: 1869.635 | L20: 50.199 | M20: 28.646 | N20: 1.287 | O20: fit121.gnu | R20: 1869.635 | S20: 28.646
A21: 20EN-HN | B21: 118.296 | C21: 8.115 | D21: 7857967 | F21: 7426238 | H21: =F21/D21 -> 0.94505844 | J21: 20 | K21: 1888.138 | L21: 47.227 | M21: 31.031 | N21: 1.205 | O21: fit134.gnu | R21: 1888.138 | S21: 31.031
... A23: 22GN-HN | B23: 111.309 | C23: 7.855 | D23: 4285024 | F23: 3712207 | H23: =F23/D23 -> 0.86632117 | J23: 22 | K23: 1945.733 | L23: 71.103 | M23: 34.525 | N23: 1.205 | O23: fit210.gnu | R23: 1945.733 | S23: 34.525
A24: 23IN-HN | B24: 121.105 | C24: 7.043 | D24: 5146985 | F24: 3354507 | H24: =F24/D24 -> 0.65174214 | J24: 23 | K24: 2012.055 | L24: 54.421 | M24: 33.015 | N24: 1.298 | O24: fit94.gnu
A25: 24RN-HN | B25: 125.608 | C25: 8.182 | D25: 7742668 | F25: 6744865 | H25: =F25/D25 -> 0.87112931
A26: 25LN-HN | B26: 125.859 | C26: 8.532 | D26: 7225395 | F26: 6310428 | H26: =F26/D26 -> 0.87336789 | J26: 25 | K26: 2201.439 | L26: 29.945 | M26: 36.496 | N26: 0.919 | O26: fit28.gnu | R26: 2201.439 | S26: 36.496
A27: 26VN-HN | B27: 122.795 | C27: 8.803 | D27: 6151217 | F27: 5004323 | H27: =F27/D27 -> 0.81355007 | J27: 26 | K27: 2234.504 | L27: 75.912 | M27: 34.41 | N27: 1.964 | O27: fit54.gnu | R27: 2234.504 | S27: 34.41
A28: 27QN-HN | B28: 130.506 | C28: 9.199 | D28: 3302082 | F28: 2599640 | H28: =F28/D28 -> 0.787273 | J28: 27 | K28: 1871.516 | L28: 122.956 | M28: 34.032 | N28: 2.727 | O28: fit5.gnu | R28: 1871.516 | S28: 34.032
A29: 28VN-HN | B29: 128.276 | C29: 8.469 | D29: 2133001 | F29: 2283893 | H29: =F29/D29 -> 1.0707416 | J29: 28 | K29: 1582.514 | L29: 115.177 | M29: 27.216 | N29: 7.272 | O29: fit9.gnu | R29: 1582.514 | S29: 27.216
A32: 31QN-HN | B32: 120.373 | C32: 7.712 | D32: 5857096 | F32: 5777683 | H32: =F32/D32 -> 0.98644157 | J32: 31 | K32: 1823.882 | L32: 96.322 | M32: 26.982 | N32: 2.799 | O32: fit257.gnu | R32: 1823.882 | S32: 26.982
A33: 32RN-HN | B33: 125.786 | C33: 8.984 | D33: 5690102 | F33: 5731028 | H33: =F33/D33 -> 1.0071925 | J33: 32 | K33: 1848.859 | L33: 104.135 | M33: 38.204 | N33: 2.744 | O33: fit29.gnu | R33: 1848.859 | S33: 38.204
A34: 33KN-HN | B34: 127.954 | C34: 9.257 | D34: 6371802 | F34: 5851853 | H34: =F34/D34 -> 0.91839844 | J34: 33 | K34: 1724.835 | L34: 74.139 | M34: 32.864 | N34: 2.179 | O34: fit12.gnu | R34: 1724.835 | S34: 32.864
A35: 34YN-HN | B35: 126.532 | C35: 9.392 | D35: 3947505 | F35: 4397402 | H35: =F35/D35 -> 1.11397 | J35: 34 | K35: 2035.077 | L35: 111.259 | M35: 39.371 | N35: 3.128 | O35: fit18.gnu | R35: 2035.077 | S35: 39.371
A36: 35GN-HN | B36: 114.851 | C36: 8.416 | D36: 8224803 | F36: 7775534 | H36: =F36/D36 -> 0.94537632 | J36: 35 | K36: 2116.957 | L36: 34.285 | M36: 36.469 | N36: 1.078 | O36: fit177.gnu | R36: 2116.957 | S36: 36.469
A37: 36GN-HN | B37: 107.622 | C37: 8.123 | D37: 8092016 | F37: 7733576 | H37: =F37/D37 -> 0.95570449 | J37: 36 | K37: 1992.241 | L37: 75.302 | M37: 38.088 | N37: 2.277 | O37: fit240.gnu | R37: 1992.241 | S37: 38.088
A41: 40GN-HN | B41: 112.277 | C41: 8.891 | D41: 2136575 | F41: 2319034 | H41: =F41/D41 -> 1.0853979 | J41: 40 | K41: 1864.647 | L41: 272.975 | M41: 44.78 | N41: 5.027 | O41: fit194.gnu | R41: 1864.647 | S41: 44.78
A42: 41WN-HN | B42: 120.992 | C42: 7.476 | D42: 5524257 | F42: 4455052 | H42: =F42/D42 -> 0.8064527 | J42: 41 | K42: 1892.099 | L42: 53.399 | M42: 37.918 | N42: 0.985 | O42: fit97.gnu | R42: 1892.099 | S42: 37.918
A43: 42VN-HN | B43: 127.854 | C43: 7.405 | D43: 7536506 | F43: 4866968 | H43: =F43/D43 -> 0.64578573
A44: 43GN-HN | B44: 112.258 | C44: 8.355 | D44: 9826025 | F44: 6510234 | H44: =F44/D44 -> 0.66255012 | J44: 43 | K44: 1286.218 | L44: 23.47 | M44: 61.438 | N44: 0.813 | O44: fit196.gnu
A45: 44SN-HN | B45: 116.576 | C45: 8.373 | D45: 5935133 | F45: 4868280 | H45: =F45/D45 -> 0.82024784 | J45: 44 | K45: 1987.129 | L45: 131.931 | M45: 30.442 | N45: 3.782 | O45: fit255.gnu | R45: 1987.129 | S45: 30.442
A49: 48AN-HN | B49: 123.984 | C49: 8.57 | D49: 8445370 | F49: 6505837 | H49: =F49/D49 -> 0.77034363 | J49: 48 | K49: 1822.091 | L49: 52.976 | M49: 42.174 | N49: 1.467 | O49: fit45.gnu | R49: 1822.091 | S49: 42.174
A50: 49GN-HN | B50: 109.461 | C50: 9.064 | D50: 1230244 | F50: 1474152 | H50: =F50/D50 -> 1.1982599 | J50: 49 | K50: 1748.386 | L50: 173.058 | M50: 40.473 | N50: 4.379 | O50: fit230.gnu | R50: 1748.386 | S50: 40.473
A51: 50SN-HN | B51: 112.808 | C51: 7.774 | D51: 2580914 | F51: 2223293 | H51: =F51/D51 -> 0.8614363 | J51: 50 | K51: 1775.665 | L51: 166.993 | M51: 38.094 | N51: 5.323 | O51: fit188.gnu | R51: 1775.665 | S51: 38.094
A53: 52VN-HN | B53: 122.004 | C53: 9.646 | D53: 4519028 | F53: 4098494 | H53: =F53/D53 -> 0.90694149 | J53: 52 | K53: 1981.874 | L53: 107.882 | M53: 28.627 | N53: 2.977 | O53: fit73.gnu | R53: 1981.874 | S53: 28.627
A55: 54IN-HN | B55: 127.202 | C55: 7.467 | D55: 4446750 | F55: 4322864 | H55: =F55/D55 -> 0.9721401 | J55: 54 | K55: 2096.623 | L55: 147.41 | M55: 31.525 | N55: 3.701 | O55: fit16.gnu | R55: 2096.623 | S55: 31.525
A56: 55GN-HN | B56: 109.436 | C56: 9.165 | D56: 1763237 | F56: 1549415 | H56: =F56/D56 -> 0.87873326 | J56: 55 | K56: 1765.706 | L56: 128.071 | M56: 40.361 | N56: 7.248 | O56: fit228.gnu | R56: 1765.706 | S56: 40.361
A57: 56RN-HN | B57: 109.898 | C57: 8.335 | D57: 3398920 | F57: 3745152 | H57: =F57/D57 -> 1.1018653 | J57: 56 | K57: 2096.806 | L57: 108.161 | M57: 33.026 | N57: 5.624 | O57: fit225.gnu | R57: 2096.806 | S57: 33.026
A58: 57LN-HN | B58: 116.929 | C58: 7.592 | D58: 3586626 | F58: 3489624 | H58: =F58/D58 -> 0.97295453 | J58: 57 | K58: 2133.869 | L58: 101.01 | M58: 24.066 | N58: 3.356 | O58: fit156.gnu | R58: 2133.869 | S58: 24.066
A60: 59QN-HN | B60: 120.002 | C60: 8.558 | D60: 5800294 | F60: 5964314 | H60: =F60/D60 -> 1.0282779 | J60: 59 | K60: 1802.742 | L60: 50.221 | M60: 38.445 | N60: 1.901 | O60: fit107.gnu | R60: 1802.742 | S60: 38.445
A61: 60DN-HN | B61: 112.885 | C61: 8.275 | D61: 3341869 | F61: 3146284 | H61: =F61/D61 -> 0.94147437 | J61: 60 | K61: 1802.638 | L61: 107.768 | M61: 31.851 | N61: 3.175 | O61: fit185.gnu | R61: 1802.638 | S61: 31.851
A62: 61VN-HN | B62: 116.11 | C62: 6.34 | D62: 4731302 | F62: 3793950 | H62: =F62/D62 -> 0.80188286 | J62: 61 | K62: 1840.761 | L62: 84.646 | M62: 30.127 | N62: 2.304 | O62: fit169.gnu | R62: 1840.761 | S62: 30.127
... A75: 74GN-HN | B75: 107.228 | C75: 7.251 | D75: 7693170 | F75: 7069897 | H75: =F75/D75 -> 0.91898359 | J75: 74 | K75: 1560.205 | L75: 45.839 | M75: 36.168 | N75: 1.682 | O75: fit243.gnu | R75: 1560.205 | S75: 36.168
A76: 75RN-HN | B76: 119.08 | C76: 8.63 | D76: 9857945 | F76: 6798957 | H76: =F76/D76 -> 0.68969314 | J76: 75 | K76: 1397.141 | L76: 34.367 | M76: 45.465 | N76: 0.864 | O76: fit123.gnu
A77: 76LN-HN | B77: 126.146 | C77: 9.015 | D77: 8056015 | F77: 7477723 | H77: =F77/D77 -> 0.92821612 | J77: 76 | K77: 1887.835 | L77: 34.655 | M77: 34.708 | N77: 1.035 | O77: fit22.gnu | R77: 1887.835 | S77: 34.708
A78: 77YN-HN | B78: 124.656 | C78: 9.442 | D78: 4555854 | F78: 4742424 | H78: =F78/D78 -> 1.0409517 | J78: 77 | K78: 2044.562 | L78: 140.179 | M78: 33.604 | N78: 2.841 | O78: fit40.gnu | R78: 2044.562 | S78: 33.604
A79: 78EN-HN | B79: 117.265 | C79: 8.259 | D79: 4320601 | F79: 4511398 | H79: =F79/D79 -> 1.0441598 | J79: 78 | K79: 1632.614 | L79: 200.539 | M79: 29.667 | N79: 4.636 | O79: fit150.gnu | R79: 1632.614 | S79: 29.667
A80: 79FN-HN | B80: 126.275 | C80: 8.921 | D80: 8252158 | F80: 8333598 | H80: =F80/D80 -> 1.0098689 | J80: 79 | K80: 2002.62 | L80: 88.088 | M80: 32.547 | N80: 1.973 | O80: fit23.gnu | R80: 2002.62 | S80: 32.547
A81: 80RN-HN | B81: 126.275 | C81: 8.921 | D81: 8252158 | F81: 8333598 | H81: =F81/D81 -> 1.0098689 | J81: 80 | K81: 1915.985 | L81: 72.789 | M81: 38.361 | N81: 1.786 | O81: fit20.gnu | R81: 1915.985 | S81: 38.361
A82: 81LN-HN | B82: 125.334 | C82: 9.188 | D82: 4427890 | F82: 4477472 | H82: =F82/D82 -> 1.0111977 | J82: 81 | K82: 1965.648 | L82: 98.614 | M82: 34.394 | N82: 1.732 | O82: fit33.gnu | R82: 1965.648 | S82: 34.394
A83: 82MN-HN | B83: 125.378 | C83: 6.81 | D83: 3691696 | F83: 2891631 | H83: =F83/D83 -> 0.78327983 | J83: 82 | K83: 1670.526 | L83: 115.245 | M83: 38.782 | N83: 4.194 | O83: fit32.gnu | R83: 1670.526 | S83: 38.782
A84: 83MN-HN | B84: 111.572 | C84: 8.52 | D84: 1112416 | F84: 1004666 | H84: =F84/D84 -> 0.90313875 | J84: 83 | K84: 1773.268 | L84: 232.582 | M84: 32.208 | N84: 6.217 | O84: fit60.gnu | R84: 1773.268 | S84: 32.208
A88: 87GN-HN | B88: 108.645 | C88: 7.97 | D88: 1989457 | F88: 2175949 | H88: =F88/D88 -> 1.0937402 | J88: 87 | K88: 1866.971 | L88: 216.698 | M88: 30.499 | N88: 5.814 | O88: fit237.gnu | R88: 1866.971 | S88: 30.499
A89: 88LN-HN | B89: 122.243 | C89: 7.263 | D89: 1176388 | F89: 913046 | H89: =F89/D89 -> 0.77614359 | J89: 88 | K89: 1626.902 | L89: 60.015 | M89: 34.838 | N89: 1.837 | O89: fit67.gnu | R89: 1626.902 | S89: 34.838
A90: 89NN-HN | B90: 118.114 | C90: 9.276 | D90: 3622847 | F90: 3778741 | H90: =F90/D90 -> 1.0430308 | J90: 89 | K90: 1991.914 | L90: 93.004 | M90: 31.178 | N90: 2.767 | O90: fit135.gnu | R90: 1991.914 | S90: 31.178
A91: 90RN-HN | B91: 116.576 | C91: 8.373 | D91: 5935133 | F91: 4868280 | H91: =F91/D91 -> 0.82024784 | J91: 90 | K91: 1828.486 | L91: 48.138 | M91: 43.293 | N91: 1.134 | O91: fit162.gnu | R91: 1828.486 | S91: 43.293
A92: 91GN-HN | B92: 109.246 | C92: 10.064 | D92: 562428 | F92: 1183288 | H92: =F92/D92 -> 2.1038924 | J92: 91 | K92: 2131.145 | L92: 251.531 | M92: 41.561 | N92: 13.703 | O92: fit227.gnu
A93: 92FN-HN | B93: 114.29 | C93: 6.944 | D93: 4868883 | F93: 4944975 | H93: =F93/D93 -> 1.0156282 | J93: 92 | K93: 1708.586 | L93: 103.301 | M93: 30.334 | N93: 2.99 | O93: fit184.gnu | R93: 1708.586 | S93: 30.334
A94: 93AN-HN | B94: 119.207 | C94: 8.575 | D94: 5034737 | F94: 5006969 | H94: =F94/D94 -> 0.99448472 | J94: 93 | K94: 1742.219 | L94: 118.514 | M94: 37.233 | N94: 4.505 | O94: fit119.gnu | R94: 1742.219 | S94: 37.233
A95: 94YN-HN | B95: 112.594 | C95: 8.181 | D95: 2611452 | F95: 3104595 | H95: =F95/D95 -> 1.1888386 | J95: 94 | K95: 2001.981 | L95: 122.511 | M95: 44.409 | N95: 3.769 | O95: fit190.gnu | R95: 2001.981 | S95: 44.409
A96: 95AN-HN | B96: 119.427 | C96: 8.108 | D96: 4659181 | F96: 4796678 | H96: =F96/D96 -> 1.029511 | J96: 95 | K96: 1989.322 | L96: 101.713 | M96: 32.581 | N96: 3.48 | O96: fit118.gnu | R96: 1989.322 | S96: 32.581
A97: 96RN-HN | B97: 123.827 | C97: 9.03 | D97: 5165962 | F97: 5286886 | H97: =F97/D97 -> 1.0234078 | J97: 96 | K97: 2000.378 | L97: 95.296 | M97: 37.939 | N97: 2.281 | O97: fit46.gnu | R97: 2000.378 | S97: 37.939
A98: 97YN-HN | B98: 128.104 | C98: 9.027 | D98: 5205071 | F98: 4324292 | H98: =F98/D98 -> 0.83078444 | J98: 97 | K98: 2133.839 | L98: 116.153 | M98: 32.274 | N98: 2.43 | O98: fit10.gnu | R98: 2133.839 | S98: 32.274
A99: 98SN-HN | B99: 110.332 | C99: 8.898 | D99: 5156407 | F99: 4586944 | H99: =F99/D99 -> 0.88956205 | J99: 98 | K99: 2075.08 | L99: 105.865 | M99: 28.504 | N99: 2.048 | O99: fit221.gnu | R99: 2075.08 | S99: 28.504
A100: 99SN-HN | B100: 112.588 | C100: 7.856 | D100: 4970640 | F100: 4499356 | H100: =F100/D100 -> 0.90518645 | J100: 99 | K100: 1767.964 | L100: 77.175 | M100: 35.647 | N100: 1.765 | O100: fit191.gnu | R100: 1767.964 | S100: 35.647
A101: 100RN-HN | B101: 120.558 | C101: 9.022 | D101: 3015748 | F101: 2393828 | H101: =F101/D101 -> 0.79377587 | J101: 100 | K101: 1775.179 | L101: 171.707 | M101: 30.058 | N101: 2.735 | O101: fit99.gnu | R101: 1775.179 | S101: 30.058
A102: 101RN-HN | B102: 118.807 | C102: 8.17 | D102: 3501528 | F102: 3200933 | H102: =F102/D102 -> 0.91415319 | J102: 101 | K102: 1753.898 | L102: 156.084 | M102: 28.444 | N102: 2.476 | O102: fit128.gnu | R102: 1753.898 | S102: 28.444
A103: 102GN-HN | B103: 108.894 | C103: 7.823 | D103: 6205046 | F103: 5853472 | H103: =F103/D103 -> 0.94334063 | J103: 102 | K103: 1855.77 | L103: 78.891 | M103: 35.15 | N103: 1.509 | O103: fit236.gnu | R103: 1855.77 | S103: 35.15
A104: 103AN-HN | B104: 121.427 | C104: 6.725 | D104: 5689328 | F104: 5398972 | H104: =F104/D104 -> 0.9489648 | J104: 103 | K104: 1897.628 | L104: 79.151 | M104: 36.891 | N104: 2.36 | O104: fit83.gnu | R104: 1897.628 | S104: 36.891
A105: 104QN-HN | B105: 114.993 | C105: 8.141 | D105: 6159076 | F105: 6796940 | H105: =F105/D105 -> 1.1035649 | J105: 104 | K105: 1911.261 | L105: 50.522 | M105: 38.728 | N105: 1.456 | O105: fit175.gnu | R105: 1911.261 | S105: 38.728
A106: 105AN-HN | B106: 122.823 | C106: 7.923 | D106: 4443173 | F106: -5147994 | H106: =F106/D106 -> -1.1586301
A107: 106AN-HN | B107: 123.87 | C107: 8.067 | D107: 5928426 | F107: 5548926 | H107: =F107/D107 -> 0.93598638 | J107: 106 | K107: 1786.117 | L107: 54.059 | M107: 36.602 | N107: 1.918 | O107: fit47.gnu | R107: 1786.117 | S107: 36.602
A108: 107IN-HN | B108: 118.782 | C108: 7.863 | D108: 5930382 | F108: 6543020 | H108: =F108/D108 -> 1.103305 | J108: 107 | K108: 1701.212 | L108: 55.334 | M108: 31.016 | N108: 1.617 | O108: fit129.gnu | R108: 1701.212 | S108: 31.016
A109: 108AN-HN | B109: 118.072 | C109: 7.987 | D109: 10791757 | F109: 9933443 | H109: =F109/D109 -> 0.92046578
A110: 109TN-HN | B110: 107.989 | C110: 8.016 | D110: 3742242 | F110: 4047075 | H110: =F110/D110 -> 1.0814573 | J110: 109 | K110: 2211.665 | L110: 140.846 | M110: 34.159 | N110: 3.483 | O110: fit239.gnu | R110: 2211.665 | S110: 34.159
A111: 110LN-HN | B111: 119.787 | C111: 8.416 | D111: 5107242 | F111: 4038693 | H111: =F111/D111 -> 0.79077768 | J111: 110 | K111: 2174.93 | L111: 108.968 | M111: 31.271 | N111: 2.17 | O111: fit109.gnu | R111: 2174.93 | S111: 31.271
A112: 111HN-HN | B112: 119.3 | C112: 7.294 | D112: 4602990 | F112: 4947804 | H112: =F112/D112 -> 1.0749109 | J112: 111 | K112: 1916.353 | L112: 69.047 | M112: 31.979 | N112: 1.746 | O112: fit122.gnu | R112: 1916.353 | S112: 31.979
A113: 112NN-HN | B113: 122.13 | C113: 8.153 | D113: 6534796 | F113: 3905879 | H113: =F113/D113 -> 0.59770481
A114: 113HN-HN | B114: 121.85 | C114: 8.044 | D114: 6241651 | F114: 5583412 | H114: =F114/D114 -> 0.89454088 | J114: 113 | K114: 1922.295 | L114: 68.74 | M114: 30.976 | N114: 2.146 | O114: fit76.gnu | R114: 1922.295 | S114: 30.976
A116: 115LN-HN | B116: 130.839 | C116: 7.825 | D116: 5487060 | F116: 4255097 | H116: =F116/D116 -> 0.77547849 | J116: 115 | K116: 2115.14 | L116: 59.893 | M116: 34.064 | N116: 1.906 | O116: fit2.gnu | R116: 2115.14 | S116: 34.064
A117: 116RN-HN | B117: 111.571 | C117: 7.483 | D117: 4034756 | F117: 3419616 | H117: =F117/D117 -> 0.84753973 | J117: 116 | K117: 2055.53 | L117: 65.166 | M117: 40.674 | N117: 2.161 | O117: fit205.gnu | R117: 2055.53 | S117: 40.674
A119: 118SN-40GHN | B119: 112.371 | C119: 8.663 | D119: 1858624 | F119: 1992122 | H119: =F119/D119 -> 1.0718263 | J119: 118 | K119: 1982.347 | L119: 189.293 | M119: 39.702 | N119: 4.447 | O119: fit195.gnu | R119: 1982.347 | S119: 39.702
A120: 119CN-HN | B120: 117.12 | C120: 7.836 | D120: 6295094 | F120: 6035178 | H120: =F120/D120 -> 0.95871134 | J120: 119 | K120: 2040.009 | L120: 52.936 | M120: 31.191 | N120: 1.077 | O120: fit152.gnu | R120: 2040.009 | S120: 31.191
A122: 121LN-HN | B122: 124.204 | C122: 8.544 | D122: 6101923 | F122: 5569952 | H122: =F122/D122 -> 0.91281912 | J122: 121 | K122: 2174.18 | L122: 96.689 | M122: 61.114 | N122: 5.019 | O122: fit43.gnu | R122: 2174.18 | S122: 61.114
A123: 122LN-HN | B123: 126.039 | C123: 7.657 | D123: 5688294 | F123: 5551418 | H123: =F123/D123 -> 0.97593725 | J123: 122 | K123: 1859.455 | L123: 67.127 | M123: 41.228 | N123: 2.992 | O123: fit25.gnu | R123: 1859.455 | S123: 41.228
A124: 123VN-HN | B124: 128.471 | C124: 10.618 | D124: 4280350 | F124: 3308162 | H124: =F124/D124 -> 0.77287184 | J124: 123 | K124: 1967.964 | L124: 92.867 | M124: 38.817 | N124: 4.705 | O124: fit8.gnu | R124: 1967.964 | S124: 38.817
A125: 124CN-HN | B125: 120.584 | C125: 9.127 | D125: 5572824 | F125: 6398604 | H125: =F125/D125 -> 1.1481798 | J125: 124 | K125: 1702.163 | L125: 60.604 | M125: 32.384 | N125: 1.587 | O125: fit98.gnu | R125: 1702.163 | S125: 32.384
A126: 125RN-HN | B126: 121.499 | C126: 8.898 | D126: 12012630 | F126: 10878420 | H126: =F126/D126 -> 0.90558188 | J126: 125 | K126: 1906.793 | L126: 33.88 | M126: 39.255 | N126: 1.191 | O126: fit79.gnu | R126: 1906.793 | S126: 39.255
A127: 126SN-HN | B127: 119.681 | C127: 8.323 | D127: 2618924 | F127: 2538352 | H127: =F127/D127 -> 0.96923469 | J127: 126 | K127: 1838.016 | L127: 192.895 | M127: 28.828 | N127: 4.462 | O127: fit110.gnu | R127: 1838.016 | S127: 28.828
A131: 130CN-HN | B131: 116.135 | C131: 8.797 | D131: 991727 | F131: 1818730 | H131: =F131/D131 -> 1.8339019 | J131: 130 | K131: 1956.241 | L131: 356.206 | M131: 37.231 | N131: 11.085 | O131: fit168.gnu
A132: 131EN-HN | B132: 120.212 | C132: 7.954 | D132: 5053346 | F132: 4399695 | H132: =F132/D132 -> 0.87064986 | J132: 131 | K132: 1783.554 | L132: 98.938 | M132: 30.335 | N132: 2.973 | O132: fit104.gnu | R132: 1783.554 | S132: 30.335
A133: 132LN-HN | B133: 121.334 | C133: 9.089 | D133: 5141086 | F133: 4936041 | H133: =F133/D133 -> 0.9601164 | J133: 132 | K133: 2050.294 | L133: 69.408 | M133: 36.641 | N133: 2.075 | O133: fit84.gnu | R133: 2050.294 | S133: 36.641
A134: 133SN-HN | B134: 114.511 | C134: 9.425 | D134: 4017638 | F134: 3945636 | H134: =F134/D134 -> 0.98207852 | J134: 133 | K134: 1991.663 | L134: 75.113 | M134: 30.783 | N134: 1.827 | O134: fit180.gnu | R134: 1991.663 | S134: 30.783
...

Sheet FigS6
A1: Rluc/Fluc
A2: ratio normalized to p27shWT + neg CTL
A3: p27shWT + mimic neg CTL 50nM | B3: p27shWT + mimic mir221 CTL 50nM | C3: p27shWT + mimic neg CTL 50nM + Dnd1 WT | D3: p27shWT + mimic mir221 CTL 50nM + Dnd1 WT | E3: p27shWT + mimic mir221 CTL 50nM + Dnd1 1-235 | F3: p27shWT + mimic mir221 CTL 50nM + Dnd1 R98A
A4: 1 | B4: 0.43 | C4: 1.72 | D4: 0.84 | E4: 0.585 | F4: 0.946
A5: 1 | B5: 0.339 | C5: 1.6 | D5: 0.422 | E5: 0.345 | F5: 0.497
A6: 1 | B6: 0.371 | C6: 1.8 | D6: 0.398 | E6: 0.406 | F6: 0.549
A11: Tech. triplicate expt 1 | B11: Firefly luminescence | C11: Renilla luminescence | D11: R/Fratio | E11: AVG internal | F11: STDev
A12: p27shWT + mimic neg CTL 50nM | B12: 369900000 | C12: 18500000 | D12: =C12/B12 -> 0.050013517
A13: p27shWT + mimic neg CTL 50nM | B13: 354400000 | C13: 18180000 | D13: =C13/B13 -> 0.051297968
A14: p27shWT + mimic neg CTL 50nM | B14: 402600000 | C14: 21750000 | D14: =C14/B14 -> 0.054023845 | E14: =AVERAGE(D12:D14) -> 0.051778444 | F14: =STDEV(D12:D14) -> 0.002047883
A15: p27shWT + mimic miR221 50nM | B15: 513200000 | C15: 11160000 | D15: =C15/B15 -> 0.021745908
A16: p27shWT + mimic miR221 50nM | B16: 541699968 | C16: 12300000 | D16: =C16/B16 -> 0.022706296
A17: p27shWT + mimic miR221 50nM | B17: 599100032 | C17: 13430000 | D17: =C17/B17 -> 0.022416958 | E17: =AVERAGE(D15:D17) -> 0.022289721 | F17: =STDEV(D15:D17) -> 0.00049267469
A19: p27shWT +mimic neg CTL 50nM + Dnd1 WT | B19: 99430000 | C19: 9271000 | D19: =C19/B19 -> 0.093241476
A20: p27shWT +mimic neg CTL 50nM + Dnd1 WT | B20: 102200000 | C20: 8185000 | D20: =C20/B20 -> 0.080088063
A21: p27shWT +mimic neg CTL 50nM + Dnd1 WT | B21: 111900000 | C21: 10500000 | D21: =C21/B21 -> 0.09383378 | E21: =AVERAGE(D19:D21) -> 0.08905444 | F21: =STDEV(D19:D21) -> 0.0077707557
A22: p27shWT +mimic miR221 50nM + Dnd1 WT | B22: 135100000 | C22: 5229000 | D22: =C22/B22 -> 0.038704663
A23: p27shWT +mimic miR221 50nM + Dnd1 WT | B23: 149400000 | C23: 6483000 | D23: =C23/B23 -> 0.043393574
A24: p27shWT +mimic miR221 50nM + Dnd1 WT | B24: 144300000 | C24: 6991000 | D24: =C24/B24 -> 0.048447678 | E24: =AVERAGE(D22:D24) -> 0.043515305 | F24: =STDEV(D22:D24) -> 0.0048726482
A26: p27lshWT +mimic miR221 50nM+ Dnd1 1-235 | B26: 83140000 | C26: 2574000 | D26: =C26/B26 -> 0.030959827
A27: p27lshWT +mimic miR221 50nM+ Dnd1 1-235 | B27: 79190000 | C27: 2303000 | D27: =C27/B27 -> 0.029081955
A28: p27lshWT +mimic miR221 50nM+ Dnd1 1-235 | B28: 93650000 | C28: 2891000 | D28: =C28/B28 -> 0.030870262 | E28: =AVERAGE(D26:D28) -> 0.030304014 | F28: =STDEV(D26:D28) -> 0.0010592817
A29: p27shWT +mimic miR221 50nM + Dnd1 R98A | B29: 182600000 | C29: 8596000 | D29: =C29/B29 -> 0.047075575
A30: p27shWT +mimic miR221 50nM + Dnd1 R98A | B30: 180900000 | C30: 8877000 | D30: =C30/B30 -> 0.04907131
A31: p27shWT +mimic miR221 50nM + Dnd1 R98A | B31: 208000000 | C31: 10570000 | D31: =C31/B31 -> 0.050817308 | E31: =AVERAGE(D29:D31) -> 0.048988064 | F31: =STDEV(D29:D31) -> 0.0018722549
A33: Avg. expt 1
A34: p27shWT + mimic neg CTL 50nM | E34: 0.051778444 | F34: 0.002047883
A35: p27shWT + mimic miR221 50nM | E35: 0.022289721 | F35: 0.00049267469
A36: p27shWT +mimic neg CTL 50nM + Dnd1 WT | E36: 0.08905444 | F36: 0.0077707557
A37: p27shWT +mimic miR221 50nM + Dnd1 WT | E37: 0.043515305 | F37: 0.0048726482
A38: p27lshWT +mimic miR221 50nM+ Dnd1 1-235 | E38: 0.030304014 | F38: 0.0010592817
A39: p27shWT +mimic miR221 50nM + Dnd1 R98A | E39: 0.048988064 | F39: 0.0018722549
A42: Tech. triplicate expt 2 | B42: Firefly luminescence | C42: Renilla luminescence | D42: R/Fratio | E42: AVG internal | F42: STDev
A43: p27shWT + mimic neg CTL 50nM | B43: 381300000 | C43: 24710000 | D43: =C43/B43 -> 0.064804616
A44: p27shWT + mimic neg CTL 50nM | B44: 400300000 | C44: 25970000 | D44: =C44/B44 -> 0.064876343
A45: p27shWT + mimic neg CTL 50nM | B45: 396200000 | C45: 24920000 | D45: =C45/B45 -> 0.062897527 | E45: =AVERAGE(D43:D45) -> 0.064192828 | F45: =STDEV(D43:D45) -> 0.0011223374
A46: p27shWT + mimic miR221 50nM | B46: 480700000 | C46: 10090000 | D46: =C46/B46 -> 0.020990223
A47: p27shWT + mimic miR221 50nM | B47: 545000000 | C47: 12320000 | D47: =C47/B47 -> 0.022605505
A48: p27shWT + mimic miR221 50nM | B48: 512200000 | C48: 11090000 | D48: =C48/B48 -> 0.021651699 | E48: =AVERAGE(D46:D48) -> 0.021749142 | F48: =STDEV(D46:D48) -> 0.0008120378
A50: p27shWT +mimic neg CTL 50nM + Dnd1 WT | B50: 56200000 | C50: 5775000 | D50: =C50/B50 -> 0.10275801
A51: p27shWT +mimic neg CTL 50nM + Dnd1 WT | B51: 62350000 | C51: 6496000 | D51: =C51/B51 -> 0.10418605
A52: p27shWT +mimic neg CTL 50nM + Dnd1 WT | B52: 70630000 | C52: 7145000 | D52: =C52/B52 -> 0.10116098 | E52: =AVERAGE(D50:D52) -> 0.10270168 | F52: =STDEV(D50:D52) -> 0.0015133198
A53: p27shWT +mimic miR221 50nM + Dnd1 WT | B53: 79530000 | C53: 2214000 | D53: =C53/B53 -> 0.027838551
A54: p27shWT +mimic miR221 50nM + Dnd1 WT | B54: 78990000 | C54: 2098000 | D54: =C54/B54 -> 0.026560324
A55: p27shWT +mimic miR221 50nM + Dnd1 WT | B55: 68660000 | C55: 1840000 | D55: =C55/B55 -> 0.026798718 | E55: =AVERAGE(D53:D55) -> 0.027065865 | F55: =STDEV(D53:D55) -> 0.0006796997
A57: p27lshWT +mimic miR221 50nM+ Dnd1 1-235 | B57: 36330000 | C57: 820000 | D57: =C57/B57 -> 0.022570878
A58: p27lshWT +mimic miR221 50nM+ Dnd1 1-235 | B58: 45000000 | C58: 982900 | D58: =C58/B58 -> 0.021842222
A59: p27lshWT +mimic miR221 50nM+ Dnd1 1-235 | B59: 43500000 | C59: 962200 | D59: =C59/B59 -> 0.02211954 | E59: =AVERAGE(D57:D59) -> 0.022177547 | F59: =STDEV(D57:D59) -> 0.00036777494
A60: p27shWT +mimic miR221 50nM + Dnd1 R98A | B60: 105000000 | C60: 3287000 | D60: =C60/B60 -> 0.031304762
A61: p27shWT +mimic miR221 50nM + Dnd1 R98A | B61: 119300000 | C61: 4031000 | D61: =C61/B61 -> 0.033788768
A62: p27shWT +mimic miR221 50nM + Dnd1 R98A | B62: 100400000 | C62: 3073000 | D62: =C62/B62 -> 0.03060757 | E62: =AVERAGE(D60:D62) -> 0.031900366 | F62: =STDEV(D60:D62) -> 0.0016721435
A64: Avg. expt. 2
A65: p27shWT + mimic neg CTL 50nM | E65: 0.064192828 | F65: 0.0011223374
A66: p27shWT + mimic miR221 50nM | E66: 0.021749142 | F66: 0.0008120378
A67: p27shWT +mimic neg CTL 50nM + Dnd1 WT | E67: 0.10270168 | F67: 0.0015133198
A68: p27shWT +mimic miR221 50nM + Dnd1 WT | E68: 0.027065865 | F68: 0.0006796997
A69: p27lshWT +mimic miR221 50nM+ Dnd1 1-235 | E69: 0.022177547 | F69: 0.00036777494
A70: p27shWT +mimic miR221 50nM + Dnd1 R98A | E70: 0.031900366 | F70: 0.0016721435
A73: Tech. triplicate expt 3 | B73: Firefly luminescence | C73: Renilla luminescence | D73: R/Fratio | E73: AVG internal
A74: p27shWT + mimic neg CTL 50nM | B74: 420100000 | C74: 32330000 | D74: =C74/B74 -> 0.076957867
A75: p27shWT + mimic neg CTL 50nM | B75: 453100000 | C75: 37270000 | D75: =C75/B75 -> 0.082255573
A76: p27shWT + mimic neg CTL 50nM | B76: 480200000 | C76: 37290000 | D76: =C76/B76 -> 0.077655144 | E76: =AVERAGE(D74:D76) -> 0.078956195 | F76: =STDEV(D74:D76) -> 0.0028785363
A77: p27shWT + mimic miR221 50nM | B77: 619200000 | C77: 19410000 | D77: =C77/B77 -> 0.031346899
A78: p27shWT + mimic miR221 50nM | B78: 599600000 | C78: 17480000 | D78: =C78/B78 -> 0.029152769
A79: p27shWT + mimic miR221 50nM | B79: 592000000 | C79: 16160000 | D79: =C79/B79 -> 0.027297297 | E79: =AVERAGE(D77:D79) -> 0.029265655 | F79: =STDEV(D77:D79) -> 0.0020271597
A81: p27shWT +mimic neg CTL 50nM + Dnd1 WT | B81: 52900000 | C81: 7543000 | D81: =C81/B81 -> 0.14258979
A82: p27shWT +mimic neg CTL 50nM + Dnd1 WT | B82: 59780000 | C82: 8435000 | D82: =C82/B82 -> 0.1411007
A83: p27shWT +mimic neg CTL 50nM + Dnd1 WT | B83: 70230000 | C83: 10020000 | D83: =C83/B83 -> 0.14267407 | E83: =AVERAGE(D81:D83) -> 0.14212152 | F83: =STDEV(D81:D83) -> 0.00088505916
A84: p27shWT +mimic miR221 50nM + Dnd1 WT | B84: 76410000 | C84: 2587000 | D84: =C84/B84 -> 0.033856825
A85: p27shWT +mimic miR221 50nM + Dnd1 WT | B85: 71500000 | C85: 1971000 | D85: =C85/B85 -> 0.027566434
A86: p27shWT +mimic miR221 50nM + Dnd1 WT | B86: 63500000 | C86: 2083000 | D86: =C86/B86 -> 0.03280315 | E86: =AVERAGE(D84:D86) -> 0.031408803 | F86: =STDEV(D84:D86) -> 0.0033690367
A88: p27lshWT +mimic miR221 50nM+ Dnd1 1-235 | B88: 22860000 | C88: 760000 | D88: =C88/B88 -> 0.033245844
A89: p27lshWT +mimic miR221 50nM+ Dnd1 1-235 | B89: 27150000 | C89: 862400 | D89: =C89/B89 -> 0.031764273
A90: p27lshWT +mimic miR221 50nM+ Dnd1 1-235 | B90: 32050000 | C90: 998900 | D90: =C90/B90 -> 0.031166927 | E90: =AVERAGE(D88:D90) -> 0.032059015 | F90: =STDEV(D88:D90) -> 0.0010703407
A91: p27shWT +mimic miR221 50nM + Dnd1 R98A | B91: 89440000 | C91: 3945000 | D91: =C91/B91 -> 0.044107782
A92: p27shWT +mimic miR221 50nM + Dnd1 R98A | B92: 87290000 | C92: 3778000 | D92: =C92/B92 -> 0.043281017
A93: p27shWT +mimic miR221 50nM + Dnd1 R98A | B93: 85310000 | C93: 3644000 | D93: =C93/B93 -> 0.042714805 | E93: =AVERAGE(D91:D93) -> 0.043367868 | F93: =STDEV(D91:D93) -> 0.00070053798
A95: Avg. expt. 3
A96: p27shWT + mimic neg CTL 50nM | E96: 0.078956195 | F96: 0.0028785363
A97: p27shWT + mimic miR221 50nM | E97: 0.029265655 | F97: 0.0020271597
A98: p27shWT +mimic neg CTL 50nM + Dnd1 WT | E98: 0.14212152 | F98: 0.00088505916
A99: p27shWT +mimic miR221 50nM + Dnd1 WT | E99: 0.031408803 | F99: 0.0033690367
A100: p27lshWT +mimic miR221 50nM+ Dnd1 1-235 | E100: 0.032059015 | F100: 0.0010703407
A101: p27shWT +mimic miR221 50nM + Dnd1 R98A | E101: 0.043367868 | F101: 0.00070053798

Sheet FigS8A
A1: Complete blot and coomassie-stained gel
