Workbook

Sheet Fig1B
A1: target | B1: exp1 | C1: mean CT | D1: SD | F1: mean CT | G1: SD | H1: deltaCt | J1: exp2 | K1: mean CT | L1: SD | N1: mean CT | O1: SD | P1: deltaCt | R1: exp3 | S1: mean CT | T1: SD | V1: mean CT | W1: SD | X1: deltaCt | Z1: exp4 | AA1: mean CT | AB1: SD | AD1: mean CT | AE1: SD | AF1: deltaCt | AH1: exp5 | AI1: mean CT | AJ1: SD | AL1: mean CT | AM1: SD | AN1: deltaCt | AP1: POWER (2,-deltaCt exp1) | AQ1: POWER (2,-deltaCt exp2) | AR1: POWER (2,-deltaCt exp3) | AS1: POWER (2,-deltaCt exp4) | AT1: POWER (2,-deltaCt exp5) | AV1: exp1 norm | AW1: exp2 norm | AX1: exp3 norm | AY1: exp4 norm | AZ1: exp5 norm
A2: SMN1 | B2: Dnd1-WT ^INPUT^ | C2: 24.316667 | D2: 0.032998316 | E2: Dnd1-WT *RIP* | F2: 27.73 | G2: 0.090921211 | H2: =F2-C2 -> 3.4133333 | J2: Dnd1-WT ^INPUT^ | K2: 24.643333 | L2: 0.020548047 | M2: Dnd1-WT *RIP* | N2: 28.8 | O2: 0.032659863 | P2: =N2-K2 -> 4.1566667 | R2: WT - INPUT - | S2: 22.49 | T2: 0.016329932 | U2: WT - *RIP* - | V2: 27.91 | W2: 0.15937377 | X2: =Fig1B!V2-Fig1B!S2 -> 5.42 | Z2: WT - INPUT - | AA2: 22.47 | AB2: 0.0081649658 | AC2: WT - *RIP* - | AD2: 27.766667 | AE2: 0.097410928 | AF2: =Fig1B!AD2-Fig1B!AA2 -> 5.2966667 | AH2: WT - INPUT - | AI2: 22.296667 | AJ2: 0.018856181 | AK2: WT - *RIP* - | AL2: 27.48 | AM2: 0.024494897 | AN2: =AL2-AI2 -> 5.1833333 | AP2: =POWER(2,-Fig1B!H2) -> 0.093860806 | AQ2: =POWER(2,-Fig1B!P2) -> 0.056068463 | AR2: =POWER(2,-Fig1B!X2) -> 0.02335702 | AS2: =POWER(2,-Fig1B!AF2) -> 0.025441602 | AT2: =POWER(2,-Fig1B!AN2) -> 0.027520809 | AV2: 1 | AW2: 1 | AX2: =1 -> 1 | AY2: 1 | AZ2: 1
B3: Dnd1-m1-235 ^INPUT^ | C3: 24.35 | D3: 0.063770422 | E3: Dnd1-m1-235 *RIP* | F3: 28.183333 | G3: 0.20548047 | H3: =F3-C3 -> 3.8333333 | J3: Dnd1-m1-235 ^INPUT^ | K3: 25 | L3: 0.021602469 | M3: Dnd1-m1-235 *RIP* | N3: 28.64 | O3: 0.066833126 | P3: =N3-K3 -> 3.64 | R3: m1-235 - INPUT - | S3: 23.046667 | T3: 0.028674418 | U3: m1-235 - *RIP* - | V3: 28.52 | W3: 0.15895492 | X3: =Fig1B!V3-Fig1B!S3 -> 5.4733333 | Z3: m1-235 - INPUT - | AA3: 23.026667 | AB3: 0.026246693 | AC3: m1-235 - *RIP* - | AD3: 28.593333 | AE3: 0.054365021 | AF3: =Fig1B!AD3-Fig1B!AA3 -> 5.5666667 | AH3: m1-235 - INPUT - | AI3: 21.596667 | AJ3: 0.0047140452 | AK3: m1-235 - *RIP* - | AL3: 28.316667 | AM3: 0.083798701 | AN3: =AL3-AI3 -> 6.72 | AP3: =POWER(2,-Fig1B!H3) -> 0.070153878 | AQ3: =POWER(2,-Fig1B!P3) -> 0.080214119 | AR3: =POWER(2,-Fig1B!X3) -> 0.022509326 | AS3: =POWER(2,-Fig1B!AF3) -> 0.021099218 | AT3: =POWER(2,-Fig1B!AN3) -> 0.0094858975 | AV3: =AP3/0.093861 -> 0.74742308 | AW3: =AQ3/0.056068 -> 1.4306577 | AX3: =AR3/0.023357 -> 0.96370792 | AY3: =AS3/0.025442 -> 0.82930658 | AZ3: =AT3/0.027521 -> 0.34467852
B4: Dnd1-mR98A ^INPUT^ | C4: 23.62 | D4: 0.064807407 | E4: Dnd1-mR98A *RIP* | F4: 29.903333 | G4: 0.2085399 | H4: =F4-C4 -> 6.2833333 | J4: Dnd1-mR98A ^INPUT^ | K4: 24.79 | L4: 0.042426407 | M4: Dnd1-mR98A *RIP* | N4: 31.103333 | O4: 0.20997354 | P4: =N4-K4 -> 6.3133333 | R4: mR98A - INPUT - | S4: 22.673333 | T4: 0.018856181 | U4: mR98A - *RIP* - | V4: 31.416667 | W4: 0.27353651 | X4: =Fig1B!V4-Fig1B!S4 -> 8.7433333 | Z4: mR98A - INPUT - | AA4: 22.61 | AB4: 0.042426407 | AC4: mR98A - *RIP* - | AD4: 31.296667 | AE4: 0.21638443 | AF4: =Fig1B!AD4-Fig1B!AA4 -> 8.6866667 | AH4: mR98A - INPUT - | AI4: 21.373333 | AJ4: 0.049888765 | AK4: mR98A - *RIP* - | AL4: 29.896667 | AM4: 0.049888765 | AN4: =AL4-AI4 -> 8.5233333 | AP4: =POWER(2,-Fig1B!H4) -> 0.012838911 | AQ4: =POWER(2,-Fig1B!P4) -> 0.01257469 | AR4: =POWER(2,-Fig1B!X4) -> 0.002333428 | AS4: =POWER(2,-Fig1B!AF4) -> 0.002426905 | AT4: =POWER(2,-Fig1B!AN4) -> 0.002717822 | AV4: =AP4/0.093861 -> 0.13678643 | AW4: =AQ4/0.056068 -> 0.2242757 | AX4: =AR4/0.023357 -> 0.099902727 | AY4: =AS4/0.025442 -> 0.095389709 | AZ4: =AT4/0.027521 -> 0.098754477
A5: PMAIP | B5: Dnd1-WT ^INPUT^ | C5: 25.98 | D5: 0.078740079 | E5: Dnd1-WT *RIP* | F5: 29.93 | G5: 0.045460606 | H5: =F5-C5 -> 3.95 | J5: Dnd1-WT ^INPUT^ | K5: 26.143333 | L5: 0.0601849 | M5: Dnd1-WT *RIP* | N5: 30.983333 | O5: 0.068475462 | P5: =N5-K5 -> 4.84 | R5: WT - INPUT - | S5: 24.316667 | T5: 0.047140452 | U5: WT - *RIP* - | V5: 30.083333 | W5: 0.36935379 | X5: =Fig1B!V5-Fig1B!S5 -> 5.7666667 | Z5: WT - INPUT - | AA5: 24.233333 | AB5: 0.093926685 | AC5: WT - *RIP* - | AD5: 29.963333 | AE5: 0.16027754 | AF5: =Fig1B!AD5-Fig1B!AA5 -> 5.73 | AH5: WT - INPUT - | AI5: 23.746667 | AJ5: 0.0094280904 | AK5: WT - *RIP* - | AL5: 29.426667 | AM5: 0.065996633 | AN5: =AL5-AI5 -> 5.68 | AP5: =POWER(2,-Fig1B!H5) -> 0.064704058 | AQ5: =POWER(2,-Fig1B!P5) -> 0.034915223 | AS5: =POWER(2,-Fig1B!AF5) -> 0.018840747 | AT5: =POWER(2,-Fig1B!AN5) -> 0.019505165 | AV5: =AP5/0.093861 -> 0.68936041 | AW5: =AQ5/0.056068 -> 0.62272995 | AY5: =AS5/0.025442 -> 0.74053719 | AZ5: =AT5/0.027521 -> 0.7087375
B6: Dnd1-m1-235 ^INPUT^ | C6: 25.92 | D6: 0.0081649658 | E6: Dnd1-m1-235 *RIP* | F6: 30.053333 | G6: 0.10274023 | H6: =F6-C6 -> 4.1333333 | J6: Dnd1-m1-235 ^INPUT^ | K6: 26.566667 | L6: 0.0047140452 | M6: Dnd1-m1-235 *RIP* | N6: 31.193333 | O6: 0.15797327 | P6: =N6-K6 -> 4.6266667 | R6: m1-235 - INPUT - | S6: 24.91 | T6: 0 | U6: m1-235 - *RIP* - | V6: 30.38 | W6: 0.080415587 | X6: =Fig1B!V6-Fig1B!S6 -> 5.47 | Z6: m1-235 - INPUT - | AA6: 24.763333 | AB6: 0.032998316 | AC6: m1-235 - *RIP* - | AD6: 30.146667 | AE6: 0.13474255 | AF6: =Fig1B!AD6-Fig1B!AA6 -> 5.3833333 | AH6: m1-235 - INPUT - | AI6: 22.993333 | AJ6: 0.0047140452 | AK6: m1-235 - *RIP* - | AL6: 30.206667 | AM6: 0.083798701 | AN6: =AL6-AI6 -> 7.2133333 | AP6: =POWER(2,-Fig1B!H6) -> 0.056982656 | AQ6: =POWER(2,-Fig1B!P6) -> 0.040479445 | AR6: =POWER(2,-Fig1B!X6) -> 0.022561394 | AS6: =POWER(2,-Fig1B!AF6) -> 0.023958255 | AT6: =POWER(2,-Fig1B!AN6) -> 0.0067386096 | AV6: =AP6/0.093861 -> 0.60709619 | AW6: =AQ6/0.056068 -> 0.72197056 | AX6: =AR6/0.023357 -> 0.96593714 | AY6: =AS6/0.025442 -> 0.94168129 | AZ6: =AT6/0.027521 -> 0.24485337
B7: Dnd1-mR98A ^INPUT^ | C7: 25.416667 | D7: 0.061824123 | E7: Dnd1-mR98A *RIP* | F7: 31.01 | G7: 0.21275965 | H7: =F7-C7 -> 5.5933333 | J7: Dnd1-mR98A ^INPUT^ | K7: 26.416667 | L7: 0.047140452 | M7: Dnd1-mR98A *RIP* | N7: 32.46 | O7: 0.82344804 | P7: =N7-K7 -> 6.0433333 | R7: mR98A - INPUT - | S7: 24.75 | T7: 0.016329932 | U7: mR98A - *RIP* - | V7: 32.803333 | W7: 0.31899147 | X7: =Fig1B!V7-Fig1B!S7 -> 8.0533333 | Z7: mR98A - INPUT - | AA7: 24.72 | AB7: 0.0081649658 | AC7: mR98A - *RIP* - | AD7: 32.67 | AE7: 0.22 | AF7: =Fig1B!AD7-Fig1B!AA7 -> 7.95 | AH7: mR98A - INPUT - | AI7: 23.023333 | AJ7: 0.012472191 | AK7: mR98A - *RIP* - | AL7: 31.32 | AM7: 0.14306176 | AN7: =AL7-AI7 -> 8.2966667 | AP7: =POWER(2,-Fig1B!H7) -> 0.020712804 | AS7: =POWER(2,-Fig1B!AF7) -> 0.0040440036 | AT7: =POWER(2,-Fig1B!AN7) -> 0.0031802003 | AV7: =AP7/0.093861 -> 0.22067529 | AY7: =AS7/0.025442 -> 0.15894991 | AZ7: =AT7/0.027521 -> 0.1155554
A8: SRSF2 | B8: Dnd1-WT ^INPUT^ | C8: 25.213333 | D8: 0.037712362 | E8: Dnd1-WT *RIP* | F8: 29.893333 | G8: 0.16739839 | H8: =F8-C8 -> 4.68 | J8: Dnd1-WT ^INPUT^ | K8: 26.836667 | L8: 0.074087036 | M8: Dnd1-WT *RIP* | N8: 31.746667 | O8: 0.10077478 | P8: =N8-K8 -> 4.91 | R8: WT - INPUT - | S8: 24.793333 | T8: 0.016996732 | U8: WT - *RIP* - | V8: 30.72 | W8: 0.058878406 | X8: =Fig1B!V8-Fig1B!S8 -> 5.9266667 | Z8: WT - INPUT - | AA8: 24.736667 | AB8: 0.028674418 | AC8: WT - *RIP* - | AD8: 30.873333 | AE8: 0.089566859 | AF8: =Fig1B!AD8-Fig1B!AA8 -> 6.1366667 | AH8: WT - INPUT - | AI8: 23.426667 | AJ8: 0.04027682 | AK8: WT - *RIP* - | AL8: 29.813333 | AM8: 0.18517259 | AN8: =AL8-AI8 -> 6.3866667 | AP8: =POWER(2,-Fig1B!H8) -> 0.03901033 | AQ8: =POWER(2,-Fig1B!P8) -> 0.033261568 | AR8: =POWER(2,-Fig1B!X8) -> 0.016439763 | AS8: =POWER(2,-Fig1B!AF8) -> 0.014212787 | AT8: =POWER(2,-Fig1B!AN8) -> 0.011951482 | AV8: =AP8/0.093861 -> 0.41561809 | AW8: =AQ8/0.056068 -> 0.59323622 | AX8: =AR8/0.023357 -> 0.70384738 | AY8: =AS8/0.025442 -> 0.55863483 | AZ8: =AT8/0.027521 -> 0.43426772
B9: Dnd1-m1-235 ^INPUT^ | C9: 25.273333 | D9: 0.020548047 | E9: Dnd1-m1-235 *RIP* | F9: 31.216667 | G9: 0.18208667 | H9: =F9-C9 -> 5.9433333 | J9: Dnd1-m1-235 ^INPUT^ | K9: 27.916667 | L9: 0.077602978 | M9: Dnd1-m1-235 *RIP* | N9: 35.04 | O9: 0.5169784 | P9: =N9-K9 -> 7.1233333 | R9: m1-235 - INPUT - | S9: 24.756667 | T9: 0.04027682 | U9: m1-235 - *RIP* - | V9: 31.583333 | W9: 0.11813363 | X9: =Fig1B!V9-Fig1B!S9 -> 6.8266667 | Z9: m1-235 - INPUT - | AA9: 24.726667 | AB9: 0.012472191 | AC9: m1-235 - *RIP* - | AD9: 32.015 | AE9: 0.005 | AF9: =Fig1B!AD9-Fig1B!AA9 -> 7.2883333 | AH9: m1-235 - INPUT - | AI9: 22.766667 | AJ9: 0.012472191 | AK9: m1-235 - *RIP* - | AL9: 31.653333 | AM9: 0.33717783 | AN9: =AL9-AI9 -> 8.8866667 | AP9: =POWER(2,-Fig1B!H9) -> 0.016250936 | AR9: =POWER(2,-Fig1B!X9) -> 0.008809851 | AS9: =POWER(2,-Fig1B!AF9) -> 0.006397246 | AV9: =AP9/0.093861 -> 0.17313833 | AX9: =AR9/0.023357 -> 0.37718247 | AY9: =AS9/0.025442 -> 0.2514443
B10: Dnd1-mR98A ^INPUT^ | C10: 24.48 | D10: 0.016329932 | E10: Dnd1-mR98A *RIP* | F10: 31.39 | G10: 0.36995495 | H10: =F10-C10 -> 6.91 | J10: Dnd1-mR98A ^INPUT^ | K10: 26.993333 | L10: 0.020548047 | M10: Dnd1-mR98A *RIP* | N10: 32.72 | O10: 0.080415587 | P10: =N10-K10 -> 5.7266667 | R10: mR98A - INPUT - | S10: 24.716667 | T10: 0.037712362 | U10: mR98A - *RIP* - | V10: 34.826667 | W10: 0.24513035 | X10: =Fig1B!V10-Fig1B!S10 -> 10.11 | Z10: mR98A - INPUT - | AA10: 24.61 | AB10: 0.0081649658 | AC10: mR98A - *RIP* - | AD10: 35 | AE10: 0 | AF10: =Fig1B!AD10-Fig1B!AA10 -> 10.39 | AH10: mR98A - INPUT - | AI10: 22.5 | AJ10: 0.0081649658 | AK10: mR98A - *RIP* - | AL10: 31.766667 | AM10: 0.2922708 | AN10: =AL10-AI10 -> 9.2666667 | AQ10: =POWER(2,-Fig1B!P10) -> 0.018884329 | AR10: =POWER(2,-Fig1B!X10) -> 0.00090487115 | AS10: =POWER(2,-Fig1B!AF10) -> 0.00074524375 | AT10: =POWER(2,-Fig1B!AN10) -> 0.0016235115 | AW10: =AQ10/0.056068 -> 0.33681118 | AX10: =AR10/0.023357 -> 0.038740898 | AY10: =AS10/0.025442 -> 0.02929187 | AZ10: =AT10/0.027521 -> 0.058991734
A11: SLC25A6 | B11: Dnd1-WT ^INPUT^ | C11: 24.783333 | D11: 0.0094280904 | E11: Dnd1-WT *RIP* | F11: 31.37 | G11: 0.10801234 | H11: =F11-C11 -> 6.5866667 | J11: Dnd1-WT ^INPUT^ | K11: 24.823333 | L11: 0.057348835 | M11: Dnd1-WT *RIP* | N11: 32.076667 | O11: 0.40672131 | P11: =N11-K11 -> 7.2533333 | R11: WT - INPUT - | S11: 24.82 | T11: 0.05 | U11: WT - *RIP* - | V11: 31.37 | W11: 0.23 | X11: =Fig1B!V11-Fig1B!S11 -> 6.55 | Z11: WT - INPUT - | AA11: 24.76 | AB11: 0.037416574 | AC11: WT - *RIP* - | AD11: 31.44 | AE11: 0.19595918 | AF11: =Fig1B!AD11-Fig1B!AA11 -> 6.68 | AH11: WT - INPUT - | AI11: 22.843333 | AJ11: 0.026246693 | AK11: WT - *RIP* - | AL11: 31.053333 | AM11: 0.08993825 | AN11: =AL11-AI11 -> 8.21 | AP11: =POWER(2,-Fig1B!H11) -> 0.010404369 | AR11: =POWER(2,-Fig1B!X11) -> 0.01067219 | AS11: =POWER(2,-Fig1B!AF11) -> 0.0097525824 | AT11: =POWER(2,-Fig1B!AN11) -> 0.0033770986 | AV11: =AP11/0.093861 -> 0.1108487 | AX11: =AR11/0.023357 -> 0.45691611 | AY11: =AS11/0.025442 -> 0.38332609 | AZ11: =AT11/0.027521 -> 0.12270988
B12: Dnd1-m1-235 ^INPUT^ | C12: 24.92 | D12: 0.063770422 | E12: Dnd1-m1-235 *RIP* | F12: 31.11 | G12: 0.24993332 | H12: =F12-C12 -> 6.19 | J12: Dnd1-m1-235 ^INPUT^ | K12: 25.663333 | L12: 0.024944383 | M12: Dnd1-m1-235 *RIP* | N12: 32.59 | O12: 0.089814624 | P12: =N12-K12 -> 6.9266667 | R12: m1-235 - INPUT - | S12: 23.66 | T12: 0.01 | U12: m1-235 - *RIP* - | V12: 31.1 | W12: 0.32 | X12: =Fig1B!V12-Fig1B!S12 -> 7.44 | Z12: m1-235 - INPUT - | AA12: 23.616667 | AB12: 0.016996732 | AC12: m1-235 - *RIP* - | AD12: 31.22 | AE12: 0.17146428 | AF12: =Fig1B!AD12-Fig1B!AA12 -> 7.6033333 | AH12: m1-235 - INPUT - | AI12: 22.08 | AJ12: 0.016329932 | AK12: m1-235 - *RIP* - | AL12: 31.346667 | AM12: 0.18080069 | AN12: =AL12-AI12 -> 9.2666667 | AP12: =POWER(2,-Fig1B!H12) -> 0.013696964 | AQ12: =POWER(2,-Fig1B!P12) -> 0.0082198816 | AS12: =POWER(2,-Fig1B!AF12) -> 0.0051424325 | AT12: =POWER(2,-Fig1B!AN12) -> 0.0016235115 | AV12: =AP12/0.093861 -> 0.14592817 | AW12: =AQ12/0.056068 -> 0.14660558 | AY12: =AS12/0.025442 -> 0.20212375 | AZ12: =AT12/0.027521 -> 0.058991734
B13: Dnd1-mR98A ^INPUT^ | C13: 24.346667 | D13: 0.083798701 | E13: Dnd1-mR98A *RIP* | F13: 31.503333 | G13: 0.033993463 | H13: =F13-C13 -> 7.1566667 | J13: Dnd1-mR98A ^INPUT^ | K13: 25.253333 | L13: 0.041096093 | M13: Dnd1-mR98A *RIP* | N13: 32.943333 | O13: 0.35367908 | P13: =N13-K13 -> 7.69 | R13: mR98A - INPUT - | S13: 23.08 | T13: 0.02 | U13: mR98A - *RIP* - | V13: 32.51 | W13: 0.18 | X13: =Fig1B!V13-Fig1B!S13 -> 9.43 | Z13: mR98A - INPUT - | AA13: 23.023333 | AB13: 0.018856181 | AC13: mR98A - *RIP* - | AD13: 32.91 | AE13: 0.18184242 | AF13: =Fig1B!AD13-Fig1B!AA13 -> 9.8866667 | AH13: mR98A - INPUT - | AI13: 21.933333 | AJ13: 0.033993463 | AK13: mR98A - *RIP* - | AL13: 31.293333 | AM13: 0.20417857 | AN13: =AL13-AI13 -> 9.36 | AP13: =POWER(2,-Fig1B!H13) -> 0.0070085579 | AR13: =POWER(2,-Fig1B!X13) -> 0.00144973 | AS13: =POWER(2,-Fig1B!AF13) -> 0.0010563717 | AT13: =POWER(2,-Fig1B!AN13) -> 0.0015218058 | AV13: =AP13/0.093861 -> 0.074669542 | AX13: =AR13/0.023357 -> 0.062068333 | AY13: =AS13/0.025442 -> 0.041520782 | AZ13: =AT13/0.027521 -> 0.055296167
B15: SD >0.3 omitted | AV15: Normalization to SMN1 Dnd1WT RIP
B16: SD >0.4 omitted

Sheet Fig5
A1: Rluc/Fluc ratio
A2: normalized to transfection without DND1
B4: TERTWT | C4: TERTWT+Dnd1WT | D4: TERTWT + DND1 m1-235 | E4: TERTWT + DND1 mR98A
A5: expt1 | B5: 1 | C5: 1.005 | D5: 0.997 | E5: 1.059
A6: expt2 | B6: 1 | C6: 0.928 | D6: 0.87 | E6: 0.891
A7: expt3 | B7: 1 | C7: 1.091 | D7: 1.003 | E7: 0.954
B8: TERTmut1 | C8: TERTmut1+Dnd1WT | D8: TERTmut1 + DND1 m1-235 | E8: TERTmut1 + DND1 mR98A
A9: expt1 | B9: 1 | C9: 1.393 | D9: 1.052 | E9: 1.368
A10: expt2 | B10: 1 | C10: 1.104 | D10: 0.79 | E10: 1.032
A11: expt3 | B11: 1 | C11: 1.669 | D11: 0.995 | E11: 1.128
B12: TERTmut2 | C12: TERTmut2+Dnd1WT | D12: TERTmut2 + DND1 m1-235 | E12: TERTmut2 + DND1 mR98A
A13: expt1 | B13: 1 | C13: 1.386 | D13: 0.667 | E13: 1.011
A14: expt2 | B14: 1 | C14: 1.532 | D14: 0.751 | E14: 1.062
A15: expt3 | B15: 1 | C15: 1.831 | D15: 0.749 | E15: 0.958
A17: TERT | B17: Firefly luminescence | C17: Renilla luminescence | D17: R/F ratio | E17: AVG internal | F17: STDev
A18: Tech. triplicate expt 1
A19: TERT | B19: 1096000000 | C19: 150700000 | D19: =C19/B19 -> 0.1375
A20: TERT | B20: 1096000000 | C20: 153000000 | D20: =C20/B20 -> 0.13959854
A21: TERT | B21: 1063000000 | C21: 156400000 | D21: =C21/B21 -> 0.14713076 | E21: =AVERAGE(D19:D21) -> 0.14140977 | F21: =STDEV(D19:D21) -> 0.0050644153
A22: TERT +Dnd1 WT | B22: 210200000 | C22: 28830000 | D22: =C22/B22 -> 0.13715509
A23: TERT +Dnd1 WT | B23: 171000000 | C23: 24530000 | D23: =C23/B23 -> 0.14345029
A24: TERT +Dnd1 WT | B24: 167500000 | C24: 24380000 | D24: =C24/B24 -> 0.14555224 | E24: =AVERAGE(D22:D24) -> 0.14205254 | F24: =STDEV(D22:D24) -> 0.004369589
A26: TERT + Dnd1 1-235 | B26: 232900000 | C26: 32240000 | D26: =C26/B26 -> 0.13842851
A27: TERT + Dnd1 1-235 | B27: 261100000 | C27: 36510000 | D27: =C27/B27 -> 0.13983148
A28: TERT + Dnd1 1-235 | B28: 249800000 | C28: 36110000 | D28: =C28/B28 -> 0.14455564 | E28: =AVERAGE(D26:D28) -> 0.14093855 | F28: =STDEV(D26:D28) -> 0.0032100835
A29: TERT+ Dnd1 R98A | B29: 413100000 | C29: 59610000 | D29: =C29/B29 -> 0.1442992
A30: TERT+ Dnd1 R98A | B30: 392100000 | C30: 60570000 | D30: =C30/B30 -> 0.1544759
A31: TERT+ Dnd1 R98A | B31: 381300000 | C31: 57360000 | D31: =C31/B31 -> 0.15043273 | E31: =AVERAGE(D29:D31) -> 0.14973594 | F31: =STDEV(D29:D31) -> 0.0051240051
A33: Avg. expt. 1
A34: TERT | E34: 0.14140977 | F34: 0.0050644153
A35: TERT +Dnd1 WT | E35: 0.14205254 | F35: 0.004369589
A36: TERT + Dnd1 1-235 | E36: 0.14093855 | F36: 0.0032100835
A37: TERT+ Dnd1 R98A | E37: 0.14973594 | F37: 0.0051240051
A39: Tech. triplicate expt. 2
A40: TERT | B40: 985600000 | C40: 162400000 | D40: =C40/B40 -> 0.16477273
A41: TERT | B41: 958400000 | C41: 158700000 | D41: =C41/B41 -> 0.16558848
A42: TERT | B42: 966099968 | C42: 166200000 | D42: =C42/B42 -> 0.17203189 | E42: =AVERAGE(D40:D42) -> 0.16746436 | F42: =STDEV(D40:D42) -> 0.0039765631
A43: TERT +Dnd1 WT | B43: 185600000 | C43: 27530000 | D43: =C43/B43 -> 0.14832974
A44: TERT +Dnd1 WT | B44: 159300000 | C44: 24930000 | D44: =C44/B44 -> 0.15649718
A45: TERT +Dnd1 WT | B45: 154900000 | C45: 25030000 | D45: =C45/B45 -> 0.16158812 | E45: =AVERAGE(D43:D45) -> 0.15547168 | F45: =STDEV(D43:D45) -> 0.0066884147
...

Sheet FigS2
A1: Complete blot and coomassie-stained gel

Sheet FigS4B
A1: T1/T2 relaxation rates
A2: residues in red omitted from averaging if hetNOE < 0.8 or > 1.2 | Q2: AVERAGE | R2: =AVERAGE(R7:R216) -> 1857.4233 | S2: =AVERAGE(S7:S216) -> 36.090753
A3: residue | B3: 15N (ppm) | C3: 1H (ppm) | D3: Intensity (sat) | F3: Intensity (ref) | H3: hetNOE | J3: residue | K3: T1 (ms) | L3: T1 SD | M3: T2 (ms) | N3: T2 SD | O3: fit reference | R3: T1 (ms) | S3: T2 (ms)
A4: 3MN-HN | B4: 119.079 | C4: 8.447 | D4: 4020129 | F4: -3649180 | H4: =F4/D4 -> -0.90772709
A5: 4EN-HN | B5: 121.772 | C5: 8.299 | D5: 10370847 | F5: 1272078 | H5: =F5/D5 -> 0.12265903
A6: 5RN-HN | B6: 120.87 | C6: 8.175 | D6: 10851352 | F6: 4944716 | H6: =F6/D6 -> 0.45567741
A7: 6VN-HN | B7: 121.411 | C7: 8.092 | D7: 7061989 | F7: 6044124 | H7: =F7/D7 -> 0.85586709 | J7: 6 | K7: 766.715 | L7: 9.215 | M7: 85.652 | N7: 0.854 | O7: fit86.gnu | R7: 766.715 | S7: 85.652
A8: 7NN-HN | B8: 125.115 | C8: 8.968 | D8: 6771884 | F8: 4853016 | H8: =F8/D8 -> 0.71664193 | J8: 7 | K8: 1216.407 | L8: 45.541 | M8: 49.442 | N8: 1.291 | O8: fit35.gnu
A10: 9EN-HN | B10: 119.486 | C10: 8.477 | D10: 7302534 | F10: 6041900 | H10: =F10/D10 -> 0.82737033 | J10: 9 | K10: 1413.514 | L10: 43.729 | M10: 37.32 | N10: 1.015 | O10: fit117.gnu | R10: 1413.514 | S10: 37.32
A11: 10NN-HN | B11: 119.308 | C11: 8.075 | D11: 6961659 | F11: 5506312 | H11: =F11/D11 -> 0.79094825 | J11: 10 | K11: 719.032 | L11: 5.517 | M11: 114.71 | N11: 0.249 | O11: fit120.gnu | R11: 719.032 | S11: 114.71
A12: 11KN-HN | B12: 120.004 | C12: 7.851 | D12: 5638252 | F12: 5591696 | H12: =F12/D12 -> 0.99174283 | J12: 11 | K12: 1619.398 | L12: 57.708 | M12: 31.581 | N12: 1.179 | O12: fit108.gnu | R12: 1619.398 | S12: 31.581
A13: 12AN-HN | B13: 121.003 | C13: 7.76 | D13: 6249495 | F13: 6062876 | H13: =F13/D13 -> 0.97013855 | J13: 12 | K13: 1717.856 | L13: 60.385 | M13: 33.452 | N13: 1.449 | O13: fit93.gnu | R13: 1717.856 | S13: 33.452
A14: 13AN-HN | B14: 122.402 | C14: 7.735 | D14: 6603864 | F14: 6233838 | H14: =F14/D14 -> 0.94396826 | J14: 13 | K14: 1729.55 | L14: 55.795 | M14: 34.418 | N14: 1.547 | O14: fit63.gnu | R14: 1729.55 | S14: 34.418
A15: 14LN-HN | B15: 121.699 | C15: 7.429 | D15: 6071796 | F15: 5856676 | H15: =F15/D15 -> 0.96457061 | J15: 14 | K15: 1838.301 | L15: 58.975 | M15: 36.037 | N15: 1.804 | O15: fit78.gnu | R15: 1838.301 | S15: 36.037
A16: 15EN-HN | B16: 117.534 | C16: 7.777 | D16: 6523171 | F16: 6066440 | H16: =F16/D16 -> 0.92998329 | J16: 15 | K16: 1735.419 | L16: 57.219 | M16: 32.492 | N16: 1.357 | O16: fit146.gnu | R16: 1735.419 | S16: 32.492
A17: 16AN-HN | B17: 121.411 | C17: 8.092 | D17: 7061989 | F17: 6044124 | H17: =F17/D17 -> 0.85586709 | J17: 16 | K17: 1799.849 | L17: 54.795 | M17: 36.824 | N17: 1.997 | O17: fit82.gnu | R17: 1799.849 | S17: 36.824
A18: 17WN-HN | B18: 121.627 | C18: 7.933 | D18: 4650210 | F18: 5056422 | H18: =F18/D18 -> 1.0873535 | J18: 17 | K18: 1714.616 | L18: 68.298 | M18: 51.713 | N18: 3.497 | O18: fit77.gnu | R18: 1714.616 | S18: 51.713
A19: 18VN-HN | B19: 122.133 | C19: 8.851 | D19: 5014844 | F19: 5043252 | H19: =F19/D19 -> 1.0056648 | J19: 18 | K19: 1807.88 | L19: 75.56 | M19: 34.171 | N19: 2.414 | O19: fit70.gnu | R19: 1807.88 | S19: 34.171
A20: 19RN-HN | B20: 119.149 | C20: 7.739 | D20: 6280677 | F20: 5836366 | H20: =F20/D20 -> 0.92925747 | J20: 19 | K20: 1869.635 | L20: 50.199 | M20: 28.646 | N20: 1.287 | O20: fit121.gnu | R20: 1869.635 | S20: 28.646
A21: 20EN-HN | B21: 118.296 | C21: 8.115 | D21: 7857967 | F21: 7426238 | H21: =F21/D21 -> 0.94505844 | J21: 20 | K21: 1888.138 | L21: 47.227 | M21: 31.031 | N21: 1.205 | O21: fit134.gnu | R21: 1888.138 | S21: 31.031
... A23: 22GN-HN | B23: 111.309 | C23: 7.855 | D23: 4285024 | F23: 3712207 | H23: =F23/D23 -> 0.86632117 | J23: 22 | K23: 1945.733 | L23: 71.103 | M23: 34.525 | N23: 1.205 | O23: fit210.gnu | R23: 1945.733 | S23: 34.525
A24: 23IN-HN | B24: 121.105 | C24: 7.043 | D24: 5146985 | F24: 3354507 | H24: =F24/D24 -> 0.65174214 | J24: 23 | K24: 2012.055 | L24: 54.421 | M24: 33.015 | N24: 1.298 | O24: fit94.gnu
A25: 24RN-HN | B25: 125.608 | C25: 8.182 | D25: 7742668 | F25: 6744865 | H25: =F25/D25 -> 0.87112931
A26: 25LN-HN | B26: 125.859 | C26: 8.532 | D26: 7225395 | F26: 6310428 | H26: =F26/D26 -> 0.87336789 | J26: 25 | K26: 2201.439 | L26: 29.945 | M26: 36.496 | N26: 0.919 | O26: fit28.gnu | R26: 2201.439 | S26: 36.496
A27: 26VN-HN | B27: 122.795 | C27: 8.803 | D27: 6151217 | F27: 5004323 | H27: =F27/D27 -> 0.81355007 | J27: 26 | K27: 2234.504 | L27: 75.912 | M27: 34.41 | N27: 1.964 | O27: fit54.gnu | R27: 2234.504 | S27: 34.41
A28: 27QN-HN | B28: 130.506 | C28: 9.199 | D28: 3302082 | F28: 2599640 | H28: =F28/D28 -> 0.787273 | J28: 27 | K28: 1871.516 | L28: 122.956 | M28: 34.032 | N28: 2.727 | O28: fit5.gnu | R28: 1871.516 | S28: 34.032
A29: 28VN-HN | B29: 128.276 | C29: 8.469 | D29: 2133001 | F29: 2283893 | H29: =F29/D29 -> 1.0707416 | J29: 28 | K29: 1582.514 | L29: 115.177 | M29: 27.216 | N29: 7.272 | O29: fit9.gnu | R29: 1582.514 | S29: 27.216
A32: 31QN-HN | B32: 120.373 | C32: 7.712 | D32: 5857096 | F32: 5777683 | H32: =F32/D32 -> 0.98644157 | J32: 31 | K32: 1823.882 | L32: 96.322 | M32: 26.982 | N32: 2.799 | O32: fit257.gnu | R32: 1823.882 | S32: 26.982
A33: 32RN-HN | B33: 125.786 | C33: 8.984 | D33: 5690102 | F33: 5731028 | H33: =F33/D33 -> 1.0071925 | J33: 32 | K33: 1848.859 | L33: 104.135 | M33: 38.204 | N33: 2.744 | O33: fit29.gnu | R33: 1848.859 | S33: 38.204
A34: 33KN-HN | B34: 127.954 | C34: 9.257 | D34: 6371802 | F34: 5851853 | H34: =F34/D34 -> 0.91839844 | J34: 33 | K34: 1724.835 | L34: 74.139 | M34: 32.864 | N34: 2.179 | O34: fit12.gnu | R34: 1724.835 | S34: 32.864
A35: 34YN-HN | B35: 126.532 | C35: 9.392 | D35: 3947505 | F35: 4397402 | H35: =F35/D35 -> 1.11397 | J35: 34 | K35: 2035.077 | L35: 111.259 | M35: 39.371 | N35: 3.128 | O35: fit18.gnu | R35: 2035.077 | S35: 39.371
A36: 35GN-HN | B36: 114.851 | C36: 8.416 | D36: 8224803 | F36: 7775534 | H36: =F36/D36 -> 0.94537632 | J36: 35 | K36: 2116.957 | L36: 34.285 | M36: 36.469 | N36: 1.078 | O36: fit177.gnu | R36: 2116.957 | S36: 36.469
A37: 36GN-HN | B37: 107.622 | C37: 8.123 | D37: 8092016 | F37: 7733576 | H37: =F37/D37 -> 0.95570449 | J37: 36 | K37: 1992.241 | L37: 75.302 | M37: 38.088 | N37: 2.277 | O37: fit240.gnu | R37: 1992.241 | S37: 38.088
A41: 40GN-HN | B41: 112.277 | C41: 8.891 | D41: 2136575 | F41: 2319034 | H41: =F41/D41 -> 1.0853979 | J41: 40 | K41: 1864.647 | L41: 272.975 | M41: 44.78 | N41: 5.027 | O41: fit194.gnu | R41: 1864.647 | S41: 44.78
A42: 41WN-HN | B42: 120.992 | C42: 7.476 | D42: 5524257 | F42: 4455052 | H42: =F42/D42 -> 0.8064527 | J42: 41 | K42: 1892.099 | L42: 53.399 | M42: 37.918 | N42: 0.985 | O42: fit97.gnu | R42: 1892.099 | S42: 37.918
A43: 42VN-HN | B43: 127.854 | C43: 7.405 | D43: 7536506 | F43: 4866968 | H43: =F43/D43 -> 0.64578573
A44: 43GN-HN | B44: 112.258 | C44: 8.355 | D44: 9826025 | F44: 6510234 | H44: =F44/D44 -> 0.66255012 | J44: 43 | K44: 1286.218 | L44: 23.47 | M44: 61.438 | N44: 0.813 | O44: fit196.gnu
A45: 44SN-HN | B45: 116.576 | C45: 8.373 | D45: 5935133 | F45: 4868280 | H45: =F45/D45 -> 0.82024784 | J45: 44 | K45: 1987.129 | L45: 131.931 | M45: 30.442 | N45: 3.782 | O45: fit255.gnu | R45: 1987.129 | S45: 30.442
A49: 48AN-HN | B49: 123.984 | C49: 8.57 | D49: 8445370 | F49: 6505837 | H49: =F49/D49 -> 0.77034363 | J49: 48 | K49: 1822.091 | L49: 52.976 | M49: 42.174 | N49: 1.467 | O49: fit45.gnu | R49: 1822.091 | S49: 42.174
A50: 49GN-HN | B50: 109.461 | C50: 9.064 | D50: 1230244 | F50: 1474152 | H50: =F50/D50 -> 1.1982599 | J50: 49 | K50: 1748.386 | L50: 173.058 | M50: 40.473 | N50: 4.379 | O50: fit230.gnu | R50: 1748.386 | S50: 40.473
...

Sheet FigS6
A1: Rluc/Fluc
A2: ratio normalized to p27shWT + neg CTL
A3: p27shWT + mimic neg CTL 50nM | B3: p27shWT + mimic mir221 CTL 50nM | C3: p27shWT + mimic neg CTL 50nM + Dnd1 WT | D3: p27shWT + mimic mir221 CTL 50nM + Dnd1 WT | E3: p27shWT + mimic mir221 CTL 50nM + Dnd1 1-235 | F3: p27shWT + mimic mir221 CTL 50nM + Dnd1 R98A
A4: 1 | B4: 0.43 | C4: 1.72 | D4: 0.84 | E4: 0.585 | F4: 0.946
A5: 1 | B5: 0.339 | C5: 1.6 | D5: 0.422 | E5: 0.345 | F5: 0.497
A6: 1 | B6: 0.371 | C6: 1.8 | D6: 0.398 | E6: 0.406 | F6: 0.549
A11: Tech. triplicate expt 1 | B11: Firefly luminescence | C11: Renilla luminescence | D11: R/Fratio | E11: AVG internal | F11: STDev
A12: p27shWT + mimic neg CTL 50nM | B12: 369900000 | C12: 18500000 | D12: =C12/B12 -> 0.050013517
A13: p27shWT + mimic neg CTL 50nM | B13: 354400000 | C13: 18180000 | D13: =C13/B13 -> 0.051297968
A14: p27shWT + mimic neg CTL 50nM | B14: 402600000 | C14: 21750000 | D14: =C14/B14 -> 0.054023845 | E14: =AVERAGE(D12:D14) -> 0.051778444 | F14: =STDEV(D12:D14) -> 0.002047883
A15: p27shWT + mimic miR221 50nM | B15: 513200000 | C15: 11160000 | D15: =C15/B15 -> 0.021745908
A16: p27shWT + mimic miR221 50nM | B16: 541699968 | C16: 12300000 | D16: =C16/B16 -> 0.022706296
A17: p27shWT + mimic miR221 50nM | B17: 599100032 | C17: 13430000 | D17: =C17/B17 -> 0.022416958 | E17: =AVERAGE(D15:D17) -> 0.022289721 | F17: =STDEV(D15:D17) -> 0.00049267469
A19: p27shWT +mimic neg CTL 50nM + Dnd1 WT | B19: 99430000 | C19: 9271000 | D19: =C19/B19 -> 0.093241476
A20: p27shWT +mimic neg CTL 50nM + Dnd1 WT | B20: 102200000 | C20: 8185000 | D20: =C20/B20 -> 0.080088063
A21: p27shWT +mimic neg CTL 50nM + Dnd1 WT | B21: 111900000 | C21: 10500000 | D21: =C21/B21 -> 0.09383378 | E21: =AVERAGE(D19:D21) -> 0.08905444 | F21: =STDEV(D19:D21) -> 0.0077707557
A22: p27shWT +mimic miR221 50nM + Dnd1 WT | B22: 135100000 | C22: 5229000 | D22: =C22/B22 -> 0.038704663
A23: p27shWT +mimic miR221 50nM + Dnd1 WT | B23: 149400000 | C23: 6483000 | D23: =C23/B23 -> 0.043393574
A24: p27shWT +mimic miR221 50nM + Dnd1 WT | B24: 144300000 | C24: 6991000 | D24: =C24/B24 -> 0.048447678 | E24: =AVERAGE(D22:D24) -> 0.043515305 | F24: =STDEV(D22:D24) -> 0.0048726482
A26: p27lshWT +mimic miR221 50nM+ Dnd1 1-235 | B26: 83140000 | C26: 2574000 | D26: =C26/B26 -> 0.030959827
A27: p27lshWT +mimic miR221 50nM+ Dnd1 1-235 | B27: 79190000 | C27: 2303000 | D27: =C27/B27 -> 0.029081955
A28: p27lshWT +mimic miR221 50nM+ Dnd1 1-235 | B28: 93650000 | C28: 2891000 | D28: =C28/B28 -> 0.030870262 | E28: =AVERAGE(D26:D28) -> 0.030304014 | F28: =STDEV(D26:D28) -> 0.0010592817
A29: p27shWT +mimic miR221 50nM + Dnd1 R98A | B29: 182600000 | C29: 8596000 | D29: =C29/B29 -> 0.047075575
A30: p27shWT +mimic miR221 50nM + Dnd1 R98A | B30: 180900000 | C30: 8877000 | D30: =C30/B30 -> 0.04907131
A31: p27shWT +mimic miR221 50nM + Dnd1 R98A | B31: 208000000 | C31: 10570000 | D31: =C31/B31 -> 0.050817308 | E31: =AVERAGE(D29:D31) -> 0.048988064 | F31: =STDEV(D29:D31) -> 0.0018722549
A33: Avg. expt 1
A34: p27shWT + mimic neg CTL 50nM | E34: 0.051778444 | F34: 0.002047883
A35: p27shWT + mimic miR221 50nM | E35: 0.022289721 | F35: 0.00049267469
A36: p27shWT +mimic neg CTL 50nM + Dnd1 WT | E36: 0.08905444 | F36: 0.0077707557
A37: p27shWT +mimic miR221 50nM + Dnd1 WT | E37: 0.043515305 | F37: 0.0048726482
A38: p27lshWT +mimic miR221 50nM+ Dnd1 1-235 | E38: 0.030304014 | F38: 0.0010592817
A39: p27shWT +mimic miR221 50nM + Dnd1 R98A | E39: 0.048988064 | F39: 0.0018722549
A42: Tech. triplicate expt 2 | B42: Firefly luminescence | C42: Renilla luminescence | D42: R/Fratio | E42: AVG internal | F42: STDev
A43: p27shWT + mimic neg CTL 50nM | B43: 381300000 | C43: 24710000 | D43: =C43/B43 -> 0.064804616
A44: p27shWT + mimic neg CTL 50nM | B44: 400300000 | C44: 25970000 | D44: =C44/B44 -> 0.064876343
A45: p27shWT + mimic neg CTL 50nM | B45: 396200000 | C45: 24920000 | D45: =C45/B45 -> 0.062897527 | E45: =AVERAGE(D43:D45) -> 0.064192828 | F45: =STDEV(D43:D45) -> 0.0011223374
A46: p27shWT + mimic miR221 50nM | B46: 480700000 | C46: 10090000 | D46: =C46/B46 -> 0.020990223
A47: p27shWT + mimic miR221 50nM | B47: 545000000 | C47: 12320000 | D47: =C47/B47 -> 0.022605505
A48: p27shWT + mimic miR221 50nM | B48: 512200000 | C48: 11090000 | D48: =C48/B48 -> 0.021651699 | E48: =AVERAGE(D46:D48) -> 0.021749142 | F48: =STDEV(D46:D48) -> 0.0008120378
A50: p27shWT +mimic neg CTL 50nM + Dnd1 WT | B50: 56200000 | C50: 5775000 | D50: =C50/B50 -> 0.10275801
...

Sheet FigS8A
A1: Complete blot and coomassie-stained gel
