Workbook

Sheet ImportR
A1: Speed | B1: Group
A2: 15.706393 | B2: Body.Parastalsis
A3: 17.8299 | B3: Body.Parastalsis
A4: 19.402129 | B4: Body.Parastalsis
A5: 33.906444 | B5: Body.Parastalsis
A6: 27.148225 | B6: Body.Parastalsis
A7: 38.586779 | B7: Body.Parastalsis
A8: 46.378972 | B8: Body.Parastalsis
A9: 28.531402 | B9: Body.Parastalsis
A10: 31.415927 | B10: Body.Parastalsis
A11: 29.725159 | B11: Body.Parastalsis
A12: 28.57422 | B12: Body.Parastalsis
A13: 32.830791 | B13: Body.Parastalsis
... A92: 827.27273 | B92: Tentacle.Retraction

Sheet ttest
A1: t-Test: Two-Sample Assuming Equal Variances | E1: t-Test: Two-Sample Assuming Equal Variances | I1: t-Test: Two-Sample Assuming Equal Variances
B3: Body.Retraction | C3: Tentacle.Retraction | F3: Body.Parastalsis | G3: Tentacle.Retraction | J3: Body.Parastalsis | K3: Body.Retraction
A4: Mean | B4: 948.12834 | C4: 756.72515 | E4: Mean | F4: 29.739432 | G4: 756.72515 | I4: Mean | J4: 29.739432 | K4: 948.12834
A5: Variance | B5: 106319.88 | C5: 88324.395 | E5: Variance | F5: 83.970197 | G5: 88324.395 | I5: Variance | J5: 83.970197 | K5: 106319.88
A6: Observations | B6: 17 | C6: 18 | E6: Observations | F6: 51 | G6: 18 | I6: Observations | J6: 51 | K6: 17
A7: Pooled Variance | B7: 97049.48 | E7: Pooled Variance | F7: 22473.332 | I7: Pooled Variance | J7: 25838.131
A8: Hypothesized Mean Difference | B8: 0 | E8: Hypothesized Mean Difference | F8: 0 | I8: Hypothesized Mean Difference | J8: 0
A9: df | B9: 33 | E9: df | F9: 67 | I9: df | J9: 66
A10: t Stat | B10: 1.8166835 | E10: t Stat | F10: -17.688416 | I10: t Stat | J10: -20.400987
A11: P(T<=t) one-tail | B11: 0.039179129 | E11: P(T<=t) one-tail | F11: 3.0366661e-27 | I11: P(T<=t) one-tail | J11: 1.6553611e-30
A12: t Critical one-tail | B12: 1.6923603 | E12: t Critical one-tail | F12: 1.6679161 | I12: t Critical one-tail | J12: 1.6682705
A13: P(T<=t) two-tail | B13: 0.078358258 | E13: P(T<=t) two-tail | F13: 6.0733321e-27 | I13: P(T<=t) two-tail | J13: 3.3107221e-30
A14: t Critical two-tail | B14: 2.0345153 | E14: t Critical two-tail | F14: 1.9960084 | I14: t Critical two-tail | J14: 1.9965644

Sheet Evaluation
A1: Retraction | C1: Tentacle | E1: Slow
A2: FIleNo | B2: Speed (um/sec) | C2: FIleNo | D2: Speed (um/sec) | E2: FileNo | F2: Speed (um/sec) | G2: Speed (um/sec)
A3: =MHCQuick!A3 -> 1005_1 | B3: =MHCQuick!I3 -> 1254.5455 | C3: =Tentacle!A3 -> 007 | D3: =Tentacle!I6 -> 209.09091 | E3: 1007 | F3: 4.9995 | G3: =F3*PI() -> 15.706393
A4: =MHCQuick!A13 -> 1006_1 | B4: =MHCQuick!I13 -> 1209.0909 | C4: =Tentacle!A8 -> 008 | D4: =Tentacle!I10 -> 536.36364 | F4: 5.6754333 | G4: =F4*PI() -> 17.8299
A5: =MHCQuick!A27 -> 1007_1 | B5: =MHCQuick!I28 -> 409.09091 | C5: =Tentacle!A13 -> 009 | D5: =Tentacle!I14 -> 1063.6364 | F5: 6.1758893 | G5: =F5*PI() -> 19.402129
A6: =MHCQuick!A40 -> 1008_1 | B6: =MHCQuick!I40 -> 863.63636 | C6: =Tentacle!A17 -> 010 | D6: =Tentacle!I18 -> 890.90909 | F6: 10.792756 | G6: =F6*PI() -> 33.906444
A7: =MHCQuick!A49 -> 1010_1 | B7: =MHCQuick!I50 -> 1000 | C7: =Tentacle!A20 -> 011 | D7: =Tentacle!I21 -> 618.18182 | F7: 8.6415486 | G7: =F7*PI() -> 27.148225
A8: =MHCQuick!A62 -> 1015_1 | B8: =MHCQuick!I64 -> 527.27273 | C8: =Tentacle!A25 -> 012 | D8: =Tentacle!I26 -> 554.54545 | F8: 12.282553 | G8: =F8*PI() -> 38.586779
A9: =MHCQuick!A73 -> 1019_1 | B9: =MHCQuick!I73 -> 800 | C9: =Tentacle!A29 -> 014_left | D9: =Tentacle!I29 -> 363.63636 | F9: 14.762885 | G9: =F9*PI() -> 46.378972
A10: =MHCQuick!A84 -> 1020_1 | B10: =MHCQuick!I85 -> 1036.3636 | C10: =Tentacle!A32 -> 015 | D10: =Tentacle!I32 -> 718.18182 | F10: 9.0818273 | G10: =F10*PI() -> 28.531402
A11: =MHCQuick!A94 -> 1023_1 | B11: =MHCQuick!I95 -> 1400 | C11: =Tentacle!A35 -> 016 | D11: =Tentacle!I36 -> 481.81818 | F11: 10 | G11: =F11*PI() -> 31.415927
A12: =MHCQuick!A107 -> 1024_1 | B12: =MHCQuick!I108 -> 1554.5455 | C12: 018 | D12: =Tentacle!I40 -> 690.90909 | F12: 9.4618121 | G12: =F12*PI() -> 29.725159
A13: =MHCQuick!A115 -> 1027_1 | B13: =MHCQuick!I115 -> 472.72727 | C13: 019 | D13: =Tentacle!I45 -> 690.90909 | F13: 9.0954568 | G13: =F13*PI() -> 28.57422
A14: =MHCQuick!A128 -> 1030_1 | B14: =MHCQuick!I128 -> 1109.0909 | C14: 020 | D14: =Tentacle!I49 -> 602.87081 | F14: 10.450365 | G14: =F14*PI() -> 32.830791
A15: =MHCQuick!A141 -> 1032_1 | B15: =MHCQuick!I142 -> 781.81818 | C15: 021 | D15: =Tentacle!I52 -> 900 | F15: 14.393939 | G15: =F15*PI() -> 45.219894
A16: =MHCQuick!A154 -> 1035 | B16: =MHCQuick!I154 -> 709.09091 | C16: 022 | D16: =Tentacle!I56 -> 1145.4545 | F16: 9.0818273 | G16: =F16*PI() -> 28.531402
A17: =MHCQuick!A163 -> 1038 | B17: =MHCQuick!I163 -> 1190.9091 | C17: 023 | D17: =Tentacle!I60 -> 972.72727 | F17: 7.3993124 | G17: =F17*PI() -> 23.245626
A18: =MHCQuick!A172 -> 1039 | B18: =MHCQuick!I172 -> 1072.7273 | C18: 024 | D18: =Tentacle!I65 -> 690.90909 | F18: 8.3333333 | G18: =F18*PI() -> 26.179939
A19: =MHCQuick!A184 -> 1040 | B19: =MHCQuick!I184 -> 727.27273 | C19: 026 | D19: =Tentacle!I67 -> 1336.3636 | F19: 9.084096 | G19: =F19*PI() -> 28.538529
C20: 029 | D20: =Tentacle!I70 -> 1154.5455 | F20: 11.375011 | G20: =F20*PI() -> 35.735652
C21: 031 | D21: =Tentacle!I74 -> 518.18182 | F21: 8.5312585 | G21: =F21*PI() -> 26.801739
C22: 032 | D22: =Tentacle!I77 -> 1290.9091 | F22: 10.606061 | G22: =F22*PI() -> 33.319922
C23: 034 | D23: =Tentacle!I81 -> 690.90909 | F23: 7.9545455 | G23: =F23*PI() -> 24.989942
C24: 036 | D24: =Tentacle!I86 -> 427.27273 | F24: 9.5511853 | G24: =F24*PI() -> 30.005933
C25: 037 | D25: =Tentacle!I89 -> 827.27273 | F25: 12.101044 | G25: =F25*PI() -> 38.01655
F26: 9.0939404 | G26: =F26*PI() -> 28.569456
F27: 9.6590909 | G27: =F27*PI() -> 30.344929
F28: 10.795455 | G28: =F28*PI() -> 33.914921
F29: 5.6784111 | G29: =F29*PI() -> 17.839255
E30: 1006 | F30: 11.386409 | G30: =F30*PI() -> 35.771459
F31: 10.79006 | G31: =F31*PI() -> 33.897972
F32: 14.761656 | G32: =F32*PI() -> 46.37511
F33: 12.141448 | G33: =F33*PI() -> 38.143483
F34: 5.9090909 | G34: =F34*PI() -> 18.563957
F35: 7.9545455 | G35: =F35*PI() -> 24.989942
F36: 5.9666549 | G36: =F36*PI() -> 18.744799
E37: 1005 | F37: 10.448276 | G37: =F37*PI() -> 32.824229
F38: 9.6615063 | G38: =F38*PI() -> 30.352517
F39: 6.8168185 | G39: =F39*PI() -> 21.415667
E40: 1003 | F40: 4.1352389 | G40: =F40*PI() -> 12.991236
...

Sheet MHCQuick
A1: vid/animal | B1: px | C1: frame | D1: time | E1: px | F1: frame | G1: time | H1: speed px/s | I1: um/s | M1: komplex ampl | N1: spectrum | O1: Frequence | R1: fps | S1: Scale
A2: 1005_1 | B2: 748 | C2: 18 | E2: 342.987 | F2: 26 | H2: =(B2-E2)/((F2-C2)*(1/$R$2)) -> 506.26625 | I2: =H2*$V$4 -> 460.24205 | O2: =($R$2/2)/(8/2)*(F2-$C$3)*0.1*$R$2 -> 10 | R2: 10 | S2: Mag | T2: px | U2: um | V2: um/px | X2: msec
A3: 1005_1 | B3: =B2 -> 748 | C3: 18 | D3: 1.67 | E3: 610 | F3: 19 | G3: 1.77 | H3: =(B3-E3)/(G3-D3) -> 1380 | I3: =H3*$V$4 -> 1254.5455 | M3: 3563.63636363636 | N3: =IMABS(M3) -> 3563.6364 | O3: 1.25 | S3: 4 | T3: 22 | U3: 50 | V3: =U3/T3 -> 2.2727273 | X3: 0
B4: =E3 -> 610 | C4: =F3 -> 19 | D4: =G3 -> 1.77 | E4: 499 | F4: 20 | G4: 1.87 | H4: =(B4-E4)/(G4-D4) -> 1110 | I4: =H4*$V$4 -> 1009.0909 | M4: 1510.0370581896-1047.69283658716i | N4: =IMABS(M4) -> 1837.8989 | O4: 2.5 | S4: 10 | T4: 55 | U4: 50 | V4: =U4/T4 -> 0.90909091 | X4: 100
B5: =E4 -> 499 | C5: =F4 -> 20 | D5: =G4 -> 1.87 | E5: 442 | F5: 21 | G5: 1.97 | H5: =(B5-E5)/(G5-D5) -> 570 | I5: =H5*$V$4 -> 518.18182 | M5: 881.818181818181-954.545454545455i | N5: =IMABS(M5) -> 1299.5231 | O5: 3.75 | X5: 200
B6: =E5 -> 442 | C6: =F5 -> 21 | D6: =G5 -> 1.97 | E6: 426 | F6: 22 | G6: 2.07 | H6: =(B6-E6)/(G6-D6) -> 160 | I6: =H6*$V$4 -> 145.45455 | M6: 417.235669083122-302.238291132613i | N6: =IMABS(M6) -> 515.20247 | O6: 5 | X6: 300
B7: =E6 -> 426 | C7: =F6 -> 22 | D7: =G6 -> 2.07 | E7: 394 | F7: 23 | G7: 2.17 | H7: =(B7-E7)/(G7-D7) -> 320 | I7: =H7*$V$4 -> 290.90909 | M7: 854.545454545455 | N7: =IMABS(M7) -> 854.54545 | O7: 6.25 | X7: 400
B8: =E7 -> 394 | C8: =F7 -> 23 | D8: =G7 -> 2.17 | E8: 378 | F8: 24 | G8: 2.27 | H8: =(B8-E8)/(G8-D8) -> 160 | I8: =H8*$V$4 -> 145.45455 | M8: 417.235669083123+302.238291132614i | N8: =IMABS(M8) -> 515.20247 | O8: 7.5 | X8: 500
B9: =E8 -> 378 | C9: =F8 -> 24 | D9: =G8 -> 2.27 | E9: 362 | F9: 25 | G9: 2.37 | H9: =(B9-E9)/(G9-D9) -> 160 | I9: =H9*$V$4 -> 145.45455 | M9: 881.818181818183+954.545454545455i | N9: =IMABS(M9) -> 1299.5231 | O9: 8.75 | X9: 600
B10: =E9 -> 362 | C10: =F9 -> 25 | D10: =G9 -> 2.37 | E10: 356 | F10: 26 | G10: 2.47 | H10: =(B10-E10)/(G10-D10) -> 60 | I10: =H10*$V$4 -> 54.545455 | M10: 1510.03705818961+1047.69283658716i | N10: =IMABS(M10) -> 1837.8989 | O10: 10 | X10: 700
B11: =E10 -> 356 | C11: =F10 -> 26 | D11: =G10 -> 2.47 | E11: 348 | F11: 27 | G11: 2.57 | H11: =(B11-E11)/(G11-D11) -> 80 | I11: =H11*$V$4 -> 72.727273 | S11: Meanampl | T11: meanF | X11: 800
B12: =E11 -> 348 | C12: =F11 -> 27 | D12: =G11 -> 2.57 | E12: 339 | F12: 28 | G12: 2.67 | H12: =(B12-E12)/(G12-D12) -> 90 | I12: =H12*$V$4 -> 81.818182 | S12: =AVERAGE(N3,N13,N28,N40,N50,N74,N85,N95,N108,N115,N64,N128,N142,N154,N163,N172,N184) -> 8.540107e+13 | T12: 0 | U12: =_xlfn.STDEV.S(N3,N13,N28,N40,N50,N74,N85,N95,N108,N115,N64,N128,N142,N154,N163,N172,N184) -> 1.3693044e+14 | X12: 900
A13: 1006_1 | B13: 619 | C13: 25 | E13: 486 | F13: 26 | H13: =(B13-E13)/((F13-C13)*(1/$R$2)) -> 1330 | I13: =H13*$V$4 -> 1209.0909 | M13: 3118.18181818182 | N13: =IMABS(M13) -> 3118.1818 | O13: 1.25 | S13: =AVERAGE(N4,N14,N29,N41,N51,N75,N86,N96,N109,N116,N65,N129,N143,N155,N164,N173,N185) -> 1.7423371e+14 | T13: 1.25 | U13: =_xlfn.STDEV.S(N4,N14,N29,N41,N51,N75,N86,N96,N109,N116,N65,N129,N143,N155,N164,N173,N185) -> 3.1048926e+14 | X13: 1000
B14: =E13 -> 486 | C14: =F13 -> 26 | E14: 402 | F14: 27 | H14: =(B14-E14)/((F14-C14)*(1/$R$2)) -> 840 | I14: =H14*$V$4 -> 763.63636 | M14: 1403.87642610175-768.158860755076i | N14: =IMABS(M14) -> 1600.2928 | O14: 2.5 | S14: =AVERAGE(N5,N15,N30,N42,N52,N76,N87,N97,N110,N117,N66,N130,N144,N156,N165,N174,N186) -> 2.2815624e+14 | T14: 2.5 | U14: =_xlfn.STDEV.S(N5,N15,N30,N42,N52,N76,N87,N97,N110,N117,N66,N130,N144,N156,N165,N174,N186) -> 3.5271733e+14 | X14: 1100
B15: =E14 -> 402 | C15: =F14 -> 27 | E15: 352 | F15: 28 | H15: =(B15-E15)/((F15-C15)*(1/$R$2)) -> 500 | I15: =H15*$V$4 -> 454.54545 | M15: 809.090909090909-745.454545454546i | N15: =IMABS(M15) -> 1100.1503 | O15: 3.75 | S15: =AVERAGE(N6,N16,N31,N43,N53,N77,N88,N98,N111,N118,N67,N131,N145,N157,N166,N175,N187) -> 2.4070338e+14 | T15: 3.75 | U15: =_xlfn.STDEV.S(N6,N16,N31,N43,N53,N77,N88,N98,N111,N118,N67,N131,N145,N157,N166,N175,N187) -> 3.6687189e+14 | X15: 1200
B16: =E15 -> 352 | C16: =F15 -> 28 | E16: 339 | F16: 29 | H16: =(B16-E16)/((F16-C16)*(1/$R$2)) -> 130 | I16: =H16*$V$4 -> 118.18182 | M16: 632.487210261883-131.795224391439i | N16: =IMABS(M16) -> 646.07279 | O16: 5 | S16: =AVERAGE(N7,N17,N32,N44,N54,N78,N89,N99,N112,N119,N68,N132,N146,N158,N167,N176,N188) -> 1.7272727e+14 | T16: 5 | U16: =_xlfn.STDEV.S(N7,N17,N32,N44,N54,N78,N89,N99,N112,N119,N68,N132,N146,N158,N167,N176,N188) -> 2.8793939e+14
B17: =E16 -> 339 | C17: =F16 -> 29 | E17: 318 | F17: 30 | H17: =(B17-E17)/((F17-C17)*(1/$R$2)) -> 210 | I17: =H17*$V$4 -> 190.90909 | M17: 863.636363636364 | N17: =IMABS(M17) -> 863.63636 | O17: 6.25 | S17: =AVERAGE(N8,N18,N33,N45,N55,N79,N90,N100,N113,N120,N69,N133,N147,N159,N168,N177,N189) -> 2.5574734e+14 | T17: 6.25 | U17: =_xlfn.STDEV.S(N8,N18,N33,N45,N55,N79,N90,N100,N113,N120,N69,N133,N147,N159,N168,N177,N189) -> 3.7344884e+14
B18: =E17 -> 318 | C18: =F17 -> 30 | E18: 299 | F18: 31 | H18: =(B18-E18)/((F18-C18)*(1/$R$2)) -> 190 | I18: =H18*$V$4 -> 172.72727 | M18: 632.487210261883+131.79522439144i | N18: =IMABS(M18) -> 646.07279 | O18: 7.5 | S18: =AVERAGE(N9,N19,N34,N46,N56,N80,N91,N101,N114,N121,N70,N134,N148,N160,N169,N178,N190) -> 2.42416e+14 | T18: 7.5 | U18: =_xlfn.STDEV.S(N9,N19,N34,N46,N56,N80,N91,N101,N114,N121,N70,N134,N148,N160,N169,N178,N190) -> 3.5918829e+14
B19: =E18 -> 299 | C19: =F18 -> 31 | E19: 284 | F19: 32 | H19: =(B19-E19)/((F19-C19)*(1/$R$2)) -> 150 | I19: =H19*$V$4 -> 136.36364 | M19: 809.09090909091+745.454545454546i | N19: =IMABS(M19) -> 1100.1503 | O19: 8.75 | S19: =AVERAGE(N10,N20,N35,N47,N57,N81,N92,N102,N115,N122,N71,N135,N149,N161,N170,N179,N191) -> 1.8047015e+14 | T19: 8.75 | U19: =_xlfn.STDEV.S(N10,N20,N35,N47,N57,N81,N92,N102,N115,N122,N71,N135,N149,N161,N170,N179,N191) -> 3.0972081e+14
B20: =E19 -> 284 | C20: =F19 -> 32 | E20: 276 | F20: 33 | H20: =(B20-E20)/((F20-C20)*(1/$R$2)) -> 80 | I20: =H20*$V$4 -> 72.727273 | M20: 1403.87642610175+768.158860755075i | N20: =IMABS(M20) -> 1600.2928 | O20: 10
B21: =E20 -> 276 | C21: =F20 -> 33 | E21: 264 | F21: 34 | H21: =(B21-E21)/((F21-C21)*(1/$R$2)) -> 120 | I21: =H21*$V$4 -> 109.09091
B22: =E21 -> 264 | C22: =F21 -> 34 | E22: 255 | F22: 35 | H22: =(B22-E22)/((F22-C22)*(1/$R$2)) -> 90 | I22: =H22*$V$4 -> 81.818182
B23: =E22 -> 255 | C23: =F22 -> 35 | E23: 248 | F23: 36 | H23: =(B23-E23)/((F23-C23)*(1/$R$2)) -> 70 | I23: =H23*$V$4 -> 63.636364
B24: =E23 -> 248 | C24: =F23 -> 36 | E24: 244 | F24: 37 | H24: =(B24-E24)/((F24-C24)*(1/$R$2)) -> 40 | I24: =H24*$V$4 -> 36.363636 | R24: 0 | S24: =(10/2)/(8/2)*R24*10 -> 0
B25: =E24 -> 244 | C25: =F24 -> 37 | E25: 237 | F25: 38 | H25: =(B25-E25)/((F25-C25)*(1/$R$2)) -> 70 | I25: =H25*$V$4 -> 63.636364 | R25: 0.1 | S25: =(10/2)/(8/2)*R25*10 -> 1.25
B26: =E25 -> 237 | C26: =F25 -> 38 | E26: 230 | F26: 39 | H26: =(B26-E26)/((F26-C26)*(1/$R$2)) -> 70 | I26: =H26*$V$4 -> 63.636364 | R26: 0.2 | S26: =(10/2)/(8/2)*R26*10 -> 2.5
A27: 1007_1 | B27: 634 | C27: 6 | E27: 600 | F27: 7 | H27: =(B27-E27)/((F27-C27)*(1/$R$2)) -> 340 | I27: =H27*$V$4 -> 309.09091 | R27: 0.3 | S27: =(10/2)/(8/2)*R27*10 -> 3.75
B28: =E27 -> 600 | C28: =F27 -> 7 | E28: 555 | F28: =F27+1 -> 8 | H28: =(B28-E28)/((F28-C28)*(1/$R$2)) -> 450 | I28: =H28*$V$4 -> 409.09091 | M28: 1872.72727272727 | N28: =IMABS(M28) -> 1872.7273 | O28: 1.25 | R28: 0.4 | S28: =(10/2)/(8/2)*R28*10 -> 5
B29: =E28 -> 555 | C29: =F28 -> 8 | E29: 535 | F29: =F28+1 -> 9 | H29: =(B29-E29)/((F29-C29)*(1/$R$2)) -> 200 | I29: =H29*$V$4 -> 181.81818 | M29: 111.107503699527-336.552866183376i | N29: =IMABS(M29) -> 354.41883 | O29: 2.5 | R29: 0.5 | S29: =(10/2)/(8/2)*R29*10 -> 6.25
B30: =E29 -> 535 | C30: =F29 -> 9 | E30: 496 | F30: =F29+1 -> 10 | H30: =(B30-E30)/((F30-C30)*(1/$R$2)) -> 390 | I30: =H30*$V$4 -> 354.54545 | M30: 154.545454545455+81.8181818181818i | N30: =IMABS(M30) -> 174.86713 | O30: 3.75 | R30: 0.6 | S30: =(10/2)/(8/2)*R30*10 -> 7.5
B31: =E30 -> 496 | C31: =F30 -> 10 | E31: 466 | F31: =F30+1 -> 11 | H31: =(B31-E31)/((F31-C31)*(1/$R$2)) -> 300 | I31: =H31*$V$4 -> 272.72727 | M31: 252.528859936837+117.992588362079i | N31: =IMABS(M31) -> 278.73478 | O31: 5 | R31: 0.7 | S31: =(10/2)/(8/2)*R31*10 -> 8.75
B32: =E31 -> 466 | C32: =F31 -> 11 | E32: 441 | F32: =F31+1 -> 12 | H32: =(B32-E32)/((F32-C32)*(1/$R$2)) -> 250 | I32: =H32*$V$4 -> 227.27273 | M32: 363.636363636364 | N32: =IMABS(M32) -> 363.63636 | O32: 6.25
B33: =E32 -> 441 | C33: =F32 -> 12 | E33: 424 | F33: =F32+1 -> 13 | H33: =(B33-E33)/((F33-C33)*(1/$R$2)) -> 170 | I33: =H33*$V$4 -> 154.54545 | M33: 252.528859936837-117.992588362079i | N33: =IMABS(M33) -> 278.73478 | O33: 7.5
B34: =E33 -> 424 | C34: =F33 -> 13 | E34: 410 | F34: =F33+1 -> 14 | H34: =(B34-E34)/((F34-C34)*(1/$R$2)) -> 140 | I34: =H34*$V$4 -> 127.27273 | M34: 154.545454545454-81.8181818181818i | N34: =IMABS(M34) -> 174.86713 | O34: 8.75
B35: =E34 -> 410 | C35: =F34 -> 14 | E35: 394 | F35: =F34+1 -> 15 | H35: =(B35-E35)/((F35-C35)*(1/$R$2)) -> 160 | I35: =H35*$V$4 -> 145.45455 | M35: 111.107503699527+336.552866183376i | N35: =IMABS(M35) -> 354.41883 | O35: 10
B36: =E35 -> 394 | C36: =F35 -> 15 | E36: 388 | F36: =F35+1 -> 16 | H36: =(B36-E36)/((F36-C36)*(1/$R$2)) -> 60 | I36: =H36*$V$4 -> 54.545455
B37: =E36 -> 388 | C37: =F36 -> 16 | E37: 379 | F37: =F36+1 -> 17 | H37: =(B37-E37)/((F37-C37)*(1/$R$2)) -> 90 | I37: =H37*$V$4 -> 81.818182
B38: =E37 -> 379 | C38: =F37 -> 17 | E38: 374 | F38: =F37+1 -> 18 | H38: =(B38-E38)/((F38-C38)*(1/$R$2)) -> 50 | I38: =H38*$V$4 -> 45.454545
B39: =E38 -> 374 | C39: =F38 -> 18 | E39: 365 | F39: =F38+1 -> 19 | H39: =(B39-E39)/((F39-C39)*(1/$R$2)) -> 90 | I39: =H39*$V$4 -> 81.818182
A40: 1008_1 | B40: 715 | C40: 23 | E40: 620 | F40: 24 | H40: =(B40-E40)/((F40-C40)*(1/$R$2)) -> 950 | I40: =H40*$V$4 -> 863.63636 | M40: 2672.72727272727 | N40: =IMABS(M40) -> 2672.7273 | O40: 1.25
...

Sheet Tentacle
A1: vid/animal | B1: px | C1: frame | D1: time | E1: px | F1: frame | G1: time | H1: speed px/s | I1: um/s | O1: fps | P1: Scale
O2: 10 | P2: Mag | Q2: px | R2: um | S2: um/px | U2: msec
A3: 007 | B3: 237 | C3: 56 | D3: 5.61 | E3: 225 | F3: =C3+1 -> 57 | G3: 5.71 | H3: =(B3-E3)/(G3-D3) -> 120 | I3: =H3*$S$4 -> 109.09091 | P3: 4 | Q3: 22 | R3: 50 | S3: =R3/Q3 -> 2.2727273 | U3: 0
B4: =E3 -> 225 | C4: =F3 -> 57 | D4: =G3 -> 5.71 | E4: 197 | F4: =C4+1 -> 58 | G4: 5.9 | H4: =(B4-E4)/(G4-D4) -> 147.36842 | I4: =H4*$S$4 -> 133.97129 | P4: 10 | Q4: 55 | R4: 50 | S4: =R4/Q4 -> 0.90909091 | U4: 100
B5: =E4 -> 197 | C5: =F4 -> 58 | D5: =G4 -> 5.9 | E5: 180 | F5: =C5+1 -> 59 | G5: 6 | H5: =(B5-E5)/(G5-D5) -> 170 | I5: =H5*$S$4 -> 154.54545 | U5: 200
B6: =E5 -> 180 | C6: =F5 -> 59 | D6: =G5 -> 6 | E6: 157 | F6: =C6+1 -> 60 | G6: 6.1 | H6: =(B6-E6)/(G6-D6) -> 230 | I6: =H6*$S$4 -> 209.09091 | U6: 300
B7: =E6 -> 157 | C7: =F6 -> 60 | D7: =G6 -> 6.1 | E7: 149 | F7: =C7+1 -> 61 | G7: 6.2 | H7: =(B7-E7)/(G7-D7) -> 80 | I7: =H7*$S$4 -> 72.727273 | U7: 400
A8: 008 | B8: 280 | C8: 28 | E8: 277 | F8: =C8+1 -> 29 | H8: =(B8-E8)/((F8-C8)*(1/$O$2)) -> 30 | I8: =H8*$S$4 -> 27.272727 | U8: 500
B9: =E8 -> 277 | C9: =F8 -> 29 | E9: 228 | F9: =C9+1 -> 30 | H9: =(B9-E9)/((F9-C9)*(1/$O$2)) -> 490 | I9: =H9*$S$4 -> 445.45455 | U9: 600
B10: =E9 -> 228 | C10: =F9 -> 30 | E10: 169 | F10: =C10+1 -> 31 | H10: =(B10-E10)/((F10-C10)*(1/$O$2)) -> 590 | I10: =H10*$S$4 -> 536.36364 | U10: 700
B11: =E10 -> 169 | C11: =F10 -> 31 | E11: 157 | F11: =C11+1 -> 32 | H11: =(B11-E11)/((F11-C11)*(1/$O$2)) -> 120 | I11: =H11*$S$4 -> 109.09091 | U11: 800
B12: =E11 -> 157 | C12: =F11 -> 32 | E12: 147 | F12: =C12+1 -> 33 | H12: =(B12-E12)/((F12-C12)*(1/$O$2)) -> 100 | I12: =H12*$S$4 -> 90.909091 | U12: 900
A13: 009 | B13: 443 | C13: 50 | D13: 5.05 | E13: 391 | F13: =C13+1 -> 51 | G13: 5.2 | H13: =(B13-E13)/(G13-D13) -> 346.66667 | I13: =H13*$S$4 -> 315.15152 | U13: 1000
B14: =E13 -> 391 | C14: =F13 -> 51 | D14: =G13 -> 5.2 | E14: 274 | F14: =C14+1 -> 52 | G14: 5.3 | H14: =(B14-E14)/(G14-D14) -> 1170 | I14: =H14*$S$4 -> 1063.6364 | U14: 1100
B15: =E14 -> 274 | C15: =F14 -> 52 | D15: =G14 -> 5.3 | E15: 217 | F15: =C15+1 -> 53 | G15: 5.4 | H15: =(B15-E15)/(G15-D15) -> 570 | I15: =H15*$S$4 -> 518.18182 | U15: 1200
B16: =E15 -> 217 | C16: =F15 -> 53 | D16: =G15 -> 5.4 | E16: 195 | F16: =C16+1 -> 54 | G16: 5.5 | H16: =(B16-E16)/(G16-D16) -> 220 | I16: =H16*$S$4 -> 200
A17: 010 | B17: 385 | C17: 37 | E17: 332 | F17: =C17+1 -> 38 | H17: =(B17-E17)/((F17-C17)*(1/$O$2)) -> 530 | I17: =H17*$S$4 -> 481.81818
B18: =E17 -> 332 | C18: =F17 -> 38 | E18: 234 | F18: =C18+1 -> 39 | H18: =(B18-E18)/((F18-C18)*(1/$O$2)) -> 980 | I18: =H18*$S$4 -> 890.90909
B19: =E18 -> 234 | C19: =F18 -> 39 | E19: 217 | F19: =C19+1 -> 40 | H19: =(B19-E19)/((F19-C19)*(1/$O$2)) -> 170 | I19: =H19*$S$4 -> 154.54545
A20: 011 | B20: 309 | C20: 24 | E20: 285 | F20: =C20+1 -> 25 | H20: =(B20-E20)/((F20-C20)*(1/$O$2)) -> 240 | I20: =H20*$S$4 -> 218.18182
B21: =E20 -> 285 | C21: =F20 -> 25 | E21: 217 | F21: =C21+1 -> 26 | H21: =(B21-E21)/((F21-C21)*(1/$O$2)) -> 680 | I21: =H21*$S$4 -> 618.18182
B22: =E21 -> 217 | C22: =F21 -> 26 | E22: 187 | F22: =C22+1 -> 27 | H22: =(B22-E22)/((F22-C22)*(1/$O$2)) -> 300 | I22: =H22*$S$4 -> 272.72727
B23: =E22 -> 187 | C23: =F22 -> 27 | E23: 157 | F23: =C23+1 -> 28 | H23: =(B23-E23)/((F23-C23)*(1/$O$2)) -> 300 | I23: =H23*$S$4 -> 272.72727
B24: =E23 -> 157 | C24: =F23 -> 28 | E24: 146 | F24: =C24+1 -> 29 | H24: =(B24-E24)/((F24-C24)*(1/$O$2)) -> 110 | I24: =H24*$S$4 -> 100
A25: 012 | B25: 215 | C25: 27 | E25: 210 | F25: =C25+1 -> 28 | H25: =(B25-E25)/((F25-C25)*(1/$O$2)) -> 50 | I25: =H25*$S$4 -> 45.454545
B26: =E25 -> 210 | C26: =F25 -> 28 | E26: 149 | F26: =C26+1 -> 29 | H26: =(B26-E26)/((F26-C26)*(1/$O$2)) -> 610 | I26: =H26*$S$4 -> 554.54545
B27: =E26 -> 149 | C27: =F26 -> 29 | E27: 117 | F27: =C27+1 -> 30 | H27: =(B27-E27)/((F27-C27)*(1/$O$2)) -> 320 | I27: =H27*$S$4 -> 290.90909
B28: =E27 -> 117 | C28: =F27 -> 30 | E28: 107 | F28: =C28+1 -> 31 | H28: =(B28-E28)/((F28-C28)*(1/$O$2)) -> 100 | I28: =H28*$S$4 -> 90.909091
A29: 014_left | B29: 196 | C29: 54 | D29: 5.41 | E29: 156 | F29: =C29+1 -> 55 | G29: 5.51 | H29: =(B29-E29)/(G29-D29) -> 400 | I29: =H29*$S$4 -> 363.63636
B30: =E29 -> 156 | C30: =F29 -> 55 | D30: =G29 -> 5.51 | E30: 117 | F30: =C30+1 -> 56 | G30: 5.61 | H30: =(B30-E30)/(G30-D30) -> 390 | I30: =H30*$S$4 -> 354.54545
B31: =E30 -> 117 | C31: =F30 -> 56 | D31: =G30 -> 5.61 | E31: 105 | F31: =C31+1 -> 57 | G31: 5.8 | H31: =(B31-E31)/(G31-D31) -> 63.157895 | I31: =H31*$S$4 -> 57.416268
A32: 015 | B32: 285 | C32: 30 | E32: 206 | F32: =C32+1 -> 31 | H32: =(B32-E32)/((F32-C32)*(1/$O$2)) -> 790 | I32: =H32*$S$4 -> 718.18182
B33: =E32 -> 206 | C33: =F32 -> 31 | E33: 150 | F33: =C33+1 -> 32 | H33: =(B33-E33)/((F33-C33)*(1/$O$2)) -> 560 | I33: =H33*$S$4 -> 509.09091
B34: =E33 -> 150 | C34: =F33 -> 32 | E34: 130 | F34: =C34+1 -> 33 | H34: =(B34-E34)/((F34-C34)*(1/$O$2)) -> 200 | I34: =H34*$S$4 -> 181.81818
A35: 016 | B35: 267 | C35: 25 | E35: 234 | F35: =C35+1 -> 26 | H35: =(B35-E35)/((F35-C35)*(1/$O$2)) -> 330 | I35: =H35*$S$4 -> 300
B36: =E35 -> 234 | C36: =F35 -> 26 | E36: 181 | F36: =C36+1 -> 27 | H36: =(B36-E36)/((F36-C36)*(1/$O$2)) -> 530 | I36: =H36*$S$4 -> 481.81818
B37: =E36 -> 181 | C37: =F36 -> 27 | E37: 161 | F37: =C37+1 -> 28 | H37: =(B37-E37)/((F37-C37)*(1/$O$2)) -> 200 | I37: =H37*$S$4 -> 181.81818
A38: 018 | B38: 410 | C38: 24 | E38: 350 | F38: =C38+1 -> 25 | H38: =(B38-E38)/((F38-C38)*(1/$O$2)) -> 600 | I38: =H38*$S$4 -> 545.45455
B39: =E38 -> 350 | C39: =F38 -> 25 | E39: 277 | F39: =C39+1 -> 26 | H39: =(B39-E39)/((F39-C39)*(1/$O$2)) -> 730 | I39: =H39*$S$4 -> 663.63636
B40: =E39 -> 277 | C40: =F39 -> 26 | E40: 201 | F40: =C40+1 -> 27 | H40: =(B40-E40)/((F40-C40)*(1/$O$2)) -> 760 | I40: =H40*$S$4 -> 690.90909
...

Sheet mhc_lapse_1007
A1: Animal | B1: length1 | C1: frame | D1: length2 | E1: frame | F1: px/sec | G1: um/sec | K1: Scale | S1: 1 | T1: 0.55872931 | V1: timestamp | W1: #001 | X1: =
A2: #1 | B2: 68 | C2: 22 | D2: 46 | E2: 32 | F2: =(B2-D2)/(VLOOKUP(E2,$S$1:$T$121,2,TRUE)-VLOOKUP(C2,$S$1:$T$121,2,TRUE)) -> 2.19978 | G2: =F2*$N$3 -> 4.9995 | K2: Mag | L2: px | M2: um | N2: um/px | S2: 2 | T2: 1.4127293 | V2: timestamp | W2: #002 | X2: =
B3: 65 | C3: 29 | D3: 45 | E3: 37 | F3: =(B3-D3)/(VLOOKUP(E3,$S$1:$T$121,2,TRUE)-VLOOKUP(C3,$S$1:$T$121,2,TRUE)) -> 2.4971907 | G3: =F3*$N$3 -> 5.6754333 | K3: 4 | L3: 22 | M3: 50 | N3: =M3/L3 -> 2.2727273 | S3: 3 | T3: 2.2687293 | V3: timestamp | W3: #003 | X3: =
B4: 60 | C4: 79 | D4: 41 | E4: 86 | F4: =(B4-D4)/(VLOOKUP(E4,$S$1:$T$121,2,TRUE)-VLOOKUP(C4,$S$1:$T$121,2,TRUE)) -> 2.7173913 | G4: =F4*$N$3 -> 6.1758893 | K4: 10 | L4: 55 | M4: 50 | N4: =M4/L4 -> 0.90909091 | S4: 4 | T4: 3.2177293 | V4: timestamp | W4: #004 | X4: =
B5: 69 | C5: 39 | D5: 50 | E5: 43 | F5: =(B5-D5)/(VLOOKUP(E5,$S$1:$T$121,2,TRUE)-VLOOKUP(C5,$S$1:$T$121,2,TRUE)) -> 4.7488128 | G5: =F5*$N$3 -> 10.792756 | S5: 5 | T5: 4.2237293 | V5: timestamp | W5: #005 | X5: =
B6: 59 | C6: 42 | D6: 40 | E6: 47 | F6: =(B6-D6)/(VLOOKUP(E6,$S$1:$T$121,2,TRUE)-VLOOKUP(C6,$S$1:$T$121,2,TRUE)) -> 3.8022814 | G6: =F6*$N$3 -> 8.6415486 | S6: 6 | T6: 5.2247293 | V6: timestamp | W6: #006 | X6: =
A7: #2 | B7: 69 | C7: 14 | D7: 42 | E7: 19 | F7: =(B7-D7)/(VLOOKUP(E7,$S$1:$T$121,2,TRUE)-VLOOKUP(C7,$S$1:$T$121,2,TRUE)) -> 5.4043235 | G7: =F7*$N$3 -> 12.282553 | S7: 7 | T7: 6.2237293 | V7: timestamp | W7: #007 | X7: =
B8: 84 | C8: 15 | D8: 45 | E8: 21 | F8: =(B8-D8)/(VLOOKUP(E8,$S$1:$T$121,2,TRUE)-VLOOKUP(C8,$S$1:$T$121,2,TRUE)) -> 6.4956696 | G8: =F8*$N$3 -> 14.762885 | S8: 8 | T8: 7.2187293 | V8: timestamp | W8: #008 | X8: =
B9: 78 | C9: 20 | D9: 58 | E9: 25 | F9: =(B9-D9)/(VLOOKUP(E9,$S$1:$T$121,2,TRUE)-VLOOKUP(C9,$S$1:$T$121,2,TRUE)) -> 3.996004 | G9: =F9*$N$3 -> 9.0818273 | S9: 9 | T9: 8.2247293 | V9: timestamp | W9: #009 | X9: =
B10: 79 | C10: 29 | D10: 57 | E10: 34 | F10: =(B10-D10)/(VLOOKUP(E10,$S$1:$T$121,2,TRUE)-VLOOKUP(C10,$S$1:$T$121,2,TRUE)) -> 4.4 | G10: =F10*$N$3 -> 10 | S10: 10 | T10: 9.2237293 | V10: timestamp | W10: #010 | X10: =
B11: 84 | C11: 32 | D11: 59 | E11: 38 | F11: =(B11-D11)/(VLOOKUP(E11,$S$1:$T$121,2,TRUE)-VLOOKUP(C11,$S$1:$T$121,2,TRUE)) -> 4.1631973 | G11: =F11*$N$3 -> 9.4618121 | S11: 11 | T11: 10.223729 | V11: timestamp | W11: #011 | X11: =
B12: 67 | C12: 59 | D12: 51 | E12: 63 | F12: =(B12-D12)/(VLOOKUP(E12,$S$1:$T$121,2,TRUE)-VLOOKUP(C12,$S$1:$T$121,2,TRUE)) -> 4.002001 | G12: =F12*$N$3 -> 9.0954568 | S12: 12 | T12: 11.224729 | V12: timestamp | W12: #012 | X12: =
A13: #3 | B13: 56 | C13: 33 | D13: 33 | E13: 38 | F13: =(B13-D13)/(VLOOKUP(E13,$S$1:$T$121,2,TRUE)-VLOOKUP(C13,$S$1:$T$121,2,TRUE)) -> 4.5981607 | G13: =F13*$N$3 -> 10.450365 | S13: 13 | T13: 12.222729 | V13: timestamp | W13: #013 | X13: =
B14: 54 | C14: 36 | D14: 35 | E14: 39 | F14: =(B14-D14)/(VLOOKUP(E14,$S$1:$T$121,2,TRUE)-VLOOKUP(C14,$S$1:$T$121,2,TRUE)) -> 6.3333333 | G14: =F14*$N$3 -> 14.393939 | S14: 14 | T14: 13.220729 | V14: timestamp | W14: #014 | X14: =
B15: 42 | C15: 40 | D15: 30 | E15: 43 | F15: =(B15-D15)/(VLOOKUP(E15,$S$1:$T$121,2,TRUE)-VLOOKUP(C15,$S$1:$T$121,2,TRUE)) -> 3.996004 | G15: =F15*$N$3 -> 9.0818273 | S15: 15 | T15: 14.221729 | V15: timestamp | W15: #015 | X15: =
B16: 44 | C16: 43 | D16: 31 | E16: 47 | F16: =(B16-D16)/(VLOOKUP(E16,$S$1:$T$121,2,TRUE)-VLOOKUP(C16,$S$1:$T$121,2,TRUE)) -> 3.2556975 | G16: =F16*$N$3 -> 7.3993124 | S16: 16 | T16: 15.224729 | V16: timestamp | W16: #016 | X16: =
B17: 41 | C17: 51 | D17: 30 | E17: 54 | F17: =(B17-D17)/(VLOOKUP(E17,$S$1:$T$121,2,TRUE)-VLOOKUP(C17,$S$1:$T$121,2,TRUE)) -> 3.6666667 | G17: =F17*$N$3 -> 8.3333333 | S17: 17 | T17: 16.223729 | V17: timestamp | W17: #017 | X17: =
B18: 50 | C18: 69 | D18: 34 | E18: 73 | F18: =(B18-D18)/(VLOOKUP(E18,$S$1:$T$121,2,TRUE)-VLOOKUP(C18,$S$1:$T$121,2,TRUE)) -> 3.9970022 | G18: =F18*$N$3 -> 9.084096 | S18: 18 | T18: 17.224729 | V18: timestamp | W18: #018 | X18: =
B19: 72 | C19: 71 | D19: 52 | E19: 75 | F19: =(B19-D19)/(VLOOKUP(E19,$S$1:$T$121,2,TRUE)-VLOOKUP(C19,$S$1:$T$121,2,TRUE)) -> 5.005005 | G19: =F19*$N$3 -> 11.375011 | S19: 19 | T19: 18.216729 | V19: timestamp | W19: #019 | X19: =
B20: 56 | C20: 78 | D20: 41 | E20: 82 | F20: =(B20-D20)/(VLOOKUP(E20,$S$1:$T$121,2,TRUE)-VLOOKUP(C20,$S$1:$T$121,2,TRUE)) -> 3.7537538 | G20: =F20*$N$3 -> 8.5312585 | S20: 20 | T20: 19.218729 | V20: timestamp | W20: #020 | X20: =
B21: 50 | C21: 91 | D21: 36 | E21: 94 | F21: =(B21-D21)/(VLOOKUP(E21,$S$1:$T$121,2,TRUE)-VLOOKUP(C21,$S$1:$T$121,2,TRUE)) -> 4.6666667 | G21: =F21*$N$3 -> 10.606061 | S21: 21 | T21: 20.225729 | V21: timestamp | W21: #021 | X21: =
A22: #4 | B22: 63 | C22: 31 | D22: 49 | E22: 35 | F22: =(B22-D22)/(VLOOKUP(E22,$S$1:$T$121,2,TRUE)-VLOOKUP(C22,$S$1:$T$121,2,TRUE)) -> 3.5 | G22: =F22*$N$3 -> 7.9545455 | S22: 22 | T22: 21.218729 | V22: timestamp | W22: #022 | X22: =
B23: 75 | C23: 37 | D23: 54 | E23: 42 | F23: =(B23-D23)/(VLOOKUP(E23,$S$1:$T$121,2,TRUE)-VLOOKUP(C23,$S$1:$T$121,2,TRUE)) -> 4.2025215 | G23: =F23*$N$3 -> 9.5511853 | S23: 23 | T23: 22.223729 | V23: timestamp | W23: #023 | X23: =
B24: 59 | C24: 30 | D24: 43 | E24: 33 | F24: =(B24-D24)/(VLOOKUP(E24,$S$1:$T$121,2,TRUE)-VLOOKUP(C24,$S$1:$T$121,2,TRUE)) -> 5.3244592 | G24: =F24*$N$3 -> 12.101044 | S24: 24 | T24: 23.224729 | V24: timestamp | W24: #024 | X24: =
B25: 62 | C25: 41 | D25: 50 | E25: 44 | F25: =(B25-D25)/(VLOOKUP(E25,$S$1:$T$121,2,TRUE)-VLOOKUP(C25,$S$1:$T$121,2,TRUE)) -> 4.0013338 | G25: =F25*$N$3 -> 9.0939404 | S25: 25 | T25: 24.223729 | V25: timestamp | W25: #025 | X25: =
A26: #5 | B26: 52 | C26: 81 | D26: 35 | E26: 85 | F26: =(B26-D26)/(VLOOKUP(E26,$S$1:$T$121,2,TRUE)-VLOOKUP(C26,$S$1:$T$121,2,TRUE)) -> 4.25 | G26: =F26*$N$3 -> 9.6590909 | S26: 26 | T26: 25.222729 | V26: timestamp | W26: #026 | X26: =
B27: 52 | C27: 85 | D27: 33 | E27: 89 | F27: =(B27-D27)/(VLOOKUP(E27,$S$1:$T$121,2,TRUE)-VLOOKUP(C27,$S$1:$T$121,2,TRUE)) -> 4.75 | G27: =F27*$N$3 -> 10.795455 | S27: 27 | T27: 26.223729 | V27: timestamp | W27: #027 | X27: =
B28: 55 | C28: 86 | D28: 30 | E28: 96 | F28: =(B28-D28)/(VLOOKUP(E28,$S$1:$T$121,2,TRUE)-VLOOKUP(C28,$S$1:$T$121,2,TRUE)) -> 2.4985009 | G28: =F28*$N$3 -> 5.6784111 | S28: 28 | T28: 27.223729 | V28: timestamp | W28: #028 | X28: =
S29: 29 | T29: 28.217729 | V29: timestamp | W29: #029 | X29: =
S30: 30 | T30: 29.217729 | V30: timestamp | W30: #030 | X30: =
S31: 31 | T31: 30.222729 | V31: timestamp | W31: #031 | X31: =
S32: 32 | T32: 31.219729 | V32: timestamp | W32: #032 | X32: =
S33: 33 | T33: 32.222729 | V33: timestamp | W33: #033 | X33: =
S34: 34 | T34: 33.217729 | V34: timestamp | W34: #034 | X34: =
S35: 35 | T35: 34.222729 | V35: timestamp | W35: #035 | X35: =
S36: 36 | T36: 35.226729 | V36: timestamp | W36: #036 | X36: =
S37: 37 | T37: 36.226729 | V37: timestamp | W37: #037 | X37: =
S38: 38 | T38: 37.224729 | V38: timestamp | W38: #038 | X38: =
S39: 39 | T39: 38.226729 | V39: timestamp | W39: #039 | X39: =
S40: 40 | T40: 39.224729 | V40: timestamp | W40: #040 | X40: =
...

Sheet mhc_lapse_1006
A1: Animal | B1: length1 | C1: frame | D1: length2 | E1: frame | F1: px/sec | G1: um/sec | K1: Scale | S1: 1 | T1: 0.54835048 | V1: timestamp | W1: #001 | X1: =
A2: #1 | B2: 73 | C2: 17 | D2: 58 | E2: 20 | F2: =(B2-D2)/(VLOOKUP(E2,$S$1:$T$121,2,TRUE)-VLOOKUP(C2,$S$1:$T$121,2,TRUE)) -> 5.01002 | G2: =F2*$N$3 -> 11.386409 | K2: Mag | L2: px | M2: um | N2: um/px | S2: 2 | T2: 1.4103505 | V2: timestamp | W2: #002 | X2: =
B3: 71 | C3: 30 | D3: 52 | E3: 34 | F3: =(B3-D3)/(VLOOKUP(E3,$S$1:$T$121,2,TRUE)-VLOOKUP(C3,$S$1:$T$121,2,TRUE)) -> 4.7476262 | G3: =F3*$N$3 -> 10.79006 | K3: 4 | L3: 22 | M3: 50 | N3: =M3/L3 -> 2.2727273 | S3: 3 | T3: 2.3103505 | V3: timestamp | W3: #003 | X3: =
B4: 100 | C4: 41 | D4: 74 | E4: 45 | F4: =(B4-D4)/(VLOOKUP(E4,$S$1:$T$121,2,TRUE)-VLOOKUP(C4,$S$1:$T$121,2,TRUE)) -> 6.4951287 | G4: =F4*$N$3 -> 14.761656 | K4: 10 | L4: 55 | M4: 50 | N4: =M4/L4 -> 0.90909091 | S4: 4 | T4: 3.2173505 | V4: timestamp | W4: #004 | X4: =
B5: 78 | C5: 83 | D5: 62 | E5: 86 | F5: =(B5-D5)/(VLOOKUP(E5,$S$1:$T$121,2,TRUE)-VLOOKUP(C5,$S$1:$T$121,2,TRUE)) -> 5.3422371 | G5: =F5*$N$3 -> 12.141448 | S5: 5 | T5: 4.2193505 | V5: timestamp | W5: #005 | X5: =
A6: #2 | B6: 75 | C6: 39 | D6: 62 | E6: 44 | F6: =(B6-D6)/(VLOOKUP(E6,$S$1:$T$121,2,TRUE)-VLOOKUP(C6,$S$1:$T$121,2,TRUE)) -> 2.6 | G6: =F6*$N$3 -> 5.9090909 | S6: 6 | T6: 5.2193505 | V6: timestamp | W6: #006 | X6: =
B7: 84 | C7: 88 | D7: 70 | E7: 92 | F7: =(B7-D7)/(VLOOKUP(E7,$S$1:$T$121,2,TRUE)-VLOOKUP(C7,$S$1:$T$121,2,TRUE)) -> 3.5 | G7: =F7*$N$3 -> 7.9545455 | S7: 7 | T7: 6.2183505 | V7: timestamp | W7: #007 | X7: =
B8: 90 | C8: 35 | D8: 69 | E8: 43 | F8: =(B8-D8)/(VLOOKUP(E8,$S$1:$T$121,2,TRUE)-VLOOKUP(C8,$S$1:$T$121,2,TRUE)) -> 2.6253282 | G8: =F8*$N$3 -> 5.9666549 | S8: 8 | T8: 7.2203505 | V8: timestamp | W8: #008 | X8: =
S9: 9 | T9: 8.2113505 | V9: timestamp | W9: #009 | X9: =
S10: 10 | T10: 9.2193505 | V10: timestamp | W10: #010 | X10: =
S11: 11 | T11: 10.21835 | V11: timestamp | W11: #011 | X11: =
S12: 12 | T12: 11.22035 | V12: timestamp | W12: #012 | X12: =
S13: 13 | T13: 12.21835 | V13: timestamp | W13: #013 | X13: =
S14: 14 | T14: 13.21835 | V14: timestamp | W14: #014 | X14: =
S15: 15 | T15: 14.22135 | V15: timestamp | W15: #015 | X15: =
S16: 16 | T16: 15.21935 | V16: timestamp | W16: #016 | X16: =
S17: 17 | T17: 16.22535 | V17: timestamp | W17: #017 | X17: =
S18: 18 | T18: 17.21935 | V18: timestamp | W18: #018 | X18: =
S19: 19 | T19: 18.21935 | V19: timestamp | W19: #019 | X19: =
S20: 20 | T20: 19.21935 | V20: timestamp | W20: #020 | X20: =
... S121: 121 | T121: 120.21535 | V121: timestamp | W121: #121 | X121: =

Sheet mhc_lapse_1005
A1: Animal | B1: length1 | C1: frame | D1: length2 | E1: frame | F1: px/sec | G1: um/sec | K1: Scale | S1: 1 | T1: 0.54340676 | V1: timestamp | W1: #001 | X1: =
A2: #1 | B2: 71 | C2: 39 | D2: 48 | E2: 44 | F2: =(B2-D2)/(VLOOKUP(E2,$S$1:$T$121,2,TRUE)-VLOOKUP(C2,$S$1:$T$121,2,TRUE)) -> 4.5972417 | G2: =F2*$N$3 -> 10.448276 | K2: Mag | L2: px | M2: um | N2: um/px | S2: 2 | T2: 1.4594068 | V2: timestamp | W2: #002 | X2: =
B3: 63 | C3: 106 | D3: 46 | E3: 110 | F3: =(B3-D3)/(VLOOKUP(E3,$S$1:$T$121,2,TRUE)-VLOOKUP(C3,$S$1:$T$121,2,TRUE)) -> 4.2510628 | G3: =F3*$N$3 -> 9.6615063 | K3: 4 | L3: 22 | M3: 50 | N3: =M3/L3 -> 2.2727273 | S3: 3 | T3: 2.3164068 | V3: timestamp | W3: #003 | X3: =
B4: 60 | C4: 43 | D4: 45 | E4: 48 | F4: =(B4-D4)/(VLOOKUP(E4,$S$1:$T$121,2,TRUE)-VLOOKUP(C4,$S$1:$T$121,2,TRUE)) -> 2.9994001 | G4: =F4*$N$3 -> 6.8168185 | K4: 10 | L4: 55 | M4: 50 | N4: =M4/L4 -> 0.90909091 | S4: 4 | T4: 3.2134068 | V4: timestamp | W4: #004 | X4: =
F5: =(B5-D5)/(VLOOKUP(E5,$S$1:$T$121,2,TRUE)-VLOOKUP(C5,$S$1:$T$121,2,TRUE)) -> #N/A | G5: =F5*$N$3 -> #N/A | S5: 5 | T5: 4.2144068 | V5: timestamp | W5: #005 | X5: =
S6: 6 | T6: 5.2134068 | V6: timestamp | W6: #006 | X6: =
S7: 7 | T7: 6.2074068 | V7: timestamp | W7: #007 | X7: =
S8: 8 | T8: 7.2104068 | V8: timestamp | W8: #008 | X8: =
S9: 9 | T9: 8.2114068 | V9: timestamp | W9: #009 | X9: =
S10: 10 | T10: 9.2104068 | V10: timestamp | W10: #010 | X10: =
S11: 11 | T11: 10.209407 | V11: timestamp | W11: #011 | X11: =
S12: 12 | T12: 11.209407 | V12: timestamp | W12: #012 | X12: =
S13: 13 | T13: 12.209407 | V13: timestamp | W13: #013 | X13: =
S14: 14 | T14: 13.210407 | V14: timestamp | W14: #014 | X14: =
S15: 15 | T15: 14.212407 | V15: timestamp | W15: #015 | X15: =
S16: 16 | T16: 15.213407 | V16: timestamp | W16: #016 | X16: =
S17: 17 | T17: 16.213407 | V17: timestamp | W17: #017 | X17: =
... S121: 121 | T121: 120.21441 | V121: timestamp | W121: #121 | X121: =

Sheet mhc_lapse_1003
A1: Animal | B1: length1 | C1: frame | D1: length2 | E1: frame | F1: px/sec | G1: um/sec | K1: Scale | S1: 1 | T1: 0.52383674 | V1: timestamp | W1: #001 | X1: =
A2: #1 | B2: 77 | C2: 30 | D2: 57 | E2: 41 | F2: =(B2-D2)/(VLOOKUP(E2,$S$1:$T$121,2,TRUE)-VLOOKUP(C2,$S$1:$T$121,2,TRUE)) -> 1.8195051 | G2: =F2*$N$3 -> 4.1352389 | K2: Mag | L2: px | M2: um | N2: um/px | S2: 2 | T2: 1.4068367 | V2: timestamp | W2: #002 | X2: =
B3: 64 | C3: 38 | D3: 52 | E3: 43 | F3: =(B3-D3)/(VLOOKUP(E3,$S$1:$T$121,2,TRUE)-VLOOKUP(C3,$S$1:$T$121,2,TRUE)) -> 2.3990404 | G3: =F3*$N$3 -> 5.4523645 | K3: 4 | L3: 22 | M3: 50 | N3: =M3/L3 -> 2.2727273 | S3: 3 | T3: 2.2998367 | V3: timestamp | W3: #003 | X3: =
B4: 70 | C4: 41 | D4: 50 | E4: 46 | F4: =(B4-D4)/(VLOOKUP(E4,$S$1:$T$121,2,TRUE)-VLOOKUP(C4,$S$1:$T$121,2,TRUE)) -> 3.9952058 | G4: =F4*$N$3 -> 9.0800131 | K4: 10 | L4: 55 | M4: 50 | N4: =M4/L4 -> 0.90909091 | S4: 4 | T4: 3.1958367 | V4: timestamp | W4: #004 | X4: =
B5: 86 | C5: 44 | D5: 68 | E5: 48 | F5: =(B5-D5)/(VLOOKUP(E5,$S$1:$T$121,2,TRUE)-VLOOKUP(C5,$S$1:$T$121,2,TRUE)) -> 4.491018 | G5: =F5*$N$3 -> 10.206859 | S5: 5 | T5: 4.1868367 | V5: timestamp | W5: #005 | X5: =
S6: 6 | T6: 5.1828367 | V6: timestamp | W6: #006 | X6: =
S7: 7 | T7: 6.1808367 | V7: timestamp | W7: #007 | X7: =
S8: 8 | T8: 7.1878367 | V8: timestamp | W8: #008 | X8: =
S9: 9 | T9: 8.1848367 | V9: timestamp | W9: #009 | X9: =
S10: 10 | T10: 9.1838367 | V10: timestamp | W10: #010 | X10: =
S11: 11 | T11: 10.190837 | V11: timestamp | W11: #011 | X11: =
S12: 12 | T12: 11.188837 | V12: timestamp | W12: #012 | X12: =
S13: 13 | T13: 12.187837 | V13: timestamp | W13: #013 | X13: =
S14: 14 | T14: 13.190837 | V14: timestamp | W14: #014 | X14: =
S15: 15 | T15: 14.185837 | V15: timestamp | W15: #015 | X15: =
S16: 16 | T16: 15.190837 | V16: timestamp | W16: #016 | X16: =
S17: 17 | T17: 16.186837 | V17: timestamp | W17: #017 | X17: =
... S121: 121 | T121: 120.18984 | V121: timestamp | W121: #121 | X121: =

Sheet mhc_lapse_1002
A1: Animal | B1: length1 | C1: frame | D1: length2 | E1: frame | F1: px/sec | G1: um/sec | K1: Scale | S1: 1 | T1: 0.51672587 | V1: timestamp | W1: #001 | X1: =
A2: #1 | B2: 60 | C2: 32 | D2: 34 | E2: 39 | F2: =(B2-D2)/(VLOOKUP(E2,$S$1:$T$121,2,TRUE)-VLOOKUP(C2,$S$1:$T$121,2,TRUE)) -> 3.7142857 | G2: =F2*$N$3 -> 8.4415584 | K2: Mag | L2: px | M2: um | N2: um/px | S2: 2 | T2: 1.4257259 | V2: timestamp | W2: #002 | X2: =
B3: 49 | C3: 95 | D3: 29 | E3: 103 | F3: =(B3-D3)/(VLOOKUP(E3,$S$1:$T$121,2,TRUE)-VLOOKUP(C3,$S$1:$T$121,2,TRUE)) -> 2.5 | G3: =F3*$N$3 -> 5.6818182 | K3: 4 | L3: 22 | M3: 50 | N3: =M3/L3 -> 2.2727273 | S3: 3 | T3: 2.3267259 | V3: timestamp | W3: #003 | X3: =
B4: 68 | C4: 28 | D4: 38 | E4: 34 | F4: =(B4-D4)/(VLOOKUP(E4,$S$1:$T$121,2,TRUE)-VLOOKUP(C4,$S$1:$T$121,2,TRUE)) -> 5 | G4: =F4*$N$3 -> 11.363636 | K4: 10 | L4: 55 | M4: 50 | N4: =M4/L4 -> 0.90909091 | S4: 4 | T4: 3.2117259 | V4: timestamp | W4: #004 | X4: =
B5: 60 | C5: 99 | D5: 42 | E5: 107 | F5: =(B5-D5)/(VLOOKUP(E5,$S$1:$T$121,2,TRUE)-VLOOKUP(C5,$S$1:$T$121,2,TRUE)) -> 2.2514071 | G5: =F5*$N$3 -> 5.1168344 | S5: 5 | T5: 4.1787259 | V5: timestamp | W5: #005 | X5: =
S6: 6 | T6: 5.1837259 | V6: timestamp | W6: #006 | X6: =
S7: 7 | T7: 6.1817259 | V7: timestamp | W7: #007 | X7: =
S8: 8 | T8: 7.1867259 | V8: timestamp | W8: #008 | X8: =
S9: 9 | T9: 8.1767259 | V9: timestamp | W9: #009 | X9: =
S10: 10 | T10: 9.1827259 | V10: timestamp | W10: #010 | X10: =
S11: 11 | T11: 10.177726 | V11: timestamp | W11: #011 | X11: =
S12: 12 | T12: 11.176726 | V12: timestamp | W12: #012 | X12: =
S13: 13 | T13: 12.177726 | V13: timestamp | W13: #013 | X13: =
S14: 14 | T14: 13.181726 | V14: timestamp | W14: #014 | X14: =
S15: 15 | T15: 14.177726 | V15: timestamp | W15: #015 | X15: =
S16: 16 | T16: 15.182726 | V16: timestamp | W16: #016 | X16: =
S17: 17 | T17: 16.184726 | V17: timestamp | W17: #017 | X17: =
... S121: 121 | T121: 120.18673 | V121: timestamp | W121: #121 | X121: =

Sheet mhc_lapse_1
A1: Animal | B1: length1 | C1: frame | D1: length2 | E1: frame | F1: px/sec | G1: um/sec | J1: fps | K1: Scale | S1: 1 | T1: 0.5155
A2: #1 | B2: 107 | C2: 16 | D2: 55 | E2: 25 | F2: =(B2-D2)/(VLOOKUP(E2,$S$1:$T$67,2,TRUE)-VLOOKUP(C2,$S$1:$T$67,2,TRUE)) -> 6.5179243 | G2: =F2*$N$3 -> 14.813464 | J2: 10 | K2: Mag | L2: px | M2: um | N2: um/px | S2: 2 | T2: 1.4274949
B3: 111 | C3: 18 | D3: 57 | E3: 27 | F3: =(B3-D3)/(VLOOKUP(E3,$S$1:$T$67,2,TRUE)-VLOOKUP(C3,$S$1:$T$67,2,TRUE)) -> 6.7222706 | G3: =F3*$N$3 -> 15.277888 | K3: 4 | L3: 22 | M3: 50 | N3: =M3/L3 -> 2.2727273 | S3: 3 | T3: 2.3214949
B4: 97 | C4: 24 | D4: 57 | E4: 30 | F4: =(B4-D4)/(VLOOKUP(E4,$S$1:$T$67,2,TRUE)-VLOOKUP(C4,$S$1:$T$67,2,TRUE)) -> 7.4142725 | G4: =F4*$N$3 -> 16.850619 | K4: 10 | L4: 55 | M4: 50 | N4: =M4/L4 -> 0.90909091 | S4: 4 | T4: 3.2134949
A5: #2 | B5: 107 | C5: 2 | D5: 75 | E5: 12 | F5: =(B5-D5)/(VLOOKUP(E5,$S$1:$T$67,2,TRUE)-VLOOKUP(C5,$S$1:$T$67,2,TRUE)) -> 3.5018604 | G5: =F5*$N$3 -> 7.9587736 | S5: 5 | T5: 4.1714949
S6: 6 | T6: 5.1164949
F7: =(B7-D7)/(VLOOKUP(E7,$S$1:$T$67,2,TRUE)-VLOOKUP(C7,$S$1:$T$67,2,TRUE)) -> #N/A | G7: =F7*$N$3 -> #N/A | S7: 7 | T7: 6.0664949
F8: =(B8-D8)/(VLOOKUP(E8,$S$1:$T$67,2,TRUE)-VLOOKUP(C8,$S$1:$T$67,2,TRUE)) -> #N/A | G8: =F8*$N$3 -> #N/A | S8: 8 | T8: 6.9674949
S9: 9 | T9: 7.8634949
S10: 10 | T10: 8.7654949
S11: 11 | T11: 9.6614949
S12: 12 | T12: 10.565495
S13: 13 | T13: 11.449495
S14: 14 | T14: 12.305495
S15: 15 | T15: 13.199495
S16: 16 | T16: 14.104495
S17: 17 | T17: 14.990495
S18: 18 | T18: 15.846495
S19: 19 | T19: 16.740495
S20: 20 | T20: 17.643495
... S67: 67 | T67: 59.446495

Sheet mhc_lapse_1001
A1: Animal | B1: length1 | C1: frame | D1: length2 | E1: frame | F1: px/sec | G1: um/sec | J1: fps | K1: Scale | S1: 1 | T1: 0.51151793
A2: #1 | B2: 75 | C2: 23 | D2: 45 | E2: 31 | F2: =(B2-D2)/(VLOOKUP(E2,$S$1:$T$121,2,TRUE)-VLOOKUP(C2,$S$1:$T$121,2,TRUE)) -> 3.7523452 | G2: =F2*$N$3 -> 8.5280573 | J2: 10 | K2: Mag | L2: px | M2: um | N2: um/px | S2: 2 | T2: 1.3845179
B3: 80 | C3: 80 | D3: 38 | E3: 91 | F3: =(B3-D3)/(VLOOKUP(E3,$S$1:$T$121,2,TRUE)-VLOOKUP(C3,$S$1:$T$121,2,TRUE)) -> 3.8192234 | G3: =F3*$N$3 -> 8.6800532 | K3: 4 | L3: 22 | M3: 50 | N3: =M3/L3 -> 2.2727273 | S3: 3 | T3: 2.2685179
B4: 91 | C4: 34 | D4: 51 | E4: 45 | F4: =(B4-D4)/(VLOOKUP(E4,$S$1:$T$121,2,TRUE)-VLOOKUP(C4,$S$1:$T$121,2,TRUE)) -> 3.6347115 | G4: =F4*$N$3 -> 8.2607079 | K4: 10 | L4: 55 | M4: 50 | N4: =M4/L4 -> 0.90909091 | S4: 4 | T4: 3.1705179
S5: 5 | T5: 4.1705179
S6: 6 | T6: 5.1705179
S7: 7 | T7: 6.1845179
S8: 8 | T8: 7.2035179
S9: 9 | T9: 8.1735179
S10: 10 | T10: 9.1735179
S11: 11 | T11: 10.173518
S12: 12 | T12: 11.181518
S13: 13 | T13: 12.178518
S14: 14 | T14: 13.178518
S15: 15 | T15: 14.179518
S16: 16 | T16: 15.179518
... S121: 121 | T121: 120.18052

Sheet FFT
A1: Meanampl | B1: meanF | C1: w
A2: 2798.9305 | B2: 0 | C2: =2*PI()*B2 -> 0
A3: 1064.8454 | B3: 1.25 | C3: =2*PI()*B3 -> 7.8539816 | D3: w=2pif | E3: f= | F3: 10
A4: 878.94078 | B4: 2.5 | C4: =2*PI()*B4 -> 15.707963 | E4: w= | F4: =2*PI()*F3 -> 62.831853
A5: 556.55665 | B5: 3.75 | C5: =2*PI()*B5 -> 23.561945
A6: 463.06818 | B6: 5 | C6: =2*PI()*B6 -> 31.415927
A7: 541.08062 | B7: 6.25 | C7: =2*PI()*B7 -> 39.269908
A8: 832.17003 | B8: 7.5 | C8: =2*PI()*B8 -> 47.12389
A9: 1139.4662 | B9: 8.75 | C9: =2*PI()*B9 -> 54.977871
A11: time | B11: value
A12: 0 | B12: =$A$2*SIN($C$2*A12)+$A$3*SIN($C$3*A12)+$A$4*SIN($C$4*A12)+$A$5*SIN($C$5*A12)+$A$6*SIN($C$6*A12)+$A$7*SIN($C$7*A12)+$A$8*SIN($C$8*A12)+$A$9*SIN($C$9*A12) -> 0 | C12: =$A$2*COS($C$2*A12)+$A$3*SIN($C$3*A12)+$A$4*COS($C$4*A12)+$A$5*SIN($C$5*A12)+$A$6*COS($C$6*A12)+$A$7*SIN($C$7*A12)+$A$8*COS($C$8*A12)+$A$9*SIN($C$9*A12) -> 4973.1095
A13: 0.025 | B13: =$A$2*SIN($C$2*A13)+$A$3*SIN($C$3*A13)+$A$4*SIN($C$4*A13)+$A$5*SIN($C$5*A13)+$A$6*SIN($C$6*A13)+$A$7*SIN($C$7*A13)+$A$8*SIN($C$8*A13)+$A$9*SIN($C$9*A13) -> 3517.0307 | C13: =$A$2*COS($C$2*A13)+$A$3*SIN($C$3*A13)+$A$4*COS($C$4*A13)+$A$5*SIN($C$5*A13)+$A$6*COS($C$6*A13)+$A$7*SIN($C$7*A13)+$A$8*COS($C$8*A13)+$A$9*SIN($C$9*A13) -> 6341.2733
A14: 0.05 | B14: =$A$2*SIN($C$2*A14)+$A$3*SIN($C$3*A14)+$A$4*SIN($C$4*A14)+$A$5*SIN($C$5*A14)+$A$6*SIN($C$6*A14)+$A$7*SIN($C$7*A14)+$A$8*SIN($C$8*A14)+$A$9*SIN($C$9*A14) -> 3530.6444 | C14: =$A$2*COS($C$2*A14)+$A$3*SIN($C$3*A14)+$A$4*COS($C$4*A14)+$A$5*SIN($C$5*A14)+$A$6*COS($C$6*A14)+$A$7*SIN($C$7*A14)+$A$8*COS($C$8*A14)+$A$9*SIN($C$9*A14) -> 4689.6405
A15: 0.075 | B15: =$A$2*SIN($C$2*A15)+$A$3*SIN($C$3*A15)+$A$4*SIN($C$4*A15)+$A$5*SIN($C$5*A15)+$A$6*SIN($C$6*A15)+$A$7*SIN($C$7*A15)+$A$8*SIN($C$8*A15)+$A$9*SIN($C$9*A15) -> 1116.6034 | C15: =$A$2*COS($C$2*A15)+$A$3*SIN($C$3*A15)+$A$4*COS($C$4*A15)+$A$5*SIN($C$5*A15)+$A$6*COS($C$6*A15)+$A$7*SIN($C$7*A15)+$A$8*COS($C$8*A15)+$A$9*SIN($C$9*A15) -> 2334.6101
A16: 0.1 | B16: =$A$2*SIN($C$2*A16)+$A$3*SIN($C$3*A16)+$A$4*SIN($C$4*A16)+$A$5*SIN($C$5*A16)+$A$6*SIN($C$6*A16)+$A$7*SIN($C$7*A16)+$A$8*SIN($C$8*A16)+$A$9*SIN($C$9*A16) -> 4.9490454 | C16: =$A$2*COS($C$2*A16)+$A$3*SIN($C$3*A16)+$A$4*COS($C$4*A16)+$A$5*SIN($C$5*A16)+$A$6*COS($C$6*A16)+$A$7*SIN($C$7*A16)+$A$8*COS($C$8*A16)+$A$9*SIN($C$9*A16) -> 2294.0406
A17: 0.125 | B17: =$A$2*SIN($C$2*A17)+$A$3*SIN($C$3*A17)+$A$4*SIN($C$4*A17)+$A$5*SIN($C$5*A17)+$A$6*SIN($C$6*A17)+$A$7*SIN($C$7*A17)+$A$8*SIN($C$8*A17)+$A$9*SIN($C$9*A17) -> 1262.474 | C17: =$A$2*COS($C$2*A17)+$A$3*SIN($C$3*A17)+$A$4*COS($C$4*A17)+$A$5*SIN($C$5*A17)+$A$6*COS($C$6*A17)+$A$7*SIN($C$7*A17)+$A$8*COS($C$8*A17)+$A$9*SIN($C$9*A17) -> 4000.2956
A18: 0.15 | B18: =$A$2*SIN($C$2*A18)+$A$3*SIN($C$3*A18)+$A$4*SIN($C$4*A18)+$A$5*SIN($C$5*A18)+$A$6*SIN($C$6*A18)+$A$7*SIN($C$7*A18)+$A$8*SIN($C$8*A18)+$A$9*SIN($C$9*A18) -> 2363.3406 | C18: =$A$2*COS($C$2*A18)+$A$3*SIN($C$3*A18)+$A$4*COS($C$4*A18)+$A$5*SIN($C$5*A18)+$A$6*COS($C$6*A18)+$A$7*SIN($C$7*A18)+$A$8*COS($C$8*A18)+$A$9*SIN($C$9*A18) -> 4382.3293
A19: 0.175 | B19: =$A$2*SIN($C$2*A19)+$A$3*SIN($C$3*A19)+$A$4*SIN($C$4*A19)+$A$5*SIN($C$5*A19)+$A$6*SIN($C$6*A19)+$A$7*SIN($C$7*A19)+$A$8*SIN($C$8*A19)+$A$9*SIN($C$9*A19) -> 1437.6765 | C19: =$A$2*COS($C$2*A19)+$A$3*SIN($C$3*A19)+$A$4*COS($C$4*A19)+$A$5*SIN($C$5*A19)+$A$6*COS($C$6*A19)+$A$7*SIN($C$7*A19)+$A$8*COS($C$8*A19)+$A$9*SIN($C$9*A19) -> 2655.8102
A20: 0.2 | B20: =$A$2*SIN($C$2*A20)+$A$3*SIN($C$3*A20)+$A$4*SIN($C$4*A20)+$A$5*SIN($C$5*A20)+$A$6*SIN($C$6*A20)+$A$7*SIN($C$7*A20)+$A$8*SIN($C$8*A20)+$A$9*SIN($C$9*A20) -> -90.096862 | C20: =$A$2*COS($C$2*A20)+$A$3*SIN($C$3*A20)+$A$4*COS($C$4*A20)+$A$5*SIN($C$5*A20)+$A$6*COS($C$6*A20)+$A$7*SIN($C$7*A20)+$A$8*COS($C$8*A20)+$A$9*SIN($C$9*A20) -> 1460.791
A21: 0.225 | B21: =$A$2*SIN($C$2*A21)+$A$3*SIN($C$3*A21)+$A$4*SIN($C$4*A21)+$A$5*SIN($C$5*A21)+$A$6*SIN($C$6*A21)+$A$7*SIN($C$7*A21)+$A$8*SIN($C$8*A21)+$A$9*SIN($C$9*A21) -> -117.80811 | C21: =$A$2*COS($C$2*A21)+$A$3*SIN($C$3*A21)+$A$4*COS($C$4*A21)+$A$5*SIN($C$5*A21)+$A$6*COS($C$6*A21)+$A$7*SIN($C$7*A21)+$A$8*COS($C$8*A21)+$A$9*SIN($C$9*A21) -> 2655.8102
A22: 0.25 | B22: =$A$2*SIN($C$2*A22)+$A$3*SIN($C$3*A22)+$A$4*SIN($C$4*A22)+$A$5*SIN($C$5*A22)+$A$6*SIN($C$6*A22)+$A$7*SIN($C$7*A22)+$A$8*SIN($C$8*A22)+$A$9*SIN($C$9*A22) -> 869.60085 | C22: =$A$2*COS($C$2*A22)+$A$3*SIN($C$3*A22)+$A$4*COS($C$4*A22)+$A$5*SIN($C$5*A22)+$A$6*COS($C$6*A22)+$A$7*SIN($C$7*A22)+$A$8*COS($C$8*A22)+$A$9*SIN($C$9*A22) -> 4382.3293
A23: 0.275 | B23: =$A$2*SIN($C$2*A23)+$A$3*SIN($C$3*A23)+$A$4*SIN($C$4*A23)+$A$5*SIN($C$5*A23)+$A$6*SIN($C$6*A23)+$A$7*SIN($C$7*A23)+$A$8*SIN($C$8*A23)+$A$9*SIN($C$9*A23) -> 930.1959 | C23: =$A$2*COS($C$2*A23)+$A$3*SIN($C$3*A23)+$A$4*COS($C$4*A23)+$A$5*SIN($C$5*A23)+$A$6*COS($C$6*A23)+$A$7*SIN($C$7*A23)+$A$8*COS($C$8*A23)+$A$9*SIN($C$9*A23) -> 4000.2956
... A60: 1.2 | B60: =$A$2*SIN($C$2*A60)+$A$3*SIN($C$3*A60)+$A$4*SIN($C$4*A60)+$A$5*SIN($C$5*A60)+$A$6*SIN($C$6*A60)+$A$7*SIN($C$7*A60)+$A$8*SIN($C$8*A60)+$A$9*SIN($C$9*A60) -> 8.0556441e-12 | C60: =$A$2*COS($C$2*A60)+$A$3*SIN($C$3*A60)+$A$4*COS($C$4*A60)+$A$5*SIN($C$5*A60)+$A$6*COS($C$6*A60)+$A$7*SIN($C$7*A60)+$A$8*COS($C$8*A60)+$A$9*SIN($C$9*A60) -> 4973.1095

Sheet FFT_example1
C1: w | G1: 0
A2: =IMABS(I2) -> 8 | B2: =E2 -> 0 | C2: =2*PI()*B2 -> 0 | E2: =(10/2)/(16/2)*G1*10 -> 0 | G2: 0.1 | H2: 1 | I2: 8
A3: =IMABS(I3) -> 0 | B3: =E3 -> 0.625 | C3: =2*PI()*B3 -> 3.9269908 | E3: =(10/2)/(16/2)*G2*10 -> 0.625 | G3: 0.2 | H3: 1 | I3: 0 | M3: w=2pif | N3: f= | O3: 10
A4: =IMABS(I4) -> 482842712474619 | B4: =E4 -> 1.25 | C4: =2*PI()*B4 -> 7.8539816 | E4: =(10/2)/(16/2)*G3*10 -> 1.25 | G4: 0.3 | H4: 1 | I4: 2-4,82842712474619i | N4: w= | O4: =2*PI()*O3 -> 62.831853
A5: =IMABS(I5) -> 0 | B5: =E5 -> 1.875 | C5: =2*PI()*B5 -> 11.780972 | E5: =(10/2)/(16/2)*G4*10 -> 1.875 | G5: 0.4 | H5: 1 | I5: 0
A6: =IMABS(I6) -> 0 | B6: =E6 -> 2.5 | C6: =2*PI()*B6 -> 15.707963 | E6: =(10/2)/(16/2)*G5*10 -> 2.5 | G6: 0.5 | H6: 0 | I6: 0
A7: =IMABS(I7) -> 0 | B7: =E7 -> 3.125 | C7: =2*PI()*B7 -> 19.634954 | E7: =(10/2)/(16/2)*G6*10 -> 3.125 | G7: 0.6 | H7: 0 | I7: 0
A8: =IMABS(I8) -> #NUM! | B8: =E8 -> 3.75 | C8: =2*PI()*B8 -> 23.561945 | E8: =(10/2)/(16/2)*G7*10 -> 3.75 | G8: 0.7 | H8: 0 | I8: 2-0,828427124746192i
A9: =IMABS(I9) -> 0 | B9: =E9 -> 4.375 | C9: =2*PI()*B9 -> 27.488936 | E9: =(10/2)/(16/2)*G8*10 -> 4.375 | G9: 0.8 | H9: 0 | I9: 0
A10: =IMABS(I10) -> 0 | B10: =E10 -> 5 | C10: =2*PI()*B10 -> 31.415927 | E10: =(10/2)/(16/2)*G9*10 -> 5 | G10: 0.9 | H10: 1 | I10: 0
A11: =IMABS(I11) -> 0 | B11: =E11 -> 5.625 | C11: =2*PI()*B11 -> 35.342917 | E11: =(10/2)/(16/2)*G10*10 -> 5.625 | G11: 1 | H11: 1 | I11: 0
A12: =IMABS(I12) -> #NUM! | B12: =E12 -> 6.25 | C12: =2*PI()*B12 -> 39.269908 | E12: =(10/2)/(16/2)*G11*10 -> 6.25 | G12: 1.1 | H12: 1 | I12: 2+0,828427124746189i
A13: =IMABS(I13) -> 0 | B13: =E13 -> 6.875 | C13: =2*PI()*B13 -> 43.196899 | E13: =(10/2)/(16/2)*G12*10 -> 6.875 | G13: 1.2 | H13: 1 | I13: 0
A14: =IMABS(I14) -> 0 | B14: =E14 -> 7.5 | C14: =2*PI()*B14 -> 47.12389 | E14: =(10/2)/(16/2)*G13*10 -> 7.5 | G14: 1.3 | H14: 0 | I14: 0
A15: =IMABS(I15) -> 0 | B15: =E15 -> 8.125 | C15: =2*PI()*B15 -> 51.050881 | E15: =(10/2)/(16/2)*G14*10 -> 8.125 | G15: 1.4 | H15: 0 | I15: 0
A16: =IMABS(I16) -> 5.2262519e+14 | B16: =E16 -> 8.75 | C16: =2*PI()*B16 -> 54.977871 | E16: =(10/2)/(16/2)*G15*10 -> 8.75 | G16: 1.5 | H16: 0 | I16: 2,00000000000001+4,82842712474619i
A17: =IMABS(I17) -> 0 | B17: =E17 -> 9.375 | C17: =2*PI()*B17 -> 58.904862 | E17: =(10/2)/(16/2)*G16*10 -> 9.375 | G17: 1.6 | H17: 0 | I17: 0
E18: =(10/2)/(16/2)*G17*10 -> 10
A25: 0 | B25: =$A$2*COS($C$2*A25)+$A$3*SIN($C$3*A25)+$A$4*SIN($C$4*A25)+$A$5*SIN($C$5*A25)+$A$6*SIN($C$6*A25)+$A$7*SIN($C$7*A25)+$A$8*SIN($C$8*A25)+$A$9*SIN($C$9*A25)+$A$10*SIN($C$10*A25)+$A$11*SIN($C$11*A25)+$A$12*SIN($C$12*A25)+$A$13*SIN($C$13*A25) -> #NUM!
A26: 0.025 | B26: =$A$2*SIN($C$2*A26)+$A$3*SIN($C$3*A26)+$A$4*SIN($C$4*A26)+$A$5*SIN($C$5*A26)+$A$6*SIN($C$6*A26)+$A$7*SIN($C$7*A26)+$A$8*SIN($C$8*A26)+$A$9*SIN($C$9*A26)+$A$10*SIN($C$10*A26)+$A$11*SIN($C$11*A26)+$A$12*SIN($C$12*A26)+$A$13*SIN($C$13*A26)+$A$14*SIN($C$14*A26)+$A$15*SIN($C$15*A26)+$A$16*SIN($C$16*A26)+$A$17*SIN($C$17*A26) -> #NUM!
A27: 0.05 | B27: =$A$2*SIN($C$2*A27)+$A$3*SIN($C$3*A27)+$A$4*SIN($C$4*A27)+$A$5*SIN($C$5*A27)+$A$6*SIN($C$6*A27)+$A$7*SIN($C$7*A27)+$A$8*SIN($C$8*A27)+$A$9*SIN($C$9*A27)+$A$10*SIN($C$10*A27)+$A$11*SIN($C$11*A27)+$A$12*SIN($C$12*A27)+$A$13*SIN($C$13*A27)+$A$14*SIN($C$14*A27)+$A$15*SIN($C$15*A27)+$A$16*SIN($C$16*A27)+$A$17*SIN($C$17*A27) -> #NUM!
A28: 0.075 | B28: =$A$2*SIN($C$2*A28)+$A$3*SIN($C$3*A28)+$A$4*SIN($C$4*A28)+$A$5*SIN($C$5*A28)+$A$6*SIN($C$6*A28)+$A$7*SIN($C$7*A28)+$A$8*SIN($C$8*A28)+$A$9*SIN($C$9*A28)+$A$10*SIN($C$10*A28)+$A$11*SIN($C$11*A28)+$A$12*SIN($C$12*A28)+$A$13*SIN($C$13*A28)+$A$14*SIN($C$14*A28)+$A$15*SIN($C$15*A28)+$A$16*SIN($C$16*A28)+$A$17*SIN($C$17*A28) -> #NUM!
A29: 0.1 | B29: =$A$2*SIN($C$2*A29)+$A$3*SIN($C$3*A29)+$A$4*SIN($C$4*A29)+$A$5*SIN($C$5*A29)+$A$6*SIN($C$6*A29)+$A$7*SIN($C$7*A29)+$A$8*SIN($C$8*A29)+$A$9*SIN($C$9*A29)+$A$10*SIN($C$10*A29)+$A$11*SIN($C$11*A29)+$A$12*SIN($C$12*A29)+$A$13*SIN($C$13*A29)+$A$14*SIN($C$14*A29)+$A$15*SIN($C$15*A29)+$A$16*SIN($C$16*A29)+$A$17*SIN($C$17*A29) -> #NUM!
A30: 0.125 | B30: =$A$2*SIN($C$2*A30)+$A$3*SIN($C$3*A30)+$A$4*SIN($C$4*A30)+$A$5*SIN($C$5*A30)+$A$6*SIN($C$6*A30)+$A$7*SIN($C$7*A30)+$A$8*SIN($C$8*A30)+$A$9*SIN($C$9*A30)+$A$10*SIN($C$10*A30)+$A$11*SIN($C$11*A30)+$A$12*SIN($C$12*A30)+$A$13*SIN($C$13*A30)+$A$14*SIN($C$14*A30)+$A$15*SIN($C$15*A30)+$A$16*SIN($C$16*A30)+$A$17*SIN($C$17*A30) -> #NUM!
A31: 0.15 | B31: =$A$2*SIN($C$2*A31)+$A$3*SIN($C$3*A31)+$A$4*SIN($C$4*A31)+$A$5*SIN($C$5*A31)+$A$6*SIN($C$6*A31)+$A$7*SIN($C$7*A31)+$A$8*SIN($C$8*A31)+$A$9*SIN($C$9*A31)+$A$10*SIN($C$10*A31)+$A$11*SIN($C$11*A31)+$A$12*SIN($C$12*A31)+$A$13*SIN($C$13*A31)+$A$14*SIN($C$14*A31)+$A$15*SIN($C$15*A31)+$A$16*SIN($C$16*A31)+$A$17*SIN($C$17*A31) -> #NUM!
A32: 0.175 | B32: =$A$2*SIN($C$2*A32)+$A$3*SIN($C$3*A32)+$A$4*SIN($C$4*A32)+$A$5*SIN($C$5*A32)+$A$6*SIN($C$6*A32)+$A$7*SIN($C$7*A32)+$A$8*SIN($C$8*A32)+$A$9*SIN($C$9*A32)+$A$10*SIN($C$10*A32)+$A$11*SIN($C$11*A32)+$A$12*SIN($C$12*A32)+$A$13*SIN($C$13*A32)+$A$14*SIN($C$14*A32)+$A$15*SIN($C$15*A32)+$A$16*SIN($C$16*A32)+$A$17*SIN($C$17*A32) -> #NUM!
A33: 0.2 | B33: =$A$2*SIN($C$2*A33)+$A$3*SIN($C$3*A33)+$A$4*SIN($C$4*A33)+$A$5*SIN($C$5*A33)+$A$6*SIN($C$6*A33)+$A$7*SIN($C$7*A33)+$A$8*SIN($C$8*A33)+$A$9*SIN($C$9*A33)+$A$10*SIN($C$10*A33)+$A$11*SIN($C$11*A33)+$A$12*SIN($C$12*A33)+$A$13*SIN($C$13*A33)+$A$14*SIN($C$14*A33)+$A$15*SIN($C$15*A33)+$A$16*SIN($C$16*A33)+$A$17*SIN($C$17*A33) -> #NUM!
A34: 0.225 | B34: =$A$2*SIN($C$2*A34)+$A$3*SIN($C$3*A34)+$A$4*SIN($C$4*A34)+$A$5*SIN($C$5*A34)+$A$6*SIN($C$6*A34)+$A$7*SIN($C$7*A34)+$A$8*SIN($C$8*A34)+$A$9*SIN($C$9*A34)+$A$10*SIN($C$10*A34)+$A$11*SIN($C$11*A34)+$A$12*SIN($C$12*A34)+$A$13*SIN($C$13*A34)+$A$14*SIN($C$14*A34)+$A$15*SIN($C$15*A34)+$A$16*SIN($C$16*A34)+$A$17*SIN($C$17*A34) -> #NUM!
A35: 0.25 | B35: =$A$2*SIN($C$2*A35)+$A$3*SIN($C$3*A35)+$A$4*SIN($C$4*A35)+$A$5*SIN($C$5*A35)+$A$6*SIN($C$6*A35)+$A$7*SIN($C$7*A35)+$A$8*SIN($C$8*A35)+$A$9*SIN($C$9*A35)+$A$10*SIN($C$10*A35)+$A$11*SIN($C$11*A35)+$A$12*SIN($C$12*A35)+$A$13*SIN($C$13*A35)+$A$14*SIN($C$14*A35)+$A$15*SIN($C$15*A35)+$A$16*SIN($C$16*A35)+$A$17*SIN($C$17*A35) -> #NUM!
A36: 0.275 | B36: =$A$2*SIN($C$2*A36)+$A$3*SIN($C$3*A36)+$A$4*SIN($C$4*A36)+$A$5*SIN($C$5*A36)+$A$6*SIN($C$6*A36)+$A$7*SIN($C$7*A36)+$A$8*SIN($C$8*A36)+$A$9*SIN($C$9*A36)+$A$10*SIN($C$10*A36)+$A$11*SIN($C$11*A36)+$A$12*SIN($C$12*A36)+$A$13*SIN($C$13*A36)+$A$14*SIN($C$14*A36)+$A$15*SIN($C$15*A36)+$A$16*SIN($C$16*A36)+$A$17*SIN($C$17*A36) -> #NUM!
A37: 0.3 | B37: =$A$2*SIN($C$2*A37)+$A$3*SIN($C$3*A37)+$A$4*SIN($C$4*A37)+$A$5*SIN($C$5*A37)+$A$6*SIN($C$6*A37)+$A$7*SIN($C$7*A37)+$A$8*SIN($C$8*A37)+$A$9*SIN($C$9*A37)+$A$10*SIN($C$10*A37)+$A$11*SIN($C$11*A37)+$A$12*SIN($C$12*A37)+$A$13*SIN($C$13*A37)+$A$14*SIN($C$14*A37)+$A$15*SIN($C$15*A37)+$A$16*SIN($C$16*A37)+$A$17*SIN($C$17*A37) -> #NUM!
... A63: 0.95 | B63: =$A$2*SIN($C$2*A63)+$A$3*SIN($C$3*A63)+$A$4*SIN($C$4*A63)+$A$5*SIN($C$5*A63)+$A$6*SIN($C$6*A63)+$A$7*SIN($C$7*A63)+$A$8*SIN($C$8*A63)+$A$9*SIN($C$9*A63)+$A$10*SIN($C$10*A63)+$A$11*SIN($C$11*A63)+$A$12*SIN($C$12*A63)+$A$13*SIN($C$13*A63)+$A$14*SIN($C$14*A63)+$A$15*SIN($C$15*A63)+$A$16*SIN($C$16*A63)+$A$17*SIN($C$17*A63) -> #NUM!

Sheet FFT_example2
C1: w | G1: f | H1: 1 | I1: Hz
A2: =IMABS(I3) -> 6.4758911e+14 | B2: =E2 -> 0 | C2: =2*PI()*B2 -> 0 | E2: =($O$3/2)/(32/2)*G2*$O$3 -> 0 | G2: 0 | H2: =3*SIN(2*PI()*$H$1*G2) -> 0 | I2: 18,0142035609003
A3: =IMABS(I4) -> 3.244208e+14 | B3: =E3 -> 0.625 | C3: =2*PI()*B3 -> 3.9269908 | E3: =($O$3/2)/(32/2)*G3*$O$3 -> 0.625 | G3: 0.05 | H3: =3*SIN(2*PI()*$H$1*G3) -> 0.92705098 | I3: 29,0875423575008+5,78587191158654i | M3: w=2pif | N3: f= | O3: 20
A4: =IMABS(I5) -> 737269591403758 | B4: =E4 -> 1.25 | C4: =2*PI()*B4 -> 7.8539816 | E4: =($O$3/2)/(32/2)*G4*$O$3 -> 1.25 | G4: 0.1 | H4: =3*SIN(2*PI()*$H$1*G4) -> 1.7633558 | I4: -29,9725735804814-12,4150464762609i
A5: =IMABS(I6) -> 3.6141785e+14 | B5: =E5 -> 1.875 | C5: =2*PI()*B5 -> 11.780972 | E5: =($O$3/2)/(32/2)*G5*$O$3 -> 1.875 | G5: 0.15 | H5: =3*SIN(2*PI()*$H$1*G5) -> 2.427051 | I5: -6,13017261326939-4,09605038694452i
A6: =IMABS(I7) -> 1.8577712e+14 | B6: =E6 -> 2.5 | C6: =2*PI()*B6 -> 15.707963 | E6: =($O$3/2)/(32/2)*G6*$O$3 -> 2.5 | G6: 0.2 | H6: =3*SIN(2*PI()*$H$1*G6) -> 2.8531695 | I6: -2,55561009889446-2,55561009889445i
A7: =IMABS(I8) -> #NUM! | B7: =E7 -> 3.125 | C7: =2*PI()*B7 -> 19.634954 | E7: =($O$3/2)/(32/2)*G7*$O$3 -> 3.125 | G7: 0.25 | H7: =3*SIN(2*PI()*$H$1*G7) -> 3 | I7: -1,2385612474735-1,85363790038299i
A8: =IMABS(I9) -> #NUM! | B8: =E8 -> 3.75 | C8: =2*PI()*B8 -> 23.561945 | E8: =($O$3/2)/(32/2)*G8*$O$3 -> 3.75 | G8: 0.3 | H8: =3*SIN(2*PI()*$H$1*G8) -> 2.8531695 | I8: -0,593630357068112-1,43315045907018i
A9: =IMABS(I10) -> #NUM! | B9: =E9 -> 4.375 | C9: =2*PI()*B9 -> 27.488936 | E9: =($O$3/2)/(32/2)*G9*$O$3 -> 4.375 | G9: 0.35 | H9: =3*SIN(2*PI()*$H$1*G9) -> 2.427051 | I9: -0,227532424757621-1,14388274472318i
A10: =IMABS(I11) -> #NUM! | B10: =E10 -> 5 | C10: =2*PI()*B10 -> 31.415927 | E10: =($O$3/2)/(32/2)*G10*$O$3 -> 5 | G10: 0.4 | H10: =3*SIN(2*PI()*$H$1*G10) -> 1.7633558 | I10: -0,927050983124844i
A11: =IMABS(I12) -> #NUM! | B11: =E11 -> 5.625 | C11: =2*PI()*B11 -> 35.342917 | E11: =($O$3/2)/(32/2)*G11*$O$3 -> 5.625 | G11: 0.45 | H11: =3*SIN(2*PI()*$H$1*G11) -> 0.92705098 | I11: 0,150073983079286-0,75447286187512i
A12: =IMABS(I13) -> #NUM! | B12: =E12 -> 6.25 | C12: =2*PI()*B12 -> 39.269908 | E12: =($O$3/2)/(32/2)*G12*$O$3 -> 6.25 | G12: 0.5 | H12: =3*SIN(2*PI()*$H$1*G12) -> 3.6754454e-16 | I12: 0,25297548978736-0,610736858392628i
A13: =IMABS(I14) -> #NUM! | B13: =E13 -> 6.875 | C13: =2*PI()*B13 -> 43.196899 | E13: =($O$3/2)/(32/2)*G13*$O$3 -> 6.875 | G13: 0.55 | H13: =3*SIN(2*PI()*$H$1*G13) -> -0.92705098 | I13: 0,325119665235736-0,48657596454768i
A14: =IMABS(I15) -> #NUM! | B14: =E14 -> 7.5 | C14: =2*PI()*B14 -> 47.12389 | E14: =($O$3/2)/(32/2)*G14*$O$3 -> 7.5 | G14: 0.6 | H14: =3*SIN(2*PI()*$H$1*G14) -> -1.7633558 | I14: 0,375982514878369-0,375982514878374i
A15: =IMABS(I16) -> #NUM! | B15: =E15 -> 8.125 | C15: =2*PI()*B15 -> 51.050881 | E15: =($O$3/2)/(32/2)*G15*$O$3 -> 8.125 | G15: 0.65 | H15: =3*SIN(2*PI()*$H$1*G15) -> -2.427051 | I15: 0,411263740822628-0,274797646168459i
... A32: =IMABS(I33) -> 6.4758911e+14 | B32: =E32 -> 18.75 | C32: =2*PI()*B32 -> 117.80972 | E32: =($O$3/2)/(32/2)*G32*$O$3 -> 18.75 | G32: 1.5 | H32: =3*SIN(2*PI()*$H$1*G32) -> 1.1026336e-15 | I32: -29,9725735804814+12,415046476261i
A33: =IMABS(I34) -> 0 | B33: =E33 -> 4.84375 | C33: =2*PI()*B33 -> 30.434179 | E33: =(10/2)/(32/2)*G33*10 -> 4.84375 | G33: 1.55 | H33: =3*SIN(2*PI()*$H$1*G33) -> -0.92705098 | I33: 29,0875423575008-5,78587191158662i
A40: 0 | B40: =$A$2*SIN($C$2*A40)+$A$3*SIN($C$3*A40)+$A$4*SIN($C$4*A40)+$A$5*SIN($C$5*A40)+$A$6*SIN($C$6*A40)+$A$7*SIN($C$7*A40)+$A$8*SIN($C$8*A40)+$A$9*SIN($C$9*A40)+$A$10*SIN($C$10*A40)+$A$11*SIN($C$11*A40)+$A$12*SIN($C$12*A40)+$A$13*SIN($C$13*A40) -> #NUM!
A41: 0.025 | B41: =$A$2*SIN($C$2*A41)+$A$3*SIN($C$3*A41)+$A$4*SIN($C$4*A41)+$A$5*SIN($C$5*A41)+$A$6*SIN($C$6*A41)+$A$7*SIN($C$7*A41)+$A$8*SIN($C$8*A41)+$A$9*SIN($C$9*A41)+$A$10*SIN($C$10*A41)+$A$11*SIN($C$11*A41)+$A$12*SIN($C$12*A41)+$A$13*SIN($C$13*A41) -> #NUM!
A42: 0.05 | B42: =$A$2*SIN($C$2*A42)+$A$3*SIN($C$3*A42)+$A$4*SIN($C$4*A42)+$A$5*SIN($C$5*A42)+$A$6*SIN($C$6*A42)+$A$7*SIN($C$7*A42)+$A$8*SIN($C$8*A42)+$A$9*SIN($C$9*A42)+$A$10*SIN($C$10*A42)+$A$11*SIN($C$11*A42)+$A$12*SIN($C$12*A42)+$A$13*SIN($C$13*A42) -> #NUM!
A43: 0.075 | B43: =$A$2*SIN($C$2*A43)+$A$3*SIN($C$3*A43)+$A$4*SIN($C$4*A43)+$A$5*SIN($C$5*A43)+$A$6*SIN($C$6*A43)+$A$7*SIN($C$7*A43)+$A$8*SIN($C$8*A43)+$A$9*SIN($C$9*A43)+$A$10*SIN($C$10*A43)+$A$11*SIN($C$11*A43)+$A$12*SIN($C$12*A43)+$A$13*SIN($C$13*A43) -> #NUM!
A44: 0.1 | B44: =$A$2*SIN($C$2*A44)+$A$3*SIN($C$3*A44)+$A$4*SIN($C$4*A44)+$A$5*SIN($C$5*A44)+$A$6*SIN($C$6*A44)+$A$7*SIN($C$7*A44)+$A$8*SIN($C$8*A44)+$A$9*SIN($C$9*A44)+$A$10*SIN($C$10*A44)+$A$11*SIN($C$11*A44)+$A$12*SIN($C$12*A44)+$A$13*SIN($C$13*A44) -> #NUM!
A45: 0.125 | B45: =$A$2*SIN($C$2*A45)+$A$3*SIN($C$3*A45)+$A$4*SIN($C$4*A45)+$A$5*SIN($C$5*A45)+$A$6*SIN($C$6*A45)+$A$7*SIN($C$7*A45)+$A$8*SIN($C$8*A45)+$A$9*SIN($C$9*A45)+$A$10*SIN($C$10*A45)+$A$11*SIN($C$11*A45)+$A$12*SIN($C$12*A45)+$A$13*SIN($C$13*A45) -> #NUM!
A46: 0.15 | B46: =$A$2*SIN($C$2*A46)+$A$3*SIN($C$3*A46)+$A$4*SIN($C$4*A46)+$A$5*SIN($C$5*A46)+$A$6*SIN($C$6*A46)+$A$7*SIN($C$7*A46)+$A$8*SIN($C$8*A46)+$A$9*SIN($C$9*A46)+$A$10*SIN($C$10*A46)+$A$11*SIN($C$11*A46)+$A$12*SIN($C$12*A46)+$A$13*SIN($C$13*A46) -> #NUM!
A47: 0.175 | B47: =$A$2*SIN($C$2*A47)+$A$3*SIN($C$3*A47)+$A$4*SIN($C$4*A47)+$A$5*SIN($C$5*A47)+$A$6*SIN($C$6*A47)+$A$7*SIN($C$7*A47)+$A$8*SIN($C$8*A47)+$A$9*SIN($C$9*A47)+$A$10*SIN($C$10*A47)+$A$11*SIN($C$11*A47)+$A$12*SIN($C$12*A47)+$A$13*SIN($C$13*A47) -> #NUM!
A48: 0.2 | B48: =$A$2*SIN($C$2*A48)+$A$3*SIN($C$3*A48)+$A$4*SIN($C$4*A48)+$A$5*SIN($C$5*A48)+$A$6*SIN($C$6*A48)+$A$7*SIN($C$7*A48)+$A$8*SIN($C$8*A48)+$A$9*SIN($C$9*A48)+$A$10*SIN($C$10*A48)+$A$11*SIN($C$11*A48)+$A$12*SIN($C$12*A48)+$A$13*SIN($C$13*A48) -> #NUM!
A49: 0.225 | B49: =$A$2*SIN($C$2*A49)+$A$3*SIN($C$3*A49)+$A$4*SIN($C$4*A49)+$A$5*SIN($C$5*A49)+$A$6*SIN($C$6*A49)+$A$7*SIN($C$7*A49)+$A$8*SIN($C$8*A49)+$A$9*SIN($C$9*A49)+$A$10*SIN($C$10*A49)+$A$11*SIN($C$11*A49)+$A$12*SIN($C$12*A49)+$A$13*SIN($C$13*A49) -> #NUM!
A50: 0.25 | B50: =$A$2*SIN($C$2*A50)+$A$3*SIN($C$3*A50)+$A$4*SIN($C$4*A50)+$A$5*SIN($C$5*A50)+$A$6*SIN($C$6*A50)+$A$7*SIN($C$7*A50)+$A$8*SIN($C$8*A50)+$A$9*SIN($C$9*A50)+$A$10*SIN($C$10*A50)+$A$11*SIN($C$11*A50)+$A$12*SIN($C$12*A50)+$A$13*SIN($C$13*A50) -> #NUM!
A51: 0.275 | B51: =$A$2*SIN($C$2*A51)+$A$3*SIN($C$3*A51)+$A$4*SIN($C$4*A51)+$A$5*SIN($C$5*A51)+$A$6*SIN($C$6*A51)+$A$7*SIN($C$7*A51)+$A$8*SIN($C$8*A51)+$A$9*SIN($C$9*A51)+$A$10*SIN($C$10*A51)+$A$11*SIN($C$11*A51)+$A$12*SIN($C$12*A51)+$A$13*SIN($C$13*A51) -> #NUM!
