Workbook

Sheet Figure 1d melanogaster males
A1: d | B1: da1 | C1: da2 | D1: da3 | E1: da4l | F1: da4m | G1: dc1 | H1: dc2 | I1: dc3 | J1: dc4 | K1: dl1 | L1: dl2d | M1: dl2v | N1: dl3 | O1: dl4 | P1: dl5 | Q1: dm1 | R1: dm2 | S1: dm3 | T1: dm4 | U1: dm5 | V1: dm6 | W1: dp1l | X1: dp1m | Y1: v | Z1: va1d | AA1: va1v | AB1: va2 | AC1: va3 | AD1: va4 | AE1: va5 | AF1: va6 | AG1: va7l | AH1: va7m | AI1: vc1 | AJ1: vc2 | AK1: vc3 | AL1: vc4 | AM1: vl1 | AN1: vl2a | AO1: vl2p | AP1: vm1 | AQ1: vm2 | AR1: vm3 | AS1: vm4 | AT1: vm5d | AU1: vm5v | AV1: vm7d | AW1: vm7v
A2: 0 | B2: 0 | C2: 0 | D2: 0 | E2: 0 | F2: 0 | G2: 0 | H2: 0 | I2: 0 | J2: 0 | K2: 0 | L2: 0 | M2: 0 | N2: 0 | O2: 0 | P2: 0 | Q2: 0 | R2: 0 | S2: 0 | T2: 0 | U2: 0 | V2: 0 | W2: 0 | X2: 0 | Y2: 0 | Z2: 0 | AA2: 1 | AB2: 0 | AC2: 0 | AD2: 0 | AE2: 0 | AF2: 0 | AG2: 0 | AH2: 0 | AI2: 0 | AJ2: 0 | AK2: 0 | AL2: 0 | AM2: 0 | AN2: 1 | AO2: 0 | AP2: 0 | AQ2: 1 | AR2: 0 | AS2: 0 | AT2: 0 | AU2: 0 | AV2: 1 | AW2: 0
A3: 0 | B3: 1 | C3: 0 | D3: 0 | E3: 0 | F3: 0 | G3: 0 | H3: 0 | I3: 0 | J3: 0 | K3: 1 | L3: 0 | M3: 1 | N3: 0 | O3: 0 | P3: 0 | Q3: 0 | R3: 0 | S3: 0 | T3: 0 | U3: 0 | V3: 0 | W3: 0 | X3: 0 | Y3: 0 | Z3: 1 | AA3: 0 | AB3: 0 | AC3: 0 | AD3: 0 | AE3: 0 | AF3: 0 | AG3: 1 | AH3: 0 | AI3: 0 | AJ3: 0 | AK3: 0 | AL3: 0 | AM3: 0 | AN3: 0 | AO3: 0 | AP3: 0 | AQ3: 0 | AR3: 0 | AS3: 0 | AT3: 0 | AU3: 0 | AV3: 0 | AW3: 0
A4: 0 | B4: 0 | C4: 0 | D4: 0 | E4: 0 | F4: 0 | G4: 1 | H4: 0 | I4: 0 | J4: 0 | K4: 0 | L4: 0 | M4: 0 | N4: 0 | O4: 0 | P4: 1 | Q4: 0 | R4: 0 | S4: 0 | T4: 0 | U4: 0 | V4: 0 | W4: 0 | X4: 0 | Y4: 0 | Z4: 0 | AA4: 1 | AB4: 0 | AC4: 1 | AD4: 1 | AE4: 0 | AF4: 0 | AG4: 0 | AH4: 0 | AI4: 0 | AJ4: 0 | AK4: 0 | AL4: 0 | AM4: 1 | AN4: 0 | AO4: 0 | AP4: 0 | AQ4: 0 | AR4: 0 | AS4: 0 | AT4: 0 | AU4: 0 | AV4: 0 | AW4: 0
A5: 0 | B5: 0 | C5: 0 | D5: 0 | E5: 0 | F5: 0 | G5: 0 | H5: 0 | I5: 0 | J5: 0 | K5: 0 | L5: 0 | M5: 0 | N5: 0 | O5: 0 | P5: 0 | Q5: 0 | R5: 0 | S5: 0 | T5: 1 | U5: 0 | V5: 0 | W5: 0 | X5: 0 | Y5: 0 | Z5: 2 | AA5: 0 | AB5: 0 | AC5: 1 | AD5: 0 | AE5: 0 | AF5: 0 | AG5: 0 | AH5: 0 | AI5: 0 | AJ5: 0 | AK5: 0 | AL5: 0 | AM5: 0 | AN5: 0 | AO5: 0 | AP5: 0 | AQ5: 0 | AR5: 0 | AS5: 0 | AT5: 0 | AU5: 0 | AV5: 0 | AW5: 0
A6: 0 | B6: 0 | C6: 0 | D6: 0 | E6: 0 | F6: 0 | G6: 0 | H6: 0 | I6: 0 | J6: 0 | K6: 0 | L6: 0 | M6: 0 | N6: 0 | O6: 0 | P6: 0 | Q6: 0 | R6: 0 | S6: 0 | T6: 0 | U6: 1 | V6: 0 | W6: 0 | X6: 0 | Y6: 0 | Z6: 0 | AA6: 0 | AB6: 0 | AC6: 0 | AD6: 0 | AE6: 0 | AF6: 0 | AG6: 0 | AH6: 0 | AI6: 0 | AJ6: 0 | AK6: 0 | AL6: 0 | AM6: 0 | AN6: 0 | AO6: 0 | AP6: 0 | AQ6: 0 | AR6: 1 | AS6: 0 | AT6: 0 | AU6: 0 | AV6: 0 | AW6: 0
A7: 0 | B7: 0 | C7: 0 | D7: 0 | E7: 0 | F7: 0 | G7: 0 | H7: 0 | I7: 0 | J7: 0 | K7: 0 | L7: 0 | M7: 0 | N7: 0 | O7: 0 | P7: 1 | Q7: 0 | R7: 0 | S7: 0 | T7: 0 | U7: 0 | V7: 0 | W7: 0 | X7: 0 | Y7: 0 | Z7: 1 | AA7: 0 | AB7: 0 | AC7: 0 | AD7: 0 | AE7: 0 | AF7: 0 | AG7: 0 | AH7: 0 | AI7: 0 | AJ7: 0 | AK7: 0 | AL7: 0 | AM7: 0 | AN7: 0 | AO7: 0 | AP7: 0 | AQ7: 0 | AR7: 0 | AS7: 0 | AT7: 0 | AU7: 0 | AV7: 0 | AW7: 0
A8: 0 | B8: 0 | C8: 0 | D8: 0 | E8: 0 | F8: 0 | G8: 0 | H8: 0 | I8: 0 | J8: 0 | K8: 0 | L8: 0 | M8: 0 | N8: 0 | O8: 0 | P8: 0 | Q8: 0 | R8: 0 | S8: 1 | T8: 0 | U8: 0 | V8: 0 | W8: 0 | X8: 1 | Y8: 0 | Z8: 0 | AA8: 0 | AB8: 0 | AC8: 0 | AD8: 0 | AE8: 0 | AF8: 0 | AG8: 0 | AH8: 0 | AI8: 0 | AJ8: 0 | AK8: 0 | AL8: 0 | AM8: 0 | AN8: 1 | AO8: 1 | AP8: 0 | AQ8: 0 | AR8: 0 | AS8: 0 | AT8: 0 | AU8: 0 | AV8: 0 | AW8: 0
A9: 0 | B9: 0 | C9: 0 | D9: 0 | E9: 0 | F9: 0 | G9: 0 | H9: 0 | I9: 0 | J9: 0 | K9: 0 | L9: 0 | M9: 0 | N9: 0 | O9: 0 | P9: 0 | Q9: 0 | R9: 0 | S9: 0 | T9: 0 | U9: 0 | V9: 0 | W9: 0 | X9: 0 | Y9: 0 | Z9: 0 | AA9: 0 | AB9: 0 | AC9: 0 | AD9: 0 | AE9: 0 | AF9: 0 | AG9: 0 | AH9: 0 | AI9: 0 | AJ9: 0 | AK9: 1 | AL9: 0 | AM9: 0 | AN9: 0 | AO9: 0 | AP9: 0 | AQ9: 0 | AR9: 0 | AS9: 1 | AT9: 0 | AU9: 0 | AV9: 0 | AW9: 0
A10: 0 | B10: 0 | C10: 0 | D10: 0 | E10: 0 | F10: 0 | G10: 1 | H10: 0 | I10: 0 | J10: 0 | K10: 0 | L10: 0 | M10: 0 | N10: 0 | O10: 0 | P10: 0 | Q10: 0 | R10: 0 | S10: 0 | T10: 0 | U10: 0 | V10: 0 | W10: 0 | X10: 1 | Y10: 0 | Z10: 0 | AA10: 0 | AB10: 0 | AC10: 1 | AD10: 0 | AE10: 0 | AF10: 1 | AG10: 0 | AH10: 0 | AI10: 0 | AJ10: 0 | AK10: 0 | AL10: 0 | AM10: 0 | AN10: 0 | AO10: 0 | AP10: 0 | AQ10: 0 | AR10: 0 | AS10: 0 | AT10: 0 | AU10: 1 | AV10: 0 | AW10: 0
A11: 0 | B11: 0 | C11: 0 | D11: 0 | E11: 1 | F11: 0 | G11: 1 | H11: 0 | I11: 0 | J11: 0 | K11: 1 | L11: 0 | M11: 0 | N11: 0 | O11: 0 | P11: 0 | Q11: 0 | R11: 0 | S11: 0 | T11: 0 | U11: 0 | V11: 0 | W11: 0 | X11: 0 | Y11: 0 | Z11: 1 | AA11: 0 | AB11: 0 | AC11: 0 | AD11: 0 | AE11: 0 | AF11: 0 | AG11: 0 | AH11: 0 | AI11: 1 | AJ11: 0 | AK11: 0 | AL11: 0 | AM11: 0 | AN11: 0 | AO11: 0 | AP11: 0 | AQ11: 0 | AR11: 0 | AS11: 0 | AT11: 0 | AU11: 0 | AV11: 0 | AW11: 0
A12: 0 | B12: 0 | C12: 0 | D12: 0 | E12: 0 | F12: 0 | G12: 0 | H12: 0 | I12: 0 | J12: 0 | K12: 0 | L12: 0 | M12: 0 | N12: 0 | O12: 0 | P12: 0 | Q12: 0 | R12: 0 | S12: 0 | T12: 0 | U12: 0 | V12: 0 | W12: 0 | X12: 1 | Y12: 0 | Z12: 0 | AA12: 0 | AB12: 0 | AC12: 0 | AD12: 0 | AE12: 0 | AF12: 0 | AG12: 0 | AH12: 0 | AI12: 0 | AJ12: 0 | AK12: 0 | AL12: 0 | AM12: 0 | AN12: 0 | AO12: 0 | AP12: 0 | AQ12: 0 | AR12: 0 | AS12: 0 | AT12: 0 | AU12: 0 | AV12: 0 | AW12: 0
A13: 0 | B13: 0 | C13: 0 | D13: 0 | E13: 1 | F13: 0 | G13: 0 | H13: 0 | I13: 0 | J13: 0 | K13: 0 | L13: 0 | M13: 0 | N13: 0 | O13: 0 | P13: 0 | Q13: 0 | R13: 0 | S13: 0 | T13: 0 | U13: 0 | V13: 0 | W13: 0 | X13: 0 | Y13: 0 | Z13: 0 | AA13: 0 | AB13: 0 | AC13: 0 | AD13: 0 | AE13: 0 | AF13: 1 | AG13: 0 | AH13: 0 | AI13: 0 | AJ13: 0 | AK13: 1 | AL13: 0 | AM13: 0 | AN13: 0 | AO13: 0 | AP13: 0 | AQ13: 0 | AR13: 0 | AS13: 1 | AT13: 0 | AU13: 0 | AV13: 0 | AW13: 0
... A201: 0 | B201: 0 | C201: 0 | D201: 0 | E201: 0 | F201: 0 | G201: 0 | H201: 0 | I201: 0 | J201: 0 | K201: 0 | L201: 0 | M201: 0 | N201: 0 | O201: 0 | P201: 0 | Q201: 0 | R201: 0 | S201: 0 | T201: 0 | U201: 0 | V201: 0 | W201: 0 | X201: 0 | Y201: 0 | Z201: 0 | AA201: 0 | AB201: 0 | AC201: 0 | AD201: 0 | AE201: 0 | AF201: 0 | AG201: 1 | AH201: 0 | AI201: 0 | AJ201: 0 | AK201: 1 | AL201: 0 | AM201: 0 | AN201: 0 | AO201: 1 | AP201: 0 | AQ201: 0 | AR201: 0 | AS201: 0 | AT201: 0 | AU201: 0 | AV201: 0 | AW201: 0

Sheet Figure 1d melanogaster females
A1: d | B1: da1 | C1: da2 | D1: da3 | E1: da4l | F1: da4m | G1: dc1 | H1: dc2 | I1: dc3 | J1: dc4 | K1: dl1 | L1: dl2d | M1: dl2v | N1: dl3 | O1: dl4 | P1: dl5 | Q1: dm1 | R1: dm2 | S1: dm3 | T1: dm4 | U1: dm5 | V1: dm6 | W1: dp1l | X1: dp1m | Y1: v | Z1: va1d | AA1: va1v | AB1: va2 | AC1: va3 | AD1: va4 | AE1: va5 | AF1: va6 | AG1: va7l | AH1: va7m | AI1: vc1 | AJ1: vc2 | AK1: vc3 | AL1: vc4 | AM1: vl1 | AN1: vl2a | AO1: vl2p | AP1: vm1 | AQ1: vm2 | AR1: vm3 | AS1: vm4 | AT1: vm5d | AU1: vm5v | AV1: vm7d | AW1: vm7v
A2: 0 | B2: 0 | C2: 0 | D2: 0 | E2: 0 | F2: 0 | G2: 0 | H2: 0 | I2: 0 | J2: 1 | K2: 0 | L2: 0 | M2: 0 | N2: 0 | O2: 0 | P2: 0 | Q2: 0 | R2: 0 | S2: 0 | T2: 0 | U2: 0 | V2: 1 | W2: 0 | X2: 0 | Y2: 0 | Z2: 0 | AA2: 0 | AB2: 0 | AC2: 0 | AD2: 0 | AE2: 0 | AF2: 0 | AG2: 0 | AH2: 0 | AI2: 0 | AJ2: 0 | AK2: 0 | AL2: 1 | AM2: 0 | AN2: 0 | AO2: 0 | AP2: 0 | AQ2: 0 | AR2: 0 | AS2: 0 | AT2: 0 | AU2: 0 | AV2: 1 | AW2: 0
A3: 0 | B3: 0 | C3: 0 | D3: 0 | E3: 1 | F3: 1 | G3: 0 | H3: 0 | I3: 0 | J3: 0 | K3: 0 | L3: 0 | M3: 0 | N3: 0 | O3: 0 | P3: 0 | Q3: 0 | R3: 1 | S3: 0 | T3: 0 | U3: 0 | V3: 0 | W3: 0 | X3: 0 | Y3: 0 | Z3: 1 | AA3: 0 | AB3: 0 | AC3: 0 | AD3: 0 | AE3: 0 | AF3: 1 | AG3: 0 | AH3: 0 | AI3: 0 | AJ3: 0 | AK3: 0 | AL3: 0 | AM3: 0 | AN3: 0 | AO3: 0 | AP3: 0 | AQ3: 0 | AR3: 0 | AS3: 0 | AT3: 0 | AU3: 0 | AV3: 0 | AW3: 0
A4: 0 | B4: 0 | C4: 0 | D4: 0 | E4: 0 | F4: 0 | G4: 0 | H4: 0 | I4: 0 | J4: 0 | K4: 0 | L4: 0 | M4: 0 | N4: 0 | O4: 0 | P4: 0 | Q4: 0 | R4: 0 | S4: 0 | T4: 0 | U4: 0 | V4: 0 | W4: 0 | X4: 0 | Y4: 0 | Z4: 0 | AA4: 0 | AB4: 0 | AC4: 0 | AD4: 0 | AE4: 0 | AF4: 0 | AG4: 0 | AH4: 0 | AI4: 0 | AJ4: 0 | AK4: 0 | AL4: 0 | AM4: 0 | AN4: 0 | AO4: 0 | AP4: 0 | AQ4: 0 | AR4: 0 | AS4: 0 | AT4: 0 | AU4: 0 | AV4: 0 | AW4: 0
A5: 0 | B5: 0 | C5: 0 | D5: 0 | E5: 0 | F5: 0 | G5: 0 | H5: 0 | I5: 0 | J5: 0 | K5: 0 | L5: 0 | M5: 0 | N5: 0 | O5: 0 | P5: 0 | Q5: 0 | R5: 0 | S5: 0 | T5: 0 | U5: 0 | V5: 0 | W5: 0 | X5: 0 | Y5: 0 | Z5: 0 | AA5: 0 | AB5: 0 | AC5: 1 | AD5: 0 | AE5: 0 | AF5: 0 | AG5: 0 | AH5: 0 | AI5: 0 | AJ5: 0 | AK5: 1 | AL5: 0 | AM5: 0 | AN5: 0 | AO5: 0 | AP5: 0 | AQ5: 0 | AR5: 0 | AS5: 0 | AT5: 1 | AU5: 0 | AV5: 0 | AW5: 0
A6: 0 | B6: 1 | C6: 0 | D6: 0 | E6: 0 | F6: 0 | G6: 0 | H6: 0 | I6: 0 | J6: 1 | K6: 0 | L6: 0 | M6: 0 | N6: 0 | O6: 0 | P6: 0 | Q6: 0 | R6: 0 | S6: 0 | T6: 0 | U6: 0 | V6: 0 | W6: 0 | X6: 0 | Y6: 0 | Z6: 0 | AA6: 0 | AB6: 0 | AC6: 0 | AD6: 0 | AE6: 0 | AF6: 0 | AG6: 0 | AH6: 0 | AI6: 0 | AJ6: 0 | AK6: 0 | AL6: 0 | AM6: 0 | AN6: 0 | AO6: 0 | AP6: 0 | AQ6: 0 | AR6: 0 | AS6: 0 | AT6: 0 | AU6: 0 | AV6: 0 | AW6: 0
A7: 0 | B7: 0 | C7: 0 | D7: 0 | E7: 0 | F7: 0 | G7: 0 | H7: 0 | I7: 0 | J7: 0 | K7: 0 | L7: 0 | M7: 0 | N7: 0 | O7: 0 | P7: 0 | Q7: 0 | R7: 0 | S7: 0 | T7: 0 | U7: 0 | V7: 0 | W7: 0 | X7: 0 | Y7: 0 | Z7: 0 | AA7: 0 | AB7: 0 | AC7: 0 | AD7: 0 | AE7: 1 | AF7: 0 | AG7: 0 | AH7: 0 | AI7: 0 | AJ7: 0 | AK7: 0 | AL7: 0 | AM7: 0 | AN7: 0 | AO7: 0 | AP7: 0 | AQ7: 0 | AR7: 0 | AS7: 0 | AT7: 0 | AU7: 0 | AV7: 0 | AW7: 0
A8: 0 | B8: 0 | C8: 0 | D8: 0 | E8: 0 | F8: 0 | G8: 0 | H8: 0 | I8: 0 | J8: 0 | K8: 0 | L8: 0 | M8: 0 | N8: 0 | O8: 1 | P8: 1 | Q8: 0 | R8: 0 | S8: 0 | T8: 1 | U8: 0 | V8: 0 | W8: 0 | X8: 0 | Y8: 0 | Z8: 0 | AA8: 0 | AB8: 0 | AC8: 0 | AD8: 0 | AE8: 0 | AF8: 0 | AG8: 0 | AH8: 0 | AI8: 0 | AJ8: 0 | AK8: 0 | AL8: 0 | AM8: 0 | AN8: 0 | AO8: 0 | AP8: 0 | AQ8: 0 | AR8: 0 | AS8: 0 | AT8: 0 | AU8: 0 | AV8: 0 | AW8: 0
A9: 0 | B9: 1 | C9: 0 | D9: 0 | E9: 0 | F9: 0 | G9: 0 | H9: 0 | I9: 0 | J9: 0 | K9: 0 | L9: 0 | M9: 0 | N9: 0 | O9: 0 | P9: 1 | Q9: 0 | R9: 0 | S9: 0 | T9: 0 | U9: 0 | V9: 0 | W9: 0 | X9: 0 | Y9: 0 | Z9: 0 | AA9: 0 | AB9: 0 | AC9: 1 | AD9: 0 | AE9: 0 | AF9: 0 | AG9: 0 | AH9: 0 | AI9: 0 | AJ9: 0 | AK9: 0 | AL9: 0 | AM9: 0 | AN9: 0 | AO9: 0 | AP9: 0 | AQ9: 0 | AR9: 0 | AS9: 0 | AT9: 0 | AU9: 0 | AV9: 0 | AW9: 0
A10: 0 | B10: 1 | C10: 0 | D10: 0 | E10: 0 | F10: 0 | G10: 0 | H10: 0 | I10: 0 | J10: 0 | K10: 0 | L10: 0 | M10: 0 | N10: 0 | O10: 0 | P10: 0 | Q10: 0 | R10: 0 | S10: 0 | T10: 0 | U10: 0 | V10: 0 | W10: 0 | X10: 0 | Y10: 0 | Z10: 0 | AA10: 0 | AB10: 0 | AC10: 1 | AD10: 0 | AE10: 0 | AF10: 0 | AG10: 0 | AH10: 0 | AI10: 0 | AJ10: 0 | AK10: 0 | AL10: 1 | AM10: 0 | AN10: 0 | AO10: 0 | AP10: 0 | AQ10: 0 | AR10: 0 | AS10: 0 | AT10: 0 | AU10: 0 | AV10: 0 | AW10: 0
A11: 0 | B11: 0 | C11: 0 | D11: 0 | E11: 0 | F11: 0 | G11: 0 | H11: 0 | I11: 0 | J11: 0 | K11: 1 | L11: 0 | M11: 0 | N11: 0 | O11: 0 | P11: 0 | Q11: 0 | R11: 0 | S11: 0 | T11: 0 | U11: 0 | V11: 0 | W11: 0 | X11: 0 | Y11: 0 | Z11: 0 | AA11: 0 | AB11: 0 | AC11: 0 | AD11: 0 | AE11: 0 | AF11: 0 | AG11: 1 | AH11: 0 | AI11: 0 | AJ11: 0 | AK11: 0 | AL11: 0 | AM11: 0 | AN11: 1 | AO11: 0 | AP11: 0 | AQ11: 0 | AR11: 0 | AS11: 0 | AT11: 0 | AU11: 0 | AV11: 0 | AW11: 0
A12: 0 | B12: 0 | C12: 0 | D12: 0 | E12: 0 | F12: 0 | G12: 1 | H12: 0 | I12: 0 | J12: 0 | K12: 0 | L12: 0 | M12: 0 | N12: 0 | O12: 0 | P12: 0 | Q12: 0 | R12: 0 | S12: 0 | T12: 0 | U12: 0 | V12: 0 | W12: 0 | X12: 0 | Y12: 0 | Z12: 0 | AA12: 0 | AB12: 0 | AC12: 0 | AD12: 0 | AE12: 0 | AF12: 0 | AG12: 0 | AH12: 0 | AI12: 0 | AJ12: 0 | AK12: 0 | AL12: 0 | AM12: 0 | AN12: 1 | AO12: 0 | AP12: 0 | AQ12: 0 | AR12: 0 | AS12: 0 | AT12: 1 | AU12: 0 | AV12: 0 | AW12: 0
A13: 0 | B13: 1 | C13: 0 | D13: 0 | E13: 0 | F13: 0 | G13: 0 | H13: 0 | I13: 0 | J13: 0 | K13: 0 | L13: 0 | M13: 0 | N13: 0 | O13: 0 | P13: 0 | Q13: 0 | R13: 0 | S13: 0 | T13: 0 | U13: 0 | V13: 0 | W13: 0 | X13: 0 | Y13: 0 | Z13: 0 | AA13: 1 | AB13: 0 | AC13: 0 | AD13: 0 | AE13: 0 | AF13: 0 | AG13: 0 | AH13: 0 | AI13: 0 | AJ13: 0 | AK13: 0 | AL13: 0 | AM13: 0 | AN13: 0 | AO13: 0 | AP13: 0 | AQ13: 0 | AR13: 0 | AS13: 0 | AT13: 1 | AU13: 0 | AV13: 0 | AW13: 0
... A62: 0 | B62: 1 | C62: 0 | D62: 0 | E62: 0 | F62: 0 | G62: 0 | H62: 1 | I62: 0 | J62: 0 | K62: 0 | L62: 0 | M62: 0 | N62: 0 | O62: 0 | P62: 0 | Q62: 0 | R62: 0 | S62: 0 | T62: 0 | U62: 0 | V62: 1 | W62: 0 | X62: 0 | Y62: 0 | Z62: 0 | AA62: 1 | AB62: 0 | AC62: 0 | AD62: 0 | AE62: 0 | AF62: 0 | AG62: 0 | AH62: 0 | AI62: 0 | AJ62: 0 | AK62: 1 | AL62: 0 | AM62: 0 | AN62: 0 | AO62: 0 | AP62: 0 | AQ62: 0 | AR62: 0 | AS62: 0 | AT62: 0 | AU62: 0 | AV62: 0 | AW62: 0
A63: 0 | B63: 1 | C63: 0 | D63: 0 | E63: 0 | F63: 0 | G63: 0 | H63: 0 | I63: 0 | J63: 0 | K63: 0 | L63: 0 | M63: 0 | N63: 0 | P63: 0 | Q63: 1 | R63: 0 | S63: 0 | T63: 0 | U63: 0 | V63: 1 | W63: 0 | X63: 0 | Y63: 0 | AA63: 0 | AB63: 0 | AD63: 1 | AE63: 0 | AF63: 0 | AG63: 0 | AH63: 1 | AI63: 0 | AJ63: 0 | AK63: 1 | AL63: 0 | AM63: 0 | AN63: 0 | AO63: 0 | AP63: 0 | AQ63: 0 | AR63: 0 | AS63: 0 | AT63: 0 | AU63: 0 | AV63: 1 | AW63: 0
A64: 0 | C64: 0 | D64: 0 | E64: 0 | F64: 0 | G64: 0 | H64: 0 | I64: 0 | J64: 0 | K64: 0 | L64: 0 | M64: 0 | N64: 0 | O64: 1 | P64: 0 | Q64: 0 | R64: 0 | S64: 0 | T64: 0 | U64: 0 | V64: 0 | W64: 0 | X64: 0 | Y64: 0 | Z64: 1 | AA64: 0 | AB64: 0 | AC64: 1 | AD64: 0 | AE64: 0 | AF64: 0 | AG64: 0 | AH64: 0 | AI64: 0 | AJ64: 0 | AK64: 0 | AL64: 0 | AM64: 0 | AN64: 0 | AO64: 0 | AP64: 0 | AQ64: 0 | AR64: 0 | AS64: 0 | AT64: 0 | AU64: 0 | AV64: 0 | AW64: 0
A65: 0 | B65: 0 | C65: 0 | D65: 0 | E65: 0 | F65: 0 | G65: 0 | H65: 0 | I65: 1 | J65: 0 | K65: 0 | L65: 0 | M65: 0 | N65: 0 | O65: 1 | P65: 0 | Q65: 0 | R65: 0 | S65: 0 | T65: 0 | U65: 0 | V65: 0 | W65: 0 | X65: 0 | Y65: 0 | Z65: 0 | AA65: 0 | AB65: 0 | AC65: 0 | AD65: 0 | AE65: 0 | AF65: 0 | AG65: 0 | AH65: 0 | AI65: 0 | AJ65: 0 | AK65: 0 | AL65: 0 | AM65: 0 | AN65: 0 | AO65: 0 | AP65: 0 | AQ65: 0 | AR65: 0 | AS65: 0 | AT65: 0 | AU65: 0 | AV65: 0 | AW65: 0
A66: 0 | B66: 0 | C66: 0 | D66: 0 | E66: 0 | F66: 0 | G66: 0 | H66: 0 | I66: 0 | J66: 0 | K66: 1 | L66: 0 | M66: 0 | N66: 0 | O66: 0 | P66: 0 | Q66: 0 | R66: 0 | S66: 1 | T66: 0 | U66: 0 | V66: 1 | W66: 0 | X66: 0 | Y66: 0 | Z66: 0 | AA66: 0 | AB66: 0 | AC66: 0 | AD66: 0 | AE66: 0 | AF66: 0 | AG66: 0 | AH66: 0 | AI66: 0 | AJ66: 0 | AK66: 0 | AL66: 0 | AM66: 0 | AN66: 0 | AO66: 0 | AP66: 0 | AQ66: 1 | AR66: 0 | AS66: 0 | AT66: 0 | AU66: 0 | AV66: 1 | AW66: 0
A67: 0 | B67: 0 | C67: 0 | D67: 0 | E67: 0 | F67: 0 | G67: 1 | H67: 0 | I67: 0 | J67: 0 | K67: 0 | L67: 0 | M67: 0 | N67: 0 | O67: 0 | P67: 0 | Q67: 0 | R67: 0 | S67: 0 | T67: 0 | U67: 0 | V67: 0 | W67: 0 | X67: 0 | Y67: 0 | Z67: 0 | AA67: 0 | AB67: 0 | AC67: 0 | AD67: 0 | AE67: 0 | AF67: 0 | AG67: 0 | AH67: 0 | AI67: 0 | AJ67: 0 | AK67: 0 | AL67: 0 | AM67: 0 | AN67: 0 | AO67: 0 | AP67: 0 | AQ67: 0 | AR67: 0 | AS67: 0 | AT67: 0 | AU67: 0 | AV67: 0 | AW67: 0
A68: 0 | B68: 0 | C68: 0 | D68: 0 | E68: 0 | F68: 0 | G68: 0 | H68: 0 | I68: 0 | J68: 0 | K68: 0 | L68: 0 | M68: 0 | N68: 0 | O68: 0 | P68: 0 | Q68: 0 | R68: 0 | S68: 0 | T68: 1 | U68: 0 | V68: 0 | W68: 0 | X68: 0 | Y68: 0 | Z68: 0 | AA68: 0 | AB68: 0 | AC68: 0 | AD68: 0 | AE68: 0 | AF68: 0 | AG68: 0 | AH68: 0 | AI68: 0 | AJ68: 0 | AK68: 0 | AL68: 0 | AM68: 0 | AN68: 0 | AO68: 0 | AP68: 0 | AQ68: 0 | AR68: 0 | AS68: 0 | AT68: 0 | AU68: 0 | AV68: 0 | AW68: 0
A69: 0 | B69: 0 | C69: 0 | D69: 0 | E69: 0 | F69: 0 | G69: 1 | H69: 0 | I69: 0 | J69: 0 | K69: 0 | L69: 0 | M69: 0 | N69: 0 | O69: 0 | P69: 0 | Q69: 0 | R69: 0 | S69: 0 | T69: 0 | U69: 1 | V69: 0 | W69: 0 | X69: 0 | Y69: 0 | Z69: 0 | AA69: 1 | AB69: 0 | AC69: 0 | AD69: 0 | AE69: 0 | AF69: 1 | AG69: 0 | AH69: 0 | AI69: 0 | AJ69: 0 | AK69: 0 | AL69: 0 | AM69: 0 | AN69: 1 | AO69: 0 | AP69: 0 | AQ69: 0 | AR69: 0 | AS69: 0 | AT69: 0 | AU69: 0 | AV69: 1 | AW69: 0
A70: 0 | B70: 0 | C70: 0 | D70: 0 | E70: 0 | F70: 0 | G70: 0 | H70: 0 | I70: 1 | J70: 0 | K70: 0 | L70: 0 | M70: 0 | N70: 0 | O70: 0 | P70: 0 | Q70: 0 | R70: 0 | S70: 0 | T70: 0 | U70: 0 | V70: 0 | W70: 0 | X70: 0 | Y70: 0 | Z70: 0 | AA70: 0 | AB70: 0 | AC70: 0 | AD70: 0 | AE70: 0 | AF70: 0 | AG70: 0 | AH70: 0 | AI70: 0 | AJ70: 0 | AK70: 0 | AL70: 0 | AM70: 0 | AN70: 1 | AO70: 0 | AP70: 0 | AQ70: 0 | AR70: 0 | AS70: 0 | AT70: 0 | AU70: 1 | AV70: 0 | AW70: 0
A71: 0 | B71: 0 | C71: 0 | D71: 0 | E71: 0 | F71: 0 | G71: 0 | H71: 0 | I71: 0 | J71: 0 | K71: 0 | L71: 0 | M71: 0 | N71: 0 | O71: 0 | P71: 1 | Q71: 0 | R71: 0 | S71: 0 | T71: 0 | U71: 1 | V71: 0 | W71: 0 | X71: 0 | Y71: 0 | Z71: 0 | AA71: 1 | AB71: 0 | AC71: 0 | AD71: 0 | AE71: 0 | AF71: 0 | AG71: 0 | AH71: 0 | AI71: 0 | AJ71: 0 | AK71: 1 | AL71: 0 | AM71: 0 | AN71: 0 | AO71: 1 | AP71: 0 | AQ71: 0 | AR71: 0 | AS71: 0 | AT71: 0 | AU71: 0 | AV71: 0 | AW71: 0
A72: 0 | B72: 0 | C72: 0 | D72: 0 | E72: 0 | F72: 0 | G72: 0 | H72: 0 | I72: 0 | J72: 0 | K72: 0 | L72: 0 | M72: 0 | N72: 0 | O72: 0 | P72: 0 | Q72: 0 | R72: 0 | S72: 0 | T72: 1 | U72: 0 | V72: 0 | W72: 0 | X72: 0 | Y72: 0 | Z72: 0 | AA72: 0 | AB72: 1 | AC72: 0 | AD72: 0 | AE72: 0 | AF72: 0 | AG72: 0 | AH72: 0 | AI72: 0 | AJ72: 0 | AK72: 0 | AL72: 0 | AM72: 0 | AN72: 1 | AO72: 0 | AP72: 0 | AQ72: 0 | AR72: 0 | AS72: 1 | AT72: 0 | AU72: 1 | AV72: 0 | AW72: 0
A73: 1 | B73: 0 | C73: 0 | D73: 0 | E73: 0 | F73: 0 | G73: 0 | H73: 0 | I73: 1 | J73: 0 | K73: 0 | L73: 0 | M73: 0 | N73: 0 | O73: 0 | P73: 0 | Q73: 0 | R73: 0 | S73: 0 | T73: 0 | U73: 0 | V73: 0 | W73: 0 | X73: 0 | Y73: 0 | Z73: 0 | AA73: 0 | AB73: 0 | AC73: 0 | AD73: 0 | AE73: 0 | AF73: 0 | AG73: 0 | AH73: 0 | AI73: 0 | AJ73: 0 | AK73: 0 | AL73: 0 | AM73: 0 | AN73: 0 | AO73: 0 | AP73: 0 | AQ73: 0 | AR73: 0 | AS73: 0 | AT73: 0 | AU73: 1 | AV73: 0 | AW73: 0
A74: 0 | B74: 0 | C74: 0 | D74: 0 | E74: 0 | F74: 0 | G74: 0 | H74: 0 | I74: 1 | J74: 0 | K74: 0 | L74: 0 | M74: 0 | N74: 0 | O74: 1 | P74: 1 | Q74: 0 | R74: 0 | S74: 1 | T74: 0 | U74: 0 | V74: 0 | W74: 0 | X74: 0 | Y74: 0 | Z74: 0 | AA74: 0 | AB74: 0 | AC74: 1 | AD74: 0 | AE74: 0 | AF74: 0 | AG74: 0 | AH74: 0 | AI74: 0 | AJ74: 0 | AK74: 0 | AL74: 0 | AM74: 0 | AN74: 1 | AO74: 0 | AP74: 0 | AQ74: 0 | AR74: 0 | AS74: 0 | AT74: 0 | AU74: 0 | AV74: 0 | AW74: 0
A75: 0 | B75: 0 | C75: 0 | D75: 0 | E75: 0 | F75: 0 | G75: 0 | H75: 0 | I75: 0 | J75: 0 | K75: 1 | L75: 0 | M75: 0 | N75: 0 | O75: 0 | P75: 0 | Q75: 0 | R75: 0 | S75: 0 | T75: 0 | U75: 0 | V75: 0 | W75: 0 | X75: 0 | Y75: 0 | Z75: 0 | AA75: 0 | AB75: 0 | AC75: 0 | AD75: 1 | AE75: 0 | AF75: 0 | AG75: 0 | AH75: 0 | AI75: 0 | AJ75: 0 | AK75: 0 | AL75: 0 | AM75: 0 | AN75: 0 | AO75: 1 | AP75: 0 | AQ75: 0 | AR75: 0 | AS75: 0 | AT75: 0 | AU75: 0 | AV75: 0 | AW75: 0
A76: 0 | B76: 0 | C76: 0 | D76: 0 | E76: 0 | F76: 0 | G76: 0 | H76: 0 | I76: 0 | J76: 0 | K76: 0 | L76: 0 | M76: 0 | N76: 0 | O76: 0 | P76: 1 | Q76: 0 | R76: 0 | S76: 0 | T76: 0 | U76: 0 | V76: 0 | W76: 0 | X76: 0 | Y76: 0 | Z76: 0 | AA76: 0 | AB76: 0 | AC76: 0 | AD76: 0 | AE76: 0 | AF76: 0 | AG76: 0 | AH76: 0 | AI76: 0 | AJ76: 1 | AK76: 0 | AL76: 0 | AM76: 0 | AN76: 0 | AO76: 0 | AP76: 0 | AQ76: 0 | AR76: 0 | AS76: 0 | AT76: 0 | AU76: 0 | AV76: 0 | AW76: 0
... A96: 0 | B96: 0 | C96: 0 | D96: 0 | E96: 0 | F96: 0 | G96: 0 | H96: 0 | I96: 0 | J96: 0 | K96: 0 | L96: 0 | M96: 0 | N96: 0 | O96: 0 | P96: 0 | Q96: 1 | R96: 0 | S96: 0 | T96: 0 | U96: 0 | V96: 0 | W96: 0 | X96: 0 | Y96: 0 | Z96: 0 | AA96: 0 | AB96: 0 | AC96: 0 | AD96: 0 | AE96: 0 | AF96: 0 | AG96: 0 | AH96: 1 | AI96: 0 | AJ96: 0 | AK96: 0 | AL96: 0 | AM96: 1 | AN96: 0 | AO96: 0 | AP96: 0 | AQ96: 0 | AR96: 0 | AS96: 0 | AT96: 0 | AU96: 0 | AV96: 0 | AW96: 0
A97: 0 | B97: 0 | C97: 0 | D97: 0 | E97: 0 | F97: 0 | G97: 0 | H97: 0 | I97: 1 | J97: 0 | K97: 0 | L97: 0 | M97: 0 | N97: 0 | O97: 0 | P97: 0 | R97: 0 | S97: 0 | T97: 0 | U97: 0 | V97: 0 | W97: 0 | X97: 0 | Y97: 0 | Z97: 1 | AA97: 0 | AB97: 0 | AC97: 0 | AD97: 0 | AE97: 1 | AF97: 0 | AG97: 0 | AH97: 0 | AI97: 0 | AJ97: 0 | AK97: 0 | AL97: 0 | AM97: 0 | AN97: 0 | AO97: 0 | AP97: 0 | AQ97: 0 | AR97: 0 | AS97: 0 | AT97: 0 | AU97: 0 | AV97: 0 | AW97: 0
A98: 0 | B98: 0 | C98: 0 | D98: 0 | E98: 0 | F98: 0 | G98: 0 | H98: 0 | I98: 0 | J98: 0 | K98: 1 | L98: 0 | M98: 0 | N98: 0 | O98: 0 | P98: 0 | Q98: 1 | R98: 0 | S98: 0 | T98: 0 | U98: 0 | V98: 0 | W98: 0 | X98: 0 | Y98: 0 | Z98: 0 | AA98: 0 | AB98: 0 | AC98: 0 | AD98: 0 | AE98: 0 | AF98: 0 | AG98: 0 | AH98: 0 | AI98: 1 | AJ98: 1 | AK98: 0 | AL98: 0 | AM98: 0 | AN98: 0 | AO98: 0 | AP98: 0 | AQ98: 0 | AR98: 0 | AS98: 0 | AT98: 0 | AU98: 0 | AV98: 1 | AW98: 0
A99: 0 | B99: 1 | C99: 0 | D99: 0 | E99: 0 | F99: 0 | G99: 0 | H99: 0 | I99: 1 | J99: 0 | K99: 0 | L99: 0 | M99: 0 | N99: 0 | O99: 0 | P99: 0 | Q99: 0 | R99: 0 | S99: 0 | T99: 0 | U99: 0 | V99: 0 | W99: 0 | X99: 0 | Y99: 0 | Z99: 0 | AA99: 0 | AB99: 0 | AC99: 0 | AD99: 0 | AE99: 0 | AF99: 0 | AG99: 0 | AH99: 0 | AI99: 1 | AJ99: 0 | AK99: 0 | AL99: 0 | AM99: 0 | AN99: 0 | AO99: 0 | AP99: 0 | AQ99: 0 | AR99: 0 | AS99: 0 | AT99: 0 | AU99: 0 | AV99: 0 | AW99: 0
A100: 0 | B100: 0 | C100: 0 | D100: 0 | E100: 0 | F100: 0 | G100: 0 | H100: 0 | I100: 1 | J100: 0 | K100: 0 | L100: 0 | M100: 0 | N100: 0 | O100: 0 | P100: 0 | Q100: 0 | R100: 0 | S100: 0 | T100: 0 | U100: 0 | V100: 0 | W100: 0 | X100: 0 | Y100: 0 | Z100: 0 | AA100: 0 | AB100: 0 | AC100: 0 | AD100: 0 | AE100: 0 | AF100: 0 | AG100: 0 | AH100: 0 | AJ100: 0 | AK100: 0 | AL100: 0 | AM100: 0 | AN100: 0 | AO100: 0 | AP100: 0 | AQ100: 0 | AR100: 0 | AS100: 0 | AT100: 0 | AU100: 0 | AV100: 0 | AW100: 0
A101: 0 | B101: 0 | C101: 0 | D101: 0 | E101: 0 | F101: 0 | G101: 0 | H101: 0 | I101: 0 | J101: 0 | K101: 0 | L101: 0 | M101: 1 | N101: 0 | O101: 0 | P101: 0 | Q101: 0 | R101: 0 | S101: 0 | T101: 0 | U101: 0 | V101: 0 | W101: 0 | X101: 1 | Y101: 0 | Z101: 0 | AA101: 0 | AB101: 0 | AC101: 0 | AD101: 0 | AE101: 1 | AF101: 0 | AG101: 0 | AH101: 0 | AJ101: 0 | AK101: 0 | AL101: 0 | AM101: 0 | AN101: 0 | AO101: 0 | AP101: 0 | AQ101: 0 | AR101: 0 | AS101: 1 | AT101: 0 | AU101: 0 | AV101: 0 | AW101: 0
A102: 0 | B102: 0 | C102: 0 | D102: 0 | E102: 0 | F102: 0 | G102: 0 | H102: 0 | I102: 1 | J102: 0 | K102: 0 | L102: 0 | M102: 0 | N102: 0 | O102: 0 | P102: 0 | Q102: 0 | R102: 0 | S102: 0 | T102: 0 | U102: 0 | V102: 0 | W102: 0 | X102: 0 | Y102: 0 | Z102: 0 | AA102: 0 | AB102: 0 | AC102: 0 | AD102: 0 | AE102: 0 | AF102: 0 | AG102: 0 | AH102: 0 | AI102: 0 | AJ102: 0 | AK102: 0 | AL102: 0 | AM102: 0 | AN102: 1 | AO102: 0 | AP102: 0 | AQ102: 0 | AR102: 0 | AS102: 0 | AT102: 0 | AU102: 0 | AV102: 0 | AW102: 0
A103: 0 | B103: 0 | C103: 0 | D103: 0 | E103: 0 | F103: 0 | G103: 1 | H103: 0 | I103: 0 | J103: 0 | K103: 0 | L103: 0 | M103: 0 | N103: 0 | O103: 0 | P103: 1 | Q103: 0 | R103: 0 | S103: 0 | T103: 0 | U103: 0 | V103: 0 | W103: 0 | X103: 0 | Y103: 0 | Z103: 0 | AA103: 0 | AB103: 0 | AC103: 0 | AD103: 0 | AE103: 0 | AF103: 1 | AG103: 0 | AH103: 0 | AI103: 0 | AJ103: 0 | AK103: 1 | AL103: 0 | AM103: 0 | AN103: 0 | AO103: 0 | AP103: 0 | AQ103: 0 | AR103: 0 | AS103: 0 | AT103: 0 | AU103: 0 | AV103: 0 | AW103: 0
A104: 0 | B104: 0 | C104: 0 | D104: 0 | E104: 0 | F104: 0 | G104: 0 | H104: 0 | I104: 0 | J104: 0 | K104: 0 | L104: 0 | M104: 0 | N104: 0 | O104: 0 | P104: 0 | Q104: 0 | R104: 0 | S104: 0 | T104: 0 | U104: 1 | V104: 1 | W104: 0 | X104: 0 | Y104: 0 | Z104: 0 | AA104: 0 | AB104: 0 | AC104: 1 | AD104: 0 | AE104: 0 | AF104: 0 | AG104: 0 | AH104: 0 | AI104: 0 | AJ104: 0 | AK104: 1 | AL104: 0 | AM104: 0 | AN104: 1 | AO104: 0 | AP104: 0 | AQ104: 0 | AR104: 0 | AS104: 0 | AT104: 0 | AU104: 0 | AV104: 0 | AW104: 1
A105: 0 | B105: 0 | C105: 0 | D105: 0 | E105: 0 | F105: 0 | G105: 0 | H105: 0 | I105: 0 | J105: 0 | K105: 0 | L105: 1 | M105: 0 | N105: 0 | O105: 0 | P105: 0 | Q105: 0 | R105: 0 | S105: 0 | T105: 0 | U105: 0 | V105: 0 | W105: 0 | X105: 1 | Y105: 0 | Z105: 0 | AA105: 0 | AB105: 0 | AC105: 0 | AD105: 0 | AE105: 0 | AF105: 0 | AG105: 0 | AH105: 0 | AI105: 0 | AJ105: 0 | AK105: 0 | AL105: 0 | AM105: 0 | AN105: 0 | AO105: 0 | AP105: 0 | AQ105: 0 | AR105: 0 | AS105: 0 | AT105: 0 | AU105: 1 | AV105: 0 | AW105: 0
A106: 0 | B106: 0 | C106: 0 | D106: 1 | E106: 0 | F106: 0 | G106: 0 | H106: 0 | I106: 0 | J106: 1 | K106: 0 | L106: 0 | M106: 0 | N106: 0 | O106: 0 | P106: 0 | Q106: 1 | R106: 0 | S106: 0 | T106: 0 | U106: 0 | V106: 0 | W106: 0 | X106: 0 | Y106: 0 | Z106: 0 | AA106: 0 | AB106: 0 | AC106: 0 | AD106: 0 | AE106: 0 | AF106: 0 | AG106: 0 | AH106: 0 | AI106: 0 | AJ106: 0 | AK106: 0 | AL106: 0 | AM106: 0 | AN106: 0 | AO106: 0 | AP106: 0 | AQ106: 0 | AR106: 0 | AS106: 0 | AT106: 0 | AU106: 0 | AV106: 0 | AW106: 0
A107: 0 | B107: 0 | C107: 0 | D107: 0 | E107: 0 | F107: 0 | G107: 0 | H107: 0 | I107: 0 | J107: 0 | K107: 0 | L107: 0 | M107: 0 | N107: 0 | O107: 0 | P107: 0 | Q107: 0 | R107: 0 | S107: 0 | T107: 0 | U107: 0 | V107: 0 | W107: 0 | X107: 0 | Y107: 0 | Z107: 0 | AA107: 0 | AB107: 0 | AC107: 1 | AD107: 0 | AE107: 0 | AF107: 1 | AG107: 1 | AH107: 0 | AI107: 0 | AJ107: 0 | AK107: 0 | AL107: 0 | AM107: 0 | AN107: 0 | AO107: 0 | AP107: 0 | AQ107: 0 | AR107: 0 | AS107: 0 | AT107: 0 | AU107: 0 | AV107: 0 | AW107: 0
A108: 0 | B108: 0 | C108: 0 | D108: 0 | E108: 0 | F108: 0 | G108: 0 | H108: 0 | I108: 0 | J108: 0 | K108: 0 | L108: 0 | M108: 0 | N108: 0 | O108: 0 | P108: 0 | Q108: 0 | R108: 0 | S108: 0 | T108: 0 | U108: 0 | V108: 0 | W108: 0 | X108: 0 | Y108: 0 | Z108: 1 | AA108: 0 | AB108: 0 | AC108: 0 | AD108: 0 | AE108: 0 | AF108: 0 | AG108: 0 | AH108: 1 | AI108: 0 | AJ108: 0 | AK108: 0 | AL108: 0 | AM108: 0 | AN108: 0 | AO108: 1 | AP108: 1 | AQ108: 0 | AR108: 0 | AS108: 0 | AT108: 0 | AU108: 0 | AV108: 0 | AW108: 0
A109: 0 | B109: 0 | C109: 0 | D109: 0 | E109: 0 | F109: 0 | G109: 0 | H109: 0 | I109: 0 | J109: 0 | K109: 0 | L109: 0 | M109: 0 | N109: 0 | O109: 0 | P109: 0 | Q109: 0 | R109: 0 | S109: 0 | T109: 0 | U109: 0 | V109: 0 | W109: 0 | X109: 0 | Y109: 0 | Z109: 0 | AA109: 0 | AB109: 0 | AC109: 0 | AD109: 0 | AE109: 0 | AF109: 0 | AG109: 0 | AH109: 0 | AI109: 0 | AJ109: 1 | AK109: 0 | AL109: 0 | AM109: 0 | AN109: 0 | AO109: 0 | AP109: 0 | AQ109: 0 | AR109: 0 | AS109: 0 | AT109: 0 | AU109: 0 | AV109: 1 | AW109: 0
A110: 0 | B110: 0 | C110: 0 | D110: 0 | E110: 0 | F110: 0 | G110: 0 | H110: 0 | I110: 1 | J110: 0 | K110: 0 | L110: 0 | M110: 1 | N110: 0 | O110: 0 | P110: 0 | Q110: 0 | R110: 0 | S110: 0 | T110: 0 | U110: 0 | V110: 0 | W110: 0 | X110: 0 | Y110: 0 | Z110: 1 | AA110: 0 | AB110: 0 | AC110: 0 | AD110: 0 | AE110: 0 | AF110: 0 | AG110: 0 | AH110: 0 | AI110: 0 | AJ110: 0 | AK110: 1 | AL110: 0 | AM110: 0 | AN110: 0 | AO110: 0 | AP110: 0 | AQ110: 0 | AR110: 0 | AS110: 0 | AT110: 0 | AU110: 1 | AV110: 0 | AW110: 0
A111: 0 | B111: 0 | C111: 0 | D111: 0 | E111: 0 | F111: 0 | G111: 0 | H111: 0 | I111: 0 | J111: 0 | K111: 0 | L111: 0 | M111: 0 | N111: 0 | O111: 0 | P111: 1 | Q111: 0 | R111: 0 | S111: 0 | T111: 0 | U111: 0 | V111: 1 | W111: 0 | X111: 0 | Y111: 0 | Z111: 0 | AA111: 0 | AB111: 0 | AC111: 0 | AD111: 0 | AE111: 0 | AF111: 0 | AG111: 0 | AH111: 0 | AI111: 0 | AJ111: 0 | AK111: 0 | AL111: 0 | AM111: 0 | AN111: 0 | AO111: 0 | AP111: 0 | AQ111: 0 | AR111: 0 | AS111: 0 | AT111: 0 | AU111: 0 | AV111: 0 | AW111: 0
A112: 0 | B112: 0 | C112: 0 | D112: 0 | E112: 0 | F112: 0 | G112: 1 | H112: 0 | I112: 0 | J112: 0 | K112: 0 | L112: 0 | M112: 1 | N112: 0 | O112: 0 | P112: 1 | Q112: 0 | R112: 0 | S112: 0 | T112: 0 | U112: 0 | V112: 0 | W112: 0 | X112: 0 | Y112: 0 | Z112: 0 | AA112: 1 | AB112: 0 | AC112: 0 | AD112: 0 | AE112: 0 | AF112: 1 | AG112: 0 | AH112: 0 | AI112: 0 | AJ112: 0 | AK112: 0 | AL112: 0 | AM112: 0 | AN112: 0 | AO112: 0 | AP112: 0 | AQ112: 0 | AR112: 0 | AS112: 0 | AT112: 0 | AU112: 0 | AV112: 0 | AW112: 0
A113: 0 | B113: 0 | C113: 0 | D113: 0 | E113: 0 | F113: 0 | G113: 0 | H113: 0 | I113: 0 | J113: 0 | K113: 1 | L113: 0 | M113: 0 | N113: 0 | O113: 0 | P113: 0 | Q113: 0 | R113: 0 | S113: 0 | T113: 0 | U113: 0 | V113: 0 | W113: 1 | X113: 0 | Y113: 0 | Z113: 0 | AA113: 0 | AB113: 0 | AC113: 0 | AD113: 0 | AE113: 0 | AF113: 0 | AG113: 0 | AH113: 0 | AI113: 0 | AJ113: 0 | AK113: 1 | AL113: 0 | AM113: 0 | AN113: 0 | AO113: 0 | AP113: 0 | AQ113: 0 | AR113: 0 | AS113: 0 | AT113: 0 | AU113: 0 | AV113: 0 | AW113: 0
... A127: 0 | B127: 1 | C127: 0 | D127: 0 | E127: 0 | F127: 0 | G127: 0 | H127: 0 | I127: 0 | J127: 0 | K127: 0 | L127: 0 | M127: 0 | N127: 0 | O127: 0 | P127: 0 | Q127: 0 | R127: 0 | S127: 0 | T127: 0 | U127: 0 | V127: 0 | W127: 0 | X127: 0 | Y127: 0 | Z127: 0 | AA127: 0 | AB127: 0 | AC127: 0 | AD127: 0 | AE127: 0 | AF127: 0 | AG127: 0 | AH127: 0 | AI127: 1 | AJ127: 0 | AK127: 0 | AL127: 0 | AM127: 0 | AN127: 0 | AO127: 0 | AP127: 0 | AQ127: 0 | AR127: 0 | AS127: 0 | AT127: 1 | AU127: 0 | AV127: 0 | AW127: 0
A128: 0 | B128: 0 | C128: 0 | D128: 0 | E128: 0 | F128: 0 | G128: 0 | H128: 0 | I128: 0 | J128: 0 | K128: 0 | L128: 0 | M128: 0 | N128: 0 | O128: 0 | P128: 0 | Q128: 0 | R128: 0 | S128: 0 | T128: 0 | U128: 0 | V128: 0 | W128: 0 | X128: 1 | Y128: 0 | Z128: 0 | AA128: 0 | AB128: 0 | AC128: 0 | AD128: 0 | AE128: 0 | AF128: 0 | AG128: 0 | AH128: 0 | AI128: 0 | AJ128: 0 | AK128: 0 | AL128: 0 | AM128: 0 | AN128: 0 | AO128: 0 | AP128: 0 | AQ128: 0 | AR128: 0 | AS128: 0 | AU128: 1 | AV128: 1 | AW128: 0
A129: 0 | B129: 0 | C129: 0 | D129: 0 | E129: 0 | F129: 0 | G129: 0 | H129: 0 | I129: 0 | J129: 0 | K129: 0 | L129: 0 | M129: 0 | N129: 0 | O129: 0 | P129: 0 | Q129: 0 | R129: 0 | S129: 0 | T129: 0 | U129: 0 | V129: 1 | W129: 0 | X129: 0 | Y129: 0 | Z129: 0 | AA129: 0 | AB129: 0 | AC129: 0 | AD129: 0 | AE129: 1 | AF129: 0 | AG129: 0 | AH129: 0 | AI129: 0 | AJ129: 0 | AK129: 0 | AL129: 0 | AM129: 0 | AN129: 0 | AO129: 0 | AP129: 0 | AQ129: 0 | AR129: 0 | AS129: 0 | AT129: 0 | AU129: 1 | AV129: 0 | AW129: 0
A130: 0 | B130: 0 | C130: 0 | D130: 0 | E130: 0 | F130: 0 | G130: 0 | H130: 1 | I130: 0 | J130: 0 | K130: 0 | L130: 0 | M130: 0 | N130: 0 | O130: 0 | P130: 0 | Q130: 0 | R130: 0 | S130: 1 | T130: 0 | U130: 0 | V130: 0 | W130: 0 | X130: 0 | Y130: 0 | Z130: 1 | AA130: 0 | AB130: 0 | AC130: 0 | AD130: 0 | AE130: 1 | AF130: 0 | AG130: 0 | AH130: 0 | AI130: 0 | AJ130: 0 | AK130: 0 | AL130: 0 | AM130: 0 | AN130: 1 | AO130: 0 | AP130: 0 | AQ130: 0 | AR130: 0 | AS130: 0 | AT130: 0 | AU130: 0 | AV130: 0 | AW130: 0
A131: 1 | B131: 0 | C131: 0 | D131: 0 | E131: 0 | F131: 0 | G131: 0 | H131: 0 | I131: 0 | J131: 0 | K131: 0 | L131: 0 | M131: 0 | N131: 0 | O131: 0 | P131: 0 | Q131: 0 | R131: 0 | S131: 0 | T131: 0 | U131: 0 | V131: 0 | W131: 0 | X131: 0 | Y131: 0 | Z131: 0 | AA131: 0 | AB131: 0 | AC131: 0 | AD131: 0 | AE131: 0 | AF131: 0 | AG131: 0 | AH131: 0 | AI131: 0 | AJ131: 0 | AK131: 1 | AL131: 0 | AM131: 0 | AN131: 0 | AO131: 0 | AP131: 0 | AQ131: 0 | AR131: 0 | AS131: 0 | AT131: 0 | AU131: 0 | AV131: 1 | AW131: 0
A132: 0 | B132: 0 | C132: 0 | D132: 0 | E132: 0 | F132: 0 | G132: 0 | H132: 0 | I132: 0 | J132: 0 | K132: 0 | L132: 0 | M132: 0 | N132: 0 | O132: 0 | P132: 0 | Q132: 0 | R132: 0 | S132: 1 | T132: 0 | U132: 0 | V132: 0 | W132: 0 | X132: 0 | Y132: 0 | Z132: 0 | AA132: 0 | AB132: 0 | AC132: 0 | AD132: 0 | AE132: 1 | AF132: 0 | AG132: 0 | AH132: 0 | AI132: 0 | AJ132: 0 | AK132: 0 | AL132: 0 | AM132: 0 | AN132: 0 | AO132: 0 | AP132: 0 | AQ132: 0 | AR132: 0 | AS132: 0 | AT132: 0 | AU132: 0 | AV132: 0 | AW132: 0
A133: 0 | B133: 1 | C133: 0 | D133: 0 | E133: 0 | F133: 0 | G133: 0 | H133: 0 | I133: 0 | J133: 0 | K133: 0 | L133: 0 | M133: 0 | N133: 0 | O133: 0 | P133: 0 | Q133: 0 | R133: 1 | S133: 0 | T133: 0 | U133: 0 | V133: 0 | W133: 0 | X133: 0 | Y133: 0 | Z133: 0 | AA133: 0 | AB133: 0 | AC133: 1 | AD133: 0 | AE133: 0 | AF133: 0 | AG133: 0 | AH133: 1 | AI133: 0 | AJ133: 0 | AK133: 0 | AL133: 0 | AM133: 0 | AN133: 0 | AO133: 1 | AP133: 0 | AQ133: 0 | AR133: 0 | AS133: 0 | AT133: 0 | AU133: 0 | AV133: 0 | AW133: 0
A134: 0 | B134: 0 | C134: 0 | D134: 0 | E134: 0 | F134: 0 | G134: 0 | H134: 0 | I134: 0 | J134: 0 | K134: 0 | L134: 0 | M134: 0 | N134: 0 | O134: 0 | P134: 0 | Q134: 0 | R134: 0 | S134: 0 | T134: 0 | U134: 0 | V134: 0 | W134: 0 | X134: 0 | Y134: 0 | Z134: 0 | AA134: 0 | AB134: 0 | AC134: 0 | AD134: 0 | AE134: 1 | AF134: 0 | AG134: 0 | AH134: 0 | AI134: 0 | AJ134: 0 | AK134: 0 | AL134: 0 | AM134: 0 | AN134: 0 | AO134: 0 | AP134: 0 | AQ134: 0 | AR134: 0 | AS134: 0 | AT134: 0 | AU134: 0 | AV134: 0 | AW134: 0
A135: 0 | B135: 0 | C135: 0 | D135: 0 | E135: 0 | F135: 0 | G135: 0 | H135: 0 | I135: 0 | J135: 0 | K135: 0 | L135: 0 | M135: 0 | N135: 0 | O135: 0 | P135: 0 | Q135: 0 | R135: 0 | S135: 0 | T135: 1 | U135: 0 | V135: 0 | W135: 0 | X135: 0 | Y135: 0 | Z135: 0 | AA135: 0 | AB135: 0 | AC135: 0 | AD135: 0 | AE135: 0 | AF135: 0 | AG135: 0 | AH135: 0 | AI135: 0 | AJ135: 0 | AK135: 0 | AL135: 0 | AM135: 0 | AN135: 0 | AO135: 0 | AP135: 0 | AQ135: 0 | AR135: 0 | AS135: 0 | AT135: 0 | AU135: 0 | AV135: 0 | AW135: 0
A136: 0 | B136: 1 | C136: 0 | D136: 0 | E136: 0 | F136: 0 | G136: 0 | H136: 0 | I136: 1 | J136: 0 | K136: 0 | L136: 0 | M136: 0 | N136: 0 | O136: 0 | P136: 0 | Q136: 0 | R136: 0 | S136: 0 | T136: 0 | U136: 0 | V136: 0 | W136: 0 | X136: 0 | Y136: 0 | Z136: 0 | AA136: 0 | AB136: 0 | AC136: 0 | AD136: 0 | AE136: 0 | AF136: 0 | AG136: 0 | AH136: 1 | AI136: 0 | AJ136: 0 | AK136: 0 | AL136: 0 | AM136: 0 | AN136: 0 | AO136: 0 | AP136: 0 | AQ136: 0 | AR136: 0 | AS136: 0 | AT136: 0 | AU136: 0 | AV136: 0 | AW136: 0
A137: 0 | B137: 0 | C137: 0 | D137: 0 | E137: 0 | F137: 0 | G137: 0 | H137: 1 | I137: 0 | J137: 0 | K137: 0 | L137: 0 | M137: 0 | N137: 0 | O137: 0 | P137: 0 | Q137: 0 | R137: 0 | S137: 0 | T137: 0 | U137: 0 | V137: 0 | W137: 0 | X137: 0 | Y137: 0 | Z137: 0 | AA137: 0 | AB137: 0 | AC137: 0 | AD137: 0 | AE137: 0 | AF137: 0 | AG137: 0 | AH137: 0 | AI137: 0 | AJ137: 0 | AK137: 0 | AL137: 1 | AM137: 0 | AN137: 0 | AO137: 0 | AP137: 0 | AQ137: 0 | AR137: 0 | AS137: 0 | AT137: 0 | AU137: 0 | AV137: 0 | AW137: 0
A138: 1 | B138: 0 | C138: 0 | D138: 0 | E138: 0 | F138: 0 | G138: 0 | H138: 0 | I138: 1 | J138: 0 | K138: 1 | L138: 0 | M138: 0 | N138: 0 | O138: 0 | P138: 0 | Q138: 0 | R138: 0 | S138: 0 | T138: 0 | U138: 0 | V138: 0 | W138: 0 | X138: 0 | Y138: 0 | Z138: 0 | AA138: 0 | AB138: 0 | AC138: 0 | AD138: 0 | AE138: 0 | AF138: 0 | AG138: 0 | AH138: 0 | AI138: 0 | AJ138: 0 | AK138: 0 | AL138: 1 | AM138: 0 | AN138: 0 | AO138: 0 | AP138: 0 | AQ138: 0 | AR138: 0 | AS138: 0 | AT138: 0 | AU138: 0 | AV138: 0 | AW138: 0
A139: 1 | B139: 0 | C139: 0 | D139: 0 | E139: 0 | F139: 0 | G139: 0 | H139: 0 | I139: 0 | J139: 0 | K139: 0 | L139: 0 | M139: 0 | N139: 0 | O139: 0 | P139: 0 | Q139: 0 | R139: 0 | S139: 0 | T139: 0 | U139: 0 | V139: 0 | W139: 0 | X139: 0 | Y139: 0 | Z139: 0 | AA139: 0 | AB139: 0 | AC139: 0 | AD139: 0 | AE139: 0 | AF139: 0 | AG139: 0 | AH139: 0 | AI139: 0 | AJ139: 0 | AK139: 0 | AL139: 0 | AM139: 0 | AN139: 0 | AO139: 0 | AP139: 0 | AQ139: 0 | AR139: 0 | AS139: 0 | AT139: 0 | AU139: 0 | AV139: 0 | AW139: 0
A140: 0 | B140: 0 | C140: 0 | D140: 0 | E140: 0 | F140: 0 | G140: 0 | H140: 0 | I140: 0 | J140: 0 | K140: 0 | L140: 0 | M140: 0 | N140: 0 | O140: 0 | P140: 1 | Q140: 0 | R140: 0 | S140: 0 | T140: 0 | U140: 0 | V140: 0 | W140: 0 | X140: 0 | Y140: 0 | Z140: 0 | AA140: 0 | AB140: 0 | AC140: 0 | AD140: 1 | AE140: 0 | AF140: 0 | AG140: 0 | AH140: 0 | AI140: 0 | AJ140: 0 | AK140: 0 | AL140: 0 | AM140: 0 | AN140: 0 | AO140: 0 | AP140: 0 | AQ140: 0 | AR140: 0 | AS140: 0 | AT140: 0 | AU140: 1 | AV140: 0 | AW140: 0
... A151: 0 | B151: 0 | C151: 0 | D151: 0 | E151: 0 | F151: 0 | G151: 0 | H151: 0 | I151: 0 | J151: 0 | K151: 0 | L151: 0 | M151: 0 | N151: 0 | O151: 0 | P151: 0 | Q151: 0 | R151: 0 | S151: 0 | T151: 0 | U151: 0 | V151: 0 | W151: 0 | X151: 0 | Y151: 0 | Z151: 0 | AA151: 0 | AB151: 1 | AC151: 0 | AD151: 0 | AE151: 0 | AF151: 0 | AG151: 0 | AH151: 0 | AI151: 0 | AJ151: 0 | AK151: 1 | AL151: 0 | AM151: 0 | AN151: 0 | AO151: 0 | AP151: 0 | AQ151: 0 | AR151: 0 | AS151: 0 | AT151: 0 | AU151: 1 | AV151: 0 | AW151: 0
A152: 0 | B152: 1 | C152: 0 | D152: 0 | E152: 0 | F152: 0 | G152: 0 | H152: 0 | I152: 0 | J152: 1 | K152: 0 | L152: 0 | M152: 0 | N152: 0 | O152: 0 | P152: 0 | Q152: 0 | R152: 0 | S152: 0 | T152: 0 | U152: 0 | V152: 0 | W152: 0 | X152: 0 | Y152: 0 | Z152: 0 | AA152: 0 | AB152: 0 | AC152: 0 | AD152: 0 | AE152: 1 | AF152: 0 | AG152: 0 | AH152: 0 | AI152: 0 | AJ152: 0 | AL152: 0 | AM152: 0 | AN152: 0 | AO152: 1 | AP152: 1 | AQ152: 0 | AR152: 0 | AS152: 1 | AT152: 0 | AU152: 0 | AV152: 0 | AW152: 0
A153: 0 | B153: 0 | C153: 0 | D153: 0 | E153: 0 | F153: 0 | G153: 1 | H153: 0 | I153: 0 | J153: 0 | K153: 0 | L153: 0 | M153: 0 | N153: 0 | O153: 1 | P153: 0 | Q153: 0 | R153: 0 | S153: 0 | T153: 0 | U153: 0 | V153: 0 | W153: 0 | X153: 0 | Y153: 0 | Z153: 0 | AA153: 0 | AB153: 0 | AC153: 0 | AD153: 0 | AE153: 0 | AF153: 0 | AG153: 0 | AH153: 0 | AI153: 0 | AJ153: 0 | AL153: 0 | AM153: 0 | AN153: 1 | AO153: 0 | AP153: 0 | AQ153: 0 | AR153: 0 | AS153: 0 | AT153: 0 | AU153: 0 | AV153: 0 | AW153: 0
A154: 0 | B154: 0 | C154: 0 | D154: 0 | E154: 0 | F154: 0 | G154: 0 | H154: 0 | I154: 0 | J154: 0 | K154: 0 | L154: 0 | M154: 0 | N154: 0 | O154: 0 | P154: 0 | Q154: 0 | R154: 0 | S154: 0 | T154: 0 | U154: 0 | V154: 0 | W154: 0 | X154: 0 | Y154: 0 | Z154: 0 | AA154: 0 | AB154: 0 | AC154: 0 | AD154: 0 | AE154: 0 | AF154: 0 | AG154: 0 | AH154: 0 | AI154: 0 | AJ154: 0 | AL154: 0 | AM154: 0 | AN154: 0 | AO154: 0 | AP154: 0 | AQ154: 0 | AR154: 0 | AS154: 0 | AT154: 1 | AU154: 0 | AV154: 0 | AW154: 0
A155: 0 | B155: 0 | C155: 0 | D155: 0 | E155: 0 | F155: 0 | G155: 0 | H155: 0 | I155: 1 | J155: 0 | K155: 0 | L155: 0 | M155: 0 | N155: 1 | O155: 0 | P155: 0 | Q155: 0 | R155: 0 | S155: 0 | T155: 0 | U155: 0 | V155: 0 | W155: 0 | X155: 0 | Y155: 0 | Z155: 1 | AA155: 0 | AB155: 0 | AC155: 0 | AD155: 0 | AE155: 0 | AF155: 0 | AG155: 0 | AH155: 0 | AI155: 0 | AJ155: 0 | AK155: 1 | AL155: 0 | AM155: 0 | AN155: 0 | AO155: 0 | AP155: 0 | AQ155: 0 | AR155: 0 | AS155: 0 | AT155: 0 | AU155: 0 | AV155: 0 | AW155: 0
A156: 0 | B156: 0 | C156: 0 | D156: 0 | E156: 0 | F156: 0 | G156: 0 | H156: 0 | I156: 0 | J156: 0 | K156: 1 | L156: 0 | M156: 0 | N156: 0 | O156: 0 | P156: 0 | Q156: 0 | R156: 0 | S156: 0 | T156: 0 | U156: 0 | V156: 0 | W156: 0 | X156: 1 | Y156: 0 | Z156: 0 | AA156: 0 | AB156: 0 | AC156: 0 | AD156: 0 | AE156: 0 | AF156: 0 | AG156: 0 | AH156: 0 | AI156: 0 | AJ156: 0 | AL156: 0 | AM156: 0 | AN156: 1 | AO156: 0 | AP156: 1 | AQ156: 0 | AR156: 0 | AS156: 0 | AT156: 0 | AU156: 0 | AV156: 0 | AW156: 0
A157: 1 | B157: 0 | C157: 0 | D157: 0 | E157: 0 | F157: 0 | G157: 0 | H157: 0 | I157: 0 | J157: 0 | K157: 0 | L157: 0 | M157: 0 | N157: 0 | O157: 0 | P157: 0 | Q157: 1 | R157: 0 | S157: 0 | T157: 0 | U157: 0 | V157: 0 | W157: 0 | X157: 0 | Y157: 0 | Z157: 0 | AA157: 0 | AB157: 0 | AC157: 0 | AD157: 1 | AE157: 1 | AF157: 1 | AG157: 1 | AH157: 0 | AI157: 0 | AJ157: 0 | AL157: 0 | AM157: 0 | AN157: 0 | AO157: 0 | AP157: 0 | AQ157: 0 | AR157: 0 | AS157: 0 | AT157: 0 | AU157: 0 | AV157: 0 | AW157: 0
A158: 0 | B158: 0 | C158: 0 | D158: 0 | E158: 0 | F158: 0 | G158: 0 | H158: 0 | I158: 0 | J158: 0 | K158: 0 | L158: 0 | M158: 0 | N158: 0 | O158: 0 | P158: 0 | Q158: 1 | R158: 0 | S158: 0 | T158: 0 | U158: 0 | V158: 0 | W158: 0 | X158: 0 | Y158: 0 | Z158: 0 | AA158: 1 | AB158: 0 | AC158: 0 | AD158: 0 | AE158: 0 | AF158: 0 | AG158: 0 | AH158: 0 | AI158: 1 | AJ158: 0 | AK158: 1 | AL158: 0 | AM158: 0 | AN158: 0 | AO158: 0 | AP158: 0 | AQ158: 0 | AR158: 0 | AS158: 0 | AT158: 0 | AU158: 0 | AV158: 0 | AW158: 0
A159: 0 | B159: 0 | C159: 0 | D159: 0 | E159: 0 | F159: 0 | G159: 0 | H159: 0 | I159: 0 | J159: 0 | K159: 0 | L159: 0 | M159: 0 | N159: 0 | O159: 0 | P159: 0 | Q159: 0 | R159: 0 | S159: 0 | T159: 0 | U159: 0 | V159: 0 | W159: 0 | X159: 0 | Y159: 0 | Z159: 0 | AA159: 0 | AB159: 0 | AC159: 1 | AD159: 0 | AE159: 0 | AF159: 0 | AG159: 0 | AH159: 0 | AI159: 0 | AJ159: 0 | AK159: 0 | AL159: 0 | AM159: 0 | AN159: 0 | AO159: 0 | AP159: 1 | AQ159: 0 | AR159: 0 | AS159: 0 | AT159: 0 | AU159: 0 | AV159: 0 | AW159: 0
A160: 0 | B160: 0 | C160: 0 | D160: 0 | E160: 0 | F160: 0 | G160: 0 | H160: 0 | I160: 0 | J160: 0 | K160: 0 | L160: 0 | M160: 0 | N160: 0 | O160: 0 | P160: 1 | Q160: 0 | R160: 0 | S160: 0 | T160: 0 | U160: 0 | V160: 0 | W160: 0 | X160: 1 | Y160: 0 | Z160: 0 | AA160: 0 | AB160: 0 | AC160: 0 | AD160: 0 | AE160: 0 | AF160: 0 | AG160: 0 | AH160: 0 | AI160: 0 | AJ160: 0 | AK160: 0 | AL160: 0 | AM160: 0 | AN160: 0 | AO160: 0 | AQ160: 0 | AR160: 0 | AS160: 0 | AT160: 0 | AU160: 0 | AV160: 0 | AW160: 0
A161: 0 | B161: 0 | C161: 0 | D161: 0 | E161: 0 | F161: 0 | G161: 0 | H161: 0 | I161: 0 | J161: 1 | K161: 0 | L161: 0 | M161: 0 | N161: 0 | O161: 0 | P161: 0 | Q161: 0 | R161: 0 | S161: 0 | T161: 0 | U161: 0 | V161: 0 | W161: 0 | X161: 0 | Y161: 0 | Z161: 0 | AA161: 0 | AB161: 0 | AC161: 0 | AD161: 0 | AE161: 0 | AF161: 1 | AG161: 0 | AH161: 0 | AI161: 0 | AJ161: 0 | AK161: 0 | AL161: 0 | AM161: 0 | AN161: 0 | AO161: 0 | AP161: 0 | AQ161: 0 | AR161: 0 | AS161: 0 | AT161: 0 | AU161: 1 | AV161: 0 | AW161: 0
A162: 0 | B162: 0 | C162: 0 | D162: 0 | E162: 0 | F162: 0 | G162: 0 | H162: 0 | I162: 1 | J162: 1 | K162: 0 | L162: 0 | M162: 0 | N162: 0 | O162: 0 | P162: 0 | Q162: 0 | R162: 0 | S162: 0 | T162: 0 | U162: 0 | V162: 0 | W162: 0 | X162: 0 | Y162: 0 | Z162: 0 | AA162: 0 | AB162: 0 | AC162: 0 | AD162: 0 | AE162: 0 | AF162: 0 | AG162: 0 | AH162: 0 | AI162: 0 | AJ162: 0 | AK162: 0 | AL162: 0 | AM162: 0 | AN162: 1 | AO162: 0 | AP162: 0 | AQ162: 0 | AR162: 0 | AS162: 1 | AT162: 0 | AU162: 0 | AV162: 0 | AW162: 0
A163: 0 | B163: 0 | C163: 0 | D163: 0 | E163: 0 | F163: 0 | G163: 0 | H163: 0 | I163: 0 | J163: 0 | K163: 0 | L163: 0 | M163: 0 | N163: 0 | O163: 0 | P163: 0 | Q163: 1 | R163: 0 | S163: 0 | T163: 0 | U163: 0 | V163: 0 | W163: 0 | X163: 1 | Y163: 0 | Z163: 0 | AA163: 0 | AB163: 1 | AC163: 0 | AD163: 0 | AE163: 1 | AF163: 0 | AG163: 0 | AH163: 0 | AI163: 0 | AJ163: 0 | AK163: 0 | AL163: 0 | AM163: 0 | AN163: 0 | AO163: 1 | AP163: 0 | AQ163: 0 | AR163: 0 | AS163: 0 | AT163: 0 | AU163: 0 | AV163: 0 | AW163: 0
A164: 0 | B164: 0 | C164: 1 | D164: 0 | E164: 0 | F164: 0 | G164: 0 | H164: 0 | I164: 0 | J164: 0 | K164: 0 | L164: 0 | M164: 0 | N164: 0 | O164: 0 | P164: 1 | Q164: 0 | R164: 0 | S164: 0 | T164: 0 | U164: 1 | V164: 0 | W164: 0 | X164: 0 | Y164: 0 | Z164: 1 | AA164: 1 | AB164: 0 | AC164: 0 | AD164: 0 | AE164: 0 | AF164: 0 | AG164: 0 | AH164: 0 | AI164: 0 | AJ164: 0 | AK164: 0 | AL164: 0 | AM164: 0 | AN164: 0 | AO164: 0 | AP164: 0 | AQ164: 0 | AR164: 0 | AS164: 0 | AT164: 0 | AU164: 0 | AV164: 0 | AW164: 0
A165: 0 | B165: 0 | C165: 0 | D165: 0 | E165: 0 | F165: 0 | G165: 0 | H165: 0 | I165: 0 | J165: 0 | K165: 1 | L165: 0 | M165: 0 | N165: 0 | O165: 0 | P165: 0 | Q165: 0 | R165: 0 | S165: 0 | T165: 0 | U165: 0 | V165: 0 | W165: 0 | X165: 0 | Y165: 0 | AA165: 0 | AB165: 0 | AC165: 0 | AD165: 0 | AE165: 0 | AF165: 1 | AG165: 0 | AH165: 0 | AI165: 0 | AJ165: 0 | AK165: 0 | AL165: 0 | AM165: 0 | AN165: 0 | AO165: 0 | AP165: 0 | AQ165: 0 | AR165: 0 | AS165: 0 | AT165: 0 | AU165: 0 | AV165: 0 | AW165: 0
A166: 0 | B166: 0 | C166: 0 | D166: 0 | E166: 0 | F166: 0 | G166: 0 | H166: 0 | I166: 0 | J166: 0 | K166: 0 | L166: 0 | M166: 0 | N166: 0 | O166: 0 | P166: 0 | Q166: 0 | R166: 1 | S166: 0 | T166: 0 | U166: 0 | V166: 0 | W166: 0 | X166: 1 | Y166: 0 | AA166: 1 | AB166: 0 | AC166: 0 | AD166: 0 | AE166: 0 | AF166: 0 | AG166: 0 | AH166: 0 | AI166: 0 | AJ166: 0 | AK166: 0 | AL166: 0 | AM166: 0 | AN166: 0 | AO166: 0 | AP166: 0 | AQ166: 0 | AR166: 0 | AS166: 0 | AT166: 1 | AU166: 0 | AV166: 0 | AW166: 0
A167: 0 | B167: 0 | C167: 0 | D167: 0 | E167: 0 | F167: 0 | G167: 0 | H167: 0 | I167: 1 | J167: 0 | K167: 0 | L167: 0 | M167: 0 | N167: 0 | O167: 0 | P167: 0 | Q167: 0 | R167: 0 | S167: 0 | T167: 0 | U167: 0 | V167: 0 | W167: 0 | X167: 0 | Y167: 0 | AA167: 1 | AB167: 0 | AC167: 1 | AD167: 0 | AE167: 0 | AF167: 0 | AG167: 1 | AH167: 0 | AI167: 0 | AJ167: 0 | AK167: 0 | AL167: 0 | AM167: 0 | AN167: 1 | AO167: 0 | AP167: 0 | AQ167: 0 | AR167: 0 | AS167: 0 | AT167: 0 | AU167: 0 | AV167: 0 | AW167: 0
A168: 0 | B168: 0 | C168: 0 | D168: 0 | E168: 0 | F168: 0 | G168: 0 | H168: 0 | I168: 0 | J168: 0 | K168: 0 | L168: 1 | M168: 0 | N168: 0 | O168: 0 | P168: 0 | Q168: 0 | R168: 0 | S168: 0 | T168: 0 | U168: 0 | V168: 0 | W168: 0 | X168: 0 | Y168: 0 | AA168: 0 | AB168: 0 | AC168: 0 | AD168: 0 | AE168: 0 | AF168: 0 | AG168: 0 | AH168: 0 | AI168: 0 | AJ168: 0 | AK168: 0 | AL168: 0 | AM168: 0 | AN168: 0 | AO168: 0 | AP168: 0 | AQ168: 0 | AR168: 0 | AS168: 0 | AT168: 0 | AU168: 1 | AV168: 1 | AW168: 0
A169: 1 | B169: 0 | C169: 0 | D169: 0 | E169: 0 | F169: 0 | G169: 0 | H169: 0 | I169: 1 | J169: 0 | K169: 1 | L169: 0 | M169: 0 | N169: 0 | O169: 0 | P169: 0 | Q169: 1 | R169: 0 | S169: 0 | T169: 0 | U169: 0 | V169: 0 | W169: 0 | X169: 0 | Y169: 0 | AA169: 0 | AB169: 0 | AC169: 0 | AD169: 0 | AE169: 0 | AF169: 1 | AG169: 0 | AH169: 0 | AI169: 0 | AJ169: 0 | AK169: 0 | AL169: 0 | AM169: 0 | AN169: 0 | AO169: 0 | AP169: 0 | AQ169: 0 | AR169: 0 | AS169: 0 | AT169: 0 | AU169: 0 | AV169: 0 | AW169: 0
A170: 0 | B170: 0 | C170: 0 | D170: 0 | E170: 0 | F170: 0 | G170: 0 | H170: 0 | I170: 0 | J170: 0 | K170: 0 | L170: 0 | M170: 0 | N170: 0 | O170: 0 | P170: 0 | Q170: 0 | R170: 0 | S170: 0 | T170: 0 | U170: 0 | V170: 0 | W170: 0 | X170: 0 | Y170: 0 | Z170: 2 | AA170: 0 | AB170: 0 | AC170: 0 | AD170: 0 | AE170: 0 | AF170: 0 | AG170: 0 | AH170: 0 | AI170: 0 | AJ170: 0 | AK170: 0 | AL170: 0 | AM170: 0 | AN170: 0 | AO170: 0 | AP170: 0 | AQ170: 0 | AR170: 0 | AS170: 0 | AT170: 0 | AU170: 1 | AV170: 0 | AW170: 0
A171: 0 | B171: 0 | C171: 1 | D171: 0 | E171: 0 | F171: 0 | G171: 0 | H171: 0 | I171: 1 | J171: 0 | K171: 0 | L171: 0 | M171: 0 | N171: 0 | O171: 0 | P171: 0 | Q171: 0 | R171: 0 | S171: 0 | T171: 0 | U171: 0 | V171: 0 | W171: 0 | X171: 0 | Y171: 0 | Z171: 0 | AA171: 0 | AB171: 0 | AC171: 0 | AD171: 0 | AE171: 0 | AF171: 0 | AG171: 0 | AH171: 0 | AI171: 0 | AJ171: 0 | AL171: 0 | AM171: 0 | AN171: 0 | AO171: 0 | AP171: 0 | AQ171: 0 | AR171: 0 | AS171: 0 | AT171: 0 | AU171: 0 | AV171: 0 | AW171: 0
A172: 0 | B172: 0 | C172: 0 | D172: 0 | E172: 0 | F172: 0 | G172: 0 | H172: 0 | I172: 0 | J172: 0 | K172: 0 | L172: 0 | M172: 0 | N172: 0 | O172: 0 | P172: 0 | Q172: 0 | R172: 0 | S172: 0 | T172: 0 | U172: 0 | W172: 0 | X172: 0 | Y172: 0 | Z172: 0 | AA172: 0 | AB172: 0 | AC172: 0 | AD172: 0 | AE172: 1 | AF172: 0 | AG172: 0 | AH172: 0 | AI172: 0 | AJ172: 0 | AK172: 1 | AL172: 0 | AM172: 0 | AN172: 0 | AO172: 0 | AP172: 0 | AQ172: 0 | AR172: 0 | AS172: 0 | AT172: 0 | AU172: 0 | AV172: 0 | AW172: 0
A173: 1 | B173: 0 | C173: 0 | D173: 0 | E173: 0 | F173: 0 | G173: 0 | H173: 1 | I173: 0 | J173: 0 | K173: 1 | L173: 0 | M173: 0 | N173: 0 | O173: 0 | P173: 0 | Q173: 0 | R173: 0 | S173: 0 | T173: 0 | U173: 0 | V173: 1 | W173: 0 | X173: 0 | Y173: 0 | Z173: 0 | AA173: 0 | AB173: 0 | AC173: 0 | AD173: 0 | AE173: 0 | AF173: 0 | AG173: 0 | AH173: 0 | AI173: 0 | AJ173: 0 | AK173: 0 | AL173: 1 | AM173: 0 | AN173: 0 | AO173: 0 | AP173: 0 | AQ173: 0 | AR173: 0 | AS173: 0 | AT173: 1 | AU173: 0 | AV173: 0 | AW173: 0
A174: 1 | B174: 0 | C174: 0 | D174: 0 | E174: 0 | F174: 0 | G174: 0 | H174: 1 | I174: 0 | J174: 0 | K174: 0 | L174: 0 | M174: 0 | N174: 0 | O174: 0 | P174: 0 | Q174: 0 | R174: 0 | S174: 0 | T174: 0 | U174: 0 | V174: 0 | W174: 0 | X174: 0 | Y174: 0 | Z174: 0 | AA174: 0 | AB174: 0 | AC174: 0 | AD174: 0 | AE174: 0 | AF174: 0 | AG174: 0 | AH174: 0 | AI174: 0 | AJ174: 0 | AK174: 0 | AL174: 1 | AM174: 0 | AN174: 0 | AO174: 0 | AP174: 0 | AQ174: 1 | AR174: 0 | AS174: 0 | AT174: 0 | AU174: 0 | AV174: 0 | AW174: 0
A175: 0 | B175: 1 | C175: 0 | D175: 0 | E175: 0 | F175: 0 | G175: 1 | H175: 0 | I175: 0 | J175: 0 | K175: 0 | L175: 0 | M175: 0 | N175: 0 | O175: 0 | P175: 1 | Q175: 0 | R175: 0 | S175: 0 | T175: 0 | U175: 0 | V175: 0 | W175: 0 | X175: 0 | Y175: 0 | Z175: 0 | AA175: 0 | AB175: 0 | AC175: 0 | AD175: 0 | AE175: 0 | AF175: 0 | AG175: 0 | AH175: 0 | AI175: 0 | AJ175: 0 | AK175: 0 | AL175: 0 | AM175: 0 | AN175: 0 | AO175: 0 | AP175: 1 | AQ175: 0 | AR175: 0 | AS175: 0 | AT175: 0 | AU175: 0 | AV175: 0 | AW175: 0
A176: 0 | B176: 0 | C176: 0 | D176: 0 | E176: 0 | F176: 0 | G176: 0 | H176: 0 | I176: 0 | J176: 0 | K176: 0 | L176: 0 | M176: 0 | N176: 0 | O176: 0 | P176: 0 | Q176: 0 | R176: 0 | S176: 0 | T176: 0 | U176: 0 | V176: 0 | W176: 0 | X176: 0 | Y176: 0 | Z176: 0 | AA176: 0 | AB176: 0 | AC176: 0 | AD176: 0 | AE176: 0 | AF176: 0 | AG176: 0 | AH176: 0 | AI176: 0 | AJ176: 0 | AK176: 0 | AL176: 0 | AM176: 0 | AN176: 0 | AO176: 0 | AP176: 0 | AQ176: 0 | AR176: 0 | AS176: 1 | AT176: 0 | AU176: 0 | AV176: 0 | AW176: 0
A177: 0 | B177: 0 | C177: 0 | D177: 0 | E177: 0 | F177: 0 | G177: 0 | H177: 0 | I177: 0 | J177: 0 | K177: 0 | L177: 0 | M177: 0 | N177: 0 | O177: 0 | P177: 0 | Q177: 0 | R177: 0 | S177: 0 | T177: 0 | U177: 0 | V177: 0 | W177: 0 | X177: 0 | Y177: 0 | Z177: 0 | AA177: 0 | AB177: 0 | AC177: 0 | AD177: 0 | AE177: 0 | AF177: 0 | AG177: 0 | AH177: 0 | AI177: 1 | AJ177: 0 | AK177: 1 | AL177: 0 | AM177: 0 | AN177: 0 | AO177: 1 | AP177: 0 | AQ177: 0 | AR177: 0 | AS177: 0 | AT177: 0 | AU177: 0 | AV177: 0 | AW177: 0
A178: 0 | B178: 0 | C178: 0 | D178: 0 | E178: 0 | F178: 0 | G178: 0 | H178: 0 | I178: 0 | J178: 0 | K178: 0 | L178: 0 | M178: 0 | N178: 0 | O178: 0 | P178: 0 | Q178: 0 | R178: 0 | S178: 0 | T178: 0 | U178: 0 | V178: 0 | W178: 0 | X178: 1 | Y178: 0 | Z178: 0 | AA178: 0 | AB178: 0 | AC178: 0 | AD178: 0 | AE178: 0 | AF178: 0 | AG178: 0 | AH178: 0 | AI178: 0 | AJ178: 0 | AK178: 0 | AL178: 0 | AM178: 0 | AN178: 0 | AO178: 0 | AP178: 0 | AQ178: 0 | AR178: 0 | AS178: 0 | AT178: 0 | AU178: 0 | AV178: 0 | AW178: 0
A179: 0 | B179: 0 | C179: 0 | D179: 0 | E179: 0 | F179: 0 | G179: 0 | H179: 0 | I179: 0 | J179: 0 | K179: 0 | L179: 0 | M179: 0 | N179: 0 | O179: 0 | P179: 0 | Q179: 0 | R179: 0 | S179: 0 | T179: 1 | U179: 0 | V179: 1 | W179: 0 | X179: 1 | Y179: 0 | Z179: 0 | AA179: 0 | AB179: 0 | AC179: 1 | AD179: 0 | AE179: 0 | AF179: 0 | AG179: 0 | AH179: 0 | AI179: 0 | AJ179: 0 | AK179: 0 | AL179: 0 | AM179: 0 | AN179: 0 | AO179: 0 | AP179: 0 | AQ179: 0 | AR179: 1 | AS179: 0 | AT179: 0 | AU179: 0 | AV179: 0 | AW179: 0
A180: 0 | B180: 0 | C180: 0 | D180: 0 | E180: 0 | F180: 0 | G180: 1 | H180: 0 | I180: 0 | J180: 0 | K180: 0 | L180: 0 | M180: 0 | N180: 0 | O180: 0 | P180: 1 | Q180: 0 | R180: 0 | S180: 0 | T180: 0 | U180: 0 | V180: 1 | W180: 0 | X180: 0 | Y180: 0 | Z180: 0 | AA180: 0 | AB180: 0 | AC180: 0 | AD180: 0 | AE180: 0 | AF180: 0 | AG180: 0 | AH180: 0 | AI180: 0 | AJ180: 0 | AK180: 0 | AL180: 0 | AM180: 0 | AN180: 0 | AO180: 0 | AP180: 0 | AQ180: 0 | AR180: 0 | AS180: 0 | AT180: 0 | AU180: 0 | AV180: 0 | AW180: 0
A181: 0 | B181: 0 | C181: 0 | D181: 0 | E181: 0 | F181: 0 | G181: 0 | H181: 0 | I181: 0 | J181: 0 | K181: 0 | L181: 0 | M181: 0 | N181: 0 | O181: 0 | P181: 0 | Q181: 0 | R181: 0 | S181: 0 | T181: 0 | U181: 1 | V181: 0 | W181: 0 | X181: 0 | Y181: 0 | Z181: 0 | AA181: 0 | AB181: 0 | AC181: 0 | AD181: 0 | AE181: 0 | AF181: 0 | AG181: 0 | AH181: 0 | AI181: 0 | AJ181: 0 | AK181: 0 | AL181: 0 | AM181: 0 | AN181: 0 | AO181: 0 | AP181: 0 | AQ181: 0 | AR181: 0 | AS181: 0 | AT181: 0 | AU181: 0 | AV181: 0 | AW181: 0
A182: 0 | B182: 0 | C182: 0 | D182: 0 | E182: 0 | F182: 0 | G182: 0 | H182: 0 | I182: 1 | J182: 0 | K182: 1 | L182: 0 | M182: 0 | N182: 0 | O182: 0 | P182: 0 | Q182: 0 | R182: 0 | S182: 0 | T182: 0 | V182: 0 | W182: 0 | X182: 0 | Y182: 0 | Z182: 1 | AA182: 0 | AB182: 0 | AC182: 0 | AD182: 0 | AE182: 0 | AF182: 1 | AG182: 0 | AH182: 0 | AI182: 0 | AJ182: 0 | AK182: 0 | AL182: 0 | AM182: 0 | AN182: 0 | AO182: 1 | AP182: 0 | AQ182: 0 | AR182: 0 | AS182: 0 | AT182: 0 | AU182: 0 | AV182: 0 | AW182: 0
A183: 0 | B183: 0 | C183: 0 | D183: 0 | E183: 0 | F183: 0 | G183: 0 | H183: 0 | I183: 0 | J183: 0 | K183: 0 | L183: 0 | M183: 0 | N183: 0 | O183: 0 | P183: 0 | Q183: 0 | R183: 0 | S183: 0 | T183: 0 | U183: 0 | V183: 0 | W183: 0 | X183: 0 | Y183: 0 | Z183: 0 | AA183: 0 | AB183: 0 | AC183: 0 | AD183: 0 | AE183: 0 | AF183: 0 | AG183: 0 | AH183: 0 | AI183: 0 | AJ183: 0 | AK183: 0 | AL183: 0 | AM183: 0 | AN183: 0 | AO183: 0 | AP183: 0 | AQ183: 0 | AR183: 0 | AS183: 0 | AT183: 0 | AU183: 0 | AV183: 1 | AW183: 0
A184: 0 | B184: 0 | C184: 0 | D184: 0 | E184: 0 | F184: 0 | G184: 0 | H184: 0 | I184: 0 | J184: 0 | K184: 0 | L184: 0 | M184: 0 | N184: 0 | O184: 0 | P184: 0 | Q184: 0 | R184: 0 | S184: 0 | T184: 0 | U184: 0 | V184: 0 | W184: 0 | X184: 1 | Y184: 0 | Z184: 0 | AA184: 0 | AB184: 0 | AC184: 0 | AD184: 0 | AE184: 0 | AF184: 0 | AG184: 0 | AH184: 0 | AI184: 0 | AJ184: 0 | AK184: 0 | AL184: 0 | AM184: 0 | AN184: 0 | AO184: 1 | AP184: 0 | AQ184: 0 | AR184: 0 | AS184: 0 | AT184: 1 | AU184: 0 | AV184: 0 | AW184: 0
A185: 0 | B185: 0 | C185: 0 | D185: 0 | E185: 0 | F185: 0 | G185: 0 | H185: 0 | I185: 0 | J185: 0 | K185: 0 | L185: 0 | M185: 0 | N185: 0 | O185: 0 | P185: 0 | Q185: 0 | R185: 0 | S185: 0 | T185: 0 | U185: 0 | V185: 0 | W185: 0 | X185: 0 | Y185: 0 | Z185: 0 | AA185: 0 | AB185: 1 | AC185: 0 | AD185: 0 | AE185: 0 | AF185: 1 | AG185: 0 | AH185: 0 | AI185: 0 | AJ185: 0 | AK185: 0 | AL185: 0 | AM185: 0 | AN185: 0 | AO185: 0 | AP185: 1 | AQ185: 0 | AR185: 0 | AS185: 0 | AT185: 0 | AU185: 0 | AV185: 1 | AW185: 0
A186: 0 | B186: 0 | C186: 0 | D186: 0 | E186: 0 | F186: 0 | G186: 0 | H186: 0 | I186: 0 | J186: 0 | K186: 1 | L186: 0 | M186: 0 | N186: 0 | O186: 0 | P186: 0 | Q186: 1 | R186: 0 | S186: 1 | T186: 0 | U186: 0 | V186: 0 | W186: 0 | X186: 0 | Y186: 0 | Z186: 0 | AA186: 0 | AB186: 0 | AC186: 1 | AD186: 0 | AE186: 0 | AF186: 0 | AG186: 0 | AH186: 0 | AI186: 0 | AJ186: 0 | AK186: 0 | AL186: 0 | AM186: 0 | AN186: 0 | AO186: 0 | AP186: 0 | AQ186: 0 | AR186: 0 | AS186: 0 | AT186: 0 | AU186: 0 | AV186: 0 | AW186: 0
A187: 0 | B187: 0 | C187: 0 | D187: 0 | E187: 0 | F187: 0 | G187: 0 | H187: 0 | I187: 0 | J187: 0 | K187: 0 | L187: 0 | M187: 0 | N187: 0 | O187: 0 | P187: 0 | Q187: 0 | R187: 0 | S187: 0 | T187: 0 | U187: 0 | V187: 1 | W187: 0 | X187: 0 | Y187: 0 | Z187: 0 | AA187: 0 | AB187: 0 | AC187: 0 | AD187: 0 | AE187: 0 | AF187: 0 | AG187: 1 | AH187: 0 | AI187: 0 | AJ187: 0 | AK187: 0 | AL187: 0 | AM187: 0 | AN187: 0 | AO187: 0 | AP187: 0 | AQ187: 0 | AR187: 0 | AS187: 0 | AT187: 0 | AU187: 0 | AV187: 0 | AW187: 0
A188: 0 | B188: 0 | C188: 1 | D188: 0 | E188: 0 | F188: 0 | G188: 0 | H188: 1 | I188: 1 | J188: 1 | K188: 1 | L188: 0 | M188: 0 | N188: 0 | O188: 0 | P188: 0 | Q188: 0 | R188: 0 | S188: 0 | T188: 0 | U188: 0 | V188: 0 | W188: 0 | X188: 0 | Y188: 0 | Z188: 0 | AA188: 0 | AB188: 0 | AC188: 0 | AD188: 0 | AE188: 0 | AF188: 0 | AG188: 0 | AH188: 0 | AI188: 0 | AJ188: 0 | AK188: 0 | AL188: 0 | AM188: 0 | AN188: 0 | AO188: 0 | AP188: 0 | AQ188: 0 | AR188: 0 | AS188: 0 | AT188: 0 | AU188: 0 | AV188: 0 | AW188: 0
A189: 1 | B189: 0 | C189: 0 | D189: 0 | E189: 0 | F189: 0 | G189: 0 | H189: 0 | I189: 0 | J189: 0 | K189: 0 | L189: 0 | M189: 0 | N189: 0 | O189: 0 | P189: 0 | Q189: 0 | R189: 0 | S189: 0 | T189: 0 | U189: 0 | V189: 0 | W189: 0 | X189: 0 | Y189: 0 | Z189: 0 | AA189: 1 | AB189: 0 | AC189: 0 | AD189: 0 | AE189: 0 | AF189: 1 | AG189: 0 | AH189: 0 | AI189: 0 | AJ189: 0 | AK189: 0 | AL189: 0 | AM189: 0 | AN189: 1 | AO189: 0 | AP189: 1 | AQ189: 0 | AR189: 0 | AS189: 0 | AT189: 1 | AU189: 0 | AV189: 0 | AW189: 0
A190: 0 | B190: 1 | C190: 0 | D190: 0 | E190: 0 | F190: 0 | G190: 0 | H190: 1 | I190: 0 | J190: 0 | K190: 0 | L190: 0 | M190: 0 | N190: 0 | O190: 0 | P190: 0 | Q190: 0 | R190: 0 | S190: 0 | T190: 0 | U190: 0 | V190: 0 | W190: 0 | X190: 0 | Y190: 0 | Z190: 1 | AA190: 0 | AB190: 0 | AC190: 0 | AD190: 0 | AE190: 0 | AF190: 0 | AG190: 0 | AH190: 0 | AI190: 1 | AJ190: 0 | AK190: 0 | AL190: 1 | AM190: 0 | AN190: 0 | AO190: 0 | AP190: 0 | AQ190: 0 | AR190: 0 | AS190: 0 | AT190: 0 | AU190: 1 | AV190: 0 | AW190: 0
...

Sheet Figure 1d simulans females
A1: d | B1: da1 | C1: da2 | D1: da3 | E1: da4l | F1: da4m | G1: dc1 | H1: dc2 | I1: dc3 | J1: dc4 | K1: dl1 | L1: dl2d | M1: dl2v | N1: dl3 | O1: dl4 | P1: dl5 | Q1: dm1 | R1: dm2 | S1: dm3 | T1: dm4 | U1: dm5 | V1: dm6 | W1: dp1l | X1: dp1m | Y1: v | Z1: va1d | AA1: va1v | AB1: va2 | AC1: va3 | AD1: va4 | AE1: va5 | AF1: va6 | AG1: va7l | AH1: va7m | AI1: vc1 | AJ1: vc2 | AK1: vc3 | AL1: vc4 | AM1: vl1 | AN1: vl2a | AO1: vl2p | AP1: vm1 | AQ1: vm2 | AR1: vm3 | AS1: vm4 | AT1: vm5d | AU1: vm5v | AV1: vm7d | AW1: vm7v
K2: 1 | AF2: 1 | AJ2: 1 | AL2: 1
A3: 1 | AU3: 1
A4: 1 | B4: 1
R5: 1 | AG5: 1 | AN5: 1
AP6: 1
G7: 1 | AC7: 1 | AK7: 1 | AU7: 1 | AV7: 1
X8: 1 | AD8: 1 | AE8: 1 | AH8: 1
J9: 1 | AE9: 1 | AF9: 1 | AP9: 1
F10: 1 | G10: 1 | H10: 1 | P10: 1 | R10: 1 | V10: 1
K11: 1 | U11: 1 | AA11: 1
X12: 1
AI13: 1
U14: 1 | AC14: 1
E15: 1 | W15: 1 | AE15: 1 | AO15: 1
M16: 1 | P16: 1 | U16: 1 | V16: 1 | AU16: 1
R17: 1 | V17: 1 | AI17: 1
A18: 1 | H18: 1 | AA18: 1 | AQ18: 1
T19: 1 | AT19: 1
K20: 1 | M20: 1 | N20: 1 | AB20: 1 | AG20: 1
S21: 1 | X21: 1 | AL21: 1
A22: 1 | I22: 1 | J22: 1 | T22: 1 | AQ22: 1
A23: 1 | AO23: 1 | AR23: 1 | AU23: 1
B24: 1 | U24: 1
L25: 1 | Q25: 1 | AI25: 1 | AQ25: 1
AJ26: 1
B27: 1 | P27: 1 | Z27: 1 | AJ27: 1
G28: 1 | H28: 1
G29: 1 | AP29: 1 | AR29: 1
Z30: 1 | AA30: 1 | AK30: 1 | AP30: 1 | AU30: 1
R31: 1 | U31: 1 | AH31: 1 | AK31: 1 | AT31: 1
B32: 1 | G32: 1 | P32: 1 | AK32: 1 | AV32: 1
AA33: 1 | AH33: 1
A34: 1 | P34: 1 | AE34: 1 | AF34: 1 | AK34: 1
I35: 1 | AH35: 1 | AP35: 1
O36: 1 | V36: 2
I37: 1 | AK37: 1 | AT37: 1
A38: 1 | AF38: 1 | AU38: 1
B39: 1 | R39: 1 | AE39: 1 | AV39: 1
A40: 1 | AK40: 1
A41: 1 | B41: 1 | D41: 1 | E41: 1 | X41: 1 | AS41: 1
AH42: 1 | AP42: 1
A43: 1 | P43: 1 | V43: 1 | Z43: 1 | AA43: 1 | AP43: 1 | AU43: 1 | AV43: 1
I44: 1 | W44: 1
X45: 1 | AA45: 1 | AF45: 1 | AV45: 1
AC46: 1 | AP46: 1
I47: 1 | AJ47: 1 | AO47: 1
B48: 1 | Z48: 1 | AE48: 1 | AO48: 1 | AP48: 1 | AV48: 1
C49: 1 | AE49: 1
R50: 1 | S50: 1 | V50: 1 | Z50: 1 | AF50: 1 | AK50: 1 | AQ50: 1
H51: 1 | I51: 1 | R51: 1 | AE51: 1 | AQ51: 1 | AV51: 1
H52: 1 | K52: 1 | P52: 1 | S52: 1 | AE52: 1 | AQ52: 1 | AU52: 1 | AV52: 1
K53: 1 | X53: 1 | AC53: 1 | AT53: 1
B54: 1 | I54: 1 | Z54: 1 | AK54: 1
I55: 1 | AB55: 1 | AF55: 1
B56: 1 | G56: 1 | I56: 1 | AK56: 1 | AP56: 1 | AU56: 1 | AV56: 1
B57: 1 | S57: 1 | V57: 1 | AI57: 1 | AV57: 1
AB58: 1 | AH58: 1 | AL58: 1 | AU58: 1
C59: 1 | J59: 1 | P59: 1
I60: 1 | M60: 1 | AA60: 1
G61: 1 | H61: 1 | K61: 1 | N61: 1 | P61: 1 | V61: 1 | AK61: 1 | AU61: 1 | AV61: 1
B62: 1 | G62: 1 | J62: 1 | N62: 1 | P62: 1 | Z62: 1 | AF62: 1
B63: 1 | U63: 1 | AL63: 1 | AQ63: 1
K64: 1 | AK64: 1 | AT64: 1
I65: 1 | AG65: 1 | AJ65: 1 | AK65: 1
T66: 1 | AA66: 1 | AO66: 1
U67: 1 | X67: 1 | AK67: 1 | AU67: 1
U68: 1
G69: 1 | H69: 1 | X69: 1 | AC69: 1
B70: 1 | K70: 1 | P70: 1
T71: 1 | V71: 1 | AE71: 1 | AJ71: 1 | AR71: 1 | AT71: 1
AL72: 1
A73: 1 | H73: 1 | AK73: 1 | AS73: 1 | AV73: 1
I74: 1 | P74: 1 | U74: 1 | V74: 1 | AA74: 1 | AP74: 1
N75: 1 | V75: 1 | AV75: 1
AI76: 1 | AK76: 1 | AU76: 1
H77: 1 | J77: 1 | R77: 1 | AU77: 1
F78: 1 | I78: 1 | P78: 1 | U78: 1 | AN78: 1 | AS78: 1
H79: 1 | I79: 1 | K79: 1 | AU79: 1
I80: 1 | K80: 1 | AF80: 1 | AU80: 1
R81: 1 | AT81: 1
G82: 1 | AE82: 1
H83: 1 | P83: 1 | AE83: 1 | AO83: 1
AC84: 1 | AK84: 2
Z85: 1 | AA85: 1 | AU85: 1
J86: 1 | N86: 1 | X86: 1 | AD86: 1 | AF86: 1
U87: 1 | AA87: 1
G88: 1 | I88: 1 | AI88: 1 | AU88: 1
V89: 1 | AC89: 1 | AE89: 1 | AN89: 1 | AO89: 1
G90: 1 | V90: 1 | AK90: 1 | AU90: 1
B91: 1 | R91: 1 | U91: 1 | V91: 1 | AK91: 1 | AU91: 1
E92: 1 | AE92: 1 | AI92: 1
C93: 1 | P93: 1 | Z93: 1 | AO93: 1 | AP93: 1
B94: 1
V95: 1 | AV95: 1
U97: 1 | V97: 1 | X97: 1 | AA97: 1 | AH97: 1 | AL97: 1 | AU97: 1
I98: 1 | J98: 1 | AC98: 1 | AE98: 1
P99: 1 | W99: 1 | AJ99: 1 | AU99: 1
B100: 1 | I100: 1 | K100: 1 | N100: 1 | Z100: 1
I101: 1 | AB101: 1 | AK101: 1 | AP101: 1
...

Sheet Figure 1d sechellia females
A1: d | B1: da1 | C1: da2 | D1: da3 | E1: da4l | F1: da4m | G1: dc1 | H1: dc2 | I1: dc3 | J1: dc4 | K1: dl1 | L1: dl2d | M1: dl2v | N1: dl3 | O1: dl4 | P1: dl5 | Q1: dm1 | R1: dm2 | S1: dm3 | T1: dm4 | U1: dm5 | V1: dm6 | W1: dp1l | X1: dp1m | Y1: v | Z1: va1d | AA1: va1v | AB1: va2 | AC1: va3 | AD1: va4 | AE1: va5 | AF1: va6 | AG1: va7l | AH1: va7m | AI1: vc1 | AJ1: vc2 | AK1: vc3 | AL1: vc4 | AM1: vl1 | AN1: vl2a | AO1: vl2p | AP1: vm1 | AQ1: vm2 | AR1: vm3 | AS1: vm4 | AT1: vm5d | AU1: vm5v | AV1: vm7d | AW1: vm7v
A2: 0 | B2: 0 | C2: 0 | D2: 0 | E2: 0 | F2: 0 | G2: 0 | H2: 0 | I2: 0 | J2: 0 | K2: 0 | L2: 0 | M2: 0 | N2: 0 | O2: 0 | P2: 0 | Q2: 0 | R2: 0 | S2: 0 | T2: 0 | U2: 0 | V2: 0 | W2: 0 | X2: 0 | Y2: 0 | Z2: 0 | AA2: 0 | AB2: 0 | AC2: 0 | AD2: 0 | AE2: 0 | AF2: 0 | AG2: 0 | AH2: 0 | AI2: 0 | AJ2: 0 | AK2: 0 | AL2: 0 | AM2: 0 | AN2: 0 | AO2: 0 | AP2: 1 | AQ2: 0 | AR2: 0 | AS2: 0 | AT2: 0 | AU2: 0 | AV2: 0 | AW2: 0
A3: 0 | B3: 0 | C3: 0 | D3: 0 | E3: 0 | F3: 0 | G3: 0 | H3: 0 | I3: 0 | J3: 0 | K3: 0 | L3: 0 | M3: 0 | N3: 0 | O3: 0 | P3: 0 | Q3: 0 | R3: 1 | S3: 0 | T3: 0 | U3: 0 | V3: 0 | W3: 0 | X3: 0 | Y3: 0 | Z3: 0 | AA3: 0 | AB3: 0 | AC3: 0 | AD3: 0 | AE3: 1 | AF3: 0 | AG3: 0 | AH3: 0 | AI3: 0 | AJ3: 0 | AK3: 0 | AL3: 0 | AM3: 0 | AN3: 0 | AO3: 0 | AP3: 0 | AQ3: 0 | AR3: 0 | AS3: 0 | AT3: 0 | AU3: 0 | AV3: 0 | AW3: 0
A4: 0 | B4: 0 | C4: 0 | D4: 0 | E4: 0 | F4: 0 | G4: 0 | H4: 0 | I4: 0 | J4: 0 | K4: 0 | L4: 0 | M4: 0 | N4: 0 | O4: 0 | P4: 0 | Q4: 0 | R4: 0 | S4: 0 | T4: 0 | U4: 0 | V4: 0 | W4: 0 | X4: 0 | Y4: 0 | Z4: 0 | AA4: 0 | AB4: 0 | AC4: 0 | AD4: 0 | AE4: 0 | AF4: 0 | AG4: 0 | AH4: 0 | AI4: 0 | AJ4: 0 | AK4: 0 | AL4: 0 | AM4: 0 | AN4: 0 | AO4: 0 | AP4: 2 | AQ4: 0 | AR4: 0 | AS4: 0 | AT4: 0 | AU4: 0 | AV4: 0 | AW4: 0
A5: 0 | B5: 0 | C5: 0 | D5: 0 | E5: 0 | F5: 0 | G5: 1 | H5: 0 | I5: 0 | J5: 0 | K5: 0 | L5: 0 | M5: 0 | N5: 0 | O5: 0 | P5: 0 | Q5: 0 | R5: 0 | S5: 0 | T5: 0 | U5: 0 | V5: 0 | W5: 0 | X5: 0 | Y5: 0 | Z5: 0 | AA5: 0 | AB5: 0 | AC5: 0 | AD5: 0 | AE5: 0 | AF5: 0 | AG5: 0 | AH5: 0 | AI5: 0 | AJ5: 0 | AK5: 0 | AL5: 0 | AM5: 0 | AN5: 0 | AO5: 0 | AP5: 1 | AQ5: 0 | AR5: 0 | AS5: 0 | AT5: 0 | AU5: 0 | AV5: 0 | AW5: 0
A6: 0 | B6: 0 | C6: 0 | D6: 0 | E6: 0 | F6: 0 | G6: 0 | H6: 0 | I6: 0 | J6: 0 | K6: 0 | L6: 0 | M6: 0 | N6: 0 | O6: 0 | P6: 0 | Q6: 0 | R6: 0 | S6: 0 | T6: 0 | U6: 1 | V6: 1 | W6: 0 | X6: 0 | Y6: 0 | Z6: 0 | AA6: 0 | AB6: 1 | AC6: 0 | AD6: 0 | AE6: 0 | AF6: 0 | AG6: 0 | AH6: 0 | AI6: 0 | AJ6: 0 | AK6: 0 | AL6: 0 | AM6: 0 | AN6: 0 | AO6: 0 | AP6: 0 | AQ6: 0 | AR6: 0 | AS6: 0 | AT6: 0 | AU6: 0 | AV6: 0 | AW6: 0
A7: 0 | B7: 0 | C7: 0 | D7: 0 | E7: 0 | F7: 0 | G7: 0 | H7: 1 | I7: 0 | J7: 0 | K7: 0 | L7: 0 | M7: 0 | N7: 0 | O7: 0 | P7: 0 | Q7: 0 | R7: 0 | S7: 0 | T7: 0 | U7: 0 | V7: 0 | W7: 0 | X7: 0 | Y7: 0 | Z7: 0 | AA7: 0 | AB7: 0 | AC7: 0 | AD7: 0 | AE7: 0 | AF7: 0 | AG7: 0 | AH7: 0 | AI7: 0 | AJ7: 0 | AK7: 0 | AL7: 0 | AM7: 0 | AN7: 0 | AO7: 1 | AP7: 0 | AQ7: 0 | AR7: 0 | AS7: 0 | AT7: 0 | AU7: 0 | AV7: 0 | AW7: 0
A8: 0 | B8: 0 | C8: 0 | D8: 0 | E8: 0 | F8: 0 | G8: 0 | H8: 0 | I8: 0 | J8: 0 | K8: 0 | L8: 1 | M8: 0 | N8: 0 | O8: 0 | P8: 0 | Q8: 0 | R8: 0 | S8: 0 | T8: 0 | U8: 0 | V8: 0 | W8: 0 | X8: 1 | Y8: 0 | Z8: 0 | AA8: 0 | AB8: 0 | AC8: 0 | AD8: 0 | AE8: 0 | AF8: 0 | AG8: 0 | AH8: 0 | AI8: 0 | AJ8: 0 | AK8: 1 | AL8: 0 | AM8: 0 | AN8: 0 | AO8: 0 | AP8: 0 | AQ8: 0 | AR8: 0 | AS8: 0 | AT8: 0 | AU8: 0 | AV8: 0 | AW8: 0
A9: 0 | B9: 0 | C9: 0 | D9: 0 | E9: 0 | F9: 0 | G9: 0 | H9: 1 | I9: 0 | J9: 0 | K9: 0 | L9: 0 | M9: 0 | N9: 0 | O9: 0 | P9: 0 | Q9: 0 | R9: 0 | S9: 0 | T9: 0 | U9: 0 | V9: 0 | W9: 0 | X9: 0 | Y9: 0 | Z9: 1 | AA9: 0 | AB9: 0 | AC9: 0 | AD9: 0 | AE9: 0 | AF9: 0 | AG9: 0 | AH9: 0 | AI9: 0 | AJ9: 0 | AK9: 0 | AL9: 0 | AM9: 0 | AN9: 0 | AO9: 0 | AP9: 0 | AQ9: 0 | AR9: 0 | AS9: 0 | AT9: 0 | AU9: 0 | AV9: 0 | AW9: 0
A10: 0 | B10: 0 | C10: 0 | D10: 0 | E10: 0 | F10: 0 | G10: 0 | H10: 0 | I10: 0 | J10: 0 | K10: 0 | L10: 0 | M10: 0 | N10: 0 | O10: 0 | P10: 0 | Q10: 0 | R10: 0 | S10: 0 | T10: 0 | U10: 1 | V10: 0 | W10: 1 | X10: 0 | Y10: 0 | Z10: 0 | AA10: 0 | AB10: 0 | AC10: 0 | AD10: 0 | AE10: 0 | AF10: 0 | AG10: 0 | AH10: 0 | AI10: 0 | AJ10: 0 | AK10: 0 | AL10: 0 | AM10: 0 | AN10: 0 | AO10: 0 | AP10: 0 | AQ10: 0 | AR10: 0 | AS10: 0 | AT10: 0 | AU10: 0 | AV10: 0 | AW10: 0
A11: 0 | B11: 0 | C11: 0 | D11: 0 | E11: 0 | F11: 0 | G11: 0 | H11: 0 | I11: 0 | J11: 0 | K11: 0 | L11: 0 | M11: 0 | N11: 0 | O11: 0 | P11: 0 | Q11: 0 | R11: 1 | S11: 0 | T11: 0 | U11: 0 | V11: 0 | W11: 0 | X11: 0 | Y11: 0 | Z11: 0 | AA11: 0 | AB11: 0 | AC11: 0 | AD11: 0 | AE11: 0 | AF11: 0 | AG11: 0 | AH11: 0 | AI11: 0 | AJ11: 0 | AK11: 0 | AL11: 0 | AM11: 0 | AN11: 0 | AO11: 0 | AP11: 0 | AQ11: 0 | AR11: 0 | AS11: 0 | AT11: 0 | AU11: 0 | AV11: 0 | AW11: 0
A12: 0 | B12: 0 | C12: 0 | D12: 0 | E12: 0 | F12: 0 | G12: 1 | H12: 0 | I12: 0 | J12: 0 | K12: 0 | L12: 1 | M12: 0 | N12: 0 | O12: 0 | P12: 0 | Q12: 0 | R12: 0 | S12: 0 | T12: 0 | U12: 0 | V12: 0 | W12: 0 | X12: 0 | Y12: 0 | Z12: 0 | AA12: 0 | AB12: 0 | AC12: 0 | AD12: 0 | AE12: 0 | AF12: 0 | AG12: 0 | AH12: 0 | AI12: 0 | AJ12: 0 | AK12: 0 | AL12: 1 | AM12: 0 | AN12: 0 | AO12: 0 | AP12: 0 | AQ12: 0 | AR12: 0 | AS12: 0 | AT12: 0 | AU12: 0 | AV12: 0 | AW12: 0
A13: 1 | B13: 0 | C13: 0 | D13: 0 | E13: 0 | F13: 0 | G13: 0 | H13: 0 | I13: 0 | J13: 0 | K13: 0 | L13: 0 | M13: 0 | N13: 0 | O13: 0 | P13: 0 | Q13: 0 | R13: 0 | S13: 0 | T13: 0 | U13: 0 | V13: 0 | W13: 0 | X13: 0 | Y13: 0 | Z13: 0 | AA13: 0 | AB13: 1 | AC13: 0 | AD13: 0 | AE13: 0 | AF13: 0 | AG13: 0 | AH13: 0 | AI13: 0 | AJ13: 0 | AK13: 0 | AL13: 0 | AM13: 0 | AN13: 0 | AO13: 0 | AP13: 0 | AQ13: 0 | AR13: 0 | AS13: 0 | AT13: 0 | AU13: 0 | AV13: 0 | AW13: 0
... A124: 0 | B124: 0 | C124: 0 | D124: 0 | E124: 0 | F124: 0 | G124: 0 | H124: 0 | I124: 0 | J124: 0 | K124: 0 | L124: 0 | M124: 0 | N124: 0 | O124: 0 | P124: 0 | Q124: 0 | R124: 0 | S124: 1 | T124: 0 | U124: 0 | V124: 0 | W124: 0 | X124: 0 | Y124: 0 | Z124: 0 | AA124: 0 | AB124: 0 | AC124: 0 | AD124: 0 | AE124: 0 | AF124: 0 | AG124: 0 | AH124: 0 | AI124: 1 | AJ124: 0 | AK124: 0 | AL124: 0 | AM124: 0 | AN124: 0 | AO124: 0 | AP124: 0 | AQ124: 0 | AR124: 0 | AS124: 0 | AT124: 0 | AU124: 0 | AV124: 0 | AW124: 0
A125: 0 | B125: 0 | C125: 0 | D125: 0 | E125: 0 | F125: 0 | G125: 0 | H125: 0 | I125: 0 | J125: 1 | K125: 0 | L125: 0 | M125: 0 | N125: 0 | O125: 0 | P125: 0 | Q125: 0 | R125: 0 | S125: 0 | T125: 0 | U125: 0 | V125: 1 | W125: 0 | X125: 0 | Y125: 0 | Z125: 0 | AA125: 0 | AB125: 0 | AC125: 0 | AD125: 0 | AE125: 0 | AF125: 0 | AG125: 0 | AI125: 0 | AJ125: 0 | AK125: 0 | AL125: 0 | AM125: 0 | AN125: 0 | AO125: 0 | AP125: 0 | AQ125: 0 | AR125: 0 | AS125: 1 | AT125: 0 | AU125: 0 | AV125: 0 | AW125: 0
A126: 0 | B126: 0 | C126: 0 | D126: 0 | E126: 0 | F126: 0 | G126: 0 | H126: 0 | I126: 0 | J126: 0 | K126: 0 | L126: 1 | M126: 0 | N126: 0 | O126: 0 | P126: 1 | Q126: 0 | R126: 0 | S126: 1 | T126: 0 | U126: 0 | V126: 0 | W126: 1 | X126: 0 | Y126: 0 | Z126: 0 | AA126: 0 | AB126: 1 | AC126: 0 | AD126: 0 | AE126: 0 | AF126: 0 | AG126: 0 | AH126: 1 | AI126: 0 | AJ126: 0 | AK126: 0 | AL126: 0 | AM126: 0 | AN126: 0 | AO126: 0 | AP126: 0 | AQ126: 0 | AR126: 0 | AS126: 0 | AT126: 0 | AU126: 0 | AV126: 0 | AW126: 0
A127: 0 | B127: 0 | C127: 0 | D127: 0 | E127: 0 | F127: 0 | G127: 0 | H127: 1 | I127: 0 | J127: 0 | K127: 1 | L127: 0 | M127: 0 | N127: 0 | O127: 0 | P127: 1 | Q127: 0 | R127: 0 | S127: 0 | T127: 0 | U127: 0 | V127: 0 | W127: 0 | X127: 0 | Y127: 0 | Z127: 0 | AA127: 0 | AB127: 0 | AC127: 0 | AD127: 0 | AE127: 1 | AF127: 0 | AG127: 0 | AH127: 0 | AI127: 0 | AJ127: 0 | AK127: 0 | AL127: 0 | AM127: 0 | AN127: 1 | AO127: 1 | AP127: 0 | AQ127: 0 | AR127: 0 | AS127: 0 | AT127: 0 | AU127: 0 | AV127: 0 | AW127: 0
A128: 0 | B128: 0 | C128: 0 | D128: 0 | E128: 0 | F128: 0 | G128: 0 | H128: 0 | I128: 0 | J128: 0 | K128: 0 | L128: 0 | M128: 0 | N128: 0 | O128: 0 | P128: 0 | Q128: 0 | R128: 0 | S128: 0 | T128: 0 | U128: 0 | V128: 0 | W128: 0 | X128: 0 | Y128: 0 | Z128: 0 | AA128: 0 | AB128: 0 | AC128: 1 | AD128: 0 | AE128: 0 | AF128: 0 | AG128: 0 | AH128: 0 | AI128: 0 | AJ128: 1 | AK128: 0 | AL128: 0 | AM128: 0 | AN128: 1 | AO128: 0 | AP128: 0 | AQ128: 0 | AR128: 0 | AS128: 0 | AT128: 0 | AU128: 0 | AV128: 0 | AW128: 0
A129: 0 | B129: 0 | C129: 0 | D129: 0 | E129: 0 | F129: 0 | G129: 0 | H129: 0 | I129: 0 | J129: 0 | K129: 0 | L129: 0 | M129: 0 | N129: 0 | O129: 0 | P129: 0 | Q129: 1 | R129: 0 | S129: 0 | T129: 0 | U129: 0 | V129: 0 | W129: 1 | X129: 0 | Y129: 0 | Z129: 0 | AA129: 0 | AB129: 0 | AC129: 1 | AD129: 0 | AE129: 0 | AF129: 0 | AG129: 0 | AH129: 0 | AI129: 0 | AJ129: 0 | AK129: 0 | AL129: 0 | AM129: 0 | AN129: 0 | AO129: 1 | AP129: 0 | AQ129: 0 | AR129: 0 | AS129: 0 | AT129: 0 | AU129: 0 | AV129: 0 | AW129: 0
A130: 0 | B130: 0 | C130: 0 | D130: 0 | E130: 0 | F130: 0 | G130: 0 | H130: 0 | I130: 0 | J130: 1 | K130: 0 | L130: 0 | M130: 0 | N130: 0 | O130: 0 | P130: 1 | Q130: 0 | R130: 0 | S130: 0 | T130: 0 | U130: 0 | V130: 0 | W130: 0 | X130: 0 | Y130: 0 | Z130: 0 | AA130: 1 | AB130: 0 | AC130: 0 | AD130: 0 | AE130: 0 | AF130: 0 | AG130: 0 | AI130: 0 | AJ130: 0 | AK130: 0 | AL130: 0 | AM130: 0 | AN130: 0 | AO130: 0 | AP130: 0 | AQ130: 0 | AR130: 0 | AS130: 0 | AT130: 0 | AU130: 0 | AV130: 0 | AW130: 0
A131: 0 | B131: 0 | C131: 0 | D131: 0 | E131: 0 | F131: 0 | G131: 1 | H131: 0 | I131: 0 | J131: 0 | K131: 0 | L131: 0 | M131: 0 | N131: 0 | O131: 0 | P131: 0 | Q131: 0 | R131: 0 | S131: 0 | T131: 0 | U131: 0 | V131: 0 | W131: 0 | X131: 1 | Y131: 0 | Z131: 0 | AA131: 0 | AB131: 0 | AC131: 0 | AD131: 0 | AE131: 0 | AF131: 0 | AG131: 0 | AH131: 0 | AI131: 0 | AJ131: 0 | AK131: 0 | AL131: 0 | AM131: 0 | AN131: 0 | AO131: 0 | AP131: 0 | AQ131: 0 | AR131: 0 | AS131: 0 | AT131: 0 | AU131: 0 | AV131: 0 | AW131: 0
A132: 0 | B132: 0 | C132: 0 | D132: 0 | E132: 0 | F132: 1 | G132: 0 | H132: 0 | I132: 0 | J132: 0 | K132: 0 | L132: 0 | M132: 0 | N132: 0 | O132: 0 | P132: 0 | Q132: 0 | R132: 0 | S132: 0 | T132: 0 | U132: 0 | V132: 0 | W132: 0 | X132: 0 | Y132: 0 | Z132: 0 | AA132: 0 | AB132: 0 | AC132: 0 | AD132: 0 | AE132: 0 | AF132: 0 | AG132: 0 | AI132: 0 | AJ132: 0 | AK132: 0 | AL132: 0 | AM132: 0 | AN132: 0 | AO132: 0 | AP132: 0 | AQ132: 0 | AR132: 0 | AS132: 0 | AT132: 0 | AU132: 0 | AV132: 0 | AW132: 0
A133: 0 | B133: 0 | C133: 0 | D133: 0 | E133: 0 | F133: 1 | G133: 0 | H133: 0 | I133: 0 | J133: 0 | K133: 0 | L133: 0 | M133: 0 | N133: 0 | O133: 0 | P133: 0 | Q133: 0 | R133: 0 | S133: 0 | T133: 0 | U133: 0 | V133: 0 | W133: 0 | X133: 0 | Y133: 0 | Z133: 0 | AA133: 0 | AB133: 0 | AC133: 0 | AD133: 0 | AE133: 0 | AF133: 0 | AG133: 0 | AI133: 0 | AJ133: 0 | AK133: 0 | AL133: 0 | AM133: 0 | AN133: 0 | AO133: 0 | AP133: 0 | AQ133: 0 | AR133: 0 | AS133: 0 | AT133: 0 | AU133: 0 | AV133: 0 | AW133: 0
A134: 0 | B134: 0 | C134: 0 | D134: 0 | E134: 0 | F134: 0 | G134: 0 | H134: 0 | I134: 0 | J134: 0 | K134: 0 | L134: 0 | M134: 0 | N134: 0 | O134: 0 | P134: 0 | Q134: 0 | R134: 0 | S134: 0 | T134: 0 | U134: 0 | V134: 0 | W134: 0 | X134: 0 | Y134: 0 | Z134: 0 | AA134: 0 | AB134: 0 | AC134: 1 | AD134: 0 | AE134: 0 | AF134: 0 | AG134: 0 | AH134: 0 | AI134: 0 | AJ134: 0 | AK134: 0 | AL134: 0 | AM134: 0 | AN134: 0 | AO134: 0 | AP134: 0 | AQ134: 0 | AR134: 0 | AS134: 0 | AT134: 0 | AU134: 0 | AV134: 1 | AW134: 0
A135: 1 | B135: 0 | C135: 0 | D135: 0 | E135: 0 | F135: 0 | G135: 0 | H135: 0 | I135: 0 | J135: 0 | K135: 0 | L135: 0 | M135: 0 | N135: 0 | O135: 0 | P135: 0 | Q135: 0 | R135: 0 | S135: 0 | T135: 0 | U135: 0 | V135: 0 | W135: 0 | X135: 0 | Y135: 0 | Z135: 0 | AA135: 0 | AB135: 0 | AC135: 0 | AD135: 0 | AE135: 0 | AF135: 0 | AG135: 0 | AI135: 0 | AJ135: 0 | AK135: 0 | AL135: 0 | AM135: 0 | AN135: 0 | AO135: 0 | AP135: 0 | AQ135: 0 | AR135: 0 | AS135: 0 | AT135: 0 | AU135: 0 | AV135: 0 | AW135: 0
A136: 0 | B136: 0 | C136: 0 | D136: 0 | E136: 0 | F136: 0 | G136: 0 | H136: 0 | I136: 0 | J136: 0 | K136: 0 | L136: 0 | M136: 1 | N136: 1 | O136: 0 | P136: 0 | Q136: 0 | R136: 0 | S136: 0 | T136: 0 | U136: 0 | V136: 0 | W136: 0 | X136: 0 | Y136: 0 | Z136: 0 | AA136: 1 | AB136: 1 | AC136: 1 | AD136: 0 | AE136: 1 | AF136: 0 | AG136: 0 | AH136: 0 | AI136: 1 | AJ136: 1 | AK136: 0 | AL136: 0 | AM136: 0 | AN136: 0 | AO136: 0 | AP136: 0 | AQ136: 0 | AR136: 0 | AS136: 0 | AT136: 0 | AU136: 0 | AV136: 0 | AW136: 0
A137: 1 | B137: 0 | C137: 0 | D137: 0 | E137: 0 | F137: 0 | G137: 0 | H137: 0 | I137: 0 | J137: 0 | K137: 0 | L137: 0 | M137: 0 | N137: 0 | O137: 0 | P137: 0 | Q137: 0 | R137: 0 | S137: 0 | T137: 0 | U137: 0 | V137: 0 | W137: 0 | X137: 0 | Y137: 0 | Z137: 0 | AA137: 0 | AB137: 1 | AC137: 0 | AD137: 0 | AE137: 1 | AF137: 0 | AG137: 1 | AH137: 0 | AI137: 0 | AJ137: 0 | AK137: 0 | AL137: 0 | AM137: 0 | AN137: 0 | AO137: 0 | AP137: 0 | AQ137: 0 | AR137: 0 | AS137: 0 | AT137: 0 | AU137: 0 | AV137: 0 | AW137: 0
A138: 0 | B138: 1 | C138: 0 | D138: 0 | E138: 0 | F138: 0 | G138: 0 | H138: 0 | I138: 0 | J138: 0 | K138: 1 | L138: 0 | M138: 0 | N138: 1 | O138: 0 | P138: 0 | Q138: 0 | R138: 0 | S138: 0 | T138: 0 | U138: 1 | V138: 1 | W138: 0 | X138: 0 | Y138: 0 | Z138: 0 | AA138: 0 | AB138: 0 | AC138: 0 | AD138: 0 | AE138: 0 | AF138: 0 | AG138: 1 | AH138: 0 | AI138: 0 | AJ138: 0 | AK138: 0 | AL138: 0 | AM138: 0 | AN138: 0 | AO138: 0 | AP138: 0 | AQ138: 0 | AR138: 0 | AS138: 0 | AT138: 0 | AU138: 0 | AV138: 0 | AW138: 1
A139: 0 | B139: 0 | C139: 0 | D139: 0 | E139: 0 | F139: 0 | G139: 0 | H139: 0 | I139: 0 | J139: 0 | K139: 0 | L139: 0 | M139: 0 | N139: 0 | O139: 0 | P139: 0 | Q139: 0 | R139: 0 | S139: 0 | T139: 0 | U139: 0 | V139: 0 | W139: 0 | X139: 0 | Y139: 0 | Z139: 0 | AA139: 0 | AB139: 0 | AC139: 0 | AD139: 0 | AE139: 0 | AF139: 1 | AG139: 0 | AH139: 0 | AI139: 0 | AJ139: 0 | AK139: 0 | AL139: 0 | AM139: 0 | AN139: 0 | AO139: 2 | AP139: 0 | AQ139: 0 | AR139: 0 | AS139: 0 | AT139: 0 | AU139: 0 | AV139: 0 | AW139: 0
A140: 0 | B140: 0 | C140: 0 | D140: 0 | E140: 0 | F140: 0 | G140: 0 | H140: 0 | I140: 0 | J140: 0 | K140: 0 | L140: 0 | M140: 0 | N140: 0 | O140: 0 | P140: 0 | Q140: 1 | R140: 1 | S140: 0 | T140: 0 | U140: 0 | V140: 0 | W140: 0 | X140: 0 | Y140: 0 | Z140: 0 | AA140: 0 | AB140: 0 | AC140: 0 | AD140: 0 | AE140: 0 | AF140: 0 | AG140: 0 | AH140: 0 | AI140: 0 | AJ140: 0 | AK140: 0 | AL140: 0 | AM140: 0 | AN140: 0 | AO140: 0 | AP140: 0 | AQ140: 0 | AR140: 0 | AS140: 0 | AT140: 0 | AU140: 0 | AV140: 0 | AW140: 0
A141: 0 | B141: 0 | C141: 0 | D141: 0 | E141: 0 | F141: 0 | G141: 0 | H141: 0 | I141: 0 | J141: 0 | K141: 0 | L141: 0 | M141: 0 | N141: 0 | O141: 0 | P141: 0 | Q141: 0 | R141: 0 | S141: 0 | T141: 0 | U141: 0 | V141: 0 | W141: 0 | X141: 0 | Y141: 0 | Z141: 0 | AA141: 0 | AB141: 0 | AC141: 0 | AD141: 0 | AE141: 0 | AF141: 0 | AG141: 0 | AH141: 0 | AI141: 0 | AJ141: 0 | AK141: 0 | AL141: 0 | AM141: 0 | AN141: 0 | AO141: 0 | AP141: 0 | AQ141: 0 | AR141: 0 | AS141: 1 | AT141: 0 | AU141: 0 | AV141: 0 | AW141: 0
A142: 0 | B142: 0 | C142: 0 | D142: 0 | E142: 0 | F142: 0 | G142: 0 | H142: 0 | I142: 0 | J142: 0 | K142: 0 | L142: 0 | M142: 0 | N142: 0 | O142: 0 | P142: 0 | Q142: 0 | R142: 1 | S142: 0 | T142: 0 | U142: 0 | V142: 0 | W142: 0 | X142: 0 | Y142: 0 | Z142: 0 | AA142: 0 | AB142: 0 | AC142: 0 | AD142: 0 | AE142: 0 | AF142: 0 | AG142: 0 | AH142: 0 | AI142: 0 | AJ142: 0 | AK142: 0 | AL142: 0 | AM142: 0 | AN142: 1 | AO142: 0 | AP142: 0 | AQ142: 1 | AR142: 1 | AS142: 0 | AT142: 0 | AU142: 0 | AV142: 1 | AW142: 0
A143: 0 | B143: 0 | C143: 0 | D143: 0 | E143: 0 | F143: 0 | G143: 0 | H143: 0 | I143: 1 | J143: 0 | K143: 0 | L143: 0 | M143: 0 | N143: 0 | O143: 0 | P143: 0 | Q143: 1 | R143: 0 | S143: 0 | T143: 0 | U143: 0 | V143: 0 | W143: 0 | X143: 0 | Y143: 0 | Z143: 0 | AA143: 0 | AB143: 0 | AC143: 0 | AD143: 0 | AE143: 0 | AF143: 0 | AG143: 0 | AI143: 0 | AJ143: 0 | AK143: 0 | AL143: 0 | AM143: 0 | AN143: 0 | AO143: 0 | AP143: 0 | AQ143: 0 | AR143: 0 | AS143: 1 | AT143: 0 | AU143: 0 | AV143: 0 | AW143: 1
A144: 0 | B144: 1 | C144: 0 | D144: 0 | E144: 0 | F144: 0 | G144: 0 | H144: 0 | I144: 0 | J144: 0 | K144: 1 | L144: 0 | M144: 0 | N144: 0 | O144: 0 | P144: 0 | Q144: 0 | R144: 0 | S144: 0 | T144: 0 | U144: 0 | V144: 0 | W144: 0 | X144: 0 | Y144: 0 | Z144: 1 | AA144: 0 | AB144: 0 | AC144: 0 | AD144: 0 | AE144: 1 | AF144: 0 | AG144: 0 | AH144: 0 | AI144: 0 | AJ144: 0 | AK144: 0 | AL144: 0 | AM144: 0 | AN144: 0 | AO144: 0 | AP144: 0 | AQ144: 0 | AR144: 0 | AS144: 0 | AT144: 0 | AU144: 0 | AV144: 0 | AW144: 0
A145: 0 | B145: 1 | C145: 0 | D145: 0 | E145: 0 | F145: 0 | G145: 0 | H145: 0 | I145: 0 | J145: 0 | K145: 0 | L145: 0 | M145: 0 | N145: 0 | O145: 0 | P145: 0 | Q145: 0 | R145: 0 | S145: 0 | T145: 0 | U145: 0 | V145: 0 | W145: 0 | X145: 0 | Y145: 0 | Z145: 0 | AA145: 0 | AB145: 0 | AC145: 0 | AD145: 0 | AE145: 0 | AF145: 1 | AG145: 0 | AH145: 0 | AI145: 0 | AJ145: 0 | AK145: 0 | AL145: 0 | AM145: 0 | AN145: 0 | AO145: 0 | AP145: 0 | AQ145: 0 | AR145: 0 | AS145: 1 | AT145: 0 | AU145: 0 | AV145: 0 | AW145: 0
A146: 0 | B146: 1 | C146: 0 | D146: 0 | E146: 0 | F146: 0 | G146: 0 | H146: 0 | I146: 0 | J146: 0 | K146: 0 | L146: 0 | M146: 0 | N146: 0 | O146: 0 | P146: 0 | Q146: 0 | R146: 0 | S146: 0 | T146: 0 | U146: 0 | V146: 0 | W146: 0 | X146: 0 | Y146: 0 | Z146: 0 | AA146: 0 | AB146: 0 | AC146: 0 | AD146: 0 | AE146: 1 | AF146: 0 | AG146: 0 | AH146: 0 | AI146: 0 | AJ146: 0 | AK146: 0 | AL146: 0 | AM146: 0 | AN146: 0 | AO146: 0 | AP146: 0 | AQ146: 0 | AR146: 0 | AS146: 0 | AT146: 0 | AU146: 0 | AV146: 0 | AW146: 0
A147: 1 | B147: 0 | C147: 0 | D147: 0 | E147: 0 | F147: 0 | G147: 1 | H147: 0 | I147: 0 | J147: 0 | K147: 0 | L147: 0 | M147: 0 | N147: 0 | O147: 0 | P147: 1 | Q147: 0 | R147: 0 | S147: 0 | T147: 0 | U147: 0 | V147: 0 | W147: 0 | X147: 1 | Y147: 0 | Z147: 0 | AA147: 1 | AB147: 0 | AC147: 0 | AD147: 0 | AE147: 0 | AF147: 0 | AG147: 0 | AI147: 0 | AJ147: 0 | AK147: 0 | AL147: 0 | AM147: 0 | AN147: 0 | AO147: 0 | AP147: 0 | AQ147: 0 | AR147: 0 | AS147: 0 | AT147: 0 | AU147: 0 | AV147: 0 | AW147: 0
A148: 0 | B148: 1 | C148: 0 | D148: 0 | E148: 0 | F148: 0 | G148: 0 | H148: 0 | I148: 0 | J148: 0 | K148: 0 | L148: 0 | M148: 0 | N148: 0 | O148: 0 | P148: 0 | Q148: 0 | R148: 0 | S148: 0 | T148: 0 | U148: 0 | V148: 0 | W148: 0 | X148: 0 | Y148: 0 | Z148: 0 | AA148: 0 | AB148: 0 | AC148: 0 | AD148: 0 | AE148: 0 | AF148: 1 | AG148: 0 | AH148: 0 | AI148: 0 | AJ148: 0 | AK148: 0 | AL148: 0 | AM148: 0 | AN148: 0 | AO148: 0 | AP148: 0 | AQ148: 0 | AR148: 0 | AS148: 0 | AT148: 0 | AU148: 0 | AV148: 0 | AW148: 0
A149: 1 | B149: 0 | C149: 0 | D149: 0 | E149: 0 | F149: 0 | G149: 1 | H149: 0 | I149: 0 | J149: 0 | K149: 0 | L149: 0 | M149: 0 | N149: 0 | O149: 0 | P149: 1 | Q149: 0 | R149: 0 | S149: 0 | T149: 0 | U149: 0 | V149: 0 | W149: 0 | X149: 1 | Y149: 0 | Z149: 0 | AA149: 1 | AB149: 0 | AC149: 0 | AD149: 0 | AE149: 0 | AF149: 0 | AG149: 0 | AI149: 0 | AJ149: 0 | AK149: 0 | AL149: 0 | AM149: 0 | AN149: 0 | AO149: 0 | AP149: 0 | AQ149: 0 | AR149: 0 | AS149: 0 | AT149: 0 | AU149: 0 | AV149: 0 | AW149: 0
A150: 0 | B150: 0 | C150: 0 | D150: 0 | E150: 0 | F150: 0 | G150: 0 | H150: 0 | I150: 0 | J150: 0 | K150: 0 | L150: 0 | M150: 0 | N150: 0 | O150: 0 | P150: 0 | Q150: 0 | R150: 0 | S150: 1 | T150: 0 | U150: 0 | V150: 0 | W150: 0 | X150: 0 | Y150: 0 | Z150: 0 | AA150: 0 | AB150: 1 | AC150: 0 | AD150: 0 | AE150: 0 | AF150: 0 | AG150: 0 | AH150: 0 | AI150: 0 | AJ150: 0 | AK150: 1 | AL150: 0 | AM150: 0 | AN150: 0 | AO150: 0 | AP150: 0 | AQ150: 0 | AR150: 0 | AS150: 0 | AT150: 0 | AU150: 0 | AV150: 0 | AW150: 0
A151: 0 | B151: 0 | C151: 0 | D151: 0 | E151: 0 | F151: 0 | G151: 0 | H151: 0 | I151: 0 | J151: 0 | K151: 0 | L151: 0 | M151: 0 | N151: 0 | O151: 0 | P151: 0 | Q151: 0 | R151: 0 | S151: 0 | T151: 0 | U151: 0 | V151: 0 | W151: 0 | X151: 0 | Y151: 0 | Z151: 0 | AA151: 0 | AB151: 0 | AC151: 0 | AD151: 0 | AE151: 0 | AF151: 0 | AG151: 0 | AH151: 0 | AI151: 0 | AJ151: 0 | AK151: 0 | AL151: 0 | AM151: 0 | AN151: 0 | AO151: 0 | AP151: 1 | AQ151: 0 | AR151: 0 | AS151: 0 | AT151: 0 | AU151: 0 | AV151: 0 | AW151: 1
A152: 0 | B152: 0 | C152: 0 | D152: 0 | E152: 0 | F152: 0 | G152: 0 | H152: 0 | I152: 0 | J152: 0 | K152: 0 | L152: 0 | M152: 0 | N152: 0 | O152: 0 | P152: 0 | Q152: 0 | R152: 0 | S152: 0 | T152: 1 | U152: 0 | V152: 0 | W152: 0 | X152: 0 | Y152: 0 | Z152: 0 | AA152: 0 | AB152: 0 | AC152: 0 | AD152: 0 | AE152: 1 | AF152: 0 | AG152: 0 | AI152: 0 | AJ152: 0 | AK152: 1 | AL152: 0 | AM152: 0 | AN152: 0 | AO152: 0 | AP152: 0 | AQ152: 0 | AR152: 0 | AS152: 0 | AT152: 1 | AU152: 0 | AV152: 0 | AW152: 0
A153: 0 | B153: 0 | C153: 0 | D153: 0 | E153: 0 | F153: 0 | G153: 0 | H153: 0 | I153: 0 | J153: 0 | K153: 0 | L153: 1 | M153: 0 | N153: 0 | O153: 0 | P153: 0 | Q153: 0 | R153: 0 | S153: 0 | T153: 0 | U153: 0 | V153: 1 | W153: 0 | X153: 0 | Y153: 0 | Z153: 0 | AA153: 0 | AB153: 0 | AC153: 0 | AD153: 0 | AE153: 0 | AF153: 0 | AG153: 0 | AH153: 0 | AI153: 0 | AJ153: 0 | AK153: 1 | AL153: 1 | AM153: 0 | AN153: 0 | AO153: 0 | AP153: 0 | AQ153: 0 | AR153: 0 | AS153: 0 | AT153: 0 | AU153: 0 | AV153: 0 | AW153: 0
A154: 0 | B154: 0 | C154: 0 | D154: 0 | E154: 0 | F154: 0 | G154: 0 | H154: 0 | I154: 0 | J154: 0 | K154: 0 | L154: 0 | M154: 1 | N154: 0 | O154: 0 | P154: 1 | Q154: 0 | R154: 0 | S154: 0 | T154: 0 | U154: 0 | V154: 0 | W154: 0 | X154: 0 | Y154: 0 | Z154: 0 | AA154: 0 | AB154: 0 | AC154: 0 | AD154: 0 | AE154: 0 | AF154: 0 | AG154: 0 | AI154: 0 | AJ154: 0 | AK154: 0 | AL154: 0 | AM154: 0 | AN154: 0 | AO154: 0 | AP154: 0 | AQ154: 0 | AR154: 0 | AS154: 0 | AT154: 1 | AU154: 0 | AV154: 0 | AW154: 0
A155: 0 | B155: 0 | C155: 0 | D155: 0 | E155: 0 | F155: 0 | G155: 0 | H155: 0 | I155: 0 | J155: 0 | K155: 0 | L155: 0 | M155: 0 | N155: 0 | O155: 0 | P155: 0 | Q155: 0 | R155: 0 | S155: 1 | T155: 0 | U155: 0 | V155: 0 | W155: 0 | X155: 0 | Y155: 0 | Z155: 0 | AA155: 1 | AB155: 0 | AC155: 0 | AD155: 0 | AE155: 1 | AF155: 0 | AG155: 0 | AH155: 0 | AI155: 0 | AJ155: 0 | AK155: 0 | AL155: 0 | AM155: 0 | AN155: 0 | AO155: 0 | AP155: 1 | AQ155: 0 | AR155: 0 | AS155: 0 | AT155: 0 | AU155: 0 | AV155: 0 | AW155: 0
A156: 0 | B156: 0 | C156: 0 | D156: 0 | E156: 0 | F156: 0 | G156: 0 | H156: 0 | I156: 0 | J156: 0 | K156: 0 | L156: 0 | M156: 0 | N156: 0 | O156: 0 | P156: 0 | Q156: 0 | R156: 0 | S156: 0 | T156: 0 | U156: 0 | V156: 0 | W156: 0 | X156: 0 | Y156: 0 | Z156: 0 | AA156: 0 | AB156: 0 | AC156: 1 | AD156: 0 | AE156: 0 | AF156: 0 | AG156: 0 | AH156: 0 | AI156: 0 | AJ156: 0 | AK156: 0 | AL156: 0 | AM156: 0 | AN156: 0 | AO156: 0 | AP156: 1 | AQ156: 0 | AR156: 0 | AS156: 1 | AT156: 0 | AU156: 0 | AV156: 0 | AW156: 0
A157: 0 | B157: 0 | C157: 0 | D157: 0 | E157: 0 | F157: 0 | G157: 0 | H157: 0 | I157: 0 | J157: 0 | K157: 0 | L157: 0 | M157: 0 | N157: 0 | O157: 0 | P157: 0 | Q157: 1 | R157: 0 | S157: 0 | T157: 0 | U157: 0 | V157: 0 | W157: 0 | X157: 0 | Y157: 0 | Z157: 0 | AA157: 0 | AB157: 0 | AC157: 0 | AD157: 0 | AE157: 0 | AF157: 0 | AG157: 0 | AH157: 0 | AI157: 0 | AJ157: 0 | AK157: 0 | AL157: 0 | AM157: 0 | AN157: 0 | AO157: 0 | AP157: 0 | AQ157: 1 | AR157: 0 | AS157: 0 | AT157: 0 | AU157: 0 | AV157: 1 | AW157: 0
A158: 0 | B158: 0 | C158: 0 | D158: 0 | E158: 0 | F158: 1 | G158: 0 | H158: 0 | I158: 0 | J158: 0 | K158: 0 | L158: 0 | M158: 0 | N158: 0 | O158: 0 | P158: 0 | Q158: 0 | R158: 0 | S158: 0 | T158: 0 | U158: 0 | V158: 0 | W158: 0 | X158: 0 | Y158: 0 | Z158: 0 | AA158: 0 | AB158: 0 | AC158: 0 | AD158: 0 | AE158: 0 | AF158: 1 | AG158: 0 | AH158: 0 | AI158: 0 | AJ158: 0 | AK158: 0 | AL158: 0 | AM158: 0 | AN158: 1 | AO158: 0 | AP158: 0 | AQ158: 0 | AR158: 0 | AS158: 0 | AT158: 0 | AU158: 0 | AV158: 0 | AW158: 0
A159: 0 | B159: 0 | C159: 0 | D159: 0 | E159: 0 | F159: 0 | G159: 0 | H159: 0 | I159: 0 | J159: 0 | K159: 0 | L159: 0 | M159: 0 | N159: 0 | O159: 0 | P159: 0 | Q159: 0 | R159: 0 | S159: 0 | T159: 0 | U159: 0 | V159: 0 | W159: 0 | X159: 0 | Y159: 0 | Z159: 0 | AA159: 0 | AB159: 0 | AC159: 0 | AD159: 0 | AE159: 1 | AF159: 0 | AG159: 0 | AH159: 0 | AI159: 0 | AJ159: 0 | AK159: 0 | AL159: 0 | AM159: 0 | AN159: 0 | AO159: 0 | AP159: 1 | AQ159: 0 | AR159: 0 | AS159: 0 | AT159: 0 | AU159: 0 | AV159: 0 | AW159: 0
A160: 0 | B160: 0 | C160: 0 | D160: 0 | E160: 0 | F160: 0 | G160: 0 | H160: 0 | I160: 0 | J160: 0 | K160: 0 | L160: 0 | M160: 0 | N160: 0 | O160: 0 | P160: 0 | Q160: 0 | R160: 0 | S160: 0 | T160: 0 | U160: 0 | V160: 0 | W160: 0 | X160: 0 | Y160: 0 | Z160: 0 | AA160: 1 | AB160: 0 | AC160: 0 | AD160: 0 | AE160: 0 | AF160: 0 | AG160: 1 | AH160: 0 | AI160: 0 | AJ160: 0 | AK160: 1 | AL160: 0 | AM160: 0 | AN160: 0 | AO160: 0 | AP160: 0 | AQ160: 0 | AR160: 0 | AS160: 0 | AT160: 0 | AU160: 0 | AV160: 0 | AW160: 0
A161: 0 | B161: 0 | C161: 0 | D161: 0 | E161: 0 | F161: 0 | G161: 0 | H161: 0 | I161: 1 | J161: 0 | K161: 1 | L161: 0 | M161: 0 | N161: 1 | O161: 0 | P161: 0 | Q161: 0 | R161: 0 | S161: 0 | T161: 0 | U161: 0 | V161: 0 | W161: 0 | X161: 0 | Y161: 0 | Z161: 0 | AA161: 0 | AB161: 0 | AC161: 0 | AD161: 0 | AE161: 0 | AF161: 0 | AG161: 0 | AH161: 0 | AI161: 0 | AJ161: 0 | AK161: 0 | AL161: 0 | AM161: 0 | AN161: 0 | AO161: 0 | AP161: 0 | AQ161: 1 | AR161: 1 | AS161: 0 | AT161: 0 | AU161: 0 | AV161: 0 | AW161: 0
A162: 0 | B162: 0 | C162: 0 | D162: 1 | E162: 0 | F162: 0 | G162: 0 | H162: 0 | I162: 0 | J162: 0 | K162: 0 | L162: 0 | M162: 0 | N162: 0 | O162: 0 | P162: 0 | Q162: 0 | R162: 0 | S162: 1 | T162: 0 | U162: 0 | V162: 0 | W162: 0 | X162: 0 | Y162: 0 | Z162: 0 | AA162: 0 | AB162: 0 | AC162: 0 | AD162: 0 | AE162: 0 | AF162: 0 | AG162: 0 | AI162: 0 | AJ162: 0 | AK162: 0 | AL162: 0 | AM162: 0 | AN162: 0 | AO162: 0 | AP162: 0 | AQ162: 0 | AR162: 0 | AS162: 1 | AT162: 0 | AU162: 0 | AV162: 0 | AW162: 0
A163: 0 | B163: 0 | C163: 0 | D163: 0 | E163: 0 | F163: 0 | G163: 0 | H163: 0 | I163: 0 | J163: 0 | K163: 0 | L163: 0 | M163: 0 | N163: 0 | O163: 0 | P163: 1 | Q163: 0 | R163: 0 | S163: 0 | T163: 0 | U163: 0 | V163: 0 | W163: 0 | X163: 0 | Y163: 0 | Z163: 0 | AA163: 0 | AB163: 0 | AC163: 0 | AD163: 0 | AE163: 0 | AF163: 1 | AG163: 0 | AH163: 0 | AI163: 0 | AJ163: 0 | AK163: 0 | AL163: 0 | AM163: 0 | AN163: 0 | AO163: 0 | AP163: 0 | AQ163: 0 | AR163: 0 | AS163: 0 | AT163: 0 | AU163: 0 | AV163: 0 | AW163: 0
A164: 0 | B164: 0 | C164: 0 | D164: 0 | E164: 0 | F164: 0 | G164: 0 | H164: 0 | I164: 0 | J164: 0 | K164: 0 | L164: 0 | M164: 0 | N164: 0 | O164: 0 | P164: 0 | Q164: 0 | R164: 0 | S164: 0 | T164: 0 | U164: 0 | V164: 0 | W164: 0 | X164: 0 | Y164: 0 | Z164: 0 | AA164: 0 | AB164: 0 | AC164: 0 | AD164: 0 | AE164: 0 | AF164: 1 | AG164: 0 | AI164: 0 | AJ164: 1 | AK164: 0 | AL164: 0 | AM164: 0 | AN164: 0 | AO164: 0 | AP164: 0 | AQ164: 1 | AR164: 0 | AS164: 0 | AT164: 0 | AU164: 1 | AV164: 0 | AW164: 0
A165: 0 | B165: 1 | C165: 0 | D165: 0 | E165: 0 | F165: 0 | G165: 0 | H165: 0 | I165: 0 | J165: 0 | K165: 0 | L165: 0 | M165: 0 | N165: 0 | O165: 0 | P165: 0 | Q165: 0 | R165: 0 | S165: 0 | T165: 0 | U165: 0 | V165: 0 | W165: 0 | X165: 0 | Y165: 0 | Z165: 0 | AA165: 0 | AB165: 0 | AC165: 0 | AD165: 0 | AE165: 1 | AF165: 0 | AG165: 0 | AH165: 0 | AI165: 1 | AJ165: 0 | AK165: 0 | AL165: 0 | AM165: 0 | AN165: 0 | AO165: 0 | AP165: 0 | AQ165: 0 | AR165: 0 | AS165: 0 | AT165: 0 | AU165: 0 | AV165: 0 | AW165: 0
A166: 0 | B166: 0 | C166: 0 | D166: 0 | E166: 0 | F166: 0 | G166: 0 | H166: 0 | I166: 0 | J166: 0 | K166: 0 | L166: 0 | M166: 0 | N166: 0 | O166: 0 | P166: 0 | Q166: 0 | R166: 0 | S166: 0 | T166: 0 | U166: 0 | V166: 0 | W166: 0 | X166: 0 | Y166: 0 | Z166: 0 | AA166: 0 | AB166: 0 | AC166: 0 | AD166: 0 | AE166: 1 | AF166: 0 | AG166: 1 | AI166: 0 | AJ166: 0 | AK166: 0 | AL166: 0 | AM166: 0 | AN166: 0 | AO166: 0 | AP166: 0 | AQ166: 0 | AR166: 0 | AS166: 0 | AT166: 0 | AU166: 0 | AV166: 0 | AW166: 0
A167: 0 | B167: 0 | C167: 0 | D167: 1 | E167: 0 | F167: 0 | G167: 0 | H167: 0 | I167: 0 | J167: 0 | K167: 0 | L167: 0 | M167: 0 | N167: 0 | O167: 0 | P167: 0 | Q167: 0 | R167: 0 | S167: 0 | T167: 0 | U167: 0 | V167: 0 | W167: 0 | X167: 0 | Y167: 0 | Z167: 0 | AA167: 0 | AB167: 0 | AC167: 0 | AD167: 0 | AE167: 0 | AF167: 0 | AG167: 0 | AI167: 0 | AJ167: 0 | AK167: 0 | AL167: 0 | AM167: 0 | AN167: 0 | AO167: 1 | AP167: 0 | AQ167: 0 | AR167: 0 | AS167: 0 | AT167: 0 | AU167: 0 | AV167: 0 | AW167: 0
A168: 0 | B168: 0 | C168: 0 | D168: 0 | E168: 0 | F168: 0 | G168: 0 | H168: 0 | I168: 0 | J168: 0 | K168: 0 | L168: 0 | M168: 0 | N168: 0 | O168: 0 | P168: 0 | Q168: 0 | R168: 0 | S168: 0 | T168: 0 | U168: 0 | V168: 0 | W168: 0 | X168: 0 | Y168: 0 | Z168: 1 | AA168: 0 | AB168: 0 | AC168: 0 | AD168: 0 | AE168: 0 | AF168: 0 | AG168: 0 | AI168: 0 | AJ168: 0 | AK168: 0 | AL168: 0 | AM168: 0 | AN168: 0 | AO168: 0 | AP168: 0 | AQ168: 1 | AR168: 0 | AS168: 0 | AT168: 1 | AU168: 1 | AV168: 0 | AW168: 0
A169: 0 | B169: 0 | C169: 0 | D169: 0 | E169: 0 | F169: 0 | G169: 0 | H169: 0 | I169: 0 | J169: 0 | K169: 0 | L169: 1 | M169: 0 | N169: 0 | O169: 0 | P169: 0 | Q169: 0 | R169: 0 | S169: 0 | T169: 0 | U169: 0 | V169: 0 | W169: 1 | X169: 1 | Y169: 0 | Z169: 0 | AA169: 0 | AB169: 0 | AC169: 0 | AD169: 0 | AE169: 0 | AF169: 0 | AG169: 0 | AI169: 0 | AJ169: 0 | AK169: 0 | AL169: 0 | AM169: 1 | AN169: 0 | AO169: 0 | AP169: 0 | AQ169: 0 | AR169: 0 | AS169: 0 | AT169: 0 | AU169: 1 | AV169: 0 | AW169: 0
A170: 1 | B170: 1 | C170: 0 | D170: 0 | E170: 0 | F170: 0 | G170: 0 | H170: 0 | I170: 0 | J170: 0 | K170: 0 | L170: 0 | M170: 0 | N170: 0 | O170: 0 | P170: 0 | Q170: 0 | R170: 0 | S170: 0 | T170: 0 | U170: 0 | V170: 0 | W170: 0 | X170: 0 | Y170: 0 | Z170: 0 | AA170: 0 | AB170: 0 | AC170: 0 | AD170: 0 | AE170: 0 | AF170: 1 | AG170: 1 | AH170: 0 | AI170: 0 | AJ170: 0 | AK170: 0 | AL170: 0 | AM170: 0 | AN170: 0 | AO170: 0 | AP170: 0 | AQ170: 0 | AR170: 0 | AS170: 0 | AT170: 0 | AU170: 0 | AV170: 0 | AW170: 0
A171: 0 | B171: 0 | C171: 0 | D171: 0 | E171: 0 | F171: 0 | G171: 0 | H171: 0 | I171: 0 | J171: 0 | K171: 0 | L171: 0 | M171: 0 | N171: 0 | O171: 0 | P171: 0 | Q171: 0 | R171: 1 | S171: 1 | T171: 0 | U171: 0 | V171: 0 | W171: 0 | X171: 0 | Y171: 0 | Z171: 0 | AA171: 1 | AB171: 0 | AC171: 0 | AD171: 0 | AE171: 0 | AF171: 0 | AG171: 0 | AH171: 0 | AI171: 0 | AJ171: 0 | AK171: 0 | AL171: 0 | AM171: 0 | AN171: 1 | AO171: 0 | AP171: 0 | AQ171: 0 | AR171: 0 | AS171: 0 | AT171: 0 | AU171: 0 | AV171: 0 | AW171: 0
A172: 0 | B172: 0 | C172: 0 | D172: 0 | E172: 0 | F172: 0 | G172: 0 | H172: 0 | I172: 0 | J172: 0 | K172: 0 | L172: 0 | M172: 0 | N172: 0 | O172: 0 | P172: 0 | Q172: 0 | R172: 0 | S172: 0 | T172: 0 | U172: 0 | V172: 0 | W172: 0 | X172: 0 | Y172: 0 | Z172: 1 | AA172: 0 | AB172: 0 | AC172: 0 | AD172: 0 | AE172: 0 | AF172: 0 | AG172: 0 | AI172: 0 | AJ172: 0 | AK172: 0 | AL172: 0 | AM172: 0 | AN172: 0 | AO172: 0 | AP172: 0 | AQ172: 0 | AR172: 0 | AS172: 1 | AT172: 0 | AU172: 0 | AV172: 0 | AW172: 0
A173: 0 | B173: 0 | C173: 0 | D173: 0 | E173: 0 | F173: 0 | G173: 1 | H173: 1 | I173: 0 | J173: 0 | K173: 0 | L173: 0 | M173: 0 | N173: 0 | O173: 0 | P173: 0 | Q173: 0 | R173: 0 | S173: 0 | T173: 0 | U173: 0 | V173: 0 | W173: 0 | X173: 0 | Y173: 0 | Z173: 0 | AA173: 0 | AB173: 0 | AC173: 0 | AD173: 0 | AE173: 0 | AF173: 0 | AG173: 0 | AI173: 0 | AJ173: 0 | AK173: 0 | AL173: 0 | AM173: 0 | AN173: 0 | AO173: 0 | AP173: 0 | AQ173: 0 | AR173: 0 | AS173: 0 | AT173: 0 | AU173: 0 | AV173: 0 | AW173: 0
A174: 0 | B174: 0 | C174: 0 | D174: 0 | E174: 0 | F174: 0 | G174: 0 | H174: 0 | I174: 0 | J174: 0 | K174: 0 | L174: 0 | M174: 0 | N174: 1 | O174: 1 | P174: 1 | Q174: 0 | R174: 0 | S174: 0 | T174: 1 | U174: 0 | V174: 0 | W174: 0 | X174: 0 | Y174: 0 | Z174: 0 | AA174: 0 | AB174: 0 | AC174: 0 | AD174: 0 | AE174: 0 | AF174: 0 | AG174: 0 | AI174: 0 | AJ174: 0 | AK174: 0 | AL174: 0 | AM174: 0 | AN174: 0 | AO174: 0 | AP174: 0 | AQ174: 0 | AR174: 0 | AS174: 0 | AT174: 0 | AU174: 0 | AV174: 0 | AW174: 0
A175: 0 | B175: 0 | C175: 0 | D175: 0 | E175: 0 | F175: 0 | G175: 0 | H175: 0 | I175: 0 | J175: 0 | K175: 1 | L175: 0 | M175: 0 | N175: 0 | O175: 0 | P175: 1 | Q175: 0 | R175: 0 | S175: 0 | T175: 0 | U175: 0 | V175: 0 | W175: 0 | X175: 0 | Y175: 0 | Z175: 0 | AA175: 0 | AB175: 0 | AC175: 0 | AD175: 0 | AE175: 0 | AF175: 0 | AG175: 0 | AH175: 0 | AI175: 0 | AJ175: 0 | AK175: 0 | AL175: 0 | AM175: 0 | AN175: 0 | AO175: 0 | AP175: 0 | AQ175: 0 | AR175: 0 | AS175: 0 | AT175: 0 | AU175: 0 | AV175: 0 | AW175: 0
A176: 0 | B176: 1 | C176: 0 | D176: 0 | E176: 0 | F176: 0 | G176: 0 | H176: 0 | I176: 0 | J176: 0 | K176: 0 | L176: 0 | M176: 0 | N176: 0 | O176: 0 | P176: 0 | Q176: 0 | R176: 0 | S176: 0 | T176: 0 | U176: 0 | V176: 1 | W176: 0 | X176: 1 | Y176: 0 | Z176: 0 | AA176: 0 | AB176: 0 | AC176: 0 | AD176: 0 | AE176: 0 | AF176: 0 | AG176: 0 | AH176: 0 | AI176: 0 | AJ176: 0 | AK176: 0 | AL176: 0 | AM176: 0 | AN176: 0 | AO176: 0 | AP176: 0 | AQ176: 0 | AR176: 0 | AS176: 0 | AT176: 0 | AU176: 0 | AV176: 0 | AW176: 0
A177: 0 | B177: 0 | C177: 0 | D177: 0 | E177: 0 | F177: 0 | G177: 0 | H177: 0 | I177: 0 | J177: 0 | K177: 0 | L177: 0 | M177: 0 | N177: 0 | O177: 0 | P177: 0 | Q177: 0 | R177: 0 | S177: 0 | T177: 0 | U177: 0 | V177: 0 | W177: 0 | X177: 0 | Y177: 0 | Z177: 0 | AA177: 0 | AB177: 0 | AC177: 1 | AD177: 1 | AE177: 0 | AF177: 0 | AG177: 0 | AH177: 0 | AI177: 0 | AJ177: 0 | AK177: 0 | AL177: 0 | AM177: 0 | AN177: 0 | AO177: 0 | AP177: 0 | AQ177: 0 | AR177: 0 | AS177: 0 | AT177: 0 | AU177: 0 | AV177: 0 | AW177: 0
A178: 0 | B178: 0 | C178: 0 | D178: 0 | E178: 0 | F178: 0 | G178: 0 | H178: 0 | I178: 0 | J178: 1 | K178: 0 | L178: 0 | M178: 0 | N178: 0 | O178: 0 | P178: 0 | Q178: 0 | R178: 0 | S178: 0 | T178: 0 | U178: 0 | V178: 0 | W178: 0 | X178: 0 | Y178: 0 | Z178: 0 | AA178: 0 | AB178: 1 | AC178: 1 | AD178: 0 | AE178: 0 | AF178: 0 | AG178: 0 | AH178: 0 | AI178: 0 | AJ178: 0 | AK178: 0 | AL178: 0 | AM178: 0 | AN178: 0 | AO178: 0 | AP178: 0 | AQ178: 0 | AR178: 0 | AS178: 0 | AT178: 0 | AU178: 0 | AV178: 0 | AW178: 0
A179: 0 | B179: 0 | C179: 0 | D179: 0 | E179: 0 | F179: 0 | G179: 1 | H179: 0 | I179: 0 | J179: 0 | K179: 0 | L179: 0 | M179: 1 | N179: 0 | O179: 0 | P179: 0 | Q179: 0 | R179: 0 | S179: 1 | T179: 0 | U179: 0 | V179: 0 | W179: 0 | X179: 0 | Y179: 0 | Z179: 0 | AA179: 0 | AB179: 0 | AC179: 0 | AD179: 0 | AE179: 1 | AF179: 0 | AG179: 1 | AH179: 0 | AI179: 0 | AJ179: 0 | AK179: 0 | AL179: 0 | AM179: 0 | AN179: 0 | AO179: 0 | AP179: 0 | AQ179: 0 | AR179: 0 | AS179: 0 | AT179: 0 | AU179: 0 | AV179: 0 | AW179: 0
A180: 0 | B180: 0 | C180: 0 | D180: 0 | E180: 0 | F180: 0 | G180: 0 | H180: 0 | I180: 0 | J180: 0 | K180: 0 | L180: 0 | M180: 0 | N180: 0 | O180: 0 | P180: 0 | Q180: 0 | R180: 0 | S180: 0 | T180: 0 | U180: 0 | V180: 0 | W180: 0 | X180: 0 | Y180: 0 | Z180: 0 | AA180: 0 | AB180: 0 | AC180: 1 | AD180: 0 | AE180: 0 | AF180: 0 | AG180: 1 | AH180: 0 | AI180: 0 | AJ180: 0 | AK180: 0 | AL180: 1 | AM180: 0 | AN180: 0 | AO180: 0 | AP180: 0 | AQ180: 0 | AR180: 0 | AS180: 0 | AT180: 0 | AU180: 0 | AV180: 0 | AW180: 0
A181: 0 | B181: 0 | C181: 0 | D181: 0 | E181: 0 | F181: 0 | G181: 0 | H181: 0 | I181: 0 | J181: 0 | K181: 0 | L181: 1 | M181: 0 | N181: 0 | O181: 0 | P181: 0 | Q181: 0 | R181: 0 | S181: 0 | T181: 1 | U181: 0 | V181: 1 | W181: 0 | X181: 0 | Y181: 0 | Z181: 0 | AA181: 0 | AB181: 0 | AC181: 0 | AD181: 0 | AE181: 1 | AF181: 0 | AG181: 0 | AH181: 0 | AI181: 0 | AJ181: 0 | AK181: 0 | AL181: 0 | AM181: 0 | AN181: 0 | AO181: 0 | AP181: 0 | AQ181: 0 | AR181: 0 | AS181: 0 | AT181: 0 | AU181: 0 | AV181: 0 | AW181: 0
A182: 0 | B182: 1 | C182: 0 | D182: 0 | E182: 0 | F182: 0 | G182: 0 | H182: 0 | I182: 0 | J182: 0 | K182: 0 | L182: 1 | M182: 0 | N182: 0 | O182: 0 | P182: 1 | Q182: 0 | R182: 0 | S182: 0 | T182: 0 | U182: 0 | V182: 0 | W182: 0 | X182: 0 | Y182: 0 | Z182: 0 | AA182: 0 | AB182: 0 | AC182: 1 | AD182: 1 | AE182: 0 | AF182: 0 | AG182: 0 | AH182: 0 | AI182: 0 | AJ182: 0 | AK182: 0 | AL182: 0 | AM182: 0 | AN182: 0 | AO182: 0 | AP182: 0 | AQ182: 0 | AR182: 0 | AS182: 0 | AT182: 0 | AU182: 0 | AV182: 0 | AW182: 0
A183: 0 | B183: 0 | C183: 0 | D183: 0 | E183: 0 | F183: 0 | G183: 0 | H183: 0 | I183: 0 | J183: 0 | K183: 0 | L183: 0 | M183: 0 | N183: 0 | O183: 0 | P183: 0 | Q183: 0 | R183: 0 | S183: 0 | T183: 0 | U183: 0 | V183: 0 | W183: 0 | X183: 0 | Y183: 0 | Z183: 0 | AA183: 0 | AB183: 0 | AC183: 0 | AD183: 0 | AE183: 1 | AF183: 0 | AG183: 0 | AI183: 0 | AJ183: 0 | AK183: 1 | AL183: 0 | AM183: 0 | AN183: 0 | AO183: 0 | AP183: 0 | AQ183: 0 | AR183: 0 | AS183: 1 | AT183: 0 | AU183: 0 | AV183: 0 | AW183: 0
A184: 0 | B184: 0 | C184: 0 | D184: 0 | E184: 0 | F184: 0 | G184: 0 | H184: 0 | I184: 0 | J184: 0 | K184: 0 | L184: 0 | M184: 0 | N184: 0 | O184: 0 | P184: 0 | Q184: 0 | R184: 0 | S184: 0 | T184: 0 | U184: 1 | V184: 0 | W184: 0 | X184: 0 | Y184: 0 | Z184: 0 | AA184: 0 | AB184: 0 | AC184: 0 | AD184: 0 | AE184: 0 | AF184: 0 | AG184: 0 | AH184: 0 | AI184: 0 | AJ184: 0 | AK184: 0 | AL184: 0 | AM184: 0 | AN184: 0 | AO184: 0 | AP184: 0 | AQ184: 0 | AR184: 1 | AS184: 0 | AT184: 0 | AU184: 0 | AV184: 1 | AW184: 0
A185: 0 | B185: 0 | C185: 0 | D185: 0 | E185: 0 | F185: 0 | G185: 0 | H185: 0 | I185: 0 | J185: 0 | K185: 0 | L185: 0 | M185: 0 | N185: 0 | O185: 0 | P185: 1 | Q185: 1 | R185: 0 | S185: 0 | T185: 0 | U185: 0 | V185: 0 | W185: 0 | X185: 0 | Y185: 0 | Z185: 0 | AA185: 1 | AB185: 0 | AC185: 0 | AD185: 0 | AE185: 0 | AF185: 0 | AG185: 0 | AI185: 0 | AJ185: 0 | AK185: 0 | AL185: 0 | AM185: 0 | AN185: 0 | AO185: 0 | AP185: 0 | AQ185: 0 | AR185: 0 | AS185: 0 | AT185: 0 | AU185: 1 | AV185: 0 | AW185: 0
A186: 0 | B186: 0 | C186: 0 | D186: 0 | E186: 0 | F186: 0 | G186: 0 | H186: 0 | I186: 0 | J186: 0 | K186: 1 | L186: 0 | M186: 0 | N186: 0 | O186: 0 | P186: 0 | Q186: 0 | R186: 0 | S186: 0 | T186: 0 | U186: 0 | V186: 0 | W186: 0 | X186: 0 | Y186: 0 | Z186: 0 | AA186: 1 | AB186: 0 | AC186: 0 | AD186: 0 | AE186: 0 | AF186: 0 | AG186: 1 | AH186: 0 | AI186: 0 | AJ186: 0 | AK186: 0 | AL186: 0 | AM186: 0 | AN186: 0 | AO186: 0 | AP186: 0 | AQ186: 0 | AR186: 0 | AS186: 0 | AT186: 0 | AU186: 0 | AV186: 0 | AW186: 0
A187: 1 | B187: 0 | C187: 0 | D187: 0 | E187: 0 | F187: 0 | G187: 0 | H187: 1 | I187: 0 | J187: 0 | K187: 0 | L187: 0 | M187: 0 | N187: 0 | O187: 0 | P187: 0 | Q187: 0 | R187: 0 | S187: 0 | T187: 0 | U187: 0 | V187: 0 | W187: 0 | X187: 0 | Y187: 0 | Z187: 0 | AA187: 0 | AB187: 0 | AC187: 0 | AD187: 0 | AE187: 1 | AF187: 0 | AG187: 0 | AI187: 0 | AJ187: 0 | AK187: 0 | AL187: 0 | AM187: 0 | AN187: 0 | AO187: 0 | AP187: 0 | AQ187: 0 | AR187: 0 | AS187: 1 | AT187: 0 | AU187: 0 | AV187: 0 | AW187: 0
A188: 0 | B188: 0 | C188: 0 | D188: 0 | E188: 0 | F188: 0 | G188: 0 | H188: 0 | I188: 0 | J188: 0 | K188: 0 | L188: 1 | M188: 0 | N188: 0 | O188: 0 | P188: 0 | Q188: 0 | R188: 0 | S188: 0 | T188: 0 | U188: 0 | V188: 1 | W188: 1 | X188: 0 | Y188: 0 | Z188: 0 | AA188: 0 | AB188: 0 | AC188: 0 | AD188: 0 | AE188: 0 | AF188: 0 | AG188: 0 | AI188: 0 | AJ188: 0 | AK188: 0 | AL188: 0 | AM188: 0 | AN188: 0 | AO188: 0 | AP188: 0 | AQ188: 0 | AR188: 0 | AS188: 0 | AT188: 1 | AU188: 1 | AV188: 0 | AW188: 0
A189: 0 | B189: 0 | C189: 0 | D189: 0 | E189: 0 | F189: 0 | G189: 0 | H189: 0 | I189: 0 | J189: 0 | K189: 0 | L189: 0 | M189: 0 | N189: 0 | O189: 0 | P189: 0 | Q189: 0 | R189: 0 | S189: 1 | T189: 1 | U189: 0 | V189: 0 | W189: 0 | X189: 0 | Y189: 0 | Z189: 0 | AA189: 0 | AB189: 1 | AC189: 0 | AD189: 0 | AE189: 0 | AF189: 0 | AG189: 1 | AH189: 0 | AI189: 0 | AJ189: 0 | AK189: 0 | AL189: 0 | AM189: 0 | AN189: 0 | AO189: 0 | AP189: 1 | AQ189: 0 | AR189: 0 | AS189: 0 | AT189: 0 | AU189: 0 | AV189: 0 | AW189: 0
A190: 0 | B190: 0 | C190: 0 | D190: 0 | E190: 0 | F190: 0 | G190: 0 | H190: 0 | I190: 0 | J190: 0 | K190: 0 | L190: 0 | M190: 0 | N190: 0 | O190: 0 | P190: 0 | Q190: 0 | R190: 0 | S190: 0 | T190: 0 | U190: 0 | V190: 0 | W190: 0 | X190: 0 | Y190: 0 | Z190: 0 | AA190: 0 | AB190: 0 | AC190: 0 | AD190: 0 | AE190: 0 | AF190: 0 | AG190: 0 | AH190: 0 | AI190: 0 | AJ190: 1 | AK190: 0 | AL190: 0 | AM190: 0 | AN190: 1 | AO190: 0 | AP190: 0 | AQ190: 0 | AR190: 0 | AS190: 0 | AT190: 0 | AU190: 0 | AV190: 0 | AW190: 0
A191: 0 | B191: 0 | C191: 0 | D191: 0 | E191: 1 | F191: 1 | G191: 0 | H191: 0 | I191: 0 | J191: 0 | K191: 0 | L191: 0 | M191: 0 | N191: 0 | O191: 0 | P191: 0 | Q191: 0 | R191: 0 | S191: 1 | T191: 0 | U191: 0 | V191: 0 | W191: 0 | X191: 0 | Y191: 0 | Z191: 0 | AA191: 0 | AB191: 0 | AC191: 0 | AD191: 0 | AE191: 0 | AF191: 0 | AG191: 0 | AI191: 0 | AJ191: 0 | AK191: 0 | AL191: 0 | AM191: 0 | AN191: 0 | AO191: 0 | AP191: 0 | AQ191: 0 | AR191: 0 | AS191: 1 | AT191: 0 | AU191: 0 | AV191: 0 | AW191: 0
A192: 0 | B192: 0 | C192: 0 | D192: 0 | E192: 0 | F192: 0 | G192: 0 | H192: 1 | I192: 0 | J192: 0 | K192: 1 | L192: 0 | M192: 0 | N192: 0 | O192: 0 | P192: 0 | Q192: 0 | R192: 0 | S192: 0 | T192: 0 | U192: 0 | V192: 0 | W192: 0 | X192: 0 | Y192: 0 | Z192: 0 | AA192: 0 | AB192: 1 | AC192: 0 | AD192: 0 | AE192: 0 | AF192: 0 | AG192: 0 | AH192: 0 | AI192: 0 | AJ192: 0 | AK192: 0 | AL192: 0 | AM192: 0 | AN192: 0 | AO192: 0 | AP192: 1 | AQ192: 0 | AR192: 0 | AS192: 0 | AT192: 0 | AU192: 0 | AV192: 0 | AW192: 0
A193: 0 | B193: 0 | C193: 0 | D193: 0 | E193: 0 | F193: 0 | G193: 0 | H193: 0 | I193: 0 | J193: 0 | K193: 0 | L193: 0 | M193: 0 | N193: 0 | O193: 0 | P193: 0 | Q193: 0 | R193: 0 | S193: 0 | T193: 0 | U193: 0 | V193: 0 | W193: 0 | X193: 0 | Y193: 0 | Z193: 0 | AA193: 0 | AB193: 0 | AC193: 0 | AD193: 0 | AE193: 0 | AF193: 0 | AG193: 0 | AI193: 0 | AJ193: 0 | AK193: 0 | AL193: 0 | AM193: 1 | AN193: 0 | AO193: 0 | AP193: 0 | AQ193: 0 | AR193: 0 | AS193: 0 | AT193: 0 | AU193: 1 | AV193: 0 | AW193: 0
A194: 0 | B194: 0 | C194: 0 | D194: 0 | E194: 0 | F194: 1 | G194: 1 | H194: 0 | I194: 0 | J194: 0 | K194: 0 | L194: 0 | M194: 1 | N194: 0 | O194: 0 | P194: 0 | Q194: 0 | R194: 0 | S194: 0 | T194: 1 | U194: 0 | V194: 0 | W194: 0 | X194: 0 | Y194: 0 | Z194: 0 | AA194: 1 | AB194: 1 | AC194: 0 | AD194: 0 | AE194: 1 | AF194: 0 | AG194: 0 | AH194: 0 | AI194: 0 | AJ194: 0 | AK194: 0 | AL194: 0 | AM194: 0 | AN194: 0 | AO194: 0 | AP194: 0 | AQ194: 0 | AR194: 0 | AS194: 0 | AT194: 0 | AU194: 0 | AV194: 0 | AW194: 0
A195: 0 | B195: 0 | C195: 0 | D195: 0 | E195: 1 | F195: 0 | G195: 0 | H195: 0 | I195: 0 | J195: 0 | K195: 0 | L195: 0 | M195: 0 | N195: 0 | O195: 0 | P195: 0 | Q195: 0 | R195: 0 | S195: 0 | T195: 0 | U195: 1 | V195: 0 | W195: 1 | X195: 0 | Y195: 0 | Z195: 1 | AA195: 0 | AB195: 0 | AC195: 0 | AD195: 0 | AE195: 0 | AF195: 0 | AG195: 0 | AI195: 0 | AJ195: 0 | AK195: 0 | AL195: 0 | AM195: 0 | AN195: 0 | AO195: 0 | AP195: 0 | AQ195: 0 | AR195: 0 | AS195: 0 | AT195: 0 | AU195: 0 | AV195: 0 | AW195: 0
A196: 0 | B196: 1 | C196: 0 | D196: 0 | E196: 0 | F196: 0 | G196: 0 | H196: 0 | I196: 0 | J196: 0 | K196: 0 | L196: 0 | M196: 0 | N196: 0 | O196: 0 | P196: 0 | Q196: 0 | R196: 0 | S196: 0 | T196: 0 | U196: 0 | V196: 0 | W196: 0 | X196: 0 | Y196: 0 | Z196: 0 | AA196: 0 | AB196: 0 | AC196: 0 | AD196: 0 | AE196: 0 | AF196: 1 | AG196: 0 | AH196: 0 | AI196: 0 | AJ196: 0 | AK196: 0 | AL196: 0 | AM196: 0 | AN196: 0 | AO196: 0 | AP196: 0 | AQ196: 1 | AR196: 1 | AS196: 0 | AT196: 0 | AU196: 1 | AV196: 0 | AW196: 0
A197: 0 | B197: 1 | C197: 0 | D197: 0 | E197: 0 | F197: 0 | G197: 0 | H197: 0 | I197: 0 | J197: 0 | K197: 0 | L197: 0 | M197: 0 | N197: 0 | O197: 0 | P197: 0 | Q197: 0 | R197: 0 | S197: 0 | T197: 0 | U197: 0 | V197: 0 | W197: 0 | X197: 0 | Y197: 0 | Z197: 0 | AA197: 0 | AB197: 0 | AC197: 0 | AD197: 0 | AE197: 0 | AF197: 0 | AG197: 0 | AH197: 0 | AI197: 0 | AJ197: 0 | AK197: 0 | AL197: 0 | AM197: 0 | AN197: 1 | AO197: 0 | AP197: 0 | AQ197: 0 | AR197: 0 | AS197: 0 | AT197: 0 | AU197: 0 | AV197: 0 | AW197: 0
A198: 0 | B198: 0 | C198: 0 | D198: 0 | E198: 0 | F198: 0 | G198: 0 | H198: 0 | I198: 0 | J198: 0 | K198: 0 | L198: 0 | M198: 1 | N198: 0 | O198: 0 | P198: 0 | Q198: 0 | R198: 0 | S198: 0 | T198: 0 | U198: 0 | V198: 0 | W198: 1 | X198: 0 | Y198: 0 | Z198: 0 | AA198: 0 | AB198: 1 | AC198: 1 | AD198: 0 | AE198: 0 | AF198: 0 | AG198: 0 | AH198: 0 | AI198: 0 | AJ198: 0 | AK198: 0 | AL198: 0 | AM198: 0 | AN198: 1 | AO198: 0 | AP198: 0 | AQ198: 0 | AR198: 0 | AS198: 1 | AT198: 0 | AU198: 0 | AV198: 0 | AW198: 0
A199: 0 | B199: 0 | C199: 0 | D199: 0 | E199: 0 | F199: 0 | G199: 0 | H199: 0 | I199: 0 | J199: 0 | K199: 0 | L199: 1 | M199: 0 | N199: 0 | O199: 0 | P199: 0 | Q199: 0 | R199: 0 | S199: 0 | T199: 0 | U199: 0 | V199: 0 | W199: 1 | X199: 0 | Y199: 0 | Z199: 0 | AA199: 0 | AB199: 0 | AC199: 0 | AD199: 0 | AE199: 0 | AF199: 0 | AG199: 0 | AI199: 0 | AJ199: 0 | AK199: 0 | AL199: 0 | AM199: 0 | AN199: 0 | AO199: 0 | AP199: 0 | AQ199: 0 | AR199: 0 | AS199: 0 | AT199: 0 | AU199: 0 | AV199: 1 | AW199: 0
A200: 0 | B200: 0 | C200: 0 | D200: 0 | E200: 0 | F200: 0 | G200: 0 | H200: 1 | I200: 1 | J200: 0 | K200: 0 | L200: 0 | M200: 0 | N200: 0 | O200: 0 | P200: 0 | Q200: 0 | R200: 0 | S200: 0 | T200: 0 | U200: 0 | V200: 0 | W200: 0 | X200: 0 | Y200: 0 | Z200: 0 | AA200: 0 | AB200: 0 | AC200: 0 | AD200: 0 | AE200: 0 | AF200: 0 | AG200: 0 | AH200: 0 | AI200: 0 | AJ200: 0 | AK200: 0 | AL200: 0 | AM200: 0 | AN200: 1 | AO200: 0 | AP200: 0 | AQ200: 0 | AR200: 0 | AS200: 0 | AT200: 0 | AU200: 0 | AV200: 0 | AW200: 0
A201: 0 | B201: 2 | C201: 0 | D201: 0 | E201: 0 | F201: 0 | G201: 0 | H201: 0 | I201: 0 | J201: 0 | K201: 0 | L201: 0 | M201: 1 | N201: 0 | O201: 0 | P201: 0 | Q201: 0 | R201: 0 | S201: 0 | T201: 0 | U201: 0 | V201: 0 | W201: 0 | X201: 0 | Y201: 0 | Z201: 0 | AA201: 0 | AB201: 0 | AC201: 0 | AD201: 0 | AE201: 0 | AF201: 0 | AG201: 0 | AH201: 0 | AI201: 0 | AJ201: 0 | AK201: 0 | AL201: 0 | AM201: 0 | AN201: 0 | AO201: 0 | AP201: 0 | AQ201: 0 | AR201: 0 | AS201: 0 | AT201: 0 | AU201: 0 | AV201: 1 | AW201: 0

Sheet Figure 1d, Supp.Table 2
A1: connectivity rate
B5: D | C5: DA1 | D5: DA2 | E5: DA3 | F5: DA4l | G5: DA4m | H5: DC1 | I5: DC2 | J5: DC3 | K5: DC4 | L5: DL1 | M5: DL2d | N5: DL2v | O5: DL3 | P5: DL4 | Q5: DL5 | R5: DM1 | S5: DM2 | T5: DM3 | U5: DM4 | V5: DM5 | W5: DM6 | X5: DP1l | Y5: DP1m | Z5: V | AA5: VA1d | AB5: VA1v | AC5: VA2 | AD5: VA3 | AE5: VA4 | AF5: VA5 | AG5: VA6 | AH5: VA7l | AI5: VA7m | AJ5: VC1 | AK5: VC2 | AL5: VC3l | AM5: VC4 | AN5: VL1 | AO5: VL2a | AP5: VL2p | AQ5: VM1 | AR5: VM2 | AS5: VM3 | AT5: VM4 | AU5: VM5d | AV5: VM5v | AW5: VM7d | AX5: VM7v
A6: Dmel M | B6: 1.6011645 | C6: 4.657933 | D6: 0.29112082 | E6: 0.72780204 | F6: 1.7467249 | G6: 0.43668122 | H6: 3.3478894 | I6: 1.7467249 | J6: 3.0567686 | K6: 2.3289665 | L6: 3.6390102 | M6: 1.4556041 | N6: 1.0189229 | O6: 1.0189229 | P6: 0.58224163 | Q6: 3.4934498 | R6: 1.3100437 | S6: 2.9112082 | T6: 1.1644833 | U6: 1.1644833 | V6: 1.0189229 | W6: 3.3478894 | X6: 1.1644833 | Y6: 4.2212518 | Z6: 0.14556041 | AA6: 2.9112082 | AB6: 3.4934498 | AC6: 0.29112082 | AD6: 2.3289665 | AE6: 0.87336245 | AF6: 2.9112082 | AG6: 3.3478894 | AH6: 2.3289665 | AI6: 1.4556041 | AJ6: 1.7467249 | AK6: 1.6011645 | AL6: 4.3668122 | AM6: 2.0378457 | AN6: 0.43668122 | AO6: 3.6390102 | AP6: 2.0378457 | AQ6: 1.3100437 | AR6: 0.58224163 | AS6: 1.4556041 | AT6: 2.7656477 | AU6: 2.7656477 | AV6: 4.657933 | AW6: 2.3289665 | AX6: 0
B21: D | C21: DA1 | D21: DA2 | E21: DA3 | F21: DA4l | G21: DA4m | H21: DC1 | I21: DC2 | J21: DC3 | K21: DC4 | L21: DL1 | M21: DL2d | N21: DL2v | O21: DL3 | P21: DL4 | Q21: DL5 | R21: DM1 | S21: DM2 | T21: DM3 | U21: DM4 | V21: DM5 | W21: DM6 | X21: DP1l | Y21: DP1m | Z21: V | AA21: VA1d | AB21: VA1v | AC21: VA2 | AD21: VA3 | AE21: VA4 | AF21: VA5 | AG21: VA6 | AH21: VA7l | AI21: VA7m | AJ21: VC1 | AK21: VC2 | AL21: VC3l | AM21: VC4 | AN21: VL1 | AO21: VL2a | AP21: VL2p | AQ21: VM1 | AR21: VM2 | AS21: VM3 | AT21: VM4 | AU21: VM5d | AV21: VM5v | AW21: VM7d | AX21: VM7v
A22: Dmel F | B22: 2.2727273 | C22: 3.9772727 | D22: 0.56818182 | E22: 0.42613636 | F22: 0.85227273 | G22: 0.71022727 | H22: 3.2670454 | I22: 1.8465909 | J22: 4.4034091 | K22: 2.2727273 | L22: 4.4034091 | M22: 0.99431818 | N22: 1.2784091 | O22: 0.42613636 | P22: 0.71022727 | Q22: 2.9829546 | R22: 1.4204546 | S22: 1.5625 | T22: 1.8465909 | U22: 2.1306818 | V22: 1.1363636 | W22: 2.9829546 | X22: 0.42613636 | Y22: 2.1306818 | Z22: 0.28409091 | AA22: 5.2556818 | AB22: 3.125 | AC22: 2.2727273 | AD22: 3.125 | AE22: 1.1363636 | AF22: 2.8409091 | AG22: 3.9772727 | AH22: 1.1363636 | AI22: 1.1363636 | AJ22: 1.5625 | AK22: 1.1363636 | AL22: 2.8409091 | AM22: 1.7045454 | AN22: 0.42613636 | AO22: 4.2613636 | AP22: 3.2670454 | AQ22: 1.9886364 | AR22: 0.71022727 | AS22: 0.56818182 | AT22: 1.7045454 | AU22: 2.6988636 | AV22: 3.5511364 | AW22: 1.9345238 | AX22: 0.42613636
B37: D | C37: DA1 | D37: DA2 | E37: DA3 | F37: DA4l | G37: DA4m | H37: DC1 | I37: DC2 | J37: DC3 | K37: DC4 | L37: DL1 | M37: DL2d | N37: DL2v | O37: DL3 | P37: DL4 | Q37: DL5 | R37: DM1 | S37: DM2 | T37: DM3 | U37: DM4 | V37: DM5 | W37: DM6 | X37: DP1l | Y37: DP1m | Z37: V | AA37: VA1d | AB37: VA1v | AC37: VA2 | AD37: VA3 | AE37: VA4 | AF37: VA5 | AG37: VA6 | AH37: VA7l | AI37: VA7m | AJ37: VC1 | AK37: VC2 | AL37: VC3l | AM37: VC4 | AN37: VL1 | AO37: VL2a | AP37: VL2p | AQ37: VM1 | AR37: VM2 | AS37: VM3 | AT37: VM4 | AU37: VM5d | AV37: VM5v | AW37: VM7d | AX37: VM7v
A38: Dsec | B38: 1.4880952 | C38: 3.8690476 | D38: 0 | E38: 0.5952381 | F38: 1.1904762 | G38: 2.0833333 | H38: 1.9345238 | I38: 1.9345238 | J38: 1.3392857 | K38: 1.3392857 | L38: 4.0178571 | M38: 3.125 | N38: 1.6369048 | O38: 1.0416667 | P38: 0.14880952 | Q38: 3.422619 | R38: 2.0833333 | S38: 2.6785714 | T38: 2.2321429 | U38: 1.6369048 | V38: 1.7857143 | W38: 2.0833333 | X38: 3.125 | Y38: 2.9761905 | Z38: 0.14880952 | AA38: 2.0833333 | AB38: 2.5297619 | AC38: 3.5714286 | AD38: 3.422619 | AE38: 0.74404762 | AF38: 4.1666667 | AG38: 2.3809524 | AH38: 2.9761905 | AI38: 0.44642857 | AJ38: 0.89285714 | AK38: 1.0416667 | AL38: 2.0833333 | AM38: 0.5952381 | AN38: 0.5952381 | AO38: 3.2738095 | AP38: 2.0833333 | AQ38: 3.5714286 | AR38: 2.2321429 | AS38: 2.3809524 | AT38: 3.2738095 | AU38: 1.7857143 | AV38: 1.7857143 | AW38: 3.9509537 | AX38: 0.89285714
B54: D | C54: DA1 | D54: DA2 | E54: DA3 | F54: DA4l | G54: DA4m | H54: DC1 | I54: DC2 | J54: DC3 | K54: DC4 | L54: DL1 | M54: DL2d | N54: DL2v | O54: DL3 | P54: DL4 | Q54: DL5 | R54: DM1 | S54: DM2 | T54: DM3 | U54: DM4 | V54: DM5 | W54: DM6 | X54: DP1l | Y54: DP1m | Z54: V | AA54: VA1d | AB54: VA1v | AC54: VA2 | AD54: VA3 | AE54: VA4 | AF54: VA5 | AG54: VA6 | AH54: VA7l | AI54: VA7m | AJ54: VC1 | AK54: VC2 | AL54: VC3l | AM54: VC4 | AN54: VL1 | AO54: VL2a | AP54: VL2p | AQ54: VM1 | AR54: VM2 | AS54: VM3 | AT54: VM4 | AU54: VM5d | AV54: VM5v | AW54: VM7d | AX54: VM7v
A55: Dsim | B55: 2.4523161 | C55: 3.6784741 | D55: 0.54495913 | E55: 0.27247956 | F55: 0.54495913 | G55: 0.40871935 | H55: 4.2234332 | I55: 2.3160763 | J55: 4.4959122 | K55: 1.4986376 | L55: 2.9972752 | M55: 0.6811989 | N55: 1.226158 | O55: 1.226158 | P55: 0.27247956 | Q55: 3.4059945 | R55: 1.226158 | S55: 2.3160763 | T55: =1.63487738 -> 1.6348774 | U55: 0.81743869 | V55: 0.95367847 | W55: 2.8610354 | X55: 1.0899183 | Y55: 3.133515 | Z55: 0 | AA55: 2.8610354 | AB55: 3.9509537 | AC55: 1.907357 | AD55: 2.2724796 | AE55: 1.0899183 | AF55: 3.133515 | AG55: 2.9972752 | AH55: 1.907357 | AI55: 0.81743869 | AJ55: 0.95367847 | AK55: 3.6784741 | AL55: 4.6321526 | AM55: 2.4523161 | AN55: 0.27247956 | AO55: 1.7711172 | AP55: 1.226158 | AQ55: 2.5885559 | AR55: 0.95367847 | AS55: 1.4986376 | AT55: =1.63487738 -> 1.6348774 | AU55: 2.0435967 | AV55: 4.4959128 | AW55: 3.9509537 | AX55: 1.4986376

Sheet Figure 2a,b
A1: D. melanogaster male shuffle
A2: component | B2: variance explained Ellis_DMel_male | C2: variance explained fixed | D2: confidence interval lower | E2: confidence interval higher
A3: 0 | B3: 0.062391532 | C3: 0.060623573 | D3: 0.05548408 | E3: 0.067092222
A4: 1 | B4: 0.051549238 | C4: 0.05532189 | D4: 0.0510089 | E4: 0.059925249
A5: 2 | B5: 0.048351599 | C5: 0.051454629 | D5: 0.047916058 | E5: 0.055399185
A6: 3 | B6: 0.047470475 | C6: 0.04826107 | D6: 0.045047573 | E6: 0.051795079
A7: 4 | B7: 0.045461828 | C7: 0.045480749 | D7: 0.042579826 | E7: 0.04864107
A8: 5 | B8: 0.041885381 | C8: 0.043039153 | D8: 0.040573167 | E8: 0.045904144
A9: 6 | B9: 0.040967084 | C9: 0.04074459 | D9: 0.038512862 | E9: 0.043418258
A10: 7 | B10: 0.040025465 | C10: 0.038664795 | D10: 0.036481031 | E10: 0.041080265
A11: 8 | B11: 0.038489518 | C11: 0.03674297 | D11: 0.034662521 | E11: 0.039068276
A12: 9 | B12: 0.036312025 | C12: 0.034917325 | D12: 0.033115796 | E12: 0.037037185
A13: 10 | B13: 0.034884282 | C13: 0.033208123 | D13: 0.031286719 | E13: 0.035313671
A14: 11 | B14: 0.033614286 | C14: 0.031611131 | D14: 0.029887008 | E14: 0.033555652
... A22: 19 | B22: 0.021310596 | C22: 0.021288049 | D22: 0.019911058 | E22: 0.022653803
A24: D. melanogaster male fixed
A25: component | B25: variance explained Ellis_DMel_male | C25: variance explained shuffle | D25: confidence interval lower | E25: confidence interval higher
A26: 0 | B26: 0.062391532 | C26: 0.045109456 | D26: 0.041968142 | E26: 0.049328472
A27: 1 | B27: 0.051549238 | C27: 0.042093651 | D27: 0.039705025 | E27: 0.045010964
A28: 2 | B28: 0.048351599 | C28: 0.039890901 | D28: 0.037766537 | E28: 0.042381432
A29: 3 | B29: 0.047470475 | C29: 0.038084181 | D29: 0.036233968 | E29: 0.040027323
A30: 4 | B30: 0.045461828 | C30: 0.03653124 | D30: 0.034956838 | E30: 0.038296728
A31: 5 | B31: 0.041885381 | C31: 0.035058026 | D31: 0.03357714 | E31: 0.036560263
A32: 6 | B32: 0.040967084 | C32: 0.033737425 | D32: 0.032339587 | E32: 0.035236693
A33: 7 | B33: 0.040025465 | C33: 0.032516615 | D33: 0.031165419 | E33: 0.033780161
A34: 8 | B34: 0.038489518 | C34: 0.031319165 | D34: 0.030006972 | E34: 0.032574128
A35: 9 | B35: 0.036312025 | C35: 0.030207795 | D35: 0.029016633 | E35: 0.031442693
A36: 10 | B36: 0.034884282 | C36: 0.029199515 | D36: 0.028017702 | E36: 0.0303356
A37: 11 | B37: 0.033614286 | C37: 0.028231295 | D37: 0.027226338 | E37: 0.029272154
... A45: 19 | B45: 0.021310596 | C45: 0.021579666 | D45: 0.020789435 | E45: 0.022441643
A47: D. melanogaster female fixed
A48: component | B48: variance explained Ellis_DMel_female | C48: variance explained fixed | D48: confidence interval lower | E48: confidence interval higher
A49: 0 | B49: 0.061083668 | C49: 0.060746671 | D49: 0.05505218 | E49: 0.06812006
A50: 1 | B50: 0.05479292 | C50: 0.055417438 | D50: 0.051142568 | E50: 0.060599639
A51: 2 | B51: 0.049679816 | C51: 0.05156369 | D51: 0.047825198 | E51: 0.055565354
A52: 3 | B52: 0.048365776 | C52: 0.048333349 | D52: 0.04490563 | E52: 0.051887629
A53: 4 | B53: 0.04520525 | C53: 0.045525574 | D53: 0.042681475 | E53: 0.048836255
A54: 5 | B54: 0.042174472 | C54: 0.043023412 | D54: 0.040385412 | E54: 0.045953344
A55: 6 | B55: 0.040359643 | C55: 0.040762178 | D55: 0.038303549 | E55: 0.043311099
A56: 7 | B56: 0.038868983 | C56: 0.03854691 | D56: 0.036311379 | E56: 0.040948175
A57: 8 | B57: 0.036316199 | C57: 0.03666304 | D57: 0.034500335 | E57: 0.0389718
A58: 9 | B58: 0.034142999 | C58: 0.034818863 | D58: 0.032726288 | E58: 0.037186479
A59: 10 | B59: 0.033382235 | C59: 0.033118974 | D59: 0.031191292 | E59: 0.035218441
A60: 11 | B60: 0.031911796 | C60: 0.031501243 | D60: 0.029587885 | E60: 0.033407007
... A68: 19 | B68: 0.021407586 | C68: 0.021065672 | D68: 0.019564788 | E68: 0.022621709
A70: D. melanogaster female shuffle
A71: component | B71: variance explained Ellis_DMel_female | C71: variance explained shuffle | D71: confidence interval lower | E71: confidence interval higher
A72: 0 | B72: 0.061083668 | C72: 0.044763829 | D72: 0.041673675 | E72: 0.048966462
A73: 1 | B73: 0.05479292 | C73: 0.041880094 | D73: 0.039525386 | E73: 0.044667935
A74: 2 | B74: 0.049679816 | C74: 0.039729392 | D74: 0.037772227 | E74: 0.042113171
A75: 3 | B75: 0.048365776 | C75: 0.037985372 | D75: 0.036229567 | E75: 0.03978137
A76: 4 | B76: 0.04520525 | C76: 0.036418413 | D76: 0.034827343 | E76: 0.038182008
A77: 5 | B77: 0.042174472 | C77: 0.035011773 | D77: 0.03351294 | E77: 0.036607586
A78: 6 | B78: 0.040359643 | C78: 0.03370945 | D78: 0.032278483 | E78: 0.035128976
A79: 7 | B79: 0.038868983 | C79: 0.032448215 | D79: 0.031105702 | E79: 0.033804257
A80: 8 | B80: 0.036316199 | C80: 0.031323613 | D80: 0.030134518 | E80: 0.032671569
A81: 9 | B81: 0.034142999 | C81: 0.030280648 | D81: 0.02917116 | E81: 0.03149128
A82: 10 | B82: 0.033382235 | C82: 0.02923939 | D82: 0.028186504 | E82: 0.030414918
A83: 11 | B83: 0.031911796 | C83: 0.028243693 | D83: 0.027190296 | E83: 0.029316406
... A91: 19 | B91: 0.021407586 | C91: 0.021649171 | D91: 0.020813999 | E91: 0.022471275
A93: D. simulans female fixed
A94: component | B94: variance explained Ellis_DSim_female | C94: variance explained fixed | D94: confidence interval lower | E94: confidence interval higher
A95: 0 | B95: 0.063330483 | C95: 0.060952035 | D95: 0.055524482 | E95: 0.068164689
A96: 1 | B96: 0.054767564 | C96: 0.055463673 | D96: 0.05123761 | E96: 0.060516531
A97: 2 | B97: 0.051227058 | C97: 0.051326795 | D97: 0.047984208 | E97: 0.055540397
A98: 3 | B98: 0.047841716 | C98: 0.047987887 | D98: 0.044843282 | E98: 0.051441089
A99: 4 | B99: 0.04627732 | C99: 0.045268582 | D99: 0.0423574 | E99: 0.048094186
A100: 5 | B100: 0.042330009 | C100: 0.042825723 | D100: 0.040404086 | E100: 0.045457368
A101: 6 | B101: 0.040422819 | C101: 0.040602341 | D101: 0.038137315 | E101: 0.043242136
A102: 7 | B102: 0.036373204 | C102: 0.038550368 | D102: 0.036394365 | E102: 0.040897555
A103: 8 | B103: 0.036047676 | C103: 0.036620098 | D103: 0.034566343 | E103: 0.038902268
A104: 9 | B104: 0.035069378 | C104: 0.034917206 | D104: 0.032966294 | E104: 0.036986954
A105: 10 | B105: 0.032292737 | C105: 0.033324955 | D105: 0.031540332 | E105: 0.03530153
A106: 11 | B106: 0.031185768 | C106: 0.031716602 | D106: 0.029932104 | E106: 0.033562596
... A114: 19 | B114: 0.021365717 | C114: 0.021559053 | D114: 0.020205441 | E114: 0.022880856
A116: D. simulans female shuffle
A117: component | B117: variance explained Ellis_DSim_female | C117: variance explained shuffle | D117: confidence interval lower | E117: confidence interval higher
A118: 0 | B118: 0.063330483 | C118: 0.045595203 | D118: 0.042497049 | E118: 0.049690678
A119: 1 | B119: 0.054767564 | C119: 0.042471512 | D119: 0.039943681 | E119: 0.04526104
A120: 2 | B120: 0.051227058 | C120: 0.040299694 | D120: 0.038374037 | E120: 0.042546741
A121: 3 | B121: 0.047841716 | C121: 0.038430989 | D121: 0.03664395 | E121: 0.040546581
A122: 4 | B122: 0.04627732 | C122: 0.036771503 | D122: 0.035080323 | E122: 0.038521006
A123: 5 | B123: 0.042330009 | C123: 0.035273405 | D123: 0.033712728 | E123: 0.036839534
A124: 6 | B124: 0.040422819 | C124: 0.033947741 | D124: 0.032511708 | E124: 0.035430342
A125: 7 | B125: 0.036373204 | C125: 0.032648732 | D125: 0.031320151 | E125: 0.034165483
A126: 8 | B126: 0.036047676 | C126: 0.031492117 | D126: 0.030221744 | E126: 0.032807129
A127: 9 | B127: 0.035069378 | C127: 0.030355683 | D127: 0.02913941 | E127: 0.031664186
A128: 10 | B128: 0.032292737 | C128: 0.029290173 | D128: 0.0281743 | E128: 0.030405955
A129: 11 | B129: 0.031185768 | C129: 0.028282571 | D129: 0.027247803 | E129: 0.029445448
... A137: 19 | B137: 0.021365717 | C137: 0.021552624 | D137: 0.020704413 | E137: 0.022422433
A139: D. sechellia female fixed
A140: component | B140: variance explained Ellis_DSec_female | C140: variance explained fixed | D140: confidence interval lower | E140: confidence interval higher
A141: 0 | B141: 0.05190638 | C141: 0.056322906 | D141: 0.051151136 | E141: 0.062465314
A142: 1 | B142: 0.050576785 | C142: 0.051489469 | D142: 0.047528351 | E142: 0.056073519
A143: 2 | B143: 0.050024293 | C143: 0.048119775 | D143: 0.04477314 | E143: 0.051765998
A144: 3 | B144: 0.046889302 | C144: 0.045388622 | D144: 0.042103593 | E144: 0.048641751
A145: 4 | B145: 0.043654713 | C145: 0.042869801 | D145: 0.04024247 | E145: 0.045804039
A146: 5 | B146: 0.041712961 | C146: 0.040748012 | D146: 0.038311216 | E146: 0.04342278
A147: 6 | B147: 0.038090926 | C147: 0.038759903 | D147: 0.036585646 | E147: 0.041064283
A148: 7 | B148: 0.037282889 | C148: 0.036994966 | D148: 0.035043147 | E148: 0.039132492
...

Sheet Figure 2c, Supp. Figure 5
B1: Hayashi Dmel Female | C1: Hayashi Dmel Female shuffle | D1: Hayashi D mel Female fixed | E1: Ellis Dmel Female | F1: Ellis Dmel Female shuffle | G1: Ellis Dmel Female fixed | H1: Ellis Dmel Male | I1: Ellis Dmel Male shuffle | J1: Ellis Dmel Male fixed | K1: Ellis Dsec | L1: Ellis Dsec shuffle | M1: Ellis Dsec fixed | N1: Ellis Dsim | O1: Ellis Dsim shuffle | P1: Ellis Dsim fixed
A2: Hayashi Dmel Female | B2: 0 | C2: 0.23006449 | D2: 0.08458217 | E2: 0.16592718 | F2: 0.2431686 | G2: 0.1708762 | H2: 0.17474678 | I2: 0.22268822 | J2: 0.19169524 | K2: 0.20103023 | L2: 0.22729871 | M2: 0.21104339 | N2: 0.16740806 | O2: 0.24828304 | P2: 0.17665982
A3: Hayashi Dmel Female shuffle | B3: 0.23006449 | C3: 0 | D3: 0.25181849 | E3: 0.24111362 | F3: 0.12635483 | G3: 0.24004482 | H3: 0.25205961 | I3: 0.15374196 | J3: 0.28325682 | K3: 0.2395419 | L3: 0.14380713 | M3: 0.24963706 | N3: 0.26242157 | O3: 0.14380692 | P3: 0.27192001
A4: Hayashi D mel Female fixed | B4: 0.08458217 | C4: 0.25181849 | D4: 0 | E4: 0.17293639 | F4: 0.26209502 | G4: 0.17247777 | H4: 0.18272854 | I4: 0.24209734 | J4: 0.19934298 | K4: 0.20693189 | L4: 0.24970631 | M4: 0.21291064 | N4: 0.17112037 | O4: 0.26522292 | P4: 0.17336901
A5: Ellis Dmel Female | B5: 0.16592718 | C5: 0.24111362 | D5: 0.17293639 | E5: 0 | F5: 0.25519779 | G5: 0.076578353 | H5: 0.14712634 | I5: 0.23308288 | J5: 0.16865763 | K5: 0.21436254 | L5: 0.21903203 | M5: 0.22264089 | N5: 0.15686693 | O5: 0.25105078 | P5: 0.15564917
A6: Ellis Dmel Female shuffle | B6: 0.2431686 | C6: 0.12635483 | D6: 0.26209502 | E6: 0.25519779 | F6: 0 | G6: 0.25060529 | H6: 0.26061135 | I6: 0.11531576 | J6: 0.28597353 | K6: 0.22679376 | L6: 0.12467707 | M6: 0.24166203 | N6: 0.26468701 | O6: 0.13591388 | P6: 0.27436581
A7: Ellis Dmel Female fixed | B7: 0.1708762 | C7: 0.24004482 | D7: 0.17247777 | E7: 0.076578353 | F7: 0.25060529 | G7: 0 | H7: 0.16086019 | I7: 0.22374373 | J7: 0.18663964 | K7: 0.2028879 | L7: 0.20332576 | M7: 0.21293397 | N7: 0.17381895 | O7: 0.24410107 | P7: 0.17349556
A8: Ellis Dmel Male | B8: 0.17474678 | C8: 0.25205961 | D8: 0.18272854 | E8: 0.14712634 | F8: 0.26061135 | G8: 0.16086019 | H8: 0 | I8: 0.23765747 | J8: 0.091643028 | K8: 0.21633537 | L8: 0.23333414 | M8: 0.24367599 | N8: 0.16073695 | O8: 0.25601748 | P8: 0.16494739
A9: Ellis Dmel Male shuffle | B9: 0.22268822 | C9: 0.15374196 | D9: 0.24209734 | E9: 0.23308288 | F9: 0.11531576 | G9: 0.22374373 | H9: 0.23765747 | I9: 0 | J9: 0.26626712 | K9: 0.22777362 | L9: 0.11101027 | M9: 0.24358749 | N9: 0.25603825 | O9: 0.12606003 | P9: 0.26755591
A10: Ellis Dmel Male fixed | B10: 0.19169524 | C10: 0.28325682 | D10: 0.19934298 | E10: 0.16865763 | F10: 0.28597353 | G10: 0.18663964 | H10: 0.091643028 | I10: 0.26626712 | J10: 0 | K10: 0.23165103 | L10: 0.26461696 | M10: 0.25839832 | N10: 0.16773688 | O10: 0.295319 | P10: 0.17101521
A11: Ellis Dsec | B11: 0.20103023 | C11: 0.2395419 | D11: 0.20693189 | E11: 0.21436254 | F11: 0.22679376 | G11: 0.2028879 | H11: 0.21633537 | I11: 0.22777362 | J11: 0.23165103 | K11: 0 | L11: 0.22576247 | M11: 0.092331829 | N11: 0.24118137 | O11: 0.23880902 | P11: 0.25312352
A12: Ellis Dsec shuffle | B12: 0.22729871 | C12: 0.14380713 | D12: 0.24970631 | E12: 0.21903203 | F12: 0.12467707 | G12: 0.20332576 | H12: 0.23333414 | I12: 0.11101027 | J12: 0.26461696 | K12: 0.22576247 | L12: 0 | M12: 0.23454609 | N12: 0.2537936 | O12: 0.12117334 | P12: 0.2600165
A13: Ellis Dsec fixed | B13: 0.21104339 | C13: 0.24963706 | D13: 0.21291064 | E13: 0.22264089 | F13: 0.24166203 | G13: 0.21293397 | H13: 0.24367599 | I13: 0.24358749 | J13: 0.25839832 | K13: 0.092331829 | L13: 0.23454609 | M13: 0 | N13: 0.25583959 | O13: 0.24795873 | P13: 0.25956021
... A16: Ellis Dsim fixed | B16: 0.17665982 | C16: 0.27192001 | D16: 0.17336901 | E16: 0.15564917 | F16: 0.27436581 | G16: 0.17349556 | H16: 0.16494739 | I16: 0.26755591 | J16: 0.17101521 | K16: 0.25312352 | L16: 0.2600165 | M16: 0.25956021 | N16: 0.079588695 | O16: 0.28063539 | P16: 0

Sheet Figure 2d
A1: glomerulus | B1: fixed_kc_greater | C1: fixed_pn_fixed_kc_greater | D1: fixed_kc_less | E1: fixed_pn_fixed_kc_less
A2: d | B2: 1 | C2: 1 | D2: 0.443 | E2: 0.437
A3: da1 | B3: 0.002 | C3: 0.98 | D3: 1 | E3: 0.751
A4: da2 | B4: 0.874 | C4: 1 | D4: 0 | E4: 0.144
A5: da3 | B5: 1 | C5: 0.699 | D5: 0.005 | E5: 1
A6: da4l | B6: 0.999 | C6: 0.962 | D6: 0.16 | E6: 0.899
A7: da4m | B7: 0.733 | C7: 0.001 | D7: 0.937 | E7: 1
A8: dc1 | B8: 1 | C8: 1 | D8: 0.896 | E8: 0.042
A9: dc2 | B9: 0.875 | C9: 0.986 | D9: 0.866 | E9: 0.836
A10: dc3 | B10: 0.878 | C10: 1 | D10: 0.311 | E10: 0.001
A11: dc4 | B11: 0.772 | C11: 1 | D11: 0.291 | E11: 0.12
A12: dl1 | B12: 0 | C12: 0.679 | D12: 1 | E12: 0.997
A13: dl2d | B13: 0.039 | C13: 0 | D13: 1 | E13: 1
... A52: vm7v | B52: 1 | C52: 0.036 | D52: 0.036 | E52: 1

Sheet Figure 2f
B1: comparison | C1: ratio | D1: p-value | E1: Log fold change (base 2) | F1: -Log p-value (base 10)
A2: 0 | B2: Ellis Mel Male vs. Ellis Mel Female d | C2: 0.6875 | D2: 0.42595961 | E2: -0.54056838 | F2: 0.85341076
A3: 1 | B3: Ellis Mel Male vs. Ellis Mel Female da1 | C3: 1.1071429 | D3: 0.7782451 | E3: 0.14684139 | F3: 0.25071376
A4: 2 | B4: Ellis Mel Male vs. Ellis Mel Female da2 | C4: 0.5 | D4: 0.68514444 | E4: -1 | F4: 0.3781256
A5: 3 | B5: Ellis Mel Male vs. Ellis Mel Female da3 | C5: 1.6666667 | D5: 0.72380392 | E5: 0.73696559 | F5: 0.32323475
A6: 4 | B6: Ellis Mel Male vs. Ellis Mel Female da4l | C6: 2 | D6: 0.22712824 | E6: 1 | F6: 1.4822405
A7: 5 | B7: Ellis Mel Male vs. Ellis Mel Female da4m | C7: 0.6 | D7: 0.72380392 | E7: -0.73696559 | F7: 0.32323475
A8: 6 | B8: Ellis Mel Male vs. Ellis Mel Female dc1 | C8: 0.95652174 | D8: 1 | E8: -0.064130337 | F8: 0
A9: 7 | B9: Ellis Mel Male vs. Ellis Mel Female dc2 | C9: 0.92307692 | D9: 1 | E9: -0.11547722 | F9: 0
A10: 8 | B10: Ellis Mel Male vs. Ellis Mel Female dc3 | C10: 0.67741935 | D10: 0.1806258 | E10: -0.56187889 | F10: 1.7113278
A11: 9 | B11: Ellis Mel Male vs. Ellis Mel Female dc4 | C11: 1 | D11: 1 | E11: 0 | F11: 0
A12: 10 | B12: Ellis Mel Male vs. Ellis Mel Female dl1 | C12: 0.8 | D12: 0.46485317 | E12: -0.3219281 | F12: 0.76603368
A13: 11 | B13: Ellis Mel Male vs. Ellis Mel Female dl2d | C13: 1.4285714 | D13: 0.62145875 | E13: 0.51457317 | F13: 0.47568573
... A17: 15 | B17: Ellis Mel Male vs. Ellis Mel Female dl5 | C17: 1.1428571 | D17: 0.75204701 | E17: 0.19264508 | F17: 0.28495644
A18: 16 | B18: Ellis Mel Male vs. Ellis Mel Female dl6 | C18: 0 | D18: 1 | E18: #NAME? | F18: 0
A19: 17 | B19: Ellis Mel Male vs. Ellis Mel Female dm1 | C19: 0.9 | D19: 1 | E19: -0.15200309 | F19: 0
A20: 18 | B20: Ellis Mel Male vs. Ellis Mel Female dm2 | C20: 1.8181818 | D20: 0.13365255 | E20: 0.86249648 | F20: 2.0125118
A21: 19 | B21: Ellis Mel Male vs. Ellis Mel Female dm3 | C21: 0.61538461 | D21: 0.37038845 | E21: -0.70043972 | F21: 0.99320295
A22: 20 | B22: Ellis Mel Male vs. Ellis Mel Female dm4 | C22: 0.66666667 | D22: 0.49233985 | E22: -0.5849625 | F22: 0.70858604
A23: 21 | B23: Ellis Mel Male vs. Ellis Mel Female dm5 | C23: 0.875 | D23: 1 | E23: -0.19264508 | F23: 0
A24: 22 | B24: Ellis Mel Male vs. Ellis Mel Female dm6 | C24: 1.0952381 | D24: 0.87326847 | E24: 0.13124453 | F24: 0.13551224
A25: 23 | B25: Ellis Mel Male vs. Ellis Mel Female dp1l | C25: 2.6666667 | D25: 0.22008493 | E25: 1.4150375 | F25: 1.5137418
A26: 24 | B26: Ellis Mel Male vs. Ellis Mel Female dp1m | C26: 1.9333333 | D26: 0.036854781 | E26: 0.9510904 | F26: 3.3007699
A27: 25 | B27: Ellis Mel Male vs. Ellis Mel Female v | C27: 0.5 | D27: 1 | E27: -1 | F27: 0
A28: 26 | B28: Ellis Mel Male vs. Ellis Mel Female va1d | C28: 0.54285714 | D28: 0.027536162 | E28: -0.8813555 | F28: 3.5922552
A29: 27 | B29: Ellis Mel Male vs. Ellis Mel Female va1v | C29: 1.0909091 | D29: 0.87567623 | E29: 0.12553088 | F29: 0.13275886
A30: 28 | B30: Ellis Mel Male vs. Ellis Mel Female va2 | C30: 0.125 | D30: 0.001031737 | E30: -3 | F30: 6.8765111
... A51: 49 | B51: Ellis Mel Male vs. Ellis Mel Female vm7d | C51: 0.76190476 | D51: 0.4905764 | E51: -0.39231742 | F51: 0.71217425
A52: 50 | B52: Ellis Mel Male vs. Ellis Mel Female vm7v | C52: 0 | D52: 0.24812968 | E52: #NAME? | F52: 1.3938038
A53: 51 | B53: Ellis Mel Male vs. Ellis Sech d | C53: 1.1 | D53: 0.82390497 | E53: 0.13750352 | F53: 0.19370008
A54: 52 | B54: Ellis Mel Male vs. Ellis Sech da1 | C54: 1.2916667 | D54: 0.24709468 | E54: 0.36923381 | F54: 1.3979837
A55: 53 | B55: Ellis Mel Male vs. Ellis Sech da2 | C55: 0 | D55: 0.23511247 | E55: #NAME? | F55: 1.4476913
A56: 54 | B56: Ellis Mel Male vs. Ellis Sech da3 | C56: 1.25 | D56: 0.74502291 | E56: 0.3219281 | F56: 0.29434031
A57: 55 | B57: Ellis Mel Male vs. Ellis Sech da4l | C57: 1.5 | D57: 0.36143803 | E57: 0.5849625 | F57: 1.0176647
A58: 56 | B58: Ellis Mel Male vs. Ellis Sech da4m | C58: 0.21428571 | D58: 0.01159878 | E58: -2.2223924 | F58: 4.4568553
A59: 57 | B59: Ellis Mel Male vs. Ellis Sech dc1 | C59: 1.6923077 | D59: 0.080450785 | E59: 0.7589919 | F59: 2.5201096
A60: 58 | B60: Ellis Mel Male vs. Ellis Sech dc2 | C60: 0.92307692 | D60: 1 | E60: -0.11547722 | F60: 0
A61: 59 | B61: Ellis Mel Male vs. Ellis Sech dc3 | C61: 2.3333333 | D61: 0.021514401 | E61: 1.2223924 | F61: 3.8390327
A62: 60 | B62: Ellis Mel Male vs. Ellis Sech dc4 | C62: 1.7777778 | D62: 0.14783869 | E62: 0.830075 | F62: 1.9116336
A63: 61 | B63: Ellis Mel Male vs. Ellis Sech dl1 | C63: 0.88888889 | D63: 0.88155301 | E63: -0.169925 | F63: 0.12607015
A64: 62 | B64: Ellis Mel Male vs. Ellis Sech dl2d | C64: 0.47619048 | D64: 0.063934045 | E64: -1.0703893 | F64: 2.7499033
A65: 63 | B65: Ellis Mel Male vs. Ellis Sech dl2v | C65: 0.63636364 | D65: 0.47427468 | E65: -0.6520767 | F65: 0.74596862
A66: 64 | B66: Ellis Mel Male vs. Ellis Sech dl3 | C66: 0.85714286 | D66: 1 | E66: -0.22239242 | F66: 0
A67: 65 | B67: Ellis Mel Male vs. Ellis Sech dl4 | C67: 4 | D67: 0.20362364 | E67: 2 | F67: 1.5914819
A68: 66 | B68: Ellis Mel Male vs. Ellis Sech dl5 | C68: 1.0434783 | D68: 0.75794523 | E68: 0.061400545 | F68: 0.27714415
A69: 67 | B69: Ellis Mel Male vs. Ellis Sech dl6 | C69: 0 | D69: 1 | E69: #NAME? | F69: 0
A70: 68 | B70: Ellis Mel Male vs. Ellis Sech dm1 | C70: 0.64285714 | D70: 0.39612501 | E70: -0.63742992 | F70: 0.92602544
A71: 69 | B71: Ellis Mel Male vs. Ellis Sech dm2 | C71: 1.1111111 | D71: 0.61385742 | E71: 0.15200309 | F71: 0.4879926
A72: 70 | B72: Ellis Mel Male vs. Ellis Sech dm3 | C72: 0.53333333 | D72: 0.20165803 | E72: -0.9068906 | F72: 1.6011819
A73: 71 | B73: Ellis Mel Male vs. Ellis Sech dm4 | C73: 0.72727273 | D73: 0.64252016 | E73: -0.45943162 | F73: 0.44235709
A74: 72 | B74: Ellis Mel Male vs. Ellis Sech dm5 | C74: 0.58333333 | D74: 0.35191434 | E74: -0.77760758 | F74: 1.0443675
A75: 73 | B75: Ellis Mel Male vs. Ellis Sech dm6 | C75: 1.6428571 | D75: 0.087663066 | E75: 0.71620703 | F75: 2.4342546
A76: 74 | B76: Ellis Mel Male vs. Ellis Sech dp1l | C76: 0.38095238 | D76: 0.021001941 | E76: -1.3923174 | F76: 3.8631404
A77: 75 | B77: Ellis Mel Male vs. Ellis Sech dp1m | C77: 1.45 | D77: 0.12879233 | E77: 0.5360529 | F77: 2.049554
A78: 76 | B78: Ellis Mel Male vs. Ellis Sech v | C78: 1 | D78: 1 | E78: 0 | F78: 0
A79: 77 | B79: Ellis Mel Male vs. Ellis Sech va1d | C79: 1.3571429 | D79: 0.36427826 | E79: 0.44057259 | F79: 1.0098372
A80: 78 | B80: Ellis Mel Male vs. Ellis Sech va1v | C80: 1.4117647 | D80: 0.19122619 | E80: 0.49749966 | F80: 1.6542983
A81: 79 | B81: Ellis Mel Male vs. Ellis Sech va2 | C81: 0.083333333 | D81: 7.08e-06 | E81: -3.5849625 | F81: 11.858402
... A102: 100 | B102: Ellis Mel Male vs. Ellis Sech vm7d | C102: 1.2307692 | D102: 0.56414224 | E102: 0.29956028 | F102: 0.57244885
A103: 101 | B103: Ellis Mel Male vs. Ellis Sech vm7v | C103: 0 | D103: 0.030512638 | E103: #NAME? | F103: 3.4896143
A104: 102 | B104: Ellis Mel Male vs. Ellis Sim d | C104: 0.52380952 | D104: 0.095952823 | E104: -0.9328858 | F104: 2.3438986
A105: 103 | B105: Ellis Mel Male vs. Ellis Sim da1 | C105: 1.1923077 | D105: 0.56767972 | E105: 0.25375659 | F105: 0.56619789
A106: 104 | B106: Ellis Mel Male vs. Ellis Sim da2 | C106: 0.5 | D106: 0.68514444 | E106: -1 | F106: 0.3781256
A107: 105 | B107: Ellis Mel Male vs. Ellis Sim da3 | C107: 5 | D107: 0.21523439 | E107: 2.3219281 | F107: 1.5360277
A108: 106 | B108: Ellis Mel Male vs. Ellis Sim da4l | C108: 1.2 | D108: 0.82701803 | E108: 0.26303441 | F108: 0.18992878
A109: 107 | B109: Ellis Mel Male vs. Ellis Sim da4m | C109: 1 | D109: 1 | E109: 0 | F109: 0
A110: 108 | B110: Ellis Mel Male vs. Ellis Sim dc1 | C110: 0.91666667 | D110: 0.87567623 | E110: -0.12553088 | F110: 0.13275886
A111: 109 | B111: Ellis Mel Male vs. Ellis Sim dc2 | C111: 0.54545455 | D111: 0.10554882 | E111: -0.87446912 | F111: 2.2485817
A112: 110 | B112: Ellis Mel Male vs. Ellis Sim dc3 | C112: 0.58333333 | D112: 0.044613808 | E112: -0.77760758 | F112: 3.1097119
A113: 111 | B113: Ellis Mel Male vs. Ellis Sim dc4 | C113: 1.0666667 | D113: 1 | E113: 0.093109404 | F113: 0
A114: 112 | B114: Ellis Mel Male vs. Ellis Sim dl1 | C114: 1.0434783 | D114: 1 | E114: 0.061400545 | F114: 0
A115: 113 | B115: Ellis Mel Male vs. Ellis Sim dl2d | C115: 2 | D115: 0.29247733 | E115: 1 | F115: 1.2293681
... A119: 117 | B119: Ellis Mel Male vs. Ellis Sim dl5 | C119: 0.92307692 | D119: 0.88002602 | E119: -0.11547722 | F119: 0.1278038
A120: 118 | B120: Ellis Mel Male vs. Ellis Sim dl6 | C120: 0 | D120: 1 | E120: #NAME? | F120: 0
A121: 119 | B121: Ellis Mel Male vs. Ellis Sim dm1 | C121: 1.125 | D121: 1 | E121: 0.169925 | F121: 0
A122: 120 | B122: Ellis Mel Male vs. Ellis Sim dm2 | C122: 1 | D122: 1 | E122: 0 | F122: 0
A123: 121 | B123: Ellis Mel Male vs. Ellis Sim dm3 | C123: 0.72727273 | D123: 0.63945175 | E123: -0.45943162 | F123: 0.44714411
A124: 122 | B124: Ellis Mel Male vs. Ellis Sim dm4 | C124: 1.6 | D124: 0.57466635 | E124: 0.67807191 | F124: 0.55396568
A125: 123 | B125: Ellis Mel Male vs. Ellis Sim dm5 | C125: 0.30434783 | D125: 0.003734042 | E125: -1.716207 | F125: 5.5902641
A126: 124 | B126: Ellis Mel Male vs. Ellis Sim dm6 | C126: 1.0454545 | D126: 1 | E126: 0.064130337 | F126: 0
A127: 125 | B127: Ellis Mel Male vs. Ellis Sim dp1l | C127: 1.1428571 | D127: 1 | E127: 0.19264508 | F127: 0
A128: 126 | B128: Ellis Mel Male vs. Ellis Sim dp1m | C128: 1.7058824 | D128: 0.083930616 | E128: 0.77051815 | F128: 2.4777648
A129: 127 | B129: Ellis Mel Male vs. Ellis Sim v | C129: 0 | D129: 1 | E129: #NAME? | F129: 0
A130: 128 | B130: Ellis Mel Male vs. Ellis Sim va1d | C130: 0.82608696 | D130: 0.62516455 | E130: -0.27563444 | F130: 0.46974038
A131: 129 | B131: Ellis Mel Male vs. Ellis Sim va1v | C131: 1.0434783 | D131: 1 | E131: 0.061400545 | F131: 0
A132: 130 | B132: Ellis Mel Male vs. Ellis Sim va2 | C132: 0.18181818 | D132: 0.020411101 | E132: -2.4594316 | F132: 3.8916763
A133: 131 | B133: Ellis Mel Male vs. Ellis Sim va3 | C133: 0.8 | D133: 0.60080913 | E133: -0.3219281 | F133: 0.50947798
A134: 132 | B134: Ellis Mel Male vs. Ellis Sim va4 | C134: 1.2 | D134: 1 | E134: 0.26303441 | F134: 0
A135: 133 | B135: Ellis Mel Male vs. Ellis Sim va5 | C135: 0.8 | D135: 0.52728222 | E135: -0.3219281 | F135: 0.64001936
A136: 134 | B136: Ellis Mel Male vs. Ellis Sim va6 | C136: 1.2105263 | D136: 0.62516455 | E136: 0.27563444 | F136: 0.46974038
A137: 135 | B137: Ellis Mel Male vs. Ellis Sim va7l | C137: 1.4545455 | D137: 0.42595961 | E137: 0.54056838 | F137: 0.85341076
A138: 136 | B138: Ellis Mel Male vs. Ellis Sim va7m | C138: 0.625 | D138: 0.31066118 | E138: -0.67807191 | F138: 1.1690524
A139: 137 | B139: Ellis Mel Male vs. Ellis Sim vc1 | C139: 0.92307692 | D139: 1 | E139: -0.11547722 | F139: 0
A140: 138 | B140: Ellis Mel Male vs. Ellis Sim vc2 | C140: 0.64705882 | D140: 0.32737945 | E140: -0.62803122 | F140: 1.1166354
A141: 139 | B141: Ellis Mel Male vs. Ellis Sim vc3l | C141: 0.85714286 | D141: 0.58815168 | E141: -0.22239242 | F141: 0.53077041
... A153: 151 | B153: Ellis Mel Male vs. Ellis Sim vm7d | C153: 0.55172414 | D153: 0.056703554 | E153: -0.857981 | F153: 2.8699184
A154: 152 | B154: Ellis Mel Male vs. Ellis Sim vm7v | C154: 0 | D154: 1 | E154: #NAME? | F154: 0
A155: 153 | B155: Ellis Mel Female vs. Ellis Sech d | C155: 1.6 | D155: 0.22393529 | E155: 0.67807191 | F155: 1.4963982
A156: 154 | B156: Ellis Mel Female vs. Ellis Sech da1 | C156: 1.1666667 | D156: 0.45957111 | E156: 0.22239242 | F156: 0.7774616
A157: 155 | B157: Ellis Mel Female vs. Ellis Sech da2 | C157: 0 | D157: 0.05470851 | E157: #NAME? | F157: 2.905736
...

Sheet Figure 3c and Supp. Figure 6
A1: DA2
B2: Hemi lPN | C2: FAFB (L) lPN | D2: FAFB (R) lPN | E2: Dmel lPN | F2: Dsim lPN | G2: Dsec lPN
A3: PN # per sample | B3: 5 | C3: 6 | D3: 5 | E3: 4 | F3: 2 | G3: 4
B4: N/A | C4: N/A | D4: N/A | E4: 3 | F4: 4 | G4: 3
B5: N/A | C5: N/A | D5: N/A | E5: 3 | F5: 3 | G5: 4
B6: N/A | C6: N/A | D6: N/A | E6: 5 | F6: 4 | G6: 4
B7: N/A | C7: N/A | D7: N/A | E7: 3 | F7: 5 | G7: 4
A9: DC3
B10: Hemi adPN | C10: Hemi vPN | D10: FAFB (L) adPN | E10: FAFB (L) vPN | F10: FAFB (R) adPN | G10: FAFB (R) vPN | H10: Dmel adPN | I10: Dmel vPN | J10: Dsim adPN | K10: Dsim vPN | L10: Dsec adPN | M10: Dsec vPN
A11: PN # per sample | B11: 3 | C11: 0 | D11: 2 | E11: 0 | F11: 3 | G11: 0 | H11: 2 | I11: 0 | J11: 3 | K11: 3 | L11: 2 | M11: 0
B12: N/A | C12: N/A | D12: N/A | E12: N/A | F12: N/A | G12: N/A | H12: 3 | I12: 0 | J12: 3 | K12: 3 | L12: 2 | M12: 0
B13: N/A | C13: N/A | D13: N/A | E13: N/A | F13: N/A | G13: N/A | H13: 3 | I13: 0 | J13: 3 | K13: 3 | L13: 2 | M13: 0
B14: N/A | C14: N/A | D14: N/A | E14: N/A | F14: N/A | G14: N/A | H14: 3 | I14: 0 | J14: 3 | K14: 3 | L14: 2 | M14: 0
B15: N/A | C15: N/A | D15: N/A | E15: N/A | F15: N/A | G15: N/A | H15: 3 | I15: 0 | J15: 3 | K15: 3 | L15: 3 | M15: 0
B16: N/A | C16: N/A | D16: N/A | E16: N/A | F16: N/A | G16: N/A | H16: 3 | I16: 0 | J16: 3 | K16: 3 | L16: 2 | M16: 0
B17: N/A | C17: N/A | D17: N/A | E17: N/A | F17: N/A | G17: N/A | H17: 3 | I17: 0 | J17: 3 | K17: 3 | L17: 2 | M17: 0
B18: N/A | C18: N/A | D18: N/A | E18: N/A | F18: N/A | G18: N/A | H18: 3 | I18: 0 | J18: N/A | K18: N/A | L18: 2 | M18: 0
B19: N/A | C19: N/A | D19: N/A | E19: N/A | F19: N/A | G19: N/A | H19: 3 | I19: 0 | J19: N/A | K19: N/A | L19: 3 | M19: 0
B20: N/A | C20: N/A | D20: N/A | E20: N/A | F20: N/A | G20: N/A | H20: 2 | I20: 0 | J20: N/A | K20: N/A | L20: 2 | M20: 0
B21: N/A | C21: N/A | D21: N/A | E21: N/A | F21: N/A | G21: N/A | H21: 3 | I21: 0 | J21: N/A | K21: N/A | L21: 2 | M21: 0
B22: N/A | C22: N/A | D22: N/A | E22: N/A | F22: N/A | G22: N/A | H22: 3 | I22: 0 | J22: N/A | K22: N/A | L22: 2 | M22: 0
B23: N/A | C23: N/A | D23: N/A | E23: N/A | F23: N/A | G23: N/A | H23: 3 | I23: 0 | J23: N/A | K23: N/A | L23: 2 | M23: 0
B24: N/A | C24: N/A | D24: N/A | E24: N/A | F24: N/A | G24: N/A | H24: 3 | I24: 0 | J24: N/A | K24: N/A | L24: 2 | M24: 0
B25: N/A | C25: N/A | D25: N/A | E25: N/A | F25: N/A | G25: N/A | H25: 3 | I25: 0 | J25: N/A | K25: N/A | L25: 2 | M25: 0
B26: N/A | C26: N/A | D26: N/A | E26: N/A | F26: N/A | G26: N/A | H26: 3 | I26: 0 | J26: N/A | K26: N/A | L26: 2 | M26: 0
B27: N/A | C27: N/A | D27: N/A | E27: N/A | F27: N/A | G27: N/A | H27: 3 | I27: 0 | J27: N/A | K27: N/A | L27: 2 | M27: 0
B28: N/A | C28: N/A | D28: N/A | E28: N/A | F28: N/A | G28: N/A | H28: 3 | I28: 0 | J28: N/A | K28: N/A | L28: 2 | M28: 0
B29: N/A | C29: N/A | D29: N/A | E29: N/A | F29: N/A | G29: N/A | H29: 3 | I29: 0 | J29: N/A | K29: N/A | L29: 2 | M29: 0
A31: DL2d
B32: Hemi adPN | C32: Hemi vPN | D32: FAFB (L) adPN | E32: FAFB (L) vPN | F32: FAFB (R) adPN | G32: FAFB (R) vPN | H32: Dmel adPN | I32: Dmel vPN | J32: Dsim adPN | K32: Dsim vPN | L32: Dsec adPN | M32: Dsec vPN
A33: PN # per sample | B33: 5 | C33: 1 | D33: 5 | E33: 0 | F33: 5 | G33: 0 | H33: 5 | I33: 1 | J33: 5 | K33: 1 | L33: 5 | M33: 3
B34: N/A | C34: N/A | D34: N/A | E34: N/A | F34: N/A | G34: N/A | H34: 5 | I34: 1 | J34: 5 | K34: 1 | L34: 5 | M34: 3
B35: N/A | C35: N/A | D35: N/A | E35: N/A | F35: N/A | G35: N/A | H35: 5 | I35: 1 | J35: 5 | K35: 1 | L35: 5 | M35: 3
B36: N/A | C36: N/A | D36: N/A | E36: N/A | F36: N/A | G36: N/A | H36: 5 | I36: 1 | J36: 5 | K36: 1 | L36: 5 | M36: 3
B37: N/A | C37: N/A | D37: N/A | E37: N/A | F37: N/A | G37: N/A | H37: 5 | I37: 1 | J37: 5 | K37: 1 | L37: 5 | M37: 3
A39: DM2.
B40: Hemi lPN | C40: FAFB (L) lPN | D40: FAFB (R) lPN | E40: Dmel lPN | F40: Dsim lPN | G40: Dsec lPN
A41: PN # per sample | B41: 2 | C41: 2 | D41: 2 | E41: 2 | F41: 2 | G41: 2
B42: N/A | C42: N/A | D42: N/A | E42: 2 | F42: 2 | G42: 2
B43: N/A | C43: N/A | D43: N/A | E43: 2 | F43: 2 | G43: 2
B44: N/A | C44: N/A | D44: N/A | E44: 2 | F44: 2 | G44: 2
B45: N/A | C45: N/A | D45: N/A | E45: 2 | F45: 2 | G45: 2
A47: DP1l
B48: Hemi lPN | C48: Hemi vPN | D48: FAFB (L) lPN | E48: FAFB (L) vPN | F48: FAFB (R) lPN | G48: FAFB (R) vPN | H48: Dmel lPN | I48: Dmel vPN | J48: Dsim lPN | K48: Dsim vPN | L48: Dsec lPN | M48: Dsec vPN
A49: PN # per sample | B49: 1 | C49: 0 | D49: 1 | E49: 0 | F49: 1 | G49: 0 | H49: 1 | I49: 1 | J49: 1 | K49: 2 | L49: 1 | M49: 2
B50: N/A | C50: N/A | D50: N/A | E50: N/A | F50: N/A | G50: N/A | H50: 1 | I50: 1 | J50: 1 | K50: 2 | L50: 1 | M50: 2
B51: N/A | C51: N/A | D51: N/A | E51: N/A | F51: N/A | G51: N/A | H51: 1 | I51: 1 | J51: 1 | K51: 2 | L51: 1 | M51: 2
B52: N/A | C52: N/A | D52: N/A | E52: N/A | F52: N/A | G52: N/A | H52: 1 | I52: 1 | J52: 1 | K52: 2 | L52: 1 | M52: 2
B53: N/A | C53: N/A | D53: N/A | E53: N/A | F53: N/A | G53: N/A | H53: 1 | I53: 1 | J53: 1 | K53: 2 | L53: 1 | M53: 2
A55: DP1m
B56: Hemi adPN | C56: FAFB (L) adPN | D56: FAFB (R) adPN | E56: Dmel adPN | F56: Dsim adPN | G56: Dsec adPN
A57: PN # per sample | B57: 1 | C57: 1 | D57: 1 | E57: 1 | F57: 1 | G57: 1
B58: N/A | C58: N/A | D58: N/A | E58: 1 | F58: 1 | G58: 1
B59: N/A | C59: N/A | D59: N/A | E59: 1 | F59: 1 | G59: 1
B60: N/A | C60: N/A | D60: N/A | E60: 1 | F60: 1 | G60: 1
B61: N/A | C61: N/A | D61: N/A | E61: 1 | F61: 1 | G61: 1
A63: V1d
B64: Hemi adPN | C64: Hemi vPN | D64: FAFB (L) adPN | E64: FAFB (L) vPN | F64: FAFB (R) adPN | G64: FAFB (R) vPN | H64: Dmel adPN | I64: Dmel vPN | J64: Dsim adPN | K64: Dsim vPN | L64: Dsec adPN | M64: Dsec vPN
A65: PN # per sample | B65: 3 | C65: 1 | D65: 4 | E65: 1 | F65: 2 | G65: 1 | H65: 3 | I65: 1 | J65: 3 | K65: 1 | L65: 3 | M65: 1
B66: N/A | C66: N/A | D66: N/A | E66: N/A | F66: N/A | G66: N/A | H66: 3 | I66: 1 | J66: 3 | K66: 1 | L66: 3 | M66: 1
B67: N/A | C67: N/A | D67: N/A | E67: N/A | F67: N/A | G67: N/A | H67: 3 | I67: 1 | J67: 3 | K67: 1 | L67: 3 | M67: 1
B68: N/A | C68: N/A | D68: N/A | E68: N/A | F68: N/A | G68: N/A | H68: 3 | I68: 1 | J68: 3 | K68: 1 | L68: 2 | M68: 1
B69: N/A | C69: N/A | D69: N/A | E69: N/A | F69: N/A | G69: N/A | H69: 3 | I69: 1 | J69: 3 | K69: 1 | L69: 3 | M69: 1
A71: VC3
B72: Hemi adPN | C72: FAFB (L) adPN | D72: FAFB (R) adPN | E72: Dmel adPN | F72: Dsim adPN | G72: Dsec adPN
A73: PN # per sample | B73: 3 | C73: 4 | D73: 4 | E73: 3 | F73: 2 | G73: 3
B74: N/A | C74: N/A | D74: N/A | E74: 3 | F74: 3 | G74: 3
B75: N/A | C75: N/A | D75: N/A | E75: 3 | F75: 3 | G75: 3
B76: N/A | C76: N/A | D76: N/A | E76: 3 | F76: 3 | G76: 3
B77: N/A | C77: N/A | D77: N/A | E77: 3 | F77: 3 | G77: 3
A79: VL2a
B80: Hemi adPN | C80: Hemi vPN | D80: FAFB (L) adPN | E80: FAFB (L) vPN | F80: FAFB (R) adPN | G80: FAFB (R) vPN | H80: Dmel adPN | I80: Dmel vPN | J80: Dsim adPN | K80: Dsim vPN | L80: Dsec adPN | M80: Dsec vPN
A81: PN # per sample | B81: 1 | C81: 3 | D81: 1 | E81: 2 | F81: 1 | G81: 2 | H81: 1 | I81: 3 | J81: 1 | K81: 3 | L81: 1 | M81: 3
B82: N/A | C82: N/A | D82: N/A | E82: N/A | F82: N/A | G82: N/A | H82: 1 | I82: 3 | J82: 1 | K82: 3 | L82: 1 | M82: 3
B83: N/A | C83: N/A | D83: N/A | E83: N/A | F83: N/A | G83: N/A | H83: 1 | I83: 3 | J83: 1 | K83: 3 | L83: 1 | M83: 3
B84: N/A | C84: N/A | D84: N/A | E84: N/A | F84: N/A | G84: N/A | H84: 1 | I84: 3 | J84: 1 | K84: 3 | L84: 1 | M84: 3
B85: N/A | C85: N/A | D85: N/A | E85: N/A | F85: N/A | G85: N/A | H85: 1 | I85: 3 | J85: 1 | K85: 3 | L85: 1 | M85: 3
A87: VM5v
B88: Hemi adPN | C88: FAFB (L) adPN | D88: FAFB (R) adPN | E88: Dmel adPN | F88: Dsim adPN | G88: Dsec lPN
A89: PN # per sample | B89: 2 | C89: 3 | D89: 3 | E89: 3 | F89: 3 | G89: 2
B90: N/A | C90: N/A | D90: N/A | E90: 2 | F90: 3 | G90: 2
B91: N/A | C91: N/A | D91: N/A | E91: 3 | F91: 3 | G91: 2
B92: N/A | C92: N/A | D92: N/A | E92: 2 | F92: 3 | G92: 2
B93: N/A | C93: N/A | D93: N/A | E93: 3 | F93: 3 | G93: 1
B94: N/A | C94: N/A | D94: N/A | E94: 2 | F94: 2 | G94: 2
B95: N/A | C95: N/A | D95: N/A | E95: 3 | F95: 3 | G95: 2
B96: N/A | C96: N/A | D96: N/A | E96: 3 | F96: 3 | G96: 2
B97: N/A | C97: N/A | D97: N/A | E97: 2 | F97: 2 | G97: N/A
B98: N/A | C98: N/A | D98: N/A | E98: 2 | F98: 3 | G98: N/A
B99: N/A | C99: N/A | D99: N/A | E99: 3 | F99: N/A | G99: N/A
B100: N/A | C100: N/A | D100: N/A | E100: 3 | F100: N/A | G100: N/A
B101: N/A | C101: N/A | D101: N/A | E101: 2 | F101: N/A | G101: N/A
B102: N/A | C102: N/A | D102: N/A | E102: 3 | F102: N/A | G102: N/A
B103: N/A | C103: N/A | D103: N/A | E103: 2 | F103: N/A | G103: N/A
B104: N/A | C104: N/A | D104: N/A | E104: 3 | F104: N/A | G104: N/A
B105: N/A | C105: N/A | D105: N/A | E105: 3 | F105: N/A | G105: N/A

Sheet Figure 4c and Supp. Table 3
A1: Dye-labeled Projection Neurons: Fork Points in Mushroom Body Calyx | F1: Dye-labeled Projection Neurons: Bouton Volume (µm3) in Mushroom Body Calyx | K1: Dye-labeled Projection Neurons: Primary Branch # in Mushroom Body Calyx | P1: Dye-labeled Projection Neurons: Primary Branch Length (µm) in Mushroom Body Calyx
A2: DC3 | F2: DC3 | K2: DC3 | P2: DC3
A3: Sample # | B3: Dmel | C3: Dsim | D3: Dsec | F3: Sample # | G3: Dmel | H3: Dsim | I3: Dsec | K3: Sample # | L3: Dmel | M3: Dsim | N3: Dsec | P3: Dmel | Q3: Dsim | R3: Dsec
A4: 1 | B4: 3 | C4: 2 | D4: 2 | F4: 1 | G4: 190.61195 | H4: 195.01318 | I4: 154.41355 | K4: 1 | L4: 3 | M4: 2 | N4: 2 | P4: 38.6875 | Q4: 41.4982 | R4: 34.006
A5: 2 | B5: 3 | C5: 2 | D5: 2 | F5: 2 | G5: 151.13403 | H5: 109.08 | I5: 153.29186 | K5: 2 | L5: 3 | M5: 2 | N5: 2 | P5: 17.0538 | Q5: 89.5674 | R5: 37.1684
A6: 3 | B6: 2 | C6: 4 | D6: 2 | F6: 3 | G6: 166.71417 | H6: 143.62438 | I6: 176.39115 | K6: 3 | L6: 2 | M6: 3 | N6: 2 | P6: 10.6779 | Q6: 17.449 | R6: 11.6096
A7: 4 | B7: 2 | C7: 3 | D7: 3 | F7: 4 | G7: 163.81487 | H7: 235.22306 | I7: 133.87134 | K7: 4 | L7: 2 | M7: 3 | N7: 3 | P7: 18.1961 | Q7: 19.5106 | R7: 23.5908
A8: 5 | B8: 4 | C8: 3 | D8: 2 | F8: 5 | G8: 248.47426 | H8: 162.13233 | I8: 208.81572 | K8: 5 | L8: 4 | M8: 2 | N8: 2 | P8: 28.2001 | Q8: 28.2071 | R8: 20.5359
P9: 35.2168 | Q9: 35.6869 | R9: 9.70605
A10: DL2d | F10: DL2d | K10: DL2d | P10: 51.0973 | Q10: 43.847 | R10: 39.8676
A11: Sample # | B11: Dmel | C11: Dsim | D11: Dsec | F11: Sample # | G11: Dmel | H11: Dsim | I11: Dsec | K11: Sample # | L11: Dmel | M11: Dsim | N11: Dsec | P11: 65.2603 | Q11: 19.6932 | R11: 39.6411
A12: 1 | B12: 2 | C12: 3 | D12: 2 | F12: 1 | G12: 172.90249 | H12: 108.23398 | I12: 217.8273 | K12: 1 | L12: 2 | M12: 2 | N12: 2 | P12: 22.9618 | Q12: 37.3576 | R12: 32.5928
A13: 2 | B13: 2 | C13: 3 | D13: 1 | F13: 2 | G13: 128.77619 | H13: 129.08988 | I13: 53.280471 | K13: 2 | L13: 2 | M13: 2 | N13: 1 | P13: 28.6386 | Q13: 31.4104 | R13: 52.3769
A14: 3 | B14: 2 | C14: 1 | D14: 2 | F14: 3 | G14: 90.049224 | H14: 54.563765 | I14: 129.6032 | K14: 3 | L14: 2 | M14: 1 | N14: 2 | P14: 14.1424 | Q14: 30.3044 | R14: 65.9315
A15: 4 | B15: 3 | C15: 1 | D15: 2 | F15: 4 | G15: 161.41939 | H15: 33.032941 | I15: 85.562448 | K15: 4 | L15: 2 | M15: 1 | N15: 2 | P15: 38.8921 | Q15: 36.939 | R15: N/A
A16: 5 | B16: 0 | C16: 1 | D16: 3 | F16: 5 | G16: 86.18033 | H16: 47.862118 | I16: 211.74353 | K16: 5 | L16: 0 | M16: 1 | N16: 4 | P16: 15.5641 | Q16: N/A | R16: N/A
A17: 6 | B17: 1 | C17: 3 | D17: 2 | F17: 6 | G17: 34.705977 | H17: 117.97751 | I17: 179.67068 | K17: 6 | L17: 1 | M17: 2 | N17: 2 | P17: 18.0553 | Q17: N/A | R17: N/A
A18: 7 | B18: 1 | C18: 2 | D18: 3 | F18: 7 | G18: 35.048188 | H18: 50.980047 | I18: 148.65299 | K18: 7 | L18: 1 | M18: 2 | N18: 3
A19: 8 | B19: 2 | C19: 0 | D19: 2 | F19: 8 | G19: 46.455247 | H19: 41.597741 | I19: 49.525647 | K19: 8 | L19: 2 | M19: 0 | N19: 2 | P19: DL2d
A20: 9 | B20: 2 | C20: 2 | D20: 3 | F20: 9 | G20: 118.83304 | H20: 96.427671 | I20: 153.33939 | K20: 9 | L20: 2 | M20: 2 | N20: 3 | P20: Dmel | Q20: Dsim | R20: Dsec
A21: 10 | B21: 1 | C21: 2 | D21: 5 | F21: 10 | G21: 22.129694 | H21: 91.151907 | I21: 186.15369 | K21: 10 | L21: 1 | M21: 2 | N21: 3 | P21: 42.7375 | Q21: 28.9826 | R21: 26.3145
P22: 32.8354 | Q22: 31.8171 | R22: 28.596
A23: VM5v | F23: VM5v | K23: VM5v | P23: 57.9895 | Q23: 12.8749 | R23: 50.2473
A24: Sample # | B24: Dmel | C24: Dsim | D24: Dsec | F24: Sample # | G24: Dmel | H24: Dsim | I24: Dsec | K24: Sample # | L24: Dmel | M24: Dsim | N24: Dsec | P24: 19.2599 | Q24: 11.578 | R24: 12.2291
A25: 1 | B25: 4 | C25: 3 | D25: 2 | F25: 1 | G25: 111.89374 | H25: 119.11821 | I25: 125.38259 | K25: 1 | L25: 2 | M25: 4 | N25: 3 | P25: 0 | Q25: 10.8435 | R25: 33.5681
A26: 2 | B26: 4 | C26: 4 | D26: 5 | F26: 2 | G26: 91.227954 | H26: 74.145883 | I26: 221.65817 | K26: 2 | L26: 3 | M26: 4 | N26: 5 | P26: 48.0973 | Q26: 20.6601 | R26: 74.7946
A27: 3 | B27: 2 | C27: 5 | D27: 4 | F27: 3 | G27: 104.01336 | H27: 74.06033 | I27: 162.16085 | K27: 3 | L27: 3 | M27: 3 | N27: 4 | P27: 12.019 | Q27: 16.5357 | R27: 70.5195
A28: 4 | B28: 3 | C28: 3 | D28: 4 | F28: 4 | G28: 142.08443 | H28: 73.746462 | I28: N/A | K28: 4 | L28: 4 | M28: 3 | N28: 3 | P28: 27.9426 | Q28: 28.6582 | R28: 20.2035
A29: 5 | B29: 3 | C29: 3 | D29: 3 | F29: 5 | G29: 133.05384 | H29: 85.838118 | I29: N/A | K29: 5 | L29: 4 | M29: 2 | N29: 3 | P29: 18.2681 | Q29: 44.9836 | R29: 39.7953
P30: 28.7501 | Q30: 20.846 | R30: 66.5985
P31: 46.0138 | Q31: 18.1084 | R31: 30.7689
P32: 48.6424 | Q32: 15.5846 | R32: 40.73
P33: 23.679 | Q33: 9.55809 | R33: 40.7161
P34: 32.3512 | Q34: 21.4713 | R34: 8.44605
P35: 15.4366 | Q35: 22.4879 | R35: 35.4247
P36: 23.474 | Q36: N/A | R36: 16.6294
P37: N/A | Q37: N/A | R37: 35.0088
P38: N/A | Q38: N/A | R38: 34.8234
P39: N/A | Q39: N/A | R39: 24.3336
P40: N/A | Q40: N/A | R40: 36.8797
P41: N/A | Q41: N/A | R41: 38.6958
P42: N/A | Q42: N/A | R42: 72.4976
P43: N/A | Q43: N/A | R43: 19.5465
P44: N/A | Q44: N/A | R44: 19.604
P46: VM5v
P47: Dmel | Q47: Dsim | R47: Dsec
P48: 35.9453 | Q48: 46.5106 | R48: 56.0899
P49: 31.4078 | Q49: 23.0454 | R49: 9.4781
P50: 16.5815 | Q50: 27.6411 | R50: 15.677
P51: 31.2922 | Q51: 20.7782 | R51: 13.5837
P52: 23.5695 | Q52: 5.91618 | R52: 19.5931
P53: 18.4178 | Q53: 42.022 | R53: 16.9525
P54: 26.5231 | Q54: 37.3224 | R54: 11.062
P55: 36.4039 | Q55: 45.9287 | R55: 12.5785
P56: 29.3243 | Q56: 56.4737 | R56: 24.0143
P57: 24.4865 | Q57: 55.2002 | R57: 24.1467
P58: 13.9303 | Q58: 40.8853 | R58: 39.5642
P59: 34.6034 | Q59: 31.5513 | R59: 13.8804
P60: 21.4663 | Q60: 26.3948 | R60: 6.13258
P61: N/A | Q61: 18.825 | R61: 22.8065
P62: N/A | Q62: 30.3262 | R62: 18.248
P63: N/A | Q63: N/A | R63: 29.5822

Sheet Figure 5a
A1: Single training
A2: Farnesol
A3: D.mel | B3: D.sim | C3: D.sec
A4: -0.03053 | B4: 0.004186 | C4: -0.1225
A5: -0.05162 | B5: -0.0463 | C5: 0.018589
A6: -0.10267 | B6: 0.049155 | C6: -0.15484
A7: -0.1 | B7: -0.04028 | C7: 0.07029
A8: 0.057918 | B8: 0.068217 | C8: -0.06
A9: -0.03675 | B9: -0.02929 | C9: -0.15107
A10: -0.00203 | B10: 0.133956 | C10: 0.052648
A11: -0.05606 | C11: -0.00372
C12: 0.008732
C13: 0.100808
C14: 0.003759
A16: Hexanoic acid
A17: D.mel | B17: D.sim | C17: D.sec
A18: -0.05632 | B18: -0.12969 | C18: 0.076664
A19: -0.11297 | B19: -0.12989 | C19: -0.04847
A20: -0.07475 | B20: -0.16446 | C20: -0.10067
A21: -0.25548 | B21: -0.10746 | C21: -0.04814
A22: -0.20162 | B22: -0.15869 | C22: -0.08031
A23: -0.10371 | B23: -0.16146 | C23: 0.036121
A24: -0.16846 | B24: -0.16379 | C24: -0.02468
A25: -0.124 | B25: -0.00134 | C25: 0.010484
A27: 4-methylcyclohexanol
A28: D.mel | B28: D.sim | C28: D.sec
A29: -0.16081 | B29: -0.09638 | C29: -0.14248
A30: -0.21682 | B30: -0.14993 | C30: -0.16188
A31: -0.08276 | B31: -0.05714 | C31: -0.19766
A32: -0.10829 | B32: -0.15976 | C32: -0.15873
A33: -0.15955 | B33: -0.08711 | C33: -0.03077
A34: -0.32296 | B34: -0.1517 | C34: -0.05941
A35: -0.24982 | B35: -0.19215 | C35: -0.10411
A36: -0.34727 | B36: -0.21666 | C36: -0.05756
A37: -0.23025
A38: -0.16382
A40: 3-octanol
A41: D.mel | B41: D.sim | C41: D.sec
A42: -0.25595 | B42: -0.12523 | C42: 0.178998
A43: -0.24024 | B43: -0.29995 | C43: 0.082285
A44: -0.1957 | B44: -0.20473 | C44: 0.048341
A45: -0.26132 | B45: -0.23419 | C45: -0.04169
A46: -0.15865 | B46: -0.1366 | C46: -0.1548
A47: -0.31833 | B47: -0.07416 | C47: -0.03817
A48: -0.27525 | B48: -0.19844 | C48: -0.02883
A49: -0.24295 | B49: -0.17886 | C49: -0.06107

Sheet Figure 5b
A1: Spaced training
A2: Farnesol
A3: D.mel | B3: D.sim | C3: D.sec
A4: 0.013287 | B4: -0.14681 | C4: 0.003299
A5: -0.0783 | B5: 0.017155 | C5: -0.03005
A6: -0.06075 | B6: -0.08184 | C6: 0.001462
A7: 0.164328 | B7: 0.075069 | C7: -0.00788
A8: -0.06284 | B8: 0.025248 | C8: -0.08392
A9: -0.06602 | B9: 0.146846 | C9: -0.02379
A10: 0.106764 | B10: -0.08088 | C10: 0.009535
A11: -0.01691 | B11: 0.063821 | C11: -0.08557
A13: Hexanoic acid
A14: D.mel | B14: D.sim | C14: D.sec
A15: -0.25197 | B15: -0.18897 | C15: -0.05634
A16: -0.51353 | B16: -0.25849 | C16: -0.1011
A17: -0.32468 | B17: -0.27789 | C17: 0.015746
A18: -0.17939 | B18: -0.13355 | C18: -0.02259
A19: -0.22257 | B19: -0.04487 | C19: 0.013977
A20: -0.30034 | B20: -0.07828 | C20: -0.16896
A21: 0.004808 | B21: -0.16461 | C21: -0.06637
A22: -0.24706 | B22: -0.14989 | C22: -0.02833
A24: 4-methylcyclohexanol
A25: D.mel | B25: D.sim | C25: D.sec
A26: -0.42516 | B26: -0.16377 | C26: -0.16711
A27: -0.369 | B27: -0.27474 | C27: -0.23869
A28: -0.09491 | B28: -0.28313 | C28: -0.18764
A29: -0.43506 | B29: -0.27899 | C29: -0.22583
A30: -0.39384 | B30: -0.23477 | C30: -0.21838
A31: -0.46727 | B31: -0.38919 | C31: -0.19959
A32: -0.45004 | B32: -0.37261 | C32: -0.14922
A33: -0.35143 | B33: -0.22756 | C33: -0.08647
A35: 3-octanol
A36: D.mel | B36: D.sim | C36: D.sec
A37: -0.44965 | B37: -0.22091 | C37: -0.11789
A38: -0.54019 | B38: -0.36728 | C38: -0.15002
A39: -0.54192 | B39: -0.33026 | C39: -0.09854
A40: -0.4413 | B40: -0.29668 | C40: -0.14582
A41: -0.45425 | B41: -0.239 | C41: -0.14606
A42: -0.51586 | B42: -0.4489 | C42: -0.10952
A43: -0.53716 | B43: -0.24072 | C43: -0.00736
A44: -0.52662 | B44: -0.33099 | C44: -0.09236

Sheet Figure 5c
A1: Single training
B2: Performance index | E2: Cummulative connectivity
B3: D.mel | C3: D.sim | D3: D.sec | E3: D.mel | F3: D.sim | G3: D.sec
A4: Farnesol | B4: -0.04021775 | C4: 0.019949143 | D4: -0.021573091 | E4: 4.4034091 | F4: 5.1136364 | G4: 1.2784091
A5: Hexanoic acid | B5: =AVERAGE('Figure 5a'!A18:A25) -> -0.13716375 | C5: =AVERAGE('Figure 5a'!B18:B25) -> -0.1270975 | D5: =AVERAGE('Figure 5a'!C18:C25) -> -0.022375125 | E5: 2.5568182 | F5: 3.5511364 | G5: 4.9715909
A6: 4-methylcyclohexanol | B6: =AVERAGE('Figure 5a'!A29:A38) -> -0.204235 | C6: =AVERAGE('Figure 5a'!B29:B38) -> -0.13885375 | D6: =AVERAGE('Figure 5a'!C29:C38) -> -0.114075 | E6: 6.9602273 | F6: 8.6647727 | G6: 6.9602273
A7: 3-octanol | B7: =AVERAGE('Figure 5a'!A42:A49) -> -0.24354875 | C7: =AVERAGE('Figure 5a'!B42:B49) -> -0.18152 | D7: =AVERAGE('Figure 5a'!C42:C49) -> -0.001867 | E7: 24.005682 | F7: 29.971591 | G7: 14.0625

Sheet Figure 5d
A1: Spaced training
B2: Performance index | E2: Cummulative connectivity
B3: D.mel | C3: D.sim | D3: D.sec | E3: D.mel | F3: D.sim | G3: D.sec
A4: Farnesol | B4: =AVERAGE('Figure 5b'!A4:A11) -> -5.5125e-05 | C4: =AVERAGE('Figure 5b'!B4:B11) -> 0.002326125 | D4: =AVERAGE('Figure 5b'!C4:C11) -> -0.02711425 | E4: 4.4034091 | F4: 5.1136364 | G4: 1.2784091
A5: Hexanoic acid | B5: =AVERAGE('Figure 5b'!A15:A22) -> -0.2543415 | C5: =AVERAGE('Figure 5b'!B15:B22) -> -0.16206875 | D5: =AVERAGE('Figure 5b'!C15:C22) -> -0.051745875 | E5: 2.5568182 | F5: 3.5511364 | G5: 4.9715909
A6: 4-methylcyclohexanol | B6: =AVERAGE('Figure 5b'!A26:A33) -> -0.37333875 | C6: =AVERAGE('Figure 5b'!B26:B33) -> -0.278095 | D6: =AVERAGE('Figure 5b'!C26:C33) -> -0.18411625 | E6: 6.9602273 | F6: 8.6647727 | G6: 6.9602273
A7: 3-octanol | B7: =AVERAGE('Figure 5b'!A37:A44) -> -0.50086875 | C7: =AVERAGE('Figure 5b'!B37:B44) -> -0.3093425 | D7: =AVERAGE('Figure 5b'!C37:C44) -> -0.10844625 | E7: 24.005682 | F7: 29.971591 | G7: 14.0625

Sheet Supp. Figure 1
B1: D. melanogaster | E1: D. simulans | H1: D. sechellia
B2: Sample 1 | C2: Sample 2 | D2: Sample 3 | E2: Sample 1 | F2: Sample 2 | G2: Sample 3 | H2: Sample 1 | I2: Sample 2 | J2: Sample 3
A3: D | B3: 2515 | C3: 2460 | D3: 2416 | E3: 1216 | F3: 1609 | G3: 1612 | H3: 2264 | I3: 2372 | J3: 2580
A4: DA1 | B4: 4304 | C4: 4565 | D4: 4304 | E4: 3149 | F4: 3317 | G4: 3671 | H4: 2434 | I4: 2883 | J4: 2981
A5: DA2 | B5: 1231 | C5: 1083 | D5: 1127 | E5: 1006 | F5: 1482 | G5: 1341 | H5: 1098 | I5: 1120 | J5: 1369
A6: DA3 | B6: 462 | C6: 483 | D6: 482 | E6: 387 | F6: 516 | G6: 461 | H6: 418 | I6: 406 | J6: 530
A7: DA4l | B7: 1150 | C7: 1347 | D7: 902 | E7: 912 | F7: 1004 | G7: 831 | H7: 857 | I7: 766 | J7: 888
A8: DA4m | B8: 1028 | C8: 1340 | D8: 923 | E8: 1005 | F8: 1182 | G8: 917 | H8: 728 | I8: 784 | J8: 931
A9: DC1 | B9: 2340 | C9: 2687 | D9: 2564 | E9: 1167 | F9: 1699 | G9: 1432 | H9: 1049 | I9: 1403 | J9: 1295
A10: DC2 | B10: 1270 | C10: 1707 | D10: 1483 | E10: 1553 | F10: 1405 | G10: 1183 | H10: 899 | I10: 982 | J10: 830
A11: DC3 | B11: 1424 | C11: 1813 | D11: 1759 | E11: 1806 | F11: 1479 | G11: 1961 | H11: 1040 | I11: 1248 | J11: 1201
A12: DC4 | B12: 1731 | C12: 1866 | D12: 1509 | E12: 1106 | F12: 1337 | G12: 1366 | H12: 1064 | I12: 1073 | J12: 1013
A13: DL1 | B13: 1688 | C13: 2233 | D13: 2097 | E13: 1208 | F13: 1743 | G13: 1902 | H13: 1329 | I13: 1433 | J13: 1581
A14: DL2d | B14: 1913 | C14: 1667 | D14: 1114 | E14: 1769 | F14: 2032 | G14: 2219 | H14: 2739 | I14: 3005 | J14: 3455
... A53: VM7v | B53: 2111 | C53: 2129 | D53: 1982 | E53: 983 | F53: 1082 | G53: 1278 | H53: 643 | I53: 763 | J53: 891

Sheet Supp. Figure 2
B1: # of Claws per αβ Kenyon Cell Sampled
A2: αβ KC Sample # | B2: Dmel ♂ | C2: Dmel ♀ | D2: Dsim | E2: Dsec
A3: 1 | B3: 4 | C3: 4 | D3: 6 | E3: 3
A4: 2 | B4: 5 | C4: 6 | D4: 4 | E4: 4
A5: 3 | B5: 6 | C5: 4 | D5: 5 | E5: 4
A6: 4 | B6: 4 | C6: 3 | D6: 4 | E6: 5
A7: 5 | B7: 5 | C7: 5 | D7: 5 | E7: 6
A8: 6 | B8: 5 | C8: 5 | D8: 4 | E8: 4
A9: 7 | B9: 5 | C9: 5 | D9: 4 | E9: 4
A10: 8 | B10: 4 | C10: 4 | D10: 4 | E10: 5
A11: 9 | B11: 5 | C11: 4 | D11: 4 | E11: 4
A12: 10 | B12: 6 | C12: 6 | D12: 5 | E12: 5
B14: # of Claws per α'β' Kenyon Cell Sampled
A15: α'β' KC Sample # | B15: Dmel ♂ | C15: Dmel ♀ | D15: Dsim | E15: Dsec
A16: 1 | B16: 3 | C16: 3 | D16: 4 | E16: 5
A17: 2 | B17: 3 | C17: 5 | D17: 5 | E17: 3
A18: 3 | B18: 3 | C18: 6 | D18: 5 | E18: 5
A19: 4 | B19: 2 | C19: 4 | D19: 5 | E19: 6
A20: 5 | B20: 6 | C20: 3 | D20: 6 | E20: 4
A21: 6 | B21: 6 | C21: 6 | D21: 6 | E21: 5
A22: 7 | B22: 5 | C22: 6 | D22: 6 | E22: 3
A23: 8 | B23: 5 | C23: 5 | D23: 2 | E23: 5
A24: 9 | B24: 3 | C24: 3 | D24: 3 | E24: 5
A25: 20 | B25: 6 | C25: 5 | D25: 4 | E25: 4
B28: # of Claws per γ Kenyon Cell Sampled
A29: γ KC Sample # | B29: Dmel ♂ | C29: Dmel ♀ | D29: Dsim | E29: Dsec
B30: 6 | C30: 7 | D30: 6 | E30: 7
B31: 6 | C31: 8 | D31: 9 | E31: 6
B32: 4 | C32: 9 | D32: 8 | E32: 9
B33: 7 | C33: 4 | D33: 5 | E33: 6
B34: 8 | C34: 5 | D34: 8 | E34: 7
B35: 9 | C35: 4 | D35: 8 | E35: 9
B36: 6 | C36: 8 | D36: 7 | E36: 5
B37: 5 | C37: 6 | D37: 5 | E37: 6
B38: 6 | C38: 4 | D38: 8 | E38: 7
B39: 8 | C39: 8 | D39: 5 | E39: 8

Sheet Supp. Figure 4
A1: Ellis Dmel Male vs. Ellis Dmel Male shuffle
A2: sorted by connectivity frequencies
A3: VM7v | B3: V | C3: DA2 | D3: VA2 | E3: DA4m | F3: VL1 | G3: DL4 | H3: VM2 | I3: DA3 | J3: VA4 | K3: DL2v | L3: DL3 | M3: DM5 | N3: DM3 | O3: DM4 | P3: DP1l | Q3: DM1 | R3: VM1 | S3: DL2d | T3: VA7m | U3: VM3 | V3: D | W3: VC2 | X3: DA4l | Y3: DC2 | Z3: VC1 | AA3: VC4 | AB3: VL2p | AC3: DC4 | AD3: VA3 | AE3: VA7l | AF3: VM7d | AG3: VM4 | AH3: VM5d | AI3: DM2 | AJ3: VA1d | AK3: VA5 | AL3: DC3 | AM3: DC1 | AN3: DM6 | AO3: VA6 | AP3: DL5 | AQ3: VA1v | AR3: DL1 | AS3: VL2a | AT3: DP1m | AU3: VC3 | AV3: DA1 | AW3: VM5v
A4: 0 | B4: 0.1456 | C4: 0.2911 | D4: 0.2911 | E4: 0.4367 | F4: 0.4367 | G4: 0.5822 | H4: 0.5822 | I4: 0.7278 | J4: 0.8734 | K4: 1.0189 | L4: 1.0189 | M4: 1.0189 | N4: 1.1645 | O4: 1.1645 | P4: 1.1645 | Q4: 1.31 | R4: 1.31 | S4: 1.4556 | T4: 1.4556 | U4: 1.4556 | V4: 1.6012 | W4: 1.6012 | X4: 1.7467 | Y4: 1.7467 | Z4: 1.7467 | AA4: 2.0378 | AB4: 2.0378 | AC4: 2.329 | AD4: 2.329 | AE4: 2.329 | AF4: 2.329 | AG4: 2.7656 | AH4: 2.7656 | AI4: 2.9112 | AJ4: 2.9112 | AK4: 2.9112 | AL4: 3.0568 | AM4: 3.3479 | AN4: 3.3479 | AO4: 3.3479 | AP4: 3.4934 | AQ4: 3.4934 | AR4: 3.639 | AS4: 3.639 | AT4: 4.2213 | AU4: 4.3668 | AV4: 4.6579 | AW4: 4.6579
A6: Ellis Dmel Female vs. Ellis Dmel Female shuffle
A7: sorted by connectivity frequencies
A8: V | B8: DA3 | C8: DL3 | D8: DP1l | E8: VL1 | F8: VM7v | G8: DA2 | H8: VM3 | I8: DA4m | J8: DL4 | K8: VM2 | L8: DA4l | M8: DL2d | N8: DM5 | O8: VA4 | P8: VA7l | Q8: VA7m | R8: VC2 | S8: DL2v | T8: DM1 | U8: DM2 | V8: VC1 | W8: VC4 | X8: VM4 | Y8: DC2 | Z8: DM3 | AA8: VM7d | AB8: VM1 | AC8: DM4 | AD8: DP1m | AE8: D | AF8: DC4 | AG8: VA2 | AH8: VM5d | AI8: VA5 | AJ8: VC3 | AK8: DL5 | AL8: DM6 | AM8: VA1v | AN8: VA3 | AO8: DC1 | AP8: VL2p | AQ8: VM5v | AR8: DA1 | AS8: VA6 | AT8: VL2a | AU8: DC3 | AV8: DL1 | AW8: VA1d
A9: 0.2841 | B9: 0.4261 | C9: 0.4261 | D9: 0.4261 | E9: 0.4261 | F9: 0.4261 | G9: 0.5682 | H9: 0.5682 | I9: 0.7102 | J9: 0.7102 | K9: 0.7102 | L9: 0.8523 | M9: 0.9943 | N9: 1.1364 | O9: 1.1364 | P9: 1.1364 | Q9: 1.1364 | R9: 1.1364 | S9: 1.2784 | T9: 1.4205 | U9: 1.5625 | V9: 1.5625 | W9: 1.7045 | X9: 1.7045 | Y9: 1.8466 | Z9: 1.8466 | AA9: 1.9345 | AB9: 1.9886 | AC9: 2.1307 | AD9: 2.1307 | AE9: 2.2727 | AF9: 2.2727 | AG9: 2.2727 | AH9: 2.6989 | AI9: 2.8409 | AJ9: 2.8409 | AK9: 2.983 | AL9: 2.983 | AM9: 3.125 | AN9: 3.125 | AO9: 3.267 | AP9: 3.267 | AQ9: 3.5511 | AR9: 3.9773 | AS9: 3.9773 | AT9: 4.2614 | AU9: 4.4034 | AV9: 4.4034 | AW9: 5.2557
A11: Ellis Dsim vs. Ellis Dsim shuffle
A12: sorted by connectivity frequencies
A13: V | B13: DA3 | C13: DL4 | D13: VL1 | E13: DA4m | F13: DA2 | G13: DA4l | H13: DL2d | I13: DM4 | J13: VA7m | K13: DM5 | L13: VC1 | M13: VM2 | N13: DP1l | O13: VA4 | P13: DL2v | Q13: DL3 | R13: DM1 | S13: VL2p | T13: DC4 | U13: VM3 | V13: VM7v | W13: DM3 | X13: VM4 | Y13: VL2a | Z13: VA2 | AA13: VA7l | AB13: VM5d | AC13: VA3 | AD13: DC2 | AE13: DM2 | AF13: D | AG13: VC4 | AH13: VM1 | AI13: DM6 | AJ13: VA1d | AK13: DL1 | AL13: VA6 | AM13: DP1m | AN13: VA5 | AO13: DL5 | AP13: DA1 | AQ13: VC2 | AR13: VA1v | AS13: VM7d | AT13: DC1 | AU13: DC3 | AV13: VM5v | AW13: VC3l
A14: 0 | B14: 0.27248 | C14: 0.27248 | D14: 0.27248 | E14: 0.40872 | F14: 0.54496 | G14: 0.54496 | H14: 0.6812 | I14: 0.81744 | J14: 0.81744 | K14: 0.95368 | L14: 0.95368 | M14: 0.95368 | N14: 1.08992 | O14: 1.08992 | P14: 1.22616 | Q14: 1.22616 | R14: 1.22616 | S14: 1.22616 | T14: 1.49864 | U14: 1.49864 | V14: 1.49864 | W14: 1.63488 | X14: 1.63488 | Y14: 1.77112 | Z14: 1.90736 | AA14: 1.90736 | AB14: 2.0436 | AC14: 2.27248 | AD14: 2.31608 | AE14: 2.31608 | AF14: 2.45232 | AG14: 2.45232 | AH14: 2.58856 | AI14: 2.86104 | AJ14: 2.86104 | AK14: 2.99728 | AL14: 2.99728 | AM14: 3.13351 | AN14: 3.13351 | AO14: 3.40599 | AP14: 3.67847 | AQ14: 3.67847 | AR14: 3.95095 | AS14: 3.95095 | AT14: 4.22343 | AU14: 4.49591 | AV14: 4.49591 | AW14: 5
A16: Ellis Sech vs. Ellis Sech shuffle
A17: sorted by connectivity frequencies
A18: DA2 | B18: DL4 | C18: V | D18: VA7m | E18: DA3 | F18: VC4 | G18: VL1 | H18: VA4 | I18: VC1 | J18: VM7v | K18: DL3 | L18: VC2 | M18: DA4l | N18: DC3 | O18: DC4 | P18: D | Q18: DL2v | R18: DM4 | S18: DM5 | T18: VM5d | U18: VM5v | V18: DC1 | W18: DC2 | X18: DA4m | Y18: DM1 | Z18: DM6 | AA18: VA1d | AB18: VC3 | AC18: VL2p | AD18: DM3 | AE18: VM2 | AF18: VA6 | AG18: VM3 | AH18: VA1v | AI18: DM2 | AJ18: DP1m | AK18: VA7l | AL18: DL2d | AM18: DP1l | AN18: VL2a | AO18: VM4 | AP18: DL5 | AQ18: VA3 | AR18: VA2 | AS18: VM1 | AT18: DA1 | AU18: VM7d | AV18: DL1 | AW18: VA5
A19: 0 | B19: 0.1488 | C19: 0.1488 | D19: 0.4464 | E19: 0.5952 | F19: 0.5952 | G19: 0.5952 | H19: 0.744 | I19: 0.8929 | J19: 0.8929 | K19: 1.0417 | L19: 1.0417 | M19: 1.1905 | N19: 1.3393 | O19: 1.3393 | P19: 1.4881 | Q19: 1.6369 | R19: 1.6369 | S19: 1.7857 | T19: 1.7857 | U19: 1.7857 | V19: 1.9345 | W19: 1.9345 | X19: 2.0833 | Y19: 2.0833 | Z19: 2.0833 | AA19: 2.0833 | AB19: 2.0833 | AC19: 2.0833 | AD19: 2.2321 | AE19: 2.2321 | AF19: 2.381 | AG19: 2.381 | AH19: 2.5298 | AI19: 2.6786 | AJ19: 2.9762 | AK19: 2.9762 | AL19: 3.125 | AM19: 3.125 | AN19: 3.2738 | AO19: 3.2738 | AP19: 3.4226 | AQ19: 3.4226 | AR19: 3.5714 | AS19: 3.5714 | AT19: 3.869 | AU19: 3.95095 | AV19: 4.0179 | AW19: 4.1667

Sheet Supp. Figure 9
A1: D. melanogaster | G1: D. simulans | M1: D. sechellia
A2: Farnesol
A3: Odor | D3: Oil | G3: Odor | J3: Oil | M3: Odor | P3: Oil
A4: Innate | B4: Single training | C4: Space training | D4: Innate | E4: Single training | F4: Space training | G4: Innate | H4: Single training | I4: Space training | J4: Innate | K4: Single training | L4: Space training | M4: Innate | N4: Single training | O4: Space training | P4: Innate | Q4: Single training | R4: Space training
A5: -0.07826 | B5: -0.27473 | C5: -0.04615 | D5: 0.07826 | E5: 0.213675 | F5: 0.072727 | G5: 0.149606 | H5: -0.12088 | I5: -0.18519 | J5: -0.149606 | K5: 0.129252 | L5: -0.10843 | M5: 0.177419 | N5: -0.125 | O5: -0.05882 | P5: -0.177419 | Q5: -0.12 | R5: 0.065421
A6: -0.05051 | B6: -0.26563 | C6: -0.11579 | D6: 0.05051 | E6: 0.162393 | F6: -0.04082 | G6: -0.01613 | H6: 0 | I6: 0.016129 | J6: 0.01613 | K6: -0.09259 | L6: 0.018182 | M6: 0.073684 | N6: -0.06452 | O6: -0.06011 | P6: -0.073684 | Q6: 0.101695 | R6: 0
A7: 0.129412 | B7: -0.21739 | C7: -0.1215 | D7: -0.129412 | E7: 0.012048 | F7: 0 | G7: 0.186207 | H7: -0.13978 | I7: -0.13274 | J7: -0.186207 | K7: 0.238095 | L7: -0.03093 | M7: 0 | N7: -0.22535 | O7: -0.05263 | P7: 0 | Q7: -0.08434 | R7: 0.055556
A8: 0.147826 | B8: -0.2 | C8: 0.104167 | D8: -0.147826 | E8: 0 | F8: 0.22449 | G8: 0.046154 | H8: -0.11504 | I8: 0.098592 | J8: -0.046154 | K8: 0.034483 | L8: 0.051546 | M8: 0.289256 | N8: -0.02609 | O8: -0.008 | P8: -0.289256 | Q8: 0.166667 | R8: -0.00775
A9: 0.168142 | B9: -0.04545 | C9: -0.11364 | D9: -0.168142 | E9: 0.16129 | F9: -0.01205 | G9: 0.033333 | H9: 0.027523 | I9: 0.1 | J9: -0.033333 | K9: 0.108911 | L9: -0.0495 | M9: 0.068493 | N9: -0.12 | O9: -0.05479 | P9: -0.068493 | Q9: 0 | R9: -0.11304
A10: 0.08 | B10: 0.020833 | C10: -0.2 | D10: -0.08 | E10: -0.09434 | F10: 0.067961 | G10: 0.151515 | H10: -0.03817 | I10: 0.098039 | J10: -0.151515 | K10: -0.02041 | L10: 0.195652 | M10: -0.01887 | N10: -0.22523 | O10: 0.009901 | P10: 0.01887 | Q10: -0.07692 | R10: -0.05747
A11: 0.042735 | B11: -0.17073 | C11: 0.230769 | D11: -0.042735 | E11: 0.166667 | F11: -0.01724 | G11: 0 | H11: -0.04854 | I11: 0 | J11: 0 | K11: 0.316456 | L11: -0.16176 | M11: 0.213483 | N11: -0.02804 | O11: 0.126984 | P11: -0.213483 | Q11: 0.133333 | R11: -0.10791
A12: -0.05426 | B12: -0.16981 | C12: 0.075269 | D12: 0.05426 | E12: 0.057692 | F12: -0.10909 | G12: 0.084112 | I12: 0.121019 | J12: -0.084112 | L12: 0.006623 | N12: -0.12195 | O12: 0.047619 | Q12: 0.114504 | R12: -0.21875
A13: 0 | D13: 0 | G13: 0.113772 | J13: -0.113772 | N13: 0.046875 | Q13: -0.02941
A14: -0.08235 | D14: 0.08235 | N14: 0.117647 | Q14: 0.083969
A15: -0.00813 | D15: 0.00813 | N15: 0.007519 | Q15: 0
A17: Hexanoic acid
A18: Odor | D18: Oil | G18: Odor | J18: Oil | M18: Odor | P18: Oil
A19: 0.122449 | B19: -0.1215 | C19: -0.18966 | D19: -0.122449 | E19: 0.00885 | F19: -0.31429 | G19: 0.22807 | H19: 0.069182 | I19: -0.02609 | J19: -0.22807 | K19: -0.32857 | L19: -0.35185 | M19: 0.180328 | N19: -0.08861 | O19: 0 | P19: -0.180328 | Q19: 0.241935 | R19: -0.11268
A20: -0.04478 | B20: -0.33884 | C20: -0.4188 | D20: 0.04478 | E20: 0.112903 | F20: -0.60825 | G20: 0.134615 | H20: 0.083969 | I20: -0.07143 | J20: -0.134615 | K20: -0.34375 | L20: -0.44554 | M20: 0.043478 | N20: 0.027027 | O20: -0.1453 | P20: -0.043478 | Q20: -0.12397 | R20: -0.05691
A21: 0.327586 | B21: -0.22222 | C21: -0.53398 | D21: -0.327586 | E21: 0.072727 | F21: -0.11538 | G21: 0.136 | H21: -0.02521 | I21: 0.057851 | J21: -0.136 | K21: -0.3037 | L21: -0.61364 | M21: -0.11628 | N21: -0.12069 | O21: -0.15033 | P21: 0.11628 | Q21: -0.08065 | R21: 0.181818
A22: 0.382979 | B22: -0.28972 | C22: -0.34579 | D22: -0.382979 | E22: -0.22124 | F22: -0.01299 | G22: 0.101695 | H22: 0.138462 | I22: 0.119048 | J22: -0.101695 | K22: -0.35338 | L22: -0.38614 | M22: 0.04 | N22: -0.08929 | O22: -0.104 | P22: -0.04 | Q22: -0.00699 | R22: 0.058824
A23: -0.5283 | B23: -0.15686 | C23: -0.13402 | D23: 0.5283 | E23: -0.24638 | F23: -0.31111 | G23: 0.12381 | H23: 0.11811 | I23: -0.01887 | J23: -0.12381 | K23: -0.43548 | L23: -0.07087 | M23: -0.22314 | N23: -0.12903 | O23: 0.07483 | P23: 0.22314 | Q23: -0.03158 | R23: -0.04688
A24: -0.09091 | B24: 0.029703 | C24: -0.23529 | D24: 0.09091 | E24: -0.23711 | F24: -0.36538 | G24: 0.142857 | H24: 0.022222 | I24: -0.04545 | J24: -0.142857 | K24: -0.34513 | L24: -0.11111 | M24: 0.158621 | N24: 0.080645 | O24: -0.10303 | P24: -0.158621 | Q24: -0.0084 | R24: -0.2349
A25: -0.21277 | B25: -0.03922 | C25: 0.291667 | D25: 0.21277 | E25: -0.29771 | F25: -0.28205 | G25: 0.123967 | H25: 0 | I25: -0.08955 | J25: -0.123967 | K25: -0.32759 | L25: -0.23967 | M25: -0.14563 | N25: -0.07317 | O25: 0.122807 | P25: 0.14563 | Q25: 0.02381 | R25: -0.25556
A26: -0.19298 | B26: 0 | C26: -0.2 | D26: 0.19298 | E26: -0.248 | F26: -0.29412 | G26: 0.298701 | H26: 0.088235 | I26: -0.05882 | J26: -0.298701 | K26: -0.09091 | L26: -0.24096 | M26: 0.0625 | N26: 0.175439 | O26: 0.01 | P26: -0.0625 | Q26: -0.15447 | R26: -0.06667
A28: 4-methylcyclohexanol
A29: Odor | D29: Oil | G29: Odor | J29: Oil | M29: Odor | P29: Oil
A30: -0.39326 | B30: -0.7 | C30: -0.90588 | D30: 0.39326 | E30: 0.378378 | F30: 0.055556 | G30: 0.157895 | H30: -0.7 | I30: -0.60825 | J30: -0.157895 | K30: 0.507246 | L30: 0.280702 | M30: 0.046729 | N30: -0.60825 | O30: -0.23077 | P30: -0.046729 | Q30: 0.280702 | R30: -0.10345
A31: -0.33333 | B31: -0.75758 | C31: -0.92405 | D31: 0.33333 | E31: 0.323944 | F31: 0.186047 | G31: -0.04459 | H31: -0.69048 | I31: -0.32258 | J31: 0.04459 | K31: 0.390625 | L31: -0.22689 | M31: 0.095238 | N31: -0.32258 | O31: -0.44348 | P31: -0.095238 | Q31: -0.22689 | R31: -0.0339
A32: -0.64286 | B32: -0.7265 | C32: -0.29825 | D32: 0.64286 | E32: 0.560976 | F32: 0.108434 | G32: -0.44444 | H32: -0.73333 | I32: -0.56627 | J32: 0.44444 | K32: 0.619048 | L32: 0 | M32: 0.2 | N32: -0.56627 | O32: -0.31646 | P32: -0.2 | Q32: 0 | R32: -0.05882
A33: -0.63265 | B33: -0.75281 | C33: -0.80952 | D33: 0.63265 | E33: 0.536232 | F33: -0.06061 | G33: -0.275 | H33: -0.78431 | I33: -0.66667 | J33: 0.275 | K33: 0.464789 | L33: 0.108696 | M33: 0.308271 | N33: -0.66667 | O33: -0.40741 | P33: -0.308271 | Q33: 0.108696 | R33: -0.04425
A34: -0.4386 | B34: -0.65909 | C34: -0.65306 | D34: 0.4386 | E34: 0.34 | F34: -0.13462 | G34: -0.06667 | H34: -0.49533 | I34: -0.38129 | J34: 0.06667 | K34: 0.321101 | L34: -0.08824 | M34: 0.104895 | N34: -0.38129 | O34: -0.30909 | P34: -0.104895 | Q34: -0.08824 | R34: -0.12766
A35: -0.56818 | B35: -0.74737 | C35: -0.70874 | D35: 0.56818 | E35: 0.101449 | F35: -0.22581 | G35: -0.40206 | H35: -0.64286 | I35: -0.39063 | J35: 0.40206 | K35: 0.33945 | L35: -0.38776 | M35: 0.259843 | N35: -0.39063 | O35: -0.27848 | P35: -0.259843 | Q35: -0.38776 | R35: -0.12069
A36: -0.5 | B36: -0.65116 | C36: -0.65957 | D36: 0.5 | E36: 0.151515 | F36: -0.24051 | G36: -0.23577 | H36: -0.64557 | I36: -0.70297 | J36: 0.23577 | K36: 0.261261 | L36: -0.04225 | M36: 0.248 | N36: -0.70297 | O36: -0.2439 | P36: -0.248 | Q36: -0.04225 | R36: -0.05455
A37: -0.76316 | B37: -0.79798 | C37: -0.60396 | D37: 0.76316 | E37: 0.103448 | F37: -0.0989 | G37: -0.32836 | H37: -0.57895 | I37: -0.35065 | J37: 0.32836 | K37: 0.145631 | L37: -0.10448 | N37: -0.35065 | O37: -0.13846 | Q37: -0.10448 | R37: -0.03448
A38: -0.77778 | B38: -0.72973 | D38: 0.77778 | E38: 0.269231
A39: -0.73333 | D39: 0.73333
A41: 3-octanol
A42: Odor | D42: Oil | G42: Odor | J42: Oil | M42: Odor | P42: Oil
A43: -0.48454 | B43: -0.82143 | C43: -0.51786 | D43: 0.48454 | E43: 0.309524 | F43: -0.38144 | G43: -0.2233 | H43: -0.37405 | I43: -0.35849 | J43: 0.2233 | K43: 0.123596 | L43: -0.08333 | M43: -0.27451 | N43: 0.114094 | O43: -0.3 | P43: 0.27451 | Q43: 0.243902 | R43: 0.06422
A44: -0.34066 | B44: -0.7 | C44: -0.71053 | D44: 0.34066 | E44: 0.219512 | F44: -0.36986 | G44: -0.22689 | H44: -0.5534 | I44: -0.55714 | J44: 0.22689 | K44: -0.04651 | L44: -0.17742 | M44: -0.2963 | N44: 0.115789 | O44: -0.22917 | P44: 0.2963 | Q44: 0.04878 | R44: -0.07087
A45: -0.5102 | B45: -0.70787 | C45: -0.67568 | D45: 0.5102 | E45: 0.316456 | F45: -0.40816 | G45: -0.2 | H45: -0.4375 | I45: -0.48052 | J45: 0.2 | K45: 0.028037 | L45: -0.18 | M45: -0.16279 | N45: -0.22535 | O45: -0.19708 | P45: 0.16279 | Q45: 0.322034 | R45: 0
A46: -0.51667 | B46: -0.62791 | C46: -0.57009 | D46: 0.51667 | E46: 0.105263 | F46: -0.3125 | G46: -0.22642 | H46: -0.48966 | I46: -0.48936 | J46: 0.22642 | K46: 0.021277 | L46: -0.104 | M46: -0.34959 | N46: -0.12782 | O46: -0.34783 | P46: 0.34959 | Q46: 0.044444 | R46: 0.05618
A47: -0.55357 | B47: -0.625 | C47: -0.65517 | D47: 0.55357 | E47: 0.307692 | F47: -0.25333 | G47: -0.07895 | H47: -0.33813 | I47: -0.41606 | J47: 0.07895 | K47: 0.064935 | L47: -0.06195 | M47: -0.87234 | N47: -0.19149 | O47: -0.27517 | P47: 0.87234 | Q47: -0.11811 | R47: -0.01695
A48: -0.6 | B48: -0.68254 | C48: -0.73626 | D48: 0.6 | E48: 0.045872 | F48: -0.29545 | G48: -0.17073 | H48: -0.29927 | I48: -0.47887 | J48: 0.17073 | K48: 0.150943 | L48: -0.41892 | M48: -0.6 | N48: -0.22835 | O48: -0.21905 | P48: 0.6 | Q48: 0.152 | R48: 0
A49: -0.64407 | B49: -0.77273 | C49: -0.72549 | D49: 0.64407 | E49: 0.222222 | F49: -0.34884 | G49: 0 | H49: -0.54472 | I49: -0.34351 | J49: 0 | K49: 0.147826 | L49: -0.13793 | M49: -0.58065 | N49: -0.06667 | O49: -0.18644 | P49: 0.58065 | Q49: 0.009009 | R49: 0.171717
A50: -0.53333 | B50: -0.72727 | C50: -0.83505 | D50: 0.53333 | E50: 0.241379 | F50: -0.21818 | G50: -0.35433 | H50: -0.26829 | I50: -0.43363 | J50: 0.35433 | K50: -0.08943 | L50: -0.22835 | M50: -0.85965 | N50: -0.25676 | O50: -0.25424 | P50: 0.85965 | Q50: 0.134615 | R50: 0.069519
A51: -0.66972 | D51: 0.66972 | G51: -0.04688 | J51: 0.04688 | M51: -0.72222 | P51: 0.72222

Sheet Supp. Figure 10
A1: Shock acuity
A2: D.mel | B2: D.sim | C2: D.sec
A3: -0.37931 | B3: -0.4878 | C3: -0.30645
A4: -0.5098 | B4: -0.35484 | C4: -0.28571
A5: -0.57823 | B5: -0.37037 | C5: -0.36364
A6: -0.58182 | B6: -0.52688 | C6: -0.392
A7: -0.42574 | B7: -0.27711 | C7: -0.24752
A8: -0.28302 | B8: -0.54286 | C8: -0.66667
A9: -0.35354 | B9: -0.3271 | C9: -0.44681
A10: -0.42857 | B10: -0.28261 | C10: -0.5102
A11: -0.44737 | B11: -0.40741 | C11: -0.54545
A12: -0.67619

Sheet Supp. Figure 11
A1: Single training
A2: 2,3-butanedione
A3: D.mel | B3: D.sim | C3: D.sec
A4: -0.3599 | B4: -0.34454 | C4: -0.3483
A5: -0.40187 | B5: -0.13393 | C5: -0.19251
A6: -0.41842 | B6: -0.1904 | C6: -0.45178
A7: -0.2284 | B7: -0.01873 | C7: -0.01633
A8: -0.39616 | B8: -0.17043 | C8: -0.12471
A9: -0.21294 | B9: -0.18831 | C9: -0.01966
A10: -0.20748 | B10: -0.1557 | C10: -0.06456
A11: -0.28886 | B11: -0.20879 | C11: 0.010482
A12: -0.21111 | B12: -0.13745 | C12: -0.36204
A14: Isopentyl acetate
A15: D.mel | B15: D.sim | C15: D.sec
A16: -0.32525 | B16: -0.23964 | C16: -0.17909
A17: -0.30542 | B17: -0.24964 | C17: -0.16961
A18: -0.33142 | B18: -0.26073 | C18: -0.49245
A19: -0.60475 | B19: -0.31985 | C19: -0.66771
A20: -0.16209 | B20: -0.33505 | C20: -0.67208
A21: -0.57225 | B21: -0.26741 | C21: -0.03676
A22: -0.14617 | B22: -0.11565 | C22: -0.39213
A23: -0.30528 | B23: -0.08443
