Workbook
Name concrete_thickness_estimation: 'SDS6'!$C$4:$C$34

Sheet Outline
A1: The climate benefits from cement carbonation are being over-estimated
A2: Elisabeth Van Roijen 1, †, Kati Sethares 1,†, Alissa Kendall 1, Sabbie A. Miller 1, *
A3: Affiliations:
A4: 1Department of Civil and Environmental Engineering, University of California, Davis
A5: *Correspondence and requests for materials should be addressed to: sabmil@ucdavis.edu
A6: † equal contributions
A9: Outline of Sheets
A10: Supplementary Data Sheet 1 | B10: Historic cement consumption and estimated CO2 emissions: United States
A11: Supplementary Data Sheet 2 | B11: Global average SCM content, energy and electricity requirements for cement production
A12: Supplementary Data Sheet 3 | B12: Cement production, consumption, emissions, and market share: Global
A13: Supplementary Data Sheet 4 | B13: Historic cement production in 21 countries
A14: Supplementary Data Sheet 5 | B14: Historic average cement content in 21 countries
A15: Supplementary Data Sheet 6 | B15: Average concrete product thicknesses and percent of cement used in concrete
A16: Supplementary Data Sheet 7 | B16: Service life and percentage of market by end-use
A17: Supplementary Data Sheet 8 | B17: Coefficient of carbonation for SCMs
A18: Supplementary Data Sheet 9 | B18: Coefficient of carbonation for atmospheric CO2 concentration
A19: Supplementary Data Sheet 10 | B19: Coefficient of carbonation for coatings and coverings
A20: Supplementary Data Sheet 11 | B20: Coefficient of carbonation for concrete exposure conditions
A21: Supplementary Data Sheet 12 | B21: Data for Figure 1a: life cycle emissions for 1 kg of cement
... A32: Supplementary Data Sheet 23 | B32: Supplementary Data Sheet References

Sheet SDS1
B1: Historic cement consumption and estimated CO2 emissions: United States
B3: Year | C3: Consumption (ktons) | D3: Consumption (kg) | E3: Calcination Emissions (kg CO2/yr) | F3: Calcination and Energy Emissions (kg CO2/yr) | G3: Calcination and Energy emissions (kg Co2/yr) assuming decrease in coal consumption | H3: Calcination emissions | L3: year | M3: energy emissions (assuming decrease in emissions by 40% by 2050)
B4: 1900 | C4: 3074.6 | D4: =C4*1000 -> 3074600 | E4: =D4*$H$4 -> 1491181 | F4: =D4*$H$6 -> 2623151.6 | G4: =D4*(M4+$H$4) -> 2623151.6 | H4: 0.485 | I4: kg CO2 per kg cement | L4: 2023 | M4: =H6-H4 -> 0.36816841
B5: 1901 | C5: 3299.8 | D5: =C5*1000 -> 3299800 | E5: =D5*$H$4 -> 1600403 | F5: =D5*$H$6 -> 2815285.1 | G5: =D5*(M5+$H$4) -> 2798276.8 | H5: Calcination and energy emissions (cradle to gate total) | L5: 2024 | M5: =$M$4-(0.014*$M$4) -> 0.36301405
B6: 1902 | C6: 4427.1 | D6: =C6*1000 -> 4427100 | E6: =D6*$H$4 -> 2147143.5 | F6: =D6*$H$6 -> 3777061.9 | G6: =D6*(M6+$H$4) -> 3731424.1 | H6: 0.85316841 | I6: kg CO2 per kg cement | L6: 2025 | M6: =$M$4-(0.028*$M$4) -> 0.35785969
B7: 1903 | C7: 5237.1 | D7: =C7*1000 -> 5237100 | E7: =D7*$H$4 -> 2539993.5 | F7: =D7*$H$6 -> 4468128.3 | G7: =D7*(M7+$H$4) -> 4387146.6 | L7: 2026 | M7: =$M$4-(0.042*$M$4) -> 0.35270533
B8: 1904 | C8: 5315.9 | D8: =C8*1000 -> 5315900 | E8: =D8*$H$4 -> 2578211.5 | F8: =D8*$H$6 -> 4535357.9 | G8: =D8*(M8+$H$4) -> 4425757.7 | I8: thermal | J8: Energy mix impact: US Thermal energy mix from van Oss, 2015 Energy demand: GNR, 2016; air emissions calculated as cement manufacturing emissions sans energy derived emissions from (GNR, 2014; USEPA, 1994; van Oss and Mines, 2015) | L8: 2027 | M8: =$M$4-(0.056*$M$4) -> 0.34755098
B9: 1905 | C9: 6750.1 | D9: =C9*1000 -> 6750100 | E9: =D9*$H$4 -> 3273798.5 | F9: =D9*$H$6 -> 5758972.1 | G9: =D9*(M9+$H$4) -> 5585009.9 | I9: electricity | J9: Energy mix impact: Gomez 2007/calculated from 100a GWPs in IPCC Energy demand: Marceau, 2006; USEPA, 2001 | L9: 2028 | M9: =$M$4-(0.07*$M$4) -> 0.34239662
B10: 1906 | C10: 8934.9 | D10: =C10*1000 -> 8934900 | E10: =D10*$H$4 -> 4333426.5 | F10: =D10*$H$6 -> 7622974.4 | G10: =D10*(M10+$H$4) -> 7346652.4 | L10: 2029 | M10: =$M$4-(0.084*$M$4) -> 0.33724226
B11: 1907 | C11: 9092.9 | D11: =C11*1000 -> 9092900 | E11: =D11*$H$4 -> 4410056.5 | F11: =D11*$H$6 -> 7757775 | G11: =D11*(M11+$H$4) -> 7429698.6 | L11: 2030 | M11: =$M$4-(0.098*$M$4) -> 0.3320879
B12: 1908 | C12: 9058.2 | D12: =C12*1000 -> 9058200 | E12: =D12*$H$4 -> 4393227 | F12: =D12*$H$6 -> 7728170.1 | G12: =D12*(M12+$H$4) -> 7354656.4 | L12: 2031 | M12: =$M$4-(0.112*$M$4) -> 0.32693354
B13: 1909 | C13: 11332 | D13: =C13*1000 -> 11332000 | E13: =D13*$H$4 -> 5496020 | F13: =D13*$H$6 -> 9668104.4 | G13: =D13*(M13+$H$4) -> 9142421.7 | L13: 2032 | M13: =$M$4-(0.126*$M$4) -> 0.32177919
B14: 1910 | C14: 12992 | D14: =C14*1000 -> 12992000 | E14: =D14*$H$4 -> 6301120 | F14: =D14*$H$6 -> 11084364 | G14: =D14*(M14+$H$4) -> 10414710 | L14: 2033 | M14: =$M$4-(0.14*$M$4) -> 0.31662483
B15: 1911 | C15: 13166 | D15: =C15*1000 -> 13166000 | E15: =D15*$H$4 -> 6385510 | F15: =D15*$H$6 -> 11232815 | G15: =D15*(M15+$H$4) -> 10486330 | L15: 2034 | M15: =$M$4-(0.154*$M$4) -> 0.31147047
B16: 1912 | C16: 13623 | D16: =C16*1000 -> 13623000 | E16: =D16*$H$4 -> 6607155 | F16: =D16*$H$6 -> 11622713 | G16: =D16*(M16+$H$4) -> 10780099 | L16: 2035 | M16: =$M$4-(0.168*$M$4) -> 0.30631611
B17: 1913 | C17: 15498 | D17: =C17*1000 -> 15498000 | E17: =D17*$H$4 -> 7516530 | F17: =D17*$H$6 -> 13222404 | G17: =D17*(M17+$H$4) -> 12183935 | L17: 2036 | M17: =$M$4-(0.182*$M$4) -> 0.30116176
B18: 1914 | C18: 14974 | D18: =C18*1000 -> 14974000 | E18: =D18*$H$4 -> 7262390 | F18: =D18*$H$6 -> 12775344 | G18: =D18*(M18+$H$4) -> 11694805 | L18: 2037 | M18: =$M$4-(0.196*$M$4) -> 0.2960074
B19: 1915 | C19: 14484 | D19: =C19*1000 -> 14484000 | E19: =D19*$H$4 -> 7024740 | F19: =D19*$H$6 -> 12357291 | G19: =D19*(M19+$H$4) -> 11237455 | L19: 2038 | M19: =$M$4-(0.21*$M$4) -> 0.29085304
B20: 1916 | C20: 15448 | D20: =C20*1000 -> 15448000 | E20: =D20*$H$4 -> 7492280 | F20: =D20*$H$6 -> 13179746 | G20: =D20*(M20+$H$4) -> 11905753 | L20: 2039 | M20: =$M$4-(0.224*$M$4) -> 0.28569868
B21: 1917 | C21: 15639 | D21: =C21*1000 -> 15639000 | E21: =D21*$H$4 -> 7584915 | F21: =D21*$H$6 -> 13342701 | G21: =D21*(M21+$H$4) -> 11972348 | L21: 2040 | M21: =$M$4-(0.238*$M$4) -> 0.28054433
B22: 1918 | C22: 11923 | D22: =C22*1000 -> 11923000 | E22: =D22*$H$4 -> 5782655 | F22: =D22*$H$6 -> 10172327 | G22: =D22*(M22+$H$4) -> 9066129.6 | L22: 2041 | M22: =$M$4-(0.252*$M$4) -> 0.27538997
B23: 1919 | C23: 13572 | D23: =C23*1000 -> 13572000 | E23: =D23*$H$4 -> 6582420 | F23: =D23*$H$6 -> 11579202 | G23: =D23*(M23+$H$4) -> 10250058 | L23: 2042 | M23: =$M$4-(0.266*$M$4) -> 0.27023561
B24: 1920 | C24: 16744 | D24: =C24*1000 -> 16744000 | E24: =D24*$H$4 -> 8120840 | F24: =D24*$H$6 -> 14285452 | G24: =D24*(M24+$H$4) -> 12559360 | L24: 2043 | M24: =$M$4-(0.28*$M$4) -> 0.26508125
B25: 1921 | C25: 16769 | D25: =C25*1000 -> 16769000 | E25: =D25*$H$4 -> 8132965 | F25: =D25*$H$6 -> 14306781 | G25: =D25*(M25+$H$4) -> 12491679 | L25: 2044 | M25: =$M$4-(0.294*$M$4) -> 0.25992689
B26: 1922 | C26: 19597 | D26: =C26*1000 -> 19597000 | E26: =D26*$H$4 -> 9504545 | F26: =D26*$H$6 -> 16719541 | G26: =D26*(M26+$H$4) -> 14497322 | L26: 2045 | M26: =$M$4-(0.308*$M$4) -> 0.25477254
B27: 1923 | C27: 23791 | D27: =C27*1000 -> 23791000 | E27: =D27*$H$4 -> 11538635 | F27: =D27*$H$6 -> 20297730 | G27: =D27*(M27+$H$4) -> 17477301 | L27: 2046 | M27: =$M$4-(0.322*$M$4) -> 0.24961818
B28: 1924 | C28: 25910 | D28: =C28*1000 -> 25910000 | E28: =D28*$H$4 -> 12566350 | F28: =D28*$H$6 -> 22105593 | G28: =D28*(M28+$H$4) -> 18900408 | L28: 2047 | M28: =$M$4-(0.336*$M$4) -> 0.24446382
B29: 1925 | C29: 28318 | D29: =C29*1000 -> 28318000 | E29: =D29*$H$4 -> 13734230 | F29: =D29*$H$6 -> 24160023 | G29: =D29*(M29+$H$4) -> 20510995 | L29: 2048 | M29: =$M$4-(0.35*$M$4) -> 0.23930946
B30: 1926 | C30: 28807 | D30: =C30*1000 -> 28807000 | E30: =D30*$H$4 -> 13971395 | F30: =D30*$H$6 -> 24577222 | G30: =D30*(M30+$H$4) -> 20716701 | L30: 2049 | M30: =$M$4-(0.364*$M$4) -> 0.23415511
B31: 1927 | C31: 29540 | D31: =C31*1000 -> 29540000 | E31: =D31*$H$4 -> 14326900 | F31: =D31*$H$6 -> 25202595 | G31: =D31*(M31+$H$4) -> 21091582 | L31: 2050 | M31: =$M$4-(0.378*$M$4) -> 0.22900075
B32: 1928 | C32: 30231 | D32: =C32*1000 -> 30231000 | E32: =D32*$H$4 -> 14662035 | F32: =D32*$H$6 -> 25792134 | G32: =D32*(M32+$H$4) -> 14662035
B33: 1929 | C33: 29202 | D33: =C33*1000 -> 29202000 | E33: =D33*$H$4 -> 14162970 | F33: =D33*$H$6 -> 24914224 | G33: =D33*(M33+$H$4) -> 14162970
B34: 1930 | C34: 27227 | D34: =C34*1000 -> 27227000 | E34: =D34*$H$4 -> 13205095 | F34: =D34*$H$6 -> 23229216 | G34: =D34*(M34+$H$4) -> 13205095
B35: 1931 | C35: 21745 | D35: =C35*1000 -> 21745000 | E35: =D35*$H$4 -> 10546325 | F35: =D35*$H$6 -> 18552147 | G35: =D35*(M35+$H$4) -> 10546325
B36: 1932 | C36: 13729 | D36: =C36*1000 -> 13729000 | E36: =D36*$H$4 -> 6658565 | F36: =D36*$H$6 -> 11713149 | G36: =D36*(M36+$H$4) -> 6658565
B37: 1933 | C37: 10860 | D37: =C37*1000 -> 10860000 | E37: =D37*$H$4 -> 5267100 | F37: =D37*$H$6 -> 9265408.9 | G37: =D37*(M37+$H$4) -> 5267100
B38: 1934 | C38: 12877 | D38: =C38*1000 -> 12877000 | E38: =D38*$H$4 -> 6245345 | F38: =D38*$H$6 -> 10986250 | G38: =D38*(M38+$H$4) -> 6245345
B39: 1935 | C39: 12745 | D39: =C39*1000 -> 12745000 | E39: =D39*$H$4 -> 6181325 | F39: =D39*$H$6 -> 10873631 | G39: =D39*(M39+$H$4) -> 6181325
B40: 1936 | C40: 19129 | D40: =C40*1000 -> 19129000 | E40: =D40*$H$4 -> 9277565 | F40: =D40*$H$6 -> 16320258 | G40: =D40*(M40+$H$4) -> 9277565
B41: 1937 | C41: 19469 | D41: =C41*1000 -> 19469000 | E41: =D41*$H$4 -> 9442465 | F41: =D41*$H$6 -> 16610336 | G41: =D41*(M41+$H$4) -> 9442465
B42: 1938 | C42: 18211 | D42: =C42*1000 -> 18211000 | E42: =D42*$H$4 -> 8832335 | F42: =D42*$H$6 -> 15537050 | G42: =D42*(M42+$H$4) -> 8832335
B43: 1939 | C43: 21046 | D43: =C43*1000 -> 21046000 | E43: =D43*$H$4 -> 10207310 | F43: =D43*$H$6 -> 17955782 | G43: =D43*(M43+$H$4) -> 10207310
... B123: 2019 | C123: 101600 | D123: =C123*1000 -> 101600000 | E123: =D123*$H$4 -> 49276000 | F123: =D123*$H$6 -> 86681910 | G123: =D123*(M123+$H$4) -> 49276000

Sheet SDS2
B1: Global average SCM content, energy and electricity requirements for cement production
B3: Global average amount of mineral additives used for each unit of cement consumed in 2015
B5: 2015
B6: Fly ash | C6: Slag | D6: Limestone | E6: Puzzolana
B7: 0.049327355 | C7: 0.057627502 | D7: 0.067375781 | E7: 0.028420706
B9: Thermal fuel mixes for cement kilns
B10: Fractions of energy resources used for thermal energy in cement kilns by year
B11: fraction of alternative/biomass/fossil fuels based on GNR 2016; fraction of classifications within fossil fuels (namely coal, oil, gas, and petcoke) and fraction of classifications within waste fuels (namely fossil waste, solid waste, and liquid waste) based on global averages from GCCA 2020
C12: coal | D12: oil | E12: biomass | F12: fossil waste | G12: petcoke | H12: natural gas | I12: solid waste | J12: liquid waste
B13: World, 2015 | C13: 0.37857192 | D13: 0.016825419 | E13: 0.054239333 | F13: 0.0041795892 | G13: 0.3617465 | H13: 0.084127094 | I13: 0.090906066 | J13: 0.0094040758
B15: Electricity mixes
B16: Fractions of energy resources used for electricity mixes (data from IEA 2020)
C17: Coal | D17: Oil | E17: Natural Gas | F17: Biomass | G17: Nuclear | H17: Hydroelectric | I17: Geothermal | J17: Solar | K17: Wind | L17: OtherSources
B18: World, 2015 | C18: 0.39125608 | D18: 0.042173275 | E18: 0.22676617 | F18: 0.0170563 | G18: 0.10546827 | H18: 0.16341601 | I18: 0.0033060326 | J18: 0.010656561 | K18: 0.034213961 | L18: 0.0056873346
B21: Electricity and thermal energy demand to produce cement
B22: source: | C22: GNR 2016
C23: electricity (MJ/kg) | D23: thermal energy (MJ/kg)
B24: World, 2015 | C24: 0.36208335 | D24: 3.5110868

Sheet SDS3
B1: Cement production, consumption, emissions, and market share: Global
B3: Year | C3: Consumption (Mt/yr) | D3: Consumption (kg/yr) | E3: Inflow (Prod) (Mt/yr) | F3: Inflow (kg/yr) | G3: Emissions (Mt/yr) | H3: Emissions (kg/yr) | I3: Emissions assuming decrease in coal consumption starting in 2023 | J3: Mt = million tons/megatons | M3: year | N3: energy emissions (linearly decreasing by roughly 40% by 2050) | P3: Year | Q3: Residential Inflow | R3: Non-Residential Inflow | S3: Civil Eng. Inflow | T3: Total inflow | V3: Mt/yr | X3: Year | Y3: Residential Consumption | Z3: Non-Residential Consumption | AA3: Civil Eng. Consumption | AB3: Total consumption | AC3: Mt/yr | AE3: Year | AF3: Residential Market Share (%) | AG3: Non-Residential Market Share (%) | AH3: Civil Eng. Market Share (%)
B4: 1931 | C4: 61.199 | D4: =C4*$J$4 -> 61199000000 | E4: 58.748226 | F4: =E4*$J$4 -> 5.8748226e+10 | G4: =E4*$J$13 -> 44.296162 | H4: =G4*$J$4 -> 4.4296162e+10 | I4: =H4 -> 4.4296162e+10 | J4: 1000000000 | K4: Mt to kg | M4: 2023 | N4: 0.348 | P4: 1931 | Q4: 18.799381 | R4: 16.230673 | S4: 23.718171 | T4: 58.748226 | X4: 1931 | Y4: 16.704016 | Z4: 20.303139 | AA4: 24.191845 | AB4: =SUM(Y4,Z4,AA4) -> 61.199 | AE4: 1931 | AF4: =Y4/AB4 -> 0.2729459 | AG4: =Z4/AB4 -> 0.33175605 | AH4: =AA4/AB4 -> 0.39529805
B5: 1932 | C5: 48.379 | D5: =C5*$J$4 -> 4.8379e+10 | E5: 46.232 | F5: =E5*$J$4 -> 4.6232e+10 | G5: =E5*$J$13 -> 34.858928 | H5: =G5*$J$4 -> 3.4858928e+10 | I5: =H5 -> 3.4858928e+10 | J5: 1000000000000 | K5: Gt to kg | M5: 2024 | N5: 0.343128 | P5: 1932 | Q5: 14.234294 | R5: 13.04901 | S5: 18.948696 | T5: 46.232 | X5: 1932 | Y5: 13.20485 | Z5: 16.050026 | AA5: 19.124124 | AB5: =SUM(Y5,Z5,AA5) -> 48.379 | AE5: 1932 | AF5: =Y5/AB5 -> 0.2729459 | AG5: =Z5/AB5 -> 0.33175605 | AH5: =AA5/AB5 -> 0.39529805
B6: 1933 | C6: 46.867 | D6: =C6*$J$4 -> 4.6867e+10 | E6: 44.985 | F6: =E6*$J$4 -> 4.4985e+10 | G6: =E6*$J$13 -> 33.91869 | H6: =G6*$J$4 -> 3.391869e+10 | I6: =H6 -> 3.391869e+10 | M6: 2025 | N6: 0.338256 | P6: 1933 | Q6: 13.861531 | R6: 12.862342 | S6: 18.261127 | T6: 44.985 | X6: 1933 | Y6: 12.792156 | Z6: 15.548411 | AA6: 18.526434 | AB6: =SUM(Y6,Z6,AA6) -> 46.867 | AE6: 1933 | AF6: =Y6/AB6 -> 0.2729459 | AG6: =Z6/AB6 -> 0.33175605 | AH6: =AA6/AB6 -> 0.39529805
B7: 1934 | C7: 54.405 | D7: =C7*$J$4 -> 5.4405e+10 | E7: 53.31 | F7: =E7*$J$4 -> 5.331e+10 | G7: =E7*$J$13 -> 40.19574 | H7: =G7*$J$4 -> 4.019574e+10 | I7: =H7 -> 4.019574e+10 | M7: 2026 | N7: 0.333384 | P7: 1934 | Q7: 16.564144 | R7: 15.326393 | S7: 21.419464 | T7: 53.31 | X7: 1934 | Y7: 14.849622 | Z7: 18.049188 | AA7: 21.50619 | AB7: =SUM(Y7,Z7,AA7) -> 54.405 | AE7: 1934 | AF7: =Y7/AB7 -> 0.2729459 | AG7: =Z7/AB7 -> 0.33175605 | AH7: =AA7/AB7 -> 0.39529805
B8: 1935 | C8: 64.307904 | D8: =C8*$J$4 -> 6.4307904e+10 | E8: 61.651079 | F8: =E8*$J$4 -> 6.1651079e+10 | G8: =E8*$J$13 -> 46.484914 | H8: =G8*$J$4 -> 4.6484914e+10 | I8: =H8 -> 4.6484914e+10 | M8: 2027 | N8: 0.328512 | P8: 1935 | Q8: 18.973354 | R8: 17.942114 | S8: 24.735611 | T8: 61.651079 | X8: 1935 | Y8: 17.552579 | Z8: 21.334536 | AA8: 25.420789 | AB8: =SUM(Y8,Z8,AA8) -> 64.307904 | AE8: 1935 | AF8: =Y8/AB8 -> 0.2729459 | AG8: =Z8/AB8 -> 0.33175605 | AH8: =AA8/AB8 -> 0.39529805
B9: 1936 | C9: 77.730071 | D9: =C9*$J$4 -> 77730071000 | E9: 74.749855 | F9: =E9*$J$4 -> 7.4749855e+10 | G9: =E9*$J$13 -> 56.361391 | H9: =G9*$J$4 -> 5.6361391e+10 | I9: =H9 -> 5.6361391e+10 | M9: 2028 | N9: 0.32364 | P9: 1936 | Q9: 23.399625 | R9: 21.580605 | S9: 29.769625 | T9: 74.749855 | X9: 1936 | Y9: 21.216104 | Z9: 25.787421 | AA9: 30.726545 | AB9: =SUM(Y9,Z9,AA9) -> 77.730071 | AE9: 1936 | AF9: =Y9/AB9 -> 0.2729459 | AG9: =Z9/AB9 -> 0.33175605 | AH9: =AA9/AB9 -> 0.39529805
B10: 1937 | C10: 82.349942 | D10: =C10*$J$4 -> 8.2349942e+10 | E10: 78.692004 | F10: =E10*$J$4 -> 7.8692004e+10 | G10: =E10*$J$13 -> 59.333771 | H10: =G10*$J$4 -> 5.9333771e+10 | I10: =H10 -> 5.9333771e+10 | J10: Calcination emissions | M10: 2029 | N10: 0.318768 | P10: 1937 | Q10: 24.611615 | R10: 22.772395 | S10: 31.307994 | T10: 78.692004 | X10: 1937 | Y10: 22.477079 | Z10: 27.320091 | AA10: 32.552771 | AB10: =SUM(Y10,Z10,AA10) -> 82.349942 | AE10: 1937 | AF10: =Y10/AB10 -> 0.2729459 | AG10: =Z10/AB10 -> 0.33175605 | AH10: =AA10/AB10 -> 0.39529805
B11: 1938 | C11: 77.384071 | D11: =C11*$J$4 -> 7.7384071e+10 | E11: 76.510726 | F11: =E11*$J$4 -> 7.6510726e+10 | G11: =E11*$J$13 -> 57.689087 | H11: =G11*$J$4 -> 5.7689087e+10 | I11: =H11 -> 5.7689087e+10 | J11: =0.406 -> 0.406 | K11: kg CO2 per kg cement | M11: 2030 | N11: 0.313896 | P11: 1938 | Q11: 24.15732 | R11: 22.629543 | S11: 29.723863 | T11: 76.510726 | X11: 1938 | Y11: 21.121665 | Z11: 25.672634 | AA11: 30.589772 | AB11: =SUM(Y11,Z11,AA11) -> 77.384071 | AE11: 1938 | AF11: =Y11/AB11 -> 0.2729459 | AG11: =Z11/AB11 -> 0.33175605 | AH11: =AA11/AB11 -> 0.39529805
B12: 1939 | C12: 71.202877 | D12: =C12*$J$4 -> 7.1202877e+10 | E12: 63.648416 | F12: =E12*$J$4 -> 6.3648416e+10 | G12: =E12*$J$13 -> 47.990906 | H12: =G12*$J$4 -> 4.7990906e+10 | I12: =H12 -> 4.7990906e+10 | J12: Calcination and energy emissions (cradle to gate total) | M12: 2031 | N12: 0.309024 | P12: 1939 | Q12: 20.467088 | R12: 17.590565 | S12: 25.590763 | T12: 63.648416 | X12: 1939 | Y12: 19.434533 | Z12: 23.621985 | AA12: 28.146358 | AB12: =SUM(Y12,Z12,AA12) -> 71.202877 | AE12: 1939 | AF12: =Y12/AB12 -> 0.2729459 | AG12: =Z12/AB12 -> 0.33175605 | AH12: =AA12/AB12 -> 0.39529805
B13: 1940 | C13: 62.979084 | D13: =C13*$J$4 -> 6.2979084e+10 | E13: 58.295121 | F13: =E13*$J$4 -> 5.8295121e+10 | G13: =E13*$J$13 -> 43.954521 | H13: =G13*$J$4 -> 4.3954521e+10 | I13: =H13 -> 4.3954521e+10 | J13: 0.754 | K13: kg CO2 per kg cement | M13: 2032 | N13: 0.304152 | P13: 1940 | Q13: 19.051994 | R13: 15.827387 | S13: 23.41574 | T13: 58.295121 | X13: 1940 | Y13: 17.189883 | Z13: 20.893692 | AA13: 24.895509 | AB13: =SUM(Y13,Z13,AA13) -> 62.979084 | AE13: 1940 | AF13: =Y13/AB13 -> 0.2729459 | AG13: =Z13/AB13 -> 0.33175605 | AH13: =AA13/AB13 -> 0.39529805
B14: 1941 | C14: 60.052753 | D14: =C14*$J$4 -> 6.0052753e+10 | E14: 59.943272 | F14: =E14*$J$4 -> 5.9943272e+10 | G14: =E14*$J$13 -> 45.197227 | H14: =G14*$J$4 -> 4.5197227e+10 | I14: =H14 -> 4.5197227e+10 | M14: 2033 | N14: 0.29928 | P14: 1941 | Q14: 20.874425 | R14: 15.306821 | S14: 23.762026 | T14: 59.943272 | X14: 1941 | Y14: 16.391153 | Z14: 19.922864 | AA14: 23.738736 | AB14: =SUM(Y14,Z14,AA14) -> 60.052753 | AE14: 1941 | AF14: =Y14/AB14 -> 0.2729459 | AG14: =Z14/AB14 -> 0.33175605 | AH14: =AA14/AB14 -> 0.39529805
B15: 1942 | C15: 54.86778 | D15: =C15*$J$4 -> 54867780000 | E15: 54.543835 | F15: =E15*$J$4 -> 5.4543835e+10 | G15: =E15*$J$13 -> 41.126052 | H15: =G15*$J$4 -> 4.1126052e+10 | I15: =H15 -> 4.1126052e+10 | M15: 2034 | N15: 0.294408 | P15: 1942 | Q15: 19.193106 | R15: 13.643301 | S15: 21.707428 | T15: 54.543835 | X15: 1942 | Y15: 14.975936 | Z15: 18.202718 | AA15: 21.689126 | AB15: =SUM(Y15,Z15,AA15) -> 54.86778 | AE15: 1942 | AF15: =Y15/AB15 -> 0.2729459 | AG15: =Z15/AB15 -> 0.33175605 | AH15: =AA15/AB15 -> 0.39529805
B16: 1943 | C16: 48.669305 | D16: =C16*$J$4 -> 4.8669305e+10 | E16: 47.568877 | F16: =E16*$J$4 -> 4.7568877e+10 | G16: =E16*$J$13 -> 35.866933 | H16: =G16*$J$4 -> 3.5866933e+10 | I16: =H16 -> 3.5866933e+10 | M16: 2035 | N16: 0.289536 | P16: 1943 | Q16: 16.442643 | R16: 12.099139 | S16: 19.027095 | T16: 47.568877 | X16: 1943 | Y16: 13.284087 | Z16: 16.146336 | AA16: 19.238881 | AB16: =SUM(Y16,Z16,AA16) -> 48.669305 | AE16: 1943 | AF16: =Y16/AB16 -> 0.2729459 | AG16: =Z16/AB16 -> 0.33175605 | AH16: =AA16/AB16 -> 0.39529805
B17: 1944 | C17: 25.236516 | D17: =C17*$J$4 -> 25236516000 | E17: 25.366866 | F17: =E17*$J$4 -> 2.5366866e+10 | G17: =E17*$J$13 -> 19.126617 | H17: =G17*$J$4 -> 1.9126617e+10 | I17: =H17 -> 1.9126617e+10 | M17: 2036 | N17: 0.284664 | P17: 1944 | Q17: 8.9767362 | R17: 6.153587 | S17: 10.236543 | T17: 25.366866 | X17: 1944 | Y17: 6.8882036 | Z17: 8.3723669 | AA17: 9.9759455 | AB17: =SUM(Y17,Z17,AA17) -> 25.236516 | AE17: 1944 | AF17: =Y17/AB17 -> 0.2729459 | AG17: =Z17/AB17 -> 0.33175605 | AH17: =AA17/AB17 -> 0.39529805
B18: 1945 | C18: 45.668784 | D18: =C18*$J$4 -> 45668784000 | E18: 45.565229 | F18: =E18*$J$4 -> 4.5565229e+10 | G18: =E18*$J$13 -> 34.356183 | H18: =G18*$J$4 -> 3.4356183e+10 | I18: =H18 -> 3.4356183e+10 | M18: 2037 | N18: 0.279792 | P18: 1945 | Q18: 14.505026 | R18: 13.104154 | S18: 17.956049 | T18: 45.565229 | X18: 1945 | Y18: 12.465107 | Z18: 15.150895 | AA18: 18.052781 | AB18: =SUM(Y18,Z18,AA18) -> 45.668784 | AE18: 1945 | AF18: =Y18/AB18 -> 0.2729459 | AG18: =Z18/AB18 -> 0.33175605 | AH18: =AA18/AB18 -> 0.39529805
B19: 1946 | C19: 71.602354 | D19: =C19*$J$4 -> 7.1602354e+10 | E19: 70.091551 | F19: =E19*$J$4 -> 7.0091551e+10 | G19: =E19*$J$13 -> 52.849029 | H19: =G19*$J$4 -> 5.2849029e+10 | I19: =H19 -> 5.2849029e+10 | M19: 2038 | N19: 0.27492 | P19: 1946 | Q19: 22.726935 | R19: 19.714968 | S19: 27.649649 | T19: 70.091551 | X19: 1946 | Y19: 19.543569 | Z19: 23.754514 | AA19: 28.304271 | AB19: =SUM(Y19,Z19,AA19) -> 71.602354 | AE19: 1946 | AF19: =Y19/AB19 -> 0.2729459 | AG19: =Z19/AB19 -> 0.33175605 | AH19: =AA19/AB19 -> 0.39529805
B20: 1947 | C20: 84.619411 | D20: =C20*$J$4 -> 8.4619411e+10 | E20: 81.982344 | F20: =E20*$J$4 -> 8.1982344e+10 | G20: =E20*$J$13 -> 61.814687 | H20: =G20*$J$4 -> 6.1814687e+10 | I20: =H20 -> 6.1814687e+10 | M20: 2039 | N20: 0.270048 | P20: 1947 | Q20: 26.370087 | R20: 22.94246 | S20: 32.669797 | T20: 81.982344 | X20: 1947 | Y20: 23.096521 | Z20: 28.073002 | AA20: 33.449888 | AB20: =SUM(Y20,Z20,AA20) -> 84.619411 | AE20: 1947 | AF20: =Y20/AB20 -> 0.2729459 | AG20: =Z20/AB20 -> 0.33175605 | AH20: =AA20/AB20 -> 0.39529805
B21: 1948 | C21: 100.62256 | D21: =C21*$J$4 -> 1.0062256e+11 | E21: 97.626224 | F21: =E21*$J$4 -> 9.7626224e+10 | G21: =E21*$J$13 -> 73.610173 | H21: =G21*$J$4 -> 7.3610173e+10 | I21: =H21 -> 7.3610173e+10 | M21: 2040 | N21: 0.265176 | P21: 1948 | Q21: 31.208893 | R21: 27.533316 | S21: 38.884015 | T21: 97.626224 | X21: 1948 | Y21: 27.464515 | Z21: 33.382143 | AA21: 39.775901 | AB21: =SUM(Y21,Z21,AA21) -> 100.62256 | AE21: 1948 | AF21: =Y21/AB21 -> 0.2729459 | AG21: =Z21/AB21 -> 0.33175605 | AH21: =AA21/AB21 -> 0.39529805
B22: 1949 | C22: 114.01495 | D22: =C22*$J$4 -> 1.1401495e+11 | E22: 110.79373 | F22: =E22*$J$4 -> 1.1079373e+11 | G22: =E22*$J$13 -> 83.538472 | H22: =G22*$J$4 -> 8.3538472e+10 | I22: =H22 -> 8.3538472e+10 | M22: 2041 | N22: 0.260304 | P22: 1949 | Q22: 34.98076 | R22: 31.447945 | S22: 44.365025 | T22: 110.79373 | X22: 1949 | Y22: 31.119912 | Z22: 37.825148 | AA22: 45.069886 | AB22: =SUM(Y22,Z22,AA22) -> 114.01495 | AE22: 1949 | AF22: =Y22/AB22 -> 0.2729459 | AG22: =Z22/AB22 -> 0.33175605 | AH22: =AA22/AB22 -> 0.39529805
B23: 1950 | C23: 132.98994 | D23: =C23*$J$4 -> 1.3298994e+11 | E23: 130.51475 | F23: =E23*$J$4 -> 1.3051475e+11 | G23: =E23*$J$13 -> 98.408119 | H23: =G23*$J$4 -> 9.8408119e+10 | I23: =H23 -> 9.8408119e+10 | M23: 2042 | N23: 0.255432 | P23: 1950 | Q23: 40.473814 | R23: 37.609767 | S23: 52.431167 | T23: 130.51475 | X23: 1950 | Y23: 45.079562 | Z23: 43.260183 | AA23: 61.687861 | AB23: =SUM(Y23,Z23,AA23) -> 150.02761 | AE23: 1950 | AF23: =Y23/AB23 -> 0.30047511 | AG23: =Z23/AB23 -> 0.28834815 | AH23: =AA23/AB23 -> 0.41117673
B24: 1951 | C24: 149.75791 | D24: =C24*$J$4 -> 1.4975791e+11 | E24: 150.0286 | F24: =E24*$J$4 -> 1.500286e+11 | G24: =E24*$J$13 -> 113.12157 | H24: =G24*$J$4 -> 1.1312157e+11 | I24: =H24 -> 1.1312157e+11 | M24: 2043 | N24: 0.25056 | P24: 1951 | Q24: 45.079828 | R24: 43.260466 | S24: 61.688309 | T24: 150.0286 | X24: 1951 | Y24: 48.33759 | Z24: 46.604952 | AA24: 65.785792 | AB24: =SUM(Y24,Z24,AA24) -> 160.72833 | AE24: 1951 | AF24: =Y24/AB24 -> 0.30074094 | AG24: =Z24/AB24 -> 0.28996102 | AH24: =AA24/AB24 -> 0.40929804
B25: 1952 | C25: 160.24656 | D25: =C25*$J$4 -> 1.6024656e+11 | E25: 160.72896 | F25: =E25*$J$4 -> 1.6072896e+11 | G25: =E25*$J$13 -> 121.18963 | H25: =G25*$J$4 -> 1.2118963e+11 | I25: =H25 -> 1.2118963e+11 | M25: 2044 | N25: 0.245688 | P25: 1952 | Q25: 48.337731 | R25: 46.605128 | S25: 65.786099 | T25: 160.72896 | X25: 1952 | Y25: 53.805503 | Z25: 52.274399 | AA25: 73.21484 | AB25: =SUM(Y25,Z25,AA25) -> 179.29474 | AE25: 1952 | AF25: =Y25/AB25 -> 0.30009526 | AG25: =Z25/AB25 -> 0.29155567 | AH25: =AA25/AB25 -> 0.40834906
... B31: 1958 | C31: 263.20197 | D31: =C31*$J$4 -> 2.6320197e+11 | E31: 262.80941 | F31: =E31*$J$4 -> 2.6280941e+11 | G31: =E31*$J$13 -> 198.15829 | H31: =G31*$J$4 -> 1.9815829e+11 | I31: =H31 -> 1.9815829e+11 | M31: 2050 | N31: 0.216456 | P31: 1958 | Q31: 76.469636 | R31: 78.607136 | S31: 107.73264 | T31: 262.80941 | X31: 1958 | Y31: 85.512931 | Z31: 88.43111 | AA31: 120.35539 | AB31: =SUM(Y31,Z31,AA31) -> 294.29943 | AE31: 1958 | AF31: =Y31/AB31 -> 0.29056438 | AG31: =Z31/AB31 -> 0.30048006 | AH31: =AA31/AB31 -> 0.40895556
B32: 1959 | C32: 294.09693 | D32: =C32*$J$4 -> 2.9409693e+11 | E32: 294.32355 | F32: =E32*$J$4 -> 2.9432355e+11 | G32: =E32*$J$13 -> 221.91996 | H32: =G32*$J$4 -> 2.2191996e+11 | I32: =H32 -> 2.2191996e+11 | P32: 1959 | Q32: 85.518431 | R32: 88.438364 | S32: 120.36675 | T32: 294.32355 | X32: 1959 | Y32: 90.71742 | Z32: 96.122544 | AA32: 129.99631 | AB32: =SUM(Y32,Z32,AA32) -> 316.83627 | AE32: 1959 | AF32: =Y32/AB32 -> 0.28632271 | AG32: =Z32/AB32 -> 0.30338238 | AH32: =AA32/AB32 -> 0.41029491
B33: 1960 | C33: 316.557 | D33: =C33*$J$4 -> 3.16557e+11 | E33: 316.87604 | F33: =E33*$J$4 -> 3.1687604e+11 | G33: =E33*$J$13 -> 238.92453 | H33: =G33*$J$4 -> 2.3892453e+11 | I33: =H33 -> 2.3892453e+11 | P33: 1960 | Q33: 90.726623 | R33: 96.134621 | S33: 130.0148 | T33: 316.87604 | X33: 1960 | Y33: 93.965762 | Z33: 101.0235 | AA33: 138.3859 | AB33: =SUM(Y33,Z33,AA33) -> 333.37516 | AE33: 1960 | AF33: =Y33/AB33 -> 0.28186192 | AG33: =Z33/AB33 -> 0.30303247 | AH33: =AA33/AB33 -> 0.41510561
B34: 1961 | C34: 333.29717 | D34: =C34*$J$4 -> 333297166950 | E34: 333.43977 | F34: =E34*$J$4 -> 3.3343977e+11 | G34: =E34*$J$13 -> 251.41359 | H34: =G34*$J$4 -> 2.5141359e+11 | I34: =H34 -> 2.5141359e+11 | P34: 1961 | Q34: 93.980916 | R34: 101.04329 | S34: 138.41557 | T34: 333.43977 | X34: 1961 | Y34: 100.5224 | Z34: 108.77437 | AA34: 149.10026 | AB34: =SUM(Y34,Z34,AA34) -> 358.39703 | AE34: 1961 | AF34: =Y34/AB34 -> 0.28047777 | AG34: =Z34/AB34 -> 0.30350243 | AH34: =AA34/AB34 -> 0.4160198
B35: 1962 | C35: 357.75455 | D35: =C35*$J$4 -> 3.5775455e+11 | E35: 358.50032 | F35: =E35*$J$4 -> 3.5850032e+11 | G35: =E35*$J$13 -> 270.30924 | H35: =G35*$J$4 -> 2.7030924e+11 | I35: =H35 -> 2.7030924e+11 | P35: 1962 | Q35: 100.5469 | R35: 108.80623 | S35: 149.14718 | T35: 358.50032 | X35: 1962 | Y35: 105.88196 | Z35: 114.55494 | AA35: 156.69627 | AB35: =SUM(Y35,Z35,AA35) -> 377.13317 | AE35: 1962 | AF35: =Y35/AB35 -> 0.28075483 | AG35: =Z35/AB35 -> 0.30375197 | AH35: =AA35/AB35 -> 0.4154932
B36: 1963 | C36: 376.90697 | D36: =C36*$J$4 -> 3.7690697e+11 | E36: 377.29542 | F36: =E36*$J$4 -> 3.7729542e+11 | G36: =E36*$J$13 -> 284.48075 | H36: =G36*$J$4 -> 2.8448075e+11 | I36: =H36 -> 2.8448075e+11 | P36: 1963 | Q36: 105.92083 | R36: 114.60529 | S36: 156.7693 | T36: 377.29542 | X36: 1963 | Y36: 116.52936 | Z36: 125.70861 | AA36: 171.66823 | AB36: =SUM(Y36,Z36,AA36) -> 413.9062 | AE36: 1963 | AF36: =Y36/AB36 -> 0.28153567 | AG36: =Z36/AB36 -> 0.3037128 | AH36: =AA36/AB36 -> 0.41475152
B37: 1964 | C37: 415.71324 | D37: =C37*$J$4 -> 4.1571324e+11 | E37: 414.1564 | F37: =E37*$J$4 -> 4.141564e+11 | G37: =E37*$J$13 -> 312.27392 | H37: =G37*$J$4 -> 3.1227392e+11 | I37: =H37 -> 3.1227392e+11 | P37: 1964 | Q37: 116.58978 | R37: 125.78659 | S37: 171.78002 | T37: 414.1564 | X37: 1964 | Y37: 120.63029 | Z37: 131.78333 | AA37: 179.61665 | AB37: =SUM(Y37,Z37,AA37) -> 432.03026 | AE37: 1964 | AF37: =Y37/AB37 -> 0.27921722 | AG37: =Z37/AB37 -> 0.30503263 | AH37: =AA37/AB37 -> 0.41575015
B38: 1965 | C38: 433.75265 | D38: =C38*$J$4 -> 4.3375265e+11 | E38: 432.40878 | F38: =E38*$J$4 -> 4.3240878e+11 | G38: =E38*$J$13 -> 326.03622 | H38: =G38*$J$4 -> 3.2603622e+11 | I38: =H38 -> 3.2603622e+11 | P38: 1965 | Q38: 120.72226 | R38: 131.90167 | S38: 179.78485 | T38: 432.40878 | X38: 1965 | Y38: 128.17763 | Z38: 141.11484 | AA38: 191.93134 | AB38: =SUM(Y38,Z38,AA38) -> 461.22381 | AE38: 1965 | AF38: =Y38/AB38 -> 0.27790766 | AG38: =Z38/AB38 -> 0.3059574 | AH38: =AA38/AB38 -> 0.41613494
B39: 1966 | C39: 464.26575 | D39: =C39*$J$4 -> 4.6426575e+11 | E39: 461.78533 | F39: =E39*$J$4 -> 4.6178533e+11 | G39: =E39*$J$13 -> 348.18614 | H39: =G39*$J$4 -> 3.4818614e+11 | I39: =H39 -> 3.4818614e+11 | P39: 1966 | Q39: 128.31467 | R39: 141.29072 | S39: 192.17994 | T39: 461.78533 | X39: 1966 | Y39: 131.66388 | Z39: 146.96372 | AA39: 200.02559 | AB39: =SUM(Y39,Z39,AA39) -> 478.65319 | AE39: 1966 | AF39: =Y39/AB39 -> 0.27507155 | AG39: =Z39/AB39 -> 0.30703592 | AH39: =AA39/AB39 -> 0.41789252
B40: 1967 | C40: 483.16065 | D40: =C40*$J$4 -> 4.8316065e+11 | E40: 479.46979 | F40: =E40*$J$4 -> 4.7946979e+11 | G40: =E40*$J$13 -> 361.52023 | H40: =G40*$J$4 -> 3.6152023e+11 | I40: =H40 -> 3.6152023e+11 | P40: 1967 | Q40: 131.86373 | R40: 147.21967 | S40: 200.3864 | T40: 479.46979 | X40: 1967 | Y40: 141.67268 | Z40: 157.55576 | AA40: 213.76199 | AB40: =SUM(Y40,Z40,AA40) -> 512.99044 | AE40: 1967 | AF40: =Y40/AB40 -> 0.27617022 | AG40: =Z40/AB40 -> 0.30713197 | AH40: =AA40/AB40 -> 0.41669781
B41: 1968 | C41: 515.33729 | D41: =C41*$J$4 -> 5.1533729e+11 | E41: 514.15449 | F41: =E41*$J$4 -> 5.1415449e+11 | G41: =E41*$J$13 -> 387.67249 | H41: =G41*$J$4 -> 3.8767249e+11 | I41: =H41 -> 3.8767249e+11 | P41: 1968 | Q41: 141.95791 | R41: 157.92042 | S41: 214.27616 | T41: 514.15449 | X41: 1968 | Y41: 149.01805 | Z41: 165.83946 | AA41: 223.86239 | AB41: =SUM(Y41,Z41,AA41) -> 538.7199 | AE41: 1968 | AF41: =Y41/AB41 -> 0.27661509 | AG41: =Z41/AB41 -> 0.30783986 | AH41: =AA41/AB41 -> 0.41554505
B42: 1969 | C42: 542.32563 | D42: =C42*$J$4 -> 5.4232563e+11 | E42: 540.34645 | F42: =E42*$J$4 -> 5.4034645e+11 | G42: =E42*$J$13 -> 407.42123 | H42: =G42*$J$4 -> 4.0742123e+11 | I42: =H42 -> 4.0742123e+11 | P42: 1969 | Q42: 149.41654 | R42: 166.3482 | S42: 224.58172 | T42: 540.34645 | X42: 1969 | Y42: 155.9274 | Z42: 175.5352 | AA42: 235.19988 | AB42: =SUM(Y42,Z42,AA42) -> 566.66247 | AE42: 1969 | AF42: =Y42/AB42 -> 0.27516803 | AG42: =Z42/AB42 -> 0.30977029 | AH42: =AA42/AB42 -> 0.41506168
B43: 1970 | C43: 571.2045 | D43: =C43*$J$4 -> 5.712045e+11 | E43: 568.89069 | F43: =E43*$J$4 -> 5.6889069e+11 | G43: =E43*$J$13 -> 428.94358 | H43: =G43*$J$4 -> 4.2894358e+11 | I43: =H43 -> 4.2894358e+11 | P43: 1970 | Q43: 156.47247 | R43: 176.23033 | S43: 236.18789 | T43: 568.89069 | X43: 1970 | Y43: 170.56998 | Z43: 190.55941 | AA43: 252.16637 | AB43: =SUM(Y43,Z43,AA43) -> 613.29576 | AE43: 1970 | AF43: =Y43/AB43 -> 0.27812026 | AG43: =Z43/AB43 -> 0.31071372 | AH43: =AA43/AB43 -> 0.41116602
... B88: 2015 | C88: 4096.349 | D88: =C88*$J$4 -> 4.096349e+12 | E88: 4118.5546 | F88: =E88*$J$4 -> 4.1185546e+12 | G88: =E88*$J$13 -> 3105.3901 | H88: =G88*$J$4 -> 3.1053901e+12 | I88: =H88 -> 3.1053901e+12 | P88: 2015 | Q88: 1509.4264 | R88: 1266.0096 | S88: 1343.1186 | T88: 4118.5546 | X88: 2015 | Y88: 1326.4818 | Z88: 1164.0607 | AA88: 1331.713 | AB88: =SUM(Y88,Z88,AA88) -> 3822.2555 | AE88: 2015 | AF88: =Y88/AB88 -> 0.34704163 | AG88: =Z88/AB88 -> 0.30454812 | AH88: =AA88/AB88 -> 0.34841025
B89: 2016 | C89: 3844.7658 | D89: =C89*$J$4 -> 3.8447658e+12 | E89: 4186.9984 | F89: =E89*$J$4 -> 4.1869984e+12 | G89: =E89*$J$13 -> 3156.9968 | H89: =G89*$J$4 -> 3.1569968e+12 | I89: =H89 -> 3.1569968e+12 | P89: 2016 | Q89: 1419.5126 | R89: 1283.1705 | S89: 1484.3153 | T89: 4186.9984 | AE89: 2016 | AF89: =Q89/T89 -> 0.33902868 | AG89: =R89/T89 -> 0.30646549 | AH89: =S89/T89 -> 0.35450582
B90: 2017 | C90: 3835.7729 | D90: =C90*$J$4 -> 3.8357729e+12 | E90: 4233.367 | F90: =E90*$J$4 -> 4.233367e+12 | G90: =E90*$J$13 -> 3191.9587 | H90: =G90*$J$4 -> 3.1919587e+12 | I90: =H90 -> 3.1919587e+12 | P90: 2017 | Q90: 1322.9905 | R90: 1286.1705 | S90: 1624.206 | T90: 4233.367 | AE90: 2017 | AF90: =Q90/T90 -> 0.31251495 | AG90: =R90/T90 -> 0.30381738 | AH90: =S90/T90 -> 0.38366767
B91: 2018 | C91: 3780.3796 | D91: =C91*$J$4 -> 3.7803796e+12 | E91: 4249.4182 | F91: =E91*$J$4 -> 4.2494182e+12 | G91: =E91*$J$13 -> 3204.0613 | H91: =G91*$J$4 -> 3.2040613e+12 | I91: =H91 -> 3.2040613e+12 | P91: 2018 | Q91: 1229.032 | R91: 1274.5974 | S91: 1745.7887 | T91: 4249.4182 | AE91: 2018 | AF91: =Q91/T91 -> 0.2892236 | AG91: =R91/T91 -> 0.29994634 | AH91: =S91/T91 -> 0.41083006
B92: 2019 | C92: 3663.1812 | D92: =C92*$J$4 -> 3.6631812e+12 | E92: 4220.2268 | F92: =E92*$J$4 -> 4.2202268e+12 | G92: =E92*$J$13 -> 3182.051 | H92: =G92*$J$4 -> 3.182051e+12 | I92: =H92 -> 3.182051e+12 | P92: 2019 | Q92: 1143.743 | R92: 1249.676 | S92: 1826.8078 | T92: 4220.2268 | AE92: 2019 | AF92: =Q92/T92 -> 0.27101458 | AG92: =R92/T92 -> 0.29611584 | AH92: =S92/T92 -> 0.43286958
B93: 2020 | C93: 3477.1476 | D93: =C93*$J$4 -> 3.4771476e+12 | E93: 4130.8407 | F93: =E93*$J$4 -> 4.1308407e+12 | G93: =E93*$J$13 -> 3114.6539 | H93: =G93*$J$4 -> 3.1146539e+12 | I93: =H93 -> 3.1146539e+12 | P93: 2020 | Q93: 1070.7174 | R93: 1214.4813 | S93: 1845.642 | T93: 4130.8407 | AE93: 2020 | AF93: =Q93/T93 -> 0.25920085 | AG93: =R93/T93 -> 0.29400343 | AH93: =S93/T93 -> 0.44679572
B94: 2021 | C94: 3233.7025 | D94: =C94*$J$4 -> 3.2337025e+12 | E94: 3974.7926 | F94: =E94*$J$4 -> 3.9747926e+12 | G94: =E94*$J$13 -> 2996.9936 | H94: =G94*$J$4 -> 2.9969936e+12 | I94: =H94 -> 2.9969936e+12 | P94: 2021 | Q94: 1011.0529 | R94: 1173.0563 | S94: 1790.6834 | T94: 3974.7926 | AE94: 2021 | AF94: =Q94/T94 -> 0.2543662 | AG94: =R94/T94 -> 0.29512389 | AH94: =S94/T94 -> 0.45050991
B95: 2022 | C95: 2962.3857 | D95: =C95*$J$4 -> 2.9623857e+12 | E95: 3764.1746 | F95: =E95*$J$4 -> 3.7641746e+12 | G95: =E95*$J$13 -> 2838.1876 | H95: =G95*$J$4 -> 2.8381876e+12 | I95: =H95 -> 2.8381876e+12 | P95: 2022 | Q95: 964.31671 | R95: 1130.087 | S95: 1669.7708 | T95: 3764.1746 | AE95: 2022 | AF95: =Q95/T95 -> 0.25618278 | AG95: =R95/T95 -> 0.30022173 | AH95: =S95/T95 -> 0.44359548
B96: 2023 | C96: 2701.6223 | D96: =C96*$J$4 -> 2.7016223e+12 | E96: 3528.9779 | F96: =E96*$J$4 -> 3.5289779e+12 | G96: =E96*$J$13 -> 2660.8493 | H96: =G96*$J$4 -> 2.6608493e+12 | I96: =H96 -> 2.6608493e+12 | P96: 2023 | Q96: 928.78276 | R96: 1089.8039 | S96: 1510.3912 | T96: 3528.9779 | AE96: 2023 | AF96: =Q96/T96 -> 0.26318747 | AG96: =R96/T96 -> 0.30881573 | AH96: =S96/T96 -> 0.4279968
B97: 2024 | C97: 2482.5441 | D97: =C97*$J$4 -> 2.4825441e+12 | E97: 3308.1347 | F97: =E97*$J$4 -> 3.3081347e+12 | G97: =E97*$J$13 -> 2494.3336 | H97: =G97*$J$4 -> 2.4943336e+12 | I97: =E97*($J$11+K17)*$J$4 -> 1.3431027e+12 | P97: 2024 | Q97: 902.82172 | R97: 1055.947 | S97: 1349.366 | T97: 3308.1347 | AE97: 2024 | AF97: =Q97/T97 -> 0.2729096 | AG97: =R97/T97 -> 0.31919709 | AH97: =S97/T97 -> 0.40789331
B98: 2025 | C98: 2243.7436 | D98: =C98*$J$4 -> 2.2437436e+12 | E98: 3132.5982 | F98: =E98*$J$4 -> 3.1325982e+12 | G98: =E98*$J$13 -> 2361.979 | H98: =G98*$J$4 -> 2.361979e+12 | I98: =E98*($J$11+K18)*$J$4 -> 1.2718349e+12 | P98: 2025 | Q98: 884.82922 | R98: 1030.7827 | S98: 1216.9863 | T98: 3132.5982 | AE98: 2025 | AF98: =Q98/T98 -> 0.28245858 | AG98: =R98/T98 -> 0.3290504 | AH98: =S98/T98 -> 0.38849102
B99: 2026 | C99: 2162.7591 | D99: =C99*$J$4 -> 2.1627591e+12 | E99: 2937.9343 | F99: =E99*$J$4 -> 2.9379343e+12 | G99: =E99*$J$13 -> 2215.2025 | H99: =G99*$J$4 -> 2.2152025e+12 | I99: =E99*($J$11+K19)*$J$4 -> 1.1928013e+12 | P99: 2026 | Q99: 831.16069 | R99: 979.08747 | S99: 1127.6862 | T99: 2937.9343 | AE99: 2026 | AF99: =Q99/T99 -> 0.28290649 | AG99: =R99/T99 -> 0.3332571 | AH99: =S99/T99 -> 0.38383641
B100: 2027 | C100: 2127.8275 | D100: =C100*$J$4 -> 2.1278275e+12 | E100: 2907.1872 | F100: =E100*$J$4 -> 2.9071872e+12 | G100: =E100*$J$13 -> 2192.0191 | H100: =G100*$J$4 -> 2.1920191e+12 | I100: =E100*($J$11+K20)*$J$4 -> 1.180318e+12 | P100: 2027 | Q100: 841.93103 | R100: 983.89762 | S100: 1081.3585 | T100: 2907.1872 | AE100: 2027 | AF100: =Q100/T100 -> 0.28960331 | AG100: =R100/T100 -> 0.33843628 | AH100: =S100/T100 -> 0.37196041
B101: 2028 | C101: 2125.9179 | D101: =C101*$J$4 -> 2.1259179e+12 | E101: 2927.4129 | F101: =E101*$J$4 -> 2.9274129e+12 | G101: =E101*$J$13 -> 2207.2693 | H101: =G101*$J$4 -> 2.2072693e+12 | I101: =E101*($J$11+K21)*$J$4 -> 1.1885296e+12 | P101: 2028 | Q101: 860.0555 | R101: 997.57318 | S101: 1069.7843 | T101: 2927.4129 | AE101: 2028 | AF101: =Q101/T101 -> 0.29379371 | AG101: =R101/T101 -> 0.34076955 | AH101: =S101/T101 -> 0.36543674
B102: 2029 | C102: 2145.6262 | D102: =C102*$J$4 -> 2.1456262e+12 | E102: 2985.8959 | F102: =E102*$J$4 -> 2.9858959e+12 | G102: =E102*$J$13 -> 2251.3655 | H102: =G102*$J$4 -> 2.2513655e+12 | I102: =E102*($J$11+K22)*$J$4 -> 1.2122737e+12 | P102: 2029 | Q102: 884.69144 | R102: 1019.2894 | S102: 1081.9151 | T102: 2985.8959 | AE102: 2029 | AF102: =Q102/T102 -> 0.29629011 | AG102: =R102/T102 -> 0.34136803 | AH102: =S102/T102 -> 0.36234186
B103: 2030 | C103: 2142.4714 | D103: =C103*$J$4 -> 2.1424714e+12 | E103: 3071.4431 | F103: =E103*$J$4 -> 3.0714431e+12 | G103: =E103*$J$13 -> 2315.8681 | H103: =G103*$J$4 -> 2.3158681e+12 | I103: =E103*($J$11+K23)*$J$4 -> 1.2470059e+12 | P103: 2030 | Q103: 915.07046 | R103: 1047.9819 | S103: 1108.3908 | T103: 3071.4431 | AE103: 2030 | AF103: =Q103/T103 -> 0.29792851 | AG103: =R103/T103 -> 0.34120179 | AH103: =S103/T103 -> 0.3608697
B104: 2031 | C104: 2203.0543 | D104: =C104*$J$4 -> 2.2030543e+12 | E104: 3140.6616 | F104: =E104*$J$4 -> 3.1406616e+12 | G104: =E104*$J$13 -> 2368.0588 | H104: =G104*$J$4 -> 2.3680588e+12 | I104: =E104*($J$11+K24)*$J$4 -> 1.2751086e+12 | P104: 2031 | Q104: 929.1813 | R104: 1070.1101 | S104: 1141.3702 | T104: 3140.6616 | AE104: 2031 | AF104: =Q104/T104 -> 0.29585528 | AG104: =R104/T104 -> 0.34072761 | AH104: =S104/T104 -> 0.36341712
B105: 2032 | C105: 2265.873 | D105: =C105*$J$4 -> 2.265873e+12 | E105: 3271.2169 | F105: =E105*$J$4 -> 3.2712169e+12 | G105: =E105*$J$13 -> 2466.4975 | H105: =G105*$J$4 -> 2.4664975e+12 | I105: =E105*($J$11+K25)*$J$4 -> 1.3281141e+12 | P105: 2032 | Q105: 974.47353 | R105: 1114.5931 | S105: 1182.1502 | T105: 3271.2169 | AE105: 2032 | AF105: =Q105/T105 -> 0.29789328 | AG105: =R105/T105 -> 0.34072737 | AH105: =S105/T105 -> 0.36137934
B106: 2033 | C106: 2328.8467 | D106: =C106*$J$4 -> 2.3288467e+12 | E106: 3408.4142 | F106: =E106*$J$4 -> 3.4084142e+12 | G106: =E106*$J$13 -> 2569.9443 | H106: =G106*$J$4 -> 2.5699443e+12 | I106: =E106*($J$11+K26)*$J$4 -> 1.3838162e+12 | P106: 2033 | Q106: 1022.1884 | R106: 1160.8983 | S106: 1225.3275 | T106: 3408.4142 | AE106: 2033 | AF106: =Q106/T106 -> 0.29990145 | AG106: =R106/T106 -> 0.34059777 | AH106: =S106/T106 -> 0.35950077
B107: 2034 | C107: 2392.0226 | D107: =C107*$J$4 -> 2.3920226e+12 | E107: 3552.0727 | F107: =E107*$J$4 -> 3.5520727e+12 | G107: =E107*$J$13 -> 2678.2628 | H107: =G107*$J$4 -> 2.6782628e+12 | I107: =E107*($J$11+K27)*$J$4 -> 1.4421415e+12 | P107: 2034 | Q107: 1072.1045 | R107: 1208.8078 | S107: 1271.1604 | T107: 3552.0727 | AE107: 2034 | AF107: =Q107/T107 -> 0.30182504 | AG107: =R107/T107 -> 0.34031055 | AH107: =S107/T107 -> 0.35786441
B108: 2035 | C108: 2455.6129 | D108: =C108*$J$4 -> 2.4556129e+12 | E108: 3701.739 | F108: =E108*$J$4 -> 3.701739e+12 | G108: =E108*$J$13 -> 2791.1112 | H108: =G108*$J$4 -> 2.7911112e+12 | I108: =E108*($J$11+K28)*$J$4 -> 1.502906e+12 | P108: 2035 | Q108: 1123.8964 | R108: 1258 | S108: 1319.8425 | T108: 3701.739 | AE108: 2035 | AF108: =Q108/T108 -> 0.30361309 | AG108: =R108/T108 -> 0.33984029 | AH108: =S108/T108 -> 0.35654661
... B173: 2100 | C173: 2297.3389 | D173: =C173*$J$4 -> 2.2973389e+12 | E173: 5700.3876 | F173: =E173*$J$4 -> 5.7003876e+12 | G173: =E173*$J$13 -> 4298.0922 | H173: =G173*$J$4 -> 4.2980922e+12 | I173: =E173*($J$11+K93)*$J$4 -> 2.3143574e+12 | P173: 2100 | Q173: 1817.672 | R173: 1799.8295 | S173: 2082.8861 | T173: 5700.3876 | AE173: 2100 | AF173: =Q173/T173 -> 0.31886814 | AG173: =R173/T173 -> 0.31573809 | AH173: =S173/T173 -> 0.36539378

Sheet SDS4
B1: Historic cement production in 21 countries
B3: Country | C3: 2001 | E3: 2002 | G3: 2003 | I3: 2004 | K3: 2005 | M3: 2006 | O3: 2007 | Q3: 2008 | S3: 2009 | U3: 2010 | W3: 2011 | Y3: 2012 | AA3: 2013 | AC3: 2014 | AE3: 2015 | AG3: 2016 | AI3: 2017 | AK3: 2018
C4: Production, ktons | D4: % total prod | E4: Production, ktons | F4: % total prod | G4: Production, ktons | H4: % total prod | I4: Production, ktons | J4: % total prod | K4: Production, ktons | L4: % total prod | M4: Production, ktons | N4: % total prod | O4: Production, ktons | P4: % total prod | Q4: Production, ktons | R4: % total prod | S4: Production, ktons | T4: % total prod | U4: Production, ktons | V4: % total prod | W4: Production, ktons | X4: % total prod | Y4: Production, ktons | Z4: % total prod | AA4: Production, ktons | AB4: % total prod | AC4: Production, ktons | AD4: % total prod | AE4: Production, ktons | AF4: % total prod | AG4: Production, ktons | AH4: % total prod | AI4: Production, ktons | AJ4: % total prod | AK4: Production, ktons | AL4: % total prod
B5: Austria | C5: 3802 | D5: =C5/SUM($C$5:$C$26) -> 0.0087050495 | E5: 3918 | F5: =E5/SUM($E$5:$E$26) -> 0.0089760478 | G5: 3886 | H5: =G5/SUM($G$5:$G$26) -> 0.0086732519 | I5: 3976 | J5: =I5/SUM($I$5:$I$26) -> 0.0085373069 | K5: 4736 | L5: =K5/SUM($K$5:$K$26) -> 0.0098949838 | M5: 4700 | N5: =M5/SUM($M$5:$M$26) -> 0.0092495004 | O5: 5202.5 | P5: =O5/SUM($O$5:$O$26) -> 0.010010348 | Q5: 5309.2 | R5: =Q5/SUM($Q$5:$Q$26) -> 0.011204036 | S5: 4646 | T5: =S5/SUM($S$5:$S$26) -> 0.011573733 | U5: 4254 | V5: =U5/SUM($U$5:$U$26) -> 0.01038598 | W5: 4427 | X5: =W5/SUM($W$5:$W$26) -> 0.010623976 | Y5: 4455 | Z5: =Y5/SUM($Y$5:$Y$26) -> 0.010849236 | AA5: 4385 | AB5: =AA5/SUM($AA$5:$AA$26) -> 0.010346276 | AC5: 4400 | AD5: =AC5/SUM($AC$5:$AC$26) -> 0.010147367 | AE5: 4700 | AF5: =AE5/SUM($AE$5:$AE$26) -> 0.01101621 | AG5: 4800 | AH5: =AG5/SUM($AG$5:$AG$26) -> 0.011328797 | AI5: 4900 | AJ5: =AI5/SUM($AI$5:$AI$26) -> 0.011277226 | AK5: 5200 | AL5: =AK5/SUM($AK$5:$AK$26) -> 0.012140853
B6: Belgium | C6: 7157 | D6: =C6/SUM($C$5:$C$26) -> 0.016386649 | E6: 6980 | F6: =E6/SUM($E$5:$E$26) -> 0.015991019 | G6: 6550 | H6: =G6/SUM($G$5:$G$26) -> 0.014619094 | I6: 6715 | J6: =I6/SUM($I$5:$I$26) -> 0.014418515 | K6: 7594 | L6: =K6/SUM($K$5:$K$26) -> 0.015866239 | M6: 8192 | N6: =M6/SUM($M$5:$M$26) -> 0.016121682 | O6: 9570.99 | P6: =O6/SUM($O$5:$O$26) -> 0.018415943 | Q6: 6225.144 | R6: =Q6/SUM($Q$5:$Q$26) -> 0.013136958 | S6: 9403.423 | T6: =S6/SUM($S$5:$S$26) -> 0.023425034 | U6: 8722.477 | V6: =U6/SUM($U$5:$U$26) -> 0.021295597 | W6: 6954 | X6: =W6/SUM($W$5:$W$26) -> 0.016688305 | Y6: 6280 | Z6: =Y6/SUM($Y$5:$Y$26) -> 0.015293648 | AA6: 6119 | AB6: =AA6/SUM($AA$5:$AA$26) -> 0.014437597 | AC6: 6364 | AD6: =AC6/SUM($AC$5:$AC$26) -> 0.014676783 | AE6: 6275 | AF6: =AE6/SUM($AE$5:$AE$26) -> 0.014707813 | AG6: 6255 | AH6: =AG6/SUM($AG$5:$AG$26) -> 0.014762839 | AI6: 6513 | AJ6: =AI6/SUM($AI$5:$AI$26) -> 0.014989505 | AK6: 6737 | AL6: =AK6/SUM($AK$5:$AK$26) -> 0.015729408
B7: Czech Republic | C7: 3550 | D7: =C7/SUM($C$5:$C$26) -> 0.0081280709 | E7: 3217 | F7: =E7/SUM($E$5:$E$26) -> 0.007370073 | G7: 3502 | H7: =G7/SUM($G$5:$G$26) -> 0.0078161936 | I7: 3828.677 | J7: =I7/SUM($I$5:$I$26) -> 0.0082209735 | K7: 3978.056 | L7: =K7/SUM($K$5:$K$26) -> 0.008311402 | M7: 4239 | N7: =M7/SUM($M$5:$M$26) -> 0.0083422622 | O7: 4898.53 | P7: =O7/SUM($O$5:$O$26) -> 0.0094254669 | Q7: 4710 | R7: =Q7/SUM($Q$5:$Q$26) -> 0.0099395404 | S7: 3637 | T7: =S7/SUM($S$5:$S$26) -> 0.0090601954 | U7: 3345 | V7: =U7/SUM($U$5:$U$26) -> 0.0081666908 | W7: 3831 | X7: =W7/SUM($W$5:$W$26) -> 0.0091936866 | Y7: 3434 | Z7: =Y7/SUM($Y$5:$Y$26) -> 0.0083628004 | AA7: 3211 | AB7: =AA7/SUM($AA$5:$AA$26) -> 0.0075762581 | AC7: 3511 | AD7: =AC7/SUM($AC$5:$AC$26) -> 0.008097138 | AE7: 3781 | AF7: =AE7/SUM($AE$5:$AE$26) -> 0.0088621896 | AG7: 3937 | AH7: =AG7/SUM($AG$5:$AG$26) -> 0.0092919738 | AI7: 4043 | AJ7: =AI7/SUM($AI$5:$AI$26) -> 0.0093048626 | AK7: 4428 | AL7: =AK7/SUM($AK$5:$AK$26) -> 0.010338403
B8: Denmark | C8: 2047 | D8: =C8/SUM($C$5:$C$26) -> 0.004686806 | E8: 2028 | F8: =E8/SUM($E$5:$E$26) -> 0.0046461013 | G8: 1953 | H8: =G8/SUM($G$5:$G$26) -> 0.0043589452 | I8: 2150 | J8: =I8/SUM($I$5:$I$26) -> 0.0046165015 | K8: 2120 | L8: =K8/SUM($K$5:$K$26) -> 0.0044293424 | M8: 2115 | N8: =M8/SUM($M$5:$M$26) -> 0.0041622752 | O8: 2871 | P8: =O8/SUM($O$5:$O$26) -> 0.0055242115 | Q8: 2539 | R8: =Q8/SUM($Q$5:$Q$26) -> 0.0053580665 | S8: 1578 | T8: =S8/SUM($S$5:$S$26) -> 0.0039309839 | U8: 2000 | V8: =U8/SUM($U$5:$U$26) -> 0.0048829243 | W8: 1811 | X8: =W8/SUM($W$5:$W$26) -> 0.0043460627 | Y8: 1798 | Z8: =Y8/SUM($Y$5:$Y$26) -> 0.004378659 | AA8: 1830 | AB8: =AA8/SUM($AA$5:$AA$26) -> 0.00431783 | AC8: 1876 | AD8: =AC8/SUM($AC$5:$AC$26) -> 0.0043264685 | AE8: 3047 | AF8: =AE8/SUM($AE$5:$AE$26) -> 0.0071417857 | AG8: 3404 | AH8: =AG8/SUM($AG$5:$AG$26) -> 0.0080340053 | AI8: 3554 | AJ8: =AI8/SUM($AI$5:$AI$26) -> 0.0081794414 | AK8: 3343 | AL8: =AK8/SUM($AK$5:$AK$26) -> 0.0078051673
B9: Finland | C9: 1325 | D9: =C9/SUM($C$5:$C$26) -> 0.0030337166 | E9: 1198 | F9: =E9/SUM($E$5:$E$26) -> 0.0027445904 | G9: 1492.896 | H9: =G9/SUM($G$5:$G$26) -> 0.0033320286 | I9: 1295 | J9: =I9/SUM($I$5:$I$26) -> 0.0027806369 | K9: 1357 | L9: =K9/SUM($K$5:$K$26) -> 0.002835197 | M9: 1684.507 | N9: =M9/SUM($M$5:$M$26) -> 0.0033150741 | O9: 1742.534 | P9: =O9/SUM($O$5:$O$26) -> 0.0033528827 | Q9: 1745 | R9: =Q9/SUM($Q$5:$Q$26) -> 0.0036824837 | S9: 1052.226 | T9: =S9/SUM($S$5:$S$26) -> 0.0026212189 | U9: 1050 | V9: =U9/SUM($U$5:$U$26) -> 0.0025635352 | W9: 1387 | X9: =W9/SUM($W$5:$W$26) -> 0.0033285417 | Y9: 1293 | Z9: =Y9/SUM($Y$5:$Y$26) -> 0.0031488354 | AA9: 1300 | AB9: =AA9/SUM($AA$5:$AA$26) -> 0.003067311 | AC9: 1250 | AD9: =AC9/SUM($AC$5:$AC$26) -> 0.0028827748 | AE9: 1300 | AF9: =AE9/SUM($AE$5:$AE$26) -> 0.0030470369 | AG9: 1300 | AH9: =AG9/SUM($AG$5:$AG$26) -> 0.0030682159 | AI9: 1300 | AJ9: =AI9/SUM($AI$5:$AI$26) -> 0.0029919172 | AK9: 1300 | AL9: =AK9/SUM($AK$5:$AK$26) -> 0.0030352131
B10: France | C10: 19839 | D10: =C10/SUM($C$5:$C$26) -> 0.045423324 | E10: 19437 | F10: =E10/SUM($E$5:$E$26) -> 0.04452972 | G10: 19655 | H10: =G10/SUM($G$5:$G$26) -> 0.043868442 | I10: 20962 | J10: =I10/SUM($I$5:$I$26) -> 0.045009816 | K10: 21277 | L10: =K10/SUM($K$5:$K$26) -> 0.044454301 | M10: 22540 | N10: =M10/SUM($M$5:$M$26) -> 0.044358242 | O10: 22300 | P10: =O10/SUM($O$5:$O$26) -> 0.042908365 | Q10: 21443 | R10: =Q10/SUM($Q$5:$Q$26) -> 0.045251288 | S10: 18300 | T10: =S10/SUM($S$5:$S$26) -> 0.045587456 | U10: 17998 | V10: =U10/SUM($U$5:$U$26) -> 0.043941435 | W10: 19270 | X10: =W10/SUM($W$5:$W$26) -> 0.046244411 | Y10: 17810 | Z10: =Y10/SUM($Y$5:$Y$26) -> 0.04337259 | AA10: 18018 | AB10: =AA10/SUM($AA$5:$AA$26) -> 0.04251293 | AC10: 16400 | AD10: =AC10/SUM($AC$5:$AC$26) -> 0.037822006 | AE10: 15600 | AF10: =AE10/SUM($AE$5:$AE$26) -> 0.036564442 | AG10: 15900 | AH10: =AG10/SUM($AG$5:$AG$26) -> 0.03752664 | AI10: 16900 | AJ10: =AI10/SUM($AI$5:$AI$26) -> 0.038894924 | AK10: 16500 | AL10: =AK10/SUM($AK$5:$AK$26) -> 0.038523859
B11: Germany | C11: 32118 | D11: =C11/SUM($C$5:$C$26) -> 0.073537291 | E11: 31009 | F11: =E11/SUM($E$5:$E$26) -> 0.071040905 | G11: 32749 | H11: =G11/SUM($G$5:$G$26) -> 0.073093239 | I11: 31854 | J11: =I11/SUM($I$5:$I$26) -> 0.068397227 | K11: 31009 | L11: =K11/SUM($K$5:$K$26) -> 0.06478749 | M11: 33630 | N11: =M11/SUM($M$5:$M$26) -> 0.066183127 | O11: 33382 | P11: =O11/SUM($O$5:$O$26) -> 0.064231706 | Q11: 33581 | R11: =Q11/SUM($Q$5:$Q$26) -> 0.07086618 | S11: 30441 | T11: =S11/SUM($S$5:$S$26) -> 0.075832117 | U11: 29915 | V11: =U11/SUM($U$5:$U$26) -> 0.07303634 | W11: 32779 | X11: =W11/SUM($W$5:$W$26) -> 0.078663496 | Y11: 32432 | Z11: =Y11/SUM($Y$5:$Y$26) -> 0.078981463 | AA11: 31308 | AB11: =AA11/SUM($AA$5:$AA$26) -> 0.073870286 | AC11: 32099 | AD11: =AC11/SUM($AC$5:$AC$26) -> 0.074027352 | AE11: 31150 | AF11: =AE11/SUM($AE$5:$AE$26) -> 0.073011691 | AG11: 32737 | AH11: =AG11/SUM($AG$5:$AG$26) -> 0.077264756 | AI11: 33991 | AJ11: =AI11/SUM($AI$5:$AI$26) -> 0.078229429 | AK11: 33633 | AL11: =AK11/SUM($AK$5:$AK$26) -> 0.078525634
B12: Ireland | C12: 3450 | D12: =C12/SUM($C$5:$C$26) -> 0.0078991112 | E12: 3320 | F12: =E12/SUM($E$5:$E$26) -> 0.0076060436 | G12: 3830 | H12: =G12/SUM($G$5:$G$26) -> 0.0085482642 | I12: 5000 | J12: =I12/SUM($I$5:$I$26) -> 0.01073605 | K12: 5083 | L12: =K12/SUM($K$5:$K$26) -> 0.010619975 | M12: 4981 | N12: =M12/SUM($M$5:$M$26) -> 0.0098025025 | O12: 4700 | P12: =O12/SUM($O$5:$O$26) -> 0.009043467 | Q12: 3900 | R12: =Q12/SUM($Q$5:$Q$26) -> 0.0082301927 | S12: 2600 | T12: =S12/SUM($S$5:$S$26) -> 0.0064769063 | U12: 2600 | V12: =U12/SUM($U$5:$U$26) -> 0.0063478015 | W12: 2103 | X12: =W12/SUM($W$5:$W$26) -> 0.0050468084 | Y12: 1198 | Z12: =Y12/SUM($Y$5:$Y$26) -> 0.0029174825 | AA12: 2000 | AB12: =AA12/SUM($AA$5:$AA$26) -> 0.0047189399 | AC12: 2000 | AD12: =AC12/SUM($AC$5:$AC$26) -> 0.0046124398 | AE12: 2980 | AF12: =AE12/SUM($AE$5:$AE$26) -> 0.0069847461 | AG12: 3100 | AH12: =AG12/SUM($AG$5:$AG$26) -> 0.0073165148 | AI12: 3200 | AJ12: =AI12/SUM($AI$5:$AI$26) -> 0.0073647193 | AK12: 3290 | AL12: =AK12/SUM($AK$5:$AK$26) -> 0.007681424
B13: Israel | C13: 4700 | D13: =C13/SUM($C$5:$C$26) -> 0.010761108 | E13: 4584 | F13: =E13/SUM($E$5:$E$26) -> 0.010501839 | G13: 4632 | H13: =G13/SUM($G$5:$G$26) -> 0.010338266 | I13: 4494 | J13: =I13/SUM($I$5:$I$26) -> 0.0096495617 | K13: 5092.839 | L13: =K13/SUM($K$5:$K$26) -> 0.010640532 | M13: 5088.88 | N13: =M13/SUM($M$5:$M$26) -> 0.010014808 | O13: 5000 | P13: =O13/SUM($O$5:$O$26) -> 0.0096207096 | Q13: 4818.5 | R13: =Q13/SUM($Q$5:$Q$26) -> 0.010168509 | S13: 4759 | T13: =S13/SUM($S$5:$S$26) -> 0.01185523 | U13: 5139 | V13: =U13/SUM($U$5:$U$26) -> 0.012546674 | W13: 5480 | X13: =W13/SUM($W$5:$W$26) -> 0.013150979 | Y13: 5892 | Z13: =Y13/SUM($Y$5:$Y$26) -> 0.014348754 | AA13: 6398 | AB13: =AA13/SUM($AA$5:$AA$26) -> 0.015095889 | AC13: 6603 | AD13: =AC13/SUM($AC$5:$AC$26) -> 0.01522797 | AE13: 6904 | AF13: =AE13/SUM($AE$5:$AE$26) -> 0.01618211 | AG13: 7150 | AH13: =AG13/SUM($AG$5:$AG$26) -> 0.016875187 | AI13: 6361 | AJ13: =AI13/SUM($AI$5:$AI$26) -> 0.014639681 | AK13: 5858 | AL13: =AK13/SUM($AK$5:$AK$26) -> 0.013677137
B14: Italy | C14: 39804 | D14: =C14/SUM($C$5:$C$26) -> 0.091135137 | E14: 41416 | F14: =E14/SUM($E$5:$E$26) -> 0.094883103 | G14: 43580 | H14: =G14/SUM($G$5:$G$26) -> 0.097267194 | I14: 45343 | J14: =I14/SUM($I$5:$I$26) -> 0.097360943 | K14: 40284 | L14: =K14/SUM($K$5:$K$26) -> 0.084165863 | M14: 47814 | N14: =M14/SUM($M$5:$M$26) -> 0.094096939 | O14: 47541.637 | P14: =O14/SUM($O$5:$O$26) -> 0.091476857 | Q14: 43029.921 | R14: =Q14/SUM($Q$5:$Q$26) -> 0.090806293 | S14: 36317 | T14: =S14/SUM($S$5:$S$26) -> 0.090469925 | U14: 34408 | V14: =U14/SUM($U$5:$U$26) -> 0.084005829 | W14: 33120 | X14: =W14/SUM($W$5:$W$26) -> 0.079481832 | Y14: 26240 | Z14: =Y14/SUM($Y$5:$Y$26) -> 0.063902121 | AA14: 23100 | AB14: =AA14/SUM($AA$5:$AA$26) -> 0.054503756 | AC14: 21400 | AD14: =AC14/SUM($AC$5:$AC$26) -> 0.049353105 | AE14: 20800 | AF14: =AE14/SUM($AE$5:$AE$26) -> 0.04875259 | AG14: 19300 | AH14: =AG14/SUM($AG$5:$AG$26) -> 0.045551205 | AI14: 19300 | AJ14: =AI14/SUM($AI$5:$AI$26) -> 0.044418463 | AK14: 19300 | AL14: =AK14/SUM($AK$5:$AK$26) -> 0.045061241
B15: Japan | C15: 76550 | D15: =C15/SUM($C$5:$C$26) -> 0.17526868 | E15: 71828 | F15: =E15/SUM($E$5:$E$26) -> 0.1645563 | G15: 68766 | H15: =G15/SUM($G$5:$G$26) -> 0.1534804 | I15: 67376 | J15: =I15/SUM($I$5:$I$26) -> 0.14467042 | K15: 69629 | L15: =K15/SUM($K$5:$K$26) -> 0.14547674 | M15: 69942 | N15: =M15/SUM($M$5:$M$26) -> 0.13764437 | O15: 67685 | P15: =O15/SUM($O$5:$O$26) -> 0.13023555 | Q15: 62810 | R15: =Q15/SUM($Q$5:$Q$26) -> 0.13254831 | S15: 54800 | T15: =S15/SUM($S$5:$S$26) -> 0.13651326 | U15: 51526 | V15: =U15/SUM($U$5:$U$26) -> 0.12579878 | W15: 51291 | X15: =W15/SUM($W$5:$W$26) -> 0.12308885 | Y15: 54737 | Z15: =Y15/SUM($Y$5:$Y$26) -> 0.1333007 | AA15: 57962 | AB15: =AA15/SUM($AA$5:$AA$26) -> 0.1367596 | AC15: 57913 | AD15: =AC15/SUM($AC$5:$AC$26) -> 0.13356011 | AE15: 54827 | AF15: =AE15/SUM($AE$5:$AE$26) -> 0.12850761 | AG15: 53255 | AH15: =AG15/SUM($AG$5:$AG$26) -> 0.12569064 | AI15: 55195 | AJ15: =AI15/SUM($AI$5:$AI$26) -> 0.1270299 | AK15: 55307 | AL15: =AK15/SUM($AK$5:$AK$26) -> 0.12912964
B16: Netherlands | C16: 3380 | D16: =C16/SUM($C$5:$C$26) -> 0.0077388394 | E16: 3085 | F16: =E16/SUM($E$5:$E$26) -> 0.007067664 | G16: 2450 | H16: =G16/SUM($G$5:$G$26) -> 0.0054682108 | I16: 2380 | J16: =I16/SUM($I$5:$I$26) -> 0.0051103598 | K16: 2496 | L16: =K16/SUM($K$5:$K$26) -> 0.0052149239 | M16: 2790 | N16: =M16/SUM($M$5:$M$26) -> 0.0054906609 | O16: 2700 | P16: =O16/SUM($O$5:$O$26) -> 0.0051951832 | Q16: 2700 | R16: =Q16/SUM($Q$5:$Q$26) -> 0.0056978257 | S16: 2700 | T16: =S16/SUM($S$5:$S$26) -> 0.0067260181 | U16: 2700 | V16: =U16/SUM($U$5:$U$26) -> 0.0065919478 | W16: 2318 | X16: =W16/SUM($W$5:$W$26) -> 0.0055627683 | Y16: 2056 | Z16: =Y16/SUM($Y$5:$Y$26) -> 0.0050069649 | AA16: 2000 | AB16: =AA16/SUM($AA$5:$AA$26) -> 0.0047189399 | AC16: 2000 | AD16: =AC16/SUM($AC$5:$AC$26) -> 0.0046124398 | AE16: 2260 | AF16: =AE16/SUM($AE$5:$AE$26) -> 0.0052971564 | AG16: 2930 | AH16: =AG16/SUM($AG$5:$AG$26) -> 0.0069152866 | AI16: 2030 | AJ16: =AI16/SUM($AI$5:$AI$26) -> 0.0046719938 | AK16: 2390 | AL16: =AK16/SUM($AK$5:$AK$26) -> 0.0055801226
... B26: USA | C26: 90450 | D26: =C26/SUM($C$5:$C$26) -> 0.20709409 | E26: 91266 | F26: =E26/SUM($E$5:$E$26) -> 0.20908831 | G26: 94328.695 | H26: =G26/SUM($G$5:$G$26) -> 0.21053436 | I26: 99014.588 | J26: =I26/SUM($I$5:$I$26) -> 0.21260511 | K26: 100902.71 | L26: =K26/SUM($K$5:$K$26) -> 0.21081729 | M26: 99712.374 | N26: =M26/SUM($M$5:$M$26) -> 0.19623184 | O26: 96849.651 | P26: =O26/SUM($O$5:$O$26) -> 0.18635247 | Q26: 87610.421 | R26: =Q26/SUM($Q$5:$Q$26) -> 0.18488478 | S26: 64842.794 | T26: =S26/SUM($S$5:$S$26) -> 0.16153104 | U26: 67202.346 | V26: =U26/SUM($U$5:$U$26) -> 0.16407198 | W26: 68639 | X26: =W26/SUM($W$5:$W$26) -> 0.16472082 | Y26: 74934 | Z26: =Y26/SUM($Y$5:$Y$26) -> 0.18248634 | AA26: 77415 | AB26: =AA26/SUM($AA$5:$AA$26) -> 0.18265837 | AC26: 83124 | AD26: =AC26/SUM($AC$5:$AC$26) -> 0.19170222 | AE26: 84940 | AF26: =AE26/SUM($AE$5:$AE$26) -> 0.1990887 | AG26: 85153 | AH26: =AG26/SUM($AG$5:$AG$26) -> 0.20097522 | AI26: 86799 | AJ26: =AI26/SUM($AI$5:$AI$26) -> 0.19976571 | AK26: 88021 | AL26: =AK26/SUM($AK$5:$AK$26) -> 0.20550961
B27: https://www.usgs.gov/centers/nmic/cement-statistics-and-information

Sheet SDS5
B1: Historic average cement content in 21 countries
B3: Country | C3: Average cement content (kg/m3) | U3: Average
C4: 2001 | D4: 2002 | E4: 2003 | F4: 2004 | G4: 2005 | H4: 2006 | I4: 2007 | J4: 2008 | K4: 2009 | L4: 2010 | M4: 2011 | N4: 2012 | O4: 2013 | P4: 2014 | Q4: 2015 | R4: 2016 | S4: 2017 | T4: 2018
B5: Austria | C5: 260 | D5: 260 | E5: 260 | F5: 260 | G5: 270 | H5: 250 | I5: 260 | J5: 265 | K5: 265 | L5: 260 | M5: 260 | N5: 260 | O5: 260 | P5: 260 | Q5: 260 | R5: 260 | S5: 260 | T5: 260
B6: Belgium | C6: 275 | D6: 275 | E6: 274 | F6: 274 | G6: 275 | H6: 260 | I6: 260 | J6: 260 | K6: 260 | L6: 260 | M6: 260 | N6: 270 | O6: 275 | P6: 285 | Q6: 285 | R6: 280 | S6: 280 | T6: 280
B7: Czech Republic | C7: 297 | D7: 297 | E7: 297 | F7: 297 | G7: 297 | H7: 297 | I7: 284 | J7: 289 | K7: 278 | L7: 276 | M7: 275 | N7: 272 | O7: 269 | P7: 271 | Q7: 259 | R7: 272 | S7: 272 | T7: 298
B8: Denmark | C8: 230 | D8: 230 | E8: 230 | F8: 230 | G8: 230 | H8: 230 | I8: 230 | J8: 250 | K8: 250 | L8: 255 | M8: 280 | N8: 282 | O8: 275 | P8: 275 | Q8: 260 | R8: 260 | S8: 260 | T8: 260
B9: Finland | C9: 350 | D9: 350 | E9: 350 | F9: 360 | G9: 320 | H9: 340 | I9: 340 | J9: 345 | K9: 345 | L9: 345 | M9: 345 | N9: 345 | O9: 345 | P9: 345 | Q9: 345 | R9: 345 | S9: 350 | T9: 350
B10: France | C10: 284 | D10: 284 | E10: 280 | F10: 280 | G10: 291 | H10: 293 | I10: 293 | J10: 298 | K10: 299 | L10: 298 | M10: 294 | N10: 298 | O10: 290 | P10: 291 | Q10: 298 | R10: 298 | S10: 297 | T10: 297
B11: Germany | C11: 285 | D11: 285 | E11: 285 | F11: 290 | G11: 300 | H11: 300 | I11: 298 | J11: 299 | K11: 300 | L11: 296 | M11: 296 | N11: 298 | O11: 296 | P11: 294 | Q11: 293 | R11: 298 | S11: 301 | T11: 305
B12: Ireland | C12: 300 | D12: 300 | E12: 290 | F12: 300 | G12: 300 | H12: 300 | I12: 300 | J12: 330 | K12: 330 | L12: 330 | M12: 320 | N12: 260 | O12: 260 | P12: 260 | Q12: 260 | R12: 255 | S12: 260 | T12: 260
B13: Israel | C13: 280 | D13: 280 | E13: 280 | F13: 285 | G13: 275 | H13: 275 | I13: 285 | J13: 280 | K13: 280 | L13: 278 | M13: 280 | N13: 280 | O13: 280 | P13: 280 | Q13: 280 | R13: 280 | S13: 280 | T13: 285
B14: Italy | C14: 265 | D14: 265 | E14: 265 | F14: 265 | G14: 265 | H14: 265 | I14: 265 | J14: 290 | K14: 315 | L14: 305 | M14: 310 | N14: 310 | O14: 305 | P14: 310 | Q14: 320 | R14: 320 | S14: 320 | T14: 320
B15: Japan | C15: 349 | D15: 349 | E15: 349 | F15: 349 | G15: 349 | H15: 349 | I15: 349 | J15: 349 | K15: 349 | L15: 349 | M15: 349 | N15: 339 | O15: 343 | P15: 343 | Q15: 343 | R15: 351 | S15: 351 | T15: 348
B16: Netherlands | C16: 312 | D16: 312 | E16: 312 | F16: 312 | G16: 312 | H16: 312 | I16: 306 | J16: 316 | K16: 313 | L16: 305 | M16: 303 | N16: 303 | O16: 301 | P16: 313 | Q16: 313 | R16: 313 | S16: 315 | T16: 315
... B25: United Kingdom | C25: 280 | D25: 280 | E25: 305 | F25: 305 | G25: 305 | H25: 310 | I25: 230 | J25: 220 | K25: 220 | L25: 250 | M25: 250 | N25: 250 | O25: 250 | P25: 260 | Q25: 260 | R25: 260 | S25: 262 | T25: 278
B26: USA | C26: 300 | D26: 300 | E26: 300 | F26: 300 | G26: 270 | H26: 270 | I26: 270 | J26: 270 | K26: 270 | L26: 270 | M26: 270 | N26: 270 | O26: 270 | P26: 270 | Q26: 270 | R26: 270 | S26: 270 | T26: 270 | U26: =AVERAGE(C26:T26) -> 276.66667
B27: ERMCO (European Ready Mixed Concrete Organization) Ready-Mixed Concrete Industry Statistics 2001-2018, Available at (http://www.ermco.eu).
B28: World (avg weighted by production per country) | C28: {=SUM(C5:C26*'SDS4'!D5:D26)} -> 304.53256 | D28: {=SUM(D5:D26*'SDS4'!F5:F26)} -> 303.82598 | E28: {=SUM(E5:E26*'SDS4'!H5:H26)} -> 303.65517 | F28: {=SUM(F5:F26*'SDS4'!J5:J26)} -> 300.66629 | G28: {=SUM(G5:G26*'SDS4'!L5:L26)} -> 298.63332 | H28: {=SUM(H5:H26*'SDS4'!N5:N26)} -> 296.69396 | I28: {=SUM(I5:I26*'SDS4'!P5:P26)} -> 300.54829 | J28: {=SUM(J5:J26*'SDS4'!R5:R26)} -> 300.73014 | K28: {=SUM(K5:K26*'SDS4'!T5:T26)} -> 302.15971 | L28: {=SUM(L5:L26*'SDS4'!V5:V26)} -> 302.82506 | M28: {=SUM(M5:M26*'SDS4'!X5:X26)} -> 302.34534 | N28: {=SUM(N5:N26*'SDS4'!Z5:Z26)} -> 304.89875 | O28: {=SUM(O5:O26*'SDS4'!AB5:AB26)} -> 304.63391 | P28: {=SUM(P5:P26*'SDS4'!AD5:AD26)} -> 301.40782 | Q28: {=SUM(Q5:Q26*'SDS4'!AF5:AF26)} -> 301.8194 | R28: {=SUM(R5:R26*'SDS4'!AH5:AH26)} -> 301.71547 | S28: {=SUM(S5:S26*'SDS4'!AJ5:AJ26)} -> 301.51194 | T28: {=SUM(T5:T26*'SDS4'!AL5:AL26)} -> 303.65801 | U28: =AVERAGE(C28:T28) -> 302.01451

Sheet SDS6
B1: Average concrete product thicknesses and percent of cement used in concrete
B3: USA | C3: Cement Utilization Category | D3: Average concrete thickness (mm) | E3: Average | G3: Utilization categories (see SupplementaryDataSheet8) | H3: Average concrete thickness (mm) | J3: Utilization categories (Global) | K3: Average concrete thickness (mm) | L3: * Calculated by weighing average of each included category by end-use market size
B4: Commercial | C4: Stores and misc. Commercial buildings | D4: 150 | G4: Streets and highway | H4: 161 | J4: Residential | K4: =H5 -> 150 | L4: Residential
C5: Low-rise offices and labs | D5: 150 | G5: Residential | H5: 150 | J5: Non-residential | K5: =(H6*'SDS7'!D6+H8*'SDS7'!D8+H9*'SDS7'!D9)/'SDS7'!H5 -> 107.47794 | L5: Commercial and industrial, public buildings, farm
C6: High-rise offices and labs | D6: 205 | G6: Commercial and industrial | H6: 159 | J6: Civil engineering | K6: =(H4*'SDS7'!D4+H7*'SDS7'!D7+H10*'SDS7'!D10+H11*'SDS7'!D11)/'SDS7'!H6 -> 234.81131 | L6: Streets and highway, water and waste management, utilities, other
C7: Parking - buildings and lots | D7: 150 | G7: Water and waste management | H7: 225
C8: Commercial warehouses and terminals | D8: 150 | G8: Public buildings | H8: 159 | J8: Fraction of cement used in concrete | L8: source
C9: Industrial buildings / warehouses | D9: 205 | G9: Farm | H9: 185 | J9: global | K9: 0.7451 | L9: China Xi 2016, rest of world ERMCO 2017
C10: Maintenance and repair | D10: 100 | E10: =AVERAGE(D4:D10) -> 158.57143 | G10: Utilities | H10: 305 | J10: United States | K10: 0.12 | L10: USGS
B11: Streets and highways | C11: State highways - urban and rural | D11: 205 | G11: Other | H11: =(185+273)/2 -> 229
C12: Local urban streets | D12: 150
C13: Local rural roads | D13: 150
C14: Bridges | D14: 150
C15: Maintenance and repair | D15: 150 | E15: =AVERAGE(D11:D15) -> 161
B16: Utilities | C16: Power plants | D16: 305
C17: Oil / gas / chemical plants | D17: 305
C18: Transmission | D18: 305
C19: Maintenance and repair | D19: 305 | E19: =AVERAGE(D16:D19) -> 305
B20: Water and waste management | C20: River & harbor development & control | D20: 305
C21: Dams and reservoirs | D21: 305
C22: Water supply systems | D22: 305
C23: Sanitary / storm sewers | D23: 100
C24: Water / sewer tunnels | D24: 205
C25: Waste treatment | D25: 205
C26: Maintenance and repair | D26: 150 | E26: =AVERAGE(D20:D26) -> 225
B27: Other public works | C27: Railroads (excluding buildings) | D27: 150
C28: Airports (excluding buildings) | D28: 380
C29: Defense facilities | D29: 610
C30: Parks and stadiums | D30: 150
C31: Maintenance and repair | D31: 75 | E31: =AVERAGE(D27:D31) -> 273
B32: Non-construction | C32: Oil and gas wells | D32: 150
C33: Mining and quarrying | D33: 305
C34: Miscellaneous | D34: 100 | E34: =AVERAGE(D32:D34) -> 185
B36: Gajda, J. Absorption of atmospheric carbon dioxide by portland cement concrete. PCA R & D Serial (2001).

Sheet SDS7
B1: Service life and percentage of market by end-use
B3: End-use category | C3: Mean service life | D3: Percentage of US Market, 2003 | F3: End-use categories (World) | G3: Mean service life | H3: Percent of world market | I3: * Estimated using historic consumption data
B4: Streets and highways | C4: 45 | D4: 0.33 | F4: Residential | G4: =C5 -> 80 | H4: 0.30280778
B5: Residential buildings | C5: 80 | D5: 0.31 | F5: Non-residential | G5: =ROUNDUP((C6*D6+C8*D8+C9*D9)/H5,0) -> 50 | H5: 0.32276392
B6: Commercial buildings | C6: 70 | D6: 0.1 | F6: Civil engineering | G6: =ROUNDUP((C4*D4+C7*D7+C10*D10+C11*D11)/H6,0) -> 65 | H6: 0.3744283
B7: Water and waste management | C7: 60 | D7: 0.08
B8: Public buildings | C8: 90 | D8: 0.06
B9: Farm construction | C9: 70 | D9: 0.05
B10: Utilities | C10: 75 | D10: 0.01
B11: Other | C11: 60 | D11: 0.06
B13: A. Kapur, G. Keoleian, A. Kendall, and S. E. Kesler, “Dynamic Modeling of In-Use Cement Stocks in the United States,” Journal of Industrial Ecology, vol. 12, no. 4, pp. 539–556, 2008, doi: 10.1111/j.1530-9290.2008.00055.x.

Sheet SDS8
B1: Coefficient of carbonation for SCMs
B3: SCM | C3: % replacement (@ natural conditions, 0.04% CO2) | L3: Source [1]
C4: 7.5 | D4: 15 | E4: 20 | F4: 25 | G4: 30 | H4: 40 | I4: 50 | J4: 75 | K4: 85
B5: Fly ash | C5: =0.055*C4+0.8333 -> 1.2458 | D5: =0.055*D4+0.8333 -> 1.6583 | E5: =0.055*E4+0.8333 -> 1.9333 | F5: =0.055*F4+0.8333 -> 2.2083 | G5: 2.45 | H5: 3.1 | I5: 3.55 | L5: Burdon 2006
B6: Limestone | C6: =0.05*C4+0.63 -> 1.005 | D6: 1.38 | E6: 1.63 | F6: 1.88 | L6: Parrott 1996
B7: Blast furnace slag | C7: =0.0192*C4+0.8067 -> 0.9507 | D7: =0.0192*D4+0.8067 -> 1.0947 | E7: =0.0192*E4+0.8067 -> 1.1907 | F7: 1.27 | G7: =0.0192*G4+0.8067 -> 1.3827 | H7: =0.0192*H4+0.8067 -> 1.5747 | I7: 1.8 | J7: 2.23 | K7: 3.16 | L7: Parrott 1996 | M7: .85 data point excluded because mineral structure is likely different at this level of replacement
B8: Silica fume | C8: =1.24/0.87 -> 1.4252874 | D8: =1.35/0.87 -> 1.5517241 | L8: Leemann 2015
B9: Natural pozzolans | C9: 1.2458 | D9: 1.6583 | E9: 1.9333 | F9: 2.2083 | G9: 2.45 | H9: 3.1 | I9: 3.55
B10: S. von Greve-Dierfeld et al., “Understanding the carbonation of concrete with supplementary cementitious materials: a critical review by RILEM TC 281-CCC,” Mater Struct, vol. 53, no. 6, p. 136, Oct. 2020, doi: 10.1617/s11527-020-01558-w.

Sheet SDS9
B1: Coefficient of carbonation for atmospheric CO2 concentration
B3: Location | C3: CO2 concentration (ppm) | D3: B_CO2
B4: Urban | C4: 625 | D4: =SQRT(C4/$C$10) -> 1.25
B5: Rural | C5: 300 | D5: =SQRT(C5/$C$10) -> 0.8660254
B6: Seaside | C6: 225 | D6: =SQRT(C6/$C$10) -> 0.75
B7: Industrial | C7: 1200 | D7: =SQRT(C7/$C$10) -> 1.7320508
B8: Road | C8: 1200 | D8: =SQRT(C8/$C$10) -> 1.7320508
B9: Buried | C9: 3000 | D9: =SQRT(C9/$C$10) -> 2.7386128
B10: Natural Conditions | C10: 400 | D10: =SQRT(C10/$C$10) -> 1
B11: Papadakis, V. G., Vayenas, C. G., & Fardis, M. N. (1991). Experimental investigation and mathematical modeling of the concrete carbonation problem. Chemical Engineering Science, 46(5–6), 1333–1338. https://doi.org/10.1016/0009-2509(91)85060-B
B12: Yoon, I.-S., Çopuroğlu, O., & Park, K.-B. (2007). Effect of global climatic change on carbonation progress of concrete. AtmEn, 41(34), 7274–7285. https://doi.org/10.1016/J.ATMOSENV.2007.05.028

Sheet SDS10
B1: Coefficient of carbonation for coatings and coverings
B3: Coating and cover type | C3: Correction values (B_cc)
B4: No coating and cover | C4: 1
B5: Indoor concrete coating | C5: 0.7
B6: Outdoor concrete coating | C6: 0.5
B7: Infrastructure concrete if painted | C7: 1
B8: Xi, F. et al. Substantial global carbon uptake by cement carbonation. Nature Geoscience 9, 880–883 (2016).

Sheet SDS11
B1: Coefficient of carbonation for concrete exposure conditions
B3: Region | C3: Exposure condition | D3: Compressive Strength | J3: Global Strength Class Distribution
D4: <15 | E4: 16-22 | F4: 23-35 | G4: >35 | H4: Average global (apply strength class distribution) | J4: ≤C15 (%) | K4: 0.12
B5: Europe (assume appropriate for USA, world) | C5: Exposed | D5: 5 | E5: 2.5 | F5: 1.5 | G5: 1 | H5: =D5*$K$4+E5*$K$5+F5*$K$6+G5*$K$7 -> 2.075 | J5: C16-C23 (%) | K5: 0.22
C6: Sheltered | D6: 10 | E6: 6 | F6: 4 | G6: 2.5 | H6: =D6*$K$4+E6*$K$5+F6*$K$6+G6*$K$7 -> 4.965 | J6: C23-C35 (%) | K6: 0.53
C7: Indoors | D7: 15 | E7: 9 | F7: 6 | G7: 3.5 | H7: =D7*$K$4+E7*$K$5+F7*$K$6+G7*$K$7 -> 7.415 | J7: >C35 (%) | K7: 0.13
C8: Wet | D8: 2 | E8: 1 | F8: 0.75 | G8: 0.5 | H8: =D8*$K$4+E8*$K$5+F8*$K$6+G8*$K$7 -> 0.9225 | J8: *global average distribution based on ERMCO 2017
C9: Buried | D9: 3 | E9: 1.5 | F9: 1 | G9: 0.75 | H9: =D9*$K$4+E9*$K$5+F9*$K$6+G9*$K$7 -> 1.3175
B10: Pade, C. & Guimaraes, M. The CO2 uptake of concrete in a 100 year perspective. Cement and Concrete Research 37, 1348–1356 (2007).

Sheet SDS12
A1: Data for Figure 1a: life cycle emissions for 1 kg of cement
B3: process contributions for 1 kg cement
A4: process step | B4: energy requirements | C4: calcination | D4: use-phase | E4: demolition phase uptake | F4: demolition phase emissions | G4: secondary phase | H4: total uptake
A5: emissions (kg CO2/kg cement) | B5: =0.754-C5 -> 0.367 | C5: 0.387 | D5: -0.0486 | E5: -0.1157 | F5: 0.1 | G5: -0.1661 | H5: =-SUM(D5:E5,G5) -> 0.3304
B8: key assumptions
B9: Use phase 64 years, demolition phase of 0.4 years, secondary phase of 35 years
B10: Demolition particle size of 1-40 mm
B11: Cement is uncoated during all stages. Cement is exposed during useful life and demolition and is buried during secondary life.
B12: Use-phase is modeled as an 'urban' environment, demolition phase is 'industrial', and secondary phase is 'buried'
B13: process emissions based on global average cement production data
B14: weighted global average strength/ cement content 302 kg/m3
A16: Data for Supplementary Figure S1
B18: process contributions for 1 kg of cement in "high strength" concrete
A19: process step | B19: energy requirements | C19: calcination | D19: use-phase | E19: demolition phase uptake | F19: demolition phase emissions | G19: secondary phase | H19: total uptake
A20: emissions (kg CO2/kg cement) | B20: =0.754-C20 -> 0.367 | C20: 0.387 | D20: -0.0234 | E20: -0.066 | F20: 0.1 | G20: -0.165 | H20: =-SUM(D20:E20,G20) -> 0.2544
B23: key assumptions
B24: Use phase 64 years, demolition phase of 0.4 years, secondary phase of 35 years
B25: Demolition particle size of 1-40 mm
B26: Cement is uncoated during all stages. Cement is exposed during useful life and demolition and is buried during secondary life.
B27: Use-phase is modeled as an 'urban' environment, demolition phase is 'industrial', and secondary phase is 'buried'
B28: process emissions based on global average cement production data
B29: assuming high strength (>35 Mpa) , global avg. cement content 302 kg/m3
B32: process contributions for 1 kg cement in "low strength" concrete
A33: process step | B33: energy requirements | C33: calcination | D33: use-phase | E33: demolition phase uptake | F33: demolition phase emissions | G33: secondary phase | H33: total uptake
A34: emissions (kg CO2/kg cement) | B34: =0.754-C34 -> 0.367 | C34: 0.387 | D34: -0.117 | E34: -0.1689 | F34: 0.1 | G34: -0.0652 | H34: =-SUM(D34:E34,G34) -> 0.3511
B37: key assumptions
B38: Use phase 64 years, demolition phase of 0.4 years, secondary phase of 35 years
B39: Demolition particle size of 1-40 mm
B40: Cement is uncoated during all stages. Cement is exposed during useful life and demolition and is buried during secondary life.
B41: Use-phase is modeled as an 'urban' environment, demolition phase is 'industrial', and secondary phase is 'buried'
B42: process emissions based on global average cement production data
B43: assuming low strength (<15 Mpa) , global avg. cement content 302 kg/m3

Sheet SDS13
B1: Data for Figure 1b: timescale of life cycle emissions for 1 kg of cement
B3: year | C3: Cummulative CO2 uptake (kg CO2/kg cement) | D3: Cummulative CO2 uptake (kg CO2/kg cement) including demolition emissions | E3: key assumptions
B4: 0 | C4: 0 | D4: 0 | E4: Use phase 64 years, demolition phase of 0.4 years, secondary phase of 35 years
B5: 1 | C5: -0.0060702742 | D5: -0.0060702742 | E5: Demolition particle size of 1-40 mm
B6: 2 | C6: -0.0085846641 | D6: -0.0085846641 | E6: Cement is uncoated during all stages. Cement is exposed during useful life and demolition and buried during secondary life
B7: 3 | C7: -0.010514023 | D7: -0.010514023 | E7: Use-phase is modeled as an urban environment, demolition phase is industrial, and secondary phase is “road”
B8: 4 | C8: -0.012140548 | D8: -0.012140548 | E8: global average cement production data used
B9: 5 | C9: -0.013573546 | D9: -0.013573546
B10: 6 | C10: -0.014869074 | D10: -0.014869074
B11: 7 | C11: -0.016060436 | D11: -0.016060436
B12: 8 | C12: -0.017169328 | D12: -0.017169328
B13: 9 | C13: -0.018210823 | D13: -0.018210823
B14: 10 | C14: -0.019195892 | D14: -0.019195892
B15: 11 | C15: -0.020132822 | D15: -0.020132822
B16: 12 | C16: -0.021028047 | D16: -0.021028047
B17: 13 | C17: -0.021886685 | D17: -0.021886685
B18: 14 | C18: -0.022712886 | D18: -0.022712886
B19: 15 | C19: -0.023510071 | D19: -0.023510071
B20: 16 | C20: -0.024281097 | D20: -0.024281097
... B104: 100 | C104: -0.33036219 | D104: -0.199

Sheet SDS14
B1: Data for Figure 2a: GWP vs TAWP for 1 kg of cement
C3: energy emissions from cement production | D3: calcination emissions | E3: demolition emissions | F3: use-phase uptake | G3: demolition phase uptake | H3: secondary phase uptake | I3: net
B4: GWP100 | C4: =0.754-D4 -> 0.367 | D4: =0.387 -> 0.387 | E4: 0.1 | F4: -0.049 | G4: =-0.116 -> -0.116 | H4: -0.166 | I4: =SUM(C4:H4) -> 0.523
B5: 20 yr | C5: =0.754-D5 -> 0.367 | D5: =0.387 -> 0.387 | E5: 0 | F5: -0.018 | G5: 0 | H5: 0 | I5: =SUM(C5:H5) -> 0.736
B6: 30 yr | C6: =0.754-D6 -> 0.367 | D6: =0.387 -> 0.387 | E6: 0 | F6: -0.023 | G6: 0 | H6: 0 | I6: =SUM(C6:H6) -> 0.731
B7: 50 yr | C7: =0.754-D7 -> 0.367 | D7: =0.387 -> 0.387 | E7: 0 | F7: -0.03 | G7: 0 | H7: 0 | I7: =SUM(C7:H7) -> 0.724
B8: 100 yr | C8: =0.754-D8 -> 0.367 | D8: =0.387 -> 0.387 | E8: 0.044 | F8: -0.04 | G8: -0.051 | H8: -0.06 | I8: =SUM(C8:H8) -> 0.647
B10: key assumptions
B11: Use phase 64 years, demolition phase of 0.4 years, secondary phase of 35 years
B12: Demolition particle size of 1-40 mm
B13: Cement is uncoated during all stages. Cement is exposed during useful life and demolition and is buried during secondary life.
B14: Use-phase is modeled as an urban environment, demolition phase is industrial, and secondary phase is road
B15: global average cement production data used

Sheet SDS15
A1: Data for Figure 2b: cumulative radiative forcing of GWP vs TAWP, 1 kg of cement
B3: CRF- including energy requirements | G3: CRF- including energy requirements and demolition emissions | L3: CRF- not including energy requirements
C5: Cumulative radiative forcing (W-yr/m2) | H5: Cumulative radiative forcing (W-yr/m2) | M5: Cumulative radiative forcing (W-yr/m2)
B6: years | C6: TAWP net' calcination and energy emissions followed by annual carbon uptake | D6: GWP net' calcinations emissions and total carbon uptake occuring simultaneously | G6: years | H6: TAWP net' calcination and energy emissions followed by annual carbon uptake | I6: GWP net' calcinations emissions and total carbon uptake occuring simultaneously | L6: years | M6: TAWP net' (calcination emissions followed by annual carbon uptake) | N6: GWP net' (calcinations emissions and total carbon uptake occuring simultaneously)
B7: 0 | C7: 0 | D7: 0 | G7: 0 | H7: 0 | I7: 0 | L7: 0 | M7: 0 | N7: 0 | P7: key assumptions
B8: 1 | C8: 1.5794985e-15 | D8: 8.4923642e-16 | G8: 1 | H8: 1.2657312e-15 | I8: 9.1083907e-16 | L8: 1 | M8: 8.2080444e-16 | N8: 2.2644048e-16 | P8: Use phase 64 years, demolition phase of 0.4 years, secondary phase of 35 years
B9: 2 | C9: 3.0495158e-15 | D9: 1.6464334e-15 | G9: 2 | H9: 2.4496701e-15 | I9: 1.7658638e-15 | L9: 2 | M9: 1.5786189e-15 | N9: 4.3900517e-16 | P9: Demolition particle size of 1-40 mm
B10: 3 | C10: 4.4359361e-15 | D10: 2.4010861e-15 | G10: 3 | H10: 3.5672432e-15 | I10: 2.5752581e-15 | L10: 3 | M10: 2.2908447e-15 | N10: 6.4022582e-16 | P10: Cement is uncoated and exposed during all stages
B11: 4 | C11: 5.7541825e-15 | D11: 3.1207533e-15 | G11: 4 | H11: 4.630374e-15 | I11: 3.3471292e-15 | L11: 4 | M11: 2.966152e-15 | N11: 8.3211796e-16 | P11: Use-phase is modeled as an urban environment, demolition phase is industrial, and secondary phase is “buried”
B12: 5 | C12: 7.016212e-15 | D12: 3.8114584e-15 | G12: 5 | H12: 5.6484706e-15 | I12: 4.0879372e-15 | L12: 5 | M12: 3.6111168e-15 | N12: 1.0162876e-15
B13: 6 | C13: 8.2313258e-15 | D13: 4.4780067e-15 | G13: 6 | H13: 6.6289206e-15 | I13: 4.8028362e-15 | L13: 6 | M13: 4.230747e-15 | N13: 1.1940161e-15
B14: 7 | C14: 9.4070059e-15 | D14: 5.1242371e-15 | G14: 7 | H14: 7.5776523e-15 | I14: 5.4959434e-15 | L14: 7 | M14: 4.8290954e-15 | N14: 1.3663271e-15
B15: 8 | C15: 1.0549121e-14 | D15: 5.7532216e-15 | G15: 8 | H15: 8.499436e-15 | I15: 6.1705538e-15 | L15: 8 | M15: 5.4092862e-15 | N15: 1.5340396e-15
B16: 9 | C16: 1.1662405e-14 | D16: 6.367424e-15 | G16: 9 | H16: 9.3981224e-15 | I16: 6.8293096e-15 | L16: 9 | M16: 5.9738512e-15 | N16: 1.6978105e-15
B17: 10 | C17: 1.2750686e-14 | D17: 6.9688243e-15 | G17: 10 | H17: 1.0276663e-14 | I17: 7.4743349e-15 | L17: 10 | M17: 6.5248515e-15 | N17: 1.858168e-15
B18: 11 | C18: 1.3817079e-14 | D18: 7.5590193e-15 | G18: 11 | H18: 1.1137608e-14 | I18: 8.1073419e-15 | L18: 11 | M18: 7.0639739e-15 | N18: 2.0155376e-15
B19: 12 | C19: 1.4863958e-14 | D19: 8.1393006e-15 | G19: 12 | H19: 1.1982875e-14 | I19: 8.7297162e-15 | L19: 12 | M19: 7.5924385e-15 | N19: 2.1702639e-15
B20: 13 | C20: 1.5893422e-14 | D20: 8.7107174e-15 | G20: 13 | H20: 1.2814024e-14 | I20: 9.3425829e-15 | L20: 13 | M20: 8.1114078e-15 | N20: 2.3226265e-15
B21: 14 | C21: 1.6907039e-14 | D21: 9.2741263e-15 | G21: 14 | H21: 1.36325e-14 | I21: 9.9468609e-15 | L21: 14 | M21: 8.6216846e-15 | N21: 2.4728539e-15
B22: 15 | C22: 1.7906268e-14 | D22: 9.8302303e-15 | G22: 15 | H22: 1.4439339e-14 | I22: 1.0543304e-14 | L22: 15 | M22: 9.1240993e-15 | N22: 2.6211335e-15
B23: 16 | C23: 1.8892165e-14 | D23: 1.037961e-14 | G23: 16 | H23: 1.5235401e-14 | I23: 1.1132535e-14 | L23: 16 | M23: 9.6191897e-15 | N23: 2.7676202e-15
... B107: 100 | C107: 6.978529e-14 | D107: 4.6020498e-14 | G107: 100 | H107: 5.9885201e-14 | I107: 4.9358772e-14 | L107: 100 | M107: 2.8671322e-14 | N107: 1.227091e-14

Sheet SDS16
C1: Data for Figure 3: Effect of carbon uptake in cement on emissions from global cement consumption
B3: Years | C3: Annual Consumption | D3: Annual CO2 Flux | kg CO2 | G3: Cumulative Radiative Forcing | W-yr/m2
C4: kg cement | D4: Calcination and energy emissions | E4: Uptake of CO2 by cement | F4: Net emissions | G4: Calcination and energy emissions | H4: Calcination and energy emissions (assuming change in coal consumption) | I4: Uptake of CO2 by cement (including demolition emissions) | J4: Net emissions | K4: Net emissions (assuming change in coal consumption) | L4: cumulative calcination
B5: 1931 | C5: 5.8748226e+10 | D5: 4.4296162e+10 | E5: -2.3381536e+09 | F5: =D5+E5 -> 4.1958009e+10 | G5: 0 | H5: 0 | I5: 0 | J5: 0 | K5: =H5+I5 -> 0 | L5: =C5*0.387 -> 2.2735563e+10
B6: 1932 | C6: 4.6232e+10 | D6: 3.4858928e+10 | E6: -2.8085082e+09 | F6: =D6+E6 -> 3.205042e+10 | G6: 7.4965951e-05 | H6: 7.4965951e-05 | I6: -3.957045e-06 | J6: =G6+I6 -> 7.1008906e-05 | K6: =H6+I6 -> 7.1008906e-05 | L6: =L5+C6*0.387 -> 4.0627347e+10
B7: 1933 | C7: 4.4985e+10 | D7: 3.391869e+10 | E7: -3.295694e+09 | F7: =D7+E7 -> 3.0622996e+10 | G7: 0.00020433271 | H7: 0.00020433271 | I7: -1.2424675e-05 | J7: =G7+I7 -> 0.00019190804 | K7: =H7+I7 -> 0.00019190804 | L7: =L6+C7*0.387 -> 5.8036542e+10
B8: 1934 | C8: 5.331e+10 | D8: 4.019574e+10 | E8: -4.0746467e+09 | F8: =D8+E8 -> 3.6121093e+10 | G8: 0.00038373214 | H8: 0.00038373214 | I8: -2.5980377e-05 | J8: =G8+I8 -> 0.00035775177 | K8: =H8+I8 -> 0.00035775177 | L8: =L7+C8*0.387 -> 7.8667512e+10
B9: 1935 | C9: 6.1651079e+10 | D9: 4.6484914e+10 | E9: -4.9465725e+09 | F9: =D9+E9 -> 4.1538341e+10 | G9: 0.00062159672 | H9: 0.00062159672 | I9: -4.5689019e-05 | J9: =G9+I9 -> 0.0005759077 | K9: =H9+I9 -> 0.0005759077 | L9: =L8+C9*0.387 -> 1.0252648e+11
B10: 1936 | C10: 7.4749855e+10 | D10: 5.6361391e+10 | E10: -6.0788341e+09 | F10: =D10+E10 -> 5.0282557e+10 | G10: 0.0009261002 | H10: 0.0009261002 | I10: -7.27364e-05 | J10: =G10+I10 -> 0.0008533638 | K10: =H10+I10 -> 0.0008533638 | L10: =L9+C10*0.387 -> 1.3145467e+11
B11: 1937 | C11: 7.8692004e+10 | D11: 5.9333771e+10 | E11: -6.9868224e+09 | F11: =D11+E11 -> 5.2346949e+10 | G11: 0.0013112507 | H11: 0.0013112507 | I11: -0.0001087086 | J11: =G11+I11 -> 0.0012025421 | K11: =H11+I11 -> 0.0012025421 | L11: =L10+C11*0.387 -> 1.6190848e+11
B12: 1938 | C12: 7.6510726e+10 | D12: 5.7689087e+10 | E12: -7.6166279e+09 | F12: =D12+E12 -> 5.007246e+10 | G12: 0.0017787987 | H12: 0.0017787987 | I12: -0.00015475119 | J12: =G12+I12 -> 0.0016240475 | K12: =H12+I12 -> 0.0016240475 | L12: =L11+C12*0.387 -> 1.9151813e+11
B13: 1939 | C13: 6.3648416e+10 | D13: 4.7990906e+10 | E13: -7.7078164e+09 | F13: =D13+E13 -> 4.0283089e+10 | G13: 0.0023229192 | H13: 0.0023229192 | I13: -0.00021151127 | J13: =G13+I13 -> 0.0021114079 | K13: =H13+I13 -> 0.0021114079 | L13: =L12+C13*0.387 -> 2.1615007e+11
B14: 1940 | C14: 5.8295121e+10 | D14: 4.3954521e+10 | E14: -7.8410054e+09 | F14: =D14+E14 -> 3.6113516e+10 | G14: 0.0029248215 | H14: 0.0029248215 | I14: -0.00027872935 | J14: =G14+I14 -> 0.0026460922 | K14: =H14+I14 -> 0.0026460922 | L14: =L13+C14*0.387 -> 2.3871028e+11
B15: 1941 | C15: 5.9943272e+10 | D15: 4.5197227e+10 | E15: -8.1778969e+09 | F15: =D15+E15 -> 3.701933e+10 | G15: 0.003576666 | H15: 0.003576666 | I15: -0.00035627554 | J15: =G15+I15 -> 0.0032203904 | K15: =H15+I15 -> 0.0032203904 | L15: =L14+C15*0.387 -> 2.6190833e+11
B16: 1942 | C16: 5.4543835e+10 | D16: 4.1126052e+10 | E16: -8.2779682e+09 | F16: =D16+E16 -> 3.2848083e+10 | G16: 0.0042800729 | H16: 0.0042800729 | I16: -0.00044440701 | J16: =G16+I16 -> 0.0038356659 | K16: =H16+I16 -> 0.0038356659 | L16: =L15+C16*0.387 -> 2.8301679e+11
B17: 1943 | C17: 4.7568877e+10 | D17: 3.5866933e+10 | E17: -8.2220984e+09 | F17: =D17+E17 -> 2.7644835e+10 | G17: 0.0050275525 | H17: 0.0050275525 | I17: -0.00054299256 | J17: =G17+I17 -> 0.0044845599 | K17: =H17+I17 -> 0.0044845599 | L17: =L16+C17*0.387 -> 3.0142594e+11
... B124: 2050 | C124: 5.3181812e+12 | D124: 2.1591816e+12 | E124: -1.1212619e+12 | F124: =D124+E124 -> 1.0379197e+12 | G124: 4.8994179 | H124: 4.6916502 | I124: -1.1347747 | J124: =G124+I124 -> 3.7646432 | K124: =H124+I124 -> 3.5568755 | L124: =L123+C124*0.387 -> 8.830949e+13
B125: 2051 | G125: 4.9936213 | H125: 4.7783576 | I125: -1.1582162 | J125: =G125+I125 -> 3.8354051 | K125: =H125+I125 -> 3.6201414
B126: 2052 | G126: 5.0872542 | H126: 4.864557 | I126: -1.1815088 | J126: =G126+I126 -> 3.9057453 | K126: =H126+I126 -> 3.6830482
B127: 2053 | G127: 5.1803315 | H127: 4.9502611 | I127: -1.2046567 | J127: =G127+I127 -> 3.9756748 | K127: =H127+I127 -> 3.7456045
B128: 2054 | G128: 5.2728674 | H128: 5.0354821 | I128: -1.2276635 | J128: =G128+I128 -> 4.0452039 | K128: =H128+I128 -> 3.8078186
B129: 2055 | G129: 5.3648754 | H129: 5.1202317 | I129: -1.250533 | J129: =G129+I129 -> 4.1143425 | K129: =H129+I129 -> 3.8696987
B130: 2056 | G130: 5.4563684 | H130: 5.204521 | I130: -1.2732685 | J130: =G130+I130 -> 4.1830998 | K130: =H130+I130 -> 3.9312525
B131: 2057 | G131: 5.5473586 | H131: 5.2883609 | I131: -1.2958735 | J131: =G131+I131 -> 4.2514851 | K131: =H131+I131 -> 3.9924874
B132: 2058 | G132: 5.637858 | H132: 5.3717618 | I132: -1.318351 | J132: =G132+I132 -> 4.3195071 | K132: =H132+I132 -> 4.0534108
B133: 2059 | G133: 5.7278781 | H133: 5.4547336 | I133: -1.3407041 | J133: =G133+I133 -> 4.387174 | K133: =H133+I133 -> 4.1140296
B134: 2060 | G134: 5.8174298 | H134: 5.5372863 | I134: -1.3629357 | J134: =G134+I134 -> 4.4544941 | K134: =H134+I134 -> 4.1743506
B135: 2061 | G135: 5.9065238 | H135: 5.6194291 | I135: -1.3850486 | J135: =G135+I135 -> 4.5214753 | K135: =H135+I135 -> 4.2343805
B136: 2062 | G136: 5.9951706 | H136: 5.7011712 | I136: -1.4070455 | J136: =G136+I136 -> 4.5881251 | K136: =H136+I136 -> 4.2941257
... B223: 2149 | G223: 12.688183 | H223: 11.894962 | I223: -3.0585246 | J223: =G223+I223 -> 9.6296579 | K223: =H223+I223 -> 8.8364373

Sheet SDS17
B1: Data for Figure 4a: Energy emissions and uptake associated with demolition
B3: Co2 uptake during demolition
C4: Cumulative carbon uptake (kg CO2/kg cement) | I4: Energy emissions for demolition (kg CO2e/kg cement) | O4: Calculations for determining energy emissions from demolition
B5: days | C5: 1-40 mm | D5: 1-30 mm | E5: 1-20 mm | F5: 1-10 mm | G5: 1-5 mm | I5: 1-40 mm | J5: 1-30 mm | K5: 1-20 mm | L5: 1-10 mm | M5: 1-5 mm | O5: Key assumption: decreaseing demolition particle size from 25 mm to 5 mm (80% reduction) requires three times the energy | T5: source:Nedeljković, M. et al. Energy consumption of a laboratory jaw crusher during normal and high strength concrete recycling. Miner. Eng. 204, (2023)
B6: 1 | C6: 0.0111 | D6: 0.0148 | E6: 0.0219 | F6: 0.0427 | G6: 0.0804 | I6: 0.1 | J6: =0.1625 -> 0.1625 | K6: =0.225 -> 0.225 | L6: =0.2875 -> 0.2875 | M6: =0.31875 -> 0.31875
B7: 10 | C7: 0.0341 | D7: 0.0448 | E7: 0.0653 | F7: 0.1195 | G7: 0.1992
B8: 20 | C8: 0.0477 | D8: 0.0623 | E8: 0.0896 | F8: 0.1576 | G8: 0.2436 | O8: starting diameter= 40 mm | R8: energy emissions =0.1
B9: 30 | C9: 0.0576 | D9: 0.0749 | E9: 0.1066 | F9: 0.1821 | G9: 0.2662 | O9: reduced particle size 80% less) = 8mm | R9: energy emissions = 0.3
B10: 40 | C10: 0.0657 | D10: 0.0851 | E10: 0.1201 | F10: 0.2003 | G10: 0.2795 | O10: slope = (0.3-0.1)/(8mm-40mm) | R10: slope=-0.00625
B11: 60 | C11: 0.0788 | D11: 0.1013 | E11: 0.1411 | F11: 0.2259 | G11: 0.2932 | O11: b = 0.1-(40*-0.00625) | R11: b=0.35
B12: 80 | C12: 0.0895 | D12: 0.1144 | E12: 0.1575 | F12: 0.2437 | G12: 0.299 | P12: y | Q12: x
B13: 100 | C13: 0.0986 | D13: 0.1254 | E13: 0.1709 | F13: 0.2566 | G13: 0.3013 | P13: =-0.00625*5+0.35 -> 0.31875 | Q13: 1-5mm
B14: 120 | C14: 0.1066 | D14: 0.1349 | E14: 0.1822 | F14: 0.2662 | G14: 0.3022 | P14: =0.00625*10+0.35 -> 0.4125 | Q14: 1-10mm
B15: 140 | C15: 0.1137 | D15: 0.1433 | E15: 0.1918 | F15: 0.2737 | G15: 0.3024 | P15: =-0.00625*20+0.35 -> 0.225 | Q15: 1-20mm
B16: 160 | C16: 0.1201 | D16: 0.1507 | E16: 0.2003 | F16: 0.2795 | G16: 0.3025 | P16: =-0.00625*30+0.35 -> 0.1625 | Q16: 1-30mm
B17: 180 | C17: 0.126 | D17: 0.1576 | E17: 0.2078 | F17: 0.2842 | G17: 0.3025 | P17: 0.1 | Q17: 1-40mm
B18: 200 | C18: 0.1315 | D18: 0.1638 | E18: 0.2146 | F18: 0.2879 | G18: 0.3025
B19: 220 | C19: 0.1365 | D19: 0.1695 | E19: 0.2206 | F19: 0.2909 | G19: 0.3025
B20: 240 | C20: 0.1413 | D20: 0.1749 | E20: 0.2261 | F20: 0.2933 | G20: 0.3025
B21: 260 | C21: 0.1457 | D21: 0.1789 | E21: 0.2311 | F21: 0.2952 | G21: 0.3025
B22: 280 | C22: 0.1499 | D22: 0.1844 | E22: 0.2357 | F22: 0.2967 | G22: 0.3025
B23: 300 | C23: 0.1538 | D23: 0.1888 | E23: 0.2399 | F23: 0.298 | G23: 0.3025
B24: 320 | C24: 0.1576 | D24: 0.1928 | E24: 0.2437 | F24: 0.299 | G24: 0.3025
B25: 340 | C25: 0.1612 | D25: 0.1967 | E25: 0.2473 | F25: 0.2998 | G25: 0.3025
B26: 365 | C26: 0.1654 | D26: 0.2012 | E26: 0.2514 | F26: 0.3006 | G26: 0.3025

Sheet SDS18
B1: Data for Figure 4b: Sensitivity of SCM replacement on TAWP reduction
B3: Assumptions: use phase 64 years, demolition phase 0.4 years. Urban environemntal during useful life, industrial environment at EoL. No coatings, and exposed in all life cycle stages.
B5: base case GHG (no SCMs) | D5: SCM content | E5: upfront GHG reduciton (TAWP100) | F5: use-phase (TAWP100) | G5: use phase % reduction (TAWP 100) | H5: EoL GHG emissions (TAWP100)* | I5: EoL phase % reduction (TAWP 100)
B6: Production impacts (kg CO2e/kg) | C6: 0.754 | D6: 7.5% limestone | E6: 7.5 | F6: -0.037346 | G6: =ABS(F6/$C$6*100) -> 4.9530504 | H6: =-0.084891-F6 -> -0.047545 | I6: =ABS(H6/$C$6)*100 -> 6.3057029
D7: 7.5% silica fume | E7: 7.5 | F7: -0.052964 | G7: =ABS(F7/$C$6*100) -> 7.0244032 | H7: =-0.11142-F7 -> -0.058456 | I7: =ABS(H7/$C$6)*100 -> 7.7527851
D8: 15% limestone | E8: 15 | F8: -0.047124 | G8: =ABS(F8/$C$6*100) -> 6.2498674 | H8: =-0.099955-F8 -> -0.052831 | I8: =ABS(H8/$C$6)*100 -> 7.0067639
D9: 15% silica fume | E9: 15 | F9: -0.052988 | G9: =ABS(F9/$C$6*100) -> 7.0275862 | H9: =-0.10896-F9 -> -0.055972 | I9: =ABS(H9/$C$6)*100 -> 7.4233422
D10: 25% slag | E10: 25 | F10: -0.038265 | G10: =ABS(F10/$C$6*100) -> 5.0749337 | H10: =-0.082814-F10 -> -0.044549 | I10: =ABS(H10/$C$6)*100 -> 5.9083554
D11: 25 % fly ash | E11: 25 | F11: -0.066536 | G11: =ABS(F11/$C$6*100) -> 8.8244032 | H11: =-0.12198-F11 -> -0.055444 | I11: =ABS(H11/$C$6)*100 -> 7.3533156
D12: 50% slag | E12: 50 | F12: -0.036156 | G12: =ABS(F12/$C$6*100) -> 4.7952255 | H12: =-0.071134-F12 -> -0.034978 | I12: =ABS(H12/$C$6)*100 -> 4.638992
D13: 50% fly ash | E13: 50 | F13: -0.071308 | G13: =ABS(F13/$C$6*100) -> 9.4572944 | H13: =-0.10584-F13 -> -0.034532 | I13: =ABS(H13/$C$6)*100 -> 4.5798408
D14: base case scenario | E14: 0 | F14: =-0.040174 -> -0.040174 | G14: =ABS(F14/$C$6*100) -> 5.3281167 | H14: =-0.091403-F14 -> -0.051229 | I14: =ABS(H14/$C$6)*100 -> 6.7942971
D15: *EoL GHG emissions is not considered demolition emisisons, but just considering carbon uptake. This is done to identify the difference between carbonation impacts for cement with and without SCMs present at end-of-life

Sheet SDS19
C1: Data for Supplementary Figure 1: Effect of carbon uptake in cement on emissions from US cement consumption
B3: Years | C3: Annual Consumption | D3: Annual CO2 Flux | kg CO2 | G3: Cumulative Radiative Forcing | W-yr/m2
C4: kg cement | D4: Calcination and energy emissions (assuming decrease in coal consumption) | E4: Uptake of CO2 by cement | F4: Net emissions | G4: Calcination and energy emissions | H4: Uptake of CO2 by cement | I4: Net emissions
B5: 1900 | C5: 3074600 | D5: 2623151.6 | E5: -67973.37 | F5: =D5+E5 -> 2555178.2 | G5: 0 | H5: 0 | I5: 0
B6: 1901 | C6: 3299800 | D6: 2798276.8 | E6: -101107.64 | F6: =D6+E6 -> 2697169.1 | G6: 4.43937e-09 | H6: -1.1503679e-10 | I6: =G6+H6 -> 4.3243332e-09 | L6: % of cement in concrete | M6: 87.3
B7: 1902 | C7: 4427100 | D7: 3731424.1 | E7: -149696.83 | F7: =D7+E7 -> 3581727.3 | G7: 1.3342453e-08 | H7: -3.9413695e-10 | I7: =G7+H7 -> 1.2948316e-08 | L7: % of cement in mortar | M7: 12.7
B8: 1903 | C8: 5237100 | D8: 4387146.6 | E8: -197723.44 | F8: =D8+E8 -> 4189423.2 | G8: 2.8047928e-08 | H8: -9.1033263e-10 | I8: =G8+H8 -> 2.7137596e-08
B9: 1904 | C9: 5315900 | D9: 4425757.7 | E9: -232184.78 | F9: =D9+E9 -> 4193572.9 | G9: 4.9371021e-08 | H9: -1.7323158e-09 | I9: =G9+H9 -> 4.7638705e-08
B10: 1905 | C10: 6750100 | D10: 5585009.9 | E10: -292665.75 | F10: =D10+E10 -> 5292344.2 | G10: 7.706635e-08 | H10: -2.9030747e-09 | I10: =G10+H10 -> 7.4163276e-08
B11: 1906 | C11: 8934900 | D11: 7346652.4 | E11: -379739.65 | F11: =D11+E11 -> 6966912.7 | G11: 1.1283477e-07 | H11: -4.5087482e-09 | I11: =G11+H11 -> 1.0832602e-07
B12: 1907 | C12: 9092900 | D12: 7429698.6 | E12: -436725.16 | F12: =D12+E12 -> 6992973.4 | G12: 1.5931993e-07 | H12: -6.6770042e-09 | I12: =G12+H12 -> 1.5264292e-07
B13: 1908 | C13: 9058200 | D13: 7354656.4 | E13: -482949.27 | F13: =D13+E13 -> 6871707.2 | G13: 2.161987e-07 | H13: -9.4789348e-09 | I13: =G13+H13 -> 2.0671976e-07
B14: 1909 | C14: 11332000 | D14: 9142421.7 | E14: -574762.45 | F14: =D14+E14 -> 8567659.3 | G14: 2.8295042e-07 | H14: -1.296585e-08 | I14: =G14+H14 -> 2.6998457e-07
B15: 1910 | C15: 12992000 | D15: 10414710 | E15: -670334.4 | F15: =D15+E15 -> 9744375.4 | G15: 3.6227911e-07 | H15: -1.7265963e-08 | I15: =G15+H15 -> 3.4501315e-07
B16: 1911 | C16: 13166000 | D16: 10486330 | E16: -740738.69 | F16: =D16+E16 -> 9745591.5 | G16: 4.5588103e-07 | H16: -2.2508826e-08 | I16: =G16+H16 -> 4.333722e-07
B17: 1912 | C17: 13623000 | D17: 10780099 | E17: -810806.55 | F17: =D17+E17 -> 9969292.9 | G17: 5.6336238e-07 | H17: -2.8776821e-08 | I17: =G17+H17 -> 5.3458556e-07
B18: 1913 | C18: 15498000 | D18: 12183935 | E18: -910830.87 | F18: =D18+E18 -> 11273104 | G18: 6.8478106e-07 | H18: -3.6150527e-08 | I18: =G18+H18 -> 6.4863053e-07
B19: 1914 | C19: 14974000 | D19: 11694805 | E19: -970010.22 | F19: =D19+E19 -> 10724795 | G19: 8.2211099e-07 | H19: -4.4760137e-08 | I19: =G19+H19 -> 7.7735086e-07
... B124: 2019 | C124: 101600000 | D124: 49276000 | E124: -14051097 | F124: =D124+E124 -> 35224903 | G124: 0.00012386477 | H124: -2.9085454e-05 | I124: =G124+H124 -> 9.4779317e-05
B125: 2020 | G125: 0.0001257976 | H125: -2.9608625e-05 | I125: =G125+H125 -> 9.6188978e-05
B126: 2021 | G126: 0.00012772 | H126: -3.0128721e-05 | I126: =G126+H126 -> 9.7591281e-05
B127: 2022 | G127: 0.00012963224 | H127: -3.0645823e-05 | I127: =G127+H127 -> 9.8986413e-05
B128: 2023 | G128: 0.00013153456 | H128: -3.1160008e-05 | I128: =G128+H128 -> 0.00010037455
B129: 2024 | G129: 0.00013342721 | H129: -3.167135e-05 | I129: =G129+H129 -> 0.00010175586
B130: 2025 | G130: 0.00013531042 | H130: -3.2179919e-05 | I130: =G130+H130 -> 0.0001031305
B131: 2026 | G131: 0.00013718441 | H131: -3.2685782e-05 | I131: =G131+H131 -> 0.00010449863
B132: 2027 | G132: 0.0001390494 | H132: -3.3189002e-05 | I132: =G132+H132 -> 0.0001058604
B133: 2028 | G133: 0.00014090558 | H133: -3.3689642e-05 | I133: =G133+H133 -> 0.00010721594
B134: 2029 | G134: 0.00014275316 | H134: -3.4187761e-05 | I134: =G134+H134 -> 0.0001085654
B135: 2030 | G135: 0.00014459233 | H135: -3.4683416e-05 | I135: =G135+H135 -> 0.00010990891
B136: 2031 | G136: 0.00014642327 | H136: -3.5176663e-05 | I136: =G136+H136 -> 0.0001112466
... B223: 2118 | G223: 0.00028660624 | H223: -7.2574823e-05 | I223: =G223+H223 -> 0.00021403141

Sheet SDS20
B1: Data for Supplementary Data Table 1: Summary table of cement mitigation strategies
B2: assumptions:
B3: secondary phase excluded (only considering 64 year use phase and demolition)
B4: assuming: concrete is exposed, uncoated, urban environment during use, industrial environment at EoL.
B6: including demolition emissions
B7: process modification | C7: total emisisons | D7: % reduction from base | E7: TAWP (100 yr) | F7: % reduction in TAWP
B8: decreasing particle diameter to 1-30 mm | C8: 0.85317 | D8: =($C$27-C8)/$C$27 -> -0.074102051 | E8: 0.77816 | F8: =($E$27-E8)/$E$27 -> -0.033838632
B9: dec. particle diameter to 1-10 mm | C9: 0.94848 | D9: =($C$27-C9)/$C$27 -> -0.19409299 | E9: 0.81941 | F9: =($E$27-E9)/$E$27 -> -0.08864207
B10: dec. particle diameter to 1-10 mm and icnrease demo phase to 1 month | C10: 0.80838 | D10: =($C$27-C10)/$C$27 -> -0.017713487 | E10: 0.75878 | F10: =($E$27-E10)/$E$27 -> -0.0080909804
B11: dec. particle diameter to 1-10 mm and icnrease demo phase to 3 months | C11: 0.73973 | D11: =($C$27-C11)/$C$27 -> 0.068713726 | E11: 0.72907 | F11: =($E$27-E11)/$E$27 -> 0.031380781
B12: dec. particle diameter to 1-10 mm and icnrease demo phase to 1 year | C12: 0.69056 | D12: =($C$27-C12)/$C$27 -> 0.13061651 | E12: 0.7078 | F12: =($E$27-E12)/$E$27 -> 0.059639427
B13: decreasing particle diameter to 1-5 mm | C13: 0.9438 | D13: =($C$27-C13)/$C$27 -> -0.18820108 | E13: 0.81738 | F13: =($E$27-E13)/$E$27 -> -0.085945077
B14: decreasing particle diameter to 1-5mm and demo phase 3 months | C14: 0.72362 | D14: =($C$27-C14)/$C$27 -> 0.08899548 | E14: =0.7221 -> 0.7221 | F14: =($E$27-E14)/$E$27 -> 0.040640901
B15: dec. particle diameter to 1-5 mm and icnrease demo phase to 1 year | C15: 0.7217 | D15: =($C$27-C15)/$C$27 -> 0.091412673 | E15: 0.72127 | F15: =($E$27-E15)/$E$27 -> 0.041743613
B16: lengthening demolition phase to 3 months | C16: 0.71061 | D16: =($C$27-C16)/$C$27 -> 0.10537448 | E16: 0.71647 | F16: =($E$27-E16)/$E$27 -> 0.04812074
B17: lengthening demolition phase to 1 year | C17: 0.64005 | D17: =($C$27-C17)/$C$27 -> 0.19420629 | E17: 0.68594 | F17: =($E$27-E17)/$E$27 -> 0.088681927
B18: 7.5% replacement with slag | C18: 0.76187 | D18: =($C$27-C18)/$C$27 -> 0.040840478 | E18: =0.70884 -> 0.70884 | F18: =($E$27-E18)/$E$27 -> 0.058257716
B19: 7.5% replacement with fly ash | C19: 0.74621 | D19: =($C$27-C19)/$C$27 -> 0.060555702 | E19: =0.69694 -> 0.69694 | F19: =($E$27-E19)/$E$27 -> 0.074067677
B20: 7.5% silica fume | C20: =0.73684 -> 0.73684 | D20: =($C$27-C20)/$C$27 -> 0.072352104 | E20: =0.68977 -> 0.68977 | F20: =($E$27-E20)/$E$27 -> 0.083593511
B21: 7.5% limestone | C21: =0.75897 -> 0.75897 | D21: =($C$27-C21)/$C$27 -> 0.044491445 | E21: =0.70664 -> 0.70664 | F21: =($E$27-E21)/$E$27 -> 0.061180566
B22: 25% replacement with slag | C22: =0.62614 -> 0.62614 | D22: =($C$27-C22)/$C$27 -> 0.21171835 | E22: =0.57388 -> 0.57388 | F22: =($E$27-E22)/$E$27 -> 0.23756128
B23: 25 % replacement with fly ash | C23: 0.58746 | D23: =($C$27-C23)/$C$27 -> 0.2604147 | E23: 0.54395 | F23: =($E$27-E23)/$E$27 -> 0.27732533
B24: 25% limestone | C24: =0.60072 -> 0.60072 | D24: =($C$27-C24)/$C$27 -> 0.24372097 | E24: =0.5543 -> 0.5543 | F24: =($E$27-E24)/$E$27 -> 0.26357465
B25: 50% replacement with slag | C25: =0.44166 -> 0.44166 | D25: =($C$27-C25)/$C$27 -> 0.44397024 | E25: =0.38811 -> 0.38811 | F25: =($E$27-E25)/$E$27 -> 0.4843694
B26: 50% replacement with fly ash | C26: =0.39655 -> 0.39655 | D26: =($C$27-C26)/$C$27 -> 0.50076167 | E26: =0.35217 -> 0.35217 | F26: =($E$27-E26)/$E$27 -> 0.53211814
B27: * base case: demolition phase 1 day, particle diameter 1 to 40 mm, no SCM | C27: 0.79431 | E27: 0.75269

Sheet SDS21
A1: List of sources and calculations for concrete demolition emissions
A3: data point | B3: kg CO2e/tonne crushed concrete | C3: kg CO2e/kg crushed concrete | D3: kg CO2e/kg cement | E3: Reference | G3: concrete to cement conversion | L3: Applying concrete demolition emissions to Cao et al. results
A4: 1 | B4: 15.01 | C4: =B4/1000 -> 0.01501 | D4: =C4/$H$6 -> 0.11948358 | E4: Estanquueiro et al. | G4: cement content | H4: 302 | I4: kg /m3 | L4: Cumulative cement in demolition from 2015 to 2100 (Gt) | M4: Estimated demolition emissions (Gt) | N4: % of estimated CO2 uptake estimated by Cao et al.
A5: 2 | B5: 11.1 | C5: =B5/1000 -> 0.0111 | D5: =C5/$H$6 -> 0.08835894 | E5: Estanquueiro et al. | G5: concrete density | H5: 2404 | I5: kg/m3 | L5: 255.55555 | M5: =L5*$D$19 -> 25.988732 | N5: =M5/81.1*100 -> 32.045292
A6: 3 | B6: 7.44 | C6: =B6/1000 -> 0.00744 | D6: =C6/$H$6 -> 0.059224371 | E6: Braga et al. | H6: =H4/H5 -> 0.12562396 | I6: kg cement/kg concrete | L6: 247.95678 | M6: =L6*$D$19 -> 25.215974 | N6: =M6/81.1*100 -> 31.092447
A7: 4 | B7: 1.64 | C7: =B7/1000 -> 0.00164 | D7: =C7/$H$6 -> 0.013054834 | E7: Marinkovic et al. | L7: 239.5767 | M7: =L7*$D$19 -> 24.363762 | N7: =M7/81.1*100 -> 30.04163
A8: 5 | B8: 5.87 | C8: =B8/1000 -> 0.00587 | D8: =C8/$H$6 -> 0.046726755 | E8: Hossain et al. | L8: 286.92702 | M8: =L8*$D$19 -> 29.179054 | N8: =M8/81.1*100 -> 35.979105
A9: 6 | B9: 11 | C9: =B9/1000 -> 0.011 | D9: =C9/$H$6 -> 0.087562914 | E9: Hossain et al. | L9: 271.65839 | M9: =L9*$D$19 -> 27.62631 | N9: =M9/81.1*100 -> 34.0645
A10: 7 | B10: 29.4 | C10: =B10/1000 -> 0.0294 | D10: =C10/$H$6 -> 0.23403179 | E10: Park et al. | L10: 258.1618 | M10: =L10*$D$19 -> 26.253774 | N10: =M10/81.1*100 -> 32.372101
A11: 8 | B11: 38.1 | C11: =B11/1000 -> 0.0381 | D11: =C11/$H$6 -> 0.30328609 | E11: Park et al. | L11: 315.72387 | M11: =L11*$D$19 -> 32.107551 | N11: =M11/81.1*100 -> 39.590075
A12: 9 | B12: 7.02 | C12: =B12/1000 -> 0.00702 | D12: =C12/$H$6 -> 0.05588106 | E12: Tosic et al. | L12: 292.58212 | M12: =L12*$D$19 -> 29.754149 | N12: =M12/81.1*100 -> 36.688224
A13: 10 | B13: 5.19 | C13: =B13/1000 -> 0.00519 | D13: =C13/$H$6 -> 0.041313775 | E13: Tosic et al. | L13: 275.83204 | M13: =L13*$D$19 -> 28.05075 | N13: =M13/81.1*100 -> 34.587854
A14: 11 | B14: 12 | C14: =B14/1000 -> 0.012 | D14: =C14/$H$6 -> 0.095523179 | E14: Hossain et al.
A15: 12 | B15: 1.58 | C15: =B15/1000 -> 0.00158 | D15: =C15/$H$6 -> 0.012577219 | E15: Pradhan et al.
A16: 13 | B16: 15.5 | C16: 0.0155 | D16: =C16/$H$6 -> 0.12338411 | E16: Simion et al.
A17: 14 | B17: 18.4 | C17: 0.0184 | D17: =C17/$H$6 -> 0.14646887 | E17: Ecoinvent 2.2 "1 kg Disposal, building, reinforced concrete, to sorting plant/US* US-EI U (of project US-EI 2.2)"
A18: 15 | B18: 12.38 | C18: 0.01238 | D18: =C18/$H$6 -> 0.098548079 | E18: Kikuchi and Kuroda
A19: AVERAGE | B19: =AVERAGE(B4:B18) -> 12.775333 | C19: =AVERAGE(C4:C18) -> 0.012775333 | D19: =AVERAGE(D4:D18) -> 0.10169504

Sheet SDS22
A1: Data for Supplementary Figure 2: Sensitvity of concrete strength
B3: year | C3: cumulative uptake (high strength) | D3: Cumulative uptake (low strength)
B4: 1 | C4: -0.0146 | D4: -0.0029
B5: 2 | C5: -0.0207 | D5: -0.0041
B6: 3 | C6: -0.0253 | D6: -0.0051 | H6: Given that concrete strength is tied to porosity, which therby impacts the rate of carbonation, we provide an example of how the rate of carbonation may differ for low strength (<C15), and high strength ( > C35) concrete
B7: 4 | C7: -0.0293 | D7: -0.0059
B8: 5 | C8: -0.0327 | D8: -0.0065
B9: 6 | C9: -0.0358 | D9: -0.0072
B10: 7 | C10: -0.0387 | D10: -0.0077
B11: 8 | C11: -0.0414 | D11: -0.0083
B12: 9 | C12: -0.0439 | D12: -0.0088
B13: 10 | C13: -0.0463 | D13: -0.0093
B14: 11 | C14: -0.0485 | D14: -0.0097
B15: 12 | C15: -0.0507 | D15: -0.0101
B16: 13 | C16: -0.0527 | D16: -0.0105
B17: 14 | C17: -0.0547 | D17: -0.0109
B18: 15 | C18: -0.0567 | D18: -0.0113
... B103: 100 | C103: -0.3511 | D103: -0.2544

Sheet SDS23
A1: Supplementary Data Sheet References
B2: References
A3: Supplementary Data Sheet 1 | B3: U.S. Geological Survey, 2019, Cement statistics in USGS Minerals Yearbook 2019, v. I, Metals and Minerals.
B4: U.S. Geological Survey, 2017, Cement statistics in USGS Minerals Yearbook 2017, v. I, Metals and Minerals.
B5: U.S. Geological Survey, 2015, Cement statistics in USGS Minerals Yearbook 2015, v. I, Metals and Minerals.
B6: U.S. Geological Survey, 2013, Cement statistics in USGS Minerals Yearbook 2013, v. I, Metals and Minerals.
B7: U.S. Geological Survey, 2011, Cement statistics in USGS Minerals Yearbook 2011, v. I, Metals and Minerals.
B8: U.S. Geological Survey, 2009, Cement statistics in USGS Minerals Yearbook 2009, v. I, Metals and Minerals.
B9: U.S. Geological Survey, 2007, Cement statistics in USGS Minerals Yearbook 2007, v. I, Metals and Minerals.
B10: U.S. Geological Survey, 2005, Cement statistics in USGS Minerals Yearbook 2005, v. I, Metals and Minerals.
B11: U.S. Geological Survey, 2003, Cement statistics in USGS Minerals Yearbook 2003, v. I, Metals and Minerals.
B12: U.S. Geological Survey, 2001, Cement statistics in USGS Minerals Yearbook 2001, v. I, Metals and Minerals.
B13: U.S. Geological Survey, 1999, Cement statistics in USGS Minerals Yearbook 1999, v. I, Metals and Minerals.
B14: U.S. Geological Survey, 1997, Cement statistics in USGS Minerals Yearbook 1997, v. I, Metals and Minerals.
B15: U.S. Geological Survey, 1995, Cement statistics in USGS Minerals Yearbook 1995, v. I, Metals and Minerals.
... B46: U.S. Geological Survey, 1933, Cement statistics in USGS Minerals Yearbook 1933, v. I, Metals and Minerals.
A47: Supplementary Data Sheet 2 | B47: CARB. (2019). Summary of 2008 to 2017 data from California’s Greenhouse Gas Mandatory Reporting Program. https://ww2.arb.ca.gov/our-work/programs/mandatory-greenhouse-gas-emissions-reporting
B48: GNR. Global Cement Database on CO₂ and Energy Information. http://www.wbcsdcement.org/GNR-2013/index.html (2016).
B49: Gomez, D. R. , W. J. D. , A. B. B. , H. C. , M. G. , M. E. , N. L. N. , O.-E. B. , S. J. D. K. , T. K. , Q. R. , C. 2006 IPCC Guidelines for National Greenhouse Gas Inventories: Chapter 2: Energy: Stationary Combustion. in I.P. on C. (ed. Intergovernmental Panel on Climate Change) (2007).
B50: Marceau, M. L. , N. M. A. , V. M. G. Life Cycle Inventory of Portland Cement Manufacture. (2006).
B51: van Oss, H. G. Minerals yearbook: cement 2012. https://www.usgs.gov/centers/national-minerals-information-center/cement-statistics-and-information (2015).
A52: Supplementary Data Sheet 3 | B52: GNR. Global Cement Database on CO₂ and Energy Information. http://www.wbcsdcement.org/GNR-2013/index.html (2016).
B53: Gomez, D. R. , W. J. D. , A. B. B. , H. C. , M. G. , M. E. , N. L. N. , O.-E. B. , S. J. D. K. , T. K. , Q. R. , C. 2006 IPCC Guidelines for National Greenhouse Gas Inventories: Chapter 2: Energy: Stationary Combustion. in I.P. on C. (ed. Intergovernmental Panel on Climate Change) (2007).
B54: Marceau, M. L. , N. M. A. , V. M. G. Life Cycle Inventory of Portland Cement Manufacture. (2006).
B55: van Oss, H. G. Minerals yearbook: cement 2012. https://www.usgs.gov/centers/national-minerals-information-center/cement-statistics-and-information (2015).
B56: U.S. Geological Survey, 2017, Cement statistics [through 2017; last modified January 19, 2017], in Kelly, T.D., and Matos, G.R., comps., Historical statistics for mineral and material commodities in the United States (2017 version): U.S. Geological Survey Data Series 140, accessed February 25, 2022 at https://www.usgs.gov/centers/national-minerals-information-center/historical-statistics-mineral-and-material-commodities#cement.
B57: U.S. Geological Survey, 2019, Cement statistics in USGS Minerals Yearbook 2019, v. I, Metals and Minerals.
A58: Supplemenrary Data Sheet 4 | B58: U.S. Geological Survey, 2018, Cement statistics in USGS Minerals Yearbook 2018, v. I, Metals and Minerals.
B59: U.S. Geological Survey, 2013, Cement statistics in USGS Minerals Yearbook 2013, v. I, Metals and Minerals.
B60: U.S. Geological Survey, 2008, Cement statistics in USGS Minerals Yearbook 2008, v. I, Metals and Minerals.
B61: U.S. Geological Survey, 2003, Cement statistics in USGS Minerals Yearbook 2003, v. I, Metals and Minerals.
A62: Supplementary Data Sheet 5 | B62: ERMCO. (2004). Ready-Mixed Concrete Industry Statistics Year 2003. http://ermco.eu/new/statistics-2003-2018/
B63: ERMCO. (2007). Ready-Mixed Concrete Industry Statistics Year 2006. http://ermco.eu/new/statistics-2003-2018/
B64: ERMCO. (2010). Ready-Mixed Concrete Industry Statistics Year 2009. http://ermco.eu/new/statistics-2003-2018/
B65: ERMCO. (2013). Ready-Mixed Concrete Industry Statistics Year 2012. http://ermco.eu/new/statistics-2003-2018/
B66: ERMCO. (2016). Ready-Mixed Concrete Industry Statistics Year 2015. http://ermco.eu/new/statistics-2003-2018/
B67: ERMCO. (2019). Ready-Mixed Concrete Industry Statistics Year 2018. http://ermco.eu/new/statistics-2003-2018/
A68: Supplementary Data Sheet 6 | B68: Gajda, J. Absorption of atmospheric carbon dioxide by portland cement concrete. PCA R & D Serial (2001).
B69: Xi, F. et al. Substantial global carbon uptake by cement carbonation. Nature Geoscience 9, 880–883 (2016).
B70: U.S. Geological Survey, 2017, Cement statistics [through 2017; last modified January 19, 2017], in Kelly, T.D., and Matos, G.R., comps., Historical statistics for mineral and material commodities in the United States (2017 version): U.S. Geological Survey Data Series 140, accessed February 25, 2022 at https://www.usgs.gov/centers/national-minerals-information-center/historical-statistics-mineral-and-material-commodities#cement.
A71: Supplementary Data Sheet 7 | B71: A. Kapur, G. Keoleian, A. Kendall, and S. E. Kesler, “Dynamic Modeling of In-Use Cement Stocks in the United States,” Journal of Industrial Ecology, vol. 12, no. 4, pp. 539–556, 2008, doi: 10.1111/j.1530-9290.2008.00055.x.
A72: Supplementary Data Sheet 8 | B72: S. von Greve-Dierfeld et al., “Understanding the carbonation of concrete with supplementary cementitious materials: a critical review by RILEM TC 281-CCC,” Mater Struct, vol. 53, no. 6, p. 136, Oct. 2020, doi: 10.1617/s11527-020-01558-w.
B73: Parrott, L. J. (1996). Some effects of cement and curing upon carbonation and reinforcement corrosion in concrete. Materials and Structures 1996 29:3, 29(3), 164–173. https://doi.org/10.1007/BF02486162
B74: Burdon, D. (2006). The durability of concrete containing high levels of fly ash. PCA R&D Serial No. 2989. Portland Cement Association, Skokie, US.
B75: Leemann, A., Nygaard, P., Kaufmann, J., & Loser, R. (2015). Relation between carbonation resistance, mix design and exposure of mortar and concrete. Cement and Concrete Composites, 62, 33–43. https://doi.org/10.1016/J.CEMCONCOMP.2015.04.020
A76: Supplementary Data Sheet 9 | B76: Papadakis, V. G., Vayenas, C. G., & Fardis, M. N. (1991). Experimental investigation and mathematical modeling of the concrete carbonation problem. Chemical Engineering Science, 46(5–6), 1333–1338. https://doi.org/10.1016/0009-2509(91)85060-B
B77: Yoon, I.-S., Çopuroğlu, O., & Park, K.-B. (2007). Effect of global climatic change on carbonation progress of concrete. AtmEn, 41(34), 7274–7285. https://doi.org/10.1016/J.ATMOSENV.2007.05.028
A78: Supplementary Data Sheet 10 | B78: Xi, F. et al. Substantial global carbon uptake by cement carbonation. Nature Geoscience 9, 880–883 (2016).
A79: Supplementary Data Sheet 11 | B79: Pade, C. & Guimaraes, M. The CO2 uptake of concrete in a 100 year perspective. Cement and Concrete Research 37, 1348–1356 (2007).
A80: Supplementary Data Sheet 17 | B80: Nedeljković, M. et al. Energy consumption of a laboratory jaw crusher during normal and high strength concrete recycling. Miner. Eng. 204, (2023)
A81: Supplementary Data Sheet 21 | B81: Estanqueiro, B., Dinis Silvestre, J., de Brito, J. & Duarte Pinheiro, M. Environmental life cycle assessment of coarse natural and recycled aggregates for concrete. Eur. J. Environ. Civ. Eng. 22, 429–449 (2018).
B82: Braga, A.M.; Silvestre, J.D.; de Brito, J. Compared environmental and economic impact from cradle to gate of concrete with natural and recycled coarse aggregates. J. Clean. Prod. 2017, 162, 529–543
B83: Marinković, S.; Radonjanin, V.; Malešev, M.; Ignjatović, I. Comparative environmental assessment of natural and recycled aggregate concrete. Waste Manag. 2010, 30, 2255–2264.
B84: Hossain, M.U.; Poon, C.S.; Lo, I.M.C.; Cheng, J.C.P. Comparative environmental evaluation of aggregate production from recycled waste materials and virgin sources by LCA. Resour. Conserv. Recycl. 2016, 109, 67–77.
B85: Park, W.J.; Kim, T.; Roh, S.; Kim, R. Analysis of life cycle environmental impact of recycled aggregate. Appl. Sci. 2019, 9, 1021.
B86: Tošic, N.; Marinković, S.; Dašić, T.; Stanić, M. Multicriteria optimization of natural and recycled aggregate concrete for structural use. J. Clean. Prod. 2015, 87, 766–776.
B87: Pradhan, S., Tiwari, B. R., Kumar, S. & Barai, S. V. Comparative LCA of recycled and natural aggregate concrete using Particle Packing Method and conventional method of design mix. J. Clean. Prod. 228, 679–691 (2019).
B88: Simion, I. M., Fortuna, M. E., Bonoli, A. & Gavrilescu, M. Comparing environmental impacts of natural inert and recycled construction and demolition waste processing using LCA. J. Environ. Eng. Landsc. Manag. 21, 273–287 (2013).
B89: Kikuchi, T. & Kuroda, Y. Carbon dioxide uptake in demolished and crushed concrete. J. Adv. Concr. Technol. 9, 115–124 (2011).
B90: Ecoinvent 2.2 database: "1 kg Disposal, building, reinforced concrete, to sorting plant/US* US-EI U (of project US-EI 2.2)"
