Workbook

Sheet Protein Report
A1: Identified Proteins (742) | B1: Accession Number | C1: Molecular Weight | D1: SpC 66397 | E1: SpC 66398 | F1: SpC 66399 | G1: SpC 66400 | H1: SpC 66401 | I1: SpC 66402 | J1: SpC 66403 | M1: 66397 | N1: 66398 | O1: 66399 | P1: 66400 | Q1: 66401 | R1: 66402 | S1: 66403
A2: beta-galactosidase OS=Bacteroides sp OX=29523 GN=DCY66_02855 PE=3 SV=1 | B2: tr|A0A831JA57|A0A831JA57_9BACE | C2: 126 kDa | D2: 246 | E2: 30 | F2: 30 | G2: 12 | H2: 2 | I2: 0 | J2: 0 | L2: Total number of proteins identified | M2: =COUNTIF(D:D, ">0") -> 120 | N2: =COUNTIF(E:E, ">0") -> 125 | O2: =COUNTIF(F:F, ">0") -> 183 | P2: =COUNTIF(G:G, ">0") -> 188 | Q2: =COUNTIF(H:H, ">0") -> 175 | R2: =COUNTIF(I:I, ">0") -> 270 | S2: =COUNTIF(J:J, ">0") -> 287
A3: Beta-galactosidase OS=Bacteroides sp OX=29523 GN=DCY66_07515 PE=3 SV=1 | B3: tr|A0A831JFB6|A0A831JFB6_9BACE | C3: 118 kDa | D3: 191 | E3: 159 | F3: 17 | G3: 4 | H3: 0 | I3: 0 | J3: 0 | L3: Total number of spectra matching | M3: =SUM(D:D) -> 3582 | N3: =SUM(E:E) -> 2732 | O3: =SUM(F:F) -> 4427 | P3: =SUM(G:G) -> 6088 | Q3: =SUM(H:H) -> 5375 | R3: =SUM(I:I) -> 2423 | S3: =SUM(J:J) -> 2758
A4: Pyruvate:ferredoxin (Flavodoxin) oxidoreductase OS=Bacteroides sp OX=29523 GN=nifJ PE=3 SV=1 | B4: tr|A0A831NHE3|A0A831NHE3_9BACE | C4: 129 kDa | D4: 167 | E4: 15 | F4: 5 | G4: 2 | H4: 0 | I4: 0 | J4: 0 | L4: Total number of unique peptides | M4: 1838 | N4: 1598 | O4: 2367 | P4: 2404 | Q4: 1788 | R4: 1490 | S4: 1556
A5: carbamoyl-phosphate synthase (glutamine-hydrolyzing) OS=Bacteroides sp OX=29523 GN=DCY66_16000 PE=3 SV=1 | B5: tr|A0A831NJJ1|A0A831NJJ1_9BACE | C5: 120 kDa | D5: 144 | E5: 45 | F5: 7 | G5: 3 | H5: 0 | I5: 0 | J5: 0
A6: carbamoyl-phosphate synthase (glutamine-hydrolyzing) OS=Bacteroides sp OX=29523 GN=DCQ07_02505 PE=3 SV=1 | B6: tr|A0A831IZF8|A0A831IZF8_9BACE (+1) | C6: 120 kDa | D6: 132 | E6: 54 | F6: 8 | G6: 0 | H6: 0 | I6: 0 | J6: 0 | M6: =MAX(D:D) -> 246 | N6: =MAX(E:E) -> 277 | O6: =MAX(F:F) -> 247 | P6: =MAX(G:G) -> 217 | Q6: =MAX(H:H) -> 284 | R6: =MAX(I:I) -> 134 | S6: =MAX(J:J) -> 301
A7: Tricorn protease homolog OS=Bacteroides sp OX=29523 GN=DCQ07_16255 PE=3 SV=1 | B7: tr|A0A831J4K8|A0A831J4K8_9BACE | C7: 121 kDa | D7: 125 | E7: 21 | F7: 11 | G7: 4 | H7: 3 | I7: 0 | J7: 0
A8: DUF4906 domain-containing protein OS=Bacteroides sp. 43_108 OX=1896974 GN=BHV77_05060 PE=4 SV=1 | B8: tr|A0A1Q6HCZ2|A0A1Q6HCZ2_9BACE (+4) | C8: 118 kDa | D8: 93 | E8: 40 | F8: 5 | G8: 0 | H8: 2 | I8: 0 | J8: 0
A9: carbamoyl-phosphate synthase (glutamine-hydrolyzing) OS=Bacteroides sp. 43_46 OX=1897051 GN=BHV72_07805 PE=3 SV=1 | B9: tr|A0A1Q6H1X9|A0A1Q6H1X9_9BACE | C9: 120 kDa | D9: 87 | E9: 0 | F9: 0 | G9: 0 | H9: 0 | I9: 0 | J9: 0
A10: TonB-dependent receptor OS=Bacteroides sp OX=29523 GN=DCQ07_15655 PE=3 SV=1 | B10: tr|A0A831NEG4|A0A831NEG4_9BACE | C10: 122 kDa | D10: 86 | E10: 12 | F10: 2 | G10: 0 | H10: 0 | I10: 2 | J10: 4
A11: Beta-galactosidase OS=Bacteroides sp OX=29523 GN=DCY66_10765 PE=3 SV=1 | B11: tr|A0A831NDK5|A0A831NDK5_9BACE | C11: 121 kDa | D11: 85 | E11: 8 | F11: 0 | G11: 0 | H11: 0 | I11: 0 | J11: 0
A12: Alpha-2-macroglobulin OS=Bacteroides sp OX=29523 GN=DCY66_06810 PE=3 SV=1 | B12: tr|A0A831JF32|A0A831JF32_9BACE | C12: 214 kDa | D12: 80 | E12: 28 | F12: 79 | G12: 25 | H12: 4 | I12: 0 | J12: 0
A13: Tricorn protease homolog OS=Bacteroides sp OX=29523 GN=DCQ07_04870 PE=3 SV=1 | B13: tr|A0A831N800|A0A831N800_9BACE | C13: 123 kDa | D13: 77 | E13: 0 | F13: 0 | G13: 0 | H13: 0 | I13: 0 | J13: 0
A14: isoleucine--tRNA ligase (Fragment) OS=Bacteroides sp OX=29523 GN=ileS PE=4 SV=1 | B14: tr|A0A831IZ60|A0A831IZ60_9BACE | C14: 77 kDa | D14: 75 | E14: 0 | F14: 4 | G14: 0 | H14: 0 | I14: 0 | J14: 0
A15: Insulinase family protein OS=Bacteroides sp OX=29523 GN=DCQ07_04355 PE=3 SV=1 | B15: tr|A0A831J1C2|A0A831J1C2_9BACE (+1) | C15: 106 kDa | D15: 72 | E15: 277 | F15: 70 | G15: 17 | H15: 10 | I15: 0 | J15: 2
A16: Protein translocase subunit SecA OS=Bacteroides sp OX=29523 GN=secA PE=3 SV=1 | B16: tr|A0A831NJ96|A0A831NJ96_9BACE | C16: 125 kDa | D16: 72 | E16: 0 | F16: 3 | G16: 5 | H16: 4 | I16: 0 | J16: 0
A17: Glycoside hydrolase family 2 OS=Bacteroides sp OX=29523 GN=DCY66_11980 PE=3 SV=1 | B17: tr|A0A831JEI0|A0A831JEI0_9BACE | C17: 127 kDa | D17: 72 | E17: 0 | F17: 0 | G17: 0 | H17: 0 | I17: 0 | J17: 0
A18: Beta-galactosidase OS=Bacteroides sp OX=29523 GN=DCY66_13045 PE=3 SV=1 | B18: tr|A0A831JKM2|A0A831JKM2_9BACE | C18: 117 kDa | D18: 69 | E18: 67 | F18: 0 | G18: 0 | H18: 0 | I18: 0 | J18: 0
... A743: Uracil-DNA glycosylase family protein OS=Bacteroides sp OX=29523 GN=DCQ07_01435 PE=4 SV=1 | B743: tr|A0A831J2I2|A0A831J2I2_9BACE | C743: 23 kDa | D743: 0 | E743: 0 | F743: 0 | G743: 0 | H743: 0 | I743: 2 | J743: 0

Sheet Protein Report - CON
A1: Identified Proteins (722) | B1: Accession Number | C1: Molecular Weight | D1: Sample #1 | E1: Sample #2 | F1: Sample #3 | G1: Sample #4 | H1: Sample #5 | I1: Sample #6 | J1: Sample #7 | L1: Sample #1 | M1: Sample #2 | N1: Sample #3 | O1: Sample #4 | P1: Sample #5 | Q1: Sample #6 | R1: Sample #7 | T1: S1 - Max Hit | U1: S2 - Max Hit | V1: S3 - Max Hit | W1: S4 - Max Hit | X1: S5 - Max Hit | Y1: S6 - Max Hit | Z1: S7 - Max Hit | AB1: Sample # | AC1: # of Hits | AD1: Identity | AE1: Signal Peptide (Sec/SPI) | AF1: Lipoprotein signal peptide (Sec/SPII) | AG1: TAT signal peptide (Tat/SPI) | AH1: TAT Lipoprotein signal peptide (Tat/SPII) | AI1: Pilin-like signal peptide (Sec/SPIII) | AJ1: Sequence Prediction | AK1: Predicted Cleavage Site | AL1: Probability of Cleavage Site | AM1: Sequence
A2: beta-galactosidase OS=Bacteroides sp OX=29523 GN=DCY66_02855 PE=3 SV=1 | B2: tr|A0A831JA57|A0A831JA57_9BACE | C2: 126 kDa | D2: 246 | E2: 30 | F2: 30 | G2: 12 | H2: 2 | I2: 0 | J2: 0 | L2: 246 | M2: 277 | N2: 247 | O2: 217 | P2: 284 | Q2: 134 | R2: 301 | T2: =MAX(D:D) -> 246 | U2: =MAX(E:E) -> 277 | V2: =MAX(F:F) -> 247 | W2: =MAX(G:G) -> 217 | X2: =MAX(H:H) -> 284 | Y2: =MAX(I:I) -> 134 | Z2: =MAX(J:J) -> 301 | AB2: 1 | AC2: =T2 -> 246 | AD2: =A2 -> beta-galactosidase OS=Bacteroides sp OX=29523 GN=DCY66_02855 PE=3 SV=1 | AE2: 0.9987 | AF2: 0.0003 | AG2: 0.0002 | AH2: 0.0002 | AI2: 0.0001 | AJ2: Sec/SPI | AK2: 23/24 | AL2: 0.961969 | AM2: MTTLFKFLISAAVCAYSTQVLHAEDTKLPYWKDIQTVAVNKEYPRTAFMTYDNRNQALTGEYENSPYYKLLNGTWNFYYADAYKDLPANIEQPDANIAWKEIKVPGNWEVQGYGVAIYTNHGYEFKPRNPQPPQLPETNPVGVYQRDIEIPADWDGRDIFLRLEGAKSGVYVYVNGQEVGYSEDSKNPAEFLINNYLKPGKNSLVIKIFRWSTGSYLECQDFWRMSGIERDVFLFSQPKTHIKDFNVVSTLDDTYKNGIFKLNVDVTNHTAANKEVTVAYELLDAAKKVVAEGNTPCPVTADGQKSISFEAALSNVKTWTSEHPNLYRLLISLKDGEKTSEIIPYTVGFRRFEIKPTDQIAENGKPYVCLFVNGQPIKLKGVNIHEHNPETGHYVPEELMRKDFTLMKQNNINSVRLCHYPQDRKFYELCDEYGIYVYDEANIESHGMYYNLSRGGTLGNHPEWLKPHMDRTINMYERNKNHPSVAIWSLGNEAGNGYNFYQTYLWLKEREVKGMNRPVNYERALWEWNTDMYVPQYPSAAWLEEIGKKGSDRPIAPSEYSHAMGNSNGNLAAQWRAIYKYPNLQGGYIWDWVDQGILETDENGRTYWAYGGDYGTNAPSDGNFLCNGIVAPDRTPHPAMTEVKYAHQNVGFEAIDPAAGKFLVKNRFYFTNLKKYMISYTVKANGKTIKGGKVSLDIEPQGSKELNINLNGLKPKAGTEYFVDFVVTTTEPEPLIPAGHDIASEQFRLPIEPLAMTGHKASGKTTVSTDGDIITVLSPRMQFVFNKRSGLVTSYKVNGTEYFAEGFGIQPNFWRAPTDNDYGNGGPKREQIWKQSSKNFNVADVTTTTDGNKTVLTVNYLLAAGNLYIMKYTIYPDGVVHAGITFTSTDMKAADTEVSEATLMATFTPGQDAQRLASSKLNVPRIGVRFHLPSDMNQVEYFGRGPGENYIDRNASSFVDLYRTTADQMYTNNYVRPQENGHRTDTRWVELTRKGGKGLLIRADSTIGFNALRNSVEDFDSEEAISRPRQWTNFTPEEVANHNEEKAKNVIRRMTHVNDITPRNFVEVCIDMKQQGVAGYDSWGDRPLPEHTLPANKEYHWGFTLMPVK
A3: Beta-galactosidase OS=Bacteroides sp OX=29523 GN=DCY66_07515 PE=3 SV=1 | B3: tr|A0A831JFB6|A0A831JFB6_9BACE | C3: 118 kDa | D3: 191 | E3: 159 | F3: 17 | G3: 4 | H3: 0 | I3: 0 | J3: 0 | L3: 191 | M3: 265 | N3: 211 | O3: 207 | P3: 265 | Q3: 62 | R3: 89 | AB3: 2 | AC3: =U2 -> 277 | AD3: =A15 -> Insulinase family protein OS=Bacteroides sp OX=29523 GN=DCQ07_04355 PE=3 SV=1 | AE3: 0.9987 | AF3: 0.0002 | AG3: 0.0002 | AH3: 0.0002 | AI3: 0.0002 | AJ3: Sec/SPI | AK3: 23/24 | AL3: 0.973903 | AM3: MTHFLRKMAAAWIILGSVSVGFAQQQMPPIPTDPNVRIGKLDNGLTYYIRHNELPEKRADFYIAQKVGSILEEDNQRGLAHFLEHMCFNGTKNFPDKTLIQYLESIGVKFGENLNAYTSIDETVYNISNVPVIRDGVVDSCLLILHDWADDLTLDPKEIDSERGVIHEEWRTSTNAMMRMYEKALPTLYPESKYAYRLPIGIMEVVDNFPYQALRDYYEKWYRPDQQGIVVVGDIDVDKIEAKIKKIFSPIKMPDNPAEREYFQVPDNKETIVAIETDKEQANPVAYLCYKHEAIPNEQKGNMDYLVVNYMKSMIENMLNARLNELTQTANPPFIFAQVSDQEFLISKTKDAFTGIVASKEDGIDSAITAIVREIERVHKFGFTASEYARAKADYLRMLESAYNERNKVKNGAYVDEYVRHFIDNEPIPGIENEYAIMNQIVPNLSVEMVNSLIPALVTDSNLVVNVFFPEKEGLKVPSKEEILAAVNKVKAETLTAYEDKVSDEPLISEKPQGGKITKQENGPFGSTILTLSNGVRVILKSTDFKADEIRMRAFSPGGSSLFPNDEIININVMNDVASIGGLGNFSNVDLEKVLAGKKASVSASVGGNTEGLSGSCSPKDFETLMQLVYLSFTAPRMDNDAFTSFKNRLQASLANQEANPMTALQDTLQKALYMGHPRTIRMKADMVDKIDYAKVMEMYKDRFKDASDFTFIFVGNIKPEEVEPLIATYLGALPSVNRKETFRDNHIDMRQGDYKNIFSKKLETPKASVLVINNGKCAYTLKNQIMMSMLSQILNIMYTESVREKEGGTYGVSAFGSLTKYPKEKAVLQIYFDTDPAKRAKMTDIILNELNQFVDQGPSAENLNKVKEFMLKKYKENAKENSYWVNILGEYFWEGTDMNTGYTNTVNSITAKDLQEFTKALLEQNNRVEVSMTSEETK
A4: Pyruvate:ferredoxin (Flavodoxin) oxidoreductase OS=Bacteroides sp OX=29523 GN=nifJ PE=3 SV=1 | B4: tr|A0A831NHE3|A0A831NHE3_9BACE | C4: 129 kDa | D4: 167 | E4: 15 | F4: 5 | G4: 2 | H4: 0 | I4: 0 | J4: 0 | L4: 167 | M4: 159 | N4: 125 | O4: 187 | P4: 263 | Q4: 44 | R4: 64 | U4: *All Max Highlighted in yellow | AB4: 3 | AC4: =V2 -> 247 | AD4: =A58 -> DUF4982 domain-containing protein OS=Bacteroides sp OX=29523 GN=DCQ07_15710 PE=3 SV=1 | AE4: 0.9878 | AF4: 0.0014 | AG4: 0.0003 | AH4: 0.0003 | AI4: 0.0003 | AJ4: Sec/SPI | AK4: 22/23 | AL4: 0.962292 | AM4: MNTKRFLCAALGAVCYFAFLQAQVRTEQTFEKGWKFTREDNAEFANPGYNDSKWQNVTVPHDWAIYGPFSINNDKQEMAITQDGQTEAMEHAGRTGGLPFVGTGWYRLNFDAPGFEKGKKATLIFDGAMSHARVYVNGQEAGYWPYGYNSFYVDATPYLKPGERNELAVRLENEPESSRWYPGAGLYRNVHLVINEDTHIPAWGTYVTTPVVTDKYAKVSLKTSLVSPEGANKDNYRIVTQIKDKNGKVVATGENKLSVFDNALFEQEFAVANPELWSPDTPVLYTAESKVYEGNTLKDEYTTRFGIRTLEIVPGKGFFLNGKLTKFKGVCNHHDLGPLGGAVNDAAIRRQIRILKDMGCNAIRTSHNMPAPELVEACDEMGMMLMVESFDEWKSAKMANGYHKIFDEWVEKDLTNLIRHYRNNPSIVMWCIGNEVPDQWNGNNGPKLSRMLQDICHREDPTRPVTQGMDAPDAVVNNNMAAVMDVAGFNYRPHKYPENYKKLPQQIILGSETASTVSSRGVYKFPVVRQAMKKYDDHQSSSYDVEHCGWSNLPEDDWIWHEDNAWGIGEFVWTGFDYLGEPTPYYTDWPSHSSLFGIIDLAGLPKDRYYLYRSHWNKDEETLHILPHWTWPGREGEVTPIFVYTNYPSAEVFINGKSQGKRTKDLTVTAENSADSASIADFKRQKRYRLMWMDTKYEPGTVKVVAYNDKGEAVAEKEIHTAGKPDHIELVTDRNEIKADGKDLSFVTVRVVDKEGNLCPDAQHLIKYSVKGAGTYRAGANGDPTSLELFHVPQMKVFNGMMTAVVQSTDKPGEIILTATGKGLKSGRLVLMSK
A5: carbamoyl-phosphate synthase (glutamine-hydrolyzing) OS=Bacteroides sp OX=29523 GN=DCY66_16000 PE=3 SV=1 | B5: tr|A0A831NJJ1|A0A831NJJ1_9BACE | C5: 120 kDa | D5: 144 | E5: 45 | F5: 7 | G5: 3 | H5: 0 | I5: 0 | J5: 0 | L5: 144 | M5: 80 | N5: 111 | O5: 180 | P5: 249 | Q5: 42 | R5: 54 | AB5: 4 | AC5: =W2 -> 217 | AD5: =A81 -> Dipeptidyl-peptidase OS=Bacteroides sp OX=29523 GN=DCQ07_03225 PE=3 SV=1 | AE5: 0.999 | AF5: 0.0002 | AG5: 0.0002 | AH5: 0.0002 | AI5: 0.0001 | AJ5: Sec/SPI | AK5: 21/22 | AL5: 0.978364 | AM5: MKKFKLLLLALMCVAFLPSKADEGMWLLQLMQEQHLADRMKAQGLLLEADDIYNPNRVSLKDAVGIFGGGCTGEIISPDGLILTNHHCGYGAIQQHSSVEHDYLTDGFWAKSRKEELPTPGLKFKFVERIVDVTDKVNNKVKSGEVKEEETFEYDFLKKLADEELKASDLNGKAGISAQALPFYAGNKFYLIYLKTYSDVRMVAAPPSSIGKFGGETDNWMWPRHTCDFSVFRIYADANGEPAEYNENNVPLKAKKHLAISLKGINEGDYAMIMGFPGSTNRYLTQSEVKQRMHSTNEPRIRIRGVRQDVLKKEMAASDKVRIQYASKYAGSSNYWKNSIGMNKAIIDNKVLETKAEQEAKFAAFAKAKGNTDYEKVVSEIDAAIEKSNPILYNYTCFREVFQGGIEFGTPYLILDKLKDAIKNKDKEAINKNIETLKKVYADIHNKDYDHEVDRKVAKALLPLYAEMVPADALPAFYTTIQKDFKGNYDAYVDHCYDNSIFSNEANFNKFIKKPTVKAIEKDPMTAYVRAKYDLMDKLGNELAESMKGMDLLHKTYVRGLCEMYSPEPKAPDANFTIRLTYGNVKSYNPKDGVHYKYYTTLKGVMEKEDPTNPEFVVPAKLKELYEAKDFGRYALPNGDMPACFLTTNDITGGNSGSPVINGNGELIGAAFDGNWESLSGDINFDNNLQRCIAVDIRYVLFIIDKLGGCKHLIDEMTIVE
A6: carbamoyl-phosphate synthase (glutamine-hydrolyzing) OS=Bacteroides sp OX=29523 GN=DCQ07_02505 PE=3 SV=1 | B6: tr|A0A831IZF8|A0A831IZF8_9BACE (+1) | C6: 120 kDa | D6: 132 | E6: 54 | F6: 8 | G6: 0 | H6: 0 | I6: 0 | J6: 0 | L6: 132 | M6: 73 | N6: 108 | O6: 163 | P6: 230 | Q6: 40 | R6: 49 | AB6: 5 | AC6: =X2 -> 284 | AD6: =A64 -> Chaperone protein DnaK OS=Bacteroides sp. PHL 2737 OX=2162637 GN=dnaK PE=2 SV=1 | AE6: 0 | AF6: 0 | AG6: 0 | AH6: 0 | AI6: 0 | AJ6: Other | AK6: N/A | AL6: 0 | AM6: MGKIIGIDLGTTNSCVSVFEGNEPVVIANSEGKRTTPSIVAFVDGGERKVGDPAKRQAITNPTRTVFSIKRFMGENWDQVQKEIARVPYKVVKGDNNTPRVDIDGRLYTPQEISAMILQKMKKTAEDYLGQEVTEAVITVPAYFSDSQRQATKEAGQIAGLEVKRIVNEPTAAALAYGLDKAHKDMKIAVFDLGGGTFDISILEFGGGVFEVLSTNGDTHLGGDDFDQVIIDWLVQEFKNDEGADLTQDPMAMQRLKEAAEKAKIELSSSTSTEINLPYIMPVGGVPKHLVKTLTRAKFESLAHNLIQACLEPCKKAMQDAGLSNSDIDEVILVGGSSRIPAVQKLVEDFFGKTPSKGVNPDEVVAVGAAVQGAVLTDEIKGVVLLDVTPLSMGIETLGGVMTKLIDANTTIPARKSETFSTAADNQTEVTIHVLQGERPMAAQNKSIGQFNLTGIAPARRGVPQIEVTFDIDANGILKVSAKDKATGKEQAIRIEASSGLSKEEIEKMKAEAEANAEADKKEREKIDKLNQADSLIFQTETQLKELGDKLPADKKAPIETALQKLKDAHKAQDMATIDSAMAELNTAFQAASAEMYAQSGAQGGAQAGPDMNAGQANAGQNNGKQDDNVQDADFEEVK
A7: Tricorn protease homolog OS=Bacteroides sp OX=29523 GN=DCQ07_16255 PE=3 SV=1 | B7: tr|A0A831J4K8|A0A831J4K8_9BACE | C7: 121 kDa | D7: 125 | E7: 21 | F7: 11 | G7: 4 | H7: 3 | I7: 0 | J7: 0 | L7: 125 | M7: 68 | N7: 100 | O7: 131 | P7: 219 | Q7: 35 | R7: 44 | AB7: 6 | AC7: =Y2 -> 134 | AD7: =A32 -> Thiol-activated cytolysin OS=Bacteroides sp. AR20 OX=93974 GN=SAMN02910431_00180 PE=4 SV=1 | AE7: 0.0001 | AF7: 1 | AG7: 0 | AH7: 0 | AI7: 0 | AJ7: Sec/SPII | AK7: 17/18 | AL7: 0.993668 | AM7: MKQYVYLLILPIMFLISCSDDTVEEMGGSNHVLLERYPQEVINISMDNPESFASFNKTSVTRSSELLKDSVWSSGNGHTLIYETNEHIPTQGLMRYIYLGSILQGGSIEKQRFVPIVKPMDPITISYSFPARWVTDIIAKPSLSAQRQSLQNIMNKEGMTGKQLGSFTYNMRQFSYFEELKLAFGANVNIGGLLNIDVSLDKGKIRKKTGLFAKIVQRNYTVDMDLPADGNILLNHDDMGSVGKYDPIYISSITYGRMALISIESSESYDKVRIALQAALQAKVVNGKLSFNLEQEKILKEAEVNVMVYNGEGEGTVKTAKGWNEFQDFIIQGGRFSKDLPGDAIFYTASYLSDNSPFYSKFKIHLEN
A8: DUF4906 domain-containing protein OS=Bacteroides sp. 43_108 OX=1896974 GN=BHV77_05060 PE=4 SV=1 | B8: tr|A0A1Q6HCZ2|A0A1Q6HCZ2_9BACE (+4) | C8: 118 kDa | D8: 93 | E8: 40 | F8: 5 | G8: 0 | H8: 2 | I8: 0 | J8: 0 | L8: 93 | M8: 67 | N8: 90 | O8: 126 | P8: 214 | Q8: 34 | R8: 42 | AB8: 7 | AC8: =Z2 -> 301 | AD8: =A484 -> OmpH family outer membrane protein OS=Bacteroides sp OX=29523 GN=DCQ07_16915 PE=3 SV=1 | AE8: 0.999 | AF8: 0.0002 | AG8: 0.0002 | AH8: 0.0002 | AI8: 0.0001 | AJ8: Sec/SPI | AK8: 19/20 | AL8: 0.976619 | AM8: MLKKIALLLLLIAPMSVFAQKFGHIKSADVLTVMPEFTKAQTDIQAMQKQYEDEMKRATDELTKKYTEYQQEQANLPKNIQERRQKELQELQEKGMQFQQDAQQQLQKSYADMMEPIYKKIEDAIKAVGQEGGYTYIFDLNRTEIPYVNEAQSTDVTAAVKAKVGIK
A9: carbamoyl-phosphate synthase (glutamine-hydrolyzing) OS=Bacteroides sp. 43_46 OX=1897051 GN=BHV72_07805 PE=3 SV=1 | B9: tr|A0A1Q6H1X9|A0A1Q6H1X9_9BACE | C9: 120 kDa | D9: 87 | E9: 0 | F9: 0 | G9: 0 | H9: 0 | I9: 0 | J9: 0 | L9: 87 | M9: 54 | N9: 85 | O9: 123 | P9: 210 | Q9: 32 | R9: 34
A10: TonB-dependent receptor OS=Bacteroides sp OX=29523 GN=DCQ07_15655 PE=3 SV=1 | B10: tr|A0A831NEG4|A0A831NEG4_9BACE | C10: 122 kDa | D10: 86 | E10: 12 | F10: 2 | G10: 0 | H10: 0 | I10: 2 | J10: 4 | L10: 86 | M10: 49 | N10: 82 | O10: 123 | P10: 192 | Q10: 31 | R10: 32 | AN10: *Signal peptide Highlighted in Red
A11: Beta-galactosidase OS=Bacteroides sp OX=29523 GN=DCY66_10765 PE=3 SV=1 | B11: tr|A0A831NDK5|A0A831NDK5_9BACE | C11: 121 kDa | D11: 85 | E11: 8 | F11: 0 | G11: 0 | H11: 0 | I11: 0 | J11: 0 | L11: 85 | M11: 48 | N11: 81 | O11: 121 | P11: 190 | Q11: 29 | R11: 32
A12: Alpha-2-macroglobulin OS=Bacteroides sp OX=29523 GN=DCY66_06810 PE=3 SV=1 | B12: tr|A0A831JF32|A0A831JF32_9BACE | C12: 214 kDa | D12: 80 | E12: 28 | F12: 79 | G12: 25 | H12: 4 | I12: 0 | J12: 0 | L12: 80 | M12: 45 | N12: 79 | O12: 114 | P12: 186 | Q12: 29 | R12: 26
A13: Tricorn protease homolog OS=Bacteroides sp OX=29523 GN=DCQ07_04870 PE=3 SV=1 | B13: tr|A0A831N800|A0A831N800_9BACE | C13: 123 kDa | D13: 77 | E13: 0 | F13: 0 | G13: 0 | H13: 0 | I13: 0 | J13: 0 | L13: 77 | M13: 45 | N13: 78 | O13: 112 | P13: 165 | Q13: 27 | R13: 25
A14: isoleucine--tRNA ligase (Fragment) OS=Bacteroides sp OX=29523 GN=ileS PE=4 SV=1 | B14: tr|A0A831IZ60|A0A831IZ60_9BACE | C14: 77 kDa | D14: 75 | E14: 0 | F14: 4 | G14: 0 | H14: 0 | I14: 0 | J14: 0 | L14: 75 | M14: 44 | N14: 75 | O14: 111 | P14: 90 | Q14: 24 | R14: 24
A15: Insulinase family protein OS=Bacteroides sp OX=29523 GN=DCQ07_04355 PE=3 SV=1 | B15: tr|A0A831J1C2|A0A831J1C2_9BACE (+1) | C15: 106 kDa | D15: 72 | E15: 277 | F15: 70 | G15: 17 | H15: 10 | I15: 0 | J15: 2 | L15: 72 | M15: 41 | N15: 74 | O15: 106 | P15: 77 | Q15: 24 | R15: 23
A16: Glycoside hydrolase family 2 OS=Bacteroides sp OX=29523 GN=DCY66_11980 PE=3 SV=1 | B16: tr|A0A831JEI0|A0A831JEI0_9BACE | C16: 127 kDa | D16: 72 | E16: 0 | F16: 0 | G16: 0 | H16: 0 | I16: 0 | J16: 0 | L16: 72 | M16: 41 | N16: 74 | O16: 106 | P16: 72 | Q16: 23 | R16: 23
A17: Protein translocase subunit SecA OS=Bacteroides sp OX=29523 GN=secA PE=3 SV=1 | B17: tr|A0A831NJ96|A0A831NJ96_9BACE | C17: 125 kDa | D17: 72 | E17: 0 | F17: 3 | G17: 5 | H17: 4 | I17: 0 | J17: 0 | L17: 72 | M17: 40 | N17: 72 | O17: 101 | P17: 69 | Q17: 22 | R17: 22
A18: Beta-galactosidase OS=Bacteroides sp OX=29523 GN=DCY66_13045 PE=3 SV=1 | B18: tr|A0A831JKM2|A0A831JKM2_9BACE | C18: 117 kDa | D18: 69 | E18: 67 | F18: 0 | G18: 0 | H18: 0 | I18: 0 | J18: 0 | L18: 69 | M18: 39 | N18: 70 | O18: 101 | P18: 67 | Q18: 22 | R18: 21
A19: Pectate lyase OS=Bacteroides sp OX=29523 GN=DCY66_00205 PE=4 SV=1 | B19: tr|A0A831JE42|A0A831JE42_9BACE | C19: 116 kDa | D19: 68 | E19: 48 | F19: 0 | G19: 0 | H19: 0 | I19: 0 | J19: 0 | L19: 68 | M19: 38 | N19: 69 | O19: 101 | P19: 64 | Q19: 22 | R19: 20
A20: Glycoside hydrolase family 2 OS=Bacteroides sp OX=29523 GN=DCQ07_12270 PE=3 SV=1 | B20: tr|A0A831N990|A0A831N990_9BACE | C20: 127 kDa | D20: 68 | E20: 0 | F20: 0 | G20: 0 | H20: 0 | I20: 0 | J20: 0 | L20: 68 | M20: 37 | N20: 67 | O20: 99 | P20: 62 | Q20: 22 | R20: 20
A21: Isoleucine--tRNA ligase OS=Bacteroides sp. An51A OX=1965640 GN=ileS PE=3 SV=1 | B21: tr|A0A1Y3XA69|A0A1Y3XA69_9BACE (+3) | C21: 133 kDa | D21: 67 | E21: 0 | F21: 0 | G21: 0 | H21: 0 | I21: 0 | J21: 0 | L21: 67 | M21: 35 | N21: 61 | O21: 98 | P21: 62 | Q21: 21 | R21: 20
A22: Isoleucine--tRNA ligase OS=Bacteroides sp OX=29523 GN=ileS PE=3 SV=1 | B22: tr|A0A3C0E2I0|A0A3C0E2I0_9BACE (+1) | C22: 132 kDa | D22: 67 | E22: 6 | F22: 0 | G22: 0 | H22: 0 | I22: 0 | J22: 0 | L22: 67 | M22: 34 | N22: 60 | O22: 97 | P22: 55 | Q22: 21 | R22: 19
... A723: Beta-galactosidase OS=Bacteroides sp. HPS0048 OX=1078089 GN=HMPREF1214_04009 PE=3 SV=1 | B723: tr|U6RE73|U6RE73_9BACE | C723: 96 kDa | D723: 0 | E723: 0 | F723: 74 | G723: 0 | H723: 0 | I723: 0 | J723: 0 | L723: 0 | M723: 0 | N723: 0 | O723: 0 | P723: 0 | Q723: 0 | R723: 0

Sheet Top Counts from Samples
A1: Top hits from each Sample (>100 counts)
A3: Sample 1 | L3: *Signal peptide Highlighted in Red
A4: ~125 kDa | B4: # of Hits | C4: Identity | D4: Signal Peptide (Sec/SPI) | E4: Lipoprotein signal peptide (Sec/SPII) | F4: TAT signal peptide (Tat/SPI) | G4: TAT Lipoprotein signal peptide (Tat/SPII) | H4: Pilin-like signal peptide (Sec/SPIII) | I4: Sequence Prediction | J4: Predicted Cleavage Site | K4: Probability of Cleavage Site | L4: Sequence
A5: 1 | B5: 246 | C5: ='Protein Report - CON'!AD2 -> beta-galactosidase OS=Bacteroides sp OX=29523 GN=DCY66_02855 PE=3 SV=1 | D5: 0.9987 | E5: 0.0003 | F5: 0.0002 | G5: 0.0002 | H5: 0.0001 | I5: Sec/SPI | J5: 23/24 | K5: 0.961969 | L5: MTTLFKFLISAAVCAYSTQVLHAEDTKLPYWKDIQTVAVNKEYPRTAFMTYDNRNQALTGEYENSPYYKLLNGTWNFYYADAYKDLPANIEQPDANIAWKEIKVPGNWEVQGYGVAIYTNHGYEFKPRNPQPPQLPETNPVGVYQRDIEIPADWDGRDIFLRLEGAKSGVYVYVNGQEVGYSEDSKNPAEFLINNYLKPGKNSLVIKIFRWSTGSYLECQDFWRMSGIERDVFLFSQPKTHIKDFNVVSTLDDTYKNGIFKLNVDVTNHTAANKEVTVAYELLDAAKKVVAEGNTPCPVTADGQKSISFEAALSNVKTWTSEHPNLYRLLISLKDGEKTSEIIPYTVGFRRFEIKPTDQIAENGKPYVCLFVNGQPIKLKGVNIHEHNPETGHYVPEELMRKDFTLMKQNNINSVRLCHYPQDRKFYELCDEYGIYVYDEANIESHGMYYNLSRGGTLGNHPEWLKPHMDRTINMYERNKNHPSVAIWSLGNEAGNGYNFYQTYLWLKEREVKGMNRPVNYERALWEWNTDMYVPQYPSAAWLEEIGKKGSDRPIAPSEYSHAMGNSNGNLAAQWRAIYKYPNLQGGYIWDWVDQGILETDENGRTYWAYGGDYGTNAPSDGNFLCNGIVAPDRTPHPAMTEVKYAHQNVGFEAIDPAAGKFLVKNRFYFTNLKKYMISYTVKANGKTIKGGKVSLDIEPQGSKELNINLNGLKPKAGTEYFVDFVVTTTEPEPLIPAGHDIASEQFRLPIEPLAMTGHKASGKTTVSTDGDIITVLSPRMQFVFNKRSGLVTSYKVNGTEYFAEGFGIQPNFWRAPTDNDYGNGGPKREQIWKQSSKNFNVADVTTTTDGNKTVLTVNYLLAAGNLYIMKYTIYPDGVVHAGITFTSTDMKAADTEVSEATLMATFTPGQDAQRLASSKLNVPRIGVRFHLPSDMNQVEYFGRGPGENYIDRNASSFVDLYRTTADQMYTNNYVRPQENGHRTDTRWVELTRKGGKGLLIRADSTIGFNALRNSVEDFDSEEAISRPRQWTNFTPEEVANHNEEKAKNVIRRMTHVNDITPRNFVEVCIDMKQQGVAGYDSWGDRPLPEHTLPANKEYHWGFTLMPVK
A6: 2 | B6: 191 | C6: ='Protein Report - CON'!A3 -> Beta-galactosidase OS=Bacteroides sp OX=29523 GN=DCY66_07515 PE=3 SV=1 | D6: 0.998 | E6: 0.0006 | F6: 0.0003 | G6: 0.0002 | H6: 0.0002 | I6: Sec/SPI | J6: 19/20 | K6: 0.964211 | L6: MKKQLMTGLFTVLALTAGAQTFQEWRNPEINAVNRAPMHTNYFAFENADAAKKADKKQSTNYMTLNGTWKFNWVKDADSRPTDFWKTGFNDKGWDDLQVPAVWELNGYGDPIYVNVGYAWRNQFQNNPPEVPTENNHVGSYRREIVVPASWKGKDIIAHFGSVTSNMYLWVNGRYVGYSEDSKLEAEFDLTPYLKPGQKNLIAFQVFRWCDGTYLEDQDFFRYSGVGRDCYLYARNKKRIQDIRVTPDLDAAYQNGSLAVNLDLKGSGKVDLELVDAQGKQVATATANKSGLVTMNVENPKKWSAETPYLYTLRASMQGSNEVIPVKVGFRKIELKGDQILVNGKAVLFKGADRHEMDPDGGYVVSPERMLQDIQIMKQFNLNAVRTCHYPDDNLWYDLCDQYGIYVVAEANIESHGMGYGDKTLAKNPSYKKAHLERNQRNVQRGFNHPSIIFWSLGNEAGDGPNFEQCYKWIKAEDPSRACQYEQARQKEHTDIFCPMYYDYNGMEKYGQRTDATKPLIQCEYAHAMGNSQGGFKEYWDLIRKYPNLQGGFIWDFVDQSCRWKGKDGVMIYAYGGDFNRFDASDNNFCDNGLISPDRVPNPHMYEVGHFYQNIWTTPADLSKGEVNVFNENFFRDLSAYYMEWQVLKDGKVIRTGRVDDLKVAPQETAKITLNIGKTCTCKEWLLNVSYKLKNREGLLPAGFTVAKNQLTLNDYKAPSMDLKNVETTNVATVVPQIIDNQYHYLIVKGNNFVAEFNKQNGYLSKYAVDGTEMLKEGAALTPNFWRAPTDNDMGAGLQNRYAAWKNPGLKLVSLNSKTENDQIVVNAEYDMKNVSAKLYLTYVINNEGAIKVTQKMTADKNAKVSPMFRFGMQMQMPKCFETVEYYGRGPVENYSDRNHSTDLGIYRQSVDEQFYSYIRPQETGTKTDIRWWKQLNAGGNGLKVVGDAPFSASALHYTICSLDDGEQKDQRHSPEVQKADLTNLIIDKAQMGLGCVNSWGALPLPQYMLPYGDYEFTFILTPVKHSVEIE
A7: 3 | B7: 167 | C7: ='Protein Report - CON'!A4 -> Pyruvate:ferredoxin (Flavodoxin) oxidoreductase OS=Bacteroides sp OX=29523 GN=nifJ PE=3 SV=1 | D7: 0 | E7: 0 | F7: 0 | G7: 0 | H7: 0 | I7: Other | J7: N/A | K7: 0 | L7: MTKQKKFITCDGNQAAAHISYMFSEVAAIYPITPSSTMAEYVDEWAAAGRKNIFGETVLVQEMQSEGGAAGAVHGSLQAGALTTTYTASQGLLLMIPNMYKIAGEFLPCVFHVSARTLASHALCIFGDHQDVMSCRQTGFAMLCEGSVQEVMDMAAVAHLATIKSRVPFVNFFDGFRTSHEIQKIEMLENEDLAGLIDQQALAEFRQRALNPNNPVARGMAENPDHFFQHRESCNNFYEAVPAIVEEYMNEISKITGRPHGLFDYYGAEDAERVIIAMGSVTEAAREAIDYLMSKGEKVGLVSVHLYRPFSAKHFLAAVPKTAKTIAVLDRTKEPGANGEPLYLDVKDCFYGTENAPVIVGGRYGLGSKDTTPAQIIAVFKNLALPMPKNHFTVGIVDDVTFTSLPQEEEIALGGEGMFEAKFYGLGADGTVGANKNSVKIIGDNTDKHCQAYFSYDSKKSGGFTCSHLRFGDTPIRSTYLVNTPNFVACHVQAYLHMYDVTRGLRKNGSFLLNTIWEGEELAKNLPNKVKKYFAQNNITVYYINATQIAQEIGLGNRTNTILQSAFFRITGVIPVDLAVEQMKKFIVKSYGKKGEDVVNKNYAAVDRGGEYKQLAVDPAWANLEVEAPAANNDPAFINEVVRPINAQDGDLLPVSAFKGIEDGTWEQGTAQYEKRGVAAFVPEWNAENCIQCNKCAYVCPHASIRPFVLDAEEQKGADFETLKAVGKQFDGMTFRIQVDVLDCLGCGNCADVCPGNPKKGGKALTMKHLESQLSQAANWEYCAKNVKSKQHLVDIKANVKNSQFATPLFEFSGACSGCGETPYVKLISQLFGDREMVANATGCSSIYSGSVPSTPYTKNEKGQGPAWANSLFEDFCEFGLGMTLADKKLRARIEAAMKDAIASDTCPAEYKEAFQEWIDGKDDADKSKAAAEKIIPMVEAAKDKCKNCATIAEFKNYLVKKSQWIIGGDGASYDIGYGGLDHVIASGEDVNILVLDTEVYSNTGGQSSKATPLGAIAKFAASGKRVRKKDLGMIATTYGYVYVAQIAMGADQAQTLKAIREAEAYPGPSLVIAYAPCINHGLKAGMGKSQAEEAKAVECGYWHLWRFNPALEEEGKNPFMLDSKEPKWEGFQDFLKNEVRFASVMKQYPAEAADLFAACEEMAKKRYASYKRMEAMNWGE
A8: 4 | B8: 144 | C8: ='Protein Report - CON'!A5 -> carbamoyl-phosphate synthase (glutamine-hydrolyzing) OS=Bacteroides sp OX=29523 GN=DCY66_16000 PE=3 SV=1 | D8: 0 | E8: 0 | F8: 0 | G8: 0 | H8: 0 | I8: Other | J8: N/A | K8: 0 | L8: MKDEIKKVLLLGSGALKIGEAGEFDYSGSQALKALKEEGIETVLINPNIATVQTSEGVADQIYFLPVTPYFVEKVIEKERPDGVLLSFGGQTALNCGVALYKAGIFEKYNVRVLGTPVQAIMDTEDRELFVEKLNEINVKTIKSEAVENLEDARRAAKELGYPVIIRAAYALGGLGSGFCDNEEELNVLAEKAFSFSPQVLVEKSLKGWKEVEYEVVRDRYDNCITVCNMENFDPLGIHTGESIVIAPSQTLTNAEYHKLRELAIRIIRHIGIVGECNVQYAFDPESEDYRVIEVNARLSRSSALASKATGYPLAFVAAKLGLGYGLFDLKNSVTKTTSAFFEPALDYVVCKIPRWDLGKFHGVDRELGSSMKSVGEVMAIGRTFEEAIQKGLRMIGQGMHGFVENKELVIEDVDKALREPTDKRIFVISKAMRAGYTVDQIHELTKIDKWFLQKLQHIMDTSKEMHEWGNNHKQITDMPDELLRKAKVQGFSDFQIARAIGYEGDMEDGILYVRNHRKQVGILPVVKQIDTLAAEYPAQTNYLYLTYSGVANDVKYLGDHKSIVVLGSGAYRIGSSVEFDWCGVQALQTIRKEGYRSVMINYNPETVSTDYDMCDRLYFDELTFERVMDILELENPHGVIVSTGGQIPNNLALRLDAQNVNILGTSAKSIDNAEDRDKFSAMLDRIGVDQPEWSALTSMEDIHAFIDKVGFPVLVRPSYVLSGAAMNVCSNQEELERFLKLAANVSKKHPVVVSQFIEHAKEVEMDAVAQNGEIVAYAISEHIEYAGVHSGDATIQFPPQKLYVETVRRIKRISRQIAKELNISGPFNIQYLAKDNDIKVIECNLRASRSFPFVSKVLKINFIELATKVMLGLPVEKPNKNLFELDYVGIKASQFSFNRLQKADPVLGVDMASTGEVGCIGTDTSCAVLKAMLSVGYRIPEKSVLLSTGNAKQKADTLEAARMLQKKGYKLYATGGSSHFLTENGVENTRVYWPSEEGKPQALDMLHRKEIDMVVNIPKNLTAGELDNGYKIRRAAIDLNVPLITNARLASAFINAFCTMTINDIAIKSWAEYK
A9: 5 | B9: 132 | C9: ='Protein Report - CON'!A6 -> carbamoyl-phosphate synthase (glutamine-hydrolyzing) OS=Bacteroides sp OX=29523 GN=DCQ07_02505 PE=3 SV=1 | D9: 0 | E9: 0 | F9: 0 | G9: 0 | H9: 0 | I9: Other | J9: N/A | K9: 0 | L9: MKKDLKKVLVLGSGALKIGQAGEFDYSGSQALKALREEGIHSVLVNPNIATIQTSEGIADKVYFLPVTPFFVEEIIKKEQPDGILLAFGGQTALNCGTELYLNGTLKKYGVEVLGTSVEAIMYTEDRDLFVKKLDEIPMKTPKSHAVESMEEALKAAREIGYPVMVRSAYALGGLGSGICPDEEAFIKLAESSFAFSKQILVEESLKGWKEIEFEVIRDANDHCFTVASMENFDPLGIHTGESIVVAPTCSLTEEQVTMLQDLSTKCIRHLGIVGECNIQYAFNAETNDYRVIEVNARLSRSSALASKATGFPLAFVAAKIALGYTLDQIGEMGTPNSAYEAPQLDYLICKIPRWDLTKFAGVSRQIGSSMKSVGEIMSIGRSFEEIIQKGLRMIGQGMHGFVGNDHTKFENLDEELANPTDLRIFSIASALEEGYSIERIHELTKIDPWFLGKLKNIVDYKAKLSTYNKIEDLPEDVLRQAKVLGFSDFQIARFVLKASGNMEKENLAVRARRKALNILPAVKRINTVASEHPELTNYLYMTYATTGYDVNYYKNEKSVVVLGSGAYRIGSSVEFDWCSVNAVQTARKLGYKSIMINYNPETVSTDYDMCDRLYFDELSFERVLDVIDLEQPGGVIVSVGGQIPNNLAMKLHRQSVPVLGTSPLSIDRAENRHKFSAMLDQLGIDQPAWKELTSLEDMEEFVNKVGYPVLVRPSYVLSGAAMNVCYNEDELKEFLQMAKEVSKEYPVVVSQFMQDTKEIEFDAVAQNGEVVEYAISEHIEYAGVHSGDATLVFPAQKIYFETARRIKKIGRRIAKELNISGPFNMQFLAKNNEVKVIECNLRASRSFPFVSKVLKRNFIETATRIMLGAPYSQPDKSAFDIDWIGVKASQFSFSRLHKADPVLGVDMSSTGEVGCIGDDFHEALLNSMIAVGFKIPTKSVMFSSGATKSKVDLLEASRMLAEKEYEIYATAGTATFLNAHGVNTTPVYWPDEKPDAENNVMKMIAEHKFDLIVNIPKNHTKRELTNGYKIRRGAIDHNIPLITNARLASAFIEAFCEMSEKDIQIKSWQDYK
A10: 6 | B10: 125 | C10: ='Protein Report - CON'!A7 -> Tricorn protease homolog OS=Bacteroides sp OX=29523 GN=DCQ07_16255 PE=3 SV=1 | D10: 0.9989 | E10: 0.0002 | F10: 0.0002 | G10: 0.0002 | H10: 0.0001 | I10: Sec/SPI | J10: 20/21 | K10: 0.974379 | L10: MNKKLLFSLLLAGTAFTGHADEARLLRFPATNGSDIVFSYAGDLYKAPLNGGEAQKLTSHIGYEMFARFSPDGKSIAFTGQYDGNTEVYLIPTDGGEPQRLTYTATNSRDDLGDRMGPNNIVMTWTPDGKNIVYRNRISDGFDGKLWSISKNGGMSEVIPLPEGGFCSYSPDGKKLAYNRVMREFRNWKYYRGGMADDIWIYDPAAKKVENITNNIAQDIIPMWIGEEIYFISDRDRTMNIFVYNIRTKQTEKVTHYTDYDVKFPSSNGQIIVYEHGGYLYKLDPKTRKSEKISITLTSDNIYARKEMKRVADNLTAASLSPDGHRLAVTARGEVFDVPAEKGVTRDITRTPGANEREGEWSPNGKQIAYISDRTGETEIWLQSVEGGDPIQLTQNNDTYIRQLMWSPDSKKILYTDRKNRIVEVDIASKAKRTVMQNPEGEFYEVNYSPDSQWITYTKSGANNMSVIYVYHLTSGKEYPVTEKWYNSSSPVFSTDGKYLIFSSERDFNPIYSQTEWNHAYNRMGGVYMAMLANDTPSPLLPSDEMVSIEQQATDAVNKKTEATNNAVKIDPEGLPGRLIKLPLQAGNYDNFYSDGKKVWYASGRSTKVYDLAEQKEETVAEGAYMDVAANHRKALFFKGNNLYICDFPCTKASLEENVNLDNMIAPIDYSQEWAQIFDETWRAFRDGFYLENMHGADWKGIKEKYAVLVPHAKTRLDLNYIIGEMIAELACGHAYVNPGEIKGPERIPMGLLGAELSRDKSGFYRIDKILPGAIYSQKLRSPLTEPGIGVKEGDYITAIDDISTATVDNIYSLLAGKANVLTELSINRTASSKGARKVVIKPLDNEYPLYHYNWVQNNIKKVEEATNGRVGYVYIPDMGPDGLNEFARYFYPQLDKEALIIDDRANGGGNVSPMIIERLLREPYRLTMRRGSTKIGTIPDATLVGPKVLLINKYSASDGDLFPWSFKANKIGKVIGTRTWGGIVGISGPLPYMDGTDVRVPFFTNYDAKTGQWIVENHGVDPDILIDNDPVKEQSGEDQQLNKAIEVILQELKDRKPLPSVPAPRTYKDLGVE
A12: Sample 2
A13: ~100 kDa
A14: 1 | B14: 277 | C14: ='Protein Report - CON'!AD3 -> Insulinase family protein OS=Bacteroides sp OX=29523 GN=DCQ07_04355 PE=3 SV=1 | D14: 0.9987 | E14: 0.0002 | F14: 0.0002 | G14: 0.0002 | H14: 0.0002 | I14: Sec/SPI | J14: 23/24 | K14: 0.973903 | L14: MTHFLRKMAAAWIILGSVSVGFAQQQMPPIPTDPNVRIGKLDNGLTYYIRHNELPEKRADFYIAQKVGSILEEDNQRGLAHFLEHMCFNGTKNFPDKTLIQYLESIGVKFGENLNAYTSIDETVYNISNVPVIRDGVVDSCLLILHDWADDLTLDPKEIDSERGVIHEEWRTSTNAMMRMYEKALPTLYPESKYAYRLPIGIMEVVDNFPYQALRDYYEKWYRPDQQGIVVVGDIDVDKIEAKIKKIFSPIKMPDNPAEREYFQVPDNKETIVAIETDKEQANPVAYLCYKHEAIPNEQKGNMDYLVVNYMKSMIENMLNARLNELTQTANPPFIFAQVSDQEFLISKTKDAFTGIVASKEDGIDSAITAIVREIERVHKFGFTASEYARAKADYLRMLESAYNERNKVKNGAYVDEYVRHFIDNEPIPGIENEYAIMNQIVPNLSVEMVNSLIPALVTDSNLVVNVFFPEKEGLKVPSKEEILAAVNKVKAETLTAYEDKVSDEPLISEKPQGGKITKQENGPFGSTILTLSNGVRVILKSTDFKADEIRMRAFSPGGSSLFPNDEIININVMNDVASIGGLGNFSNVDLEKVLAGKKASVSASVGGNTEGLSGSCSPKDFETLMQLVYLSFTAPRMDNDAFTSFKNRLQASLANQEANPMTALQDTLQKALYMGHPRTIRMKADMVDKIDYAKVMEMYKDRFKDASDFTFIFVGNIKPEEVEPLIATYLGALPSVNRKETFRDNHIDMRQGDYKNIFSKKLETPKASVLVINNGKCAYTLKNQIMMSMLSQILNIMYTESVREKEGGTYGVSAFGSLTKYPKEKAVLQIYFDTDPAKRAKMTDIILNELNQFVDQGPSAENLNKVKEFMLKKYKENAKENSYWVNILGEYFWEGTDMNTGYTNTVNSITAKDLQEFTKALLEQNNRVEVSMTSEETK
C15: May have been misidentified, alphafold structure is closely related to glycoside hydrolase (rmsd 1.3, PDB: 5t98)
A16: 2 | B16: 265 | C16: ='Protein Report - CON'!A23 -> Tetratricopeptide repeat protein OS=Bacteroides sp OX=29523 GN=DCY66_10310 PE=4 SV=1 | D16: 0.6283 | E16: 0.3699 | F16: 0.0005 | G16: 0.0004 | H16: 0.0003 | I16: Sec/SPI | J16: 21/22 | K16: 0.578623 | L16: MKRKTLLMAALMGGCSLQGMAQQITPKDVAGDKEYNRVCREYELKGGDSMELLQAYLDKYPDSRHKNRVLSLIASAYFMEGKYKEAIALFRSCDLEALPDKERDDCAMRLATSYLKEDNLREAAVWFTLLKEVSPLYQDDAVYNLAYIDYVEKRYDKALKSFQSLQNDAVYAALVPYYIGEIYLVKGNYQQARTVAKAYLEQYPAKKDVPQMERIWGEACFGLNDYQAAIPPLERYRESVSHPQRKPLYELGMSYYYTGVYSKAAATLGEMASVHDALSQNAYLHMGLAYLNLKERNRARMAFEQAANFSFDPKVKEQALYNYALCIHETSYSPFAESVTVFERFLNEFPNSPYTERVNDYLIEVYMNTRSYEAALKSIAKIEHPGTRIMEAKQKILFRLGTQAFANARFQEALEFFNQSLAVGQYNQATKADAYFWRGESNYRLDRFPQAGNDYRLYLEFATSKNGQEYGLALYNLGYTYFKQKNYGNAGTWFTRFVDRGSINERTMQADAYNRIGDCNFYDRRFEQARQDYARAVEIDPSLGDYSLYQEAFVRGLQRDYNGKVQTLNRLISDYPESQYMDDALYEQGRAFVQMEDNANAIARFNILVKKFPESNVARRAANEIGLLYYQDDKYPEAIQAYKQVIAGYPGSEEARLAQRDLKSIYIDLNKVDEYANFASTIPGGANFDVNERDSLTYVAAERVYMRGEVAEARNSFTRYLQTFPEGAFSLNANYYIGLIDYNQKAYESAARHLDKVLEYPNNKYSEDAMLMGAEMAYTAKDYEKALHIYKQLKDKAASMERRRLAKTGMLRSAHMLGNEEEIIFAATDLLADTKLAPELSNEAHYYRAKAYLDAGKTDGAMEDLKVLAKDTRNVYGAEAKYKVAQIYFDGGQTDKAEQEVLNYIEVSTPHTYWLARSFVLLADVYMKLGRNLDAKQYLLSLKQNYQADDDIAGMIESRLEKLKTEN
A17: 3 | B17: 159 | C17: ='Protein Report - CON'!A3 -> Beta-galactosidase OS=Bacteroides sp OX=29523 GN=DCY66_07515 PE=3 SV=1 | D17: 0.998 | E17: 0.0006 | F17: 0.0003 | G17: 0.0002 | H17: 0.0002 | I17: Sec/SPI | J17: 19/20 | K17: 0.964211 | L17: MKKQLMTGLFTVLALTAGAQTFQEWRNPEINAVNRAPMHTNYFAFENADAAKKADKKQSTNYMTLNGTWKFNWVKDADSRPTDFWKTGFNDKGWDDLQVPAVWELNGYGDPIYVNVGYAWRNQFQNNPPEVPTENNHVGSYRREIVVPASWKGKDIIAHFGSVTSNMYLWVNGRYVGYSEDSKLEAEFDLTPYLKPGQKNLIAFQVFRWCDGTYLEDQDFFRYSGVGRDCYLYARNKKRIQDIRVTPDLDAAYQNGSLAVNLDLKGSGKVDLELVDAQGKQVATATANKSGLVTMNVENPKKWSAETPYLYTLRASMQGSNEVIPVKVGFRKIELKGDQILVNGKAVLFKGADRHEMDPDGGYVVSPERMLQDIQIMKQFNLNAVRTCHYPDDNLWYDLCDQYGIYVVAEANIESHGMGYGDKTLAKNPSYKKAHLERNQRNVQRGFNHPSIIFWSLGNEAGDGPNFEQCYKWIKAEDPSRACQYEQARQKEHTDIFCPMYYDYNGMEKYGQRTDATKPLIQCEYAHAMGNSQGGFKEYWDLIRKYPNLQGGFIWDFVDQSCRWKGKDGVMIYAYGGDFNRFDASDNNFCDNGLISPDRVPNPHMYEVGHFYQNIWTTPADLSKGEVNVFNENFFRDLSAYYMEWQVLKDGKVIRTGRVDDLKVAPQETAKITLNIGKTCTCKEWLLNVSYKLKNREGLLPAGFTVAKNQLTLNDYKAPSMDLKNVETTNVATVVPQIIDNQYHYLIVKGNNFVAEFNKQNGYLSKYAVDGTEMLKEGAALTPNFWRAPTDNDMGAGLQNRYAAWKNPGLKLVSLNSKTENDQIVVNAEYDMKNVSAKLYLTYVINNEGAIKVTQKMTADKNAKVSPMFRFGMQMQMPKCFETVEYYGRGPVENYSDRNHSTDLGIYRQSVDEQFYSYIRPQETGTKTDIRWWKQLNAGGNGLKVVGDAPFSASALHYTICSLDDGEQKDQRHSPEVQKADLTNLIIDKAQMGLGCVNSWGALPLPQYMLPYGDYEFTFILTPVKHSVEIE
A19: Sample 3
A20: ~90 kDa
A21: 1 | B21: 247 | C21: ='Protein Report - CON'!AD4 -> DUF4982 domain-containing protein OS=Bacteroides sp OX=29523 GN=DCQ07_15710 PE=3 SV=1 | D21: 0.9878 | E21: 0.0014 | F21: 0.0003 | G21: 0.0003 | H21: 0.0003 | I21: Sec/SPI | J21: 22/23 | K21: 0.962292 | L21: MNTKRFLCAALGAVCYFAFLQAQVRTEQTFEKGWKFTREDNAEFANPGYNDSKWQNVTVPHDWAIYGPFSINNDKQEMAITQDGQTEAMEHAGRTGGLPFVGTGWYRLNFDAPGFEKGKKATLIFDGAMSHARVYVNGQEAGYWPYGYNSFYVDATPYLKPGERNELAVRLENEPESSRWYPGAGLYRNVHLVINEDTHIPAWGTYVTTPVVTDKYAKVSLKTSLVSPEGANKDNYRIVTQIKDKNGKVVATGENKLSVFDNALFEQEFAVANPELWSPDTPVLYTAESKVYEGNTLKDEYTTRFGIRTLEIVPGKGFFLNGKLTKFKGVCNHHDLGPLGGAVNDAAIRRQIRILKDMGCNAIRTSHNMPAPELVEACDEMGMMLMVESFDEWKSAKMANGYHKIFDEWVEKDLTNLIRHYRNNPSIVMWCIGNEVPDQWNGNNGPKLSRMLQDICHREDPTRPVTQGMDAPDAVVNNNMAAVMDVAGFNYRPHKYPENYKKLPQQIILGSETASTVSSRGVYKFPVVRQAMKKYDDHQSSSYDVEHCGWSNLPEDDWIWHEDNAWGIGEFVWTGFDYLGEPTPYYTDWPSHSSLFGIIDLAGLPKDRYYLYRSHWNKDEETLHILPHWTWPGREGEVTPIFVYTNYPSAEVFINGKSQGKRTKDLTVTAENSADSASIADFKRQKRYRLMWMDTKYEPGTVKVVAYNDKGEAVAEKEIHTAGKPDHIELVTDRNEIKADGKDLSFVTVRVVDKEGNLCPDAQHLIKYSVKGAGTYRAGANGDPTSLELFHVPQMKVFNGMMTAVVQSTDKPGEIILTATGKGLKSGRLVLMSK
A22: 2 | B22: 211 | C22: ='Protein Report - CON'!A584 -> Chaperone protein ClpB OS=Bacteroides sp OX=29523 GN=clpB PE=3 SV=1 | D22: 0 | E22: 0 | F22: 0 | G22: 0 | H22: 0 | I22: Other | J22: N/A | K22: 0 | L22: MNFNNFTIKSQEAVQQAVNVTQARGQQAIEPVHLLAGVLKVGENVTNFIFQKLGMNAQQIALVIDKQIDSLPKVSGGEPYLSRESNEILQRAVQYSKEMGDEFVSLEAIILALLNVKSTVATILKDAGMTDKELRSAIAELRKGEKVTSQSSEDTYQSLSKYAINLNEAARSGKLDPVIGRDEEIRRVLQILSRRTKNNPILIGEPGTGKTAIVEGLAHRIIRGDVPDNLKNKQIFSLDMGALVAGAKYKGEFEERLKSVVNEVIKAEGSIILFIDEIHTLVGAGKGEGAMDAANILKPALARGELRSIGATTLDEYQKYFEKDKALERRFQTVMVAEPDTLSTISILRGLKERYENHHKVRIKDEAIIAAVELSNRYITERFLPDKAIDLMDEAAAKLRMERDSVPEELDEISRHLKQLEIEREAIKREKDEPKLQQLNKEIAELKEQETSYKAKWQSEKELVNKIQQNKQEIEQLKFEAEKAEREGDYGKVAEIRYGKLQALENEIKDIQEDLKHKQGDSAMIKEEVTAEDIADVVSRWTGIPVNKMLQSERDKLLHLEQELHLRVVGQDEAIAAVSDAVRRSRAGLQDPKRPIGSFIFLGTTGVGKTELAKALADYLFDDESLMTRIDMSEYQEKHSVSRLIGAPPGYVGYDEGGQLTEAVRRKPYSVVLFDEIEKAHPDVFNILLQVLDDGRLTDNKGRTVNFKNTIIIMTSNLGSAYIQSQFEKINDENREVVIEETKKEVMSMLKKTIRPEFLNRIDETIMFLPLNREEIEQIVMLQINGIKNMLAGNGITLEMTDEAVRFIASTGYDPEFGARPVKRAIQRYLLNDLSKKLLSQEVDRSKPIIVETAGDGLKFRN
A23: 3 | B23: 125 | C23: ='Protein Report - CON'!A39 -> Valine--tRNA ligase OS=Bacteroides sp OX=29523 GN=valS PE=3 SV=1 | D23: 0 | E23: 0 | F23: 0 | G23: 0 | H23: 0 | I23: Other | J23: N/A | K23: 0 | L23: MELASKYNPADVEGKWYQYWLDNKLFSSKPDGREPYTVVIPPPNVTGVLHMGHMLNNTIQDILVRRARMEGKNACWVPGTDHASIATEAKVVNKLAGQGIKKTDLSRDEFLKHAWAWTEEHGGIILKQLRKLGASCDWDRTAFTMDEERSESVIKVFVDLYNKGLIYRGVRMVNWDPKALTALSDEEVIYKEEHSKLYYLRYKVEGDAEGRYAVVATTRPETIMGDTAMCINPNDPKNQWLKGKKVIVPLVNRIIPVIEDDYVDIEFGTGCLKVTPAHDVNDYMLGEKYNLPSIDIFNDNGTLSEAAGLYVGMDRFDVRKQIEQDLQAAGLLEKVEAYTNKVGFSERTNVAIEPKLSMQWFLKMQHFADMALPPVMNDELKFYPAKYKNTYKNWLENIKDWCISRQLWWGHRIPAYFLPEGGYVVAETAEEALKLAQEKTGNTNLKMEDLRQDDDCLDTWFSSWLWPISLFNGINNPNNEEINYYYPTSDLVTGPDIIFFWVARMIMAGYEYKGDMPFKNVYFTGIVRDKLGRKMSKSLGNSPDPLELIDKYGADGVRMGMMLAAPAGNDILFDDALCEQGRNFNNKIWNAFRLVKGWEVADIAQPEYARLATEWFESMLAKTAAEVADLFGKYRLSEALMAVYKLFWDEFSSWYLEMIKPAYGQPIDKATYEKTLGFFDNLLKLLHPFMPFITEELWQHIYDRKEGESLMVQQLNIPTACNEIIVKEFEVVKEVIGGIRTIRLQKNIAQKETLELQVVGVNPVATFNPVITKLCNLSSIEAVENKADGSGSFMVGTTEYAIPLGNLINTEEELAKLEADLKYQEGFLQSVLKKLSNEKFVSKAPANVIDMERKKQADAESKIASLKESIAALKK
A24: 4 | B24: 111 | C24: ='Protein Report - CON'!A154 -> Beta-galactosidase OS=Bacteroides sp. AR20 OX=93974 GN=SAMN02910431_04406 PE=3 SV=1 | D24: 0.9993 | E24: 0.0001 | F24: 0.0002 | G24: 0.0001 | H24: 0.0001 | I24: Sec/SPI | J24: 22/23 | K24: 0.933547 | L24: MTINIRYLLGIALLFSFSVISAQVRTSYTFEKGWKFTREDNADFIQPDYNDIKWQSVVVPHDWAIYGPFGIDNDRQLTAIAQDGQKEAMEHAGRTGGLPFVGVGWYRLNFDAPSFVKGKKATLIFDGAMSHARVYINGQEAGYWPYGYNTFYLDVTPYLKEGTKNTLAVRLENETESSRWYPGAGLYRNVHLVVTEDAHIPTWGTQLTTPVVKDDYAKVNIKTTLVVPSGKQFDAYRIVTELKDKDGKVVTTDEKQGSRFDDNIFSQELVVSRPALWSPETPVLYQAVSKVYEGNILKDEYTTSFGIRTIEVIPNKGFFLNGKRTSFKGVCNHHDLGPLGGAVNDAAIRRQIRILKDMGCNAIRTSHNMPAPELIRACDEMGMMVMAESFDEWKAMKVKNGYRHVFDEWAVKDLTNLLRHYRNNPSVVMWCIGNEVPEQWDGNKGPKMSYFLQELCHREDPTRPVTQGMDAPDAVVNNNMAAVMDIAGFNYRPHKYQENYKKLPQQIVLGSETASTVSSRGVYKFPVTRQWMKKYDDHQSSSYDVESCSWSNLPEDDFIQHEDLPYCIGEFVWTGFDYLGEPTPYYTDWPSHSSLFGIIDLAGLPKDRYYLYRSHWNKEQETLHILPHWNWEGREGEITPVFVYTNYPSAELFINGKSQGKRTKDLSVTIDNSADSVSIMNLKRQSRYRLMWMDTKYEPGTVKVVAYNADGKAVAEKELHTAGKPDHIELVADRNVIKADGKDLSFVTVRVVDRDGNLCPDASHEISFKVKGEGSYRAGANGNAASLESFQRPKMKVFSGMMTAIVSSTEQPGKITLEATGKGLKKGVLIIESRQEAKK
A25: 5 | B25: 108 | C25: ='Protein Report - CON'!A69 -> Beta-galactosidase OS=Bacteroides sp OX=29523 GN=DCQ07_06230 PE=3 SV=1 | D25: 0.9991 | E25: 0.0002 | F25: 0.0002 | G25: 0.0001 | H25: 0.0001 | I25: Sec/SPI | J25: 22/23 | K25: 0.975249 | L25: MKQHFLSYLIALLLFPLYEMQAAYQPEFSTAGFYELANSGREVYSMNPAWRFHKGTATGAETTDFNDQDWKVVSLPDGIEYVPTEASGCINYQGEVWYRKHFTPANELKGKKLFLHFEAIMGKSKVFVNGNLLTEHFGGYLPVVIDVTDALNWGTDNVIAVWADNSNDPSYPPGKAQDVLDYTYFGGIYRDCWLIAHRPVFITDPNFENEMAGGGLFVAYDKVSDTSAEIILKAHIRNDSKKNFKGVVEYELQQPDGTQAAFLNDVIQVRPGKAVTSKDKITLKSPLLWSPETPTLYNLIVRIRDNEGNVVDGYRRRIGIRSVEFKGKDGFWLNGKPYPSPLIGANRHQDFAVVGNAVANSIHWRDAKKLRDTGMKVIRNAHCPQDPAFMDACDELGLFVIVNTPGWQFWNDAPEFAQRVYSDIRNLVRRDRNHPCVWLWEPILNETWYPADFAKNTLDIVNQEYPYPYCYSGCDSEARGHEVYPVLFTHPANADKDWAIKSLDPKITYFTREWGDNVDDWNSHNSPSRVARNWGEQAMLIQAQHYAAPRYPFTCYDVLCRTPRQHVGGCLWHSFDHQRGYHPDPFYGGVMDVFRQPKYAYYMFKAQRSPEKQDRLFETGPMVYIAHEMTPFSPKDVTVYSNCDEVRLTYNKGGKTWTYTKPATKEGMPSPVITFKDIYDFMIDKNMSMRKKKQDEVFLLAEGIIDGKVVATHEVRPARRPEKVLLWVDNENTDLKADGSDFVTVVAAIADKNGNIKRLNNYYVKFHVEGEGRILGGANILANPAPVKWGTAPVLIQSTLKPGKIKITASVLFEGSQMPASAVLELESKPAAHPLIYTESEAALISMNSDSPFGQSAAKSASELEQERLLKERNAQKLKEVEKQQADFGEKK
A26: 6 | B26: 100 | C26: ='Protein Report - CON'!A99 -> Alpha-glucan family phosphorylase OS=Bacteroides sp OX=29523 GN=DCY66_17460 PE=3 SV=1 | D26: 0 | E26: 0 | F26: 0 | G26: 0 | H26: 0 | I26: Other | J26: N/A | K26: 0 | L26: MKIKVSNANTPNWKEVTVKSHIPEELKKLEEMARNIWWAWNYEATDLFRDLDPATWKEVGQNPVALLERLSYEKLEALTQDKVIVKRMNDVYAKFKAYVDAKPDSKRPSVAYFCMEYGLTHVLKIYSGGLGILAGDYLKEASDSNVDMCGVGFLYRYGYFSQSLSMDGQQIANYESQNFGSLPIERVMDENGQPMVVDVPYLNYFVHAYVWKVNVGRVPLYLLDTDNEMNSEFDRPITYQLYGGDWENRLKQEILLGIGGVLLLKKLGIKKDVYHCNEGHAALCNVQRLCDYVESGLTFDQALEVVRSSSLYTVHTPVPAGHDYFDEGLFGKYMGGYPQRMGISWQDLMDLGRINPGDAGERFCMSTFACNTCQEVNGVSWLHGKVSQEMFSGIWKGYFPEESHVGYVTNGVHFPTWSATEWKKLYAKHFAPNFLEDQSNEKIWEAIYNVADEEIWETRMALKYKLVDHIRKQFSESWLKNQGDPSRIVSLMEKINPNALLIGFARRFATYKRAHLLFTDLERLSKIVNNPDYPVQFLFAGKAHPHDGAGQGLIKKIVEISRRPEFLGKIIFLENYDMQLARRLVSGVDIWMNTPTRPLEASGTSGEKALMNGVVNFSVLDGWWLEGYREGAGWALTEKRTYQNQDHQDQLDAATIYSILENEILPLYYARNRKGYSEGWVKTIKNSIAQVAPHYTMKRQLDDYYAKFYTKEAKRFKELVANDYAKAKELAAWKERVAELWDSIEIVSCEKTEELASGNIESGKEYIITYVIDEKGLDDAVGIELVTTFTNAEGKEHIYSVEPMEVIKKEGNLYTFQVKHSLSNSGSFKVAYRMFPKNVDLPHRQDFCYVRWFN
A28: Sample 4
A29: ~75 kDa
A30: 1 | B30: 217 | C30: ='Protein Report - CON'!AD5 -> Dipeptidyl-peptidase OS=Bacteroides sp OX=29523 GN=DCQ07_03225 PE=3 SV=1 | D30: 0.999 | E30: 0.0002 | F30: 0.0002 | G30: 0.0002 | H30: 0.0001 | I30: Sec/SPI | J30: 21/22 | K30: 0.978364 | L30: MKKFKLLLLALMCVAFLPSKADEGMWLLQLMQEQHLADRMKAQGLLLEADDIYNPNRVSLKDAVGIFGGGCTGEIISPDGLILTNHHCGYGAIQQHSSVEHDYLTDGFWAKSRKEELPTPGLKFKFVERIVDVTDKVNNKVKSGEVKEEETFEYDFLKKLADEELKASDLNGKAGISAQALPFYAGNKFYLIYLKTYSDVRMVAAPPSSIGKFGGETDNWMWPRHTCDFSVFRIYADANGEPAEYNENNVPLKAKKHLAISLKGINEGDYAMIMGFPGSTNRYLTQSEVKQRMHSTNEPRIRIRGVRQDVLKKEMAASDKVRIQYASKYAGSSNYWKNSIGMNKAIIDNKVLETKAEQEAKFAAFAKAKGNTDYEKVVSEIDAAIEKSNPILYNYTCFREVFQGGIEFGTPYLILDKLKDAIKNKDKEAINKNIETLKKVYADIHNKDYDHEVDRKVAKALLPLYAEMVPADALPAFYTTIQKDFKGNYDAYVDHCYDNSIFSNEANFNKFIKKPTVKAIEKDPMTAYVRAKYDLMDKLGNELAESMKGMDLLHKTYVRGLCEMYSPEPKAPDANFTIRLTYGNVKSYNPKDGVHYKYYTTLKGVMEKEDPTNPEFVVPAKLKELYEAKDFGRYALPNGDMPACFLTTNDITGGNSGSPVINGNGELIGAAFDGNWESLSGDINFDNNLQRCIAVDIRYVLFIIDKLGGCKHLIDEMTIVE
A31: 2 | B31: 207 | C31: ='Protein Report - CON'!A106 -> S9 family peptidase OS=Bacteroides sp OX=29523 GN=DCY66_10475 PE=4 SV=1 | D31: 0.9991 | E31: 0.0002 | F31: 0.0001 | G31: 0.0001 | H31: 0.0001 | I31: Sec/SPI | J31: 19/20 | K31: 0.973175 | L31: MRKLSIFIILFFCLLTVGAQQVSLQDVANRTYHAEGIRGIKPMLDGEHYTQMSADGKKIIQYSFKTGKETGTIFDVNTARDCSIKSFDDYIMSPDEKLILIQTETKPIYRRSFTANYYIFNVKNNKMEPLSENGPQQVPLFSPDGNQIAFVRDNNIYLVKLLFGNSESQVTKDGKFNEVLNGIPDWVYEEEFGFNRAFDFSADSQMLAYIRFDESQVPMYSFPLYKGMVPALEKFSTYPGEYEYKYPMPGIDNSKVTVHTFDIKSKVTRKMDLPLDADGYIPRIKFTDDENALAIMTLNRHQNRFDLYFANPRSTLCKLMVRDEAPQYIKEEAYSNIVFYPKNFVVMSEKDGYNHLYLYTSGGNLVKQITKGNFEVKDFLGWDEATNTFYFESNEGSPLRTAIYKVDGKGKKTKLSKQEGTHKAIFSNNMKYYINTFSNINTPPVITLNDNNGKELATLVDNNTLKHQVSRLNMPNKELFSFKTNDGVELNGWIMKPANFNPNKKYPVIMHQYSGPGSQEVADKWGIGARRDGGMFEAYMAGQGFIMACVDGRGTGGRGSDFEKCTYLSLGVKESKDQVEAAKYLSTLPYVDGNRIGIWGWSYGGYNTLMSMSEGTPIFKAGVAVAAPTDWRFYDSVYTERFMRTPKENMEGYNAASAINRANKLNGELLLIHGTADDNVHLRNNAEYSEALVQADKQFDMQIYTNRNHGISGGNTTKHLLTRVANFFIDNLK
A32: 3 | B32: 187 | C32: ='Protein Report - CON'!A398 -> S9 family peptidase OS=Bacteroides sp OX=29523 GN=DCQ07_08970 PE=4 SV=1 | D32: 0.9992 | E32: 0.0002 | F32: 0.0001 | G32: 0.0001 | H32: 0.0001 | I32: Sec/SPI | J32: 19/20 | K32: 0.979649 | L32: MRKLSIFIILFFCLLTVRAQQVSLQDVANRTYRAEGIRGIKPMLDGEHYTQMSADGKKIIQYSFKTGKETGTIFDVNTARDCSIKSFDDYIMSPDEKLILIQTETKPIYRRSFTANYYIFNVKNNKMEPLSENGPQQVPLFSPDGNQIAFVRDNNIYLVKLLFGNSESQVTKDGKFNEVLNGIPDWVYEEEFGFNRAFDFSADSQMLAYIRFDESQVPMYSFPLYKGMVPALEKFSTYPGEYEYKYPMPGIDNSKVTVHTFDIKSKVTRKMDLPLDADGYIPRIKFTDDENALAIMTLNRHQNRFDLYFANPRSTLCKLMVRDEAPQYIKEEAYSNIVFYPKNFVVMSEKDGYNHLYLYTSGGNLVKQITKGNFEVKDFLGWDEATNTFYFESNEGSPLRTAIYKVDGKGKKTKLSKQEGTHKAIFSNNMKYYINTFSNINTPPVITLNDNNGKELATLVDNNTLKHQVSRLNMPSKELFSFKTNDGVELNGWIMKPANFNPNKKYPVIMHQYSGPGSQEVADKWGIGARRDGGMFEAYMAGQGFIMACVDGRGTGGRGSDFEKCTYLSLGVKESKDQVEAAKYLSTLPYVDGNRIGIWGWSYGGYNTLMSMSEGTPIFKAGVAVAAPTDWGFYDSVYTERFMRTPKENMEGYNAASAIKRADKLNGELLLIHGTADDNVHLRNNAEYSEALVQADKQFDMQIYTNRNHGISGGNTTKHLLTRVANFFIDNLK
A33: 4 | B33: 180 | C33: ='Protein Report - CON'!A96 -> Molecular chaperone HtpG OS=Bacteroides sp OX=29523 GN=DCY66_02365 PE=3 SV=1 | D33: 0 | E33: 0 | F33: 0 | G33: 0 | H33: 0 | I33: Other | J33: N/A | K33: 0 | L33: MQKGNIGVTTENIFPIIKKFLYSDHEIFLRELVSNAVDATQKLKTLASKGEFKGEMGDLTIKVSLGKDTITISDRGIGLTAEEIDKYINQIAFSGANDFLEKYKDDANAIIGHFGLGFYSAFMVAKKVEIITKSHQEGAQAVKWTCDGSPEFTIENVEKESRGSDIILYIDDDCKEFLEETRISSLLTKYCRFLPIPIAFGKKKEWKDGKQVETNEDNVINETYPLWTRKPVELKDEDYKKFYRELYPMADEPLFWIHLNVDYPFNLTGILYFPKVKSNIELQKNKIQLYCNQVYVTDSVEGIVPDFLTLLHGVIDSPDIPLNVSRSYLQSDSNVKKISTYISKKVSDRLQAIFKNDRKEFEEKWDDLKIFINYGMLTQEDFYEKANKFALLKDTDDKYYTYEEYQSLIKDNQTDKDGNLIYLYATHADEQYSYIDAAKNKGYNVLLMDGQLDVAMVSMLEQKFEKSRFTRVDSDVIDHLIAKEERKDASLEVGQRDILSSVFRSQLPQMKKVEFNVETQSLGETGTPIMITQSEYMRRMKEMANIQAGMSFYGEMPDMFNLVLNVDHKLVKQVLNDADNSCKAALEPIEAEMTSLNKRHDELHKAQEGKKADEIPQAEKDELSDVEKKLADEKTKKEAVLGEYAGGNKVIRQLIDLALLQNNMLKGEALTNFVKRSIELI
A34: 5 | B34: 163 | C34: ='Protein Report - CON'!A86 -> Alpha-glucosidase OS=Bacteroides sp OX=29523 GN=DCY66_10650 PE=4 SV=1 | D34: 0.9987 | E34: 0.0003 | F34: 0.0002 | G34: 0.0002 | H34: 0.0002 | I34: Sec/SPI | J34: 21/22 | K34: 0.974974 | L34: MNLKKNLSLIAFLCISFIANAQQKLNSPDGNLEMTFTLDGQGTPTYELTYKQKEVIKPSKLGLELKKEDANAKTDFEWTDKKDIDKLDIKTNLYNGFEIKDVRTSTNDETWQPVWGEEKEIRNHYNELAVTLNQPANDRFIIIRFRLFNDGLGFRYEFPQQKNLNYFVIKEEHSQFAMAGDHTAYWIPGDYDTQEYDYTVSRLSEIRGLFSKAYTENSSQTAFSPTGVQTALMMKTDDGLYINLHEAALIDYACMHLNLDDKNMIFESWLTPDAQGDKGYMQTPCTSPWRTVIVSDDARNILASRITLNLNEPCKIADTSWIKPVKYIGVWWDMITGKGSWAYTDDLSSVKLGETDYNKTKPNGKHSANTANVKRYIDFAAEHGFDQVLVEGWNEGWEDWFGKSKDYVFDFVTPYPDFNVKELQSYAASKGVKLMMHHETSASVRNYERHMDQAYQFMVDNGYNSVKSGYVGNIIPRGEHHYGQWMDNHYLYAVKKAADYKIMVNAHEAVRPTGICRTYPNLIGNESARGTEYESFGGNNVNHTTILPFTRLIGGPMDYTPGIFETRCNKMNPTNNSQVRSTLARQLALYVTMYSPLQMAADIPENYERFMDAFQFIKDVAIDWDETKYLEAEPGDYITIARKAKGTNDWYIGCTADENGHSSKLIFDFLDPDKKYIATVYADAKDADWKDNPQAYTIRKGIVTNKSKLNLHAASGGGYAISIKEVKDKAELKGIKRL
A35: 6 | B35: 131 | C35: ='Protein Report - CON'!A64 -> Chaperone protein DnaK OS=Bacteroides sp. PHL 2737 OX=2162637 GN=dnaK PE=2 SV=1 | D35: 0 | E35: 0 | F35: 0 | G35: 0 | H35: 0 | I35: Other | J35: N/A | K35: 0 | L35: MGKIIGIDLGTTNSCVSVFEGNEPVVIANSEGKRTTPSIVAFVDGGERKVGDPAKRQAITNPTRTVFSIKRFMGENWDQVQKEIARVPYKVVKGDNNTPRVDIDGRLYTPQEISAMILQKMKKTAEDYLGQEVTEAVITVPAYFSDSQRQATKEAGQIAGLEVKRIVNEPTAAALAYGLDKAHKDMKIAVFDLGGGTFDISILEFGGGVFEVLSTNGDTHLGGDDFDQVIIDWLVQEFKNDEGADLTQDPMAMQRLKEAAEKAKIELSSSTSTEINLPYIMPVGGVPKHLVKTLTRAKFESLAHNLIQACLEPCKKAMQDAGLSNSDIDEVILVGGSSRIPAVQKLVEDFFGKTPSKGVNPDEVVAVGAAVQGAVLTDEIKGVVLLDVTPLSMGIETLGGVMTKLIDANTTIPARKSETFSTAADNQTEVTIHVLQGERPMAAQNKSIGQFNLTGIAPARRGVPQIEVTFDIDANGILKVSAKDKATGKEQAIRIEASSGLSKEEIEKMKAEAEANAEADKKEREKIDKLNQADSLIFQTETQLKELGDKLPADKKAPIETALQKLKDAHKAQDMATIDSAMAELNTAFQAASAEMYAQSGAQGGAQAGPDMNAGQANAGQNNGKQDDNVQDADFEEVK
A36: 7 | B36: 126 | C36: ='Protein Report - CON'!A230 -> Chaperone protein DnaK OS=Bacteroides sp. OM05-10AA OX=2292282 GN=dnaK PE=2 SV=1 | D36: 0 | E36: 0 | F36: 0 | G36: 0 | H36: 0 | I36: Other | J36: N/A | K36: 0 | L36: MGKIIGIDLGTTNSCVAVFEGNEPVVIANSEGKRTTPSVVAFVDGGERKVGDPAKRQAITNPTRTIFSIKRFMGETWDQVQKEVGRVPYKVVKGDNNTPRVDIDGRLYTPQEISAMILQKMKKTAEDYLGQEVTEAVITVPAYFSDSQRQATKEAGQIAGLEVKRIVNEPTAAALAYGLDKAHKDMKIAVFDLGGGTFDISILEFGGGVFEVLSTNGDTHLGGDDFDQVIINWLVQEFKNDEGADLTQDPMALQRLKEAAEKAKIELSSSTSTEINLPYIMPVGGVPKHLVKTLTRAKFESLAHELIQACLEPCKKAMSDAGLSNADIDEVILVGGSSRIPAVQKLVEDFFGKTPSKGVNPDEVVAIGAAVQGAVLTDEIKGVVLLDVTPLSMGIETLGGVMTKLIDANTTIPARKSETFSTAADNQTEVTIHVLQGERPMAAQNKSIGQFNLTGIAPARRGVPQIEVTFDIDANGILKVSAKDKATGKEQAIRIEASSGLSKEEIEKMKAEAEANAEADKKEREKIDKLNQADSVIFSTENQLKELGDKLPADKKAPIEAALQKLKDAHKAQDLAAIDTAMAEINTAFQAASAEMYAQSGAQGGAQAGPDMNGGAGQQDNSKHGDNVQDADFEEVK
A37: 8 | B37: 123 | C37: ='Protein Report - CON'!A108 -> Family 10 glycosylhydrolase OS=Bacteroides sp OX=29523 GN=DCQ07_03745 PE=4 SV=1 | D37: 0.999 | E37: 0.0002 | F37: 0.0002 | G37: 0.0002 | H37: 0.0002 | I37: Sec/SPI | J37: 19/20 | K37: 0.979395 | L37: MKKLIYTLLLLLVTFPAMAQSLFEQYERFLTEPRTYVCYRPDGKLKIDGKLNETSWKKAAPTAPFVDISGEGFPTPKYETTAKMLWDDEYLYVGAVLQEEDIKARLTQRDTIIYYDNDFEVFIDPDSDGHNYFEIETNARGVIFDLMLDKPYRSGGNFMVQWDCPGLKTAIHCEGTLNKSKDKDKYWSVEMAIPHQALTMNFNNPLKAGNTWRINFSRVQWLKEKGPEENWVWTPTGRIDMHMPDRWGYLYFVDKKVGTSQDELVYPYNQAIYKLLWAMFYAQQDNYSKQHNYLRATEQFFLTDKELKDLPADARIAVEATQNTYQIAITNPAEGVRYVINNEGRFRTEKIPAREVKNWLWMRLNNRSDAEWKKWFALLKECGISGVMFEGYNENIYRLCKEAGLEAHYWKWTMNRRELLDKHPDWYAVNRKGESCHDKPAYVDYYRFLCPNHQGVAEYLAEDYVKEAHKPYVDGVHLDYVRMPDVILPVSLWKNYGIEQKEELPEYDYCYCDVCRELFKAKTGQDPLELKYPMENQSWINFRLDAITRVVDAITKAVKADHKAISAAVFPGPSMARKMVRQDWGEWMLDAYYPMIYNKFYYEGPEWIGRSVKESVETVNGRAKIYAGLMFGDIKDNFEEALDEAYNNGASGVSFFDGPDEEYLHKFKAYLDKRGFVVK
A38: 9 | B38: 123 | C38: ='Protein Report - CON'!A521 -> Glycoside hydrolase family 92 protein OS=Bacteroides sp OX=29523 GN=DCY66_09255 PE=4 SV=1 | D38: 0.7787 | E38: 0.2196 | F38: 0.0003 | G38: 0.0002 | H38: 0.0002 | I38: Sec/SPI | J38: 21/22 | K38: 0.746472 | L38: MKKQILLSAVLACISVFSAAAQKEPVDYVNPFVGTTNYGTTNPGALTPHGMMSVTPFNVMGVPEGDKDKDKQWWSTPYEFNNKYLTGFAHVNLSGVGCPELGSLLLMPTTGKLDVDYHNYGSFYQGETANPGYYTNILDKYNVKCELTATPRTSMARFTFPAGQSNILLNLGEGLTNESGATVRFVNDREIEGTKLLGTFCYNPQAVFPIYFVMRINKVPAKRGYWKMMRPMGVEAQWDDTAGKYKLYTAYTKEISGDDIGVWFTYDTTAEEVIEVSMGVSFVSIENARLNLEKEQPFGTTFDKLRAEARKKWNDDLSRIKVEGGTEEQKGVFYTAMYHTMVHPNILQDVSGQYPQMEGDKILTTNHNRYTVFSLWDTYRNYHQLMTLVYPERQMDMIHTMMGIYKEHGWFPKWELYGRETLTMEGDPSIPVLVDSWMKGLQDFDIDEAYKGMYKSATTPGKDNLMRPDNDDYMSKGYVPMESQYDNSVSHALEYYVADYALSTLAEALGKKEDAKLFRKRSMGYKNYYSKDFGTLRPITKEGKFYEPFDPKEGANFAPSPGFHEGNAWNYTFFVPHDINGLVKLMGGDKKFVDKLQSVFDEGNYDPANEPDIAYPYLFSRFKGEEWRTQKLVKELLAKYFTTKPDGIPGNDDTGTMSAWAIFSMMGFYPDCPGVPEYTLTTPTFDKVTVQLDPKYWGKKELVIKKEGQGDYIKEIRLGNKKINKYLISHDDLIKAGEITFIVTENPNKK
A39: 10 | B39: 121 | C39: ='Protein Report - CON'!A722 -> Chaperone protein DnaK OS=Bacteroides sp. HPS0048 OX=1078089 GN=dnaK PE=2 SV=1 | D39: 0 | E39: 0 | F39: 0 | G39: 0 | H39: 0 | I39: Other | J39: N/A | K39: 0 | L39: MGKIIGIDLGTTNSCVSVFEGNEPVVIANSEGKRTTPSIVAFVDGGERKVGDPAKRQAITNPTRTIFSIKRFMGENWDQVQKEVTRVPYKVVKGDNNTPRVDIDGRLYTPQEISAMILQKMKKTAEDYLGQEVTEAVITVPAYFSDSQRQATKEAGQIAGLEVKRIVNEPTAAALAYGLDKAHKDMKIAVFDLGGGTFDISILEFGGGVFEVLSTNGDTHLGGDDFDQVIINWLVEEFKKDEGADLTQDPMALQRLKEAAEKAKIELSSSTSTEINLPYIMPVGGVPKHLVKTLTRAKFESLAHSLIQACLEPCKKAMQDAGLSNSDIDEVILVGGSSRIPAVQKLVEDFFGKTPSKGVNPDEVVAVGAAVQGAVLTDEIKGVVLLDVTPLSMGIETLGGVMTKLIDANTTIPARKSETFSTAADNQTEVTIHVLQGERPMAAQNKSIGQFNLTGIAPARRGVPQIEVTFDIDANGILKVSAKDKATGKEQAIRIEASSGLSKEEIDKMKAEAEANAEADKKEREKIDKLNQADSLIFSTENQLKELGDKLPADKKAPIEAALQKLKDAHKAQDLATIDSAMAELNTAFQAASAEMYAQSGAQGGAQAGPDMNGGQQAGGQSNGGQDEHIQDADFEEVK
A40: 11 | B40: 114 | C40: ='Protein Report - CON'!A253 -> Chaperone protein DnaK OS=Bacteroides sp. AM16-24 OX=2292002 GN=dnaK PE=2 SV=1 | D40: 0 | E40: 0 | F40: 0 | G40: 0 | H40: 0 | I40: Other | J40: N/A | K40: 0 | L40: MGKIIGIDLGTTNSCVSVFEGNEPVVIANSEGKRTTPSIVAFVDGGERKVGDPAKRQAITNPTRTVSSIKRFMGETWDQVQKEIARMPYKVVKGDNNMPRVDIDGRLYTPQEISAMILQKMKKTAEDYLGQEVTEAVITVPAYFSDSQRQATKEAGQIAGLEVKRIVNEPTAAALAYGIDKANKDMKVAVFDLGGGTFDISILEFGGGVFEVLSTNGDTHLGGDDFDQVIITWLVDEFKNDEGADLTQDPMAMQRLKEAAEKAKIELSSSTSTEINLPYIMPVGGVPKHLVKTLTRAKFEALAHTLIQACLEPCKKAMSDAGLSNSDIDEVILVGGSSRIPAVQKLVEDFFGKAPSKGVNPDEVVAVGAAVQGAVLTDEIKGVVLLDVTPLSMGIETLGGVMTKLIDANTTIPCKKSETFSTAADNQSEVTIHVLQGERPMAAQNKSIGQFNLSGIAPARRGVPQIEVTFDIDANGILKVSAKDKATGKEQAIRIEASSGLSKEEIEKMKAEAEANAEADKKEREKIDKLNQADSMIFTTENQLKELGDKLPADKKAPIEAALQKLKDAHKAQDLAAVDTAMAELNTAFQAASAEMYAQSGAQGGAQAGPDMNAGQAGGAQDNSKHGDNVQDADFEEVK
A41: 12 | B41: 112 | C41: ='Protein Report - CON'!A49 -> Elongation factor G OS=Bacteroides sp. OM05-12 OX=2292283 GN=fusA PE=3 SV=1 | D41: 0 | E41: 0 | F41: 0 | G41: 0 | H41: 0 | I41: Other | J41: N/A | K41: 0 | L41: MAKNDLHLTRNIGIMAHIDAGKTTTSERILFYTGLTHKIGEVHDGAATMDWMEQEQERGITITSAATTTRWKYAGDTYKINLIDTPGHVDFTAEVERSLRVLDGAVAAYCAVGGVEPQSETVWRQADKYNVPRIGYVNKMDRSGADFFEVVRQMKDVLGANPCPVVIPIGAEENFKGVVDLIKMKAILWHDETMGADYDVEDIPANLVDEANEWREKMLEKVAEFDDALMEKFFDDPSTITEEEILRALRAGTLKMEIVPMFCGSSFKNKGVQTLLDYVCAFLPSPVDTPNIVGTNPSTGAEEDRKPDDDEKTSALAFKIATDPYVGRLTFFRVYSGKIEAGSYIYNSRSGKKERVSRLFQMHSNKQNPVELIGAGDIGAGVGFKDIRTGDTLCDETAPIVLESMEFPDPVIGIAVEPKTQKDLDKLSNGLAKLAEEDPTFRVHTDEQSGQTVIEGMGELHLDIIIDRLKREFKVECNQGRPQVAYKEAITKTVDLREVYKKQSGGRGKFADIIVKIGPVDEEFKQGGLQFVDEVKGGNIPKEFIPSVQKGFATAMKNGVLAGYPLDSLKVTLIDGSFHPVDSDQLSFEICAIQAYKNACAKAGPVLMEPIMKLEVVTPEENMGDVIGDLNKRRGQVEGMESSRSGARIVKAMVPLAEMFGYVTALRTITSGRATSSMTYDHHAQVSSSIAKAVLEEVKGRVDLI
A42: 13 | B42: 111 | C42: ='Protein Report - CON'!A52 -> Elongation factor G OS=Bacteroides sp. AR29 OX=93975 GN=fusA PE=3 SV=1 | D42: 0 | E42: 0 | F42: 0 | G42: 0 | H42: 0 | I42: Other | J42: N/A | K42: 0 | L42: MAKHDLHLTRNIGIMAHIDAGKTTTSERILFYTGLTHKIGEVHDGAATMDWMEQEQERGITITSAATTTRWKYAGNTYKINLIDTPGHVDFTAEVERSLRVLDGAVAAYCAVGGVEPQSETVWRQADKYNVPRIGYVNKMDRSGADFFEVVRQMKDVLGANPCPIVIPIGAEETFKGLVDLIKMKAIYWHDETMGADYTVEEIPANLVDEANEWRDKMLEKVAEFDDALMEKYFDDPSTITEEEVLRALRNATVQMAVVPMLCGSSFKNKGVQTLLDYVCAFLPSPLDTPNIIGTNPDTGLEEDRKPDDDEKTSALAFKIATDPYVGRLTFFRVYSGKIEAGSYIYNSRSRKKERVSRLFQMHSNKQNPVEVIGAGDIGAGVGFKDIHTGDTLCDETAPIVLESMDFPEPVIGIAVEPKTQKDMDKLSNGLAKLAEEDPTFTVKTDEQTGQTVISGMGELHLDIIIDRLKREFKVECNQGKPQVNYKEAITKTVNLREVYKKQSGGRGKFADIIVNIGPVDEDFKEGGLQFVDEVKGGNIPKEFIPSVQKGFTTAMKNGVLAGYPLDSLKVTLIDGSFHPVDSDQLSFEICAIQAYKNACAKAGPVLMEPIMKLEVVTPEENMGDVIGDLNKRRGQVEGMESSRSGARIVKAMVPLAEMFGYVTALRTITSGRATSSMVYSHHAQVSNSIAKAVLEEVKGRADLI
A43: 14 | B43: 106 | C43: ='Protein Report - CON'!A380 -> S9 family peptidase OS=Bacteroides sp OX=29523 GN=DCY66_12940 PE=4 SV=1 | D43: 0.9991 | E43: 0.0002 | F43: 0.0001 | G43: 0.0002 | H43: 0.0001 | I43: Sec/SPI | J43: 20/21 | K43: 0.976939 | L43: MRKLINLIALLIMASSVTWAQDKKSFTLEDLMPGGNNYYNLLPQNLYGLQWWGDVCINADIEEVKTIQPANGKENVLITLQEVNELLANKELGKINHFRNASFPYAEKMMLVNTTSNKVLIDLTKKEIIWSQPLSPKAANQDWNKESRSLAYTLDNNLFVTTADGKTQQVTDEPKGIVCGQSVHRQEFGISKGTFWSPKGNLLAFYRMDESMVTDYPQVNTSTRIATLEPDKYPMAGMTSHKVTVGIYNPATQKTVYLKAGDPTDRYFTNISWSPDEKSVYVIELNRDQNHALLCCYDTETGEPLKSNPLYEEKHTKYVEPQHPIVFLPWDHTKFIYQSQRNGYNHLYLMDTKTSIYPESHGAAAGGSYRESYKTRQLTQGNWVVQNILGFNEKTKEVIIMSTEVSPLQSNAYAVNVKTGKRRLIGNKDGMHHVQLSGSGNYVIDNYTSFTIPRNIEIVPTSGKGKTISLLTATNPLEAYNMPEITVGTLKAADGKTDLYYRLIKPVNFDPNKKYPAVVYVYGGPHAQLIHNNRNYDARGWDIYMAQLGYVMLTVDNRGSDNRGLEFENCTFRQLGTEEMKDQVKGVDFLKSLGYVDNNRIGVHGWSFGGFMTTNLMLTYPELFKVGVAGGPVIDWAYYEVMYGERYMDTPQTNPEGYKNANLKLRAGNLKGRLEVIIGANDPTCVPQHSISFLRACIDAGTQPDFFMYPGDGHNMFGRDRVHLYERITRYFEDHLK
A44: 15 | B44: 106 | C44: ='Protein Report - CON'!A639 -> S9 family peptidase OS=Bacteroides sp OX=29523 GN=DCQ07_15965 PE=4 SV=1 | D44: 0.9991 | E44: 0.0002 | F44: 0.0001 | G44: 0.0002 | H44: 0.0001 | I44: Sec/SPI | J44: 20/21 | K44: 0.976939 | L44: MRKLINLIALLIMASSVTWAQDKKSFTLEDLMPGGNNYYNLLPQNLYGLQWWGDVCINADIEEVKTIQPANGKENVLITLQEVNELLANKELGKINHFRNASFPYAEKMMLVNTTSNKVLIDLTKKEIIWSQPLSPKAANQDWNKESRSLAYTLDNNLFVTTADGKTQQVTDEPKGIVCGQSVHRQEFGISKGTFWSPKGNLLAFYRMDESMVTDYPQVNTSTRIATLEPDKYPMAGMTSHKVTVGIYNPETQKTVYLKAGDPTDRYFTNISWSPDEKSVYVIELNRDQNHALLCCYDAETGEPLKNNPLYEEEHTKYVEPQHPIVFLPWDHTKFIYQSQRDGYNHLYLMDTKTSVYPESHGAAAGGSYRESYKTRQLTQGNWVVQNILGFNEKTKEVIIMSTEVSPLQSNAYAVNVKTGKRRLIGNKDGMHHVQLSGNGNYVIDNYTSFTIPRNIEIVPTSGKGKTISLLTATNPLEAYNMPEITVGTLKAADGKTDLYYRLIKPVNFDPNKKYPAVVYVYGGPHAQLIHNNRNYDARGWDIYMAQLGYVMLTVDNRGSDNRGLEFENCTFRQLGTEEMKDQVKGVDFLKSLGYVDNNRIGVHGWSFGGFMTTNLMLTYPELFKVGVAGGPVIDWAYYEVMYGERYMDTPQTNPEGYKNANLKLRAGNLKGRLEVIIGANDPTCVPQHSISFLRACIDAGTQPDFFMYPGDGHNMFGRDRVHLYERITRYFEDHLK
...
