Workbook

Sheet Sheet1
A1: Run26E3_S51_1196 | C1: IsolateID | D1: SARC/SARB Designation | E1: Serogroup | F1: Host_species | G1: Source | H1: SISTR | I1: Sequencing File Name | J1: T1 Hit?
A2: Run20G6_S78_2503 | C2: S1 | F2: Human | H2: Newport | I2: Set6aA1_S1 | J2: Yes
A3: Run20G5_S77_2462 | C3: S10 | F3: Human | H3: Enteritidis | I3: Set6aA10_S10 | J3: No
A4: Run20G4_S76_2439 | C4: S1000 | F4: Human | G4: urine | H4: Adelaide | I4: Run22D4_S40 | J4: No
A5: Run20G3_S75_2412 | C5: S1001 | F5: Human | G5: urine | H5: Adelaide | I5: Run22D5_S41 | J5: No
A6: Run34D12_S48_40325 | C6: S1002 | F6: Human | G6: urine | H6: Alachua | I6: Run22D6_S42 | J6: No
A7: Run27D5_S41_7201 | C7: S1003 | F7: Human | G7: feces | H7: Cerro | I7: Run22D7_S43 | J7: No
A8: Set16aD6_S42_40571 | C8: S1004 | F8: Human | G8: feces | H8: Chester | I8: Run22D8_S44 | J8: Yes
A9: Run50-E9_S69_38087 | C9: S1005 | F9: Human | G9: feces | H9: Durban | I9: Run22D9_S45 | J9: Yes
A10: Run37A8_S8_44057 | C10: S1006 | F10: Human | G10: feces | H10: Durban | I10: Run22D10_S46 | J10: Yes
A11: Run34F6_S66_40947 | C11: S1007 | F11: Human | G11: feces | H11: Eastbourne | I11: Run22D11_S47 | J11: Yes
A12: Run33B6_S18_27359 | C12: S1008 | F12: Human | G12: feces | H12: Gaminara | I12: Run22D12_S48 | J12: No
A13: Set14aA5_S5_31126 | C13: S1009 | F13: Human | G13: feces | H13: Gaminara | I13: Run23E1_S49 | J13: No
A14: Run61-F10_S78_36042 | C14: S1010 | F14: Human | G14: feces | H14: Gaminara | I14: Run23E2_S50 | J14: No
A15: Run39-A5_S33_8164 | C15: S1011 | F15: Human | G15: feces | H15: Haifa | I15: Run23E3_S51 | J15: No
... A51: Run58-H8_S64_33179 | C51: S1047 | F51: Human | G51: feces | H51: Telelkebir | I51: Run23H3_S87 | J51: No
A52: Run39-A12_S89_8438 | C52: S1048 | F52: Human | H52: Tennessee | I52: Run23H4_S88 | J52: No
A53: Run22B3_S15_27828 | C53: S1049 | H53: Enteritidis | I53: Run23H5_S89 | J53: No
A54: Set14aA6_S6_25567 | C54: S1050 | H54: Enteritidis | I54: Run23H6_S90 | J54: No
A55: Run22H10_S94_25173 | C55: S1051 | H55: Enteritidis | I55: Run23H7_S91 | J55: No
A56: Run49-H2_S16_7692 | C56: S1052 | H56: Enteritidis | I56: Run23H8_S92 | J56: No
A57: Set16aC9_S33_14312 | C57: S1053 | H57: Enteritidis | I57: Run23H9_S93 | J57: No
A58: Run49-H2_S16_7709 | C58: S1054 | H58: Enteritidis | I58: Run23H10_S94 | J58: No
A59: Run39-A12_S89_8432 | C59: S1055 | H59: Enteritidis | I59: Run23H11_S95 | J59: No
A60: Set16bE10_S10_19512 | C60: S1056 | H60: Enteritidis | I60: Run23H12_S96 | J60: No
A61: Set11aA7_S7_53319 | C61: S1057 | H61: Enteritidis | I61: Run24A1_S1 | J61: No
A62: Set15bE7_S7_43712 | C62: S1058 | H62: Enteritidis | I62: Run24A2_S2 | J62: No
A63: Set16aD10_S46_11610 | C63: S1059 | H63: Enteritidis | I63: Run24A3_S3 | J63: No
A64: Set16bF10_S22_29135 | C64: S1060 | H64: Enteritidis | I64: Run24A4_S4 | J64: No
... A103: Run21F11_S71_5708 | C103: S1099 | H103: Enteritidis | I103: Run24D7_S43 | J103: No
A104: Run32E11_S59_11681 | C104: S11 | F104: Human | H104: Enteritidis | I104: Set6aA11_S11 | J104: No
A105: Run44-C10_S75_43329 | C105: S1100 | H105: Enteritidis | I105: Run24D8_S44 | J105: No
A106: Run39-B5_S34_8619 | C106: S1101 | H106: Enteritidis | I106: Run24D9_S45 | J106: No
A107: Run23E4_S52_24025 | C107: S1102 | H107: Enteritidis | I107: Run24D10_S46 | J107: No
A108: Set13bH10_S46_44064 | C108: S1103 | H108: Enteritidis | I108: Run24D11_S47 | J108: No
A109: Run32E7_S55_9748 | C109: S1104 | H109: Enteritidis | I109: Run24D12_S48 | J109: No
A110: Run32E6_S54_9305 | C110: S1105 | H110: Enteritidis | I110: Run24E1_S49 | J110: No
A111: Run32E10_S58_10200 | C111: S1106 | H111: Enteritidis | I111: Run24E2_S50 | J111: No
A112: Run21D4_S40_24743 | C112: S1107 | H112: Enteritidis | I112: Run24E3_S51 | J112: No
A113: Run32E2_S50_9716 | C113: S1108 | H113: Enteritidis | I113: Run24E4_S52 | J113: No
...

Sheet Raw Glf
A1: Identifer | B1: Hit Score | C1: e value | E1: indicates premature stop codon
A2: Set18bG6_S30_8010 | B2: 809 | C2: 0 | E2: Thick black line indicates bitscore cutoff below which corresponds to truncated proteins
A3: Run52-D12_S92_6413 | B3: 809 | C3: 0
A4: Run20F9_S69_2264 | B4: 809 | C4: 0
A5: Run20F8_S68_2215 | B5: 809 | C5: 0
A6: Run20F6_S66_2152 | B6: 809 | C6: 0
A7: Run20F5_S65_2124 | B7: 809 | C7: 0
A8: Run20F4_S64_2082 | B8: 809 | C8: 0
A9: Run20F3_S63_2033 | B9: 809 | C9: 0
A10: Run20F2_S62_1983 | B10: 809 | C10: 0
A11: Run20F10_S70_1894 | B11: 809 | C11: 0
A12: Run20B10_S22_1648 | B12: 809 | C12: 0
A13: Run19E8_S56_1523 | B13: 809 | C13: 0
A14: Run19E6_S54_1421 | B14: 809 | C14: 0
... A1572: Run19B9_S21_890 | B1572: 471 | C1572: 0
A1573: Set16bE10_S10_19512 | B1573: 496 | C1573: 1e-169\
A1574: Run20G12_S84_2367 | B1574: 530 | C1574: 1e-168\
A1575: Run53-G1_S7_50352 | B1575: 495 | C1575: 2e-165\
A1576: Run45-H10_S80_28513 | B1576: 439 | C1576: 6e-152\
A1577: Run50-F12_S94_38771 | B1577: 469 | C1577: 1e-147\
A1578: Set11aA7_S7_53319 | B1578: 396 | C1578: 4e-122\
A1579: Set15bE7_S7_43712 | B1579: 396 | C1579: 4e-122\
A1580: Run50-F12_S94_38765 | B1580: 350 | C1580: 4e-106\
A1581: Run20G12_S84_2368 | B1581: 284 | C1581: 5e-83
A1582: Run41-D11_S84_13394 | B1582: 279 | C1582: 2e-81
A1583: Set16aD6_S42_40574 | B1583: 278 | C1583: 3e-81
A1584: Run57-C10_S75_31231 | B1584: 195 | C1584: 7e-58
A1585: Run64-D8_S60_955 | B1585: 143 | C1585: 3e-36
A1586: Run64-D4_S28_609 | B1586: 143 | C1586: 3e-36
A1587: Run64-D5_S36_677 | B1587: 143 | C1587: 3e-36
A1588: Run64-D10_S76_727 | B1588: 143 | C1588: 3e-36
A1589: Run64-D7_S52_905 | B1589: 143 | C1589: 3e-36
A1590: Run64-D9_S68_1010 | B1590: 143 | C1590: 3e-36
A1591: Run41-F10_S78_14451 | B1591: 143 | C1591: 3e-36
A1592: Run66-D2_S12_4755 | B1592: 143 | C1592: 3e-36
... A1634: Set16bE10_S10_20047 | B1634: 106 | C1634: 6e-24

Sheet Raw WbbN
A1: Identifer | B1: Hit Score | C1: e value | E1: indicates premature stop codon
A2: Run53-G1_S7_50352 | B2: 540 | C2: 0 | E2: Thick black line indicates bitscore cutoff below which corresponds to truncated proteins
A3: Run43-H9_S72_4630 | B3: 537 | C3: 0
A4: Run80-H12_S96_35661 | B4: 533 | C4: 7e-176\
A5: Run42-A8_S57_34447 | B5: 540 | C5: 1e-173\
A6: Run33A5_S5_12574 | B6: 540 | C6: 1e-173\
A7: Run20A1_S1_7428 | B7: 540 | C7: 1e-173\
A8: Run20F8_S68_2215 | B8: 540 | C8: 1e-173\
A9: Run20F9_S69_2264 | B9: 540 | C9: 1e-173\
A10: Run40-F1_S6_10478 | B10: 540 | C10: 1e-173\
A11: Run43-A12_S89_42240 | B11: 540 | C11: 1e-173\
A12: Run20A11_S11_7258 | B12: 540 | C12: 1e-173\
A13: Run22A11_S11_27312 | B13: 540 | C13: 1e-173\
A14: Run43-H7_S56_3344 | B14: 540 | C14: 1e-173\
A15: Run44-D2_S12_43524 | B15: 540 | C15: 1e-173\
... A1571: Set16bF10_S22_29135 | B1571: 325 | C1571: 4e-109\
A1572: Run32B1_S13_10141 | B1572: 308 | C1572: 9e-93
A1573: Set14aC10_S34_23683 | B1573: 308 | C1573: 9e-93
A1574: Run58-H8_S64_33179 | B1574: 303 | C1574: 6e-91
A1575: Run60-E10_S77_35392 | B1575: 209 | C1575: 2e-58
A1576: Set18bF10_S22_6747 | B1576: 157 | C1576: 8e-42
A1577: Set11aA7_S7_53319 | B1577: 136 | C1577: 5e-33
A1578: Set15bE7_S7_43712 | B1578: 136 | C1578: 5e-33
A1579: Run33B7_S19_27404 | B1579: 117 | C1579: 2e-26

Sheet Raw WbbO
A1: Identifer | B1: Hit Score | C1: e value | E1: indicates premature stop codon
A2: Set18bG9_S33_8072 | B2: 768 | C2: 0 | E2: Thick black line indicates bitscore cutoff below which corresponds to truncated proteins
A3: Set18bG10_S34_7741 | B3: 768 | C3: 0
A4: Set18bF9_S21_7707 | B4: 768 | C4: 0
A5: Set18bE8_S8_7095 | B5: 768 | C5: 0
A6: Set16aB8_S20_6763 | B6: 768 | C6: 0
A7: Run52-D12_S92_6413 | B7: 768 | C7: 0
A8: Run52-C7_S51_6379 | B8: 768 | C8: 0
A9: Run52-C4_S27_6271 | B9: 768 | C9: 0
A10: Run46-D9_S68_6162 | B10: 768 | C10: 0
A11: Run46-D8_S60_6122 | B11: 768 | C11: 0
A12: Run46-D3_S20_6072 | B12: 768 | C12: 0
A13: Run46-D2_S12_6027 | B13: 768 | C13: 0
A14: Run45-C10_S75_5925 | B14: 768 | C14: 0
... A1564: Run28E3_S51_7622 | B1564: 457 | C1564: 0
A1565: Run58-H8_S64_33179 | B1565: 498 | C1565: 9e-158\
A1566: Run39-A12_S89_8438 | B1566: 488 | C1566: 3e-156\
A1567: Run22B3_S15_27828 | B1567: 468 | C1567: 4e-147\
A1568: Set14aA6_S6_25567 | B1568: 468 | C1568: 4e-147\
A1569: Run22H10_S94_25173 | B1569: 468 | C1569: 4e-147\
A1570: Run49-H2_S16_7692 | B1570: 426 | C1570: 1e-132\
A1571: Set16aC9_S33_14312 | B1571: 352 | C1571: 1e-119\
A1572: Run49-H2_S16_7709 | B1572: 319 | C1572: 2e-95
A1573: Run39-A12_S89_8432 | B1573: 300 | C1573: 6e-89
A1574: Set16bE10_S10_19512 | B1574: 282 | C1574: 1e-86
A1575: Set11aA7_S7_53319 | B1575: 256 | C1575: 1e-73
A1576: Set15bE7_S7_43712 | B1576: 256 | C1576: 1e-73
A1577: Set16aD10_S46_11610 | B1577: 223 | C1577: 1e-66
A1578: Set16bF10_S22_29135 | B1578: 212 | C1578: 6e-64
A1579: Set16bH8_S44_50836 | B1579: 207 | C1579: 1e-56
A1580: Run43-H9_S72_4879 | B1580: 178 | C1580: 2e-50
A1581: Run43-H9_S72_4630 | B1581: 158 | C1581: 4e-42
A1582: Run62-H4_S32_36262 | B1582: 127 | C1582: 3e-29
A1583: Run28E9_S57_7827 | B1583: 127 | C1583: 3e-29
... A1694: Set16bE9_S9_16651 | B1694: 111 | C1694: 1e-23

Sheet Raw Wzm
A1: Identifer | B1: Hit Score | C1: e value | E1: indicates premature stop codon
A2: Set18bF10_S22_6707 | B2: 516 | C2: 0 | E2: Thick black line indicates bitscore cutoff below which corresponds to truncated proteins
A3: Set16aD10_S46_11610 | B3: 503 | C3: 2e-178\
A4: Run80-H12_S96_35661 | B4: 513 | C4: 3e-169\
A5: Run39-A12_S89_8438 | B5: 516 | C5: 5e-169\
A6: Set17aC6_S30_2758 | B6: 516 | C6: 2e-166\
A7: Run37A12_S12_44246 | B7: 516 | C7: 3e-166\
A8: Run79-C12_S91_33502 | B8: 516 | C8: 3e-166\
A9: Run49-H2_S16_7709 | B9: 516 | C9: 3e-166\
A10: Run21G7_S79_19206 | B10: 516 | C10: 3e-166\
A11: Run60-E10_S77_35392 | B11: 516 | C11: 3e-166\
A12: Run42-A8_S57_34447 | B12: 516 | C12: 3e-166\
A13: Run33A5_S5_12574 | B13: 516 | C13: 3e-166\
A14: Run20H9_S93_6210 | B14: 516 | C14: 3e-166\
... A1572: Run58-H8_S64_33179 | B1572: 394 | C1572: 1e-123\
A1573: Set16bH12_S48_50953 | B1573: 158 | C1573: 2e-41
A1574: Run59-C3_S19_33958 | B1574: 135 | C1574: 2e-33
A1575: Run37A10_S10_44149 | B1575: 135 | C1575: 2e-33
A1576: Run59-D8_S60_34657 | B1576: 135 | C1576: 2e-33
A1577: Run58-G6_S47_32730 | B1577: 135 | C1577: 2e-33
A1578: Run59-B8_S58_33735 | B1578: 135 | C1578: 2e-33
A1579: Run59-D1_S4_34380 | B1579: 135 | C1579: 2e-33
A1580: Run53-G1_S7_49905 | B1580: 135 | C1580: 2e-33
A1581: Run59-E4_S29_34867 | B1581: 135 | C1581: 2e-33
A1582: Run63-A1_S1_38460 | B1582: 135 | C1582: 2e-33
A1583: Run63-A3_S17_38552 | B1583: 135 | C1583: 2e-33
A1584: Run58-F10_S78_32026 | B1584: 135 | C1584: 2e-33
... A1617: Run41-F2_S14_14086 | B1617: 134 | C1617: 6e-33

Sheet Raw Wzt
A1: Identifer | B1: Hit Score | C1: e value | E1: indicates premature stop codon
A2: Set6aC1_S25_25307 | B2: 473 | C2: 1e-168\ | E2: Thick black line indicates bitscore cutoff below which corresponds to truncated proteins
A3: Set18bF10_S22_6707 | B3: 473 | C3: 3e-164\
A4: Run39-A12_S89_8438 | B4: 476 | C4: 3e-154\
A5: Set17aC6_S30_2758 | B5: 476 | C5: 2e-152\
A6: Run37A12_S12_44246 | B6: 476 | C6: 2e-152\
A7: Run79-C12_S91_33502 | B7: 476 | C7: 2e-152\
A8: Run49-H2_S16_7709 | B8: 476 | C8: 2e-152\
A9: Set18aA1_S1_21587 | B9: 476 | C9: 2e-152\
A10: Run21G7_S79_19206 | B10: 476 | C10: 2e-152\
A11: Run60-E10_S77_35392 | B11: 476 | C11: 2e-152\
A12: Run42-A8_S57_34447 | B12: 476 | C12: 2e-152\
A13: Run33A5_S5_12574 | B13: 476 | C13: 2e-152\
A14: Run37H8_S92_42670 | B14: 476 | C14: 2e-152\
... A1571: Run58-H8_S64_33179 | B1571: 380 | C1571: 5e-119\
A1572: Run30G1_S73_18977 | B1572: 312 | C1572: 4e-95
A1573: Run30F9_S69_18777 | B1573: 312 | C1573: 4e-95
A1574: Run39-A5_S33_8164 | B1574: 299 | C1574: 1e-90
A1575: Run32D12_S48_9548 | B1575: 267 | C1575: 2e-79
A1576: Run59-C3_S19_33958 | B1576: 231 | C1576: 3e-67
A1577: Run37A10_S10_44149 | B1577: 231 | C1577: 3e-67
A1578: Run59-D8_S60_34657 | B1578: 231 | C1578: 3e-67
A1579: Run58-G6_S47_32730 | B1579: 231 | C1579: 3e-67
A1580: Run59-B8_S58_33735 | B1580: 231 | C1580: 3e-67
A1581: Run59-D1_S4_34380 | B1581: 231 | C1581: 3e-67
A1582: Run53-G1_S7_49905 | B1582: 231 | C1582: 3e-67
A1583: Run59-E4_S29_34867 | B1583: 231 | C1583: 3e-67
... A1645: Run49-D9_S68_28505 | B1645: 105 | C1645: 2e-23

Sheet Raw STM0724
A1: Identifer | B1: Hit Score | C1: e value | E1: indicates premature stop codon
A2: Run20F9_S69_2264 | B2: 1188 | C2: 0 | E2: Thick black line indicates bitscore cutoff below which corresponds to truncated proteins
A3: Run20F8_S68_2215 | B3: 1188 | C3: 0
A4: Run20F6_S66_2152 | B4: 1188 | C4: 0
A5: Run20F5_S65_2124 | B5: 1188 | C5: 0
A6: Run20F3_S63_2033 | B6: 1188 | C6: 0
A7: Run20F2_S62_1983 | B7: 1188 | C7: 0
A8: Run20F1_S61_1937 | B8: 1188 | C8: 0
A9: Run20F10_S70_1894 | B9: 1188 | C9: 0
A10: Run19E8_S56_1523 | B10: 1188 | C10: 0
A11: Run19E7_S55_1488 | B11: 1188 | C11: 0
A12: Run19E4_S52_1386 | B12: 1188 | C12: 0
A13: Run19E12_S60_1334 | B13: 1188 | C13: 0
A14: Run19A9_S9_1078 | B14: 1188 | C14: 0
... A1570: Run43-H9_S72_4631 | B1570: 550 | C1570: 0
A1571: Set16bG6_S30_39727 | B1571: 479 | C1571: 3e-166\
A1572: Run53-G1_S7_51288 | B1572: 478 | C1572: 6e-166\
A1573: Set16bF9_S21_27851 | B1573: 473 | C1573: 7e-164\
A1574: Set16bF10_S22_29621 | B1574: 457 | C1574: 4e-158\
A1575: Set16bE10_S10_20011 | B1575: 432 | C1575: 3e-147\
A1576: Run53-G1_S7_49929 | B1576: 475 | C1576: 2e-146\
A1577: Run43-H9_S72_5538 | B1577: 415 | C1577: 1e-141\
A1578: Run19A6_S6_261 | B1578: 445 | C1578: 8e-136\
A1579: Set16aC9_S33_14331 | B1579: 356 | C1579: 2e-118\
A1580: Set17aC6_S30_2758 | B1580: 331 | C1580: 1e-96
A1581: Set16bF10_S22_28989 | B1581: 250 | C1581: 2e-75
A1582: Run21E4_S52_27882 | B1582: 267 | C1582: 1e-74
A1583: Set17aA8_S8_22162 | B1583: 257 | C1583: 5e-71
A1584: Run43-H9_S72_4547 | B1584: 223 | C1584: 3e-64
A1585: Run46-E4_S29_31664 | B1585: 224 | C1585: 7e-60
A1586: Run32C10_S34_11596 | B1586: 110 | C1586: 2e-22

Sheet Raw STM0725
A1: Identifer | B1: Hit Score | C1: e value | E1: indicates premature stop codon
A2: Run43-H9_S72_4547 | B2: 473 | C2: 2e-166\ | E2: Thick black line indicates bitscore cutoff below which corresponds to truncated proteins
A3: Set16bF9_S21_27058 | B3: 459 | C3: 9e-161\
A4: Set17aC6_S30_2838 | B4: 492 | C4: 1e-158\
A5: Run39-A12_S89_8438 | B5: 489 | C5: 1e-158\
A6: Run42-A8_S57_34447 | B6: 495 | C6: 2e-158\
A7: Run80-H12_S96_35627 | B7: 495 | C7: 2e-158\
A8: Run33A5_S5_12574 | B8: 495 | C8: 2e-158\
A9: Run37H8_S92_42670 | B9: 495 | C9: 2e-158\
A10: Run20F8_S68_2215 | B10: 495 | C10: 2e-158\
A11: Run20F9_S69_2264 | B11: 495 | C11: 2e-158\
A12: Run40-F1_S6_10478 | B12: 495 | C12: 2e-158\
A13: Run43-A12_S89_42240 | B13: 495 | C13: 2e-158\
A14: Run40-B12_S90_12534 | B14: 495 | C14: 2e-158\
... A1524: Run52-A12_S89_30855 | B1524: 336 | C1524: 4e-123\
A1525: Set16bF10_S22_28989 | B1525: 263 | C1525: 2e-84
A1526: Run46-E5_S37_40496 | B1526: 247 | C1526: 8e-72
A1527: Run79-C12_S91_33487 | B1527: 109 | C1527: 3e-24
A1528: Run59-C3_S19_33928 | B1528: 76.6 | C1528: 1e-21
A1529: Run58-G6_S47_32704 | B1529: 76.6 | C1529: 1e-21
A1530: Run58-F10_S78_31999 | B1530: 76.6 | C1530: 1e-21
A1531: Run63-A3_S17_38525 | B1531: 76.6 | C1531: 1e-21
A1532: Run59-D1_S4_34350 | B1532: 76.6 | C1532: 1e-21
A1533: Run59-D8_S60_34627 | B1533: 76.6 | C1533: 1e-21
A1534: Run59-E4_S29_34836 | B1534: 76.6 | C1534: 1e-21
A1535: Run37A10_S10_44120 | B1535: 76.6 | C1535: 1e-21
A1536: Run59-D2_S12_34403 | B1536: 76.6 | C1536: 1e-21
... A1559: Run53-G1_S7_49929 | B1559: 76.6 | C1559: 3e-21

Sheet Raw STM0726
A1: Identifer | B1: Hit Score | C1: e value | E1: indicates premature stop codon
A2: Set18bF9_S21_7707 | B2: 1338 | C2: 0 | E2: Thick black line indicates bitscore cutoff below which corresponds to truncated proteins
A3: Set18bF8_S20_7660 | B3: 1338 | C3: 0
A4: Run20H5_S89_2795 | B4: 1338 | C4: 0
A5: Run20H3_S87_2758 | B5: 1338 | C5: 0
A6: Run20H1_S85_2665 | B6: 1338 | C6: 0
A7: Run20G8_S80_2552 | B7: 1338 | C7: 0
A8: Run20G12_S84_2368 | B8: 1338 | C8: 0
A9: Run20G11_S83_2325 | B9: 1338 | C9: 0
A10: Run20G10_S82_2287 | B10: 1338 | C10: 0
A11: Run20F9_S69_2264 | B11: 1338 | C11: 0
A12: Run20F6_S66_2152 | B12: 1338 | C12: 0
A13: Run20F5_S65_2124 | B13: 1338 | C13: 0
A14: Run20F4_S64_2082 | B14: 1338 | C14: 0
... A1506: Run32D9_S45_8732 | B1506: 508 | C1506: 0
A1507: Run58-G4_S31_32631 | B1507: 563 | C1507: 8e-176\
A1508: Set16aC9_S33_14301 | B1508: 474 | C1508: 1e-163\
A1509: Run44-C2_S11_42962 | B1509: 527 | C1509: 2e-163\
A1510: Run28A5_S5_50475 | B1510: 521 | C1510: 2e-161\
A1511: Set16aB8_S20_6763 | B1511: 521 | C1511: 2e-161\
A1512: Run28A8_S8_2856 | B1512: 521 | C1512: 2e-161\
A1513: Set16aC1_S25_5571 | B1513: 521 | C1513: 2e-161\
A1514: Run19B4_S16_1199 | B1514: 521 | C1514: 2e-161\
A1515: Run28A10_S10_53227 | B1515: 521 | C1515: 2e-161\
A1516: Run28H5_S89_9129 | B1516: 521 | C1516: 2e-161\
A1517: Run19A7_S7_998 | B1517: 521 | C1517: 2e-161\
A1518: Run28A11_S11_53278 | B1518: 521 | C1518: 2e-161\
... A1531: Set16bE10_S10_20105 | B1531: 412 | C1531: 4e-139\
A1532: Set16bF9_S21_27213 | B1532: 291 | C1532: 3e-90
A1533: Run27B7_S19_6980 | B1533: 305 | C1533: 8e-87
A1534: Run52-D2_S12_7088 | B1534: 305 | C1534: 8e-87
A1535: Set16aD10_S46_12147 | B1535: 258 | C1535: 4e-79
A1536: Set16bF9_S21_27058 | B1536: 213 | C1536: 3e-60
A1537: Run43-H9_S72_5478 | B1537: 194 | C1537: 2e-55
A1538: Run58-H2_S16_32993 | B1538: 188 | C1538: 3e-53
A1539: Run53-G1_S7_49929 | B1539: 204 | C1539: 2e-52
A1540: Run59-D11_S84_34289 | B1540: 204 | C1540: 2e-52
A1541: Run58-F11_S86_32060 | B1541: 204 | C1541: 2e-52
A1542: Run59-D5_S36_34543 | B1542: 204 | C1542: 2e-52
A1543: Run63-A1_S1_38455 | B1543: 204 | C1543: 2e-52
...

Sheet Combined Hits with info
A1: IsolateID | B1: SARC/SARB Designation | C1: Serogroup | D1: Host_species | E1: Source | F1: SISTR | G1: Sequencing File Name | H1: T1 Hit?
A2: S1 | D2: Human | F2: Newport | G2: Set6aA1_S1 | H2: Yes
A3: S10 | D3: Human | F3: Enteritidis | G3: Set6aA10_S10 | H3: No
A4: S1000 | D4: Human | E4: urine | F4: Adelaide | G4: Run22D4_S40 | H4: No
A5: S1001 | D5: Human | E5: urine | F5: Adelaide | G5: Run22D5_S41 | H5: No
A6: S1002 | D6: Human | E6: urine | F6: Alachua | G6: Run22D6_S42 | H6: No
A7: S1003 | D7: Human | E7: feces | F7: Cerro | G7: Run22D7_S43 | H7: No
A8: S1004 | D8: Human | E8: feces | F8: Chester | G8: Run22D8_S44 | H8: Yes
A9: S1005 | D9: Human | E9: feces | F9: Durban | G9: Run22D9_S45 | H9: Yes
A10: S1006 | D10: Human | E10: feces | F10: Durban | G10: Run22D10_S46 | H10: Yes
A11: S1007 | D11: Human | E11: feces | F11: Eastbourne | G11: Run22D11_S47 | H11: Yes
A12: S1008 | D12: Human | E12: feces | F12: Gaminara | G12: Run22D12_S48 | H12: No
A13: S1009 | D13: Human | E13: feces | F13: Gaminara | G13: Run23E1_S49 | H13: No
A14: S1010 | D14: Human | E14: feces | F14: Gaminara | G14: Run23E2_S50 | H14: No
A15: S1011 | D15: Human | E15: feces | F15: Haifa | G15: Run23E3_S51 | H15: No
... A51: S1047 | D51: Human | E51: feces | F51: Telelkebir | G51: Run23H3_S87 | H51: No
A52: S1048 | D52: Human | F52: Tennessee | G52: Run23H4_S88 | H52: No
A53: S1049 | F53: Enteritidis | G53: Run23H5_S89 | H53: No
A54: S1050 | F54: Enteritidis | G54: Run23H6_S90 | H54: No
A55: S1051 | F55: Enteritidis | G55: Run23H7_S91 | H55: No
A56: S1052 | F56: Enteritidis | G56: Run23H8_S92 | H56: No
A57: S1053 | F57: Enteritidis | G57: Run23H9_S93 | H57: No
A58: S1054 | F58: Enteritidis | G58: Run23H10_S94 | H58: No
A59: S1055 | F59: Enteritidis | G59: Run23H11_S95 | H59: No
A60: S1056 | F60: Enteritidis | G60: Run23H12_S96 | H60: No
A61: S1057 | F61: Enteritidis | G61: Run24A1_S1 | H61: No
A62: S1058 | F62: Enteritidis | G62: Run24A2_S2 | H62: No
A63: S1059 | F63: Enteritidis | G63: Run24A3_S3 | H63: No
A64: S1060 | F64: Enteritidis | G64: Run24A4_S4 | H64: No
... A103: S1099 | F103: Enteritidis | G103: Run24D7_S43 | H103: No
A104: S11 | D104: Human | F104: Enteritidis | G104: Set6aA11_S11 | H104: No
A105: S1100 | F105: Enteritidis | G105: Run24D8_S44 | H105: No
A106: S1101 | F106: Enteritidis | G106: Run24D9_S45 | H106: No
A107: S1102 | F107: Enteritidis | G107: Run24D10_S46 | H107: No
A108: S1103 | F108: Enteritidis | G108: Run24D11_S47 | H108: No
A109: S1104 | F109: Enteritidis | G109: Run24D12_S48 | H109: No
A110: S1105 | F110: Enteritidis | G110: Run24E1_S49 | H110: No
A111: S1106 | F111: Enteritidis | G111: Run24E2_S50 | H111: No
A112: S1107 | F112: Enteritidis | G112: Run24E3_S51 | H112: No
A113: S1108 | F113: Enteritidis | G113: Run24E4_S52 | H113: No
...

Sheet T1 Serovar summary
A1: Serovar | B1: Total | C1: T1 Positive | D1: T1 Negative | E1: Percentage positive
A2: Unknown | B2: =COUNTIF('Combined Hits with info'!F:F,A2) -> 348 | C2: =COUNTIFS('Combined Hits with info'!F:F,A2,'Combined Hits with info'!H:H,$H$2) -> 136 | D2: =COUNTIFS('Combined Hits with info'!F:F,A2,'Combined Hits with info'!H:H,$H$3) -> 212 | E2: =C2/B2*100 -> 39.08046 | H2: yes
A3: Typhimurium | B3: =COUNTIF('Combined Hits with info'!F:F,A3) -> 318 | C3: =COUNTIFS('Combined Hits with info'!F:F,A3,'Combined Hits with info'!H:H,$H$2) -> 286 | D3: =COUNTIFS('Combined Hits with info'!F:F,A3,'Combined Hits with info'!H:H,$H$3) -> 32 | E3: =C3/B3*100 -> 89.937107 | H3: no
A4: Enteritidis | B4: =COUNTIF('Combined Hits with info'!F:F,A4) -> 240 | C4: =COUNTIFS('Combined Hits with info'!F:F,A4,'Combined Hits with info'!H:H,$H$2) -> 0 | D4: =COUNTIFS('Combined Hits with info'!F:F,A4,'Combined Hits with info'!H:H,$H$3) -> 240 | E4: =C4/B4*100 -> 0
A5: Newport | B5: =COUNTIF('Combined Hits with info'!F:F,A5) -> 107 | C5: =COUNTIFS('Combined Hits with info'!F:F,A5,'Combined Hits with info'!H:H,$H$2) -> 94 | D5: =COUNTIFS('Combined Hits with info'!F:F,A5,'Combined Hits with info'!H:H,$H$3) -> 13 | E5: =C5/B5*100 -> 87.850467
A6: Muenchen | B6: =COUNTIF('Combined Hits with info'!F:F,A6) -> 88 | C6: =COUNTIFS('Combined Hits with info'!F:F,A6,'Combined Hits with info'!H:H,$H$2) -> 84 | D6: =COUNTIFS('Combined Hits with info'!F:F,A6,'Combined Hits with info'!H:H,$H$3) -> 4 | E6: =C6/B6*100 -> 95.454545
A7: Heidelberg | B7: =COUNTIF('Combined Hits with info'!F:F,A7) -> 75 | C7: =COUNTIFS('Combined Hits with info'!F:F,A7,'Combined Hits with info'!H:H,$H$2) -> 22 | D7: =COUNTIFS('Combined Hits with info'!F:F,A7,'Combined Hits with info'!H:H,$H$3) -> 53 | E7: =C7/B7*100 -> 29.333333
A8: Thompson | B8: =COUNTIF('Combined Hits with info'!F:F,A8) -> 60 | C8: =COUNTIFS('Combined Hits with info'!F:F,A8,'Combined Hits with info'!H:H,$H$2) -> 0 | D8: =COUNTIFS('Combined Hits with info'!F:F,A8,'Combined Hits with info'!H:H,$H$3) -> 60 | E8: =C8/B8*100 -> 0
A9: Anatum | B9: =COUNTIF('Combined Hits with info'!F:F,A9) -> 55 | C9: =COUNTIFS('Combined Hits with info'!F:F,A9,'Combined Hits with info'!H:H,$H$2) -> 48 | D9: =COUNTIFS('Combined Hits with info'!F:F,A9,'Combined Hits with info'!H:H,$H$3) -> 7 | E9: =C9/B9*100 -> 87.272727
A10: Dublin | B10: =COUNTIF('Combined Hits with info'!F:F,A10) -> 52 | C10: =COUNTIFS('Combined Hits with info'!F:F,A10,'Combined Hits with info'!H:H,$H$2) -> 0 | D10: =COUNTIFS('Combined Hits with info'!F:F,A10,'Combined Hits with info'!H:H,$H$3) -> 52 | E10: =C10/B10*100 -> 0
A11: Senftenberg | B11: =COUNTIF('Combined Hits with info'!F:F,A11) -> 50 | C11: =COUNTIFS('Combined Hits with info'!F:F,A11,'Combined Hits with info'!H:H,$H$2) -> 49 | D11: =COUNTIFS('Combined Hits with info'!F:F,A11,'Combined Hits with info'!H:H,$H$3) -> 1 | E11: =C11/B11*100 -> 98
A12: Braenderup | B12: =COUNTIF('Combined Hits with info'!F:F,A12) -> 48 | C12: =COUNTIFS('Combined Hits with info'!F:F,A12,'Combined Hits with info'!H:H,$H$2) -> 0 | D12: =COUNTIFS('Combined Hits with info'!F:F,A12,'Combined Hits with info'!H:H,$H$3) -> 48 | E12: =C12/B12*100 -> 0
A13: Infantis | B13: =COUNTIF('Combined Hits with info'!F:F,A13) -> 48 | C13: =COUNTIFS('Combined Hits with info'!F:F,A13,'Combined Hits with info'!H:H,$H$2) -> 0 | D13: =COUNTIFS('Combined Hits with info'!F:F,A13,'Combined Hits with info'!H:H,$H$3) -> 48 | E13: =C13/B13*100 -> 0
A14: Agona | B14: =COUNTIF('Combined Hits with info'!F:F,A14) -> 45 | C14: =COUNTIFS('Combined Hits with info'!F:F,A14,'Combined Hits with info'!H:H,$H$2) -> 2 | D14: =COUNTIFS('Combined Hits with info'!F:F,A14,'Combined Hits with info'!H:H,$H$3) -> 43 | E14: =C14/B14*100 -> 4.4444444
A15: Saintpaul | B15: =COUNTIF('Combined Hits with info'!F:F,A15) -> 43 | C15: =COUNTIFS('Combined Hits with info'!F:F,A15,'Combined Hits with info'!H:H,$H$2) -> 33 | D15: =COUNTIFS('Combined Hits with info'!F:F,A15,'Combined Hits with info'!H:H,$H$3) -> 10 | E15: =C15/B15*100 -> 76.744186
... A189: Bongori | B189: =COUNTIF('Combined Hits with info'!F:F,A189) -> 2 | C189: =COUNTIFS('Combined Hits with info'!F:F,A189,'Combined Hits with info'!H:H,$H$2) -> 0 | D189: =COUNTIFS('Combined Hits with info'!F:F,A189,'Combined Hits with info'!H:H,$H$3) -> 2 | E189: =C189/B189*100 -> 0

Sheet O9 like
A1: S782 | B1: SARC11 | D1: Frog | F1: Bongori | G1: Run19C1_S25 | H1: Full o9/O9a
A2: S783 | B2: SARC12 | D2: Parakeet | F2: Bongori | G2: Run19C2_S26 | H2: Full O9/O9a
A3: S1658 | C3: -:i:- | E3: river surface water | F3: IIIb_48:z10:e;n;x;z15 | G3: Run37C2_S26 | H3: Full O9/O9a
A4: S31 | C4: W | D4: Shrimp | F4: Grancanaria | G4: Set6aC1_S25 | H4: Full O9/O9a
A5: S775 | B5: SARC4 | F5: II_58:f;g;t:z6 | G5: Run19B6_S18 | H5: Full O9/O9a
A6: S774 | B6: SARC3 | D6: Human | F6: II_58:d:z8 | G6: Run19B5_S17 | H6: Full O9/O9a
A7: S2611 | C7: 0 | F7: II_58:l;z13;z28:z6 | G7: Run59-D10_S76 | H7: Full O9/O9a
A8: S1919 | D8: almond | E8: Almond kernel raw, Monterey variety | F8: IIIb_38:(k):z35 | G8: Run41-F2_S14 | H8: Full O9/O9a
A9: S779 | B9: SARC8 | D9: Human | F9: IIIb_38:(k):z35 | G9: Run19B10_S22 | H9: Full O9/O9a
A10: S2263 | E10: surface water | F10: IIIb_60:r:z | G10: Run47-A2_S9 | H10: Full O9/O9a
A11: S57 | F11: Unknown | G11: Set11aA9_S9 | H11: Full O9/O9a
A12: S438 | D12: Cantaloupe | E12: Cantaloupe rinses | F12: Unknown | G12: Set15bE6_S6 | H12: Full O9/O9a
