Workbook

Sheet Sheet1
A1: Gene | B1: Cell Cycle Phase | C1: Present in IAMs
A2: Cenph | B2: G1/S | C2: =COUNTIF(Sheet2!A:A,Sheet1!A2) -> 1
A3: Cul1 | B3: G1/S | C3: =COUNTIF(Sheet2!A:A,Sheet1!A3) -> 0
A4: Eri1 | B4: G1/S | C4: =COUNTIF(Sheet2!A:A,Sheet1!A4) -> 0
A5: Gins4 | B5: G1/S | C5: =COUNTIF(Sheet2!A:A,Sheet1!A5) -> 0
A6: Ipo9 | B6: G1/S | C6: =COUNTIF(Sheet2!A:A,Sheet1!A6) -> 0
A7: Lig1 | B7: G1/S | C7: =COUNTIF(Sheet2!A:A,Sheet1!A7) -> 1
A8: Mybl2 | B8: G1/S | C8: =COUNTIF(Sheet2!A:A,Sheet1!A8) -> 1
A9: Nup85 | B9: G1/S | C9: =COUNTIF(Sheet2!A:A,Sheet1!A9) -> 0
A10: Ranbp1 | B10: G1/S | C10: =COUNTIF(Sheet2!A:A,Sheet1!A10) -> 1
A11: Rif1 | B11: G1/S | C11: =COUNTIF(Sheet2!A:A,Sheet1!A11) -> 1
A12: Rpa1 | B12: G1/S | C12: =COUNTIF(Sheet2!A:A,Sheet1!A12) -> 0
A13: Tdp2 | B13: G1/S | C13: =COUNTIF(Sheet2!A:A,Sheet1!A13) -> 0
... A67: Usp37 | B67: G1/S | C67: =COUNTIF(Sheet2!A:A,Sheet1!A67) -> 0
A68: Banf1 | B68: G2/M | C68: =COUNTIF(Sheet2!B:B,Sheet1!A68) -> 1
A69: Dynlt1a | B69: G2/M | C69: =COUNTIF(Sheet2!B:B,Sheet1!A69) -> 0
A70: Evi2b | B70: G2/M | C70: =COUNTIF(Sheet2!B:B,Sheet1!A70) -> 0
A71: H2afz | B71: G2/M | C71: =COUNTIF(Sheet2!B:B,Sheet1!A71) -> 1
A72: Hist1h1b | B72: G2/M | C72: =COUNTIF(Sheet2!B:B,Sheet1!A72) -> 0
A73: Hist1h2ab | B73: G2/M | C73: =COUNTIF(Sheet2!B:B,Sheet1!A73) -> 0
A74: Hist1h2ae | B74: G2/M | C74: =COUNTIF(Sheet2!B:B,Sheet1!A74) -> 0
A75: Hist1h2ai | B75: G2/M | C75: =COUNTIF(Sheet2!B:B,Sheet1!A75) -> 0
A76: Hist1h3f | B76: G2/M | C76: =COUNTIF(Sheet2!B:B,Sheet1!A76) -> 0
A77: Hist2h3c2 | B77: G2/M | C77: =COUNTIF(Sheet2!B:B,Sheet1!A77) -> 0
A78: Hnrnpu | B78: G2/M | C78: =COUNTIF(Sheet2!B:B,Sheet1!A78) -> 0
A79: Kif24 | B79: G2/M | C79: =COUNTIF(Sheet2!B:B,Sheet1!A79) -> 0
... A193: Tuba1c | B193: G2/M | C193: =COUNTIF(Sheet2!B:B,Sheet1!A193) -> 1
A194: Banf1 | B194: M | C194: =COUNTIF(Sheet2!C:C,Sheet1!A194) -> 1
A195: Cdc23 | B195: M | C195: =COUNTIF(Sheet2!C:C,Sheet1!A195) -> 0
A196: Cenpc1 | B196: M | C196: =COUNTIF(Sheet2!C:C,Sheet1!A196) -> 0
A197: Cep72 | B197: M | C197: =COUNTIF(Sheet2!C:C,Sheet1!A197) -> 0
A198: Evi2b | B198: M | C198: =COUNTIF(Sheet2!C:C,Sheet1!A198) -> 0
A199: H2afz | B199: M | C199: =COUNTIF(Sheet2!C:C,Sheet1!A199) -> 1
A200: H3f3b | B200: M | C200: =COUNTIF(Sheet2!C:C,Sheet1!A200) -> 0
A201: Hmgb1 | B201: M | C201: =COUNTIF(Sheet2!C:C,Sheet1!A201) -> 1
A202: Miip | B202: M | C202: =COUNTIF(Sheet2!C:C,Sheet1!A202) -> 0
A203: Sass6 | B203: M | C203: =COUNTIF(Sheet2!C:C,Sheet1!A203) -> 0
A204: Terf1 | B204: M | C204: =COUNTIF(Sheet2!C:C,Sheet1!A204) -> 0
A205: Ankle1 | B205: M | C205: =COUNTIF(Sheet2!C:C,Sheet1!A205) -> 1
... A313: Zfp281 | B313: M | C313: =COUNTIF(Sheet2!C:C,Sheet1!A313) -> 0
A314: H3f3b | B314: M/G1 | C314: =COUNTIF(Sheet2!D:D,Sheet1!A314) -> 0
A315: Iqgap1 | B315: M/G1 | C315: =COUNTIF(Sheet2!D:D,Sheet1!A315) -> 1
A316: Pomp | B316: M/G1 | C316: =COUNTIF(Sheet2!D:D,Sheet1!A316) -> 1
A317: Sass6 | B317: M/G1 | C317: =COUNTIF(Sheet2!D:D,Sheet1!A317) -> 0
A318: Mrfap1 | B318: M/G1 | C318: =COUNTIF(Sheet2!D:D,Sheet1!A318) -> 1
A319: Pop4 | B319: M/G1 | C319: =COUNTIF(Sheet2!D:D,Sheet1!A319) -> 0
A320: Cdc42 | B320: M/G1 | C320: =COUNTIF(Sheet2!D:D,Sheet1!A320) -> 1
A321: Dynll1 | B321: M/G1 | C321: =COUNTIF(Sheet2!D:D,Sheet1!A321) -> 1
A322: Hist1h4c | B322: M/G1 | C322: =COUNTIF(Sheet2!D:D,Sheet1!A322) -> 0
A323: Lsm5 | B323: M/G1 | C323: =COUNTIF(Sheet2!D:D,Sheet1!A323) -> 0
A324: Morf4l2 | B324: M/G1 | C324: =COUNTIF(Sheet2!D:D,Sheet1!A324) -> 1
A325: Pttg1 | B325: M/G1 | C325: =COUNTIF(Sheet2!D:D,Sheet1!A325) -> 0
... A328: Sun2 | B328: M/G1 | C328: =COUNTIF(Sheet2!D:D,Sheet1!A328) -> 0
A329: Cenph | B329: S | C329: =COUNTIF(Sheet2!E:E,Sheet1!A329) -> 1
A330: Chtf18 | B330: S | C330: =COUNTIF(Sheet2!E:E,Sheet1!A330) -> 1
A331: Cul1 | B331: S | C331: =COUNTIF(Sheet2!E:E,Sheet1!A331) -> 0
A332: Dnmt1 | B332: S | C332: =COUNTIF(Sheet2!E:E,Sheet1!A332) -> 1
A333: Eri1 | B333: S | C333: =COUNTIF(Sheet2!E:E,Sheet1!A333) -> 0
A334: Hist1h1b | B334: S | C334: =COUNTIF(Sheet2!E:E,Sheet1!A334) -> 0
A335: Hist1h2ae | B335: S | C335: =COUNTIF(Sheet2!E:E,Sheet1!A335) -> 0
A336: Hist2h3c2 | B336: S | C336: =COUNTIF(Sheet2!E:E,Sheet1!A336) -> 0
A337: Hnrnpu | B337: S | C337: =COUNTIF(Sheet2!E:E,Sheet1!A337) -> 0
A338: Ipo9 | B338: S | C338: =COUNTIF(Sheet2!E:E,Sheet1!A338) -> 0
A339: Mybl2 | B339: S | C339: =COUNTIF(Sheet2!E:E,Sheet1!A339) -> 1
A340: Nsl1 | B340: S | C340: =COUNTIF(Sheet2!E:E,Sheet1!A340) -> 0
... A419: Usp1 | B419: S | C419: =COUNTIF(Sheet2!E:E,Sheet1!A419) -> 1

Sheet Sheet2
A1: Atad2 | B1: Ankle1 | C1: Ankle1 | D1: Cdc42 | E1: Anp32b
A2: Brca2 | B2: Anln | C2: Anln | D2: Dynll1 | E2: Asf1b
A3: Brip1 | B3: Apobec3 | C3: Banf1 | D3: Iqgap1 | E3: Atad2
A4: Ccne1 | B4: Asf1b | C4: Birc5 | D4: Morf4l2 | E4: Brca1
A5: Ccne2 | B5: Aurkb | C5: Ccna2 | D5: Mrfap1 | E5: Brca2
A6: Cdc6 | B6: Banf1 | C6: Ccnb1 | D6: Pomp | E6: Brip1
A7: Cdca7l | B7: Bub1 | C7: Ccnb2 | D7: Ran | E7: Cbx5
A8: Cdk4 | B8: Ccna2 | C8: Cdca3 | E8: Ccne1
A9: Cenph | B9: Cdca3 | C9: Cenpa | E9: Ccne2
A10: Chaf1a | B10: Cdca5 | C10: Cenpf | E10: Cdk1
A11: Chaf1b | B11: Cdca8 | C11: Ckap2l | E11: Cdk4
A12: Clspn | B12: Cdk1 | C12: Cks1b | E12: Cenph
A13: Dscc1 | B13: Cenpe | C13: Gas2l3 | E13: Cenpi
A14: Dtl | B14: Cenpm | C14: H2afz | E14: Chtf18
A15: Dut | B15: Gas2l3 | C15: Hist2h2ac | E15: Clspn
A16: Fen1 | B16: H2afz | C16: Hmgb1 | E16: Dck
A17: Gins2 | B17: Hist2h2ac | C17: Hmgb3 | E17: Dna2
A18: Hells | B18: Hmmr | C18: Hmmr | E18: Dnmt1
A19: Lig1 | B19: Kif11 | C19: Kif11 | E19: Esco2
... A37: Uhrf1 | B37: Rad51ap1 | C37: Ube2c | E37: Stil
A38: Ung | B38: Smc2 | E38: Stmn1
A39: Usp1 | B39: Smtn | E39: Tcf19
B40: Spag5 | E40: Topbp1
B41: Spc24 | E41: Tuba1b
B42: Stil | E42: Tubb5
B43: Stmn1 | E43: Ube2t
B44: Tacc3 | E44: Uhrf1
B45: Tbl2 | E45: Usp1
B46: Top2a
B47: Trim59
B48: Ttk
B49: Tuba1b
B50: Tuba1c
