Workbook
Name _gXY1: #REF!
Name _gXY1: PlotDat15!$C$1:$D$16
Name Age: 'Halogen Samples (2)'!$EG:$EG
Name Age: Scapolite!$EJ:$EJ
Name Age: 'Supplementary Data 3'!$EM:$EM
Name Age_err: 'Halogen Samples (2)'!$EH:$EH
Name Age_err: 'Supplementary Data 3'!$EN:$EN
Name Age_exterr: 'Halogen Samples (2)'!$EI:$EI
Name Age_exterr: 'Supplementary Data 3'!$EO:$EO
Name airratio: 298.56
Name airratio4036: 298.56
Name alpha: 'Halogen Samples (2)'!$CT:$CT
Name alpha: Hb3Gr!$CK:$CK
Name alpha: Scapolite!$CT:$CT
Name alpha: 'Supplementary Data 3'!$CZ:$CZ
Name alpha: Vertical_variation!$CI:$CI
Name alphaerr: 'Halogen Samples (2)'!$CU:$CU
Name alphaerr: Hb3Gr!$CL:$CL
Name alphaerr: Scapolite!$CU:$CU
Name alphaerr: 'Supplementary Data 3'!$DA:$DA
Name alphaerr: Vertical_variation!$CJ:$CJ
Name Ar_Sensitivity: 'Halogen Samples (2)'!$BX:$BX
Name Ar_Sensitivity: Scapolite!$BX:$BX
Name Ar_Sensitivity: 'Supplementary Data 3'!$CD:$CD
Name Ar_sensitivityerr: 'Halogen Samples (2)'!$BY:$BY
Name Ar_sensitivityerr: Scapolite!$BY:$BY
Name Ar_sensitivityerr: 'Supplementary Data 3'!$CE:$CE
Name Ar36_ClCor: 'Halogen Samples (2)'!$BR:$BR
Name Ar36_ClCor: Hb3Gr!$BR:$BR
Name Ar36_ClCor: Salts!$BR:$BR
Name Ar36_ClCor: Scapolite!$BR:$BR
Name Ar36_ClCor: 'Supplementary Data 3'!$BX:$BX
Name Ar36_ClCorerr: 'Halogen Samples (2)'!$BS:$BS
Name Ar36_ClCorerr: Hb3Gr!$BS:$BS
Name Ar36_ClCorerr: Salts!$BS:$BS
Name Ar36_ClCorerr: Scapolite!$BS:$BS
Name Ar36_ClCorerr: 'Supplementary Data 3'!$BY:$BY
Name Ar36_DC: 'Halogen Samples (2)'!$BA:$BA
Name Ar36_DC: Hb3Gr!$BA:$BA
Name Ar36_DC: Salts!$BA:$BA
Name Ar36_DC: Scapolite!$BA:$BA
Name Ar36_DC: 'Supplementary Data 3'!$BA:$BA
Name Ar36_DCerr: 'Halogen Samples (2)'!$BB:$BB
Name Ar36_DCerr: Hb3Gr!$BB:$BB
Name Ar36_DCerr: Salts!$BB:$BB
Name Ar36_DCerr: Scapolite!$BB:$BB
Name Ar36_DCerr: 'Supplementary Data 3'!$BB:$BB
Name Ar36_DecayFactor: 'Halogen Samples (2)'!$BQ:$BQ
Name Ar36_DecayFactor: Hb3Gr!$BQ:$BQ
Name Ar36_DecayFactor: Salts!$BQ:$BQ
Name Ar36_DecayFactor: Scapolite!$BQ:$BQ
Name Ar36_DecayFactor: 'Supplementary Data 3'!$BW:$BW
Name Ar36_IC: 'Halogen Samples (2)'!$BO:$BO
Name Ar36_IC: Hb3Gr!$BO:$BO
Name Ar36_IC: Salts!$BO:$BO
Name Ar36_IC: Scapolite!$BO:$BO
Name Ar36_IC: 'Supplementary Data 3'!$BU:$BU
Name Ar36_ICerr: 'Halogen Samples (2)'!$BP:$BP
Name Ar36_ICerr: Hb3Gr!$BP:$BP
Name Ar36_ICerr: Salts!$BP:$BP

Sheet Halogen Samples (2)
B1: All named cells local to the sheet except those in the Ref Values Sheet
B2: Red = Fill in Information | Y2: need to take average | CN2: Updated for specific tube position
B3: Blue = Calcualted cell, don’t change | Y3: H1 | AA3: CDD | AC3: AX | AE3: L2 | AG3: CDD | BC3: *only for stepped irradiation | BQ3: *only for stepped irradiation | GU3: *From column GQ in Scapolite Sheet | HC3: *From column GY in Scapolite Sheet | HK3: *From column CJ in Shallowater Sheet | HO3: *From column CP in Shallowater Sheet | KC3: *From column CB in Shallowater Sheet | KI3: *From column KY in Scapolite Sheet | KU3: *From column CV in Shallowater Sheet | LQ3: Note: Summary is configured to take bromine concentrations and ratios from scapolite-corrected data and iodine and barium fromShallowater-corrected data
K4: must be filled in | BC4: Column K must read 'Continuous' or 'Stepped' | BQ4: Column K must read 'Continuous' or 'Stepped'
B5: Samples Details | G5: Irradiation Details | L5: Laser Details | O5: Samples: Raw Ar Data | Y5: Samples: Blank Ar Data | AI5: Samples: Blank Corrected Ar Data | AU5: Discrimination-corrected | BC5: Decay Factors* | BE5: Decay Corrected | BI5: Interference Corrections | BQ5: Decay Factor* | BR5: Cl-Corrected 36Ar | BT5: Air-Corrected 38Ar and 40Ar | BX5: Argon Sensitivity (cc/fA) | BZ5: cc Argon | CJ5: Moles Ar | CN5: Irradiation Parameters from Hb3Gr Sheet | CX5: Samples: Potassium | DD5: Samples: Chlorine | DJ5: Samples: Calcium | DP5: Samples: Ratios | DZ5: Age Calculation | EJ5: Plateau Plot | EM5: Uncorrected Ratios | EU5: Samples: Raw Kr Data | FC5: Samples: Blank Kr Data | FK5: Samples: Blank Corrected Kr Data | FS5: 235U correction | FU5: Air correction | GA5: Krypton Sensitivity and Yield | GE5: cc Krypton | GM5: Moles Krypton | GU5: Irradiation Parameter π and Scapolite-Corrected 79Br | HC5: Irradiation Parameter π' and Scapolite-Corrected 81Br | HK5: Shallowater-Corrected 79Br | HO5: Shallowater-Corrected 81Br | HS5: Samples: Raw Xe Data | IG5: Samples: Blank Xe Data | IU5: Samples: BlankCorrected Xe Data | JI5: Air Correction (or Trapped: Find and Replace 'Air' for 'SW', 'Q' or 'Mix' | JU5: Xenon Sensitivity and Yield | JY5: 128XeI (cc and mole) | KC5: Shallowater-Corrected I | KI5: Irradiation Parameter ω' and Scapolite-Corrected I | KO5: 131XeBa (cc and mole) | KU5: Shallowater-Corrected Barium | LA5: External Ba-Correction | LG5: Uranium | LY5: Shallowater-Corrected | MC5: Scapolite-Corrected | MG5: Shallowater-Corrected | MI5: Scapolite-Corrected | MK5: Barium & Uranium | MO5: Weight Ratios | MW5: Molar Ratios
B6: Details | C6: Samples Mass (g) | D6: ±Samples Mass (g) | E6: Analysis Date | F6: Spec. | G6: Irradiation | H6: Tube | I6: Can | J6: Irrad. Date | K6: Type (Stepped or Continuous) | L6: Laser Power | M6: W | N6: Step Duration | O6: 40Ar | P6: ±40Ar | Q6: 39Ar | R6: ±39Ar | S6: 38Ar | T6: ±38Ar | U6: 37Ar | V6: ±37Ar | W6: 36Ar | X6: ±36Ar | Y6: 40Ar | Z6: ±40Ar | AA6: 39Ar | AB6: ±39Ar | AC6: 38Ar | AD6: ±38Ar | AE6: 37Ar | AF6: ±37Ar | AG6: 36Ar | AH6: ±36Ar | AI6: 40Ar | AJ6: ±40Ar | AK6: 39Ar | AL6: ±39Ar | AM6: 38Ar | AN6: ±38Ar | AO6: 37Ar | AP6: ±37Ar | AQ6: 36Ar | AR6: ±36Ar | AS6: 40Ar/36Ar aircal | AT6: ± | AU6: 39Ar | AV6: ±39Ar | AW6: 38Ar | AX6: ±38Ar | AY6: 37Ar | AZ6: ±37Ar | BA6: 36Ar | BB6: ±36Ar | BC6: 37Ar | BD6: 39Ar | BE6: 37Ar | BF6: ±37Ar | BG6: 39Ar | BH6: ±39Ar | BI6: 40Ar | BJ6: ±40Ar | BK6: 39Ar | BL6: ±39Ar | BM6: 38Ar | BN6: ±38Ar | BO6: 36Ar | BP6: ±36Ar | BQ6: 36Ar | BR6: 36Ar* | BS6: ±36Ar* | BT6: 38ArCl* | BU6: ±38ArCl* | BV6: 40Ar* | BW6: ±40Ar* | BX6: S40Ar (cc/fA) | BY6: ±S40Ar | BZ6: 36Ar | CA6: ±36Ar | CB6: 37Ar | CC6: ±37Ar | CD6: 38Ar* | CE6: ±38Ar* | CF6: 39Ar | CG6: ±39Ar | CH6: 40Ar* | CI6: ±40Ar* | CJ6: 38Ar* | CK6: ±38Ar* | CL6: 40Ar* mole | CM6: ±40Ar*mole | CN6: J | CO6: ±J | CP6: ɸ therm | CQ6: ± ɸ therm | CR6: ɸ fast | CS6: ± ɸ fast | CT6: α | CU6: ±α | CV6: β | CW6: ±β | CX6: K (mole) | CY6: ±K (mole) | CZ6: K (ppm) | DA6: ±K (ppm) | DB6: K(wt.%) | DC6: ±K (wt.%) | DD6: Cl (mole) | DE6: ±Cl (mole) | DF6: Cl (ppm) | DG6: ±Cl (ppm) | DH6: Cl (wt. %) | DI6: ±Cl (wt. %) | DJ6: Ca (mole) | DK6: ±Ca (mole) | DL6: Ca (ppm) | DM6: ±Ca (ppm) | DN6: Ca (wt.%) | DO6: ±Ca (wt. %) | DP6: K/Cl (molar) | DQ6: ±K/Cl (molar) | DR6: K/Ca(molar) | DS6: ±K/Ca (molar) | DT6: K/Cl (wt.) | DU6: ±K/Cl (wt.) | DV6: K/Ca (wt.) | DW6: ±K/Ca (wt.) | DX6: 40Ar*/Cl (molar) | DY6: ±40Ar*/Cl (molar) | DZ6: 40Ar*/39Ar | EA6: ±40Ar*/39Ar | EB6: 40Ar*/K | EC6: ±40Ar*/K | ED6: Age (Ma) | EE6: ± Age (Ma) | EF6: ± Age (Ma) ext | EG6: Age (Ma) | EH6: ± Age (Ma) | EI6: ± Age (Ma) ext | EJ6: 39Ar% | EK6: Age (Ma) | EL6: ± Age (Ma) | EM6: 39ArK/36Ar | EN6: ±39ArK/36Ar | EO6: 40Artot/36Ar | EP6: ±40Artot/36Ar | EQ6: 39ArK/40Artot | ER6: ±39ArK/40Artot | ES6: 36Ar/40Artot | ET6: ±36Ar/40Artot | EU6: 80Kr | EV6: ±80Kr | EW6: 82Kr | EX6: ±82Kr | EY6: 84Kr | EZ6: ±84Kr | FA6: 86Kr | FB6: ±86Kr | FC6: 80Kr | FD6: ±80Kr | FE6: 82Kr | FF6: ±82Kr | FG6: 84Kr | FH6: ±84Kr | FI6: 86Kr | FJ6: ±86Kr | FK6: 80Kr | FL6: ±80Kr | FM6: 82Kr | FN6: ±82Kr | FO6: 84Kr | FP6: ±84Kr | FQ6: 86Kr | FR6: ±86Kr | FS6: 84Kr | FT6: ±84Kr | FU6: 80Kr* | FV6: ±80Kr* | FW6: 82Kr* | FX6: ±82Kr* | FY6: 86Kr* | FZ6: ±86Kr* | GA6: S84Kr (cc/fA) | GB6: ±S84Kr | GC6: YKr | GD6: ±YKr | GE6: 80Kr* | GF6: ±80Kr* | GG6: 82Kr* | GH6: ±82Kr* | GI6: 84Kr | GJ6: ±84Kr | GK6: 86Kr | GL6: ±86Kr | GM6: 80Kr* (mol) | GN6: ±80Kr* (mol) | GO6: 82Kr* (mol) | GP6: ±82Kr* (mol) | GQ6: 84Kr (mol) | GR6: ±84Kr (mol) | GS6: 80Kr*/82Kr* | GT6: ±80Kr*/82Kr* | GU6: π | GV6: ±π | GW6: Cl/Br | GX6: ± | GY6: 79Br (moles) | GZ6: ± | HA6: 79Br (ppb) | HB6: ± | HC6: π' | HD6: ±π' | HE6: Cl/Br | HF6: ± | HG6: 81Br (moles) | HH6: ± | HI6: 81Br (ppb) | HJ6: ± | HK6: F79BrSW | HL6: ± | HM6: Br79 (ppb) | HN6: ± | HO6: F81BrSW | HP6: ± | HQ6: Br81 (ppb) | HR6: ± | HS6: 128Xe | HT6: ±128Xe | HU6: 129Xe | HV6: ±129Xe | HW6: 130Xe | HX6: ±130Xe | HY6: 131Xe | HZ6: ±131Xe | IA6: 132Xe | IB6: ±132Xe | IC6: 134Xe | ID6: ±134Xe | IE6: 136Xe | IF6: ±136Xe | IG6: 128Xe | IH6: ±128Xe | II6: 129Xe | IJ6: ±129Xe | IK6: 130Xe | IL6: ±130Xe | IM6: 131Xe | IN6: ±131Xe | IO6: 132Xe | IP6: ±132Xe | IQ6: 134Xe | IR6: ±134Xe | IS6: 136Xe | IT6: ±136Xe | IU6: 128Xe | IV6: ±128Xe | IW6: 129Xe | IX6: ±129Xe | IY6: 130Xe | IZ6: ±130Xe | JA6: 131Xe | JB6: ±131Xe | JC6: 132Xe | JD6: ±132Xe | JE6: 134Xe | JF6: ±134Xe | JG6: 136Xe | JH6: ±136Xe | JI6: 128Xe* | JJ6: ±128Xe* | JK6: 129Xe* | JL6: ±129Xe* | JM6: 131Xe* | JN6: ±131Xe* | JO6: 132Xe* | JP6: ±132Xe* | JQ6: 134Xe* | JR6: ±134Xe* | JS6: 136Xe* | JT6: ±136Xe* | JU6: S132Xe (cc/fA) | JV6: ±S132Xe | JW6: YXe | JX6: ±YXe | JY6: 128XeI (cc) | JZ6: ±128XeI (cc) | KA6: 128XeI (mole) | KB6: ±128XeI (mole) | KC6: FISW | KD6: ±FISW | KE6: I (mole) | KF6: ±I (mole) | KG6: I (ppb) | KH6: ±I (ppb) | KI6: ω | KJ6: ±ω | KK6: Cl/I | KL6: ± | KM6: I (ppb) | KN6: ± | KO6: 131Xe*Ba | KP6: ±131Xe*Ba | KQ6: 131Xe*Ba (cc) | KR6: ±131Xe*Ba (cc) | KS6: 131Xe*Ba (mole) | KT6: ±131Xe*Ba (mole) | KU6: FBaSW | KV6: ±FBaSW | KW6: Ba (mole) | KX6: ±Ba (mole) | KY6: Ba (ppm) | KZ6: ±Ba (ppm) | LA6: FBa | LB6: ±FBa | LC6: Ba (mole) | LD6: ±Ba (mole) | LE6: Ba (ppm) | LF6: ±Ba (ppm) | LG6: 134Xe*U (cc) | LH6: ±134Xe*U (cc) | LI6: 134Xe*U (mole) | LJ6: ±134Xe*U (mole) | LK6: U (mole) | LL6: ±U (mole) | LM6: U (ppb) | LN6: ±U (ppb) | LQ6: Sample | LR6: Irradiation | LS6: K (ppm) | LT6: ±K (ppm) | LU6: Cl (ppm) | LV6: ±Cl (ppm) | LW6: Ca (ppm) | LX6: ±Ca (ppm) | LY6: Br79 (ppb) | LZ6: ±Br (ppm) | MA6: Br81 (ppb) | MB6: ±Br (ppm) | MC6: Br79 (ppb) | MD6: ±Br (ppm) | ME6: Br81 (ppb) | MF6: ±Br (ppm) | MG6: I (ppb) | MH6: ±I (ppb) | MI6: I (ppb) | MJ6: ±I (ppb) | MK6: Ba (ppm) | ML6: ±Ba (ppm) | MM6: U (ppb) | MN6: ±U (ppb) | MO6: K/Cl (wt.) | MP6: ±K/Cl (wt.) | MQ6: 79Br/Cl (wt.) | MR6: ±79Br/Cl (wt.) | MS6: 81Br/Cl (wt.) | MT6: ±81Br/Cl (wt.) | MU6: I/Cl (wt.) | MV6: ±I/Cl (wt.) | MW6: K/Cl (mol) | MX6: ±K/Cl (mol.) | MY6: 79Br/Cl (mol) | MZ6: ±79Br/Cl (mol) | NA6: 81Br/Cl (mol.) | NB6: ±81Br/Cl (mol) | NC6: I/Cl (mol.) | ND6: ±I/Cl (mol.)
B7: B1x Bulk | C7: =9.1/1000 -> 0.0091 | D7: =C7*0.5% -> 4.55e-05 | E7: 44727 | F7: ARGUS | G7: MN2022a | H7: 1 | J7: 44644 | K7: continuous | L7: 0.5 | M7: 0.31 | N7: 30 | O7: 319.2435 | P7: 0.105082 | Q7: 0.357477 | R7: 0.005143 | S7: 235.37075 | T7: 0.241447 | U7: 0.591289 | V7: 0.210765 | W7: 1.164552 | X7: 0.006521 | Y7: 6.3067745 | Z7: 0.93511706 | AA7: 0.043458 | AB7: 0.029863653 | AC7: 2.2128518 | AD7: 2.0188659 | AE7: 1.3901317 | AF7: 1.195401 | AG7: 0.25606525 | AH7: 0.21678044 | AI7: =Ar40Raw-Ar40Blank -> 312.93672 | AJ7: =SQRT(Ar40Blankerr^2+Ar40Rawerr^2) -> 0.94100273 | AK7: =Ar39Raw-Ar39Blank -> 0.314019 | AL7: =SQRT(Ar39Blankerr^2+Ar39Rawerr^2) -> 0.030303271 | AM7: =Ar38Raw-Ar38Blank -> 233.1579 | AN7: =SQRT(Ar38Blankerr^2+Ar38Rawerr^2) -> 2.0332526 | AO7: =Ar37Raw-Ar37Blank -> -0.79884275 | AP7: =SQRT(Ar37Blankerr^2+Ar37Rawerr^2) -> 1.2138391 | AQ7: =Ar36Raw-Ar36Blank -> 0.90848675 | AR7: =SQRT(Ar36Blankerr^2+Ar36Rawerr^2) -> 0.2168785 | AS7: 300.7 | AT7: 0.28 | AU7: =Ar39BC*(1+(Ar4036_Aircal/Ar4036_Air-1)/4) -> 0.31540047 | AV7: =SQRT(Ar39BCerr^2+(Ar39BC*(Ar4036_Aircal/Ar4036_Air-1)/4)^2*((Ar4036_Aircalerr/Ar4036_Aircal)^2+(Ar39BCerr/Ar39BC)^2+(Ar4036_airerr/Ar4036_Air)^2)) -> 0.030303564 | AW7: =Ar38BC*(1+2*(Ar4036_Aircal/Ar4036_Air-1)/4) -> 235.20937 | AX7: =SQRT(Ar38BCerr^2+(Ar38BC*(Ar4036_Aircal/Ar4036_Air-1)/4)^2*((Ar4036_Aircalerr/Ar4036_Aircal)^2+(Ar38BCerr/Ar38BC)^2+(Ar4036_airerr/Ar4036_Air)^2)) -> 2.0332728 | AY7: =Ar37BC*(1+3*(Ar4036_Aircal/Ar4036_Air-1)/4) -> -0.80938585 | AZ7: =SQRT(Ar37BCerr^2+(Ar37BC*(Ar4036_Aircal/Ar4036_Air-1)/3)^2*((Ar4036_Aircalerr/Ar4036_Aircal)^2+(Ar37BCerr/Ar37BC)^2+(Ar4036_airerr/Ar4036_Air)^2)) -> 1.21386 | BA7: =Ar36BC*(1+4*(Ar4036_Aircal/Ar4036_Air-1)/4) -> 0.92447366 | BB7: =SQRT(Ar36BCerr^2+(Ar36BC*(Ar4036_Aircal/Ar4036_Air-1)/4)^2*((Ar4036_Aircalerr/Ar4036_Aircal)^2+(Ar36BCerr/Ar36BC)^2+(Ar4036_airerr/Ar4036_Air)^2)) -> 0.2168806 | BE7: =IF(Rad_Type="Continuous", Ar37_DC*EXP(lambda_37Ar*(Run_Date-Rad_Date)),Ar37_DC*Ar37_DecayFactor) -> -4.1686259 | BF7: =IF(Rad_Type="Continuous", (Ar37_DCerr*EXP(lambda_37Ar*(Run_Date-Rad_Date))), Ar37_DCerr*Ar37_DecayFactor) -> 6.2518119 | BG7: =IF(Rad_Type="Continuous", Ar39_DC*EXP(lambda_39Ar*(Run_Date-Rad_Date)), Ar39_DC*Ar39_DecayFactor) -> 0.31558533 | BH7: =IF(Rad_Type="Continuous", (Ar39_DCerr*EXP(lambda_39Ar*(Run_Date-Rad_Date))), Ar39_DCerr*Ar39_DecayFactor) -> 0.030321326 | BI7: =Ar40BC-(Salt_40Ar39Ar_K*Ar39_IC) -> 312.89513 | BJ7: =SQRT(Ar40BCerr^2+(Ar39_ICerr*Salt_40Ar39Ar_K)^2) -> 0.94101131 | BK7: =Ar39_DecayCor-(Salt_39Ar37Ar_Ca*Ar37_DecayCor) -> 0.31939491 | BL7: =SQRT(Ar39_DecayCorerr^2+(Ar37_DecayCorerr*Salt_39Ar37Ar_Ca)^2) -> 0.030854901 | BM7: =Ar38_DC-(Salt_38Ar39Ar_K*Ar39_DecayCor) -> 235.2045 | BN7: =SQRT(Ar38_DCerr^2+(Ar39_DecayCorerr*Salt_38Ar39Ar_K)^2) -> 2.0332728 | BO7: =Ar36_DC-(Salt_36Ar37Ar_Ca*Ar37_DecayCor) -> 0.9259278 | BP7: =SQRT(Ar36_DCerr^2+(Ar37_DecayCorerr*Salt_36Ar37Ar_Ca)^2) -> 0.21689156 | BR7: =IF(Rad_Type="Continuous", BO7-((EXP(lambda_36Ar*(Run_Date-Rad_Date))-1)*Cl3638_PR*BT7),BO7*Ar36_DecayFactor) -> 0.88816534 | BS7: =IF(K:K="Continuous", SQRT(BP7^2+(((EXP(lambda_36Ar*(Run_Date-Rad_Date))-1)*Cl3638_PR)*BU7^2)), Ar36_ICerr*Ar36_DecayFactor) -> 0.21695005 | BT7: =IF(Rad_Type="Continuous", BM7-(Ar3836_Air*BO7)/(1-lambda_36Ar*(Run_Date-Rad_Date)),Ar38_IC-(Ar3836_Air*Ar36_IC)/Ar36_DecayFactor) -> 235.03042 | BU7: =IF(Rad_Type ="Continuous", SQRT(BN7^2*(((EXP(lambda_36Ar*(Run_Date-Rad_Date))-1*Ar3836_Air)*BP7^2))),SQRT(Ar38_ICerr^2*(((EXP(lambda_36Ar*(Ar36_DecayFactor))-1*Ar3836_Air)*Ar36_ICerr^2)))) -> 0.39738957 | BV7: =Ar40_IC-(Ar36_ClCor*Ar4036_Air) -> 50.442274 | BW7: =SQRT(Ar40_ICerr^2+(Ar36_ClCorerr*Ar4036_Air)^2) -> 64.115645 | BX7: 1.6986775e-12 | BY7: 9.4454002e-16 | BZ7: =Ar_Sensitivity*Ar36_ClCor -> 1.5087065e-12 | CA7: =Ar36CC*SQRT((Ar36_ClCorerr/Ar36_ClCor)^2+(Ar_sensitivityerr/Ar_Sensitivity)^2) -> 3.6852912e-13 | CB7: =Ar37_DecayCor*Ar_Sensitivity -> -7.0811509e-12 | CC7: =Ar37CC*SQRT((Ar37_DecayCorerr/Ar37_DecayCor)^2+(Ar_sensitivityerr/Ar_Sensitivity)^2) -> -1.0619813e-11 | CD7: =Ar_Sensitivity*Ar38_Cl -> 3.9924089e-10 | CE7: =Ar38CC*SQRT((Ar38_Clerr/Ar38_Cl)^2+(Ar_sensitivityerr/Ar_Sensitivity)^2) -> 7.1060301e-13 | CF7: =Ar_Sensitivity*Ar39_IC -> 5.4254893e-13 | CG7: =Ar39CC*SQRT((Ar39_ICerr/Ar39_IC)^2+(Ar_sensitivityerr/Ar_Sensitivity)^2) -> 5.2413394e-14 | CH7: =Ar_Sensitivity*Ar40_IC -> 5.3150791e-10 | CI7: =Ar40CC*SQRT((Ar40_ICerr/Ar40_IC)^2+(Ar_sensitivityerr/Ar_Sensitivity)^2) -> 1.6255665e-12 | CJ7: =Ar38CC/MV -> 1.7812152e-14 | CK7: =Ar38_mole*SQRT((Ar38CCerr/Ar38CC)^2+(MVerr/MV)^2) -> 3.1703589e-17 | CL7: =Ar40CC/MV -> 2.3713251e-14 | CM7: =Ar40_mole*SQRT((Ar40CCerrr/Ar40CC)^2+(MVerr/MV)^2) -> 7.252473e-17 | CN7: 0.005134083 | CO7: 8.40144e-06 | CP7: 1.1139739e+19 | CQ7: 1.0453257e+18 | CR7: 8.0438365e+17 | CS7: 8.5271401e+16 | CT7: 0.49881143 | CU7: 0.045926073 | CV7: 24.58188 | CW7: 0.55629982 | CX7: =K_constant*Ar39CC/J -> 3.8855865e-10 | CY7: =K_mole*SQRT((Ar39ccerr/Ar39CC)^2+(Jerr/J)^2+(K_Constanterr/K_constant)^2) -> 3.7710123e-11 | CZ7: =K_mole*MW_K/Sample_Mass*10^6 -> 1.6694487 | DA7: =K_ppm*SQRT((Sample_Masserr/Sample_Mass)^2+(MW_Kerr/MW_K)^2+(K_moleerr/K_mole)^2) -> 0.16223704 | DB7: =K_ppm/10^4 -> 0.00016694487 | DC7: =K_ppmerr/10^4 -> 1.6223704e-05 | DD7: =Cl_Constant*Ar38CC/(J*Beta) -> 1.2827513e-08 | DE7: =Cl_mole*SQRT((Ar38CCerr/Ar38CC)^2+(Jerr/J)^2+(Betaerr/Beta)^2+(Cl_Constanterr/Cl_Constant)^2) -> 3.1462053e-10 | DF7: =Cl_mole*MW_Cl/Sample_Mass*10^6 -> 49.975147 | DG7: =Cl_ppm*SQRT((Sample_Masserr/Sample_Mass)^2+(MW_Clerr/MW_Cl)^2+(Cl_moleerr/Cl_mole)^2) -> 1.2509511 | DH7: =Cl_ppm/10^4 -> 0.0049975147 | DI7: =Cl_ppmerr/10^4 -> 0.00012509511 | DJ7: =Ca_Constant*Ar37CC/(J*alpha) -> -9.9177986e-09 | DK7: =Ca_mole*SQRT((Ar37CCerr/Ar37CC)^2+(Jerr/J)^2+(alphaerr/alpha)^2+(Ca_Constanterr/Ca_Constant)^2) -> -1.4902306e-08 | DL7: =Ca_mole*MW_Ca/Sample_Mass*10^6 -> -43.681909 | DM7: =Ca_ppm*SQRT((Sample_Masserr/Sample_Mass)^2+(MW_Caerr/MW_Ca)^2+(Ca_moleerr/Ca_mole)^2) -> -65.636014 | DN7: =Ca_ppm/10^4 -> -0.0043681909 | DO7: =Ca_ppmerr/10^4 -> -0.0065636014 | DP7: =K_mole/Cl_mole -> 0.030291035 | DQ7: =KCl_mol*SQRT(K_moleerr/K_mole)^2+(Cl_moleerr/Cl_mole)^2 -> 0.0035413585 | DR7: =K_mole/Ca_mole -> -0.039177913 | DS7: =KCa_mol*SQRT(K_moleerr/K_mole)^2+(Ca_moleerr/Ca_mole)^2 -> 2.2539505 | DT7: =K_ppm/Cl_ppm -> 0.033405578 | DU7: =KCl_wt*SQRT(K_ppmerr/K_ppm)^2+(Cl_ppmerr/Cl_ppm)^2 -> 0.0038729287 | DV7: =K_ppm/Ca_ppm -> -0.038218309 | DW7: =KCa_wt*SQRT(K_ppmerr/K_ppm)^2+(Ca_ppmerr/Ca_ppm)^2 -> 2.2540637 | DX7: =Ar40_mole/Cl_mole -> 1.8486242e-06 | DY7: =Ar40Cl_mol*SQRT((Ar40_moleerr/Ar40_mole)^2+(Cl_moleerr/Cl_mole)^2) -> 4.5692365e-08 | DZ7: =Ar40AC/Ar39_IC -> 157.93074 | EA7: =Ar40Ar39*SQRT((Ar40ACerr/Ar40AC)^2+(Ar39_ICerr/Ar39_IC)^2) -> 201.31992 | EB7: =(Ar40CC/MV)/K_mole -> 6.1028756e-05 | EC7: =Ar40K*SQRT((Ar40CCerrr/Ar40CC)^2+(K_moleerr/K_mole)^2+(MVerr/MV)^2) -> 5.9258604e-06 | ED7: =IF(Ar40Ar39>0,(1/lambda/10^6)*LN(1+(J*Ar40Ar39)),"") -> 1070.0372 | EE7: =IF(Age="","",SQRT((J^2*Ar40Ar39^2*((Ar40Ar39err/Ar40Ar39*100)^2))/(Age^2*0.00055305^2*((1+Ar40Ar39*J)^2)))*Age/100) -> 1032.0664 | EF7: =IF(Age="","",SQRT((J^2*Ar40Ar39^2*((Ar40Ar39err/Ar40Ar39*100)^2+(Jerr/J*100)^2))/(Age^2*0.00055305^2*((1+Ar40Ar39*J)^2)))*Age/100) -> 1032.0673 | EG7: =IF(Ar40Ar39>0,(1/lambda/10^6)*LN(1+(J*Ar40Ar39)),"") -> 1070.0372 | EH7: =IF(Age="","",SQRT((J^2*Ar40Ar39^2*((Ar40Ar39err/Ar40Ar39*100)^2))/(Age^2*0.00055305^2*((1+Ar40Ar39*J)^2)))*Age/100) -> 1032.0664 | EI7: =IF(Age="","",SQRT((J^2*Ar40Ar39^2*((Ar40Ar39err/Ar40Ar39*100)^2+(Jerr/J*100)^2))/(Age^2*0.00055305^2*((1+Ar40Ar39*J)^2)))*Age/100) -> 1032.0673 | EJ7: =CF7/$CF$19 -> 0.0027346625 | EK7: =EG7 -> 1070.0372 | EL7: =EH7 -> 1032.0664 | EM7: =Ar39_IC/Ar36_ClCor -> 0.35961199 | EN7: =EM7*SQRT((Ar40_ICerr/Ar40_IC)^2+(Ar36_ClCorerr/Ar36_ClCor)^2) -> 0.087848229 | EO7: =Ar40_IC/Ar36_ClCor -> 352.29379 | EP7: =EO7*SQRT((Ar40_ICerr/Ar40_IC)^2+(Ar36_ClCorerr/Ar36_ClCor)^2) -> 86.060493 | EQ7: =Ar39_IC/Ar40_IC -> 0.001020773 | ER7: =EQ7*SQRT((Ar40_ICerr/Ar40_IC)^2+(Ar39_ICerr/Ar39_IC)^2) -> 9.8658772e-05 | ES7: =Ar36_ClCor/Ar40_IC -> 0.00283854 | ET7: =ES7*SQRT((Ar40_ICerr/Ar40_IC)^2+(Ar36_ClCorerr/Ar36_ClCor)^2) -> 0.000693416 | EU7: 7.625424 | EV7: 0.135937 | EW7: 2.2741 | EX7: 0.025662 | EY7: 0.047418 | EZ7: 0.001857 | FA7: 0.047257 | FB7: 0.066861 | FK7: =Kr80Raw-Kr80Blank -> 7.625424 | FL7: =SQRT(Kr80Rawerr^2+Kr80Blankerr^2) -> 0.135937 | FM7: =Kr82Raw-Kr82Blank -> 2.2741 | FN7: =SQRT(Kr82Rawerr^2+Kr82Blankerr^2) -> 0.036291548 | FO7: =Kr84Raw-Kr84Blank -> 0.047418 | FP7: =SQRT(Kr84Rawerr^2+Kr84Blankerr^2) -> 0.001857 | FQ7: =Kr86Raw-Kr86Blank -> 0.047257 | FR7: =SQRT(Kr86Rawerr^2+Kr86Blankerr^2) -> 0.066861 | FS7: =Kr84BC-((Y86Kr*Kr8684_nf)/(Y134Xe*Xe134136_nf)*Xe134BC) -> 0.04670756 | FT7: =Kr84U*SQRT((Kr84BCerr/Kr84BC)^2+(Y86Kr_err/Y86Kr)^2+(Kr8684_nferr/Kr8684_nf)^2+(Y134Xeerr/Y134Xe)^2+(Xe134136_nferr/Xe134136_nf)^2+(Xe134BCerr/Xe134BC)^2) -> 0.0048669159 | FU7: =Kr80BC-(Kr84U*Kr8084_Air) -> 7.6235744 | FV7: =SQRT(Kr80BCerr^2+(Kr84Uerr*Kr8084_Air)^2) -> 0.13593714 | FW7: =Kr82BC-(Kr84U*Kr8284_Air) -> 2.2646557 | FX7: =SQRT(Kr82BCerr^2+(Kr84Uerr*Kr8284_Air)^2) -> 0.036304888 | FY7: =Kr86BC-(Kr84U*Kr8684_Air) -> 0.033001853 | FZ7: =SQRT(Kr86BCerr^2+(Kr84Uerr*Kr8684_Air)^2) -> 0.066877498 | GA7: 7.9e-13 | GB7: 2e-14 | GC7: 1 | GD7: 0.005 | GE7: =(Kr80AC*Kr_sensitivity)/YKr -> 6.0226238e-12 | GF7: =Kr80cc*SQRT((Kr_sensitivityerr/Kr_sensitivity)^2+(YKrerr/YKr)^2+(Kr80ACerr/Kr80AC)^2) -> 1.8891014e-13 | GG7: =(Kr82AC*Kr_sensitivity)/YKr -> 1.789078e-12 | GH7: =Kr82cc*SQRT((Kr_sensitivityerr/Kr_sensitivity)^2+(YKrerr/YKr)^2+(Kr82ACerr/Kr82AC)^2) -> 5.4351431e-14 | GI7: =(Kr84U*Kr_sensitivity)/YKr -> 3.6898972e-14 | GJ7: =Kr84cc*SQRT((Kr_sensitivityerr/Kr_sensitivity)^2+(YKrerr/YKr)^2+(Kr84Uerr/Kr84U)^2) -> 3.9610166e-15 | GK7: =(Kr86AC*Kr_sensitivity)/YKr -> 2.6071464e-14 | GL7: =Kr86cc*SQRT((Kr_sensitivityerr/Kr_sensitivity)^2+(YKrerr/YKr)^2+(Kr86ACerr/Kr86AC)^2) -> 5.2837507e-14 | GM7: =Kr80cc/MV -> 2.6869965e-16 | GN7: =Kr80_mole*SQRT((MVerr/MV)^2+(Kr80ccerr/Kr80cc)^2) -> 8.4282348e-18 | GO7: =Kr82cc/MV -> 7.9819803e-17 | GP7: =Kr82_mole*SQRT((MVerr/MV)^2+(Kr82ccerr/Kr82cc)^2) -> 2.4248917e-18 | GQ7: =Kr84cc/MV -> 1.6462494e-18 | GR7: =Kr84_mole*SQRT((MVerr/MV)^2+(Kr84ccerr/Kr84cc)^2) -> 1.7672095e-19 | GS7: =Kr80_mole/Kr82_mole -> 3.3663282 | GT7: =Kr8082_mole*SQRT(Kr80_moleerr/Kr80_mole)^2+(Kr82_moleerr/Kr82_mole)^2 -> 0.10651369 | GU7: 28.467322 | GV7: 0.39873309 | GW7: =Pi*(Ar38_mole/Kr80_mole) -> 1887.1042 | GX7: =Cl_79Br*SQRT((Pi_err/Pi)^2+(Ar38_moleerr/Ar38_mole)^2+(Kr80_moleerr/Kr80_mole)^2) -> 64.912779 | GY7: =(Cl_mole/Cl_79Br)/(MW_Br/MW_Cl) -> 3.0159981e-12 | GZ7: =(Br79mole_SC*SQRT((Cl_moleerr/Cl_mole)^2+(Cl_79Brerr/Cl_79Br)^2)) -> 1.2741664e-13 | HA7: =(Cl_ppm/Cl_79Br)*10^3 -> 26.482452 | HB7: =Br79ppb_SC*SQRT((Cl_ppmerr/Cl_ppm)^2+(Cl_79Brerr/Cl_79Br)^2) -> 1.1266105 | HC7: 8.5704443 | HD7: 0.1169415 | HE7: =Pi_prime*(Ar38_mole/Kr82_mole) -> 1912.5336 | HF7: =Cl_81Br*SQRT((Pi_primeerr/Pi_prime)^2+(Ar38_moleerr/Ar38_mole)^2+(Kr82_moleerr/Kr82_mole)^2) -> 63.78423 | HG7: =(Cl_mole/Cl_81Br)/(MW_Br/MW_Cl) -> 2.9758969e-12 | HH7: =(Br81mole_SC*SQRT((Cl_moleerr/Cl_mole)^2+(Cl_79Brerr/Cl_79Br)^2)) -> 1.2572249e-13 | HI7: =(Cl_ppm/Cl_81Br)*10^3 -> 26.130337 | HJ7: =(Br81ppb_SC*SQRT((Cl_ppmerr/Cl_ppm)^2+(Cl_81Brerr/Cl_81Br)^2)) -> 1.0896193 | HK7: 1.2502078 | HL7: 0.030773458 | HM7: =(Kr80_mole/Br79_FactorSW)/(Y_79Br*Br79_Abun*(Therm_CS_79Br*Therm_Flux))*(MW_Br/Sample_Mass*10^9) -> 33.467056 | HN7: =Br79ppb_SW*SQRT((Kr80_moleerr/Kr80_mole)^2+(Sample_Masserr/Sample_Mass)^2+(Br79Factor_SWerr/Br79_FactorSW)^2+(Therm_CS_79Brerr/Therm_CS_79Br)^2+(Br79_Abunerr/Br79_Abun)^2+(Therm_Fluxerr/Therm_Flux)^2) -> 3.420069 | HO7: 1.4124704 | HP7: 0.023743935 | HQ7: =(Kr82_mole/Br81_FactorSW)/(Y_81Br*Br81_Abun*(Therm_CS_81Br*Therm_Flux))*(MW_Br/Sample_Mass*10^9) -> 38.276871 | HR7: =Br81ppb_SW*SQRT((Kr82_moleerr/Kr82_mole)^2+(Sample_Masserr/Sample_Mass)^2+(Br81_FactorSWerr/Br81_FactorSW)^2+(Therm_CS_81Brerr/Therm_CS_81Br)^2+(Br81_Abunerr/Br81_Abun)^2+(Therm_Fluxerr/Therm_Flux)^2) -> 3.8656974 | HS7: 0.907037 | HT7: 0.033231 | HU7: 0.016573 | HV7: 0.000207 | HW7: 0.002682 | HX7: 0.000148 | HY7: 0.021461 | HZ7: 0.000506 | IA7: 0.016578 | IB7: 0.000387 | IC7: 0.006469 | ID7: 0.000201 | IE7: 0.006076 | IF7: 0.000422 | IG7: 0.001641 | IH7: 0.000117 | II7: 0.00147 | IJ7: 0.000184 | IK7: 0.000257 | IL7: 6.7e-05 | IM7: 0.001669 | IN7: 0.000188 | IO7: 0.001149 | IP7: 0.000135 | IQ7: 0.000854 | IR7: 8.6e-05 | IS7: 0.000134 | IT7: 0.000143 | IU7: =Xe128Raw-Xe128Blank -> 0.905396 | IV7: =SQRT(Xe128Rawerr^2+Xe128Blankerr^2) -> 0.033231206 | IW7: =Xe129Raw-Xe129Blank -> 0.015103 | IX7: =SQRT(Xe129Rawerr^2+Xe129Blankerr^2) -> 0.00027695668 | IY7: =Xe130Raw-Xe130Blank -> 0.002425 | IZ7: =SQRT(Xe130Rawerr^2+Xe130Blankerr^2) -> 0.00016245923 | JA7: =Xe131Raw-Xe131Blank -> 0.019792 | JB7: =SQRT(Xe131Rawerr^2+Xe131Blankerr^2) -> 0.00053979626 | JC7: =Xe132Raw-Xe132Blank -> 0.015429 | JD7: =SQRT(Xe132Rawerr^2+Xe132Blankerr^2) -> 0.00040987071 | JE7: =Xe134Raw-Xe134Blank -> 0.005615 | JF7: =SQRT(Xe134Rawerr^2+Xe134Blankerr^2) -> 0.00021862525 | JG7: =Xe136Raw-Xe136Blank -> 0.005942 | JH7: =SQRT(Xe136Rawerr^2+Xe136Blankerr^2) -> 0.00044557042 | JI7: =Xe128BC-(Xe130BC*Xe128130_Q) -> 0.90416404 | JJ7: =SQRT(Xe128BCerr^2+(Xe130BCerr*Xe128130_Q)^2) -> 0.033231308 | JK7: =Xe129BC-(Xe130BC*Xe129130_Q) -> -0.00047987037 | JL7: =SQRT(Xe129BCerr^2+(Xe130BCerr*Xe129130_Q)^2) -> 0.0010800642 | JM7: =Xe131BC-(Xe130BC*Xe131130_Q) -> 0.0075382654 | JN7: =SQRT(Xe131BCerr^2+(Xe130BCerr*Xe131130_Q)^2) -> 0.00098249197 | JO7: =Xe132BC-(Xe130BC*Xe132130_Q) -> 0.0004598642 | JP7: =SQRT((Xe132BCerr^2+(Xe130BCerr*Xe132130_Q)^2)) -> 0.0010833612 | JQ7: =Xe134BC-(Xe130BC*Xe134130_Q) -> -4.4830246e-05 | JR7: =SQRT(Xe134BCerr^2+(Xe130BCerr*Xe134130_Q)^2) -> 0.00043768512 | JS7: =Xe136BC-(Xe130BC*Xe136130_Q) -> 0.0012012747 | JT7: =SQRT(Xe136BCerr^2+(Xe130BCerr*Xe136130_Q)^2) -> 0.00054717578 | JU7: 6.7e-13 | JV7: 4e-14 | JW7: 1 | JX7: 0 | JY7: =(Xe128AC*Xe_Sensitivity)/YXe -> 6.0578991e-13 | JZ7: =Xe128CC*SQRT((Xe_Sensitivityerr/Xe_Sensitivity)^2+(YXeerr/YXe)^2+(Xe128ACerr/Xe128AC)^2) -> 4.2470571e-14 | KA7: =Xe128CC/MV -> 2.7027346e-17 | KB7: =Xe128mole*SQRT((Xe128CCerr/Xe128CC)^2+(MVerr/MV)^2) -> 1.8948266e-18 | KC7: 1.5235624 | KD7: 0.064506083 | KE7: =(Xe128mole/IFactor_SW)/((Therm_CS_127I*Therm_Flux)*I127_Abun*Y_127I) -> 2.7501704e-13 | KF7: =I_mole*SQRT((Xe128CCerr/Xe128CC)^2+(IFactor_SWerr/IFactor_SW)^2+(Therm_CS_127Ierr/Therm_CS_127I)^2+(Therm_Fluxerr/Therm_Flux)^2) -> 3.430041e-14 | KG7: =I_mole*MW_I/Sample_Mass*10^9 -> 3.8352637 | KH7: =KG7*SQRT(I_moleerr/I_mole)^2+(MVerr/MV)^2+(Sample_Masserr/Sample_Mass) -> 0.48333806 | KI7: 22.400563 | KJ7: 2.2525236 | KK7: =Omega*(Ar38_mole/Xe128mole) -> 14762.908 | KL7: =Cl_I*SQRT((Omegaerr/Omega)^2+(Ar38_moleerr/Ar38_mole)^2+(Xe128moleerr/Xe128mole)^2) -> 1809.88 | KM7: =(Cl_ppm/Cl_I)*10^3 -> 3.385183 | KN7: =(Ippb_SC*SQRT((Cl_ppmerr/Cl_ppm)^2+(Cl_Ierr/Cl_I)^2)) -> 0.42357368 | KO7: =Xe131AC-Xe131136_nf/Xe134136_nf*Xe134AC -> 0.0075545641 | KP7: =SQRT(Xe131ACerr^2+(Xe131136_nf/Xe134136_nf*Xe134AC)^2*((Xe131136_nferr/Xe131136_nf)^2+(Xe134136_nferr/Xe134136_nf)^2+(Xe134ACerr/Xe134AC)^2)) -> 0.00099529498 | KQ7: =(Xe131Ba*Xe_Sensitivity)/YXe -> 5.0615579e-15 | KR7: =Xe131Bacc*SQRT((Xe_Sensitivityerr/Xe_Sensitivity)^2+(YXeerr/YXe)^2+(Xe131Baerr/Xe131Ba)^2) -> 7.3212026e-16 | KS7: =Xe131Bacc/MV -> 2.2582165e-19 | KT7: =Xe131mole*SQRT((Xe131CCerr/Xe131CC)^2+(MVerr/MV)^2) -> 3.2663581e-20 | KU7: 1.5355171 | KV7: 0.059163108 | KW7: =(Xe131mole/Ba_FactorSW)/((Therm_CS_130Ba*Therm_Flux)*Ba130_Abun*Y_130Ba) -> 1.607876e-12 | KX7: =Ba_mole*SQRT((Xe131BaCCerr/Xe131Bacc)^2+(Ba_FactorSWerr/Ba_FactorSW)^2+(Therm_CS_130Baerr/Therm_CS_130Ba)^2+(Therm_Fluxerr/Therm_Flux)^2) -> 2.927972e-13 | KY7: =Ba_mole*MW_Ba/Sample_Mass*10^6 -> 0.024264262 | KZ7: =Ba_ppm*SQRT(Ba_moleerr/Ba_mole)^2+(MVerr/MV)^2+(Sample_Masserr/Sample_Mass) -> 0.0094185671 | LG7: =(Xe134AC*Xe_Sensitivity)/YXe -> -3.0036265e-17 | LH7: =Xe134CC*SQRT((Xe_Sensitivityerr/Xe_Sensitivity)^2+(YXeerr/YXe)^2+(Xe134ACerr/Xe134AC)^2) -> -2.9325451e-16 | LI7: =Xe134CC/MV -> -1.3400694e-21 | LJ7: =Xe134mole*SQRT((Xe134CCerr/Xe134CC)^2+(MVerr/MV)^2) -> -1.3083564e-20 | LK7: =Xe134_mole/((Therm_CS_235U*Therm_Flux)*U235_Abun*Y_235U) -> -3.5556271e-16 | LL7: =U_mole*SQRT((Xe134moleerr/Xe134mole)^2+(Therm_CS_235Uerr/Therm_CS_235U)^2+(Therm_Fluxerr/Therm_Flux)^2) -> -3.4716428e-15 | LM7: =U_mole*MW_U/Sample_Mass*10^9 -> -0.009300462 | LN7: =U_ppb*SQRT((U_moleerr/U_mole)^2+(MVerr/MV)^2+(Sample_Masserr/Sample_Mass)^2) -> -0.090807853 | LQ7: =Name -> B1x Bulk | LR7: =Irradiation -> MN2022a | LS7: =IF(ISNUMBER(K_ppm), K_ppm, "") -> 1.6694487 | LT7: =IF(ISNUMBER(K_ppmerr), K_ppmerr, "") -> 0.16223704 | LU7: =Cl_ppm -> 49.975147 | LV7: =Cl_ppmerr -> 1.2509511 | LW7: =Ca_ppm -> -43.681909 | LX7: =Ca_ppmerr -> -65.636014 | MO7: =DT7 -> 0.033405578 | MP7: =DU7 -> 0.0038729287 | MW7: =DP7 -> 0.030291035 | MX7: =DQ7 -> 0.0035413585
B8: B1x Bulk | C8: =9.1/1000 -> 0.0091 | D8: =C8*0.5% -> 4.55e-05 | E8: 44727 | F8: ARGUS | G8: MN2022a | H8: 1 | J8: 44644 | K8: continuous | L8: 1 | M8: 0.8 | N8: 30 | O8: 395.20633 | P8: 0.176612 | Q8: 1.90128 | R8: 0.010994 | S8: 766.89403 | T8: 0.690461 | U8: 2.657802 | V8: 0.070272 | W8: 1.448179 | X8: 0.00521 | Y8: 6.3067745 | Z8: 0.93511706 | AA8: 0.043458 | AB8: 0.029863653 | AC8: 2.2128518 | AD8: 2.0188659 | AE8: 1.3901317 | AF8: 1.195401 | AG8: 0.25606525 | AH8: 0.21678044 | AI8: =Ar40Raw-Ar40Blank -> 388.89956 | AJ8: =SQRT(Ar40Blankerr^2+Ar40Rawerr^2) -> 0.95164894 | AK8: =Ar39Raw-Ar39Blank -> 1.857822 | AL8: =SQRT(Ar39Blankerr^2+Ar39Rawerr^2) -> 0.031823039 | AM8: =Ar38Raw-Ar38Blank -> 764.68117 | AN8: =SQRT(Ar38Blankerr^2+Ar38Rawerr^2) -> 2.1336719 | AO8: =Ar37Raw-Ar37Blank -> 1.2676703 | AP8: =SQRT(Ar37Blankerr^2+Ar37Rawerr^2) -> 1.1974647 | AQ8: =Ar36Raw-Ar36Blank -> 1.1921138 | AR8: =SQRT(Ar36Blankerr^2+Ar36Rawerr^2) -> 0.21684304 | AS8: 300.7 | AT8: 0.28 | AU8: =Ar39BC*(1+(Ar4036_Aircal/Ar4036_Air-1)/4) -> 1.8659952 | AV8: =SQRT(Ar39BCerr^2+(Ar39BC*(Ar4036_Aircal/Ar4036_Air-1)/4)^2*((Ar4036_Aircalerr/Ar4036_Aircal)^2+(Ar39BCerr/Ar39BC)^2+(Ar4036_airerr/Ar4036_Air)^2)) -> 0.031823349 | AW8: =Ar38BC*(1+2*(Ar4036_Aircal/Ar4036_Air-1)/4) -> 771.40933 | AX8: =SQRT(Ar38BCerr^2+(Ar38BC*(Ar4036_Aircal/Ar4036_Air-1)/4)^2*((Ar4036_Aircalerr/Ar4036_Aircal)^2+(Ar38BCerr/Ar38BC)^2+(Ar4036_airerr/Ar4036_Air)^2)) -> 2.1336978 | AY8: =Ar37BC*(1+3*(Ar4036_Aircal/Ar4036_Air-1)/4) -> 1.2844009 | AZ8: =SQRT(Ar37BCerr^2+(Ar37BC*(Ar4036_Aircal/Ar4036_Air-1)/3)^2*((Ar4036_Aircalerr/Ar4036_Aircal)^2+(Ar37BCerr/Ar37BC)^2+(Ar4036_airerr/Ar4036_Air)^2)) -> 1.1974853 | BA8: =Ar36BC*(1+4*(Ar4036_Aircal/Ar4036_Air-1)/4) -> 1.2130917 | BB8: =SQRT(Ar36BCerr^2+(Ar36BC*(Ar4036_Aircal/Ar4036_Air-1)/4)^2*((Ar4036_Aircalerr/Ar4036_Aircal)^2+(Ar36BCerr/Ar36BC)^2+(Ar4036_airerr/Ar4036_Air)^2)) -> 0.21684514 | BE8: =IF(Rad_Type="Continuous", Ar37_DC*EXP(lambda_37Ar*(Run_Date-Rad_Date)),Ar37_DC*Ar37_DecayFactor) -> 6.615123 | BF8: =IF(Rad_Type="Continuous", (Ar37_DCerr*EXP(lambda_37Ar*(Run_Date-Rad_Date))), Ar37_DCerr*Ar37_DecayFactor) -> 6.1674763 | BG8: =IF(Rad_Type="Continuous", Ar39_DC*EXP(lambda_39Ar*(Run_Date-Rad_Date)), Ar39_DC*Ar39_DecayFactor) -> 1.8670889 | BH8: =IF(Rad_Type="Continuous", (Ar39_DCerr*EXP(lambda_39Ar*(Run_Date-Rad_Date))), Ar39_DCerr*Ar39_DecayFactor) -> 0.031842001 | BI8: =Ar40BC-(Salt_40Ar39Ar_K*Ar39_IC) -> 388.65722 | BJ8: =SQRT(Ar40BCerr^2+(Ar39_ICerr*Salt_40Ar39Ar_K)^2) -> 0.95165826 | BK8: =Ar39_DecayCor-(Salt_39Ar37Ar_Ca*Ar37_DecayCor) -> 1.8610435 | BL8: =SQRT(Ar39_DecayCorerr^2+(Ar37_DecayCorerr*Salt_39Ar37Ar_Ca)^2) -> 0.032336983 | BM8: =Ar38_DC-(Salt_38Ar39Ar_K*Ar39_DecayCor) -> 771.3805 | BN8: =SQRT(Ar38_DCerr^2+(Ar39_DecayCorerr*Salt_38Ar39Ar_K)^2) -> 2.1336978 | BO8: =Ar36_DC-(Salt_36Ar37Ar_Ca*Ar37_DecayCor) -> 1.2107842 | BP8: =SQRT(Ar36_DCerr^2+(Ar37_DecayCorerr*Salt_36Ar37Ar_Ca)^2) -> 0.21685581 | BR8: =IF(Rad_Type="Continuous", BO8-((EXP(lambda_36Ar*(Run_Date-Rad_Date))-1)*Cl3638_PR*BT8),BO8*Ar36_DecayFactor) -> 1.0868826 | BS8: =IF(K:K="Continuous", SQRT(BP8^2+(((EXP(lambda_36Ar*(Run_Date-Rad_Date))-1)*Cl3638_PR)*BU8^2)), Ar36_ICerr*Ar36_DecayFactor) -> 0.21692021 | BT8: =IF(Rad_Type="Continuous", BM8-(Ar3836_Air*BO8)/(1-lambda_36Ar*(Run_Date-Rad_Date)),Ar38_IC-(Ar3836_Air*Ar36_IC)/Ar36_DecayFactor) -> 771.15287 | BU8: =IF(Rad_Type ="Continuous", SQRT(BN8^2*(((EXP(lambda_36Ar*(Run_Date-Rad_Date))-1*Ar3836_Air)*BP8^2))),SQRT(Ar38_ICerr^2*(((EXP(lambda_36Ar*(Ar36_DecayFactor))-1*Ar3836_Air)*Ar36_ICerr^2)))) -> 0.41694823 | BV8: =Ar40_IC-(Ar36_ClCor*Ar4036_Air) -> 67.4834 | BW8: =SQRT(Ar40_ICerr^2+(Ar36_ClCorerr*Ar4036_Air)^2) -> 64.106985 | BX8: 1.6986775e-12 | BY8: 9.4454002e-16 | BZ8: =Ar_Sensitivity*Ar36_ClCor -> 1.8462631e-12 | CA8: =Ar36CC*SQRT((Ar36_ClCorerr/Ar36_ClCor)^2+(Ar_sensitivityerr/Ar_Sensitivity)^2) -> 3.684789e-13 | CB8: =Ar37_DecayCor*Ar_Sensitivity -> 1.123696e-11 | CC8: =Ar37CC*SQRT((Ar37_DecayCorerr/Ar37_DecayCor)^2+(Ar_sensitivityerr/Ar_Sensitivity)^2) -> 1.0476555e-11 | CD8: =Ar_Sensitivity*Ar38_Cl -> 1.30994e-09 | CE8: =Ar38CC*SQRT((Ar38_Clerr/Ar38_Cl)^2+(Ar_sensitivityerr/Ar_Sensitivity)^2) -> 1.0159613e-12 | CF8: =Ar_Sensitivity*Ar39_IC -> 3.1613127e-12 | CG8: =Ar39CC*SQRT((Ar39_ICerr/Ar39_IC)^2+(Ar_sensitivityerr/Ar_Sensitivity)^2) -> 5.4958223e-14 | CH8: =Ar_Sensitivity*Ar40_IC -> 6.6020327e-10 | CI8: =Ar40CC*SQRT((Ar40_ICerr/Ar40_IC)^2+(Ar_sensitivityerr/Ar_Sensitivity)^2) -> 1.6577189e-12 | CJ8: =Ar38CC/MV -> 5.8443037e-14 | CK8: =Ar38_mole*SQRT((Ar38CCerr/Ar38CC)^2+(MVerr/MV)^2) -> 4.5327176e-17 | CL8: =Ar40CC/MV -> 2.9455001e-14 | CM8: =Ar40_mole*SQRT((Ar40CCerrr/Ar40CC)^2+(MVerr/MV)^2) -> 7.3959209e-17 | CN8: 0.005134083 | CO8: 8.40144e-06 | CP8: 1.1139739e+19 | CQ8: 1.0453257e+18 | CR8: 8.0438365e+17 | CS8: 8.5271401e+16 | CT8: 0.49881143 | CU8: 0.045926073 | CV8: 24.58188 | CW8: 0.55629982 | CX8: =K_constant*Ar39CC/J -> 2.2640454e-09 | CY8: =K_mole*SQRT((Ar39ccerr/Ar39CC)^2+(Jerr/J)^2+(K_Constanterr/K_constant)^2) -> 4.462481e-11 | CZ8: =K_mole*MW_K/Sample_Mass*10^6 -> 9.7275082 | DA8: =K_ppm*SQRT((Sample_Masserr/Sample_Mass)^2+(MW_Kerr/MW_K)^2+(K_moleerr/K_mole)^2) -> 0.19780414 | DB8: =K_ppm/10^4 -> 0.00097275082 | DC8: =K_ppmerr/10^4 -> 1.9780414e-05 | DD8: =Cl_Constant*Ar38CC/(J*Beta) -> 4.2088057e-08 | DE8: =Cl_mole*SQRT((Ar38CCerr/Ar38CC)^2+(Jerr/J)^2+(Betaerr/Beta)^2+(Cl_Constanterr/Cl_Constant)^2) -> 1.0300898e-09 | DF8: =Cl_mole*MW_Cl/Sample_Mass*10^6 -> 163.97229 | DG8: =Cl_ppm*SQRT((Sample_Masserr/Sample_Mass)^2+(MW_Clerr/MW_Cl)^2+(Cl_moleerr/Cl_mole)^2) -> 4.0960519 | DH8: =Cl_ppm/10^4 -> 0.016397229 | DI8: =Cl_ppmerr/10^4 -> 0.00040960519 | DJ8: =Ca_Constant*Ar37CC/(J*alpha) -> 1.5738389e-08 | DK8: =Ca_mole*SQRT((Ar37CCerr/Ar37CC)^2+(Jerr/J)^2+(alphaerr/alpha)^2+(Ca_Constanterr/Ca_Constant)^2) -> 1.4745473e-08 | DL8: =Ca_mole*MW_Ca/Sample_Mass*10^6 -> 69.318093 | DM8: =Ca_ppm*SQRT((Sample_Masserr/Sample_Mass)^2+(MW_Caerr/MW_Ca)^2+(Ca_moleerr/Ca_mole)^2) -> 64.94582 | DN8: =Ca_ppm/10^4 -> 0.0069318093 | DO8: =Ca_ppmerr/10^4 -> 0.006494582 | DP8: =K_mole/Cl_mole -> 0.05379306 | DQ8: =KCl_mol*SQRT(K_moleerr/K_mole)^2+(Cl_moleerr/Cl_mole)^2 -> 0.0016592802 | DR8: =K_mole/Ca_mole -> 0.14385496 | DS8: =KCa_mol*SQRT(K_moleerr/K_mole)^2+(Ca_moleerr/Ca_mole)^2 -> 0.88063794 | DT8: =K_ppm/Cl_ppm -> 0.059324097 | DU8: =KCl_wt*SQRT(K_ppmerr/K_ppm)^2+(Cl_ppmerr/Cl_ppm)^2 -> 0.0018303343 | DV8: =K_ppm/Ca_ppm -> 0.14033145 | DW8: =KCa_wt*SQRT(K_ppmerr/K_ppm)^2+(Ca_ppmerr/Ca_ppm)^2 -> 0.88068111 | DX8: =Ar40_mole/Cl_mole -> 6.9984226e-07 | DY8: =Ar40Cl_mol*SQRT((Ar40_moleerr/Ar40_mole)^2+(Cl_moleerr/Cl_mole)^2) -> 1.7218287e-08 | DZ8: =Ar40AC/Ar39_IC -> 36.261055 | EA8: =Ar40Ar39*SQRT((Ar40ACerr/Ar40AC)^2+(Ar39_ICerr/Ar39_IC)^2) -> 34.452557 | EB8: =(Ar40CC/MV)/K_mole -> 1.3009899e-05 | EC8: =Ar40K*SQRT((Ar40CCerrr/Ar40CC)^2+(K_moleerr/K_mole)^2+(MVerr/MV)^2) -> 2.5850021e-07 | ED8: =IF(Ar40Ar39>0,(1/lambda/10^6)*LN(1+(J*Ar40Ar39)),"") -> 307.66115 | EE8: =IF(Age="","",SQRT((J^2*Ar40Ar39^2*((Ar40Ar39err/Ar40Ar39*100)^2))/(Age^2*0.00055305^2*((1+Ar40Ar39*J)^2)))*Age/100) -> 269.6336 | EF8: =IF(Age="","",SQRT((J^2*Ar40Ar39^2*((Ar40Ar39err/Ar40Ar39*100)^2+(Jerr/J*100)^2))/(Age^2*0.00055305^2*((1+Ar40Ar39*J)^2)))*Age/100) -> 269.634 | EG8: =IF(Ar40Ar39>0,(1/lambda/10^6)*LN(1+(J*Ar40Ar39)),"") -> 307.66115 | EH8: =IF(Age="","",SQRT((J^2*Ar40Ar39^2*((Ar40Ar39err/Ar40Ar39*100)^2))/(Age^2*0.00055305^2*((1+Ar40Ar39*J)^2)))*Age/100) -> 269.6336 | EI8: =IF(Age="","",SQRT((J^2*Ar40Ar39^2*((Ar40Ar39err/Ar40Ar39*100)^2+(Jerr/J*100)^2))/(Age^2*0.00055305^2*((1+Ar40Ar39*J)^2)))*Age/100) -> 269.634 | EJ8: =CF8/$CF$19 -> 0.015934274 | EK8: =EG8 -> 307.66115 | EL8: =EH8 -> 269.6336 | EM8: =Ar39_IC/Ar36_ClCor -> 1.7122764 | EN8: =EM8*SQRT((Ar40_ICerr/Ar40_IC)^2+(Ar36_ClCorerr/Ar36_ClCor)^2) -> 0.3417621 | EO8: =Ar40_IC/Ar36_ClCor -> 357.58895 | EP8: =EO8*SQRT((Ar40_ICerr/Ar40_IC)^2+(Ar36_ClCorerr/Ar36_ClCor)^2) -> 71.373028 | EQ8: =Ar39_IC/Ar40_IC -> 0.004788393 | ER8: =EQ8*SQRT((Ar40_ICerr/Ar40_IC)^2+(Ar39_ICerr/Ar39_IC)^2) -> 8.4023869e-05 | ES8: =Ar36_ClCor/Ar40_IC -> 0.002796507 | ET8: =ES8*SQRT((Ar40_ICerr/Ar40_IC)^2+(Ar36_ClCorerr/Ar36_ClCor)^2) -> 0.0005581693 | LQ8: =Name -> B1x Bulk | LR8: =Irradiation -> MN2022a | LS8: =IF(ISNUMBER(K_ppm), K_ppm, "") -> 9.7275082 | LT8: =IF(ISNUMBER(K_ppmerr), K_ppmerr, "") -> 0.19780414 | LU8: =Cl_ppm -> 163.97229 | LV8: =Cl_ppmerr -> 4.0960519 | LW8: =Ca_ppm -> 69.318093 | LX8: =Ca_ppmerr -> 64.94582 | MO8: =DT8 -> 0.059324097 | MP8: =DU8 -> 0.0018303343 | MW8: =DP8 -> 0.05379306 | MX8: =DQ8 -> 0.0016592802
B9: B1x Bulk | C9: =9.1/1000 -> 0.0091 | D9: =C9*0.5% -> 4.55e-05 | E9: 44727 | F9: ARGUS | G9: MN2022a | H9: 1 | J9: 44644 | K9: continuous | L9: 1.5 | M9: 1.35 | N9: 30 | O9: 248.60093 | P9: 0.21097 | Q9: 6.352797 | R9: 0.019138 | S9: 566.52847 | T9: 0.48148 | U9: 6.651564 | V9: 0.054006 | W9: 0.925499 | X9: 0.004942 | Y9: 6.3067745 | Z9: 0.93511706 | AA9: 0.043458 | AB9: 0.029863653 | AC9: 2.2128518 | AD9: 2.0188659 | AE9: 1.3901317 | AF9: 1.195401 | AG9: 0.25606525 | AH9: 0.21678044 | AI9: =Ar40Raw-Ar40Blank -> 242.29416 | AJ9: =SQRT(Ar40Blankerr^2+Ar40Rawerr^2) -> 0.95861997 | AK9: =Ar39Raw-Ar39Blank -> 6.309339 | AL9: =SQRT(Ar39Blankerr^2+Ar39Rawerr^2) -> 0.035469717 | AM9: =Ar38Raw-Ar38Blank -> 564.31562 | AN9: =SQRT(Ar38Blankerr^2+Ar38Rawerr^2) -> 2.0754861 | AO9: =Ar37Raw-Ar37Blank -> 5.2614322 | AP9: =SQRT(Ar37Blankerr^2+Ar37Rawerr^2) -> 1.1966203 | AQ9: =Ar36Raw-Ar36Blank -> 0.66943375 | AR9: =SQRT(Ar36Blankerr^2+Ar36Rawerr^2) -> 0.21683677 | AS9: 300.7 | AT9: 0.28 | AU9: =Ar39BC*(1+(Ar4036_Aircal/Ar4036_Air-1)/4) -> 6.3370958 | AV9: =SQRT(Ar39BCerr^2+(Ar39BC*(Ar4036_Aircal/Ar4036_Air-1)/4)^2*((Ar4036_Aircalerr/Ar4036_Aircal)^2+(Ar39BCerr/Ar39BC)^2+(Ar4036_airerr/Ar4036_Air)^2)) -> 0.035470081 | AW9: =Ar38BC*(1+2*(Ar4036_Aircal/Ar4036_Air-1)/4) -> 569.28083 | AX9: =SQRT(Ar38BCerr^2+(Ar38BC*(Ar4036_Aircal/Ar4036_Air-1)/4)^2*((Ar4036_Aircalerr/Ar4036_Aircal)^2+(Ar38BCerr/Ar38BC)^2+(Ar4036_airerr/Ar4036_Air)^2)) -> 2.0755091 | AY9: =Ar37BC*(1+3*(Ar4036_Aircal/Ar4036_Air-1)/4) -> 5.3308725 | AZ9: =SQRT(Ar37BCerr^2+(Ar37BC*(Ar4036_Aircal/Ar4036_Air-1)/3)^2*((Ar4036_Aircalerr/Ar4036_Aircal)^2+(Ar37BCerr/Ar37BC)^2+(Ar4036_airerr/Ar4036_Air)^2)) -> 1.1966409 | BA9: =Ar36BC*(1+4*(Ar4036_Aircal/Ar4036_Air-1)/4) -> 0.68121397 | BB9: =SQRT(Ar36BCerr^2+(Ar36BC*(Ar4036_Aircal/Ar4036_Air-1)/4)^2*((Ar4036_Aircalerr/Ar4036_Aircal)^2+(Ar36BCerr/Ar36BC)^2+(Ar4036_airerr/Ar4036_Air)^2)) -> 0.21683887 | BE9: =IF(Rad_Type="Continuous", Ar37_DC*EXP(lambda_37Ar*(Run_Date-Rad_Date)),Ar37_DC*Ar37_DecayFactor) -> 27.455895 | BF9: =IF(Rad_Type="Continuous", (Ar37_DCerr*EXP(lambda_37Ar*(Run_Date-Rad_Date))), Ar37_DCerr*Ar37_DecayFactor) -> 6.1631274 | BG9: =IF(Rad_Type="Continuous", Ar39_DC*EXP(lambda_39Ar*(Run_Date-Rad_Date)), Ar39_DC*Ar39_DecayFactor) -> 6.3408101 | BH9: =IF(Rad_Type="Continuous", (Ar39_DCerr*EXP(lambda_39Ar*(Run_Date-Rad_Date))), Ar39_DCerr*Ar39_DecayFactor) -> 0.035490871 | BI9: =Ar40BC-(Salt_40Ar39Ar_K*Ar39_IC) -> 241.47175 | BJ9: =SQRT(Ar40BCerr^2+(Ar39_ICerr*Salt_40Ar39Ar_K)^2) -> 0.95863139 | BK9: =Ar39_DecayCor-(Salt_39Ar37Ar_Ca*Ar37_DecayCor) -> 6.315719 | BL9: =SQRT(Ar39_DecayCorerr^2+(Ar37_DecayCorerr*Salt_39Ar37Ar_Ca)^2) -> 0.035935005 | BM9: =Ar38_DC-(Salt_38Ar39Ar_K*Ar39_DecayCor) -> 569.18291 | BN9: =SQRT(Ar38_DCerr^2+(Ar39_DecayCorerr*Salt_38Ar39Ar_K)^2) -> 2.0755092 | BO9: =Ar36_DC-(Salt_36Ar37Ar_Ca*Ar37_DecayCor) -> 0.67163656 | BP9: =SQRT(Ar36_DCerr^2+(Ar37_DecayCorerr*Salt_36Ar37Ar_Ca)^2) -> 0.21684952 | BR9: =IF(Rad_Type="Continuous", BO9-((EXP(lambda_36Ar*(Run_Date-Rad_Date))-1)*Cl3638_PR*BT9),BO9*Ar36_DecayFactor) -> 0.58020593 | BS9: =IF(K:K="Continuous", SQRT(BP9^2+(((EXP(lambda_36Ar*(Run_Date-Rad_Date))-1)*Cl3638_PR)*BU9^2)), Ar36_ICerr*Ar36_DecayFactor) -> 0.21691045 | BT9: =IF(Rad_Type="Continuous", BM9-(Ar3836_Air*BO9)/(1-lambda_36Ar*(Run_Date-Rad_Date)),Ar38_IC-(Ar3836_Air*Ar36_IC)/Ar36_DecayFactor) -> 569.05665 | BU9: =IF(Rad_Type ="Continuous", SQRT(BN9^2*(((EXP(lambda_36Ar*(Run_Date-Rad_Date))-1*Ar3836_Air)*BP9^2))),SQRT(Ar38_ICerr^2*(((EXP(lambda_36Ar*(Ar36_DecayFactor))-1*Ar3836_Air)*Ar36_ICerr^2)))) -> 0.40556576 | BV9: =Ar40_IC-(Ar36_ClCor*Ar4036_Air) -> 70.0209 | BW9: =SQRT(Ar40_ICerr^2+(Ar36_ClCorerr*Ar4036_Air)^2) -> 64.104206 | BX9: 1.6986775e-12 | BY9: 9.4454002e-16 | BZ9: =Ar_Sensitivity*Ar36_ClCor -> 9.8558275e-13 | CA9: =Ar36CC*SQRT((Ar36_ClCorerr/Ar36_ClCor)^2+(Ar_sensitivityerr/Ar_Sensitivity)^2) -> 3.6846131e-13 | CB9: =Ar37_DecayCor*Ar_Sensitivity -> 4.663871e-11 | CC9: =Ar37CC*SQRT((Ar37_DecayCorerr/Ar37_DecayCor)^2+(Ar_sensitivityerr/Ar_Sensitivity)^2) -> 1.0469198e-11 | CD9: =Ar_Sensitivity*Ar38_Cl -> 9.6664371e-10 | CE9: =Ar38CC*SQRT((Ar38_Clerr/Ar38_Cl)^2+(Ar_sensitivityerr/Ar_Sensitivity)^2) -> 8.7379689e-13 | CF9: =Ar_Sensitivity*Ar39_IC -> 1.072837e-11 | CG9: =Ar39CC*SQRT((Ar39_ICerr/Ar39_IC)^2+(Ar_sensitivityerr/Ar_Sensitivity)^2) -> 6.1332783e-14 | CH9: =Ar_Sensitivity*Ar40_IC -> 4.1018263e-10 | CI9: =Ar40CC*SQRT((Ar40_ICerr/Ar40_IC)^2+(Ar_sensitivityerr/Ar_Sensitivity)^2) -> 1.6443008e-12 | CJ9: =Ar38CC/MV -> 4.3126856e-14 | CK9: =Ar38_mole*SQRT((Ar38CCerr/Ar38CC)^2+(MVerr/MV)^2) -> 3.8984499e-17 | CL9: =Ar40CC/MV -> 1.8300318e-14 | CM9: =Ar40_mole*SQRT((Ar40CCerrr/Ar40CC)^2+(MVerr/MV)^2) -> 7.3360559e-17 | CN9: 0.005134083 | CO9: 8.40144e-06 | CP9: 1.1139739e+19 | CQ9: 1.0453257e+18 | CR9: 8.0438365e+17 | CS9: 8.5271401e+16 | CT9: 0.49881143 | CU9: 0.045926073 | CV9: 24.58188 | CW9: 0.55629982 | CX9: =K_constant*Ar39CC/J -> 7.6833639e-09 | CY9: =K_mole*SQRT((Ar39ccerr/Ar39CC)^2+(Jerr/J)^2+(K_Constanterr/K_constant)^2) -> 8.3798007e-11 | CZ9: =K_mole*MW_K/Sample_Mass*10^6 -> 33.0117 | DA9: =K_ppm*SQRT((Sample_Masserr/Sample_Mass)^2+(MW_Kerr/MW_K)^2+(K_moleerr/K_mole)^2) -> 0.39607166 | DB9: =K_ppm/10^4 -> 0.00330117 | DC9: =K_ppmerr/10^4 -> 3.9607166e-05 | DD9: =Cl_Constant*Ar38CC/(J*Beta) -> 3.1058029e-08 | DE9: =Cl_mole*SQRT((Ar38CCerr/Ar38CC)^2+(Jerr/J)^2+(Betaerr/Beta)^2+(Cl_Constanterr/Cl_Constant)^2) -> 7.6027066e-10 | DF9: =Cl_mole*MW_Cl/Sample_Mass*10^6 -> 121.00003 | DG9: =Cl_ppm*SQRT((Sample_Masserr/Sample_Mass)^2+(MW_Clerr/MW_Cl)^2+(Cl_moleerr/Cl_mole)^2) -> 3.0231207 | DH9: =Cl_ppm/10^4 -> 0.012100003 | DI9: =Cl_ppmerr/10^4 -> 0.00030231207 | DJ9: =Ca_Constant*Ar37CC/(J*alpha) -> 6.5321774e-08 | DK9: =Ca_mole*SQRT((Ar37CCerr/Ar37CC)^2+(Jerr/J)^2+(alphaerr/alpha)^2+(Ca_Constanterr/Ca_Constant)^2) -> 1.5860164e-08 | DL9: =Ca_mole*MW_Ca/Sample_Mass*10^6 -> 287.70293 | DM9: =Ca_ppm*SQRT((Sample_Masserr/Sample_Mass)^2+(MW_Caerr/MW_Ca)^2+(Ca_moleerr/Ca_mole)^2) -> 69.869252 | DN9: =Ca_ppm/10^4 -> 0.028770293 | DO9: =Ca_ppmerr/10^4 -> 0.0069869252 | DP9: =K_mole/Cl_mole -> 0.24738736 | DQ9: =KCl_mol*SQRT(K_moleerr/K_mole)^2+(Cl_moleerr/Cl_mole)^2 -> 0.0032973342 | DR9: =K_mole/Ca_mole -> 0.11762332 | DS9: =KCa_mol*SQRT(K_moleerr/K_mole)^2+(Ca_moleerr/Ca_mole)^2 -> 0.060234967 | DT9: =K_ppm/Cl_ppm -> 0.27282389 | DU9: =KCl_wt*SQRT(K_ppmerr/K_ppm)^2+(Cl_ppmerr/Cl_ppm)^2 -> 0.0038975419 | DV9: =K_ppm/Ca_ppm -> 0.11474231 | DW9: =KCa_wt*SQRT(K_ppmerr/K_ppm)^2+(Ca_ppmerr/Ca_ppm)^2 -> 0.060353796 | DX9: =Ar40_mole/Cl_mole -> 5.8922985e-07 | DY9: =Ar40Cl_mol*SQRT((Ar40_moleerr/Ar40_mole)^2+(Cl_moleerr/Cl_mole)^2) -> 1.4615905e-08 | DZ9: =Ar40AC/Ar39_IC -> 11.086766 | EA9: =Ar40Ar39*SQRT((Ar40ACerr/Ar40AC)^2+(Ar39_ICerr/Ar39_IC)^2) -> 10.150142 | EB9: =(Ar40CC/MV)/K_mole -> 2.3818106e-06 | EC9: =Ar40K*SQRT((Ar40CCerrr/Ar40CC)^2+(K_moleerr/K_mole)^2+(MVerr/MV)^2) -> 2.7676162e-08 | ED9: =IF(Ar40Ar39>0,(1/lambda/10^6)*LN(1+(J*Ar40Ar39)),"") -> 99.761002 | EE9: =IF(Age="","",SQRT((J^2*Ar40Ar39^2*((Ar40Ar39err/Ar40Ar39*100)^2))/(Age^2*0.00055305^2*((1+Ar40Ar39*J)^2)))*Age/100) -> 89.151434 | EF9: =IF(Age="","",SQRT((J^2*Ar40Ar39^2*((Ar40Ar39err/Ar40Ar39*100)^2+(Jerr/J*100)^2))/(Age^2*0.00055305^2*((1+Ar40Ar39*J)^2)))*Age/100) -> 89.151576 | EG9: =IF(Ar40Ar39>0,(1/lambda/10^6)*LN(1+(J*Ar40Ar39)),"") -> 99.761002 | EH9: =IF(Age="","",SQRT((J^2*Ar40Ar39^2*((Ar40Ar39err/Ar40Ar39*100)^2))/(Age^2*0.00055305^2*((1+Ar40Ar39*J)^2)))*Age/100) -> 89.151434 | EI9: =IF(Age="","",SQRT((J^2*Ar40Ar39^2*((Ar40Ar39err/Ar40Ar39*100)^2+(Jerr/J*100)^2))/(Age^2*0.00055305^2*((1+Ar40Ar39*J)^2)))*Age/100) -> 89.151576 | EJ9: =CF9/$CF$19 -> 0.054075253 | EK9: =EG9 -> 99.761002 | EL9: =EH9 -> 89.151434 | EM9: =Ar39_IC/Ar36_ClCor -> 10.885306 | EN9: =EM9*SQRT((Ar40_ICerr/Ar40_IC)^2+(Ar36_ClCorerr/Ar36_ClCor)^2) -> 4.0697098 | EO9: =Ar40_IC/Ar36_ClCor -> 416.18284 | EP9: =EO9*SQRT((Ar40_ICerr/Ar40_IC)^2+(Ar36_ClCorerr/Ar36_ClCor)^2) -> 155.59906 | EQ9: =Ar39_IC/Ar40_IC -> 0.026155105 | ER9: =EQ9*SQRT((Ar40_ICerr/Ar40_IC)^2+(Ar39_ICerr/Ar39_IC)^2) -> 0.00018146071 | ES9: =Ar36_ClCor/Ar40_IC -> 0.0024027901 | ET9: =ES9*SQRT((Ar40_ICerr/Ar40_IC)^2+(Ar36_ClCorerr/Ar36_ClCor)^2) -> 0.00089833564 | LQ9: =Name -> B1x Bulk | LR9: =Irradiation -> MN2022a | LS9: =IF(ISNUMBER(K_ppm), K_ppm, "") -> 33.0117 | LT9: =IF(ISNUMBER(K_ppmerr), K_ppmerr, "") -> 0.39607166 | LU9: =Cl_ppm -> 121.00003 | LV9: =Cl_ppmerr -> 3.0231207 | LW9: =Ca_ppm -> 287.70293 | LX9: =Ca_ppmerr -> 69.869252 | MO9: =DT9 -> 0.27282389 | MP9: =DU9 -> 0.0038975419 | MW9: =DP9 -> 0.24738736 | MX9: =DQ9 -> 0.0032973342
B10: B1x Bulk | C10: =9.1/1000 -> 0.0091 | D10: =C10*0.5% -> 4.55e-05 | E10: 44727 | F10: ARGUS | G10: MN2022a | H10: 1 | J10: 44644 | K10: continuous | L10: 2 | M10: 1.87 | N10: 30 | O10: 305.74854 | P10: 0.324353 | Q10: 8.345054 | R10: 0.019712 | S10: 385.49742 | T10: 0.329615 | U10: 10.001274 | V10: 0.120081 | W10: 1.206577 | X10: 0.006905 | Y10: 6.3067745 | Z10: 0.93511706 | AA10: 0.043458 | AB10: 0.029863653 | AC10: 2.2128518 | AD10: 2.0188659 | AE10: 1.3901317 | AF10: 1.195401 | AG10: 0.25606525 | AH10: 0.21678044 | AI10: =Ar40Raw-Ar40Blank -> 299.44177 | AJ10: =SQRT(Ar40Blankerr^2+Ar40Rawerr^2) -> 0.98977209 | AK10: =Ar39Raw-Ar39Blank -> 8.301596 | AL10: =SQRT(Ar39Blankerr^2+Ar39Rawerr^2) -> 0.035782687 | AM10: =Ar38Raw-Ar38Blank -> 383.28457 | AN10: =SQRT(Ar38Blankerr^2+Ar38Rawerr^2) -> 2.0455966 | AO10: =Ar37Raw-Ar37Blank -> 8.6111423 | AP10: =SQRT(Ar37Blankerr^2+Ar37Rawerr^2) -> 1.201417 | AQ10: =Ar36Raw-Ar36Blank -> 0.95051175 | AR10: =SQRT(Ar36Blankerr^2+Ar36Rawerr^2) -> 0.21689039 | AS10: 300.7 | AT10: 0.28 | AU10: =Ar39BC*(1+(Ar4036_Aircal/Ar4036_Air-1)/4) -> 8.3381174 | AV10: =SQRT(Ar39BCerr^2+(Ar39BC*(Ar4036_Aircal/Ar4036_Air-1)/4)^2*((Ar4036_Aircalerr/Ar4036_Aircal)^2+(Ar39BCerr/Ar39BC)^2+(Ar4036_airerr/Ar4036_Air)^2)) -> 0.03578307 | AW10: =Ar38BC*(1+2*(Ar4036_Aircal/Ar4036_Air-1)/4) -> 386.65695 | AX10: =SQRT(Ar38BCerr^2+(Ar38BC*(Ar4036_Aircal/Ar4036_Air-1)/4)^2*((Ar4036_Aircalerr/Ar4036_Aircal)^2+(Ar38BCerr/Ar38BC)^2+(Ar4036_airerr/Ar4036_Air)^2)) -> 2.0456178 | AY10: =Ar37BC*(1+3*(Ar4036_Aircal/Ar4036_Air-1)/4) -> 8.7247918 | AZ10: =SQRT(Ar37BCerr^2+(Ar37BC*(Ar4036_Aircal/Ar4036_Air-1)/3)^2*((Ar4036_Aircalerr/Ar4036_Aircal)^2+(Ar37BCerr/Ar37BC)^2+(Ar4036_airerr/Ar4036_Air)^2)) -> 1.2014377 | BA10: =Ar36BC*(1+4*(Ar4036_Aircal/Ar4036_Air-1)/4) -> 0.96723818 | BB10: =SQRT(Ar36BCerr^2+(Ar36BC*(Ar4036_Aircal/Ar4036_Air-1)/4)^2*((Ar4036_Aircalerr/Ar4036_Aircal)^2+(Ar36BCerr/Ar36BC)^2+(Ar4036_airerr/Ar4036_Air)^2)) -> 0.21689249 | BE10: =IF(Rad_Type="Continuous", Ar37_DC*EXP(lambda_37Ar*(Run_Date-Rad_Date)),Ar37_DC*Ar37_DecayFactor) -> 44.93579 | BF10: =IF(Rad_Type="Continuous", (Ar37_DCerr*EXP(lambda_37Ar*(Run_Date-Rad_Date))), Ar37_DCerr*Ar37_DecayFactor) -> 6.1878328 | BG10: =IF(Rad_Type="Continuous", Ar39_DC*EXP(lambda_39Ar*(Run_Date-Rad_Date)), Ar39_DC*Ar39_DecayFactor) -> 8.3430045 | BH10: =IF(Rad_Type="Continuous", (Ar39_DCerr*EXP(lambda_39Ar*(Run_Date-Rad_Date))), Ar39_DCerr*Ar39_DecayFactor) -> 0.035804043 | BI10: =Ar40BC-(Salt_40Ar39Ar_K*Ar39_IC) -> 298.36072 | BJ10: =SQRT(Ar40BCerr^2+(Ar39_ICerr*Salt_40Ar39Ar_K)^2) -> 0.98978334 | BK10: =Ar39_DecayCor-(Salt_39Ar37Ar_Ca*Ar37_DecayCor) -> 8.3019392 | BL10: =SQRT(Ar39_DecayCorerr^2+(Ar37_DecayCorerr*Salt_39Ar37Ar_Ca)^2) -> 0.036247855 | BM10: =Ar38_DC-(Salt_38Ar39Ar_K*Ar39_DecayCor) -> 386.52812 | BN10: =SQRT(Ar38_DCerr^2+(Ar39_DecayCorerr*Salt_38Ar39Ar_K)^2) -> 2.0456179 | BO10: =Ar36_DC-(Salt_36Ar37Ar_Ca*Ar37_DecayCor) -> 0.95156327 | BP10: =SQRT(Ar36_DCerr^2+(Ar37_DecayCorerr*Salt_36Ar37Ar_Ca)^2) -> 0.21690323 | BR10: =IF(Rad_Type="Continuous", BO10-((EXP(lambda_36Ar*(Run_Date-Rad_Date))-1)*Cl3638_PR*BT10),BO10*Ar36_DecayFactor) -> 0.88948834 | BS10: =IF(K:K="Continuous", SQRT(BP10^2+(((EXP(lambda_36Ar*(Run_Date-Rad_Date))-1)*Cl3638_PR)*BU10^2)), Ar36_ICerr*Ar36_DecayFactor) -> 0.21696243 | BT10: =IF(Rad_Type="Continuous", BM10-(Ar3836_Air*BO10)/(1-lambda_36Ar*(Run_Date-Rad_Date)),Ar38_IC-(Ar3836_Air*Ar36_IC)/Ar36_DecayFactor) -> 386.34923 | BU10: =IF(Rad_Type ="Continuous", SQRT(BN10^2*(((EXP(lambda_36Ar*(Run_Date-Rad_Date))-1*Ar3836_Air)*BP10^2))),SQRT(Ar38_ICerr^2*(((EXP(lambda_36Ar*(Ar36_DecayFactor))-1*Ar3836_Air)*Ar36_ICerr^2)))) -> 0.39982382 | BV10: =Ar40_IC-(Ar36_ClCor*Ar4036_Air) -> 35.51692 | BW10: =SQRT(Ar40_ICerr^2+(Ar36_ClCorerr*Ar4036_Air)^2) -> 64.120036 | BX10: 1.6986775e-12 | BY10: 9.4454002e-16 | BZ10: =Ar_Sensitivity*Ar36_ClCor -> 1.5109538e-12 | CA10: =Ar36CC*SQRT((Ar36_ClCorerr/Ar36_ClCor)^2+(Ar_sensitivityerr/Ar_Sensitivity)^2) -> 3.6855014e-13 | CB10: =Ar37_DecayCor*Ar_Sensitivity -> 7.6331415e-11 | CC10: =Ar37CC*SQRT((Ar37_DecayCorerr/Ar37_DecayCor)^2+(Ar_sensitivityerr/Ar_Sensitivity)^2) -> 1.0511218e-11 | CD10: =Ar_Sensitivity*Ar38_Cl -> 6.5628273e-10 | CE10: =Ar38CC*SQRT((Ar38_Clerr/Ar38_Cl)^2+(Ar_sensitivityerr/Ar_Sensitivity)^2) -> 7.7100099e-13 | CF10: =Ar_Sensitivity*Ar39_IC -> 1.4102317e-11 | CG10: =Ar39CC*SQRT((Ar39_ICerr/Ar39_IC)^2+(Ar_sensitivityerr/Ar_Sensitivity)^2) -> 6.2070724e-14 | CH10: =Ar_Sensitivity*Ar40_IC -> 5.0681864e-10 | CI10: =Ar40CC*SQRT((Ar40_ICerr/Ar40_IC)^2+(Ar_sensitivityerr/Ar_Sensitivity)^2) -> 1.7047771e-12 | CJ10: =Ar38CC/MV -> 2.9280086e-14 | CK10: =Ar38_mole*SQRT((Ar38CCerr/Ar38CC)^2+(MVerr/MV)^2) -> 3.439825e-17 | CL10: =Ar40CC/MV -> 2.2611738e-14 | CM10: =Ar40_mole*SQRT((Ar40CCerrr/Ar40CC)^2+(MVerr/MV)^2) -> 7.6058712e-17 | CN10: 0.005134083 | CO10: 8.40144e-06 | CP10: 1.1139739e+19 | CQ10: 1.0453257e+18 | CR10: 8.0438365e+17 | CS10: 8.5271401e+16 | CT10: 0.49881143 | CU10: 0.045926073 | CV10: 24.58188 | CW10: 0.55629982 | CX10: =K_constant*Ar39CC/J -> 1.0099692e-08 | CY10: =K_mole*SQRT((Ar39ccerr/Ar39CC)^2+(Jerr/J)^2+(K_Constanterr/K_constant)^2) -> 1.0380605e-10 | CZ10: =K_mole*MW_K/Sample_Mass*10^6 -> 43.393495 | DA10: =K_ppm*SQRT((Sample_Masserr/Sample_Mass)^2+(MW_Kerr/MW_K)^2+(K_moleerr/K_mole)^2) -> 0.49597863 | DB10: =K_ppm/10^4 -> 0.0043393495 | DC10: =K_ppmerr/10^4 -> 4.9597863e-05 | DD10: =Cl_Constant*Ar38CC/(J*Beta) -> 2.1086206e-08 | DE10: =Cl_mole*SQRT((Ar38CCerr/Ar38CC)^2+(Jerr/J)^2+(Betaerr/Beta)^2+(Cl_Constanterr/Cl_Constant)^2) -> 5.1641246e-10 | DF10: =Cl_mole*MW_Cl/Sample_Mass*10^6 -> 82.150467 | DG10: =Cl_ppm*SQRT((Sample_Masserr/Sample_Mass)^2+(MW_Clerr/MW_Cl)^2+(Cl_moleerr/Cl_mole)^2) -> 2.0534106 | DH10: =Cl_ppm/10^4 -> 0.0082150467 | DI10: =Cl_ppmerr/10^4 -> 0.00020534106 | DJ10: =Ca_Constant*Ar37CC/(J*alpha) -> 1.0690912e-07 | DK10: =Ca_mole*SQRT((Ar37CCerr/Ar37CC)^2+(Jerr/J)^2+(alphaerr/alpha)^2+(Ca_Constanterr/Ca_Constant)^2) -> 1.7737256e-08 | DL10: =Ca_mole*MW_Ca/Sample_Mass*10^6 -> 470.87005 | DM10: =Ca_ppm*SQRT((Sample_Masserr/Sample_Mass)^2+(MW_Caerr/MW_Ca)^2+(Ca_moleerr/Ca_mole)^2) -> 78.157376 | DN10: =Ca_ppm/10^4 -> 0.047087005 | DO10: =Ca_ppmerr/10^4 -> 0.0078157376 | DP10: =K_mole/Cl_mole -> 0.47897154 | DQ10: =KCl_mol*SQRT(K_moleerr/K_mole)^2+(Cl_moleerr/Cl_mole)^2 -> 0.0055227226 | DR10: =K_mole/Ca_mole -> 0.094469887 | DS10: =KCa_mol*SQRT(K_moleerr/K_mole)^2+(Ca_moleerr/Ca_mole)^2 -> 0.028496992 | DT10: =K_ppm/Cl_ppm -> 0.52821969 | DU10: =KCl_wt*SQRT(K_ppmerr/K_ppm)^2+(Cl_ppmerr/Cl_ppm)^2 -> 0.0066622277 | DV10: =K_ppm/Ca_ppm -> 0.092155988 | DW10: =KCa_wt*SQRT(K_ppmerr/K_ppm)^2+(Ca_ppmerr/Ca_ppm)^2 -> 0.028604351 | DX10: =Ar40_mole/Cl_mole -> 1.0723474e-06 | DY10: =Ar40Cl_mol*SQRT((Ar40_moleerr/Ar40_mole)^2+(Cl_moleerr/Cl_mole)^2) -> 2.6508911e-08 | DZ10: =Ar40AC/Ar39_IC -> 4.2781475 | EA10: =Ar40Ar39*SQRT((Ar40ACerr/Ar40AC)^2+(Ar39_ICerr/Ar39_IC)^2) -> 7.7235237 | EB10: =(Ar40CC/MV)/K_mole -> 2.2388542e-06 | EC10: =Ar40K*SQRT((Ar40CCerrr/Ar40CC)^2+(K_moleerr/K_mole)^2+(MVerr/MV)^2) -> 2.4212202e-08 | ED10: =IF(Ar40Ar39>0,(1/lambda/10^6)*LN(1+(J*Ar40Ar39)),"") -> 39.152712 | EE10: =IF(Age="","",SQRT((J^2*Ar40Ar39^2*((Ar40Ar39err/Ar40Ar39*100)^2))/(Age^2*0.00055305^2*((1+Ar40Ar39*J)^2)))*Age/100) -> 70.158165 | EF10: =IF(Age="","",SQRT((J^2*Ar40Ar39^2*((Ar40Ar39err/Ar40Ar39*100)^2+(Jerr/J*100)^2))/(Age^2*0.00055305^2*((1+Ar40Ar39*J)^2)))*Age/100) -> 70.158194 | EG10: =IF(Ar40Ar39>0,(1/lambda/10^6)*LN(1+(J*Ar40Ar39)),"") -> 39.152712 | EH10: =IF(Age="","",SQRT((J^2*Ar40Ar39^2*((Ar40Ar39err/Ar40Ar39*100)^2))/(Age^2*0.00055305^2*((1+Ar40Ar39*J)^2)))*Age/100) -> 70.158165 | EI10: =IF(Age="","",SQRT((J^2*Ar40Ar39^2*((Ar40Ar39err/Ar40Ar39*100)^2+(Jerr/J*100)^2))/(Age^2*0.00055305^2*((1+Ar40Ar39*J)^2)))*Age/100) -> 70.158194 | EJ10: =CF10/$CF$19 -> 0.07108129 | EK10: =EG10 -> 39.152712 | EL10: =EH10 -> 70.158165 | EM10: =Ar39_IC/Ar36_ClCor -> 9.3333873 | EN10: =EM10*SQRT((Ar40_ICerr/Ar40_IC)^2+(Ar36_ClCorerr/Ar36_ClCor)^2) -> 2.2767939 | EO10: =Ar40_IC/Ar36_ClCor -> 335.42961 | EP10: =EO10*SQRT((Ar40_ICerr/Ar40_IC)^2+(Ar36_ClCorerr/Ar36_ClCor)^2) -> 81.824964 | EQ10: =Ar39_IC/Ar40_IC -> 0.027825174 | ER10: =EQ10*SQRT((Ar40_ICerr/Ar40_IC)^2+(Ar39_ICerr/Ar39_IC)^2) -> 0.00015257942 | ES10: =Ar36_ClCor/Ar40_IC -> 0.0029812514 | ET10: =ES10*SQRT((Ar40_ICerr/Ar40_IC)^2+(Ar36_ClCorerr/Ar36_ClCor)^2) -> 0.00072724884 | LQ10: =Name -> B1x Bulk | LR10: =Irradiation -> MN2022a | LS10: =IF(ISNUMBER(K_ppm), K_ppm, "") -> 43.393495 | LT10: =IF(ISNUMBER(K_ppmerr), K_ppmerr, "") -> 0.49597863 | LU10: =Cl_ppm -> 82.150467 | LV10: =Cl_ppmerr -> 2.0534106 | LW10: =Ca_ppm -> 470.87005 | LX10: =Ca_ppmerr -> 78.157376 | MO10: =DT10 -> 0.52821969 | MP10: =DU10 -> 0.0066622277 | MW10: =DP10 -> 0.47897154 | MX10: =DQ10 -> 0.0055227226
B11: B1x Bulk | C11: =9.1/1000 -> 0.0091 | D11: =C11*0.5% -> 4.55e-05 | E11: 44727 | F11: ARGUS | G11: MN2022a | H11: 1 | J11: 44644 | K11: continuous | L11: 3 | M11: 2.64 | N11: 30 | O11: 1168.7923 | P11: 0.317476 | Q11: 14.032264 | R11: 0.039994 | S11: 562.34695 | T11: 0.454953 | U11: 20.839876 | V11: 0.101244 | W11: 3.678695 | X11: 0.006118 | Y11: 6.3067745 | Z11: 0.93511706 | AA11: 0.043458 | AB11: 0.029863653 | AC11: 2.2128518 | AD11: 2.0188659 | AE11: 1.3901317 | AF11: 1.195401 | AG11: 0.25606525 | AH11: 0.21678044 | AI11: =Ar40Raw-Ar40Blank -> 1162.4856 | AJ11: =SQRT(Ar40Blankerr^2+Ar40Rawerr^2) -> 0.98753983 | AK11: =Ar39Raw-Ar39Blank -> 13.988806 | AL11: =SQRT(Ar39Blankerr^2+Ar39Rawerr^2) -> 0.049913503 | AM11: =Ar38Raw-Ar38Blank -> 560.1341 | AN11: =SQRT(Ar38Blankerr^2+Ar38Rawerr^2) -> 2.0694931 | AO11: =Ar37Raw-Ar37Blank -> 19.449744 | AP11: =SQRT(Ar37Blankerr^2+Ar37Rawerr^2) -> 1.1996807 | AQ11: =Ar36Raw-Ar36Blank -> 3.4226297 | AR11: =SQRT(Ar36Blankerr^2+Ar36Rawerr^2) -> 0.21686676 | AS11: 300.7 | AT11: 0.28 | AU11: =Ar39BC*(1+(Ar4036_Aircal/Ar4036_Air-1)/4) -> 14.050347 | AV11: =SQRT(Ar39BCerr^2+(Ar39BC*(Ar4036_Aircal/Ar4036_Air-1)/4)^2*((Ar4036_Aircalerr/Ar4036_Aircal)^2+(Ar39BCerr/Ar39BC)^2+(Ar4036_airerr/Ar4036_Air)^2)) -> 0.049914061 | AW11: =Ar38BC*(1+2*(Ar4036_Aircal/Ar4036_Air-1)/4) -> 565.06252 | AX11: =SQRT(Ar38BCerr^2+(Ar38BC*(Ar4036_Aircal/Ar4036_Air-1)/4)^2*((Ar4036_Aircalerr/Ar4036_Aircal)^2+(Ar38BCerr/Ar38BC)^2+(Ar4036_airerr/Ar4036_Air)^2)) -> 2.069516 | AY11: =Ar37BC*(1+3*(Ar4036_Aircal/Ar4036_Air-1)/4) -> 19.706441 | AZ11: =SQRT(Ar37BCerr^2+(Ar37BC*(Ar4036_Aircal/Ar4036_Air-1)/3)^2*((Ar4036_Aircalerr/Ar4036_Aircal)^2+(Ar37BCerr/Ar37BC)^2+(Ar4036_airerr/Ar4036_Air)^2)) -> 1.1997014 | BA11: =Ar36BC*(1+4*(Ar4036_Aircal/Ar4036_Air-1)/4) -> 3.4828588 | BB11: =SQRT(Ar36BCerr^2+(Ar36BC*(Ar4036_Aircal/Ar4036_Air-1)/4)^2*((Ar4036_Aircalerr/Ar4036_Aircal)^2+(Ar36BCerr/Ar36BC)^2+(Ar4036_airerr/Ar4036_Air)^2)) -> 0.21686886 | BE11: =IF(Rad_Type="Continuous", Ar37_DC*EXP(lambda_37Ar*(Run_Date-Rad_Date)),Ar37_DC*Ar37_DecayFactor) -> 101.4952 | BF11: =IF(Rad_Type="Continuous", (Ar37_DCerr*EXP(lambda_37Ar*(Run_Date-Rad_Date))), Ar37_DCerr*Ar37_DecayFactor) -> 6.17889 | BG11: =IF(Rad_Type="Continuous", Ar39_DC*EXP(lambda_39Ar*(Run_Date-Rad_Date)), Ar39_DC*Ar39_DecayFactor) -> 14.058582 | BH11: =IF(Rad_Type="Continuous", (Ar39_DCerr*EXP(lambda_39Ar*(Run_Date-Rad_Date))), Ar39_DCerr*Ar39_DecayFactor) -> 0.049943316 | BI11: =Ar40BC-(Salt_40Ar39Ar_K*Ar39_IC) -> 1160.667 | BJ11: =SQRT(Ar40BCerr^2+(Ar39_ICerr*Salt_40Ar39Ar_K)^2) -> 0.98756152 | BK11: =Ar39_DecayCor-(Salt_39Ar37Ar_Ca*Ar37_DecayCor) -> 13.965829 | BL11: =SQRT(Ar39_DecayCorerr^2+(Ar37_DecayCorerr*Salt_39Ar37Ar_Ca)^2) -> 0.050261516 | BM11: =Ar38_DC-(Salt_38Ar39Ar_K*Ar39_DecayCor) -> 564.84542 | BN11: =SQRT(Ar38_DCerr^2+(Ar39_DecayCorerr*Salt_38Ar39Ar_K)^2) -> 2.0695162 | BO11: =Ar36_DC-(Salt_36Ar37Ar_Ca*Ar37_DecayCor) -> 3.4474543 | BP11: =SQRT(Ar36_DCerr^2+(Ar37_DecayCorerr*Salt_36Ar37Ar_Ca)^2) -> 0.21687957 | BR11: =IF(Rad_Type="Continuous", BO11-((EXP(lambda_36Ar*(Run_Date-Rad_Date))-1)*Cl3638_PR*BT11),BO11*Ar36_DecayFactor) -> 3.3568044 | BS11: =IF(K:K="Continuous", SQRT(BP11^2+(((EXP(lambda_36Ar*(Run_Date-Rad_Date))-1)*Cl3638_PR)*BU11^2)), Ar36_ICerr*Ar36_DecayFactor) -> 0.21694015 | BT11: =IF(Rad_Type="Continuous", BM11-(Ar3836_Air*BO11)/(1-lambda_36Ar*(Run_Date-Rad_Date)),Ar38_IC-(Ar3836_Air*Ar36_IC)/Ar36_DecayFactor) -> 564.1973 | BU11: =IF(Rad_Type ="Continuous", SQRT(BN11^2*(((EXP(lambda_36Ar*(Run_Date-Rad_Date))-1*Ar3836_Air)*BP11^2))),SQRT(Ar38_ICerr^2*(((EXP(lambda_36Ar*(Ar36_DecayFactor))-1*Ar3836_Air)*Ar36_ICerr^2)))) -> 0.40445072 | BV11: =Ar40_IC-(Ar36_ClCor*Ar4036_Air) -> 168.73129 | BW11: =SQRT(Ar40_ICerr^2+(Ar36_ClCorerr*Ar4036_Air)^2) -> 64.113421 | BX11: 1.6986775e-12 | BY11: 9.4454002e-16 | BZ11: =Ar_Sensitivity*Ar36_ClCor -> 5.702128e-12 | CA11: =Ar36CC*SQRT((Ar36_ClCorerr/Ar36_ClCor)^2+(Ar_sensitivityerr/Ar_Sensitivity)^2) -> 3.6852499e-13 | CB11: =Ar37_DecayCor*Ar_Sensitivity -> 1.7240762e-10 | CC11: =Ar37CC*SQRT((Ar37_DecayCorerr/Ar37_DecayCor)^2+(Ar_sensitivityerr/Ar_Sensitivity)^2) -> 1.0496379e-11 | CD11: =Ar_Sensitivity*Ar38_Cl -> 9.5838925e-10 | CE11: =Ar38CC*SQRT((Ar38_Clerr/Ar38_Cl)^2+(Ar_sensitivityerr/Ar_Sensitivity)^2) -> 8.6948366e-13 | CF11: =Ar_Sensitivity*Ar39_IC -> 2.372344e-11 | CG11: =Ar39CC*SQRT((Ar39_ICerr/Ar39_IC)^2+(Ar_sensitivityerr/Ar_Sensitivity)^2) -> 8.639115e-14 | CH11: =Ar_Sensitivity*Ar40_IC -> 1.9715989e-09 | CI11: =Ar40CC*SQRT((Ar40_ICerr/Ar40_IC)^2+(Ar_sensitivityerr/Ar_Sensitivity)^2) -> 2.0040047e-12 | CJ11: =Ar38CC/MV -> 4.2758583e-14 | CK11: =Ar38_mole*SQRT((Ar38CCerr/Ar38CC)^2+(MVerr/MV)^2) -> 3.8792064e-17 | CL11: =Ar40CC/MV -> 8.796298e-14 | CM11: =Ar40_mole*SQRT((Ar40CCerrr/Ar40CC)^2+(MVerr/MV)^2) -> 8.9408782e-17 | CN11: 0.005134083 | CO11: 8.40144e-06 | CP11: 1.1139739e+19 | CQ11: 1.0453257e+18 | CR11: 8.0438365e+17 | CS11: 8.5271401e+16 | CT11: 0.49881143 | CU11: 0.045926073 | CV11: 24.58188 | CW11: 0.55629982 | CX11: =K_constant*Ar39CC/J -> 1.6990076e-08 | CY11: =K_mole*SQRT((Ar39ccerr/Ar39CC)^2+(Jerr/J)^2+(K_Constanterr/K_constant)^2) -> 1.6949979e-10 | CZ11: =K_mole*MW_K/Sample_Mass*10^6 -> 72.998143 | DA11: =K_ppm*SQRT((Sample_Masserr/Sample_Mass)^2+(MW_Kerr/MW_K)^2+(K_moleerr/K_mole)^2) -> 0.81460351 | DB11: =K_ppm/10^4 -> 0.0072998143 | DC11: =K_ppmerr/10^4 -> 8.1460351e-05 | DD11: =Cl_Constant*Ar38CC/(J*Beta) -> 3.0792815e-08 | DE11: =Cl_mole*SQRT((Ar38CCerr/Ar38CC)^2+(Jerr/J)^2+(Betaerr/Beta)^2+(Cl_Constanterr/Cl_Constant)^2) -> 7.5378222e-10 | DF11: =Cl_mole*MW_Cl/Sample_Mass*10^6 -> 119.96678 | DG11: =Cl_ppm*SQRT((Sample_Masserr/Sample_Mass)^2+(MW_Clerr/MW_Cl)^2+(Cl_moleerr/Cl_mole)^2) -> 2.9973196 | DH11: =Cl_ppm/10^4 -> 0.011996678 | DI11: =Cl_ppmerr/10^4 -> 0.00029973196 | DJ11: =Ca_Constant*Ar37CC/(J*alpha) -> 2.4147261e-07 | DK11: =Ca_mole*SQRT((Ar37CCerr/Ar37CC)^2+(Jerr/J)^2+(alphaerr/alpha)^2+(Ca_Constanterr/Ca_Constant)^2) -> 2.6747784e-08 | DL11: =Ca_mole*MW_Ca/Sample_Mass*10^6 -> 1063.5409 | DM11: =Ca_ppm*SQRT((Sample_Masserr/Sample_Mass)^2+(MW_Caerr/MW_Ca)^2+(Ca_moleerr/Ca_mole)^2) -> 117.92783 | DN11: =Ca_ppm/10^4 -> 0.10635409 | DO11: =Ca_ppmerr/10^4 -> 0.011792783 | DP11: =K_mole/Cl_mole -> 0.55175456 | DQ11: =KCl_mol*SQRT(K_moleerr/K_mole)^2+(Cl_moleerr/Cl_mole)^2 -> 0.0061037532 | DR11: =K_mole/Ca_mole -> 0.070360262 | DS11: =KCa_mol*SQRT(K_moleerr/K_mole)^2+(Ca_moleerr/Ca_mole)^2 -> 0.012971809 | DT11: =K_ppm/Cl_ppm -> 0.60848631 | DU11: =KCl_wt*SQRT(K_ppmerr/K_ppm)^2+(Cl_ppmerr/Cl_ppm)^2 -> 0.0074144717 | DV11: =K_ppm/Ca_ppm -> 0.068636892 | DW11: =KCa_wt*SQRT(K_ppmerr/K_ppm)^2+(Ca_ppmerr/Ca_ppm)^2 -> 0.013060812 | DX11: =Ar40_mole/Cl_mole -> 2.8566073e-06 | DY11: =Ar40Cl_mol*SQRT((Ar40_moleerr/Ar40_mole)^2+(Cl_moleerr/Cl_mole)^2) -> 6.9987599e-08 | DZ11: =Ar40AC/Ar39_IC -> 12.081724 | EA11: =Ar40Ar39*SQRT((Ar40ACerr/Ar40AC)^2+(Ar39_ICerr/Ar39_IC)^2) -> 4.5909409 | EB11: =(Ar40CC/MV)/K_mole -> 5.1773152e-06 | EC11: =Ar40K*SQRT((Ar40CCerrr/Ar40CC)^2+(K_moleerr/K_mole)^2+(MVerr/MV)^2) -> 5.1918351e-08 | ED11: =IF(Ar40Ar39>0,(1/lambda/10^6)*LN(1+(J*Ar40Ar39)),"") -> 108.44956 | EE11: =IF(Age="","",SQRT((J^2*Ar40Ar39^2*((Ar40Ar39err/Ar40Ar39*100)^2))/(Age^2*0.00055305^2*((1+Ar40Ar39*J)^2)))*Age/100) -> 40.129522 | EF11: =IF(Age="","",SQRT((J^2*Ar40Ar39^2*((Ar40Ar39err/Ar40Ar39*100)^2+(Jerr/J*100)^2))/(Age^2*0.00055305^2*((1+Ar40Ar39*J)^2)))*Age/100) -> 40.129895 | EG11: =IF(Ar40Ar39>0,(1/lambda/10^6)*LN(1+(J*Ar40Ar39)),"") -> 108.44956 | EH11: =IF(Age="","",SQRT((J^2*Ar40Ar39^2*((Ar40Ar39err/Ar40Ar39*100)^2))/(Age^2*0.00055305^2*((1+Ar40Ar39*J)^2)))*Age/100) -> 40.129522 | EI11: =IF(Age="","",SQRT((J^2*Ar40Ar39^2*((Ar40Ar39err/Ar40Ar39*100)^2+(Jerr/J*100)^2))/(Age^2*0.00055305^2*((1+Ar40Ar39*J)^2)))*Age/100) -> 40.129895 | EJ11: =CF11/$CF$19 -> 0.11957558 | EK11: =EG11 -> 108.44956 | EL11: =EH11 -> 40.129522 | EM11: =Ar39_IC/Ar36_ClCor -> 4.1604537 | EN11: =EM11*SQRT((Ar40_ICerr/Ar40_IC)^2+(Ar36_ClCorerr/Ar36_ClCor)^2) -> 0.26890088 | EO11: =Ar40_IC/Ar36_ClCor -> 345.76545 | EP11: =EO11*SQRT((Ar40_ICerr/Ar40_IC)^2+(Ar36_ClCorerr/Ar36_ClCor)^2) -> 22.347716 | EQ11: =Ar39_IC/Ar40_IC -> 0.012032589 | ER11: =EQ11*SQRT((Ar40_ICerr/Ar40_IC)^2+(Ar39_ICerr/Ar39_IC)^2) -> 4.4497783e-05 | ES11: =Ar36_ClCor/Ar40_IC -> 0.0028921339 | ET11: =ES11*SQRT((Ar40_ICerr/Ar40_IC)^2+(Ar36_ClCorerr/Ar36_ClCor)^2) -> 0.0001869261 | LQ11: =Name -> B1x Bulk | LR11: =Irradiation -> MN2022a | LS11: =IF(ISNUMBER(K_ppm), K_ppm, "") -> 72.998143 | LT11: =IF(ISNUMBER(K_ppmerr), K_ppmerr, "") -> 0.81460351 | LU11: =Cl_ppm -> 119.96678 | LV11: =Cl_ppmerr -> 2.9973196 | LW11: =Ca_ppm -> 1063.5409 | LX11: =Ca_ppmerr -> 117.92783 | MO11: =DT11 -> 0.60848631 | MP11: =DU11 -> 0.0074144717 | MW11: =DP11 -> 0.55175456 | MX11: =DQ11 -> 0.0061037532
B12: B1x Bulk | C12: =9.1/1000 -> 0.0091 | D12: =C12*0.5% -> 4.55e-05 | E12: 44727 | F12: ARGUS | G12: MN2022a | H12: 1 | J12: 44644 | K12: continuous | L12: 4 | M12: 2.95 | N12: 30 | O12: 1136.8984 | P12: 0.227277 | Q12: 33.043097 | R12: 0.039276 | S12: 914.35847 | T12: 0.839176 | U12: 80.405579 | V12: 0.084836 | W12: 4.401911 | X12: 0.005494 | Y12: 6.3067745 | Z12: 0.93511706 | AA12: 0.043458 | AB12: 0.029863653 | AC12: 2.2128518 | AD12: 2.0188659 | AE12: 1.3901317 | AF12: 1.195401 | AG12: 0.25606525 | AH12: 0.21678044 | AI12: =Ar40Raw-Ar40Blank -> 1130.5917 | AJ12: =SQRT(Ar40Blankerr^2+Ar40Rawerr^2) -> 0.96234025 | AK12: =Ar39Raw-Ar39Blank -> 32.999639 | AL12: =SQRT(Ar39Blankerr^2+Ar39Rawerr^2) -> 0.049340064 | AM12: =Ar38Raw-Ar38Blank -> 912.14562 | AN12: =SQRT(Ar38Blankerr^2+Ar38Rawerr^2) -> 2.1863293 | AO12: =Ar37Raw-Ar37Blank -> 79.015447 | AP12: =SQRT(Ar37Blankerr^2+Ar37Rawerr^2) -> 1.1984075 | AQ12: =Ar36Raw-Ar36Blank -> 4.1458458 | AR12: =SQRT(Ar36Blankerr^2+Ar36Rawerr^2) -> 0.21685005 | AS12: 300.7 | AT12: 0.28 | AU12: =Ar39BC*(1+(Ar4036_Aircal/Ar4036_Air-1)/4) -> 33.144815 | AV12: =SQRT(Ar39BCerr^2+(Ar39BC*(Ar4036_Aircal/Ar4036_Air-1)/4)^2*((Ar4036_Aircalerr/Ar4036_Aircal)^2+(Ar39BCerr/Ar39BC)^2+(Ar4036_airerr/Ar4036_Air)^2)) -> 0.049340962 | AW12: =Ar38BC*(1+2*(Ar4036_Aircal/Ar4036_Air-1)/4) -> 920.17127 | AX12: =SQRT(Ar38BCerr^2+(Ar38BC*(Ar4036_Aircal/Ar4036_Air-1)/4)^2*((Ar4036_Aircalerr/Ar4036_Aircal)^2+(Ar38BCerr/Ar38BC)^2+(Ar4036_airerr/Ar4036_Air)^2)) -> 2.1863577 | AY12: =Ar37BC*(1+3*(Ar4036_Aircal/Ar4036_Air-1)/4) -> 80.058291 | AZ12: =SQRT(Ar37BCerr^2+(Ar37BC*(Ar4036_Aircal/Ar4036_Air-1)/3)^2*((Ar4036_Aircalerr/Ar4036_Aircal)^2+(Ar37BCerr/Ar37BC)^2+(Ar4036_airerr/Ar4036_Air)^2)) -> 1.1984283 | BA12: =Ar36BC*(1+4*(Ar4036_Aircal/Ar4036_Air-1)/4) -> 4.2188014 | BB12: =SQRT(Ar36BCerr^2+(Ar36BC*(Ar4036_Aircal/Ar4036_Air-1)/4)^2*((Ar4036_Aircalerr/Ar4036_Aircal)^2+(Ar36BCerr/Ar36BC)^2+(Ar4036_airerr/Ar4036_Air)^2)) -> 0.21685215 | BE12: =IF(Rad_Type="Continuous", Ar37_DC*EXP(lambda_37Ar*(Run_Date-Rad_Date)),Ar37_DC*Ar37_DecayFactor) -> 412.32876 | BF12: =IF(Rad_Type="Continuous", (Ar37_DCerr*EXP(lambda_37Ar*(Run_Date-Rad_Date))), Ar37_DCerr*Ar37_DecayFactor) -> 6.1723334 | BG12: =IF(Rad_Type="Continuous", Ar39_DC*EXP(lambda_39Ar*(Run_Date-Rad_Date)), Ar39_DC*Ar39_DecayFactor) -> 33.164242 | BH12: =IF(Rad_Type="Continuous", (Ar39_DCerr*EXP(lambda_39Ar*(Run_Date-Rad_Date))), Ar39_DCerr*Ar39_DecayFactor) -> 0.049369882 | BI12: =Ar40BC-(Salt_40Ar39Ar_K*Ar39_IC) -> 1126.3222 | BJ12: =SQRT(Ar40BCerr^2+(Ar39_ICerr*Salt_40Ar39Ar_K)^2) -> 0.962362 | BK12: =Ar39_DecayCor-(Salt_39Ar37Ar_Ca*Ar37_DecayCor) -> 32.787428 | BL12: =SQRT(Ar39_DecayCorerr^2+(Ar37_DecayCorerr*Salt_39Ar37Ar_Ca)^2) -> 0.049691072 | BM12: =Ar38_DC-(Salt_38Ar39Ar_K*Ar39_DecayCor) -> 919.65914 | BN12: =SQRT(Ar38_DCerr^2+(Ar39_DecayCorerr*Salt_38Ar39Ar_K)^2) -> 2.1863578 | BO12: =Ar36_DC-(Salt_36Ar37Ar_Ca*Ar37_DecayCor) -> 4.0749691 | BP12: =SQRT(Ar36_DCerr^2+(Ar37_DecayCorerr*Salt_36Ar37Ar_Ca)^2) -> 0.21686284 | BR12: =IF(Rad_Type="Continuous", BO12-((EXP(lambda_36Ar*(Run_Date-Rad_Date))-1)*Cl3638_PR*BT12),BO12*Ar36_DecayFactor) -> 3.9273301 | BS12: =IF(K:K="Continuous", SQRT(BP12^2+(((EXP(lambda_36Ar*(Run_Date-Rad_Date))-1)*Cl3638_PR)*BU12^2)), Ar36_ICerr*Ar36_DecayFactor) -> 0.21693045 | BT12: =IF(Rad_Type="Continuous", BM12-(Ar3836_Air*BO12)/(1-lambda_36Ar*(Run_Date-Rad_Date)),Ar38_IC-(Ar3836_Air*Ar36_IC)/Ar36_DecayFactor) -> 918.89305 | BU12: =IF(Rad_Type ="Continuous", SQRT(BN12^2*(((EXP(lambda_36Ar*(Run_Date-Rad_Date))-1*Ar3836_Air)*BP12^2))),SQRT(Ar38_ICerr^2*(((EXP(lambda_36Ar*(Ar36_DecayFactor))-1*Ar3836_Air)*Ar36_ICerr^2)))) -> 0.42725242 | BV12: =Ar40_IC-(Ar36_ClCor*Ar4036_Air) -> -34.203824 | BW12: =SQRT(Ar40_ICerr^2+(Ar36_ClCorerr*Ar4036_Air)^2) -> 64.110172 | BX12: 1.6986775e-12 | BY12: 9.4454002e-16 | BZ12: =Ar_Sensitivity*Ar36_ClCor -> 6.6712672e-12 | CA12: =Ar36CC*SQRT((Ar36_ClCorerr/Ar36_ClCor)^2+(Ar_sensitivityerr/Ar_Sensitivity)^2) -> 3.6851354e-13 | CB12: =Ar37_DecayCor*Ar_Sensitivity -> 7.0041357e-10 | CC12: =Ar37CC*SQRT((Ar37_DecayCorerr/Ar37_DecayCor)^2+(Ar_sensitivityerr/Ar_Sensitivity)^2) -> 1.0492035e-11 | CD12: =Ar_Sensitivity*Ar38_Cl -> 1.5609029e-09 | CE12: =Ar38CC*SQRT((Ar38_Clerr/Ar38_Cl)^2+(Ar_sensitivityerr/Ar_Sensitivity)^2) -> 1.1313877e-12 | CF12: =Ar_Sensitivity*Ar39_IC -> 5.5695265e-11 | CG12: =Ar39CC*SQRT((Ar39_ICerr/Ar39_IC)^2+(Ar_sensitivityerr/Ar_Sensitivity)^2) -> 8.9910947e-14 | CH12: =Ar_Sensitivity*Ar40_IC -> 1.9132582e-09 | CI12: =Ar40CC*SQRT((Ar40_ICerr/Ar40_IC)^2+(Ar_sensitivityerr/Ar_Sensitivity)^2) -> 1.9504292e-12 | CJ12: =Ar38CC/MV -> 6.963976e-14 | CK12: =Ar38_mole*SQRT((Ar38CCerr/Ar38CC)^2+(MVerr/MV)^2) -> 5.0476934e-17 | CL12: =Ar40CC/MV -> 8.5360107e-14 | CM12: =Ar40_mole*SQRT((Ar40CCerrr/Ar40CC)^2+(MVerr/MV)^2) -> 8.7018507e-17 | CN12: 0.005134083 | CO12: 8.40144e-06 | CP12: 1.1139739e+19 | CQ12: 1.0453257e+18 | CR12: 8.0438365e+17 | CS12: 8.5271401e+16 | CT12: 0.49881143 | CU12: 0.045926073 | CV12: 24.58188 | CW12: 0.55629982 | CX12: =K_constant*Ar39CC/J -> 3.988742e-08 | CY12: =K_mole*SQRT((Ar39ccerr/Ar39CC)^2+(Jerr/J)^2+(K_Constanterr/K_constant)^2) -> 3.7602949e-10 | CZ12: =K_mole*MW_K/Sample_Mass*10^6 -> 171.37696 | DA12: =K_ppm*SQRT((Sample_Masserr/Sample_Mass)^2+(MW_Kerr/MW_K)^2+(K_moleerr/K_mole)^2) -> 1.8287891 | DB12: =K_ppm/10^4 -> 0.017137696 | DC12: =K_ppmerr/10^4 -> 0.00018287891 | DD12: =Cl_Constant*Ar38CC/(J*Beta) -> 5.0151434e-08 | DE12: =Cl_mole*SQRT((Ar38CCerr/Ar38CC)^2+(Jerr/J)^2+(Betaerr/Beta)^2+(Cl_Constanterr/Cl_Constant)^2) -> 1.2273599e-09 | DF12: =Cl_mole*MW_Cl/Sample_Mass*10^6 -> 195.38668 | DG12: =Cl_ppm*SQRT((Sample_Masserr/Sample_Mass)^2+(MW_Clerr/MW_Cl)^2+(Cl_moleerr/Cl_mole)^2) -> 4.8804901 | DH12: =Cl_ppm/10^4 -> 0.019538668 | DI12: =Cl_ppmerr/10^4 -> 0.00048804901 | DJ12: =Ca_Constant*Ar37CC/(J*alpha) -> 9.8099318e-07 | DK12: =Ca_mole*SQRT((Ar37CCerr/Ar37CC)^2+(Jerr/J)^2+(alphaerr/alpha)^2+(Ca_Constanterr/Ca_Constant)^2) -> 9.1961202e-08 | DL12: =Ca_mole*MW_Ca/Sample_Mass*10^6 -> 4320.6821 | DM12: =Ca_ppm*SQRT((Sample_Masserr/Sample_Mass)^2+(MW_Caerr/MW_Ca)^2+(Ca_moleerr/Ca_mole)^2) -> 405.60947 | DN12: =Ca_ppm/10^4 -> 0.43206821 | DO12: =Ca_ppmerr/10^4 -> 0.040560947 | DP12: =K_mole/Cl_mole -> 0.79533957 | DQ12: =KCl_mol*SQRT(K_moleerr/K_mole)^2+(Cl_moleerr/Cl_mole)^2 -> 0.0080968125 | DR12: =K_mole/Ca_mole -> 0.040660242 | DS12: =KCa_mol*SQRT(K_moleerr/K_mole)^2+(Ca_moleerr/Ca_mole)^2 -> 0.0091710572 | DT12: =K_ppm/Cl_ppm -> 0.87711689 | DU12: =KCl_wt*SQRT(K_ppmerr/K_ppm)^2+(Cl_ppmerr/Cl_ppm)^2 -> 0.0099837766 | DV12: =K_ppm/Ca_ppm -> 0.03966433 | DW12: =KCa_wt*SQRT(K_ppmerr/K_ppm)^2+(Ca_ppmerr/Ca_ppm)^2 -> 0.0092360161 | DX12: =Ar40_mole/Cl_mole -> 1.7020472e-06 | DY12: =Ar40Cl_mol*SQRT((Ar40_moleerr/Ar40_mole)^2+(Cl_moleerr/Cl_mole)^2) -> 4.1690455e-08 | DZ12: =Ar40AC/Ar39_IC -> -1.0431994 | EA12: =Ar40Ar39*SQRT((Ar40ACerr/Ar40AC)^2+(Ar39_ICerr/Ar39_IC)^2) -> -1.9553285 | EB12: =(Ar40CC/MV)/K_mole -> 2.1400258e-06 | EC12: =Ar40K*SQRT((Ar40CCerrr/Ar40CC)^2+(K_moleerr/K_mole)^2+(MVerr/MV)^2) -> 2.0292213e-08 | ED12: =IF(Ar40Ar39>0,(1/lambda/10^6)*LN(1+(J*Ar40Ar39)),"") | EE12: =IF(Age="","",SQRT((J^2*Ar40Ar39^2*((Ar40Ar39err/Ar40Ar39*100)^2))/(Age^2*0.00055305^2*((1+Ar40Ar39*J)^2)))*Age/100) | EF12: =IF(Age="","",SQRT((J^2*Ar40Ar39^2*((Ar40Ar39err/Ar40Ar39*100)^2+(Jerr/J*100)^2))/(Age^2*0.00055305^2*((1+Ar40Ar39*J)^2)))*Age/100) | EG12: =IF(Ar40Ar39>0,(1/lambda/10^6)*LN(1+(J*Ar40Ar39)),"") | EH12: =IF(Age="","",SQRT((J^2*Ar40Ar39^2*((Ar40Ar39err/Ar40Ar39*100)^2))/(Age^2*0.00055305^2*((1+Ar40Ar39*J)^2)))*Age/100) | EI12: =IF(Age="","",SQRT((J^2*Ar40Ar39^2*((Ar40Ar39err/Ar40Ar39*100)^2+(Jerr/J*100)^2))/(Age^2*0.00055305^2*((1+Ar40Ar39*J)^2)))*Age/100) | EJ12: =CF12/$CF$19 -> 0.2807263 | EK12: =EG12 | EL12: =EH12 | EM12: =Ar39_IC/Ar36_ClCor -> 8.3485286 | EN12: =EM12*SQRT((Ar40_ICerr/Ar40_IC)^2+(Ar36_ClCorerr/Ar36_ClCor)^2) -> 0.46119544 | EO12: =Ar40_IC/Ar36_ClCor -> 286.79082 | EP12: =EO12*SQRT((Ar40_ICerr/Ar40_IC)^2+(Ar36_ClCorerr/Ar36_ClCor)^2) -> 15.843105 | EQ12: =Ar39_IC/Ar40_IC -> 0.029110167 | ER12: =EQ12*SQRT((Ar40_ICerr/Ar40_IC)^2+(Ar39_ICerr/Ar39_IC)^2) -> 5.0646237e-05 | ES12: =Ar36_ClCor/Ar40_IC -> 0.003486862 | ET12: =ES12*SQRT((Ar40_ICerr/Ar40_IC)^2+(Ar36_ClCorerr/Ar36_ClCor)^2) -> 0.00019262374 | LQ12: =Name -> B1x Bulk | LR12: =Irradiation -> MN2022a | LS12: =IF(ISNUMBER(K_ppm), K_ppm, "") -> 171.37696 | LT12: =IF(ISNUMBER(K_ppmerr), K_ppmerr, "") -> 1.8287891 | LU12: =Cl_ppm -> 195.38668 | LV12: =Cl_ppmerr -> 4.8804901 | LW12: =Ca_ppm -> 4320.6821 | LX12: =Ca_ppmerr -> 405.60947 | MO12: =DT12 -> 0.87711689 | MP12: =DU12 -> 0.0099837766 | MW12: =DP12 -> 0.79533957 | MX12: =DQ12 -> 0.0080968125
B13: B1x Bulk | C13: =9.1/1000 -> 0.0091 | D13: =C13*0.5% -> 4.55e-05 | E13: 44727 | F13: ARGUS | G13: MN2022a | H13: 1 | J13: 44644 | K13: continuous | L13: 5 | M13: 4.2 | N13: 30 | O13: 444.11 | P13: 0.191977 | Q13: 41.554904 | R13: 0.091825 | S13: 934.37856 | T13: 0.742961 | U13: 186.04543 | V13: 0.251341 | W13: 2.564609 | X13: 0.006045 | Y13: 6.3067745 | Z13: 0.93511706 | AA13: 0.043458 | AB13: 0.029863653 | AC13: 2.2128518 | AD13: 2.0188659 | AE13: 1.3901317 | AF13: 1.195401 | AG13: 0.25606525 | AH13: 0.21678044 | AI13: =Ar40Raw-Ar40Blank -> 437.80323 | AJ13: =SQRT(Ar40Blankerr^2+Ar40Rawerr^2) -> 0.95461986 | AK13: =Ar39Raw-Ar39Blank -> 41.511446 | AL13: =SQRT(Ar39Blankerr^2+Ar39Rawerr^2) -> 0.096559145 | AM13: =Ar38Raw-Ar38Blank -> 932.16571 | AN13: =SQRT(Ar38Blankerr^2+Ar38Rawerr^2) -> 2.1512347 | AO13: =Ar37Raw-Ar37Blank -> 184.6553 | AP13: =SQRT(Ar37Blankerr^2+Ar37Rawerr^2) -> 1.2215383 | AQ13: =Ar36Raw-Ar36Blank -> 2.3085438 | AR13: =SQRT(Ar36Blankerr^2+Ar36Rawerr^2) -> 0.21686471 | AS13: 300.7 | AT13: 0.28 | AU13: =Ar39BC*(1+(Ar4036_Aircal/Ar4036_Air-1)/4) -> 41.694068 | AV13: =SQRT(Ar39BCerr^2+(Ar39BC*(Ar4036_Aircal/Ar4036_Air-1)/4)^2*((Ar4036_Aircalerr/Ar4036_Aircal)^2+(Ar39BCerr/Ar39BC)^2+(Ar4036_airerr/Ar4036_Air)^2)) -> 0.096560419 | AW13: =Ar38BC*(1+2*(Ar4036_Aircal/Ar4036_Air-1)/4) -> 940.36751 | AX13: =SQRT(Ar38BCerr^2+(Ar38BC*(Ar4036_Aircal/Ar4036_Air-1)/4)^2*((Ar4036_Aircalerr/Ar4036_Aircal)^2+(Ar38BCerr/Ar38BC)^2+(Ar4036_airerr/Ar4036_Air)^2)) -> 2.1512632 | AY13: =Ar37BC*(1+3*(Ar4036_Aircal/Ar4036_Air-1)/4) -> 187.09238 | AZ13: =SQRT(Ar37BCerr^2+(Ar37BC*(Ar4036_Aircal/Ar4036_Air-1)/3)^2*((Ar4036_Aircalerr/Ar4036_Aircal)^2+(Ar37BCerr/Ar37BC)^2+(Ar4036_airerr/Ar4036_Air)^2)) -> 1.2215602 | BA13: =Ar36BC*(1+4*(Ar4036_Aircal/Ar4036_Air-1)/4) -> 2.3491679 | BB13: =SQRT(Ar36BCerr^2+(Ar36BC*(Ar4036_Aircal/Ar4036_Air-1)/4)^2*((Ar4036_Aircalerr/Ar4036_Aircal)^2+(Ar36BCerr/Ar36BC)^2+(Ar4036_airerr/Ar4036_Air)^2)) -> 0.21686681 | BE13: =IF(Rad_Type="Continuous", Ar37_DC*EXP(lambda_37Ar*(Run_Date-Rad_Date)),Ar37_DC*Ar37_DecayFactor) -> 963.59248 | BF13: =IF(Rad_Type="Continuous", (Ar37_DCerr*EXP(lambda_37Ar*(Run_Date-Rad_Date))), Ar37_DCerr*Ar37_DecayFactor) -> 6.291471 | BG13: =IF(Rad_Type="Continuous", Ar39_DC*EXP(lambda_39Ar*(Run_Date-Rad_Date)), Ar39_DC*Ar39_DecayFactor) -> 41.718506 | BH13: =IF(Rad_Type="Continuous", (Ar39_DCerr*EXP(lambda_39Ar*(Run_Date-Rad_Date))), Ar39_DCerr*Ar39_DecayFactor) -> 0.096617015 | BI13: =Ar40BC-(Salt_40Ar39Ar_K*Ar39_IC) -> 432.48549 | BJ13: =SQRT(Ar40BCerr^2+(Ar39_ICerr*Salt_40Ar39Ar_K)^2) -> 0.95470306 | BK13: =Ar39_DecayCor-(Salt_39Ar37Ar_Ca*Ar37_DecayCor) -> 40.83791 | BL13: =SQRT(Ar39_DecayCorerr^2+(Ar37_DecayCorerr*Salt_39Ar37Ar_Ca)^2) -> 0.096787939 | BM13: =Ar38_DC-(Salt_38Ar39Ar_K*Ar39_DecayCor) -> 939.72329 | BN13: =SQRT(Ar38_DCerr^2+(Ar39_DecayCorerr*Salt_38Ar39Ar_K)^2) -> 2.1512637 | BO13: =Ar36_DC-(Salt_36Ar37Ar_Ca*Ar37_DecayCor) -> 2.0130387 | BP13: =SQRT(Ar36_DCerr^2+(Ar37_DecayCorerr*Salt_36Ar37Ar_Ca)^2) -> 0.21687791 | BR13: =IF(Rad_Type="Continuous", BO13-((EXP(lambda_36Ar*(Run_Date-Rad_Date))-1)*Cl3638_PR*BT13),BO13*Ar36_DecayFactor) -> 1.8621137 | BS13: =IF(K:K="Continuous", SQRT(BP13^2+(((EXP(lambda_36Ar*(Run_Date-Rad_Date))-1)*Cl3638_PR)*BU13^2)), Ar36_ICerr*Ar36_DecayFactor) -> 0.21694338 | BT13: =IF(Rad_Type="Continuous", BM13-(Ar3836_Air*BO13)/(1-lambda_36Ar*(Run_Date-Rad_Date)),Ar38_IC-(Ar3836_Air*Ar36_IC)/Ar36_DecayFactor) -> 939.34483 | BU13: =IF(Rad_Type ="Continuous", SQRT(BN13^2*(((EXP(lambda_36Ar*(Run_Date-Rad_Date))-1*Ar3836_Air)*BP13^2))),SQRT(Ar38_ICerr^2*(((EXP(lambda_36Ar*(Ar36_DecayFactor))-1*Ar3836_Air)*Ar36_ICerr^2)))) -> 0.42042363 | BV13: =Ar40_IC-(Ar36_ClCor*Ar4036_Air) -> -117.76911 | BW13: =SQRT(Ar40_ICerr^2+(Ar36_ClCorerr*Ar4036_Air)^2) -> 64.113877 | BX13: 1.6986775e-12 | BY13: 9.4454002e-16 | BZ13: =Ar_Sensitivity*Ar36_ClCor -> 3.1631306e-12 | CA13: =Ar36CC*SQRT((Ar36_ClCorerr/Ar36_ClCor)^2+(Ar_sensitivityerr/Ar_Sensitivity)^2) -> 3.6852103e-13 | CB13: =Ar37_DecayCor*Ar_Sensitivity -> 1.6368328e-09 | CC13: =Ar37CC*SQRT((Ar37_DecayCorerr/Ar37_DecayCor)^2+(Ar_sensitivityerr/Ar_Sensitivity)^2) -> 1.0725866e-11 | CD13: =Ar_Sensitivity*Ar38_Cl -> 1.5956439e-09 | CE13: =Ar38CC*SQRT((Ar38_Clerr/Ar38_Cl)^2+(Ar_sensitivityerr/Ar_Sensitivity)^2) -> 1.1389648e-12 | CF13: =Ar_Sensitivity*Ar39_IC -> 6.9370437e-11 | CG13: =Ar39CC*SQRT((Ar39_ICerr/Ar39_IC)^2+(Ar_sensitivityerr/Ar_Sensitivity)^2) -> 1.6887575e-13 | CH13: =Ar_Sensitivity*Ar40_IC -> 7.3465336e-10 | CI13: =Ar40CC*SQRT((Ar40_ICerr/Ar40_IC)^2+(Ar_sensitivityerr/Ar_Sensitivity)^2) -> 1.6723901e-12 | CJ13: =Ar38CC/MV -> 7.118973e-14 | CK13: =Ar38_mole*SQRT((Ar38CCerr/Ar38CC)^2+(MVerr/MV)^2) -> 5.0814987e-17 | CL13: =Ar40CC/MV -> 3.2776595e-14 | CM13: =Ar40_mole*SQRT((Ar40CCerrr/Ar40CC)^2+(MVerr/MV)^2) -> 7.4613768e-17 | CN13: 0.005134083 | CO13: 8.40144e-06 | CP13: 1.1139739e+19 | CQ13: 1.0453257e+18 | CR13: 8.0438365e+17 | CS13: 8.5271401e+16 | CT13: 0.49881143 | CU13: 0.045926073 | CV13: 24.58188 | CW13: 0.55629982 | CX13: =K_constant*Ar39CC/J -> 4.9681203e-08 | CY13: =K_mole*SQRT((Ar39ccerr/Ar39CC)^2+(Jerr/J)^2+(K_Constanterr/K_constant)^2) -> 4.7702666e-10 | CZ13: =K_mole*MW_K/Sample_Mass*10^6 -> 213.45611 | DA13: =K_ppm*SQRT((Sample_Masserr/Sample_Mass)^2+(MW_Kerr/MW_K)^2+(K_moleerr/K_mole)^2) -> 2.3107909 | DB13: =K_ppm/10^4 -> 0.021345611 | DC13: =K_ppmerr/10^4 -> 0.00023107909 | DD13: =Cl_Constant*Ar38CC/(J*Beta) -> 5.1267654e-08 | DE13: =Cl_mole*SQRT((Ar38CCerr/Ar38CC)^2+(Jerr/J)^2+(Betaerr/Beta)^2+(Cl_Constanterr/Cl_Constant)^2) -> 1.2546606e-09 | DF13: =Cl_mole*MW_Cl/Sample_Mass*10^6 -> 199.7354 | DG13: =Cl_ppm*SQRT((Sample_Masserr/Sample_Mass)^2+(MW_Clerr/MW_Cl)^2+(Cl_moleerr/Cl_mole)^2) -> 4.9890516 | DH13: =Cl_ppm/10^4 -> 0.01997354 | DI13: =Cl_ppmerr/10^4 -> 0.00049890516 | DJ13: =Ca_Constant*Ar37CC/(J*alpha) -> 2.2925339e-06 | DK13: =Ca_mole*SQRT((Ar37CCerr/Ar37CC)^2+(Jerr/J)^2+(alphaerr/alpha)^2+(Ca_Constanterr/Ca_Constant)^2) -> 2.1267856e-07 | DL13: =Ca_mole*MW_Ca/Sample_Mass*10^6 -> 10097.226 | DM13: =Ca_ppm*SQRT((Sample_Masserr/Sample_Mass)^2+(MW_Caerr/MW_Ca)^2+(Ca_moleerr/Ca_mole)^2) -> 938.08057 | DN13: =Ca_ppm/10^4 -> 1.0097226 | DO13: =Ca_ppmerr/10^4 -> 0.093808057 | DP13: =K_mole/Cl_mole -> 0.96905552 | DQ13: =KCl_mol*SQRT(K_moleerr/K_mole)^2+(Cl_moleerr/Cl_mole)^2 -> 0.0099035477 | DR13: =K_mole/Ca_mole -> 0.021670869 | DS13: =KCa_mol*SQRT(K_moleerr/K_mole)^2+(Ca_moleerr/Ca_mole)^2 -> 0.0088143664 | DT13: =K_ppm/Cl_ppm -> 1.0686944 | DU13: =KCl_wt*SQRT(K_ppmerr/K_ppm)^2+(Cl_ppmerr/Cl_ppm)^2 -> 0.012193177 | DV13: =K_ppm/Ca_ppm -> 0.021140074 | DW13: =KCa_wt*SQRT(K_ppmerr/K_ppm)^2+(Ca_ppmerr/Ca_ppm)^2 -> 0.008860152 | DX13: =Ar40_mole/Cl_mole -> 6.3932309e-07 | DY13: =Ar40Cl_mol*SQRT((Ar40_moleerr/Ar40_mole)^2+(Cl_moleerr/Cl_mole)^2) -> 1.571354e-08 | DZ13: =Ar40AC/Ar39_IC -> -2.8838183 | EA13: =Ar40Ar39*SQRT((Ar40ACerr/Ar40AC)^2+(Ar39_ICerr/Ar39_IC)^2) -> -1.5699747 | EB13: =(Ar40CC/MV)/K_mole -> 6.5973835e-07 | EC13: =Ar40K*SQRT((Ar40CCerrr/Ar40CC)^2+(K_moleerr/K_mole)^2+(MVerr/MV)^2) -> 6.5102445e-09 | ED13: =IF(Ar40Ar39>0,(1/lambda/10^6)*LN(1+(J*Ar40Ar39)),"") | EE13: =IF(Age="","",SQRT((J^2*Ar40Ar39^2*((Ar40Ar39err/Ar40Ar39*100)^2))/(Age^2*0.00055305^2*((1+Ar40Ar39*J)^2)))*Age/100) | EF13: =IF(Age="","",SQRT((J^2*Ar40Ar39^2*((Ar40Ar39err/Ar40Ar39*100)^2+(Jerr/J*100)^2))/(Age^2*0.00055305^2*((1+Ar40Ar39*J)^2)))*Age/100) | EG13: =IF(Ar40Ar39>0,(1/lambda/10^6)*LN(1+(J*Ar40Ar39)),"") | EH13: =IF(Age="","",SQRT((J^2*Ar40Ar39^2*((Ar40Ar39err/Ar40Ar39*100)^2))/(Age^2*0.00055305^2*((1+Ar40Ar39*J)^2)))*Age/100) | EI13: =IF(Age="","",SQRT((J^2*Ar40Ar39^2*((Ar40Ar39err/Ar40Ar39*100)^2+(Jerr/J*100)^2))/(Age^2*0.00055305^2*((1+Ar40Ar39*J)^2)))*Age/100) | EJ13: =CF13/$CF$19 -> 0.34965461 | EK13: =EG13 | EL13: =EH13 | EM13: =Ar39_IC/Ar36_ClCor -> 21.930943 | EN13: =EM13*SQRT((Ar40_ICerr/Ar40_IC)^2+(Ar36_ClCorerr/Ar36_ClCor)^2) -> 2.5554975 | EO13: =Ar40_IC/Ar36_ClCor -> 232.25514 | EP13: =EO13*SQRT((Ar40_ICerr/Ar40_IC)^2+(Ar36_ClCorerr/Ar36_ClCor)^2) -> 27.063471 | EQ13: =Ar39_IC/Ar40_IC -> 0.094426081 | ER13: =EQ13*SQRT((Ar40_ICerr/Ar40_IC)^2+(Ar39_ICerr/Ar39_IC)^2) -> 0.00030583135 | ES13: =Ar36_ClCor/Ar40_IC -> 0.0043056097 | ET13: =ES13*SQRT((Ar40_ICerr/Ar40_IC)^2+(Ar36_ClCorerr/Ar36_ClCor)^2) -> 0.00050171005 | LQ13: =Name -> B1x Bulk | LR13: =Irradiation -> MN2022a | LS13: =IF(ISNUMBER(K_ppm), K_ppm, "") -> 213.45611 | LT13: =IF(ISNUMBER(K_ppmerr), K_ppmerr, "") -> 2.3107909 | LU13: =Cl_ppm -> 199.7354 | LV13: =Cl_ppmerr -> 4.9890516 | LW13: =Ca_ppm -> 10097.226 | LX13: =Ca_ppmerr -> 938.08057 | MO13: =DT13 -> 1.0686944 | MP13: =DU13 -> 0.012193177 | MW13: =DP13 -> 0.96905552 | MX13: =DQ13 -> 0.0099035477
B14: B1x Bulk | C14: =9.1/1000 -> 0.0091 | D14: =C14*0.5% -> 4.55e-05 | E14: 44727 | F14: ARGUS | G14: MN2022a | H14: 1 | J14: 44644 | K14: continuous | L14: 6 | M14: 4.82 | N14: 30 | O14: 81.911314 | P14: 0.142249 | Q14: 6.542727 | R14: 0.01854 | S14: 163.00045 | T14: 0.173987 | U14: 48.192776 | V14: 0.084929 | W14: 1.001038 | X14: 0.009934 | Y14: 6.3067745 | Z14: 0.93511706 | AA14: 0.043458 | AB14: 0.029863653 | AC14: 2.2128518 | AD14: 2.0188659 | AE14: 1.3901317 | AF14: 1.195401 | AG14: 0.25606525 | AH14: 0.21678044 | AI14: =Ar40Raw-Ar40Blank -> 75.60454 | AJ14: =SQRT(Ar40Blankerr^2+Ar40Rawerr^2) -> 0.94587456 | AK14: =Ar39Raw-Ar39Blank -> 6.499269 | AL14: =SQRT(Ar39Blankerr^2+Ar39Rawerr^2) -> 0.035150667 | AM14: =Ar38Raw-Ar38Blank -> 160.7876 | AN14: =SQRT(Ar38Blankerr^2+Ar38Rawerr^2) -> 2.0263492 | AO14: =Ar37Raw-Ar37Blank -> 46.802644 | AP14: =SQRT(Ar37Blankerr^2+Ar37Rawerr^2) -> 1.1984141 | AQ14: =Ar36Raw-Ar36Blank -> 0.74497275 | AR14: =SQRT(Ar36Blankerr^2+Ar36Rawerr^2) -> 0.21700794 | AS14: 300.7 | AT14: 0.28 | AU14: =Ar39BC*(1+(Ar4036_Aircal/Ar4036_Air-1)/4) -> 6.5278614 | AV14: =SQRT(Ar39BCerr^2+(Ar39BC*(Ar4036_Aircal/Ar4036_Air-1)/4)^2*((Ar4036_Aircalerr/Ar4036_Aircal)^2+(Ar39BCerr/Ar39BC)^2+(Ar4036_airerr/Ar4036_Air)^2)) -> 0.03515103 | AW14: =Ar38BC*(1+2*(Ar4036_Aircal/Ar4036_Air-1)/4) -> 162.20232 | AX14: =SQRT(Ar38BCerr^2+(Ar38BC*(Ar4036_Aircal/Ar4036_Air-1)/4)^2*((Ar4036_Aircalerr/Ar4036_Aircal)^2+(Ar38BCerr/Ar38BC)^2+(Ar4036_airerr/Ar4036_Air)^2)) -> 2.026369 | AY14: =Ar37BC*(1+3*(Ar4036_Aircal/Ar4036_Air-1)/4) -> 47.420344 | AZ14: =SQRT(Ar37BCerr^2+(Ar37BC*(Ar4036_Aircal/Ar4036_Air-1)/3)^2*((Ar4036_Aircalerr/Ar4036_Aircal)^2+(Ar37BCerr/Ar37BC)^2+(Ar4036_airerr/Ar4036_Air)^2)) -> 1.1984348 | BA14: =Ar36BC*(1+4*(Ar4036_Aircal/Ar4036_Air-1)/4) -> 0.75808225 | BB14: =SQRT(Ar36BCerr^2+(Ar36BC*(Ar4036_Aircal/Ar4036_Air-1)/4)^2*((Ar4036_Aircalerr/Ar4036_Aircal)^2+(Ar36BCerr/Ar36BC)^2+(Ar4036_airerr/Ar4036_Air)^2)) -> 0.21701004 | BE14: =IF(Rad_Type="Continuous", Ar37_DC*EXP(lambda_37Ar*(Run_Date-Rad_Date)),Ar37_DC*Ar37_DecayFactor) -> 244.23169 | BF14: =IF(Rad_Type="Continuous", (Ar37_DCerr*EXP(lambda_37Ar*(Run_Date-Rad_Date))), Ar37_DCerr*Ar37_DecayFactor) -> 6.1723667 | BG14: =IF(Rad_Type="Continuous", Ar39_DC*EXP(lambda_39Ar*(Run_Date-Rad_Date)), Ar39_DC*Ar39_DecayFactor) -> 6.5316875 | BH14: =IF(Rad_Type="Continuous", (Ar39_DCerr*EXP(lambda_39Ar*(Run_Date-Rad_Date))), Ar39_DCerr*Ar39_DecayFactor) -> 0.035171632 | BI14: =Ar40BC-(Salt_40Ar39Ar_K*Ar39_IC) -> 74.783074 | BJ14: =SQRT(Ar40BCerr^2+(Ar39_ICerr*Salt_40Ar39Ar_K)^2) -> 0.94588594 | BK14: =Ar39_DecayCor-(Salt_39Ar37Ar_Ca*Ar37_DecayCor) -> 6.308492 | BL14: =SQRT(Ar39_DecayCorerr^2+(Ar37_DecayCorerr*Salt_39Ar37Ar_Ca)^2) -> 0.035621083 | BM14: =Ar38_DC-(Salt_38Ar39Ar_K*Ar39_DecayCor) -> 162.10145 | BN14: =SQRT(Ar38_DCerr^2+(Ar39_DecayCorerr*Salt_38Ar39Ar_K)^2) -> 2.0263691 | BO14: =Ar36_DC-(Salt_36Ar37Ar_Ca*Ar37_DecayCor) -> 0.67288712 | BP14: =SQRT(Ar36_DCerr^2+(Ar37_DecayCorerr*Salt_36Ar37Ar_Ca)^2) -> 0.21702072 | BR14: =IF(Rad_Type="Continuous", BO14-((EXP(lambda_36Ar*(Run_Date-Rad_Date))-1)*Cl3638_PR*BT14),BO14*Ar36_DecayFactor) -> 0.64686252 | BS14: =IF(K:K="Continuous", SQRT(BP14^2+(((EXP(lambda_36Ar*(Run_Date-Rad_Date))-1)*Cl3638_PR)*BU14^2)), Ar36_ICerr*Ar36_DecayFactor) -> 0.21707884 | BT14: =IF(Rad_Type="Continuous", BM14-(Ar3836_Air*BO14)/(1-lambda_36Ar*(Run_Date-Rad_Date)),Ar38_IC-(Ar3836_Air*Ar36_IC)/Ar36_DecayFactor) -> 161.97495 | BU14: =IF(Rad_Type ="Continuous", SQRT(BN14^2*(((EXP(lambda_36Ar*(Run_Date-Rad_Date))-1*Ar3836_Air)*BP14^2))),SQRT(Ar38_ICerr^2*(((EXP(lambda_36Ar*(Ar36_DecayFactor))-1*Ar3836_Air)*Ar36_ICerr^2)))) -> 0.39627612 | BV14: =Ar40_IC-(Ar36_ClCor*Ar4036_Air) -> -116.3648 | BW14: =SQRT(Ar40_ICerr^2+(Ar36_ClCorerr*Ar4036_Air)^2) -> 64.153771 | BX14: 1.6986775e-12 | BY14: 9.4454002e-16 | BZ14: =Ar_Sensitivity*Ar36_ClCor -> 1.0988108e-12 | CA14: =Ar36CC*SQRT((Ar36_ClCorerr/Ar36_ClCor)^2+(Ar_sensitivityerr/Ar_Sensitivity)^2) -> 3.6874744e-13 | CB14: =Ar37_DecayCor*Ar_Sensitivity -> 4.1487087e-10 | CC14: =Ar37CC*SQRT((Ar37_DecayCorerr/Ar37_DecayCor)^2+(Ar_sensitivityerr/Ar_Sensitivity)^2) -> 1.0487398e-11 | CD14: =Ar_Sensitivity*Ar38_Cl -> 2.751432e-10 | CE14: =Ar38CC*SQRT((Ar38_Clerr/Ar38_Cl)^2+(Ar_sensitivityerr/Ar_Sensitivity)^2) -> 6.9031233e-13 | CF14: =Ar_Sensitivity*Ar39_IC -> 1.0716093e-11 | CG14: =Ar39CC*SQRT((Ar39_ICerr/Ar39_IC)^2+(Ar_sensitivityerr/Ar_Sensitivity)^2) -> 6.0801412e-14 | CH14: =Ar_Sensitivity*Ar40_IC -> 1.2703232e-10 | CI14: =Ar40CC*SQRT((Ar40_ICerr/Ar40_IC)^2+(Ar_sensitivityerr/Ar_Sensitivity)^2) -> 1.608307e-12 | CJ14: =Ar38CC/MV -> 1.2275527e-14 | CK14: =Ar38_mole*SQRT((Ar38CCerr/Ar38CC)^2+(MVerr/MV)^2) -> 3.0798319e-17 | CL14: =Ar40CC/MV -> 5.6675533e-15 | CM14: =Ar40_mole*SQRT((Ar40CCerrr/Ar40CC)^2+(MVerr/MV)^2) -> 7.1754696e-17 | CN14: 0.005134083 | CO14: 8.40144e-06 | CP14: 1.1139739e+19 | CQ14: 1.0453257e+18 | CR14: 8.0438365e+17 | CS14: 8.5271401e+16 | CT14: 0.49881143 | CU14: 0.045926073 | CV14: 24.58188 | CW14: 0.55629982 | CX14: =K_constant*Ar39CC/J -> 7.6745718e-09 | CY14: =K_mole*SQRT((Ar39ccerr/Ar39CC)^2+(Jerr/J)^2+(K_Constanterr/K_constant)^2) -> 8.352946e-11 | CZ14: =K_mole*MW_K/Sample_Mass*10^6 -> 32.973924 | DA14: =K_ppm*SQRT((Sample_Masserr/Sample_Mass)^2+(MW_Kerr/MW_K)^2+(K_moleerr/K_mole)^2) -> 0.39494422 | DB14: =K_ppm/10^4 -> 0.0032973924 | DC14: =K_ppmerr/10^4 -> 3.9494422e-05 | DD14: =Cl_Constant*Ar38CC/(J*Beta) -> 8.8402846e-09 | DE14: =Cl_mole*SQRT((Ar38CCerr/Ar38CC)^2+(Jerr/J)^2+(Betaerr/Beta)^2+(Cl_Constanterr/Cl_Constant)^2) -> 2.1738848e-10 | DF14: =Cl_mole*MW_Cl/Sample_Mass*10^6 -> 34.441166 | DG14: =Cl_ppm*SQRT((Sample_Masserr/Sample_Mass)^2+(MW_Clerr/MW_Cl)^2+(Cl_moleerr/Cl_mole)^2) -> 0.86426115 | DH14: =Cl_ppm/10^4 -> 0.0034441166 | DI14: =Cl_ppmerr/10^4 -> 8.6426115e-05 | DJ14: =Ca_Constant*Ar37CC/(J*alpha) -> 5.8106455e-07 | DK14: =Ca_mole*SQRT((Ar37CCerr/Ar37CC)^2+(Jerr/J)^2+(alphaerr/alpha)^2+(Ca_Constanterr/Ca_Constant)^2) -> 5.5740906e-08 | DL14: =Ca_mole*MW_Ca/Sample_Mass*10^6 -> 2559.2381 | DM14: =Ca_ppm*SQRT((Sample_Masserr/Sample_Mass)^2+(MW_Caerr/MW_Ca)^2+(Ca_moleerr/Ca_mole)^2) -> 245.83839 | DN14: =Ca_ppm/10^4 -> 0.25592381 | DO14: =Ca_ppmerr/10^4 -> 0.024583839 | DP14: =K_mole/Cl_mole -> 0.86813628 | DQ14: =KCl_mol*SQRT(K_moleerr/K_mole)^2+(Cl_moleerr/Cl_mole)^2 -> 0.010053431 | DR14: =K_mole/Ca_mole -> 0.013207779 | DS14: =KCa_mol*SQRT(K_moleerr/K_mole)^2+(Ca_moleerr/Ca_mole)^2 -> 0.0093461139 | DT14: =K_ppm/Cl_ppm -> 0.95739861 | DU14: =KCl_wt*SQRT(K_ppmerr/K_ppm)^2+(Cl_ppmerr/Cl_ppm)^2 -> 0.012096915 | DV14: =K_ppm/Ca_ppm -> 0.012884274 | DW14: =KCa_wt*SQRT(K_ppmerr/K_ppm)^2+(Ca_ppmerr/Ca_ppm)^2 -> 0.0093816924 | DX14: =Ar40_mole/Cl_mole -> 6.411053e-07 | DY14: =Ar40Cl_mol*SQRT((Ar40_moleerr/Ar40_mole)^2+(Cl_moleerr/Cl_mole)^2) -> 1.7732003e-08 | DZ14: =Ar40AC/Ar39_IC -> -18.44574 | EA14: =Ar40Ar39*SQRT((Ar40ACerr/Ar40AC)^2+(Ar39_ICerr/Ar39_IC)^2) -> -10.169964 | EB14: =(Ar40CC/MV)/K_mole -> 7.3848462e-07 | EC14: =Ar40K*SQRT((Ar40CCerrr/Ar40CC)^2+(K_moleerr/K_mole)^2+(MVerr/MV)^2) -> 1.2329618e-08 | ED14: =IF(Ar40Ar39>0,(1/lambda/10^6)*LN(1+(J*Ar40Ar39)),"") | EE14: =IF(Age="","",SQRT((J^2*Ar40Ar39^2*((Ar40Ar39err/Ar40Ar39*100)^2))/(Age^2*0.00055305^2*((1+Ar40Ar39*J)^2)))*Age/100) | EF14: =IF(Age="","",SQRT((J^2*Ar40Ar39^2*((Ar40Ar39err/Ar40Ar39*100)^2+(Jerr/J*100)^2))/(Age^2*0.00055305^2*((1+Ar40Ar39*J)^2)))*Age/100) | EG14: =IF(Ar40Ar39>0,(1/lambda/10^6)*LN(1+(J*Ar40Ar39)),"") | EH14: =IF(Age="","",SQRT((J^2*Ar40Ar39^2*((Ar40Ar39err/Ar40Ar39*100)^2))/(Age^2*0.00055305^2*((1+Ar40Ar39*J)^2)))*Age/100) | EI14: =IF(Age="","",SQRT((J^2*Ar40Ar39^2*((Ar40Ar39err/Ar40Ar39*100)^2+(Jerr/J*100)^2))/(Age^2*0.00055305^2*((1+Ar40Ar39*J)^2)))*Age/100) | EJ14: =CF14/$CF$19 -> 0.054013375 | EK14: =EG14 | EL14: =EH14 | EM14: =Ar39_IC/Ar36_ClCor -> 9.7524462 | EN14: =EM14*SQRT((Ar40_ICerr/Ar40_IC)^2+(Ar36_ClCorerr/Ar36_ClCor)^2) -> 3.2751208 | EO14: =Ar40_IC/Ar36_ClCor -> 115.60891 | EP14: =EO14*SQRT((Ar40_ICerr/Ar40_IC)^2+(Ar36_ClCorerr/Ar36_ClCor)^2) -> 38.824429 | EQ14: =Ar39_IC/Ar40_IC -> 0.084357216 | ER14: =EQ14*SQRT((Ar40_ICerr/Ar40_IC)^2+(Ar39_ICerr/Ar39_IC)^2) -> 0.0011684775 | ES14: =Ar36_ClCor/Ar40_IC -> 0.008649852 | ET14: =ES14*SQRT((Ar40_ICerr/Ar40_IC)^2+(Ar36_ClCorerr/Ar36_ClCor)^2) -> 0.0029048414 | LQ14: =Name -> B1x Bulk | LR14: =Irradiation -> MN2022a | LS14: =IF(ISNUMBER(K_ppm), K_ppm, "") -> 32.973924 | LT14: =IF(ISNUMBER(K_ppmerr), K_ppmerr, "") -> 0.39494422 | LU14: =Cl_ppm -> 34.441166 | LV14: =Cl_ppmerr -> 0.86426115 | LW14: =Ca_ppm -> 2559.2381 | LX14: =Ca_ppmerr -> 245.83839 | MO14: =DT14 -> 0.95739861 | MP14: =DU14 -> 0.012096915 | MW14: =DP14 -> 0.86813628 | MX14: =DQ14 -> 0.010053431
B15: B1x Bulk | C15: =9.1/1000 -> 0.0091 | D15: =C15*0.5% -> 4.55e-05 | E15: 44727 | F15: ARGUS | G15: MN2022a | H15: 1 | J15: 44644 | K15: continuous | L15: 8 | M15: 6.06 | N15: 30 | O15: 77.358594 | P15: 0.212872 | Q15: 3.752918 | R15: 0.017771 | S15: 93.890252 | T15: 0.086979 | U15: 50.019479 | V15: 0.116935 | W15: 0.789331 | X15: 0.00707 | Y15: 6.3067745 | Z15: 0.93511706 | AA15: 0.043458 | AB15: 0.029863653 | AC15: 2.2128518 | AD15: 2.0188659 | AE15: 1.3901317 | AF15: 1.195401 | AG15: 0.25606525 | AH15: 0.21678044 | AI15: =Ar40Raw-Ar40Blank -> 71.051819 | AJ15: =SQRT(Ar40Blankerr^2+Ar40Rawerr^2) -> 0.95904035 | AK15: =Ar39Raw-Ar39Blank -> 3.70946 | AL15: =SQRT(Ar39Blankerr^2+Ar39Rawerr^2) -> 0.034751204 | AM15: =Ar38Raw-Ar38Blank -> 91.6774 | AN15: =SQRT(Ar38Blankerr^2+Ar38Rawerr^2) -> 2.0207387 | AO15: =Ar37Raw-Ar37Blank -> 48.629347 | AP15: =SQRT(Ar37Blankerr^2+Ar37Rawerr^2) -> 1.2011067 | AQ15: =Ar36Raw-Ar36Blank -> 0.53326575 | AR15: =SQRT(Ar36Blankerr^2+Ar36Rawerr^2) -> 0.2168957 | AS15: 300.7 | AT15: 0.28 | AU15: =Ar39BC*(1+(Ar4036_Aircal/Ar4036_Air-1)/4) -> 3.7257791 | AV15: =SQRT(Ar39BCerr^2+(Ar39BC*(Ar4036_Aircal/Ar4036_Air-1)/4)^2*((Ar4036_Aircalerr/Ar4036_Aircal)^2+(Ar39BCerr/Ar39BC)^2+(Ar4036_airerr/Ar4036_Air)^2)) -> 0.034751548 | AW15: =Ar38BC*(1+2*(Ar4036_Aircal/Ar4036_Air-1)/4) -> 92.484037 | AX15: =SQRT(Ar38BCerr^2+(Ar38BC*(Ar4036_Aircal/Ar4036_Air-1)/4)^2*((Ar4036_Aircalerr/Ar4036_Aircal)^2+(Ar38BCerr/Ar38BC)^2+(Ar4036_airerr/Ar4036_Air)^2)) -> 2.0207583 | AY15: =Ar37BC*(1+3*(Ar4036_Aircal/Ar4036_Air-1)/4) -> 49.271156 | AZ15: =SQRT(Ar37BCerr^2+(Ar37BC*(Ar4036_Aircal/Ar4036_Air-1)/3)^2*((Ar4036_Aircalerr/Ar4036_Aircal)^2+(Ar37BCerr/Ar37BC)^2+(Ar4036_airerr/Ar4036_Air)^2)) -> 1.2011274 | BA15: =Ar36BC*(1+4*(Ar4036_Aircal/Ar4036_Air-1)/4) -> 0.54264978 | BB15: =SQRT(Ar36BCerr^2+(Ar36BC*(Ar4036_Aircal/Ar4036_Air-1)/4)^2*((Ar4036_Aircalerr/Ar4036_Aircal)^2+(Ar36BCerr/Ar36BC)^2+(Ar4036_airerr/Ar4036_Air)^2)) -> 0.2168978 | BE15: =IF(Rad_Type="Continuous", Ar37_DC*EXP(lambda_37Ar*(Run_Date-Rad_Date)),Ar37_DC*Ar37_DecayFactor) -> 253.76403 | BF15: =IF(Rad_Type="Continuous", (Ar37_DCerr*EXP(lambda_37Ar*(Run_Date-Rad_Date))), Ar37_DCerr*Ar37_DecayFactor) -> 6.1862347 | BG15: =IF(Rad_Type="Continuous", Ar39_DC*EXP(lambda_39Ar*(Run_Date-Rad_Date)), Ar39_DC*Ar39_DecayFactor) -> 3.7279629 | BH15: =IF(Rad_Type="Continuous", (Ar39_DCerr*EXP(lambda_39Ar*(Run_Date-Rad_Date))), Ar39_DCerr*Ar39_DecayFactor) -> 0.034771917 | BI15: =Ar40BC-(Salt_40Ar39Ar_K*Ar39_IC) -> 70.596578 | BJ15: =SQRT(Ar40BCerr^2+(Ar39_ICerr*Salt_40Ar39Ar_K)^2) -> 0.95905133 | BK15: =Ar39_DecayCor-(Salt_39Ar37Ar_Ca*Ar37_DecayCor) -> 3.496056 | BL15: =SQRT(Ar39_DecayCorerr^2+(Ar37_DecayCorerr*Salt_39Ar37Ar_Ca)^2) -> 0.035228499 | BM15: =Ar38_DC-(Salt_38Ar39Ar_K*Ar39_DecayCor) -> 92.42647 | BN15: =SQRT(Ar38_DCerr^2+(Ar39_DecayCorerr*Salt_38Ar39Ar_K)^2) -> 2.0207584 | BO15: =Ar36_DC-(Salt_36Ar37Ar_Ca*Ar37_DecayCor) -> 0.45412949 | BP15: =SQRT(Ar36_DCerr^2+(Ar37_DecayCorerr*Salt_36Ar37Ar_Ca)^2) -> 0.21690854 | BR15: =IF(Rad_Type="Continuous", BO15-((EXP(lambda_36Ar*(Run_Date-Rad_Date))-1)*Cl3638_PR*BT15),BO15*Ar36_DecayFactor) -> 0.439293 | BS15: =IF(K:K="Continuous", SQRT(BP15^2+(((EXP(lambda_36Ar*(Run_Date-Rad_Date))-1)*Cl3638_PR)*BU15^2)), Ar36_ICerr*Ar36_DecayFactor) -> 0.21696631 | BT15: =IF(Rad_Type="Continuous", BM15-(Ar3836_Air*BO15)/(1-lambda_36Ar*(Run_Date-Rad_Date)),Ar38_IC-(Ar3836_Air*Ar36_IC)/Ar36_DecayFactor) -> 92.341093 | BU15: =IF(Rad_Type ="Continuous", SQRT(BN15^2*(((EXP(lambda_36Ar*(Run_Date-Rad_Date))-1*Ar3836_Air)*BP15^2))),SQRT(Ar38_ICerr^2*(((EXP(lambda_36Ar*(Ar36_DecayFactor))-1*Ar3836_Air)*Ar36_ICerr^2)))) -> 0.39497461 | BV15: =Ar40_IC-(Ar36_ClCor*Ar4036_Air) -> -59.214504 | BW15: =SQRT(Ar40_ICerr^2+(Ar36_ClCorerr*Ar4036_Air)^2) -> 64.120716 | BX15: 1.6986775e-12 | BY15: 9.4454002e-16 | BZ15: =Ar_Sensitivity*Ar36_ClCor -> 7.4621713e-13 | CA15: =Ar36CC*SQRT((Ar36_ClCorerr/Ar36_ClCor)^2+(Ar_sensitivityerr/Ar_Sensitivity)^2) -> 3.6855601e-13 | CB15: =Ar37_DecayCor*Ar_Sensitivity -> 4.3106324e-10 | CC15: =Ar37CC*SQRT((Ar37_DecayCorerr/Ar37_DecayCor)^2+(Ar_sensitivityerr/Ar_Sensitivity)^2) -> 1.0511151e-11 | CD15: =Ar_Sensitivity*Ar38_Cl -> 1.5685774e-10 | CE15: =Ar38CC*SQRT((Ar38_Clerr/Ar38_Cl)^2+(Ar_sensitivityerr/Ar_Sensitivity)^2) -> 6.7657991e-13 | CF15: =Ar_Sensitivity*Ar39_IC -> 5.9386717e-12 | CG15: =Ar39CC*SQRT((Ar39_ICerr/Ar39_IC)^2+(Ar_sensitivityerr/Ar_Sensitivity)^2) -> 5.9932898e-14 | CH15: =Ar_Sensitivity*Ar40_IC -> 1.1992082e-10 | CI15: =Ar40CC*SQRT((Ar40_ICerr/Ar40_IC)^2+(Ar_sensitivityerr/Ar_Sensitivity)^2) -> 1.630483e-12 | CJ15: =Ar38CC/MV -> 6.9982155e-15 | CK15: =Ar38_mole*SQRT((Ar38CCerr/Ar38CC)^2+(MVerr/MV)^2) -> 3.0185646e-17 | CL15: =Ar40CC/MV -> 5.350273e-15 | CM15: =Ar40_mole*SQRT((Ar40CCerrr/Ar40CC)^2+(MVerr/MV)^2) -> 7.2744077e-17 | CN15: 0.005134083 | CO15: 8.40144e-06 | CP15: 1.1139739e+19 | CQ15: 1.0453257e+18 | CR15: 8.0438365e+17 | CS15: 8.5271401e+16 | CT15: 0.49881143 | CU15: 0.045926073 | CV15: 24.58188 | CW15: 0.55629982 | CX15: =K_constant*Ar39CC/J -> 4.2531136e-09 | CY15: =K_mole*SQRT((Ar39ccerr/Ar39CC)^2+(Jerr/J)^2+(K_Constanterr/K_constant)^2) -> 5.8333621e-11 | CZ15: =K_mole*MW_K/Sample_Mass*10^6 -> 18.273573 | DA15: =K_ppm*SQRT((Sample_Masserr/Sample_Mass)^2+(MW_Kerr/MW_K)^2+(K_moleerr/K_mole)^2) -> 0.26676613 | DB15: =K_ppm/10^4 -> 0.0018273573 | DC15: =K_ppmerr/10^4 -> 2.6676613e-05 | DD15: =Cl_Constant*Ar38CC/(J*Beta) -> 5.0398012e-09 | DE15: =Cl_mole*SQRT((Ar38CCerr/Ar38CC)^2+(Jerr/J)^2+(Betaerr/Beta)^2+(Cl_Constanterr/Cl_Constant)^2) -> 1.2518718e-10 | DF15: =Cl_mole*MW_Cl/Sample_Mass*10^6 -> 19.634733 | DG15: =Cl_ppm*SQRT((Sample_Masserr/Sample_Mass)^2+(MW_Clerr/MW_Cl)^2+(Cl_moleerr/Cl_mole)^2) -> 0.49750363 | DH15: =Cl_ppm/10^4 -> 0.0019634733 | DI15: =Cl_ppmerr/10^4 -> 4.9750363e-05 | DJ15: =Ca_Constant*Ar37CC/(J*alpha) -> 6.0374344e-07 | DK15: =Ca_mole*SQRT((Ar37CCerr/Ar37CC)^2+(Jerr/J)^2+(alphaerr/alpha)^2+(Ca_Constanterr/Ca_Constant)^2) -> 5.7776512e-08 | DL15: =Ca_mole*MW_Ca/Sample_Mass*10^6 -> 2659.125 | DM15: =Ca_ppm*SQRT((Sample_Masserr/Sample_Mass)^2+(MW_Caerr/MW_Ca)^2+(Ca_moleerr/Ca_mole)^2) -> 254.81785 | DN15: =Ca_ppm/10^4 -> 0.2659125 | DO15: =Ca_ppmerr/10^4 -> 0.025481785 | DP15: =K_mole/Cl_mole -> 0.84390504 | DQ15: =KCl_mol*SQRT(K_moleerr/K_mole)^2+(Cl_moleerr/Cl_mole)^2 -> 0.012191599 | DR15: =K_mole/Ca_mole -> 0.0070445711 | DS15: =KCa_mol*SQRT(K_moleerr/K_mole)^2+(Ca_moleerr/Ca_mole)^2 -> 0.0092545598 | DT15: =K_ppm/Cl_ppm -> 0.93067589 | DU15: =KCl_wt*SQRT(K_ppmerr/K_ppm)^2+(Cl_ppmerr/Cl_ppm)^2 -> 0.014228451 | DV15: =K_ppm/Ca_ppm -> 0.0068720248 | DW15: =KCa_wt*SQRT(K_ppmerr/K_ppm)^2+(Ca_ppmerr/Ca_ppm)^2 -> 0.0092832709 | DX15: =Ar40_mole/Cl_mole -> 1.061604e-06 | DY15: =Ar40Cl_mol*SQRT((Ar40_moleerr/Ar40_mole)^2+(Cl_moleerr/Cl_mole)^2) -> 3.0061791e-08 | DZ15: =Ar40AC/Ar39_IC -> -16.937516 | EA15: =Ar40Ar39*SQRT((Ar40ACerr/Ar40AC)^2+(Ar39_ICerr/Ar39_IC)^2) -> -18.341666 | EB15: =(Ar40CC/MV)/K_mole -> 1.2579662e-06 | EC15: =Ar40K*SQRT((Ar40CCerrr/Ar40CC)^2+(K_moleerr/K_mole)^2+(MVerr/MV)^2) -> 2.4294561e-08 | ED15: =IF(Ar40Ar39>0,(1/lambda/10^6)*LN(1+(J*Ar40Ar39)),"") | EE15: =IF(Age="","",SQRT((J^2*Ar40Ar39^2*((Ar40Ar39err/Ar40Ar39*100)^2))/(Age^2*0.00055305^2*((1+Ar40Ar39*J)^2)))*Age/100) | EF15: =IF(Age="","",SQRT((J^2*Ar40Ar39^2*((Ar40Ar39err/Ar40Ar39*100)^2+(Jerr/J*100)^2))/(Age^2*0.00055305^2*((1+Ar40Ar39*J)^2)))*Age/100) | EG15: =IF(Ar40Ar39>0,(1/lambda/10^6)*LN(1+(J*Ar40Ar39)),"") | EH15: =IF(Age="","",SQRT((J^2*Ar40Ar39^2*((Ar40Ar39err/Ar40Ar39*100)^2))/(Age^2*0.00055305^2*((1+Ar40Ar39*J)^2)))*Age/100) | EI15: =IF(Age="","",SQRT((J^2*Ar40Ar39^2*((Ar40Ar39err/Ar40Ar39*100)^2+(Jerr/J*100)^2))/(Age^2*0.00055305^2*((1+Ar40Ar39*J)^2)))*Age/100) | EJ15: =CF15/$CF$19 -> 0.029933269 | EK15: =EG15 | EL15: =EH15 | EM15: =Ar39_IC/Ar36_ClCor -> 7.9583695 | EN15: =EM15*SQRT((Ar40_ICerr/Ar40_IC)^2+(Ar36_ClCorerr/Ar36_ClCor)^2) -> 3.9321161 | EO15: =Ar40_IC/Ar36_ClCor -> 160.70499 | EP15: =EO15*SQRT((Ar40_ICerr/Ar40_IC)^2+(Ar36_ClCorerr/Ar36_ClCor)^2) -> 79.402028 | EQ15: =Ar39_IC/Ar40_IC -> 0.049521608 | ER15: =EQ15*SQRT((Ar40_ICerr/Ar40_IC)^2+(Ar39_ICerr/Ar39_IC)^2) -> 0.00083761767 | ES15: =Ar36_ClCor/Ar40_IC -> 0.0062225821 | ET15: =ES15*SQRT((Ar40_ICerr/Ar40_IC)^2+(Ar36_ClCorerr/Ar36_ClCor)^2) -> 0.0030744885 | LQ15: =Name -> B1x Bulk | LR15: =Irradiation -> MN2022a | LS15: =IF(ISNUMBER(K_ppm), K_ppm, "") -> 18.273573 | LT15: =IF(ISNUMBER(K_ppmerr), K_ppmerr, "") -> 0.26676613 | LU15: =Cl_ppm -> 19.634733 | LV15: =Cl_ppmerr -> 0.49750363 | LW15: =Ca_ppm -> 2659.125 | LX15: =Ca_ppmerr -> 254.81785 | MO15: =DT15 -> 0.93067589 | MP15: =DU15 -> 0.014228451 | MW15: =DP15 -> 0.84390504 | MX15: =DQ15 -> 0.012191599
B16: B1x Bulk | C16: =9.1/1000 -> 0.0091 | D16: =C16*0.5% -> 4.55e-05 | E16: 44727 | F16: ARGUS | G16: MN2022a | H16: 1 | J16: 44644 | K16: continuous | L16: 10 | M16: 7.41 | N16: 30 | O16: 54.285454 | P16: 0.108424 | Q16: 2.424879 | R16: 0.013322 | S16: 77.091928 | T16: 0.093267 | U16: 90.832131 | V16: 0.198789 | W16: 0.730629 | X16: 0.00461 | Y16: 6.3067745 | Z16: 0.93511706 | AA16: 0.043458 | AB16: 0.029863653 | AC16: 2.2128518 | AD16: 2.0188659 | AE16: 1.3901317 | AF16: 1.195401 | AG16: 0.25606525 | AH16: 0.21678044 | AI16: =Ar40Raw-Ar40Blank -> 47.978679 | AJ16: =SQRT(Ar40Blankerr^2+Ar40Rawerr^2) -> 0.94138179 | AK16: =Ar39Raw-Ar39Blank -> 2.381421 | AL16: =SQRT(Ar39Blankerr^2+Ar39Rawerr^2) -> 0.032700359 | AM16: =Ar38Raw-Ar38Blank -> 74.879076 | AN16: =SQRT(Ar38Blankerr^2+Ar38Rawerr^2) -> 2.0210191 | AO16: =Ar37Raw-Ar37Blank -> 89.441999 | AP16: =SQRT(Ar37Blankerr^2+Ar37Rawerr^2) -> 1.211817 | AQ16: =Ar36Raw-Ar36Blank -> 0.47456375 | AR16: =SQRT(Ar36Blankerr^2+Ar36Rawerr^2) -> 0.21682946 | AS16: 300.7 | AT16: 0.28 | AU16: =Ar39BC*(1+(Ar4036_Aircal/Ar4036_Air-1)/4) -> 2.3918976 | AV16: =SQRT(Ar39BCerr^2+(Ar39BC*(Ar4036_Aircal/Ar4036_Air-1)/4)^2*((Ar4036_Aircalerr/Ar4036_Aircal)^2+(Ar39BCerr/Ar39BC)^2+(Ar4036_airerr/Ar4036_Air)^2)) -> 0.032700678 | AW16: =Ar38BC*(1+2*(Ar4036_Aircal/Ar4036_Air-1)/4) -> 75.537911 | AX16: =SQRT(Ar38BCerr^2+(Ar38BC*(Ar4036_Aircal/Ar4036_Air-1)/4)^2*((Ar4036_Aircalerr/Ar4036_Aircal)^2+(Ar38BCerr/Ar38BC)^2+(Ar4036_airerr/Ar4036_Air)^2)) -> 2.0210387 | AY16: =Ar37BC*(1+3*(Ar4036_Aircal/Ar4036_Air-1)/4) -> 90.622452 | AZ16: =SQRT(Ar37BCerr^2+(Ar37BC*(Ar4036_Aircal/Ar4036_Air-1)/3)^2*((Ar4036_Aircalerr/Ar4036_Aircal)^2+(Ar37BCerr/Ar37BC)^2+(Ar4036_airerr/Ar4036_Air)^2)) -> 1.2118381 | BA16: =Ar36BC*(1+4*(Ar4036_Aircal/Ar4036_Air-1)/4) -> 0.48291479 | BB16: =SQRT(Ar36BCerr^2+(Ar36BC*(Ar4036_Aircal/Ar4036_Air-1)/4)^2*((Ar4036_Aircalerr/Ar4036_Aircal)^2+(Ar36BCerr/Ar36BC)^2+(Ar4036_airerr/Ar4036_Air)^2)) -> 0.21683155 | BE16: =IF(Rad_Type="Continuous", Ar37_DC*EXP(lambda_37Ar*(Run_Date-Rad_Date)),Ar37_DC*Ar37_DecayFactor) -> 466.73796 | BF16: =IF(Rad_Type="Continuous", (Ar37_DCerr*EXP(lambda_37Ar*(Run_Date-Rad_Date))), Ar37_DCerr*Ar37_DecayFactor) -> 6.2413986 | BG16: =IF(Rad_Type="Continuous", Ar39_DC*EXP(lambda_39Ar*(Run_Date-Rad_Date)), Ar39_DC*Ar39_DecayFactor) -> 2.3932996 | BH16: =IF(Rad_Type="Continuous", (Ar39_DCerr*EXP(lambda_39Ar*(Run_Date-Rad_Date))), Ar39_DCerr*Ar39_DecayFactor) -> 0.032719845 | BI16: =Ar40BC-(Salt_40Ar39Ar_K*Ar39_IC) -> 47.722576 | BJ16: =SQRT(Ar40BCerr^2+(Ar39_ICerr*Salt_40Ar39Ar_K)^2) -> 0.94139173 | BK16: =Ar39_DecayCor-(Salt_39Ar37Ar_Ca*Ar37_DecayCor) -> 1.9667627 | BL16: =SQRT(Ar39_DecayCorerr^2+(Ar37_DecayCorerr*Salt_39Ar37Ar_Ca)^2) -> 0.033213277 | BM16: =Ar38_DC-(Salt_38Ar39Ar_K*Ar39_DecayCor) -> 75.500953 | BN16: =SQRT(Ar38_DCerr^2+(Ar39_DecayCorerr*Salt_38Ar39Ar_K)^2) -> 2.0210388 | BO16: =Ar36_DC-(Salt_36Ar37Ar_Ca*Ar37_DecayCor) -> 0.32010298 | BP16: =SQRT(Ar36_DCerr^2+(Ar37_DecayCorerr*Salt_36Ar37Ar_Ca)^2) -> 0.21684248 | BR16: =IF(Rad_Type="Continuous", BO16-((EXP(lambda_36Ar*(Run_Date-Rad_Date))-1)*Cl3638_PR*BT16),BO16*Ar36_DecayFactor) -> 0.30798188 | BS16: =IF(K:K="Continuous", SQRT(BP16^2+(((EXP(lambda_36Ar*(Run_Date-Rad_Date))-1)*Cl3638_PR)*BU16^2)), Ar36_ICerr*Ar36_DecayFactor) -> 0.21690025 | BT16: =IF(Rad_Type="Continuous", BM16-(Ar3836_Air*BO16)/(1-lambda_36Ar*(Run_Date-Rad_Date)),Ar38_IC-(Ar3836_Air*Ar36_IC)/Ar36_DecayFactor) -> 75.440774 | BU16: =IF(Rad_Type ="Continuous", SQRT(BN16^2*(((EXP(lambda_36Ar*(Run_Date-Rad_Date))-1*Ar3836_Air)*BP16^2))),SQRT(Ar38_ICerr^2*(((EXP(lambda_36Ar*(Ar36_DecayFactor))-1*Ar3836_Air)*Ar36_ICerr^2)))) -> 0.39490913 | BV16: =Ar40_IC-(Ar36_ClCor*Ar4036_Air) -> -43.286068 | BW16: =SQRT(Ar40_ICerr^2+(Ar36_ClCorerr*Ar4036_Air)^2) -> 64.100938 | BX16: 1.6986775e-12 | BY16: 9.4454002e-16 | BZ16: =Ar_Sensitivity*Ar36_ClCor -> 5.2316188e-13 | CA16: =Ar36CC*SQRT((Ar36_ClCorerr/Ar36_ClCor)^2+(Ar_sensitivityerr/Ar_Sensitivity)^2) -> 3.6844369e-13 | CB16: =Ar37_DecayCor*Ar_Sensitivity -> 7.9283725e-10 | CC16: =Ar37CC*SQRT((Ar37_DecayCorerr/Ar37_DecayCor)^2+(Ar_sensitivityerr/Ar_Sensitivity)^2) -> 1.0611285e-11 | CD16: =Ar_Sensitivity*Ar38_Cl -> 1.2814954e-10 | CE16: =Ar38CC*SQRT((Ar38_Clerr/Ar38_Cl)^2+(Ar_sensitivityerr/Ar_Sensitivity)^2) -> 6.7459718e-13 | CF16: =Ar_Sensitivity*Ar39_IC -> 3.3408955e-12 | CG16: =Ar39CC*SQRT((Ar39_ICerr/Ar39_IC)^2+(Ar_sensitivityerr/Ar_Sensitivity)^2) -> 5.644922e-14 | CH16: =Ar_Sensitivity*Ar40_IC -> 8.1065265e-11 | CI16: =Ar40CC*SQRT((Ar40_ICerr/Ar40_IC)^2+(Ar_sensitivityerr/Ar_Sensitivity)^2) -> 1.5997561e-12 | CJ16: =Ar38CC/MV -> 5.7173981e-15 | CK16: =Ar38_mole*SQRT((Ar38CCerr/Ar38CC)^2+(MVerr/MV)^2) -> 3.0097186e-17 | CL16: =Ar40CC/MV -> 3.6167307e-15 | CM16: =Ar40_mole*SQRT((Ar40CCerrr/Ar40CC)^2+(MVerr/MV)^2) -> 7.1373196e-17 | CN16: 0.005134083 | CO16: 8.40144e-06 | CP16: 1.1139739e+19 | CQ16: 1.0453257e+18 | CR16: 8.0438365e+17 | CS16: 8.5271401e+16 | CT16: 0.49881143 | CU16: 0.045926073 | CV16: 24.58188 | CW16: 0.55629982 | CX16: =K_constant*Ar39CC/J -> 2.3926577e-09 | CY16: =K_mole*SQRT((Ar39ccerr/Ar39CC)^2+(Jerr/J)^2+(K_Constanterr/K_constant)^2) -> 4.6132824e-11 | CZ16: =K_mole*MW_K/Sample_Mass*10^6 -> 10.280093 | DA16: =K_ppm*SQRT((Sample_Masserr/Sample_Mass)^2+(MW_Kerr/MW_K)^2+(K_moleerr/K_mole)^2) -> 0.20476666 | DB16: =K_ppm/10^4 -> 0.0010280093 | DC16: =K_ppmerr/10^4 -> 2.0476666e-05 | DD16: =Cl_Constant*Ar38CC/(J*Beta) -> 4.1174139e-09 | DE16: =Cl_mole*SQRT((Ar38CCerr/Ar38CC)^2+(Jerr/J)^2+(Betaerr/Beta)^2+(Cl_Constanterr/Cl_Constant)^2) -> 1.0302732e-10 | DF16: =Cl_mole*MW_Cl/Sample_Mass*10^6 -> 16.041173 | DG16: =Cl_ppm*SQRT((Sample_Masserr/Sample_Mass)^2+(MW_Clerr/MW_Cl)^2+(Cl_moleerr/Cl_mole)^2) -> 0.40932263 | DH16: =Cl_ppm/10^4 -> 0.0016041173 | DI16: =Cl_ppmerr/10^4 -> 4.0932263e-05 | DJ16: =Ca_Constant*Ar37CC/(J*alpha) -> 1.110441e-06 | DK16: =Ca_mole*SQRT((Ar37CCerr/Ar37CC)^2+(Jerr/J)^2+(alphaerr/alpha)^2+(Ca_Constanterr/Ca_Constant)^2) -> 1.0382759e-07 | DL16: =Ca_mole*MW_Ca/Sample_Mass*10^6 -> 4890.8214 | DM16: =Ca_ppm*SQRT((Sample_Masserr/Sample_Mass)^2+(MW_Caerr/MW_Ca)^2+(Ca_moleerr/Ca_mole)^2) -> 457.95141 | DN16: =Ca_ppm/10^4 -> 0.48908214 | DO16: =Ca_ppmerr/10^4 -> 0.045795141 | DP16: =K_mole/Cl_mole -> 0.58110691 | DQ16: =KCl_mol*SQRT(K_moleerr/K_mole)^2+(Cl_moleerr/Cl_mole)^2 -> 0.011830437 | DR16: =K_mole/Ca_mole -> 0.0021546914 | DS16: =KCa_mol*SQRT(K_moleerr/K_mole)^2+(Ca_moleerr/Ca_mole)^2 -> 0.008784023 | DT16: =K_ppm/Cl_ppm -> 0.64085669 | DU16: =KCl_wt*SQRT(K_ppmerr/K_ppm)^2+(Cl_ppmerr/Cl_ppm)^2 -> 0.013416185 | DV16: =K_ppm/Ca_ppm -> 0.0021019154 | DW16: =KCa_wt*SQRT(K_ppmerr/K_ppm)^2+(Ca_ppmerr/Ca_ppm)^2 -> 0.0088093559 | DX16: =Ar40_mole/Cl_mole -> 8.7839863e-07 | DY16: =Ar40Cl_mol*SQRT((Ar40_moleerr/Ar40_mole)^2+(Cl_moleerr/Cl_mole)^2) -> 2.7992608e-08 | DZ16: =Ar40AC/Ar39_IC -> -22.00879 | EA16: =Ar40Ar39*SQRT((Ar40ACerr/Ar40AC)^2+(Ar39_ICerr/Ar39_IC)^2) -> -32.594225 | EB16: =(Ar40CC/MV)/K_mole -> 1.5115956e-06 | EC16: =Ar40K*SQRT((Ar40CCerrr/Ar40CC)^2+(K_moleerr/K_mole)^2+(MVerr/MV)^2) -> 4.1704548e-08 | ED16: =IF(Ar40Ar39>0,(1/lambda/10^6)*LN(1+(J*Ar40Ar39)),"") | EE16: =IF(Age="","",SQRT((J^2*Ar40Ar39^2*((Ar40Ar39err/Ar40Ar39*100)^2))/(Age^2*0.00055305^2*((1+Ar40Ar39*J)^2)))*Age/100) | EF16: =IF(Age="","",SQRT((J^2*Ar40Ar39^2*((Ar40Ar39err/Ar40Ar39*100)^2+(Jerr/J*100)^2))/(Age^2*0.00055305^2*((1+Ar40Ar39*J)^2)))*Age/100) | EG16: =IF(Ar40Ar39>0,(1/lambda/10^6)*LN(1+(J*Ar40Ar39)),"") | EH16: =IF(Age="","",SQRT((J^2*Ar40Ar39^2*((Ar40Ar39err/Ar40Ar39*100)^2))/(Age^2*0.00055305^2*((1+Ar40Ar39*J)^2)))*Age/100) | EI16: =IF(Age="","",SQRT((J^2*Ar40Ar39^2*((Ar40Ar39err/Ar40Ar39*100)^2+(Jerr/J*100)^2))/(Age^2*0.00055305^2*((1+Ar40Ar39*J)^2)))*Age/100) | EJ16: =CF16/$CF$19 -> 0.016839443 | EK16: =EG16 | EL16: =EH16 | EM16: =Ar39_IC/Ar36_ClCor -> 6.385969 | EN16: =EM16*SQRT((Ar40_ICerr/Ar40_IC)^2+(Ar36_ClCorerr/Ar36_ClCor)^2) -> 4.4991659 | EO16: =Ar40_IC/Ar36_ClCor -> 154.95255 | EP16: =EO16*SQRT((Ar40_ICerr/Ar40_IC)^2+(Ar36_ClCorerr/Ar36_ClCor)^2) -> 109.17015 | EQ16: =Ar39_IC/Ar40_IC -> 0.041212417 | ER16: =EQ16*SQRT((Ar40_ICerr/Ar40_IC)^2+(Ar39_ICerr/Ar39_IC)^2) -> 0.0010701816 | ES16: =Ar36_ClCor/Ar40_IC -> 0.0064535887 | ET16: =ES16*SQRT((Ar40_ICerr/Ar40_IC)^2+(Ar36_ClCorerr/Ar36_ClCor)^2) -> 0.0045468066 | LQ16: =Name -> B1x Bulk | LR16: =Irradiation -> MN2022a | LS16: =IF(ISNUMBER(K_ppm), K_ppm, "") -> 10.280093 | LT16: =IF(ISNUMBER(K_ppmerr), K_ppmerr, "") -> 0.20476666 | LU16: =Cl_ppm -> 16.041173 | LV16: =Cl_ppmerr -> 0.40932263 | LW16: =Ca_ppm -> 4890.8214 | LX16: =Ca_ppmerr -> 457.95141 | MO16: =DT16 -> 0.64085669 | MP16: =DU16 -> 0.013416185 | MW16: =DP16 -> 0.58110691 | MX16: =DQ16 -> 0.011830437
B17: B1x Bulk | C17: =9.1/1000 -> 0.0091 | D17: =C17*0.5% -> 4.55e-05 | E17: 44727 | F17: ARGUS | G17: MN2022a | H17: 1 | J17: 44644 | K17: continuous | L17: 12 | M17: 8.65 | N17: 30 | O17: 14.176078 | P17: 0.123064 | Q17: 0.478916 | R17: 0.005875 | S17: 18.009739 | T17: 0.036914 | U17: 18.759229 | V17: 0.106692 | W17: 0.42948 | X17: 0.005578 | Y17: 6.3067745 | Z17: 0.93511706 | AA17: 0.043458 | AB17: 0.029863653 | AC17: 2.2128518 | AD17: 2.0188659 | AE17: 1.3901317 | AF17: 1.195401 | AG17: 0.25606525 | AH17: 0.21678044 | AI17: =Ar40Raw-Ar40Blank -> 7.8693035 | AJ17: =SQRT(Ar40Blankerr^2+Ar40Rawerr^2) -> 0.94318008 | AK17: =Ar39Raw-Ar39Blank -> 0.435458 | AL17: =SQRT(Ar39Blankerr^2+Ar39Rawerr^2) -> 0.030436054 | AM17: =Ar38Raw-Ar38Blank -> 15.796887 | AN17: =SQRT(Ar38Blankerr^2+Ar38Rawerr^2) -> 2.0192033 | AO17: =Ar37Raw-Ar37Blank -> 17.369097 | AP17: =SQRT(Ar37Blankerr^2+Ar37Rawerr^2) -> 1.2001528 | AQ17: =Ar36Raw-Ar36Blank -> 0.17341475 | AR17: =SQRT(Ar36Blankerr^2+Ar36Rawerr^2) -> 0.2168522 | AS17: 300.7 | AT17: 0.28 | AU17: =Ar39BC*(1+(Ar4036_Aircal/Ar4036_Air-1)/4) -> 0.43737372 | AV17: =SQRT(Ar39BCerr^2+(Ar39BC*(Ar4036_Aircal/Ar4036_Air-1)/4)^2*((Ar4036_Aircalerr/Ar4036_Aircal)^2+(Ar39BCerr/Ar39BC)^2+(Ar4036_airerr/Ar4036_Air)^2)) -> 0.030436349 | AW17: =Ar38BC*(1+2*(Ar4036_Aircal/Ar4036_Air-1)/4) -> 15.935878 | AX17: =SQRT(Ar38BCerr^2+(Ar38BC*(Ar4036_Aircal/Ar4036_Air-1)/4)^2*((Ar4036_Aircalerr/Ar4036_Aircal)^2+(Ar38BCerr/Ar38BC)^2+(Ar4036_airerr/Ar4036_Air)^2)) -> 2.0192229 | AY17: =Ar37BC*(1+3*(Ar4036_Aircal/Ar4036_Air-1)/4) -> 17.598334 | AZ17: =SQRT(Ar37BCerr^2+(Ar37BC*(Ar4036_Aircal/Ar4036_Air-1)/3)^2*((Ar4036_Aircalerr/Ar4036_Aircal)^2+(Ar37BCerr/Ar37BC)^2+(Ar4036_airerr/Ar4036_Air)^2)) -> 1.2001734 | BA17: =Ar36BC*(1+4*(Ar4036_Aircal/Ar4036_Air-1)/4) -> 0.17646638 | BB17: =SQRT(Ar36BCerr^2+(Ar36BC*(Ar4036_Aircal/Ar4036_Air-1)/4)^2*((Ar4036_Aircalerr/Ar4036_Aircal)^2+(Ar36BCerr/Ar36BC)^2+(Ar4036_airerr/Ar4036_Air)^2)) -> 0.21685429 | BE17: =IF(Rad_Type="Continuous", Ar37_DC*EXP(lambda_37Ar*(Run_Date-Rad_Date)),Ar37_DC*Ar37_DecayFactor) -> 90.637699 | BF17: =IF(Rad_Type="Continuous", (Ar37_DCerr*EXP(lambda_37Ar*(Run_Date-Rad_Date))), Ar37_DCerr*Ar37_DecayFactor) -> 6.1813212 | BG17: =IF(Rad_Type="Continuous", Ar39_DC*EXP(lambda_39Ar*(Run_Date-Rad_Date)), Ar39_DC*Ar39_DecayFactor) -> 0.43763007 | BH17: =IF(Rad_Type="Continuous", (Ar39_DCerr*EXP(lambda_39Ar*(Run_Date-Rad_Date))), Ar39_DCerr*Ar39_DecayFactor) -> 0.030454188 | BI17: =Ar40BC-(Salt_40Ar39Ar_K*Ar39_IC) -> 7.823103 | BJ17: =SQRT(Ar40BCerr^2+(Ar39_ICerr*Salt_40Ar39Ar_K)^2) -> 0.9431887 | BK17: =Ar39_DecayCor-(Salt_39Ar37Ar_Ca*Ar37_DecayCor) -> 0.35479918 | BL17: =SQRT(Ar39_DecayCorerr^2+(Ar37_DecayCorerr*Salt_39Ar37Ar_Ca)^2) -> 0.030973663 | BM17: =Ar38_DC-(Salt_38Ar39Ar_K*Ar39_DecayCor) -> 15.929121 | BN17: =SQRT(Ar38_DCerr^2+(Ar39_DecayCorerr*Salt_38Ar39Ar_K)^2) -> 2.0192229 | BO17: =Ar36_DC-(Salt_36Ar37Ar_Ca*Ar37_DecayCor) -> 0.14484931 | BP17: =SQRT(Ar36_DCerr^2+(Ar37_DecayCorerr*Salt_36Ar37Ar_Ca)^2) -> 0.21686501 | BR17: =IF(Rad_Type="Continuous", BO17-((EXP(lambda_36Ar*(Run_Date-Rad_Date))-1)*Cl3638_PR*BT17),BO17*Ar36_DecayFactor) -> 0.14229434 | BS17: =IF(K:K="Continuous", SQRT(BP17^2+(((EXP(lambda_36Ar*(Run_Date-Rad_Date))-1)*Cl3638_PR)*BU17^2)), Ar36_ICerr*Ar36_DecayFactor) -> 0.21692269 | BT17: =IF(Rad_Type="Continuous", BM17-(Ar3836_Air*BO17)/(1-lambda_36Ar*(Run_Date-Rad_Date)),Ar38_IC-(Ar3836_Air*Ar36_IC)/Ar36_DecayFactor) -> 15.901889 | BU17: =IF(Rad_Type ="Continuous", SQRT(BN17^2*(((EXP(lambda_36Ar*(Run_Date-Rad_Date))-1*Ar3836_Air)*BP17^2))),SQRT(Ar38_ICerr^2*(((EXP(lambda_36Ar*(Ar36_DecayFactor))-1*Ar3836_Air)*Ar36_ICerr^2)))) -> 0.39459531 | BV17: =Ar40_IC-(Ar36_ClCor*Ar4036_Air) -> -34.224876 | BW17: =SQRT(Ar40_ICerr^2+(Ar36_ClCorerr*Ar4036_Air)^2) -> 64.107592 | BX17: 1.6986775e-12 | BY17: 9.4454002e-16 | BZ17: =Ar_Sensitivity*Ar36_ClCor -> 2.417122e-13 | CA17: =Ar36CC*SQRT((Ar36_ClCorerr/Ar36_ClCor)^2+(Ar_sensitivityerr/Ar_Sensitivity)^2) -> 3.684817e-13 | CB17: =Ar37_DecayCor*Ar_Sensitivity -> 1.5396422e-10 | CC17: =Ar37CC*SQRT((Ar37_DecayCorerr/Ar37_DecayCor)^2+(Ar_sensitivityerr/Ar_Sensitivity)^2) -> 1.050042e-11 | CD17: =Ar_Sensitivity*Ar38_Cl -> 2.701218e-11 | CE17: =Ar38CC*SQRT((Ar38_Clerr/Ar38_Cl)^2+(Ar_sensitivityerr/Ar_Sensitivity)^2) -> 6.7045842e-13 | CF17: =Ar_Sensitivity*Ar39_IC -> 6.0268938e-13 | CG17: =Ar39CC*SQRT((Ar39_ICerr/Ar39_IC)^2+(Ar_sensitivityerr/Ar_Sensitivity)^2) -> 5.261533e-14 | CH17: =Ar_Sensitivity*Ar40_IC -> 1.3288929e-11 | CI17: =Ar40CC*SQRT((Ar40_ICerr/Ar40_IC)^2+(Ar_sensitivityerr/Ar_Sensitivity)^2) -> 1.6021904e-12 | CJ17: =Ar38CC/MV -> 1.2051497e-15 | CK17: =Ar38_mole*SQRT((Ar38CCerr/Ar38CC)^2+(MVerr/MV)^2) -> 2.9912535e-17 | CL17: =Ar40CC/MV -> 5.9288621e-16 | CM17: =Ar40_mole*SQRT((Ar40CCerrr/Ar40CC)^2+(MVerr/MV)^2) -> 7.1481804e-17 | CN17: 0.005134083 | CO17: 8.40144e-06 | CP17: 1.1139739e+19 | CQ17: 1.0453257e+18 | CR17: 8.0438365e+17 | CS17: 8.5271401e+16 | CT17: 0.49881143 | CU17: 0.045926073 | CV17: 24.58188 | CW17: 0.55629982 | CX17: =K_constant*Ar39CC/J -> 4.3162959e-10 | CY17: =K_mole*SQRT((Ar39ccerr/Ar39CC)^2+(Jerr/J)^2+(K_Constanterr/K_constant)^2) -> 3.7894315e-11 | CZ17: =K_mole*MW_K/Sample_Mass*10^6 -> 1.8545037 | DA17: =K_ppm*SQRT((Sample_Masserr/Sample_Mass)^2+(MW_Kerr/MW_K)^2+(K_moleerr/K_mole)^2) -> 0.16307738 | DB17: =K_ppm/10^4 -> 0.00018545037 | DC17: =K_ppmerr/10^4 -> 1.6307738e-05 | DD17: =Cl_Constant*Ar38CC/(J*Beta) -> 8.6789484e-10 | DE17: =Cl_mole*SQRT((Ar38CCerr/Ar38CC)^2+(Jerr/J)^2+(Betaerr/Beta)^2+(Cl_Constanterr/Cl_Constant)^2) -> 3.0245458e-11 | DF17: =Cl_mole*MW_Cl/Sample_Mass*10^6 -> 3.3812611 | DG17: =Cl_ppm*SQRT((Sample_Masserr/Sample_Mass)^2+(MW_Clerr/MW_Cl)^2+(Cl_moleerr/Cl_mole)^2) -> 0.11904095 | DH17: =Cl_ppm/10^4 -> 0.00033812611 | DI17: =Cl_ppmerr/10^4 -> 1.1904095e-05 | DJ17: =Ca_Constant*Ar37CC/(J*alpha) -> 2.1564095e-07 | DK17: =Ca_mole*SQRT((Ar37CCerr/Ar37CC)^2+(Jerr/J)^2+(alphaerr/alpha)^2+(Ca_Constanterr/Ca_Constant)^2) -> 2.4788996e-08 | DL17: =Ca_mole*MW_Ca/Sample_Mass*10^6 -> 949.76805 | DM17: =Ca_ppm*SQRT((Sample_Masserr/Sample_Mass)^2+(MW_Caerr/MW_Ca)^2+(Ca_moleerr/Ca_mole)^2) -> 109.28381 | DN17: =Ca_ppm/10^4 -> 0.094976805 | DO17: =Ca_ppmerr/10^4 -> 0.010928381 | DP17: =K_mole/Cl_mole -> 0.49732937 | DQ17: =KCl_mol*SQRT(K_moleerr/K_mole)^2+(Cl_moleerr/Cl_mole)^2 -> 0.044876803 | DR17: =K_mole/Ca_mole -> 0.0020016124 | DS17: =KCa_mol*SQRT(K_moleerr/K_mole)^2+(Ca_moleerr/Ca_mole)^2 -> 0.013390371 | DT17: =K_ppm/Cl_ppm -> 0.54846509 | DU17: =KCl_wt*SQRT(K_ppmerr/K_ppm)^2+(Cl_ppmerr/Cl_ppm)^2 -> 0.049469219 | DV17: =K_ppm/Ca_ppm -> 0.0019525859 | DW17: =KCa_wt*SQRT(K_ppmerr/K_ppm)^2+(Ca_ppmerr/Ca_ppm)^2 -> 0.013411355 | DX17: =Ar40_mole/Cl_mole -> 6.8313139e-07 | DY17: =Ar40Cl_mol*SQRT((Ar40_moleerr/Ar40_mole)^2+(Cl_moleerr/Cl_mole)^2) -> 8.5733893e-08 | DZ17: =Ar40AC/Ar39_IC -> -96.462667 | EA17: =Ar40Ar39*SQRT((Ar40ACerr/Ar40AC)^2+(Ar39_ICerr/Ar39_IC)^2) -> -180.88311 | EB17: =(Ar40CC/MV)/K_mole -> 1.3735995e-06 | EC17: =Ar40K*SQRT((Ar40CCerrr/Ar40CC)^2+(K_moleerr/K_mole)^2+(MVerr/MV)^2) -> 2.0486365e-07 | ED17: =IF(Ar40Ar39>0,(1/lambda/10^6)*LN(1+(J*Ar40Ar39)),"") | EE17: =IF(Age="","",SQRT((J^2*Ar40Ar39^2*((Ar40Ar39err/Ar40Ar39*100)^2))/(Age^2*0.00055305^2*((1+Ar40Ar39*J)^2)))*Age/100) | EF17: =IF(Age="","",SQRT((J^2*Ar40Ar39^2*((Ar40Ar39err/Ar40Ar39*100)^2+(Jerr/J*100)^2))/(Age^2*0.00055305^2*((1+Ar40Ar39*J)^2)))*Age/100) | EG17: =IF(Ar40Ar39>0,(1/lambda/10^6)*LN(1+(J*Ar40Ar39)),"") | EH17: =IF(Age="","",SQRT((J^2*Ar40Ar39^2*((Ar40Ar39err/Ar40Ar39*100)^2))/(Age^2*0.00055305^2*((1+Ar40Ar39*J)^2)))*Age/100) | EI17: =IF(Age="","",SQRT((J^2*Ar40Ar39^2*((Ar40Ar39err/Ar40Ar39*100)^2+(Jerr/J*100)^2))/(Age^2*0.00055305^2*((1+Ar40Ar39*J)^2)))*Age/100) | EJ17: =CF17/$CF$19 -> 0.0030377943 | EK17: =EG17 | EL17: =EH17 | EM17: =Ar39_IC/Ar36_ClCor -> 2.4934173 | EN17: =EM17*SQRT((Ar40_ICerr/Ar40_IC)^2+(Ar36_ClCorerr/Ar36_ClCor)^2) -> 3.8129952 | EO17: =Ar40_IC/Ar36_ClCor -> 54.978313 | EP17: =EO17*SQRT((Ar40_ICerr/Ar40_IC)^2+(Ar36_ClCorerr/Ar36_ClCor)^2) -> 84.074192 | EQ17: =Ar39_IC/Ar40_IC -> 0.045352743 | ER17: =EQ17*SQRT((Ar40_ICerr/Ar40_IC)^2+(Ar39_ICerr/Ar39_IC)^2) -> 0.0067508505 | ES17: =Ar36_ClCor/Ar40_IC -> 0.01818899 | ET17: =ES17*SQRT((Ar40_ICerr/Ar40_IC)^2+(Ar36_ClCorerr/Ar36_ClCor)^2) -> 0.027815052 | LQ17: =Name -> B1x Bulk | LR17: =Irradiation -> MN2022a | LS17: =IF(ISNUMBER(K_ppm), K_ppm, "") -> 1.8545037 | LT17: =IF(ISNUMBER(K_ppmerr), K_ppmerr, "") -> 0.16307738 | LU17: =Cl_ppm -> 3.3812611 | LV17: =Cl_ppmerr -> 0.11904095 | LW17: =Ca_ppm -> 949.76805 | LX17: =Ca_ppmerr -> 109.28381 | MO17: =DT17 -> 0.54846509 | MP17: =DU17 -> 0.049469219 | MW17: =DP17 -> 0.49732937 | MX17: =DQ17 -> 0.044876803
B18: B1x Bulk | C18: =9.1/1000 -> 0.0091 | D18: =C18*0.5% -> 4.55e-05 | E18: 44727 | F18: ARGUS | G18: MN2022a | H18: 1 | J18: 44644 | K18: continuous | L18: 15 | M18: 10.31 | N18: 30 | O18: 11.29134 | P18: 0.093299 | Q18: 0.382149 | R18: 0.006572 | S18: 13.92459 | T18: 0.051104 | U18: 14.130193 | V18: 0.086982 | W18: 0.376768 | X18: 0.004361 | Y18: 6.3067745 | Z18: 0.93511706 | AA18: 0.043458 | AB18: 0.029863653 | AC18: 2.2128518 | AD18: 2.0188659 | AE18: 1.3901317 | AF18: 1.195401 | AG18: 0.25606525 | AH18: 0.21678044 | AI18: =Ar40Raw-Ar40Blank -> 4.9845655 | AJ18: =SQRT(Ar40Blankerr^2+Ar40Rawerr^2) -> 0.93975987 | AK18: =Ar39Raw-Ar39Blank -> 0.338691 | AL18: =SQRT(Ar39Blankerr^2+Ar39Rawerr^2) -> 0.030578243 | AM18: =Ar38Raw-Ar38Blank -> 11.711738 | AN18: =SQRT(Ar38Blankerr^2+Ar38Rawerr^2) -> 2.0195126 | AO18: =Ar37Raw-Ar37Blank -> 12.740061 | AP18: =SQRT(Ar37Blankerr^2+Ar37Rawerr^2) -> 1.1985614 | AQ18: =Ar36Raw-Ar36Blank -> 0.12070275 | AR18: =SQRT(Ar36Blankerr^2+Ar36Rawerr^2) -> 0.2168243 | AS18: 300.7 | AT18: 0.28 | AU18: =Ar39BC*(1+(Ar4036_Aircal/Ar4036_Air-1)/4) -> 0.34018101 | AV18: =SQRT(Ar39BCerr^2+(Ar39BC*(Ar4036_Aircal/Ar4036_Air-1)/4)^2*((Ar4036_Aircalerr/Ar4036_Aircal)^2+(Ar39BCerr/Ar39BC)^2+(Ar4036_airerr/Ar4036_Air)^2)) -> 0.030578539 | AW18: =Ar38BC*(1+2*(Ar4036_Aircal/Ar4036_Air-1)/4) -> 11.814786 | AX18: =SQRT(Ar38BCerr^2+(Ar38BC*(Ar4036_Aircal/Ar4036_Air-1)/4)^2*((Ar4036_Aircalerr/Ar4036_Aircal)^2+(Ar38BCerr/Ar38BC)^2+(Ar4036_airerr/Ar4036_Air)^2)) -> 2.0195321 | AY18: =Ar37BC*(1+3*(Ar4036_Aircal/Ar4036_Air-1)/4) -> 12.908204 | AZ18: =SQRT(Ar37BCerr^2+(Ar37BC*(Ar4036_Aircal/Ar4036_Air-1)/3)^2*((Ar4036_Aircalerr/Ar4036_Aircal)^2+(Ar37BCerr/Ar37BC)^2+(Ar4036_airerr/Ar4036_Air)^2)) -> 1.198582 | BA18: =Ar36BC*(1+4*(Ar4036_Aircal/Ar4036_Air-1)/4) -> 0.12282679 | BB18: =SQRT(Ar36BCerr^2+(Ar36BC*(Ar4036_Aircal/Ar4036_Air-1)/4)^2*((Ar4036_Aircalerr/Ar4036_Aircal)^2+(Ar36BCerr/Ar36BC)^2+(Ar4036_airerr/Ar4036_Air)^2)) -> 0.2168264 | BE18: =IF(Rad_Type="Continuous", Ar37_DC*EXP(lambda_37Ar*(Run_Date-Rad_Date)),Ar37_DC*Ar37_DecayFactor) -> 66.481856 | BF18: =IF(Rad_Type="Continuous", (Ar37_DCerr*EXP(lambda_37Ar*(Run_Date-Rad_Date))), Ar37_DCerr*Ar37_DecayFactor) -> 6.1731248 | BG18: =IF(Rad_Type="Continuous", Ar39_DC*EXP(lambda_39Ar*(Run_Date-Rad_Date)), Ar39_DC*Ar39_DecayFactor) -> 0.3403804 | BH18: =IF(Rad_Type="Continuous", (Ar39_DCerr*EXP(lambda_39Ar*(Run_Date-Rad_Date))), Ar39_DCerr*Ar39_DecayFactor) -> 0.030596462 | BI18: =Ar40BC-(Salt_40Ar39Ar_K*Ar39_IC) -> 4.9481539 | BJ18: =SQRT(Ar40BCerr^2+(Ar39_ICerr*Salt_40Ar39Ar_K)^2) -> 0.9397686 | BK18: =Ar39_DecayCor-(Salt_39Ar37Ar_Ca*Ar37_DecayCor) -> 0.27962476 | BL18: =SQRT(Ar39_DecayCorerr^2+(Ar37_DecayCorerr*Salt_39Ar37Ar_Ca)^2) -> 0.031112202 | BM18: =Ar38_DC-(Salt_38Ar39Ar_K*Ar39_DecayCor) -> 11.80953 | BN18: =SQRT(Ar38_DCerr^2+(Ar39_DecayCorerr*Salt_38Ar39Ar_K)^2) -> 2.0195322 | BO18: =Ar36_DC-(Salt_36Ar37Ar_Ca*Ar37_DecayCor) -> 0.099635982 | BP18: =SQRT(Ar36_DCerr^2+(Ar37_DecayCorerr*Salt_36Ar37Ar_Ca)^2) -> 0.2168371 | BR18: =IF(Rad_Type="Continuous", BO18-((EXP(lambda_36Ar*(Run_Date-Rad_Date))-1)*Cl3638_PR*BT18),BO18*Ar36_DecayFactor) -> 0.097741549 | BS18: =IF(K:K="Continuous", SQRT(BP18^2+(((EXP(lambda_36Ar*(Run_Date-Rad_Date))-1)*Cl3638_PR)*BU18^2)), Ar36_ICerr*Ar36_DecayFactor) -> 0.21689478 | BT18: =IF(Rad_Type="Continuous", BM18-(Ar3836_Air*BO18)/(1-lambda_36Ar*(Run_Date-Rad_Date)),Ar38_IC-(Ar3836_Air*Ar36_IC)/Ar36_DecayFactor) -> 11.790798 | BU18: =IF(Rad_Type ="Continuous", SQRT(BN18^2*(((EXP(lambda_36Ar*(Run_Date-Rad_Date))-1*Ar3836_Air)*BP18^2))),SQRT(Ar38_ICerr^2*(((EXP(lambda_36Ar*(Ar36_DecayFactor))-1*Ar3836_Air)*Ar36_ICerr^2)))) -> 0.39460493 | BV18: =Ar40_IC-(Ar36_ClCor*Ar4036_Air) -> -23.934474 | BW18: =SQRT(Ar40_ICerr^2+(Ar36_ClCorerr*Ar4036_Air)^2) -> 64.099296 | BX18: 1.6986775e-12 | BY18: 9.4454002e-16 | BZ18: =Ar_Sensitivity*Ar36_ClCor -> 1.6603137e-13 | CA18: =Ar36CC*SQRT((Ar36_ClCorerr/Ar36_ClCor)^2+(Ar_sensitivityerr/Ar_Sensitivity)^2) -> 3.6843428e-13 | CB18: =Ar37_DecayCor*Ar_Sensitivity -> 1.1293123e-10 | CC18: =Ar37CC*SQRT((Ar37_DecayCorerr/Ar37_DecayCor)^2+(Ar_sensitivityerr/Ar_Sensitivity)^2) -> 1.0486336e-11 | CD18: =Ar_Sensitivity*Ar38_Cl -> 2.0028763e-11 | CE18: =Ar38CC*SQRT((Ar38_Clerr/Ar38_Cl)^2+(Ar_sensitivityerr/Ar_Sensitivity)^2) -> 6.7039902e-13 | CF18: =Ar_Sensitivity*Ar39_IC -> 4.7499228e-13 | CG18: =Ar39CC*SQRT((Ar39_ICerr/Ar39_IC)^2+(Ar_sensitivityerr/Ar_Sensitivity)^2) -> 5.2850256e-14 | CH18: =Ar_Sensitivity*Ar40_IC -> 8.4053177e-12 | CI18: =Ar40CC*SQRT((Ar40_ICerr/Ar40_IC)^2+(Ar_sensitivityerr/Ar_Sensitivity)^2) -> 1.5963706e-12 | CJ18: =Ar38CC/MV -> 8.9358423e-16 | CK18: =Ar38_mole*SQRT((Ar38CCerr/Ar38CC)^2+(MVerr/MV)^2) -> 2.9909885e-17 | CL18: =Ar40CC/MV -> 3.7500365e-16 | CM18: =Ar40_mole*SQRT((Ar40CCerrr/Ar40CC)^2+(MVerr/MV)^2) -> 7.1222152e-17 | CN18: 0.005134083 | CO18: 8.40144e-06 | CP18: 1.1139739e+19 | CQ18: 1.0453257e+18 | CR18: 8.0438365e+17 | CS18: 8.5271401e+16 | CT18: 0.49881143 | CU18: 0.045926073 | CV18: 24.58188 | CW18: 0.55629982 | CX18: =K_constant*Ar39CC/J -> 3.4017643e-10 | CY18: =K_mole*SQRT((Ar39ccerr/Ar39CC)^2+(Jerr/J)^2+(K_Constanterr/K_constant)^2) -> 3.7981548e-11 | CZ18: =K_mole*MW_K/Sample_Mass*10^6 -> 1.4615736 | DA18: =K_ppm*SQRT((Sample_Masserr/Sample_Mass)^2+(MW_Kerr/MW_K)^2+(K_moleerr/K_mole)^2) -> 0.1633519 | DB18: =K_ppm/10^4 -> 0.00014615736 | DC18: =K_ppmerr/10^4 -> 1.633519e-05 | DD18: =Cl_Constant*Ar38CC/(J*Beta) -> 6.4351932e-10 | DE18: =Cl_mole*SQRT((Ar38CCerr/Ar38CC)^2+(Jerr/J)^2+(Betaerr/Beta)^2+(Cl_Constanterr/Cl_Constant)^2) -> 2.6679045e-11 | DF18: =Cl_mole*MW_Cl/Sample_Mass*10^6 -> 2.5071088 | DG18: =Cl_ppm*SQRT((Sample_Masserr/Sample_Mass)^2+(MW_Clerr/MW_Cl)^2+(Cl_moleerr/Cl_mole)^2) -> 0.10469299 | DH18: =Cl_ppm/10^4 -> 0.00025071088 | DI18: =Cl_ppmerr/10^4 -> 1.0469299e-05 | DJ18: =Ca_Constant*Ar37CC/(J*alpha) -> 1.5817051e-07 | DK18: =Ca_mole*SQRT((Ar37CCerr/Ar37CC)^2+(Jerr/J)^2+(alphaerr/alpha)^2+(Ca_Constanterr/Ca_Constant)^2) -> 2.0735167e-08 | DL18: =Ca_mole*MW_Ca/Sample_Mass*10^6 -> 696.64548 | DM18: =Ca_ppm*SQRT((Sample_Masserr/Sample_Mass)^2+(MW_Caerr/MW_Ca)^2+(Ca_moleerr/Ca_mole)^2) -> 91.392306 | DN18: =Ca_ppm/10^4 -> 0.069664548 | DO18: =Ca_ppmerr/10^4 -> 0.0091392306 | DP18: =K_mole/Cl_mole -> 0.52861883 | DQ18: =KCl_mol*SQRT(K_moleerr/K_mole)^2+(Cl_moleerr/Cl_mole)^2 -> 0.060740382 | DR18: =K_mole/Ca_mole -> 0.0021506945 | DS18: =KCa_mol*SQRT(K_moleerr/K_mole)^2+(Ca_moleerr/Ca_mole)^2 -> 0.017425705 | DT18: =K_ppm/Cl_ppm -> 0.58297176 | DU18: =KCl_wt*SQRT(K_ppmerr/K_ppm)^2+(Cl_ppmerr/Cl_ppm)^2 -> 0.066899255 | DV18: =K_ppm/Ca_ppm -> 0.0020980164 | DW18: =KCa_wt*SQRT(K_ppmerr/K_ppm)^2+(Ca_ppmerr/Ca_ppm)^2 -> 0.017445068 | DX18: =Ar40_mole/Cl_mole -> 5.8273877e-07 | DY18: =Ar40Cl_mol*SQRT((Ar40_moleerr/Ar40_mole)^2+(Cl_moleerr/Cl_mole)^2) -> 1.1328216e-07 | DZ18: =Ar40AC/Ar39_IC -> -85.594973 | EA18: =Ar40Ar39*SQRT((Ar40ACerr/Ar40AC)^2+(Ar39_ICerr/Ar39_IC)^2) -> -229.43101 | EB18: =(Ar40CC/MV)/K_mole -> 1.1023799e-06 | EC18: =Ar40K*SQRT((Ar40CCerrr/Ar40CC)^2+(K_moleerr/K_mole)^2+(MVerr/MV)^2) -> 2.4286748e-07 | ED18: =IF(Ar40Ar39>0,(1/lambda/10^6)*LN(1+(J*Ar40Ar39)),"") | EE18: =IF(Age="","",SQRT((J^2*Ar40Ar39^2*((Ar40Ar39err/Ar40Ar39*100)^2))/(Age^2*0.00055305^2*((1+Ar40Ar39*J)^2)))*Age/100) | EF18: =IF(Age="","",SQRT((J^2*Ar40Ar39^2*((Ar40Ar39err/Ar40Ar39*100)^2+(Jerr/J*100)^2))/(Age^2*0.00055305^2*((1+Ar40Ar39*J)^2)))*Age/100) | EG18: =IF(Ar40Ar39>0,(1/lambda/10^6)*LN(1+(J*Ar40Ar39)),"") | EH18: =IF(Age="","",SQRT((J^2*Ar40Ar39^2*((Ar40Ar39err/Ar40Ar39*100)^2))/(Age^2*0.00055305^2*((1+Ar40Ar39*J)^2)))*Age/100) | EI18: =IF(Age="","",SQRT((J^2*Ar40Ar39^2*((Ar40Ar39err/Ar40Ar39*100)^2+(Jerr/J*100)^2))/(Age^2*0.00055305^2*((1+Ar40Ar39*J)^2)))*Age/100) | EJ18: =CF18/$CF$19 -> 0.0023941501 | EK18: =EG18 | EL18: =EH18 | EM18: =Ar39_IC/Ar36_ClCor -> 2.8608587 | EN18: =EM18*SQRT((Ar40_ICerr/Ar40_IC)^2+(Ar36_ClCorerr/Ar36_ClCor)^2) -> 6.3716384 | EO18: =Ar40_IC/Ar36_ClCor -> 50.624878 | EP18: =EO18*SQRT((Ar40_ICerr/Ar40_IC)^2+(Ar36_ClCorerr/Ar36_ClCor)^2) -> 112.75056 | EQ18: =Ar39_IC/Ar40_IC -> 0.056510926 | ER18: =EQ18*SQRT((Ar40_ICerr/Ar40_IC)^2+(Ar39_ICerr/Ar39_IC)^2) -> 0.012438885 | ES18: =Ar36_ClCor/Ar40_IC -> 0.019753134 | ET18: =ES18*SQRT((Ar40_ICerr/Ar40_IC)^2+(Ar36_ClCorerr/Ar36_ClCor)^2) -> 0.043993724 | LQ18: =Name -> B1x Bulk | LR18: =Irradiation -> MN2022a | LS18: =IF(ISNUMBER(K_ppm), K_ppm, "") -> 1.4615736 | LT18: =IF(ISNUMBER(K_ppmerr), K_ppmerr, "") -> 0.1633519 | LU18: =Cl_ppm -> 2.5071088 | LV18: =Cl_ppmerr -> 0.10469299 | LW18: =Ca_ppm -> 696.64548 | LX18: =Ca_ppmerr -> 91.392306 | MO18: =DT18 -> 0.58297176 | MP18: =DU18 -> 0.066899255 | MW18: =DP18 -> 0.52861883 | MX18: =DQ18 -> 0.060740382
B19: B1x Bulk | C19: =9.1/1000 -> 0.0091 | D19: =C19*0.5% -> 4.55e-05 | E19: 44727 | F19: ARGUS | G19: MN2022a | H19: 1 | J19: 44644 | K19: continuous | Y19: 6.3067745 | Z19: 0.93511706 | AA19: 0.043458 | AB19: 0.029863653 | AC19: 2.2128518 | AD19: 2.0188659 | AE19: 1.3901317 | AF19: 1.195401 | AG19: 0.25606525 | AH19: 0.21678044 | AI19: =SUM(AI7:AI18) -> 4181.9416 | AJ19: =SQRT(SUMSQ(AJ7:AJ18)) -> 3.3129639 | AK19: =SUM(AK7:AK18) -> 118.64697 | AL19: =SQRT(SUMSQ(AL7:AL18)) -> 0.1552188 | AM19: =SUM(AM7:AM18) -> 4704.7374 | AN19: =SQRT(SUMSQ(AN7:AN18)) -> 7.1623345 | AO19: =SUM(AO7:AO18) -> 512.44504 | AP19: =SQRT(SUMSQ(AP7:AP18)) -> 4.1682695 | AQ19: =SUM(AQ7:AQ18) -> 15.644485 | AR19: =SQRT(SUMSQ(AR7:AR18)) -> 0.75125968 | AS19: 300.7 | AT19: 0.28 | AU19: =Ar39BC*(1+(Ar4036_Aircal/Ar4036_Air-1)/4) -> 119.16893 | AV19: =SQRT(Ar39BCerr^2+(Ar39BC*(Ar4036_Aircal/Ar4036_Air-1)/4)^2*((Ar4036_Aircalerr/Ar4036_Aircal)^2+(Ar39BCerr/Ar39BC)^2+(Ar4036_airerr/Ar4036_Air)^2)) -> 0.15522203 | AW19: =Ar38BC*(1+2*(Ar4036_Aircal/Ar4036_Air-1)/4) -> 4746.1327 | AX19: =SQRT(Ar38BCerr^2+(Ar38BC*(Ar4036_Aircal/Ar4036_Air-1)/4)^2*((Ar4036_Aircalerr/Ar4036_Aircal)^2+(Ar38BCerr/Ar38BC)^2+(Ar4036_airerr/Ar4036_Air)^2)) -> 7.1624626 | AY19: =Ar37BC*(1+3*(Ar4036_Aircal/Ar4036_Air-1)/4) -> 519.20828 | AZ19: =SQRT(Ar37BCerr^2+(Ar37BC*(Ar4036_Aircal/Ar4036_Air-1)/3)^2*((Ar4036_Aircalerr/Ar4036_Aircal)^2+(Ar37BCerr/Ar37BC)^2+(Ar4036_airerr/Ar4036_Air)^2)) -> 4.1683433 | BA19: =Ar36BC*(1+4*(Ar4036_Aircal/Ar4036_Air-1)/4) -> 15.919786 | BB19: =SQRT(Ar36BCerr^2+(Ar36BC*(Ar4036_Aircal/Ar4036_Air-1)/4)^2*((Ar4036_Aircalerr/Ar4036_Aircal)^2+(Ar36BCerr/Ar36BC)^2+(Ar4036_airerr/Ar4036_Air)^2)) -> 0.75126696 | BE19: =IF(Rad_Type="Continuous", Ar37_DC*EXP(lambda_37Ar*(Run_Date-Rad_Date)),Ar37_DC*Ar37_DecayFactor) -> 2674.1079 | BF19: =IF(Rad_Type="Continuous", (Ar37_DCerr*EXP(lambda_37Ar*(Run_Date-Rad_Date))), Ar37_DCerr*Ar37_DecayFactor) -> 21.468455 | BG19: =IF(Rad_Type="Continuous", Ar39_DC*EXP(lambda_39Ar*(Run_Date-Rad_Date)), Ar39_DC*Ar39_DecayFactor) -> 119.23878 | BH19: =IF(Rad_Type="Continuous", (Ar39_DCerr*EXP(lambda_39Ar*(Run_Date-Rad_Date))), Ar39_DCerr*Ar39_DecayFactor) -> 0.155313 | BI19: =Ar40BC-(Salt_40Ar39Ar_K*Ar39_IC) -> 4166.733 | BJ19: =SQRT(Ar40BCerr^2+(Ar39_ICerr*Salt_40Ar39Ar_K)^2) -> 3.3130266 | BK19: =Ar39_DecayCor-(Salt_39Ar37Ar_Ca*Ar37_DecayCor) -> 116.795 | BL19: =SQRT(Ar39_DecayCorerr^2+(Ar37_DecayCorerr*Salt_39Ar37Ar_Ca)^2) -> 0.15654727 | BM19: =Ar38_DC-(Salt_38Ar39Ar_K*Ar39_DecayCor) -> 4744.2914 | BN19: =SQRT(Ar38_DCerr^2+(Ar39_DecayCorerr*Salt_38Ar39Ar_K)^2) -> 7.162463 | BO19: =Ar36_DC-(Salt_36Ar37Ar_Ca*Ar37_DecayCor) -> 14.986979 | BP19: =SQRT(Ar36_DCerr^2+(Ar37_DecayCorerr*Salt_36Ar37Ar_Ca)^2) -> 0.75130428 | BR19: =IF(Rad_Type="Continuous", BO19-((EXP(lambda_36Ar*(Run_Date-Rad_Date))-1)*Cl3638_PR*BT19),BO19*Ar36_DecayFactor) -> 14.225164 | BS19: =IF(K:K="Continuous", SQRT(BP19^2+(((EXP(lambda_36Ar*(Run_Date-Rad_Date))-1)*Cl3638_PR)*BU19^2)), Ar36_ICerr*Ar36_DecayFactor) -> 0.75381431 | BT19: =IF(Rad_Type="Continuous", BM19-(Ar3836_Air*BO19)/(1-lambda_36Ar*(Run_Date-Rad_Date)),Ar38_IC-(Ar3836_Air*Ar36_IC)/Ar36_DecayFactor) -> 4741.4739 | BU19: =IF(Rad_Type ="Continuous", SQRT(BN19^2*(((EXP(lambda_36Ar*(Run_Date-Rad_Date))-1*Ar3836_Air)*BP19^2))),SQRT(Ar38_ICerr^2*(((EXP(lambda_36Ar*(Ar36_DecayFactor))-1*Ar3836_Air)*Ar36_ICerr^2)))) -> 4.8490472 | BV19: =Ar40_IC-(Ar36_ClCor*Ar4036_Air) -> -36.802871 | BW19: =SQRT(Ar40_ICerr^2+(Ar36_ClCorerr*Ar4036_Air)^2) -> 222.77676 | BX19: 1.6986775e-12 | BY19: 9.4454002e-16 | BZ19: =Ar_Sensitivity*Ar36_ClCor -> 2.4163965e-11 | CA19: =Ar36CC*SQRT((Ar36_ClCorerr/Ar36_ClCor)^2+(Ar_sensitivityerr/Ar_Sensitivity)^2) -> 1.2805579e-12 | CB19: =Ar37_DecayCor*Ar_Sensitivity -> 4.5424468e-09 | CC19: =Ar37CC*SQRT((Ar37_DecayCorerr/Ar37_DecayCor)^2+(Ar_sensitivityerr/Ar_Sensitivity)^2) -> 3.6555346e-11 | CD19: =Ar_Sensitivity*Ar38_Cl -> 8.0542349e-09 | CE19: =Ar38CC*SQRT((Ar38_Clerr/Ar38_Cl)^2+(Ar_sensitivityerr/Ar_Sensitivity)^2) -> 9.3757505e-12 | CF19: =Ar_Sensitivity*Ar39_IC -> 1.9839703e-10 | CG19: =Ar39CC*SQRT((Ar39_ICerr/Ar39_IC)^2+(Ar_sensitivityerr/Ar_Sensitivity)^2) -> 2.8789785e-13 | CH19: =Ar_Sensitivity*Ar40_IC -> 7.0779355e-09 | CI19: =Ar40CC*SQRT((Ar40_ICerr/Ar40_IC)^2+(Ar_sensitivityerr/Ar_Sensitivity)^2) -> 6.8673892e-12 | CJ19: =Ar38CC/MV -> 3.5934008e-13 | CK19: =Ar38_mole*SQRT((Ar38CCerr/Ar38CC)^2+(MVerr/MV)^2) -> 4.1829961e-16 | CL19: =Ar40CC/MV -> 3.1578244e-13 | CM19: =Ar40_mole*SQRT((Ar40CCerrr/Ar40CC)^2+(MVerr/MV)^2) -> 3.0638896e-16 | CN19: 0.005134083 | CO19: 8.40144e-06 | CP19: 1.1139739e+19 | CQ19: 1.0453257e+18 | CR19: 8.0438365e+17 | CS19: 8.5271401e+16 | CT19: 0.49881143 | CU19: 0.045926073 | CV19: 24.58188 | CW19: 0.55629982 | CX19: =K_constant*Ar39CC/J -> 1.4208651e-07 | CY19: =K_mole*SQRT((Ar39ccerr/Ar39CC)^2+(Jerr/J)^2+(K_Constanterr/K_constant)^2) -> 1.3357121e-09 | CZ19: =K_mole*MW_K/Sample_Mass*10^6 -> 610.47703 | DA19: =K_ppm*SQRT((Sample_Masserr/Sample_Mass)^2+(MW_Kerr/MW_K)^2+(K_moleerr/K_mole)^2) -> 6.500164 | DB19: =K_ppm/10^4 -> 0.061047703 | DC19: =K_ppmerr/10^4 -> 0.0006500164 | DD19: =Cl_Constant*Ar38CC/(J*Beta) -> 2.5878062e-07 | DE19: =Cl_mole*SQRT((Ar38CCerr/Ar38CC)^2+(Jerr/J)^2+(Betaerr/Beta)^2+(Cl_Constanterr/Cl_Constant)^2) -> 6.3375434e-09 | DF19: =Cl_mole*MW_Cl/Sample_Mass*10^6 -> 1008.1922 | DG19: =Cl_ppm*SQRT((Sample_Masserr/Sample_Mass)^2+(MW_Clerr/MW_Cl)^2+(Cl_moleerr/Cl_mole)^2) -> 25.199992 | DH19: =Cl_ppm/10^4 -> 0.10081922 | DI19: =Cl_ppmerr/10^4 -> 0.0025199992 | DJ19: =Ca_Constant*Ar37CC/(J*alpha) -> 6.3621116e-06 | DK19: =Ca_mole*SQRT((Ar37CCerr/Ar37CC)^2+(Jerr/J)^2+(alphaerr/alpha)^2+(Ca_Constanterr/Ca_Constant)^2) -> 5.9096144e-07 | DL19: =Ca_mole*MW_Ca/Sample_Mass*10^6 -> 28021.256 | DM19: =Ca_ppm*SQRT((Sample_Masserr/Sample_Mass)^2+(MW_Caerr/MW_Ca)^2+(Ca_moleerr/Ca_mole)^2) -> 2606.5976 | DN19: =Ca_ppm/10^4 -> 2.8021256 | DO19: =Ca_ppmerr/10^4 -> 0.26065976 | DP19: =K_mole/Cl_mole -> 0.54906162 | DQ19: =KCl_mol*SQRT(K_moleerr/K_mole)^2+(Cl_moleerr/Cl_mole)^2 -> 0.0057613227 | DR19: =K_mole/Ca_mole -> 0.022333231 | DS19: =KCa_mol*SQRT(K_moleerr/K_mole)^2+(Ca_moleerr/Ca_mole)^2 -> 0.0088380588 | DT19: =K_ppm/Cl_ppm -> 0.60551649 | DU19: =KCl_wt*SQRT(K_ppmerr/K_ppm)^2+(Cl_ppmerr/Cl_ppm)^2 -> 0.007072107 | DV19: =K_ppm/Ca_ppm -> 0.021786212 | DW19: =KCa_wt*SQRT(K_ppmerr/K_ppm)^2+(Ca_ppmerr/Ca_ppm)^2 -> 0.0088850934 | DX19: =Ar40_mole/Cl_mole -> 1.2202708e-06 | DY19: =Ar40Cl_mol*SQRT((Ar40_moleerr/Ar40_mole)^2+(Cl_moleerr/Cl_mole)^2) -> 2.9907904e-08 | DZ19: =Ar40AC/Ar39_IC -> -0.31510657 | EA19: =Ar40Ar39*SQRT((Ar40ACerr/Ar40AC)^2+(Ar39_ICerr/Ar39_IC)^2) -> -1.907417 | EB19: =(Ar40CC/MV)/K_mole -> 2.222466e-06 | EC19: =Ar40K*SQRT((Ar40CCerrr/Ar40CC)^2+(K_moleerr/K_mole)^2+(MVerr/MV)^2) -> 2.1003712e-08 | ED19: =IF(Ar40Ar39>0,(1/lambda/10^6)*LN(1+(J*Ar40Ar39)),"") | EE19: =IF(Age="","",SQRT((J^2*Ar40Ar39^2*((Ar40Ar39err/Ar40Ar39*100)^2))/(Age^2*0.00055305^2*((1+Ar40Ar39*J)^2)))*Age/100) | EF19: =IF(Age="","",SQRT((J^2*Ar40Ar39^2*((Ar40Ar39err/Ar40Ar39*100)^2+(Jerr/J*100)^2))/(Age^2*0.00055305^2*((1+Ar40Ar39*J)^2)))*Age/100) | EG19: =IF(Ar40Ar39>0,(1/lambda/10^6)*LN(1+(J*Ar40Ar39)),"") | EH19: =IF(Age="","",SQRT((J^2*Ar40Ar39^2*((Ar40Ar39err/Ar40Ar39*100)^2))/(Age^2*0.00055305^2*((1+Ar40Ar39*J)^2)))*Age/100) | EI19: =IF(Age="","",SQRT((J^2*Ar40Ar39^2*((Ar40Ar39err/Ar40Ar39*100)^2+(Jerr/J*100)^2))/(Age^2*0.00055305^2*((1+Ar40Ar39*J)^2)))*Age/100) | EJ19: =SUM(EJ7:EJ18) -> 1 | EK19: =EG19 | EL19: =EH19 | EM19: =Ar39_IC/Ar36_ClCor -> 8.2104502 | EN19: =EM19*SQRT((Ar40_ICerr/Ar40_IC)^2+(Ar36_ClCorerr/Ar36_ClCor)^2) -> 0.43513393 | EO19: =Ar40_IC/Ar36_ClCor -> 292.91283 | EP19: =EO19*SQRT((Ar40_ICerr/Ar40_IC)^2+(Ar36_ClCorerr/Ar36_ClCor)^2) -> 15.523669 | EQ19: =Ar39_IC/Ar40_IC -> 0.028030353 | ER19: =EQ19*SQRT((Ar40_ICerr/Ar40_IC)^2+(Ar39_ICerr/Ar39_IC)^2) -> 4.3683928e-05 | ES19: =Ar36_ClCor/Ar40_IC -> 0.0034139849 | ET19: =ES19*SQRT((Ar40_ICerr/Ar40_IC)^2+(Ar36_ClCorerr/Ar36_ClCor)^2) -> 0.00018093292 | LQ19: =Name -> B1x Bulk | LR19: =Irradiation -> MN2022a | LS19: =IF(ISNUMBER(K_ppm), K_ppm, "") -> 610.47703 | LT19: =IF(ISNUMBER(K_ppmerr), K_ppmerr, "") -> 6.500164 | LU19: =Cl_ppm -> 1008.1922 | LV19: =Cl_ppmerr -> 25.199992 | LW19: =Ca_ppm -> 28021.256 | LX19: =Ca_ppmerr -> 2606.5976 | MO19: =DT19 -> 0.60551649 | MP19: =DU19 -> 0.007072107 | MW19: =DP19 -> 0.54906162 | MX19: =DQ19 -> 0.0057613227
B21: B1x Plagioclase | C21: =9/1000 -> 0.009 | D21: =C21*0.5% -> 4.5e-05 | E21: 44727 | F21: ARGUS | G21: MN2022a | H21: 1 | J21: 44644 | K21: continuous | L21: 0.5 | M21: 0.31 | N21: 30 | O21: 1079.4845 | P21: 0.241137 | Q21: 0.116777 | R21: 0.003761 | S21: 114.7954 | T21: 0.072227 | U21: 1.442912 | V21: 0.076738 | W21: 3.70372 | X21: 0.010727 | Y21: 6.3067745 | Z21: 0.93511706 | AA21: 0.043458 | AB21: 0.029863653 | AC21: 2.2128518 | AD21: 2.0188659 | AE21: 1.3901317 | AF21: 1.195401 | AG21: 0.25606525 | AH21: 0.21678044 | AI21: =Ar40Raw-Ar40Blank -> 1073.1778 | AJ21: =SQRT(Ar40Blankerr^2+Ar40Rawerr^2) -> 0.9657075 | AK21: =Ar39Raw-Ar39Blank -> 0.073319 | AL21: =SQRT(Ar39Blankerr^2+Ar39Rawerr^2) -> 0.03009955 | AM21: =Ar38Raw-Ar38Blank -> 112.58255 | AN21: =SQRT(Ar38Blankerr^2+Ar38Rawerr^2) -> 2.0201575 | AO21: =Ar37Raw-Ar37Blank -> 0.05278025 | AP21: =SQRT(Ar37Blankerr^2+Ar37Rawerr^2) -> 1.1978615 | AQ21: =Ar36Raw-Ar36Blank -> 3.4476547 | AR21: =SQRT(Ar36Blankerr^2+Ar36Rawerr^2) -> 0.21704568 | AS21: 300.7 | AT21: 0.28 | AU21: =Ar39BC*(1+(Ar4036_Aircal/Ar4036_Air-1)/4) -> 0.073641554 | AV21: =SQRT(Ar39BCerr^2+(Ar39BC*(Ar4036_Aircal/Ar4036_Air-1)/4)^2*((Ar4036_Aircalerr/Ar4036_Aircal)^2+(Ar39BCerr/Ar39BC)^2+(Ar4036_airerr/Ar4036_Air)^2)) -> 0.030099841 | AW21: =Ar38BC*(1+2*(Ar4036_Aircal/Ar4036_Air-1)/4) -> 113.57313 | AX21: =SQRT(Ar38BCerr^2+(Ar38BC*(Ar4036_Aircal/Ar4036_Air-1)/4)^2*((Ar4036_Aircalerr/Ar4036_Aircal)^2+(Ar38BCerr/Ar38BC)^2+(Ar4036_airerr/Ar4036_Air)^2)) -> 2.0201771 | AY21: =Ar37BC*(1+3*(Ar4036_Aircal/Ar4036_Air-1)/4) -> 0.053476842 | AZ21: =SQRT(Ar37BCerr^2+(Ar37BC*(Ar4036_Aircal/Ar4036_Air-1)/3)^2*((Ar4036_Aircalerr/Ar4036_Aircal)^2+(Ar37BCerr/Ar37BC)^2+(Ar4036_airerr/Ar4036_Air)^2)) -> 1.1978821 | BA21: =Ar36BC*(1+4*(Ar4036_Aircal/Ar4036_Air-1)/4) -> 3.5083241 | BB21: =SQRT(Ar36BCerr^2+(Ar36BC*(Ar4036_Aircal/Ar4036_Air-1)/4)^2*((Ar4036_Aircalerr/Ar4036_Aircal)^2+(Ar36BCerr/Ar36BC)^2+(Ar4036_airerr/Ar4036_Air)^2)) -> 0.21704779 | BE21: =IF(Rad_Type="Continuous", Ar37_DC*EXP(lambda_37Ar*(Run_Date-Rad_Date)),Ar37_DC*Ar37_DecayFactor) -> 0.27542481 | BF21: =IF(Rad_Type="Continuous", (Ar37_DCerr*EXP(lambda_37Ar*(Run_Date-Rad_Date))), Ar37_DCerr*Ar37_DecayFactor) -> 6.1695202 | BG21: =IF(Rad_Type="Continuous", Ar39_DC*EXP(lambda_39Ar*(Run_Date-Rad_Date)), Ar39_DC*Ar39_DecayFactor) -> 0.073684717 | BH21: =IF(Rad_Type="Continuous", (Ar39_DCerr*EXP(lambda_39Ar*(Run_Date-Rad_Date))), Ar39_DCerr*Ar39_DecayFactor) -> 0.030117483 | BI21: =Ar40BC-(Salt_40Ar39Ar_K*Ar39_IC) -> 1073.1682 | BJ21: =SQRT(Ar40BCerr^2+(Ar39_ICerr*Salt_40Ar39Ar_K)^2) -> 0.96571574 | BK21: =Ar39_DecayCor-(Salt_39Ar37Ar_Ca*Ar37_DecayCor) -> 0.073433015 | BL21: =SQRT(Ar39_DecayCorerr^2+(Ar37_DecayCorerr*Salt_39Ar37Ar_Ca)^2) -> 0.03064068 | BM21: =Ar38_DC-(Salt_38Ar39Ar_K*Ar39_DecayCor) -> 113.57199 | BN21: =SQRT(Ar38_DCerr^2+(Ar39_DecayCorerr*Salt_38Ar39Ar_K)^2) -> 2.0201772 | BO21: =Ar36_DC-(Salt_36Ar37Ar_Ca*Ar37_DecayCor) -> 3.5082281 | BP21: =SQRT(Ar36_DCerr^2+(Ar37_DecayCorerr*Salt_36Ar37Ar_Ca)^2) -> 0.21705846 | BR21: =IF(Rad_Type="Continuous", BO21-((EXP(lambda_36Ar*(Run_Date-Rad_Date))-1)*Cl3638_PR*BT21),BO21*Ar36_DecayFactor) -> 3.4900864 | BS21: =IF(K:K="Continuous", SQRT(BP21^2+(((EXP(lambda_36Ar*(Run_Date-Rad_Date))-1)*Cl3638_PR)*BU21^2)), Ar36_ICerr*Ar36_DecayFactor) -> 0.21711623 | BT21: =IF(Rad_Type="Continuous", BM21-(Ar3836_Air*BO21)/(1-lambda_36Ar*(Run_Date-Rad_Date)),Ar38_IC-(Ar3836_Air*Ar36_IC)/Ar36_DecayFactor) -> 112.91244 | BU21: =IF(Rad_Type ="Continuous", SQRT(BN21^2*(((EXP(lambda_36Ar*(Run_Date-Rad_Date))-1*Ar3836_Air)*BP21^2))),SQRT(Ar38_ICerr^2*(((EXP(lambda_36Ar*(Ar36_DecayFactor))-1*Ar3836_Air)*Ar36_ICerr^2)))) -> 0.39513393 | BV21: =Ar40_IC-(Ar36_ClCor*295.5) -> 41.847693 | BW21: =SQRT(Ar40_ICerr^2+(Ar36_ClCorerr*Ar4036_Air)^2) -> 64.165115 | BX21: 1.6986775e-12 | BY21: 9.4454002e-16 | BZ21: =Ar_Sensitivity*Ar36_ClCor -> 5.9285311e-12 | CA21: =Ar36CC*SQRT((Ar36_ClCorerr/Ar36_ClCor)^2+(Ar_sensitivityerr/Ar_Sensitivity)^2) -> 3.6882519e-13 | CB21: =Ar37_DecayCor*Ar_Sensitivity -> 4.6785793e-13 | CC21: =Ar37CC*SQRT((Ar37_DecayCorerr/Ar37_DecayCor)^2+(Ar_sensitivityerr/Ar_Sensitivity)^2) -> 1.0480025e-11 | CD21: =Ar_Sensitivity*Ar38_Cl -> 1.9180182e-10 | CE21: =Ar38CC*SQRT((Ar38_Clerr/Ar38_Cl)^2+(Ar_sensitivityerr/Ar_Sensitivity)^2) -> 6.7962533e-13 | CF21: =Ar_Sensitivity*Ar39_IC -> 1.2473901e-13 | CG21: =Ar39CC*SQRT((Ar39_ICerr/Ar39_IC)^2+(Ar_sensitivityerr/Ar_Sensitivity)^2) -> 5.2048679e-14 | CH21: =Ar_Sensitivity*Ar40_IC -> 1.8229667e-09 | CI21: =Ar40CC*SQRT((Ar40_ICerr/Ar40_IC)^2+(Ar_sensitivityerr/Ar_Sensitivity)^2) -> 1.9283488e-12 | CJ21: =Ar38CC/MV -> 8.5572475e-15 | CK21: =Ar38_mole*SQRT((Ar38CCerr/Ar38CC)^2+(MVerr/MV)^2) -> 3.0321517e-17 | CL21: =Ar40CC/MV -> 8.1331746e-14 | CM21: =Ar40_mole*SQRT((Ar40CCerrr/Ar40CC)^2+(MVerr/MV)^2) -> 8.6033387e-17 | CN21: 0.005084626 | CO21: 7.55777e-06 | CP21: 1.1139739e+19 | CQ21: 1.0453257e+18 | CR21: 8.0438365e+17 | CS21: 8.5271401e+16 | CT21: 0.49881143 | CU21: 0.045926073 | CV21: 24.58188 | CW21: 0.55629982 | CX21: =K_constant*Ar39CC/J -> 9.0203591e-11 | CY21: =K_mole*SQRT((Ar39ccerr/Ar39CC)^2+(Jerr/J)^2+(K_Constanterr/K_constant)^2) -> 3.7647682e-11 | CZ21: =K_mole*MW_K/Sample_Mass*10^6 -> 0.39186745 | DA21: =K_ppm*SQRT((Sample_Masserr/Sample_Mass)^2+(MW_Kerr/MW_K)^2+(K_moleerr/K_mole)^2) -> 0.16356289 | DB21: =K_ppm/10^4 -> 3.9186745e-05 | DC21: =K_ppmerr/10^4 -> 1.6356289e-05 | DD21: =Cl_Constant*Ar38CC/(J*Beta) -> 6.2224879e-09 | DE21: =Cl_mole*SQRT((Ar38CCerr/Ar38CC)^2+(Jerr/J)^2+(Betaerr/Beta)^2+(Cl_Constanterr/Cl_Constant)^2) -> 1.5374623e-10 | DF21: =Cl_mole*MW_Cl/Sample_Mass*10^6 -> 24.511763 | DG21: =Cl_ppm*SQRT((Sample_Masserr/Sample_Mass)^2+(MW_Clerr/MW_Cl)^2+(Cl_moleerr/Cl_mole)^2) -> 0.6179168 | DH21: =Cl_ppm/10^4 -> 0.0024511763 | DI21: =Cl_ppmerr/10^4 -> 6.179168e-05 | DJ21: =Ca_Constant*Ar37CC/(J*alpha) -> 6.616515e-10 | DK21: =Ca_mole*SQRT((Ar37CCerr/Ar37CC)^2+(Jerr/J)^2+(alphaerr/alpha)^2+(Ca_Constanterr/Ca_Constant)^2) -> 1.4821131e-08 | DL21: =Ca_mole*MW_Ca/Sample_Mass*10^6 -> 2.9465547 | DM21: =Ca_ppm*SQRT((Sample_Masserr/Sample_Mass)^2+(MW_Caerr/MW_Ca)^2+(Ca_moleerr/Ca_mole)^2) -> 66.003436 | DN21: =Ca_ppm/10^4 -> 0.00029465547 | DO21: =Ca_ppmerr/10^4 -> 0.0066003436 | DP21: =K_mole/Cl_mole -> 0.014496387 | DQ21: =KCl_mol*SQRT(K_moleerr/K_mole)^2+(Cl_moleerr/Cl_mole)^2 -> 0.0066607551 | DR21: =K_mole/Ca_mole -> 0.13633097 | DS21: =KCa_mol*SQRT(K_moleerr/K_mole)^2+(Ca_moleerr/Ca_mole)^2 -> 501.82617 | DT21: =K_ppm/Cl_ppm -> 0.015986914 | DU21: =KCl_wt*SQRT(K_ppmerr/K_ppm)^2+(Cl_ppmerr/Cl_ppm)^2 -> 0.0073083257 | DV21: =K_ppm/Ca_ppm -> 0.13299175 | DW21: =KCa_wt*SQRT(K_ppmerr/K_ppm)^2+(Ca_ppmerr/Ca_ppm)^2 -> 501.82481 | DX21: =Ar40_mole/Cl_mole -> 1.3070615e-05 | DY21: =Ar40Cl_mol*SQRT((Ar40_moleerr/Ar40_mole)^2+(Cl_moleerr/Cl_mole)^2) -> 3.2324669e-07 | DZ21: =Ar40AC/Ar39_IC -> 569.87573 | EA21: =Ar40Ar39*SQRT((Ar40ACerr/Ar40AC)^2+(Ar39_ICerr/Ar39_IC)^2) -> 905.56794 | EB21: =(Ar40CC/MV)/K_mole -> 0.00090164643 | EC21: =Ar40K*SQRT((Ar40CCerrr/Ar40CC)^2+(K_moleerr/K_mole)^2+(MVerr/MV)^2) -> 0.00037631547 | ED21: =IF(Ar40Ar39>0,(1/lambda/10^6)*LN(1+(J*Ar40Ar39)),"") -> 2451.4565 | EE21: =IF(Age="","",SQRT((J^2*Ar40Ar39^2*((Ar40Ar39err/Ar40Ar39*100)^2))/(Age^2*0.00055305^2*((1+Ar40Ar39*J)^2)))*Age/100) -> 2136.0816 | EF21: =IF(Age="","",SQRT((J^2*Ar40Ar39^2*((Ar40Ar39err/Ar40Ar39*100)^2+(Jerr/J*100)^2))/(Age^2*0.00055305^2*((1+Ar40Ar39*J)^2)))*Age/100) -> 2136.0825 | EG21: =IF(Ar40Ar39>0,(1/lambda/10^6)*LN(1+(J*Ar40Ar39)),"") -> 2451.4565 | EH21: =IF(Age="","",SQRT((J^2*Ar40Ar39^2*((Ar40Ar39err/Ar40Ar39*100)^2))/(Age^2*0.00055305^2*((1+Ar40Ar39*J)^2)))*Age/100) -> 2136.0816 | EI21: =IF(Age="","",SQRT((J^2*Ar40Ar39^2*((Ar40Ar39err/Ar40Ar39*100)^2+(Jerr/J*100)^2))/(Age^2*0.00055305^2*((1+Ar40Ar39*J)^2)))*Age/100) -> 2136.0825 | EJ21: =CF21/$CF$33 -> 0.0018969458 | EK21: =EG21 -> 2451.4565 | EL21: =EH21 -> 2136.0816 | EM21: =Ar39_IC/Ar36_ClCor -> 0.021040458 | EN21: =EM21*SQRT((Ar40_ICerr/Ar40_IC)^2+(Ar36_ClCorerr/Ar36_ClCor)^2) -> 0.0013090515 | EO21: =Ar40_IC/Ar36_ClCor -> 307.49045 | EP21: =EO21*SQRT((Ar40_ICerr/Ar40_IC)^2+(Ar36_ClCorerr/Ar36_ClCor)^2) -> 19.130802 | EQ21: =Ar39_IC/Ar40_IC -> 6.8426379e-05 | ER21: =EQ21*SQRT((Ar40_ICerr/Ar40_IC)^2+(Ar39_ICerr/Ar39_IC)^2) -> 2.8551676e-05 | ES21: =Ar36_ClCor/Ar40_IC -> 0.0032521336 | ET21: =ES21*SQRT((Ar40_ICerr/Ar40_IC)^2+(Ar36_ClCorerr/Ar36_ClCor)^2) -> 0.00020233449 | FK21: =Kr80Raw-Kr80Blank -> 0 | FL21: =SQRT(Kr80Rawerr^2+Kr80Blankerr^2) -> 0 | LQ21: =Name -> B1x Plagioclase | LR21: =Irradiation -> MN2022a | LS21: =IF(ISNUMBER(K_ppm), K_ppm, "") -> 0.39186745 | LT21: =IF(ISNUMBER(K_ppmerr), K_ppmerr, "") -> 0.16356289 | LU21: =Cl_ppm -> 24.511763 | LV21: =Cl_ppmerr -> 0.6179168 | LW21: =Ca_ppm -> 2.9465547 | LX21: =Ca_ppmerr -> 66.003436 | MO21: =DT21 -> 0.015986914 | MP21: =DU21 -> 0.0073083257 | MW21: =DP21 -> 0.014496387 | MX21: =DQ21 -> 0.0066607551
B22: B1x Plagioclase | C22: =9/1000 -> 0.009 | D22: =C22*0.5% -> 4.5e-05 | E22: 44727 | F22: ARGUS | G22: MN2022a | H22: 1 | J22: 44644 | K22: continuous | L22: 1 | M22: 0.8 | N22: 30 | O22: 1468.4481 | P22: 0.410743 | Q22: 0.766729 | R22: 0.003882 | S22: 249.21766 | T22: 0.180425 | U22: 14.176497 | V22: 0.117453 | W22: 5.033879 | X22: 0.014203 | Y22: 6.3067745 | Z22: 0.93511706 | AA22: 0.043458 | AB22: 0.029863653 | AC22: 2.2128518 | AD22: 2.0188659 | AE22: 1.3901317 | AF22: 1.195401 | AG22: 0.25606525 | AH22: 0.21678044 | AI22: =Ar40Raw-Ar40Blank -> 1462.1413 | AJ22: =SQRT(Ar40Blankerr^2+Ar40Rawerr^2) -> 1.021349 | AK22: =Ar39Raw-Ar39Blank -> 0.723271 | AL22: =SQRT(Ar39Blankerr^2+Ar39Rawerr^2) -> 0.030114908 | AM22: =Ar38Raw-Ar38Blank -> 247.00481 | AN22: =SQRT(Ar38Blankerr^2+Ar38Rawerr^2) -> 2.0269121 | AO22: =Ar37Raw-Ar37Blank -> 12.786365 | AP22: =SQRT(Ar37Blankerr^2+Ar37Rawerr^2) -> 1.2011572 | AQ22: =Ar36Raw-Ar36Blank -> 4.7778137 | AR22: =SQRT(Ar36Blankerr^2+Ar36Rawerr^2) -> 0.21724522 | AS22: 300.7 | AT22: 0.28 | AU22: =Ar39BC*(1+(Ar4036_Aircal/Ar4036_Air-1)/4) -> 0.7264529 | AV22: =SQRT(Ar39BCerr^2+(Ar39BC*(Ar4036_Aircal/Ar4036_Air-1)/4)^2*((Ar4036_Aircalerr/Ar4036_Aircal)^2+(Ar39BCerr/Ar39BC)^2+(Ar4036_airerr/Ar4036_Air)^2)) -> 0.0301152 | AW22: =Ar38BC*(1+2*(Ar4036_Aircal/Ar4036_Air-1)/4) -> 249.17811 | AX22: =SQRT(Ar38BCerr^2+(Ar38BC*(Ar4036_Aircal/Ar4036_Air-1)/4)^2*((Ar4036_Aircalerr/Ar4036_Aircal)^2+(Ar38BCerr/Ar38BC)^2+(Ar4036_airerr/Ar4036_Air)^2)) -> 2.0269323 | AY22: =Ar37BC*(1+3*(Ar4036_Aircal/Ar4036_Air-1)/4) -> 12.955119 | AZ22: =SQRT(Ar37BCerr^2+(Ar37BC*(Ar4036_Aircal/Ar4036_Air-1)/3)^2*((Ar4036_Aircalerr/Ar4036_Aircal)^2+(Ar37BCerr/Ar37BC)^2+(Ar4036_airerr/Ar4036_Air)^2)) -> 1.2011779 | BA22: =Ar36BC*(1+4*(Ar4036_Aircal/Ar4036_Air-1)/4) -> 4.8618903 | BB22: =SQRT(Ar36BCerr^2+(Ar36BC*(Ar4036_Aircal/Ar4036_Air-1)/4)^2*((Ar4036_Aircalerr/Ar4036_Aircal)^2+(Ar36BCerr/Ar36BC)^2+(Ar4036_airerr/Ar4036_Air)^2)) -> 0.21724733 | BE22: =IF(Rad_Type="Continuous", Ar37_DC*EXP(lambda_37Ar*(Run_Date-Rad_Date)),Ar37_DC*Ar37_DecayFactor) -> 66.723486 | BF22: =IF(Rad_Type="Continuous", (Ar37_DCerr*EXP(lambda_37Ar*(Run_Date-Rad_Date))), Ar37_DCerr*Ar37_DecayFactor) -> 6.1864947 | BG22: =IF(Rad_Type="Continuous", Ar39_DC*EXP(lambda_39Ar*(Run_Date-Rad_Date)), Ar39_DC*Ar39_DecayFactor) -> 0.72687869 | BH22: =IF(Rad_Type="Continuous", (Ar39_DCerr*EXP(lambda_39Ar*(Run_Date-Rad_Date))), Ar39_DCerr*Ar39_DecayFactor) -> 0.030132851 | BI22: =Ar40BC-(Salt_40Ar39Ar_K*Ar39_IC) -> 1462.0546 | BJ22: =SQRT(Ar40BCerr^2+(Ar39_ICerr*Salt_40Ar39Ar_K)^2) -> 1.0213568 | BK22: =Ar39_DecayCor-(Salt_39Ar37Ar_Ca*Ar37_DecayCor) -> 0.66590223 | BL22: =SQRT(Ar39_DecayCorerr^2+(Ar37_DecayCorerr*Salt_39Ar37Ar_Ca)^2) -> 0.030658642 | BM22: =Ar38_DC-(Salt_38Ar39Ar_K*Ar39_DecayCor) -> 249.16689 | BN22: =SQRT(Ar38_DCerr^2+(Ar39_DecayCorerr*Salt_38Ar39Ar_K)^2) -> 2.0269323 | BO22: =Ar36_DC-(Salt_36Ar37Ar_Ca*Ar37_DecayCor) -> 4.8386152 | BP22: =SQRT(Ar36_DCerr^2+(Ar37_DecayCorerr*Salt_36Ar37Ar_Ca)^2) -> 0.21725804 | BR22: =IF(Rad_Type="Continuous", BO22-((EXP(lambda_36Ar*(Run_Date-Rad_Date))-1)*Cl3638_PR*BT22),BO22*Ar36_DecayFactor) -> 4.7987276 | BS22: =IF(K:K="Continuous", SQRT(BP22^2+(((EXP(lambda_36Ar*(Run_Date-Rad_Date))-1)*Cl3638_PR)*BU22^2)), Ar36_ICerr*Ar36_DecayFactor) -> 0.21731626 | BT22: =IF(Rad_Type="Continuous", BM22-(Ar3836_Air*BO22)/(1-lambda_36Ar*(Run_Date-Rad_Date)),Ar38_IC-(Ar3836_Air*Ar36_IC)/Ar36_DecayFactor) -> 248.25723 | BU22: =IF(Rad_Type ="Continuous", SQRT(BN22^2*(((EXP(lambda_36Ar*(Run_Date-Rad_Date))-1*Ar3836_Air)*BP22^2))),SQRT(Ar38_ICerr^2*(((EXP(lambda_36Ar*(Ar36_DecayFactor))-1*Ar3836_Air)*Ar36_ICerr^2)))) -> 0.39681974 | BV22: =Ar40_IC-(Ar36_ClCor*Ar4036_Air) -> 44.030597 | BW22: =SQRT(Ar40_ICerr^2+(Ar36_ClCorerr*Ar4036_Air)^2) -> 64.225077 | BX22: 1.6986775e-12 | BY22: 9.4454002e-16 | BZ22: =Ar_Sensitivity*Ar36_ClCor -> 8.1514905e-12 | CA22: =Ar36CC*SQRT((Ar36_ClCorerr/Ar36_ClCor)^2+(Ar_sensitivityerr/Ar_Sensitivity)^2) -> 3.6917806e-13 | CB22: =Ar37_DecayCor*Ar_Sensitivity -> 1.1334168e-10 | CC22: =Ar37CC*SQRT((Ar37_DecayCorerr/Ar37_DecayCor)^2+(Ar_sensitivityerr/Ar_Sensitivity)^2) -> 1.0509048e-11 | CD22: =Ar_Sensitivity*Ar38_Cl -> 4.2170896e-10 | CE22: =Ar38CC*SQRT((Ar38_Clerr/Ar38_Cl)^2+(Ar_sensitivityerr/Ar_Sensitivity)^2) -> 7.1369021e-13 | CF22: =Ar_Sensitivity*Ar39_IC -> 1.1311531e-12 | CG22: =Ar39CC*SQRT((Ar39_ICerr/Ar39_IC)^2+(Ar_sensitivityerr/Ar_Sensitivity)^2) -> 5.2082943e-14 | CH22: =Ar_Sensitivity*Ar40_IC -> 2.4835592e-09 | CI22: =Ar40CC*SQRT((Ar40_ICerr/Ar40_IC)^2+(Ar_sensitivityerr/Ar_Sensitivity)^2) -> 2.2174641e-12 | CJ22: =Ar38CC/MV -> 1.8814566e-14 | CK22: =Ar38_mole*SQRT((Ar38CCerr/Ar38CC)^2+(MVerr/MV)^2) -> 3.1841325e-17 | CL22: =Ar40CC/MV -> 1.1080412e-13 | CM22: =Ar40_mole*SQRT((Ar40CCerrr/Ar40CC)^2+(MVerr/MV)^2) -> 9.893229e-17 | CN22: 0.005134083 | CO22: 7.55777e-06 | CP22: 1.1139739e+19 | CQ22: 1.0453257e+18 | CR22: 8.0438365e+17 | CS22: 8.5271401e+16 | CT22: 0.49881143 | CU22: 0.045926073 | CV22: 24.58188 | CW22: 0.55629982 | CX22: =K_constant*Ar39CC/J -> 8.1010082e-10 | CY22: =K_mole*SQRT((Ar39ccerr/Ar39CC)^2+(Jerr/J)^2+(K_Constanterr/K_constant)^2) -> 3.8047297e-11 | CZ22: =K_mole*MW_K/Sample_Mass*10^6 -> 3.519285 | DA22: =K_ppm*SQRT((Sample_Masserr/Sample_Mass)^2+(MW_Kerr/MW_K)^2+(K_moleerr/K_mole)^2) -> 0.1662212 | DB22: =K_ppm/10^4 -> 0.0003519285 | DC22: =K_ppmerr/10^4 -> 1.662212e-05 | DD22: =Cl_Constant*Ar38CC/(J*Beta) -> 1.3549407e-08 | DE22: =Cl_mole*SQRT((Ar38CCerr/Ar38CC)^2+(Jerr/J)^2+(Betaerr/Beta)^2+(Cl_Constanterr/Cl_Constant)^2) -> 3.3210133e-10 | DF22: =Cl_mole*MW_Cl/Sample_Mass*10^6 -> 53.374126 | DG22: =Cl_ppm*SQRT((Sample_Masserr/Sample_Mass)^2+(MW_Clerr/MW_Cl)^2+(Cl_moleerr/Cl_mole)^2) -> 1.3351637 | DH22: =Cl_ppm/10^4 -> 0.0053374126 | DI22: =Cl_ppmerr/10^4 -> 0.00013351637 | DJ22: =Ca_Constant*Ar37CC/(J*alpha) -> 1.5874538e-07 | DK22: =Ca_mole*SQRT((Ar37CCerr/Ar37CC)^2+(Jerr/J)^2+(alphaerr/alpha)^2+(Ca_Constanterr/Ca_Constant)^2) -> 2.0794947e-08 | DL22: =Ca_mole*MW_Ca/Sample_Mass*10^6 -> 706.94609 | DM22: =Ca_ppm*SQRT((Sample_Masserr/Sample_Mass)^2+(MW_Caerr/MW_Ca)^2+(Ca_moleerr/Ca_mole)^2) -> 92.674291 | DN22: =Ca_ppm/10^4 -> 0.070694609 | DO22: =Ca_ppmerr/10^4 -> 0.0092674291 | DP22: =K_mole/Cl_mole -> 0.059788654 | DQ22: =KCl_mol*SQRT(K_moleerr/K_mole)^2+(Cl_moleerr/Cl_mole)^2 -> 0.0034088009 | DR22: =K_mole/Ca_mole -> 0.0051031458 | DS22: =KCa_mol*SQRT(K_moleerr/K_mole)^2+(Ca_moleerr/Ca_mole)^2 -> 0.017399523 | DT22: =K_ppm/Cl_ppm -> 0.065936161 | DU22: =KCl_wt*SQRT(K_ppmerr/K_ppm)^2+(Cl_ppmerr/Cl_ppm)^2 -> 0.0037400249 | DV22: =K_ppm/Ca_ppm -> 0.0049781519 | DW22: =KCa_wt*SQRT(K_ppmerr/K_ppm)^2+(Ca_ppmerr/Ca_ppm)^2 -> 0.017419984 | DX22: =Ar40_mole/Cl_mole -> 8.1777833e-06 | DY22: =Ar40Cl_mol*SQRT((Ar40_moleerr/Ar40_mole)^2+(Cl_moleerr/Cl_mole)^2) -> 2.0057365e-07 | DZ22: =Ar40AC/Ar39_IC -> 66.121714 | EA22: =Ar40Ar39*SQRT((Ar40ACerr/Ar40AC)^2+(Ar39_ICerr/Ar39_IC)^2) -> 96.496241 | EB22: =(Ar40CC/MV)/K_mole -> 0.00013677818 | EC22: =Ar40K*SQRT((Ar40CCerrr/Ar40CC)^2+(K_moleerr/K_mole)^2+(MVerr/MV)^2) -> 6.4251018e-06 | ED22: =IF(Ar40Ar39>0,(1/lambda/10^6)*LN(1+(J*Ar40Ar39)),"") -> 526.70164 | EE22: =IF(Age="","",SQRT((J^2*Ar40Ar39^2*((Ar40Ar39err/Ar40Ar39*100)^2))/(Age^2*0.00055305^2*((1+Ar40Ar39*J)^2)))*Age/100) -> 668.76645 | EF22: =IF(Age="","",SQRT((J^2*Ar40Ar39^2*((Ar40Ar39err/Ar40Ar39*100)^2+(Jerr/J*100)^2))/(Age^2*0.00055305^2*((1+Ar40Ar39*J)^2)))*Age/100) -> 668.76679 | EG22: =IF(Ar40Ar39>0,(1/lambda/10^6)*LN(1+(J*Ar40Ar39)),"") -> 526.70164 | EH22: =IF(Age="","",SQRT((J^2*Ar40Ar39^2*((Ar40Ar39err/Ar40Ar39*100)^2))/(Age^2*0.00055305^2*((1+Ar40Ar39*J)^2)))*Age/100) -> 668.76645 | EI22: =IF(Age="","",SQRT((J^2*Ar40Ar39^2*((Ar40Ar39err/Ar40Ar39*100)^2+(Jerr/J*100)^2))/(Age^2*0.00055305^2*((1+Ar40Ar39*J)^2)))*Age/100) -> 668.76679 | EJ22: =CF22/$CF$33 -> 0.017201806 | EK22: =EG22 -> 526.70164 | EL22: =EH22 -> 668.76645 | EM22: =Ar39_IC/Ar36_ClCor -> 0.13876642 | EN22: =EM22*SQRT((Ar40_ICerr/Ar40_IC)^2+(Ar36_ClCorerr/Ar36_ClCor)^2) -> 0.0062849549 | EO22: =Ar40_IC/Ar36_ClCor -> 304.67547 | EP22: =EO22*SQRT((Ar40_ICerr/Ar40_IC)^2+(Ar36_ClCorerr/Ar36_ClCor)^2) -> 13.799244 | EQ22: =Ar39_IC/Ar40_IC -> 0.00045545647 | ER22: =EQ22*SQRT((Ar40_ICerr/Ar40_IC)^2+(Ar39_ICerr/Ar39_IC)^2) -> 2.0971974e-05 | ES22: =Ar36_ClCor/Ar40_IC -> 0.0032821808 | ET22: =ES22*SQRT((Ar40_ICerr/Ar40_IC)^2+(Ar36_ClCorerr/Ar36_ClCor)^2) -> 0.00014865527 | LQ22: =Name -> B1x Plagioclase | LR22: =Irradiation -> MN2022a | LS22: =IF(ISNUMBER(K_ppm), K_ppm, "") -> 3.519285 | LT22: =IF(ISNUMBER(K_ppmerr), K_ppmerr, "") -> 0.1662212 | LU22: =Cl_ppm -> 53.374126 | LV22: =Cl_ppmerr -> 1.3351637 | LW22: =Ca_ppm -> 706.94609 | LX22: =Ca_ppmerr -> 92.674291 | MO22: =DT22 -> 0.065936161 | MP22: =DU22 -> 0.0037400249 | MW22: =DP22 -> 0.059788654 | MX22: =DQ22 -> 0.0034088009
B23: B1x Plagioclase | C23: =9/1000 -> 0.009 | D23: =C23*0.5% -> 4.5e-05 | E23: 44727 | F23: ARGUS | G23: MN2022a | H23: 1 | J23: 44644 | K23: continuous | L23: 1.5 | M23: 1.35 | N23: 30 | O23: 1153.8359 | P23: 0.212714 | Q23: 2.338462 | R23: 0.007143 | S23: 210.31971 | T23: 0.118 | U23: 66.700607 | V23: 0.124593 | W23: 4.080173 | X23: 0.007267 | Y23: 6.3067745 | Z23: 0.93511706 | AA23: 0.043458 | AB23: 0.029863653 | AC23: 2.2128518 | AD23: 2.0188659 | AE23: 1.3901317 | AF23: 1.195401 | AG23: 0.25606525 | AH23: 0.21678044 | AI23: =Ar40Raw-Ar40Blank -> 1147.5291 | AJ23: =SQRT(Ar40Blankerr^2+Ar40Rawerr^2) -> 0.9590053 | AK23: =Ar39Raw-Ar39Blank -> 2.295004 | AL23: =SQRT(Ar39Blankerr^2+Ar39Rawerr^2) -> 0.030706029 | AM23: =Ar38Raw-Ar38Blank -> 208.10685 | AN23: =SQRT(Ar38Blankerr^2+Ar38Rawerr^2) -> 2.0223114 | AO23: =Ar37Raw-Ar37Blank -> 65.310475 | AP23: =SQRT(Ar37Blankerr^2+Ar37Rawerr^2) -> 1.2018764 | AQ23: =Ar36Raw-Ar36Blank -> 3.8241078 | AR23: =SQRT(Ar36Blankerr^2+Ar36Rawerr^2) -> 0.21690221 | AS23: 300.7 | AT23: 0.28 | AU23: =Ar39BC*(1+(Ar4036_Aircal/Ar4036_Air-1)/4) -> 2.3051005 | AV23: =SQRT(Ar39BCerr^2+(Ar39BC*(Ar4036_Aircal/Ar4036_Air-1)/4)^2*((Ar4036_Aircalerr/Ar4036_Aircal)^2+(Ar39BCerr/Ar39BC)^2+(Ar4036_airerr/Ar4036_Air)^2)) -> 0.030706329 | AW23: =Ar38BC*(1+2*(Ar4036_Aircal/Ar4036_Air-1)/4) -> 209.93791 | AX23: =SQRT(Ar38BCerr^2+(Ar38BC*(Ar4036_Aircal/Ar4036_Air-1)/4)^2*((Ar4036_Aircalerr/Ar4036_Aircal)^2+(Ar38BCerr/Ar38BC)^2+(Ar4036_airerr/Ar4036_Air)^2)) -> 2.0223314 | AY23: =Ar37BC*(1+3*(Ar4036_Aircal/Ar4036_Air-1)/4) -> 66.172441 | AZ23: =SQRT(Ar37BCerr^2+(Ar37BC*(Ar4036_Aircal/Ar4036_Air-1)/3)^2*((Ar4036_Aircalerr/Ar4036_Aircal)^2+(Ar37BCerr/Ar37BC)^2+(Ar4036_airerr/Ar4036_Air)^2)) -> 1.2018972 | BA23: =Ar36BC*(1+4*(Ar4036_Aircal/Ar4036_Air-1)/4) -> 3.8914017 | BB23: =SQRT(Ar36BCerr^2+(Ar36BC*(Ar4036_Aircal/Ar4036_Air-1)/4)^2*((Ar4036_Aircalerr/Ar4036_Aircal)^2+(Ar36BCerr/Ar36BC)^2+(Ar4036_airerr/Ar4036_Air)^2)) -> 0.21690431 | BE23: =IF(Rad_Type="Continuous", Ar37_DC*EXP(lambda_37Ar*(Run_Date-Rad_Date)),Ar37_DC*Ar37_DecayFactor) -> 340.81168 | BF23: =IF(Rad_Type="Continuous", (Ar37_DCerr*EXP(lambda_37Ar*(Run_Date-Rad_Date))), Ar37_DCerr*Ar37_DecayFactor) -> 6.1901993 | BG23: =IF(Rad_Type="Continuous", Ar39_DC*EXP(lambda_39Ar*(Run_Date-Rad_Date)), Ar39_DC*Ar39_DecayFactor) -> 2.3064515 | BH23: =IF(Rad_Type="Continuous", (Ar39_DCerr*EXP(lambda_39Ar*(Run_Date-Rad_Date))), Ar39_DCerr*Ar39_DecayFactor) -> 0.030724327 | BI23: =Ar40BC-(Salt_40Ar39Ar_K*Ar39_IC) -> 1147.2693 | BJ23: =SQRT(Ar40BCerr^2+(Ar39_ICerr*Salt_40Ar39Ar_K)^2) -> 0.95901392 | BK23: =Ar39_DecayCor-(Salt_39Ar37Ar_Ca*Ar37_DecayCor) -> 1.9949947 | BL23: =SQRT(Ar39_DecayCorerr^2+(Ar37_DecayCorerr*Salt_39Ar37Ar_Ca)^2) -> 0.031240778 | BM23: =Ar38_DC-(Salt_38Ar39Ar_K*Ar39_DecayCor) -> 209.9023 | BN23: =SQRT(Ar38_DCerr^2+(Ar39_DecayCorerr*Salt_38Ar39Ar_K)^2) -> 2.0223315 | BO23: =Ar36_DC-(Salt_36Ar37Ar_Ca*Ar37_DecayCor) -> 3.7725166 | BP23: =SQRT(Ar36_DCerr^2+(Ar37_DecayCorerr*Salt_36Ar37Ar_Ca)^2) -> 0.21691506 | BR23: =IF(Rad_Type="Continuous", BO23-((EXP(lambda_36Ar*(Run_Date-Rad_Date))-1)*Cl3638_PR*BT23),BO23*Ar36_DecayFactor) -> 3.7389055 | BS23: =IF(K:K="Continuous", SQRT(BP23^2+(((EXP(lambda_36Ar*(Run_Date-Rad_Date))-1)*Cl3638_PR)*BU23^2)), Ar36_ICerr*Ar36_DecayFactor) -> 0.21697292 | BT23: =IF(Rad_Type="Continuous", BM23-(Ar3836_Air*BO23)/(1-lambda_36Ar*(Run_Date-Rad_Date)),Ar38_IC-(Ar3836_Air*Ar36_IC)/Ar36_DecayFactor) -> 209.19306 | BU23: =IF(Rad_Type ="Continuous", SQRT(BN23^2*(((EXP(lambda_36Ar*(Run_Date-Rad_Date))-1*Ar3836_Air)*BP23^2))),SQRT(Ar38_ICerr^2*(((EXP(lambda_36Ar*(Ar36_DecayFactor))-1*Ar3836_Air)*Ar36_ICerr^2)))) -> 0.39529397 | BV23: =Ar40_IC-(Ar36_ClCor*Ar4036_Air) -> 42.422731 | BW23: =SQRT(Ar40_ICerr^2+(Ar36_ClCorerr*Ar4036_Air)^2) -> 64.122671 | BX23: 1.6986775e-12 | BY23: 9.4454002e-16 | BZ23: =Ar_Sensitivity*Ar36_ClCor -> 6.3511945e-12 | CA23: =Ar36CC*SQRT((Ar36_ClCorerr/Ar36_ClCor)^2+(Ar_sensitivityerr/Ar_Sensitivity)^2) -> 3.6858394e-13 | CB23: =Ar37_DecayCor*Ar_Sensitivity -> 5.7892912e-10 | CC23: =Ar37CC*SQRT((Ar37_DecayCorerr/Ar37_DecayCor)^2+(Ar_sensitivityerr/Ar_Sensitivity)^2) -> 1.0520079e-11 | CD23: =Ar_Sensitivity*Ar38_Cl -> 3.5535154e-10 | CE23: =Ar38CC*SQRT((Ar38_Clerr/Ar38_Cl)^2+(Ar_sensitivityerr/Ar_Sensitivity)^2) -> 6.9994544e-13 | CF23: =Ar_Sensitivity*Ar39_IC -> 3.3888525e-12 | CG23: =Ar39CC*SQRT((Ar39_ICerr/Ar39_IC)^2+(Ar_sensitivityerr/Ar_Sensitivity)^2) -> 5.310145e-14 | CH23: =Ar_Sensitivity*Ar40_IC -> 1.9488405e-09 | CI23: =Ar40CC*SQRT((Ar40_ICerr/Ar40_IC)^2+(Ar_sensitivityerr/Ar_Sensitivity)^2) -> 1.9565533e-12 | CJ23: =Ar38CC/MV -> 1.5854026e-14 | CK23: =Ar38_mole*SQRT((Ar38CCerr/Ar38CC)^2+(MVerr/MV)^2) -> 3.1228101e-17 | CL23: =Ar40CC/MV -> 8.6947614e-14 | CM23: =Ar40_mole*SQRT((Ar40CCerrr/Ar40CC)^2+(MVerr/MV)^2) -> 8.7291735e-17 | CN23: 0.005134083 | CO23: 7.55777e-06 | CP23: 1.1139739e+19 | CQ23: 1.0453257e+18 | CR23: 8.0438365e+17 | CS23: 8.5271401e+16 | CT23: 0.49881143 | CU23: 0.045926073 | CV23: 24.58188 | CW23: 0.55629982 | CX23: =K_constant*Ar39CC/J -> 2.4270031e-09 | CY23: =K_mole*SQRT((Ar39ccerr/Ar39CC)^2+(Jerr/J)^2+(K_Constanterr/K_constant)^2) -> 4.4174667e-11 | CZ23: =K_mole*MW_K/Sample_Mass*10^6 -> 10.543522 | DA23: =K_ppm*SQRT((Sample_Masserr/Sample_Mass)^2+(MW_Kerr/MW_K)^2+(K_moleerr/K_mole)^2) -> 0.19901527 | DB23: =K_ppm/10^4 -> 0.0010543522 | DC23: =K_ppmerr/10^4 -> 1.9901527e-05 | DD23: =Cl_Constant*Ar38CC/(J*Beta) -> 1.1417359e-08 | DE23: =Cl_mole*SQRT((Ar38CCerr/Ar38CC)^2+(Jerr/J)^2+(Betaerr/Beta)^2+(Cl_Constanterr/Cl_Constant)^2) -> 2.8008045e-10 | DF23: =Cl_mole*MW_Cl/Sample_Mass*10^6 -> 44.975516 | DG23: =Cl_ppm*SQRT((Sample_Masserr/Sample_Mass)^2+(MW_Clerr/MW_Cl)^2+(Cl_moleerr/Cl_mole)^2) -> 1.1259836 | DH23: =Cl_ppm/10^4 -> 0.0044975516 | DI23: =Cl_ppmerr/10^4 -> 0.00011259836 | DJ23: =Ca_Constant*Ar37CC/(J*alpha) -> 8.1084311e-07 | DK23: =Ca_mole*SQRT((Ar37CCerr/Ar37CC)^2+(Jerr/J)^2+(alphaerr/alpha)^2+(Ca_Constanterr/Ca_Constant)^2) -> 7.6464893e-08 | DL23: =Ca_mole*MW_Ca/Sample_Mass*10^6 -> 3610.9546 | DM23: =Ca_ppm*SQRT((Sample_Masserr/Sample_Mass)^2+(MW_Caerr/MW_Ca)^2+(Ca_moleerr/Ca_mole)^2) -> 341.00215 | DN23: =Ca_ppm/10^4 -> 0.36109546 | DO23: =Ca_ppmerr/10^4 -> 0.034100215 | DP23: =K_mole/Cl_mole -> 0.21257132 | DQ23: =KCl_mol*SQRT(K_moleerr/K_mole)^2+(Cl_moleerr/Cl_mole)^2 -> 0.0044708543 | DR23: =K_mole/Ca_mole -> 0.0029931846 | DS23: =KCa_mol*SQRT(K_moleerr/K_mole)^2+(Ca_moleerr/Ca_mole)^2 -> 0.0089475254 | DT23: =K_ppm/Cl_ppm -> 0.23442804 | DU23: =KCl_wt*SQRT(K_ppmerr/K_ppm)^2+(Cl_ppmerr/Cl_ppm)^2 -> 0.0050517443 | DV23: =K_ppm/Ca_ppm -> 0.002919871 | DW23: =KCa_wt*SQRT(K_ppmerr/K_ppm)^2+(Ca_ppmerr/Ca_ppm)^2 -> 0.0089731697 | DX23: =Ar40_mole/Cl_mole -> 7.6153874e-06 | DY23: =Ar40Cl_mol*SQRT((Ar40_moleerr/Ar40_mole)^2+(Cl_moleerr/Cl_mole)^2) -> 1.8697026e-07 | DZ23: =Ar40AC/Ar39_IC -> 21.264584 | EA23: =Ar40Ar39*SQRT((Ar40ACerr/Ar40AC)^2+(Ar39_ICerr/Ar39_IC)^2) -> 32.143501 | EB23: =(Ar40CC/MV)/K_mole -> 3.5825094e-05 | EC23: =Ar40K*SQRT((Ar40CCerrr/Ar40CC)^2+(K_moleerr/K_mole)^2+(MVerr/MV)^2) -> 6.5305528e-07 | ED23: =IF(Ar40Ar39>0,(1/lambda/10^6)*LN(1+(J*Ar40Ar39)),"") -> 186.7219 | EE23: =IF(Age="","",SQRT((J^2*Ar40Ar39^2*((Ar40Ar39err/Ar40Ar39*100)^2))/(Age^2*0.00055305^2*((1+Ar40Ar39*J)^2)))*Age/100) -> 269.02456 | EF23: =IF(Age="","",SQRT((J^2*Ar40Ar39^2*((Ar40Ar39err/Ar40Ar39*100)^2+(Jerr/J*100)^2))/(Age^2*0.00055305^2*((1+Ar40Ar39*J)^2)))*Age/100) -> 269.02469 | EG23: =IF(Ar40Ar39>0,(1/lambda/10^6)*LN(1+(J*Ar40Ar39)),"") -> 186.7219 | EH23: =IF(Age="","",SQRT((J^2*Ar40Ar39^2*((Ar40Ar39err/Ar40Ar39*100)^2))/(Age^2*0.00055305^2*((1+Ar40Ar39*J)^2)))*Age/100) -> 269.02456 | EI23: =IF(Age="","",SQRT((J^2*Ar40Ar39^2*((Ar40Ar39err/Ar40Ar39*100)^2+(Jerr/J*100)^2))/(Age^2*0.00055305^2*((1+Ar40Ar39*J)^2)))*Age/100) -> 269.02469 | EJ23: =CF23/$CF$33 -> 0.051535359 | EK23: =EG23 -> 186.7219 | EL23: =EH23 -> 269.02456 | EM23: =Ar39_IC/Ar36_ClCor -> 0.53357718 | EN23: =EM23*SQRT((Ar40_ICerr/Ar40_IC)^2+(Ar36_ClCorerr/Ar36_ClCor)^2) -> 0.030967301 | EO23: =Ar40_IC/Ar36_ClCor -> 306.8463 | EP23: =EO23*SQRT((Ar40_ICerr/Ar40_IC)^2+(Ar36_ClCorerr/Ar36_ClCor)^2) -> 17.808486 | EQ23: =Ar39_IC/Ar40_IC -> 0.001738907 | ER23: =EQ23*SQRT((Ar40_ICerr/Ar40_IC)^2+(Ar39_ICerr/Ar39_IC)^2) -> 2.7269321e-05 | ES23: =Ar36_ClCor/Ar40_IC -> 0.0032589606 | ET23: =ES23*SQRT((Ar40_ICerr/Ar40_IC)^2+(Ar36_ClCorerr/Ar36_ClCor)^2) -> 0.0001891408 | LQ23: =Name -> B1x Plagioclase | LR23: =Irradiation -> MN2022a | LS23: =IF(ISNUMBER(K_ppm), K_ppm, "") -> 10.543522 | LT23: =IF(ISNUMBER(K_ppmerr), K_ppmerr, "") -> 0.19901527 | LU23: =Cl_ppm -> 44.975516 | LV23: =Cl_ppmerr -> 1.1259836 | LW23: =Ca_ppm -> 3610.9546 | LX23: =Ca_ppmerr -> 341.00215 | MO23: =DT23 -> 0.23442804 | MP23: =DU23 -> 0.0050517443 | MW23: =DP23 -> 0.21257132 | MX23: =DQ23 -> 0.0044708543
B24: B1x Plagioclase | C24: =9/1000 -> 0.009 | D24: =C24*0.5% -> 4.5e-05 | E24: 44727 | F24: ARGUS | G24: MN2022a | H24: 1 | J24: 44644 | K24: continuous | L24: 2 | M24: 1.87 | N24: 30 | O24: 649.76371 | P24: 0.196 | Q24: 4.224898 | R24: 0.009242 | S24: 120.76221 | T24: 0.109138 | U24: 149.15186 | V24: 0.121479 | W24: 2.533007 | X24: 0.008608 | Y24: 6.3067745 | Z24: 0.93511706 | AA24: 0.043458 | AB24: 0.029863653 | AC24: 2.2128518 | AD24: 2.0188659 | AE24: 1.3901317 | AF24: 1.195401 | AG24: 0.25606525 | AH24: 0.21678044 | AI24: =Ar40Raw-Ar40Blank -> 643.45693 | AJ24: =SQRT(Ar40Blankerr^2+Ar40Rawerr^2) -> 0.95543703 | AK24: =Ar39Raw-Ar39Blank -> 4.18144 | AL24: =SQRT(Ar39Blankerr^2+Ar39Rawerr^2) -> 0.031261035 | AM24: =Ar38Raw-Ar38Blank -> 118.54936 | AN24: =SQRT(Ar38Blankerr^2+Ar38Rawerr^2) -> 2.0218137 | AO24: =Ar37Raw-Ar37Blank -> 147.76173 | AP24: =SQRT(Ar37Blankerr^2+Ar37Rawerr^2) -> 1.2015576 | AQ24: =Ar36Raw-Ar36Blank -> 2.2769417 | AR24: =SQRT(Ar36Blankerr^2+Ar36Rawerr^2) -> 0.21695128 | AS24: 300.7 | AT24: 0.28 | AU24: =Ar39BC*(1+(Ar4036_Aircal/Ar4036_Air-1)/4) -> 4.1998355 | AV24: =SQRT(Ar39BCerr^2+(Ar39BC*(Ar4036_Aircal/Ar4036_Air-1)/4)^2*((Ar4036_Aircalerr/Ar4036_Aircal)^2+(Ar39BCerr/Ar39BC)^2+(Ar4036_airerr/Ar4036_Air)^2)) -> 0.031261349 | AW24: =Ar38BC*(1+2*(Ar4036_Aircal/Ar4036_Air-1)/4) -> 119.59244 | AX24: =SQRT(Ar38BCerr^2+(Ar38BC*(Ar4036_Aircal/Ar4036_Air-1)/4)^2*((Ar4036_Aircalerr/Ar4036_Aircal)^2+(Ar38BCerr/Ar38BC)^2+(Ar4036_airerr/Ar4036_Air)^2)) -> 2.0218334 | AY24: =Ar37BC*(1+3*(Ar4036_Aircal/Ar4036_Air-1)/4) -> 149.71189 | AZ24: =SQRT(Ar37BCerr^2+(Ar37BC*(Ar4036_Aircal/Ar4036_Air-1)/3)^2*((Ar4036_Aircalerr/Ar4036_Aircal)^2+(Ar37BCerr/Ar37BC)^2+(Ar4036_airerr/Ar4036_Air)^2)) -> 1.2015789 | BA24: =Ar36BC*(1+4*(Ar4036_Aircal/Ar4036_Air-1)/4) -> 2.3170098 | BB24: =SQRT(Ar36BCerr^2+(Ar36BC*(Ar4036_Aircal/Ar4036_Air-1)/4)^2*((Ar4036_Aircalerr/Ar4036_Aircal)^2+(Ar36BCerr/Ar36BC)^2+(Ar4036_airerr/Ar4036_Air)^2)) -> 0.21695338 | BE24: =IF(Rad_Type="Continuous", Ar37_DC*EXP(lambda_37Ar*(Run_Date-Rad_Date)),Ar37_DC*Ar37_DecayFactor) -> 771.06962 | BF24: =IF(Rad_Type="Continuous", (Ar37_DCerr*EXP(lambda_37Ar*(Run_Date-Rad_Date))), Ar37_DCerr*Ar37_DecayFactor) -> 6.1885598 | BG24: =IF(Rad_Type="Continuous", Ar39_DC*EXP(lambda_39Ar*(Run_Date-Rad_Date)), Ar39_DC*Ar39_DecayFactor) -> 4.2022971 | BH24: =IF(Rad_Type="Continuous", (Ar39_DCerr*EXP(lambda_39Ar*(Run_Date-Rad_Date))), Ar39_DCerr*Ar39_DecayFactor) -> 0.031279671 | BI24: =Ar40BC-(Salt_40Ar39Ar_K*Ar39_IC) -> 643.00148 | BJ24: =SQRT(Ar40BCerr^2+(Ar39_ICerr*Salt_40Ar39Ar_K)^2) -> 0.95544599 | BK24: =Ar39_DecayCor-(Salt_39Ar37Ar_Ca*Ar37_DecayCor) -> 3.4976413 | BL24: =SQRT(Ar39_DecayCorerr^2+(Ar37_DecayCorerr*Salt_39Ar37Ar_Ca)^2) -> 0.031786834 | BM24: =Ar38_DC-(Salt_38Ar39Ar_K*Ar39_DecayCor) -> 119.52754 | BN24: =SQRT(Ar38_DCerr^2+(Ar39_DecayCorerr*Salt_38Ar39Ar_K)^2) -> 2.0218334 | BO24: =Ar36_DC-(Salt_36Ar37Ar_Ca*Ar37_DecayCor) -> 2.0480382 | BP24: =SQRT(Ar36_DCerr^2+(Ar37_DecayCorerr*Salt_36Ar37Ar_Ca)^2) -> 0.21696412 | BR24: =IF(Rad_Type="Continuous", BO24-((EXP(lambda_36Ar*(Run_Date-Rad_Date))-1)*Cl3638_PR*BT24),BO24*Ar36_DecayFactor) -> 2.0288955 | BS24: =IF(K:K="Continuous", SQRT(BP24^2+(((EXP(lambda_36Ar*(Run_Date-Rad_Date))-1)*Cl3638_PR)*BU24^2)), Ar36_ICerr*Ar36_DecayFactor) -> 0.21702197 | BT24: =IF(Rad_Type="Continuous", BM24-(Ar3836_Air*BO24)/(1-lambda_36Ar*(Run_Date-Rad_Date)),Ar38_IC-(Ar3836_Air*Ar36_IC)/Ar36_DecayFactor) -> 119.14251 | BU24: =IF(Rad_Type ="Continuous", SQRT(BN24^2*(((EXP(lambda_36Ar*(Run_Date-Rad_Date))-1*Ar3836_Air)*BP24^2))),SQRT(Ar38_ICerr^2*(((EXP(lambda_36Ar*(Ar36_DecayFactor))-1*Ar3836_Air)*Ar36_ICerr^2)))) -> 0.39528601 | BV24: =Ar40_IC-(Ar36_ClCor*Ar4036_Air) -> 43.46286 | BW24: =SQRT(Ar40_ICerr^2+(Ar36_ClCorerr*Ar4036_Air)^2) -> 64.137109 | BX24: 1.6986775e-12 | BY24: 9.4454002e-16 | BZ24: =Ar_Sensitivity*Ar36_ClCor -> 3.4464391e-12 | CA24: =Ar36CC*SQRT((Ar36_ClCorerr/Ar36_ClCor)^2+(Ar_sensitivityerr/Ar_Sensitivity)^2) -> 3.6865531e-13 | CB24: =Ar37_DecayCor*Ar_Sensitivity -> 1.3097986e-09 | CC24: =Ar37CC*SQRT((Ar37_DecayCorerr/Ar37_DecayCor)^2+(Ar_sensitivityerr/Ar_Sensitivity)^2) -> 1.0537566e-11 | CD24: =Ar_Sensitivity*Ar38_Cl -> 2.023847e-10 | CE24: =Ar38CC*SQRT((Ar38_Clerr/Ar38_Cl)^2+(Ar_sensitivityerr/Ar_Sensitivity)^2) -> 6.8082836e-13 | CF24: =Ar_Sensitivity*Ar39_IC -> 5.9413645e-12 | CG24: =Ar39CC*SQRT((Ar39_ICerr/Ar39_IC)^2+(Ar_sensitivityerr/Ar_Sensitivity)^2) -> 5.409655e-14 | CH24: =Ar_Sensitivity*Ar40_IC -> 1.0922521e-09 | CI24: =Ar40CC*SQRT((Ar40_ICerr/Ar40_IC)^2+(Ar_sensitivityerr/Ar_Sensitivity)^2) -> 1.7329091e-12 | CJ24: =Ar38CC/MV -> 9.0294033e-15 | CK24: =Ar38_mole*SQRT((Ar38CCerr/Ar38CC)^2+(MVerr/MV)^2) -> 3.0375191e-17 | CL24: =Ar40CC/MV -> 4.8730882e-14 | CM24: =Ar40_mole*SQRT((Ar40CCerrr/Ar40CC)^2+(MVerr/MV)^2) -> 7.731383e-17 | CN24: 0.005134083 | CO24: 7.55777e-06 | CP24: 1.1139739e+19 | CQ24: 1.0453257e+18 | CR24: 8.0438365e+17 | CS24: 8.5271401e+16 | CT24: 0.49881143 | CU24: 0.045926073 | CV24: 24.58188 | CW24: 0.55629982 | CX24: =K_constant*Ar39CC/J -> 4.2550422e-09 | CY24: =K_mole*SQRT((Ar39ccerr/Ar39CC)^2+(Jerr/J)^2+(K_Constanterr/K_constant)^2) -> 5.5259691e-11 | CZ24: =K_mole*MW_K/Sample_Mass*10^6 -> 18.484991 | DA24: =K_ppm*SQRT((Sample_Masserr/Sample_Mass)^2+(MW_Kerr/MW_K)^2+(K_moleerr/K_mole)^2) -> 0.25723966 | DB24: =K_ppm/10^4 -> 0.0018484991 | DC24: =K_ppmerr/10^4 -> 2.5723966e-05 | DD24: =Cl_Constant*Ar38CC/(J*Beta) -> 6.5025717e-09 | DE24: =Cl_mole*SQRT((Ar38CCerr/Ar38CC)^2+(Jerr/J)^2+(Betaerr/Beta)^2+(Cl_Constanterr/Cl_Constant)^2) -> 1.6049791e-10 | DF24: =Cl_mole*MW_Cl/Sample_Mass*10^6 -> 25.615075 | DG24: =Cl_ppm*SQRT((Sample_Masserr/Sample_Mass)^2+(MW_Clerr/MW_Cl)^2+(Cl_moleerr/Cl_mole)^2) -> 0.64507897 | DH24: =Cl_ppm/10^4 -> 0.0025615075 | DI24: =Cl_ppmerr/10^4 -> 6.4507897e-05 | DJ24: =Ca_Constant*Ar37CC/(J*alpha) -> 1.8344926e-06 | DK24: =Ca_mole*SQRT((Ar37CCerr/Ar37CC)^2+(Jerr/J)^2+(alphaerr/alpha)^2+(Ca_Constanterr/Ca_Constant)^2) -> 1.7039624e-07 | DL24: =Ca_mole*MW_Ca/Sample_Mass*10^6 -> 8169.6069 | DM24: =Ca_ppm*SQRT((Sample_Masserr/Sample_Mass)^2+(MW_Caerr/MW_Ca)^2+(Ca_moleerr/Ca_mole)^2) -> 759.93034 | DN24: =Ca_ppm/10^4 -> 0.81696069 | DO24: =Ca_ppmerr/10^4 -> 0.075993034 | DP24: =K_mole/Cl_mole -> 0.65436298 | DQ24: =KCl_mol*SQRT(K_moleerr/K_mole)^2+(Cl_moleerr/Cl_mole)^2 -> 0.0091073407 | DR24: =K_mole/Ca_mole -> 0.0023194655 | DS24: =KCa_mol*SQRT(K_moleerr/K_mole)^2+(Ca_moleerr/Ca_mole)^2 -> 0.0086576853 | DT24: =K_ppm/Cl_ppm -> 0.72164499 | DU24: =KCl_wt*SQRT(K_ppmerr/K_ppm)^2+(Cl_ppmerr/Cl_ppm)^2 -> 0.010676723 | DV24: =K_ppm/Ca_ppm -> 0.0022626536 | DW24: =KCa_wt*SQRT(K_ppmerr/K_ppm)^2+(Ca_ppmerr/Ca_ppm)^2 -> 0.0086840601 | DX24: =Ar40_mole/Cl_mole -> 7.4940938e-06 | DY24: =Ar40Cl_mol*SQRT((Ar40_moleerr/Ar40_mole)^2+(Cl_moleerr/Cl_mole)^2) -> 1.8535262e-07 | DZ24: =Ar40AC/Ar39_IC -> 12.426334 | EA24: =Ar40Ar39*SQRT((Ar40ACerr/Ar40AC)^2+(Ar39_ICerr/Ar39_IC)^2) -> 18.337594 | EB24: =(Ar40CC/MV)/K_mole -> 1.1452503e-05 | EC24: =Ar40K*SQRT((Ar40CCerrr/Ar40CC)^2+(K_moleerr/K_mole)^2+(MVerr/MV)^2) -> 1.4983795e-07 | ED24: =IF(Ar40Ar39>0,(1/lambda/10^6)*LN(1+(J*Ar40Ar39)),"") -> 111.44915 | EE24: =IF(Age="","",SQRT((J^2*Ar40Ar39^2*((Ar40Ar39err/Ar40Ar39*100)^2))/(Age^2*0.00055305^2*((1+Ar40Ar39*J)^2)))*Age/100) -> 160.02275 | EF24: =IF(Age="","",SQRT((J^2*Ar40Ar39^2*((Ar40Ar39err/Ar40Ar39*100)^2+(Jerr/J*100)^2))/(Age^2*0.00055305^2*((1+Ar40Ar39*J)^2)))*Age/100) -> 160.02283 | EG24: =IF(Ar40Ar39>0,(1/lambda/10^6)*LN(1+(J*Ar40Ar39)),"") -> 111.44915 | EH24: =IF(Age="","",SQRT((J^2*Ar40Ar39^2*((Ar40Ar39err/Ar40Ar39*100)^2))/(Age^2*0.00055305^2*((1+Ar40Ar39*J)^2)))*Age/100) -> 160.02275 | EI24: =IF(Age="","",SQRT((J^2*Ar40Ar39^2*((Ar40Ar39err/Ar40Ar39*100)^2+(Jerr/J*100)^2))/(Age^2*0.00055305^2*((1+Ar40Ar39*J)^2)))*Age/100) -> 160.02283 | EJ24: =CF24/$CF$33 -> 0.090352221 | EK24: =EG24 -> 111.44915 | EL24: =EH24 -> 160.02275 | EM24: =Ar39_IC/Ar36_ClCor -> 1.723914 | EN24: =EM24*SQRT((Ar40_ICerr/Ar40_IC)^2+(Ar36_ClCorerr/Ar36_ClCor)^2) -> 0.18441723 | EO24: =Ar40_IC/Ar36_ClCor -> 316.92193 | EP24: =EO24*SQRT((Ar40_ICerr/Ar40_IC)^2+(Ar36_ClCorerr/Ar36_ClCor)^2) -> 33.903006 | EQ24: =Ar39_IC/Ar40_IC -> 0.005439554 | ER24: =EQ24*SQRT((Ar40_ICerr/Ar40_IC)^2+(Ar39_ICerr/Ar39_IC)^2) -> 5.0091498e-05 | ES24: =Ar36_ClCor/Ar40_IC -> 0.0031553512 | ET24: =ES24*SQRT((Ar40_ICerr/Ar40_IC)^2+(Ar36_ClCorerr/Ar36_ClCor)^2) -> 0.00033754651 | LQ24: =Name -> B1x Plagioclase | LR24: =Irradiation -> MN2022a | LS24: =IF(ISNUMBER(K_ppm), K_ppm, "") -> 18.484991 | LT24: =IF(ISNUMBER(K_ppmerr), K_ppmerr, "") -> 0.25723966 | LU24: =Cl_ppm -> 25.615075 | LV24: =Cl_ppmerr -> 0.64507897 | LW24: =Ca_ppm -> 8169.6069 | LX24: =Ca_ppmerr -> 759.93034 | MO24: =DT24 -> 0.72164499 | MP24: =DU24 -> 0.010676723 | MW24: =DP24 -> 0.65436298 | MX24: =DQ24 -> 0.0091073407
B25: B1x Plagioclase | C25: =9/1000 -> 0.009 | D25: =C25*0.5% -> 4.5e-05 | E25: 44727 | F25: ARGUS | G25: MN2022a | H25: 1 | J25: 44644 | K25: continuous | L25: 2.5 | M25: 2.64 | N25: 30 | O25: 354.20571 | P25: 0.159647 | Q25: 5.616616 | R25: 0.015499 | S25: 74.817606 | T25: 0.071394 | U25: 150.43839 | V25: 0.121104 | W25: 1.54423 | X25: 0.005323 | Y25: 6.3067745 | Z25: 0.93511706 | AA25: 0.043458 | AB25: 0.029863653 | AC25: 2.2128518 | AD25: 2.0188659 | AE25: 1.3901317 | AF25: 1.195401 | AG25: 0.25606525 | AH25: 0.21678044 | AI25: =Ar40Raw-Ar40Blank -> 347.89894 | AJ25: =SQRT(Ar40Blankerr^2+Ar40Rawerr^2) -> 0.94864697 | AK25: =Ar39Raw-Ar39Blank -> 5.573158 | AL25: =SQRT(Ar39Blankerr^2+Ar39Rawerr^2) -> 0.033646051 | AM25: =Ar38Raw-Ar38Blank -> 72.604754 | AN25: =SQRT(Ar38Blankerr^2+Ar38Rawerr^2) -> 2.0201279 | AO25: =Ar37Raw-Ar37Blank -> 149.04826 | AP25: =SQRT(Ar37Blankerr^2+Ar37Rawerr^2) -> 1.2015197 | AQ25: =Ar36Raw-Ar36Blank -> 1.2881647 | AR25: =SQRT(Ar36Blankerr^2+Ar36Rawerr^2) -> 0.21684579 | AS25: 300.7 | AT25: 0.28 | AU25: =Ar39BC*(1+(Ar4036_Aircal/Ar4036_Air-1)/4) -> 5.5976761 | AV25: =SQRT(Ar39BCerr^2+(Ar39BC*(Ar4036_Aircal/Ar4036_Air-1)/4)^2*((Ar4036_Aircalerr/Ar4036_Aircal)^2+(Ar39BCerr/Ar39BC)^2+(Ar4036_airerr/Ar4036_Air)^2)) -> 0.033646394 | AW25: =Ar38BC*(1+2*(Ar4036_Aircal/Ar4036_Air-1)/4) -> 73.243578 | AX25: =SQRT(Ar38BCerr^2+(Ar38BC*(Ar4036_Aircal/Ar4036_Air-1)/4)^2*((Ar4036_Aircalerr/Ar4036_Aircal)^2+(Ar38BCerr/Ar38BC)^2+(Ar4036_airerr/Ar4036_Air)^2)) -> 2.0201475 | AY25: =Ar37BC*(1+3*(Ar4036_Aircal/Ar4036_Air-1)/4) -> 151.0154 | AZ25: =SQRT(Ar37BCerr^2+(Ar37BC*(Ar4036_Aircal/Ar4036_Air-1)/3)^2*((Ar4036_Aircalerr/Ar4036_Aircal)^2+(Ar37BCerr/Ar37BC)^2+(Ar4036_airerr/Ar4036_Air)^2)) -> 1.201541 | BA25: =Ar36BC*(1+4*(Ar4036_Aircal/Ar4036_Air-1)/4) -> 1.310833 | BB25: =SQRT(Ar36BCerr^2+(Ar36BC*(Ar4036_Aircal/Ar4036_Air-1)/4)^2*((Ar4036_Aircalerr/Ar4036_Aircal)^2+(Ar36BCerr/Ar36BC)^2+(Ar4036_airerr/Ar4036_Air)^2)) -> 0.21684788 | BE25: =IF(Rad_Type="Continuous", Ar37_DC*EXP(lambda_37Ar*(Run_Date-Rad_Date)),Ar37_DC*Ar37_DecayFactor) -> 777.78316 | BF25: =IF(Rad_Type="Continuous", (Ar37_DCerr*EXP(lambda_37Ar*(Run_Date-Rad_Date))), Ar37_DCerr*Ar37_DecayFactor) -> 6.1883649 | BG25: =IF(Rad_Type="Continuous", Ar39_DC*EXP(lambda_39Ar*(Run_Date-Rad_Date)), Ar39_DC*Ar39_DecayFactor) -> 5.600957 | BH25: =IF(Rad_Type="Continuous", (Ar39_DCerr*EXP(lambda_39Ar*(Run_Date-Rad_Date))), Ar39_DCerr*Ar39_DecayFactor) -> 0.033666115 | BI25: =Ar40BC-(Salt_40Ar39Ar_K*Ar39_IC) -> 347.26216 | BJ25: =SQRT(Ar40BCerr^2+(Ar39_ICerr*Salt_40Ar39Ar_K)^2) -> 0.94865739 | BK25: =Ar39_DecayCor-(Salt_39Ar37Ar_Ca*Ar37_DecayCor) -> 4.8901659 | BL25: =SQRT(Ar39_DecayCorerr^2+(Ar37_DecayCorerr*Salt_39Ar37Ar_Ca)^2) -> 0.034137813 | BM25: =Ar38_DC-(Salt_38Ar39Ar_K*Ar39_DecayCor) -> 73.157087 | BN25: =SQRT(Ar38_DCerr^2+(Ar39_DecayCorerr*Salt_38Ar39Ar_K)^2) -> 2.0201475 | BO25: =Ar36_DC-(Salt_36Ar37Ar_Ca*Ar37_DecayCor) -> 1.0395195 | BP25: =SQRT(Ar36_DCerr^2+(Ar37_DecayCorerr*Salt_36Ar37Ar_Ca)^2) -> 0.21685863 | BR25: =IF(Rad_Type="Continuous", BO25-((EXP(lambda_36Ar*(Run_Date-Rad_Date))-1)*Cl3638_PR*BT25),BO25*Ar36_DecayFactor) -> 1.0277967 | BS25: =IF(K:K="Continuous", SQRT(BP25^2+(((EXP(lambda_36Ar*(Run_Date-Rad_Date))-1)*Cl3638_PR)*BU25^2)), Ar36_ICerr*Ar36_DecayFactor) -> 0.21691635 | BT25: =IF(Rad_Type="Continuous", BM25-(Ar3836_Air*BO25)/(1-lambda_36Ar*(Run_Date-Rad_Date)),Ar38_IC-(Ar3836_Air*Ar36_IC)/Ar36_DecayFactor) -> 72.961658 | BU25: =IF(Rad_Type ="Continuous", SQRT(BN25^2*(((EXP(lambda_36Ar*(Run_Date-Rad_Date))-1*Ar3836_Air)*BP25^2))),SQRT(Ar38_ICerr^2*(((EXP(lambda_36Ar*(Ar36_DecayFactor))-1*Ar3836_Air)*Ar36_ICerr^2)))) -> 0.39476437 | BV25: =Ar40_IC-(Ar36_ClCor*Ar4036_Air) -> 43.548228 | BW25: =SQRT(Ar40_ICerr^2+(Ar36_ClCorerr*Ar4036_Air)^2) -> 64.105802 | BX25: 1.6986775e-12 | BY25: 9.4454002e-16 | BZ25: =Ar_Sensitivity*Ar36_ClCor -> 1.7458952e-12 | CA25: =Ar36CC*SQRT((Ar36_ClCorerr/Ar36_ClCor)^2+(Ar_sensitivityerr/Ar_Sensitivity)^2) -> 3.684722e-13 | CB25: =Ar37_DecayCor*Ar_Sensitivity -> 1.3212027e-09 | CC25: =Ar37CC*SQRT((Ar37_DecayCorerr/Ar37_DecayCor)^2+(Ar_sensitivityerr/Ar_Sensitivity)^2) -> 1.0537676e-11 | CD25: =Ar_Sensitivity*Ar38_Cl -> 1.2393832e-10 | CE25: =Ar38CC*SQRT((Ar38_Clerr/Ar38_Cl)^2+(Ar_sensitivityerr/Ar_Sensitivity)^2) -> 6.7410925e-13 | CF25: =Ar_Sensitivity*Ar39_IC -> 8.3068147e-12 | CG25: =Ar39CC*SQRT((Ar39_ICerr/Ar39_IC)^2+(Ar_sensitivityerr/Ar_Sensitivity)^2) -> 5.8172798e-14 | CH25: =Ar_Sensitivity*Ar40_IC -> 5.8988642e-10 | CI25: =Ar40CC*SQRT((Ar40_ICerr/Ar40_IC)^2+(Ar_sensitivityerr/Ar_Sensitivity)^2) -> 1.6445056e-12 | CJ25: =Ar38CC/MV -> 5.5295143e-15 | CK25: =Ar38_mole*SQRT((Ar38CCerr/Ar38CC)^2+(MVerr/MV)^2) -> 3.0075417e-17 | CL25: =Ar40CC/MV -> 2.6317811e-14 | CM25: =Ar40_mole*SQRT((Ar40CCerrr/Ar40CC)^2+(MVerr/MV)^2) -> 7.33697e-17 | CN25: 0.005134083 | CO25: 7.55777e-06 | CP25: 1.1139739e+19 | CQ25: 1.0453257e+18 | CR25: 8.0438365e+17 | CS25: 8.5271401e+16 | CT25: 0.49881143 | CU25: 0.045926073 | CV25: 24.58188 | CW25: 0.55629982 | CX25: =K_constant*Ar39CC/J -> 5.9491127e-09 | CY25: =K_mole*SQRT((Ar39ccerr/Ar39CC)^2+(Jerr/J)^2+(K_Constanterr/K_constant)^2) -> 6.9070923e-11 | CZ25: =K_mole*MW_K/Sample_Mass*10^6 -> 25.844466 | DA25: =K_ppm*SQRT((Sample_Masserr/Sample_Mass)^2+(MW_Kerr/MW_K)^2+(K_moleerr/K_mole)^2) -> 0.32670393 | DB25: =K_ppm/10^4 -> 0.0025844466 | DC25: =K_ppmerr/10^4 -> 3.2670393e-05 | DD25: =Cl_Constant*Ar38CC/(J*Beta) -> 3.9821085e-09 | DE25: =Cl_mole*SQRT((Ar38CCerr/Ar38CC)^2+(Jerr/J)^2+(Betaerr/Beta)^2+(Cl_Constanterr/Cl_Constant)^2) -> 9.9749935e-11 | DF25: =Cl_mole*MW_Cl/Sample_Mass*10^6 -> 15.68641 | DG25: =Cl_ppm*SQRT((Sample_Masserr/Sample_Mass)^2+(MW_Clerr/MW_Cl)^2+(Cl_moleerr/Cl_mole)^2) -> 0.40068842 | DH25: =Cl_ppm/10^4 -> 0.001568641 | DI25: =Cl_ppmerr/10^4 -> 4.0068842e-05 | DJ25: =Ca_Constant*Ar37CC/(J*alpha) -> 1.8504651e-06 | DK25: =Ca_mole*SQRT((Ar37CCerr/Ar37CC)^2+(Jerr/J)^2+(alphaerr/alpha)^2+(Ca_Constanterr/Ca_Constant)^2) -> 1.7186878e-07 | DL25: =Ca_mole*MW_Ca/Sample_Mass*10^6 -> 8240.7379 | DM25: =Ca_ppm*SQRT((Sample_Masserr/Sample_Mass)^2+(MW_Caerr/MW_Ca)^2+(Ca_moleerr/Ca_mole)^2) -> 766.49768 | DN25: =Ca_ppm/10^4 -> 0.82407379 | DO25: =Ca_ppmerr/10^4 -> 0.076649768 | DP25: =K_mole/Cl_mole -> 1.4939605 | DQ25: =KCl_mol*SQRT(K_moleerr/K_mole)^2+(Cl_moleerr/Cl_mole)^2 -> 0.017972793 | DR25: =K_mole/Ca_mole -> 0.0032149283 | DS25: =KCa_mol*SQRT(K_moleerr/K_mole)^2+(Ca_moleerr/Ca_mole)^2 -> 0.0086637778 | DT25: =K_ppm/Cl_ppm -> 1.6475704 | DU25: =KCl_wt*SQRT(K_ppmerr/K_ppm)^2+(Cl_ppmerr/Cl_ppm)^2 -> 0.021479674 | DV25: =K_ppm/Ca_ppm -> 0.0031361834 | DW25: =KCa_wt*SQRT(K_ppmerr/K_ppm)^2+(Ca_ppmerr/Ca_ppm)^2 -> 0.0086911065 | DX25: =Ar40_mole/Cl_mole -> 6.6090141e-06 | DY25: =Ar40Cl_mol*SQRT((Ar40_moleerr/Ar40_mole)^2+(Cl_moleerr/Cl_mole)^2) -> 1.665748e-07 | DZ25: =Ar40AC/Ar39_IC -> 8.9052659 | EA25: =Ar40Ar39*SQRT((Ar40ACerr/Ar40AC)^2+(Ar39_ICerr/Ar39_IC)^2) -> 13.109274 | EB25: =(Ar40CC/MV)/K_mole -> 4.4238212e-06 | EC25: =Ar40K*SQRT((Ar40CCerrr/Ar40CC)^2+(K_moleerr/K_mole)^2+(MVerr/MV)^2) -> 5.282177e-08 | ED25: =IF(Ar40Ar39>0,(1/lambda/10^6)*LN(1+(J*Ar40Ar39)),"") -> 80.562966 | EE25: =IF(Age="","",SQRT((J^2*Ar40Ar39^2*((Ar40Ar39err/Ar40Ar39*100)^2))/(Age^2*0.00055305^2*((1+Ar40Ar39*J)^2)))*Age/100) -> 116.3755 | EF25: =IF(Age="","",SQRT((J^2*Ar40Ar39^2*((Ar40Ar39err/Ar40Ar39*100)^2+(Jerr/J*100)^2))/(Age^2*0.00055305^2*((1+Ar40Ar39*J)^2)))*Age/100) -> 116.37555 | EG25: =IF(Ar40Ar39>0,(1/lambda/10^6)*LN(1+(J*Ar40Ar39)),"") -> 80.562966 | EH25: =IF(Age="","",SQRT((J^2*Ar40Ar39^2*((Ar40Ar39err/Ar40Ar39*100)^2))/(Age^2*0.00055305^2*((1+Ar40Ar39*J)^2)))*Age/100) -> 116.3755 | EI25: =IF(Age="","",SQRT((J^2*Ar40Ar39^2*((Ar40Ar39err/Ar40Ar39*100)^2+(Jerr/J*100)^2))/(Age^2*0.00055305^2*((1+Ar40Ar39*J)^2)))*Age/100) -> 116.37555 | EJ25: =CF25/$CF$33 -> 0.12632438 | EK25: =EG25 -> 80.562966 | EL25: =EH25 -> 116.3755 | EM25: =Ar39_IC/Ar36_ClCor -> 4.7579115 | EN25: =EM25*SQRT((Ar40_ICerr/Ar40_IC)^2+(Ar36_ClCorerr/Ar36_ClCor)^2) -> 1.0042406 | EO25: =Ar40_IC/Ar36_ClCor -> 337.87047 | EP25: =EO25*SQRT((Ar40_ICerr/Ar40_IC)^2+(Ar36_ClCorerr/Ar36_ClCor)^2) -> 71.313486 | EQ25: =Ar39_IC/Ar40_IC -> 0.014082058 | ER25: =EQ25*SQRT((Ar40_ICerr/Ar40_IC)^2+(Ar39_ICerr/Ar39_IC)^2) -> 0.00010556468 | ES25: =Ar36_ClCor/Ar40_IC -> 0.0029597141 | ET25: =ES25*SQRT((Ar40_ICerr/Ar40_IC)^2+(Ar36_ClCorerr/Ar36_ClCor)^2) -> 0.00062469957 | LQ25: =Name -> B1x Plagioclase | LR25: =Irradiation -> MN2022a | LS25: =IF(ISNUMBER(K_ppm), K_ppm, "") -> 25.844466 | LT25: =IF(ISNUMBER(K_ppmerr), K_ppmerr, "") -> 0.32670393 | LU25: =Cl_ppm -> 15.68641 | LV25: =Cl_ppmerr -> 0.40068842 | LW25: =Ca_ppm -> 8240.7379 | LX25: =Ca_ppmerr -> 766.49768 | MO25: =DT25 -> 1.6475704 | MP25: =DU25 -> 0.021479674 | MW25: =DP25 -> 1.4939605 | MX25: =DQ25 -> 0.017972793
B26: B1x Plagioclase | C26: =9/1000 -> 0.009 | D26: =C26*0.5% -> 4.5e-05 | E26: 44727 | F26: ARGUS | G26: MN2022a | H26: 1 | J26: 44644 | K26: continuous | L26: 3 | M26: 2.95 | N26: 30 | O26: 353.90565 | P26: 0.197974 | Q26: 5.423704 | R26: 0.012108 | S26: 47.710502 | T26: 0.036671 | U26: 113.06713 | V26: 0.137198 | W26: 1.510005 | X26: 0.006607 | Y26: 6.3067745 | Z26: 0.93511706 | AA26: 0.043458 | AB26: 0.029863653 | AC26: 2.2128518 | AD26: 2.0188659 | AE26: 1.3901317 | AF26: 1.195401 | AG26: 0.25606525 | AH26: 0.21678044 | AI26: =Ar40Raw-Ar40Blank -> 347.59888 | AJ26: =SQRT(Ar40Blankerr^2+Ar40Rawerr^2) -> 0.95584393 | AK26: =Ar39Raw-Ar39Blank -> 5.380246 | AL26: =SQRT(Ar39Blankerr^2+Ar39Rawerr^2) -> 0.032224857 | AM26: =Ar38Raw-Ar38Blank -> 45.49765 | AN26: =SQRT(Ar38Blankerr^2+Ar38Rawerr^2) -> 2.0191989 | AO26: =Ar37Raw-Ar37Blank -> 111.677 | AP26: =SQRT(Ar37Blankerr^2+Ar37Rawerr^2) -> 1.2032484 | AQ26: =Ar36Raw-Ar36Blank -> 1.2539398 | AR26: =SQRT(Ar36Blankerr^2+Ar36Rawerr^2) -> 0.2168811 | AS26: 300.7 | AT26: 0.28 | AU26: =Ar39BC*(1+(Ar4036_Aircal/Ar4036_Air-1)/4) -> 5.4039154 | AV26: =SQRT(Ar39BCerr^2+(Ar39BC*(Ar4036_Aircal/Ar4036_Air-1)/4)^2*((Ar4036_Aircalerr/Ar4036_Aircal)^2+(Ar39BCerr/Ar39BC)^2+(Ar4036_airerr/Ar4036_Air)^2)) -> 0.032225186 | AW26: =Ar38BC*(1+2*(Ar4036_Aircal/Ar4036_Air-1)/4) -> 45.897968 | AX26: =SQRT(Ar38BCerr^2+(Ar38BC*(Ar4036_Aircal/Ar4036_Air-1)/4)^2*((Ar4036_Aircalerr/Ar4036_Aircal)^2+(Ar38BCerr/Ar38BC)^2+(Ar4036_airerr/Ar4036_Air)^2)) -> 2.0192185 | AY26: =Ar37BC*(1+3*(Ar4036_Aircal/Ar4036_Air-1)/4) -> 113.1509 | AZ26: =SQRT(Ar37BCerr^2+(Ar37BC*(Ar4036_Aircal/Ar4036_Air-1)/3)^2*((Ar4036_Aircalerr/Ar4036_Aircal)^2+(Ar37BCerr/Ar37BC)^2+(Ar4036_airerr/Ar4036_Air)^2)) -> 1.2032695 | BA26: =Ar36BC*(1+4*(Ar4036_Aircal/Ar4036_Air-1)/4) -> 1.2760057 | BB26: =SQRT(Ar36BCerr^2+(Ar36BC*(Ar4036_Aircal/Ar4036_Air-1)/4)^2*((Ar4036_Aircalerr/Ar4036_Aircal)^2+(Ar36BCerr/Ar36BC)^2+(Ar4036_airerr/Ar4036_Air)^2)) -> 0.2168832 | BE26: =IF(Rad_Type="Continuous", Ar37_DC*EXP(lambda_37Ar*(Run_Date-Rad_Date)),Ar37_DC*Ar37_DecayFactor) -> 582.76753 | BF26: =IF(Rad_Type="Continuous", (Ar37_DCerr*EXP(lambda_37Ar*(Run_Date-Rad_Date))), Ar37_DCerr*Ar37_DecayFactor) -> 6.197267 | BG26: =IF(Rad_Type="Continuous", Ar39_DC*EXP(lambda_39Ar*(Run_Date-Rad_Date)), Ar39_DC*Ar39_DecayFactor) -> 5.4070828 | BH26: =IF(Rad_Type="Continuous", (Ar39_DCerr*EXP(lambda_39Ar*(Run_Date-Rad_Date))), Ar39_DCerr*Ar39_DecayFactor) -> 0.032244074 | BI26: =Ar40BC-(Salt_40Ar39Ar_K*Ar39_IC) -> 346.96414 | BJ26: =SQRT(Ar40BCerr^2+(Ar39_ICerr*Salt_40Ar39Ar_K)^2) -> 0.95585344 | BK26: =Ar39_DecayCor-(Salt_39Ar37Ar_Ca*Ar37_DecayCor) -> 4.8745102 | BL26: =SQRT(Ar39_DecayCorerr^2+(Ar37_DecayCorerr*Salt_39Ar37Ar_Ca)^2) -> 0.032737675 | BM26: =Ar38_DC-(Salt_38Ar39Ar_K*Ar39_DecayCor) -> 45.814471 | BN26: =SQRT(Ar38_DCerr^2+(Ar39_DecayCorerr*Salt_38Ar39Ar_K)^2) -> 2.0192185 | BO26: =Ar36_DC-(Salt_36Ar37Ar_Ca*Ar37_DecayCor) -> 1.0727194 | BP26: =SQRT(Ar36_DCerr^2+(Ar37_DecayCorerr*Salt_36Ar37Ar_Ca)^2) -> 0.21689398 | BR26: =IF(Rad_Type="Continuous", BO26-((EXP(lambda_36Ar*(Run_Date-Rad_Date))-1)*Cl3638_PR*BT26),BO26*Ar36_DecayFactor) -> 1.0653908 | BS26: =IF(K:K="Continuous", SQRT(BP26^2+(((EXP(lambda_36Ar*(Run_Date-Rad_Date))-1)*Cl3638_PR)*BU26^2)), Ar36_ICerr*Ar36_DecayFactor) -> 0.21695166 | BT26: =IF(Rad_Type="Continuous", BM26-(Ar3836_Air*BO26)/(1-lambda_36Ar*(Run_Date-Rad_Date)),Ar38_IC-(Ar3836_Air*Ar36_IC)/Ar36_DecayFactor) -> 45.6128 | BU26: =IF(Rad_Type ="Continuous", SQRT(BN26^2*(((EXP(lambda_36Ar*(Run_Date-Rad_Date))-1*Ar3836_Air)*BP26^2))),SQRT(Ar38_ICerr^2*(((EXP(lambda_36Ar*(Ar36_DecayFactor))-1*Ar3836_Air)*Ar36_ICerr^2)))) -> 0.39464714 | BV26: =Ar40_IC-(Ar36_ClCor*Ar4036_Air) -> 32.141171 | BW26: =SQRT(Ar40_ICerr^2+(Ar36_ClCorerr*Ar4036_Air)^2) -> 64.11634 | BX26: 1.6986775e-12 | BY26: 9.4454002e-16 | BZ26: =Ar_Sensitivity*Ar36_ClCor -> 1.8097553e-12 | CA26: =Ar36CC*SQRT((Ar36_ClCorerr/Ar36_ClCor)^2+(Ar_sensitivityerr/Ar_Sensitivity)^2) -> 3.6853226e-13 | CB26: =Ar37_DecayCor*Ar_Sensitivity -> 9.8993407e-10 | CC26: =Ar37CC*SQRT((Ar37_DecayCorerr/Ar37_DecayCor)^2+(Ar_sensitivityerr/Ar_Sensitivity)^2) -> 1.0541539e-11 | CD26: =Ar_Sensitivity*Ar38_Cl -> 7.7481436e-11 | CE26: =Ar38CC*SQRT((Ar38_Clerr/Ar38_Cl)^2+(Ar_sensitivityerr/Ar_Sensitivity)^2) -> 6.717612e-13 | CF26: =Ar_Sensitivity*Ar39_IC -> 8.2802207e-12 | CG26: =Ar39CC*SQRT((Ar39_ICerr/Ar39_IC)^2+(Ar_sensitivityerr/Ar_Sensitivity)^2) -> 5.5801022e-14 | CH26: =Ar_Sensitivity*Ar40_IC -> 5.8938017e-10 | CI26: =Ar40CC*SQRT((Ar40_ICerr/Ar40_IC)^2+(Ar_sensitivityerr/Ar_Sensitivity)^2) -> 1.6564299e-12 | CJ26: =Ar38CC/MV -> 3.456838e-15 | CK26: =Ar38_mole*SQRT((Ar38CCerr/Ar38CC)^2+(MVerr/MV)^2) -> 2.9970658e-17 | CL26: =Ar40CC/MV -> 2.6295225e-14 | CM26: =Ar40_mole*SQRT((Ar40CCerrr/Ar40CC)^2+(MVerr/MV)^2) -> 7.39017e-17 | CN26: 0.005134083 | CO26: 7.55777e-06 | CP26: 1.1139739e+19 | CQ26: 1.0453257e+18 | CR26: 8.0438365e+17 | CS26: 8.5271401e+16 | CT26: 0.49881143 | CU26: 0.045926073 | CV26: 24.58188 | CW26: 0.55629982 | CX26: =K_constant*Ar39CC/J -> 5.9300668e-09 | CY26: =K_mole*SQRT((Ar39ccerr/Ar39CC)^2+(Jerr/J)^2+(K_Constanterr/K_constant)^2) -> 6.7917169e-11 | CZ26: =K_mole*MW_K/Sample_Mass*10^6 -> 25.761726 | DA26: =K_ppm*SQRT((Sample_Masserr/Sample_Mass)^2+(MW_Kerr/MW_K)^2+(K_moleerr/K_mole)^2) -> 0.32194082 | DB26: =K_ppm/10^4 -> 0.0025761726 | DC26: =K_ppmerr/10^4 -> 3.2194082e-05 | DD26: =Cl_Constant*Ar38CC/(J*Beta) -> 2.4894598e-09 | DE26: =Cl_mole*SQRT((Ar38CCerr/Ar38CC)^2+(Jerr/J)^2+(Betaerr/Beta)^2+(Cl_Constanterr/Cl_Constant)^2) -> 6.4585225e-11 | DF26: =Cl_mole*MW_Cl/Sample_Mass*10^6 -> 9.8065355 | DG26: =Cl_ppm*SQRT((Sample_Masserr/Sample_Mass)^2+(MW_Clerr/MW_Cl)^2+(Cl_moleerr/Cl_mole)^2) -> 0.25909743 | DH26: =Cl_ppm/10^4 -> 0.00098065355 | DI26: =Cl_ppmerr/10^4 -> 2.5909743e-05 | DJ26: =Ca_Constant*Ar37CC/(J*alpha) -> 1.3864931e-06 | DK26: =Ca_mole*SQRT((Ar37CCerr/Ar37CC)^2+(Jerr/J)^2+(alphaerr/alpha)^2+(Ca_Constanterr/Ca_Constant)^2) -> 1.291467e-07 | DL26: =Ca_mole*MW_Ca/Sample_Mass*10^6 -> 6174.5159 | DM26: =Ca_ppm*SQRT((Sample_Masserr/Sample_Mass)^2+(MW_Caerr/MW_Ca)^2+(Ca_moleerr/Ca_mole)^2) -> 575.96164 | DN26: =Ca_ppm/10^4 -> 0.61745159 | DO26: =Ca_ppmerr/10^4 -> 0.057596164 | DP26: =K_mole/Cl_mole -> 2.3820697 | DQ26: =KCl_mol*SQRT(K_moleerr/K_mole)^2+(Cl_moleerr/Cl_mole)^2 -> 0.027954953 | DR26: =K_mole/Ca_mole -> 0.0042770259 | DS26: =KCa_mol*SQRT(K_moleerr/K_mole)^2+(Ca_moleerr/Ca_mole)^2 -> 0.0087252181 | DT26: =K_ppm/Cl_ppm -> 2.6269956 | DU26: =KCl_wt*SQRT(K_ppmerr/K_ppm)^2+(Cl_ppmerr/Cl_ppm)^2 -> 0.033527274 | DV26: =K_ppm/Ca_ppm -> 0.0041722665 | DW26: =KCa_wt*SQRT(K_ppmerr/K_ppm)^2+(Ca_ppmerr/Ca_ppm)^2 -> 0.0087533834 | DX26: =Ar40_mole/Cl_mole -> 1.0562623e-05 | DY26: =Ar40Cl_mol*SQRT((Ar40_moleerr/Ar40_mole)^2+(Cl_moleerr/Cl_mole)^2) -> 2.7563432e-07 | DZ26: =Ar40AC/Ar39_IC -> 6.5937231 | EA26: =Ar40Ar39*SQRT((Ar40ACerr/Ar40AC)^2+(Ar39_ICerr/Ar39_IC)^2) -> 13.153466 | EB26: =(Ar40CC/MV)/K_mole -> 4.4342207e-06 | EC26: =Ar40K*SQRT((Ar40CCerrr/Ar40CC)^2+(K_moleerr/K_mole)^2+(MVerr/MV)^2) -> 5.2291917e-08 | ED26: =IF(Ar40Ar39>0,(1/lambda/10^6)*LN(1+(J*Ar40Ar39)),"") -> 59.994829 | EE26: =IF(Age="","",SQRT((J^2*Ar40Ar39^2*((Ar40Ar39err/Ar40Ar39*100)^2))/(Age^2*0.00055305^2*((1+Ar40Ar39*J)^2)))*Age/100) -> 118.10819 | EF26: =IF(Age="","",SQRT((J^2*Ar40Ar39^2*((Ar40Ar39err/Ar40Ar39*100)^2+(Jerr/J*100)^2))/(Age^2*0.00055305^2*((1+Ar40Ar39*J)^2)))*Age/100) -> 118.10822 | EG26: =IF(Ar40Ar39>0,(1/lambda/10^6)*LN(1+(J*Ar40Ar39)),"") -> 59.994829 | EH26: =IF(Age="","",SQRT((J^2*Ar40Ar39^2*((Ar40Ar39err/Ar40Ar39*100)^2))/(Age^2*0.00055305^2*((1+Ar40Ar39*J)^2)))*Age/100) -> 118.10819 | EI26: =IF(Age="","",SQRT((J^2*Ar40Ar39^2*((Ar40Ar39err/Ar40Ar39*100)^2+(Jerr/J*100)^2))/(Age^2*0.00055305^2*((1+Ar40Ar39*J)^2)))*Age/100) -> 118.10822 | EJ26: =CF26/$CF$33 -> 0.12591995 | EK26: =EG26 -> 59.994829 | EL26: =EH26 -> 118.10819 | EM26: =Ar39_IC/Ar36_ClCor -> 4.5753261 | EN26: =EM26*SQRT((Ar40_ICerr/Ar40_IC)^2+(Ar36_ClCorerr/Ar36_ClCor)^2) -> 0.93178526 | EO26: =Ar40_IC/Ar36_ClCor -> 325.66843 | EP26: =EO26*SQRT((Ar40_ICerr/Ar40_IC)^2+(Ar36_ClCorerr/Ar36_ClCor)^2) -> 66.323807 | EQ26: =Ar39_IC/Ar40_IC -> 0.014049032 | ER26: =EQ26*SQRT((Ar40_ICerr/Ar40_IC)^2+(Ar39_ICerr/Ar39_IC)^2) -> 0.0001019842 | ES26: =Ar36_ClCor/Ar40_IC -> 0.0030706077 | ET26: =ES26*SQRT((Ar40_ICerr/Ar40_IC)^2+(Ar36_ClCorerr/Ar36_ClCor)^2) -> 0.00062534274 | LQ26: =Name -> B1x Plagioclase | LR26: =Irradiation -> MN2022a | LS26: =IF(ISNUMBER(K_ppm), K_ppm, "") -> 25.761726 | LT26: =IF(ISNUMBER(K_ppmerr), K_ppmerr, "") -> 0.32194082 | LU26: =Cl_ppm -> 9.8065355 | LV26: =Cl_ppmerr -> 0.25909743 | LW26: =Ca_ppm -> 6174.5159 | LX26: =Ca_ppmerr -> 575.96164 | MO26: =DT26 -> 2.6269956 | MP26: =DU26 -> 0.033527274 | MW26: =DP26 -> 2.3820697 | MX26: =DQ26 -> 0.027954953
B27: B1x Plagioclase | C27: =9/1000 -> 0.009 | D27: =C27*0.5% -> 4.5e-05 | E27: 44727 | F27: ARGUS | G27: MN2022a | H27: 1 | J27: 44644 | K27: continuous | L27: 4 | M27: 4.2 | N27: 30 | O27: 403.96162 | P27: 0.200404 | Q27: 6.381998 | R27: 0.02443 | S27: 95.774589 | T27: 0.058157 | U27: 137.61355 | V27: 0.13881 | W27: 1.71854 | X27: 0.006525 | Y27: 6.3067745 | Z27: 0.93511706 | AA27: 0.043458 | AB27: 0.029863653 | AC27: 2.2128518 | AD27: 2.0188659 | AE27: 1.3901317 | AF27: 1.195401 | AG27: 0.25606525 | AH27: 0.21678044 | AI27: =Ar40Raw-Ar40Blank -> 397.65485 | AJ27: =SQRT(Ar40Blankerr^2+Ar40Rawerr^2) -> 0.95635019 | AK27: =Ar39Raw-Ar39Blank -> 6.33854 | AL27: =SQRT(Ar39Blankerr^2+Ar39Rawerr^2) -> 0.038583192 | AM27: =Ar38Raw-Ar38Blank -> 93.561737 | AN27: =SQRT(Ar38Blankerr^2+Ar38Rawerr^2) -> 2.0197034 | AO27: =Ar37Raw-Ar37Blank -> 136.22342 | AP27: =SQRT(Ar37Blankerr^2+Ar37Rawerr^2) -> 1.2034333 | AQ27: =Ar36Raw-Ar36Blank -> 1.4624747 | AR27: =SQRT(Ar36Blankerr^2+Ar36Rawerr^2) -> 0.21687862 | AS27: 300.7 | AT27: 0.28 | AU27: =Ar39BC*(1+(Ar4036_Aircal/Ar4036_Air-1)/4) -> 6.3664253 | AV27: =SQRT(Ar39BCerr^2+(Ar39BC*(Ar4036_Aircal/Ar4036_Air-1)/4)^2*((Ar4036_Aircalerr/Ar4036_Aircal)^2+(Ar39BCerr/Ar39BC)^2+(Ar4036_airerr/Ar4036_Air)^2)) -> 0.038583585 | AW27: =Ar38BC*(1+2*(Ar4036_Aircal/Ar4036_Air-1)/4) -> 94.384954 | AX27: =SQRT(Ar38BCerr^2+(Ar38BC*(Ar4036_Aircal/Ar4036_Air-1)/4)^2*((Ar4036_Aircalerr/Ar4036_Aircal)^2+(Ar38BCerr/Ar38BC)^2+(Ar4036_airerr/Ar4036_Air)^2)) -> 2.019723 | AY27: =Ar37BC*(1+3*(Ar4036_Aircal/Ar4036_Air-1)/4) -> 138.02129 | AZ27: =SQRT(Ar37BCerr^2+(Ar37BC*(Ar4036_Aircal/Ar4036_Air-1)/3)^2*((Ar4036_Aircalerr/Ar4036_Aircal)^2+(Ar37BCerr/Ar37BC)^2+(Ar4036_airerr/Ar4036_Air)^2)) -> 1.2034545 | BA27: =Ar36BC*(1+4*(Ar4036_Aircal/Ar4036_Air-1)/4) -> 1.4882103 | BB27: =SQRT(Ar36BCerr^2+(Ar36BC*(Ar4036_Aircal/Ar4036_Air-1)/4)^2*((Ar4036_Aircalerr/Ar4036_Aircal)^2+(Ar36BCerr/Ar36BC)^2+(Ar4036_airerr/Ar4036_Air)^2)) -> 0.21688072 | BE27: =IF(Rad_Type="Continuous", Ar37_DC*EXP(lambda_37Ar*(Run_Date-Rad_Date)),Ar37_DC*Ar37_DecayFactor) -> 710.85888 | BF27: =IF(Rad_Type="Continuous", (Ar37_DCerr*EXP(lambda_37Ar*(Run_Date-Rad_Date))), Ar37_DCerr*Ar37_DecayFactor) -> 6.1982201 | BG27: =IF(Rad_Type="Continuous", Ar39_DC*EXP(lambda_39Ar*(Run_Date-Rad_Date)), Ar39_DC*Ar39_DecayFactor) -> 6.3701568 | BH27: =IF(Rad_Type="Continuous", (Ar39_DCerr*EXP(lambda_39Ar*(Run_Date-Rad_Date))), Ar39_DCerr*Ar39_DecayFactor) -> 0.038606199 | BI27: =Ar40BC-(Salt_40Ar39Ar_K*Ar39_IC) -> 396.90994 | BJ27: =SQRT(Ar40BCerr^2+(Ar39_ICerr*Salt_40Ar39Ar_K)^2) -> 0.95636368 | BK27: =Ar39_DecayCor-(Salt_39Ar37Ar_Ca*Ar37_DecayCor) -> 5.7205256 | BL27: =SQRT(Ar39_DecayCorerr^2+(Ar37_DecayCorerr*Salt_39Ar37Ar_Ca)^2) -> 0.039019528 | BM27: =Ar38_DC-(Salt_38Ar39Ar_K*Ar39_DecayCor) -> 94.286585 | BN27: =SQRT(Ar38_DCerr^2+(Ar39_DecayCorerr*Salt_38Ar39Ar_K)^2) -> 2.0197231 | BO27: =Ar36_DC-(Salt_36Ar37Ar_Ca*Ar37_DecayCor) -> 1.240242 | BP27: =SQRT(Ar36_DCerr^2+(Ar37_DecayCorerr*Salt_36Ar37Ar_Ca)^2) -> 0.2168915 | BR27: =IF(Rad_Type="Continuous", BO27-((EXP(lambda_36Ar*(Run_Date-Rad_Date))-1)*Cl3638_PR*BT27),BO27*Ar36_DecayFactor) -> 1.2251304 | BS27: =IF(K:K="Continuous", SQRT(BP27^2+(((EXP(lambda_36Ar*(Run_Date-Rad_Date))-1)*Cl3638_PR)*BU27^2)), Ar36_ICerr*Ar36_DecayFactor) -> 0.2169492 | BT27: =IF(Rad_Type="Continuous", BM27-(Ar3836_Air*BO27)/(1-lambda_36Ar*(Run_Date-Rad_Date)),Ar38_IC-(Ar3836_Air*Ar36_IC)/Ar36_DecayFactor) -> 94.05342 | BU27: =IF(Rad_Type ="Continuous", SQRT(BN27^2*(((EXP(lambda_36Ar*(Run_Date-Rad_Date))-1*Ar3836_Air)*BP27^2))),SQRT(Ar38_ICerr^2*(((EXP(lambda_36Ar*(Ar36_DecayFactor))-1*Ar3836_Air)*Ar36_ICerr^2)))) -> 0.39474125 | BV27: =Ar40_IC-(Ar36_ClCor*Ar4036_Air) -> 34.8839 | BW27: =SQRT(Ar40_ICerr^2+(Ar36_ClCorerr*Ar4036_Air)^2) -> 64.115623 | BX27: 1.6986775e-12 | BY27: 9.4454002e-16 | BZ27: =Ar_Sensitivity*Ar36_ClCor -> 2.0811015e-12 | CA27: =Ar36CC*SQRT((Ar36_ClCorerr/Ar36_ClCor)^2+(Ar_sensitivityerr/Ar_Sensitivity)^2) -> 3.6852854e-13 | CB27: =Ar37_DecayCor*Ar_Sensitivity -> 1.20752e-09 | CC27: =Ar37CC*SQRT((Ar37_DecayCorerr/Ar37_DecayCor)^2+(Ar_sensitivityerr/Ar_Sensitivity)^2) -> 1.0550164e-11 | CD27: =Ar_Sensitivity*Ar38_Cl -> 1.5976643e-10 | CE27: =Ar38CC*SQRT((Ar38_Clerr/Ar38_Cl)^2+(Ar_sensitivityerr/Ar_Sensitivity)^2) -> 6.7639733e-13 | CF27: =Ar_Sensitivity*Ar39_IC -> 9.717328e-12 | CG27: =Ar39CC*SQRT((Ar39_ICerr/Ar39_IC)^2+(Ar_sensitivityerr/Ar_Sensitivity)^2) -> 6.6501465e-14 | CH27: =Ar_Sensitivity*Ar40_IC -> 6.7422198e-10 | CI27: =Ar40CC*SQRT((Ar40_ICerr/Ar40_IC)^2+(Ar_sensitivityerr/Ar_Sensitivity)^2) -> 1.6672498e-12 | CJ27: =Ar38CC/MV -> 7.1279868e-15 | CK27: =Ar38_mole*SQRT((Ar38CCerr/Ar38CC)^2+(MVerr/MV)^2) -> 3.01775e-17 | CL27: =Ar40CC/MV -> 3.0080446e-14 | CM27: =Ar40_mole*SQRT((Ar40CCerrr/Ar40CC)^2+(MVerr/MV)^2) -> 7.4384433e-17 | CN27: 0.005134083 | CO27: 7.55777e-06 | CP27: 1.1139739e+19 | CQ27: 1.0453257e+18 | CR27: 8.0438365e+17 | CS27: 8.5271401e+16 | CT27: 0.49881143 | CU27: 0.045926073 | CV27: 24.58188 | CW27: 0.55629982 | CX27: =K_constant*Ar39CC/J -> 6.9592836e-09 | CY27: =K_mole*SQRT((Ar39ccerr/Ar39CC)^2+(Jerr/J)^2+(K_Constanterr/K_constant)^2) -> 8.0134974e-11 | CZ27: =K_mole*MW_K/Sample_Mass*10^6 -> 30.232906 | DA27: =K_ppm*SQRT((Sample_Masserr/Sample_Mass)^2+(MW_Kerr/MW_K)^2+(K_moleerr/K_mole)^2) -> 0.37952996 | DB27: =K_ppm/10^4 -> 0.0030232906 | DC27: =K_ppmerr/10^4 -> 3.7952996e-05 | DD27: =Cl_Constant*Ar38CC/(J*Beta) -> 5.1332567e-09 | DE27: =Cl_mole*SQRT((Ar38CCerr/Ar38CC)^2+(Jerr/J)^2+(Betaerr/Beta)^2+(Cl_Constanterr/Cl_Constant)^2) -> 1.2738539e-10 | DF27: =Cl_mole*MW_Cl/Sample_Mass*10^6 -> 20.221039 | DG27: =Cl_ppm*SQRT((Sample_Masserr/Sample_Mass)^2+(MW_Clerr/MW_Cl)^2+(Cl_moleerr/Cl_mole)^2) -> 0.51188364 | DH27: =Cl_ppm/10^4 -> 0.0020221039 | DI27: =Cl_ppmerr/10^4 -> 5.1188364e-05 | DJ27: =Ca_Constant*Ar37CC/(J*alpha) -> 1.691242e-06 | DK27: =Ca_mole*SQRT((Ar37CCerr/Ar37CC)^2+(Jerr/J)^2+(alphaerr/alpha)^2+(Ca_Constanterr/Ca_Constant)^2) -> 1.5719614e-07 | DL27: =Ca_mole*MW_Ca/Sample_Mass*10^6 -> 7531.6644 | DM27: =Ca_ppm*SQRT((Sample_Masserr/Sample_Mass)^2+(MW_Caerr/MW_Ca)^2+(Ca_moleerr/Ca_mole)^2) -> 701.05936 | DN27: =Ca_ppm/10^4 -> 0.75316644 | DO27: =Ca_ppmerr/10^4 -> 0.070105936 | DP27: =K_mole/Cl_mole -> 1.3557248 | DQ27: =KCl_mol*SQRT(K_moleerr/K_mole)^2+(Cl_moleerr/Cl_mole)^2 -> 0.016226762 | DR27: =K_mole/Ca_mole -> 0.0041148952 | DS27: =KCa_mol*SQRT(K_moleerr/K_mole)^2+(Ca_moleerr/Ca_mole)^2 -> 0.0086865562 | DT27: =K_ppm/Cl_ppm -> 1.4951213 | DU27: =KCl_wt*SQRT(K_ppmerr/K_ppm)^2+(Cl_ppmerr/Cl_ppm)^2 -> 0.019409883 | DV27: =K_ppm/Ca_ppm -> 0.0040141069 | DW27: =KCa_wt*SQRT(K_ppmerr/K_ppm)^2+(Ca_ppmerr/Ca_ppm)^2 -> 0.0087145751 | DX27: =Ar40_mole/Cl_mole -> 5.8599147e-06 | DY27: =Ar40Cl_mol*SQRT((Ar40_moleerr/Ar40_mole)^2+(Cl_moleerr/Cl_mole)^2) -> 1.4613812e-07 | DZ27: =Ar40AC/Ar39_IC -> 6.0980236 | EA27: =Ar40Ar39*SQRT((Ar40ACerr/Ar40AC)^2+(Ar39_ICerr/Ar39_IC)^2) -> 11.208072 | EB27: =(Ar40CC/MV)/K_mole -> 4.3223481e-06 | EC27: =Ar40K*SQRT((Ar40CCerrr/Ar40CC)^2+(K_moleerr/K_mole)^2+(MVerr/MV)^2) -> 5.0905871e-08 | ED27: =IF(Ar40Ar39>0,(1/lambda/10^6)*LN(1+(J*Ar40Ar39)),"") -> 55.553352 | EE27: =IF(Age="","",SQRT((J^2*Ar40Ar39^2*((Ar40Ar39err/Ar40Ar39*100)^2))/(Age^2*0.00055305^2*((1+Ar40Ar39*J)^2)))*Age/100) -> 100.88837 | EF27: =IF(Age="","",SQRT((J^2*Ar40Ar39^2*((Ar40Ar39err/Ar40Ar39*100)^2+(Jerr/J*100)^2))/(Age^2*0.00055305^2*((1+Ar40Ar39*J)^2)))*Age/100) -> 100.88841 | EG27: =IF(Ar40Ar39>0,(1/lambda/10^6)*LN(1+(J*Ar40Ar39)),"") -> 55.553352 | EH27: =IF(Age="","",SQRT((J^2*Ar40Ar39^2*((Ar40Ar39err/Ar40Ar39*100)^2))/(Age^2*0.00055305^2*((1+Ar40Ar39*J)^2)))*Age/100) -> 100.88837 | EI27: =IF(Age="","",SQRT((J^2*Ar40Ar39^2*((Ar40Ar39err/Ar40Ar39*100)^2+(Jerr/J*100)^2))/(Age^2*0.00055305^2*((1+Ar40Ar39*J)^2)))*Age/100) -> 100.88841 | EJ27: =CF27/$CF$33 -> 0.1477745 | EK27: =EG27 -> 55.553352 | EL27: =EH27 -> 100.88837 | EM27: =Ar39_IC/Ar36_ClCor -> 4.6693196 | EN27: =EM27*SQRT((Ar40_ICerr/Ar40_IC)^2+(Ar36_ClCorerr/Ar36_ClCor)^2) -> 0.8269315 | EO27: =Ar40_IC/Ar36_ClCor -> 323.97362 | EP27: =EO27*SQRT((Ar40_ICerr/Ar40_IC)^2+(Ar36_ClCorerr/Ar36_ClCor)^2) -> 57.375381 | EQ27: =Ar39_IC/Ar40_IC -> 0.014412654 | ER27: =EQ27*SQRT((Ar40_ICerr/Ar40_IC)^2+(Ar39_ICerr/Ar39_IC)^2) -> 0.0001042618 | ES27: =Ar36_ClCor/Ar40_IC -> 0.0030866711 | ET27: =ES27*SQRT((Ar40_ICerr/Ar40_IC)^2+(Ar36_ClCorerr/Ar36_ClCor)^2) -> 0.00054664613 | LQ27: =Name -> B1x Plagioclase | LR27: =Irradiation -> MN2022a | LS27: =IF(ISNUMBER(K_ppm), K_ppm, "") -> 30.232906 | LT27: =IF(ISNUMBER(K_ppmerr), K_ppmerr, "") -> 0.37952996 | LU27: =Cl_ppm -> 20.221039 | LV27: =Cl_ppmerr -> 0.51188364 | LW27: =Ca_ppm -> 7531.6644 | LX27: =Ca_ppmerr -> 701.05936 | MO27: =DT27 -> 1.4951213 | MP27: =DU27 -> 0.019409883 | MW27: =DP27 -> 1.3557248 | MX27: =DQ27 -> 0.016226762
