Workbook
Name _gXY1: #REF!
Name _gXY1: PlotDat15!$C$1:$D$16
Name Age: 'Halogen Samples (2)'!$EG:$EG
Name Age: Scapolite!$EJ:$EJ
Name Age: 'Supplementary Data 3'!$EM:$EM
Name Age_err: 'Halogen Samples (2)'!$EH:$EH
Name Age_err: 'Supplementary Data 3'!$EN:$EN
Name Age_exterr: 'Halogen Samples (2)'!$EI:$EI
Name Age_exterr: 'Supplementary Data 3'!$EO:$EO
Name airratio: 298.56
Name airratio4036: 298.56
Name alpha: 'Halogen Samples (2)'!$CT:$CT
Name alpha: Hb3Gr!$CK:$CK
Name alpha: Scapolite!$CT:$CT
Name alpha: 'Supplementary Data 3'!$CZ:$CZ
Name alpha: Vertical_variation!$CI:$CI
Name alphaerr: 'Halogen Samples (2)'!$CU:$CU
Name alphaerr: Hb3Gr!$CL:$CL
Name alphaerr: Scapolite!$CU:$CU
Name alphaerr: 'Supplementary Data 3'!$DA:$DA
Name alphaerr: Vertical_variation!$CJ:$CJ
Name Ar_Sensitivity: 'Halogen Samples (2)'!$BX:$BX
Name Ar_Sensitivity: Scapolite!$BX:$BX
Name Ar_Sensitivity: 'Supplementary Data 3'!$CD:$CD
Name Ar_sensitivityerr: 'Halogen Samples (2)'!$BY:$BY
Name Ar_sensitivityerr: Scapolite!$BY:$BY
Name Ar_sensitivityerr: 'Supplementary Data 3'!$CE:$CE
Name Ar36_ClCor: 'Halogen Samples (2)'!$BR:$BR
Name Ar36_ClCor: Hb3Gr!$BR:$BR
Name Ar36_ClCor: Salts!$BR:$BR
Name Ar36_ClCor: Scapolite!$BR:$BR
Name Ar36_ClCor: 'Supplementary Data 3'!$BX:$BX
Name Ar36_ClCorerr: 'Halogen Samples (2)'!$BS:$BS
Name Ar36_ClCorerr: Hb3Gr!$BS:$BS
Name Ar36_ClCorerr: Salts!$BS:$BS
Name Ar36_ClCorerr: Scapolite!$BS:$BS
Name Ar36_ClCorerr: 'Supplementary Data 3'!$BY:$BY
Name Ar36_DC: 'Halogen Samples (2)'!$BA:$BA
Name Ar36_DC: Hb3Gr!$BA:$BA
Name Ar36_DC: Salts!$BA:$BA
Name Ar36_DC: Scapolite!$BA:$BA
Name Ar36_DC: 'Supplementary Data 3'!$BA:$BA
Name Ar36_DCerr: 'Halogen Samples (2)'!$BB:$BB
Name Ar36_DCerr: Hb3Gr!$BB:$BB
Name Ar36_DCerr: Salts!$BB:$BB
Name Ar36_DCerr: Scapolite!$BB:$BB
Name Ar36_DCerr: 'Supplementary Data 3'!$BB:$BB
Name Ar36_DecayFactor: 'Halogen Samples (2)'!$BQ:$BQ
Name Ar36_DecayFactor: Hb3Gr!$BQ:$BQ
Name Ar36_DecayFactor: Salts!$BQ:$BQ
Name Ar36_DecayFactor: Scapolite!$BQ:$BQ
Name Ar36_DecayFactor: 'Supplementary Data 3'!$BW:$BW
Name Ar36_IC: 'Halogen Samples (2)'!$BO:$BO
Name Ar36_IC: Hb3Gr!$BO:$BO
Name Ar36_IC: Salts!$BO:$BO
Name Ar36_IC: Scapolite!$BO:$BO
Name Ar36_IC: 'Supplementary Data 3'!$BU:$BU
Name Ar36_ICerr: 'Halogen Samples (2)'!$BP:$BP
Name Ar36_ICerr: Hb3Gr!$BP:$BP
Name Ar36_ICerr: Salts!$BP:$BP

Sheet Halogen Samples (2)
B1: All named cells local to the sheet except those in the Ref Values Sheet
B2: Red = Fill in Information | Y2: need to take average | CN2: Updated for specific tube position
B3: Blue = Calcualted cell, don’t change | Y3: H1 | AA3: CDD | AC3: AX | AE3: L2 | AG3: CDD | BC3: *only for stepped irradiation | BQ3: *only for stepped irradiation | GU3: *From column GQ in Scapolite Sheet | HC3: *From column GY in Scapolite Sheet | HK3: *From column CJ in Shallowater Sheet | HO3: *From column CP in Shallowater Sheet | KC3: *From column CB in Shallowater Sheet | KI3: *From column KY in Scapolite Sheet | KU3: *From column CV in Shallowater Sheet | LQ3: Note: Summary is configured to take bromine concentrations and ratios from scapolite-corrected data and iodine and barium fromShallowater-corrected data
K4: must be filled in | BC4: Column K must read 'Continuous' or 'Stepped' | BQ4: Column K must read 'Continuous' or 'Stepped'
B5: Samples Details | G5: Irradiation Details | L5: Laser Details | O5: Samples: Raw Ar Data | Y5: Samples: Blank Ar Data | AI5: Samples: Blank Corrected Ar Data | AU5: Discrimination-corrected | BC5: Decay Factors* | BE5: Decay Corrected | BI5: Interference Corrections | BQ5: Decay Factor* | BR5: Cl-Corrected 36Ar | BT5: Air-Corrected 38Ar and 40Ar | BX5: Argon Sensitivity (cc/fA) | BZ5: cc Argon | CJ5: Moles Ar | CN5: Irradiation Parameters from Hb3Gr Sheet | CX5: Samples: Potassium | DD5: Samples: Chlorine | DJ5: Samples: Calcium | DP5: Samples: Ratios | DZ5: Age Calculation | EJ5: Plateau Plot | EM5: Uncorrected Ratios | EU5: Samples: Raw Kr Data | FC5: Samples: Blank Kr Data | FK5: Samples: Blank Corrected Kr Data | FS5: 235U correction | FU5: Air correction | GA5: Krypton Sensitivity and Yield | GE5: cc Krypton | GM5: Moles Krypton | GU5: Irradiation Parameter π and Scapolite-Corrected 79Br | HC5: Irradiation Parameter π' and Scapolite-Corrected 81Br | HK5: Shallowater-Corrected 79Br | HO5: Shallowater-Corrected 81Br | HS5: Samples: Raw Xe Data | IG5: Samples: Blank Xe Data | IU5: Samples: BlankCorrected Xe Data | JI5: Air Correction (or Trapped: Find and Replace 'Air' for 'SW', 'Q' or 'Mix' | JU5: Xenon Sensitivity and Yield | JY5: 128XeI (cc and mole) | KC5: Shallowater-Corrected I | KI5: Irradiation Parameter ω' and Scapolite-Corrected I | KO5: 131XeBa (cc and mole) | KU5: Shallowater-Corrected Barium | LA5: External Ba-Correction | LG5: Uranium | LY5: Shallowater-Corrected | MC5: Scapolite-Corrected | MG5: Shallowater-Corrected | MI5: Scapolite-Corrected | MK5: Barium & Uranium | MO5: Weight Ratios | MW5: Molar Ratios
B6: Details | C6: Samples Mass (g) | D6: ±Samples Mass (g) | E6: Analysis Date | F6: Spec. | G6: Irradiation | H6: Tube | I6: Can | J6: Irrad. Date | K6: Type (Stepped or Continuous) | L6: Laser Power | M6: W | N6: Step Duration | O6: 40Ar | P6: ±40Ar | Q6: 39Ar | R6: ±39Ar | S6: 38Ar | T6: ±38Ar | U6: 37Ar | V6: ±37Ar | W6: 36Ar | X6: ±36Ar | Y6: 40Ar | Z6: ±40Ar | AA6: 39Ar | AB6: ±39Ar | AC6: 38Ar | AD6: ±38Ar | AE6: 37Ar | AF6: ±37Ar | AG6: 36Ar | AH6: ±36Ar | AI6: 40Ar | AJ6: ±40Ar | AK6: 39Ar | AL6: ±39Ar | AM6: 38Ar | AN6: ±38Ar | AO6: 37Ar | AP6: ±37Ar | AQ6: 36Ar | AR6: ±36Ar | AS6: 40Ar/36Ar aircal | AT6: ± | AU6: 39Ar | AV6: ±39Ar | AW6: 38Ar | AX6: ±38Ar | AY6: 37Ar | AZ6: ±37Ar | BA6: 36Ar | BB6: ±36Ar | BC6: 37Ar | BD6: 39Ar | BE6: 37Ar | BF6: ±37Ar | BG6: 39Ar | BH6: ±39Ar | BI6: 40Ar | BJ6: ±40Ar | BK6: 39Ar | BL6: ±39Ar | BM6: 38Ar | BN6: ±38Ar | BO6: 36Ar | BP6: ±36Ar | BQ6: 36Ar | BR6: 36Ar* | BS6: ±36Ar* | BT6: 38ArCl* | BU6: ±38ArCl* | BV6: 40Ar* | BW6: ±40Ar* | BX6: S40Ar (cc/fA) | BY6: ±S40Ar | BZ6: 36Ar | CA6: ±36Ar | CB6: 37Ar | CC6: ±37Ar | CD6: 38Ar* | CE6: ±38Ar* | CF6: 39Ar | CG6: ±39Ar | CH6: 40Ar* | CI6: ±40Ar* | CJ6: 38Ar* | CK6: ±38Ar* | CL6: 40Ar* mole | CM6: ±40Ar*mole | CN6: J | CO6: ±J | CP6: ɸ therm | CQ6: ± ɸ therm | CR6: ɸ fast | CS6: ± ɸ fast | CT6: α | CU6: ±α | CV6: β | CW6: ±β | CX6: K (mole) | CY6: ±K (mole) | CZ6: K (ppm) | DA6: ±K (ppm) | DB6: K(wt.%) | DC6: ±K (wt.%) | DD6: Cl (mole) | DE6: ±Cl (mole) | DF6: Cl (ppm) | DG6: ±Cl (ppm) | DH6: Cl (wt. %) | DI6: ±Cl (wt. %) | DJ6: Ca (mole) | DK6: ±Ca (mole) | DL6: Ca (ppm) | DM6: ±Ca (ppm) | DN6: Ca (wt.%) | DO6: ±Ca (wt. %) | DP6: K/Cl (molar) | DQ6: ±K/Cl (molar) | DR6: K/Ca(molar) | DS6: ±K/Ca (molar) | DT6: K/Cl (wt.) | DU6: ±K/Cl (wt.) | DV6: K/Ca (wt.) | DW6: ±K/Ca (wt.) | DX6: 40Ar*/Cl (molar) | DY6: ±40Ar*/Cl (molar) | DZ6: 40Ar*/39Ar | EA6: ±40Ar*/39Ar | EB6: 40Ar*/K | EC6: ±40Ar*/K | ED6: Age (Ma) | EE6: ± Age (Ma) | EF6: ± Age (Ma) ext | EG6: Age (Ma) | EH6: ± Age (Ma) | EI6: ± Age (Ma) ext | EJ6: 39Ar% | EK6: Age (Ma) | EL6: ± Age (Ma) | EM6: 39ArK/36Ar | EN6: ±39ArK/36Ar | EO6: 40Artot/36Ar | EP6: ±40Artot/36Ar | EQ6: 39ArK/40Artot | ER6: ±39ArK/40Artot | ES6: 36Ar/40Artot | ET6: ±36Ar/40Artot | EU6: 80Kr | EV6: ±80Kr | EW6: 82Kr | EX6: ±82Kr | EY6: 84Kr | EZ6: ±84Kr | FA6: 86Kr | FB6: ±86Kr | FC6: 80Kr | FD6: ±80Kr | FE6: 82Kr | FF6: ±82Kr | FG6: 84Kr | FH6: ±84Kr | FI6: 86Kr | FJ6: ±86Kr | FK6: 80Kr | FL6: ±80Kr | FM6: 82Kr | FN6: ±82Kr | FO6: 84Kr | FP6: ±84Kr | FQ6: 86Kr | FR6: ±86Kr | FS6: 84Kr | FT6: ±84Kr | FU6: 80Kr* | FV6: ±80Kr* | FW6: 82Kr* | FX6: ±82Kr* | FY6: 86Kr* | FZ6: ±86Kr* | GA6: S84Kr (cc/fA) | GB6: ±S84Kr | GC6: YKr | GD6: ±YKr | GE6: 80Kr* | GF6: ±80Kr* | GG6: 82Kr* | GH6: ±82Kr* | GI6: 84Kr | GJ6: ±84Kr | GK6: 86Kr | GL6: ±86Kr | GM6: 80Kr* (mol) | GN6: ±80Kr* (mol) | GO6: 82Kr* (mol) | GP6: ±82Kr* (mol) | GQ6: 84Kr (mol) | GR6: ±84Kr (mol) | GS6: 80Kr*/82Kr* | GT6: ±80Kr*/82Kr* | GU6: π | GV6: ±π | GW6: Cl/Br | GX6: ± | GY6: 79Br (moles) | GZ6: ± | HA6: 79Br (ppb) | HB6: ± | HC6: π' | HD6: ±π' | HE6: Cl/Br | HF6: ± | HG6: 81Br (moles) | HH6: ± | HI6: 81Br (ppb) | HJ6: ± | HK6: F79BrSW | HL6: ± | HM6: Br79 (ppb) | HN6: ± | HO6: F81BrSW | HP6: ± | HQ6: Br81 (ppb) | HR6: ± | HS6: 128Xe | HT6: ±128Xe | HU6: 129Xe | HV6: ±129Xe | HW6: 130Xe | HX6: ±130Xe | HY6: 131Xe | HZ6: ±131Xe | IA6: 132Xe | IB6: ±132Xe | IC6: 134Xe | ID6: ±134Xe | IE6: 136Xe | IF6: ±136Xe | IG6: 128Xe | IH6: ±128Xe | II6: 129Xe | IJ6: ±129Xe | IK6: 130Xe | IL6: ±130Xe | IM6: 131Xe | IN6: ±131Xe | IO6: 132Xe | IP6: ±132Xe | IQ6: 134Xe | IR6: ±134Xe | IS6: 136Xe | IT6: ±136Xe | IU6: 128Xe | IV6: ±128Xe | IW6: 129Xe | IX6: ±129Xe | IY6: 130Xe | IZ6: ±130Xe | JA6: 131Xe | JB6: ±131Xe | JC6: 132Xe | JD6: ±132Xe | JE6: 134Xe | JF6: ±134Xe | JG6: 136Xe | JH6: ±136Xe | JI6: 128Xe* | JJ6: ±128Xe* | JK6: 129Xe* | JL6: ±129Xe* | JM6: 131Xe* | JN6: ±131Xe* | JO6: 132Xe* | JP6: ±132Xe* | JQ6: 134Xe* | JR6: ±134Xe* | JS6: 136Xe* | JT6: ±136Xe* | JU6: S132Xe (cc/fA) | JV6: ±S132Xe | JW6: YXe | JX6: ±YXe | JY6: 128XeI (cc) | JZ6: ±128XeI (cc) | KA6: 128XeI (mole) | KB6: ±128XeI (mole) | KC6: FISW | KD6: ±FISW | KE6: I (mole) | KF6: ±I (mole) | KG6: I (ppb) | KH6: ±I (ppb) | KI6: ω | KJ6: ±ω | KK6: Cl/I | KL6: ± | KM6: I (ppb) | KN6: ± | KO6: 131Xe*Ba | KP6: ±131Xe*Ba | KQ6: 131Xe*Ba (cc) | KR6: ±131Xe*Ba (cc) | KS6: 131Xe*Ba (mole) | KT6: ±131Xe*Ba (mole) | KU6: FBaSW | KV6: ±FBaSW | KW6: Ba (mole) | KX6: ±Ba (mole) | KY6: Ba (ppm) | KZ6: ±Ba (ppm) | LA6: FBa | LB6: ±FBa | LC6: Ba (mole) | LD6: ±Ba (mole) | LE6: Ba (ppm) | LF6: ±Ba (ppm) | LG6: 134Xe*U (cc) | LH6: ±134Xe*U (cc) | LI6: 134Xe*U (mole) | LJ6: ±134Xe*U (mole) | LK6: U (mole) | LL6: ±U (mole) | LM6: U (ppb) | LN6: ±U (ppb) | LQ6: Sample | LR6: Irradiation | LS6: K (ppm) | LT6: ±K (ppm) | LU6: Cl (ppm) | LV6: ±Cl (ppm) | LW6: Ca (ppm) | LX6: ±Ca (ppm) | LY6: Br79 (ppb) | LZ6: ±Br (ppm) | MA6: Br81 (ppb) | MB6: ±Br (ppm) | MC6: Br79 (ppb) | MD6: ±Br (ppm) | ME6: Br81 (ppb) | MF6: ±Br (ppm) | MG6: I (ppb) | MH6: ±I (ppb) | MI6: I (ppb) | MJ6: ±I (ppb) | MK6: Ba (ppm) | ML6: ±Ba (ppm) | MM6: U (ppb) | MN6: ±U (ppb) | MO6: K/Cl (wt.) | MP6: ±K/Cl (wt.) | MQ6: 79Br/Cl (wt.) | MR6: ±79Br/Cl (wt.) | MS6: 81Br/Cl (wt.) | MT6: ±81Br/Cl (wt.) | MU6: I/Cl (wt.) | MV6: ±I/Cl (wt.) | MW6: K/Cl (mol) | MX6: ±K/Cl (mol.) | MY6: 79Br/Cl (mol) | MZ6: ±79Br/Cl (mol) | NA6: 81Br/Cl (mol.) | NB6: ±81Br/Cl (mol) | NC6: I/Cl (mol.) | ND6: ±I/Cl (mol.)
B7: B1x Bulk | C7: =9.1/1000 -> 0.0091 | D7: =C7*0.5% -> 4.55e-05 | E7: 44727 | F7: ARGUS | G7: MN2022a | H7: 1 | J7: 44644 | K7: continuous | L7: 0.5 | M7: 0.31 | N7: 30 | O7: 319.2435 | P7: 0.105082 | Q7: 0.357477 | R7: 0.005143 | S7: 235.37075 | T7: 0.241447 | U7: 0.591289 | V7: 0.210765 | W7: 1.164552 | X7: 0.006521 | Y7: 6.3067745 | Z7: 0.93511706 | AA7: 0.043458 | AB7: 0.029863653 | AC7: 2.2128518 | AD7: 2.0188659 | AE7: 1.3901317 | AF7: 1.195401 | AG7: 0.25606525 | AH7: 0.21678044 | AI7: =Ar40Raw-Ar40Blank -> 312.93672 | AJ7: =SQRT(Ar40Blankerr^2+Ar40Rawerr^2) -> 0.94100273 | AK7: =Ar39Raw-Ar39Blank -> 0.314019 | AL7: =SQRT(Ar39Blankerr^2+Ar39Rawerr^2) -> 0.030303271 | AM7: =Ar38Raw-Ar38Blank -> 233.1579 | AN7: =SQRT(Ar38Blankerr^2+Ar38Rawerr^2) -> 2.0332526 | AO7: =Ar37Raw-Ar37Blank -> -0.79884275 | AP7: =SQRT(Ar37Blankerr^2+Ar37Rawerr^2) -> 1.2138391 | AQ7: =Ar36Raw-Ar36Blank -> 0.90848675 | AR7: =SQRT(Ar36Blankerr^2+Ar36Rawerr^2) -> 0.2168785 | AS7: 300.7 | AT7: 0.28 | AU7: =Ar39BC*(1+(Ar4036_Aircal/Ar4036_Air-1)/4) -> 0.31540047 | AV7: =SQRT(Ar39BCerr^2+(Ar39BC*(Ar4036_Aircal/Ar4036_Air-1)/4)^2*((Ar4036_Aircalerr/Ar4036_Aircal)^2+(Ar39BCerr/Ar39BC)^2+(Ar4036_airerr/Ar4036_Air)^2)) -> 0.030303564 | AW7: =Ar38BC*(1+2*(Ar4036_Aircal/Ar4036_Air-1)/4) -> 235.20937 | AX7: =SQRT(Ar38BCerr^2+(Ar38BC*(Ar4036_Aircal/Ar4036_Air-1)/4)^2*((Ar4036_Aircalerr/Ar4036_Aircal)^2+(Ar38BCerr/Ar38BC)^2+(Ar4036_airerr/Ar4036_Air)^2)) -> 2.0332728 | AY7: =Ar37BC*(1+3*(Ar4036_Aircal/Ar4036_Air-1)/4) -> -0.80938585 | AZ7: =SQRT(Ar37BCerr^2+(Ar37BC*(Ar4036_Aircal/Ar4036_Air-1)/3)^2*((Ar4036_Aircalerr/Ar4036_Aircal)^2+(Ar37BCerr/Ar37BC)^2+(Ar4036_airerr/Ar4036_Air)^2)) -> 1.21386 | BA7: =Ar36BC*(1+4*(Ar4036_Aircal/Ar4036_Air-1)/4) -> 0.92447366 | BB7: =SQRT(Ar36BCerr^2+(Ar36BC*(Ar4036_Aircal/Ar4036_Air-1)/4)^2*((Ar4036_Aircalerr/Ar4036_Aircal)^2+(Ar36BCerr/Ar36BC)^2+(Ar4036_airerr/Ar4036_Air)^2)) -> 0.2168806 | BE7: =IF(Rad_Type="Continuous", Ar37_DC*EXP(lambda_37Ar*(Run_Date-Rad_Date)),Ar37_DC*Ar37_DecayFactor) -> -4.1686259 | BF7: =IF(Rad_Type="Continuous", (Ar37_DCerr*EXP(lambda_37Ar*(Run_Date-Rad_Date))), Ar37_DCerr*Ar37_DecayFactor) -> 6.2518119 | BG7: =IF(Rad_Type="Continuous", Ar39_DC*EXP(lambda_39Ar*(Run_Date-Rad_Date)), Ar39_DC*Ar39_DecayFactor) -> 0.31558533 | BH7: =IF(Rad_Type="Continuous", (Ar39_DCerr*EXP(lambda_39Ar*(Run_Date-Rad_Date))), Ar39_DCerr*Ar39_DecayFactor) -> 0.030321326 | BI7: =Ar40BC-(Salt_40Ar39Ar_K*Ar39_IC) -> 312.89513 | BJ7: =SQRT(Ar40BCerr^2+(Ar39_ICerr*Salt_40Ar39Ar_K)^2) -> 0.94101131 | BK7: =Ar39_DecayCor-(Salt_39Ar37Ar_Ca*Ar37_DecayCor) -> 0.31939491 | BL7: =SQRT(Ar39_DecayCorerr^2+(Ar37_DecayCorerr*Salt_39Ar37Ar_Ca)^2) -> 0.030854901 | BM7: =Ar38_DC-(Salt_38Ar39Ar_K*Ar39_DecayCor) -> 235.2045 | BN7: =SQRT(Ar38_DCerr^2+(Ar39_DecayCorerr*Salt_38Ar39Ar_K)^2) -> 2.0332728 | BO7: =Ar36_DC-(Salt_36Ar37Ar_Ca*Ar37_DecayCor) -> 0.9259278 | BP7: =SQRT(Ar36_DCerr^2+(Ar37_DecayCorerr*Salt_36Ar37Ar_Ca)^2) -> 0.21689156 | BR7: =IF(Rad_Type="Continuous", BO7-((EXP(lambda_36Ar*(Run_Date-Rad_Date))-1)*Cl3638_PR*BT7),BO7*Ar36_DecayFactor) -> 0.88816534 | BS7: =IF(K:K="Continuous", SQRT(BP7^2+(((EXP(lambda_36Ar*(Run_Date-Rad_Date))-1)*Cl3638_PR)*BU7^2)), Ar36_ICerr*Ar36_DecayFactor) -> 0.21695005 | BT7: =IF(Rad_Type="Continuous", BM7-(Ar3836_Air*BO7)/(1-lambda_36Ar*(Run_Date-Rad_Date)),Ar38_IC-(Ar3836_Air*Ar36_IC)/Ar36_DecayFactor) -> 235.03042 | BU7: =IF(Rad_Type ="Continuous", SQRT(BN7^2*(((EXP(lambda_36Ar*(Run_Date-Rad_Date))-1*Ar3836_Air)*BP7^2))),SQRT(Ar38_ICerr^2*(((EXP(lambda_36Ar*(Ar36_DecayFactor))-1*Ar3836_Air)*Ar36_ICerr^2)))) -> 0.39738957 | BV7: =Ar40_IC-(Ar36_ClCor*Ar4036_Air) -> 50.442274 | BW7: =SQRT(Ar40_ICerr^2+(Ar36_ClCorerr*Ar4036_Air)^2) -> 64.115645 | BX7: 1.6986775e-12 | BY7: 9.4454002e-16 | BZ7: =Ar_Sensitivity*Ar36_ClCor -> 1.5087065e-12 | CA7: =Ar36CC*SQRT((Ar36_ClCorerr/Ar36_ClCor)^2+(Ar_sensitivityerr/Ar_Sensitivity)^2) -> 3.6852912e-13 | CB7: =Ar37_DecayCor*Ar_Sensitivity -> -7.0811509e-12 | CC7: =Ar37CC*SQRT((Ar37_DecayCorerr/Ar37_DecayCor)^2+(Ar_sensitivityerr/Ar_Sensitivity)^2) -> -1.0619813e-11 | CD7: =Ar_Sensitivity*Ar38_Cl -> 3.9924089e-10 | CE7: =Ar38CC*SQRT((Ar38_Clerr/Ar38_Cl)^2+(Ar_sensitivityerr/Ar_Sensitivity)^2) -> 7.1060301e-13 | CF7: =Ar_Sensitivity*Ar39_IC -> 5.4254893e-13 | CG7: =Ar39CC*SQRT((Ar39_ICerr/Ar39_IC)^2+(Ar_sensitivityerr/Ar_Sensitivity)^2) -> 5.2413394e-14 | CH7: =Ar_Sensitivity*Ar40_IC -> 5.3150791e-10 | CI7: =Ar40CC*SQRT((Ar40_ICerr/Ar40_IC)^2+(Ar_sensitivityerr/Ar_Sensitivity)^2) -> 1.6255665e-12 | CJ7: =Ar38CC/MV -> 1.7812152e-14 | CK7: =Ar38_mole*SQRT((Ar38CCerr/Ar38CC)^2+(MVerr/MV)^2) -> 3.1703589e-17 | CL7: =Ar40CC/MV -> 2.3713251e-14 | CM7: =Ar40_mole*SQRT((Ar40CCerrr/Ar40CC)^2+(MVerr/MV)^2) -> 7.252473e-17 | CN7: 0.005134083 | CO7: 8.40144e-06 | CP7: 1.1139739e+19 | CQ7: 1.0453257e+18 | CR7: 8.0438365e+17 | CS7: 8.5271401e+16 | CT7: 0.49881143 | CU7: 0.045926073 | CV7: 24.58188 | CW7: 0.55629982 | CX7: =K_constant*Ar39CC/J -> 3.8855865e-10 | CY7: =K_mole*SQRT((Ar39ccerr/Ar39CC)^2+(Jerr/J)^2+(K_Constanterr/K_constant)^2) -> 3.7710123e-11 | CZ7: =K_mole*MW_K/Sample_Mass*10^6 -> 1.6694487 | DA7: =K_ppm*SQRT((Sample_Masserr/Sample_Mass)^2+(MW_Kerr/MW_K)^2+(K_moleerr/K_mole)^2) -> 0.16223704 | DB7: =K_ppm/10^4 -> 0.00016694487 | DC7: =K_ppmerr/10^4 -> 1.6223704e-05 | DD7: =Cl_Constant*Ar38CC/(J*Beta) -> 1.2827513e-08 | DE7: =Cl_mole*SQRT((Ar38CCerr/Ar38CC)^2+(Jerr/J)^2+(Betaerr/Beta)^2+(Cl_Constanterr/Cl_Constant)^2) -> 3.1462053e-10 | DF7: =Cl_mole*MW_Cl/Sample_Mass*10^6 -> 49.975147 | DG7: =Cl_ppm*SQRT((Sample_Masserr/Sample_Mass)^2+(MW_Clerr/MW_Cl)^2+(Cl_moleerr/Cl_mole)^2) -> 1.2509511 | DH7: =Cl_ppm/10^4 -> 0.0049975147 | DI7: =Cl_ppmerr/10^4 -> 0.00012509511 | DJ7: =Ca_Constant*Ar37CC/(J*alpha) -> -9.9177986e-09 | DK7: =Ca_mole*SQRT((Ar37CCerr/Ar37CC)^2+(Jerr/J)^2+(alphaerr/alpha)^2+(Ca_Constanterr/Ca_Constant)^2) -> -1.4902306e-08 | DL7: =Ca_mole*MW_Ca/Sample_Mass*10^6 -> -43.681909 | DM7: =Ca_ppm*SQRT((Sample_Masserr/Sample_Mass)^2+(MW_Caerr/MW_Ca)^2+(Ca_moleerr/Ca_mole)^2) -> -65.636014 | DN7: =Ca_ppm/10^4 -> -0.0043681909 | DO7: =Ca_ppmerr/10^4 -> -0.0065636014 | DP7: =K_mole/Cl_mole -> 0.030291035 | DQ7: =KCl_mol*SQRT(K_moleerr/K_mole)^2+(Cl_moleerr/Cl_mole)^2 -> 0.0035413585 | DR7: =K_mole/Ca_mole -> -0.039177913 | DS7: =KCa_mol*SQRT(K_moleerr/K_mole)^2+(Ca_moleerr/Ca_mole)^2 -> 2.2539505 | DT7: =K_ppm/Cl_ppm -> 0.033405578 | DU7: =KCl_wt*SQRT(K_ppmerr/K_ppm)^2+(Cl_ppmerr/Cl_ppm)^2 -> 0.0038729287 | DV7: =K_ppm/Ca_ppm -> -0.038218309 | DW7: =KCa_wt*SQRT(K_ppmerr/K_ppm)^2+(Ca_ppmerr/Ca_ppm)^2 -> 2.2540637 | DX7: =Ar40_mole/Cl_mole -> 1.8486242e-06 | DY7: =Ar40Cl_mol*SQRT((Ar40_moleerr/Ar40_mole)^2+(Cl_moleerr/Cl_mole)^2) -> 4.5692365e-08 | DZ7: =Ar40AC/Ar39_IC -> 157.93074 | EA7: =Ar40Ar39*SQRT((Ar40ACerr/Ar40AC)^2+(Ar39_ICerr/Ar39_IC)^2) -> 201.31992 | EB7: =(Ar40CC/MV)/K_mole -> 6.1028756e-05 | EC7: =Ar40K*SQRT((Ar40CCerrr/Ar40CC)^2+(K_moleerr/K_mole)^2+(MVerr/MV)^2) -> 5.9258604e-06 | ED7: =IF(Ar40Ar39>0,(1/lambda/10^6)*LN(1+(J*Ar40Ar39)),"") -> 1070.0372 | EE7: =IF(Age="","",SQRT((J^2*Ar40Ar39^2*((Ar40Ar39err/Ar40Ar39*100)^2))/(Age^2*0.00055305^2*((1+Ar40Ar39*J)^2)))*Age/100) -> 1032.0664 | EF7: =IF(Age="","",SQRT((J^2*Ar40Ar39^2*((Ar40Ar39err/Ar40Ar39*100)^2+(Jerr/J*100)^2))/(Age^2*0.00055305^2*((1+Ar40Ar39*J)^2)))*Age/100) -> 1032.0673 | EG7: =IF(Ar40Ar39>0,(1/lambda/10^6)*LN(1+(J*Ar40Ar39)),"") -> 1070.0372 | EH7: =IF(Age="","",SQRT((J^2*Ar40Ar39^2*((Ar40Ar39err/Ar40Ar39*100)^2))/(Age^2*0.00055305^2*((1+Ar40Ar39*J)^2)))*Age/100) -> 1032.0664 | EI7: =IF(Age="","",SQRT((J^2*Ar40Ar39^2*((Ar40Ar39err/Ar40Ar39*100)^2+(Jerr/J*100)^2))/(Age^2*0.00055305^2*((1+Ar40Ar39*J)^2)))*Age/100) -> 1032.0673 | EJ7: =CF7/$CF$19 -> 0.0027346625 | EK7: =EG7 -> 1070.0372 | EL7: =EH7 -> 1032.0664 | EM7: =Ar39_IC/Ar36_ClCor -> 0.35961199 | EN7: =EM7*SQRT((Ar40_ICerr/Ar40_IC)^2+(Ar36_ClCorerr/Ar36_ClCor)^2) -> 0.087848229 | EO7: =Ar40_IC/Ar36_ClCor -> 352.29379 | EP7: =EO7*SQRT((Ar40_ICerr/Ar40_IC)^2+(Ar36_ClCorerr/Ar36_ClCor)^2) -> 86.060493 | EQ7: =Ar39_IC/Ar40_IC -> 0.001020773 | ER7: =EQ7*SQRT((Ar40_ICerr/Ar40_IC)^2+(Ar39_ICerr/Ar39_IC)^2) -> 9.8658772e-05 | ES7: =Ar36_ClCor/Ar40_IC -> 0.00283854 | ET7: =ES7*SQRT((Ar40_ICerr/Ar40_IC)^2+(Ar36_ClCorerr/Ar36_ClCor)^2) -> 0.000693416 | EU7: 7.625424 | EV7: 0.135937 | EW7: 2.2741 | EX7: 0.025662 | EY7: 0.047418 | EZ7: 0.001857 | FA7: 0.047257 | FB7: 0.066861 | FK7: =Kr80Raw-Kr80Blank -> 7.625424 | FL7: =SQRT(Kr80Rawerr^2+Kr80Blankerr^2) -> 0.135937 | FM7: =Kr82Raw-Kr82Blank -> 2.2741 | FN7: =SQRT(Kr82Rawerr^2+Kr82Blankerr^2) -> 0.036291548 | FO7: =Kr84Raw-Kr84Blank -> 0.047418 | FP7: =SQRT(Kr84Rawerr^2+Kr84Blankerr^2) -> 0.001857 | FQ7: =Kr86Raw-Kr86Blank -> 0.047257 | FR7: =SQRT(Kr86Rawerr^2+Kr86Blankerr^2) -> 0.066861 | FS7: =Kr84BC-((Y86Kr*Kr8684_nf)/(Y134Xe*Xe134136_nf)*Xe134BC) -> 0.04670756 | FT7: =Kr84U*SQRT((Kr84BCerr/Kr84BC)^2+(Y86Kr_err/Y86Kr)^2+(Kr8684_nferr/Kr8684_nf)^2+(Y134Xeerr/Y134Xe)^2+(Xe134136_nferr/Xe134136_nf)^2+(Xe134BCerr/Xe134BC)^2) -> 0.0048669159 | FU7: =Kr80BC-(Kr84U*Kr8084_Air) -> 7.6235744 | FV7: =SQRT(Kr80BCerr^2+(Kr84Uerr*Kr8084_Air)^2) -> 0.13593714 | FW7: =Kr82BC-(Kr84U*Kr8284_Air) -> 2.2646557 | FX7: =SQRT(Kr82BCerr^2+(Kr84Uerr*Kr8284_Air)^2) -> 0.036304888 | FY7: =Kr86BC-(Kr84U*Kr8684_Air) -> 0.033001853 | FZ7: =SQRT(Kr86BCerr^2+(Kr84Uerr*Kr8684_Air)^2) -> 0.066877498 | GA7: 7.9e-13 | GB7: 2e-14 | GC7: 1 | GD7: 0.005 | GE7: =(Kr80AC*Kr_sensitivity)/YKr -> 6.0226238e-12 | GF7: =Kr80cc*SQRT((Kr_sensitivityerr/Kr_sensitivity)^2+(YKrerr/YKr)^2+(Kr80ACerr/Kr80AC)^2) -> 1.8891014e-13 | GG7: =(Kr82AC*Kr_sensitivity)/YKr -> 1.789078e-12 | GH7: =Kr82cc*SQRT((Kr_sensitivityerr/Kr_sensitivity)^2+(YKrerr/YKr)^2+(Kr82ACerr/Kr82AC)^2) -> 5.4351431e-14 | GI7: =(Kr84U*Kr_sensitivity)/YKr -> 3.6898972e-14 | GJ7: =Kr84cc*SQRT((Kr_sensitivityerr/Kr_sensitivity)^2+(YKrerr/YKr)^2+(Kr84Uerr/Kr84U)^2) -> 3.9610166e-15 | GK7: =(Kr86AC*Kr_sensitivity)/YKr -> 2.6071464e-14 | GL7: =Kr86cc*SQRT((Kr_sensitivityerr/Kr_sensitivity)^2+(YKrerr/YKr)^2+(Kr86ACerr/Kr86AC)^2) -> 5.2837507e-14 | GM7: =Kr80cc/MV -> 2.6869965e-16 | GN7: =Kr80_mole*SQRT((MVerr/MV)^2+(Kr80ccerr/Kr80cc)^2) -> 8.4282348e-18 | GO7: =Kr82cc/MV -> 7.9819803e-17 | GP7: =Kr82_mole*SQRT((MVerr/MV)^2+(Kr82ccerr/Kr82cc)^2) -> 2.4248917e-18 | GQ7: =Kr84cc/MV -> 1.6462494e-18 | GR7: =Kr84_mole*SQRT((MVerr/MV)^2+(Kr84ccerr/Kr84cc)^2) -> 1.7672095e-19 | GS7: =Kr80_mole/Kr82_mole -> 3.3663282 | GT7: =Kr8082_mole*SQRT(Kr80_moleerr/Kr80_mole)^2+(Kr82_moleerr/Kr82_mole)^2 -> 0.10651369 | GU7: 28.467322 | GV7: 0.39873309 | GW7: =Pi*(Ar38_mole/Kr80_mole) -> 1887.1042 | GX7: =Cl_79Br*SQRT((Pi_err/Pi)^2+(Ar38_moleerr/Ar38_mole)^2+(Kr80_moleerr/Kr80_mole)^2) -> 64.912779 | GY7: =(Cl_mole/Cl_79Br)/(MW_Br/MW_Cl) -> 3.0159981e-12 | GZ7: =(Br79mole_SC*SQRT((Cl_moleerr/Cl_mole)^2+(Cl_79Brerr/Cl_79Br)^2)) -> 1.2741664e-13 | HA7: =(Cl_ppm/Cl_79Br)*10^3 -> 26.482452 | HB7: =Br79ppb_SC*SQRT((Cl_ppmerr/Cl_ppm)^2+(Cl_79Brerr/Cl_79Br)^2) -> 1.1266105 | HC7: 8.5704443 | HD7: 0.1169415 | HE7: =Pi_prime*(Ar38_mole/Kr82_mole) -> 1912.5336 | HF7: =Cl_81Br*SQRT((Pi_primeerr/Pi_prime)^2+(Ar38_moleerr/Ar38_mole)^2+(Kr82_moleerr/Kr82_mole)^2) -> 63.78423 | HG7: =(Cl_mole/Cl_81Br)/(MW_Br/MW_Cl) -> 2.9758969e-12 | HH7: =(Br81mole_SC*SQRT((Cl_moleerr/Cl_mole)^2+(Cl_79Brerr/Cl_79Br)^2)) -> 1.2572249e-13 | HI7: =(Cl_ppm/Cl_81Br)*10^3 -> 26.130337 | HJ7: =(Br81ppb_SC*SQRT((Cl_ppmerr/Cl_ppm)^2+(Cl_81Brerr/Cl_81Br)^2)) -> 1.0896193 | HK7: 1.2502078 | HL7: 0.030773458 | HM7: =(Kr80_mole/Br79_FactorSW)/(Y_79Br*Br79_Abun*(Therm_CS_79Br*Therm_Flux))*(MW_Br/Sample_Mass*10^9) -> 33.467056 | HN7: =Br79ppb_SW*SQRT((Kr80_moleerr/Kr80_mole)^2+(Sample_Masserr/Sample_Mass)^2+(Br79Factor_SWerr/Br79_FactorSW)^2+(Therm_CS_79Brerr/Therm_CS_79Br)^2+(Br79_Abunerr/Br79_Abun)^2+(Therm_Fluxerr/Therm_Flux)^2) -> 3.420069 | HO7: 1.4124704 | HP7: 0.023743935 | HQ7: =(Kr82_mole/Br81_FactorSW)/(Y_81Br*Br81_Abun*(Therm_CS_81Br*Therm_Flux))*(MW_Br/Sample_Mass*10^9) -> 38.276871 | HR7: =Br81ppb_SW*SQRT((Kr82_moleerr/Kr82_mole)^2+(Sample_Masserr/Sample_Mass)^2+(Br81_FactorSWerr/Br81_FactorSW)^2+(Therm_CS_81Brerr/Therm_CS_81Br)^2+(Br81_Abunerr/Br81_Abun)^2+(Therm_Fluxerr/Therm_Flux)^2) -> 3.8656974 | HS7: 0.907037 | HT7: 0.033231 | HU7: 0.016573 | HV7: 0.000207 | HW7: 0.002682 | HX7: 0.000148 | HY7: 0.021461 | HZ7: 0.000506 | IA7: 0.016578 | IB7: 0.000387 | IC7: 0.006469 | ID7: 0.000201 | IE7: 0.006076 | IF7: 0.000422 | IG7: 0.001641 | IH7: 0.000117 | II7: 0.00147 | IJ7: 0.000184 | IK7: 0.000257 | IL7: 6.7e-05 | IM7: 0.001669 | IN7: 0.000188 | IO7: 0.001149 | IP7: 0.000135 | IQ7: 0.000854 | IR7: 8.6e-05 | IS7: 0.000134 | IT7: 0.000143 | IU7: =Xe128Raw-Xe128Blank -> 0.905396 | IV7: =SQRT(Xe128Rawerr^2+Xe128Blankerr^2) -> 0.033231206 | IW7: =Xe129Raw-Xe129Blank -> 0.015103 | IX7: =SQRT(Xe129Rawerr^2+Xe129Blankerr^2) -> 0.00027695668 | IY7: =Xe130Raw-Xe130Blank -> 0.002425 | IZ7: =SQRT(Xe130Rawerr^2+Xe130Blankerr^2) -> 0.00016245923 | JA7: =Xe131Raw-Xe131Blank -> 0.019792 | JB7: =SQRT(Xe131Rawerr^2+Xe131Blankerr^2) -> 0.00053979626 | JC7: =Xe132Raw-Xe132Blank -> 0.015429 | JD7: =SQRT(Xe132Rawerr^2+Xe132Blankerr^2) -> 0.00040987071 | JE7: =Xe134Raw-Xe134Blank -> 0.005615 | JF7: =SQRT(Xe134Rawerr^2+Xe134Blankerr^2) -> 0.00021862525 | JG7: =Xe136Raw-Xe136Blank -> 0.005942 | JH7: =SQRT(Xe136Rawerr^2+Xe136Blankerr^2) -> 0.00044557042 | JI7: =Xe128BC-(Xe130BC*Xe128130_Q) -> 0.90416404 | JJ7: =SQRT(Xe128BCerr^2+(Xe130BCerr*Xe128130_Q)^2) -> 0.033231308 | JK7: =Xe129BC-(Xe130BC*Xe129130_Q) -> -0.00047987037 | JL7: =SQRT(Xe129BCerr^2+(Xe130BCerr*Xe129130_Q)^2) -> 0.0010800642 | JM7: =Xe131BC-(Xe130BC*Xe131130_Q) -> 0.0075382654 | JN7: =SQRT(Xe131BCerr^2+(Xe130BCerr*Xe131130_Q)^2) -> 0.00098249197 | JO7: =Xe132BC-(Xe130BC*Xe132130_Q) -> 0.0004598642 | JP7: =SQRT((Xe132BCerr^2+(Xe130BCerr*Xe132130_Q)^2)) -> 0.0010833612 | JQ7: =Xe134BC-(Xe130BC*Xe134130_Q) -> -4.4830246e-05 | JR7: =SQRT(Xe134BCerr^2+(Xe130BCerr*Xe134130_Q)^2) -> 0.00043768512 | JS7: =Xe136BC-(Xe130BC*Xe136130_Q) -> 0.0012012747 | JT7: =SQRT(Xe136BCerr^2+(Xe130BCerr*Xe136130_Q)^2) -> 0.00054717578 | JU7: 6.7e-13 | JV7: 4e-14 | JW7: 1 | JX7: 0 | JY7: =(Xe128AC*Xe_Sensitivity)/YXe -> 6.0578991e-13 | JZ7: =Xe128CC*SQRT((Xe_Sensitivityerr/Xe_Sensitivity)^2+(YXeerr/YXe)^2+(Xe128ACerr/Xe128AC)^2) -> 4.2470571e-14 | KA7: =Xe128CC/MV -> 2.7027346e-17 | KB7: =Xe128mole*SQRT((Xe128CCerr/Xe128CC)^2+(MVerr/MV)^2) -> 1.8948266e-18 | KC7: 1.5235624 | KD7: 0.064506083 | KE7: =(Xe128mole/IFactor_SW)/((Therm_CS_127I*Therm_Flux)*I127_Abun*Y_127I) -> 2.7501704e-13 | KF7: =I_mole*SQRT((Xe128CCerr/Xe128CC)^2+(IFactor_SWerr/IFactor_SW)^2+(Therm_CS_127Ierr/Therm_CS_127I)^2+(Therm_Fluxerr/Therm_Flux)^2) -> 3.430041e-14 | KG7: =I_mole*MW_I/Sample_Mass*10^9 -> 3.8352637 | KH7: =KG7*SQRT(I_moleerr/I_mole)^2+(MVerr/MV)^2+(Sample_Masserr/Sample_Mass) -> 0.48333806 | KI7: 22.400563 | KJ7: 2.2525236 | KK7: =Omega*(Ar38_mole/Xe128mole) -> 14762.908 | KL7: =Cl_I*SQRT((Omegaerr/Omega)^2+(Ar38_moleerr/Ar38_mole)^2+(Xe128moleerr/Xe128mole)^2) -> 1809.88 | KM7: =(Cl_ppm/Cl_I)*10^3 -> 3.385183 | KN7: =(Ippb_SC*SQRT((Cl_ppmerr/Cl_ppm)^2+(Cl_Ierr/Cl_I)^2)) -> 0.42357368 | KO7: =Xe131AC-Xe131136_nf/Xe134136_nf*Xe134AC -> 0.0075545641 | KP7: =SQRT(Xe131ACerr^2+(Xe131136_nf/Xe134136_nf*Xe134AC)^2*((Xe131136_nferr/Xe131136_nf)^2+(Xe134136_nferr/Xe134136_nf)^2+(Xe134ACerr/Xe134AC)^2)) -> 0.00099529498 | KQ7: =(Xe131Ba*Xe_Sensitivity)/YXe -> 5.0615579e-15 | KR7: =Xe131Bacc*SQRT((Xe_Sensitivityerr/Xe_Sensitivity)^2+(YXeerr/YXe)^2+(Xe131Baerr/Xe131Ba)^2) -> 7.3212026e-16 | KS7: =Xe131Bacc/MV -> 2.2582165e-19 | KT7: =Xe131mole*SQRT((Xe131CCerr/Xe131CC)^2+(MVerr/MV)^2) -> 3.2663581e-20 | KU7: 1.5355171 | KV7: 0.059163108 | KW7: =(Xe131mole/Ba_FactorSW)/((Therm_CS_130Ba*Therm_Flux)*Ba130_Abun*Y_130Ba) -> 1.607876e-12 | KX7: =Ba_mole*SQRT((Xe131BaCCerr/Xe131Bacc)^2+(Ba_FactorSWerr/Ba_FactorSW)^2+(Therm_CS_130Baerr/Therm_CS_130Ba)^2+(Therm_Fluxerr/Therm_Flux)^2) -> 2.927972e-13 | KY7: =Ba_mole*MW_Ba/Sample_Mass*10^6 -> 0.024264262 | KZ7: =Ba_ppm*SQRT(Ba_moleerr/Ba_mole)^2+(MVerr/MV)^2+(Sample_Masserr/Sample_Mass) -> 0.0094185671 | LG7: =(Xe134AC*Xe_Sensitivity)/YXe -> -3.0036265e-17 | LH7: =Xe134CC*SQRT((Xe_Sensitivityerr/Xe_Sensitivity)^2+(YXeerr/YXe)^2+(Xe134ACerr/Xe134AC)^2) -> -2.9325451e-16 | LI7: =Xe134CC/MV -> -1.3400694e-21 | LJ7: =Xe134mole*SQRT((Xe134CCerr/Xe134CC)^2+(MVerr/MV)^2) -> -1.3083564e-20 | LK7: =Xe134_mole/((Therm_CS_235U*Therm_Flux)*U235_Abun*Y_235U) -> -3.5556271e-16 | LL7: =U_mole*SQRT((Xe134moleerr/Xe134mole)^2+(Therm_CS_235Uerr/Therm_CS_235U)^2+(Therm_Fluxerr/Therm_Flux)^2) -> -3.4716428e-15 | LM7: =U_mole*MW_U/Sample_Mass*10^9 -> -0.009300462 | LN7: =U_ppb*SQRT((U_moleerr/U_mole)^2+(MVerr/MV)^2+(Sample_Masserr/Sample_Mass)^2) -> -0.090807853 | LQ7: =Name -> B1x Bulk | LR7: =Irradiation -> MN2022a | LS7: =IF(ISNUMBER(K_ppm), K_ppm, "") -> 1.6694487 | LT7: =IF(ISNUMBER(K_ppmerr), K_ppmerr, "") -> 0.16223704 | LU7: =Cl_ppm -> 49.975147 | LV7: =Cl_ppmerr -> 1.2509511 | LW7: =Ca_ppm -> -43.681909 | LX7: =Ca_ppmerr -> -65.636014 | MO7: =DT7 -> 0.033405578 | MP7: =DU7 -> 0.0038729287 | MW7: =DP7 -> 0.030291035 | MX7: =DQ7 -> 0.0035413585
B8: B1x Bulk | C8: =9.1/1000 -> 0.0091 | D8: =C8*0.5% -> 4.55e-05 | E8: 44727 | F8: ARGUS | G8: MN2022a | H8: 1 | J8: 44644 | K8: continuous | L8: 1 | M8: 0.8 | N8: 30 | O8: 395.20633 | P8: 0.176612 | Q8: 1.90128 | R8: 0.010994 | S8: 766.89403 | T8: 0.690461 | U8: 2.657802 | V8: 0.070272 | W8: 1.448179 | X8: 0.00521 | Y8: 6.3067745 | Z8: 0.93511706 | AA8: 0.043458 | AB8: 0.029863653 | AC8: 2.2128518 | AD8: 2.0188659 | AE8: 1.3901317 | AF8: 1.195401 | AG8: 0.25606525 | AH8: 0.21678044 | AI8: =Ar40Raw-Ar40Blank -> 388.89956 | AJ8: =SQRT(Ar40Blankerr^2+Ar40Rawerr^2) -> 0.95164894 | AK8: =Ar39Raw-Ar39Blank -> 1.857822 | AL8: =SQRT(Ar39Blankerr^2+Ar39Rawerr^2) -> 0.031823039 | AM8: =Ar38Raw-Ar38Blank -> 764.68117 | AN8: =SQRT(Ar38Blankerr^2+Ar38Rawerr^2) -> 2.1336719 | AO8: =Ar37Raw-Ar37Blank -> 1.2676703 | AP8: =SQRT(Ar37Blankerr^2+Ar37Rawerr^2) -> 1.1974647 | AQ8: =Ar36Raw-Ar36Blank -> 1.1921138 | AR8: =SQRT(Ar36Blankerr^2+Ar36Rawerr^2) -> 0.21684304 | AS8: 300.7 | AT8: 0.28 | AU8: =Ar39BC*(1+(Ar4036_Aircal/Ar4036_Air-1)/4) -> 1.8659952 | AV8: =SQRT(Ar39BCerr^2+(Ar39BC*(Ar4036_Aircal/Ar4036_Air-1)/4)^2*((Ar4036_Aircalerr/Ar4036_Aircal)^2+(Ar39BCerr/Ar39BC)^2+(Ar4036_airerr/Ar4036_Air)^2)) -> 0.031823349 | AW8: =Ar38BC*(1+2*(Ar4036_Aircal/Ar4036_Air-1)/4) -> 771.40933 | AX8: =SQRT(Ar38BCerr^2+(Ar38BC*(Ar4036_Aircal/Ar4036_Air-1)/4)^2*((Ar4036_Aircalerr/Ar4036_Aircal)^2+(Ar38BCerr/Ar38BC)^2+(Ar4036_airerr/Ar4036_Air)^2)) -> 2.1336978 | AY8: =Ar37BC*(1+3*(Ar4036_Aircal/Ar4036_Air-1)/4) -> 1.2844009 | AZ8: =SQRT(Ar37BCerr^2+(Ar37BC*(Ar4036_Aircal/Ar4036_Air-1)/3)^2*((Ar4036_Aircalerr/Ar4036_Aircal)^2+(Ar37BCerr/Ar37BC)^2+(Ar4036_airerr/Ar4036_Air)^2)) -> 1.1974853 | BA8: =Ar36BC*(1+4*(Ar4036_Aircal/Ar4036_Air-1)/4) -> 1.2130917 | BB8: =SQRT(Ar36BCerr^2+(Ar36BC*(Ar4036_Aircal/Ar4036_Air-1)/4)^2*((Ar4036_Aircalerr/Ar4036_Aircal)^2+(Ar36BCerr/Ar36BC)^2+(Ar4036_airerr/Ar4036_Air)^2)) -> 0.21684514 | BE8: =IF(Rad_Type="Continuous", Ar37_DC*EXP(lambda_37Ar*(Run_Date-Rad_Date)),Ar37_DC*Ar37_DecayFactor) -> 6.615123 | BF8: =IF(Rad_Type="Continuous", (Ar37_DCerr*EXP(lambda_37Ar*(Run_Date-Rad_Date))), Ar37_DCerr*Ar37_DecayFactor) -> 6.1674763 | BG8: =IF(Rad_Type="Continuous", Ar39_DC*EXP(lambda_39Ar*(Run_Date-Rad_Date)), Ar39_DC*Ar39_DecayFactor) -> 1.8670889 | BH8: =IF(Rad_Type="Continuous", (Ar39_DCerr*EXP(lambda_39Ar*(Run_Date-Rad_Date))), Ar39_DCerr*Ar39_DecayFactor) -> 0.031842001 | BI8: =Ar40BC-(Salt_40Ar39Ar_K*Ar39_IC) -> 388.65722 | BJ8: =SQRT(Ar40BCerr^2+(Ar39_ICerr*Salt_40Ar39Ar_K)^2) -> 0.95165826 | BK8: =Ar39_DecayCor-(Salt_39Ar37Ar_Ca*Ar37_DecayCor) -> 1.8610435 | BL8: =SQRT(Ar39_DecayCorerr^2+(Ar37_DecayCorerr*Salt_39Ar37Ar_Ca)^2) -> 0.032336983 | BM8: =Ar38_DC-(Salt_38Ar39Ar_K*Ar39_DecayCor) -> 771.3805 | BN8: =SQRT(Ar38_DCerr^2+(Ar39_DecayCorerr*Salt_38Ar39Ar_K)^2) -> 2.1336978 | BO8: =Ar36_DC-(Salt_36Ar37Ar_Ca*Ar37_DecayCor) -> 1.2107842 | BP8: =SQRT(Ar36_DCerr^2+(Ar37_DecayCorerr*Salt_36Ar37Ar_Ca)^2) -> 0.21685581 | BR8: =IF(Rad_Type="Continuous", BO8-((EXP(lambda_36Ar*(Run_Date-Rad_Date))-1)*Cl3638_PR*BT8),BO8*Ar36_DecayFactor) -> 1.0868826 | BS8: =IF(K:K="Continuous", SQRT(BP8^2+(((EXP(lambda_36Ar*(Run_Date-Rad_Date))-1)*Cl3638_PR)*BU8^2)), Ar36_ICerr*Ar36_DecayFactor) -> 0.21692021 | BT8: =IF(Rad_Type="Continuous", BM8-(Ar3836_Air*BO8)/(1-lambda_36Ar*(Run_Date-Rad_Date)),Ar38_IC-(Ar3836_Air*Ar36_IC)/Ar36_DecayFactor) -> 771.15287 | BU8: =IF(Rad_Type ="Continuous", SQRT(BN8^2*(((EXP(lambda_36Ar*(Run_Date-Rad_Date))-1*Ar3836_Air)*BP8^2))),SQRT(Ar38_ICerr^2*(((EXP(lambda_36Ar*(Ar36_DecayFactor))-1*Ar3836_Air)*Ar36_ICerr^2)))) -> 0.41694823 | BV8: =Ar40_IC-(Ar36_ClCor*Ar4036_Air) -> 67.4834 | BW8: =SQRT(Ar40_ICerr^2+(Ar36_ClCorerr*Ar4036_Air)^2) -> 64.106985 | BX8: 1.6986775e-12 | BY8: 9.4454002e-16 | BZ8: =Ar_Sensitivity*Ar36_ClCor -> 1.8462631e-12 | CA8: =Ar36CC*SQRT((Ar36_ClCorerr/Ar36_ClCor)^2+(Ar_sensitivityerr/Ar_Sensitivity)^2) -> 3.684789e-13 | CB8: =Ar37_DecayCor*Ar_Sensitivity -> 1.123696e-11 | CC8: =Ar37CC*SQRT((Ar37_DecayCorerr/Ar37_DecayCor)^2+(Ar_sensitivityerr/Ar_Sensitivity)^2) -> 1.0476555e-11 | CD8: =Ar_Sensitivity*Ar38_Cl -> 1.30994e-09 | CE8: =Ar38CC*SQRT((Ar38_Clerr/Ar38_Cl)^2+(Ar_sensitivityerr/Ar_Sensitivity)^2) -> 1.0159613e-12 | CF8: =Ar_Sensitivity*Ar39_IC -> 3.1613127e-12 | CG8: =Ar39CC*SQRT((Ar39_ICerr/Ar39_IC)^2+(Ar_sensitivityerr/Ar_Sensitivity)^2) -> 5.4958223e-14 | CH8: =Ar_Sensitivity*Ar40_IC -> 6.6020327e-10 | CI8: =Ar40CC*SQRT((Ar40_ICerr/Ar40_IC)^2+(Ar_sensitivityerr/Ar_Sensitivity)^2) -> 1.6577189e-12 | CJ8: =Ar38CC/MV -> 5.8443037e-14 | CK8: =Ar38_mole*SQRT((Ar38CCerr/Ar38CC)^2+(MVerr/MV)^2) -> 4.5327176e-17 | CL8: =Ar40CC/MV -> 2.9455001e-14 | CM8: =Ar40_mole*SQRT((Ar40CCerrr/Ar40CC)^2+(MVerr/MV)^2) -> 7.3959209e-17 | CN8: 0.005134083 | CO8: 8.40144e-06 | CP8: 1.1139739e+19 | CQ8: 1.0453257e+18 | CR8: 8.0438365e+17 | CS8: 8.5271401e+16 | CT8: 0.49881143 | CU8: 0.045926073 | CV8: 24.58188 | CW8: 0.55629982 | CX8: =K_constant*Ar39CC/J -> 2.2640454e-09 | CY8: =K_mole*SQRT((Ar39ccerr/Ar39CC)^2+(Jerr/J)^2+(K_Constanterr/K_constant)^2) -> 4.462481e-11 | CZ8: =K_mole*MW_K/Sample_Mass*10^6 -> 9.7275082 | DA8: =K_ppm*SQRT((Sample_Masserr/Sample_Mass)^2+(MW_Kerr/MW_K)^2+(K_moleerr/K_mole)^2) -> 0.19780414 | DB8: =K_ppm/10^4 -> 0.00097275082 | DC8: =K_ppmerr/10^4 -> 1.9780414e-05 | DD8: =Cl_Constant*Ar38CC/(J*Beta) -> 4.2088057e-08 | DE8: =Cl_mole*SQRT((Ar38CCerr/Ar38CC)^2+(Jerr/J)^2+(Betaerr/Beta)^2+(Cl_Constanterr/Cl_Constant)^2) -> 1.0300898e-09 | DF8: =Cl_mole*MW_Cl/Sample_Mass*10^6 -> 163.97229 | DG8: =Cl_ppm*SQRT((Sample_Masserr/Sample_Mass)^2+(MW_Clerr/MW_Cl)^2+(Cl_moleerr/Cl_mole)^2) -> 4.0960519 | DH8: =Cl_ppm/10^4 -> 0.016397229 | DI8: =Cl_ppmerr/10^4 -> 0.00040960519 | DJ8: =Ca_Constant*Ar37CC/(J*alpha) -> 1.5738389e-08 | DK8: =Ca_mole*SQRT((Ar37CCerr/Ar37CC)^2+(Jerr/J)^2+(alphaerr/alpha)^2+(Ca_Constanterr/Ca_Constant)^2) -> 1.4745473e-08 | DL8: =Ca_mole*MW_Ca/Sample_Mass*10^6 -> 69.318093 | DM8: =Ca_ppm*SQRT((Sample_Masserr/Sample_Mass)^2+(MW_Caerr/MW_Ca)^2+(Ca_moleerr/Ca_mole)^2) -> 64.94582 | DN8: =Ca_ppm/10^4 -> 0.0069318093 | DO8: =Ca_ppmerr/10^4 -> 0.006494582 | DP8: =K_mole/Cl_mole -> 0.05379306 | DQ8: =KCl_mol*SQRT(K_moleerr/K_mole)^2+(Cl_moleerr/Cl_mole)^2 -> 0.0016592802 | DR8: =K_mole/Ca_mole -> 0.14385496 | DS8: =KCa_mol*SQRT(K_moleerr/K_mole)^2+(Ca_moleerr/Ca_mole)^2 -> 0.88063794 | DT8: =K_ppm/Cl_ppm -> 0.059324097 | DU8: =KCl_wt*SQRT(K_ppmerr/K_ppm)^2+(Cl_ppmerr/Cl_ppm)^2 -> 0.0018303343 | DV8: =K_ppm/Ca_ppm -> 0.14033145 | DW8: =KCa_wt*SQRT(K_ppmerr/K_ppm)^2+(Ca_ppmerr/Ca_ppm)^2 -> 0.88068111 | DX8: =Ar40_mole/Cl_mole -> 6.9984226e-07 | DY8: =Ar40Cl_mol*SQRT((Ar40_moleerr/Ar40_mole)^2+(Cl_moleerr/Cl_mole)^2) -> 1.7218287e-08 | DZ8: =Ar40AC/Ar39_IC -> 36.261055 | EA8: =Ar40Ar39*SQRT((Ar40ACerr/Ar40AC)^2+(Ar39_ICerr/Ar39_IC)^2) -> 34.452557 | EB8: =(Ar40CC/MV)/K_mole -> 1.3009899e-05 | EC8: =Ar40K*SQRT((Ar40CCerrr/Ar40CC)^2+(K_moleerr/K_mole)^2+(MVerr/MV)^2) -> 2.5850021e-07 | ED8: =IF(Ar40Ar39>0,(1/lambda/10^6)*LN(1+(J*Ar40Ar39)),"") -> 307.66115 | EE8: =IF(Age="","",SQRT((J^2*Ar40Ar39^2*((Ar40Ar39err/Ar40Ar39*100)^2))/(Age^2*0.00055305^2*((1+Ar40Ar39*J)^2)))*Age/100) -> 269.6336 | EF8: =IF(Age="","",SQRT((J^2*Ar40Ar39^2*((Ar40Ar39err/Ar40Ar39*100)^2+(Jerr/J*100)^2))/(Age^2*0.00055305^2*((1+Ar40Ar39*J)^2)))*Age/100) -> 269.634 | EG8: =IF(Ar40Ar39>0,(1/lambda/10^6)*LN(1+(J*Ar40Ar39)),"") -> 307.66115 | EH8: =IF(Age="","",SQRT((J^2*Ar40Ar39^2*((Ar40Ar39err/Ar40Ar39*100)^2))/(Age^2*0.00055305^2*((1+Ar40Ar39*J)^2)))*Age/100) -> 269.6336 | EI8: =IF(Age="","",SQRT((J^2*Ar40Ar39^2*((Ar40Ar39err/Ar40Ar39*100)^2+(Jerr/J*100)^2))/(Age^2*0.00055305^2*((1+Ar40Ar39*J)^2)))*Age/100) -> 269.634 | EJ8: =CF8/$CF$19 -> 0.015934274 | EK8: =EG8 -> 307.66115 | EL8: =EH8 -> 269.6336 | EM8: =Ar39_IC/Ar36_ClCor -> 1.7122764 | EN8: =EM8*SQRT((Ar40_ICerr/Ar40_IC)^2+(Ar36_ClCorerr/Ar36_ClCor)^2) -> 0.3417621 | EO8: =Ar40_IC/Ar36_ClCor -> 357.58895 | EP8: =EO8*SQRT((Ar40_ICerr/Ar40_IC)^2+(Ar36_ClCorerr/Ar36_ClCor)^2) -> 71.373028 | EQ8: =Ar39_IC/Ar40_IC -> 0.004788393 | ER8: =EQ8*SQRT((Ar40_ICerr/Ar40_IC)^2+(Ar39_ICerr/Ar39_IC)^2) -> 8.4023869e-05 | ES8: =Ar36_ClCor/Ar40_IC -> 0.002796507 | ET8: =ES8*SQRT((Ar40_ICerr/Ar40_IC)^2+(Ar36_ClCorerr/Ar36_ClCor)^2) -> 0.0005581693 | LQ8: =Name -> B1x Bulk | LR8: =Irradiation -> MN2022a | LS8: =IF(ISNUMBER(K_ppm), K_ppm, "") -> 9.7275082 | LT8: =IF(ISNUMBER(K_ppmerr), K_ppmerr, "") -> 0.19780414 | LU8: =Cl_ppm -> 163.97229 | LV8: =Cl_ppmerr -> 4.0960519 | LW8: =Ca_ppm -> 69.318093 | LX8: =Ca_ppmerr -> 64.94582 | MO8: =DT8 -> 0.059324097 | MP8: =DU8 -> 0.0018303343 | MW8: =DP8 -> 0.05379306 | MX8: =DQ8 -> 0.0016592802
B9: B1x Bulk | C9: =9.1/1000 -> 0.0091 | D9: =C9*0.5% -> 4.55e-05 | E9: 44727 | F9: ARGUS | G9: MN2022a | H9: 1 | J9: 44644 | K9: continuous | L9: 1.5 | M9: 1.35 | N9: 30 | O9: 248.60093 | P9: 0.21097 | Q9: 6.352797 | R9: 0.019138 | S9: 566.52847 | T9: 0.48148 | U9: 6.651564 | V9: 0.054006 | W9: 0.925499 | X9: 0.004942 | Y9: 6.3067745 | Z9: 0.93511706 | AA9: 0.043458 | AB9: 0.029863653 | AC9: 2.2128518 | AD9: 2.0188659 | AE9: 1.3901317 | AF9: 1.195401 | AG9: 0.25606525 | AH9: 0.21678044 | AI9: =Ar40Raw-Ar40Blank -> 242.29416 | AJ9: =SQRT(Ar40Blankerr^2+Ar40Rawerr^2) -> 0.95861997 | AK9: =Ar39Raw-Ar39Blank -> 6.309339 | AL9: =SQRT(Ar39Blankerr^2+Ar39Rawerr^2) -> 0.035469717 | AM9: =Ar38Raw-Ar38Blank -> 564.31562 | AN9: =SQRT(Ar38Blankerr^2+Ar38Rawerr^2) -> 2.0754861 | AO9: =Ar37Raw-Ar37Blank -> 5.2614322 | AP9: =SQRT(Ar37Blankerr^2+Ar37Rawerr^2) -> 1.1966203 | AQ9: =Ar36Raw-Ar36Blank -> 0.66943375 | AR9: =SQRT(Ar36Blankerr^2+Ar36Rawerr^2) -> 0.21683677 | AS9: 300.7 | AT9: 0.28 | AU9: =Ar39BC*(1+(Ar4036_Aircal/Ar4036_Air-1)/4) -> 6.3370958 | AV9: =SQRT(Ar39BCerr^2+(Ar39BC*(Ar4036_Aircal/Ar4036_Air-1)/4)^2*((Ar4036_Aircalerr/Ar4036_Aircal)^2+(Ar39BCerr/Ar39BC)^2+(Ar4036_airerr/Ar4036_Air)^2)) -> 0.035470081 | AW9: =Ar38BC*(1+2*(Ar4036_Aircal/Ar4036_Air-1)/4) -> 569.28083 | AX9: =SQRT(Ar38BCerr^2+(Ar38BC*(Ar4036_Aircal/Ar4036_Air-1)/4)^2*((Ar4036_Aircalerr/Ar4036_Aircal)^2+(Ar38BCerr/Ar38BC)^2+(Ar4036_airerr/Ar4036_Air)^2)) -> 2.0755091 | AY9: =Ar37BC*(1+3*(Ar4036_Aircal/Ar4036_Air-1)/4) -> 5.3308725 | AZ9: =SQRT(Ar37BCerr^2+(Ar37BC*(Ar4036_Aircal/Ar4036_Air-1)/3)^2*((Ar4036_Aircalerr/Ar4036_Aircal)^2+(Ar37BCerr/Ar37BC)^2+(Ar4036_airerr/Ar4036_Air)^2)) -> 1.1966409 | BA9: =Ar36BC*(1+4*(Ar4036_Aircal/Ar4036_Air-1)/4) -> 0.68121397 | BB9: =SQRT(Ar36BCerr^2+(Ar36BC*(Ar4036_Aircal/Ar4036_Air-1)/4)^2*((Ar4036_Aircalerr/Ar4036_Aircal)^2+(Ar36BCerr/Ar36BC)^2+(Ar4036_airerr/Ar4036_Air)^2)) -> 0.21683887 | BE9: =IF(Rad_Type="Continuous", Ar37_DC*EXP(lambda_37Ar*(Run_Date-Rad_Date)),Ar37_DC*Ar37_DecayFactor) -> 27.455895 | BF9: =IF(Rad_Type="Continuous", (Ar37_DCerr*EXP(lambda_37Ar*(Run_Date-Rad_Date))), Ar37_DCerr*Ar37_DecayFactor) -> 6.1631274 | BG9: =IF(Rad_Type="Continuous", Ar39_DC*EXP(lambda_39Ar*(Run_Date-Rad_Date)), Ar39_DC*Ar39_DecayFactor) -> 6.3408101 | BH9: =IF(Rad_Type="Continuous", (Ar39_DCerr*EXP(lambda_39Ar*(Run_Date-Rad_Date))), Ar39_DCerr*Ar39_DecayFactor) -> 0.035490871 | BI9: =Ar40BC-(Salt_40Ar39Ar_K*Ar39_IC) -> 241.47175 | BJ9: =SQRT(Ar40BCerr^2+(Ar39_ICerr*Salt_40Ar39Ar_K)^2) -> 0.95863139 | BK9: =Ar39_DecayCor-(Salt_39Ar37Ar_Ca*Ar37_DecayCor) -> 6.315719 | BL9: =SQRT(Ar39_DecayCorerr^2+(Ar37_DecayCorerr*Salt_39Ar37Ar_Ca)^2) -> 0.035935005 | BM9: =Ar38_DC-(Salt_38Ar39Ar_K*Ar39_DecayCor) -> 569.18291 | BN9: =SQRT(Ar38_DCerr^2+(Ar39_DecayCorerr*Salt_38Ar39Ar_K)^2) -> 2.0755092 | BO9: =Ar36_DC-(Salt_36Ar37Ar_Ca*Ar37_DecayCor) -> 0.67163656 | BP9: =SQRT(Ar36_DCerr^2+(Ar37_DecayCorerr*Salt_36Ar37Ar_Ca)^2) -> 0.21684952 | BR9: =IF(Rad_Type="Continuous", BO9-((EXP(lambda_36Ar*(Run_Date-Rad_Date))-1)*Cl3638_PR*BT9),BO9*Ar36_DecayFactor) -> 0.58020593 | BS9: =IF(K:K="Continuous", SQRT(BP9^2+(((EXP(lambda_36Ar*(Run_Date-Rad_Date))-1)*Cl3638_PR)*BU9^2)), Ar36_ICerr*Ar36_DecayFactor) -> 0.21691045 | BT9: =IF(Rad_Type="Continuous", BM9-(Ar3836_Air*BO9)/(1-lambda_36Ar*(Run_Date-Rad_Date)),Ar38_IC-(Ar3836_Air*Ar36_IC)/Ar36_DecayFactor) -> 569.05665 | BU9: =IF(Rad_Type ="Continuous", SQRT(BN9^2*(((EXP(lambda_36Ar*(Run_Date-Rad_Date))-1*Ar3836_Air)*BP9^2))),SQRT(Ar38_ICerr^2*(((EXP(lambda_36Ar*(Ar36_DecayFactor))-1*Ar3836_Air)*Ar36_ICerr^2)))) -> 0.40556576 | BV9: =Ar40_IC-(Ar36_ClCor*Ar4036_Air) -> 70.0209 | BW9: =SQRT(Ar40_ICerr^2+(Ar36_ClCorerr*Ar4036_Air)^2) -> 64.104206 | BX9: 1.6986775e-12 | BY9: 9.4454002e-16 | BZ9: =Ar_Sensitivity*Ar36_ClCor -> 9.8558275e-13 | CA9: =Ar36CC*SQRT((Ar36_ClCorerr/Ar36_ClCor)^2+(Ar_sensitivityerr/Ar_Sensitivity)^2) -> 3.6846131e-13 | CB9: =Ar37_DecayCor*Ar_Sensitivity -> 4.663871e-11 | CC9: =Ar37CC*SQRT((Ar37_DecayCorerr/Ar37_DecayCor)^2+(Ar_sensitivityerr/Ar_Sensitivity)^2) -> 1.0469198e-11 | CD9: =Ar_Sensitivity*Ar38_Cl -> 9.6664371e-10 | CE9: =Ar38CC*SQRT((Ar38_Clerr/Ar38_Cl)^2+(Ar_sensitivityerr/Ar_Sensitivity)^2) -> 8.7379689e-13 | CF9: =Ar_Sensitivity*Ar39_IC -> 1.072837e-11 | CG9: =Ar39CC*SQRT((Ar39_ICerr/Ar39_IC)^2+(Ar_sensitivityerr/Ar_Sensitivity)^2) -> 6.1332783e-14 | CH9: =Ar_Sensitivity*Ar40_IC -> 4.1018263e-10 | CI9: =Ar40CC*SQRT((Ar40_ICerr/Ar40_IC)^2+(Ar_sensitivityerr/Ar_Sensitivity)^2) -> 1.6443008e-12 | CJ9: =Ar38CC/MV -> 4.3126856e-14 | CK9: =Ar38_mole*SQRT((Ar38CCerr/Ar38CC)^2+(MVerr/MV)^2) -> 3.8984499e-17 | CL9: =Ar40CC/MV -> 1.8300318e-14 | CM9: =Ar40_mole*SQRT((Ar40CCerrr/Ar40CC)^2+(MVerr/MV)^2) -> 7.3360559e-17 | CN9: 0.005134083 | CO9: 8.40144e-06 | CP9: 1.1139739e+19 | CQ9: 1.0453257e+18 | CR9: 8.0438365e+17 | CS9: 8.5271401e+16 | CT9: 0.49881143 | CU9: 0.045926073 | CV9: 24.58188 | CW9: 0.55629982 | CX9: =K_constant*Ar39CC/J -> 7.6833639e-09 | CY9: =K_mole*SQRT((Ar39ccerr/Ar39CC)^2+(Jerr/J)^2+(K_Constanterr/K_constant)^2) -> 8.3798007e-11 | CZ9: =K_mole*MW_K/Sample_Mass*10^6 -> 33.0117 | DA9: =K_ppm*SQRT((Sample_Masserr/Sample_Mass)^2+(MW_Kerr/MW_K)^2+(K_moleerr/K_mole)^2) -> 0.39607166 | DB9: =K_ppm/10^4 -> 0.00330117 | DC9: =K_ppmerr/10^4 -> 3.9607166e-05 | DD9: =Cl_Constant*Ar38CC/(J*Beta) -> 3.1058029e-08 | DE9: =Cl_mole*SQRT((Ar38CCerr/Ar38CC)^2+(Jerr/J)^2+(Betaerr/Beta)^2+(Cl_Constanterr/Cl_Constant)^2) -> 7.6027066e-10 | DF9: =Cl_mole*MW_Cl/Sample_Mass*10^6 -> 121.00003 | DG9: =Cl_ppm*SQRT((Sample_Masserr/Sample_Mass)^2+(MW_Clerr/MW_Cl)^2+(Cl_moleerr/Cl_mole)^2) -> 3.0231207 | DH9: =Cl_ppm/10^4 -> 0.012100003 | DI9: =Cl_ppmerr/10^4 -> 0.00030231207 | DJ9: =Ca_Constant*Ar37CC/(J*alpha) -> 6.5321774e-08 | DK9: =Ca_mole*SQRT((Ar37CCerr/Ar37CC)^2+(Jerr/J)^2+(alphaerr/alpha)^2+(Ca_Constanterr/Ca_Constant)^2) -> 1.5860164e-08 | DL9: =Ca_mole*MW_Ca/Sample_Mass*10^6 -> 287.70293 | DM9: =Ca_ppm*SQRT((Sample_Masserr/Sample_Mass)^2+(MW_Caerr/MW_Ca)^2+(Ca_moleerr/Ca_mole)^2) -> 69.869252 | DN9: =Ca_ppm/10^4 -> 0.028770293 | DO9: =Ca_ppmerr/10^4 -> 0.0069869252 | DP9: =K_mole/Cl_mole -> 0.24738736 | DQ9: =KCl_mol*SQRT(K_moleerr/K_mole)^2+(Cl_moleerr/Cl_mole)^2 -> 0.0032973342 | DR9: =K_mole/Ca_mole -> 0.11762332 | DS9: =KCa_mol*SQRT(K_moleerr/K_mole)^2+(Ca_moleerr/Ca_mole)^2 -> 0.060234967 | DT9: =K_ppm/Cl_ppm -> 0.27282389 | DU9: =KCl_wt*SQRT(K_ppmerr/K_ppm)^2+(Cl_ppmerr/Cl_ppm)^2 -> 0.0038975419 | DV9: =K_ppm/Ca_ppm -> 0.11474231 | DW9: =KCa_wt*SQRT(K_ppmerr/K_ppm)^2+(Ca_ppmerr/Ca_ppm)^2 -> 0.060353796 | DX9: =Ar40_mole/Cl_mole -> 5.8922985e-07 | DY9: =Ar40Cl_mol*SQRT((Ar40_moleerr/Ar40_mole)^2+(Cl_moleerr/Cl_mole)^2) -> 1.4615905e-08 | DZ9: =Ar40AC/Ar39_IC -> 11.086766 | EA9: =Ar40Ar39*SQRT((Ar40ACerr/Ar40AC)^2+(Ar39_ICerr/Ar39_IC)^2) -> 10.150142 | EB9: =(Ar40CC/MV)/K_mole -> 2.3818106e-06 | EC9: =Ar40K*SQRT((Ar40CCerrr/Ar40CC)^2+(K_moleerr/K_mole)^2+(MVerr/MV)^2) -> 2.7676162e-08 | ED9: =IF(Ar40Ar39>0,(1/lambda/10^6)*LN(1+(J*Ar40Ar39)),"") -> 99.761002 | EE9: =IF(Age="","",SQRT((J^2*Ar40Ar39^2*((Ar40Ar39err/Ar40Ar39*100)^2))/(Age^2*0.00055305^2*((1+Ar40Ar39*J)^2)))*Age/100) -> 89.151434 | EF9: =IF(Age="","",SQRT((J^2*Ar40Ar39^2*((Ar40Ar39err/Ar40Ar39*100)^2+(Jerr/J*100)^2))/(Age^2*0.00055305^2*((1+Ar40Ar39*J)^2)))*Age/100) -> 89.151576 | EG9: =IF(Ar40Ar39>0,(1/lambda/10^6)*LN(1+(J*Ar40Ar39)),"") -> 99.761002 | EH9: =IF(Age="","",SQRT((J^2*Ar40Ar39^2*((Ar40Ar39err/Ar40Ar39*100)^2))/(Age^2*0.00055305^2*((1+Ar40Ar39*J)^2)))*Age/100) -> 89.151434 | EI9: =IF(Age="","",SQRT((J^2*Ar40Ar39^2*((Ar40Ar39err/Ar40Ar39*100)^2+(Jerr/J*100)^2))/(Age^2*0.00055305^2*((1+Ar40Ar39*J)^2)))*Age/100) -> 89.151576 | EJ9: =CF9/$CF$19 -> 0.054075253 | EK9: =EG9 -> 99.761002 | EL9: =EH9 -> 89.151434 | EM9: =Ar39_IC/Ar36_ClCor -> 10.885306 | EN9: =EM9*SQRT((Ar40_ICerr/Ar40_IC)^2+(Ar36_ClCorerr/Ar36_ClCor)^2) -> 4.0697098 | EO9: =Ar40_IC/Ar36_ClCor -> 416.18284 | EP9: =EO9*SQRT((Ar40_ICerr/Ar40_IC)^2+(Ar36_ClCorerr/Ar36_ClCor)^2) -> 155.59906 | EQ9: =Ar39_IC/Ar40_IC -> 0.026155105 | ER9: =EQ9*SQRT((Ar40_ICerr/Ar40_IC)^2+(Ar39_ICerr/Ar39_IC)^2) -> 0.00018146071 | ES9: =Ar36_ClCor/Ar40_IC -> 0.0024027901 | ET9: =ES9*SQRT((Ar40_ICerr/Ar40_IC)^2+(Ar36_ClCorerr/Ar36_ClCor)^2) -> 0.00089833564 | LQ9: =Name -> B1x Bulk | LR9: =Irradiation -> MN2022a | LS9: =IF(ISNUMBER(K_ppm), K_ppm, "") -> 33.0117 | LT9: =IF(ISNUMBER(K_ppmerr), K_ppmerr, "") -> 0.39607166 | LU9: =Cl_ppm -> 121.00003 | LV9: =Cl_ppmerr -> 3.0231207 | LW9: =Ca_ppm -> 287.70293 | LX9: =Ca_ppmerr -> 69.869252 | MO9: =DT9 -> 0.27282389 | MP9: =DU9 -> 0.0038975419 | MW9: =DP9 -> 0.24738736 | MX9: =DQ9 -> 0.0032973342
B10: B1x Bulk | C10: =9.1/1000 -> 0.0091 | D10: =C10*0.5% -> 4.55e-05 | E10: 44727 | F10: ARGUS | G10: MN2022a | H10: 1 | J10: 44644 | K10: continuous | L10: 2 | M10: 1.87 | N10: 30 | O10: 305.74854 | P10: 0.324353 | Q10: 8.345054 | R10: 0.019712 | S10: 385.49742 | T10: 0.329615 | U10: 10.001274 | V10: 0.120081 | W10: 1.206577 | X10: 0.006905 | Y10: 6.3067745 | Z10: 0.93511706 | AA10: 0.043458 | AB10: 0.029863653 | AC10: 2.2128518 | AD10: 2.0188659 | AE10: 1.3901317 | AF10: 1.195401 | AG10: 0.25606525 | AH10: 0.21678044 | AI10: =Ar40Raw-Ar40Blank -> 299.44177 | AJ10: =SQRT(Ar40Blankerr^2+Ar40Rawerr^2) -> 0.98977209 | AK10: =Ar39Raw-Ar39Blank -> 8.301596 | AL10: =SQRT(Ar39Blankerr^2+Ar39Rawerr^2) -> 0.035782687 | AM10: =Ar38Raw-Ar38Blank -> 383.28457 | AN10: =SQRT(Ar38Blankerr^2+Ar38Rawerr^2) -> 2.0455966 | AO10: =Ar37Raw-Ar37Blank -> 8.6111423 | AP10: =SQRT(Ar37Blankerr^2+Ar37Rawerr^2) -> 1.201417 | AQ10: =Ar36Raw-Ar36Blank -> 0.95051175 | AR10: =SQRT(Ar36Blankerr^2+Ar36Rawerr^2) -> 0.21689039 | AS10: 300.7 | AT10: 0.28 | AU10: =Ar39BC*(1+(Ar4036_Aircal/Ar4036_Air-1)/4) -> 8.3381174 | AV10: =SQRT(Ar39BCerr^2+(Ar39BC*(Ar4036_Aircal/Ar4036_Air-1)/4)^2*((Ar4036_Aircalerr/Ar4036_Aircal)^2+(Ar39BCerr/Ar39BC)^2+(Ar4036_airerr/Ar4036_Air)^2)) -> 0.03578307 | AW10: =Ar38BC*(1+2*(Ar4036_Aircal/Ar4036_Air-1)/4) -> 386.65695 | AX10: =SQRT(Ar38BCerr^2+(Ar38BC*(Ar4036_Aircal/Ar4036_Air-1)/4)^2*((Ar4036_Aircalerr/Ar4036_Aircal)^2+(Ar38BCerr/Ar38BC)^2+(Ar4036_airerr/Ar4036_Air)^2)) -> 2.0456178 | AY10: =Ar37BC*(1+3*(Ar4036_Aircal/Ar4036_Air-1)/4) -> 8.7247918 | AZ10: =SQRT(Ar37BCerr^2+(Ar37BC*(Ar4036_Aircal/Ar4036_Air-1)/3)^2*((Ar4036_Aircalerr/Ar4036_Aircal)^2+(Ar37BCerr/Ar37BC)^2+(Ar4036_airerr/Ar4036_Air)^2)) -> 1.2014377 | BA10: =Ar36BC*(1+4*(Ar4036_Aircal/Ar4036_Air-1)/4) -> 0.96723818 | BB10: =SQRT(Ar36BCerr^2+(Ar36BC*(Ar4036_Aircal/Ar4036_Air-1)/4)^2*((Ar4036_Aircalerr/Ar4036_Aircal)^2+(Ar36BCerr/Ar36BC)^2+(Ar4036_airerr/Ar4036_Air)^2)) -> 0.21689249 | BE10: =IF(Rad_Type="Continuous", Ar37_DC*EXP(lambda_37Ar*(Run_Date-Rad_Date)),Ar37_DC*Ar37_DecayFactor) -> 44.93579 | BF10: =IF(Rad_Type="Continuous", (Ar37_DCerr*EXP(lambda_37Ar*(Run_Date-Rad_Date))), Ar37_DCerr*Ar37_DecayFactor) -> 6.1878328 | BG10: =IF(Rad_Type="Continuous", Ar39_DC*EXP(lambda_39Ar*(Run_Date-Rad_Date)), Ar39_DC*Ar39_DecayFactor) -> 8.3430045 | BH10: =IF(Rad_Type="Continuous", (Ar39_DCerr*EXP(lambda_39Ar*(Run_Date-Rad_Date))), Ar39_DCerr*Ar39_DecayFactor) -> 0.035804043 | BI10: =Ar40BC-(Salt_40Ar39Ar_K*Ar39_IC) -> 298.36072 | BJ10: =SQRT(Ar40BCerr^2+(Ar39_ICerr*Salt_40Ar39Ar_K)^2) -> 0.98978334 | BK10: =Ar39_DecayCor-(Salt_39Ar37Ar_Ca*Ar37_DecayCor) -> 8.3019392 | BL10: =SQRT(Ar39_DecayCorerr^2+(Ar37_DecayCorerr*Salt_39Ar37Ar_Ca)^2) -> 0.036247855 | BM10: =Ar38_DC-(Salt_38Ar39Ar_K*Ar39_DecayCor) -> 386.52812 | BN10: =SQRT(Ar38_DCerr^2+(Ar39_DecayCorerr*Salt_38Ar39Ar_K)^2) -> 2.0456179 | BO10: =Ar36_DC-(Salt_36Ar37Ar_Ca*Ar37_DecayCor) -> 0.95156327 | BP10: =SQRT(Ar36_DCerr^2+(Ar37_DecayCorerr*Salt_36Ar37Ar_Ca)^2) -> 0.21690323 | BR10: =IF(Rad_Type="Continuous", BO10-((EXP(lambda_36Ar*(Run_Date-Rad_Date))-1)*Cl3638_PR*BT10),BO10*Ar36_DecayFactor) -> 0.88948834 | BS10: =IF(K:K="Continuous", SQRT(BP10^2+(((EXP(lambda_36Ar*(Run_Date-Rad_Date))-1)*Cl3638_PR)*BU10^2)), Ar36_ICerr*Ar36_DecayFactor) -> 0.21696243 | BT10: =IF(Rad_Type="Continuous", BM10-(Ar3836_Air*BO10)/(1-lambda_36Ar*(Run_Date-Rad_Date)),Ar38_IC-(Ar3836_Air*Ar36_IC)/Ar36_DecayFactor) -> 386.34923 | BU10: =IF(Rad_Type ="Continuous", SQRT(BN10^2*(((EXP(lambda_36Ar*(Run_Date-Rad_Date))-1*Ar3836_Air)*BP10^2))),SQRT(Ar38_ICerr^2*(((EXP(lambda_36Ar*(Ar36_DecayFactor))-1*Ar3836_Air)*Ar36_ICerr^2)))) -> 0.39982382 | BV10: =Ar40_IC-(Ar36_ClCor*Ar4036_Air) -> 35.51692 | BW10: =SQRT(Ar40_ICerr^2+(Ar36_ClCorerr*Ar4036_Air)^2) -> 64.120036 | BX10: 1.6986775e-12 | BY10: 9.4454002e-16 | BZ10: =Ar_Sensitivity*Ar36_ClCor -> 1.5109538e-12 | CA10: =Ar36CC*SQRT((Ar36_ClCorerr/Ar36_ClCor)^2+(Ar_sensitivityerr/Ar_Sensitivity)^2) -> 3.6855014e-13 | CB10: =Ar37_DecayCor*Ar_Sensitivity -> 7.6331415e-11 | CC10: =Ar37CC*SQRT((Ar37_DecayCorerr/Ar37_DecayCor)^2+(Ar_sensitivityerr/Ar_Sensitivity)^2) -> 1.0511218e-11 | CD10: =Ar_Sensitivity*Ar38_Cl -> 6.5628273e-10 | CE10: =Ar38CC*SQRT((Ar38_Clerr/Ar38_Cl)^2+(Ar_sensitivityerr/Ar_Sensitivity)^2) -> 7.7100099e-13 | CF10: =Ar_Sensitivity*Ar39_IC -> 1.4102317e-11 | CG10: =Ar39CC*SQRT((Ar39_ICerr/Ar39_IC)^2+(Ar_sensitivityerr/Ar_Sensitivity)^2) -> 6.2070724e-14 | CH10: =Ar_Sensitivity*Ar40_IC -> 5.0681864e-10 | CI10: =Ar40CC*SQRT((Ar40_ICerr/Ar40_IC)^2+(Ar_sensitivityerr/Ar_Sensitivity)^2) -> 1.7047771e-12 | CJ10: =Ar38CC/MV -> 2.9280086e-14 | CK10: =Ar38_mole*SQRT((Ar38CCerr/Ar38CC)^2+(MVerr/MV)^2) -> 3.439825e-17 | CL10: =Ar40CC/MV -> 2.2611738e-14 | CM10: =Ar40_mole*SQRT((Ar40CCerrr/Ar40CC)^2+(MVerr/MV)^2) -> 7.6058712e-17 | CN10: 0.005134083 | CO10: 8.40144e-06 | CP10: 1.1139739e+19 | CQ10: 1.0453257e+18 | CR10: 8.0438365e+17 | CS10: 8.5271401e+16 | CT10: 0.49881143 | CU10: 0.045926073 | CV10: 24.58188 | CW10: 0.55629982 | CX10: =K_constant*Ar39CC/J -> 1.0099692e-08 | CY10: =K_mole*SQRT((Ar39ccerr/Ar39CC)^2+(Jerr/J)^2+(K_Constanterr/K_constant)^2) -> 1.0380605e-10 | CZ10: =K_mole*MW_K/Sample_Mass*10^6 -> 43.393495 | DA10: =K_ppm*SQRT((Sample_Masserr/Sample_Mass)^2+(MW_Kerr/MW_K)^2+(K_moleerr/K_mole)^2) -> 0.49597863 | DB10: =K_ppm/10^4 -> 0.0043393495 | DC10: =K_ppmerr/10^4 -> 4.9597863e-05 | DD10: =Cl_Constant*Ar38CC/(J*Beta) -> 2.1086206e-08 | DE10: =Cl_mole*SQRT((Ar38CCerr/Ar38CC)^2+(Jerr/J)^2+(Betaerr/Beta)^2+(Cl_Constanterr/Cl_Constant)^2) -> 5.1641246e-10 | DF10: =Cl_mole*MW_Cl/Sample_Mass*10^6 -> 82.150467 | DG10: =Cl_ppm*SQRT((Sample_Masserr/Sample_Mass)^2+(MW_Clerr/MW_Cl)^2+(Cl_moleerr/Cl_mole)^2) -> 2.0534106 | DH10: =Cl_ppm/10^4 -> 0.0082150467 | DI10: =Cl_ppmerr/10^4 -> 0.00020534106 | DJ10: =Ca_Constant*Ar37CC/(J*alpha) -> 1.0690912e-07 | DK10: =Ca_mole*SQRT((Ar37CCerr/Ar37CC)^2+(Jerr/J)^2+(alphaerr/alpha)^2+(Ca_Constanterr/Ca_Constant)^2) -> 1.7737256e-08 | DL10: =Ca_mole*MW_Ca/Sample_Mass*10^6 -> 470.87005 | DM10: =Ca_ppm*SQRT((Sample_Masserr/Sample_Mass)^2+(MW_Caerr/MW_Ca)^2+(Ca_moleerr/Ca_mole)^2) -> 78.157376 | DN10: =Ca_ppm/10^4 -> 0.047087005 | DO10: =Ca_ppmerr/10^4 -> 0.0078157376 | DP10: =K_mole/Cl_mole -> 0.47897154 | DQ10: =KCl_mol*SQRT(K_moleerr/K_mole)^2+(Cl_moleerr/Cl_mole)^2 -> 0.0055227226 | DR10: =K_mole/Ca_mole -> 0.094469887 | DS10: =KCa_mol*SQRT(K_moleerr/K_mole)^2+(Ca_moleerr/Ca_mole)^2 -> 0.028496992 | DT10: =K_ppm/Cl_ppm -> 0.52821969 | DU10: =KCl_wt*SQRT(K_ppmerr/K_ppm)^2+(Cl_ppmerr/Cl_ppm)^2 -> 0.0066622277 | DV10: =K_ppm/Ca_ppm -> 0.092155988 | DW10: =KCa_wt*SQRT(K_ppmerr/K_ppm)^2+(Ca_ppmerr/Ca_ppm)^2 -> 0.028604351 | DX10: =Ar40_mole/Cl_mole -> 1.0723474e-06 | DY10: =Ar40Cl_mol*SQRT((Ar40_moleerr/Ar40_mole)^2+(Cl_moleerr/Cl_mole)^2) -> 2.6508911e-08 | DZ10: =Ar40AC/Ar39_IC -> 4.2781475 | EA10: =Ar40Ar39*SQRT((Ar40ACerr/Ar40AC)^2+(Ar39_ICerr/Ar39_IC)^2) -> 7.7235237 | EB10: =(Ar40CC/MV)/K_mole -> 2.2388542e-06 | EC10: =Ar40K*SQRT((Ar40CCerrr/Ar40CC)^2+(K_moleerr/K_mole)^2+(MVerr/MV)^2) -> 2.4212202e-08 | ED10: =IF(Ar40Ar39>0,(1/lambda/10^6)*LN(1+(J*Ar40Ar39)),"") -> 39.152712 | EE10: =IF(Age="","",SQRT((J^2*Ar40Ar39^2*((Ar40Ar39err/Ar40Ar39*100)^2))/(Age^2*0.00055305^2*((1+Ar40Ar39*J)^2)))*Age/100) -> 70.158165 | EF10: =IF(Age="","",SQRT((J^2*Ar40Ar39^2*((Ar40Ar39err/Ar40Ar39*100)^2+(Jerr/J*100)^2))/(Age^2*0.00055305^2*((1+Ar40Ar39*J)^2)))*Age/100) -> 70.158194 | EG10: =IF(Ar40Ar39>0,(1/lambda/10^6)*LN(1+(J*Ar40Ar39)),"") -> 39.152712 | EH10: =IF(Age="","",SQRT((J^2*Ar40Ar39^2*((Ar40Ar39err/Ar40Ar39*100)^2))/(Age^2*0.00055305^2*((1+Ar40Ar39*J)^2)))*Age/100) -> 70.158165 | EI10: =IF(Age="","",SQRT((J^2*Ar40Ar39^2*((Ar40Ar39err/Ar40Ar39*100)^2+(Jerr/J*100)^2))/(Age^2*0.00055305^2*((1+Ar40Ar39*J)^2)))*Age/100) -> 70.158194 | EJ10: =CF10/$CF$19 -> 0.07108129 | EK10: =EG10 -> 39.152712 | EL10: =EH10 -> 70.158165 | EM10: =Ar39_IC/Ar36_ClCor -> 9.3333873 | EN10: =EM10*SQRT((Ar40_ICerr/Ar40_IC)^2+(Ar36_ClCorerr/Ar36_ClCor)^2) -> 2.2767939 | EO10: =Ar40_IC/Ar36_ClCor -> 335.42961 | EP10: =EO10*SQRT((Ar40_ICerr/Ar40_IC)^2+(Ar36_ClCorerr/Ar36_ClCor)^2) -> 81.824964 | EQ10: =Ar39_IC/Ar40_IC -> 0.027825174 | ER10: =EQ10*SQRT((Ar40_ICerr/Ar40_IC)^2+(Ar39_ICerr/Ar39_IC)^2) -> 0.00015257942 | ES10: =Ar36_ClCor/Ar40_IC -> 0.0029812514 | ET10: =ES10*SQRT((Ar40_ICerr/Ar40_IC)^2+(Ar36_ClCorerr/Ar36_ClCor)^2) -> 0.00072724884 | LQ10: =Name -> B1x Bulk | LR10: =Irradiation -> MN2022a | LS10: =IF(ISNUMBER(K_ppm), K_ppm, "") -> 43.393495 | LT10: =IF(ISNUMBER(K_ppmerr), K_ppmerr, "") -> 0.49597863 | LU10: =Cl_ppm -> 82.150467 | LV10: =Cl_ppmerr -> 2.0534106 | LW10: =Ca_ppm -> 470.87005 | LX10: =Ca_ppmerr -> 78.157376 | MO10: =DT10 -> 0.52821969 | MP10: =DU10 -> 0.0066622277 | MW10: =DP10 -> 0.47897154 | MX10: =DQ10 -> 0.0055227226
