Workbook

Sheet Counts
E1: Run
C2: ASV ID | D2: Top hits (species) | E2: HC2_HC4 | F2: P1_4_7 | G2: P1 | H2: P10 | I2: P12 | J2: P15_P16 | K2: P2 | L2: P4 | M2: P6 | N2: ASV Sum
C3: 30b2f555e1e9d647ce7af1d229d4f37d | D3: =VLOOKUP(C3,'BLASTN Top Hits'!A:N,4,FALSE) -> Staphylococcus nepalensis | E3: 50741 | F3: 35395 | G3: 41357 | H3: 45038 | I3: 42160 | J3: 35735 | K3: 69215 | L3: 60690 | M3: 56392 | N3: =SUM(E3:M3) -> 436723
C4: 04592c28ae1c291d110feb2c7aaacc03 | D4: =VLOOKUP(C4,'BLASTN Top Hits'!A:N,4,FALSE) -> Staphylococcus haemolyticus | E4: 0 | F4: 0 | G4: 8 | H4: 0 | I4: 212 | J4: 840 | K4: 20 | L4: 351 | M4: 715 | N4: =SUM(E4:M4) -> 2146
C5: 134203f36449cc5214fcd859b5d0a4db | D5: =VLOOKUP(C5,'BLASTN Top Hits'!A:N,4,FALSE) -> Staphylococcus hominis | E5: 0 | F5: 0 | G5: 0 | H5: 0 | I5: 124 | J5: 0 | K5: 0 | L5: 0 | M5: 0 | N5: =SUM(E5:M5) -> 124
C6: 5f71f1ab62f689056dbd08c708f859de | D6: =VLOOKUP(C6,'BLASTN Top Hits'!A:N,4,FALSE) -> Staphylococcus nepalensis | E6: 277 | F6: 0 | G6: 0 | H6: 0 | I6: 0 | J6: 0 | K6: 0 | L6: 0 | M6: 0 | N6: =SUM(E6:M6) -> 277
C7: 9d9bfdd6b98a370808f073b56f5683ce | D7: =VLOOKUP(C7,'BLASTN Top Hits'!A:N,4,FALSE) -> Staphylococcus nepalensis | E7: 0 | F7: 303 | G7: 0 | H7: 0 | I7: 0 | J7: 0 | K7: 0 | L7: 0 | M7: 0 | N7: =SUM(E7:M7) -> 303
C8: f746d8f5bf0a0bbea8d5448d0795727f | D8: =VLOOKUP(C8,'BLASTN Top Hits'!A:N,4,FALSE) -> Staphylococcus nepalensis | E8: 544 | F8: 0 | G8: 0 | H8: 0 | I8: 0 | J8: 0 | K8: 0 | L8: 0 | M8: 0 | N8: =SUM(E8:M8) -> 544
C9: 528f79d2618301070085946f3a631d69 | D9: =VLOOKUP(C9,'BLASTN Top Hits'!A:N,4,FALSE) -> Staphylococcus nepalensis | E9: 0 | F9: 473 | G9: 0 | H9: 0 | I9: 0 | J9: 0 | K9: 0 | L9: 0 | M9: 0 | N9: =SUM(E9:M9) -> 473
C10: aff2cf3e4dcc3eac2ced7a86f9ed6140 | D10: =VLOOKUP(C10,'BLASTN Top Hits'!A:N,4,FALSE) -> Staphylococcus nepalensis | E10: 0 | F10: 460 | G10: 0 | H10: 0 | I10: 0 | J10: 0 | K10: 0 | L10: 0 | M10: 0 | N10: =SUM(E10:M10) -> 460
C11: 23777a08610bd9ea84ec2bb987c0c106 | D11: =VLOOKUP(C11,'BLASTN Top Hits'!A:N,4,FALSE) -> Staphylococcus nepalensis | E11: 0 | F11: 0 | G11: 0 | H11: 0 | I11: 0 | J11: 346 | K11: 0 | L11: 0 | M11: 0 | N11: =SUM(E11:M11) -> 346
C12: 0d0086cfecabcce0f2870113142109c1 | D12: =VLOOKUP(C12,'BLASTN Top Hits'!A:N,4,FALSE) -> Staphylococcus nepalensis | E12: 0 | F12: 0 | G12: 0 | H12: 0 | I12: 0 | J12: 157 | K12: 0 | L12: 0 | M12: 0 | N12: =SUM(E12:M12) -> 157
C13: c1021ee83ffb833b727c834d201795cf | D13: =VLOOKUP(C13,'BLASTN Top Hits'!A:N,4,FALSE) -> Staphylococcus nepalensis | E13: 0 | F13: 0 | G13: 0 | H13: 0 | I13: 0 | J13: 163 | K13: 0 | L13: 0 | M13: 0 | N13: =SUM(E13:M13) -> 163
C14: b4f233a1fe7ba2ee88599109bb4474bb | D14: =VLOOKUP(C14,'BLASTN Top Hits'!A:N,4,FALSE) -> Staphylococcus nepalensis | E14: 0 | F14: 20 | G14: 0 | H14: 0 | I14: 0 | J14: 0 | K14: 0 | L14: 0 | M14: 0 | N14: =SUM(E14:M14) -> 20
... C19: c9f95335913d9969fbbf6e2164bccba4 | D19: =VLOOKUP(C19,'BLASTN Top Hits'!A:N,4,FALSE) -> Staphylococcus nepalensis | E19: 0 | F19: 0 | G19: 0 | H19: 0 | I19: 0 | J19: 0 | K19: 0 | L19: 18 | M19: 0 | N19: =SUM(E19:M19) -> 18
C21: HC2_HC4: Healthy controls No 2 and No 4
C22: P1_4_7: IPF patients No 1, No 4 and No 7
C23: P1: IPF patients No 1
C24: P10: IPF patient No 10
C25: P12: IPF patient No 12
C26: P15_P16: IPF patient No 15 and No 16
C27: P2: IPF patient No 2
C28: P4: IPF patient No 4
C29: P6: IPF patient No 6

Sheet BLASTN Top Hits
A2: qseqid | B2: sseqid | C2: stitle | D2: ssciname | E2: pident | F2: length | G2: mismatch | H2: gapopen | I2: qstart | J2: qend | K2: sstart | L2: send | M2: evalue | N2: bitscore
A3: 30b2f555e1e9d647ce7af1d229d4f37d | B3: gi|1387676069|gb|CP017459.1| | C3: Staphylococcus nepalensis strain JS9 chromosome, complete genome | D3: Staphylococcus nepalensis | E3: 99.13 | F3: 115 | G3: 1 | H3: 0 | I3: 1 | J3: 115 | K3: 471689 | L3: 471803 | M3: 2.03e-49 | N3: 207
A4: 04592c28ae1c291d110feb2c7aaacc03 | B4: gi|1836693780|gb|CP052055.1| | C4: Staphylococcus haemolyticus strain SCAID URN1-2019 chromosome | D4: Staphylococcus haemolyticus | E4: 100 | F4: 115 | G4: 0 | H4: 0 | I4: 1 | J4: 115 | K4: 425715 | L4: 425829 | M4: 4.35e-51 | N4: 213
A5: 134203f36449cc5214fcd859b5d0a4db | B5: gi|1830032422|gb|CP050982.1| | C5: Staphylococcus hominis strain FDAARGOS_745 chromosome | D5: Staphylococcus hominis | E5: 100 | F5: 112 | G5: 0 | H5: 0 | I5: 1 | J5: 112 | K5: 167037 | L5: 167148 | M5: 1.95e-49 | N5: 207
A6: 5f71f1ab62f689056dbd08c708f859de | B6: gi|1387676069|gb|CP017459.1| | C6: Staphylococcus nepalensis strain JS9 chromosome, complete genome | D6: Staphylococcus nepalensis | E6: 98.261 | F6: 115 | G6: 2 | H6: 0 | I6: 1 | J6: 115 | K6: 471689 | L6: 471803 | M6: 9.42e-48 | N6: 202
A7: 9d9bfdd6b98a370808f073b56f5683ce | B7: gi|1387676069|gb|CP017459.1| | C7: Staphylococcus nepalensis strain JS9 chromosome, complete genome | D7: Staphylococcus nepalensis | E7: 98.261 | F7: 115 | G7: 2 | H7: 0 | I7: 1 | J7: 115 | K7: 471689 | L7: 471803 | M7: 9.42e-48 | N7: 202
A8: f746d8f5bf0a0bbea8d5448d0795727f | B8: gi|1387676069|gb|CP017459.1| | C8: Staphylococcus nepalensis strain JS9 chromosome, complete genome | D8: Staphylococcus nepalensis | E8: 98.261 | F8: 115 | G8: 2 | H8: 0 | I8: 1 | J8: 115 | K8: 471689 | L8: 471803 | M8: 9.42e-48 | N8: 202
A9: 528f79d2618301070085946f3a631d69 | B9: gi|1387676069|gb|CP017459.1| | C9: Staphylococcus nepalensis strain JS9 chromosome, complete genome | D9: Staphylococcus nepalensis | E9: 98.261 | F9: 115 | G9: 2 | H9: 0 | I9: 1 | J9: 115 | K9: 471689 | L9: 471803 | M9: 9.42e-48 | N9: 202
A10: aff2cf3e4dcc3eac2ced7a86f9ed6140 | B10: gi|1387676069|gb|CP017459.1| | C10: Staphylococcus nepalensis strain JS9 chromosome, complete genome | D10: Staphylococcus nepalensis | E10: 98.261 | F10: 115 | G10: 2 | H10: 0 | I10: 1 | J10: 115 | K10: 471689 | L10: 471803 | M10: 9.42e-48 | N10: 202
A11: 23777a08610bd9ea84ec2bb987c0c106 | B11: gi|1387676069|gb|CP017459.1| | C11: Staphylococcus nepalensis strain JS9 chromosome, complete genome | D11: Staphylococcus nepalensis | E11: 98.261 | F11: 115 | G11: 2 | H11: 0 | I11: 1 | J11: 115 | K11: 471689 | L11: 471803 | M11: 9.42e-48 | N11: 202
A12: 0d0086cfecabcce0f2870113142109c1 | B12: gi|1387676069|gb|CP017459.1| | C12: Staphylococcus nepalensis strain JS9 chromosome, complete genome | D12: Staphylococcus nepalensis | E12: 97.391 | F12: 115 | G12: 3 | H12: 0 | I12: 1 | J12: 115 | K12: 471689 | L12: 471803 | M12: 4.38e-46 | N12: 196
A13: c1021ee83ffb833b727c834d201795cf | B13: gi|1387676069|gb|CP017459.1| | C13: Staphylococcus nepalensis strain JS9 chromosome, complete genome | D13: Staphylococcus nepalensis | E13: 98.246 | F13: 114 | G13: 2 | H13: 0 | I13: 1 | J13: 114 | K13: 471689 | L13: 471802 | M13: 3.39e-47 | N13: 200
A14: b4f233a1fe7ba2ee88599109bb4474bb | B14: gi|1387676069|gb|CP017459.1| | C14: Staphylococcus nepalensis strain JS9 chromosome, complete genome | D14: Staphylococcus nepalensis | E14: 95.652 | F14: 115 | G14: 5 | H14: 0 | I14: 1 | J14: 115 | K14: 471689 | L14: 471803 | M14: 9.49e-43 | N14: 185
... A19: c9f95335913d9969fbbf6e2164bccba4 | B19: gi|1387676069|gb|CP017459.1| | C19: Staphylococcus nepalensis strain JS9 chromosome, complete genome | D19: Staphylococcus nepalensis | E19: 97.321 | F19: 112 | G19: 3 | H19: 0 | I19: 1 | J19: 112 | K19: 471689 | L19: 471800 | M19: 2.04e-44 | N19: 191
