Workbook

Sheet Supplementary Data 1a
A1: Supplementary Data 1a: S9_0h_phyloFlash_NTU_abundance
A2: Silva_classification | B2: Read_abundance | C2: Percentage
A3: Bacteria;Proteobacteria;Gammaproteobacteria;Enterobacterales;Alteromonadaceae;Alteromonas;(Alteromonas) | B3: 398161 | C3: ='Supplementary Data 1a'!$B3/SUM('Supplementary Data 1a'!$B$3:$B$438)*100 -> 19.738565
A4: Eukaryota;SAR;Stramenopiles;Ochrophyta;Diatomea;Bacillariophytina;Mediophyceae | B4: 315338 | C4: ='Supplementary Data 1a'!$B4/SUM('Supplementary Data 1a'!$B$3:$B$438)*100 -> 15.63267
A5: Bacteria;Proteobacteria;Gammaproteobacteria;Enterobacterales;Alteromonadaceae;Alteromonas;hydrothermal vent metagenome | B5: 232702 | C5: ='Supplementary Data 1a'!$B5/SUM('Supplementary Data 1a'!$B$3:$B$438)*100 -> 11.536046
A6: Bacteria;Proteobacteria;Gammaproteobacteria;Enterobacterales;Alteromonadaceae;Alteromonas;uncultured Alteromonas sp. | B6: 179517 | C6: ='Supplementary Data 1a'!$B6/SUM('Supplementary Data 1a'!$B$3:$B$438)*100 -> 8.899435
A7: Bacteria;Proteobacteria;Gammaproteobacteria;Enterobacterales;Alteromonadaceae;Alteromonas;uncultured gamma proteobacterium DCM-ATT-9 | B7: 161621 | C7: ='Supplementary Data 1a'!$B7/SUM('Supplementary Data 1a'!$B$3:$B$438)*100 -> 8.0122528
A8: Bacteria;Cyanobacteria;Cyanobacteriia;Chloroplast;(Chloroplast);(Chloroplast);(Chloroplast) | B8: 110265 | C8: ='Supplementary Data 1a'!$B8/SUM('Supplementary Data 1a'!$B$3:$B$438)*100 -> 5.4663135
A9: Bacteria;Proteobacteria;Gammaproteobacteria;Nitrosococcales;Methylophagaceae;Methylophaga;Saccharina japonica | B9: 94287 | C9: ='Supplementary Data 1a'!$B9/SUM('Supplementary Data 1a'!$B$3:$B$438)*100 -> 4.6742149
A10: Bacteria;Proteobacteria;Gammaproteobacteria;Enterobacterales;Alteromonadaceae;Alteromonas;Alteromonas macleodii | B10: 87409 | C10: ='Supplementary Data 1a'!$B10/SUM('Supplementary Data 1a'!$B$3:$B$438)*100 -> 4.3332426
A11: Bacteria;Cyanobacteria;Cyanobacteriia;Chloroplast;uncultured bacterium;(uncultured bacterium);(uncultured bacterium) | B11: 61792 | C11: ='Supplementary Data 1a'!$B11/SUM('Supplementary Data 1a'!$B$3:$B$438)*100 -> 3.063297
A12: Bacteria;Proteobacteria;Gammaproteobacteria;Enterobacterales;Alteromonadaceae;Alteromonas;uncultured bacterium | B12: 61554 | C12: ='Supplementary Data 1a'!$B12/SUM('Supplementary Data 1a'!$B$3:$B$438)*100 -> 3.0514983
A13: Bacteria;Proteobacteria;Gammaproteobacteria;(Gammaproteobacteria);(Gammaproteobacteria);(Gammaproteobacteria);(Gammaproteobacteria) | B13: 53086 | C13: ='Supplementary Data 1a'!$B13/SUM('Supplementary Data 1a'!$B$3:$B$438)*100 -> 2.6317029
A14: Bacteria;Proteobacteria;Gammaproteobacteria;Enterobacterales;Alteromonadaceae;(Alteromonadaceae);(Alteromonadaceae) | B14: 51794 | C14: ='Supplementary Data 1a'!$B14/SUM('Supplementary Data 1a'!$B$3:$B$438)*100 -> 2.5676528
... A438: Bacteria;Actinobacteriota;Actinobacteria;Micrococcales;Micrococcaceae;Kocuria;Kocuria sp. BT304 | B438: 1 | C438: ='Supplementary Data 1a'!$B438/SUM('Supplementary Data 1a'!$B$3:$B$438)*100 -> 4.957433e-05

Sheet Supplementary Data 1b
A1: Supplementary Data 1b: S10_0h_phyloFlash_NTU_abundance
A2: Silva_classification | B2: Read_abundance | C2: Percentage
A3: Eukaryota;SAR;Stramenopiles;Ochrophyta;Diatomea;Bacillariophytina;Mediophyceae | B3: 1592917 | C3: ='Supplementary Data 1b'!$B3/SUM('Supplementary Data 1b'!$B$3:$B$778)*100 -> 38.257881
A4: Bacteria;Proteobacteria;Gammaproteobacteria;Enterobacterales;Alteromonadaceae;Alteromonas;(Alteromonas) | B4: 538541 | C4: ='Supplementary Data 1b'!$B4/SUM('Supplementary Data 1b'!$B$3:$B$778)*100 -> 12.934407
A5: Bacteria;Cyanobacteria;Cyanobacteriia;Chloroplast;(Chloroplast);(Chloroplast);(Chloroplast) | B5: 512476 | C5: ='Supplementary Data 1b'!$B5/SUM('Supplementary Data 1b'!$B$3:$B$778)*100 -> 12.308391
A6: Bacteria;Proteobacteria;Gammaproteobacteria;Enterobacterales;Alteromonadaceae;Alteromonas;uncultured Alteromonas sp. | B6: 207929 | C6: ='Supplementary Data 1b'!$B6/SUM('Supplementary Data 1b'!$B$3:$B$778)*100 -> 4.9939344
A7: Bacteria;Cyanobacteria;Cyanobacteriia;Chloroplast;uncultured bacterium;(uncultured bacterium);(uncultured bacterium) | B7: 188980 | C7: ='Supplementary Data 1b'!$B7/SUM('Supplementary Data 1b'!$B$3:$B$778)*100 -> 4.5388268
A8: Bacteria;Proteobacteria;Gammaproteobacteria;Enterobacterales;Alteromonadaceae;Alteromonas;hydrothermal vent metagenome | B8: 186318 | C8: ='Supplementary Data 1b'!$B8/SUM('Supplementary Data 1b'!$B$3:$B$778)*100 -> 4.4748922
A9: Bacteria;Cyanobacteria;Cyanobacteriia;Chloroplast;Lauderia borealis;(Lauderia borealis);(Lauderia borealis) | B9: 141225 | C9: ='Supplementary Data 1b'!$B9/SUM('Supplementary Data 1b'!$B$3:$B$778)*100 -> 3.3918712
A10: Bacteria;Proteobacteria;Gammaproteobacteria;Enterobacterales;Alteromonadaceae;Alteromonas;Alteromonas macleodii | B10: 104561 | C10: ='Supplementary Data 1b'!$B10/SUM('Supplementary Data 1b'!$B$3:$B$778)*100 -> 2.5112936
A11: Bacteria;Proteobacteria;Gammaproteobacteria;Enterobacterales;Alteromonadaceae;Alteromonas;uncultured gamma proteobacterium DCM-ATT-9 | B11: 103142 | C11: ='Supplementary Data 1b'!$B11/SUM('Supplementary Data 1b'!$B$3:$B$778)*100 -> 2.4772128
A12: Bacteria;Proteobacteria;Gammaproteobacteria;Enterobacterales;Alteromonadaceae;Alteromonas;Alteromonas mediterranea DE | B12: 75973 | C12: ='Supplementary Data 1b'!$B12/SUM('Supplementary Data 1b'!$B$3:$B$778)*100 -> 1.8246814
A13: Bacteria;Cyanobacteria;Cyanobacteriia;Chloroplast;uncultured marine eukaryote;(uncultured marine eukaryote);(uncultured marine eukaryote) | B13: 63943 | C13: ='Supplementary Data 1b'!$B13/SUM('Supplementary Data 1b'!$B$3:$B$778)*100 -> 1.5357509
A14: Bacteria;Proteobacteria;Gammaproteobacteria;Enterobacterales;Alteromonadaceae;(Alteromonadaceae);(Alteromonadaceae) | B14: 63322 | C14: ='Supplementary Data 1b'!$B14/SUM('Supplementary Data 1b'!$B$3:$B$778)*100 -> 1.520836
... A778: Eukaryota;SAR;Alveolata;Ciliophora;Intramacronucleata;Litostomatea;Haptoria | B778: 1 | C778: ='Supplementary Data 1b'!$B778/SUM('Supplementary Data 1b'!$B$3:$B$778)*100 -> 2.4017498e-05

Sheet Supplementary Data 1c
A1: Supplementary Data 1c: S11_0h_phyloFlash_NTU_abundance
A2: Silva_classification | B2: Read_abundance | C2: Percentage
A3: Bacteria;Proteobacteria;Gammaproteobacteria;Enterobacterales;Alteromonadaceae;Alteromonas;(Alteromonas) | B3: 3530 | C3: ='Supplementary Data 1c'!$B3/SUM('Supplementary Data 1c'!$B$3:$B$118)*100 -> 16.246318
A4: Bacteria;Proteobacteria;Gammaproteobacteria;Nitrosococcales;Methylophagaceae;Methylophaga;Saccharina japonica | B4: 2884 | C4: ='Supplementary Data 1c'!$B4/SUM('Supplementary Data 1c'!$B$3:$B$118)*100 -> 13.273196
A5: Bacteria;Proteobacteria;Gammaproteobacteria;Enterobacterales;Alteromonadaceae;Alteromonas;uncultured gamma proteobacterium DCM-ATT-9 | B5: 2797 | C5: ='Supplementary Data 1c'!$B5/SUM('Supplementary Data 1c'!$B$3:$B$118)*100 -> 12.872791
A6: Eukaryota;SAR;Stramenopiles;Ochrophyta;Diatomea;Bacillariophytina;Mediophyceae | B6: 2507 | C6: ='Supplementary Data 1c'!$B6/SUM('Supplementary Data 1c'!$B$3:$B$118)*100 -> 11.538108
A7: Bacteria;Proteobacteria;Gammaproteobacteria;Enterobacterales;Alteromonadaceae;Alteromonas;uncultured Alteromonas sp. | B7: 2258 | C7: ='Supplementary Data 1c'!$B7/SUM('Supplementary Data 1c'!$B$3:$B$118)*100 -> 10.392121
A8: Bacteria;Proteobacteria;Gammaproteobacteria;(Gammaproteobacteria);(Gammaproteobacteria);(Gammaproteobacteria);(Gammaproteobacteria) | B8: 1575 | C8: ='Supplementary Data 1c'!$B8/SUM('Supplementary Data 1c'!$B$3:$B$118)*100 -> 7.2487113
A9: Bacteria;Proteobacteria;Gammaproteobacteria;Enterobacterales;Alteromonadaceae;Alteromonas;uncultured bacterium | B9: 1235 | C9: ='Supplementary Data 1c'!$B9/SUM('Supplementary Data 1c'!$B$3:$B$118)*100 -> 5.6839102
A10: Bacteria;Proteobacteria;Gammaproteobacteria;Enterobacterales;Alteromonadaceae;(Alteromonadaceae);(Alteromonadaceae) | B10: 793 | C10: ='Supplementary Data 1c'!$B10/SUM('Supplementary Data 1c'!$B$3:$B$118)*100 -> 3.6496686
A11: Bacteria;Cyanobacteria;Cyanobacteriia;Chloroplast;(Chloroplast);(Chloroplast);(Chloroplast) | B11: 724 | C11: ='Supplementary Data 1c'!$B11/SUM('Supplementary Data 1c'!$B$3:$B$118)*100 -> 3.332106
A12: Bacteria;Proteobacteria;Gammaproteobacteria;Enterobacterales;Alteromonadaceae;Alteromonas;hydrothermal vent metagenome | B12: 442 | C12: ='Supplementary Data 1c'!$B12/SUM('Supplementary Data 1c'!$B$3:$B$118)*100 -> 2.0342415
A13: Bacteria;Cyanobacteria;Cyanobacteriia;Chloroplast;uncultured bacterium;(uncultured bacterium);(uncultured bacterium) | B13: 440 | C13: ='Supplementary Data 1c'!$B13/SUM('Supplementary Data 1c'!$B$3:$B$118)*100 -> 2.0250368
A14: Bacteria;Proteobacteria;Gammaproteobacteria;Enterobacterales;Alteromonadaceae;Alteromonas;Alteromonas macleodii | B14: 360 | C14: ='Supplementary Data 1c'!$B14/SUM('Supplementary Data 1c'!$B$3:$B$118)*100 -> 1.6568483
... A118: Bacteria;Proteobacteria;Gammaproteobacteria;Pseudomonadales;Moraxellaceae;Acinetobacter;(Acinetobacter) | B118: 1 | C118: ='Supplementary Data 1c'!$B118/SUM('Supplementary Data 1c'!$B$3:$B$118)*100 -> 0.0046023564

Sheet Supplementary Data 1d
A1: Supplementary Data 1d: S12_0h_phyloFlash_NTU_abundance
A2: Silva_classification | B2: Read_abundance | C2: Percentage | D2: Column1
A3: Bacteria;Proteobacteria;Gammaproteobacteria;Enterobacterales;Alteromonadaceae;Alteromonas;(Alteromonas) | B3: 50597 | C3: ='Supplementary Data 1d'!$B3/SUM('Supplementary Data 1d'!$B$3:$B$203)*100 -> 24.13553
A4: Bacteria;Proteobacteria;Gammaproteobacteria;Enterobacterales;Alteromonadaceae;Alteromonas;uncultured gamma proteobacterium DCM-ATT-9 | B4: 40401 | C4: ='Supplementary Data 1d'!$B4/SUM('Supplementary Data 1d'!$B$3:$B$203)*100 -> 19.271884
A5: Bacteria;Proteobacteria;Gammaproteobacteria;Enterobacterales;Alteromonadaceae;Alteromonas;uncultured Alteromonas sp. | B5: 33154 | C5: ='Supplementary Data 1d'!$B5/SUM('Supplementary Data 1d'!$B$3:$B$203)*100 -> 15.814956
A6: Bacteria;Proteobacteria;Gammaproteobacteria;Enterobacterales;Alteromonadaceae;Alteromonas;uncultured bacterium | B6: 17067 | C6: ='Supplementary Data 1d'!$B6/SUM('Supplementary Data 1d'!$B$3:$B$203)*100 -> 8.1412155
A7: Bacteria;Proteobacteria;Gammaproteobacteria;Nitrosococcales;Methylophagaceae;Methylophaga;Saccharina japonica | B7: 16721 | C7: ='Supplementary Data 1d'!$B7/SUM('Supplementary Data 1d'!$B$3:$B$203)*100 -> 7.9761683
A8: Bacteria;Proteobacteria;Gammaproteobacteria;Enterobacterales;Alteromonadaceae;(Alteromonadaceae);(Alteromonadaceae) | B8: 11908 | C8: ='Supplementary Data 1d'!$B8/SUM('Supplementary Data 1d'!$B$3:$B$203)*100 -> 5.680295
A9: Bacteria;Proteobacteria;Gammaproteobacteria;(Gammaproteobacteria);(Gammaproteobacteria);(Gammaproteobacteria);(Gammaproteobacteria) | B9: 8984 | C9: ='Supplementary Data 1d'!$B9/SUM('Supplementary Data 1d'!$B$3:$B$203)*100 -> 4.285503
A10: Bacteria;Proteobacteria;Gammaproteobacteria;Enterobacterales;Alteromonadaceae;Alteromonas;hydrothermal vent metagenome | B10: 8319 | C10: ='Supplementary Data 1d'!$B10/SUM('Supplementary Data 1d'!$B$3:$B$203)*100 -> 3.968288
A11: Bacteria;Proteobacteria;Gammaproteobacteria;Enterobacterales;Alteromonadaceae;Alteromonas;Alteromonas macleodii | B11: 7896 | C11: ='Supplementary Data 1d'!$B11/SUM('Supplementary Data 1d'!$B$3:$B$203)*100 -> 3.7665107
A12: Bacteria;Proteobacteria;Gammaproteobacteria;Enterobacterales;Alteromonadaceae;Alteromonas;Alteromonas mediterranea DE | B12: 3579 | C12: ='Supplementary Data 1d'!$B12/SUM('Supplementary Data 1d'!$B$3:$B$203)*100 -> 1.7072368
A13: Bacteria;Proteobacteria;Gammaproteobacteria;Enterobacterales;Alteromonadaceae;Alteromonas;Alteromonas australica | B13: 1488 | C13: ='Supplementary Data 1d'!$B13/SUM('Supplementary Data 1d'!$B$3:$B$203)*100 -> 0.70979837
A14: Bacteria;Proteobacteria;Gammaproteobacteria;Enterobacterales;Alteromonadaceae;Alteromonas;Alteromonas mediterranea 615 | B14: 1323 | C14: ='Supplementary Data 1d'!$B14/SUM('Supplementary Data 1d'!$B$3:$B$203)*100 -> 0.63109089
... A203: Bacteria;Actinobacteriota;Actinobacteria;Micrococcales;Microbacteriaceae;Microbacterium;Microbacterium sp. MG-2011-86-GJ | B203: 1 | C203: ='Supplementary Data 1d'!$B203/SUM('Supplementary Data 1d'!$B$3:$B$203)*100 -> 0.00047701503
