Workbook
Name diesel_LHV: 36
Name electricity_conversion: 0.0036
Name Mtoe_to_PJ: 41.868
Name petrol_LHV: 32
Name veh_to_pkm_cars: 1.104
Name veh_to_tkm_heavylorry: 0.175
Name veh_to_tkm_lightlorry: 1.107

Sheet GEMINI
A1: COUNTRY/ AGG REGION | B1: Variable | C1: Value | D1: NEW value | E1: Unit | F1: Base year | G1: End year | H1: Class | I1: Explanation | J1: Source | K1: Database code | AA1: Region | AB1: Implemented | AC1: Type | AD1: Sector | AE1: Impactful | AF1: Actual account
A2: USA (USA) | B2: Share of renewable in Electricity 1 | C2: 19.55 | E2: % | G2: 2020 | H2: Target | J2: CAT | K2: 311 | AA2: =INDEX(Regions!$B$4:$B$19,MATCH(GEMINI!A2,Regions!$C$4:$C$19,0)) -> USA | AB2: yes | AC2: =INDEX(PolicyMapping!$B:$B,MATCH($B2,PolicyMapping!$A:$A,0)) -> clean energy | AD2: =INDEX(PolicyMapping!$C:$C,MATCH($B2,PolicyMapping!$A:$A,0)) -> power
A3: =A2 -> USA (USA) | B3: Share of renewable in Electricity 2 | C3: 22.95 | D3: 29.5 | E3: % | G3: 2025 | H3: Target | J3: CAT | K3: 312 | AA3: =INDEX(Regions!$B$4:$B$19,MATCH(GEMINI!A3,Regions!$C$4:$C$19,0)) -> USA | AB3: yes | AC3: =INDEX(PolicyMapping!$B:$B,MATCH($B3,PolicyMapping!$A:$A,0)) -> clean energy | AD3: =INDEX(PolicyMapping!$C:$C,MATCH($B3,PolicyMapping!$A:$A,0)) -> power
A4: =A3 -> USA (USA) | B4: Share of renewable in Electricity 3 | C4: 24.12 | D4: 34.5 | E4: % | G4: 2030 | H4: Target | J4: CAT | K4: 313 | AA4: =INDEX(Regions!$B$4:$B$19,MATCH(GEMINI!A4,Regions!$C$4:$C$19,0)) -> USA | AB4: yes | AC4: =INDEX(PolicyMapping!$B:$B,MATCH($B4,PolicyMapping!$A:$A,0)) -> clean energy | AD4: =INDEX(PolicyMapping!$C:$C,MATCH($B4,PolicyMapping!$A:$A,0)) -> power
A5: USA (USA) | B5: Energy savings | Residential buildings | D5: 15 | E5: PJ | G5: 2020 | H5: Target | J5: GCAM | K5: 91 | AA5: =INDEX(Regions!$B$4:$B$19,MATCH(GEMINI!A5,Regions!$C$4:$C$19,0)) -> USA | AB5: yes | AC5: =INDEX(PolicyMapping!$B:$B,MATCH($B5,PolicyMapping!$A:$A,0)) -> efficiency standard | AD5: =INDEX(PolicyMapping!$C:$C,MATCH($B5,PolicyMapping!$A:$A,0)) -> buildings
A6: USA (USA) | B6: Energy savings | Residential buildings | D6: 65 | E6: PJ | G6: 2025 | H6: Target | J6: GCAM | K6: 98 | AA6: =INDEX(Regions!$B$4:$B$19,MATCH(GEMINI!A6,Regions!$C$4:$C$19,0)) -> USA | AB6: yes | AC6: =INDEX(PolicyMapping!$B:$B,MATCH($B6,PolicyMapping!$A:$A,0)) -> efficiency standard | AD6: =INDEX(PolicyMapping!$C:$C,MATCH($B6,PolicyMapping!$A:$A,0)) -> buildings | AE6: yes
A7: USA (USA) | B7: Energy savings | Residential buildings | D7: 225 | E7: PJ | G7: 2030 | H7: Target | J7: GCAM | K7: 65 | AA7: =INDEX(Regions!$B$4:$B$19,MATCH(GEMINI!A7,Regions!$C$4:$C$19,0)) -> USA | AB7: yes | AC7: =INDEX(PolicyMapping!$B:$B,MATCH($B7,PolicyMapping!$A:$A,0)) -> efficiency standard | AD7: =INDEX(PolicyMapping!$C:$C,MATCH($B7,PolicyMapping!$A:$A,0)) -> buildings | AE7: yes
A8: USA (USA) | B8: Energy savings | Commercial buildings | D8: 85 | E8: PJ | G8: 2020 | H8: Target | J8: GCAM | K8: 308 | AA8: =INDEX(Regions!$B$4:$B$19,MATCH(GEMINI!A8,Regions!$C$4:$C$19,0)) -> USA | AB8: yes | AC8: =INDEX(PolicyMapping!$B:$B,MATCH($B8,PolicyMapping!$A:$A,0)) -> efficiency standard | AD8: =INDEX(PolicyMapping!$C:$C,MATCH($B8,PolicyMapping!$A:$A,0)) -> buildings
A9: USA (USA) | B9: Energy savings | Commercial buildings | D9: 240 | E9: PJ | G9: 2025 | H9: Target | J9: GCAM | K9: 145 | AA9: =INDEX(Regions!$B$4:$B$19,MATCH(GEMINI!A9,Regions!$C$4:$C$19,0)) -> USA | AB9: yes | AC9: =INDEX(PolicyMapping!$B:$B,MATCH($B9,PolicyMapping!$A:$A,0)) -> efficiency standard | AD9: =INDEX(PolicyMapping!$C:$C,MATCH($B9,PolicyMapping!$A:$A,0)) -> buildings
A10: USA (USA) | B10: Energy savings | Commercial buildings | D10: 465 | E10: PJ | G10: 2030 | H10: Target | J10: GCAM | K10: 161 | AA10: =INDEX(Regions!$B$4:$B$19,MATCH(GEMINI!A10,Regions!$C$4:$C$19,0)) -> USA | AB10: yes | AC10: =INDEX(PolicyMapping!$B:$B,MATCH($B10,PolicyMapping!$A:$A,0)) -> efficiency standard | AD10: =INDEX(PolicyMapping!$C:$C,MATCH($B10,PolicyMapping!$A:$A,0)) -> buildings
A11: USA (USA) | B11: EV share of new vehicles sales | D11: 27 | E11: % | G11: 2030 | H11: Target | J11: CAT | K11: 164 | AA11: =INDEX(Regions!$B$4:$B$19,MATCH(GEMINI!A11,Regions!$C$4:$C$19,0)) -> USA | AB11: yes | AC11: =INDEX(PolicyMapping!$B:$B,MATCH($B11,PolicyMapping!$A:$A,0)) -> clean energy | AD11: =INDEX(PolicyMapping!$C:$C,MATCH($B11,PolicyMapping!$A:$A,0)) -> transport
A12: China (CHI) | B12: Share of renewables (electricity production) | Including hydro | C12: 26.5 | E12: % | G12: 2020 | H12: Alternate interpretation | J12: CD-LINK | K12: 166 | AA12: =INDEX(Regions!$B$4:$B$19,MATCH(GEMINI!A12,Regions!$C$4:$C$19,0)) -> China | AB12: yes | AC12: =INDEX(PolicyMapping!$B:$B,MATCH($B12,PolicyMapping!$A:$A,0)) -> clean energy | AD12: =INDEX(PolicyMapping!$C:$C,MATCH($B12,PolicyMapping!$A:$A,0)) -> power
A13: China (CHI) | B13: Share of renewables (electricity production) | Including hydro | D13: 35 | E13: % | G13: 2030 | K13: 168 | AA13: =INDEX(Regions!$B$4:$B$19,MATCH(GEMINI!A13,Regions!$C$4:$C$19,0)) -> China | AB13: yes | AC13: =INDEX(PolicyMapping!$B:$B,MATCH($B13,PolicyMapping!$A:$A,0)) -> clean energy | AD13: =INDEX(PolicyMapping!$C:$C,MATCH($B13,PolicyMapping!$A:$A,0)) -> power
A14: China (CHI) | B14: Electric and plug-in vehicles | Production | Share of new cars | D14: 25 | E14: % | G14: 2025 | K14: 27 | AA14: =INDEX(Regions!$B$4:$B$19,MATCH(GEMINI!A14,Regions!$C$4:$C$19,0)) -> China | AB14: yes | AC14: =INDEX(PolicyMapping!$B:$B,MATCH($B14,PolicyMapping!$A:$A,0)) -> clean energy | AD14: =INDEX(PolicyMapping!$C:$C,MATCH($B14,PolicyMapping!$A:$A,0)) -> transport
A15: =A12 -> China (CHI) | B15: Industrial output (MtCO2/IVA (US$2005)) | C15: -40 | E15: % | F15: 2015 | G15: 2025 | H15: Target | I15: 40% reduction in Industrial output (MtCO2/IVA) between 2015 and 2025. Assumes that Industry as a proportion of IVA is constant across the 10 year period | J15: CD-LINK | K15: 28 | AA15: =INDEX(Regions!$B$4:$B$19,MATCH(GEMINI!A15,Regions!$C$4:$C$19,0)) -> China | AB15: yes | AC15: =INDEX(PolicyMapping!$B:$B,MATCH($B15,PolicyMapping!$A:$A,0)) -> cap on emissions | AD15: =INDEX(PolicyMapping!$C:$C,MATCH($B15,PolicyMapping!$A:$A,0)) -> industry
A16: =A15 -> China (CHI) | B16: Share of non-fossil energy in TPES | C16: 20 | D16: 25 | E16: % | G16: 2030 | H16: Target | J16: CD-LINK | K16: 29 | AA16: =INDEX(Regions!$B$4:$B$19,MATCH(GEMINI!A16,Regions!$C$4:$C$19,0)) -> China | AB16: yes | AC16: =INDEX(PolicyMapping!$B:$B,MATCH($B16,PolicyMapping!$A:$A,0)) -> clean energy | AD16: =INDEX(PolicyMapping!$C:$C,MATCH($B16,PolicyMapping!$A:$A,0)) -> system
A17: =A16 -> China (CHI) | B17: Renewable Target in Electricity Consumption | C17: 35 | E17: % | G17: 2030 | H17: Target | J17: CAT | K17: 32 | AA17: =INDEX(Regions!$B$4:$B$19,MATCH(GEMINI!A17,Regions!$C$4:$C$19,0)) -> China | AB17: yes | AC17: =INDEX(PolicyMapping!$B:$B,MATCH($B17,PolicyMapping!$A:$A,0)) -> clean energy | AD17: =INDEX(PolicyMapping!$C:$C,MATCH($B17,PolicyMapping!$A:$A,0)) -> system
A18: =A17 -> China (CHI) | B18: EV share of new vehicles sales | D18: 36 | E18: % | G18: 2030 | H18: target | J18: CAT | K18: 45 | AA18: =INDEX(Regions!$B$4:$B$19,MATCH(GEMINI!A18,Regions!$C$4:$C$19,0)) -> China | AB18: yes | AC18: =INDEX(PolicyMapping!$B:$B,MATCH($B18,PolicyMapping!$A:$A,0)) -> clean energy | AD18: =INDEX(PolicyMapping!$C:$C,MATCH($B18,PolicyMapping!$A:$A,0)) -> transport
A19: =A18 -> China (CHI) | B19: Electricity capacity | Solar + Wind | D19: 1200 | E19: GW | G19: 2030 | H19: target | J19: AT | K19: 310 | AA19: =INDEX(Regions!$B$4:$B$19,MATCH(GEMINI!A19,Regions!$C$4:$C$19,0)) -> China | AB19: yes | AC19: =INDEX(PolicyMapping!$B:$B,MATCH($B19,PolicyMapping!$A:$A,0)) -> clean energy | AD19: =INDEX(PolicyMapping!$C:$C,MATCH($B19,PolicyMapping!$A:$A,0)) -> power
A20: India (IND) | B20: Share of renewables (electricity production) 3 | C20: 24 | E20: % | G20: 2027 | H20: Planned | J20: CD-LINK | K20: 311 | AA20: =INDEX(Regions!$B$4:$B$19,MATCH(GEMINI!A20,Regions!$C$4:$C$19,0)) -> India | AB20: yes | AC20: =INDEX(PolicyMapping!$B:$B,MATCH($B20,PolicyMapping!$A:$A,0)) -> clean energy | AD20: =INDEX(PolicyMapping!$C:$C,MATCH($B20,PolicyMapping!$A:$A,0)) -> power | AE20: yes
A21: =A20 -> India (IND) | B21: Share of renewables (electricity production) 1 | C21: 15 | E21: % | G21: 2020 | H21: Alternate interpretation | J21: CD-LINK | K21: 230 | AA21: =INDEX(Regions!$B$4:$B$19,MATCH(GEMINI!A21,Regions!$C$4:$C$19,0)) -> India | AB21: yes | AC21: =INDEX(PolicyMapping!$B:$B,MATCH($B21,PolicyMapping!$A:$A,0)) -> clean energy | AD21: =INDEX(PolicyMapping!$C:$C,MATCH($B21,PolicyMapping!$A:$A,0)) -> power
A22: =A21 -> India (IND) | B22: Electricity capacity|Biomass | C22: 10 | E22: GW | G22: 2022 | H22: Target | J22: CD-LINK | K22: 314 | AA22: =INDEX(Regions!$B$4:$B$19,MATCH(GEMINI!A22,Regions!$C$4:$C$19,0)) -> India | AB22: yes | AC22: =INDEX(PolicyMapping!$B:$B,MATCH($B22,PolicyMapping!$A:$A,0)) -> clean energy | AD22: =INDEX(PolicyMapping!$C:$C,MATCH($B22,PolicyMapping!$A:$A,0)) -> power
A23: =A22 -> India (IND) | B23: Electricity capacity | Wind | C23: 60 | E23: GW | G23: 2022 | H23: Target | J23: CD-LINK | K23: 314 | AA23: =INDEX(Regions!$B$4:$B$19,MATCH(GEMINI!A23,Regions!$C$4:$C$19,0)) -> India | AB23: yes | AC23: =INDEX(PolicyMapping!$B:$B,MATCH($B23,PolicyMapping!$A:$A,0)) -> clean energy | AD23: =INDEX(PolicyMapping!$C:$C,MATCH($B23,PolicyMapping!$A:$A,0)) -> power
A24: =A23 -> India (IND) | B24: Electricity capacity | Solar | C24: 100 | E24: GW | G24: 2022 | H24: Target | J24: CD-LINK | K24: =K23 -> 314 | AA24: =INDEX(Regions!$B$4:$B$19,MATCH(GEMINI!A24,Regions!$C$4:$C$19,0)) -> India | AB24: yes | AC24: =INDEX(PolicyMapping!$B:$B,MATCH($B24,PolicyMapping!$A:$A,0)) -> clean energy | AD24: =INDEX(PolicyMapping!$C:$C,MATCH($B24,PolicyMapping!$A:$A,0)) -> power
A25: =A24 -> India (IND) | B25: Electricity capacity | Renewable | D25: 450 | E25: GW | G25: 2030 | H25: Target | J25: CAT | K25: =K24 -> 314 | AA25: =INDEX(Regions!$B$4:$B$19,MATCH(GEMINI!A25,Regions!$C$4:$C$19,0)) -> India | AB25: yes | AC25: =INDEX(PolicyMapping!$B:$B,MATCH($B25,PolicyMapping!$A:$A,0)) -> clean energy | AD25: =INDEX(PolicyMapping!$C:$C,MATCH($B25,PolicyMapping!$A:$A,0)) -> power
A26: =A25 -> India (IND) | B26: EV share of new vehicles sales | D26: 30 | E26: % | G26: 2030 | H26: Target | J26: CAT | K26: =K25 -> 314 | AA26: =INDEX(Regions!$B$4:$B$19,MATCH(GEMINI!A26,Regions!$C$4:$C$19,0)) -> India | AB26: yes | AC26: =INDEX(PolicyMapping!$B:$B,MATCH($B26,PolicyMapping!$A:$A,0)) -> clean energy | AD26: =INDEX(PolicyMapping!$C:$C,MATCH($B26,PolicyMapping!$A:$A,0)) -> transport
A27: Brazil (BRA) | B27: Share of renewables (electricity consumption) | Non-fossil | Including nuclear | D27: 48 | E27: % | G27: 2030 | H27: Target | J27: CAT | K27: =K26 -> 314 | AA27: =INDEX(Regions!$B$4:$B$19,MATCH(GEMINI!A27,Regions!$C$4:$C$19,0)) -> Brazil | AB27: yes | AC27: =INDEX(PolicyMapping!$B:$B,MATCH($B27,PolicyMapping!$A:$A,0)) -> clean energy | AD27: =INDEX(PolicyMapping!$C:$C,MATCH($B27,PolicyMapping!$A:$A,0)) -> system
A28: =A27 -> Brazil (BRA) | B28: Share of renewables (electricity production) | Excluding hydro | D28: 23 | E28: % | G28: 2024 | H28: Target | J28: CAT | K28: =K27 -> 314 | AA28: =INDEX(Regions!$B$4:$B$19,MATCH(GEMINI!A28,Regions!$C$4:$C$19,0)) -> Brazil | AB28: yes | AC28: =INDEX(PolicyMapping!$B:$B,MATCH($B28,PolicyMapping!$A:$A,0)) -> clean energy | AD28: =INDEX(PolicyMapping!$C:$C,MATCH($B28,PolicyMapping!$A:$A,0)) -> power
A29: =A28 -> Brazil (BRA) | B29: Electricity capacity | Bioenergy | C29: 13 | E29: GW | G29: 2025 | H29: Target | J29: CD-LINK | K29: =K28 -> 314 | AA29: =INDEX(Regions!$B$4:$B$19,MATCH(GEMINI!A29,Regions!$C$4:$C$19,0)) -> Brazil | AB29: yes | AC29: =INDEX(PolicyMapping!$B:$B,MATCH($B29,PolicyMapping!$A:$A,0)) -> clean energy | AD29: =INDEX(PolicyMapping!$C:$C,MATCH($B29,PolicyMapping!$A:$A,0)) -> power
A30: =A29 -> Brazil (BRA) | B30: Electricity capacity | Wind | C30: 16.5 | D30: 27 | E30: GW | G30: 2025 | H30: Target | J30: GCAM | K30: =K29 -> 314 | AA30: =INDEX(Regions!$B$4:$B$19,MATCH(GEMINI!A30,Regions!$C$4:$C$19,0)) -> Brazil | AB30: yes | AC30: =INDEX(PolicyMapping!$B:$B,MATCH($B30,PolicyMapping!$A:$A,0)) -> clean energy | AD30: =INDEX(PolicyMapping!$C:$C,MATCH($B30,PolicyMapping!$A:$A,0)) -> power
A31: =A30 -> Brazil (BRA) | B31: Electricity capacity | Hydro | C31: 88.5 | E31: GW | G31: 2025 | H31: Target | J31: CD-LINK | K31: =K30 -> 314 | AA31: =INDEX(Regions!$B$4:$B$19,MATCH(GEMINI!A31,Regions!$C$4:$C$19,0)) -> Brazil | AB31: yes | AC31: =INDEX(PolicyMapping!$B:$B,MATCH($B31,PolicyMapping!$A:$A,0)) -> clean energy | AD31: =INDEX(PolicyMapping!$C:$C,MATCH($B31,PolicyMapping!$A:$A,0)) -> power
A32: =A31 -> Brazil (BRA) | B32: Electricity capacity | Solar | D32: 3.5 | E32: GW | G32: 2025 | H32: Target | J32: GCAM | K32: =K31 -> 314 | AA32: =INDEX(Regions!$B$4:$B$19,MATCH(GEMINI!A32,Regions!$C$4:$C$19,0)) -> Brazil | AB32: yes | AC32: =INDEX(PolicyMapping!$B:$B,MATCH($B32,PolicyMapping!$A:$A,0)) -> clean energy | AD32: =INDEX(PolicyMapping!$C:$C,MATCH($B32,PolicyMapping!$A:$A,0)) -> power
A33: Russia (RUS) | B33: Share of Renewable in Electricity (Excluding Hydro) | C33: 4.5 | E33: % | G33: 2030 | H33: Target | J33: CAT | K33: =K32 -> 314 | AA33: =INDEX(Regions!$B$4:$B$19,MATCH(GEMINI!A33,Regions!$C$4:$C$19,0)) -> Russia | AB33: yes | AC33: =INDEX(PolicyMapping!$B:$B,MATCH($B33,PolicyMapping!$A:$A,0)) -> clean energy | AD33: =INDEX(PolicyMapping!$C:$C,MATCH($B33,PolicyMapping!$A:$A,0)) -> power
A34: Russia (RUS) | B34: Share of Renewable in Electricity (Excluding Hydro) | C34: 9 | E34: % | G34: 2035 | H34: Target | J34: CAT | K34: =K33 -> 314 | AA34: =INDEX(Regions!$B$4:$B$19,MATCH(GEMINI!A34,Regions!$C$4:$C$19,0)) -> Russia | AB34: yes | AC34: =INDEX(PolicyMapping!$B:$B,MATCH($B34,PolicyMapping!$A:$A,0)) -> clean energy | AD34: =INDEX(PolicyMapping!$C:$C,MATCH($B34,PolicyMapping!$A:$A,0)) -> power
A35: =A33 -> Russia (RUS) | B35: Coal Share in TPES | C35: 15.8 | E35: % | G35: 2030 | H35: Target | J35: CAT | K35: =K34 -> 314 | AA35: =INDEX(Regions!$B$4:$B$19,MATCH(GEMINI!A35,Regions!$C$4:$C$19,0)) -> Russia | AB35: yes | AC35: =INDEX(PolicyMapping!$B:$B,MATCH($B35,PolicyMapping!$A:$A,0)) -> cap on fossils | AD35: =INDEX(PolicyMapping!$C:$C,MATCH($B35,PolicyMapping!$A:$A,0)) -> system
A36: =A34 -> Russia (RUS) | B36: EV share of total vehicle manufacturing | D36: 10 | E36: % | G36: 2030 | H36: Target | J36: CAT | K36: =K35 -> 314 | AA36: =INDEX(Regions!$B$4:$B$19,MATCH(GEMINI!A36,Regions!$C$4:$C$19,0)) -> Russia | AB36: yes | AC36: =INDEX(PolicyMapping!$B:$B,MATCH($B36,PolicyMapping!$A:$A,0)) -> clean energy | AD36: =INDEX(PolicyMapping!$C:$C,MATCH($B36,PolicyMapping!$A:$A,0)) -> transport
A37: =A35 -> Russia (RUS) | B37: GHG emissions | Transport | Cars | C37: 22.5 | E37: % | F37: 2013 | G37: 2030 | H37: Planned | J37: CD-LINK | K37: =K36 -> 314 | AA37: =INDEX(Regions!$B$4:$B$19,MATCH(GEMINI!A37,Regions!$C$4:$C$19,0)) -> Russia | AB37: yes | AC37: =INDEX(PolicyMapping!$B:$B,MATCH($B37,PolicyMapping!$A:$A,0)) -> cap on emissions | AD37: =INDEX(PolicyMapping!$C:$C,MATCH($B37,PolicyMapping!$A:$A,0)) -> transport
A38: Other ASIA (ASI) | B38: Share of renewables (electricity production) including Hydro 1 | E38: % | G38: 2030 | H38: Target | I38: Aggregated Target Based on Weighted Average on Renewable Share of Individual Countries | J38: Various | K38: 315 | AA38: =INDEX(Regions!$B$4:$B$19,MATCH(GEMINI!A38,Regions!$C$4:$C$19,0)) -> Asia excl India and China | AB38: yes | AC38: =INDEX(PolicyMapping!$B:$B,MATCH($B38,PolicyMapping!$A:$A,0)) -> clean energy | AD38: =INDEX(PolicyMapping!$C:$C,MATCH($B38,PolicyMapping!$A:$A,0)) -> power
A39: Other ASIA (ASI) | B39: =B38 -> Share of renewables (electricity production) including Hydro 1 | E39: % | G39: 2030 | H39: Target | I39: Aggregated Target Based on Weighted Average on Renewable Share of Individual Countries | J39: Various | K39: =K38 -> 315 | AA39: =INDEX(Regions!$B$4:$B$19,MATCH(GEMINI!A39,Regions!$C$4:$C$19,0)) -> Asia excl India and China | AB39: yes | AC39: =INDEX(PolicyMapping!$B:$B,MATCH($B39,PolicyMapping!$A:$A,0)) -> clean energy | AD39: =INDEX(PolicyMapping!$C:$C,MATCH($B39,PolicyMapping!$A:$A,0)) -> power
A40: Other ASIA (ASI) | B40: =B39 -> Share of renewables (electricity production) including Hydro 1 | E40: % | G40: 2030 | H40: Target | I40: Aggregated Target Based on Weighted Average on Renewable Share of Individual Countries | J40: Various | K40: =K39 -> 315 | AA40: =INDEX(Regions!$B$4:$B$19,MATCH(GEMINI!A40,Regions!$C$4:$C$19,0)) -> Asia excl India and China | AB40: yes | AC40: =INDEX(PolicyMapping!$B:$B,MATCH($B40,PolicyMapping!$A:$A,0)) -> clean energy | AD40: =INDEX(PolicyMapping!$C:$C,MATCH($B40,PolicyMapping!$A:$A,0)) -> power
...

Sheet TIAM
L2: Proxy indicators from IMAGE (only use if policy measure can't be modelled). For land-use proxies, please refer to 'Country LULUCF projections'
A3: Model | B3: Country | C3: Implementable? | D3: Variable | E3: Value | F3: NEW value | G3: Unit | H3: Base year | I3: End year | J3: Class | K3: Cdlinks project Comments | L3: Proxy needed | M3: Implemented in IMAGE/GLOBIOM/MAgPIE? | N3: Target exactly reached (+-20%)? | O3: NoPolicy | P3: Npi | Q3: Relative | R3: Absolute (EJ) | S3: Absolute/GDP (TJ/million 2010$) | T3: Year | U3: Region | V3: Comments and implementation strategy | W3: Updated ?? | X3: Region | Y3: Implemented | Z3: Baseline | AA3: Type | AB3: Sector | AC3: Impactful
A4: TIAM | B4: Argentina | C4: Need biofuel data | D4: Biofuel share in transport | Bioethanol + biodiesel | E4: 12 | G4: % | H4: 2016 | J4: Target | L4: yes | M4: yes | N4: under | O4: 0.0039643891 | P4: 0.078364883 | Q4: 18.767203 | R4: 0.074400494 | S4: 0.045012191 | T4: 2020 | U4: RSAM | V4: Minimum 12% share of biodiesel/ethanol in transport in Argentina in 2016, and 24% in Brazil in 2015. Extrapolated to region(CSA) | X4: =INDEX(Regions!$B$4:$B$19,MATCH(TIAM!B4,Regions!$A$4:$A$19,0)) -> Latin America excl. Brazil | Y4: yes | AA4: =INDEX(PolicyMapping!$B:$B,MATCH($D4,PolicyMapping!$A:$A,0)) -> clean energy | AB4: =INDEX(PolicyMapping!$C:$C,MATCH($D4,PolicyMapping!$A:$A,0)) -> transport
A5: TIAM | B5: Argentina | C5: Possible with IMAGE proxies or capacity data | D5: Heat capacity (added) | Biomass | E5: 200 | G5: MW | H5: 2013 | I5: 2016 | J5: Target | L5: yes | M5: yes | N5: yes | O5: 0.01639063 | P5: 0.01653745 | Q5: 0.0089575568 | R5: 0.00014682 | S5: 0.00010995138 | T5: 2015 | U5: RSAM | V5: old target | X5: =INDEX(Regions!$B$4:$B$19,MATCH(TIAM!B5,Regions!$A$4:$A$19,0)) -> Latin America excl. Brazil | AA5: =INDEX(PolicyMapping!$B:$B,MATCH($D5,PolicyMapping!$A:$A,0)) -> clean energy | AB5: =INDEX(PolicyMapping!$C:$C,MATCH($D5,PolicyMapping!$A:$A,0)) -> power
A6: TIAM | B6: Argentina | C6: Possible with IMAGE proxies or capacity data | D6: Electricity capacity (added) | Biomass | E6: 200 | G6: MW | H6: 2013 | I6: 2016 | J6: Target | L6: yes | M6: yes | N6: yes | O6: 0.01639063 | P6: 0.01653745 | Q6: 0.0089575568 | R6: 0.00014682 | S6: 0.00010995138 | T6: 2015 | U6: RSAM | V6: old target | X6: =INDEX(Regions!$B$4:$B$19,MATCH(TIAM!B6,Regions!$A$4:$A$19,0)) -> Latin America excl. Brazil | AA6: =INDEX(PolicyMapping!$B:$B,MATCH($D6,PolicyMapping!$A:$A,0)) -> clean energy | AB6: =INDEX(PolicyMapping!$C:$C,MATCH($D6,PolicyMapping!$A:$A,0)) -> power
A7: TIAM | B7: Argentina | C7: No | D7: Forest conservation (area) | E7: 4700000 | G7: ha | H7: 2007 | I7: 2030 | J7: Target | L7: land-use | V7: Model Limitation | X7: =INDEX(Regions!$B$4:$B$19,MATCH(TIAM!B7,Regions!$A$4:$A$19,0)) -> Latin America excl. Brazil | AA7: =INDEX(PolicyMapping!$B:$B,MATCH($D7,PolicyMapping!$A:$A,0)) -> land use | AB7: =INDEX(PolicyMapping!$C:$C,MATCH($D7,PolicyMapping!$A:$A,0)) -> land
A8: TIAM | B8: Argentina | C8: No | D8: Forest conservation (Cumulative CO2 reduction) | E8: 1.3 | G8: Mt CO2 | H8: 2007 | I8: 2030 | J8: Alternate interpretation | L8: land-use | V8: Model Limitation | X8: =INDEX(Regions!$B$4:$B$19,MATCH(TIAM!B8,Regions!$A$4:$A$19,0)) -> Latin America excl. Brazil | AA8: =INDEX(PolicyMapping!$B:$B,MATCH($D8,PolicyMapping!$A:$A,0)) -> cap on emissions | AB8: =INDEX(PolicyMapping!$C:$C,MATCH($D8,PolicyMapping!$A:$A,0)) -> land
A9: TIAM | B9: Argentina | C9: Yes | D9: Share of renewables (electricity production) | E9: 20 | G9: % | I9: 2025 | J9: Target | L9: no | M9: yes | N9: over | V9: included in the aggregration | X9: =INDEX(Regions!$B$4:$B$19,MATCH(TIAM!B9,Regions!$A$4:$A$19,0)) -> Latin America excl. Brazil | Y9: yes | Z9: yes | AA9: =INDEX(PolicyMapping!$B:$B,MATCH($D9,PolicyMapping!$A:$A,0)) -> clean energy | AB9: =INDEX(PolicyMapping!$C:$C,MATCH($D9,PolicyMapping!$A:$A,0)) -> power
A10: TIAM | B10: Argentina | C10: Yes | D10: Share of renewables (electricity production) | E10: 18 | G10: % | I10: 2023 | J10: Target | L10: no | M10: x | N10: x | V10: included in the aggregration | X10: =INDEX(Regions!$B$4:$B$19,MATCH(TIAM!B10,Regions!$A$4:$A$19,0)) -> Latin America excl. Brazil | Y10: yes | Z10: yes | AA10: =INDEX(PolicyMapping!$B:$B,MATCH($D10,PolicyMapping!$A:$A,0)) -> clean energy | AB10: =INDEX(PolicyMapping!$C:$C,MATCH($D10,PolicyMapping!$A:$A,0)) -> power
A11: TIAM | B11: Argentina | C11: Yes | D11: Share of renewables (electricity production) | E11: 16 | G11: % | I11: 2021 | J11: Target | L11: no | M11: x | N11: x | V11: included in the aggregration | X11: =INDEX(Regions!$B$4:$B$19,MATCH(TIAM!B11,Regions!$A$4:$A$19,0)) -> Latin America excl. Brazil | Y11: yes | Z11: yes | AA11: =INDEX(PolicyMapping!$B:$B,MATCH($D11,PolicyMapping!$A:$A,0)) -> clean energy | AB11: =INDEX(PolicyMapping!$C:$C,MATCH($D11,PolicyMapping!$A:$A,0)) -> power
A12: TIAM | B12: Argentina | C12: Yes | D12: Share of renewables (electricity production) | E12: 12 | G12: % | I12: 2019 | J12: Target | L12: no | M12: x | N12: x | V12: included in the aggregration | X12: =INDEX(Regions!$B$4:$B$19,MATCH(TIAM!B12,Regions!$A$4:$A$19,0)) -> Latin America excl. Brazil | Y12: yes | Z12: yes | AA12: =INDEX(PolicyMapping!$B:$B,MATCH($D12,PolicyMapping!$A:$A,0)) -> clean energy | AB12: =INDEX(PolicyMapping!$C:$C,MATCH($D12,PolicyMapping!$A:$A,0)) -> power
A13: TIAM | B13: Argentina | C13: Yes | D13: Share of renewables (electricity production) | E13: 8 | G13: % | I13: 2017 | J13: Target | L13: no | M13: x | N13: x | V13: included in the aggregration | X13: =INDEX(Regions!$B$4:$B$19,MATCH(TIAM!B13,Regions!$A$4:$A$19,0)) -> Latin America excl. Brazil | Y13: yes | Z13: yes | AA13: =INDEX(PolicyMapping!$B:$B,MATCH($D13,PolicyMapping!$A:$A,0)) -> clean energy | AB13: =INDEX(PolicyMapping!$C:$C,MATCH($D13,PolicyMapping!$A:$A,0)) -> power
A14: TIAM | B14: Argentina | C14: No - check w/ Alex | D14: Carbon tax | E14: 10 | G14: $/t CO2 | J14: Implemented | L14: no | X14: =INDEX(Regions!$B$4:$B$19,MATCH(TIAM!B14,Regions!$A$4:$A$19,0)) -> Latin America excl. Brazil | AA14: =INDEX(PolicyMapping!$B:$B,MATCH($D14,PolicyMapping!$A:$A,0)) -> economic | AB14: =INDEX(PolicyMapping!$C:$C,MATCH($D14,PolicyMapping!$A:$A,0)) -> system
A15: TIAM | B15: Australia | C15: Yes | D15: Economy-wide|Energy productivity increase (GDP/PJ) | E15: 0.4 | G15: GDP ($M)/PJ | H15: 2015 | I15: 2030 | J15: Target | L15: no | V15: this represents 40% increase in the GDP/TPES of Australia relative to 2015 | X15: =INDEX(Regions!$B$4:$B$19,MATCH(TIAM!B15,Regions!$A$4:$A$19,0)) -> Rest of the World | Y15: yes | AA15: =INDEX(PolicyMapping!$B:$B,MATCH($D15,PolicyMapping!$A:$A,0)) -> efficiency standard | AB15: =INDEX(PolicyMapping!$C:$C,MATCH($D15,PolicyMapping!$A:$A,0)) -> system
A16: TIAM | B16: Australia | C16: Yes | D16: Renewable electricity production | E16: 33000 | G16: GWh | I16: 2020 | J16: Target | L16: no | V16: this policy target is replaced by ambitious poliy | X16: =INDEX(Regions!$B$4:$B$19,MATCH(TIAM!B16,Regions!$A$4:$A$19,0)) -> Rest of the World | Y16: yes | Z16: yes | AA16: =INDEX(PolicyMapping!$B:$B,MATCH($D16,PolicyMapping!$A:$A,0)) -> clean energy | AB16: =INDEX(PolicyMapping!$C:$C,MATCH($D16,PolicyMapping!$A:$A,0)) -> power
A17: TIAM | B17: Australia | C17: Yes | D17: Share of renewables (electricity production) | E17: 23.5 | G17: % | I17: 2020 | J17: Alternate interpretation | L17: no | V17: alternate interprepration of old policy | X17: =INDEX(Regions!$B$4:$B$19,MATCH(TIAM!B17,Regions!$A$4:$A$19,0)) -> Rest of the World | Y17: yes | Z17: yes | AA17: =INDEX(PolicyMapping!$B:$B,MATCH($D17,PolicyMapping!$A:$A,0)) -> clean energy | AB17: =INDEX(PolicyMapping!$C:$C,MATCH($D17,PolicyMapping!$A:$A,0)) -> power
A18: TIAM | B18: Australia | C18: Yes | D18: Share of renewables (electricity production) | E18: 25 | G18: % | I18: 2020 | J18: Target | L18: no | V18: Minimum 25% share of electricity generated by renewables in 2030 | X18: =INDEX(Regions!$B$4:$B$19,MATCH(TIAM!B18,Regions!$A$4:$A$19,0)) -> Rest of the World | Y18: yes | AA18: =INDEX(PolicyMapping!$B:$B,MATCH($D18,PolicyMapping!$A:$A,0)) -> clean energy | AB18: =INDEX(PolicyMapping!$C:$C,MATCH($D18,PolicyMapping!$A:$A,0)) -> power
A19: TIAM | B19: Australia | C19: Yes | D19: Share of renewables (electricity production) | E19: 50 | G19: % | I19: 2030 | J19: Target | L19: no | V19: Minimum 50% share of electricity generated by renewables in 2030 | X19: =INDEX(Regions!$B$4:$B$19,MATCH(TIAM!B19,Regions!$A$4:$A$19,0)) -> Rest of the World | Y19: yes | AA19: =INDEX(PolicyMapping!$B:$B,MATCH($D19,PolicyMapping!$A:$A,0)) -> clean energy | AB19: =INDEX(PolicyMapping!$C:$C,MATCH($D19,PolicyMapping!$A:$A,0)) -> power
A20: TIAM | B20: Australia | C20: No | D20: Fuel tax (diesel and gasoline) | E20: 0.4 | G20: $/liter | H20: 2016 | J20: Optional | L20: yes | M20: yes | N20: yes | O20: 1.3289085 | P20: 1.0620116 | Q20: -0.20083917 | R20: -0.26689688 | S20: -0.15215202 | T20: 2030 | U20: OCE | V20: optional policy | X20: =INDEX(Regions!$B$4:$B$19,MATCH(TIAM!B20,Regions!$A$4:$A$19,0)) -> Rest of the World | AA20: =INDEX(PolicyMapping!$B:$B,MATCH($D20,PolicyMapping!$A:$A,0)) -> economic | AB20: =INDEX(PolicyMapping!$C:$C,MATCH($D20,PolicyMapping!$A:$A,0)) -> transport
A21: TIAM | B21: Australia | C21: No | D21: Fuel tax (biodiesel) | E21: 0.013 | G21: $/liter | H21: 2016 | J21: Optional | L21: yes | M21: x | N21: x | O21: 0.1878308 | P21: 0.23558949 | Q21: 0.25426447 | R21: 0.047758698 | S21: 0.027226179 | T21: 2030 | U21: OCE | V21: optional policy | X21: =INDEX(Regions!$B$4:$B$19,MATCH(TIAM!B21,Regions!$A$4:$A$19,0)) -> Rest of the World | AA21: =INDEX(PolicyMapping!$B:$B,MATCH($D21,PolicyMapping!$A:$A,0)) -> economic | AB21: =INDEX(PolicyMapping!$C:$C,MATCH($D21,PolicyMapping!$A:$A,0)) -> transport
A22: TIAM | B22: Australia | C22: No | D22: Emissions | HFCs | E22: -55 | G22: % | H22: 2010 | I22: 2030 | J22: Target | L22: no | V22: HFCs emissions are not included in the model | X22: =INDEX(Regions!$B$4:$B$19,MATCH(TIAM!B22,Regions!$A$4:$A$19,0)) -> Rest of the World | AA22: =INDEX(PolicyMapping!$B:$B,MATCH($D22,PolicyMapping!$A:$A,0)) -> cap on emissions | AB22: =INDEX(PolicyMapping!$C:$C,MATCH($D22,PolicyMapping!$A:$A,0)) -> system
A23: TIAM | B23: Australia | C23: No | D23: Afforestation (area) | E23: 20000 | G23: ha | I23: 2020 | J23: Target | L23: land-use | V23: Model Limitation | X23: =INDEX(Regions!$B$4:$B$19,MATCH(TIAM!B23,Regions!$A$4:$A$19,0)) -> Rest of the World | AA23: =INDEX(PolicyMapping!$B:$B,MATCH($D23,PolicyMapping!$A:$A,0)) -> land use | AB23: =INDEX(PolicyMapping!$C:$C,MATCH($D23,PolicyMapping!$A:$A,0)) -> land
A24: TIAM | B24: Australia | C24: Yes | D24: Emissions | LULUCF | E24: -4.2 | G24: Mt CO2e | H24: 2010 | I24: 2020 | J24: Target | L24: land-use | V24: Model Limitation | X24: =INDEX(Regions!$B$4:$B$19,MATCH(TIAM!B24,Regions!$A$4:$A$19,0)) -> Rest of the World | AA24: =INDEX(PolicyMapping!$B:$B,MATCH($D24,PolicyMapping!$A:$A,0)) -> cap on emissions | AB24: =INDEX(PolicyMapping!$C:$C,MATCH($D24,PolicyMapping!$A:$A,0)) -> land
A25: TIAM | B25: Australia | C25: Yes | D25: Emissions | Agriculture | E25: -1.9 | G25: Mt CO2e | H25: 2010 | I25: 2020 | J25: Target | L25: land-use | V25: Model Limitation | X25: =INDEX(Regions!$B$4:$B$19,MATCH(TIAM!B25,Regions!$A$4:$A$19,0)) -> Rest of the World | AA25: =INDEX(PolicyMapping!$B:$B,MATCH($D25,PolicyMapping!$A:$A,0)) -> cap on emissions | AB25: =INDEX(PolicyMapping!$C:$C,MATCH($D25,PolicyMapping!$A:$A,0)) -> land
A26: TIAM | B26: Australia | C26: Yes | D26: Share of renewables (electricity production) | E26: 35 | G26: % | I26: 2025 | J26: Target | L26: no | V26: Minimum 35% share of electricity generated by renewables in 2025 | X26: =INDEX(Regions!$B$4:$B$19,MATCH(TIAM!B26,Regions!$A$4:$A$19,0)) -> Rest of the World | Y26: yes | AA26: =INDEX(PolicyMapping!$B:$B,MATCH($D26,PolicyMapping!$A:$A,0)) -> clean energy | AB26: =INDEX(PolicyMapping!$C:$C,MATCH($D26,PolicyMapping!$A:$A,0)) -> power
A27: TIAM | B27: Brazil | D27: Share of renewables (TPES) | E27: 45 | G27: % | I27: 2030 | J27: Planned | L27: no | V27: its Planned so its not included in curpolicy scenario | X27: =INDEX(Regions!$B$4:$B$19,MATCH(TIAM!B27,Regions!$A$4:$A$19,0)) -> Brazil | AA27: =INDEX(PolicyMapping!$B:$B,MATCH($D27,PolicyMapping!$A:$A,0)) -> clean energy | AB27: =INDEX(PolicyMapping!$C:$C,MATCH($D27,PolicyMapping!$A:$A,0)) -> system
A28: TIAM | B28: Brazil | C28: Need biofuel data | D28: Biofuel share in gasoline | Bioethanol | E28: 27 | G28: % | H28: 2015 | J28: Target | L28: yes | M28: x | N28: x | O28: 0.2455863 | P28: 0.47262271 | Q28: 0.92446689 | R28: 0.22703641 | S28: 0.13366537 | T28: 2020 | U28: BRA | V28: 27% share of bioethanol in (bioethanol +gasoline) in Brazil 2016; aggregrated across the region(CSA) ; check the methodology in aggregration method | X28: =INDEX(Regions!$B$4:$B$19,MATCH(TIAM!B28,Regions!$A$4:$A$19,0)) -> Brazil | Y28: yes | AA28: =INDEX(PolicyMapping!$B:$B,MATCH($D28,PolicyMapping!$A:$A,0)) -> clean energy | AB28: =INDEX(PolicyMapping!$C:$C,MATCH($D28,PolicyMapping!$A:$A,0)) -> transport
A29: TIAM | B29: Brazil | C29: Need biofuel data | D29: Biofuel share in diesel | Biodiesel | E29: 7 | G29: % | H29: 2015 | J29: Target | L29: yes | M29: x | N29: x | O29: 0.2455863 | P29: 0.47262271 | Q29: 0.92446689 | R29: 0.22703641 | S29: 0.13366537 | T29: 2020 | U29: BRA | V29: this policy is replaced by more ambitious policy target | X29: =INDEX(Regions!$B$4:$B$19,MATCH(TIAM!B29,Regions!$A$4:$A$19,0)) -> Brazil | AA29: =INDEX(PolicyMapping!$B:$B,MATCH($D29,PolicyMapping!$A:$A,0)) -> clean energy | AB29: =INDEX(PolicyMapping!$C:$C,MATCH($D29,PolicyMapping!$A:$A,0)) -> transport
A30: TIAM | B30: Brazil | C30: Yes | D30: Share of renewables (TPES) | Including hydro | E30: 45 | G30: % | I30: 2024 | J30: Target | L30: no | V30: 45% of TPES from Renewables in Brazil by 2024 - aggregated to whole region | X30: =INDEX(Regions!$B$4:$B$19,MATCH(TIAM!B30,Regions!$A$4:$A$19,0)) -> Brazil | Y30: yes | AA30: =INDEX(PolicyMapping!$B:$B,MATCH($D30,PolicyMapping!$A:$A,0)) -> clean energy | AB30: =INDEX(PolicyMapping!$C:$C,MATCH($D30,PolicyMapping!$A:$A,0)) -> system
A31: TIAM | B31: Brazil | C31: Yes with assumption about Hydro (e.g. 65%) | D31: Share of renewables (electricity production) | Excluding hydro | E31: 16 | G31: % | I31: 2024 | J31: Target | L31: no | V31: Minimum 16% share of electricity generated by renewables (excluding Hydro) in Brazil in 2018 | X31: =INDEX(Regions!$B$4:$B$19,MATCH(TIAM!B31,Regions!$A$4:$A$19,0)) -> Brazil | Y31: yes | AA31: =INDEX(PolicyMapping!$B:$B,MATCH($D31,PolicyMapping!$A:$A,0)) -> clean energy | AB31: =INDEX(PolicyMapping!$C:$C,MATCH($D31,PolicyMapping!$A:$A,0)) -> power
A32: TIAM | B32: Brazil | C32: Possible with IMAGE proxies or capacity data | D32: Electricity capacity | Bioenergy | E32: 13 | G32: GW | I32: 2025 | J32: Target | L32: yes | M32: yes | N32: yes | O32: 0.069365104 | P32: 0.45139869 | Q32: 5.507576 | R32: 0.38203358 | S32: 0.18842657 | T32: 2025 | U32: BRA | V32: Minimum 13GW of Biomass capacity in Brazil in 2025 - aggregated across region | X32: =INDEX(Regions!$B$4:$B$19,MATCH(TIAM!B32,Regions!$A$4:$A$19,0)) -> Brazil | Y32: yes | AA32: =INDEX(PolicyMapping!$B:$B,MATCH($D32,PolicyMapping!$A:$A,0)) -> clean energy | AB32: =INDEX(PolicyMapping!$C:$C,MATCH($D32,PolicyMapping!$A:$A,0)) -> power
A33: TIAM | B33: Brazil | C33: Possible with IMAGE proxies or capacity data | D33: Electricity capacity | Solar | E33: 0 | G33: GW | I33: 2025 | J33: Target | L33: yes | M33: yes | N33: yes | O33: 0.021552137 | P33: 0.047156364 | Q33: 1.1880134 | R33: 0.025604227 | S33: 0.012628514 | T33: 2025 | U33: BRA | V33: no target | X33: =INDEX(Regions!$B$4:$B$19,MATCH(TIAM!B33,Regions!$A$4:$A$19,0)) -> Brazil | AA33: =INDEX(PolicyMapping!$B:$B,MATCH($D33,PolicyMapping!$A:$A,0)) -> clean energy | AB33: =INDEX(PolicyMapping!$C:$C,MATCH($D33,PolicyMapping!$A:$A,0)) -> power
A34: TIAM | B34: Brazil | D34: Electricity capacity | Solar | E34: 3.5 | G34: GW | I34: 2025 | J34: Target | K34: BRA | L34: added linear increments to existing capacity stock between milestone year closest to start and end policies (from 2019 expected a capacity addition of 3.5 GW, https://www.nortonrosefulbright.com/en/knowledge/publications/b2d19c29/renewable-energy-in-latin-america-brazil) | W34: updated | X34: =INDEX(Regions!$B$4:$B$19,MATCH(TIAM!B34,Regions!$A$4:$A$19,0)) -> Brazil | AA34: =INDEX(PolicyMapping!$B:$B,MATCH($D34,PolicyMapping!$A:$A,0)) -> clean energy | AB34: =INDEX(PolicyMapping!$C:$C,MATCH($D34,PolicyMapping!$A:$A,0)) -> power
A35: TIAM | B35: Brazil | C35: Possible with IMAGE proxies or capacity data | D35: Electricity capacity | Wind | E35: 16.5 | G35: GW | I35: 2025 | J35: Target | L35: yes | M35: yes | N35: yes | O35: 0.091140223 | P35: 0.17959249 | Q35: 0.97050748 | R35: 0.088452268 | S35: 0.043626419 | T35: 2025 | U35: BRA | V35: 16.5GW of Windin Brazil in 2025 - aggregated across region | X35: =INDEX(Regions!$B$4:$B$19,MATCH(TIAM!B35,Regions!$A$4:$A$19,0)) -> Brazil | Y35: yes | AA35: =INDEX(PolicyMapping!$B:$B,MATCH($D35,PolicyMapping!$A:$A,0)) -> clean energy | AB35: =INDEX(PolicyMapping!$C:$C,MATCH($D35,PolicyMapping!$A:$A,0)) -> power
A36: TIAM | B36: Brazil | D36: Electricity capacity | Wind | E36: 27.1 | G36: GW | I36: 2025 | J36: Target | K36: BRA | L36: added linear increments to existing capacity stock between milestone year closest to start and end policies (6 GW are expected in the 10 year plan; in 2019 wind capacity was 7.1 and from 2019, and is expected a capacity addition of 20 GW, https://www.nortonrosefulbright.com/en/knowledge/publications/b2d19c29/renewable-energy-in-latin-america-brazil) | W36: updated | X36: =INDEX(Regions!$B$4:$B$19,MATCH(TIAM!B36,Regions!$A$4:$A$19,0)) -> Brazil | AA36: =INDEX(PolicyMapping!$B:$B,MATCH($D36,PolicyMapping!$A:$A,0)) -> clean energy | AB36: =INDEX(PolicyMapping!$C:$C,MATCH($D36,PolicyMapping!$A:$A,0)) -> power
A37: TIAM | B37: Brazil | C37: No | D37: Reforestation (area) | E37: 12000000 | G37: ha | I37: 2030 | J37: Target | L37: land-use | V37: Model Limitation | X37: =INDEX(Regions!$B$4:$B$19,MATCH(TIAM!B37,Regions!$A$4:$A$19,0)) -> Brazil | AA37: =INDEX(PolicyMapping!$B:$B,MATCH($D37,PolicyMapping!$A:$A,0)) -> land use | AB37: =INDEX(PolicyMapping!$C:$C,MATCH($D37,PolicyMapping!$A:$A,0)) -> land
A38: TIAM | B38: Brazil | C38: Yes | D38: Emissions | LULUCF | CO2 | E38: -0.5 | G38: % | H38: 2010 | I38: 2020 | J38: Target | L38: land-use | V38: Model Limitation | X38: =INDEX(Regions!$B$4:$B$19,MATCH(TIAM!B38,Regions!$A$4:$A$19,0)) -> Brazil | AA38: =INDEX(PolicyMapping!$B:$B,MATCH($D38,PolicyMapping!$A:$A,0)) -> cap on emissions | AB38: =INDEX(PolicyMapping!$C:$C,MATCH($D38,PolicyMapping!$A:$A,0)) -> land
A39: TIAM | B39: Brazil | C39: No | D39: Ban of incandescent light bulbs | H39: 2014 | J39: Optional | L39: yes | M39: yes | N39: yes | O39: 1.1363509 | P39: 1.1249578 | Q39: -0.010026011 | R39: -0.011393066 | S39: -0.0067075519 | T39: 2020 | U39: BRA | V39: optional policy ; it is not included in the current policy scenario | X39: =INDEX(Regions!$B$4:$B$19,MATCH(TIAM!B39,Regions!$A$4:$A$19,0)) -> Brazil | AA39: =INDEX(PolicyMapping!$B:$B,MATCH($D39,PolicyMapping!$A:$A,0)) -> efficiency standard | AB39: =INDEX(PolicyMapping!$C:$C,MATCH($D39,PolicyMapping!$A:$A,0)) -> buildings
A40: TIAM | B40: Brazil | C40: Need to think about aggregation of this | D40: Fuel efficiency | Gasoline + diesel cars|New | E40: 1.82 | G40: MJ/pkm | I40: 2017 | J40: Target | L40: yes | M40: yes | N40: yes | O40: 3.399276 | P40: 2.33 | Q40: -0.31455992 | R40: 1.069276 | S40: -0.62744091 | T40: 2020 | U40: BRA | V40: efficiency standard are set for gasoline and Diesel cars AND DIESEL CARS ONLY | X40: =INDEX(Regions!$B$4:$B$19,MATCH(TIAM!B40,Regions!$A$4:$A$19,0)) -> Brazil | Y40: yes | AA40: =INDEX(PolicyMapping!$B:$B,MATCH($D40,PolicyMapping!$A:$A,0)) -> efficiency standard | AB40: =INDEX(PolicyMapping!$C:$C,MATCH($D40,PolicyMapping!$A:$A,0)) -> transport
A41: TIAM | B41: Brazil | C41: No | D41: Emissions | LULUCF | CO2 | E41: 250 | G41: Mt CO2 | I41: 2020 | J41: Alternate interpretation | L41: land-use | V41: model limitation | X41: =INDEX(Regions!$B$4:$B$19,MATCH(TIAM!B41,Regions!$A$4:$A$19,0)) -> Brazil | AA41: =INDEX(PolicyMapping!$B:$B,MATCH($D41,PolicyMapping!$A:$A,0)) -> cap on emissions | AB41: =INDEX(PolicyMapping!$C:$C,MATCH($D41,PolicyMapping!$A:$A,0)) -> land
...

Sheet MUSE
A3: Model | B3: Country | C3: Source | D3: Variable | E3: Value | F3: NEW value | H3: Base year | I3: End year | J3: Class | K3: Comments and implementation strategy | M3: Database code | N3: MUSE code | W3: Updated ?? | X3: Region | Y3: Implemented | Z3: Baseline | AA3: Type | AB3: Sector | AC3: Impactful
A4: MUSE | B4: Argentina | D4: Biofuel share in transport | Bioethanol + biodiesel | E4: 12 | F4: 8.5 | H4: 2016 | J4: Target | K4: regional aggregation | M4: =INDEX(CombinedDatabase!K:K,MATCH(MUSE!D4,CombinedDatabase!D:D,0)) -> 1 | N4: 1 | X4: =INDEX(Regions!$B$4:$B$19,MATCH(MUSE!B4,Regions!$A$4:$A$19,0)) -> Latin America excl. Brazil | Y4: yes | AA4: =INDEX(PolicyMapping!$B:$B,MATCH($D4,PolicyMapping!$A:$A,0)) -> clean energy | AB4: =INDEX(PolicyMapping!$C:$C,MATCH($D4,PolicyMapping!$A:$A,0)) -> transport
A5: MUSE | B5: Argentina | D5: Heat capacity (added) | Biomass | E5: 200 | G5: MW | H5: 2013 | I5: 2016 | J5: Target | K5: model limitation | M5: =INDEX(CombinedDatabase!K:K,MATCH(MUSE!D5,CombinedDatabase!D:D,0)) -> 2 | N5: 2 | X5: =INDEX(Regions!$B$4:$B$19,MATCH(MUSE!B5,Regions!$A$4:$A$19,0)) -> Latin America excl. Brazil | AA5: =INDEX(PolicyMapping!$B:$B,MATCH($D5,PolicyMapping!$A:$A,0)) -> clean energy | AB5: =INDEX(PolicyMapping!$C:$C,MATCH($D5,PolicyMapping!$A:$A,0)) -> power
A6: MUSE | B6: Argentina | D6: Electricity capacity (added) | Biomass | E6: 200 | G6: MW | H6: 2013 | I6: 2016 | J6: Target | K6: baseline | M6: =INDEX(CombinedDatabase!K:K,MATCH(MUSE!D6,CombinedDatabase!D:D,0)) -> 3 | N6: 3 | X6: =INDEX(Regions!$B$4:$B$19,MATCH(MUSE!B6,Regions!$A$4:$A$19,0)) -> Latin America excl. Brazil | Y6: yes | Z6: yes | AA6: =INDEX(PolicyMapping!$B:$B,MATCH($D6,PolicyMapping!$A:$A,0)) -> clean energy | AB6: =INDEX(PolicyMapping!$C:$C,MATCH($D6,PolicyMapping!$A:$A,0)) -> power
A7: MUSE | B7: Argentina | D7: Forest conservation (area) | E7: 4700000 | G7: ha | H7: 2007 | I7: 2030 | J7: Target | K7: model limitation | M7: =INDEX(CombinedDatabase!K:K,MATCH(MUSE!D7,CombinedDatabase!D:D,0)) -> 4 | N7: 4 | X7: =INDEX(Regions!$B$4:$B$19,MATCH(MUSE!B7,Regions!$A$4:$A$19,0)) -> Latin America excl. Brazil | AA7: =INDEX(PolicyMapping!$B:$B,MATCH($D7,PolicyMapping!$A:$A,0)) -> land use | AB7: =INDEX(PolicyMapping!$C:$C,MATCH($D7,PolicyMapping!$A:$A,0)) -> land
A8: MUSE | B8: Argentina | D8: Forest conservation (Cumulative CO2 reduction) | E8: 1.3 | G8: Mt CO2 | H8: 2007 | I8: 2030 | J8: Alternate interpretation | K8: model limitation | M8: =INDEX(CombinedDatabase!K:K,MATCH(MUSE!D8,CombinedDatabase!D:D,0)) -> 5 | N8: 5 | X8: =INDEX(Regions!$B$4:$B$19,MATCH(MUSE!B8,Regions!$A$4:$A$19,0)) -> Latin America excl. Brazil | AA8: =INDEX(PolicyMapping!$B:$B,MATCH($D8,PolicyMapping!$A:$A,0)) -> cap on emissions | AB8: =INDEX(PolicyMapping!$C:$C,MATCH($D8,PolicyMapping!$A:$A,0)) -> land
A9: MUSE | B9: Argentina | D9: Share of renewables (electricity production) | E9: 20 | G9: % | I9: 2025 | J9: Target | K9: estimated assuming a share of Argentina equal to 144957/1218453 (TJ, 2015) of non OECD Americas (IEA estimates) | M9: =INDEX(CombinedDatabase!K:K,MATCH(MUSE!D9,CombinedDatabase!D:D,0)) -> 6 | N9: 6 | X9: =INDEX(Regions!$B$4:$B$19,MATCH(MUSE!B9,Regions!$A$4:$A$19,0)) -> Latin America excl. Brazil | Y9: yes | AA9: =INDEX(PolicyMapping!$B:$B,MATCH($D9,PolicyMapping!$A:$A,0)) -> clean energy | AB9: =INDEX(PolicyMapping!$C:$C,MATCH($D9,PolicyMapping!$A:$A,0)) -> power
A10: MUSE | B10: Argentina | D10: Share of renewables (electricity production) | E10: 18 | G10: % | I10: 2023 | J10: Target | K10: met with Argentina-2f with interpolation | M10: 7 | N10: 7 | X10: =INDEX(Regions!$B$4:$B$19,MATCH(MUSE!B10,Regions!$A$4:$A$19,0)) -> Latin America excl. Brazil | Y10: yes | AA10: =INDEX(PolicyMapping!$B:$B,MATCH($D10,PolicyMapping!$A:$A,0)) -> clean energy | AB10: =INDEX(PolicyMapping!$C:$C,MATCH($D10,PolicyMapping!$A:$A,0)) -> power
A11: MUSE | B11: Argentina | D11: Share of renewables (electricity production) | E11: 16 | G11: % | I11: 2021 | J11: Target | K11: met with Argentina-2f with interpolation | M11: 8 | N11: 8 | X11: =INDEX(Regions!$B$4:$B$19,MATCH(MUSE!B11,Regions!$A$4:$A$19,0)) -> Latin America excl. Brazil | Y11: yes | AA11: =INDEX(PolicyMapping!$B:$B,MATCH($D11,PolicyMapping!$A:$A,0)) -> clean energy | AB11: =INDEX(PolicyMapping!$C:$C,MATCH($D11,PolicyMapping!$A:$A,0)) -> power
A12: MUSE | B12: Argentina | D12: Share of renewables (electricity production) | E12: 12 | G12: % | I12: 2019 | J12: Target | K12: met with Argentina-2f with interpolation | M12: 9 | N12: 9 | X12: =INDEX(Regions!$B$4:$B$19,MATCH(MUSE!B12,Regions!$A$4:$A$19,0)) -> Latin America excl. Brazil | Y12: yes | AA12: =INDEX(PolicyMapping!$B:$B,MATCH($D12,PolicyMapping!$A:$A,0)) -> clean energy | AB12: =INDEX(PolicyMapping!$C:$C,MATCH($D12,PolicyMapping!$A:$A,0)) -> power
A13: MUSE | B13: Argentina | D13: Share of renewables (electricity production) | E13: 8 | G13: % | I13: 2017 | J13: Target | K13: baseline | M13: 10 | N13: 10 | X13: =INDEX(Regions!$B$4:$B$19,MATCH(MUSE!B13,Regions!$A$4:$A$19,0)) -> Latin America excl. Brazil | Y13: yes | Z13: yes | AA13: =INDEX(PolicyMapping!$B:$B,MATCH($D13,PolicyMapping!$A:$A,0)) -> clean energy | AB13: =INDEX(PolicyMapping!$C:$C,MATCH($D13,PolicyMapping!$A:$A,0)) -> power
A14: MUSE | B14: Argentina | D14: Carbon tax | E14: 10 | G14: $/t CO2 | J14: Implemented | K14: model limitation | M14: =INDEX(CombinedDatabase!K:K,MATCH(MUSE!D14,CombinedDatabase!D:D,0)) -> 11 | N14: 11 | X14: =INDEX(Regions!$B$4:$B$19,MATCH(MUSE!B14,Regions!$A$4:$A$19,0)) -> Latin America excl. Brazil | AA14: =INDEX(PolicyMapping!$B:$B,MATCH($D14,PolicyMapping!$A:$A,0)) -> economic | AB14: =INDEX(PolicyMapping!$C:$C,MATCH($D14,PolicyMapping!$A:$A,0)) -> system
A15: MUSE | B15: Australia | D15: Economy-wide|Energy productivity increase (GDP/PJ) | E15: 0.4 | G15: GDP ($M)/PJ | H15: 2015 | I15: 2030 | J15: Target | K15: model limitation | M15: =INDEX(CombinedDatabase!K:K,MATCH(MUSE!D15,CombinedDatabase!D:D,0)) -> 12 | N15: 12 | X15: =INDEX(Regions!$B$4:$B$19,MATCH(MUSE!B15,Regions!$A$4:$A$19,0)) -> Rest of the World | AA15: =INDEX(PolicyMapping!$B:$B,MATCH($D15,PolicyMapping!$A:$A,0)) -> efficiency standard | AB15: =INDEX(PolicyMapping!$C:$C,MATCH($D15,PolicyMapping!$A:$A,0)) -> system
A16: MUSE | B16: Australia | D16: Renewable electricity production | E16: 33000 | G16: GWh | I16: 2020 | J16: Target | K16: baseline | M16: =INDEX(CombinedDatabase!K:K,MATCH(MUSE!D16,CombinedDatabase!D:D,0)) -> 13 | N16: 13 | X16: =INDEX(Regions!$B$4:$B$19,MATCH(MUSE!B16,Regions!$A$4:$A$19,0)) -> Rest of the World | Y16: yes | Z16: yes | AA16: =INDEX(PolicyMapping!$B:$B,MATCH($D16,PolicyMapping!$A:$A,0)) -> clean energy | AB16: =INDEX(PolicyMapping!$C:$C,MATCH($D16,PolicyMapping!$A:$A,0)) -> power
A17: MUSE | B17: Australia | D17: Share of renewables (electricity production) | E17: 23.5 | G17: % | I17: 2020 | J17: Alternate interpretation | K17: superseded | M17: 14 | N17: 14 | X17: =INDEX(Regions!$B$4:$B$19,MATCH(MUSE!B17,Regions!$A$4:$A$19,0)) -> Rest of the World | Y17: yes | AA17: =INDEX(PolicyMapping!$B:$B,MATCH($D17,PolicyMapping!$A:$A,0)) -> clean energy | AB17: =INDEX(PolicyMapping!$C:$C,MATCH($D17,PolicyMapping!$A:$A,0)) -> power
A18: MUSE | B18: Australia | D18: Share of renewables (electricity production) | E18: 25 | G18: % | I18: 2020 | J18: Target | K18: 24 % in baseline | M18: 15 | N18: 15 | X18: =INDEX(Regions!$B$4:$B$19,MATCH(MUSE!B18,Regions!$A$4:$A$19,0)) -> Rest of the World | Y18: yes | Z18: yes | AA18: =INDEX(PolicyMapping!$B:$B,MATCH($D18,PolicyMapping!$A:$A,0)) -> clean energy | AB18: =INDEX(PolicyMapping!$C:$C,MATCH($D18,PolicyMapping!$A:$A,0)) -> power
A19: MUSE | B19: Australia | D19: Share of renewables (electricity production) | E19: 50 | G19: % | I19: 2030 | J19: Target | K19: yearly increments between 2016 and 2029 | M19: 16 | N19: 16 | X19: =INDEX(Regions!$B$4:$B$19,MATCH(MUSE!B19,Regions!$A$4:$A$19,0)) -> Rest of the World | Y19: yes | AA19: =INDEX(PolicyMapping!$B:$B,MATCH($D19,PolicyMapping!$A:$A,0)) -> clean energy | AB19: =INDEX(PolicyMapping!$C:$C,MATCH($D19,PolicyMapping!$A:$A,0)) -> power | AC19: yes
A20: MUSE | B20: Australia | D20: Fuel tax (diesel and gasoline) | E20: 0.4 | G20: $/liter | H20: 2016 | J20: Optional | K20: optional | M20: =INDEX(CombinedDatabase!K:K,MATCH(MUSE!D20,CombinedDatabase!D:D,0)) -> 17 | N20: 17 | X20: =INDEX(Regions!$B$4:$B$19,MATCH(MUSE!B20,Regions!$A$4:$A$19,0)) -> Rest of the World | AA20: =INDEX(PolicyMapping!$B:$B,MATCH($D20,PolicyMapping!$A:$A,0)) -> economic | AB20: =INDEX(PolicyMapping!$C:$C,MATCH($D20,PolicyMapping!$A:$A,0)) -> transport
A21: MUSE | B21: Australia | D21: Fuel tax (biodiesel) | E21: 0.013 | G21: $/liter | H21: 2016 | J21: Optional | M21: =INDEX(CombinedDatabase!K:K,MATCH(MUSE!D21,CombinedDatabase!D:D,0)) -> 18 | N21: 18 | X21: =INDEX(Regions!$B$4:$B$19,MATCH(MUSE!B21,Regions!$A$4:$A$19,0)) -> Rest of the World | AA21: =INDEX(PolicyMapping!$B:$B,MATCH($D21,PolicyMapping!$A:$A,0)) -> economic | AB21: =INDEX(PolicyMapping!$C:$C,MATCH($D21,PolicyMapping!$A:$A,0)) -> transport
A22: MUSE | B22: Australia | D22: Emissions | HFCs | E22: -55 | G22: % | H22: 2010 | I22: 2030 | J22: Target | K22: model limitation | M22: =INDEX(CombinedDatabase!K:K,MATCH(MUSE!D22,CombinedDatabase!D:D,0)) -> 19 | N22: 19 | X22: =INDEX(Regions!$B$4:$B$19,MATCH(MUSE!B22,Regions!$A$4:$A$19,0)) -> Rest of the World | AA22: =INDEX(PolicyMapping!$B:$B,MATCH($D22,PolicyMapping!$A:$A,0)) -> cap on emissions | AB22: =INDEX(PolicyMapping!$C:$C,MATCH($D22,PolicyMapping!$A:$A,0)) -> system
A23: MUSE | B23: Australia | D23: Afforestation (area) | E23: 20000 | G23: ha | I23: 2020 | J23: Target | K23: model limitation | M23: =INDEX(CombinedDatabase!K:K,MATCH(MUSE!D23,CombinedDatabase!D:D,0)) -> 20 | N23: 20 | X23: =INDEX(Regions!$B$4:$B$19,MATCH(MUSE!B23,Regions!$A$4:$A$19,0)) -> Rest of the World | AA23: =INDEX(PolicyMapping!$B:$B,MATCH($D23,PolicyMapping!$A:$A,0)) -> land use | AB23: =INDEX(PolicyMapping!$C:$C,MATCH($D23,PolicyMapping!$A:$A,0)) -> land
A24: MUSE | B24: Australia | D24: Emissions | LULUCF | E24: -4.2 | G24: Mt CO2e | H24: 2010 | I24: 2020 | J24: Target | K24: model limitation | M24: =INDEX(CombinedDatabase!K:K,MATCH(MUSE!D24,CombinedDatabase!D:D,0)) -> 21 | N24: 21 | X24: =INDEX(Regions!$B$4:$B$19,MATCH(MUSE!B24,Regions!$A$4:$A$19,0)) -> Rest of the World | AA24: =INDEX(PolicyMapping!$B:$B,MATCH($D24,PolicyMapping!$A:$A,0)) -> cap on emissions | AB24: =INDEX(PolicyMapping!$C:$C,MATCH($D24,PolicyMapping!$A:$A,0)) -> land
A25: MUSE | B25: Australia | D25: Emissions | Agriculture | E25: -1.9 | G25: Mt CO2e | H25: 2010 | I25: 2020 | J25: Target | K25: model limitation | M25: =INDEX(CombinedDatabase!K:K,MATCH(MUSE!D25,CombinedDatabase!D:D,0)) -> 22 | N25: 22 | X25: =INDEX(Regions!$B$4:$B$19,MATCH(MUSE!B25,Regions!$A$4:$A$19,0)) -> Rest of the World | AA25: =INDEX(PolicyMapping!$B:$B,MATCH($D25,PolicyMapping!$A:$A,0)) -> cap on emissions | AB25: =INDEX(PolicyMapping!$C:$C,MATCH($D25,PolicyMapping!$A:$A,0)) -> land
A26: MUSE | B26: Australia | D26: Share of renewables (electricity production) | E26: 35 | G26: % | I26: 2025 | J26: Target | K26: yearly increments between 2019 and 2029 | M26: 23 | N26: 23 | X26: =INDEX(Regions!$B$4:$B$19,MATCH(MUSE!B26,Regions!$A$4:$A$19,0)) -> Rest of the World | Y26: yes | AA26: =INDEX(PolicyMapping!$B:$B,MATCH($D26,PolicyMapping!$A:$A,0)) -> clean energy | AB26: =INDEX(PolicyMapping!$C:$C,MATCH($D26,PolicyMapping!$A:$A,0)) -> power
A27: MUSE | B27: Brazil | D27: Share of renewables (TPES) | E27: 45 | G27: % | I27: 2030 | J27: Planned | K27: model limitation | M27: =INDEX(CombinedDatabase!K:K,MATCH(MUSE!D27,CombinedDatabase!D:D,0)) -> 24 | N27: 24 | X27: =INDEX(Regions!$B$4:$B$19,MATCH(MUSE!B27,Regions!$A$4:$A$19,0)) -> Brazil | AA27: =INDEX(PolicyMapping!$B:$B,MATCH($D27,PolicyMapping!$A:$A,0)) -> clean energy | AB27: =INDEX(PolicyMapping!$C:$C,MATCH($D27,PolicyMapping!$A:$A,0)) -> system
A28: MUSE | B28: Brazil | D28: Biofuel share in gasoline | Bioethanol | E28: 27 | G28: % | H28: 2015 | J28: Target | K28: added linear increase in fuel blend from 2010 to 2030 | M28: =INDEX(CombinedDatabase!K:K,MATCH(MUSE!D28,CombinedDatabase!D:D,0)) -> 25 | N28: 25 | X28: =INDEX(Regions!$B$4:$B$19,MATCH(MUSE!B28,Regions!$A$4:$A$19,0)) -> Brazil | Y28: yes | AA28: =INDEX(PolicyMapping!$B:$B,MATCH($D28,PolicyMapping!$A:$A,0)) -> clean energy | AB28: =INDEX(PolicyMapping!$C:$C,MATCH($D28,PolicyMapping!$A:$A,0)) -> transport
A29: MUSE | B29: Brazil | D29: Biofuel share in diesel | Biodiesel | E29: 7 | G29: % | H29: 2015 | J29: Target | K29: added linear increase in fuel blend from 2010 to 2030 | M29: =INDEX(CombinedDatabase!K:K,MATCH(MUSE!D29,CombinedDatabase!D:D,0)) -> 26 | N29: 26 | X29: =INDEX(Regions!$B$4:$B$19,MATCH(MUSE!B29,Regions!$A$4:$A$19,0)) -> Brazil | Y29: yes | AA29: =INDEX(PolicyMapping!$B:$B,MATCH($D29,PolicyMapping!$A:$A,0)) -> clean energy | AB29: =INDEX(PolicyMapping!$C:$C,MATCH($D29,PolicyMapping!$A:$A,0)) -> transport
A30: MUSE | B30: Brazil | D30: Share of renewables (TPES) | Including hydro | E30: 45 | G30: % | I30: 2024 | J30: Target | K30: model limitation | M30: =INDEX(CombinedDatabase!K:K,MATCH(MUSE!D30,CombinedDatabase!D:D,0)) -> 27 | N30: 27 | X30: =INDEX(Regions!$B$4:$B$19,MATCH(MUSE!B30,Regions!$A$4:$A$19,0)) -> Brazil | AA30: =INDEX(PolicyMapping!$B:$B,MATCH($D30,PolicyMapping!$A:$A,0)) -> clean energy | AB30: =INDEX(PolicyMapping!$C:$C,MATCH($D30,PolicyMapping!$A:$A,0)) -> system
A31: MUSE | B31: Brazil | D31: Share of renewables (electricity production) | Excluding hydro | E31: 16 | G31: % | I31: 2024 | J31: Target | K31: applied to target technologies 2a | M31: =INDEX(CombinedDatabase!K:K,MATCH(MUSE!D31,CombinedDatabase!D:D,0)) -> 28 | N31: 28 | X31: =INDEX(Regions!$B$4:$B$19,MATCH(MUSE!B31,Regions!$A$4:$A$19,0)) -> Brazil | Y31: yes | AA31: =INDEX(PolicyMapping!$B:$B,MATCH($D31,PolicyMapping!$A:$A,0)) -> clean energy | AB31: =INDEX(PolicyMapping!$C:$C,MATCH($D31,PolicyMapping!$A:$A,0)) -> power
A32: MUSE | B32: Brazil | D32: Electricity capacity | Bioenergy | E32: 13 | G32: GW | I32: 2025 | J32: Target | K32: yearly increments between 2016 and 2024 | M32: =INDEX(CombinedDatabase!K:K,MATCH(MUSE!D32,CombinedDatabase!D:D,0)) -> 29 | N32: 29 | X32: =INDEX(Regions!$B$4:$B$19,MATCH(MUSE!B32,Regions!$A$4:$A$19,0)) -> Brazil | Y32: yes | AA32: =INDEX(PolicyMapping!$B:$B,MATCH($D32,PolicyMapping!$A:$A,0)) -> clean energy | AB32: =INDEX(PolicyMapping!$C:$C,MATCH($D32,PolicyMapping!$A:$A,0)) -> power
A33: MUSE | B33: Brazil | D33: Electricity capacity | Solar | E33: 0 | G33: GW | I33: 2025 | J33: Target | K33: superseded | M33: =INDEX(CombinedDatabase!K:K,MATCH(MUSE!D33,CombinedDatabase!D:D,0)) -> 30 | N33: 30 | X33: =INDEX(Regions!$B$4:$B$19,MATCH(MUSE!B33,Regions!$A$4:$A$19,0)) -> Brazil | Y33: yes | AA33: =INDEX(PolicyMapping!$B:$B,MATCH($D33,PolicyMapping!$A:$A,0)) -> clean energy | AB33: =INDEX(PolicyMapping!$C:$C,MATCH($D33,PolicyMapping!$A:$A,0)) -> power
A34: MUSE | B34: Brazil | D34: Electricity capacity | Solar | E34: 3.5 | G34: GW | I34: 2025 | J34: Target | K34: yearly increments between 2016 and 2024 | M34: 31 | N34: 31 | W34: updated | X34: =INDEX(Regions!$B$4:$B$19,MATCH(MUSE!B34,Regions!$A$4:$A$19,0)) -> Brazil | Y34: yes | AA34: =INDEX(PolicyMapping!$B:$B,MATCH($D34,PolicyMapping!$A:$A,0)) -> clean energy | AB34: =INDEX(PolicyMapping!$C:$C,MATCH($D34,PolicyMapping!$A:$A,0)) -> power | AC34: yes
A35: MUSE | B35: Brazil | D35: Electricity capacity | Wind | E35: 16.5 | G35: GW | I35: 2025 | J35: Target | K35: superseded | M35: =INDEX(CombinedDatabase!K:K,MATCH(MUSE!D35,CombinedDatabase!D:D,0)) -> 32 | N35: 32 | X35: =INDEX(Regions!$B$4:$B$19,MATCH(MUSE!B35,Regions!$A$4:$A$19,0)) -> Brazil | Y35: yes | AA35: =INDEX(PolicyMapping!$B:$B,MATCH($D35,PolicyMapping!$A:$A,0)) -> clean energy | AB35: =INDEX(PolicyMapping!$C:$C,MATCH($D35,PolicyMapping!$A:$A,0)) -> power
A36: MUSE | B36: Brazil | D36: Electricity capacity | Wind | E36: 27.1 | G36: GW | I36: 2025 | J36: Target | K36: yearly increments between 2016 and 2024 | M36: 33 | N36: 33 | W36: updated | X36: =INDEX(Regions!$B$4:$B$19,MATCH(MUSE!B36,Regions!$A$4:$A$19,0)) -> Brazil | Y36: yes | AA36: =INDEX(PolicyMapping!$B:$B,MATCH($D36,PolicyMapping!$A:$A,0)) -> clean energy | AB36: =INDEX(PolicyMapping!$C:$C,MATCH($D36,PolicyMapping!$A:$A,0)) -> power | AC36: yes
A37: MUSE | B37: Brazil | D37: Reforestation (area) | E37: 12000000 | G37: ha | I37: 2030 | J37: Target | K37: model limitation | M37: =INDEX(CombinedDatabase!K:K,MATCH(MUSE!D37,CombinedDatabase!D:D,0)) -> 34 | N37: 34 | X37: =INDEX(Regions!$B$4:$B$19,MATCH(MUSE!B37,Regions!$A$4:$A$19,0)) -> Brazil | AA37: =INDEX(PolicyMapping!$B:$B,MATCH($D37,PolicyMapping!$A:$A,0)) -> land use | AB37: =INDEX(PolicyMapping!$C:$C,MATCH($D37,PolicyMapping!$A:$A,0)) -> land
A38: MUSE | B38: Brazil | D38: Emissions | LULUCF | CO2 | E38: -0.5 | G38: % | H38: 2010 | I38: 2020 | J38: Target | K38: model limitation | M38: =INDEX(CombinedDatabase!K:K,MATCH(MUSE!D38,CombinedDatabase!D:D,0)) -> 35 | N38: 35 | X38: =INDEX(Regions!$B$4:$B$19,MATCH(MUSE!B38,Regions!$A$4:$A$19,0)) -> Brazil | AA38: =INDEX(PolicyMapping!$B:$B,MATCH($D38,PolicyMapping!$A:$A,0)) -> cap on emissions | AB38: =INDEX(PolicyMapping!$C:$C,MATCH($D38,PolicyMapping!$A:$A,0)) -> land
A39: MUSE | B39: Brazil | D39: Ban of incandescent light bulbs | H39: 2014 | J39: Optional | K39: implemented as no further investments possible after decommissioning in residential sector | M39: =INDEX(CombinedDatabase!K:K,MATCH(MUSE!D39,CombinedDatabase!D:D,0)) -> 36 | N39: 36 | X39: =INDEX(Regions!$B$4:$B$19,MATCH(MUSE!B39,Regions!$A$4:$A$19,0)) -> Brazil | Y39: yes | AA39: =INDEX(PolicyMapping!$B:$B,MATCH($D39,PolicyMapping!$A:$A,0)) -> efficiency standard | AB39: =INDEX(PolicyMapping!$C:$C,MATCH($D39,PolicyMapping!$A:$A,0)) -> buildings
A40: MUSE | B40: Brazil | D40: Fuel efficiency | Gasoline + diesel cars|New | E40: 1.82 | G40: MJ/pkm | I40: 2017 | J40: Target | K40: applied linear reduction until limit reached to petrol and diesel cars | M40: =INDEX(CombinedDatabase!K:K,MATCH(MUSE!D40,CombinedDatabase!D:D,0)) -> 37 | N40: 37 | X40: =INDEX(Regions!$B$4:$B$19,MATCH(MUSE!B40,Regions!$A$4:$A$19,0)) -> Brazil | Y40: yes | AA40: =INDEX(PolicyMapping!$B:$B,MATCH($D40,PolicyMapping!$A:$A,0)) -> efficiency standard | AB40: =INDEX(PolicyMapping!$C:$C,MATCH($D40,PolicyMapping!$A:$A,0)) -> transport
A41: MUSE | B41: Brazil | D41: Emissions | LULUCF | CO2 | E41: 250 | G41: Mt CO2 | I41: 2020 | J41: Alternate interpretation | K41: model limitation | M41: 38 | N41: 38 | X41: =INDEX(Regions!$B$4:$B$19,MATCH(MUSE!B41,Regions!$A$4:$A$19,0)) -> Brazil | AA41: =INDEX(PolicyMapping!$B:$B,MATCH($D41,PolicyMapping!$A:$A,0)) -> cap on emissions | AB41: =INDEX(PolicyMapping!$C:$C,MATCH($D41,PolicyMapping!$A:$A,0)) -> land
A42: MUSE | B42: Brazil | D42: Electricity capacity | Small hydro | E42: 5.6 | G42: GW | I42: 2025 | J42: Target | K42: superseded | M42: =INDEX(CombinedDatabase!K:K,MATCH(MUSE!D42,CombinedDatabase!D:D,0)) -> 39 | N42: 39 | X42: =INDEX(Regions!$B$4:$B$19,MATCH(MUSE!B42,Regions!$A$4:$A$19,0)) -> Brazil | Y42: yes | AA42: =INDEX(PolicyMapping!$B:$B,MATCH($D42,PolicyMapping!$A:$A,0)) -> clean energy | AB42: =INDEX(PolicyMapping!$C:$C,MATCH($D42,PolicyMapping!$A:$A,0)) -> power
...

Sheet GCAM
K2: 318
A3: Model | B3: Country | C3: Implementable? | D3: Variable | E3: Value | F3: NEW value | H3: Base year | I3: End year | J3: Class | K3: Comments and implementation strategy | M3: Database codde | N3: GCAM code | W3: Updated ?? | X3: Region | Y3: Implemented | Z3: Baseline | AA3: Type | AB3: Sector | AC3: Impactful
A4: GCAM | B4: Argentina | D4: Biofuel share in transport | Bioethanol + biodiesel | E4: 12 | H4: 2016 | J4: Target | K4: Applied to all biofuels in transport | M4: 1 | N4: biofuel_arg | X4: =INDEX(Regions!$B$4:$B19,MATCH(GCAM!B4,Regions!$A$4:$A$19,0)) -> Latin America excl. Brazil | Y4: yes | AA4: =INDEX(PolicyMapping!$B:$B,MATCH($D4,PolicyMapping!$A:$A,0)) -> clean energy | AB4: =INDEX(PolicyMapping!$C:$C,MATCH($D4,PolicyMapping!$A:$A,0)) -> transport
A5: GCAM | B5: Argentina | D5: Biofuel share in gasoline | Bioethanol | F5: 12 | X5: =INDEX(Regions!$B$4:$B20,MATCH(GCAM!B5,Regions!$A$4:$A$19,0)) -> Latin America excl. Brazil | Y5: yes | AA5: =INDEX(PolicyMapping!$B:$B,MATCH($D5,PolicyMapping!$A:$A,0)) -> clean energy | AB5: =INDEX(PolicyMapping!$C:$C,MATCH($D5,PolicyMapping!$A:$A,0)) -> transport
A6: GCAM | B6: Argentina | D6: Biofuel share in diesel | Biodiesel | F6: 5 | X6: =INDEX(Regions!$B$4:$B21,MATCH(GCAM!B6,Regions!$A$4:$A$19,0)) -> Latin America excl. Brazil | Y6: yes | AA6: =INDEX(PolicyMapping!$B:$B,MATCH($D6,PolicyMapping!$A:$A,0)) -> clean energy | AB6: =INDEX(PolicyMapping!$C:$C,MATCH($D6,PolicyMapping!$A:$A,0)) -> transport
A7: GCAM | B7: Argentina | D7: Heat capacity (added) | Biomass | E7: 200 | G7: MW | H7: 2013 | I7: 2016 | J7: Target | K7: Historical year | M7: 2 | X7: =INDEX(Regions!$B$4:$B20,MATCH(GCAM!B7,Regions!$A$4:$A$19,0)) -> Latin America excl. Brazil | Y7: yes | Z7: yes | AA7: =INDEX(PolicyMapping!$B:$B,MATCH($D7,PolicyMapping!$A:$A,0)) -> clean energy | AB7: =INDEX(PolicyMapping!$C:$C,MATCH($D7,PolicyMapping!$A:$A,0)) -> power
A8: GCAM | B8: Argentina | D8: Electricity capacity (added) | Biomass | E8: 200 | G8: MW | H8: 2013 | I8: 2016 | J8: Target | K8: Historical year | M8: 3 | X8: =INDEX(Regions!$B$4:$B21,MATCH(GCAM!B8,Regions!$A$4:$A$19,0)) -> Latin America excl. Brazil | Y8: yes | Z8: yes | AA8: =INDEX(PolicyMapping!$B:$B,MATCH($D8,PolicyMapping!$A:$A,0)) -> clean energy | AB8: =INDEX(PolicyMapping!$C:$C,MATCH($D8,PolicyMapping!$A:$A,0)) -> power
A9: GCAM | B9: Argentina | D9: Forest conservation (area) | E9: 4700000 | G9: ha | H9: 2007 | I9: 2030 | J9: Target | K9: Policy impact cannot be seen, impossible to isolate from baseline | M9: 4 | X9: =INDEX(Regions!$B$4:$B22,MATCH(GCAM!B9,Regions!$A$4:$A$19,0)) -> Latin America excl. Brazil | Y9: yes | Z9: yes | AA9: =INDEX(PolicyMapping!$B:$B,MATCH($D9,PolicyMapping!$A:$A,0)) -> land use | AB9: =INDEX(PolicyMapping!$C:$C,MATCH($D9,PolicyMapping!$A:$A,0)) -> land
A10: GCAM | B10: Argentina | D10: Forest conservation (Cumulative CO2 reduction) | E10: 1.3 | G10: Mt CO2 | H10: 2007 | I10: 2030 | J10: Alternate interpretation | K10: Policy impact cannot be seen, impossible to isolate from baseline | M10: 5 | X10: =INDEX(Regions!$B$4:$B23,MATCH(GCAM!B10,Regions!$A$4:$A$19,0)) -> Latin America excl. Brazil | Y10: yes | Z10: yes | AA10: =INDEX(PolicyMapping!$B:$B,MATCH($D10,PolicyMapping!$A:$A,0)) -> cap on emissions | AB10: =INDEX(PolicyMapping!$C:$C,MATCH($D10,PolicyMapping!$A:$A,0)) -> land
